{"text_format":"1","workbook":"xlsx","n_sheets":45,"sheets":["Introduction & Instructions","Required Appendices","Utility Info","Electric Totals","Apt-Elec","Gas Totals","Apt-Gas","Oil","Propane","Steam","Chilled Water","Hot Water","Other","Utility Use Summary","UDAT Support","General Project Information","Area Identification","Area ID Support","Building Types","Occupancy","Envelope","Air-sealing","SG - Component","Mechanical","Lighting","Lighting Data","Lighting Sample Size Calculator","Other Equipment","Modeling Approach","Measure Descriptions","Measure Simulation","Results from Trace","Results from eQUEST","Implementation & Financing","P4Pindices","Project Summary & Incentives","CBECS Statistics","Reference","CBECS Buildings","Partner Internal QC","QC Summary","QC Measure Savings Review","Report Generation","Appendix B Tables","Support"],"not_rendered":{"charts":20,"images":7,"macros":1,"external_links":0,"defined_names":149,"comments":24,"pivot_tables":0},"unopened":[],"bounds":{"document_bytes":16777216,"sheet_cells":100000,"rows_first":2000,"rows_last":500,"rows_between":2000,"halvings":0,"cell_chars":16384,"cell_head_chars":4096},"cells_cut":0,"cells_raw":0,"read":"whole","date_system":"1900"}

{"sheet":"Introduction & Instructions","index":0,"n_rows":52,"n_cols":5,"rows_kept":52,"cut":false,"hidden":false,"merged":[[5,1,5,4],[4,1,4,4],[0,1,0,4],[1,1,1,4],[2,1,2,4],[11,1,11,4],[10,1,10,4],[9,1,9,4],[7,1,7,4],[6,1,6,4],[8,1,8,4],[16,1,16,4],[15,1,15,4],[14,1,14,4],[13,1,13,4],[12,1,12,4],[66,1,66,4],[59,1,59,2],[59,3,62,3],[59,4,62,4],[60,1,60,2],[61,1,61,2],[62,1,62,2],[63,1,63,2],[63,3,64,3],[63,4,64,4],[64,1,64,2],[65,1,65,4],[57,1,57,2],[57,3,58,3],[57,4,58,4],[58,1,58,2],[44,1,46,1],[44,4,46,4],[47,1,49,1],[47,4,49,4],[50,1,50,2],[51,1,51,4],[52,2,52,4],[53,1,53,4],[54,1,56,2],[54,3,56,3],[54,4,56,4],[37,1,37,4],[38,1,38,4],[39,1,39,4],[40,1,40,2],[41,1,43,1],[41,4,43,4],[27,6,29,6],[30,1,32,1],[30,4,32,4],[33,1,35,1],[33,4,35,4],[36,1,36,2],[23,1,23,4],[24,1,24,4],[25,1,25,4],[26,1,26,2],[27,1,29,1],[27,4,29,4],[22,1,22,2],[17,1,17,4],[18,1,18,4],[19,1,19,4],[20,1,20,2],[21,1,21,2]]}
[null,"New Jersey Office of Clean Energy"]
[null,"Pay for Performance Existing Buildings Program"]
[null,"ERP Tables and Incentive Calculator"]
[]
[null,"Program Overview"]
[null,"The Pay for Performance Existing Buildings Program takes a comprehensive, whole building approach to energy efficiency in existing commercial, industrial, and multifamily buildings. This market-based program relies on a network of pre-approved program Partners who provide technical services to program Participants under direct contract, acting as their “energy expert”. Partners are required to develop an Energy Reduction Plan (ERP) for each project, which includes a whole-building technical analysis component of a traditional energy audit along with a financial plan for funding the energy efficiency improvements and a construction schedule for installation. A set minimum energy reduction goal is required of all projects and is based on an approved whole-building energy simulation. The achievement of the energy reduction goal is verified using post-retrofit billing data. "]
[null,"Funding"]
[null,"Programs are budgeted on a fiscal year that runs July 1st - June 30th. Applications are reviewed and funds committed on a first come, first serve basis provided all program requirements are met.  "]
[null,"Eligibility"]
[null,"The Pay for Performance Existing Buildings Program is open to existing commercial, industrial, and certain multifamily buildings with peak demand in excess of 100 kW in any of the preceding twelve months. Please see Program Guidelines v4.0 Section 2.3 for full information on eligibility. "]
[null,"Required Tools"]
[null,"This ERP Tables document is designed to be used in conjuntion with the following, most of which are also available for download on the Partner Portal:                                                                                               \n• Program Guidelines v4.0\n• Model Calibration Tool (Excel) \n• Eligible simulation software (e.g. eQuest, TRANE TRACE, etc.) \n• ERP Report Template (Word)\n• ENERGY STAR’s® Portfolio Manager (www.energystar.gov/benchmark) \nPartner Portal: http://www.njcleanenergy.com/p4p-portal-login case sensitive password is: tRP47px\n"]
[null,"Instructions for Using ERP Tables"]
[null,"Proceed through this workbook in the order in which tabs are laid out. Any cells shaded in blue must be filled out if applicable to the project; remaining white cells will auto-populate. When certain information is not applicable or missing, indicate \"N/A\" or \"missing.\" Cells that are shaded-in are not applicable based on your inputs.   Detailed instructions regarding completion requirements of the various tabs in this workbook can be found at the top of each tab. In addition, pop-up comments specific to many inputs have been provided for additional information.\nA Navigation Wizard has been included in this tool for convenience.  It can be accessed from buttons provided within this tool.  It can also be accessed at any time using the keyboard shortcut Ctrl-Shift-n.\nFor assistance using this or any other Pay for Performance Program tool, including request for additional rows, please contact P4P@NJCleanEnergy.com \n"]
[null,"Submittal Requirements "]
[null,"When you have completed filling out these tables, submit the following to the Market Manager per Program Guidelines v4.0, Section 2.5\n• Completed ERP Tables, including all Appendices (see next tab)\n• ERP Report per template (upon final revision submittal only)\nOnce all pertinent data has been entered into the ERP Tables, the ERP Report Template included with these tables can be automatically populated with project-specific data.  To do so, click the \"Generate ERP Report\" button in this tool's Navigation Wizard and select the ERP Report Template saved on your computer.  Upon saving this file, you will be redirected to the Appendix B Tables sheet of this file, which can be printed and included with the project's ERP report.\n\nAll submittals must be electronic and can be submitted to P4P@NJCleanEnergy.com Larger files can be submitted through Market Manager FTP site, directions for which can be found on the Partner Portal. Partner FTP links may also be provided to the Market Manager to the email above. \n\n"]
[null,"Incentive Structure"]
[null,"Incentive Structure for NJ Pay For Performance Program"]
[]
[null,"Incentive #1: Energy Reduction Plan "]
[null,"Incentive Amount:",null,0.1,"per sq ft"]
[null,"Minimum Incentive:",null,5000]
[null,"Maximum Incentive:",null,50000,"or 50% of facility annual energy cost"]
[null,"This incentive is designed to offset the cost of services associated with the development of the Energy Reduction Plan (ERP) and will be released upon ERP approval. Projects must identify efficiency improvements that meet the minimum performance level in order to become eligible for Incentive #1. Incentive amount will be based on the square footage of the building. Incentive is contingent upon installation completion. "]
[]
[null,"Incentive #2: Installation of Recommended Measures"]
[null,"Minimum Performance Target:",null,0.15]
[null,"Electric Incentives","Base Incentive based on 15% savings:",0.09,"per projected kWh saved"]
[null,null,"For each % over 15% add:",5.0000000000000001E-3]
[null,null,"Maximum Incentive:",0.11]
[null,"Gas Incentives","Base Incentive based on 15 % savings:",0.9,"per projected Therm saved"]
[null,null,"For each % over 15% add:",0.05]
[null,null,"Maximum Incentive:",1.25]
[null,"Oil and Propane Incentives","Base Incentive based on 15 % savings:",9,"per projected MMBtu saved"]
[null,null,"For each % over 15% add:",0.5]
[null,null,"Maximum Incentive:",12.5]
[null,"Incentive Cap:",null,0.25,"of total project cost"]
[null,"This incentive is based on projected energy savings and designed to pay approximately 50% of the total performance-based incentive.  Savings projections will be calculated using calibrated energy simulation.  Incentive will be released upon successful installation of recommended measures. Incentive #2 may not exceed 25% of the total project cost."]
[]
[null,"Incentive #3: Post-Construction Benchmarking Report"]
[null,"Minimum Performance Target:",null,0.15]
[null,"Electric Incentives","Base Incentive based on 15% savings:",0.09,"per projected kWh saved"]
[null,null,"For each % over 15% add:",5.0000000000000001E-3]
[null,null,"Maximum Incentive:",0.11]
[null,"Gas Incentives","Base Incentive based on 15% savings:",0.9,"per projected Therm saved"]
[null,null,"For each % over 15% add:",0.05]
[null,null,"Maximum Incentive:",1.25]
[null,"Oil and Propane Incentives","Base Incentive based on 15 % savings:",9,"per projected MMBtu saved"]
[null,null,"For each % over 15% add:",0.5]
[null,null,"Maximum Incentive:",12.5]
[null,"Incentive Cap:",null,0.25,"of total project cost"]
[null,"This incentive will be released upon submittal of a Post-Construction Benchmarking Report that verifies that the level of savings actually achieved by the installed measures meets or exceeds the minimum performance threshold.  Total value of Incentive #2 and Incentive #3 may not exceed 50% of the total project cost. This incentive will \"true up\" proposed savings and the related payment for Incentive #2 so that the total incentive is based on actual savings.  "]

{"sheet":"Required Appendices","index":1,"n_rows":13,"n_cols":3,"rows_kept":13,"cut":false,"hidden":false,"merged":[[12,2,12,4],[0,1,0,4],[1,1,1,4],[2,1,2,4],[4,1,4,4],[5,2,5,4],[6,2,6,4],[8,2,8,4],[9,2,9,4],[10,2,10,4],[11,2,11,4],[7,2,7,4]]}
[null,"New Jersey Office of Clean Energy"]
[null,"Pay for Performance Existing Buildings Program"]
[null,"ERP Tables and Incentive Calculator"]
[]
[null,"Required Appendices"]
[null,"Appendix A ","ENERGY STAR’s® Portfolio Manager SEP, Datachecklist, and Score Card (if applicable). \nPlease share project on Portfolio Manager website with TRC. If you have shared projects with TRC before, then our username should already be on your contacts list as “Solutions, TRC”.  If  sharing with TRC for the first time, you will need to add us as a contact first by searching for username “TRCSOLUTIONS”."]
[null,"Appendix B","Corresponding utility bills (if not previously submitted) organized by account and in chronological order. Only actual utility invoices or utility summaries provided directly by utility are permitted."]
[null,"Appendix C","Model Calibration Tool "]
[null,"Appendix D","Modeling Files & Output Reports (per Program Guidelines v4.0, Section 4.2)"]
[null,"Appendix E","External Calculations (if applicable)"]
[null,"Appendix F","Pre-Retrofit Metering Approach and Results (if applicable)"]
[null,"Appendix G","Copy of signed Partner/Participant Contract"]
[null,"Appendix H","Signed Installation Agreement"]

{"sheet":"Utility Info","index":2,"n_rows":129,"n_cols":14,"rows_kept":129,"cut":false,"hidden":false,"merged":[[2,1,2,9],[16,11,16,13],[9,11,15,13],[10,1,10,2],[19,1,19,2],[4,1,4,9],[13,1,13,9],[11,1,11,2]]}
[null,"Utility Data Summary"]
[null,"Instructions"]
[null,"1) Fill in all utility information that is applicable to your project.\n2) Navigation buttons have been provided on this and other utility data tabs for convenience.  Use these buttons (e.g. \"Enter Common Area Electric Use\") to navigate through these utility data tabs.\n3) Read the notes, which are indicated by red corners, where appropriate, to assist in properly completing this tab.\n4) Enter Start and End date for the pre-construction billing period in cells M7 & M8.\n5) If property is multifamily direct-metered and you are collecting a sample of in-unit bills, fill out the Direct Meter Sampling Requirements table.\n6) Difference between pre and post construction utility information is for reference only. Final/actual post-retrofit savings will be calculated by the Savings Verification Tool. \n7) Please reference Program Guidelines v4.0, Section 3.2 for utility bill collection requirements, including allowed adjustments to utility bills. "]
[]
[null,"PRE-CONSTRUCTION UTILITY INFORMATION"]
[null,null,"Electric","Gas","Fuel Oil","Propane","Steam","Chilled Water","Hot Water","Other",null,null,"PRE-CONSTRUCTION","POST-CONSTRUCTION"]
[null,"Energy Units","kWh","<Not Used>","<Not Used>","<Not Used>","<Not Used>","<Not Used>","<Not Used>","<Not Used>",null,"Start Date"]
[null,"Utility Company","<Select One>","<Select One>",null,null,null,null,null,null,null,"End Date"]
[null,"3rd Party Supplier"]
[null,"Metering Configuration"]
[null,"Is the Project Firm Gas?",null,"<Select>"]
[null,"Is this a Firm Gas Fuel Conversion Project?",null,"<Select>"]
[]
[null,"POST-CONSTRUCTION UTILITY INFORMATION"]
[null,null,"Electric","Gas","Fuel Oil","Propane","Steam","Chilled Water","Hot Water","<Other Fuel Type>"]
[null,"Energy Units","kWh","<Not Used>","<Not Used>","<Not Used>","<Not Used>","<Not Used>","<Not Used>","<Not Used>"]
[null,"Utility Company","<Select One>","<Select One>"]
[null,"3rd Party Supplier"]
[null,"Metering Configuration"]
[null,"Is the Project Firm Gas?",null,"<Select>"]
[]
[null,"Electric Meters - Common Area/Master Meters"]
[null,"Meter Number","Account Number","Location(s) Served","# Apts Served","Rate Class"]
[]
[]
[]
[]
[]
[]
[]
[]
[]
[]
[]
[]
[]
[]
[]
[]
[]
[]
[]
[]
[]
[null,"Electric Meter Data - Apartment Meter Sampling Requirements"]
[null,null,"Description","Total # of Unit Type","Minimum Sample Size"]
[null,"Unit Type 1",null,null,{"$f":"IF(D47=0,0,MAX(1,ROUNDUP(D47*0.1,0)))","v":0}]
[null,"Unit Type 2",null,null,{"$f":"IF(D48=0,0,MAX(1,ROUNDUP(D48*0.1,0)))","v":0}]
[null,"Unit Type 3",null,null,0]
[null,"Unit Type 4",null,null,0]
[null,"Unit Type 5",null,null,0]
[null,"Unit Type 6",null,null,0]
[null,"Unit Type 7",null,null,0]
[null,"Unit Type 8",null,null,0]
[null,"Unit Type 9",null,null,0]
[null,"Unit Type 10",null,null,{"$f":"IF(D56=0,0,MAX(1,ROUNDUP(D56*0.1,0)))","v":0}]
[null,null,null,{"$f":"SUM(D47:D56)","v":0}]
[]
[null,"Gas Meters - Common Area/Master Meters"]
[null,"Meter Number","Account Number","Location(s) Served","# Apts Served","Rate Class"]
[]
[]
[]
[]
[]
[]
[]
[]
[]
[]
[]
[]
[]
[]
[]
[]
[]
[]
[]
[]
[]
[null,"Gas Meter Data - Apartment Meter Sampling Requirements"]
[null,null,"Description","Total # of Unit Type","Minimum Sample Size"]
[null,"Unit Type 1",null,null,{"$f":"IF(D84=0,0,MAX(1,ROUNDUP(D84*0.1,0)))","v":0}]
[null,"Unit Type 2",null,null,0]
[null,"Unit Type 3",null,null,0]
[null,"Unit Type 4",null,null,0]
[null,"Unit Type 5",null,null,0]
[null,"Unit Type 6",null,null,0]
[null,"Unit Type 7",null,null,0]
[null,"Unit Type 8",null,null,0]
[null,"Unit Type 9",null,null,0]
[null,"Unit Type 10",null,null,{"$f":"IF(D93=0,0,MAX(1,ROUNDUP(D93*0.1,0)))","v":0}]
[null,null,null,{"$f":"SUM(D84:D93)","v":0}]
[]
[null,"Oil Meters"]
[null,"Meter Number","Account Number","Location(s) Served","# Apts Served","Rate Class"]
[]
[]
[]
[]
[]
[]
[null,"Propane Meters"]
[null,"Meter Number","Account Number","Location(s) Served","# Apts Served","Rate Class"]
[]
[]
[]
[]
[]
[]
[null,"Steam Meters"]
[null,"Meter Number","Account Number","Location(s) Served","# Apts Served","Rate Class"]
[]
[]
[]
[]
[]
[]
[null,"Chilled Water Meters"]
[null,"Meter Number","Account Number","Location(s) Served","# Apts Served","Rate Class"]
[]
[]
[]
[]
[]
[]
[null,"Hot Water Meters"]
[null,"Meter Number","Account Number","Location(s) Served","# Apts Served","Rate Class"]

{"sheet":"Electric Totals","index":3,"n_rows":60,"n_cols":70,"rows_kept":60,"cut":false,"hidden":false,"merged":[[2,1,2,14],[60,1,64,16],[52,29,52,30],[52,31,52,32],[52,33,52,34],[52,35,52,36],[52,37,52,38],[52,39,52,40],[52,17,52,18],[52,19,52,20],[52,21,52,22],[52,23,52,24],[52,25,52,26],[52,27,52,28],[52,5,52,6],[52,7,52,8],[52,9,52,10],[52,11,52,12],[52,13,52,14],[52,15,52,16],[51,21,51,22],[51,23,51,24],[51,25,51,26],[51,27,51,28],[51,29,51,30],[51,31,51,32],[52,41,52,42],[52,43,52,44],[59,1,59,16],[49,25,49,26],[49,27,49,28],[49,29,49,30],[51,33,51,34],[51,35,51,36],[51,37,51,38],[51,39,51,40],[51,41,51,42],[51,43,51,44],[31,33,31,34],[31,35,31,36],[31,37,31,38],[31,15,31,16],[31,17,31,18],[49,43,49,44],[50,1,51,3],[51,5,51,6],[51,7,51,8],[51,9,51,10],[51,11,51,12],[51,13,51,14],[51,15,51,16],[51,17,51,18],[51,19,51,20],[49,31,49,32],[49,33,49,34],[49,35,49,36],[49,37,49,38],[49,39,49,40],[49,41,49,42],[49,19,49,20],[49,21,49,22],[49,23,49,24],[30,39,30,40],[30,41,30,42],[30,43,30,44],[30,31,30,32],[30,33,30,34],[31,50,32,50],[31,51,32,51],[31,53,32,53],[49,5,49,6],[49,7,49,8],[49,9,49,10],[49,11,49,12],[49,13,49,14],[49,15,49,16],[49,17,49,18],[31,39,31,40],[31,41,31,42],[31,43,31,44],[31,45,32,45],[31,48,32,48],[31,49,32,49],[31,27,31,28],[31,29,31,30],[31,31,31,32],[31,5,31,6],[31,7,31,8],[31,9,31,10],[31,11,31,12],[31,13,31,14],[30,23,30,24],[30,25,30,26],[30,27,30,28],[30,29,30,30],[31,19,31,20],[31,21,31,22],[31,23,31,24],[31,25,31,26],[29,48,30,50],[30,5,30,6],[30,7,30,8],[30,9,30,10],[30,11,30,12],[30,13,30,14],[30,15,30,16],[30,17,30,18],[30,19,30,20],[30,21,30,22],[29,33,29,34],[29,35,29,36],[29,37,29,38],[29,39,29,40],[29,41,29,42],[29,43,29,44],[29,21,29,22],[29,23,29,24],[29,25,29,26],[29,27,29,28],[29,29,29,30],[29,31,29,32],[30,35,30,36],[30,37,30,38],[29,17,29,18],[29,19,29,20],[27,31,27,32],[27,33,27,34],[27,35,27,36],[27,37,27,38],[27,39,27,40],[27,41,27,42],[27,19,27,20],[27,21,27,22],[27,23,27,24],[27,25,27,26],[27,27,27,28],[27,29,27,30],[26,39,26,40],[26,41,26,42],[26,43,26,44],[27,5,27,6],[27,7,27,8],[27,9,27,10],[27,11,27,12],[27,13,27,14],[27,15,27,16],[27,17,27,18],[26,27,26,28],[26,29,26,30],[26,31,26,32],[26,33,26,34],[26,35,26,36],[26,37,26,38],[26,15,26,16],[26,17,26,18],[26,19,26,20],[26,21,26,22],[26,23,26,24],[26,25,26,26],[27,43,27,44],[6,19,6,20],[24,39,24,40],[24,41,24,42],[24,43,24,44],[24,21,24,22],[24,23,24,24],[24,25,24,26],[24,27,24,28],[24,29,24,30],[24,31,24,32],[24,33,24,34],[24,35,24,36],[24,37,24,38],[5,25,5,26],[6,51,7,51],[6,53,7,53],[24,5,24,6],[24,7,24,8],[24,9,24,10],[24,11,24,12],[24,13,24,14],[24,15,24,16],[24,17,24,18],[24,19,24,20],[6,41,6,42],[6,43,6,44],[6,45,7,45],[6,48,7,48],[6,49,7,49],[6,50,7,50],[6,29,6,30],[6,31,6,32],[6,33,6,34],[6,35,6,36],[6,37,6,38],[6,39,6,40],[6,17,6,18],[4,27,4,28],[6,21,6,22],[6,23,6,24],[6,25,6,26],[6,27,6,28],[5,43,5,44],[6,1,7,1],[6,2,7,2],[6,3,7,3],[6,5,6,6],[6,7,6,8],[6,9,6,10],[6,11,6,12],[6,13,6,14],[6,15,6,16],[5,31,5,32],[5,33,5,34],[5,35,5,36],[5,37,5,38],[5,39,5,40],[5,41,5,42],[5,19,5,20],[5,21,5,22],[5,23,5,24],[29,15,29,16],[5,27,5,28],[5,29,5,30],[4,41,4,42],[4,43,4,44],[4,48,5,50],[5,5,5,6],[5,7,5,8],[5,9,5,10],[5,11,5,12],[5,13,5,14],[5,15,5,16],[5,17,5,18],[4,29,4,30],[4,31,4,32],[4,33,4,34],[4,35,4,36],[4,37,4,38],[4,39,4,40],[4,17,4,18],[4,19,4,20],[4,21,4,22],[4,23,4,24],[4,25,4,26],[6,46,7,46],[31,46,32,46],[31,1,32,1],[31,2,32,2],[31,3,32,3],[4,1,5,3],[4,5,4,6],[4,7,4,8],[4,9,4,10],[4,11,4,12],[4,13,4,14],[4,15,4,16],[29,1,30,3],[25,1,26,3],[26,5,26,6],[26,7,26,8],[26,9,26,10],[26,11,26,12],[26,13,26,14],[29,5,29,6],[29,7,29,8],[29,9,29,10],[29,11,29,12],[29,13,29,14]]}
[null,"Electric Utility Data Summary"]
[null,"Instructions"]
[null,"1) Enter data for pre-construction energy use in blue cells. Please ensure beginning and end read dates are 'Actual'.                                                      \n2) Unhide columns (P-AS) if there are more than 5 common area accounts. You may hide columns that are not needed, do not delete them.\n3) If the project is master-metered, enter data in this tab. Use Apt-Elec tab for direct-metered apartment data, if applicable.\n4) If there is on-site electric generation, please provide NET electricity consumed at the site (i.e. kWh produced less exported) in column AU.\n5) Review graphs to the right for irregularities in the usage data.\n6) Post-Construction data will be filled in one year after construction has been completed.\n7) Please use the \"Notes\" field below the data entry section of this tab to explain unusual circumstances, any anomalies in the data, or adjustments made.\n\n"]
[]
[null,"Pre-Construction Common Area Billing Dates",null,null,null,"Common Area Meter #1",null,"Common Area Meter #2",null,"Common Area Meter #3",null,"Common Area Meter #4",null,"Common Area Meter #5",null,"Common Area Meter #6",null,"Common Area Meter #7",null,"Common Area Meter #8",null,"Common Area Meter #9",null,"Common Area Meter #10",null,"Common Area Meter #11",null,"Common Area Meter #12",null,"Common Area Meter #13",null,"Common Area Meter #14",null,"Common Area Meter #15",null,"Common Area Meter #16",null,"Common Area Meter #17",null,"Common Area Meter #18",null,"Common Area Meter #19",null,"Common Area Meter #20",null,null,null,null,"Pre-Construction In-Unit Billing Dates"]
[null,null,null,null,null,"Account #",null,"Account #",null,"Account #",null,"Account #",null,"Account #",null,"Account #",null,"Account #",null,"Account #",null,"Account #",null,"Account #",null,"Account #",null,"Account #",null,"Account #",null,"Account #",null,"Account #",null,"Account #",null,"Account #",null,"Account #",null,"Account #",null,"Account #"]
[null,"Billing Period Start Date","Read Date","Days in Billing Period",null,{"$f":"'Utility Info'!C24","v":0},null,{"$f":"'Utility Info'!C25","v":0},null,{"$f":"'Utility Info'!C26","v":0},null,{"$f":"'Utility Info'!C27","v":0},null,{"$f":"'Utility Info'!C28","v":0},null,{"$f":"'Utility Info'!C29","v":0},null,{"$f":"'Utility Info'!C30","v":0},null,{"$f":"'Utility Info'!C31","v":0},null,{"$f":"'Utility Info'!C32","v":0},null,{"$f":"'Utility Info'!C33","v":0},null,{"$f":"'Utility Info'!C34","v":0},null,{"$f":"'Utility Info'!C35","v":0},null,{"$f":"'Utility Info'!C36","v":0},null,{"$f":"'Utility Info'!C37","v":0},null,{"$f":"'Utility Info'!C38","v":0},null,{"$f":"'Utility Info'!C39","v":0},null,{"$f":"'Utility Info'!C40","v":0},null,{"$f":"'Utility Info'!C41","v":0},null,{"$f":"'Utility Info'!C42","v":0},null,{"$f":"'Utility Info'!C43","v":0},null,"Total Common Area kWh Consumption","On-Site Net kWh Generation",null,"Billing Period Start Date","Read Date","Days in Billing Period","In-Unit kWh Consumption",null,"Total kWh Consumption",null,null,null,null,null,null,"Data for Graphs:"]
[null,null,null,null,null,"kWh","Actual/ Estimated","kWh","Actual/ Estimated","kWh","Actual/ Estimated","kWh","Actual/ Estimated","kWh","Actual/ Estimated","kWh","Actual/ Estimated","kWh","Actual/ Estimated","kWh","Actual/ Estimated","kWh","Actual/ Estimated","kWh","Actual/ Estimated","kWh","Actual/ Estimated","kWh","Actual/ Estimated","kWh","Actual/ Estimated","kWh","Actual/ Estimated","kWh","Actual/ Estimated","kWh","Actual/ Estimated","kWh","Actual/ Estimated","kWh","Actual/ Estimated","kWh","Actual/ Estimated","kWh","Actual/ Estimated",null,null,null,null,null,null,null,null,null,null,null,null,null,null,null,"Common Area Ref Date","Common Area Month","In-unit Ref Date","In-Unit Month",null,"Months","Common Area Pre","Common Area Post","In-Unit Pre","In-Unit Post"]
[null,null,null,null,null,null,null,null,null,null,null,null,null,null,null,null,null,null,null,null,null,null,null,null,null,null,null,null,null,null,null,null,null,null,null,null,null,null,null,null,null,null,null,null,null,null,null,null,null,{"$f":"'Apt-Elec'!C11","v":"00:00:00"}]
[null,{"$f":"C9+1","v":"1900-01-01"},null,{"$f":"IF(C10>0,C10+1-B10,0)","v":0},null,null,null,null,null,null,null,null,null,null,null,null,null,null,null,null,null,null,null,null,null,null,null,null,null,null,null,null,null,null,null,null,null,null,null,null,null,null,null,null,null,{"$f":"SUM(F10:AS10)+AU10","v":0},null,null,{"$f":"'Apt-Elec'!B12","v":"1900-01-01"},{"$f":"'Apt-Elec'!C12","v":"00:00:00"},{"$f":"IF(AX10>0,AX10+1-AW10,0)","v":0},{"$f":"'Apt-Elec'!PT12","v":0},null,{"$f":"AT10+AZ10","v":0},null,null,null,null,null,null,{"$f":"DATE(YEAR(C10),MONTH(C10),1)","v":"1900-01-01"},{"$f":"IF((BI10-B10)>(C10-BI10),MONTH(B10),MONTH(C10))","v":1},{"$f":"DATE(YEAR(AX10),MONTH(AX10),1)","v":"1900-01-01"},{"$f":"IF((BK10-AW10)>(AX10-BK10),MONTH(AW10),MONTH(AX10))","v":1},null,"2012-01-15",{"$f":"SUMIF($BJ$10:$BJ$24,MONTH($BN10),$AT$10:$AT$24)","v":0},{"$f":"SUMIF($BJ$35:$BJ$49,MONTH($BN10),$AT$35:$AT$49)","v":0},{"$f":"SUMIF($BL$10:$BL$24,MONTH($BN10),$AZ$10:$AZ$24)","v":0},{"$f":"SUMIF($BL$35:$BL$49,MONTH($BN10),$AZ$35:$AZ$49)","v":0}]
[null,"1900-01-01",null,{"$f":"IF(C11>0,C11+1-B11,0)","v":0},null,null,null,null,null,null,null,null,null,null,null,null,null,null,null,null,null,null,null,null,null,null,null,null,null,null,null,null,null,null,null,null,null,null,null,null,null,null,null,null,null,{"$f":"SUM(F11:AS11)+AU11","v":0},null,null,{"$f":"'Apt-Elec'!B13","v":"1900-01-01"},{"$f":"'Apt-Elec'!C13","v":"00:00:00"},{"$f":"IF(AX11>0,AX11+1-AW11,0)","v":0},{"$f":"'Apt-Elec'!PT13","v":0},null,{"$f":"AT11+AZ11","v":0},null,null,null,null,null,null,"1900-01-01",1,{"$f":"DATE(YEAR(AX11),MONTH(AX11),1)","v":"1900-01-01"},{"$f":"IF((BK11-AW11)>(AX11-BK11),MONTH(AW11),MONTH(AX11))","v":1},null,"2012-02-15",{"$f":"SUMIF($BJ$10:$BJ$24,MONTH($BN11),$AT$10:$AT$24)","v":0},0,{"$f":"SUMIF($BL$10:$BL$24,MONTH($BN11),$AZ$10:$AZ$24)","v":0},0]
[null,"1900-01-01",null,0,null,null,null,null,null,null,null,null,null,null,null,null,null,null,null,null,null,null,null,null,null,null,null,null,null,null,null,null,null,null,null,null,null,null,null,null,null,null,null,null,null,0,null,null,{"$f":"'Apt-Elec'!B14","v":"1900-01-01"},{"$f":"'Apt-Elec'!C14","v":"00:00:00"},0,{"$f":"'Apt-Elec'!PT14","v":0},null,0,null,null,null,null,null,null,"1900-01-01",1,"1900-01-01",1,null,"2012-03-15",0,0,0,0]
[null,"1900-01-01",null,0,null,null,null,null,null,null,null,null,null,null,null,null,null,null,null,null,null,null,null,null,null,null,null,null,null,null,null,null,null,null,null,null,null,null,null,null,null,null,null,null,null,0,null,null,{"$f":"'Apt-Elec'!B15","v":"1900-01-01"},{"$f":"'Apt-Elec'!C15","v":"00:00:00"},0,{"$f":"'Apt-Elec'!PT15","v":0},null,0,null,null,null,null,null,null,"1900-01-01",1,"1900-01-01",1,null,"2012-04-15",0,0,0,0]
[null,"1900-01-01",null,0,null,null,null,null,null,null,null,null,null,null,null,null,null,null,null,null,null,null,null,null,null,null,null,null,null,null,null,null,null,null,null,null,null,null,null,null,null,null,null,null,null,0,null,null,{"$f":"'Apt-Elec'!B16","v":"1900-01-01"},{"$f":"'Apt-Elec'!C16","v":"00:00:00"},0,{"$f":"'Apt-Elec'!PT16","v":0},null,0,null,null,null,null,null,null,"1900-01-01",1,{"$f":"DATE(YEAR(AX14),MONTH(AX14),1)","v":"1900-01-01"},1,null,"2012-05-15",0,0,0,0]
[null,"1900-01-01",null,0,null,null,null,null,null,null,null,null,null,null,null,null,null,null,null,null,null,null,null,null,null,null,null,null,null,null,null,null,null,null,null,null,null,null,null,null,null,null,null,null,null,0,null,null,{"$f":"'Apt-Elec'!B17","v":"1900-01-01"},{"$f":"'Apt-Elec'!C17","v":"00:00:00"},0,{"$f":"'Apt-Elec'!PT17","v":0},null,0,null,null,null,null,null,null,"1900-01-01",1,"1900-01-01",1,null,"2012-06-15",0,0,0,0]
[null,"1900-01-01",null,0,null,null,null,null,null,null,null,null,null,null,null,null,null,null,null,null,null,null,null,null,null,null,null,null,null,null,null,null,null,null,null,null,null,null,null,null,null,null,null,null,null,0,null,null,{"$f":"'Apt-Elec'!B18","v":"1900-01-01"},{"$f":"'Apt-Elec'!C18","v":"00:00:00"},0,{"$f":"'Apt-Elec'!PT18","v":0},null,0,null,null,null,null,null,null,"1900-01-01",1,"1900-01-01",1,null,"2012-07-15",0,0,0,0]
[null,"1900-01-01",null,0,null,null,null,null,null,null,null,null,null,null,null,null,null,null,null,null,null,null,null,null,null,null,null,null,null,null,null,null,null,null,null,null,null,null,null,null,null,null,null,null,null,0,null,null,{"$f":"'Apt-Elec'!B19","v":"1900-01-01"},{"$f":"'Apt-Elec'!C19","v":"00:00:00"},0,{"$f":"'Apt-Elec'!PT19","v":0},null,0,null,null,null,null,null,null,"1900-01-01",1,"1900-01-01",1,null,"2012-08-15",0,0,0,0]
[null,"1900-01-01",null,0,null,null,null,null,null,null,null,null,null,null,null,null,null,null,null,null,null,null,null,null,null,null,null,null,null,null,null,null,null,null,null,null,null,null,null,null,null,null,null,null,null,0,null,null,{"$f":"'Apt-Elec'!B20","v":"1900-01-01"},{"$f":"'Apt-Elec'!C20","v":"00:00:00"},0,{"$f":"'Apt-Elec'!PT20","v":0},null,0,null,null,null,null,null,null,"1900-01-01",1,"1900-01-01",1,null,"2012-09-15",0,0,0,0]
[null,"1900-01-01",null,0,null,null,null,null,null,null,null,null,null,null,null,null,null,null,null,null,null,null,null,null,null,null,null,null,null,null,null,null,null,null,null,null,null,null,null,null,null,null,null,null,null,0,null,null,{"$f":"'Apt-Elec'!B21","v":"1900-01-01"},{"$f":"'Apt-Elec'!C21","v":"00:00:00"},0,{"$f":"'Apt-Elec'!PT21","v":0},null,0,null,null,null,null,null,null,"1900-01-01",1,"1900-01-01",1,null,"2012-10-15",0,0,0,0]
[null,"1900-01-01",null,0,null,null,null,null,null,null,null,null,null,null,null,null,null,null,null,null,null,null,null,null,null,null,null,null,null,null,null,null,null,null,null,null,null,null,null,null,null,null,null,null,null,0,null,null,{"$f":"'Apt-Elec'!B22","v":"1900-01-01"},{"$f":"'Apt-Elec'!C22","v":"00:00:00"},0,{"$f":"'Apt-Elec'!PT22","v":0},null,0,null,null,null,null,null,null,"1900-01-01",1,"1900-01-01",1,null,"2012-11-15",0,0,0,0]
[null,"1900-01-01",null,0,null,null,null,null,null,null,null,null,null,null,null,null,null,null,null,null,null,null,null,null,null,null,null,null,null,null,null,null,null,null,null,null,null,null,null,null,null,null,null,null,null,0,null,null,{"$f":"'Apt-Elec'!B23","v":"1900-01-01"},{"$f":"'Apt-Elec'!C23","v":"00:00:00"},0,{"$f":"'Apt-Elec'!PT23","v":0},null,0,null,null,null,null,null,null,"1900-01-01",1,"1900-01-01",1,null,"2012-12-15",0,0,0,0]
[null,"1900-01-01",null,0,null,null,null,null,null,null,null,null,null,null,null,null,null,null,null,null,null,null,null,null,null,null,null,null,null,null,null,null,null,null,null,null,null,null,null,null,null,null,null,null,null,0,null,null,{"$f":"'Apt-Elec'!B24","v":"1900-01-01"},{"$f":"'Apt-Elec'!C24","v":"00:00:00"},0,{"$f":"'Apt-Elec'!PT24","v":0},null,0,null,null,null,null,null,null,"1900-01-01",1,"1900-01-01",1]
[null,"1900-01-01",null,0,null,null,null,null,null,null,null,null,null,null,null,null,null,null,null,null,null,null,null,null,null,null,null,null,null,null,null,null,null,null,null,null,null,null,null,null,null,null,null,null,null,0,null,null,{"$f":"'Apt-Elec'!B25","v":"1900-01-01"},{"$f":"'Apt-Elec'!C25","v":"00:00:00"},0,{"$f":"'Apt-Elec'!PT25","v":0},null,0,null,null,null,null,null,null,"1900-01-01",1,"1900-01-01",1]
[null,"1900-01-01",null,0,null,null,null,null,null,null,null,null,null,null,null,null,null,null,null,null,null,null,null,null,null,null,null,null,null,null,null,null,null,null,null,null,null,null,null,null,null,null,null,null,null,0,null,null,{"$f":"'Apt-Elec'!B26","v":"1900-01-01"},{"$f":"'Apt-Elec'!C26","v":"00:00:00"},0,{"$f":"'Apt-Elec'!PT26","v":0},null,0,null,null,null,null,null,null,"1900-01-01",1,"1900-01-01",1]
[null,null,{"$f":"IF(ABS(D25-365)>4,\"Must have 365 ± 4 days.\",\"\")","v":"Must have 365 ± 4 days."},{"$f":"SUM(D10:D24)","v":0},null,{"$f":"SUM(F10:F24)","v":0},null,{"$f":"SUM(H10:H24)","v":0},null,{"$f":"SUM(J10:J24)","v":0},null,{"$f":"SUM(L10:L24)","v":0},null,0,null,0,null,0,null,0,null,0,null,0,null,0,null,0,null,0,null,0,null,{"$f":"SUM(AH10:AH24)","v":0},null,{"$f":"SUM(AJ10:AJ24)","v":0},null,{"$f":"SUM(AL10:AL24)","v":0},null,{"$f":"SUM(AN10:AN24)","v":0},null,{"$f":"SUM(AP10:AP24)","v":0},null,{"$f":"SUM(AR10:AR24)","v":0},null,{"$f":"SUM(AT10:AT24)","v":0},{"$f":"SUM(AU10:AU24)","v":0},null,null,{"$f":"IF(ABS(AY25-365)>4,\"Must have 365 ± 4 days.\",\"\")","v":"Must have 365 ± 4 days."},{"$f":"SUM(AY10:AY24)","v":0},{"$f":"SUM(AZ10:AZ24)","v":0},null,{"$f":"SUM(BB10:BB24)","v":0}]
[null,{"$f":"IF(AW10=1,\"\",IF(ABS(B10-AW10)>15,\"The dates for the common area and apartment bills are out of synch. Please select start dates within 2 weeks of each other.\",\"\"))","v":""}]
[null,null,null,null,null,"Total Annual kWh Cost",null,"Total Annual kWh Cost",null,"Total Annual kWh Cost",null,"Total Annual kWh Cost",null,"Total Annual kWh Cost",null,"Total Annual kWh Cost",null,"Total Annual kWh Cost",null,"Total Annual kWh Cost",null,"Total Annual kWh Cost",null,"Total Annual kWh Cost",null,"Total Annual kWh Cost",null,"Total Annual kWh Cost",null,"Total Annual kWh Cost",null,"Total Annual kWh Cost",null,"Total Annual kWh Cost",null,"Total Annual kWh Cost",null,"Total Annual kWh Cost",null,"Total Annual kWh Cost",null,"Total Annual kWh Cost",null,"Total Annual kWh Cost",null,"Total Annual Common Area kWh Cost",null,null,null,null,null,"Total In-Unit Annual kWh Cost",null,"Total Annual kWh Cost"]
[null,null,null,null,null,null,null,null,null,null,null,null,null,null,null,null,null,null,null,null,null,null,null,null,null,null,null,null,null,null,null,null,null,null,null,null,null,null,null,null,null,null,null,null,null,{"$f":"SUM(F28:AS28)","v":0},null,null,null,null,null,{"$f":"IF(N('Apt-Elec'!$PT$30)=0,IF(N($AT$28)=0,0.15,$AT$28/$AT$25)*$AZ$25,'Apt-Elec'!$PT$30)","v":0},null,{"$f":"AT28+AZ28","v":0}]
[]
[null,"Post-Construction Common Area Billing Dates",null,null,null,"Common Area Meter #1",null,"Common Area Meter #2",null,"Common Area Meter #3",null,"Common Area Meter #4",null,"Common Area Meter #5",null,"Common Area Meter #6",null,"Common Area Meter #7",null,"Common Area Meter #8",null,"Common Area Meter #9",null,"Common Area Meter #10",null,"Common Area Meter #11",null,"Common Area Meter #12",null,"Common Area Meter #13",null,"Common Area Meter #14",null,"Common Area Meter #15",null,"Common Area Meter #16",null,"Common Area Meter #17",null,"Common Area Meter #18",null,"Common Area Meter #19",null,"Common Area Meter #20",null,null,null,null,"Post-Construction In-Unit Billing Dates"]
[null,null,null,null,null,"Account #",null,"Account #",null,"Account #",null,"Account #",null,"Account #",null,"Account #",null,"Account #",null,"Account #",null,"Account #",null,"Account #",null,"Account #",null,"Account #",null,"Account #",null,"Account #",null,"Account #",null,"Account #",null,"Account #",null,"Account #",null,"Account #",null,"Account #"]
[null,"Billing Period Start Date","Read Date","Days in Billing Period",null,{"$f":"F7","v":0},null,{"$f":"H7","v":0},null,{"$f":"J7","v":0},null,{"$f":"L7","v":0},null,{"$f":"N7","v":0},null,{"$f":"P7","v":0},null,{"$f":"R7","v":0},null,{"$f":"T7","v":0},null,{"$f":"V7","v":0},null,{"$f":"X7","v":0},null,{"$f":"Z7","v":0},null,{"$f":"AB7","v":0},null,{"$f":"AD7","v":0},null,{"$f":"AF7","v":0},null,{"$f":"AH7","v":0},null,{"$f":"AJ7","v":0},null,{"$f":"AL7","v":0},null,{"$f":"AN7","v":0},null,{"$f":"AP7","v":0},null,{"$f":"AR7","v":0},null,"Total Common Area kWh Consumption","On-Site Net kWh Generation",null,"Billing Period Start Date","Read Date","Days in Billing Period","In-Unit kWh Consumption",null,"Total kWh Consumption",null,null,null,null,null,null,"Data for Graphs:"]
[null,null,null,null,null,"kWh","Actual/ Estimated","kWh","Actual/ Estimated","kWh","Actual/ Estimated","kWh","Actual/ Estimated","kWh","Actual/ Estimated","kWh","Actual/ Estimated","kWh","Actual/ Estimated","kWh","Actual/ Estimated","kWh","Actual/ Estimated","kWh","Actual/ Estimated","kWh","Actual/ Estimated","kWh","Actual/ Estimated","kWh","Actual/ Estimated","kWh","Actual/ Estimated","kWh","Actual/ Estimated","kWh","Actual/ Estimated","kWh","Actual/ Estimated","kWh","Actual/ Estimated","kWh","Actual/ Estimated","kWh","Actual/ Estimated",null,null,null,null,null,null,null,null,null,null,null,null,null,null,null,"Common Area Ref Date","Common Area Month","In-unit Ref Date","In-Unit Month"]
[null,null,null,null,null,null,null,null,null,null,null,null,null,null,null,null,null,null,null,null,null,null,null,null,null,null,null,null,null,null,null,null,null,null,null,null,null,null,null,null,null,null,null,null,null,null,null,null,null,{"$f":"'Apt-Elec'!C38","v":"00:00:00"}]
[null,{"$f":"C34+1","v":"1900-01-01"},null,{"$f":"IF(C35>0,C35+1-B35,0)","v":0},null,null,null,null,null,null,null,null,null,null,null,null,null,null,null,null,null,null,null,null,null,null,null,null,null,null,null,null,null,null,null,null,null,null,null,null,null,null,null,null,null,{"$f":"SUM(F35:AS35)+AU35","v":0},null,null,{"$f":"'Apt-Elec'!B39","v":"1900-01-01"},{"$f":"'Apt-Elec'!C39","v":"00:00:00"},{"$f":"IF(AX35>0,AX35+1-AW35,0)","v":0},{"$f":"'Apt-Elec'!PT39","v":0},null,{"$f":"AT35+AZ35","v":0},null,null,null,null,null,null,{"$f":"DATE(YEAR(C35),MONTH(C35),1)","v":"1900-01-01"},{"$f":"IF((BI35-B35)>(C35-BI35),MONTH(B35),MONTH(C35))","v":1},{"$f":"DATE(YEAR(AX35),MONTH(AX35),1)","v":"1900-01-01"},{"$f":"IF((BK35-AW35)>(AX35-BK35),MONTH(AW35),MONTH(AX35))","v":1}]
[null,"1900-01-01",null,0,null,null,null,null,null,null,null,null,null,null,null,null,null,null,null,null,null,null,null,null,null,null,null,null,null,null,null,null,null,null,null,null,null,null,null,null,null,null,null,null,null,{"$f":"SUM(F36:AS36)+AU36","v":0},null,null,{"$f":"'Apt-Elec'!B40","v":"1900-01-01"},{"$f":"'Apt-Elec'!C40","v":"00:00:00"},{"$f":"IF(AX36>0,AX36+1-AW36,0)","v":0},{"$f":"'Apt-Elec'!PT40","v":0},null,{"$f":"AT36+AZ36","v":0},null,null,null,null,null,null,"1900-01-01",1,{"$f":"DATE(YEAR(AX36),MONTH(AX36),1)","v":"1900-01-01"},{"$f":"IF((BK36-AW36)>(AX36-BK36),MONTH(AW36),MONTH(AX36))","v":1}]
[null,"1900-01-01",null,0,null,null,null,null,null,null,null,null,null,null,null,null,null,null,null,null,null,null,null,null,null,null,null,null,null,null,null,null,null,null,null,null,null,null,null,null,null,null,null,null,null,0,null,null,{"$f":"'Apt-Elec'!B41","v":"1900-01-01"},{"$f":"'Apt-Elec'!C41","v":"00:00:00"},0,{"$f":"'Apt-Elec'!PT41","v":0},null,0,null,null,null,null,null,null,"1900-01-01",1,{"$f":"DATE(YEAR(AX37),MONTH(AX37),1)","v":"1900-01-01"},1]
[null,"1900-01-01",null,0,null,null,null,null,null,null,null,null,null,null,null,null,null,null,null,null,null,null,null,null,null,null,null,null,null,null,null,null,null,null,null,null,null,null,null,null,null,null,null,null,null,0,null,null,{"$f":"'Apt-Elec'!B42","v":"1900-01-01"},{"$f":"'Apt-Elec'!C42","v":"00:00:00"},0,{"$f":"'Apt-Elec'!PT42","v":0},null,0,null,null,null,null,null,null,"1900-01-01",1,{"$f":"DATE(YEAR(AX38),MONTH(AX38),1)","v":"1900-01-01"},1]
[null,"1900-01-01",null,0,null,null,null,null,null,null,null,null,null,null,null,null,null,null,null,null,null,null,null,null,null,null,null,null,null,null,null,null,null,null,null,null,null,null,null,null,null,null,null,null,null,0,null,null,{"$f":"'Apt-Elec'!B43","v":"1900-01-01"},{"$f":"'Apt-Elec'!C43","v":"00:00:00"},0,{"$f":"'Apt-Elec'!PT43","v":0},null,0,null,null,null,null,null,null,"1900-01-01",1,{"$f":"DATE(YEAR(AX39),MONTH(AX39),1)","v":"1900-01-01"},1]
[null,"1900-01-01",null,0,null,null,null,null,null,null,null,null,null,null,null,null,null,null,null,null,null,null,null,null,null,null,null,null,null,null,null,null,null,null,null,null,null,null,null,null,null,null,null,null,null,0,null,null,{"$f":"'Apt-Elec'!B44","v":"1900-01-01"},{"$f":"'Apt-Elec'!C44","v":"00:00:00"},0,{"$f":"'Apt-Elec'!PT44","v":0},null,0,null,null,null,null,null,null,"1900-01-01",1,{"$f":"DATE(YEAR(AX40),MONTH(AX40),1)","v":"1900-01-01"},1]
[null,"1900-01-01",null,0,null,null,null,null,null,null,null,null,null,null,null,null,null,null,null,null,null,null,null,null,null,null,null,null,null,null,null,null,null,null,null,null,null,null,null,null,null,null,null,null,null,0,null,null,{"$f":"'Apt-Elec'!B45","v":"1900-01-01"},{"$f":"'Apt-Elec'!C45","v":"00:00:00"},0,{"$f":"'Apt-Elec'!PT45","v":0},null,0,null,null,null,null,null,null,"1900-01-01",1,"1900-01-01",1]
[null,"1900-01-01",null,0,null,null,null,null,null,null,null,null,null,null,null,null,null,null,null,null,null,null,null,null,null,null,null,null,null,null,null,null,null,null,null,null,null,null,null,null,null,null,null,null,null,0,null,null,{"$f":"'Apt-Elec'!B46","v":"1900-01-01"},{"$f":"'Apt-Elec'!C46","v":"00:00:00"},0,{"$f":"'Apt-Elec'!PT46","v":0},null,0,null,null,null,null,null,null,"1900-01-01",1,"1900-01-01",1]
[null,"1900-01-01",null,0,null,null,null,null,null,null,null,null,null,null,null,null,null,null,null,null,null,null,null,null,null,null,null,null,null,null,null,null,null,null,null,null,null,null,null,null,null,null,null,null,null,0,null,null,{"$f":"'Apt-Elec'!B47","v":"1900-01-01"},{"$f":"'Apt-Elec'!C47","v":"00:00:00"},0,{"$f":"'Apt-Elec'!PT47","v":0},null,0,null,null,null,null,null,null,"1900-01-01",1,"1900-01-01",1]
[null,"1900-01-01",null,0,null,null,null,null,null,null,null,null,null,null,null,null,null,null,null,null,null,null,null,null,null,null,null,null,null,null,null,null,null,null,null,null,null,null,null,null,null,null,null,null,null,0,null,null,{"$f":"'Apt-Elec'!B48","v":"1900-01-01"},{"$f":"'Apt-Elec'!C48","v":"00:00:00"},0,{"$f":"'Apt-Elec'!PT48","v":0},null,0,null,null,null,null,null,null,"1900-01-01",1,"1900-01-01",1]
[null,"1900-01-01",null,0,null,null,null,null,null,null,null,null,null,null,null,null,null,null,null,null,null,null,null,null,null,null,null,null,null,null,null,null,null,null,null,null,null,null,null,null,null,null,null,null,null,0,null,null,{"$f":"'Apt-Elec'!B49","v":"1900-01-01"},{"$f":"'Apt-Elec'!C49","v":"00:00:00"},0,{"$f":"'Apt-Elec'!PT49","v":0},null,0,null,null,null,null,null,null,"1900-01-01",1,"1900-01-01",1]
[null,"1900-01-01",null,0,null,null,null,null,null,null,null,null,null,null,null,null,null,null,null,null,null,null,null,null,null,null,null,null,null,null,null,null,null,null,null,null,null,null,null,null,null,null,null,null,null,0,null,null,{"$f":"'Apt-Elec'!B50","v":"1900-01-01"},{"$f":"'Apt-Elec'!C50","v":"00:00:00"},0,{"$f":"'Apt-Elec'!PT50","v":0},null,0,null,null,null,null,null,null,"1900-01-01",1,"1900-01-01",1]
[null,"1900-01-01",null,0,null,null,null,null,null,null,null,null,null,null,null,null,null,null,null,null,null,null,null,null,null,null,null,null,null,null,null,null,null,null,null,null,null,null,null,null,null,null,null,null,null,0,null,null,{"$f":"'Apt-Elec'!B51","v":"1900-01-01"},{"$f":"'Apt-Elec'!C51","v":"00:00:00"},0,{"$f":"'Apt-Elec'!PT51","v":0},null,0,null,null,null,null,null,null,"1900-01-01",1,"1900-01-01",1]
[null,"1900-01-01",null,0,null,null,null,null,null,null,null,null,null,null,null,null,null,null,null,null,null,null,null,null,null,null,null,null,null,null,null,null,null,null,null,null,null,null,null,null,null,null,null,null,null,0,null,null,{"$f":"'Apt-Elec'!B52","v":"1900-01-01"},{"$f":"'Apt-Elec'!C52","v":"00:00:00"},0,{"$f":"'Apt-Elec'!PT52","v":0},null,0,null,null,null,null,null,null,"1900-01-01",1,"1900-01-01",1]
[null,"1900-01-01",null,0,null,null,null,null,null,null,null,null,null,null,null,null,null,null,null,null,null,null,null,null,null,null,null,null,null,null,null,null,null,null,null,null,null,null,null,null,null,null,null,null,null,0,null,null,{"$f":"'Apt-Elec'!B53","v":"1900-01-01"},{"$f":"'Apt-Elec'!C53","v":"00:00:00"},0,{"$f":"'Apt-Elec'!PT53","v":0},null,0,null,null,null,null,null,null,"1900-01-01",1,"1900-01-01",1]
[null,null,{"$f":"IF(ABS(D50-365)>4,\"Must have 365 ± 4 days.\",\"\")","v":"Must have 365 ± 4 days."},{"$f":"SUM(D35:D49)","v":0},null,{"$f":"SUM(F34:F49)","v":0},null,{"$f":"SUM(H34:H49)","v":0},null,{"$f":"SUM(J34:J49)","v":0},null,{"$f":"SUM(L34:L49)","v":0},null,{"$f":"SUM(N34:N49)","v":0},null,{"$f":"SUM(P34:P49)","v":0},null,{"$f":"SUM(R34:R49)","v":0},null,{"$f":"SUM(T34:T49)","v":0},null,{"$f":"SUM(V34:V49)","v":0},null,{"$f":"SUM(X34:X49)","v":0},null,{"$f":"SUM(Z34:Z49)","v":0},null,{"$f":"SUM(AB34:AB49)","v":0},null,{"$f":"SUM(AD34:AD49)","v":0},null,{"$f":"SUM(AF34:AF49)","v":0},null,{"$f":"SUM(AH34:AH49)","v":0},null,{"$f":"SUM(AJ34:AJ49)","v":0},null,{"$f":"SUM(AL34:AL49)","v":0},null,{"$f":"SUM(AN34:AN49)","v":0},null,{"$f":"SUM(AP34:AP49)","v":0},null,{"$f":"SUM(AR34:AR49)","v":0},null,{"$f":"SUM(AT35:AT49)","v":0},{"$f":"SUM(AU35:AU49)","v":0},null,null,{"$f":"IF(ABS(AY50-365)>4,\"Must have 365 ± 4 days.\",\"\")","v":"Must have 365 ± 4 days."},{"$f":"SUM(AY35:AY49)","v":0},{"$f":"SUM(AZ35:AZ49)","v":0},null,{"$f":"SUM(BB35:BB49)","v":0}]
[null,{"$f":"IF(AW35=1,\"\",IF(ABS(B35-AW35)>15,\"The dates for the common area and apartment bills are out of synch. Please select start dates within 2 weeks of each other.\",\"\"))","v":""}]
[null,null,null,null,null,"Total Annual kWh Cost",null,"Total Annual kWh Cost",null,"Total Annual kWh Cost",null,"Total Annual kWh Cost",null,"Total Annual kWh Cost",null,"Total Annual kWh Cost",null,"Total Annual kWh Cost",null,"Total Annual kWh Cost",null,"Total Annual kWh Cost",null,"Total Annual kWh Cost",null,"Total Annual kWh Cost",null,"Total Annual kWh Cost",null,"Total Annual kWh Cost",null,"Total Annual kWh Cost",null,"Total Annual kWh Cost",null,"Total Annual kWh Cost",null,"Total Annual kWh Cost",null,"Total Annual kWh Cost",null,"Total Annual kWh Cost",null,"Total Annual kWh Cost",null,"Total Annual Common Area kWh Cost",null,null,null,null,null,"Total In-Unit Annual kWh Cost",null,"Total Annual kWh Cost"]
[null,null,null,null,null,null,null,null,null,null,null,null,null,null,null,null,null,null,null,null,null,null,null,null,null,null,null,null,null,null,null,null,null,null,null,null,null,null,null,null,null,null,null,null,null,{"$f":"SUM(F53:AS53)","v":0},null,null,null,null,null,{"$f":"IF(N('Apt-Elec'!$PT$57)=0,IF(N($AT$53)=0,0.15,$AT$53/$AT$50)*$AZ$50,'Apt-Elec'!$PT$57)","v":0},null,{"$f":"AT53+AZ53","v":0}]
[]
[null,null,null,null,null,"Building Area","Pre Construction Usage ","Post Construction Usage","Difference","% Difference"]
[null,null,null,null,null,"Common Area",{"$f":"AT25","v":0},{"$f":"AT50","v":0},{"$f":"H56-G56","v":0},{"$f":"IF(G56>0,I56/G56,\"\")","v":""}]
[null,null,null,null,null,"In-Unit",{"$f":"AZ25","v":0},{"$f":"AZ50","v":0},{"$f":"H57-G57","v":0},{"$f":"IF(G57>0,I57/G57,\"\")","v":""}]
[]
[]
[null,"Notes:"]

{"sheet":"Apt-Elec","index":4,"n_rows":80,"n_cols":436,"rows_kept":80,"cut":false,"hidden":true,"merged":[[56,417,56,418],[56,419,56,420],[56,421,56,422],[58,22,58,38],[58,425,58,435],[59,1,63,3],[56,405,56,406],[56,407,56,408],[56,409,56,410],[56,411,56,412],[56,413,56,414],[56,415,56,416],[56,393,56,394],[56,395,56,396],[56,397,56,398],[56,399,56,400],[56,401,56,402],[56,403,56,404],[56,379,56,380],[56,383,56,384],[56,385,56,386],[56,387,56,388],[56,389,56,390],[56,391,56,392],[56,367,56,368],[56,369,56,370],[56,371,56,372],[56,373,56,374],[56,375,56,376],[56,377,56,378],[56,355,56,356],[56,357,56,358],[56,359,56,360],[56,361,56,362],[56,363,56,364],[56,365,56,366],[56,343,56,344],[56,345,56,346],[56,347,56,348],[56,349,56,350],[56,351,56,352],[56,353,56,354],[56,329,56,330],[56,331,56,332],[56,333,56,334],[56,335,56,336],[56,337,56,338],[56,341,56,342],[56,317,56,318],[56,319,56,320],[56,321,56,322],[56,323,56,324],[56,325,56,326],[56,327,56,328],[56,305,56,306],[56,307,56,308],[56,309,56,310],[56,311,56,312],[56,313,56,314],[56,315,56,316],[56,291,56,292],[56,293,56,294],[56,295,56,296],[56,299,56,300],[56,301,56,302],[56,303,56,304],[56,279,56,280],[56,281,56,282],[56,283,56,284],[56,285,56,286],[56,287,56,288],[56,289,56,290],[56,267,56,268],[56,269,56,270],[56,271,56,272],[56,273,56,274],[56,275,56,276],[56,277,56,278],[56,253,56,254],[56,257,56,258],[56,259,56,260],[56,261,56,262],[56,263,56,264],[56,265,56,266],[56,241,56,242],[56,243,56,244],[56,245,56,246],[56,247,56,248],[56,249,56,250],[56,251,56,252],[56,229,56,230],[56,231,56,232],[56,233,56,234],[56,235,56,236],[56,237,56,238],[56,239,56,240],[56,217,56,218],[56,219,56,220],[56,221,56,222],[56,223,56,224],[56,225,56,226],[56,227,56,228],[56,203,56,204],[56,205,56,206],[56,207,56,208],[56,209,56,210],[56,211,56,212],[56,215,56,216],[56,191,56,192],[56,193,56,194],[56,195,56,196],[56,197,56,198],[56,199,56,200],[56,201,56,202],[56,179,56,180],[56,181,56,182],[56,183,56,184],[56,185,56,186],[56,187,56,188],[56,189,56,190],[56,165,56,166],[56,167,56,168],[56,169,56,170],[56,173,56,174],[56,175,56,176],[56,177,56,178],[56,153,56,154],[56,155,56,156],[56,157,56,158],[56,159,56,160],[56,161,56,162],[56,163,56,164],[56,141,56,142],[56,143,56,144],[56,145,56,146],[56,147,56,148],[56,149,56,150],[56,151,56,152],[56,127,56,128],[56,131,56,132],[56,133,56,134],[56,135,56,136],[56,137,56,138],[56,139,56,140],[56,115,56,116],[56,117,56,118],[56,119,56,120],[56,121,56,122],[56,123,56,124],[56,125,56,126],[56,103,56,104],[56,105,56,106],[56,107,56,108],[56,109,56,110],[56,111,56,112],[56,113,56,114],[56,91,56,92],[56,93,56,94],[56,95,56,96],[56,97,56,98],[56,99,56,100],[56,101,56,102],[56,77,56,78],[56,79,56,80],[56,81,56,82],[56,83,56,84],[56,85,56,86],[56,89,56,90],[56,65,56,66],[56,67,56,68],[56,69,56,70],[56,71,56,72],[56,73,56,74],[56,75,56,76],[56,53,56,54],[56,55,56,56],[56,57,56,58],[56,59,56,60],[56,61,56,62],[56,63,56,64],[56,39,56,40],[56,41,56,42],[56,43,56,44],[56,47,56,48],[56,49,56,50],[56,51,56,52],[56,27,56,28],[56,29,56,30],[56,31,56,32],[56,33,56,34],[56,35,56,36],[56,37,56,38],[56,15,56,16],[56,17,56,18],[56,19,56,20],[56,21,56,22],[56,23,56,24],[56,25,56,26],[55,413,55,414],[55,415,55,416],[55,417,55,418],[55,419,55,420],[55,421,55,422],[56,5,56,6],[56,7,56,8],[56,9,56,10],[56,11,56,12],[56,13,56,14],[55,401,55,402],[55,403,55,404],[55,405,55,406],[55,407,55,408],[55,409,55,410],[55,411,55,412],[55,389,55,390],[55,391,55,392],[55,393,55,394],[55,395,55,396],[55,397,55,398],[55,399,55,400],[55,375,55,376],[55,377,55,378],[55,379,55,380],[55,383,55,384],[55,385,55,386],[55,387,55,388],[55,363,55,364],[55,365,55,366],[55,367,55,368],[55,369,55,370],[55,371,55,372],[55,373,55,374],[55,351,55,352],[55,353,55,354],[55,355,55,356],[55,357,55,358],[55,359,55,360],[55,361,55,362],[55,337,55,338],[55,341,55,342],[55,343,55,344],[55,345,55,346],[55,347,55,348],[55,349,55,350],[55,325,55,326],[55,327,55,328],[55,329,55,330],[55,331,55,332],[55,333,55,334],[55,335,55,336],[55,313,55,314],[55,315,55,316],[55,317,55,318],[55,319,55,320],[55,321,55,322],[55,323,55,324],[55,301,55,302],[55,303,55,304],[55,305,55,306],[55,307,55,308],[55,309,55,310],[55,311,55,312],[55,287,55,288],[55,289,55,290],[55,291,55,292],[55,293,55,294],[55,295,55,296],[55,299,55,300],[55,275,55,276],[55,277,55,278],[55,279,55,280],[55,281,55,282],[55,283,55,284],[55,285,55,286],[55,263,55,264],[55,265,55,266],[55,267,55,268],[55,269,55,270],[55,271,55,272],[55,273,55,274],[55,249,55,250],[55,251,55,252],[55,253,55,254],[55,257,55,258],[55,259,55,260],[55,261,55,262],[55,237,55,238],[55,239,55,240],[55,241,55,242],[55,243,55,244],[55,245,55,246],[55,247,55,248],[55,225,55,226],[55,227,55,228],[55,229,55,230],[55,231,55,232],[55,233,55,234],[55,235,55,236],[55,211,55,212],[55,215,55,216],[55,217,55,218],[55,219,55,220],[55,221,55,222],[55,223,55,224],[55,199,55,200],[55,201,55,202],[55,203,55,204],[55,205,55,206],[55,207,55,208],[55,209,55,210],[55,187,55,188],[55,189,55,190],[55,191,55,192],[55,193,55,194],[55,195,55,196],[55,197,55,198],[55,175,55,176],[55,177,55,178],[55,179,55,180],[55,181,55,182],[55,183,55,184],[55,185,55,186],[55,161,55,162],[55,163,55,164],[55,165,55,166],[55,167,55,168],[55,169,55,170],[55,173,55,174],[55,149,55,150],[55,151,55,152],[55,153,55,154],[55,155,55,156],[55,157,55,158],[55,159,55,160],[55,137,55,138],[55,139,55,140],[55,141,55,142],[55,143,55,144],[55,145,55,146],[55,147,55,148],[55,123,55,124],[55,125,55,126],[55,127,55,128],[55,131,55,132],[55,133,55,134],[55,135,55,136],[55,111,55,112],[55,113,55,114],[55,115,55,116],[55,117,55,118],[55,119,55,120],[55,121,55,122],[55,99,55,100],[55,101,55,102],[55,103,55,104],[55,105,55,106],[55,107,55,108],[55,109,55,110],[55,85,55,86],[55,89,55,90],[55,91,55,92],[55,93,55,94],[55,95,55,96],[55,97,55,98],[55,73,55,74],[55,75,55,76],[55,77,55,78],[55,79,55,80],[55,81,55,82],[55,83,55,84],[55,61,55,62],[55,63,55,64],[55,65,55,66],[55,67,55,68],[55,69,55,70],[55,71,55,72],[55,49,55,50],[55,51,55,52],[55,53,55,54],[55,55,55,56],[55,57,55,58],[55,59,55,60],[55,35,55,36],[55,37,55,38],[55,39,55,40],[55,41,55,42],[55,43,55,44],[55,47,55,48],[55,23,55,24],[55,25,55,26],[55,27,55,28],[55,29,55,30],[55,31,55,32],[55,33,55,34],[53,421,53,422],[55,5,55,6],[55,7,55,8],[55,9,55,10],[55,11,55,12],[55,13,55,14],[55,15,55,16],[55,17,55,18],[55,19,55,20],[55,21,55,22],[53,409,53,410],[53,411,53,412],[53,413,53,414],[53,415,53,416],[53,417,53,418],[53,419,53,420],[53,397,53,398],[53,399,53,400],[53,401,53,402],[53,403,53,404],[53,405,53,406],[53,407,53,408],[53,385,53,386],[53,387,53,388],[53,389,53,390],[53,391,53,392],[53,393,53,394],[53,395,53,396],[53,371,53,372],[53,373,53,374],[53,375,53,376],[53,377,53,378],[53,379,53,380],[53,383,53,384],[53,359,53,360],[53,361,53,362],[53,363,53,364],[53,365,53,366],[53,367,53,368],[53,369,53,370],[53,347,53,348],[53,349,53,350],[53,351,53,352],[53,353,53,354],[53,355,53,356],[53,357,53,358],[53,333,53,334],[53,335,53,336],[53,337,53,338],[53,341,53,342],[53,343,53,344],[53,345,53,346],[53,321,53,322],[53,323,53,324],[53,325,53,326],[53,327,53,328],[53,329,53,330],[53,331,53,332],[53,309,53,310],[53,311,53,312],[53,313,53,314],[53,315,53,316],[53,317,53,318],[53,319,53,320],[53,295,53,296],[53,299,53,300],[53,301,53,302],[53,303,53,304],[53,305,53,306],[53,307,53,308],[53,283,53,284],[53,285,53,286],[53,287,53,288],[53,289,53,290],[53,291,53,292],[53,293,53,294],[53,271,53,272],[53,273,53,274],[53,275,53,276],[53,277,53,278],[53,279,53,280],[53,281,53,282],[53,259,53,260],[53,261,53,262],[53,263,53,264],[53,265,53,266],[53,267,53,268],[53,269,53,270],[53,245,53,246],[53,247,53,248],[53,249,53,250],[53,251,53,252],[53,253,53,254],[53,257,53,258],[53,233,53,234],[53,235,53,236],[53,237,53,238],[53,239,53,240],[53,241,53,242],[53,243,53,244],[53,221,53,222],[53,223,53,224],[53,225,53,226],[53,227,53,228],[53,229,53,230],[53,231,53,232],[53,207,53,208],[53,209,53,210],[53,211,53,212],[53,215,53,216],[53,217,53,218],[53,219,53,220],[53,195,53,196],[53,197,53,198],[53,199,53,200],[53,201,53,202],[53,203,53,204],[53,205,53,206],[53,183,53,184],[53,185,53,186],[53,187,53,188],[53,189,53,190],[53,191,53,192],[53,193,53,194],[53,169,53,170],[53,173,53,174],[53,175,53,176],[53,177,53,178],[53,179,53,180],[53,181,53,182],[53,157,53,158],[53,159,53,160],[53,161,53,162],[53,163,53,164],[53,165,53,166],[53,167,53,168],[53,145,53,146],[53,147,53,148],[53,149,53,150],[53,151,53,152],[53,153,53,154],[53,155,53,156],[53,133,53,134],[53,135,53,136],[53,137,53,138],[53,139,53,140],[53,141,53,142],[53,143,53,144],[53,119,53,120],[53,121,53,122],[53,123,53,124],[53,125,53,126],[53,127,53,128],[53,131,53,132],[53,107,53,108],[53,109,53,110],[53,111,53,112],[53,113,53,114],[53,115,53,116],[53,117,53,118],[53,95,53,96],[53,97,53,98],[53,99,53,100],[53,101,53,102],[53,103,53,104],[53,105,53,106],[53,81,53,82],[53,83,53,84],[53,85,53,86],[53,89,53,90],[53,91,53,92],[53,93,53,94],[53,69,53,70],[53,71,53,72],[53,73,53,74],[53,75,53,76],[53,77,53,78],[53,79,53,80],[53,57,53,58],[53,59,53,60],[53,61,53,62],[53,63,53,64],[53,65,53,66],[53,67,53,68],[53,43,53,44],[53,47,53,48],[53,49,53,50],[53,51,53,52],[53,53,53,54],[53,55,53,56],[53,31,53,32],[53,33,53,34],[53,35,53,36],[53,37,53,38],[53,39,53,40],[53,41,53,42],[53,19,53,20],[53,21,53,22],[53,23,53,24],[53,25,53,26],[53,27,53,28],[53,29,53,30],[35,417,35,418],[35,419,35,420],[35,421,35,422],[53,5,53,6],[53,7,53,8],[53,9,53,10],[53,11,53,12],[53,13,53,14],[53,15,53,16],[53,17,53,18],[35,405,35,406],[35,407,35,408],[35,409,35,410],[35,411,35,412],[35,413,35,414],[35,415,35,416],[35,393,35,394],[35,395,35,396],[35,397,35,398],[35,399,35,400],[35,401,35,402],[35,403,35,404],[35,379,35,380],[35,383,35,384],[35,385,35,386],[35,387,35,388],[35,389,35,390],[35,391,35,392],[35,367,35,368],[35,369,35,370],[35,371,35,372],[35,373,35,374],[35,375,35,376],[35,377,35,378],[35,355,35,356],[35,357,35,358],[35,359,35,360],[35,361,35,362],[35,363,35,364],[35,365,35,366],[35,343,35,344],[35,345,35,346],[35,347,35,348],[35,349,35,350],[35,351,35,352],[35,353,35,354],[35,329,35,330],[35,331,35,332],[35,333,35,334],[35,335,35,336],[35,337,35,338],[35,341,35,342],[35,317,35,318],[35,319,35,320],[35,321,35,322],[35,323,35,324],[35,325,35,326],[35,327,35,328],[35,305,35,306],[35,307,35,308],[35,309,35,310],[35,311,35,312],[35,313,35,314],[35,315,35,316],[35,291,35,292],[35,293,35,294],[35,295,35,296],[35,299,35,300],[35,301,35,302],[35,303,35,304],[35,279,35,280],[35,281,35,282],[35,283,35,284],[35,285,35,286],[35,287,35,288],[35,289,35,290],[35,267,35,268],[35,269,35,270],[35,271,35,272],[35,273,35,274],[35,275,35,276],[35,277,35,278],[35,253,35,254],[35,257,35,258],[35,259,35,260],[35,261,35,262],[35,263,35,264],[35,265,35,266],[35,241,35,242],[35,243,35,244],[35,245,35,246],[35,247,35,248],[35,249,35,250],[35,251,35,252],[35,229,35,230],[35,231,35,232],[35,233,35,234],[35,235,35,236],[35,237,35,238],[35,239,35,240],[35,217,35,218],[35,219,35,220],[35,221,35,222],[35,223,35,224],[35,225,35,226],[35,227,35,228],[35,203,35,204],[35,205,35,206],[35,207,35,208],[35,209,35,210],[35,211,35,212],[35,215,35,216],[35,191,35,192],[35,193,35,194],[35,195,35,196],[35,197,35,198],[35,199,35,200],[35,201,35,202],[35,115,35,116],[35,117,35,118],[35,119,35,120],[35,121,35,122],[35,123,35,124],[35,125,35,126],[35,179,35,180],[35,181,35,182],[35,183,35,184],[35,185,35,186],[35,187,35,188],[35,189,35,190],[35,165,35,166],[35,167,35,168],[35,169,35,170],[35,173,35,174],[35,175,35,176],[35,177,35,178],[35,153,35,154],[35,155,35,156],[35,157,35,158],[35,159,35,160],[35,161,35,162],[35,163,35,164],[33,401,33,402],[33,403,33,404],[33,405,33,406],[33,407,33,408],[33,409,33,410],[33,411,33,412],[33,389,33,390],[33,391,33,392],[35,91,35,92],[35,93,35,94],[35,95,35,96],[35,97,35,98],[35,99,35,100],[35,101,35,102],[35,77,35,78],[35,79,35,80],[35,81,35,82],[35,83,35,84],[35,85,35,86],[35,89,35,90],[35,141,35,142],[35,143,35,144],[35,145,35,146],[35,147,35,148],[35,149,35,150],[35,151,35,152],[35,127,35,128],[35,131,35,132],[35,133,35,134],[35,135,35,136],[35,137,35,138],[35,139,35,140],[35,75,35,76],[35,53,35,54],[35,55,35,56],[35,57,35,58],[35,59,35,60],[35,61,35,62],[33,263,33,264],[33,265,33,266],[33,267,33,268],[33,269,33,270],[33,413,33,414],[33,415,33,416],[33,417,33,418],[33,419,33,420],[33,421,33,422],[33,299,33,300],[33,371,33,372],[33,373,33,374],[33,351,33,352],[33,353,33,354],[33,355,33,356],[33,357,33,358],[33,359,33,360],[33,361,33,362],[33,337,33,338],[33,341,33,342],[33,343,33,344],[33,345,33,346],[33,347,33,348],[33,349,33,350],[33,363,33,364],[33,365,33,366],[35,27,35,28],[35,29,35,30],[35,31,35,32],[35,33,35,34],[35,35,35,36],[35,37,35,38],[35,15,35,16],[35,17,35,18],[35,19,35,20],[35,21,35,22],[35,23,35,24],[35,25,35,26],[35,65,35,66],[35,67,35,68],[35,69,35,70],[35,71,35,72],[35,73,35,74],[33,259,33,260],[33,261,33,262],[33,237,33,238],[33,239,33,240],[33,241,33,242],[33,243,33,244],[33,245,33,246],[33,247,33,248],[33,393,33,394],[33,395,33,396],[33,397,33,398],[33,399,33,400],[33,375,33,376],[33,377,33,378],[33,379,33,380],[33,383,33,384],[33,385,33,386],[33,387,33,388],[33,333,33,334],[33,335,33,336],[33,275,33,276],[33,277,33,278],[33,279,33,280],[33,281,33,282],[33,283,33,284],[33,285,33,286],[33,287,33,288],[33,289,33,290],[33,291,33,292],[33,293,33,294],[33,295,33,296],[33,367,33,368],[33,173,33,174],[33,149,33,150],[33,151,33,152],[33,153,33,154],[33,155,33,156],[33,157,33,158],[33,159,33,160],[33,205,33,206],[33,207,33,208],[33,209,33,210],[33,271,33,272],[33,273,33,274],[35,5,35,6],[35,7,35,8],[35,9,35,10],[35,11,35,12],[35,13,35,14],[35,63,35,64],[35,39,35,40],[35,41,35,42],[35,43,35,44],[35,47,35,48],[35,49,35,50],[35,51,35,52],[35,103,35,104],[35,105,35,106],[35,107,35,108],[35,109,35,110],[35,111,35,112],[35,113,35,114],[33,249,33,250],[33,251,33,252],[33,187,33,188],[33,189,33,190],[33,191,33,192],[33,193,33,194],[33,195,33,196],[33,197,33,198],[33,175,33,176],[33,177,33,178],[33,179,33,180],[33,181,33,182],[33,183,33,184],[33,185,33,186],[33,225,33,226],[33,227,33,228],[33,229,33,230],[33,231,33,232],[33,233,33,234],[33,211,33,212],[33,215,33,216],[33,217,33,218],[33,219,33,220],[33,221,33,222],[33,223,33,224],[33,127,33,128],[33,131,33,132],[33,133,33,134],[33,135,33,136],[33,111,33,112],[33,113,33,114],[33,115,33,116],[33,117,33,118],[33,119,33,120],[33,121,33,122],[33,99,33,100],[33,101,33,102],[33,103,33,104],[33,105,33,106],[33,107,33,108],[33,109,33,110],[33,161,33,162],[33,137,33,138],[33,139,33,140],[33,141,33,142],[33,143,33,144],[33,145,33,146],[33,147,33,148],[33,35,33,36],[33,37,33,38],[33,39,33,40],[33,41,33,42],[33,43,33,44],[33,47,33,48],[33,23,33,24],[33,25,33,26],[33,27,33,28],[33,29,33,30],[33,31,33,32],[33,33,33,34],[33,85,33,86],[33,89,33,90],[33,91,33,92],[33,93,33,94],[33,95,33,96],[33,73,33,74],[33,75,33,76],[33,77,33,78],[33,79,33,80],[33,81,33,82],[33,83,33,84],[33,61,33,62],[33,63,33,64],[33,65,33,66],[33,67,33,68],[33,69,33,70],[33,71,33,72],[32,423,35,423],[33,5,33,6],[33,7,33,8],[33,9,33,10],[33,11,33,12],[33,13,33,14],[33,15,33,16],[33,17,33,18],[33,19,33,20],[33,21,33,22],[31,425,33,435],[32,45,35,45],[32,87,35,87],[32,129,35,129],[32,171,35,171],[32,213,35,213],[32,255,35,255],[32,297,35,297],[32,339,35,339],[32,381,35,381],[31,173,31,213],[31,215,31,255],[31,257,31,297],[31,299,31,339],[31,341,31,381],[31,383,31,423],[32,5,32,6],[34,5,34,6],[32,7,32,8],[32,9,32,10],[32,11,32,12],[32,13,32,14],[29,413,29,414],[29,415,29,416],[29,417,29,418],[29,419,29,420],[29,421,29,422],[31,1,35,3],[31,5,31,45],[31,47,31,87],[31,89,31,129],[31,131,31,171]],"merged_total":2859,"flags":["merged_cut"]}
[null,"Electric Utility Data - Apartment Meters"]
[null,"Instructions"]
[null,"1) Enter data for pre-construction apartment-level energy use. First cell must not be blank. For months with zero consumption, please leave cell blank. \n2) Unhide columns (OD-PI) if there are more than 10 units sampled for a given unit type. You may hide columns that are not needed, do not delete them.\n3) Post-Construction data will be filled in one year after construction has been completed.\n4) Please use the \"Notes\" field below the data entry section of this tab to explain unusual circumstances, any anomalies in the data, or adjustments made.\n\n"]
[]
[null,"Pre-Construction In-Unit Billing Dates",null,null,null,{"$f":"CONCATENATE('Utility Info'!B47,\" - \",'Utility Info'!C47)","v":"Unit Type 1 - "},null,null,null,null,null,null,null,null,null,null,null,null,null,null,null,null,null,null,null,null,null,null,null,null,null,null,null,null,null,null,null,null,null,null,null,null,null,null,null,null,null,{"$f":"CONCATENATE('Utility Info'!B48,\" - \",'Utility Info'!C48)","v":"Unit Type 2 - "},null,null,null,null,null,null,null,null,null,null,null,null,null,null,null,null,null,null,null,null,null,null,null,null,null,null,null,null,null,null,null,null,null,null,null,null,null,null,null,null,null,{"$f":"CONCATENATE('Utility Info'!B49,\" - \",'Utility Info'!C49)","v":"Unit Type 3 - "},null,null,null,null,null,null,null,null,null,null,null,null,null,null,null,null,null,null,null,null,null,null,null,null,null,null,null,null,null,null,null,null,null,null,null,null,null,null,null,null,null,{"$f":"CONCATENATE('Utility Info'!B50,\" - \",'Utility Info'!C50)","v":"Unit Type 4 - "},null,null,null,null,null,null,null,null,null,null,null,null,null,null,null,null,null,null,null,null,null,null,null,null,null,null,null,null,null,null,null,null,null,null,null,null,null,null,null,null,null,{"$f":"CONCATENATE('Utility Info'!B51,\" - \",'Utility Info'!C51)","v":"Unit Type 5 - "},null,null,null,null,null,null,null,null,null,null,null,null,null,null,null,null,null,null,null,null,null,null,null,null,null,null,null,null,null,null,null,null,null,null,null,null,null,null,null,null,null,{"$f":"CONCATENATE('Utility Info'!B52,\" - \",'Utility Info'!C52)","v":"Unit Type 6 - "},null,null,null,null,null,null,null,null,null,null,null,null,null,null,null,null,null,null,null,null,null,null,null,null,null,null,null,null,null,null,null,null,null,null,null,null,null,null,null,null,null,{"$f":"CONCATENATE('Utility Info'!B53,\" - \",'Utility Info'!C53)","v":"Unit Type 7 - "},null,null,null,null,null,null,null,null,null,null,null,null,null,null,null,null,null,null,null,null,null,null,null,null,null,null,null,null,null,null,null,null,null,null,null,null,null,null,null,null,null,{"$f":"CONCATENATE('Utility Info'!B54,\" - \",'Utility Info'!C54)","v":"Unit Type 8 - "},null,null,null,null,null,null,null,null,null,null,null,null,null,null,null,null,null,null,null,null,null,null,null,null,null,null,null,null,null,null,null,null,null,null,null,null,null,null,null,null,null,{"$f":"CONCATENATE('Utility Info'!B55,\" - \",'Utility Info'!C55)","v":"Unit Type 9 - "},null,null,null,null,null,null,null,null,null,null,null,null,null,null,null,null,null,null,null,null,null,null,null,null,null,null,null,null,null,null,null,null,null,null,null,null,null,null,null,null,null,{"$f":"CONCATENATE('Utility Info'!B56,\" - \",'Utility Info'!C56)","v":"Unit Type 10 - "},null,null,null,null,null,null,null,null,null,null,null,null,null,null,null,null,null,null,null,null,null,null,null,null,null,null,null,null,null,null,null,null,null,null,null,null,null,null,null,null,null,"PRE-CONSTRUCTION\nSummary of In-Unit Electricity Use"]
[null,null,null,null,null,"Unit #:",null,"Unit #:",null,"Unit #:",null,"Unit #:",null,"Unit #:",null,"Unit #:",null,"Unit #:",null,"Unit #:",null,"Unit #:",null,"Unit #:",null,"Unit #:",null,"Unit #:",null,"Unit #:",null,"Unit #:",null,"Unit #:",null,"Unit #:",null,"Unit #:",null,"Unit #:",null,"Unit #:",null,"Unit #:",null,"SUMMARY",null,"Unit #:",null,"Unit #:",null,"Unit #:",null,"Unit #:",null,"Unit #:",null,"Unit #:",null,"Unit #:",null,"Unit #:",null,"Unit #:",null,"Unit #:",null,"Unit #:",null,"Unit #:",null,"Unit #:",null,"Unit #:",null,"Unit #:",null,"Unit #:",null,"Unit #:",null,"Unit #:",null,"Unit #:",null,"Unit #:",null,"SUMMARY",null,"Unit #:",null,"Unit #:",null,"Unit #:",null,"Unit #:",null,"Unit #:",null,"Unit #:",null,"Unit #:",null,"Unit #:",null,"Unit #:",null,"Unit #:",null,"Unit #:",null,"Unit #:",null,"Unit #:",null,"Unit #:",null,"Unit #:",null,"Unit #:",null,"Unit #:",null,"Unit #:",null,"Unit #:",null,"Unit #:",null,"SUMMARY",null,"Unit #:",null,"Unit #:",null,"Unit #:",null,"Unit #:",null,"Unit #:",null,"Unit #:",null,"Unit #:",null,"Unit #:",null,"Unit #:",null,"Unit #:",null,"Unit #:",null,"Unit #:",null,"Unit #:",null,"Unit #:",null,"Unit #:",null,"Unit #:",null,"Unit #:",null,"Unit #:",null,"Unit #:",null,"Unit #:",null,"SUMMARY",null,"Unit #:",null,"Unit #:",null,"Unit #:",null,"Unit #:",null,"Unit #:",null,"Unit #:",null,"Unit #:",null,"Unit #:",null,"Unit #:",null,"Unit #:",null,"Unit #:",null,"Unit #:",null,"Unit #:",null,"Unit #:",null,"Unit #:",null,"Unit #:",null,"Unit #:",null,"Unit #:",null,"Unit #:",null,"Unit #:",null,"SUMMARY",null,"Unit #:",null,"Unit #:",null,"Unit #:",null,"Unit #:",null,"Unit #:",null,"Unit #:",null,"Unit #:",null,"Unit #:",null,"Unit #:",null,"Unit #:",null,"Unit #:",null,"Unit #:",null,"Unit #:",null,"Unit #:",null,"Unit #:",null,"Unit #:",null,"Unit #:",null,"Unit #:",null,"Unit #:",null,"Unit #:",null,"SUMMARY",null,"Unit #:",null,"Unit #:",null,"Unit #:",null,"Unit #:",null,"Unit #:",null,"Unit #:",null,"Unit #:",null,"Unit #:",null,"Unit #:",null,"Unit #:",null,"Unit #:",null,"Unit #:",null,"Unit #:",null,"Unit #:",null,"Unit #:",null,"Unit #:",null,"Unit #:",null,"Unit #:",null,"Unit #:",null,"Unit #:",null,"SUMMARY",null,"Unit #:",null,"Unit #:",null,"Unit #:",null,"Unit #:",null,"Unit #:",null,"Unit #:",null,"Unit #:",null,"Unit #:",null,"Unit #:",null,"Unit #:",null,"Unit #:",null,"Unit #:",null,"Unit #:",null,"Unit #:",null,"Unit #:",null,"Unit #:",null,"Unit #:",null,"Unit #:",null,"Unit #:",null,"Unit #:",null,"SUMMARY",null,"Unit #:",null,"Unit #:",null,"Unit #:",null,"Unit #:",null,"Unit #:",null,"Unit #:",null,"Unit #:",null,"Unit #:",null,"Unit #:",null,"Unit #:",null,"Unit #:",null,"Unit #:",null,"Unit #:",null,"Unit #:",null,"Unit #:",null,"Unit #:",null,"Unit #:",null,"Unit #:",null,"Unit #:",null,"Unit #:",null,"SUMMARY",null,"Unit #:",null,"Unit #:",null,"Unit #:",null,"Unit #:",null,"Unit #:",null,"Unit #:",null,"Unit #:",null,"Unit #:",null,"Unit #:",null,"Unit #:",null,"Unit #:",null,"Unit #:",null,"Unit #:",null,"Unit #:",null,"Unit #:",null,"Unit #:",null,"Unit #:",null,"Unit #:",null,"Unit #:",null,"Unit #:",null,"SUMMARY"]
[]
[null,null,null,null,null,"Account #:",null,"Account #:",null,"Account #:",null,"Account #:",null,"Account #:",null,"Account #:",null,"Account #:",null,"Account #:",null,"Account #:",null,"Account #:",null,"Account #:",null,"Account #:",null,"Account #:",null,"Account #:",null,"Account #:",null,"Account #:",null,"Account #:",null,"Account #:",null,"Account #:",null,"Account #:",null,null,null,"Account #:",null,"Account #:",null,"Account #:",null,"Account #:",null,"Account #:",null,"Account #:",null,"Account #:",null,"Account #:",null,"Account #:",null,"Account #:",null,"Account #:",null,"Account #:",null,"Account #:",null,"Account #:",null,"Account #:",null,"Account #:",null,"Account #:",null,"Account #:",null,"Account #:",null,"Account #:",null,null,null,"Account #:",null,"Account #:",null,"Account #:",null,"Account #:",null,"Account #:",null,"Account #:",null,"Account #:",null,"Account #:",null,"Account #:",null,"Account #:",null,"Account #:",null,"Account #:",null,"Account #:",null,"Account #:",null,"Account #:",null,"Account #:",null,"Account #:",null,"Account #:",null,"Account #:",null,"Account #:",null,null,null,"Account #:",null,"Account #:",null,"Account #:",null,"Account #:",null,"Account #:",null,"Account #:",null,"Account #:",null,"Account #:",null,"Account #:",null,"Account #:",null,"Account #:",null,"Account #:",null,"Account #:",null,"Account #:",null,"Account #:",null,"Account #:",null,"Account #:",null,"Account #:",null,"Account #:",null,"Account #:",null,null,null,"Account #:",null,"Account #:",null,"Account #:",null,"Account #:",null,"Account #:",null,"Account #:",null,"Account #:",null,"Account #:",null,"Account #:",null,"Account #:",null,"Account #:",null,"Account #:",null,"Account #:",null,"Account #:",null,"Account #:",null,"Account #:",null,"Account #:",null,"Account #:",null,"Account #:",null,"Account #:",null,null,null,"Account #:",null,"Account #:",null,"Account #:",null,"Account #:",null,"Account #:",null,"Account #:",null,"Account #:",null,"Account #:",null,"Account #:",null,"Account #:",null,"Account #:",null,"Account #:",null,"Account #:",null,"Account #:",null,"Account #:",null,"Account #:",null,"Account #:",null,"Account #:",null,"Account #:",null,"Account #:",null,null,null,"Account #:",null,"Account #:",null,"Account #:",null,"Account #:",null,"Account #:",null,"Account #:",null,"Account #:",null,"Account #:",null,"Account #:",null,"Account #:",null,"Account #:",null,"Account #:",null,"Account #:",null,"Account #:",null,"Account #:",null,"Account #:",null,"Account #:",null,"Account #:",null,"Account #:",null,"Account #:",null,null,null,"Account #:",null,"Account #:",null,"Account #:",null,"Account #:",null,"Account #:",null,"Account #:",null,"Account #:",null,"Account #:",null,"Account #:",null,"Account #:",null,"Account #:",null,"Account #:",null,"Account #:",null,"Account #:",null,"Account #:",null,"Account #:",null,"Account #:",null,"Account #:",null,"Account #:",null,"Account #:",null,null,null,"Account #:",null,"Account #:",null,"Account #:",null,"Account #:",null,"Account #:",null,"Account #:",null,"Account #:",null,"Account #:",null,"Account #:",null,"Account #:",null,"Account #:",null,"Account #:",null,"Account #:",null,"Account #:",null,"Account #:",null,"Account #:",null,"Account #:",null,"Account #:",null,"Account #:",null,"Account #:",null,null,null,"Account #:",null,"Account #:",null,"Account #:",null,"Account #:",null,"Account #:",null,"Account #:",null,"Account #:",null,"Account #:",null,"Account #:",null,"Account #:",null,"Account #:",null,"Account #:",null,"Account #:",null,"Account #:",null,"Account #:",null,"Account #:",null,"Account #:",null,"Account #:",null,"Account #:",null,"Account #:",null,null,null,{"$f":"'Utility Info'!$D$47","v":0},{"$f":"'Utility Info'!$D$48","v":0},{"$f":"'Utility Info'!$D$49","v":0},{"$f":"'Utility Info'!$D$50","v":0},{"$f":"'Utility Info'!$D$51","v":0},{"$f":"'Utility Info'!$D$52","v":0},{"$f":"'Utility Info'!$D$53","v":0},{"$f":"'Utility Info'!$D$54","v":0},{"$f":"'Utility Info'!$D$55","v":0},{"$f":"'Utility Info'!$D$56","v":0}]
[null,null,null,null,null,null,null,null,null,null,null,null,null,null,null,null,null,null,null,null,null,null,null,null,null,null,null,null,null,null,null,null,null,null,null,null,null,null,null,null,null,null,null,null,null,null,null,null,null,null,null,null,null,null,null,null,null,null,null,null,null,null,null,null,null,null,null,null,null,null,null,null,null,null,null,null,null,null,null,null,null,null,null,null,null,null,null,null,null,null,null,null,null,null,null,null,null,null,null,null,null,null,null,null,null,null,null,null,null,null,null,null,null,null,null,null,null,null,null,null,null,null,null,null,null,null,null,null,null,null,null,null,null,null,null,null,null,null,null,null,null,null,null,null,null,null,null,null,null,null,null,null,null,null,null,null,null,null,null,null,null,null,null,null,null,null,null,null,null,null,null,null,null,null,null,null,null,null,null,null,null,null,null,null,null,null,null,null,null,null,null,null,null,null,null,null,null,null,null,null,null,null,null,null,null,null,null,null,null,null,null,null,null,null,null,null,null,null,null,null,null,null,null,null,null,null,null,null,null,null,null,null,null,null,null,null,null,null,null,null,null,null,null,null,null,null,null,null,null,null,null,null,null,null,null,null,null,null,null,null,null,null,null,null,null,null,null,null,null,null,null,null,null,null,null,null,null,null,null,null,null,null,null,null,null,null,null,null,null,null,null,null,null,null,null,null,null,null,null,null,null,null,null,null,null,null,null,null,null,null,null,null,null,null,null,null,null,null,null,null,null,null,null,null,null,null,null,null,null,null,null,null,null,null,null,null,null,null,null,null,null,null,null,null,null,null,null,null,null,null,null,null,null,null,null,null,null,null,null,null,null,null,null,null,null,null,null,null,null,null,null,null,null,null,null,null,null,null,null,null,null,null,null,null,null,null,null,null,null,null,null,null,null,null,null,null,null,null,null,null,null,null,null,null,null,null,null,null,null,null,null,null,null,null,null,null,null,null,null,null,null,null,null,null,null,{"$f":"'Utility Info'!B47","v":"Unit Type 1"},{"$f":"'Utility Info'!B48","v":"Unit Type 2"},{"$f":"'Utility Info'!B49","v":"Unit Type 3"},{"$f":"'Utility Info'!B50","v":"Unit Type 4"},{"$f":"'Utility Info'!B51","v":"Unit Type 5"},{"$f":"'Utility Info'!B52","v":"Unit Type 6"},{"$f":"'Utility Info'!B53","v":"Unit Type 7"},{"$f":"'Utility Info'!B54","v":"Unit Type 8"},{"$f":"'Utility Info'!B55","v":"Unit Type 9"},{"$f":"'Utility Info'!B56","v":"Unit Type 10"},"SUMMARY"]
[null,"Billing Period Start Date","Read Date","Days in Billing Period",null,"kWh","Actual/ Estimated","kWh","Actual/ Estimated","kWh","Actual/ Estimated","kWh","Actual/ Estimated","kWh","Actual/ Estimated","kWh","Actual/ Estimated","kWh","Actual/ Estimated","kWh","Actual/ Estimated","kWh","Actual/ Estimated","kWh","Actual/ Estimated","kWh","Actual/ Estimated","kWh","Actual/ Estimated","kWh","Actual/ Estimated","kWh","Actual/ Estimated","kWh","Actual/ Estimated","kWh","Actual/ Estimated","kWh","Actual/ Estimated","kWh","Actual/ Estimated","kWh","Actual/ Estimated","kWh","Actual/ Estimated","Average kWh Consumption",null,"kWh","Actual/ Estimated","kWh","Actual/ Estimated","kWh","Actual/ Estimated","kWh","Actual/ Estimated","kWh","Actual/ Estimated","kWh","Actual/ Estimated","kWh","Actual/ Estimated","kWh","Actual/ Estimated","kWh","Actual/ Estimated","kWh","Actual/ Estimated","kWh","Actual/ Estimated","kWh","Actual/ Estimated","kWh","Actual/ Estimated","kWh","Actual/ Estimated","kWh","Actual/ Estimated","kWh","Actual/ Estimated","kWh","Actual/ Estimated","kWh","Actual/ Estimated","kWh","Actual/ Estimated","kWh","Actual/ Estimated","Average kWh Consumption",null,"kWh","Actual/ Estimated","kWh","Actual/ Estimated","kWh","Actual/ Estimated","kWh","Actual/ Estimated","kWh","Actual/ Estimated","kWh","Actual/ Estimated","kWh","Actual/ Estimated","kWh","Actual/ Estimated","kWh","Actual/ Estimated","kWh","Actual/ Estimated","kWh","Actual/ Estimated","kWh","Actual/ Estimated","kWh","Actual/ Estimated","kWh","Actual/ Estimated","kWh","Actual/ Estimated","kWh","Actual/ Estimated","kWh","Actual/ Estimated","kWh","Actual/ Estimated","kWh","Actual/ Estimated","kWh","Actual/ Estimated","Average kWh Consumption",null,"kWh","Actual/ Estimated","kWh","Actual/ Estimated","kWh","Actual/ Estimated","kWh","Actual/ Estimated","kWh","Actual/ Estimated","kWh","Actual/ Estimated","kWh","Actual/ Estimated","kWh","Actual/ Estimated","kWh","Actual/ Estimated","kWh","Actual/ Estimated","kWh","Actual/ Estimated","kWh","Actual/ Estimated","kWh","Actual/ Estimated","kWh","Actual/ Estimated","kWh","Actual/ Estimated","kWh","Actual/ Estimated","kWh","Actual/ Estimated","kWh","Actual/ Estimated","kWh","Actual/ Estimated","kWh","Actual/ Estimated","Average kWh Consumption",null,"kWh","Actual/ Estimated","kWh","Actual/ Estimated","kWh","Actual/ Estimated","kWh","Actual/ Estimated","kWh","Actual/ Estimated","kWh","Actual/ Estimated","kWh","Actual/ Estimated","kWh","Actual/ Estimated","kWh","Actual/ Estimated","kWh","Actual/ Estimated","kWh","Actual/ Estimated","kWh","Actual/ Estimated","kWh","Actual/ Estimated","kWh","Actual/ Estimated","kWh","Actual/ Estimated","kWh","Actual/ Estimated","kWh","Actual/ Estimated","kWh","Actual/ Estimated","kWh","Actual/ Estimated","kWh","Actual/ Estimated","Average kWh Consumption",null,"kWh","Actual/ Estimated","kWh","Actual/ Estimated","kWh","Actual/ Estimated","kWh","Actual/ Estimated","kWh","Actual/ Estimated","kWh","Actual/ Estimated","kWh","Actual/ Estimated","kWh","Actual/ Estimated","kWh","Actual/ Estimated","kWh","Actual/ Estimated","kWh","Actual/ Estimated","kWh","Actual/ Estimated","kWh","Actual/ Estimated","kWh","Actual/ Estimated","kWh","Actual/ Estimated","kWh","Actual/ Estimated","kWh","Actual/ Estimated","kWh","Actual/ Estimated","kWh","Actual/ Estimated","kWh","Actual/ Estimated","Average kWh Consumption",null,"kWh","Actual/ Estimated","kWh","Actual/ Estimated","kWh","Actual/ Estimated","kWh","Actual/ Estimated","kWh","Actual/ Estimated","kWh","Actual/ Estimated","kWh","Actual/ Estimated","kWh","Actual/ Estimated","kWh","Actual/ Estimated","kWh","Actual/ Estimated","kWh","Actual/ Estimated","kWh","Actual/ Estimated","kWh","Actual/ Estimated","kWh","Actual/ Estimated","kWh","Actual/ Estimated","kWh","Actual/ Estimated","kWh","Actual/ Estimated","kWh","Actual/ Estimated","kWh","Actual/ Estimated","kWh","Actual/ Estimated","Average kWh Consumption",null,"kWh","Actual/ Estimated","kWh","Actual/ Estimated","kWh","Actual/ Estimated","kWh","Actual/ Estimated","kWh","Actual/ Estimated","kWh","Actual/ Estimated","kWh","Actual/ Estimated","kWh","Actual/ Estimated","kWh","Actual/ Estimated","kWh","Actual/ Estimated","kWh","Actual/ Estimated","kWh","Actual/ Estimated","kWh","Actual/ Estimated","kWh","Actual/ Estimated","kWh","Actual/ Estimated","kWh","Actual/ Estimated","kWh","Actual/ Estimated","kWh","Actual/ Estimated","kWh","Actual/ Estimated","kWh","Actual/ Estimated","Average kWh Consumption",null,"kWh","Actual/ Estimated","kWh","Actual/ Estimated","kWh","Actual/ Estimated","kWh","Actual/ Estimated","kWh","Actual/ Estimated","kWh","Actual/ Estimated","kWh","Actual/ Estimated","kWh","Actual/ Estimated","kWh","Actual/ Estimated","kWh","Actual/ Estimated","kWh","Actual/ Estimated","kWh","Actual/ Estimated","kWh","Actual/ Estimated","kWh","Actual/ Estimated","kWh","Actual/ Estimated","kWh","Actual/ Estimated","kWh","Actual/ Estimated","kWh","Actual/ Estimated","kWh","Actual/ Estimated","kWh","Actual/ Estimated","Average kWh Consumption",null,"kWh","Actual/ Estimated","kWh","Actual/ Estimated","kWh","Actual/ Estimated","kWh","Actual/ Estimated","kWh","Actual/ Estimated","kWh","Actual/ Estimated","kWh","Actual/ Estimated","kWh","Actual/ Estimated","kWh","Actual/ Estimated","kWh","Actual/ Estimated","kWh","Actual/ Estimated","kWh","Actual/ Estimated","kWh","Actual/ Estimated","kWh","Actual/ Estimated","kWh","Actual/ Estimated","kWh","Actual/ Estimated","kWh","Actual/ Estimated","kWh","Actual/ Estimated","kWh","Actual/ Estimated","kWh","Actual/ Estimated","Average kWh Consumption",null,"Average kWh Consumption","Average kWh Consumption","Average kWh Consumption","Average kWh Consumption","Average kWh Consumption","Average kWh Consumption","Average kWh Consumption","Average kWh Consumption","Average kWh Consumption","Average kWh Consumption","Total In-Unit kWh Consumption"]
[]
[null,{"$f":"C11+1","v":"1900-01-01"},null,{"$f":"IF(C12>0,C12+1-B12,0)","v":0},null,null,null,null,null,null,null,null,null,null,null,null,null,null,null,null,null,null,null,null,null,null,null,null,null,null,null,null,null,null,null,null,null,null,null,null,null,null,null,null,null,{"$f":"IF(ISBLANK(F12),\"\",AVERAGE(F12:AR12))","v":""},null,null,null,null,null,null,null,null,null,null,null,null,null,null,null,null,null,null,null,null,null,null,null,null,null,null,null,null,null,null,null,null,null,null,null,null,null,null,null,null,null,{"$f":"IF(ISBLANK(AV12),\"\",AVERAGE(AV12:CH12))","v":""},null,null,null,null,null,null,null,null,null,null,null,null,null,null,null,null,null,null,null,null,null,null,null,null,null,null,null,null,null,null,null,null,null,null,null,null,null,null,null,null,null,{"$f":"IF(ISBLANK(CL12),\"\",AVERAGE(CL12:DX12))","v":""},null,null,null,null,null,null,null,null,null,null,null,null,null,null,null,null,null,null,null,null,null,null,null,null,null,null,null,null,null,null,null,null,null,null,null,null,null,null,null,null,null,{"$f":"IF(ISBLANK(EB12),\"\",AVERAGE(EB12:FN12))","v":""},null,null,null,null,null,null,null,null,null,null,null,null,null,null,null,null,null,null,null,null,null,null,null,null,null,null,null,null,null,null,null,null,null,null,null,null,null,null,null,null,null,{"$f":"IF(ISBLANK(FR12),\"\",AVERAGE(FR12:HD12))","v":""},null,null,null,null,null,null,null,null,null,null,null,null,null,null,null,null,null,null,null,null,null,null,null,null,null,null,null,null,null,null,null,null,null,null,null,null,null,null,null,null,null,{"$f":"IF(ISBLANK(HH12),\"\",AVERAGE(HH12:IT12))","v":""},null,null,null,null,null,null,null,null,null,null,null,null,null,null,null,null,null,null,null,null,null,null,null,null,null,null,null,null,null,null,null,null,null,null,null,null,null,null,null,null,null,{"$f":"IF(ISBLANK(IX12),\"\",AVERAGE(IX12:KJ12))","v":""},null,null,null,null,null,null,null,null,null,null,null,null,null,null,null,null,null,null,null,null,null,null,null,null,null,null,null,null,null,null,null,null,null,null,null,null,null,null,null,null,null,{"$f":"IF(ISBLANK(KN12),\"\",AVERAGE(KN12:LZ12))","v":""},null,null,null,null,null,null,null,null,null,null,null,null,null,null,null,null,null,null,null,null,null,null,null,null,null,null,null,null,null,null,null,null,null,null,null,null,null,null,null,null,null,{"$f":"IF(ISBLANK(MD12),\"\",AVERAGE(MD12:NP12))","v":""},null,null,null,null,null,null,null,null,null,null,null,null,null,null,null,null,null,null,null,null,null,null,null,null,null,null,null,null,null,null,null,null,null,null,null,null,null,null,null,null,null,{"$f":"IF(ISBLANK(NT12),\"\",AVERAGE(NT12:PF12))","v":""},null,{"$f":"IF(AT12=\"\",0,AT12)","v":0},{"$f":"IF(CJ12=\"\",0,CJ12)","v":0},{"$f":"IF(DZ12=\"\",0,DZ12)","v":0},{"$f":"IF(FP12=\"\",0,FP12)","v":0},{"$f":"IF(HF12=\"\",0,HF12)","v":0},{"$f":"IF(IV12=\"\",0,IV12)","v":0},{"$f":"IF(KL12=\"\",0,KL12)","v":0},{"$f":"IF(MB12=\"\",0,MB12)","v":0},{"$f":"IF(NR12=\"\",0,NR12)","v":0},{"$f":"IF(PH12=\"\",0,PH12)","v":0},{"$f":"SUMPRODUCT($PJ$8:$PS$8,PJ12:PS12)","v":0}]
[null,{"$f":"C12+1","v":"1900-01-01"},null,0,null,null,null,null,null,null,null,null,null,null,null,null,null,null,null,null,null,null,null,null,null,null,null,null,null,null,null,null,null,null,null,null,null,null,null,null,null,null,null,null,null,"",null,null,null,null,null,null,null,null,null,null,null,null,null,null,null,null,null,null,null,null,null,null,null,null,null,null,null,null,null,null,null,null,null,null,null,null,null,null,null,null,null,"",null,null,null,null,null,null,null,null,null,null,null,null,null,null,null,null,null,null,null,null,null,null,null,null,null,null,null,null,null,null,null,null,null,null,null,null,null,null,null,null,null,"",null,null,null,null,null,null,null,null,null,null,null,null,null,null,null,null,null,null,null,null,null,null,null,null,null,null,null,null,null,null,null,null,null,null,null,null,null,null,null,null,null,"",null,null,null,null,null,null,null,null,null,null,null,null,null,null,null,null,null,null,null,null,null,null,null,null,null,null,null,null,null,null,null,null,null,null,null,null,null,null,null,null,null,"",null,null,null,null,null,null,null,null,null,null,null,null,null,null,null,null,null,null,null,null,null,null,null,null,null,null,null,null,null,null,null,null,null,null,null,null,null,null,null,null,null,"",null,null,null,null,null,null,null,null,null,null,null,null,null,null,null,null,null,null,null,null,null,null,null,null,null,null,null,null,null,null,null,null,null,null,null,null,null,null,null,null,null,"",null,null,null,null,null,null,null,null,null,null,null,null,null,null,null,null,null,null,null,null,null,null,null,null,null,null,null,null,null,null,null,null,null,null,null,null,null,null,null,null,null,"",null,null,null,null,null,null,null,null,null,null,null,null,null,null,null,null,null,null,null,null,null,null,null,null,null,null,null,null,null,null,null,null,null,null,null,null,null,null,null,null,null,"",null,null,null,null,null,null,null,null,null,null,null,null,null,null,null,null,null,null,null,null,null,null,null,null,null,null,null,null,null,null,null,null,null,null,null,null,null,null,null,null,null,"",null,0,0,0,0,0,0,0,0,0,0,{"$f":"SUMPRODUCT($PJ$8:$PS$8,PJ13:PS13)","v":0}]
[null,"1900-01-01",null,0,null,null,null,null,null,null,null,null,null,null,null,null,null,null,null,null,null,null,null,null,null,null,null,null,null,null,null,null,null,null,null,null,null,null,null,null,null,null,null,null,null,"",null,null,null,null,null,null,null,null,null,null,null,null,null,null,null,null,null,null,null,null,null,null,null,null,null,null,null,null,null,null,null,null,null,null,null,null,null,null,null,null,null,"",null,null,null,null,null,null,null,null,null,null,null,null,null,null,null,null,null,null,null,null,null,null,null,null,null,null,null,null,null,null,null,null,null,null,null,null,null,null,null,null,null,"",null,null,null,null,null,null,null,null,null,null,null,null,null,null,null,null,null,null,null,null,null,null,null,null,null,null,null,null,null,null,null,null,null,null,null,null,null,null,null,null,null,"",null,null,null,null,null,null,null,null,null,null,null,null,null,null,null,null,null,null,null,null,null,null,null,null,null,null,null,null,null,null,null,null,null,null,null,null,null,null,null,null,null,"",null,null,null,null,null,null,null,null,null,null,null,null,null,null,null,null,null,null,null,null,null,null,null,null,null,null,null,null,null,null,null,null,null,null,null,null,null,null,null,null,null,"",null,null,null,null,null,null,null,null,null,null,null,null,null,null,null,null,null,null,null,null,null,null,null,null,null,null,null,null,null,null,null,null,null,null,null,null,null,null,null,null,null,"",null,null,null,null,null,null,null,null,null,null,null,null,null,null,null,null,null,null,null,null,null,null,null,null,null,null,null,null,null,null,null,null,null,null,null,null,null,null,null,null,null,"",null,null,null,null,null,null,null,null,null,null,null,null,null,null,null,null,null,null,null,null,null,null,null,null,null,null,null,null,null,null,null,null,null,null,null,null,null,null,null,null,null,"",null,null,null,null,null,null,null,null,null,null,null,null,null,null,null,null,null,null,null,null,null,null,null,null,null,null,null,null,null,null,null,null,null,null,null,null,null,null,null,null,null,"",null,0,0,0,0,0,0,0,0,0,0,0]
[null,"1900-01-01",null,0,null,null,null,null,null,null,null,null,null,null,null,null,null,null,null,null,null,null,null,null,null,null,null,null,null,null,null,null,null,null,null,null,null,null,null,null,null,null,null,null,null,"",null,null,null,null,null,null,null,null,null,null,null,null,null,null,null,null,null,null,null,null,null,null,null,null,null,null,null,null,null,null,null,null,null,null,null,null,null,null,null,null,null,"",null,null,null,null,null,null,null,null,null,null,null,null,null,null,null,null,null,null,null,null,null,null,null,null,null,null,null,null,null,null,null,null,null,null,null,null,null,null,null,null,null,"",null,null,null,null,null,null,null,null,null,null,null,null,null,null,null,null,null,null,null,null,null,null,null,null,null,null,null,null,null,null,null,null,null,null,null,null,null,null,null,null,null,"",null,null,null,null,null,null,null,null,null,null,null,null,null,null,null,null,null,null,null,null,null,null,null,null,null,null,null,null,null,null,null,null,null,null,null,null,null,null,null,null,null,"",null,null,null,null,null,null,null,null,null,null,null,null,null,null,null,null,null,null,null,null,null,null,null,null,null,null,null,null,null,null,null,null,null,null,null,null,null,null,null,null,null,"",null,null,null,null,null,null,null,null,null,null,null,null,null,null,null,null,null,null,null,null,null,null,null,null,null,null,null,null,null,null,null,null,null,null,null,null,null,null,null,null,null,"",null,null,null,null,null,null,null,null,null,null,null,null,null,null,null,null,null,null,null,null,null,null,null,null,null,null,null,null,null,null,null,null,null,null,null,null,null,null,null,null,null,"",null,null,null,null,null,null,null,null,null,null,null,null,null,null,null,null,null,null,null,null,null,null,null,null,null,null,null,null,null,null,null,null,null,null,null,null,null,null,null,null,null,"",null,null,null,null,null,null,null,null,null,null,null,null,null,null,null,null,null,null,null,null,null,null,null,null,null,null,null,null,null,null,null,null,null,null,null,null,null,null,null,null,null,"",null,0,0,0,0,0,0,0,0,0,0,0]
[null,"1900-01-01",null,0,null,null,null,null,null,null,null,null,null,null,null,null,null,null,null,null,null,null,null,null,null,null,null,null,null,null,null,null,null,null,null,null,null,null,null,null,null,null,null,null,null,"",null,null,null,null,null,null,null,null,null,null,null,null,null,null,null,null,null,null,null,null,null,null,null,null,null,null,null,null,null,null,null,null,null,null,null,null,null,null,null,null,null,"",null,null,null,null,null,null,null,null,null,null,null,null,null,null,null,null,null,null,null,null,null,null,null,null,null,null,null,null,null,null,null,null,null,null,null,null,null,null,null,null,null,"",null,null,null,null,null,null,null,null,null,null,null,null,null,null,null,null,null,null,null,null,null,null,null,null,null,null,null,null,null,null,null,null,null,null,null,null,null,null,null,null,null,"",null,null,null,null,null,null,null,null,null,null,null,null,null,null,null,null,null,null,null,null,null,null,null,null,null,null,null,null,null,null,null,null,null,null,null,null,null,null,null,null,null,"",null,null,null,null,null,null,null,null,null,null,null,null,null,null,null,null,null,null,null,null,null,null,null,null,null,null,null,null,null,null,null,null,null,null,null,null,null,null,null,null,null,"",null,null,null,null,null,null,null,null,null,null,null,null,null,null,null,null,null,null,null,null,null,null,null,null,null,null,null,null,null,null,null,null,null,null,null,null,null,null,null,null,null,"",null,null,null,null,null,null,null,null,null,null,null,null,null,null,null,null,null,null,null,null,null,null,null,null,null,null,null,null,null,null,null,null,null,null,null,null,null,null,null,null,null,"",null,null,null,null,null,null,null,null,null,null,null,null,null,null,null,null,null,null,null,null,null,null,null,null,null,null,null,null,null,null,null,null,null,null,null,null,null,null,null,null,null,"",null,null,null,null,null,null,null,null,null,null,null,null,null,null,null,null,null,null,null,null,null,null,null,null,null,null,null,null,null,null,null,null,null,null,null,null,null,null,null,null,null,"",null,0,0,0,0,0,0,0,0,0,0,0]
[null,"1900-01-01",null,0,null,null,null,null,null,null,null,null,null,null,null,null,null,null,null,null,null,null,null,null,null,null,null,null,null,null,null,null,null,null,null,null,null,null,null,null,null,null,null,null,null,"",null,null,null,null,null,null,null,null,null,null,null,null,null,null,null,null,null,null,null,null,null,null,null,null,null,null,null,null,null,null,null,null,null,null,null,null,null,null,null,null,null,"",null,null,null,null,null,null,null,null,null,null,null,null,null,null,null,null,null,null,null,null,null,null,null,null,null,null,null,null,null,null,null,null,null,null,null,null,null,null,null,null,null,"",null,null,null,null,null,null,null,null,null,null,null,null,null,null,null,null,null,null,null,null,null,null,null,null,null,null,null,null,null,null,null,null,null,null,null,null,null,null,null,null,null,"",null,null,null,null,null,null,null,null,null,null,null,null,null,null,null,null,null,null,null,null,null,null,null,null,null,null,null,null,null,null,null,null,null,null,null,null,null,null,null,null,null,"",null,null,null,null,null,null,null,null,null,null,null,null,null,null,null,null,null,null,null,null,null,null,null,null,null,null,null,null,null,null,null,null,null,null,null,null,null,null,null,null,null,"",null,null,null,null,null,null,null,null,null,null,null,null,null,null,null,null,null,null,null,null,null,null,null,null,null,null,null,null,null,null,null,null,null,null,null,null,null,null,null,null,null,"",null,null,null,null,null,null,null,null,null,null,null,null,null,null,null,null,null,null,null,null,null,null,null,null,null,null,null,null,null,null,null,null,null,null,null,null,null,null,null,null,null,"",null,null,null,null,null,null,null,null,null,null,null,null,null,null,null,null,null,null,null,null,null,null,null,null,null,null,null,null,null,null,null,null,null,null,null,null,null,null,null,null,null,"",null,null,null,null,null,null,null,null,null,null,null,null,null,null,null,null,null,null,null,null,null,null,null,null,null,null,null,null,null,null,null,null,null,null,null,null,null,null,null,null,null,"",null,0,0,0,0,0,0,0,0,0,0,0]
[null,"1900-01-01",null,0,null,null,null,null,null,null,null,null,null,null,null,null,null,null,null,null,null,null,null,null,null,null,null,null,null,null,null,null,null,null,null,null,null,null,null,null,null,null,null,null,null,"",null,null,null,null,null,null,null,null,null,null,null,null,null,null,null,null,null,null,null,null,null,null,null,null,null,null,null,null,null,null,null,null,null,null,null,null,null,null,null,null,null,"",null,null,null,null,null,null,null,null,null,null,null,null,null,null,null,null,null,null,null,null,null,null,null,null,null,null,null,null,null,null,null,null,null,null,null,null,null,null,null,null,null,"",null,null,null,null,null,null,null,null,null,null,null,null,null,null,null,null,null,null,null,null,null,null,null,null,null,null,null,null,null,null,null,null,null,null,null,null,null,null,null,null,null,"",null,null,null,null,null,null,null,null,null,null,null,null,null,null,null,null,null,null,null,null,null,null,null,null,null,null,null,null,null,null,null,null,null,null,null,null,null,null,null,null,null,"",null,null,null,null,null,null,null,null,null,null,null,null,null,null,null,null,null,null,null,null,null,null,null,null,null,null,null,null,null,null,null,null,null,null,null,null,null,null,null,null,null,"",null,null,null,null,null,null,null,null,null,null,null,null,null,null,null,null,null,null,null,null,null,null,null,null,null,null,null,null,null,null,null,null,null,null,null,null,null,null,null,null,null,"",null,null,null,null,null,null,null,null,null,null,null,null,null,null,null,null,null,null,null,null,null,null,null,null,null,null,null,null,null,null,null,null,null,null,null,null,null,null,null,null,null,"",null,null,null,null,null,null,null,null,null,null,null,null,null,null,null,null,null,null,null,null,null,null,null,null,null,null,null,null,null,null,null,null,null,null,null,null,null,null,null,null,null,"",null,null,null,null,null,null,null,null,null,null,null,null,null,null,null,null,null,null,null,null,null,null,null,null,null,null,null,null,null,null,null,null,null,null,null,null,null,null,null,null,null,"",null,0,0,0,0,0,0,0,0,0,0,0]
[null,"1900-01-01",null,0,null,null,null,null,null,null,null,null,null,null,null,null,null,null,null,null,null,null,null,null,null,null,null,null,null,null,null,null,null,null,null,null,null,null,null,null,null,null,null,null,null,"",null,null,null,null,null,null,null,null,null,null,null,null,null,null,null,null,null,null,null,null,null,null,null,null,null,null,null,null,null,null,null,null,null,null,null,null,null,null,null,null,null,"",null,null,null,null,null,null,null,null,null,null,null,null,null,null,null,null,null,null,null,null,null,null,null,null,null,null,null,null,null,null,null,null,null,null,null,null,null,null,null,null,null,"",null,null,null,null,null,null,null,null,null,null,null,null,null,null,null,null,null,null,null,null,null,null,null,null,null,null,null,null,null,null,null,null,null,null,null,null,null,null,null,null,null,"",null,null,null,null,null,null,null,null,null,null,null,null,null,null,null,null,null,null,null,null,null,null,null,null,null,null,null,null,null,null,null,null,null,null,null,null,null,null,null,null,null,"",null,null,null,null,null,null,null,null,null,null,null,null,null,null,null,null,null,null,null,null,null,null,null,null,null,null,null,null,null,null,null,null,null,null,null,null,null,null,null,null,null,"",null,null,null,null,null,null,null,null,null,null,null,null,null,null,null,null,null,null,null,null,null,null,null,null,null,null,null,null,null,null,null,null,null,null,null,null,null,null,null,null,null,"",null,null,null,null,null,null,null,null,null,null,null,null,null,null,null,null,null,null,null,null,null,null,null,null,null,null,null,null,null,null,null,null,null,null,null,null,null,null,null,null,null,"",null,null,null,null,null,null,null,null,null,null,null,null,null,null,null,null,null,null,null,null,null,null,null,null,null,null,null,null,null,null,null,null,null,null,null,null,null,null,null,null,null,"",null,null,null,null,null,null,null,null,null,null,null,null,null,null,null,null,null,null,null,null,null,null,null,null,null,null,null,null,null,null,null,null,null,null,null,null,null,null,null,null,null,"",null,0,0,0,0,0,0,0,0,0,0,0]
[null,"1900-01-01",null,0,null,null,null,null,null,null,null,null,null,null,null,null,null,null,null,null,null,null,null,null,null,null,null,null,null,null,null,null,null,null,null,null,null,null,null,null,null,null,null,null,null,"",null,null,null,null,null,null,null,null,null,null,null,null,null,null,null,null,null,null,null,null,null,null,null,null,null,null,null,null,null,null,null,null,null,null,null,null,null,null,null,null,null,"",null,null,null,null,null,null,null,null,null,null,null,null,null,null,null,null,null,null,null,null,null,null,null,null,null,null,null,null,null,null,null,null,null,null,null,null,null,null,null,null,null,"",null,null,null,null,null,null,null,null,null,null,null,null,null,null,null,null,null,null,null,null,null,null,null,null,null,null,null,null,null,null,null,null,null,null,null,null,null,null,null,null,null,"",null,null,null,null,null,null,null,null,null,null,null,null,null,null,null,null,null,null,null,null,null,null,null,null,null,null,null,null,null,null,null,null,null,null,null,null,null,null,null,null,null,"",null,null,null,null,null,null,null,null,null,null,null,null,null,null,null,null,null,null,null,null,null,null,null,null,null,null,null,null,null,null,null,null,null,null,null,null,null,null,null,null,null,"",null,null,null,null,null,null,null,null,null,null,null,null,null,null,null,null,null,null,null,null,null,null,null,null,null,null,null,null,null,null,null,null,null,null,null,null,null,null,null,null,null,"",null,null,null,null,null,null,null,null,null,null,null,null,null,null,null,null,null,null,null,null,null,null,null,null,null,null,null,null,null,null,null,null,null,null,null,null,null,null,null,null,null,"",null,null,null,null,null,null,null,null,null,null,null,null,null,null,null,null,null,null,null,null,null,null,null,null,null,null,null,null,null,null,null,null,null,null,null,null,null,null,null,null,null,"",null,null,null,null,null,null,null,null,null,null,null,null,null,null,null,null,null,null,null,null,null,null,null,null,null,null,null,null,null,null,null,null,null,null,null,null,null,null,null,null,null,"",null,0,0,0,0,0,0,0,0,0,0,0]
[null,"1900-01-01",null,0,null,null,null,null,null,null,null,null,null,null,null,null,null,null,null,null,null,null,null,null,null,null,null,null,null,null,null,null,null,null,null,null,null,null,null,null,null,null,null,null,null,"",null,null,null,null,null,null,null,null,null,null,null,null,null,null,null,null,null,null,null,null,null,null,null,null,null,null,null,null,null,null,null,null,null,null,null,null,null,null,null,null,null,"",null,null,null,null,null,null,null,null,null,null,null,null,null,null,null,null,null,null,null,null,null,null,null,null,null,null,null,null,null,null,null,null,null,null,null,null,null,null,null,null,null,"",null,null,null,null,null,null,null,null,null,null,null,null,null,null,null,null,null,null,null,null,null,null,null,null,null,null,null,null,null,null,null,null,null,null,null,null,null,null,null,null,null,"",null,null,null,null,null,null,null,null,null,null,null,null,null,null,null,null,null,null,null,null,null,null,null,null,null,null,null,null,null,null,null,null,null,null,null,null,null,null,null,null,null,"",null,null,null,null,null,null,null,null,null,null,null,null,null,null,null,null,null,null,null,null,null,null,null,null,null,null,null,null,null,null,null,null,null,null,null,null,null,null,null,null,null,"",null,null,null,null,null,null,null,null,null,null,null,null,null,null,null,null,null,null,null,null,null,null,null,null,null,null,null,null,null,null,null,null,null,null,null,null,null,null,null,null,null,"",null,null,null,null,null,null,null,null,null,null,null,null,null,null,null,null,null,null,null,null,null,null,null,null,null,null,null,null,null,null,null,null,null,null,null,null,null,null,null,null,null,"",null,null,null,null,null,null,null,null,null,null,null,null,null,null,null,null,null,null,null,null,null,null,null,null,null,null,null,null,null,null,null,null,null,null,null,null,null,null,null,null,null,"",null,null,null,null,null,null,null,null,null,null,null,null,null,null,null,null,null,null,null,null,null,null,null,null,null,null,null,null,null,null,null,null,null,null,null,null,null,null,null,null,null,"",null,0,0,0,0,0,0,0,0,0,0,0]
[null,"1900-01-01",null,0,null,null,null,null,null,null,null,null,null,null,null,null,null,null,null,null,null,null,null,null,null,null,null,null,null,null,null,null,null,null,null,null,null,null,null,null,null,null,null,null,null,"",null,null,null,null,null,null,null,null,null,null,null,null,null,null,null,null,null,null,null,null,null,null,null,null,null,null,null,null,null,null,null,null,null,null,null,null,null,null,null,null,null,"",null,null,null,null,null,null,null,null,null,null,null,null,null,null,null,null,null,null,null,null,null,null,null,null,null,null,null,null,null,null,null,null,null,null,null,null,null,null,null,null,null,"",null,null,null,null,null,null,null,null,null,null,null,null,null,null,null,null,null,null,null,null,null,null,null,null,null,null,null,null,null,null,null,null,null,null,null,null,null,null,null,null,null,"",null,null,null,null,null,null,null,null,null,null,null,null,null,null,null,null,null,null,null,null,null,null,null,null,null,null,null,null,null,null,null,null,null,null,null,null,null,null,null,null,null,"",null,null,null,null,null,null,null,null,null,null,null,null,null,null,null,null,null,null,null,null,null,null,null,null,null,null,null,null,null,null,null,null,null,null,null,null,null,null,null,null,null,"",null,null,null,null,null,null,null,null,null,null,null,null,null,null,null,null,null,null,null,null,null,null,null,null,null,null,null,null,null,null,null,null,null,null,null,null,null,null,null,null,null,"",null,null,null,null,null,null,null,null,null,null,null,null,null,null,null,null,null,null,null,null,null,null,null,null,null,null,null,null,null,null,null,null,null,null,null,null,null,null,null,null,null,"",null,null,null,null,null,null,null,null,null,null,null,null,null,null,null,null,null,null,null,null,null,null,null,null,null,null,null,null,null,null,null,null,null,null,null,null,null,null,null,null,null,"",null,null,null,null,null,null,null,null,null,null,null,null,null,null,null,null,null,null,null,null,null,null,null,null,null,null,null,null,null,null,null,null,null,null,null,null,null,null,null,null,null,"",null,0,0,0,0,0,0,0,0,0,0,0]
[null,"1900-01-01",null,0,null,null,null,null,null,null,null,null,null,null,null,null,null,null,null,null,null,null,null,null,null,null,null,null,null,null,null,null,null,null,null,null,null,null,null,null,null,null,null,null,null,"",null,null,null,null,null,null,null,null,null,null,null,null,null,null,null,null,null,null,null,null,null,null,null,null,null,null,null,null,null,null,null,null,null,null,null,null,null,null,null,null,null,"",null,null,null,null,null,null,null,null,null,null,null,null,null,null,null,null,null,null,null,null,null,null,null,null,null,null,null,null,null,null,null,null,null,null,null,null,null,null,null,null,null,"",null,null,null,null,null,null,null,null,null,null,null,null,null,null,null,null,null,null,null,null,null,null,null,null,null,null,null,null,null,null,null,null,null,null,null,null,null,null,null,null,null,"",null,null,null,null,null,null,null,null,null,null,null,null,null,null,null,null,null,null,null,null,null,null,null,null,null,null,null,null,null,null,null,null,null,null,null,null,null,null,null,null,null,"",null,null,null,null,null,null,null,null,null,null,null,null,null,null,null,null,null,null,null,null,null,null,null,null,null,null,null,null,null,null,null,null,null,null,null,null,null,null,null,null,null,"",null,null,null,null,null,null,null,null,null,null,null,null,null,null,null,null,null,null,null,null,null,null,null,null,null,null,null,null,null,null,null,null,null,null,null,null,null,null,null,null,null,"",null,null,null,null,null,null,null,null,null,null,null,null,null,null,null,null,null,null,null,null,null,null,null,null,null,null,null,null,null,null,null,null,null,null,null,null,null,null,null,null,null,"",null,null,null,null,null,null,null,null,null,null,null,null,null,null,null,null,null,null,null,null,null,null,null,null,null,null,null,null,null,null,null,null,null,null,null,null,null,null,null,null,null,"",null,null,null,null,null,null,null,null,null,null,null,null,null,null,null,null,null,null,null,null,null,null,null,null,null,null,null,null,null,null,null,null,null,null,null,null,null,null,null,null,null,"",null,0,0,0,0,0,0,0,0,0,0,0]
[null,"1900-01-01",null,0,null,null,null,null,null,null,null,null,null,null,null,null,null,null,null,null,null,null,null,null,null,null,null,null,null,null,null,null,null,null,null,null,null,null,null,null,null,null,null,null,null,"",null,null,null,null,null,null,null,null,null,null,null,null,null,null,null,null,null,null,null,null,null,null,null,null,null,null,null,null,null,null,null,null,null,null,null,null,null,null,null,null,null,"",null,null,null,null,null,null,null,null,null,null,null,null,null,null,null,null,null,null,null,null,null,null,null,null,null,null,null,null,null,null,null,null,null,null,null,null,null,null,null,null,null,"",null,null,null,null,null,null,null,null,null,null,null,null,null,null,null,null,null,null,null,null,null,null,null,null,null,null,null,null,null,null,null,null,null,null,null,null,null,null,null,null,null,"",null,null,null,null,null,null,null,null,null,null,null,null,null,null,null,null,null,null,null,null,null,null,null,null,null,null,null,null,null,null,null,null,null,null,null,null,null,null,null,null,null,"",null,null,null,null,null,null,null,null,null,null,null,null,null,null,null,null,null,null,null,null,null,null,null,null,null,null,null,null,null,null,null,null,null,null,null,null,null,null,null,null,null,"",null,null,null,null,null,null,null,null,null,null,null,null,null,null,null,null,null,null,null,null,null,null,null,null,null,null,null,null,null,null,null,null,null,null,null,null,null,null,null,null,null,"",null,null,null,null,null,null,null,null,null,null,null,null,null,null,null,null,null,null,null,null,null,null,null,null,null,null,null,null,null,null,null,null,null,null,null,null,null,null,null,null,null,"",null,null,null,null,null,null,null,null,null,null,null,null,null,null,null,null,null,null,null,null,null,null,null,null,null,null,null,null,null,null,null,null,null,null,null,null,null,null,null,null,null,"",null,null,null,null,null,null,null,null,null,null,null,null,null,null,null,null,null,null,null,null,null,null,null,null,null,null,null,null,null,null,null,null,null,null,null,null,null,null,null,null,null,"",null,0,0,0,0,0,0,0,0,0,0,0]
[null,"1900-01-01",null,0,null,null,null,null,null,null,null,null,null,null,null,null,null,null,null,null,null,null,null,null,null,null,null,null,null,null,null,null,null,null,null,null,null,null,null,null,null,null,null,null,null,"",null,null,null,null,null,null,null,null,null,null,null,null,null,null,null,null,null,null,null,null,null,null,null,null,null,null,null,null,null,null,null,null,null,null,null,null,null,null,null,null,null,"",null,null,null,null,null,null,null,null,null,null,null,null,null,null,null,null,null,null,null,null,null,null,null,null,null,null,null,null,null,null,null,null,null,null,null,null,null,null,null,null,null,"",null,null,null,null,null,null,null,null,null,null,null,null,null,null,null,null,null,null,null,null,null,null,null,null,null,null,null,null,null,null,null,null,null,null,null,null,null,null,null,null,null,"",null,null,null,null,null,null,null,null,null,null,null,null,null,null,null,null,null,null,null,null,null,null,null,null,null,null,null,null,null,null,null,null,null,null,null,null,null,null,null,null,null,"",null,null,null,null,null,null,null,null,null,null,null,null,null,null,null,null,null,null,null,null,null,null,null,null,null,null,null,null,null,null,null,null,null,null,null,null,null,null,null,null,null,"",null,null,null,null,null,null,null,null,null,null,null,null,null,null,null,null,null,null,null,null,null,null,null,null,null,null,null,null,null,null,null,null,null,null,null,null,null,null,null,null,null,"",null,null,null,null,null,null,null,null,null,null,null,null,null,null,null,null,null,null,null,null,null,null,null,null,null,null,null,null,null,null,null,null,null,null,null,null,null,null,null,null,null,"",null,null,null,null,null,null,null,null,null,null,null,null,null,null,null,null,null,null,null,null,null,null,null,null,null,null,null,null,null,null,null,null,null,null,null,null,null,null,null,null,null,"",null,null,null,null,null,null,null,null,null,null,null,null,null,null,null,null,null,null,null,null,null,null,null,null,null,null,null,null,null,null,null,null,null,null,null,null,null,null,null,null,null,"",null,0,0,0,0,0,0,0,0,0,0,0]
[null,"1900-01-01",null,0,null,null,null,null,null,null,null,null,null,null,null,null,null,null,null,null,null,null,null,null,null,null,null,null,null,null,null,null,null,null,null,null,null,null,null,null,null,null,null,null,null,"",null,null,null,null,null,null,null,null,null,null,null,null,null,null,null,null,null,null,null,null,null,null,null,null,null,null,null,null,null,null,null,null,null,null,null,null,null,null,null,null,null,"",null,null,null,null,null,null,null,null,null,null,null,null,null,null,null,null,null,null,null,null,null,null,null,null,null,null,null,null,null,null,null,null,null,null,null,null,null,null,null,null,null,"",null,null,null,null,null,null,null,null,null,null,null,null,null,null,null,null,null,null,null,null,null,null,null,null,null,null,null,null,null,null,null,null,null,null,null,null,null,null,null,null,null,"",null,null,null,null,null,null,null,null,null,null,null,null,null,null,null,null,null,null,null,null,null,null,null,null,null,null,null,null,null,null,null,null,null,null,null,null,null,null,null,null,null,"",null,null,null,null,null,null,null,null,null,null,null,null,null,null,null,null,null,null,null,null,null,null,null,null,null,null,null,null,null,null,null,null,null,null,null,null,null,null,null,null,null,"",null,null,null,null,null,null,null,null,null,null,null,null,null,null,null,null,null,null,null,null,null,null,null,null,null,null,null,null,null,null,null,null,null,null,null,null,null,null,null,null,null,"",null,null,null,null,null,null,null,null,null,null,null,null,null,null,null,null,null,null,null,null,null,null,null,null,null,null,null,null,null,null,null,null,null,null,null,null,null,null,null,null,null,"",null,null,null,null,null,null,null,null,null,null,null,null,null,null,null,null,null,null,null,null,null,null,null,null,null,null,null,null,null,null,null,null,null,null,null,null,null,null,null,null,null,"",null,null,null,null,null,null,null,null,null,null,null,null,null,null,null,null,null,null,null,null,null,null,null,null,null,null,null,null,null,null,null,null,null,null,null,null,null,null,null,null,null,"",null,0,0,0,0,0,0,0,0,0,0,0]
[null,null,{"$f":"IF(ABS(D27-365)>4,\"Must have 365 ± 4 days.\",\"\")","v":"Must have 365 ± 4 days."},{"$f":"SUM(D12:D26)","v":0},null,{"$f":"SUM(F12:F26)","v":0},null,{"$f":"SUM(H12:H26)","v":0},null,{"$f":"SUM(J12:J26)","v":0},null,{"$f":"SUM(L12:L26)","v":0},null,{"$f":"SUM(N12:N26)","v":0},null,{"$f":"SUM(P12:P26)","v":0},null,{"$f":"SUM(R12:R26)","v":0},null,{"$f":"SUM(T12:T26)","v":0},null,{"$f":"SUM(V12:V26)","v":0},null,{"$f":"SUM(X12:X26)","v":0},null,{"$f":"SUM(Z12:Z26)","v":0},null,{"$f":"SUM(AB12:AB26)","v":0},null,{"$f":"SUM(AD12:AD26)","v":0},null,{"$f":"SUM(AF12:AF26)","v":0},null,{"$f":"SUM(AH12:AH26)","v":0},null,{"$f":"SUM(AJ12:AJ26)","v":0},null,{"$f":"SUM(AL12:AL26)","v":0},null,{"$f":"SUM(AN12:AN26)","v":0},null,{"$f":"SUM(AP12:AP26)","v":0},null,{"$f":"SUM(AR12:AR26)","v":0},null,{"$f":"SUM(AT12:AT26)","v":0},null,{"$f":"SUM(AV12:AV26)","v":0},null,{"$f":"SUM(AX12:AX26)","v":0},null,{"$f":"SUM(AZ12:AZ26)","v":0},null,{"$f":"SUM(BB12:BB26)","v":0},null,{"$f":"SUM(BD12:BD26)","v":0},null,{"$f":"SUM(BF12:BF26)","v":0},null,{"$f":"SUM(BH12:BH26)","v":0},null,{"$f":"SUM(BJ12:BJ26)","v":0},null,{"$f":"SUM(BL12:BL26)","v":0},null,{"$f":"SUM(BN12:BN26)","v":0},null,{"$f":"SUM(BP12:BP26)","v":0},null,{"$f":"SUM(BR12:BR26)","v":0},null,{"$f":"SUM(BT12:BT26)","v":0},null,{"$f":"SUM(BV12:BV26)","v":0},null,{"$f":"SUM(BX12:BX26)","v":0},null,{"$f":"SUM(BZ12:BZ26)","v":0},null,{"$f":"SUM(CB12:CB26)","v":0},null,{"$f":"SUM(CD12:CD26)","v":0},null,{"$f":"SUM(CF12:CF26)","v":0},null,{"$f":"SUM(CH12:CH26)","v":0},null,{"$f":"SUM(CJ12:CJ26)","v":0},null,{"$f":"SUM(CL12:CL26)","v":0},null,{"$f":"SUM(CN12:CN26)","v":0},null,{"$f":"SUM(CP12:CP26)","v":0},null,{"$f":"SUM(CR12:CR26)","v":0},null,{"$f":"SUM(CT12:CT26)","v":0},null,{"$f":"SUM(CV12:CV26)","v":0},null,{"$f":"SUM(CX12:CX26)","v":0},null,{"$f":"SUM(CZ12:CZ26)","v":0},null,{"$f":"SUM(DB12:DB26)","v":0},null,{"$f":"SUM(DD12:DD26)","v":0},null,{"$f":"SUM(DF12:DF26)","v":0},null,{"$f":"SUM(DH12:DH26)","v":0},null,{"$f":"SUM(DJ12:DJ26)","v":0},null,{"$f":"SUM(DL12:DL26)","v":0},null,{"$f":"SUM(DN12:DN26)","v":0},null,{"$f":"SUM(DP12:DP26)","v":0},null,{"$f":"SUM(DR12:DR26)","v":0},null,{"$f":"SUM(DT12:DT26)","v":0},null,{"$f":"SUM(DV12:DV26)","v":0},null,{"$f":"SUM(DX12:DX26)","v":0},null,{"$f":"SUM(DZ12:DZ26)","v":0},null,{"$f":"SUM(EB12:EB26)","v":0},null,{"$f":"SUM(ED12:ED26)","v":0},null,{"$f":"SUM(EF12:EF26)","v":0},null,{"$f":"SUM(EH12:EH26)","v":0},null,{"$f":"SUM(EJ12:EJ26)","v":0},null,{"$f":"SUM(EL12:EL26)","v":0},null,{"$f":"SUM(EN12:EN26)","v":0},null,{"$f":"SUM(EP12:EP26)","v":0},null,{"$f":"SUM(ER12:ER26)","v":0},null,{"$f":"SUM(ET12:ET26)","v":0},null,{"$f":"SUM(EV12:EV26)","v":0},null,{"$f":"SUM(EX12:EX26)","v":0},null,{"$f":"SUM(EZ12:EZ26)","v":0},null,{"$f":"SUM(FB12:FB26)","v":0},null,{"$f":"SUM(FD12:FD26)","v":0},null,{"$f":"SUM(FF12:FF26)","v":0},null,{"$f":"SUM(FH12:FH26)","v":0},null,{"$f":"SUM(FJ12:FJ26)","v":0},null,{"$f":"SUM(FL12:FL26)","v":0},null,{"$f":"SUM(FN12:FN26)","v":0},null,{"$f":"SUM(FP12:FP26)","v":0},null,{"$f":"SUM(FR12:FR26)","v":0},null,{"$f":"SUM(FT12:FT26)","v":0},null,{"$f":"SUM(FV12:FV26)","v":0},null,{"$f":"SUM(FX12:FX26)","v":0},null,{"$f":"SUM(FZ12:FZ26)","v":0},null,{"$f":"SUM(GB12:GB26)","v":0},null,{"$f":"SUM(GD12:GD26)","v":0},null,{"$f":"SUM(GF12:GF26)","v":0},null,{"$f":"SUM(GH12:GH26)","v":0},null,{"$f":"SUM(GJ12:GJ26)","v":0},null,{"$f":"SUM(GL12:GL26)","v":0},null,{"$f":"SUM(GN12:GN26)","v":0},null,{"$f":"SUM(GP12:GP26)","v":0},null,{"$f":"SUM(GR12:GR26)","v":0},null,{"$f":"SUM(GT12:GT26)","v":0},null,{"$f":"SUM(GV12:GV26)","v":0},null,{"$f":"SUM(GX12:GX26)","v":0},null,{"$f":"SUM(GZ12:GZ26)","v":0},null,{"$f":"SUM(HB12:HB26)","v":0},null,{"$f":"SUM(HD12:HD26)","v":0},null,{"$f":"SUM(HF12:HF26)","v":0},null,{"$f":"SUM(HH12:HH26)","v":0},null,{"$f":"SUM(HJ12:HJ26)","v":0},null,{"$f":"SUM(HL12:HL26)","v":0},null,{"$f":"SUM(HN12:HN26)","v":0},null,{"$f":"SUM(HP12:HP26)","v":0},null,{"$f":"SUM(HR12:HR26)","v":0},null,{"$f":"SUM(HT12:HT26)","v":0},null,{"$f":"SUM(HV12:HV26)","v":0},null,{"$f":"SUM(HX12:HX26)","v":0},null,{"$f":"SUM(HZ12:HZ26)","v":0},null,{"$f":"SUM(IB12:IB26)","v":0},null,{"$f":"SUM(ID12:ID26)","v":0},null,{"$f":"SUM(IF12:IF26)","v":0},null,{"$f":"SUM(IH12:IH26)","v":0},null,{"$f":"SUM(IJ12:IJ26)","v":0},null,{"$f":"SUM(IL12:IL26)","v":0},null,{"$f":"SUM(IN12:IN26)","v":0},null,{"$f":"SUM(IP12:IP26)","v":0},null,{"$f":"SUM(IR12:IR26)","v":0},null,{"$f":"SUM(IT12:IT26)","v":0},null,{"$f":"SUM(IV12:IV26)","v":0},null,{"$f":"SUM(IX12:IX26)","v":0},null,{"$f":"SUM(IZ12:IZ26)","v":0},null,{"$f":"SUM(JB12:JB26)","v":0},null,{"$f":"SUM(JD12:JD26)","v":0},null,{"$f":"SUM(JF12:JF26)","v":0},null,{"$f":"SUM(JH12:JH26)","v":0},null,{"$f":"SUM(JJ12:JJ26)","v":0},null,{"$f":"SUM(JL12:JL26)","v":0},null,{"$f":"SUM(JN12:JN26)","v":0},null,{"$f":"SUM(JP12:JP26)","v":0},null,{"$f":"SUM(JR12:JR26)","v":0},null,{"$f":"SUM(JT12:JT26)","v":0},null,{"$f":"SUM(JV12:JV26)","v":0},null,{"$f":"SUM(JX12:JX26)","v":0},null,{"$f":"SUM(JZ12:JZ26)","v":0},null,{"$f":"SUM(KB12:KB26)","v":0},null,{"$f":"SUM(KD12:KD26)","v":0},null,{"$f":"SUM(KF12:KF26)","v":0},null,{"$f":"SUM(KH12:KH26)","v":0},null,{"$f":"SUM(KJ12:KJ26)","v":0},null,{"$f":"SUM(KL12:KL26)","v":0},null,{"$f":"SUM(KN12:KN26)","v":0},null,{"$f":"SUM(KP12:KP26)","v":0},null,{"$f":"SUM(KR12:KR26)","v":0},null,{"$f":"SUM(KT12:KT26)","v":0},null,{"$f":"SUM(KV12:KV26)","v":0},null,{"$f":"SUM(KX12:KX26)","v":0},null,{"$f":"SUM(KZ12:KZ26)","v":0},null,{"$f":"SUM(LB12:LB26)","v":0},null,{"$f":"SUM(LD12:LD26)","v":0},null,{"$f":"SUM(LF12:LF26)","v":0},null,{"$f":"SUM(LH12:LH26)","v":0},null,{"$f":"SUM(LJ12:LJ26)","v":0},null,{"$f":"SUM(LL12:LL26)","v":0},null,{"$f":"SUM(LN12:LN26)","v":0},null,{"$f":"SUM(LP12:LP26)","v":0},null,{"$f":"SUM(LR12:LR26)","v":0},null,{"$f":"SUM(LT12:LT26)","v":0},null,{"$f":"SUM(LV12:LV26)","v":0},null,{"$f":"SUM(LX12:LX26)","v":0},null,{"$f":"SUM(LZ12:LZ26)","v":0},null,{"$f":"SUM(MB12:MB26)","v":0},null,{"$f":"SUM(MD12:MD26)","v":0},null,{"$f":"SUM(MF12:MF26)","v":0},null,{"$f":"SUM(MH12:MH26)","v":0},null,{"$f":"SUM(MJ12:MJ26)","v":0},null,{"$f":"SUM(ML12:ML26)","v":0},null,{"$f":"SUM(MN12:MN26)","v":0},null,{"$f":"SUM(MP12:MP26)","v":0},null,{"$f":"SUM(MR12:MR26)","v":0},null,{"$f":"SUM(MT12:MT26)","v":0},null,{"$f":"SUM(MV12:MV26)","v":0},null,{"$f":"SUM(MX12:MX26)","v":0},null,{"$f":"SUM(MZ12:MZ26)","v":0},null,{"$f":"SUM(NB12:NB26)","v":0},null,{"$f":"SUM(ND12:ND26)","v":0},null,{"$f":"SUM(NF12:NF26)","v":0},null,{"$f":"SUM(NH12:NH26)","v":0},null,{"$f":"SUM(NJ12:NJ26)","v":0},null,{"$f":"SUM(NL12:NL26)","v":0},null,{"$f":"SUM(NN12:NN26)","v":0},null,{"$f":"SUM(NP12:NP26)","v":0},null,{"$f":"SUM(NR12:NR26)","v":0},null,{"$f":"SUM(NT12:NT26)","v":0},null,{"$f":"SUM(NV12:NV26)","v":0},null,{"$f":"SUM(NX12:NX26)","v":0},null,{"$f":"SUM(NZ12:NZ26)","v":0},null,{"$f":"SUM(OB12:OB26)","v":0},null,{"$f":"SUM(OD12:OD26)","v":0},null,{"$f":"SUM(OF12:OF26)","v":0},null,{"$f":"SUM(OH12:OH26)","v":0},null,{"$f":"SUM(OJ12:OJ26)","v":0},null,{"$f":"SUM(OL12:OL26)","v":0},null,{"$f":"SUM(ON12:ON26)","v":0},null,{"$f":"SUM(OP12:OP26)","v":0},null,{"$f":"SUM(OR12:OR26)","v":0},null,{"$f":"SUM(OT12:OT26)","v":0},null,{"$f":"SUM(OV12:OV26)","v":0},null,{"$f":"SUM(OX12:OX26)","v":0},null,{"$f":"SUM(OZ12:OZ26)","v":0},null,{"$f":"SUM(PB12:PB26)","v":0},null,{"$f":"SUM(PD12:PD26)","v":0},null,{"$f":"SUM(PF12:PF26)","v":0},null,{"$f":"SUM(PH12:PH26)","v":0},null,{"$f":"SUM(PJ12:PJ26)","v":0},0,0,0,0,0,0,0,0,0,0]
[]
[null,null,null,null,null,"Total Annual kWh Cost",null,"Total Annual kWh Cost",null,"Total Annual kWh Cost",null,"Total Annual kWh Cost",null,"Total Annual kWh Cost",null,"Total Annual kWh Cost",null,"Total Annual kWh Cost",null,"Total Annual kWh Cost",null,"Total Annual kWh Cost",null,"Total Annual kWh Cost",null,"Total Annual kWh Cost",null,"Total Annual kWh Cost",null,"Total Annual kWh Cost",null,"Total Annual kWh Cost",null,"Total Annual kWh Cost",null,"Total Annual kWh Cost",null,"Total Annual kWh Cost",null,"Total Annual kWh Cost",null,"Total Annual kWh Cost",null,"Total Annual kWh Cost",null,"Average Annual kWh  Cost",null,"Total Annual kWh Cost",null,"Total Annual kWh Cost",null,"Total Annual kWh Cost",null,"Total Annual kWh Cost",null,"Total Annual kWh Cost",null,"Total Annual kWh Cost",null,"Total Annual kWh Cost",null,"Total Annual kWh Cost",null,"Total Annual kWh Cost",null,"Total Annual kWh Cost",null,"Total Annual kWh Cost",null,"Total Annual kWh Cost",null,"Total Annual kWh Cost",null,"Total Annual kWh Cost",null,"Total Annual kWh Cost",null,"Total Annual kWh Cost",null,"Total Annual kWh Cost",null,"Total Annual kWh Cost",null,"Total Annual kWh Cost",null,"Total Annual kWh Cost",null,"Average Annual kWh  Cost",null,"Total Annual kWh Cost",null,"Total Annual kWh Cost",null,"Total Annual kWh Cost",null,"Total Annual kWh Cost",null,"Total Annual kWh Cost",null,"Total Annual kWh Cost",null,"Total Annual kWh Cost",null,"Total Annual kWh Cost",null,"Total Annual kWh Cost",null,"Total Annual kWh Cost",null,"Total Annual kWh Cost",null,"Total Annual kWh Cost",null,"Total Annual kWh Cost",null,"Total Annual kWh Cost",null,"Total Annual kWh Cost",null,"Total Annual kWh Cost",null,"Total Annual kWh Cost",null,"Total Annual kWh Cost",null,"Total Annual kWh Cost",null,"Total Annual kWh Cost",null,"Average Annual kWh  Cost",null,"Total Annual kWh Cost",null,"Total Annual kWh Cost",null,"Total Annual kWh Cost",null,"Total Annual kWh Cost",null,"Total Annual kWh Cost",null,"Total Annual kWh Cost",null,"Total Annual kWh Cost",null,"Total Annual kWh Cost",null,"Total Annual kWh Cost",null,"Total Annual kWh Cost",null,"Total Annual kWh Cost",null,"Total Annual kWh Cost",null,"Total Annual kWh Cost",null,"Total Annual kWh Cost",null,"Total Annual kWh Cost",null,"Total Annual kWh Cost",null,"Total Annual kWh Cost",null,"Total Annual kWh Cost",null,"Total Annual kWh Cost",null,"Total Annual kWh Cost",null,"Average Annual kWh  Cost",null,"Total Annual kWh Cost",null,"Total Annual kWh Cost",null,"Total Annual kWh Cost",null,"Total Annual kWh Cost",null,"Total Annual kWh Cost",null,"Total Annual kWh Cost",null,"Total Annual kWh Cost",null,"Total Annual kWh Cost",null,"Total Annual kWh Cost",null,"Total Annual kWh Cost",null,"Total Annual kWh Cost",null,"Total Annual kWh Cost",null,"Total Annual kWh Cost",null,"Total Annual kWh Cost",null,"Total Annual kWh Cost",null,"Total Annual kWh Cost",null,"Total Annual kWh Cost",null,"Total Annual kWh Cost",null,"Total Annual kWh Cost",null,"Total Annual kWh Cost",null,"Average Annual kWh  Cost",null,"Total Annual kWh Cost",null,"Total Annual kWh Cost",null,"Total Annual kWh Cost",null,"Total Annual kWh Cost",null,"Total Annual kWh Cost",null,"Total Annual kWh Cost",null,"Total Annual kWh Cost",null,"Total Annual kWh Cost",null,"Total Annual kWh Cost",null,"Total Annual kWh Cost",null,"Total Annual kWh Cost",null,"Total Annual kWh Cost",null,"Total Annual kWh Cost",null,"Total Annual kWh Cost",null,"Total Annual kWh Cost",null,"Total Annual kWh Cost",null,"Total Annual kWh Cost",null,"Total Annual kWh Cost",null,"Total Annual kWh Cost",null,"Total Annual kWh Cost",null,"Average Annual kWh  Cost",null,"Total Annual kWh Cost",null,"Total Annual kWh Cost",null,"Total Annual kWh Cost",null,"Total Annual kWh Cost",null,"Total Annual kWh Cost",null,"Total Annual kWh Cost",null,"Total Annual kWh Cost",null,"Total Annual kWh Cost",null,"Total Annual kWh Cost",null,"Total Annual kWh Cost",null,"Total Annual kWh Cost",null,"Total Annual kWh Cost",null,"Total Annual kWh Cost",null,"Total Annual kWh Cost",null,"Total Annual kWh Cost",null,"Total Annual kWh Cost",null,"Total Annual kWh Cost",null,"Total Annual kWh Cost",null,"Total Annual kWh Cost",null,"Total Annual kWh Cost",null,"Average Annual kWh  Cost",null,"Total Annual kWh Cost",null,"Total Annual kWh Cost",null,"Total Annual kWh Cost",null,"Total Annual kWh Cost",null,"Total Annual kWh Cost",null,"Total Annual kWh Cost",null,"Total Annual kWh Cost",null,"Total Annual kWh Cost",null,"Total Annual kWh Cost",null,"Total Annual kWh Cost",null,"Total Annual kWh Cost",null,"Total Annual kWh Cost",null,"Total Annual kWh Cost",null,"Total Annual kWh Cost",null,"Total Annual kWh Cost",null,"Total Annual kWh Cost",null,"Total Annual kWh Cost",null,"Total Annual kWh Cost",null,"Total Annual kWh Cost",null,"Total Annual kWh Cost",null,"Average Annual kWh  Cost",null,"Total Annual kWh Cost",null,"Total Annual kWh Cost",null,"Total Annual kWh Cost",null,"Total Annual kWh Cost",null,"Total Annual kWh Cost",null,"Total Annual kWh Cost",null,"Total Annual kWh Cost",null,"Total Annual kWh Cost",null,"Total Annual kWh Cost",null,"Total Annual kWh Cost",null,"Total Annual kWh Cost",null,"Total Annual kWh Cost",null,"Total Annual kWh Cost",null,"Total Annual kWh Cost",null,"Total Annual kWh Cost",null,"Total Annual kWh Cost",null,"Total Annual kWh Cost",null,"Total Annual kWh Cost",null,"Total Annual kWh Cost",null,"Total Annual kWh Cost",null,"Average Annual kWh  Cost",null,"Total Annual kWh Cost",null,"Total Annual kWh Cost",null,"Total Annual kWh Cost",null,"Total Annual kWh Cost",null,"Total Annual kWh Cost",null,"Total Annual kWh Cost",null,"Total Annual kWh Cost",null,"Total Annual kWh Cost",null,"Total Annual kWh Cost",null,"Total Annual kWh Cost",null,"Total Annual kWh Cost",null,"Total Annual kWh Cost",null,"Total Annual kWh Cost",null,"Total Annual kWh Cost",null,"Total Annual kWh Cost",null,"Total Annual kWh Cost",null,"Total Annual kWh Cost",null,"Total Annual kWh Cost",null,"Total Annual kWh Cost",null,"Total Annual kWh Cost",null,"Average Annual kWh  Cost",null,"Average Annual kWh  Cost","Average Annual kWh  Cost","Average Annual kWh  Cost","Average Annual kWh  Cost","Average Annual kWh  Cost","Average Annual kWh  Cost","Average Annual kWh  Cost","Average Annual kWh  Cost","Average Annual kWh  Cost","Average Annual kWh  Cost","Total In-Unit Annual kWh  Cost"]
[null,null,null,null,null,null,null,null,null,null,null,null,null,null,null,null,null,null,null,null,null,null,null,null,null,null,null,null,null,null,null,null,null,null,null,null,null,null,null,null,null,null,null,null,null,{"$f":"IF(F30>0,AVERAGE(F30:AR30),0)","v":0},null,null,null,null,null,null,null,null,null,null,null,null,null,null,null,null,null,null,null,null,null,null,null,null,null,null,null,null,null,null,null,null,null,null,null,null,null,null,null,null,null,{"$f":"IF(AV30>0,AVERAGE(AV30:CH30),0)","v":0},null,null,null,null,null,null,null,null,null,null,null,null,null,null,null,null,null,null,null,null,null,null,null,null,null,null,null,null,null,null,null,null,null,null,null,null,null,null,null,null,null,{"$f":"IF(CL30>0,AVERAGE(CL30:DY30),0)","v":0},null,null,null,null,null,null,null,null,null,null,null,null,null,null,null,null,null,null,null,null,null,null,null,null,null,null,null,null,null,null,null,null,null,null,null,null,null,null,null,null,null,{"$f":"IF(EB30>0,AVERAGE(EB30:FN30),0)","v":0},null,null,null,null,null,null,null,null,null,null,null,null,null,null,null,null,null,null,null,null,null,null,null,null,null,null,null,null,null,null,null,null,null,null,null,null,null,null,null,null,null,{"$f":"IF(FR30>0,AVERAGE(FR30:HD30),0)","v":0},null,null,null,null,null,null,null,null,null,null,null,null,null,null,null,null,null,null,null,null,null,null,null,null,null,null,null,null,null,null,null,null,null,null,null,null,null,null,null,null,null,{"$f":"IF(HH30>0,AVERAGE(HH30:IT30),0)","v":0},null,null,null,null,null,null,null,null,null,null,null,null,null,null,null,null,null,null,null,null,null,null,null,null,null,null,null,null,null,null,null,null,null,null,null,null,null,null,null,null,null,{"$f":"IF(IX30>0,AVERAGE(IX30:KJ30),0)","v":0},null,null,null,null,null,null,null,null,null,null,null,null,null,null,null,null,null,null,null,null,null,null,null,null,null,null,null,null,null,null,null,null,null,null,null,null,null,null,null,null,null,{"$f":"IF(KN30>0,AVERAGE(KN30:LZ30),0)","v":0},null,null,null,null,null,null,null,null,null,null,null,null,null,null,null,null,null,null,null,null,null,null,null,null,null,null,null,null,null,null,null,null,null,null,null,null,null,null,null,null,null,{"$f":"IF(MD30>0,AVERAGE(MD30:NP30),0)","v":0},null,null,null,null,null,null,null,null,null,null,null,null,null,null,null,null,null,null,null,null,null,null,null,null,null,null,null,null,null,null,null,null,null,null,null,null,null,null,null,null,null,{"$f":"IF(NT30>0,AVERAGE(NT30:PF30),0)","v":0},null,{"$f":"AT30","v":0},{"$f":"CJ30","v":0},{"$f":"DZ30","v":0},{"$f":"FP30","v":0},{"$f":"HF30","v":0},{"$f":"IV30","v":0},{"$f":"KL30","v":0},{"$f":"MB30","v":0},{"$f":"NR30","v":0},{"$f":"PH30","v":0},{"$f":"SUMPRODUCT($PJ$8:$PS$8,PJ30:PS30)","v":0}]
[]
[null,"Post-Construction In-Unit Billing Dates",null,null,null,{"$f":"F5","v":"Unit Type 1 - "},null,null,null,null,null,null,null,null,null,null,null,null,null,null,null,null,null,null,null,null,null,null,null,null,null,null,null,null,null,null,null,null,null,null,null,null,null,null,null,null,null,{"$f":"AV5","v":"Unit Type 2 - "},null,null,null,null,null,null,null,null,null,null,null,null,null,null,null,null,null,null,null,null,null,null,null,null,null,null,null,null,null,null,null,null,null,null,null,null,null,null,null,null,null,{"$f":"CL5","v":"Unit Type 3 - "},null,null,null,null,null,null,null,null,null,null,null,null,null,null,null,null,null,null,null,null,null,null,null,null,null,null,null,null,null,null,null,null,null,null,null,null,null,null,null,null,null,{"$f":"EB5","v":"Unit Type 4 - "},null,null,null,null,null,null,null,null,null,null,null,null,null,null,null,null,null,null,null,null,null,null,null,null,null,null,null,null,null,null,null,null,null,null,null,null,null,null,null,null,null,{"$f":"FR5","v":"Unit Type 5 - "},null,null,null,null,null,null,null,null,null,null,null,null,null,null,null,null,null,null,null,null,null,null,null,null,null,null,null,null,null,null,null,null,null,null,null,null,null,null,null,null,null,{"$f":"HH5","v":"Unit Type 6 - "},null,null,null,null,null,null,null,null,null,null,null,null,null,null,null,null,null,null,null,null,null,null,null,null,null,null,null,null,null,null,null,null,null,null,null,null,null,null,null,null,null,{"$f":"IX5","v":"Unit Type 7 - "},null,null,null,null,null,null,null,null,null,null,null,null,null,null,null,null,null,null,null,null,null,null,null,null,null,null,null,null,null,null,null,null,null,null,null,null,null,null,null,null,null,{"$f":"KN5","v":"Unit Type 8 - "},null,null,null,null,null,null,null,null,null,null,null,null,null,null,null,null,null,null,null,null,null,null,null,null,null,null,null,null,null,null,null,null,null,null,null,null,null,null,null,null,null,{"$f":"MD5","v":"Unit Type 9 - "},null,null,null,null,null,null,null,null,null,null,null,null,null,null,null,null,null,null,null,null,null,null,null,null,null,null,null,null,null,null,null,null,null,null,null,null,null,null,null,null,null,{"$f":"NT5","v":"Unit Type 10 - "},null,null,null,null,null,null,null,null,null,null,null,null,null,null,null,null,null,null,null,null,null,null,null,null,null,null,null,null,null,null,null,null,null,null,null,null,null,null,null,null,null,"POST-CONSTRUCTION\nSummary of In-Unit Electricity Use"]
[null,null,null,null,null,"Unit #:",null,"Unit #:",null,"Unit #:",null,"Unit #:",null,"Unit #:",null,"Unit #:",null,"Unit #:",null,"Unit #:",null,"Unit #:",null,"Unit #:",null,"Unit #:",null,"Unit #:",null,"Unit #:",null,"Unit #:",null,"Unit #:",null,"Unit #:",null,"Unit #:",null,"Unit #:",null,"Unit #:",null,"Unit #:",null,"SUMMARY",null,"Unit #:",null,"Unit #:",null,"Unit #:",null,"Unit #:",null,"Unit #:",null,"Unit #:",null,"Unit #:",null,"Unit #:",null,"Unit #:",null,"Unit #:",null,"Unit #:",null,"Unit #:",null,"Unit #:",null,"Unit #:",null,"Unit #:",null,"Unit #:",null,"Unit #:",null,"Unit #:",null,"Unit #:",null,"Unit #:",null,"SUMMARY",null,"Unit #:",null,"Unit #:",null,"Unit #:",null,"Unit #:",null,"Unit #:",null,"Unit #:",null,"Unit #:",null,"Unit #:",null,"Unit #:",null,"Unit #:",null,"Unit #:",null,"Unit #:",null,"Unit #:",null,"Unit #:",null,"Unit #:",null,"Unit #:",null,"Unit #:",null,"Unit #:",null,"Unit #:",null,"Unit #:",null,"SUMMARY",null,"Unit #:",null,"Unit #:",null,"Unit #:",null,"Unit #:",null,"Unit #:",null,"Unit #:",null,"Unit #:",null,"Unit #:",null,"Unit #:",null,"Unit #:",null,"Unit #:",null,"Unit #:",null,"Unit #:",null,"Unit #:",null,"Unit #:",null,"Unit #:",null,"Unit #:",null,"Unit #:",null,"Unit #:",null,"Unit #:",null,"SUMMARY",null,"Unit #:",null,"Unit #:",null,"Unit #:",null,"Unit #:",null,"Unit #:",null,"Unit #:",null,"Unit #:",null,"Unit #:",null,"Unit #:",null,"Unit #:",null,"Unit #:",null,"Unit #:",null,"Unit #:",null,"Unit #:",null,"Unit #:",null,"Unit #:",null,"Unit #:",null,"Unit #:",null,"Unit #:",null,"Unit #:",null,"SUMMARY",null,"Unit #:",null,"Unit #:",null,"Unit #:",null,"Unit #:",null,"Unit #:",null,"Unit #:",null,"Unit #:",null,"Unit #:",null,"Unit #:",null,"Unit #:",null,"Unit #:",null,"Unit #:",null,"Unit #:",null,"Unit #:",null,"Unit #:",null,"Unit #:",null,"Unit #:",null,"Unit #:",null,"Unit #:",null,"Unit #:",null,"SUMMARY",null,"Unit #:",null,"Unit #:",null,"Unit #:",null,"Unit #:",null,"Unit #:",null,"Unit #:",null,"Unit #:",null,"Unit #:",null,"Unit #:",null,"Unit #:",null,"Unit #:",null,"Unit #:",null,"Unit #:",null,"Unit #:",null,"Unit #:",null,"Unit #:",null,"Unit #:",null,"Unit #:",null,"Unit #:",null,"Unit #:",null,"SUMMARY",null,"Unit #:",null,"Unit #:",null,"Unit #:",null,"Unit #:",null,"Unit #:",null,"Unit #:",null,"Unit #:",null,"Unit #:",null,"Unit #:",null,"Unit #:",null,"Unit #:",null,"Unit #:",null,"Unit #:",null,"Unit #:",null,"Unit #:",null,"Unit #:",null,"Unit #:",null,"Unit #:",null,"Unit #:",null,"Unit #:",null,"SUMMARY",null,"Unit #:",null,"Unit #:",null,"Unit #:",null,"Unit #:",null,"Unit #:",null,"Unit #:",null,"Unit #:",null,"Unit #:",null,"Unit #:",null,"Unit #:",null,"Unit #:",null,"Unit #:",null,"Unit #:",null,"Unit #:",null,"Unit #:",null,"Unit #:",null,"Unit #:",null,"Unit #:",null,"Unit #:",null,"Unit #:",null,"SUMMARY",null,"Unit #:",null,"Unit #:",null,"Unit #:",null,"Unit #:",null,"Unit #:",null,"Unit #:",null,"Unit #:",null,"Unit #:",null,"Unit #:",null,"Unit #:",null,"Unit #:",null,"Unit #:",null,"Unit #:",null,"Unit #:",null,"Unit #:",null,"Unit #:",null,"Unit #:",null,"Unit #:",null,"Unit #:",null,"Unit #:",null,"SUMMARY"]
[]
[null,null,null,null,null,"Account #:",null,"Account #:",null,"Account #:",null,"Account #:",null,"Account #:",null,"Account #:",null,"Account #:",null,"Account #:",null,"Account #:",null,"Account #:",null,"Account #:",null,"Account #:",null,"Account #:",null,"Account #:",null,"Account #:",null,"Account #:",null,"Account #:",null,"Account #:",null,"Account #:",null,"Account #:",null,null,null,"Account #:",null,"Account #:",null,"Account #:",null,"Account #:",null,"Account #:",null,"Account #:",null,"Account #:",null,"Account #:",null,"Account #:",null,"Account #:",null,"Account #:",null,"Account #:",null,"Account #:",null,"Account #:",null,"Account #:",null,"Account #:",null,"Account #:",null,"Account #:",null,"Account #:",null,"Account #:",null,null,null,"Account #:",null,"Account #:",null,"Account #:",null,"Account #:",null,"Account #:",null,"Account #:",null,"Account #:",null,"Account #:",null,"Account #:",null,"Account #:",null,"Account #:",null,"Account #:",null,"Account #:",null,"Account #:",null,"Account #:",null,"Account #:",null,"Account #:",null,"Account #:",null,"Account #:",null,"Account #:",null,null,null,"Account #:",null,"Account #:",null,"Account #:",null,"Account #:",null,"Account #:",null,"Account #:",null,"Account #:",null,"Account #:",null,"Account #:",null,"Account #:",null,"Account #:",null,"Account #:",null,"Account #:",null,"Account #:",null,"Account #:",null,"Account #:",null,"Account #:",null,"Account #:",null,"Account #:",null,"Account #:",null,null,null,"Account #:",null,"Account #:",null,"Account #:",null,"Account #:",null,"Account #:",null,"Account #:",null,"Account #:",null,"Account #:",null,"Account #:",null,"Account #:",null,"Account #:",null,"Account #:",null,"Account #:",null,"Account #:",null,"Account #:",null,"Account #:",null,"Account #:",null,"Account #:",null,"Account #:",null,"Account #:",null,null,null,"Account #:",null,"Account #:",null,"Account #:",null,"Account #:",null,"Account #:",null,"Account #:",null,"Account #:",null,"Account #:",null,"Account #:",null,"Account #:",null,"Account #:",null,"Account #:",null,"Account #:",null,"Account #:",null,"Account #:",null,"Account #:",null,"Account #:",null,"Account #:",null,"Account #:",null,"Account #:",null,null,null,"Account #:",null,"Account #:",null,"Account #:",null,"Account #:",null,"Account #:",null,"Account #:",null,"Account #:",null,"Account #:",null,"Account #:",null,"Account #:",null,"Account #:",null,"Account #:",null,"Account #:",null,"Account #:",null,"Account #:",null,"Account #:",null,"Account #:",null,"Account #:",null,"Account #:",null,"Account #:",null,null,null,"Account #:",null,"Account #:",null,"Account #:",null,"Account #:",null,"Account #:",null,"Account #:",null,"Account #:",null,"Account #:",null,"Account #:",null,"Account #:",null,"Account #:",null,"Account #:",null,"Account #:",null,"Account #:",null,"Account #:",null,"Account #:",null,"Account #:",null,"Account #:",null,"Account #:",null,"Account #:",null,null,null,"Account #:",null,"Account #:",null,"Account #:",null,"Account #:",null,"Account #:",null,"Account #:",null,"Account #:",null,"Account #:",null,"Account #:",null,"Account #:",null,"Account #:",null,"Account #:",null,"Account #:",null,"Account #:",null,"Account #:",null,"Account #:",null,"Account #:",null,"Account #:",null,"Account #:",null,"Account #:",null,null,null,"Account #:",null,"Account #:",null,"Account #:",null,"Account #:",null,"Account #:",null,"Account #:",null,"Account #:",null,"Account #:",null,"Account #:",null,"Account #:",null,"Account #:",null,"Account #:",null,"Account #:",null,"Account #:",null,"Account #:",null,"Account #:",null,"Account #:",null,"Account #:",null,"Account #:",null,"Account #:",null,null,null,{"$f":"PJ8","v":0},{"$f":"PK8","v":0},0,0,0,0,0,0,0,0]
[null,null,null,null,null,null,null,null,null,null,null,null,null,null,null,null,null,null,null,null,null,null,null,null,null,null,null,null,null,null,null,null,null,null,null,null,null,null,null,null,null,null,null,null,null,null,null,null,null,null,null,null,null,null,null,null,null,null,null,null,null,null,null,null,null,null,null,null,null,null,null,null,null,null,null,null,null,null,null,null,null,null,null,null,null,null,null,null,null,null,null,null,null,null,null,null,null,null,null,null,null,null,null,null,null,null,null,null,null,null,null,null,null,null,null,null,null,null,null,null,null,null,null,null,null,null,null,null,null,null,null,null,null,null,null,null,null,null,null,null,null,null,null,null,null,null,null,null,null,null,null,null,null,null,null,null,null,null,null,null,null,null,null,null,null,null,null,null,null,null,null,null,null,null,null,null,null,null,null,null,null,null,null,null,null,null,null,null,null,null,null,null,null,null,null,null,null,null,null,null,null,null,null,null,null,null,null,null,null,null,null,null,null,null,null,null,null,null,null,null,null,null,null,null,null,null,null,null,null,null,null,null,null,null,null,null,null,null,null,null,null,null,null,null,null,null,null,null,null,null,null,null,null,null,null,null,null,null,null,null,null,null,null,null,null,null,null,null,null,null,null,null,null,null,null,null,null,null,null,null,null,null,null,null,null,null,null,null,null,null,null,null,null,null,null,null,null,null,null,null,null,null,null,null,null,null,null,null,null,null,null,null,null,null,null,null,null,null,null,null,null,null,null,null,null,null,null,null,null,null,null,null,null,null,null,null,null,null,null,null,null,null,null,null,null,null,null,null,null,null,null,null,null,null,null,null,null,null,null,null,null,null,null,null,null,null,null,null,null,null,null,null,null,null,null,null,null,null,null,null,null,null,null,null,null,null,null,null,null,null,null,null,null,null,null,null,null,null,null,null,null,null,null,null,null,null,null,null,null,null,null,null,null,null,null,null,null,null,null,null,null,null,null,null,null,{"$f":"PJ9","v":"Unit Type 1"},"Unit Type 2","Unit Type 3","Unit Type 4","Unit Type 5","Unit Type 6","Unit Type 7","Unit Type 8","Unit Type 9","Unit Type 10","SUMMARY"]
[null,"Billing Period Start Date","Read Date","Days in Billing Period",null,"kWh","Actual/ Estimated","kWh","Actual/ Estimated","kWh","Actual/ Estimated","kWh","Actual/ Estimated","kWh","Actual/ Estimated","kWh","Actual/ Estimated","kWh","Actual/ Estimated","kWh","Actual/ Estimated","kWh","Actual/ Estimated","kWh","Actual/ Estimated","kWh","Actual/ Estimated","kWh","Actual/ Estimated","kWh","Actual/ Estimated","kWh","Actual/ Estimated","kWh","Actual/ Estimated","kWh","Actual/ Estimated","kWh","Actual/ Estimated","kWh","Actual/ Estimated","kWh","Actual/ Estimated","kWh","Actual/ Estimated","Average kWh Consumption",null,"kWh","Actual/ Estimated","kWh","Actual/ Estimated","kWh","Actual/ Estimated","kWh","Actual/ Estimated","kWh","Actual/ Estimated","kWh","Actual/ Estimated","kWh","Actual/ Estimated","kWh","Actual/ Estimated","kWh","Actual/ Estimated","kWh","Actual/ Estimated","kWh","Actual/ Estimated","kWh","Actual/ Estimated","kWh","Actual/ Estimated","kWh","Actual/ Estimated","kWh","Actual/ Estimated","kWh","Actual/ Estimated","kWh","Actual/ Estimated","kWh","Actual/ Estimated","kWh","Actual/ Estimated","kWh","Actual/ Estimated","Average kWh Consumption",null,"kWh","Actual/ Estimated","kWh","Actual/ Estimated","kWh","Actual/ Estimated","kWh","Actual/ Estimated","kWh","Actual/ Estimated","kWh","Actual/ Estimated","kWh","Actual/ Estimated","kWh","Actual/ Estimated","kWh","Actual/ Estimated","kWh","Actual/ Estimated","kWh","Actual/ Estimated","kWh","Actual/ Estimated","kWh","Actual/ Estimated","kWh","Actual/ Estimated","kWh","Actual/ Estimated","kWh","Actual/ Estimated","kWh","Actual/ Estimated","kWh","Actual/ Estimated","kWh","Actual/ Estimated","kWh","Actual/ Estimated","Average kWh Consumption",null,"kWh","Actual/ Estimated","kWh","Actual/ Estimated","kWh","Actual/ Estimated","kWh","Actual/ Estimated","kWh","Actual/ Estimated","kWh","Actual/ Estimated","kWh","Actual/ Estimated","kWh","Actual/ Estimated","kWh","Actual/ Estimated","kWh","Actual/ Estimated","kWh","Actual/ Estimated","kWh","Actual/ Estimated","kWh","Actual/ Estimated","kWh","Actual/ Estimated","kWh","Actual/ Estimated","kWh","Actual/ Estimated","kWh","Actual/ Estimated","kWh","Actual/ Estimated","kWh","Actual/ Estimated","kWh","Actual/ Estimated","Average kWh Consumption",null,"kWh","Actual/ Estimated","kWh","Actual/ Estimated","kWh","Actual/ Estimated","kWh","Actual/ Estimated","kWh","Actual/ Estimated","kWh","Actual/ Estimated","kWh","Actual/ Estimated","kWh","Actual/ Estimated","kWh","Actual/ Estimated","kWh","Actual/ Estimated","kWh","Actual/ Estimated","kWh","Actual/ Estimated","kWh","Actual/ Estimated","kWh","Actual/ Estimated","kWh","Actual/ Estimated","kWh","Actual/ Estimated","kWh","Actual/ Estimated","kWh","Actual/ Estimated","kWh","Actual/ Estimated","kWh","Actual/ Estimated","Average kWh Consumption",null,"kWh","Actual/ Estimated","kWh","Actual/ Estimated","kWh","Actual/ Estimated","kWh","Actual/ Estimated","kWh","Actual/ Estimated","kWh","Actual/ Estimated","kWh","Actual/ Estimated","kWh","Actual/ Estimated","kWh","Actual/ Estimated","kWh","Actual/ Estimated","kWh","Actual/ Estimated","kWh","Actual/ Estimated","kWh","Actual/ Estimated","kWh","Actual/ Estimated","kWh","Actual/ Estimated","kWh","Actual/ Estimated","kWh","Actual/ Estimated","kWh","Actual/ Estimated","kWh","Actual/ Estimated","kWh","Actual/ Estimated","Average kWh Consumption",null,"kWh","Actual/ Estimated","kWh","Actual/ Estimated","kWh","Actual/ Estimated","kWh","Actual/ Estimated","kWh","Actual/ Estimated","kWh","Actual/ Estimated","kWh","Actual/ Estimated","kWh","Actual/ Estimated","kWh","Actual/ Estimated","kWh","Actual/ Estimated","kWh","Actual/ Estimated","kWh","Actual/ Estimated","kWh","Actual/ Estimated","kWh","Actual/ Estimated","kWh","Actual/ Estimated","kWh","Actual/ Estimated","kWh","Actual/ Estimated","kWh","Actual/ Estimated","kWh","Actual/ Estimated","kWh","Actual/ Estimated","Average kWh Consumption",null,"kWh","Actual/ Estimated","kWh","Actual/ Estimated","kWh","Actual/ Estimated","kWh","Actual/ Estimated","kWh","Actual/ Estimated","kWh","Actual/ Estimated","kWh","Actual/ Estimated","kWh","Actual/ Estimated","kWh","Actual/ Estimated","kWh","Actual/ Estimated","kWh","Actual/ Estimated","kWh","Actual/ Estimated","kWh","Actual/ Estimated","kWh","Actual/ Estimated","kWh","Actual/ Estimated","kWh","Actual/ Estimated","kWh","Actual/ Estimated","kWh","Actual/ Estimated","kWh","Actual/ Estimated","kWh","Actual/ Estimated","Average kWh Consumption",null,"kWh","Actual/ Estimated","kWh","Actual/ Estimated","kWh","Actual/ Estimated","kWh","Actual/ Estimated","kWh","Actual/ Estimated","kWh","Actual/ Estimated","kWh","Actual/ Estimated","kWh","Actual/ Estimated","kWh","Actual/ Estimated","kWh","Actual/ Estimated","kWh","Actual/ Estimated","kWh","Actual/ Estimated","kWh","Actual/ Estimated","kWh","Actual/ Estimated","kWh","Actual/ Estimated","kWh","Actual/ Estimated","kWh","Actual/ Estimated","kWh","Actual/ Estimated","kWh","Actual/ Estimated","kWh","Actual/ Estimated","Average kWh Consumption",null,"kWh","Actual/ Estimated","kWh","Actual/ Estimated","kWh","Actual/ Estimated","kWh","Actual/ Estimated","kWh","Actual/ Estimated","kWh","Actual/ Estimated","kWh","Actual/ Estimated","kWh","Actual/ Estimated","kWh","Actual/ Estimated","kWh","Actual/ Estimated","kWh","Actual/ Estimated","kWh","Actual/ Estimated","kWh","Actual/ Estimated","kWh","Actual/ Estimated","kWh","Actual/ Estimated","kWh","Actual/ Estimated","kWh","Actual/ Estimated","kWh","Actual/ Estimated","kWh","Actual/ Estimated","kWh","Actual/ Estimated","Average kWh Consumption",null,"Average kWh Consumption","Average kWh Consumption","Average kWh Consumption","Average kWh Consumption","Average kWh Consumption","Average kWh Consumption","Average kWh Consumption","Average kWh Consumption","Average kWh Consumption","Average kWh Consumption","Total In-Unit kWh Consumption"]
[]
[null,{"$f":"C38+1","v":"1900-01-01"},null,{"$f":"IF(C39>0,C39+1-B39,0)","v":0},null,null,null,null,null,null,null,null,null,null,null,null,null,null,null,null,null,null,null,null,null,null,null,null,null,null,null,null,null,null,null,null,null,null,null,null,null,null,null,null,null,{"$f":"IF(ISBLANK(F39)=FALSE,AVERAGE(F39:AR39),\"\")","v":""},null,null,null,null,null,null,null,null,null,null,null,null,null,null,null,null,null,null,null,null,null,null,null,null,null,null,null,null,null,null,null,null,null,null,null,null,null,null,null,null,null,{"$f":"IF(ISBLANK(AV39)=FALSE,AVERAGE(AV39:CH39),\"\")","v":""},null,null,null,null,null,null,null,null,null,null,null,null,null,null,null,null,null,null,null,null,null,null,null,null,null,null,null,null,null,null,null,null,null,null,null,null,null,null,null,null,null,{"$f":"IF(ISBLANK(CL39)=FALSE,AVERAGE(CL39:DW39),\"\")","v":""},null,null,null,null,null,null,null,null,null,null,null,null,null,null,null,null,null,null,null,null,null,null,null,null,null,null,null,null,null,null,null,null,null,null,null,null,null,null,null,null,null,{"$f":"IF(ISBLANK(EB39)=FALSE,AVERAGE(EB39:FN39),\"\")","v":""},null,null,null,null,null,null,null,null,null,null,null,null,null,null,null,null,null,null,null,null,null,null,null,null,null,null,null,null,null,null,null,null,null,null,null,null,null,null,null,null,null,{"$f":"IF(ISBLANK(FR39)=FALSE,AVERAGE(FR39:HD39),\"\")","v":""},null,null,null,null,null,null,null,null,null,null,null,null,null,null,null,null,null,null,null,null,null,null,null,null,null,null,null,null,null,null,null,null,null,null,null,null,null,null,null,null,null,{"$f":"IF(ISBLANK(HH39)=FALSE,AVERAGE(HH39:IT39),\"\")","v":""},null,null,null,null,null,null,null,null,null,null,null,null,null,null,null,null,null,null,null,null,null,null,null,null,null,null,null,null,null,null,null,null,null,null,null,null,null,null,null,null,null,{"$f":"IF(ISBLANK(IX39)=FALSE,AVERAGE(IX39:KJ39),\"\")","v":""},null,null,null,null,null,null,null,null,null,null,null,null,null,null,null,null,null,null,null,null,null,null,null,null,null,null,null,null,null,null,null,null,null,null,null,null,null,null,null,null,null,{"$f":"IF(ISBLANK(KN39)=FALSE,AVERAGE(KN39:LZ39),\"\")","v":""},null,null,null,null,null,null,null,null,null,null,null,null,null,null,null,null,null,null,null,null,null,null,null,null,null,null,null,null,null,null,null,null,null,null,null,null,null,null,null,null,null,{"$f":"IF(ISBLANK(MD39)=FALSE,AVERAGE(MD39:NP39),\"\")","v":""},null,null,null,null,null,null,null,null,null,null,null,null,null,null,null,null,null,null,null,null,null,null,null,null,null,null,null,null,null,null,null,null,null,null,null,null,null,null,null,null,null,{"$f":"IF(ISBLANK(NT39)=FALSE,AVERAGE(NT39:PF39),\"\")","v":""},null,{"$f":"IF(AT39=\"\",0,AT39)","v":0},{"$f":"IF(CJ39=\"\",0,CJ39)","v":0},{"$f":"IF(DZ39=\"\",0,DZ39)","v":0},{"$f":"IF(FP39=\"\",0,FP39)","v":0},{"$f":"IF(HF39=\"\",0,HF39)","v":0},{"$f":"IF(IV39=\"\",0,IV39)","v":0},{"$f":"IF(KL39=\"\",0,KL39)","v":0},{"$f":"IF(MB39=\"\",0,MB39)","v":0},{"$f":"IF(NR39=\"\",0,NR39)","v":0},{"$f":"IF(PH39=\"\",0,PH39)","v":0},{"$f":"SUMPRODUCT($PJ$35:$PS$35,PJ39:PS39)","v":0}]
[null,{"$f":"C39+1","v":"1900-01-01"},null,0,null,null,null,null,null,null,null,null,null,null,null,null,null,null,null,null,null,null,null,null,null,null,null,null,null,null,null,null,null,null,null,null,null,null,null,null,null,null,null,null,null,"",null,null,null,null,null,null,null,null,null,null,null,null,null,null,null,null,null,null,null,null,null,null,null,null,null,null,null,null,null,null,null,null,null,null,null,null,null,null,null,null,null,"",null,null,null,null,null,null,null,null,null,null,null,null,null,null,null,null,null,null,null,null,null,null,null,null,null,null,null,null,null,null,null,null,null,null,null,null,null,null,null,null,null,"",null,null,null,null,null,null,null,null,null,null,null,null,null,null,null,null,null,null,null,null,null,null,null,null,null,null,null,null,null,null,null,null,null,null,null,null,null,null,null,null,null,"",null,null,null,null,null,null,null,null,null,null,null,null,null,null,null,null,null,null,null,null,null,null,null,null,null,null,null,null,null,null,null,null,null,null,null,null,null,null,null,null,null,"",null,null,null,null,null,null,null,null,null,null,null,null,null,null,null,null,null,null,null,null,null,null,null,null,null,null,null,null,null,null,null,null,null,null,null,null,null,null,null,null,null,"",null,null,null,null,null,null,null,null,null,null,null,null,null,null,null,null,null,null,null,null,null,null,null,null,null,null,null,null,null,null,null,null,null,null,null,null,null,null,null,null,null,"",null,null,null,null,null,null,null,null,null,null,null,null,null,null,null,null,null,null,null,null,null,null,null,null,null,null,null,null,null,null,null,null,null,null,null,null,null,null,null,null,null,"",null,null,null,null,null,null,null,null,null,null,null,null,null,null,null,null,null,null,null,null,null,null,null,null,null,null,null,null,null,null,null,null,null,null,null,null,null,null,null,null,null,"",null,null,null,null,null,null,null,null,null,null,null,null,null,null,null,null,null,null,null,null,null,null,null,null,null,null,null,null,null,null,null,null,null,null,null,null,null,null,null,null,null,"",null,0,0,0,0,0,0,0,0,0,0,{"$f":"SUMPRODUCT($PJ$35:$PS$35,PJ40:PS40)","v":0}]
[null,"1900-01-01",null,0,null,null,null,null,null,null,null,null,null,null,null,null,null,null,null,null,null,null,null,null,null,null,null,null,null,null,null,null,null,null,null,null,null,null,null,null,null,null,null,null,null,"",null,null,null,null,null,null,null,null,null,null,null,null,null,null,null,null,null,null,null,null,null,null,null,null,null,null,null,null,null,null,null,null,null,null,null,null,null,null,null,null,null,"",null,null,null,null,null,null,null,null,null,null,null,null,null,null,null,null,null,null,null,null,null,null,null,null,null,null,null,null,null,null,null,null,null,null,null,null,null,null,null,null,null,"",null,null,null,null,null,null,null,null,null,null,null,null,null,null,null,null,null,null,null,null,null,null,null,null,null,null,null,null,null,null,null,null,null,null,null,null,null,null,null,null,null,"",null,null,null,null,null,null,null,null,null,null,null,null,null,null,null,null,null,null,null,null,null,null,null,null,null,null,null,null,null,null,null,null,null,null,null,null,null,null,null,null,null,"",null,null,null,null,null,null,null,null,null,null,null,null,null,null,null,null,null,null,null,null,null,null,null,null,null,null,null,null,null,null,null,null,null,null,null,null,null,null,null,null,null,"",null,null,null,null,null,null,null,null,null,null,null,null,null,null,null,null,null,null,null,null,null,null,null,null,null,null,null,null,null,null,null,null,null,null,null,null,null,null,null,null,null,"",null,null,null,null,null,null,null,null,null,null,null,null,null,null,null,null,null,null,null,null,null,null,null,null,null,null,null,null,null,null,null,null,null,null,null,null,null,null,null,null,null,"",null,null,null,null,null,null,null,null,null,null,null,null,null,null,null,null,null,null,null,null,null,null,null,null,null,null,null,null,null,null,null,null,null,null,null,null,null,null,null,null,null,"",null,null,null,null,null,null,null,null,null,null,null,null,null,null,null,null,null,null,null,null,null,null,null,null,null,null,null,null,null,null,null,null,null,null,null,null,null,null,null,null,null,"",null,0,0,0,0,0,0,0,0,0,0,0]
[null,"1900-01-01",null,0,null,null,null,null,null,null,null,null,null,null,null,null,null,null,null,null,null,null,null,null,null,null,null,null,null,null,null,null,null,null,null,null,null,null,null,null,null,null,null,null,null,"",null,null,null,null,null,null,null,null,null,null,null,null,null,null,null,null,null,null,null,null,null,null,null,null,null,null,null,null,null,null,null,null,null,null,null,null,null,null,null,null,null,"",null,null,null,null,null,null,null,null,null,null,null,null,null,null,null,null,null,null,null,null,null,null,null,null,null,null,null,null,null,null,null,null,null,null,null,null,null,null,null,null,null,"",null,null,null,null,null,null,null,null,null,null,null,null,null,null,null,null,null,null,null,null,null,null,null,null,null,null,null,null,null,null,null,null,null,null,null,null,null,null,null,null,null,"",null,null,null,null,null,null,null,null,null,null,null,null,null,null,null,null,null,null,null,null,null,null,null,null,null,null,null,null,null,null,null,null,null,null,null,null,null,null,null,null,null,"",null,null,null,null,null,null,null,null,null,null,null,null,null,null,null,null,null,null,null,null,null,null,null,null,null,null,null,null,null,null,null,null,null,null,null,null,null,null,null,null,null,"",null,null,null,null,null,null,null,null,null,null,null,null,null,null,null,null,null,null,null,null,null,null,null,null,null,null,null,null,null,null,null,null,null,null,null,null,null,null,null,null,null,"",null,null,null,null,null,null,null,null,null,null,null,null,null,null,null,null,null,null,null,null,null,null,null,null,null,null,null,null,null,null,null,null,null,null,null,null,null,null,null,null,null,"",null,null,null,null,null,null,null,null,null,null,null,null,null,null,null,null,null,null,null,null,null,null,null,null,null,null,null,null,null,null,null,null,null,null,null,null,null,null,null,null,null,"",null,null,null,null,null,null,null,null,null,null,null,null,null,null,null,null,null,null,null,null,null,null,null,null,null,null,null,null,null,null,null,null,null,null,null,null,null,null,null,null,null,"",null,0,0,0,0,0,0,0,0,0,0,0]
[null,"1900-01-01",null,0,null,null,null,null,null,null,null,null,null,null,null,null,null,null,null,null,null,null,null,null,null,null,null,null,null,null,null,null,null,null,null,null,null,null,null,null,null,null,null,null,null,"",null,null,null,null,null,null,null,null,null,null,null,null,null,null,null,null,null,null,null,null,null,null,null,null,null,null,null,null,null,null,null,null,null,null,null,null,null,null,null,null,null,"",null,null,null,null,null,null,null,null,null,null,null,null,null,null,null,null,null,null,null,null,null,null,null,null,null,null,null,null,null,null,null,null,null,null,null,null,null,null,null,null,null,"",null,null,null,null,null,null,null,null,null,null,null,null,null,null,null,null,null,null,null,null,null,null,null,null,null,null,null,null,null,null,null,null,null,null,null,null,null,null,null,null,null,"",null,null,null,null,null,null,null,null,null,null,null,null,null,null,null,null,null,null,null,null,null,null,null,null,null,null,null,null,null,null,null,null,null,null,null,null,null,null,null,null,null,"",null,null,null,null,null,null,null,null,null,null,null,null,null,null,null,null,null,null,null,null,null,null,null,null,null,null,null,null,null,null,null,null,null,null,null,null,null,null,null,null,null,"",null,null,null,null,null,null,null,null,null,null,null,null,null,null,null,null,null,null,null,null,null,null,null,null,null,null,null,null,null,null,null,null,null,null,null,null,null,null,null,null,null,"",null,null,null,null,null,null,null,null,null,null,null,null,null,null,null,null,null,null,null,null,null,null,null,null,null,null,null,null,null,null,null,null,null,null,null,null,null,null,null,null,null,"",null,null,null,null,null,null,null,null,null,null,null,null,null,null,null,null,null,null,null,null,null,null,null,null,null,null,null,null,null,null,null,null,null,null,null,null,null,null,null,null,null,"",null,null,null,null,null,null,null,null,null,null,null,null,null,null,null,null,null,null,null,null,null,null,null,null,null,null,null,null,null,null,null,null,null,null,null,null,null,null,null,null,null,"",null,0,0,0,0,0,0,0,0,0,0,0]
[null,"1900-01-01",null,0,null,null,null,null,null,null,null,null,null,null,null,null,null,null,null,null,null,null,null,null,null,null,null,null,null,null,null,null,null,null,null,null,null,null,null,null,null,null,null,null,null,"",null,null,null,null,null,null,null,null,null,null,null,null,null,null,null,null,null,null,null,null,null,null,null,null,null,null,null,null,null,null,null,null,null,null,null,null,null,null,null,null,null,"",null,null,null,null,null,null,null,null,null,null,null,null,null,null,null,null,null,null,null,null,null,null,null,null,null,null,null,null,null,null,null,null,null,null,null,null,null,null,null,null,null,"",null,null,null,null,null,null,null,null,null,null,null,null,null,null,null,null,null,null,null,null,null,null,null,null,null,null,null,null,null,null,null,null,null,null,null,null,null,null,null,null,null,"",null,null,null,null,null,null,null,null,null,null,null,null,null,null,null,null,null,null,null,null,null,null,null,null,null,null,null,null,null,null,null,null,null,null,null,null,null,null,null,null,null,"",null,null,null,null,null,null,null,null,null,null,null,null,null,null,null,null,null,null,null,null,null,null,null,null,null,null,null,null,null,null,null,null,null,null,null,null,null,null,null,null,null,"",null,null,null,null,null,null,null,null,null,null,null,null,null,null,null,null,null,null,null,null,null,null,null,null,null,null,null,null,null,null,null,null,null,null,null,null,null,null,null,null,null,"",null,null,null,null,null,null,null,null,null,null,null,null,null,null,null,null,null,null,null,null,null,null,null,null,null,null,null,null,null,null,null,null,null,null,null,null,null,null,null,null,null,"",null,null,null,null,null,null,null,null,null,null,null,null,null,null,null,null,null,null,null,null,null,null,null,null,null,null,null,null,null,null,null,null,null,null,null,null,null,null,null,null,null,"",null,null,null,null,null,null,null,null,null,null,null,null,null,null,null,null,null,null,null,null,null,null,null,null,null,null,null,null,null,null,null,null,null,null,null,null,null,null,null,null,null,"",null,0,0,0,0,0,0,0,0,0,0,0]
[null,"1900-01-01",null,0,null,null,null,null,null,null,null,null,null,null,null,null,null,null,null,null,null,null,null,null,null,null,null,null,null,null,null,null,null,null,null,null,null,null,null,null,null,null,null,null,null,"",null,null,null,null,null,null,null,null,null,null,null,null,null,null,null,null,null,null,null,null,null,null,null,null,null,null,null,null,null,null,null,null,null,null,null,null,null,null,null,null,null,"",null,null,null,null,null,null,null,null,null,null,null,null,null,null,null,null,null,null,null,null,null,null,null,null,null,null,null,null,null,null,null,null,null,null,null,null,null,null,null,null,null,"",null,null,null,null,null,null,null,null,null,null,null,null,null,null,null,null,null,null,null,null,null,null,null,null,null,null,null,null,null,null,null,null,null,null,null,null,null,null,null,null,null,"",null,null,null,null,null,null,null,null,null,null,null,null,null,null,null,null,null,null,null,null,null,null,null,null,null,null,null,null,null,null,null,null,null,null,null,null,null,null,null,null,null,"",null,null,null,null,null,null,null,null,null,null,null,null,null,null,null,null,null,null,null,null,null,null,null,null,null,null,null,null,null,null,null,null,null,null,null,null,null,null,null,null,null,"",null,null,null,null,null,null,null,null,null,null,null,null,null,null,null,null,null,null,null,null,null,null,null,null,null,null,null,null,null,null,null,null,null,null,null,null,null,null,null,null,null,"",null,null,null,null,null,null,null,null,null,null,null,null,null,null,null,null,null,null,null,null,null,null,null,null,null,null,null,null,null,null,null,null,null,null,null,null,null,null,null,null,null,"",null,null,null,null,null,null,null,null,null,null,null,null,null,null,null,null,null,null,null,null,null,null,null,null,null,null,null,null,null,null,null,null,null,null,null,null,null,null,null,null,null,"",null,null,null,null,null,null,null,null,null,null,null,null,null,null,null,null,null,null,null,null,null,null,null,null,null,null,null,null,null,null,null,null,null,null,null,null,null,null,null,null,null,"",null,0,0,0,0,0,0,0,0,0,0,0]
[null,"1900-01-01",null,0,null,null,null,null,null,null,null,null,null,null,null,null,null,null,null,null,null,null,null,null,null,null,null,null,null,null,null,null,null,null,null,null,null,null,null,null,null,null,null,null,null,"",null,null,null,null,null,null,null,null,null,null,null,null,null,null,null,null,null,null,null,null,null,null,null,null,null,null,null,null,null,null,null,null,null,null,null,null,null,null,null,null,null,"",null,null,null,null,null,null,null,null,null,null,null,null,null,null,null,null,null,null,null,null,null,null,null,null,null,null,null,null,null,null,null,null,null,null,null,null,null,null,null,null,null,"",null,null,null,null,null,null,null,null,null,null,null,null,null,null,null,null,null,null,null,null,null,null,null,null,null,null,null,null,null,null,null,null,null,null,null,null,null,null,null,null,null,"",null,null,null,null,null,null,null,null,null,null,null,null,null,null,null,null,null,null,null,null,null,null,null,null,null,null,null,null,null,null,null,null,null,null,null,null,null,null,null,null,null,"",null,null,null,null,null,null,null,null,null,null,null,null,null,null,null,null,null,null,null,null,null,null,null,null,null,null,null,null,null,null,null,null,null,null,null,null,null,null,null,null,null,"",null,null,null,null,null,null,null,null,null,null,null,null,null,null,null,null,null,null,null,null,null,null,null,null,null,null,null,null,null,null,null,null,null,null,null,null,null,null,null,null,null,"",null,null,null,null,null,null,null,null,null,null,null,null,null,null,null,null,null,null,null,null,null,null,null,null,null,null,null,null,null,null,null,null,null,null,null,null,null,null,null,null,null,"",null,null,null,null,null,null,null,null,null,null,null,null,null,null,null,null,null,null,null,null,null,null,null,null,null,null,null,null,null,null,null,null,null,null,null,null,null,null,null,null,null,"",null,null,null,null,null,null,null,null,null,null,null,null,null,null,null,null,null,null,null,null,null,null,null,null,null,null,null,null,null,null,null,null,null,null,null,null,null,null,null,null,null,"",null,0,0,0,0,0,0,0,0,0,0,0]
[null,"1900-01-01",null,0,null,null,null,null,null,null,null,null,null,null,null,null,null,null,null,null,null,null,null,null,null,null,null,null,null,null,null,null,null,null,null,null,null,null,null,null,null,null,null,null,null,"",null,null,null,null,null,null,null,null,null,null,null,null,null,null,null,null,null,null,null,null,null,null,null,null,null,null,null,null,null,null,null,null,null,null,null,null,null,null,null,null,null,"",null,null,null,null,null,null,null,null,null,null,null,null,null,null,null,null,null,null,null,null,null,null,null,null,null,null,null,null,null,null,null,null,null,null,null,null,null,null,null,null,null,"",null,null,null,null,null,null,null,null,null,null,null,null,null,null,null,null,null,null,null,null,null,null,null,null,null,null,null,null,null,null,null,null,null,null,null,null,null,null,null,null,null,"",null,null,null,null,null,null,null,null,null,null,null,null,null,null,null,null,null,null,null,null,null,null,null,null,null,null,null,null,null,null,null,null,null,null,null,null,null,null,null,null,null,"",null,null,null,null,null,null,null,null,null,null,null,null,null,null,null,null,null,null,null,null,null,null,null,null,null,null,null,null,null,null,null,null,null,null,null,null,null,null,null,null,null,"",null,null,null,null,null,null,null,null,null,null,null,null,null,null,null,null,null,null,null,null,null,null,null,null,null,null,null,null,null,null,null,null,null,null,null,null,null,null,null,null,null,"",null,null,null,null,null,null,null,null,null,null,null,null,null,null,null,null,null,null,null,null,null,null,null,null,null,null,null,null,null,null,null,null,null,null,null,null,null,null,null,null,null,"",null,null,null,null,null,null,null,null,null,null,null,null,null,null,null,null,null,null,null,null,null,null,null,null,null,null,null,null,null,null,null,null,null,null,null,null,null,null,null,null,null,"",null,null,null,null,null,null,null,null,null,null,null,null,null,null,null,null,null,null,null,null,null,null,null,null,null,null,null,null,null,null,null,null,null,null,null,null,null,null,null,null,null,"",null,0,0,0,0,0,0,0,0,0,0,0]
[null,"1900-01-01",null,0,null,null,null,null,null,null,null,null,null,null,null,null,null,null,null,null,null,null,null,null,null,null,null,null,null,null,null,null,null,null,null,null,null,null,null,null,null,null,null,null,null,"",null,null,null,null,null,null,null,null,null,null,null,null,null,null,null,null,null,null,null,null,null,null,null,null,null,null,null,null,null,null,null,null,null,null,null,null,null,null,null,null,null,"",null,null,null,null,null,null,null,null,null,null,null,null,null,null,null,null,null,null,null,null,null,null,null,null,null,null,null,null,null,null,null,null,null,null,null,null,null,null,null,null,null,"",null,null,null,null,null,null,null,null,null,null,null,null,null,null,null,null,null,null,null,null,null,null,null,null,null,null,null,null,null,null,null,null,null,null,null,null,null,null,null,null,null,"",null,null,null,null,null,null,null,null,null,null,null,null,null,null,null,null,null,null,null,null,null,null,null,null,null,null,null,null,null,null,null,null,null,null,null,null,null,null,null,null,null,"",null,null,null,null,null,null,null,null,null,null,null,null,null,null,null,null,null,null,null,null,null,null,null,null,null,null,null,null,null,null,null,null,null,null,null,null,null,null,null,null,null,"",null,null,null,null,null,null,null,null,null,null,null,null,null,null,null,null,null,null,null,null,null,null,null,null,null,null,null,null,null,null,null,null,null,null,null,null,null,null,null,null,null,"",null,null,null,null,null,null,null,null,null,null,null,null,null,null,null,null,null,null,null,null,null,null,null,null,null,null,null,null,null,null,null,null,null,null,null,null,null,null,null,null,null,"",null,null,null,null,null,null,null,null,null,null,null,null,null,null,null,null,null,null,null,null,null,null,null,null,null,null,null,null,null,null,null,null,null,null,null,null,null,null,null,null,null,"",null,null,null,null,null,null,null,null,null,null,null,null,null,null,null,null,null,null,null,null,null,null,null,null,null,null,null,null,null,null,null,null,null,null,null,null,null,null,null,null,null,"",null,0,0,0,0,0,0,0,0,0,0,0]
[null,"1900-01-01",null,0,null,null,null,null,null,null,null,null,null,null,null,null,null,null,null,null,null,null,null,null,null,null,null,null,null,null,null,null,null,null,null,null,null,null,null,null,null,null,null,null,null,"",null,null,null,null,null,null,null,null,null,null,null,null,null,null,null,null,null,null,null,null,null,null,null,null,null,null,null,null,null,null,null,null,null,null,null,null,null,null,null,null,null,"",null,null,null,null,null,null,null,null,null,null,null,null,null,null,null,null,null,null,null,null,null,null,null,null,null,null,null,null,null,null,null,null,null,null,null,null,null,null,null,null,null,"",null,null,null,null,null,null,null,null,null,null,null,null,null,null,null,null,null,null,null,null,null,null,null,null,null,null,null,null,null,null,null,null,null,null,null,null,null,null,null,null,null,"",null,null,null,null,null,null,null,null,null,null,null,null,null,null,null,null,null,null,null,null,null,null,null,null,null,null,null,null,null,null,null,null,null,null,null,null,null,null,null,null,null,"",null,null,null,null,null,null,null,null,null,null,null,null,null,null,null,null,null,null,null,null,null,null,null,null,null,null,null,null,null,null,null,null,null,null,null,null,null,null,null,null,null,"",null,null,null,null,null,null,null,null,null,null,null,null,null,null,null,null,null,null,null,null,null,null,null,null,null,null,null,null,null,null,null,null,null,null,null,null,null,null,null,null,null,"",null,null,null,null,null,null,null,null,null,null,null,null,null,null,null,null,null,null,null,null,null,null,null,null,null,null,null,null,null,null,null,null,null,null,null,null,null,null,null,null,null,"",null,null,null,null,null,null,null,null,null,null,null,null,null,null,null,null,null,null,null,null,null,null,null,null,null,null,null,null,null,null,null,null,null,null,null,null,null,null,null,null,null,"",null,null,null,null,null,null,null,null,null,null,null,null,null,null,null,null,null,null,null,null,null,null,null,null,null,null,null,null,null,null,null,null,null,null,null,null,null,null,null,null,null,"",null,0,0,0,0,0,0,0,0,0,0,0]
[null,"1900-01-01",null,0,null,null,null,null,null,null,null,null,null,null,null,null,null,null,null,null,null,null,null,null,null,null,null,null,null,null,null,null,null,null,null,null,null,null,null,null,null,null,null,null,null,"",null,null,null,null,null,null,null,null,null,null,null,null,null,null,null,null,null,null,null,null,null,null,null,null,null,null,null,null,null,null,null,null,null,null,null,null,null,null,null,null,null,"",null,null,null,null,null,null,null,null,null,null,null,null,null,null,null,null,null,null,null,null,null,null,null,null,null,null,null,null,null,null,null,null,null,null,null,null,null,null,null,null,null,"",null,null,null,null,null,null,null,null,null,null,null,null,null,null,null,null,null,null,null,null,null,null,null,null,null,null,null,null,null,null,null,null,null,null,null,null,null,null,null,null,null,"",null,null,null,null,null,null,null,null,null,null,null,null,null,null,null,null,null,null,null,null,null,null,null,null,null,null,null,null,null,null,null,null,null,null,null,null,null,null,null,null,null,"",null,null,null,null,null,null,null,null,null,null,null,null,null,null,null,null,null,null,null,null,null,null,null,null,null,null,null,null,null,null,null,null,null,null,null,null,null,null,null,null,null,"",null,null,null,null,null,null,null,null,null,null,null,null,null,null,null,null,null,null,null,null,null,null,null,null,null,null,null,null,null,null,null,null,null,null,null,null,null,null,null,null,null,"",null,null,null,null,null,null,null,null,null,null,null,null,null,null,null,null,null,null,null,null,null,null,null,null,null,null,null,null,null,null,null,null,null,null,null,null,null,null,null,null,null,"",null,null,null,null,null,null,null,null,null,null,null,null,null,null,null,null,null,null,null,null,null,null,null,null,null,null,null,null,null,null,null,null,null,null,null,null,null,null,null,null,null,"",null,null,null,null,null,null,null,null,null,null,null,null,null,null,null,null,null,null,null,null,null,null,null,null,null,null,null,null,null,null,null,null,null,null,null,null,null,null,null,null,null,"",null,0,0,0,0,0,0,0,0,0,0,0]
[null,"1900-01-01",null,0,null,null,null,null,null,null,null,null,null,null,null,null,null,null,null,null,null,null,null,null,null,null,null,null,null,null,null,null,null,null,null,null,null,null,null,null,null,null,null,null,null,"",null,null,null,null,null,null,null,null,null,null,null,null,null,null,null,null,null,null,null,null,null,null,null,null,null,null,null,null,null,null,null,null,null,null,null,null,null,null,null,null,null,"",null,null,null,null,null,null,null,null,null,null,null,null,null,null,null,null,null,null,null,null,null,null,null,null,null,null,null,null,null,null,null,null,null,null,null,null,null,null,null,null,null,"",null,null,null,null,null,null,null,null,null,null,null,null,null,null,null,null,null,null,null,null,null,null,null,null,null,null,null,null,null,null,null,null,null,null,null,null,null,null,null,null,null,"",null,null,null,null,null,null,null,null,null,null,null,null,null,null,null,null,null,null,null,null,null,null,null,null,null,null,null,null,null,null,null,null,null,null,null,null,null,null,null,null,null,"",null,null,null,null,null,null,null,null,null,null,null,null,null,null,null,null,null,null,null,null,null,null,null,null,null,null,null,null,null,null,null,null,null,null,null,null,null,null,null,null,null,"",null,null,null,null,null,null,null,null,null,null,null,null,null,null,null,null,null,null,null,null,null,null,null,null,null,null,null,null,null,null,null,null,null,null,null,null,null,null,null,null,null,"",null,null,null,null,null,null,null,null,null,null,null,null,null,null,null,null,null,null,null,null,null,null,null,null,null,null,null,null,null,null,null,null,null,null,null,null,null,null,null,null,null,"",null,null,null,null,null,null,null,null,null,null,null,null,null,null,null,null,null,null,null,null,null,null,null,null,null,null,null,null,null,null,null,null,null,null,null,null,null,null,null,null,null,"",null,null,null,null,null,null,null,null,null,null,null,null,null,null,null,null,null,null,null,null,null,null,null,null,null,null,null,null,null,null,null,null,null,null,null,null,null,null,null,null,null,"",null,0,0,0,0,0,0,0,0,0,0,0]
[null,"1900-01-01",null,0,null,null,null,null,null,null,null,null,null,null,null,null,null,null,null,null,null,null,null,null,null,null,null,null,null,null,null,null,null,null,null,null,null,null,null,null,null,null,null,null,null,"",null,null,null,null,null,null,null,null,null,null,null,null,null,null,null,null,null,null,null,null,null,null,null,null,null,null,null,null,null,null,null,null,null,null,null,null,null,null,null,null,null,"",null,null,null,null,null,null,null,null,null,null,null,null,null,null,null,null,null,null,null,null,null,null,null,null,null,null,null,null,null,null,null,null,null,null,null,null,null,null,null,null,null,"",null,null,null,null,null,null,null,null,null,null,null,null,null,null,null,null,null,null,null,null,null,null,null,null,null,null,null,null,null,null,null,null,null,null,null,null,null,null,null,null,null,"",null,null,null,null,null,null,null,null,null,null,null,null,null,null,null,null,null,null,null,null,null,null,null,null,null,null,null,null,null,null,null,null,null,null,null,null,null,null,null,null,null,"",null,null,null,null,null,null,null,null,null,null,null,null,null,null,null,null,null,null,null,null,null,null,null,null,null,null,null,null,null,null,null,null,null,null,null,null,null,null,null,null,null,"",null,null,null,null,null,null,null,null,null,null,null,null,null,null,null,null,null,null,null,null,null,null,null,null,null,null,null,null,null,null,null,null,null,null,null,null,null,null,null,null,null,"",null,null,null,null,null,null,null,null,null,null,null,null,null,null,null,null,null,null,null,null,null,null,null,null,null,null,null,null,null,null,null,null,null,null,null,null,null,null,null,null,null,"",null,null,null,null,null,null,null,null,null,null,null,null,null,null,null,null,null,null,null,null,null,null,null,null,null,null,null,null,null,null,null,null,null,null,null,null,null,null,null,null,null,"",null,null,null,null,null,null,null,null,null,null,null,null,null,null,null,null,null,null,null,null,null,null,null,null,null,null,null,null,null,null,null,null,null,null,null,null,null,null,null,null,null,"",null,0,0,0,0,0,0,0,0,0,0,0]
[null,"1900-01-01",null,0,null,null,null,null,null,null,null,null,null,null,null,null,null,null,null,null,null,null,null,null,null,null,null,null,null,null,null,null,null,null,null,null,null,null,null,null,null,null,null,null,null,"",null,null,null,null,null,null,null,null,null,null,null,null,null,null,null,null,null,null,null,null,null,null,null,null,null,null,null,null,null,null,null,null,null,null,null,null,null,null,null,null,null,"",null,null,null,null,null,null,null,null,null,null,null,null,null,null,null,null,null,null,null,null,null,null,null,null,null,null,null,null,null,null,null,null,null,null,null,null,null,null,null,null,null,"",null,null,null,null,null,null,null,null,null,null,null,null,null,null,null,null,null,null,null,null,null,null,null,null,null,null,null,null,null,null,null,null,null,null,null,null,null,null,null,null,null,"",null,null,null,null,null,null,null,null,null,null,null,null,null,null,null,null,null,null,null,null,null,null,null,null,null,null,null,null,null,null,null,null,null,null,null,null,null,null,null,null,null,"",null,null,null,null,null,null,null,null,null,null,null,null,null,null,null,null,null,null,null,null,null,null,null,null,null,null,null,null,null,null,null,null,null,null,null,null,null,null,null,null,null,"",null,null,null,null,null,null,null,null,null,null,null,null,null,null,null,null,null,null,null,null,null,null,null,null,null,null,null,null,null,null,null,null,null,null,null,null,null,null,null,null,null,"",null,null,null,null,null,null,null,null,null,null,null,null,null,null,null,null,null,null,null,null,null,null,null,null,null,null,null,null,null,null,null,null,null,null,null,null,null,null,null,null,null,"",null,null,null,null,null,null,null,null,null,null,null,null,null,null,null,null,null,null,null,null,null,null,null,null,null,null,null,null,null,null,null,null,null,null,null,null,null,null,null,null,null,"",null,null,null,null,null,null,null,null,null,null,null,null,null,null,null,null,null,null,null,null,null,null,null,null,null,null,null,null,null,null,null,null,null,null,null,null,null,null,null,null,null,"",null,0,0,0,0,0,0,0,0,0,0,0]
[null,null,{"$f":"IF(ABS(D54-365)>4,\"Must have 365 ± 4 days.\",\"\")","v":"Must have 365 ± 4 days."},{"$f":"SUM(D39:D53)","v":0},null,{"$f":"SUM(F39:F53)","v":0},null,{"$f":"SUM(H39:H53)","v":0},null,{"$f":"SUM(J39:J53)","v":0},null,{"$f":"SUM(L39:L53)","v":0},null,{"$f":"SUM(N39:N53)","v":0},null,{"$f":"SUM(P39:P53)","v":0},null,{"$f":"SUM(R39:R53)","v":0},null,{"$f":"SUM(T39:T53)","v":0},null,{"$f":"SUM(V39:V53)","v":0},null,{"$f":"SUM(X39:X53)","v":0},null,{"$f":"SUM(Z39:Z53)","v":0},null,{"$f":"SUM(AB39:AB53)","v":0},null,{"$f":"SUM(AD39:AD53)","v":0},null,{"$f":"SUM(AF39:AF53)","v":0},null,{"$f":"SUM(AH39:AH53)","v":0},null,{"$f":"SUM(AJ39:AJ53)","v":0},null,{"$f":"SUM(AL39:AL53)","v":0},null,{"$f":"SUM(AN39:AN53)","v":0},null,{"$f":"SUM(AP39:AP53)","v":0},null,{"$f":"SUM(AR39:AR53)","v":0},null,{"$f":"SUM(AT39:AT53)","v":0},null,{"$f":"SUM(AV39:AV53)","v":0},null,{"$f":"SUM(AX39:AX53)","v":0},null,{"$f":"SUM(AZ39:AZ53)","v":0},null,{"$f":"SUM(BB39:BB53)","v":0},null,{"$f":"SUM(BD39:BD53)","v":0},null,{"$f":"SUM(BF39:BF53)","v":0},null,{"$f":"SUM(BH39:BH53)","v":0},null,{"$f":"SUM(BJ39:BJ53)","v":0},null,{"$f":"SUM(BL39:BL53)","v":0},null,{"$f":"SUM(BN39:BN53)","v":0},null,{"$f":"SUM(BP39:BP53)","v":0},null,{"$f":"SUM(BR39:BR53)","v":0},null,{"$f":"SUM(BT39:BT53)","v":0},null,{"$f":"SUM(BV39:BV53)","v":0},null,{"$f":"SUM(BX39:BX53)","v":0},null,{"$f":"SUM(BZ39:BZ53)","v":0},null,{"$f":"SUM(CB39:CB53)","v":0},null,{"$f":"SUM(CD39:CD53)","v":0},null,{"$f":"SUM(CF39:CF53)","v":0},null,{"$f":"SUM(CH39:CH53)","v":0},null,{"$f":"SUM(CJ39:CJ53)","v":0},null,{"$f":"SUM(CL39:CL53)","v":0},null,{"$f":"SUM(CN39:CN53)","v":0},null,{"$f":"SUM(CP39:CP53)","v":0},null,{"$f":"SUM(CR39:CR53)","v":0},null,{"$f":"SUM(CT39:CT53)","v":0},null,{"$f":"SUM(CV39:CV53)","v":0},null,{"$f":"SUM(CX39:CX53)","v":0},null,{"$f":"SUM(CZ39:CZ53)","v":0},null,{"$f":"SUM(DB39:DB53)","v":0},null,{"$f":"SUM(DD39:DD53)","v":0},null,{"$f":"SUM(DF39:DF53)","v":0},null,{"$f":"SUM(DH39:DH53)","v":0},null,{"$f":"SUM(DJ39:DJ53)","v":0},null,{"$f":"SUM(DL39:DL53)","v":0},null,{"$f":"SUM(DN39:DN53)","v":0},null,{"$f":"SUM(DP39:DP53)","v":0},null,{"$f":"SUM(DR39:DR53)","v":0},null,{"$f":"SUM(DT39:DT53)","v":0},null,{"$f":"SUM(DV39:DV53)","v":0},null,{"$f":"SUM(DX39:DX53)","v":0},null,{"$f":"SUM(DZ39:DZ53)","v":0},null,{"$f":"SUM(EB39:EB53)","v":0},null,{"$f":"SUM(ED39:ED53)","v":0},null,{"$f":"SUM(EF39:EF53)","v":0},null,{"$f":"SUM(EH39:EH53)","v":0},null,{"$f":"SUM(EJ39:EJ53)","v":0},null,{"$f":"SUM(EL39:EL53)","v":0},null,{"$f":"SUM(EN39:EN53)","v":0},null,{"$f":"SUM(EP39:EP53)","v":0},null,{"$f":"SUM(ER39:ER53)","v":0},null,{"$f":"SUM(ET39:ET53)","v":0},null,{"$f":"SUM(EV39:EV53)","v":0},null,{"$f":"SUM(EX39:EX53)","v":0},null,{"$f":"SUM(EZ39:EZ53)","v":0},null,{"$f":"SUM(FB39:FB53)","v":0},null,{"$f":"SUM(FD39:FD53)","v":0},null,{"$f":"SUM(FF39:FF53)","v":0},null,{"$f":"SUM(FH39:FH53)","v":0},null,{"$f":"SUM(FJ39:FJ53)","v":0},null,{"$f":"SUM(FL39:FL53)","v":0},null,{"$f":"SUM(FN39:FN53)","v":0},null,{"$f":"SUM(FP39:FP53)","v":0},null,{"$f":"SUM(FR39:FR53)","v":0},null,{"$f":"SUM(FT39:FT53)","v":0},null,{"$f":"SUM(FV39:FV53)","v":0},null,{"$f":"SUM(FX39:FX53)","v":0},null,{"$f":"SUM(FZ39:FZ53)","v":0},null,{"$f":"SUM(GB39:GB53)","v":0},null,{"$f":"SUM(GD39:GD53)","v":0},null,{"$f":"SUM(GF39:GF53)","v":0},null,{"$f":"SUM(GH39:GH53)","v":0},null,{"$f":"SUM(GJ39:GJ53)","v":0},null,{"$f":"SUM(GL39:GL53)","v":0},null,{"$f":"SUM(GN39:GN53)","v":0},null,{"$f":"SUM(GP39:GP53)","v":0},null,{"$f":"SUM(GR39:GR53)","v":0},null,{"$f":"SUM(GT39:GT53)","v":0},null,{"$f":"SUM(GV39:GV53)","v":0},null,{"$f":"SUM(GX39:GX53)","v":0},null,{"$f":"SUM(GZ39:GZ53)","v":0},null,{"$f":"SUM(HB39:HB53)","v":0},null,{"$f":"SUM(HD39:HD53)","v":0},null,{"$f":"SUM(HF39:HF53)","v":0},null,{"$f":"SUM(HH39:HH53)","v":0},null,{"$f":"SUM(HJ39:HJ53)","v":0},null,{"$f":"SUM(HL39:HL53)","v":0},null,{"$f":"SUM(HN39:HN53)","v":0},null,{"$f":"SUM(HP39:HP53)","v":0},null,{"$f":"SUM(HR39:HR53)","v":0},null,{"$f":"SUM(HT39:HT53)","v":0},null,{"$f":"SUM(HV39:HV53)","v":0},null,{"$f":"SUM(HX39:HX53)","v":0},null,{"$f":"SUM(HZ39:HZ53)","v":0},null,{"$f":"SUM(IB39:IB53)","v":0},null,{"$f":"SUM(ID39:ID53)","v":0},null,{"$f":"SUM(IF39:IF53)","v":0},null,{"$f":"SUM(IH39:IH53)","v":0},null,{"$f":"SUM(IJ39:IJ53)","v":0},null,{"$f":"SUM(IL39:IL53)","v":0},null,{"$f":"SUM(IN39:IN53)","v":0},null,{"$f":"SUM(IP39:IP53)","v":0},null,{"$f":"SUM(IR39:IR53)","v":0},null,{"$f":"SUM(IT39:IT53)","v":0},null,{"$f":"SUM(IV39:IV53)","v":0},null,{"$f":"SUM(IX39:IX53)","v":0},null,{"$f":"SUM(IZ39:IZ53)","v":0},null,{"$f":"SUM(JB39:JB53)","v":0},null,{"$f":"SUM(JD39:JD53)","v":0},null,{"$f":"SUM(JF39:JF53)","v":0},null,{"$f":"SUM(JH39:JH53)","v":0},null,{"$f":"SUM(JJ39:JJ53)","v":0},null,{"$f":"SUM(JL39:JL53)","v":0},null,{"$f":"SUM(JN39:JN53)","v":0},null,{"$f":"SUM(JP39:JP53)","v":0},null,{"$f":"SUM(JR39:JR53)","v":0},null,{"$f":"SUM(JT39:JT53)","v":0},null,{"$f":"SUM(JV39:JV53)","v":0},null,{"$f":"SUM(JX39:JX53)","v":0},null,{"$f":"SUM(JZ39:JZ53)","v":0},null,{"$f":"SUM(KB39:KB53)","v":0},null,{"$f":"SUM(KD39:KD53)","v":0},null,{"$f":"SUM(KF39:KF53)","v":0},null,{"$f":"SUM(KH39:KH53)","v":0},null,{"$f":"SUM(KJ39:KJ53)","v":0},null,{"$f":"SUM(KL39:KL53)","v":0},null,{"$f":"SUM(KN39:KN53)","v":0},null,{"$f":"SUM(KP39:KP53)","v":0},null,{"$f":"SUM(KR39:KR53)","v":0},null,{"$f":"SUM(KT39:KT53)","v":0},null,{"$f":"SUM(KV39:KV53)","v":0},null,{"$f":"SUM(KX39:KX53)","v":0},null,{"$f":"SUM(KZ39:KZ53)","v":0},null,{"$f":"SUM(LB39:LB53)","v":0},null,{"$f":"SUM(LD39:LD53)","v":0},null,{"$f":"SUM(LF39:LF53)","v":0},null,{"$f":"SUM(LH39:LH53)","v":0},null,{"$f":"SUM(LJ39:LJ53)","v":0},null,{"$f":"SUM(LL39:LL53)","v":0},null,{"$f":"SUM(LN39:LN53)","v":0},null,{"$f":"SUM(LP39:LP53)","v":0},null,{"$f":"SUM(LR39:LR53)","v":0},null,{"$f":"SUM(LT39:LT53)","v":0},null,{"$f":"SUM(LV39:LV53)","v":0},null,{"$f":"SUM(LX39:LX53)","v":0},null,{"$f":"SUM(LZ39:LZ53)","v":0},null,{"$f":"SUM(MB39:MB53)","v":0},null,{"$f":"SUM(MD39:MD53)","v":0},null,{"$f":"SUM(MF39:MF53)","v":0},null,{"$f":"SUM(MH39:MH53)","v":0},null,{"$f":"SUM(MJ39:MJ53)","v":0},null,{"$f":"SUM(ML39:ML53)","v":0},null,{"$f":"SUM(MN39:MN53)","v":0},null,{"$f":"SUM(MP39:MP53)","v":0},null,{"$f":"SUM(MR39:MR53)","v":0},null,{"$f":"SUM(MT39:MT53)","v":0},null,{"$f":"SUM(MV39:MV53)","v":0},null,{"$f":"SUM(MX39:MX53)","v":0},null,{"$f":"SUM(MZ39:MZ53)","v":0},null,{"$f":"SUM(NB39:NB53)","v":0},null,{"$f":"SUM(ND39:ND53)","v":0},null,{"$f":"SUM(NF39:NF53)","v":0},null,{"$f":"SUM(NH39:NH53)","v":0},null,{"$f":"SUM(NJ39:NJ53)","v":0},null,{"$f":"SUM(NL39:NL53)","v":0},null,{"$f":"SUM(NN39:NN53)","v":0},null,{"$f":"SUM(NP39:NP53)","v":0},null,{"$f":"SUM(NR39:NR53)","v":0},null,{"$f":"SUM(NT39:NT53)","v":0},null,{"$f":"SUM(NV39:NV53)","v":0},null,{"$f":"SUM(NX39:NX53)","v":0},null,{"$f":"SUM(NZ39:NZ53)","v":0},null,{"$f":"SUM(OB39:OB53)","v":0},null,{"$f":"SUM(OD39:OD53)","v":0},null,{"$f":"SUM(OF39:OF53)","v":0},null,{"$f":"SUM(OH39:OH53)","v":0},null,{"$f":"SUM(OJ39:OJ53)","v":0},null,{"$f":"SUM(OL39:OL53)","v":0},null,{"$f":"SUM(ON39:ON53)","v":0},null,{"$f":"SUM(OP39:OP53)","v":0},null,{"$f":"SUM(OR39:OR53)","v":0},null,{"$f":"SUM(OT39:OT53)","v":0},null,{"$f":"SUM(OV39:OV53)","v":0},null,{"$f":"SUM(OX39:OX53)","v":0},null,{"$f":"SUM(OZ39:OZ53)","v":0},null,{"$f":"SUM(PB39:PB53)","v":0},null,{"$f":"SUM(PD39:PD53)","v":0},null,{"$f":"SUM(PF39:PF53)","v":0},null,{"$f":"SUM(PH39:PH53)","v":0},null,{"$f":"SUM(PJ39:PJ53)","v":0},{"$f":"SUM(PK39:PK53)","v":0},{"$f":"SUM(PL39:PL53)","v":0},{"$f":"SUM(PM39:PM53)","v":0},0,0,0,0,0,{"$f":"SUM(PS39:PS53)","v":0},{"$f":"SUM(PT39:PT53)","v":0}]
[]
[null,null,null,null,null,"Total Annual kWh Cost",null,"Total Annual kWh Cost",null,"Total Annual kWh Cost",null,"Total Annual kWh Cost",null,"Total Annual kWh Cost",null,"Total Annual kWh Cost",null,"Total Annual kWh Cost",null,"Total Annual kWh Cost",null,"Total Annual kWh Cost",null,"Total Annual kWh Cost",null,"Total Annual kWh Cost",null,"Total Annual kWh Cost",null,"Total Annual kWh Cost",null,"Total Annual kWh Cost",null,"Total Annual kWh Cost",null,"Total Annual kWh Cost",null,"Total Annual kWh Cost",null,"Total Annual kWh Cost",null,"Total Annual kWh Cost",null,"Total Annual kWh Cost",null,"Average Annual kWh  Cost",null,"Total Annual kWh Cost",null,"Total Annual kWh Cost",null,"Total Annual kWh Cost",null,"Total Annual kWh Cost",null,"Total Annual kWh Cost",null,"Total Annual kWh Cost",null,"Total Annual kWh Cost",null,"Total Annual kWh Cost",null,"Total Annual kWh Cost",null,"Total Annual kWh Cost",null,"Total Annual kWh Cost",null,"Total Annual kWh Cost",null,"Total Annual kWh Cost",null,"Total Annual kWh Cost",null,"Total Annual kWh Cost",null,"Total Annual kWh Cost",null,"Total Annual kWh Cost",null,"Total Annual kWh Cost",null,"Total Annual kWh Cost",null,"Total Annual kWh Cost",null,"Average Annual kWh  Cost",null,"Total Annual kWh Cost",null,"Total Annual kWh Cost",null,"Total Annual kWh Cost",null,"Total Annual kWh Cost",null,"Total Annual kWh Cost",null,"Total Annual kWh Cost",null,"Total Annual kWh Cost",null,"Total Annual kWh Cost",null,"Total Annual kWh Cost",null,"Total Annual kWh Cost",null,"Total Annual kWh Cost",null,"Total Annual kWh Cost",null,"Total Annual kWh Cost",null,"Total Annual kWh Cost",null,"Total Annual kWh Cost",null,"Total Annual kWh Cost",null,"Total Annual kWh Cost",null,"Total Annual kWh Cost",null,"Total Annual kWh Cost",null,"Total Annual kWh Cost",null,"Average Annual kWh  Cost",null,"Total Annual kWh Cost",null,"Total Annual kWh Cost",null,"Total Annual kWh Cost",null,"Total Annual kWh Cost",null,"Total Annual kWh Cost",null,"Total Annual kWh Cost",null,"Total Annual kWh Cost",null,"Total Annual kWh Cost",null,"Total Annual kWh Cost",null,"Total Annual kWh Cost",null,"Total Annual kWh Cost",null,"Total Annual kWh Cost",null,"Total Annual kWh Cost",null,"Total Annual kWh Cost",null,"Total Annual kWh Cost",null,"Total Annual kWh Cost",null,"Total Annual kWh Cost",null,"Total Annual kWh Cost",null,"Total Annual kWh Cost",null,"Total Annual kWh Cost",null,"Average Annual kWh  Cost",null,"Total Annual kWh Cost",null,"Total Annual kWh Cost",null,"Total Annual kWh Cost",null,"Total Annual kWh Cost",null,"Total Annual kWh Cost",null,"Total Annual kWh Cost",null,"Total Annual kWh Cost",null,"Total Annual kWh Cost",null,"Total Annual kWh Cost",null,"Total Annual kWh Cost",null,"Total Annual kWh Cost",null,"Total Annual kWh Cost",null,"Total Annual kWh Cost",null,"Total Annual kWh Cost",null,"Total Annual kWh Cost",null,"Total Annual kWh Cost",null,"Total Annual kWh Cost",null,"Total Annual kWh Cost",null,"Total Annual kWh Cost",null,"Total Annual kWh Cost",null,"Average Annual kWh  Cost",null,"Total Annual kWh Cost",null,"Total Annual kWh Cost",null,"Total Annual kWh Cost",null,"Total Annual kWh Cost",null,"Total Annual kWh Cost",null,"Total Annual kWh Cost",null,"Total Annual kWh Cost",null,"Total Annual kWh Cost",null,"Total Annual kWh Cost",null,"Total Annual kWh Cost",null,"Total Annual kWh Cost",null,"Total Annual kWh Cost",null,"Total Annual kWh Cost",null,"Total Annual kWh Cost",null,"Total Annual kWh Cost",null,"Total Annual kWh Cost",null,"Total Annual kWh Cost",null,"Total Annual kWh Cost",null,"Total Annual kWh Cost",null,"Total Annual kWh Cost",null,"Average Annual kWh  Cost",null,"Total Annual kWh Cost",null,"Total Annual kWh Cost",null,"Total Annual kWh Cost",null,"Total Annual kWh Cost",null,"Total Annual kWh Cost",null,"Total Annual kWh Cost",null,"Total Annual kWh Cost",null,"Total Annual kWh Cost",null,"Total Annual kWh Cost",null,"Total Annual kWh Cost",null,"Total Annual kWh Cost",null,"Total Annual kWh Cost",null,"Total Annual kWh Cost",null,"Total Annual kWh Cost",null,"Total Annual kWh Cost",null,"Total Annual kWh Cost",null,"Total Annual kWh Cost",null,"Total Annual kWh Cost",null,"Total Annual kWh Cost",null,"Total Annual kWh Cost",null,"Average Annual kWh  Cost",null,"Total Annual kWh Cost",null,"Total Annual kWh Cost",null,"Total Annual kWh Cost",null,"Total Annual kWh Cost",null,"Total Annual kWh Cost",null,"Total Annual kWh Cost",null,"Total Annual kWh Cost",null,"Total Annual kWh Cost",null,"Total Annual kWh Cost",null,"Total Annual kWh Cost",null,"Total Annual kWh Cost",null,"Total Annual kWh Cost",null,"Total Annual kWh Cost",null,"Total Annual kWh Cost",null,"Total Annual kWh Cost",null,"Total Annual kWh Cost",null,"Total Annual kWh Cost",null,"Total Annual kWh Cost",null,"Total Annual kWh Cost",null,"Total Annual kWh Cost",null,"Average Annual kWh  Cost",null,"Total Annual kWh Cost",null,"Total Annual kWh Cost",null,"Total Annual kWh Cost",null,"Total Annual kWh Cost",null,"Total Annual kWh Cost",null,"Total Annual kWh Cost",null,"Total Annual kWh Cost",null,"Total Annual kWh Cost",null,"Total Annual kWh Cost",null,"Total Annual kWh Cost",null,"Total Annual kWh Cost",null,"Total Annual kWh Cost",null,"Total Annual kWh Cost",null,"Total Annual kWh Cost",null,"Total Annual kWh Cost",null,"Total Annual kWh Cost",null,"Total Annual kWh Cost",null,"Total Annual kWh Cost",null,"Total Annual kWh Cost",null,"Total Annual kWh Cost",null,"Average Annual kWh  Cost",null,"Total Annual kWh Cost",null,"Total Annual kWh Cost",null,"Total Annual kWh Cost",null,"Total Annual kWh Cost",null,"Total Annual kWh Cost",null,"Total Annual kWh Cost",null,"Total Annual kWh Cost",null,"Total Annual kWh Cost",null,"Total Annual kWh Cost",null,"Total Annual kWh Cost",null,"Total Annual kWh Cost",null,"Total Annual kWh Cost",null,"Total Annual kWh Cost",null,"Total Annual kWh Cost",null,"Total Annual kWh Cost",null,"Total Annual kWh Cost",null,"Total Annual kWh Cost",null,"Total Annual kWh Cost",null,"Total Annual kWh Cost",null,"Total Annual kWh Cost",null,"Average Annual kWh  Cost",null,"Average Annual kWh  Cost","Average Annual kWh  Cost","Average Annual kWh  Cost","Average Annual kWh  Cost","Average Annual kWh  Cost","Average Annual kWh  Cost","Average Annual kWh  Cost","Average Annual kWh  Cost","Average Annual kWh  Cost","Average Annual kWh  Cost","Total In-Unit Annual kWh  Cost"]
[null,null,null,null,null,null,null,null,null,null,null,null,null,null,null,null,null,null,null,null,null,null,null,null,null,null,null,null,null,null,null,null,null,null,null,null,null,null,null,null,null,null,null,null,null,{"$f":"IF(F57>0,AVERAGE(F57:AR57),0)","v":0},null,null,null,null,null,null,null,null,null,null,null,null,null,null,null,null,null,null,null,null,null,null,null,null,null,null,null,null,null,null,null,null,null,null,null,null,null,null,null,null,null,{"$f":"IF(AV57>0,AVERAGE(AV57:CH57),0)","v":0},null,null,null,null,null,null,null,null,null,null,null,null,null,null,null,null,null,null,null,null,null,null,null,null,null,null,null,null,null,null,null,null,null,null,null,null,null,null,null,null,null,{"$f":"IF(CL57>0,AVERAGE(CN57:DY57),0)","v":0},null,null,null,null,null,null,null,null,null,null,null,null,null,null,null,null,null,null,null,null,null,null,null,null,null,null,null,null,null,null,null,null,null,null,null,null,null,null,null,null,null,{"$f":"IF(EB57>0,AVERAGE(EB57:FN57),0)","v":0},null,null,null,null,null,null,null,null,null,null,null,null,null,null,null,null,null,null,null,null,null,null,null,null,null,null,null,null,null,null,null,null,null,null,null,null,null,null,null,null,null,{"$f":"IF(FR57>0,AVERAGE(FR57:HD57),0)","v":0},null,null,null,null,null,null,null,null,null,null,null,null,null,null,null,null,null,null,null,null,null,null,null,null,null,null,null,null,null,null,null,null,null,null,null,null,null,null,null,null,null,{"$f":"IF(HH57>0,AVERAGE(HH57:IT57),0)","v":0},null,null,null,null,null,null,null,null,null,null,null,null,null,null,null,null,null,null,null,null,null,null,null,null,null,null,null,null,null,null,null,null,null,null,null,null,null,null,null,null,null,{"$f":"IF(IX57>0,AVERAGE(IX57:KJ57),0)","v":0},null,null,null,null,null,null,null,null,null,null,null,null,null,null,null,null,null,null,null,null,null,null,null,null,null,null,null,null,null,null,null,null,null,null,null,null,null,null,null,null,null,{"$f":"IF(KN57>0,AVERAGE(KN57:LZ57),0)","v":0},null,null,null,null,null,null,null,null,null,null,null,null,null,null,null,null,null,null,null,null,null,null,null,null,null,null,null,null,null,null,null,null,null,null,null,null,null,null,null,null,null,{"$f":"IF(MD57>0,AVERAGE(MD57:NP57),0)","v":0},null,null,null,null,null,null,null,null,null,null,null,null,null,null,null,null,null,null,null,null,null,null,null,null,null,null,null,null,null,null,null,null,null,null,null,null,null,null,null,null,null,{"$f":"IF(NT57>0,AVERAGE(NT57:PF57),0)","v":0},null,{"$f":"AT57","v":0},{"$f":"CJ57","v":0},{"$f":"DZ57","v":0},{"$f":"FP57","v":0},{"$f":"HF57","v":0},{"$f":"IV57","v":0},{"$f":"KL57","v":0},{"$f":"MB57","v":0},{"$f":"NR57","v":0},{"$f":"PH57","v":0},{"$f":"SUMPRODUCT($PJ$35:$PS$35,PJ57:PS57)","v":0}]
[]
[null,"Notes:",null,null,null,{"$f":"PJ9","v":"Unit Type 1"},null,null,null,null,null,null,null,null,null,null,null,null,null,null,null,null,null,null,null,null,null,null,null,null,null,null,null,null,null,null,null,null,null,null,null,null,null,null,null,null,null,{"$f":"PK9","v":"Unit Type 2"},null,null,null,null,null,null,null,null,null,null,null,null,null,null,null,null,null,null,null,null,null,null,null,null,null,null,null,null,null,null,null,null,null,null,null,null,null,null,null,null,null,{"$f":"PL9","v":"Unit Type 3"},null,null,null,null,null,null,null,null,null,null,null,null,null,null,null,null,null,null,null,null,null,null,null,null,null,null,null,null,null,null,null,null,null,null,null,null,null,null,null,null,null,{"$f":"PM9","v":"Unit Type 4"},null,null,null,null,null,null,null,null,null,null,null,null,null,null,null,null,null,null,null,null,null,null,null,null,null,null,null,null,null,null,null,null,null,null,null,null,null,null,null,null,null,{"$f":"PN9","v":"Unit Type 5"},null,null,null,null,null,null,null,null,null,null,null,null,null,null,null,null,null,null,null,null,null,null,null,null,null,null,null,null,null,null,null,null,null,null,null,null,null,null,null,null,null,{"$f":"PO9","v":"Unit Type 6"},null,null,null,null,null,null,null,null,null,null,null,null,null,null,null,null,null,null,null,null,null,null,null,null,null,null,null,null,null,null,null,null,null,null,null,null,null,null,null,null,null,{"$f":"PP9","v":"Unit Type 7"},null,null,null,null,null,null,null,null,null,null,null,null,null,null,null,null,null,null,null,null,null,null,null,null,null,null,null,null,null,null,null,null,null,null,null,null,null,null,null,null,null,{"$f":"PQ9","v":"Unit Type 8"},null,null,null,null,null,null,null,null,null,null,null,null,null,null,null,null,null,null,null,null,null,null,null,null,null,null,null,null,null,null,null,null,null,null,null,null,null,null,null,null,null,{"$f":"PR9","v":"Unit Type 9"},null,null,null,null,null,null,null,null,null,null,null,null,null,null,null,null,null,null,null,null,null,null,null,null,null,null,null,null,null,null,null,null,null,null,null,null,null,null,null,null,null,{"$f":"PS9","v":"Unit Type 10"},null,null,null,null,null,null,null,null,null,null,null,null,null,null,null,null,null,null,null,null,null,null,null,null,null,null,null,null,null,null,null,null,null,null,null,null,null,null,null,null,null,"Notes:"]
[null,null,null,null,null,"Pre-Construction Unit #","Post-Construction Unit #","Pre- Construction Use ","Post-Construction Use","Difference","% Difference",null,null,null,null,null,null,null,null,null,null,null,null,null,null,null,null,null,null,null,null,null,null,null,null,null,null,null,null,null,null,null,null,null,null,null,null,"Pre-Construction Unit #","Post-Construction Unit #","Pre- Construction Use ","Post-Construction Use","Difference","% Difference",null,null,null,null,null,null,null,null,null,null,null,null,null,null,null,null,null,null,null,null,null,null,null,null,null,null,null,null,null,null,null,null,null,null,null,null,"Pre-Construction Unit #","Post-Construction Unit #","Pre- Construction Use ","Post-Construction Use","Difference","% Difference",null,null,null,null,null,null,null,null,null,null,null,null,null,null,null,null,null,null,null,null,null,null,null,null,null,null,null,null,null,null,null,null,null,null,null,null,"Pre-Construction Unit #","Post-Construction Unit #","Pre- Construction Use ","Post-Construction Use","Difference","% Difference",null,null,null,null,null,null,null,null,null,null,null,null,null,null,null,null,null,null,null,null,null,null,null,null,null,null,null,null,null,null,null,null,null,null,null,null,"Pre-Construction Unit #","Post-Construction Unit #","Pre- Construction Use ","Post-Construction Use","Difference","% Difference",null,null,null,null,null,null,null,null,null,null,null,null,null,null,null,null,null,null,null,null,null,null,null,null,null,null,null,null,null,null,null,null,null,null,null,null,"Pre-Construction Unit #","Post-Construction Unit #","Pre- Construction Use ","Post-Construction Use","Difference","% Difference",null,null,null,null,null,null,null,null,null,null,null,null,null,null,null,null,null,null,null,null,null,null,null,null,null,null,null,null,null,null,null,null,null,null,null,null,"Pre-Construction Unit #","Post-Construction Unit #","Pre- Construction Use ","Post-Construction Use","Difference","% Difference",null,null,null,null,null,null,null,null,null,null,null,null,null,null,null,null,null,null,null,null,null,null,null,null,null,null,null,null,null,null,null,null,null,null,null,null,"Pre-Construction Unit #","Post-Construction Unit #","Pre- Construction Use ","Post-Construction Use","Difference","% Difference",null,null,null,null,null,null,null,null,null,null,null,null,null,null,null,null,null,null,null,null,null,null,null,null,null,null,null,null,null,null,null,null,null,null,null,null,"Pre-Construction Unit #","Post-Construction Unit #","Pre- Construction Use ","Post-Construction Use","Difference","% Difference",null,null,null,null,null,null,null,null,null,null,null,null,null,null,null,null,null,null,null,null,null,null,null,null,null,null,null,null,null,null,null,null,null,null,null,null,"Pre-Construction Unit #","Post-Construction Unit #","Pre- Construction Use ","Post-Construction Use","Difference","% Difference"]
[null,null,null,null,null,{"$f":"F7","v":0},{"$f":"F34","v":0},{"$f":"F27","v":0},{"$f":"F54","v":0},{"$f":"I61-H61","v":0},{"$f":"IF(H61>0,J61/H61,\"\")","v":""},null,null,null,null,null,null,null,null,null,null,null,null,null,null,null,null,null,null,null,null,null,null,null,null,null,null,null,null,null,null,null,null,null,null,null,null,{"$f":"AV7","v":0},{"$f":"AV34","v":0},{"$f":"AV27","v":0},{"$f":"AV54","v":0},{"$f":"AY61-AX61","v":0},{"$f":"IF(AX61>0,AZ61/AX61,\"\")","v":""},null,null,null,null,null,null,null,null,null,null,null,null,null,null,null,null,null,null,null,null,null,null,null,null,null,null,null,null,null,null,null,null,null,null,null,null,{"$f":"CL7","v":0},{"$f":"CL34","v":0},{"$f":"CL27","v":0},{"$f":"CL54","v":0},{"$f":"CO61-CN61","v":0},{"$f":"IF(CN61>0,CP61/CN61,\"\")","v":""},null,null,null,null,null,null,null,null,null,null,null,null,null,null,null,null,null,null,null,null,null,null,null,null,null,null,null,null,null,null,null,null,null,null,null,null,{"$f":"EB7","v":0},{"$f":"EB34","v":0},{"$f":"EB27","v":0},{"$f":"EB54","v":0},{"$f":"EE61-ED61","v":0},{"$f":"IF(ED61>0,EF61/ED61,\"\")","v":""},null,null,null,null,null,null,null,null,null,null,null,null,null,null,null,null,null,null,null,null,null,null,null,null,null,null,null,null,null,null,null,null,null,null,null,null,{"$f":"FR7","v":0},{"$f":"FR34","v":0},{"$f":"FR27","v":0},{"$f":"FR54","v":0},{"$f":"FU61-FT61","v":0},{"$f":"IF(FT61>0,FV61/FT61,\"\")","v":""},null,null,null,null,null,null,null,null,null,null,null,null,null,null,null,null,null,null,null,null,null,null,null,null,null,null,null,null,null,null,null,null,null,null,null,null,{"$f":"HH7","v":0},{"$f":"HH34","v":0},{"$f":"HH27","v":0},{"$f":"HH54","v":0},{"$f":"HK61-HJ61","v":0},{"$f":"IF(HJ61>0,HL61/HJ61,\"\")","v":""},null,null,null,null,null,null,null,null,null,null,null,null,null,null,null,null,null,null,null,null,null,null,null,null,null,null,null,null,null,null,null,null,null,null,null,null,{"$f":"IX7","v":0},{"$f":"IX34","v":0},{"$f":"IX27","v":0},{"$f":"IX54","v":0},{"$f":"JA61-IZ61","v":0},{"$f":"IF(IZ61>0,JB61/IZ61,\"\")","v":""},null,null,null,null,null,null,null,null,null,null,null,null,null,null,null,null,null,null,null,null,null,null,null,null,null,null,null,null,null,null,null,null,null,null,null,null,{"$f":"KN7","v":0},{"$f":"KN34","v":0},{"$f":"KN27","v":0},{"$f":"KN54","v":0},{"$f":"KQ61-KP61","v":0},{"$f":"IF(KP61>0,KR61/KP61,\"\")","v":""},null,null,null,null,null,null,null,null,null,null,null,null,null,null,null,null,null,null,null,null,null,null,null,null,null,null,null,null,null,null,null,null,null,null,null,null,{"$f":"MD7","v":0},{"$f":"MD34","v":0},{"$f":"MD27","v":0},{"$f":"MD54","v":0},{"$f":"MG61-MF61","v":0},{"$f":"IF(MF61>0,MH61/MF61,\"\")","v":""},null,null,null,null,null,null,null,null,null,null,null,null,null,null,null,null,null,null,null,null,null,null,null,null,null,null,null,null,null,null,null,null,null,null,null,null,{"$f":"NT7","v":0},{"$f":"NT34","v":0},{"$f":"NT27","v":0},{"$f":"NT54","v":0},{"$f":"NW61-NV61","v":0},{"$f":"IF(NV61>0,NX61/NV61,\"\")","v":""}]
[null,null,null,null,null,{"$f":"H7","v":0},{"$f":"H34","v":0},{"$f":"H27","v":0},{"$f":"H54","v":0},0,"",null,null,null,null,null,null,null,null,null,null,null,null,null,null,null,null,null,null,null,null,null,null,null,null,null,null,null,null,null,null,null,null,null,null,null,null,{"$f":"AX7","v":0},{"$f":"AX34","v":0},{"$f":"AX27","v":0},{"$f":"AX54","v":0},0,"",null,null,null,null,null,null,null,null,null,null,null,null,null,null,null,null,null,null,null,null,null,null,null,null,null,null,null,null,null,null,null,null,null,null,null,null,{"$f":"CN7","v":0},{"$f":"CN34","v":0},{"$f":"CN27","v":0},{"$f":"CN54","v":0},0,"",null,null,null,null,null,null,null,null,null,null,null,null,null,null,null,null,null,null,null,null,null,null,null,null,null,null,null,null,null,null,null,null,null,null,null,null,{"$f":"ED7","v":0},{"$f":"ED34","v":0},{"$f":"ED27","v":0},{"$f":"ED54","v":0},0,"",null,null,null,null,null,null,null,null,null,null,null,null,null,null,null,null,null,null,null,null,null,null,null,null,null,null,null,null,null,null,null,null,null,null,null,null,{"$f":"FT7","v":0},{"$f":"FT34","v":0},{"$f":"FT27","v":0},{"$f":"FT54","v":0},0,"",null,null,null,null,null,null,null,null,null,null,null,null,null,null,null,null,null,null,null,null,null,null,null,null,null,null,null,null,null,null,null,null,null,null,null,null,{"$f":"HJ7","v":0},{"$f":"HJ34","v":0},{"$f":"HJ27","v":0},{"$f":"HJ54","v":0},0,"",null,null,null,null,null,null,null,null,null,null,null,null,null,null,null,null,null,null,null,null,null,null,null,null,null,null,null,null,null,null,null,null,null,null,null,null,{"$f":"IZ7","v":0},{"$f":"IZ34","v":0},{"$f":"IZ27","v":0},{"$f":"IZ54","v":0},0,"",null,null,null,null,null,null,null,null,null,null,null,null,null,null,null,null,null,null,null,null,null,null,null,null,null,null,null,null,null,null,null,null,null,null,null,null,{"$f":"KP7","v":0},{"$f":"KP34","v":0},{"$f":"KP27","v":0},{"$f":"KP54","v":0},0,"",null,null,null,null,null,null,null,null,null,null,null,null,null,null,null,null,null,null,null,null,null,null,null,null,null,null,null,null,null,null,null,null,null,null,null,null,{"$f":"MF7","v":0},{"$f":"MF34","v":0},{"$f":"MF27","v":0},{"$f":"MF54","v":0},0,"",null,null,null,null,null,null,null,null,null,null,null,null,null,null,null,null,null,null,null,null,null,null,null,null,null,null,null,null,null,null,null,null,null,null,null,null,{"$f":"NV7","v":0},{"$f":"NV34","v":0},{"$f":"NV27","v":0},{"$f":"NV54","v":0},0,""]
[null,null,null,null,null,{"$f":"J7","v":0},{"$f":"J34","v":0},{"$f":"J27","v":0},{"$f":"J54","v":0},0,"",null,null,null,null,null,null,null,null,null,null,null,null,null,null,null,null,null,null,null,null,null,null,null,null,null,null,null,null,null,null,null,null,null,null,null,null,{"$f":"AZ7","v":0},{"$f":"AZ34","v":0},{"$f":"AZ27","v":0},{"$f":"AZ54","v":0},0,"",null,null,null,null,null,null,null,null,null,null,null,null,null,null,null,null,null,null,null,null,null,null,null,null,null,null,null,null,null,null,null,null,null,null,null,null,{"$f":"CP7","v":0},{"$f":"CP34","v":0},{"$f":"CP27","v":0},{"$f":"CP54","v":0},0,"",null,null,null,null,null,null,null,null,null,null,null,null,null,null,null,null,null,null,null,null,null,null,null,null,null,null,null,null,null,null,null,null,null,null,null,null,{"$f":"EF7","v":0},{"$f":"EF34","v":0},{"$f":"EF27","v":0},{"$f":"EF54","v":0},0,"",null,null,null,null,null,null,null,null,null,null,null,null,null,null,null,null,null,null,null,null,null,null,null,null,null,null,null,null,null,null,null,null,null,null,null,null,{"$f":"FV7","v":0},{"$f":"FV34","v":0},{"$f":"FV27","v":0},{"$f":"FV54","v":0},0,"",null,null,null,null,null,null,null,null,null,null,null,null,null,null,null,null,null,null,null,null,null,null,null,null,null,null,null,null,null,null,null,null,null,null,null,null,{"$f":"HL7","v":0},{"$f":"HL34","v":0},{"$f":"HL27","v":0},{"$f":"HL54","v":0},0,"",null,null,null,null,null,null,null,null,null,null,null,null,null,null,null,null,null,null,null,null,null,null,null,null,null,null,null,null,null,null,null,null,null,null,null,null,{"$f":"JB7","v":0},{"$f":"JB34","v":0},{"$f":"JB27","v":0},{"$f":"JB54","v":0},0,"",null,null,null,null,null,null,null,null,null,null,null,null,null,null,null,null,null,null,null,null,null,null,null,null,null,null,null,null,null,null,null,null,null,null,null,null,{"$f":"KR7","v":0},{"$f":"KR34","v":0},{"$f":"KR27","v":0},{"$f":"KR54","v":0},0,"",null,null,null,null,null,null,null,null,null,null,null,null,null,null,null,null,null,null,null,null,null,null,null,null,null,null,null,null,null,null,null,null,null,null,null,null,{"$f":"MH7","v":0},{"$f":"MH34","v":0},{"$f":"MH27","v":0},{"$f":"MH54","v":0},0,"",null,null,null,null,null,null,null,null,null,null,null,null,null,null,null,null,null,null,null,null,null,null,null,null,null,null,null,null,null,null,null,null,null,null,null,null,{"$f":"NX7","v":0},{"$f":"NX34","v":0},{"$f":"NX27","v":0},{"$f":"NX54","v":0},0,""]
[null,null,null,null,null,{"$f":"L7","v":0},{"$f":"L34","v":0},{"$f":"L27","v":0},{"$f":"L54","v":0},0,"",null,null,null,null,null,null,null,null,null,null,null,null,null,null,null,null,null,null,null,null,null,null,null,null,null,null,null,null,null,null,null,null,null,null,null,null,{"$f":"BB7","v":0},{"$f":"BB34","v":0},{"$f":"BB27","v":0},{"$f":"BB54","v":0},0,"",null,null,null,null,null,null,null,null,null,null,null,null,null,null,null,null,null,null,null,null,null,null,null,null,null,null,null,null,null,null,null,null,null,null,null,null,{"$f":"CR7","v":0},{"$f":"CR34","v":0},{"$f":"CR27","v":0},{"$f":"CR54","v":0},0,"",null,null,null,null,null,null,null,null,null,null,null,null,null,null,null,null,null,null,null,null,null,null,null,null,null,null,null,null,null,null,null,null,null,null,null,null,{"$f":"EH7","v":0},{"$f":"EH34","v":0},{"$f":"EH27","v":0},{"$f":"EH54","v":0},0,"",null,null,null,null,null,null,null,null,null,null,null,null,null,null,null,null,null,null,null,null,null,null,null,null,null,null,null,null,null,null,null,null,null,null,null,null,{"$f":"FX7","v":0},{"$f":"FX34","v":0},{"$f":"FX27","v":0},{"$f":"FX54","v":0},0,"",null,null,null,null,null,null,null,null,null,null,null,null,null,null,null,null,null,null,null,null,null,null,null,null,null,null,null,null,null,null,null,null,null,null,null,null,{"$f":"HN7","v":0},{"$f":"HN34","v":0},{"$f":"HN27","v":0},{"$f":"HN54","v":0},0,"",null,null,null,null,null,null,null,null,null,null,null,null,null,null,null,null,null,null,null,null,null,null,null,null,null,null,null,null,null,null,null,null,null,null,null,null,{"$f":"JD7","v":0},{"$f":"JD34","v":0},{"$f":"JD27","v":0},{"$f":"JD54","v":0},0,"",null,null,null,null,null,null,null,null,null,null,null,null,null,null,null,null,null,null,null,null,null,null,null,null,null,null,null,null,null,null,null,null,null,null,null,null,{"$f":"KT7","v":0},{"$f":"KT34","v":0},{"$f":"KT27","v":0},{"$f":"KT54","v":0},0,"",null,null,null,null,null,null,null,null,null,null,null,null,null,null,null,null,null,null,null,null,null,null,null,null,null,null,null,null,null,null,null,null,null,null,null,null,{"$f":"MJ7","v":0},{"$f":"MJ34","v":0},{"$f":"MJ27","v":0},{"$f":"MJ54","v":0},0,"",null,null,null,null,null,null,null,null,null,null,null,null,null,null,null,null,null,null,null,null,null,null,null,null,null,null,null,null,null,null,null,null,null,null,null,null,{"$f":"NZ7","v":0},{"$f":"NZ34","v":0},{"$f":"NZ27","v":0},{"$f":"NZ54","v":0},0,""]
[null,null,null,null,null,{"$f":"N7","v":0},{"$f":"N34","v":0},{"$f":"N27","v":0},{"$f":"N54","v":0},0,"",null,null,null,null,null,null,null,null,null,null,null,null,null,null,null,null,null,null,null,null,null,null,null,null,null,null,null,null,null,null,null,null,null,null,null,null,{"$f":"BD7","v":0},{"$f":"BD34","v":0},{"$f":"BD27","v":0},{"$f":"BD54","v":0},0,"",null,null,null,null,null,null,null,null,null,null,null,null,null,null,null,null,null,null,null,null,null,null,null,null,null,null,null,null,null,null,null,null,null,null,null,null,{"$f":"CT7","v":0},{"$f":"CT34","v":0},{"$f":"CT27","v":0},{"$f":"CT54","v":0},0,"",null,null,null,null,null,null,null,null,null,null,null,null,null,null,null,null,null,null,null,null,null,null,null,null,null,null,null,null,null,null,null,null,null,null,null,null,{"$f":"EJ7","v":0},{"$f":"EJ34","v":0},{"$f":"EJ27","v":0},{"$f":"EJ54","v":0},0,"",null,null,null,null,null,null,null,null,null,null,null,null,null,null,null,null,null,null,null,null,null,null,null,null,null,null,null,null,null,null,null,null,null,null,null,null,{"$f":"FZ7","v":0},{"$f":"FZ34","v":0},{"$f":"FZ27","v":0},{"$f":"FZ54","v":0},0,"",null,null,null,null,null,null,null,null,null,null,null,null,null,null,null,null,null,null,null,null,null,null,null,null,null,null,null,null,null,null,null,null,null,null,null,null,{"$f":"HP7","v":0},{"$f":"HP34","v":0},{"$f":"HP27","v":0},{"$f":"HP54","v":0},0,"",null,null,null,null,null,null,null,null,null,null,null,null,null,null,null,null,null,null,null,null,null,null,null,null,null,null,null,null,null,null,null,null,null,null,null,null,{"$f":"JF7","v":0},{"$f":"JF34","v":0},{"$f":"JF27","v":0},{"$f":"JF54","v":0},0,"",null,null,null,null,null,null,null,null,null,null,null,null,null,null,null,null,null,null,null,null,null,null,null,null,null,null,null,null,null,null,null,null,null,null,null,null,{"$f":"KV7","v":0},{"$f":"KV34","v":0},{"$f":"KV27","v":0},{"$f":"KV54","v":0},0,"",null,null,null,null,null,null,null,null,null,null,null,null,null,null,null,null,null,null,null,null,null,null,null,null,null,null,null,null,null,null,null,null,null,null,null,null,{"$f":"ML7","v":0},{"$f":"ML34","v":0},{"$f":"ML27","v":0},{"$f":"ML54","v":0},0,"",null,null,null,null,null,null,null,null,null,null,null,null,null,null,null,null,null,null,null,null,null,null,null,null,null,null,null,null,null,null,null,null,null,null,null,null,{"$f":"OB7","v":0},{"$f":"OB34","v":0},{"$f":"OB27","v":0},{"$f":"OB54","v":0},0,""]
[null,null,null,null,null,{"$f":"P7","v":0},{"$f":"P34","v":0},{"$f":"P27","v":0},{"$f":"P54","v":0},0,"",null,null,null,null,null,null,null,null,null,null,null,null,null,null,null,null,null,null,null,null,null,null,null,null,null,null,null,null,null,null,null,null,null,null,null,null,{"$f":"BF7","v":0},{"$f":"BF34","v":0},{"$f":"BF27","v":0},{"$f":"BF54","v":0},0,"",null,null,null,null,null,null,null,null,null,null,null,null,null,null,null,null,null,null,null,null,null,null,null,null,null,null,null,null,null,null,null,null,null,null,null,null,{"$f":"CV7","v":0},{"$f":"CV34","v":0},{"$f":"CV27","v":0},{"$f":"CV54","v":0},0,"",null,null,null,null,null,null,null,null,null,null,null,null,null,null,null,null,null,null,null,null,null,null,null,null,null,null,null,null,null,null,null,null,null,null,null,null,{"$f":"EL7","v":0},{"$f":"EL34","v":0},{"$f":"EL27","v":0},{"$f":"EL54","v":0},0,"",null,null,null,null,null,null,null,null,null,null,null,null,null,null,null,null,null,null,null,null,null,null,null,null,null,null,null,null,null,null,null,null,null,null,null,null,{"$f":"GB7","v":0},{"$f":"GB34","v":0},{"$f":"GB27","v":0},{"$f":"GB54","v":0},0,"",null,null,null,null,null,null,null,null,null,null,null,null,null,null,null,null,null,null,null,null,null,null,null,null,null,null,null,null,null,null,null,null,null,null,null,null,{"$f":"HR7","v":0},{"$f":"HR34","v":0},{"$f":"HR27","v":0},{"$f":"HR54","v":0},0,"",null,null,null,null,null,null,null,null,null,null,null,null,null,null,null,null,null,null,null,null,null,null,null,null,null,null,null,null,null,null,null,null,null,null,null,null,{"$f":"JH7","v":0},{"$f":"JH34","v":0},{"$f":"JH27","v":0},{"$f":"JH54","v":0},0,"",null,null,null,null,null,null,null,null,null,null,null,null,null,null,null,null,null,null,null,null,null,null,null,null,null,null,null,null,null,null,null,null,null,null,null,null,{"$f":"KX7","v":0},{"$f":"KX34","v":0},{"$f":"KX27","v":0},{"$f":"KX54","v":0},0,"",null,null,null,null,null,null,null,null,null,null,null,null,null,null,null,null,null,null,null,null,null,null,null,null,null,null,null,null,null,null,null,null,null,null,null,null,{"$f":"MN7","v":0},{"$f":"MN34","v":0},{"$f":"MN27","v":0},{"$f":"MN54","v":0},0,"",null,null,null,null,null,null,null,null,null,null,null,null,null,null,null,null,null,null,null,null,null,null,null,null,null,null,null,null,null,null,null,null,null,null,null,null,{"$f":"OD7","v":0},{"$f":"OD34","v":0},{"$f":"OD27","v":0},{"$f":"OD54","v":0},0,""]
[null,null,null,null,null,{"$f":"R7","v":0},{"$f":"R34","v":0},{"$f":"R27","v":0},{"$f":"R54","v":0},0,"",null,null,null,null,null,null,null,null,null,null,null,null,null,null,null,null,null,null,null,null,null,null,null,null,null,null,null,null,null,null,null,null,null,null,null,null,{"$f":"BH7","v":0},{"$f":"BH34","v":0},{"$f":"BH27","v":0},{"$f":"BH54","v":0},0,"",null,null,null,null,null,null,null,null,null,null,null,null,null,null,null,null,null,null,null,null,null,null,null,null,null,null,null,null,null,null,null,null,null,null,null,null,{"$f":"CX7","v":0},{"$f":"CX34","v":0},{"$f":"CX27","v":0},{"$f":"CX54","v":0},0,"",null,null,null,null,null,null,null,null,null,null,null,null,null,null,null,null,null,null,null,null,null,null,null,null,null,null,null,null,null,null,null,null,null,null,null,null,{"$f":"EN7","v":0},{"$f":"EN34","v":0},{"$f":"EN27","v":0},{"$f":"EN54","v":0},0,"",null,null,null,null,null,null,null,null,null,null,null,null,null,null,null,null,null,null,null,null,null,null,null,null,null,null,null,null,null,null,null,null,null,null,null,null,{"$f":"GD7","v":0},{"$f":"GD34","v":0},{"$f":"GD27","v":0},{"$f":"GD54","v":0},0,"",null,null,null,null,null,null,null,null,null,null,null,null,null,null,null,null,null,null,null,null,null,null,null,null,null,null,null,null,null,null,null,null,null,null,null,null,{"$f":"HT7","v":0},{"$f":"HT34","v":0},{"$f":"HT27","v":0},{"$f":"HT54","v":0},0,"",null,null,null,null,null,null,null,null,null,null,null,null,null,null,null,null,null,null,null,null,null,null,null,null,null,null,null,null,null,null,null,null,null,null,null,null,{"$f":"JJ7","v":0},{"$f":"JJ34","v":0},{"$f":"JJ27","v":0},{"$f":"JJ54","v":0},0,"",null,null,null,null,null,null,null,null,null,null,null,null,null,null,null,null,null,null,null,null,null,null,null,null,null,null,null,null,null,null,null,null,null,null,null,null,{"$f":"KZ7","v":0},{"$f":"KZ34","v":0},{"$f":"KZ27","v":0},{"$f":"KZ54","v":0},0,"",null,null,null,null,null,null,null,null,null,null,null,null,null,null,null,null,null,null,null,null,null,null,null,null,null,null,null,null,null,null,null,null,null,null,null,null,{"$f":"MP7","v":0},{"$f":"MP34","v":0},{"$f":"MP27","v":0},{"$f":"MP54","v":0},0,"",null,null,null,null,null,null,null,null,null,null,null,null,null,null,null,null,null,null,null,null,null,null,null,null,null,null,null,null,null,null,null,null,null,null,null,null,{"$f":"OF7","v":0},{"$f":"OF34","v":0},{"$f":"OF27","v":0},{"$f":"OF54","v":0},0,""]
[null,null,null,null,null,{"$f":"T7","v":0},{"$f":"T34","v":0},{"$f":"T27","v":0},{"$f":"T54","v":0},0,"",null,null,null,null,null,null,null,null,null,null,null,null,null,null,null,null,null,null,null,null,null,null,null,null,null,null,null,null,null,null,null,null,null,null,null,null,{"$f":"BJ7","v":0},{"$f":"BJ34","v":0},{"$f":"BJ27","v":0},{"$f":"BJ54","v":0},0,"",null,null,null,null,null,null,null,null,null,null,null,null,null,null,null,null,null,null,null,null,null,null,null,null,null,null,null,null,null,null,null,null,null,null,null,null,{"$f":"CZ7","v":0},{"$f":"CZ34","v":0},{"$f":"CZ27","v":0},{"$f":"CZ54","v":0},0,"",null,null,null,null,null,null,null,null,null,null,null,null,null,null,null,null,null,null,null,null,null,null,null,null,null,null,null,null,null,null,null,null,null,null,null,null,{"$f":"EP7","v":0},{"$f":"EP34","v":0},{"$f":"EP27","v":0},{"$f":"EP54","v":0},0,"",null,null,null,null,null,null,null,null,null,null,null,null,null,null,null,null,null,null,null,null,null,null,null,null,null,null,null,null,null,null,null,null,null,null,null,null,{"$f":"GF7","v":0},{"$f":"GF34","v":0},{"$f":"GF27","v":0},{"$f":"GF54","v":0},0,"",null,null,null,null,null,null,null,null,null,null,null,null,null,null,null,null,null,null,null,null,null,null,null,null,null,null,null,null,null,null,null,null,null,null,null,null,{"$f":"HV7","v":0},{"$f":"HV34","v":0},{"$f":"HV27","v":0},{"$f":"HV54","v":0},0,"",null,null,null,null,null,null,null,null,null,null,null,null,null,null,null,null,null,null,null,null,null,null,null,null,null,null,null,null,null,null,null,null,null,null,null,null,{"$f":"JL7","v":0},{"$f":"JL34","v":0},{"$f":"JL27","v":0},{"$f":"JL54","v":0},0,"",null,null,null,null,null,null,null,null,null,null,null,null,null,null,null,null,null,null,null,null,null,null,null,null,null,null,null,null,null,null,null,null,null,null,null,null,{"$f":"LB7","v":0},{"$f":"LB34","v":0},{"$f":"LB27","v":0},{"$f":"LB54","v":0},0,"",null,null,null,null,null,null,null,null,null,null,null,null,null,null,null,null,null,null,null,null,null,null,null,null,null,null,null,null,null,null,null,null,null,null,null,null,{"$f":"MR7","v":0},{"$f":"MR34","v":0},{"$f":"MR27","v":0},{"$f":"MR54","v":0},0,"",null,null,null,null,null,null,null,null,null,null,null,null,null,null,null,null,null,null,null,null,null,null,null,null,null,null,null,null,null,null,null,null,null,null,null,null,{"$f":"OH7","v":0},{"$f":"OH34","v":0},{"$f":"OH27","v":0},{"$f":"OH54","v":0},0,""]
[null,null,null,null,null,{"$f":"V7","v":0},{"$f":"V34","v":0},{"$f":"V27","v":0},{"$f":"V54","v":0},0,"",null,null,null,null,null,null,null,null,null,null,null,null,null,null,null,null,null,null,null,null,null,null,null,null,null,null,null,null,null,null,null,null,null,null,null,null,{"$f":"BL7","v":0},{"$f":"BL34","v":0},{"$f":"BL27","v":0},{"$f":"BL54","v":0},0,"",null,null,null,null,null,null,null,null,null,null,null,null,null,null,null,null,null,null,null,null,null,null,null,null,null,null,null,null,null,null,null,null,null,null,null,null,{"$f":"DB7","v":0},{"$f":"DB34","v":0},{"$f":"DB27","v":0},{"$f":"DB54","v":0},0,"",null,null,null,null,null,null,null,null,null,null,null,null,null,null,null,null,null,null,null,null,null,null,null,null,null,null,null,null,null,null,null,null,null,null,null,null,{"$f":"ER7","v":0},{"$f":"ER34","v":0},{"$f":"ER27","v":0},{"$f":"ER54","v":0},0,"",null,null,null,null,null,null,null,null,null,null,null,null,null,null,null,null,null,null,null,null,null,null,null,null,null,null,null,null,null,null,null,null,null,null,null,null,{"$f":"GH7","v":0},{"$f":"GH34","v":0},{"$f":"GH27","v":0},{"$f":"GH54","v":0},0,"",null,null,null,null,null,null,null,null,null,null,null,null,null,null,null,null,null,null,null,null,null,null,null,null,null,null,null,null,null,null,null,null,null,null,null,null,{"$f":"HX7","v":0},{"$f":"HX34","v":0},{"$f":"HX27","v":0},{"$f":"HX54","v":0},0,"",null,null,null,null,null,null,null,null,null,null,null,null,null,null,null,null,null,null,null,null,null,null,null,null,null,null,null,null,null,null,null,null,null,null,null,null,{"$f":"JN7","v":0},{"$f":"JN34","v":0},{"$f":"JN27","v":0},{"$f":"JN54","v":0},0,"",null,null,null,null,null,null,null,null,null,null,null,null,null,null,null,null,null,null,null,null,null,null,null,null,null,null,null,null,null,null,null,null,null,null,null,null,{"$f":"LD7","v":0},{"$f":"LD34","v":0},{"$f":"LD27","v":0},{"$f":"LD54","v":0},0,"",null,null,null,null,null,null,null,null,null,null,null,null,null,null,null,null,null,null,null,null,null,null,null,null,null,null,null,null,null,null,null,null,null,null,null,null,{"$f":"MT7","v":0},{"$f":"MT34","v":0},{"$f":"MT27","v":0},{"$f":"MT54","v":0},0,"",null,null,null,null,null,null,null,null,null,null,null,null,null,null,null,null,null,null,null,null,null,null,null,null,null,null,null,null,null,null,null,null,null,null,null,null,{"$f":"OJ7","v":0},{"$f":"OJ34","v":0},{"$f":"OJ27","v":0},{"$f":"OJ54","v":0},0,""]
[null,null,null,null,null,{"$f":"X7","v":0},{"$f":"X34","v":0},{"$f":"X27","v":0},{"$f":"X54","v":0},0,"",null,null,null,null,null,null,null,null,null,null,null,null,null,null,null,null,null,null,null,null,null,null,null,null,null,null,null,null,null,null,null,null,null,null,null,null,{"$f":"BN7","v":0},{"$f":"BN34","v":0},{"$f":"BN27","v":0},{"$f":"BN54","v":0},0,"",null,null,null,null,null,null,null,null,null,null,null,null,null,null,null,null,null,null,null,null,null,null,null,null,null,null,null,null,null,null,null,null,null,null,null,null,{"$f":"DD7","v":0},{"$f":"DD34","v":0},{"$f":"DD27","v":0},{"$f":"DD54","v":0},0,"",null,null,null,null,null,null,null,null,null,null,null,null,null,null,null,null,null,null,null,null,null,null,null,null,null,null,null,null,null,null,null,null,null,null,null,null,{"$f":"ET7","v":0},{"$f":"ET34","v":0},{"$f":"ET27","v":0},{"$f":"ET54","v":0},0,"",null,null,null,null,null,null,null,null,null,null,null,null,null,null,null,null,null,null,null,null,null,null,null,null,null,null,null,null,null,null,null,null,null,null,null,null,{"$f":"GJ7","v":0},{"$f":"GJ34","v":0},{"$f":"GJ27","v":0},{"$f":"GJ54","v":0},0,"",null,null,null,null,null,null,null,null,null,null,null,null,null,null,null,null,null,null,null,null,null,null,null,null,null,null,null,null,null,null,null,null,null,null,null,null,{"$f":"HZ7","v":0},{"$f":"HZ34","v":0},{"$f":"HZ27","v":0},{"$f":"HZ54","v":0},0,"",null,null,null,null,null,null,null,null,null,null,null,null,null,null,null,null,null,null,null,null,null,null,null,null,null,null,null,null,null,null,null,null,null,null,null,null,{"$f":"JP7","v":0},{"$f":"JP34","v":0},{"$f":"JP27","v":0},{"$f":"JP54","v":0},0,"",null,null,null,null,null,null,null,null,null,null,null,null,null,null,null,null,null,null,null,null,null,null,null,null,null,null,null,null,null,null,null,null,null,null,null,null,{"$f":"LF7","v":0},{"$f":"LF34","v":0},{"$f":"LF27","v":0},{"$f":"LF54","v":0},0,"",null,null,null,null,null,null,null,null,null,null,null,null,null,null,null,null,null,null,null,null,null,null,null,null,null,null,null,null,null,null,null,null,null,null,null,null,{"$f":"MV7","v":0},{"$f":"MV34","v":0},{"$f":"MV27","v":0},{"$f":"MV54","v":0},0,"",null,null,null,null,null,null,null,null,null,null,null,null,null,null,null,null,null,null,null,null,null,null,null,null,null,null,null,null,null,null,null,null,null,null,null,null,{"$f":"OL7","v":0},{"$f":"OL34","v":0},{"$f":"OL27","v":0},{"$f":"OL54","v":0},0,""]
[null,null,null,null,null,{"$f":"Z7","v":0},{"$f":"Z34","v":0},{"$f":"Z27","v":0},{"$f":"Z54","v":0},0,"",null,null,null,null,null,null,null,null,null,null,null,null,null,null,null,null,null,null,null,null,null,null,null,null,null,null,null,null,null,null,null,null,null,null,null,null,{"$f":"BP7","v":0},{"$f":"BP34","v":0},{"$f":"BP27","v":0},{"$f":"BP54","v":0},0,"",null,null,null,null,null,null,null,null,null,null,null,null,null,null,null,null,null,null,null,null,null,null,null,null,null,null,null,null,null,null,null,null,null,null,null,null,{"$f":"DF7","v":0},{"$f":"DF34","v":0},{"$f":"DF27","v":0},{"$f":"DF54","v":0},0,"",null,null,null,null,null,null,null,null,null,null,null,null,null,null,null,null,null,null,null,null,null,null,null,null,null,null,null,null,null,null,null,null,null,null,null,null,{"$f":"EV7","v":0},{"$f":"EV34","v":0},{"$f":"EV27","v":0},{"$f":"EV54","v":0},0,"",null,null,null,null,null,null,null,null,null,null,null,null,null,null,null,null,null,null,null,null,null,null,null,null,null,null,null,null,null,null,null,null,null,null,null,null,{"$f":"GL7","v":0},{"$f":"GL34","v":0},{"$f":"GL27","v":0},{"$f":"GL54","v":0},0,"",null,null,null,null,null,null,null,null,null,null,null,null,null,null,null,null,null,null,null,null,null,null,null,null,null,null,null,null,null,null,null,null,null,null,null,null,{"$f":"IB7","v":0},{"$f":"IB34","v":0},{"$f":"IB27","v":0},{"$f":"IB54","v":0},0,"",null,null,null,null,null,null,null,null,null,null,null,null,null,null,null,null,null,null,null,null,null,null,null,null,null,null,null,null,null,null,null,null,null,null,null,null,{"$f":"JR7","v":0},{"$f":"JR34","v":0},{"$f":"JR27","v":0},{"$f":"JR54","v":0},0,"",null,null,null,null,null,null,null,null,null,null,null,null,null,null,null,null,null,null,null,null,null,null,null,null,null,null,null,null,null,null,null,null,null,null,null,null,{"$f":"LH7","v":0},{"$f":"LH34","v":0},{"$f":"LH27","v":0},{"$f":"LH54","v":0},0,"",null,null,null,null,null,null,null,null,null,null,null,null,null,null,null,null,null,null,null,null,null,null,null,null,null,null,null,null,null,null,null,null,null,null,null,null,{"$f":"MX7","v":0},{"$f":"MX34","v":0},{"$f":"MX27","v":0},{"$f":"MX54","v":0},0,"",null,null,null,null,null,null,null,null,null,null,null,null,null,null,null,null,null,null,null,null,null,null,null,null,null,null,null,null,null,null,null,null,null,null,null,null,{"$f":"ON7","v":0},{"$f":"ON34","v":0},{"$f":"ON27","v":0},{"$f":"ON54","v":0},0,""]
[null,null,null,null,null,{"$f":"AB7","v":0},{"$f":"AB34","v":0},{"$f":"AB27","v":0},{"$f":"AB54","v":0},0,"",null,null,null,null,null,null,null,null,null,null,null,null,null,null,null,null,null,null,null,null,null,null,null,null,null,null,null,null,null,null,null,null,null,null,null,null,{"$f":"BR7","v":0},{"$f":"BR34","v":0},{"$f":"BR27","v":0},{"$f":"BR54","v":0},0,"",null,null,null,null,null,null,null,null,null,null,null,null,null,null,null,null,null,null,null,null,null,null,null,null,null,null,null,null,null,null,null,null,null,null,null,null,{"$f":"DH7","v":0},{"$f":"DH34","v":0},{"$f":"DH27","v":0},{"$f":"DH54","v":0},0,"",null,null,null,null,null,null,null,null,null,null,null,null,null,null,null,null,null,null,null,null,null,null,null,null,null,null,null,null,null,null,null,null,null,null,null,null,{"$f":"EX7","v":0},{"$f":"EX34","v":0},{"$f":"EX27","v":0},{"$f":"EX54","v":0},0,"",null,null,null,null,null,null,null,null,null,null,null,null,null,null,null,null,null,null,null,null,null,null,null,null,null,null,null,null,null,null,null,null,null,null,null,null,{"$f":"GN7","v":0},{"$f":"GN34","v":0},{"$f":"GN27","v":0},{"$f":"GN54","v":0},0,"",null,null,null,null,null,null,null,null,null,null,null,null,null,null,null,null,null,null,null,null,null,null,null,null,null,null,null,null,null,null,null,null,null,null,null,null,{"$f":"ID7","v":0},{"$f":"ID34","v":0},{"$f":"ID27","v":0},{"$f":"ID54","v":0},0,"",null,null,null,null,null,null,null,null,null,null,null,null,null,null,null,null,null,null,null,null,null,null,null,null,null,null,null,null,null,null,null,null,null,null,null,null,{"$f":"JT7","v":0},{"$f":"JT34","v":0},{"$f":"JT27","v":0},{"$f":"JT54","v":0},0,"",null,null,null,null,null,null,null,null,null,null,null,null,null,null,null,null,null,null,null,null,null,null,null,null,null,null,null,null,null,null,null,null,null,null,null,null,{"$f":"LJ7","v":0},{"$f":"LJ34","v":0},{"$f":"LJ27","v":0},{"$f":"LJ54","v":0},0,"",null,null,null,null,null,null,null,null,null,null,null,null,null,null,null,null,null,null,null,null,null,null,null,null,null,null,null,null,null,null,null,null,null,null,null,null,{"$f":"MZ7","v":0},{"$f":"MZ34","v":0},{"$f":"MZ27","v":0},{"$f":"MZ54","v":0},0,"",null,null,null,null,null,null,null,null,null,null,null,null,null,null,null,null,null,null,null,null,null,null,null,null,null,null,null,null,null,null,null,null,null,null,null,null,{"$f":"OP7","v":0},{"$f":"OP34","v":0},{"$f":"OP27","v":0},{"$f":"OP54","v":0},0,""]
[null,null,null,null,null,{"$f":"AD7","v":0},{"$f":"AD34","v":0},{"$f":"AD27","v":0},{"$f":"AD54","v":0},0,"",null,null,null,null,null,null,null,null,null,null,null,null,null,null,null,null,null,null,null,null,null,null,null,null,null,null,null,null,null,null,null,null,null,null,null,null,{"$f":"BT7","v":0},{"$f":"BT34","v":0},{"$f":"BT27","v":0},{"$f":"BT54","v":0},0,"",null,null,null,null,null,null,null,null,null,null,null,null,null,null,null,null,null,null,null,null,null,null,null,null,null,null,null,null,null,null,null,null,null,null,null,null,{"$f":"DJ7","v":0},{"$f":"DJ34","v":0},{"$f":"DJ27","v":0},{"$f":"DJ54","v":0},0,"",null,null,null,null,null,null,null,null,null,null,null,null,null,null,null,null,null,null,null,null,null,null,null,null,null,null,null,null,null,null,null,null,null,null,null,null,{"$f":"EZ7","v":0},{"$f":"EZ34","v":0},{"$f":"EZ27","v":0},{"$f":"EZ54","v":0},0,"",null,null,null,null,null,null,null,null,null,null,null,null,null,null,null,null,null,null,null,null,null,null,null,null,null,null,null,null,null,null,null,null,null,null,null,null,{"$f":"GP7","v":0},{"$f":"GP34","v":0},{"$f":"GP27","v":0},{"$f":"GP54","v":0},0,"",null,null,null,null,null,null,null,null,null,null,null,null,null,null,null,null,null,null,null,null,null,null,null,null,null,null,null,null,null,null,null,null,null,null,null,null,{"$f":"IF7","v":0},{"$f":"IF34","v":0},{"$f":"IF27","v":0},{"$f":"IF54","v":0},0,"",null,null,null,null,null,null,null,null,null,null,null,null,null,null,null,null,null,null,null,null,null,null,null,null,null,null,null,null,null,null,null,null,null,null,null,null,{"$f":"JV7","v":0},{"$f":"JV34","v":0},{"$f":"JV27","v":0},{"$f":"JV54","v":0},0,"",null,null,null,null,null,null,null,null,null,null,null,null,null,null,null,null,null,null,null,null,null,null,null,null,null,null,null,null,null,null,null,null,null,null,null,null,{"$f":"LL7","v":0},{"$f":"LL34","v":0},{"$f":"LL27","v":0},{"$f":"LL54","v":0},0,"",null,null,null,null,null,null,null,null,null,null,null,null,null,null,null,null,null,null,null,null,null,null,null,null,null,null,null,null,null,null,null,null,null,null,null,null,{"$f":"NB7","v":0},{"$f":"NB34","v":0},{"$f":"NB27","v":0},{"$f":"NB54","v":0},0,"",null,null,null,null,null,null,null,null,null,null,null,null,null,null,null,null,null,null,null,null,null,null,null,null,null,null,null,null,null,null,null,null,null,null,null,null,{"$f":"OR7","v":0},{"$f":"OR34","v":0},{"$f":"OR27","v":0},{"$f":"OR54","v":0},0,""]
[null,null,null,null,null,{"$f":"AF7","v":0},{"$f":"AF34","v":0},{"$f":"AF27","v":0},{"$f":"AF54","v":0},0,"",null,null,null,null,null,null,null,null,null,null,null,null,null,null,null,null,null,null,null,null,null,null,null,null,null,null,null,null,null,null,null,null,null,null,null,null,{"$f":"BV7","v":0},{"$f":"BV34","v":0},{"$f":"BV27","v":0},{"$f":"BV54","v":0},0,"",null,null,null,null,null,null,null,null,null,null,null,null,null,null,null,null,null,null,null,null,null,null,null,null,null,null,null,null,null,null,null,null,null,null,null,null,{"$f":"DL7","v":0},{"$f":"DL34","v":0},{"$f":"DL27","v":0},{"$f":"DL54","v":0},0,"",null,null,null,null,null,null,null,null,null,null,null,null,null,null,null,null,null,null,null,null,null,null,null,null,null,null,null,null,null,null,null,null,null,null,null,null,{"$f":"FB7","v":0},{"$f":"FB34","v":0},{"$f":"FB27","v":0},{"$f":"FB54","v":0},0,"",null,null,null,null,null,null,null,null,null,null,null,null,null,null,null,null,null,null,null,null,null,null,null,null,null,null,null,null,null,null,null,null,null,null,null,null,{"$f":"GR7","v":0},{"$f":"GR34","v":0},{"$f":"GR27","v":0},{"$f":"GR54","v":0},0,"",null,null,null,null,null,null,null,null,null,null,null,null,null,null,null,null,null,null,null,null,null,null,null,null,null,null,null,null,null,null,null,null,null,null,null,null,{"$f":"IH7","v":0},{"$f":"IH34","v":0},{"$f":"IH27","v":0},{"$f":"IH54","v":0},0,"",null,null,null,null,null,null,null,null,null,null,null,null,null,null,null,null,null,null,null,null,null,null,null,null,null,null,null,null,null,null,null,null,null,null,null,null,{"$f":"JX7","v":0},{"$f":"JX34","v":0},{"$f":"JX27","v":0},{"$f":"JX54","v":0},0,"",null,null,null,null,null,null,null,null,null,null,null,null,null,null,null,null,null,null,null,null,null,null,null,null,null,null,null,null,null,null,null,null,null,null,null,null,{"$f":"LN7","v":0},{"$f":"LN34","v":0},{"$f":"LN27","v":0},{"$f":"LN54","v":0},0,"",null,null,null,null,null,null,null,null,null,null,null,null,null,null,null,null,null,null,null,null,null,null,null,null,null,null,null,null,null,null,null,null,null,null,null,null,{"$f":"ND7","v":0},{"$f":"ND34","v":0},{"$f":"ND27","v":0},{"$f":"ND54","v":0},0,"",null,null,null,null,null,null,null,null,null,null,null,null,null,null,null,null,null,null,null,null,null,null,null,null,null,null,null,null,null,null,null,null,null,null,null,null,{"$f":"OT7","v":0},{"$f":"OT34","v":0},{"$f":"OT27","v":0},{"$f":"OT54","v":0},0,""]
[null,null,null,null,null,{"$f":"AH7","v":0},{"$f":"AH34","v":0},{"$f":"AH27","v":0},{"$f":"AH54","v":0},0,"",null,null,null,null,null,null,null,null,null,null,null,null,null,null,null,null,null,null,null,null,null,null,null,null,null,null,null,null,null,null,null,null,null,null,null,null,{"$f":"BX7","v":0},{"$f":"BX34","v":0},{"$f":"BX27","v":0},{"$f":"BX54","v":0},0,"",null,null,null,null,null,null,null,null,null,null,null,null,null,null,null,null,null,null,null,null,null,null,null,null,null,null,null,null,null,null,null,null,null,null,null,null,{"$f":"DN7","v":0},{"$f":"DN34","v":0},{"$f":"DN27","v":0},{"$f":"DN54","v":0},0,"",null,null,null,null,null,null,null,null,null,null,null,null,null,null,null,null,null,null,null,null,null,null,null,null,null,null,null,null,null,null,null,null,null,null,null,null,{"$f":"FD7","v":0},{"$f":"FD34","v":0},{"$f":"FD27","v":0},{"$f":"FD54","v":0},0,"",null,null,null,null,null,null,null,null,null,null,null,null,null,null,null,null,null,null,null,null,null,null,null,null,null,null,null,null,null,null,null,null,null,null,null,null,{"$f":"GT7","v":0},{"$f":"GT34","v":0},{"$f":"GT27","v":0},{"$f":"GT54","v":0},0,"",null,null,null,null,null,null,null,null,null,null,null,null,null,null,null,null,null,null,null,null,null,null,null,null,null,null,null,null,null,null,null,null,null,null,null,null,{"$f":"IJ7","v":0},{"$f":"IJ34","v":0},{"$f":"IJ27","v":0},{"$f":"IJ54","v":0},0,"",null,null,null,null,null,null,null,null,null,null,null,null,null,null,null,null,null,null,null,null,null,null,null,null,null,null,null,null,null,null,null,null,null,null,null,null,{"$f":"JZ7","v":0},{"$f":"JZ34","v":0},{"$f":"JZ27","v":0},{"$f":"JZ54","v":0},0,"",null,null,null,null,null,null,null,null,null,null,null,null,null,null,null,null,null,null,null,null,null,null,null,null,null,null,null,null,null,null,null,null,null,null,null,null,{"$f":"LP7","v":0},{"$f":"LP34","v":0},{"$f":"LP27","v":0},{"$f":"LP54","v":0},0,"",null,null,null,null,null,null,null,null,null,null,null,null,null,null,null,null,null,null,null,null,null,null,null,null,null,null,null,null,null,null,null,null,null,null,null,null,{"$f":"NF7","v":0},{"$f":"NF34","v":0},{"$f":"NF27","v":0},{"$f":"NF54","v":0},0,"",null,null,null,null,null,null,null,null,null,null,null,null,null,null,null,null,null,null,null,null,null,null,null,null,null,null,null,null,null,null,null,null,null,null,null,null,{"$f":"OV7","v":0},{"$f":"OV34","v":0},{"$f":"OV27","v":0},{"$f":"OV54","v":0},0,""]
[null,null,null,null,null,{"$f":"AJ7","v":0},{"$f":"AJ34","v":0},{"$f":"AJ27","v":0},{"$f":"AJ54","v":0},0,"",null,null,null,null,null,null,null,null,null,null,null,null,null,null,null,null,null,null,null,null,null,null,null,null,null,null,null,null,null,null,null,null,null,null,null,null,{"$f":"BZ7","v":0},{"$f":"BZ34","v":0},{"$f":"BZ27","v":0},{"$f":"BZ54","v":0},0,"",null,null,null,null,null,null,null,null,null,null,null,null,null,null,null,null,null,null,null,null,null,null,null,null,null,null,null,null,null,null,null,null,null,null,null,null,{"$f":"DP7","v":0},{"$f":"DP34","v":0},{"$f":"DP27","v":0},{"$f":"DP54","v":0},0,"",null,null,null,null,null,null,null,null,null,null,null,null,null,null,null,null,null,null,null,null,null,null,null,null,null,null,null,null,null,null,null,null,null,null,null,null,{"$f":"FF7","v":0},{"$f":"FF34","v":0},{"$f":"FF27","v":0},{"$f":"FF54","v":0},0,"",null,null,null,null,null,null,null,null,null,null,null,null,null,null,null,null,null,null,null,null,null,null,null,null,null,null,null,null,null,null,null,null,null,null,null,null,{"$f":"GV7","v":0},{"$f":"GV34","v":0},{"$f":"GV27","v":0},{"$f":"GV54","v":0},0,"",null,null,null,null,null,null,null,null,null,null,null,null,null,null,null,null,null,null,null,null,null,null,null,null,null,null,null,null,null,null,null,null,null,null,null,null,{"$f":"IL7","v":0},{"$f":"IL34","v":0},{"$f":"IL27","v":0},{"$f":"IL54","v":0},0,"",null,null,null,null,null,null,null,null,null,null,null,null,null,null,null,null,null,null,null,null,null,null,null,null,null,null,null,null,null,null,null,null,null,null,null,null,{"$f":"KB7","v":0},{"$f":"KB34","v":0},{"$f":"KB27","v":0},{"$f":"KB54","v":0},0,"",null,null,null,null,null,null,null,null,null,null,null,null,null,null,null,null,null,null,null,null,null,null,null,null,null,null,null,null,null,null,null,null,null,null,null,null,{"$f":"LR7","v":0},{"$f":"LR34","v":0},{"$f":"LR27","v":0},{"$f":"LR54","v":0},0,"",null,null,null,null,null,null,null,null,null,null,null,null,null,null,null,null,null,null,null,null,null,null,null,null,null,null,null,null,null,null,null,null,null,null,null,null,{"$f":"NH7","v":0},{"$f":"NH34","v":0},{"$f":"NH27","v":0},{"$f":"NH54","v":0},0,"",null,null,null,null,null,null,null,null,null,null,null,null,null,null,null,null,null,null,null,null,null,null,null,null,null,null,null,null,null,null,null,null,null,null,null,null,{"$f":"OX7","v":0},{"$f":"OX34","v":0},{"$f":"OX27","v":0},{"$f":"OX54","v":0},0,""]
[null,null,null,null,null,{"$f":"AL7","v":0},{"$f":"AL34","v":0},{"$f":"AL27","v":0},{"$f":"AL54","v":0},0,"",null,null,null,null,null,null,null,null,null,null,null,null,null,null,null,null,null,null,null,null,null,null,null,null,null,null,null,null,null,null,null,null,null,null,null,null,{"$f":"CB7","v":0},{"$f":"CB34","v":0},{"$f":"CB27","v":0},{"$f":"CB54","v":0},0,"",null,null,null,null,null,null,null,null,null,null,null,null,null,null,null,null,null,null,null,null,null,null,null,null,null,null,null,null,null,null,null,null,null,null,null,null,{"$f":"DR7","v":0},{"$f":"DR34","v":0},{"$f":"DR27","v":0},{"$f":"DR54","v":0},0,"",null,null,null,null,null,null,null,null,null,null,null,null,null,null,null,null,null,null,null,null,null,null,null,null,null,null,null,null,null,null,null,null,null,null,null,null,{"$f":"FH7","v":0},{"$f":"FH34","v":0},{"$f":"FH27","v":0},{"$f":"FH54","v":0},0,"",null,null,null,null,null,null,null,null,null,null,null,null,null,null,null,null,null,null,null,null,null,null,null,null,null,null,null,null,null,null,null,null,null,null,null,null,{"$f":"GX7","v":0},{"$f":"GX34","v":0},{"$f":"GX27","v":0},{"$f":"GX54","v":0},0,"",null,null,null,null,null,null,null,null,null,null,null,null,null,null,null,null,null,null,null,null,null,null,null,null,null,null,null,null,null,null,null,null,null,null,null,null,{"$f":"IN7","v":0},{"$f":"IN34","v":0},{"$f":"IN27","v":0},{"$f":"IN54","v":0},0,"",null,null,null,null,null,null,null,null,null,null,null,null,null,null,null,null,null,null,null,null,null,null,null,null,null,null,null,null,null,null,null,null,null,null,null,null,{"$f":"KD7","v":0},{"$f":"KD34","v":0},{"$f":"KD27","v":0},{"$f":"KD54","v":0},0,"",null,null,null,null,null,null,null,null,null,null,null,null,null,null,null,null,null,null,null,null,null,null,null,null,null,null,null,null,null,null,null,null,null,null,null,null,{"$f":"LT7","v":0},{"$f":"LT34","v":0},{"$f":"LT27","v":0},{"$f":"LT54","v":0},0,"",null,null,null,null,null,null,null,null,null,null,null,null,null,null,null,null,null,null,null,null,null,null,null,null,null,null,null,null,null,null,null,null,null,null,null,null,{"$f":"NJ7","v":0},{"$f":"NJ34","v":0},{"$f":"NJ27","v":0},{"$f":"NJ54","v":0},0,"",null,null,null,null,null,null,null,null,null,null,null,null,null,null,null,null,null,null,null,null,null,null,null,null,null,null,null,null,null,null,null,null,null,null,null,null,{"$f":"OZ7","v":0},{"$f":"OZ34","v":0},{"$f":"OZ27","v":0},{"$f":"OZ54","v":0},0,""]
[null,null,null,null,null,{"$f":"AN7","v":0},{"$f":"AN34","v":0},{"$f":"AN27","v":0},{"$f":"AN54","v":0},0,"",null,null,null,null,null,null,null,null,null,null,null,null,null,null,null,null,null,null,null,null,null,null,null,null,null,null,null,null,null,null,null,null,null,null,null,null,{"$f":"CD7","v":0},{"$f":"CD34","v":0},{"$f":"CD27","v":0},{"$f":"CD54","v":0},0,"",null,null,null,null,null,null,null,null,null,null,null,null,null,null,null,null,null,null,null,null,null,null,null,null,null,null,null,null,null,null,null,null,null,null,null,null,{"$f":"DT7","v":0},{"$f":"DT34","v":0},{"$f":"DT27","v":0},{"$f":"DT54","v":0},0,"",null,null,null,null,null,null,null,null,null,null,null,null,null,null,null,null,null,null,null,null,null,null,null,null,null,null,null,null,null,null,null,null,null,null,null,null,{"$f":"FJ7","v":0},{"$f":"FJ34","v":0},{"$f":"FJ27","v":0},{"$f":"FJ54","v":0},0,"",null,null,null,null,null,null,null,null,null,null,null,null,null,null,null,null,null,null,null,null,null,null,null,null,null,null,null,null,null,null,null,null,null,null,null,null,{"$f":"GZ7","v":0},{"$f":"GZ34","v":0},{"$f":"GZ27","v":0},{"$f":"GZ54","v":0},0,"",null,null,null,null,null,null,null,null,null,null,null,null,null,null,null,null,null,null,null,null,null,null,null,null,null,null,null,null,null,null,null,null,null,null,null,null,{"$f":"IP7","v":0},{"$f":"IP34","v":0},{"$f":"IP27","v":0},{"$f":"IP54","v":0},0,"",null,null,null,null,null,null,null,null,null,null,null,null,null,null,null,null,null,null,null,null,null,null,null,null,null,null,null,null,null,null,null,null,null,null,null,null,{"$f":"KF7","v":0},{"$f":"KF34","v":0},{"$f":"KF27","v":0},{"$f":"KF54","v":0},0,"",null,null,null,null,null,null,null,null,null,null,null,null,null,null,null,null,null,null,null,null,null,null,null,null,null,null,null,null,null,null,null,null,null,null,null,null,{"$f":"LV7","v":0},{"$f":"LV34","v":0},{"$f":"LV27","v":0},{"$f":"LV54","v":0},0,"",null,null,null,null,null,null,null,null,null,null,null,null,null,null,null,null,null,null,null,null,null,null,null,null,null,null,null,null,null,null,null,null,null,null,null,null,{"$f":"NL7","v":0},{"$f":"NL34","v":0},{"$f":"NL27","v":0},{"$f":"NL54","v":0},0,"",null,null,null,null,null,null,null,null,null,null,null,null,null,null,null,null,null,null,null,null,null,null,null,null,null,null,null,null,null,null,null,null,null,null,null,null,{"$f":"PB7","v":0},{"$f":"PB34","v":0},{"$f":"PB27","v":0},{"$f":"PB54","v":0},0,""]
[null,null,null,null,null,{"$f":"AP7","v":0},{"$f":"AP34","v":0},{"$f":"AP27","v":0},{"$f":"AP54","v":0},0,"",null,null,null,null,null,null,null,null,null,null,null,null,null,null,null,null,null,null,null,null,null,null,null,null,null,null,null,null,null,null,null,null,null,null,null,null,{"$f":"CF7","v":0},{"$f":"CF34","v":0},{"$f":"CF27","v":0},{"$f":"CF54","v":0},0,"",null,null,null,null,null,null,null,null,null,null,null,null,null,null,null,null,null,null,null,null,null,null,null,null,null,null,null,null,null,null,null,null,null,null,null,null,{"$f":"DV7","v":0},{"$f":"DV34","v":0},{"$f":"DV27","v":0},{"$f":"DV54","v":0},0,"",null,null,null,null,null,null,null,null,null,null,null,null,null,null,null,null,null,null,null,null,null,null,null,null,null,null,null,null,null,null,null,null,null,null,null,null,{"$f":"FL7","v":0},{"$f":"FL34","v":0},{"$f":"FL27","v":0},{"$f":"FL54","v":0},0,"",null,null,null,null,null,null,null,null,null,null,null,null,null,null,null,null,null,null,null,null,null,null,null,null,null,null,null,null,null,null,null,null,null,null,null,null,{"$f":"HB7","v":0},{"$f":"HB34","v":0},{"$f":"HB27","v":0},{"$f":"HB54","v":0},0,"",null,null,null,null,null,null,null,null,null,null,null,null,null,null,null,null,null,null,null,null,null,null,null,null,null,null,null,null,null,null,null,null,null,null,null,null,{"$f":"IR7","v":0},{"$f":"IR34","v":0},{"$f":"IR27","v":0},{"$f":"IR54","v":0},0,"",null,null,null,null,null,null,null,null,null,null,null,null,null,null,null,null,null,null,null,null,null,null,null,null,null,null,null,null,null,null,null,null,null,null,null,null,{"$f":"KH7","v":0},{"$f":"KH34","v":0},{"$f":"KH27","v":0},{"$f":"KH54","v":0},0,"",null,null,null,null,null,null,null,null,null,null,null,null,null,null,null,null,null,null,null,null,null,null,null,null,null,null,null,null,null,null,null,null,null,null,null,null,{"$f":"LX7","v":0},{"$f":"LX34","v":0},{"$f":"LX27","v":0},{"$f":"LX54","v":0},0,"",null,null,null,null,null,null,null,null,null,null,null,null,null,null,null,null,null,null,null,null,null,null,null,null,null,null,null,null,null,null,null,null,null,null,null,null,{"$f":"NN7","v":0},{"$f":"NN34","v":0},{"$f":"NN27","v":0},{"$f":"NN54","v":0},0,"",null,null,null,null,null,null,null,null,null,null,null,null,null,null,null,null,null,null,null,null,null,null,null,null,null,null,null,null,null,null,null,null,null,null,null,null,{"$f":"PD7","v":0},{"$f":"PD34","v":0},{"$f":"PD27","v":0},{"$f":"PD54","v":0},0,""]
[null,null,null,null,null,{"$f":"AR7","v":0},{"$f":"AR34","v":0},{"$f":"AR27","v":0},{"$f":"AR54","v":0},0,"",null,null,null,null,null,null,null,null,null,null,null,null,null,null,null,null,null,null,null,null,null,null,null,null,null,null,null,null,null,null,null,null,null,null,null,null,{"$f":"CH7","v":0},{"$f":"CH34","v":0},{"$f":"CH27","v":0},{"$f":"CH54","v":0},0,"",null,null,null,null,null,null,null,null,null,null,null,null,null,null,null,null,null,null,null,null,null,null,null,null,null,null,null,null,null,null,null,null,null,null,null,null,{"$f":"DX7","v":0},{"$f":"DX34","v":0},{"$f":"DX27","v":0},{"$f":"DX54","v":0},0,null,null,null,null,null,null,null,null,null,null,null,null,null,null,null,null,null,null,null,null,null,null,null,null,null,null,null,null,null,null,null,null,null,null,null,null,null,{"$f":"FN7","v":0},{"$f":"FN34","v":0},{"$f":"FN27","v":0},{"$f":"FN54","v":0},0,"",null,null,null,null,null,null,null,null,null,null,null,null,null,null,null,null,null,null,null,null,null,null,null,null,null,null,null,null,null,null,null,null,null,null,null,null,{"$f":"HD7","v":0},{"$f":"HD34","v":0},{"$f":"HD27","v":0},{"$f":"HD54","v":0},0,"",null,null,null,null,null,null,null,null,null,null,null,null,null,null,null,null,null,null,null,null,null,null,null,null,null,null,null,null,null,null,null,null,null,null,null,null,{"$f":"IT7","v":0},{"$f":"IT34","v":0},{"$f":"IT27","v":0},{"$f":"IT54","v":0},0,"",null,null,null,null,null,null,null,null,null,null,null,null,null,null,null,null,null,null,null,null,null,null,null,null,null,null,null,null,null,null,null,null,null,null,null,null,{"$f":"KJ7","v":0},{"$f":"KJ34","v":0},{"$f":"KJ27","v":0},{"$f":"KJ54","v":0},0,"",null,null,null,null,null,null,null,null,null,null,null,null,null,null,null,null,null,null,null,null,null,null,null,null,null,null,null,null,null,null,null,null,null,null,null,null,{"$f":"LZ7","v":0},{"$f":"LZ34","v":0},{"$f":"LZ27","v":0},{"$f":"LZ54","v":0},0,"",null,null,null,null,null,null,null,null,null,null,null,null,null,null,null,null,null,null,null,null,null,null,null,null,null,null,null,null,null,null,null,null,null,null,null,null,{"$f":"NP7","v":0},{"$f":"NP34","v":0},{"$f":"NP27","v":0},{"$f":"NP54","v":0},0,"",null,null,null,null,null,null,null,null,null,null,null,null,null,null,null,null,null,null,null,null,null,null,null,null,null,null,null,null,null,null,null,null,null,null,null,null,{"$f":"PF7","v":0},{"$f":"PF34","v":0},{"$f":"PF27","v":0},{"$f":"PF54","v":0},0,""]

{"sheet":"Gas Totals","index":5,"n_rows":120,"n_cols":70,"rows_kept":120,"cut":false,"hidden":true,"merged":[[60,1,64,16],[52,29,52,30],[52,31,52,32],[52,33,52,34],[52,35,52,36],[52,37,52,38],[52,39,52,40],[52,17,52,18],[52,19,52,20],[52,21,52,22],[52,23,52,24],[52,25,52,26],[52,27,52,28],[52,5,52,6],[52,7,52,8],[52,9,52,10],[52,11,52,12],[52,13,52,14],[52,15,52,16],[51,21,51,22],[51,23,51,24],[51,25,51,26],[51,27,51,28],[51,29,51,30],[51,31,51,32],[52,41,52,42],[52,43,52,44],[59,1,59,16],[49,25,49,26],[49,27,49,28],[49,29,49,30],[51,33,51,34],[51,35,51,36],[51,37,51,38],[51,39,51,40],[51,41,51,42],[51,43,51,44],[31,33,31,34],[31,35,31,36],[31,37,31,38],[31,15,31,16],[31,17,31,18],[49,43,49,44],[50,1,51,3],[51,5,51,6],[51,7,51,8],[51,9,51,10],[51,11,51,12],[51,13,51,14],[51,15,51,16],[51,17,51,18],[51,19,51,20],[49,31,49,32],[49,33,49,34],[49,35,49,36],[49,37,49,38],[49,39,49,40],[49,41,49,42],[49,19,49,20],[49,21,49,22],[49,23,49,24],[30,39,30,40],[30,41,30,42],[30,43,30,44],[30,31,30,32],[30,33,30,34],[31,50,32,50],[31,51,32,51],[31,53,32,53],[49,5,49,6],[49,7,49,8],[49,9,49,10],[49,11,49,12],[49,13,49,14],[49,15,49,16],[49,17,49,18],[31,39,31,40],[31,41,31,42],[31,43,31,44],[31,45,32,45],[31,48,32,48],[31,49,32,49],[31,27,31,28],[31,29,31,30],[31,31,31,32],[31,5,31,6],[31,7,31,8],[31,9,31,10],[31,11,31,12],[31,13,31,14],[30,23,30,24],[30,25,30,26],[30,27,30,28],[30,29,30,30],[31,19,31,20],[31,21,31,22],[31,23,31,24],[31,25,31,26],[29,48,30,50],[30,5,30,6],[30,7,30,8],[30,9,30,10],[30,11,30,12],[30,13,30,14],[30,15,30,16],[30,17,30,18],[30,19,30,20],[30,21,30,22],[29,33,29,34],[29,35,29,36],[29,37,29,38],[29,39,29,40],[29,41,29,42],[29,43,29,44],[29,21,29,22],[29,23,29,24],[29,25,29,26],[29,27,29,28],[29,29,29,30],[29,31,29,32],[30,35,30,36],[30,37,30,38],[29,17,29,18],[29,19,29,20],[27,31,27,32],[27,33,27,34],[27,35,27,36],[27,37,27,38],[27,39,27,40],[27,41,27,42],[27,19,27,20],[27,21,27,22],[27,23,27,24],[27,25,27,26],[27,27,27,28],[27,29,27,30],[26,39,26,40],[26,41,26,42],[26,43,26,44],[27,5,27,6],[27,7,27,8],[27,9,27,10],[27,11,27,12],[27,13,27,14],[27,15,27,16],[27,17,27,18],[26,27,26,28],[26,29,26,30],[26,31,26,32],[26,33,26,34],[26,35,26,36],[26,37,26,38],[26,15,26,16],[26,17,26,18],[26,19,26,20],[26,21,26,22],[26,23,26,24],[26,25,26,26],[27,43,27,44],[6,17,6,18],[6,19,6,20],[24,39,24,40],[24,41,24,42],[24,43,24,44],[24,21,24,22],[24,23,24,24],[24,25,24,26],[24,27,24,28],[24,29,24,30],[24,31,24,32],[24,33,24,34],[24,35,24,36],[24,37,24,38],[5,23,5,24],[5,25,5,26],[6,51,7,51],[6,53,7,53],[24,5,24,6],[24,7,24,8],[24,9,24,10],[24,11,24,12],[24,13,24,14],[24,15,24,16],[24,17,24,18],[24,19,24,20],[6,41,6,42],[6,43,6,44],[6,45,7,45],[6,48,7,48],[6,49,7,49],[6,50,7,50],[6,29,6,30],[6,31,6,32],[6,33,6,34],[6,35,6,36],[6,37,6,38],[6,39,6,40],[4,25,4,26],[4,27,4,28],[6,21,6,22],[6,23,6,24],[6,25,6,26],[6,27,6,28],[5,43,5,44],[6,1,7,1],[6,2,7,2],[6,3,7,3],[6,5,6,6],[6,7,6,8],[6,9,6,10],[6,11,6,12],[6,13,6,14],[6,15,6,16],[5,31,5,32],[5,33,5,34],[5,35,5,36],[5,37,5,38],[5,39,5,40],[5,41,5,42],[5,19,5,20],[5,21,5,22],[29,13,29,14],[29,15,29,16],[5,27,5,28],[5,29,5,30],[4,41,4,42],[4,43,4,44],[4,48,5,50],[5,5,5,6],[5,7,5,8],[5,9,5,10],[5,11,5,12],[5,13,5,14],[5,15,5,16],[5,17,5,18],[4,29,4,30],[4,31,4,32],[4,33,4,34],[4,35,4,36],[4,37,4,38],[4,39,4,40],[4,17,4,18],[4,19,4,20],[4,21,4,22],[4,23,4,24],[6,46,7,46],[31,46,32,46],[2,1,2,16],[4,1,5,3],[4,5,4,6],[4,7,4,8],[4,9,4,10],[4,11,4,12],[4,13,4,14],[4,15,4,16],[31,1,32,1],[31,2,32,2],[31,3,32,3],[29,1,30,3],[25,1,26,3],[26,5,26,6],[26,7,26,8],[26,9,26,10],[26,11,26,12],[26,13,26,14],[29,5,29,6],[29,7,29,8],[29,9,29,10],[29,11,29,12]]}
[null,"Gas Utility Data Summary"]
[null,"Instructions"]
[null,"1) Enter data for pre-construction energy use in blue cells.  Please ensure beginning and end read dates are 'Actual'.\n2) Unhide columns (O-AR) if there are more than 5 common area accounts. You may hide columns that are not needed, do not delete them.\n3) If the project is master-metered, enter data in this tab. Use Apt-Gas tab for direct-metered apartment data, if applicable.\n4) If there is on-site generation that runs on natural gas (e.g. CHP/cogen), please provide the natural gas consumed in column AU.\n5) Review graphs to the right for irregularities in the usage data.\n6) Post-Construction data will be filled in one year after construction has been completed.\n7) Please use the \"Notes\" field below the data entry section of this tab to explain unusual circumstances, any anomalies in the data, or adjustments made.\n\n"]
[]
[null,"Pre-Construction Common Area Billing Dates",null,null,null,"Common Area Meter #1",null,"Common Area Meter #2",null,"Common Area Meter #3",null,"Common Area Meter #4",null,"Common Area Meter #5",null,"Common Area Meter #6",null,"Common Area Meter #7",null,"Common Area Meter #8",null,"Common Area Meter #9",null,"Common Area Meter #10",null,"Common Area Meter #11",null,"Common Area Meter #12",null,"Common Area Meter #13",null,"Common Area Meter #14",null,"Common Area Meter #15",null,"Common Area Meter #16",null,"Common Area Meter #17",null,"Common Area Meter #18",null,"Common Area Meter #19",null,"Common Area Meter #20",null,null,null,null,"Pre-Construction In-Unit Billing Dates"]
[null,null,null,null,null,"Account #",null,"Account #",null,"Account #",null,"Account #",null,"Account #",null,"Account #",null,"Account #",null,"Account #",null,"Account #",null,"Account #",null,"Account #",null,"Account #",null,"Account #",null,"Account #",null,"Account #",null,"Account #",null,"Account #",null,"Account #",null,"Account #",null,"Account #"]
[null,"Billing Period Start Date","Read Date","Days in Billing Period",null,{"$f":"'Utility Info'!C61","v":0},null,{"$f":"'Utility Info'!C62","v":0},null,{"$f":"'Utility Info'!C63","v":0},null,{"$f":"'Utility Info'!C64","v":0},null,{"$f":"'Utility Info'!C65","v":0},null,{"$f":"'Utility Info'!C66","v":0},null,{"$f":"'Utility Info'!C67","v":0},null,{"$f":"'Utility Info'!C68","v":0},null,{"$f":"'Utility Info'!C69","v":0},null,{"$f":"'Utility Info'!C70","v":0},null,{"$f":"'Utility Info'!C71","v":0},null,{"$f":"'Utility Info'!C72","v":0},null,{"$f":"'Utility Info'!C73","v":0},null,{"$f":"'Utility Info'!C74","v":0},null,{"$f":"'Utility Info'!C75","v":0},null,{"$f":"'Utility Info'!C76","v":0},null,{"$f":"'Utility Info'!C77","v":0},null,{"$f":"'Utility Info'!C78","v":0},null,{"$f":"'Utility Info'!C42","v":0},null,{"$f":"'Utility Info'!C43","v":0},null,{"$f":"\"Total Common Area Gas Consumption\n\" & 'Utility Info'!$D$7","v":"Total Common Area Gas Consumption\n<Not Used>"},"On-Site Gas Generation\n(Therms)",null,"Billing Period Start Date","Read Date","Days in Billing Period",{"$f":"\"In-unit Gas Consumption\n\" & 'Utility Info'!$D$7","v":"In-unit Gas Consumption\n<Not Used>"},null,{"$f":"\"Total Gas Consumption\n\" & 'Utility Info'!$D$7","v":"Total Gas Consumption\n<Not Used>"},null,null,null,null,null,null,"Data for Graphs:"]
[null,null,null,null,null,{"$f":"'Utility Info'!$D$7","v":"<Not Used>"},"Actual/ Estimated",{"$f":"'Utility Info'!$D$7","v":"<Not Used>"},"Actual/ Estimated",{"$f":"'Utility Info'!$D$7","v":"<Not Used>"},"Actual/ Estimated",{"$f":"'Utility Info'!$D$7","v":"<Not Used>"},"Actual/ Estimated",{"$f":"'Utility Info'!$D$7","v":"<Not Used>"},"Actual/ Estimated",{"$f":"'Utility Info'!$D$7","v":"<Not Used>"},"Actual/ Estimated",{"$f":"'Utility Info'!$D$7","v":"<Not Used>"},"Actual/ Estimated",{"$f":"'Utility Info'!$D$7","v":"<Not Used>"},"Actual/ Estimated",{"$f":"'Utility Info'!$D$7","v":"<Not Used>"},"Actual/ Estimated",{"$f":"'Utility Info'!$D$7","v":"<Not Used>"},"Actual/ Estimated",{"$f":"'Utility Info'!$D$7","v":"<Not Used>"},"Actual/ Estimated",{"$f":"'Utility Info'!$D$7","v":"<Not Used>"},"Actual/ Estimated",{"$f":"'Utility Info'!$D$7","v":"<Not Used>"},"Actual/ Estimated",{"$f":"'Utility Info'!$D$7","v":"<Not Used>"},"Actual/ Estimated",{"$f":"'Utility Info'!$D$7","v":"<Not Used>"},"Actual/ Estimated",{"$f":"'Utility Info'!$D$7","v":"<Not Used>"},"Actual/ Estimated",{"$f":"'Utility Info'!$D$7","v":"<Not Used>"},"Actual/ Estimated",{"$f":"'Utility Info'!$D$7","v":"<Not Used>"},"Actual/ Estimated",{"$f":"'Utility Info'!$D$7","v":"<Not Used>"},"Actual/ Estimated",{"$f":"'Utility Info'!$D$7","v":"<Not Used>"},"Actual/ Estimated",null,null,null,null,null,null,null,null,null,null,null,null,null,null,null,"Common Area Ref Date","Common Area Month","In-unit Ref Date","In-Unit Month",null,"Months","Common Area Pre","Common Area Post","In-Unit Pre","In-Unit Post"]
[null,null,null,null,null,null,null,null,null,null,null,null,null,null,null,null,null,null,null,null,null,null,null,null,null,null,null,null,null,null,null,null,null,null,null,null,null,null,null,null,null,null,null,null,null,null,null,null,null,{"$f":"'Apt-Gas'!C11","v":"00:00:00"}]
[null,{"$f":"C9+1","v":"1900-01-01"},null,{"$f":"IF(C10>0,C10+1-B10,0)","v":0},null,null,null,null,null,null,null,null,null,null,null,null,null,null,null,null,null,null,null,null,null,null,null,null,null,null,null,null,null,null,null,null,null,null,null,null,null,null,null,null,null,{"$f":"SUM(F10:AS10)+AU10","v":0},null,null,{"$f":"'Apt-Gas'!B12","v":"1900-01-01"},{"$f":"'Apt-Gas'!C12","v":"00:00:00"},{"$f":"IF(AX10>0,AX10+1-AW10,0)","v":0},{"$f":"'Apt-Gas'!PT12","v":0},null,{"$f":"AT10+AZ10","v":0},null,null,null,null,null,null,{"$f":"DATE(YEAR(C10),MONTH(C10),1)","v":"1900-01-01"},{"$f":"IF((BI10-B10)>(C10-BI10),MONTH(B10),MONTH(C10))","v":1},{"$f":"DATE(YEAR(AX10),MONTH(AX10),1)","v":"1900-01-01"},{"$f":"IF((BK10-AW10)>(AX10-BK10),MONTH(AW10),MONTH(AX10))","v":1},null,"2012-01-15",{"$f":"SUMIF($BJ$10:$BJ$24,MONTH($BN10),$AT$10:$AT$24)","v":0},{"$f":"SUMIF($BJ$35:$BJ$49,MONTH($BN10),$AT$35:$AT$49)","v":0},{"$f":"SUMIF($BL$10:$BL$24,MONTH($BN10),$AZ$10:$AZ$24)","v":0},{"$f":"SUMIF($BL$35:$BL$49,MONTH($BN10),$AZ$35:$AZ$49)","v":0}]
[null,"1900-01-01",null,{"$f":"IF(C11>0,C11+1-B11,0)","v":0},null,null,null,null,null,null,null,null,null,null,null,null,null,null,null,null,null,null,null,null,null,null,null,null,null,null,null,null,null,null,null,null,null,null,null,null,null,null,null,null,null,{"$f":"SUM(F11:AS11)+AU11","v":0},null,null,{"$f":"'Apt-Gas'!B13","v":"1900-01-01"},{"$f":"'Apt-Gas'!C13","v":"00:00:00"},{"$f":"IF(AX11>0,AX11+1-AW11,0)","v":0},{"$f":"'Apt-Gas'!PT13","v":0},null,{"$f":"AT11+AZ11","v":0},null,null,null,null,null,null,"1900-01-01",1,{"$f":"DATE(YEAR(AX11),MONTH(AX11),1)","v":"1900-01-01"},{"$f":"IF((BK11-AW11)>(AX11-BK11),MONTH(AW11),MONTH(AX11))","v":1},null,"2012-02-15",{"$f":"SUMIF($BJ$10:$BJ$24,MONTH($BN11),$AT$10:$AT$24)","v":0},0,{"$f":"SUMIF($BL$10:$BL$24,MONTH($BN11),$AZ$10:$AZ$24)","v":0},0]
[null,"1900-01-01",null,0,null,null,null,null,null,null,null,null,null,null,null,null,null,null,null,null,null,null,null,null,null,null,null,null,null,null,null,null,null,null,null,null,null,null,null,null,null,null,null,null,null,0,null,null,{"$f":"'Apt-Gas'!B14","v":"1900-01-01"},{"$f":"'Apt-Gas'!C14","v":"00:00:00"},0,{"$f":"'Apt-Gas'!PT14","v":0},null,0,null,null,null,null,null,null,"1900-01-01",1,"1900-01-01",1,null,"2012-03-15",0,0,0,0]
[null,"1900-01-01",null,0,null,null,null,null,null,null,null,null,null,null,null,null,null,null,null,null,null,null,null,null,null,null,null,null,null,null,null,null,null,null,null,null,null,null,null,null,null,null,null,null,null,0,null,null,{"$f":"'Apt-Gas'!B15","v":"1900-01-01"},{"$f":"'Apt-Gas'!C15","v":"00:00:00"},0,{"$f":"'Apt-Gas'!PT15","v":0},null,0,null,null,null,null,null,null,"1900-01-01",1,"1900-01-01",1,null,"2012-04-15",0,0,0,0]
[null,"1900-01-01",null,0,null,null,null,null,null,null,null,null,null,null,null,null,null,null,null,null,null,null,null,null,null,null,null,null,null,null,null,null,null,null,null,null,null,null,null,null,null,null,null,null,null,0,null,null,{"$f":"'Apt-Gas'!B16","v":"1900-01-01"},{"$f":"'Apt-Gas'!C16","v":"00:00:00"},0,{"$f":"'Apt-Gas'!PT16","v":0},null,0,null,null,null,null,null,null,"1900-01-01",1,{"$f":"DATE(YEAR(AX14),MONTH(AX14),1)","v":"1900-01-01"},1,null,"2012-05-15",0,0,0,0]
[null,"1900-01-01",null,0,null,null,null,null,null,null,null,null,null,null,null,null,null,null,null,null,null,null,null,null,null,null,null,null,null,null,null,null,null,null,null,null,null,null,null,null,null,null,null,null,null,0,null,null,{"$f":"'Apt-Gas'!B17","v":"1900-01-01"},{"$f":"'Apt-Gas'!C17","v":"00:00:00"},0,{"$f":"'Apt-Gas'!PT17","v":0},null,0,null,null,null,null,null,null,"1900-01-01",1,"1900-01-01",1,null,"2012-06-15",0,0,0,0]
[null,"1900-01-01",null,0,null,null,null,null,null,null,null,null,null,null,null,null,null,null,null,null,null,null,null,null,null,null,null,null,null,null,null,null,null,null,null,null,null,null,null,null,null,null,null,null,null,0,null,null,{"$f":"'Apt-Gas'!B18","v":"1900-01-01"},{"$f":"'Apt-Gas'!C18","v":"00:00:00"},0,{"$f":"'Apt-Gas'!PT18","v":0},null,0,null,null,null,null,null,null,"1900-01-01",1,"1900-01-01",1,null,"2012-07-15",0,0,0,0]
[null,"1900-01-01",null,0,null,null,null,null,null,null,null,null,null,null,null,null,null,null,null,null,null,null,null,null,null,null,null,null,null,null,null,null,null,null,null,null,null,null,null,null,null,null,null,null,null,0,null,null,{"$f":"'Apt-Gas'!B19","v":"1900-01-01"},{"$f":"'Apt-Gas'!C19","v":"00:00:00"},0,{"$f":"'Apt-Gas'!PT19","v":0},null,0,null,null,null,null,null,null,"1900-01-01",1,"1900-01-01",1,null,"2012-08-15",0,0,0,0]
[null,"1900-01-01",null,0,null,null,null,null,null,null,null,null,null,null,null,null,null,null,null,null,null,null,null,null,null,null,null,null,null,null,null,null,null,null,null,null,null,null,null,null,null,null,null,null,null,0,null,null,{"$f":"'Apt-Gas'!B20","v":"1900-01-01"},{"$f":"'Apt-Gas'!C20","v":"00:00:00"},0,{"$f":"'Apt-Gas'!PT20","v":0},null,0,null,null,null,null,null,null,"1900-01-01",1,"1900-01-01",1,null,"2012-09-15",0,0,0,0]
[null,"1900-01-01",null,0,null,null,null,null,null,null,null,null,null,null,null,null,null,null,null,null,null,null,null,null,null,null,null,null,null,null,null,null,null,null,null,null,null,null,null,null,null,null,null,null,null,0,null,null,{"$f":"'Apt-Gas'!B21","v":"1900-01-01"},{"$f":"'Apt-Gas'!C21","v":"00:00:00"},0,{"$f":"'Apt-Gas'!PT21","v":0},null,0,null,null,null,null,null,null,"1900-01-01",1,"1900-01-01",1,null,"2012-10-15",0,0,0,0]
[null,"1900-01-01",null,0,null,null,null,null,null,null,null,null,null,null,null,null,null,null,null,null,null,null,null,null,null,null,null,null,null,null,null,null,null,null,null,null,null,null,null,null,null,null,null,null,null,0,null,null,{"$f":"'Apt-Gas'!B22","v":"1900-01-01"},{"$f":"'Apt-Gas'!C22","v":"00:00:00"},0,{"$f":"'Apt-Gas'!PT22","v":0},null,0,null,null,null,null,null,null,"1900-01-01",1,"1900-01-01",1,null,"2012-11-15",0,0,0,0]
[null,"1900-01-01",null,0,null,null,null,null,null,null,null,null,null,null,null,null,null,null,null,null,null,null,null,null,null,null,null,null,null,null,null,null,null,null,null,null,null,null,null,null,null,null,null,null,null,0,null,null,{"$f":"'Apt-Gas'!B23","v":"1900-01-01"},{"$f":"'Apt-Gas'!C23","v":"00:00:00"},0,{"$f":"'Apt-Gas'!PT23","v":0},null,0,null,null,null,null,null,null,"1900-01-01",1,"1900-01-01",1,null,"2012-12-15",0,0,0,0]
[null,"1900-01-01",null,0,null,null,null,null,null,null,null,null,null,null,null,null,null,null,null,null,null,null,null,null,null,null,null,null,null,null,null,null,null,null,null,null,null,null,null,null,null,null,null,null,null,0,null,null,{"$f":"'Apt-Gas'!B24","v":"1900-01-01"},{"$f":"'Apt-Gas'!C24","v":"00:00:00"},0,{"$f":"'Apt-Gas'!PT24","v":0},null,0,null,null,null,null,null,null,"1900-01-01",1,"1900-01-01",1]
[null,"1900-01-01",null,0,null,null,null,null,null,null,null,null,null,null,null,null,null,null,null,null,null,null,null,null,null,null,null,null,null,null,null,null,null,null,null,null,null,null,null,null,null,null,null,null,null,0,null,null,{"$f":"'Apt-Gas'!B25","v":"1900-01-01"},{"$f":"'Apt-Gas'!C25","v":"00:00:00"},0,{"$f":"'Apt-Gas'!PT25","v":0},null,0,null,null,null,null,null,null,"1900-01-01",1,"1900-01-01",1]
[null,"1900-01-01",null,0,null,null,null,null,null,null,null,null,null,null,null,null,null,null,null,null,null,null,null,null,null,null,null,null,null,null,null,null,null,null,null,null,null,null,null,null,null,null,null,null,null,{"$f":"SUM(F24:AS24)+AU24","v":0},null,null,{"$f":"'Apt-Gas'!B26","v":"1900-01-01"},{"$f":"'Apt-Gas'!C26","v":"00:00:00"},0,{"$f":"'Apt-Gas'!PT26","v":0},null,{"$f":"AT24+AZ24","v":0},null,null,null,null,null,null,"1900-01-01",1,"1900-01-01",1]
[null,null,{"$f":"IF(ABS(D25-365)>4,\"Must have 365 ± 4 days.\",\"\")","v":"Must have 365 ± 4 days."},{"$f":"SUM(D10:D24)","v":0},null,{"$f":"SUM(F10:F24)","v":0},null,{"$f":"SUM(H10:H24)","v":0},null,{"$f":"SUM(J10:J24)","v":0},null,{"$f":"SUM(L10:L24)","v":0},null,0,null,0,null,0,null,0,null,0,null,0,null,0,null,0,null,0,null,0,null,{"$f":"SUM(AH10:AH24)","v":0},null,{"$f":"SUM(AJ10:AJ24)","v":0},null,{"$f":"SUM(AL10:AL24)","v":0},null,{"$f":"SUM(AN10:AN24)","v":0},null,{"$f":"SUM(AP10:AP24)","v":0},null,{"$f":"SUM(AR10:AR24)","v":0},null,{"$f":"SUM(AT10:AT24)","v":0},{"$f":"SUM(AU10:AU24)","v":0},null,null,{"$f":"IF(ABS(AY25-365)>4,\"Must have 365 ± 4 days.\",\"\")","v":"Must have 365 ± 4 days."},{"$f":"SUM(AY10:AY24)","v":0},{"$f":"SUM(AZ10:AZ24)","v":0},null,{"$f":"SUM(BB10:BB24)","v":0}]
[null,{"$f":"IF(AW10=1,\"\",IF(ABS(B10-AW10)>15,\"The dates for the common area and apartment bills are out of synch. Please select start dates within 2 weeks of each other.\",\"\"))","v":""}]
[null,null,null,null,null,"Total Annual Gas Cost",null,"Total Annual Gas Cost",null,"Total Annual Gas Cost",null,"Total Annual Gas Cost",null,"Total Annual Gas Cost",null,"Total Annual Gas Cost",null,"Total Annual Gas Cost",null,"Total Annual Gas Cost",null,"Total Annual Gas Cost",null,"Total Annual Gas Cost",null,"Total Annual Gas Cost",null,"Total Annual Gas Cost",null,"Total Annual Gas Cost",null,"Total Annual Gas Cost",null,"Total Annual Gas Cost",null,"Total Annual Gas Cost",null,"Total Annual Gas Cost",null,"Total Annual Gas Cost",null,"Total Annual Gas Cost",null,"Total Annual Gas Cost",null,"Total Annual Common Area Gas Cost",null,null,null,null,null,"Total In-Unit Annual Gas Cost",null,"Total Annual Gas Cost"]
[null,null,null,null,null,null,null,null,null,null,null,null,null,null,null,null,null,null,null,null,null,null,null,null,null,null,null,null,null,null,null,null,null,null,null,null,null,null,null,null,null,null,null,null,null,{"$f":"SUM(F28:AS28)","v":0},null,null,null,null,null,{"$f":"IF(N('Apt-Gas'!$PT$30)=0,IF(N($AT$28)=0,1.15,$AT$28/$AT$25)*$AZ$25,'Apt-Gas'!$PT$30)","v":0},null,{"$f":"AT28+AZ28","v":0}]
[]
[null,"Post-Construction Common Area Billing Dates",null,null,null,"Common Area Meter #1",null,"Common Area Meter #2",null,"Common Area Meter #3",null,"Common Area Meter #4",null,"Common Area Meter #5",null,"Common Area Meter #6",null,"Common Area Meter #7",null,"Common Area Meter #8",null,"Common Area Meter #9",null,"Common Area Meter #10",null,"Common Area Meter #11",null,"Common Area Meter #12",null,"Common Area Meter #13",null,"Common Area Meter #14",null,"Common Area Meter #15",null,"Common Area Meter #16",null,"Common Area Meter #17",null,"Common Area Meter #18",null,"Common Area Meter #19",null,"Common Area Meter #20",null,null,null,null,"Post-Construction In-Unit Billing Dates"]
[null,null,null,null,null,"Account #",null,"Account #",null,"Account #",null,"Account #",null,"Account #",null,"Account #",null,"Account #",null,"Account #",null,"Account #",null,"Account #",null,"Account #",null,"Account #",null,"Account #",null,"Account #",null,"Account #",null,"Account #",null,"Account #",null,"Account #",null,"Account #",null,"Account #"]
[null,"Billing Period Start Date","Read Date","Days in Billing Period",null,{"$f":"F7","v":0},null,{"$f":"H7","v":0},null,{"$f":"J7","v":0},null,{"$f":"L7","v":0},null,{"$f":"N7","v":0},null,{"$f":"P7","v":0},null,{"$f":"R7","v":0},null,{"$f":"T7","v":0},null,{"$f":"V7","v":0},null,{"$f":"X7","v":0},null,{"$f":"Z7","v":0},null,{"$f":"AB7","v":0},null,{"$f":"AD7","v":0},null,{"$f":"AF7","v":0},null,{"$f":"AH7","v":0},null,{"$f":"AJ7","v":0},null,{"$f":"AL7","v":0},null,{"$f":"AN7","v":0},null,{"$f":"AP7","v":0},null,{"$f":"AR7","v":0},null,{"$f":"\"Total Common Area Gas Consumption\n\" & 'Utility Info'!$D$16","v":"Total Common Area Gas Consumption\n<Not Used>"},"On-Site Gas Generation\n(Therms)",null,"Billing Period Start Date","Read Date","Days in Billing Period",{"$f":"\"In-unit Gas Consumption\n\" & 'Utility Info'!$D$7","v":"In-unit Gas Consumption\n<Not Used>"},null,{"$f":"\"Total Gas Consumption\n\" & 'Utility Info'!$D$16","v":"Total Gas Consumption\n<Not Used>"},null,null,null,null,null,null,"Data for Graphs:"]
[null,null,null,null,null,{"$f":"'Utility Info'!$D$16","v":"<Not Used>"},"Actual/ Estimated",{"$f":"'Utility Info'!$D$16","v":"<Not Used>"},"Actual/ Estimated",{"$f":"'Utility Info'!$D$16","v":"<Not Used>"},"Actual/ Estimated",{"$f":"'Utility Info'!$D$16","v":"<Not Used>"},"Actual/ Estimated",{"$f":"'Utility Info'!$D$16","v":"<Not Used>"},"Actual/ Estimated",{"$f":"'Utility Info'!$D$16","v":"<Not Used>"},"Actual/ Estimated",{"$f":"'Utility Info'!$D$16","v":"<Not Used>"},"Actual/ Estimated",{"$f":"'Utility Info'!$D$16","v":"<Not Used>"},"Actual/ Estimated",{"$f":"'Utility Info'!$D$16","v":"<Not Used>"},"Actual/ Estimated",{"$f":"'Utility Info'!$D$16","v":"<Not Used>"},"Actual/ Estimated",{"$f":"'Utility Info'!$D$16","v":"<Not Used>"},"Actual/ Estimated",{"$f":"'Utility Info'!$D$16","v":"<Not Used>"},"Actual/ Estimated",{"$f":"'Utility Info'!$D$16","v":"<Not Used>"},"Actual/ Estimated",{"$f":"'Utility Info'!$D$16","v":"<Not Used>"},"Actual/ Estimated",{"$f":"'Utility Info'!$D$16","v":"<Not Used>"},"Actual/ Estimated",{"$f":"'Utility Info'!$D$16","v":"<Not Used>"},"Actual/ Estimated",{"$f":"'Utility Info'!$D$16","v":"<Not Used>"},"Actual/ Estimated",{"$f":"'Utility Info'!$D$16","v":"<Not Used>"},"Actual/ Estimated",{"$f":"'Utility Info'!$D$16","v":"<Not Used>"},"Actual/ Estimated",{"$f":"'Utility Info'!$D$16","v":"<Not Used>"},"Actual/ Estimated",null,null,null,null,null,null,null,null,null,null,null,null,null,null,null,"Common Area Ref Date","Common Area Month","In-unit Ref Date","In-Unit Month"]
[null,null,null,null,null,null,null,null,null,null,null,null,null,null,null,null,null,null,null,null,null,null,null,null,null,null,null,null,null,null,null,null,null,null,null,null,null,null,null,null,null,null,null,null,null,null,null,null,null,{"$f":"'Apt-Gas'!C38","v":"00:00:00"}]
[null,{"$f":"C34+1","v":"1900-01-01"},null,{"$f":"IF(C35>0,C35+1-B35,0)","v":0},null,null,null,null,null,null,null,null,null,null,null,null,null,null,null,null,null,null,null,null,null,null,null,null,null,null,null,null,null,null,null,null,null,null,null,null,null,null,null,null,null,{"$f":"SUM(F35:AS35)+AU35","v":0},null,null,{"$f":"'Apt-Gas'!B39","v":"1900-01-01"},{"$f":"'Apt-Gas'!C39","v":"00:00:00"},{"$f":"IF(AX35>0,AX35+1-AW35,0)","v":0},{"$f":"'Apt-Gas'!PT39","v":0},null,{"$f":"AT35+AZ35","v":0},null,null,null,null,null,null,{"$f":"DATE(YEAR(C35),MONTH(C35),1)","v":"1900-01-01"},{"$f":"IF((BI35-B35)>(C35-BI35),MONTH(B35),MONTH(C35))","v":1},{"$f":"DATE(YEAR(AX35),MONTH(AX35),1)","v":"1900-01-01"},{"$f":"IF((BK35-AW35)>(AX35-BK35),MONTH(AW35),MONTH(AX35))","v":1}]
[null,"1900-01-01",null,0,null,null,null,null,null,null,null,null,null,null,null,null,null,null,null,null,null,null,null,null,null,null,null,null,null,null,null,null,null,null,null,null,null,null,null,null,null,null,null,null,null,{"$f":"SUM(F36:AS36)+AU36","v":0},null,null,{"$f":"'Apt-Gas'!B40","v":"1900-01-01"},{"$f":"'Apt-Gas'!C40","v":"00:00:00"},{"$f":"IF(AX36>0,AX36+1-AW36,0)","v":0},{"$f":"'Apt-Gas'!PT40","v":0},null,{"$f":"AT36+AZ36","v":0},null,null,null,null,null,null,"1900-01-01",1,{"$f":"DATE(YEAR(AX36),MONTH(AX36),1)","v":"1900-01-01"},{"$f":"IF((BK36-AW36)>(AX36-BK36),MONTH(AW36),MONTH(AX36))","v":1}]
[null,"1900-01-01",null,0,null,null,null,null,null,null,null,null,null,null,null,null,null,null,null,null,null,null,null,null,null,null,null,null,null,null,null,null,null,null,null,null,null,null,null,null,null,null,null,null,null,0,null,null,{"$f":"'Apt-Gas'!B41","v":"1900-01-01"},{"$f":"'Apt-Gas'!C41","v":"00:00:00"},0,{"$f":"'Apt-Gas'!PT41","v":0},null,0,null,null,null,null,null,null,"1900-01-01",1,{"$f":"DATE(YEAR(AX37),MONTH(AX37),1)","v":"1900-01-01"},1]
[null,"1900-01-01",null,0,null,null,null,null,null,null,null,null,null,null,null,null,null,null,null,null,null,null,null,null,null,null,null,null,null,null,null,null,null,null,null,null,null,null,null,null,null,null,null,null,null,0,null,null,{"$f":"'Apt-Gas'!B42","v":"1900-01-01"},{"$f":"'Apt-Gas'!C42","v":"00:00:00"},0,{"$f":"'Apt-Gas'!PT42","v":0},null,0,null,null,null,null,null,null,"1900-01-01",1,{"$f":"DATE(YEAR(AX38),MONTH(AX38),1)","v":"1900-01-01"},1]
[null,"1900-01-01",null,0,null,null,null,null,null,null,null,null,null,null,null,null,null,null,null,null,null,null,null,null,null,null,null,null,null,null,null,null,null,null,null,null,null,null,null,null,null,null,null,null,null,0,null,null,{"$f":"'Apt-Gas'!B43","v":"1900-01-01"},{"$f":"'Apt-Gas'!C43","v":"00:00:00"},0,{"$f":"'Apt-Gas'!PT43","v":0},null,0,null,null,null,null,null,null,"1900-01-01",1,{"$f":"DATE(YEAR(AX39),MONTH(AX39),1)","v":"1900-01-01"},1]
[null,"1900-01-01",null,0,null,null,null,null,null,null,null,null,null,null,null,null,null,null,null,null,null,null,null,null,null,null,null,null,null,null,null,null,null,null,null,null,null,null,null,null,null,null,null,null,null,0,null,null,{"$f":"'Apt-Gas'!B44","v":"1900-01-01"},{"$f":"'Apt-Gas'!C44","v":"00:00:00"},0,{"$f":"'Apt-Gas'!PT44","v":0},null,0,null,null,null,null,null,null,"1900-01-01",1,{"$f":"DATE(YEAR(AX40),MONTH(AX40),1)","v":"1900-01-01"},1]
[null,"1900-01-01",null,0,null,null,null,null,null,null,null,null,null,null,null,null,null,null,null,null,null,null,null,null,null,null,null,null,null,null,null,null,null,null,null,null,null,null,null,null,null,null,null,null,null,0,null,null,{"$f":"'Apt-Gas'!B45","v":"1900-01-01"},{"$f":"'Apt-Gas'!C45","v":"00:00:00"},0,{"$f":"'Apt-Gas'!PT45","v":0},null,0,null,null,null,null,null,null,"1900-01-01",1,"1900-01-01",1]
[null,"1900-01-01",null,0,null,null,null,null,null,null,null,null,null,null,null,null,null,null,null,null,null,null,null,null,null,null,null,null,null,null,null,null,null,null,null,null,null,null,null,null,null,null,null,null,null,0,null,null,{"$f":"'Apt-Gas'!B46","v":"1900-01-01"},{"$f":"'Apt-Gas'!C46","v":"00:00:00"},0,{"$f":"'Apt-Gas'!PT46","v":0},null,0,null,null,null,null,null,null,"1900-01-01",1,"1900-01-01",1]
[null,"1900-01-01",null,0,null,null,null,null,null,null,null,null,null,null,null,null,null,null,null,null,null,null,null,null,null,null,null,null,null,null,null,null,null,null,null,null,null,null,null,null,null,null,null,null,null,0,null,null,{"$f":"'Apt-Gas'!B47","v":"1900-01-01"},{"$f":"'Apt-Gas'!C47","v":"00:00:00"},0,{"$f":"'Apt-Gas'!PT47","v":0},null,0,null,null,null,null,null,null,"1900-01-01",1,"1900-01-01",1]
[null,"1900-01-01",null,0,null,null,null,null,null,null,null,null,null,null,null,null,null,null,null,null,null,null,null,null,null,null,null,null,null,null,null,null,null,null,null,null,null,null,null,null,null,null,null,null,null,0,null,null,{"$f":"'Apt-Gas'!B48","v":"1900-01-01"},{"$f":"'Apt-Gas'!C48","v":"00:00:00"},0,{"$f":"'Apt-Gas'!PT48","v":0},null,0,null,null,null,null,null,null,"1900-01-01",1,"1900-01-01",1]
[null,"1900-01-01",null,0,null,null,null,null,null,null,null,null,null,null,null,null,null,null,null,null,null,null,null,null,null,null,null,null,null,null,null,null,null,null,null,null,null,null,null,null,null,null,null,null,null,0,null,null,{"$f":"'Apt-Gas'!B49","v":"1900-01-01"},{"$f":"'Apt-Gas'!C49","v":"00:00:00"},0,{"$f":"'Apt-Gas'!PT49","v":0},null,0,null,null,null,null,null,null,"1900-01-01",1,"1900-01-01",1]
[null,"1900-01-01",null,0,null,null,null,null,null,null,null,null,null,null,null,null,null,null,null,null,null,null,null,null,null,null,null,null,null,null,null,null,null,null,null,null,null,null,null,null,null,null,null,null,null,0,null,null,{"$f":"'Apt-Gas'!B50","v":"1900-01-01"},{"$f":"'Apt-Gas'!C50","v":"00:00:00"},0,{"$f":"'Apt-Gas'!PT50","v":0},null,0,null,null,null,null,null,null,"1900-01-01",1,"1900-01-01",1]
[null,"1900-01-01",null,0,null,null,null,null,null,null,null,null,null,null,null,null,null,null,null,null,null,null,null,null,null,null,null,null,null,null,null,null,null,null,null,null,null,null,null,null,null,null,null,null,null,0,null,null,{"$f":"'Apt-Gas'!B51","v":"1900-01-01"},{"$f":"'Apt-Gas'!C51","v":"00:00:00"},0,{"$f":"'Apt-Gas'!PT51","v":0},null,0,null,null,null,null,null,null,"1900-01-01",1,"1900-01-01",1]
[null,"1900-01-01",null,0,null,null,null,null,null,null,null,null,null,null,null,null,null,null,null,null,null,null,null,null,null,null,null,null,null,null,null,null,null,null,null,null,null,null,null,null,null,null,null,null,null,0,null,null,{"$f":"'Apt-Gas'!B52","v":"1900-01-01"},{"$f":"'Apt-Gas'!C52","v":"00:00:00"},0,{"$f":"'Apt-Gas'!PT52","v":0},null,0,null,null,null,null,null,null,"1900-01-01",1,"1900-01-01",1]
[null,"1900-01-01",null,0,null,null,null,null,null,null,null,null,null,null,null,null,null,null,null,null,null,null,null,null,null,null,null,null,null,null,null,null,null,null,null,null,null,null,null,null,null,null,null,null,null,{"$f":"SUM(F49:AS49)+AU49","v":0},null,null,{"$f":"'Apt-Gas'!B53","v":"1900-01-01"},{"$f":"'Apt-Gas'!C53","v":"00:00:00"},0,{"$f":"'Apt-Gas'!PT53","v":0},null,0,null,null,null,null,null,null,"1900-01-01",1,"1900-01-01",1]
[null,null,{"$f":"IF(ABS(D50-365)>4,\"Must have 365 ± 4 days.\",\"\")","v":"Must have 365 ± 4 days."},{"$f":"SUM(D35:D49)","v":0},null,{"$f":"SUM(F34:F49)","v":0},null,{"$f":"SUM(H34:H49)","v":0},null,{"$f":"SUM(J34:J49)","v":0},null,{"$f":"SUM(L34:L49)","v":0},null,{"$f":"SUM(N34:N49)","v":0},null,{"$f":"SUM(P34:P49)","v":0},null,{"$f":"SUM(R34:R49)","v":0},null,{"$f":"SUM(T34:T49)","v":0},null,{"$f":"SUM(V34:V49)","v":0},null,{"$f":"SUM(X34:X49)","v":0},null,{"$f":"SUM(Z34:Z49)","v":0},null,{"$f":"SUM(AB34:AB49)","v":0},null,{"$f":"SUM(AD34:AD49)","v":0},null,{"$f":"SUM(AF34:AF49)","v":0},null,{"$f":"SUM(AH34:AH49)","v":0},null,{"$f":"SUM(AJ34:AJ49)","v":0},null,{"$f":"SUM(AL34:AL49)","v":0},null,{"$f":"SUM(AN34:AN49)","v":0},null,{"$f":"SUM(AP34:AP49)","v":0},null,{"$f":"SUM(AR34:AR49)","v":0},null,{"$f":"SUM(AT35:AT49)","v":0},{"$f":"SUM(AU35:AU49)","v":0},null,null,{"$f":"IF(ABS(AY50-365)>4,\"Must have 365 ± 4 days.\",\"\")","v":"Must have 365 ± 4 days."},{"$f":"SUM(AY35:AY49)","v":0},{"$f":"SUM(AZ35:AZ49)","v":0},null,{"$f":"SUM(BB35:BB49)","v":0}]
[null,{"$f":"IF(AW35=1,\"\",IF(ABS(B35-AW35)>15,\"The dates for the common area and apartment bills are out of synch. Please select start dates within 2 weeks of each other.\",\"\"))","v":""}]
[null,null,null,null,null,"Total Annual Gas Cost",null,"Total Annual Gas Cost",null,"Total Annual Gas Cost",null,"Total Annual Gas Cost",null,"Total Annual Gas Cost",null,"Total Annual Gas Cost",null,"Total Annual Gas Cost",null,"Total Annual Gas Cost",null,"Total Annual Gas Cost",null,"Total Annual Gas Cost",null,"Total Annual Gas Cost",null,"Total Annual Gas Cost",null,"Total Annual Gas Cost",null,"Total Annual Gas Cost",null,"Total Annual Gas Cost",null,"Total Annual Gas Cost",null,"Total Annual Gas Cost",null,"Total Annual Gas Cost",null,"Total Annual Gas Cost",null,"Total Annual Gas Cost",null,"Total Annual Common Area Gas Cost",null,null,null,null,null,"Total In-Unit Annual Gas Cost",null,"Total Annual Gas Cost"]
[null,null,null,null,null,null,null,null,null,null,null,null,null,null,null,null,null,null,null,null,null,null,null,null,null,null,null,null,null,null,null,null,null,null,null,null,null,null,null,null,null,null,null,null,null,{"$f":"SUM(F53:AS53)","v":0},null,null,null,null,null,{"$f":"IF(N('Apt-Gas'!$PT$57)=0,IF(N($AT$53)=0,1.15,$AT$53/$AT$50)*$AZ$50,'Apt-Gas'!$PT$57)","v":0},null,{"$f":"AT53+AZ53","v":0}]
[]
[null,null,null,null,null,"Building Area","Pre Construction Usage ","Post Construction Usage","Difference","% Difference"]
[null,null,null,null,null,"Common Area",{"$f":"AT25","v":0},{"$f":"AT50","v":0},{"$f":"H56-G56","v":0},{"$f":"IF(G56>0,I56/G56,\"\")","v":""}]
[null,null,null,null,null,"In-Unit",{"$f":"AZ25","v":0},{"$f":"AZ50","v":0},{"$f":"H57-G57","v":0},{"$f":"IF(G57>0,I57/G57,\"\")","v":""}]
[]
[]
[null,"Notes:"]
[]
[]
[]
[]
[]
[]
[]
[]
[]
[]
[]
[]
[]
[]
[]
[]
[]
[]
[]
[]
[]
[]
[]
[]
[]
[]
[]
[]
[]
[]
[]
[]
[]
[]
[]
[]
[]
[]
[]
[]
[]
[]
[]
[]
[]
[]
[]
[]
[]
[]
[]
[]
[]
[]
[]
[]
[]
[]
[null,"Actual"]
[null,"Estimated"]

{"sheet":"Apt-Gas","index":6,"n_rows":80,"n_cols":436,"rows_kept":80,"cut":false,"hidden":true,"merged":[[56,417,56,418],[56,419,56,420],[56,421,56,422],[58,22,58,38],[58,425,58,435],[59,1,63,3],[56,405,56,406],[56,407,56,408],[56,409,56,410],[56,411,56,412],[56,413,56,414],[56,415,56,416],[56,393,56,394],[56,395,56,396],[56,397,56,398],[56,399,56,400],[56,401,56,402],[56,403,56,404],[56,379,56,380],[56,383,56,384],[56,385,56,386],[56,387,56,388],[56,389,56,390],[56,391,56,392],[56,367,56,368],[56,369,56,370],[56,371,56,372],[56,373,56,374],[56,375,56,376],[56,377,56,378],[56,355,56,356],[56,357,56,358],[56,359,56,360],[56,361,56,362],[56,363,56,364],[56,365,56,366],[56,343,56,344],[56,345,56,346],[56,347,56,348],[56,349,56,350],[56,351,56,352],[56,353,56,354],[56,329,56,330],[56,331,56,332],[56,333,56,334],[56,335,56,336],[56,337,56,338],[56,341,56,342],[56,317,56,318],[56,319,56,320],[56,321,56,322],[56,323,56,324],[56,325,56,326],[56,327,56,328],[56,305,56,306],[56,307,56,308],[56,309,56,310],[56,311,56,312],[56,313,56,314],[56,315,56,316],[56,291,56,292],[56,293,56,294],[56,295,56,296],[56,299,56,300],[56,301,56,302],[56,303,56,304],[56,279,56,280],[56,281,56,282],[56,283,56,284],[56,285,56,286],[56,287,56,288],[56,289,56,290],[56,267,56,268],[56,269,56,270],[56,271,56,272],[56,273,56,274],[56,275,56,276],[56,277,56,278],[56,253,56,254],[56,257,56,258],[56,259,56,260],[56,261,56,262],[56,263,56,264],[56,265,56,266],[56,241,56,242],[56,243,56,244],[56,245,56,246],[56,247,56,248],[56,249,56,250],[56,251,56,252],[56,229,56,230],[56,231,56,232],[56,233,56,234],[56,235,56,236],[56,237,56,238],[56,239,56,240],[56,217,56,218],[56,219,56,220],[56,221,56,222],[56,223,56,224],[56,225,56,226],[56,227,56,228],[56,203,56,204],[56,205,56,206],[56,207,56,208],[56,209,56,210],[56,211,56,212],[56,215,56,216],[56,191,56,192],[56,193,56,194],[56,195,56,196],[56,197,56,198],[56,199,56,200],[56,201,56,202],[56,179,56,180],[56,181,56,182],[56,183,56,184],[56,185,56,186],[56,187,56,188],[56,189,56,190],[56,165,56,166],[56,167,56,168],[56,169,56,170],[56,173,56,174],[56,175,56,176],[56,177,56,178],[56,153,56,154],[56,155,56,156],[56,157,56,158],[56,159,56,160],[56,161,56,162],[56,163,56,164],[56,141,56,142],[56,143,56,144],[56,145,56,146],[56,147,56,148],[56,149,56,150],[56,151,56,152],[56,127,56,128],[56,131,56,132],[56,133,56,134],[56,135,56,136],[56,137,56,138],[56,139,56,140],[56,115,56,116],[56,117,56,118],[56,119,56,120],[56,121,56,122],[56,123,56,124],[56,125,56,126],[56,103,56,104],[56,105,56,106],[56,107,56,108],[56,109,56,110],[56,111,56,112],[56,113,56,114],[56,91,56,92],[56,93,56,94],[56,95,56,96],[56,97,56,98],[56,99,56,100],[56,101,56,102],[56,77,56,78],[56,79,56,80],[56,81,56,82],[56,83,56,84],[56,85,56,86],[56,89,56,90],[56,65,56,66],[56,67,56,68],[56,69,56,70],[56,71,56,72],[56,73,56,74],[56,75,56,76],[56,53,56,54],[56,55,56,56],[56,57,56,58],[56,59,56,60],[56,61,56,62],[56,63,56,64],[56,39,56,40],[56,41,56,42],[56,43,56,44],[56,47,56,48],[56,49,56,50],[56,51,56,52],[56,27,56,28],[56,29,56,30],[56,31,56,32],[56,33,56,34],[56,35,56,36],[56,37,56,38],[56,15,56,16],[56,17,56,18],[56,19,56,20],[56,21,56,22],[56,23,56,24],[56,25,56,26],[55,413,55,414],[55,415,55,416],[55,417,55,418],[55,419,55,420],[55,421,55,422],[56,5,56,6],[56,7,56,8],[56,9,56,10],[56,11,56,12],[56,13,56,14],[55,401,55,402],[55,403,55,404],[55,405,55,406],[55,407,55,408],[55,409,55,410],[55,411,55,412],[55,389,55,390],[55,391,55,392],[55,393,55,394],[55,395,55,396],[55,397,55,398],[55,399,55,400],[55,375,55,376],[55,377,55,378],[55,379,55,380],[55,383,55,384],[55,385,55,386],[55,387,55,388],[55,363,55,364],[55,365,55,366],[55,367,55,368],[55,369,55,370],[55,371,55,372],[55,373,55,374],[55,351,55,352],[55,353,55,354],[55,355,55,356],[55,357,55,358],[55,359,55,360],[55,361,55,362],[55,337,55,338],[55,341,55,342],[55,343,55,344],[55,345,55,346],[55,347,55,348],[55,349,55,350],[55,325,55,326],[55,327,55,328],[55,329,55,330],[55,331,55,332],[55,333,55,334],[55,335,55,336],[55,313,55,314],[55,315,55,316],[55,317,55,318],[55,319,55,320],[55,321,55,322],[55,323,55,324],[55,301,55,302],[55,303,55,304],[55,305,55,306],[55,307,55,308],[55,309,55,310],[55,311,55,312],[55,287,55,288],[55,289,55,290],[55,291,55,292],[55,293,55,294],[55,295,55,296],[55,299,55,300],[55,275,55,276],[55,277,55,278],[55,279,55,280],[55,281,55,282],[55,283,55,284],[55,285,55,286],[55,263,55,264],[55,265,55,266],[55,267,55,268],[55,269,55,270],[55,271,55,272],[55,273,55,274],[55,249,55,250],[55,251,55,252],[55,253,55,254],[55,257,55,258],[55,259,55,260],[55,261,55,262],[55,237,55,238],[55,239,55,240],[55,241,55,242],[55,243,55,244],[55,245,55,246],[55,247,55,248],[55,225,55,226],[55,227,55,228],[55,229,55,230],[55,231,55,232],[55,233,55,234],[55,235,55,236],[55,211,55,212],[55,215,55,216],[55,217,55,218],[55,219,55,220],[55,221,55,222],[55,223,55,224],[55,199,55,200],[55,201,55,202],[55,203,55,204],[55,205,55,206],[55,207,55,208],[55,209,55,210],[55,187,55,188],[55,189,55,190],[55,191,55,192],[55,193,55,194],[55,195,55,196],[55,197,55,198],[55,175,55,176],[55,177,55,178],[55,179,55,180],[55,181,55,182],[55,183,55,184],[55,185,55,186],[55,161,55,162],[55,163,55,164],[55,165,55,166],[55,167,55,168],[55,169,55,170],[55,173,55,174],[55,149,55,150],[55,151,55,152],[55,153,55,154],[55,155,55,156],[55,157,55,158],[55,159,55,160],[55,137,55,138],[55,139,55,140],[55,141,55,142],[55,143,55,144],[55,145,55,146],[55,147,55,148],[55,123,55,124],[55,125,55,126],[55,127,55,128],[55,131,55,132],[55,133,55,134],[55,135,55,136],[55,111,55,112],[55,113,55,114],[55,115,55,116],[55,117,55,118],[55,119,55,120],[55,121,55,122],[55,99,55,100],[55,101,55,102],[55,103,55,104],[55,105,55,106],[55,107,55,108],[55,109,55,110],[55,85,55,86],[55,89,55,90],[55,91,55,92],[55,93,55,94],[55,95,55,96],[55,97,55,98],[55,73,55,74],[55,75,55,76],[55,77,55,78],[55,79,55,80],[55,81,55,82],[55,83,55,84],[55,61,55,62],[55,63,55,64],[55,65,55,66],[55,67,55,68],[55,69,55,70],[55,71,55,72],[55,49,55,50],[55,51,55,52],[55,53,55,54],[55,55,55,56],[55,57,55,58],[55,59,55,60],[55,35,55,36],[55,37,55,38],[55,39,55,40],[55,41,55,42],[55,43,55,44],[55,47,55,48],[55,23,55,24],[55,25,55,26],[55,27,55,28],[55,29,55,30],[55,31,55,32],[55,33,55,34],[53,421,53,422],[55,5,55,6],[55,7,55,8],[55,9,55,10],[55,11,55,12],[55,13,55,14],[55,15,55,16],[55,17,55,18],[55,19,55,20],[55,21,55,22],[53,409,53,410],[53,411,53,412],[53,413,53,414],[53,415,53,416],[53,417,53,418],[53,419,53,420],[53,397,53,398],[53,399,53,400],[53,401,53,402],[53,403,53,404],[53,405,53,406],[53,407,53,408],[53,385,53,386],[53,387,53,388],[53,389,53,390],[53,391,53,392],[53,393,53,394],[53,395,53,396],[53,371,53,372],[53,373,53,374],[53,375,53,376],[53,377,53,378],[53,379,53,380],[53,383,53,384],[53,359,53,360],[53,361,53,362],[53,363,53,364],[53,365,53,366],[53,367,53,368],[53,369,53,370],[53,347,53,348],[53,349,53,350],[53,351,53,352],[53,353,53,354],[53,355,53,356],[53,357,53,358],[53,333,53,334],[53,335,53,336],[53,337,53,338],[53,341,53,342],[53,343,53,344],[53,345,53,346],[53,321,53,322],[53,323,53,324],[53,325,53,326],[53,327,53,328],[53,329,53,330],[53,331,53,332],[53,309,53,310],[53,311,53,312],[53,313,53,314],[53,315,53,316],[53,317,53,318],[53,319,53,320],[53,295,53,296],[53,299,53,300],[53,301,53,302],[53,303,53,304],[53,305,53,306],[53,307,53,308],[53,283,53,284],[53,285,53,286],[53,287,53,288],[53,289,53,290],[53,291,53,292],[53,293,53,294],[53,271,53,272],[53,273,53,274],[53,275,53,276],[53,277,53,278],[53,279,53,280],[53,281,53,282],[53,259,53,260],[53,261,53,262],[53,263,53,264],[53,265,53,266],[53,267,53,268],[53,269,53,270],[53,245,53,246],[53,247,53,248],[53,249,53,250],[53,251,53,252],[53,253,53,254],[53,257,53,258],[53,233,53,234],[53,235,53,236],[53,237,53,238],[53,239,53,240],[53,241,53,242],[53,243,53,244],[53,221,53,222],[53,223,53,224],[53,225,53,226],[53,227,53,228],[53,229,53,230],[53,231,53,232],[53,207,53,208],[53,209,53,210],[53,211,53,212],[53,215,53,216],[53,217,53,218],[53,219,53,220],[53,195,53,196],[53,197,53,198],[53,199,53,200],[53,201,53,202],[53,203,53,204],[53,205,53,206],[53,183,53,184],[53,185,53,186],[53,187,53,188],[53,189,53,190],[53,191,53,192],[53,193,53,194],[53,169,53,170],[53,173,53,174],[53,175,53,176],[53,177,53,178],[53,179,53,180],[53,181,53,182],[53,157,53,158],[53,159,53,160],[53,161,53,162],[53,163,53,164],[53,165,53,166],[53,167,53,168],[53,145,53,146],[53,147,53,148],[53,149,53,150],[53,151,53,152],[53,153,53,154],[53,155,53,156],[53,133,53,134],[53,135,53,136],[53,137,53,138],[53,139,53,140],[53,141,53,142],[53,143,53,144],[53,119,53,120],[53,121,53,122],[53,123,53,124],[53,125,53,126],[53,127,53,128],[53,131,53,132],[53,107,53,108],[53,109,53,110],[53,111,53,112],[53,113,53,114],[53,115,53,116],[53,117,53,118],[53,95,53,96],[53,97,53,98],[53,99,53,100],[53,101,53,102],[53,103,53,104],[53,105,53,106],[53,81,53,82],[53,83,53,84],[53,85,53,86],[53,89,53,90],[53,91,53,92],[53,93,53,94],[53,69,53,70],[53,71,53,72],[53,73,53,74],[53,75,53,76],[53,77,53,78],[53,79,53,80],[53,57,53,58],[53,59,53,60],[53,61,53,62],[53,63,53,64],[53,65,53,66],[53,67,53,68],[53,43,53,44],[53,47,53,48],[53,49,53,50],[53,51,53,52],[53,53,53,54],[53,55,53,56],[53,31,53,32],[53,33,53,34],[53,35,53,36],[53,37,53,38],[53,39,53,40],[53,41,53,42],[53,19,53,20],[53,21,53,22],[53,23,53,24],[53,25,53,26],[53,27,53,28],[53,29,53,30],[35,417,35,418],[35,419,35,420],[35,421,35,422],[53,5,53,6],[53,7,53,8],[53,9,53,10],[53,11,53,12],[53,13,53,14],[53,15,53,16],[53,17,53,18],[35,405,35,406],[35,407,35,408],[35,409,35,410],[35,411,35,412],[35,413,35,414],[35,415,35,416],[35,393,35,394],[35,395,35,396],[35,397,35,398],[35,399,35,400],[35,401,35,402],[35,403,35,404],[35,379,35,380],[35,383,35,384],[35,385,35,386],[35,387,35,388],[35,389,35,390],[35,391,35,392],[35,367,35,368],[35,369,35,370],[35,371,35,372],[35,373,35,374],[35,375,35,376],[35,377,35,378],[35,355,35,356],[35,357,35,358],[35,359,35,360],[35,361,35,362],[35,363,35,364],[35,365,35,366],[35,343,35,344],[35,345,35,346],[35,347,35,348],[35,349,35,350],[35,351,35,352],[35,353,35,354],[35,329,35,330],[35,331,35,332],[35,333,35,334],[35,335,35,336],[35,337,35,338],[35,341,35,342],[35,317,35,318],[35,319,35,320],[35,321,35,322],[35,323,35,324],[35,325,35,326],[35,327,35,328],[35,305,35,306],[35,307,35,308],[35,309,35,310],[35,311,35,312],[35,313,35,314],[35,315,35,316],[35,291,35,292],[35,293,35,294],[35,295,35,296],[35,299,35,300],[35,301,35,302],[35,303,35,304],[35,279,35,280],[35,281,35,282],[35,283,35,284],[35,285,35,286],[35,287,35,288],[35,289,35,290],[35,267,35,268],[35,269,35,270],[35,271,35,272],[35,273,35,274],[35,275,35,276],[35,277,35,278],[35,253,35,254],[35,257,35,258],[35,259,35,260],[35,261,35,262],[35,263,35,264],[35,265,35,266],[35,241,35,242],[35,243,35,244],[35,245,35,246],[35,247,35,248],[35,249,35,250],[35,251,35,252],[35,229,35,230],[35,231,35,232],[35,233,35,234],[35,235,35,236],[35,237,35,238],[35,239,35,240],[35,217,35,218],[35,219,35,220],[35,221,35,222],[35,223,35,224],[35,225,35,226],[35,227,35,228],[35,203,35,204],[35,205,35,206],[35,207,35,208],[35,209,35,210],[35,211,35,212],[35,215,35,216],[35,191,35,192],[35,193,35,194],[35,195,35,196],[35,197,35,198],[35,199,35,200],[35,201,35,202],[35,179,35,180],[35,181,35,182],[35,183,35,184],[35,185,35,186],[35,187,35,188],[35,189,35,190],[35,165,35,166],[35,167,35,168],[35,169,35,170],[35,173,35,174],[35,175,35,176],[35,177,35,178],[35,153,35,154],[35,155,35,156],[35,157,35,158],[35,159,35,160],[35,161,35,162],[35,163,35,164],[35,141,35,142],[35,143,35,144],[35,145,35,146],[35,147,35,148],[35,149,35,150],[35,151,35,152],[35,127,35,128],[35,131,35,132],[35,133,35,134],[35,135,35,136],[35,137,35,138],[35,139,35,140],[35,115,35,116],[35,117,35,118],[35,119,35,120],[35,121,35,122],[35,123,35,124],[35,125,35,126],[35,103,35,104],[35,105,35,106],[35,107,35,108],[35,109,35,110],[35,111,35,112],[35,113,35,114],[35,91,35,92],[35,93,35,94],[35,95,35,96],[35,97,35,98],[35,99,35,100],[35,101,35,102],[35,77,35,78],[35,79,35,80],[35,81,35,82],[35,83,35,84],[35,85,35,86],[35,89,35,90],[35,65,35,66],[35,67,35,68],[35,69,35,70],[35,71,35,72],[35,73,35,74],[35,75,35,76],[35,53,35,54],[35,55,35,56],[35,57,35,58],[35,59,35,60],[35,61,35,62],[35,63,35,64],[35,39,35,40],[35,41,35,42],[35,43,35,44],[35,47,35,48],[35,49,35,50],[35,51,35,52],[35,27,35,28],[35,29,35,30],[35,31,35,32],[35,33,35,34],[35,35,35,36],[35,37,35,38],[35,15,35,16],[35,17,35,18],[35,19,35,20],[35,21,35,22],[35,23,35,24],[35,25,35,26],[33,413,33,414],[33,415,33,416],[33,417,33,418],[33,419,33,420],[33,421,33,422],[33,357,33,358],[33,359,33,360],[33,361,33,362],[33,337,33,338],[33,341,33,342],[33,343,33,344],[33,345,33,346],[33,347,33,348],[33,349,33,350],[33,325,33,326],[33,327,33,328],[33,329,33,330],[33,331,33,332],[33,333,33,334],[33,335,33,336],[35,5,35,6],[35,7,35,8],[35,9,35,10],[35,11,35,12],[35,13,35,14],[33,401,33,402],[33,403,33,404],[33,405,33,406],[33,407,33,408],[33,409,33,410],[33,411,33,412],[33,389,33,390],[33,391,33,392],[33,393,33,394],[33,395,33,396],[33,397,33,398],[33,399,33,400],[33,375,33,376],[33,377,33,378],[33,379,33,380],[33,383,33,384],[33,385,33,386],[33,387,33,388],[33,363,33,364],[33,365,33,366],[33,367,33,368],[33,369,33,370],[33,371,33,372],[33,373,33,374],[33,351,33,352],[33,353,33,354],[33,355,33,356],[33,313,33,314],[33,315,33,316],[33,317,33,318],[33,319,33,320],[33,321,33,322],[33,323,33,324],[33,301,33,302],[33,303,33,304],[33,305,33,306],[33,307,33,308],[33,309,33,310],[33,311,33,312],[33,287,33,288],[33,289,33,290],[33,291,33,292],[33,293,33,294],[33,295,33,296],[33,299,33,300],[33,275,33,276],[33,277,33,278],[33,279,33,280],[33,281,33,282],[33,283,33,284],[33,285,33,286],[33,263,33,264],[33,265,33,266],[33,267,33,268],[33,269,33,270],[33,271,33,272],[33,273,33,274],[33,249,33,250],[33,251,33,252],[33,253,33,254],[33,257,33,258],[33,259,33,260],[33,261,33,262],[33,237,33,238],[33,239,33,240],[33,241,33,242],[33,243,33,244],[33,245,33,246],[33,247,33,248],[33,225,33,226],[33,227,33,228],[33,229,33,230],[33,231,33,232],[33,233,33,234],[33,235,33,236],[33,211,33,212],[33,215,33,216],[33,217,33,218],[33,219,33,220],[33,221,33,222],[33,223,33,224],[33,199,33,200],[33,201,33,202],[33,203,33,204],[33,205,33,206],[33,207,33,208],[33,209,33,210],[33,187,33,188],[33,189,33,190],[33,191,33,192],[33,193,33,194],[33,195,33,196],[33,197,33,198],[33,175,33,176],[33,177,33,178],[33,179,33,180],[33,181,33,182],[33,183,33,184],[33,185,33,186],[33,161,33,162],[33,163,33,164],[33,165,33,166],[33,167,33,168],[33,169,33,170],[33,173,33,174],[33,149,33,150],[33,151,33,152],[33,153,33,154],[33,155,33,156],[33,157,33,158],[33,159,33,160],[33,137,33,138],[33,139,33,140],[33,141,33,142],[33,143,33,144],[33,145,33,146],[33,147,33,148],[33,123,33,124],[33,125,33,126],[33,127,33,128],[33,131,33,132],[33,133,33,134],[33,135,33,136],[33,111,33,112],[33,113,33,114],[33,115,33,116],[33,117,33,118],[33,119,33,120],[33,121,33,122],[33,99,33,100],[33,101,33,102],[33,103,33,104],[33,105,33,106],[33,107,33,108],[33,109,33,110],[33,85,33,86],[33,89,33,90],[33,91,33,92],[33,93,33,94],[33,95,33,96],[33,97,33,98],[33,73,33,74],[33,75,33,76],[33,77,33,78],[33,79,33,80],[33,81,33,82],[33,83,33,84],[33,61,33,62],[33,63,33,64],[33,65,33,66],[33,67,33,68],[33,69,33,70],[33,71,33,72],[33,49,33,50],[33,51,33,52],[33,53,33,54],[33,55,33,56],[33,57,33,58],[33,59,33,60],[33,35,33,36],[33,37,33,38],[33,39,33,40],[33,41,33,42],[33,43,33,44],[33,47,33,48],[33,23,33,24],[33,25,33,26],[33,27,33,28],[33,29,33,30],[33,31,33,32],[33,33,33,34],[32,423,35,423],[33,5,33,6],[33,7,33,8],[33,9,33,10],[33,11,33,12],[33,13,33,14]],"merged_total":2859,"flags":["merged_cut"]}
[null,"Gas Utility Data - Apartment Meters"]
[null,"Instructions"]
[null,"1) Enter data for pre-construction apartment-level energy use.  First cell must not be blank. For months with zero consumption, please leave cell blank. \n2) Unhide columns (OD-PI) if there are more than 10 units sampled for a given unit type. You may hide columns that are not needed, do not delete them.\n3) Post-Construction data will be filled in one year after construction has been completed.\n4) Please use the \"Notes\" field below the data entry section of this tab to explain unusual circumstances, any anomalies in the data, or adjustments made.\n\n"]
[]
[null,"Pre-Construction In-Unit Billing Dates",null,null,null,{"$f":"CONCATENATE('Utility Info'!B47,\" - \",'Utility Info'!C47)","v":"Unit Type 1 - "},null,null,null,null,null,null,null,null,null,null,null,null,null,null,null,null,null,null,null,null,null,null,null,null,null,null,null,null,null,null,null,null,null,null,null,null,null,null,null,null,null,{"$f":"CONCATENATE('Utility Info'!B48,\" - \",'Utility Info'!C48)","v":"Unit Type 2 - "},null,null,null,null,null,null,null,null,null,null,null,null,null,null,null,null,null,null,null,null,null,null,null,null,null,null,null,null,null,null,null,null,null,null,null,null,null,null,null,null,null,{"$f":"CONCATENATE('Utility Info'!B49,\" - \",'Utility Info'!C49)","v":"Unit Type 3 - "},null,null,null,null,null,null,null,null,null,null,null,null,null,null,null,null,null,null,null,null,null,null,null,null,null,null,null,null,null,null,null,null,null,null,null,null,null,null,null,null,null,{"$f":"CONCATENATE('Utility Info'!B50,\" - \",'Utility Info'!C50)","v":"Unit Type 4 - "},null,null,null,null,null,null,null,null,null,null,null,null,null,null,null,null,null,null,null,null,null,null,null,null,null,null,null,null,null,null,null,null,null,null,null,null,null,null,null,null,null,{"$f":"CONCATENATE('Utility Info'!B51,\" - \",'Utility Info'!C51)","v":"Unit Type 5 - "},null,null,null,null,null,null,null,null,null,null,null,null,null,null,null,null,null,null,null,null,null,null,null,null,null,null,null,null,null,null,null,null,null,null,null,null,null,null,null,null,null,{"$f":"CONCATENATE('Utility Info'!B52,\" - \",'Utility Info'!C52)","v":"Unit Type 6 - "},null,null,null,null,null,null,null,null,null,null,null,null,null,null,null,null,null,null,null,null,null,null,null,null,null,null,null,null,null,null,null,null,null,null,null,null,null,null,null,null,null,{"$f":"CONCATENATE('Utility Info'!B53,\" - \",'Utility Info'!C53)","v":"Unit Type 7 - "},null,null,null,null,null,null,null,null,null,null,null,null,null,null,null,null,null,null,null,null,null,null,null,null,null,null,null,null,null,null,null,null,null,null,null,null,null,null,null,null,null,{"$f":"CONCATENATE('Utility Info'!B54,\" - \",'Utility Info'!C54)","v":"Unit Type 8 - "},null,null,null,null,null,null,null,null,null,null,null,null,null,null,null,null,null,null,null,null,null,null,null,null,null,null,null,null,null,null,null,null,null,null,null,null,null,null,null,null,null,{"$f":"CONCATENATE('Utility Info'!B55,\" - \",'Utility Info'!C55)","v":"Unit Type 9 - "},null,null,null,null,null,null,null,null,null,null,null,null,null,null,null,null,null,null,null,null,null,null,null,null,null,null,null,null,null,null,null,null,null,null,null,null,null,null,null,null,null,{"$f":"CONCATENATE('Utility Info'!B56,\" - \",'Utility Info'!C56)","v":"Unit Type 10 - "},null,null,null,null,null,null,null,null,null,null,null,null,null,null,null,null,null,null,null,null,null,null,null,null,null,null,null,null,null,null,null,null,null,null,null,null,null,null,null,null,null,"PRE-CONSTRUCTION\nSummary of In-Unit Gas Use"]
[null,null,null,null,null,"Unit #:",null,"Unit #:",null,"Unit #:",null,"Unit #:",null,"Unit #:",null,"Unit #:",null,"Unit #:",null,"Unit #:",null,"Unit #:",null,"Unit #:",null,"Unit #:",null,"Unit #:",null,"Unit #:",null,"Unit #:",null,"Unit #:",null,"Unit #:",null,"Unit #:",null,"Unit #:",null,"Unit #:",null,"Unit #:",null,"SUMMARY",null,"Unit #:",null,"Unit #:",null,"Unit #:",null,"Unit #:",null,"Unit #:",null,"Unit #:",null,"Unit #:",null,"Unit #:",null,"Unit #:",null,"Unit #:",null,"Unit #:",null,"Unit #:",null,"Unit #:",null,"Unit #:",null,"Unit #:",null,"Unit #:",null,"Unit #:",null,"Unit #:",null,"Unit #:",null,"Unit #:",null,"SUMMARY",null,"Unit #:",null,"Unit #:",null,"Unit #:",null,"Unit #:",null,"Unit #:",null,"Unit #:",null,"Unit #:",null,"Unit #:",null,"Unit #:",null,"Unit #:",null,"Unit #:",null,"Unit #:",null,"Unit #:",null,"Unit #:",null,"Unit #:",null,"Unit #:",null,"Unit #:",null,"Unit #:",null,"Unit #:",null,"Unit #:",null,"SUMMARY",null,"Unit #:",null,"Unit #:",null,"Unit #:",null,"Unit #:",null,"Unit #:",null,"Unit #:",null,"Unit #:",null,"Unit #:",null,"Unit #:",null,"Unit #:",null,"Unit #:",null,"Unit #:",null,"Unit #:",null,"Unit #:",null,"Unit #:",null,"Unit #:",null,"Unit #:",null,"Unit #:",null,"Unit #:",null,"Unit #:",null,"SUMMARY",null,"Unit #:",null,"Unit #:",null,"Unit #:",null,"Unit #:",null,"Unit #:",null,"Unit #:",null,"Unit #:",null,"Unit #:",null,"Unit #:",null,"Unit #:",null,"Unit #:",null,"Unit #:",null,"Unit #:",null,"Unit #:",null,"Unit #:",null,"Unit #:",null,"Unit #:",null,"Unit #:",null,"Unit #:",null,"Unit #:",null,"SUMMARY",null,"Unit #:",null,"Unit #:",null,"Unit #:",null,"Unit #:",null,"Unit #:",null,"Unit #:",null,"Unit #:",null,"Unit #:",null,"Unit #:",null,"Unit #:",null,"Unit #:",null,"Unit #:",null,"Unit #:",null,"Unit #:",null,"Unit #:",null,"Unit #:",null,"Unit #:",null,"Unit #:",null,"Unit #:",null,"Unit #:",null,"SUMMARY",null,"Unit #:",null,"Unit #:",null,"Unit #:",null,"Unit #:",null,"Unit #:",null,"Unit #:",null,"Unit #:",null,"Unit #:",null,"Unit #:",null,"Unit #:",null,"Unit #:",null,"Unit #:",null,"Unit #:",null,"Unit #:",null,"Unit #:",null,"Unit #:",null,"Unit #:",null,"Unit #:",null,"Unit #:",null,"Unit #:",null,"SUMMARY",null,"Unit #:",null,"Unit #:",null,"Unit #:",null,"Unit #:",null,"Unit #:",null,"Unit #:",null,"Unit #:",null,"Unit #:",null,"Unit #:",null,"Unit #:",null,"Unit #:",null,"Unit #:",null,"Unit #:",null,"Unit #:",null,"Unit #:",null,"Unit #:",null,"Unit #:",null,"Unit #:",null,"Unit #:",null,"Unit #:",null,"SUMMARY",null,"Unit #:",null,"Unit #:",null,"Unit #:",null,"Unit #:",null,"Unit #:",null,"Unit #:",null,"Unit #:",null,"Unit #:",null,"Unit #:",null,"Unit #:",null,"Unit #:",null,"Unit #:",null,"Unit #:",null,"Unit #:",null,"Unit #:",null,"Unit #:",null,"Unit #:",null,"Unit #:",null,"Unit #:",null,"Unit #:",null,"SUMMARY",null,"Unit #:",null,"Unit #:",null,"Unit #:",null,"Unit #:",null,"Unit #:",null,"Unit #:",null,"Unit #:",null,"Unit #:",null,"Unit #:",null,"Unit #:",null,"Unit #:",null,"Unit #:",null,"Unit #:",null,"Unit #:",null,"Unit #:",null,"Unit #:",null,"Unit #:",null,"Unit #:",null,"Unit #:",null,"Unit #:",null,"SUMMARY"]
[]
[null,null,null,null,null,"Account #:",null,"Account #:",null,"Account #:",null,"Account #:",null,"Account #:",null,"Account #:",null,"Account #:",null,"Account #:",null,"Account #:",null,"Account #:",null,"Account #:",null,"Account #:",null,"Account #:",null,"Account #:",null,"Account #:",null,"Account #:",null,"Account #:",null,"Account #:",null,"Account #:",null,"Account #:",null,null,null,"Account #:",null,"Account #:",null,"Account #:",null,"Account #:",null,"Account #:",null,"Account #:",null,"Account #:",null,"Account #:",null,"Account #:",null,"Account #:",null,"Account #:",null,"Account #:",null,"Account #:",null,"Account #:",null,"Account #:",null,"Account #:",null,"Account #:",null,"Account #:",null,"Account #:",null,"Account #:",null,null,null,"Account #:",null,"Account #:",null,"Account #:",null,"Account #:",null,"Account #:",null,"Account #:",null,"Account #:",null,"Account #:",null,"Account #:",null,"Account #:",null,"Account #:",null,"Account #:",null,"Account #:",null,"Account #:",null,"Account #:",null,"Account #:",null,"Account #:",null,"Account #:",null,"Account #:",null,"Account #:",null,null,null,"Account #:",null,"Account #:",null,"Account #:",null,"Account #:",null,"Account #:",null,"Account #:",null,"Account #:",null,"Account #:",null,"Account #:",null,"Account #:",null,"Account #:",null,"Account #:",null,"Account #:",null,"Account #:",null,"Account #:",null,"Account #:",null,"Account #:",null,"Account #:",null,"Account #:",null,"Account #:",null,null,null,"Account #:",null,"Account #:",null,"Account #:",null,"Account #:",null,"Account #:",null,"Account #:",null,"Account #:",null,"Account #:",null,"Account #:",null,"Account #:",null,"Account #:",null,"Account #:",null,"Account #:",null,"Account #:",null,"Account #:",null,"Account #:",null,"Account #:",null,"Account #:",null,"Account #:",null,"Account #:",null,null,null,"Account #:",null,"Account #:",null,"Account #:",null,"Account #:",null,"Account #:",null,"Account #:",null,"Account #:",null,"Account #:",null,"Account #:",null,"Account #:",null,"Account #:",null,"Account #:",null,"Account #:",null,"Account #:",null,"Account #:",null,"Account #:",null,"Account #:",null,"Account #:",null,"Account #:",null,"Account #:",null,null,null,"Account #:",null,"Account #:",null,"Account #:",null,"Account #:",null,"Account #:",null,"Account #:",null,"Account #:",null,"Account #:",null,"Account #:",null,"Account #:",null,"Account #:",null,"Account #:",null,"Account #:",null,"Account #:",null,"Account #:",null,"Account #:",null,"Account #:",null,"Account #:",null,"Account #:",null,"Account #:",null,null,null,"Account #:",null,"Account #:",null,"Account #:",null,"Account #:",null,"Account #:",null,"Account #:",null,"Account #:",null,"Account #:",null,"Account #:",null,"Account #:",null,"Account #:",null,"Account #:",null,"Account #:",null,"Account #:",null,"Account #:",null,"Account #:",null,"Account #:",null,"Account #:",null,"Account #:",null,"Account #:",null,null,null,"Account #:",null,"Account #:",null,"Account #:",null,"Account #:",null,"Account #:",null,"Account #:",null,"Account #:",null,"Account #:",null,"Account #:",null,"Account #:",null,"Account #:",null,"Account #:",null,"Account #:",null,"Account #:",null,"Account #:",null,"Account #:",null,"Account #:",null,"Account #:",null,"Account #:",null,"Account #:",null,null,null,"Account #:",null,"Account #:",null,"Account #:",null,"Account #:",null,"Account #:",null,"Account #:",null,"Account #:",null,"Account #:",null,"Account #:",null,"Account #:",null,"Account #:",null,"Account #:",null,"Account #:",null,"Account #:",null,"Account #:",null,"Account #:",null,"Account #:",null,"Account #:",null,"Account #:",null,"Account #:",null,null,null,{"$f":"'Utility Info'!$D$47","v":0},{"$f":"'Utility Info'!$D$48","v":0},{"$f":"'Utility Info'!$D$49","v":0},{"$f":"'Utility Info'!$D$50","v":0},{"$f":"'Utility Info'!$D$51","v":0},{"$f":"'Utility Info'!$D$52","v":0},{"$f":"'Utility Info'!$D$53","v":0},{"$f":"'Utility Info'!$D$54","v":0},{"$f":"'Utility Info'!$D$55","v":0},{"$f":"'Utility Info'!$D$56","v":0}]
[null,null,null,null,null,null,null,null,null,null,null,null,null,null,null,null,null,null,null,null,null,null,null,null,null,null,null,null,null,null,null,null,null,null,null,null,null,null,null,null,null,null,null,null,null,null,null,null,null,null,null,null,null,null,null,null,null,null,null,null,null,null,null,null,null,null,null,null,null,null,null,null,null,null,null,null,null,null,null,null,null,null,null,null,null,null,null,null,null,null,null,null,null,null,null,null,null,null,null,null,null,null,null,null,null,null,null,null,null,null,null,null,null,null,null,null,null,null,null,null,null,null,null,null,null,null,null,null,null,null,null,null,null,null,null,null,null,null,null,null,null,null,null,null,null,null,null,null,null,null,null,null,null,null,null,null,null,null,null,null,null,null,null,null,null,null,null,null,null,null,null,null,null,null,null,null,null,null,null,null,null,null,null,null,null,null,null,null,null,null,null,null,null,null,null,null,null,null,null,null,null,null,null,null,null,null,null,null,null,null,null,null,null,null,null,null,null,null,null,null,null,null,null,null,null,null,null,null,null,null,null,null,null,null,null,null,null,null,null,null,null,null,null,null,null,null,null,null,null,null,null,null,null,null,null,null,null,null,null,null,null,null,null,null,null,null,null,null,null,null,null,null,null,null,null,null,null,null,null,null,null,null,null,null,null,null,null,null,null,null,null,null,null,null,null,null,null,null,null,null,null,null,null,null,null,null,null,null,null,null,null,null,null,null,null,null,null,null,null,null,null,null,null,null,null,null,null,null,null,null,null,null,null,null,null,null,null,null,null,null,null,null,null,null,null,null,null,null,null,null,null,null,null,null,null,null,null,null,null,null,null,null,null,null,null,null,null,null,null,null,null,null,null,null,null,null,null,null,null,null,null,null,null,null,null,null,null,null,null,null,null,null,null,null,null,null,null,null,null,null,null,null,null,null,null,null,null,null,null,null,null,null,null,null,null,null,null,null,null,null,null,null,null,null,null,{"$f":"'Utility Info'!B47","v":"Unit Type 1"},{"$f":"'Utility Info'!B48","v":"Unit Type 2"},{"$f":"'Utility Info'!B49","v":"Unit Type 3"},{"$f":"'Utility Info'!B50","v":"Unit Type 4"},{"$f":"'Utility Info'!B51","v":"Unit Type 5"},{"$f":"'Utility Info'!B52","v":"Unit Type 6"},{"$f":"'Utility Info'!B53","v":"Unit Type 7"},{"$f":"'Utility Info'!B54","v":"Unit Type 8"},{"$f":"'Utility Info'!B55","v":"Unit Type 9"},{"$f":"'Utility Info'!B56","v":"Unit Type 10"},"SUMMARY"]
[null,"Billing Period Start Date","Read Date","Days in Billing Period",null,{"$f":"'Utility Info'!$D$7","v":"<Not Used>"},"Actual/ Estimated",{"$f":"'Utility Info'!$D$7","v":"<Not Used>"},"Actual/ Estimated",{"$f":"'Utility Info'!$D$7","v":"<Not Used>"},"Actual/ Estimated",{"$f":"'Utility Info'!$D$7","v":"<Not Used>"},"Actual/ Estimated",{"$f":"'Utility Info'!$D$7","v":"<Not Used>"},"Actual/ Estimated",{"$f":"'Utility Info'!$D$7","v":"<Not Used>"},"Actual/ Estimated",{"$f":"'Utility Info'!$D$7","v":"<Not Used>"},"Actual/ Estimated",{"$f":"'Utility Info'!$D$7","v":"<Not Used>"},"Actual/ Estimated",{"$f":"'Utility Info'!$D$7","v":"<Not Used>"},"Actual/ Estimated",{"$f":"'Utility Info'!$D$7","v":"<Not Used>"},"Actual/ Estimated",{"$f":"'Utility Info'!$D$7","v":"<Not Used>"},"Actual/ Estimated",{"$f":"'Utility Info'!$D$7","v":"<Not Used>"},"Actual/ Estimated",{"$f":"'Utility Info'!$D$7","v":"<Not Used>"},"Actual/ Estimated",{"$f":"'Utility Info'!$D$7","v":"<Not Used>"},"Actual/ Estimated",{"$f":"'Utility Info'!$D$7","v":"<Not Used>"},"Actual/ Estimated",{"$f":"'Utility Info'!$D$7","v":"<Not Used>"},"Actual/ Estimated",{"$f":"'Utility Info'!$D$7","v":"<Not Used>"},"Actual/ Estimated",{"$f":"'Utility Info'!$D$7","v":"<Not Used>"},"Actual/ Estimated",{"$f":"'Utility Info'!$D$7","v":"<Not Used>"},"Actual/ Estimated",{"$f":"'Utility Info'!$D$7","v":"<Not Used>"},"Actual/ Estimated","Average Gas Consumption",null,{"$f":"'Utility Info'!$D$7","v":"<Not Used>"},"Actual/ Estimated",{"$f":"'Utility Info'!$D$7","v":"<Not Used>"},"Actual/ Estimated",{"$f":"'Utility Info'!$D$7","v":"<Not Used>"},"Actual/ Estimated",{"$f":"'Utility Info'!$D$7","v":"<Not Used>"},"Actual/ Estimated",{"$f":"'Utility Info'!$D$7","v":"<Not Used>"},"Actual/ Estimated",{"$f":"'Utility Info'!$D$7","v":"<Not Used>"},"Actual/ Estimated",{"$f":"'Utility Info'!$D$7","v":"<Not Used>"},"Actual/ Estimated",{"$f":"'Utility Info'!$D$7","v":"<Not Used>"},"Actual/ Estimated",{"$f":"'Utility Info'!$D$7","v":"<Not Used>"},"Actual/ Estimated",{"$f":"'Utility Info'!$D$7","v":"<Not Used>"},"Actual/ Estimated",{"$f":"'Utility Info'!$D$7","v":"<Not Used>"},"Actual/ Estimated",{"$f":"'Utility Info'!$D$7","v":"<Not Used>"},"Actual/ Estimated",{"$f":"'Utility Info'!$D$7","v":"<Not Used>"},"Actual/ Estimated",{"$f":"'Utility Info'!$D$7","v":"<Not Used>"},"Actual/ Estimated",{"$f":"'Utility Info'!$D$7","v":"<Not Used>"},"Actual/ Estimated",{"$f":"'Utility Info'!$D$7","v":"<Not Used>"},"Actual/ Estimated",{"$f":"'Utility Info'!$D$7","v":"<Not Used>"},"Actual/ Estimated",{"$f":"'Utility Info'!$D$7","v":"<Not Used>"},"Actual/ Estimated",{"$f":"'Utility Info'!$D$7","v":"<Not Used>"},"Actual/ Estimated",{"$f":"'Utility Info'!$D$7","v":"<Not Used>"},"Actual/ Estimated","Average Gas Consumption",null,{"$f":"'Utility Info'!$D$7","v":"<Not Used>"},"Actual/ Estimated",{"$f":"'Utility Info'!$D$7","v":"<Not Used>"},"Actual/ Estimated",{"$f":"'Utility Info'!$D$7","v":"<Not Used>"},"Actual/ Estimated",{"$f":"'Utility Info'!$D$7","v":"<Not Used>"},"Actual/ Estimated",{"$f":"'Utility Info'!$D$7","v":"<Not Used>"},"Actual/ Estimated",{"$f":"'Utility Info'!$D$7","v":"<Not Used>"},"Actual/ Estimated",{"$f":"'Utility Info'!$D$7","v":"<Not Used>"},"Actual/ Estimated",{"$f":"'Utility Info'!$D$7","v":"<Not Used>"},"Actual/ Estimated",{"$f":"'Utility Info'!$D$7","v":"<Not Used>"},"Actual/ Estimated",{"$f":"'Utility Info'!$D$7","v":"<Not Used>"},"Actual/ Estimated",{"$f":"'Utility Info'!$D$7","v":"<Not Used>"},"Actual/ Estimated",{"$f":"'Utility Info'!$D$7","v":"<Not Used>"},"Actual/ Estimated",{"$f":"'Utility Info'!$D$7","v":"<Not Used>"},"Actual/ Estimated",{"$f":"'Utility Info'!$D$7","v":"<Not Used>"},"Actual/ Estimated",{"$f":"'Utility Info'!$D$7","v":"<Not Used>"},"Actual/ Estimated",{"$f":"'Utility Info'!$D$7","v":"<Not Used>"},"Actual/ Estimated",{"$f":"'Utility Info'!$D$7","v":"<Not Used>"},"Actual/ Estimated",{"$f":"'Utility Info'!$D$7","v":"<Not Used>"},"Actual/ Estimated",{"$f":"'Utility Info'!$D$7","v":"<Not Used>"},"Actual/ Estimated",{"$f":"'Utility Info'!$D$7","v":"<Not Used>"},"Actual/ Estimated","Average Gas Consumption",null,{"$f":"'Utility Info'!$D$7","v":"<Not Used>"},"Actual/ Estimated",{"$f":"'Utility Info'!$D$7","v":"<Not Used>"},"Actual/ Estimated",{"$f":"'Utility Info'!$D$7","v":"<Not Used>"},"Actual/ Estimated",{"$f":"'Utility Info'!$D$7","v":"<Not Used>"},"Actual/ Estimated",{"$f":"'Utility Info'!$D$7","v":"<Not Used>"},"Actual/ Estimated",{"$f":"'Utility Info'!$D$7","v":"<Not Used>"},"Actual/ Estimated",{"$f":"'Utility Info'!$D$7","v":"<Not Used>"},"Actual/ Estimated",{"$f":"'Utility Info'!$D$7","v":"<Not Used>"},"Actual/ Estimated",{"$f":"'Utility Info'!$D$7","v":"<Not Used>"},"Actual/ Estimated",{"$f":"'Utility Info'!$D$7","v":"<Not Used>"},"Actual/ Estimated",{"$f":"'Utility Info'!$D$7","v":"<Not Used>"},"Actual/ Estimated",{"$f":"'Utility Info'!$D$7","v":"<Not Used>"},"Actual/ Estimated",{"$f":"'Utility Info'!$D$7","v":"<Not Used>"},"Actual/ Estimated",{"$f":"'Utility Info'!$D$7","v":"<Not Used>"},"Actual/ Estimated",{"$f":"'Utility Info'!$D$7","v":"<Not Used>"},"Actual/ Estimated",{"$f":"'Utility Info'!$D$7","v":"<Not Used>"},"Actual/ Estimated",{"$f":"'Utility Info'!$D$7","v":"<Not Used>"},"Actual/ Estimated",{"$f":"'Utility Info'!$D$7","v":"<Not Used>"},"Actual/ Estimated",{"$f":"'Utility Info'!$D$7","v":"<Not Used>"},"Actual/ Estimated",{"$f":"'Utility Info'!$D$7","v":"<Not Used>"},"Actual/ Estimated","Average Gas Consumption",null,{"$f":"'Utility Info'!$D$7","v":"<Not Used>"},"Actual/ Estimated",{"$f":"'Utility Info'!$D$7","v":"<Not Used>"},"Actual/ Estimated",{"$f":"'Utility Info'!$D$7","v":"<Not Used>"},"Actual/ Estimated",{"$f":"'Utility Info'!$D$7","v":"<Not Used>"},"Actual/ Estimated",{"$f":"'Utility Info'!$D$7","v":"<Not Used>"},"Actual/ Estimated",{"$f":"'Utility Info'!$D$7","v":"<Not Used>"},"Actual/ Estimated",{"$f":"'Utility Info'!$D$7","v":"<Not Used>"},"Actual/ Estimated",{"$f":"'Utility Info'!$D$7","v":"<Not Used>"},"Actual/ Estimated",{"$f":"'Utility Info'!$D$7","v":"<Not Used>"},"Actual/ Estimated",{"$f":"'Utility Info'!$D$7","v":"<Not Used>"},"Actual/ Estimated",{"$f":"'Utility Info'!$D$7","v":"<Not Used>"},"Actual/ Estimated",{"$f":"'Utility Info'!$D$7","v":"<Not Used>"},"Actual/ Estimated",{"$f":"'Utility Info'!$D$7","v":"<Not Used>"},"Actual/ Estimated",{"$f":"'Utility Info'!$D$7","v":"<Not Used>"},"Actual/ Estimated",{"$f":"'Utility Info'!$D$7","v":"<Not Used>"},"Actual/ Estimated",{"$f":"'Utility Info'!$D$7","v":"<Not Used>"},"Actual/ Estimated",{"$f":"'Utility Info'!$D$7","v":"<Not Used>"},"Actual/ Estimated",{"$f":"'Utility Info'!$D$7","v":"<Not Used>"},"Actual/ Estimated",{"$f":"'Utility Info'!$D$7","v":"<Not Used>"},"Actual/ Estimated",{"$f":"'Utility Info'!$D$7","v":"<Not Used>"},"Actual/ Estimated","Average Gas Consumption",null,{"$f":"'Utility Info'!$D$7","v":"<Not Used>"},"Actual/ Estimated",{"$f":"'Utility Info'!$D$7","v":"<Not Used>"},"Actual/ Estimated",{"$f":"'Utility Info'!$D$7","v":"<Not Used>"},"Actual/ Estimated",{"$f":"'Utility Info'!$D$7","v":"<Not Used>"},"Actual/ Estimated",{"$f":"'Utility Info'!$D$7","v":"<Not Used>"},"Actual/ Estimated",{"$f":"'Utility Info'!$D$7","v":"<Not Used>"},"Actual/ Estimated",{"$f":"'Utility Info'!$D$7","v":"<Not Used>"},"Actual/ Estimated",{"$f":"'Utility Info'!$D$7","v":"<Not Used>"},"Actual/ Estimated",{"$f":"'Utility Info'!$D$7","v":"<Not Used>"},"Actual/ Estimated",{"$f":"'Utility Info'!$D$7","v":"<Not Used>"},"Actual/ Estimated",{"$f":"'Utility Info'!$D$7","v":"<Not Used>"},"Actual/ Estimated",{"$f":"'Utility Info'!$D$7","v":"<Not Used>"},"Actual/ Estimated",{"$f":"'Utility Info'!$D$7","v":"<Not Used>"},"Actual/ Estimated",{"$f":"'Utility Info'!$D$7","v":"<Not Used>"},"Actual/ Estimated",{"$f":"'Utility Info'!$D$7","v":"<Not Used>"},"Actual/ Estimated",{"$f":"'Utility Info'!$D$7","v":"<Not Used>"},"Actual/ Estimated",{"$f":"'Utility Info'!$D$7","v":"<Not Used>"},"Actual/ Estimated",{"$f":"'Utility Info'!$D$7","v":"<Not Used>"},"Actual/ Estimated",{"$f":"'Utility Info'!$D$7","v":"<Not Used>"},"Actual/ Estimated",{"$f":"'Utility Info'!$D$7","v":"<Not Used>"},"Actual/ Estimated","Average Gas Consumption",null,{"$f":"'Utility Info'!$D$7","v":"<Not Used>"},"Actual/ Estimated",{"$f":"'Utility Info'!$D$7","v":"<Not Used>"},"Actual/ Estimated",{"$f":"'Utility Info'!$D$7","v":"<Not Used>"},"Actual/ Estimated",{"$f":"'Utility Info'!$D$7","v":"<Not Used>"},"Actual/ Estimated",{"$f":"'Utility Info'!$D$7","v":"<Not Used>"},"Actual/ Estimated",{"$f":"'Utility Info'!$D$7","v":"<Not Used>"},"Actual/ Estimated",{"$f":"'Utility Info'!$D$7","v":"<Not Used>"},"Actual/ Estimated",{"$f":"'Utility Info'!$D$7","v":"<Not Used>"},"Actual/ Estimated",{"$f":"'Utility Info'!$D$7","v":"<Not Used>"},"Actual/ Estimated",{"$f":"'Utility Info'!$D$7","v":"<Not Used>"},"Actual/ Estimated",{"$f":"'Utility Info'!$D$7","v":"<Not Used>"},"Actual/ Estimated",{"$f":"'Utility Info'!$D$7","v":"<Not Used>"},"Actual/ Estimated",{"$f":"'Utility Info'!$D$7","v":"<Not Used>"},"Actual/ Estimated",{"$f":"'Utility Info'!$D$7","v":"<Not Used>"},"Actual/ Estimated",{"$f":"'Utility Info'!$D$7","v":"<Not Used>"},"Actual/ Estimated",{"$f":"'Utility Info'!$D$7","v":"<Not Used>"},"Actual/ Estimated",{"$f":"'Utility Info'!$D$7","v":"<Not Used>"},"Actual/ Estimated",{"$f":"'Utility Info'!$D$7","v":"<Not Used>"},"Actual/ Estimated",{"$f":"'Utility Info'!$D$7","v":"<Not Used>"},"Actual/ Estimated",{"$f":"'Utility Info'!$D$7","v":"<Not Used>"},"Actual/ Estimated","Average Gas Consumption",null,{"$f":"'Utility Info'!$D$7","v":"<Not Used>"},"Actual/ Estimated",{"$f":"'Utility Info'!$D$7","v":"<Not Used>"},"Actual/ Estimated",{"$f":"'Utility Info'!$D$7","v":"<Not Used>"},"Actual/ Estimated",{"$f":"'Utility Info'!$D$7","v":"<Not Used>"},"Actual/ Estimated",{"$f":"'Utility Info'!$D$7","v":"<Not Used>"},"Actual/ Estimated",{"$f":"'Utility Info'!$D$7","v":"<Not Used>"},"Actual/ Estimated",{"$f":"'Utility Info'!$D$7","v":"<Not Used>"},"Actual/ Estimated",{"$f":"'Utility Info'!$D$7","v":"<Not Used>"},"Actual/ Estimated",{"$f":"'Utility Info'!$D$7","v":"<Not Used>"},"Actual/ Estimated",{"$f":"'Utility Info'!$D$7","v":"<Not Used>"},"Actual/ Estimated",{"$f":"'Utility Info'!$D$7","v":"<Not Used>"},"Actual/ Estimated",{"$f":"'Utility Info'!$D$7","v":"<Not Used>"},"Actual/ Estimated",{"$f":"'Utility Info'!$D$7","v":"<Not Used>"},"Actual/ Estimated",{"$f":"'Utility Info'!$D$7","v":"<Not Used>"},"Actual/ Estimated",{"$f":"'Utility Info'!$D$7","v":"<Not Used>"},"Actual/ Estimated",{"$f":"'Utility Info'!$D$7","v":"<Not Used>"},"Actual/ Estimated",{"$f":"'Utility Info'!$D$7","v":"<Not Used>"},"Actual/ Estimated",{"$f":"'Utility Info'!$D$7","v":"<Not Used>"},"Actual/ Estimated",{"$f":"'Utility Info'!$D$7","v":"<Not Used>"},"Actual/ Estimated",{"$f":"'Utility Info'!$D$7","v":"<Not Used>"},"Actual/ Estimated","Average Gas Consumption",null,{"$f":"'Utility Info'!$D$7","v":"<Not Used>"},"Actual/ Estimated",{"$f":"'Utility Info'!$D$7","v":"<Not Used>"},"Actual/ Estimated",{"$f":"'Utility Info'!$D$7","v":"<Not Used>"},"Actual/ Estimated",{"$f":"'Utility Info'!$D$7","v":"<Not Used>"},"Actual/ Estimated",{"$f":"'Utility Info'!$D$7","v":"<Not Used>"},"Actual/ Estimated",{"$f":"'Utility Info'!$D$7","v":"<Not Used>"},"Actual/ Estimated",{"$f":"'Utility Info'!$D$7","v":"<Not Used>"},"Actual/ Estimated",{"$f":"'Utility Info'!$D$7","v":"<Not Used>"},"Actual/ Estimated",{"$f":"'Utility Info'!$D$7","v":"<Not Used>"},"Actual/ Estimated",{"$f":"'Utility Info'!$D$7","v":"<Not Used>"},"Actual/ Estimated",{"$f":"'Utility Info'!$D$7","v":"<Not Used>"},"Actual/ Estimated",{"$f":"'Utility Info'!$D$7","v":"<Not Used>"},"Actual/ Estimated",{"$f":"'Utility Info'!$D$7","v":"<Not Used>"},"Actual/ Estimated",{"$f":"'Utility Info'!$D$7","v":"<Not Used>"},"Actual/ Estimated",{"$f":"'Utility Info'!$D$7","v":"<Not Used>"},"Actual/ Estimated",{"$f":"'Utility Info'!$D$7","v":"<Not Used>"},"Actual/ Estimated",{"$f":"'Utility Info'!$D$7","v":"<Not Used>"},"Actual/ Estimated",{"$f":"'Utility Info'!$D$7","v":"<Not Used>"},"Actual/ Estimated",{"$f":"'Utility Info'!$D$7","v":"<Not Used>"},"Actual/ Estimated",{"$f":"'Utility Info'!$D$7","v":"<Not Used>"},"Actual/ Estimated","Average Gas Consumption",null,{"$f":"'Utility Info'!$D$7","v":"<Not Used>"},"Actual/ Estimated",{"$f":"'Utility Info'!$D$7","v":"<Not Used>"},"Actual/ Estimated",{"$f":"'Utility Info'!$D$7","v":"<Not Used>"},"Actual/ Estimated",{"$f":"'Utility Info'!$D$7","v":"<Not Used>"},"Actual/ Estimated",{"$f":"'Utility Info'!$D$7","v":"<Not Used>"},"Actual/ Estimated",{"$f":"'Utility Info'!$D$7","v":"<Not Used>"},"Actual/ Estimated",{"$f":"'Utility Info'!$D$7","v":"<Not Used>"},"Actual/ Estimated",{"$f":"'Utility Info'!$D$7","v":"<Not Used>"},"Actual/ Estimated",{"$f":"'Utility Info'!$D$7","v":"<Not Used>"},"Actual/ Estimated",{"$f":"'Utility Info'!$D$7","v":"<Not Used>"},"Actual/ Estimated",{"$f":"'Utility Info'!$D$7","v":"<Not Used>"},"Actual/ Estimated",{"$f":"'Utility Info'!$D$7","v":"<Not Used>"},"Actual/ Estimated",{"$f":"'Utility Info'!$D$7","v":"<Not Used>"},"Actual/ Estimated",{"$f":"'Utility Info'!$D$7","v":"<Not Used>"},"Actual/ Estimated",{"$f":"'Utility Info'!$D$7","v":"<Not Used>"},"Actual/ Estimated",{"$f":"'Utility Info'!$D$7","v":"<Not Used>"},"Actual/ Estimated",{"$f":"'Utility Info'!$D$7","v":"<Not Used>"},"Actual/ Estimated",{"$f":"'Utility Info'!$D$7","v":"<Not Used>"},"Actual/ Estimated",{"$f":"'Utility Info'!$D$7","v":"<Not Used>"},"Actual/ Estimated",{"$f":"'Utility Info'!$D$7","v":"<Not Used>"},"Actual/ Estimated","Average Gas Consumption",null,"Average Gas Consumption","Average Gas Consumption","Average Gas Consumption","Average Gas Consumption","Average Gas Consumption","Average Gas Consumption","Average Gas Consumption","Average Gas Consumption","Average Gas Consumption","Average Gas Consumption","Total In-unit Gas Consumption"]
[]
[null,{"$f":"C11+1","v":"1900-01-01"},null,{"$f":"IF(C12>0,C12+1-B12,0)","v":0},null,null,null,null,null,null,null,null,null,null,null,null,null,null,null,null,null,null,null,null,null,null,null,null,null,null,null,null,null,null,null,null,null,null,null,null,null,null,null,null,null,{"$f":"IF(ISBLANK(F12),\"\",AVERAGE(F12:AR12))","v":""},null,null,null,null,null,null,null,null,null,null,null,null,null,null,null,null,null,null,null,null,null,null,null,null,null,null,null,null,null,null,null,null,null,null,null,null,null,null,null,null,null,{"$f":"IF(ISBLANK(AV12),\"\",AVERAGE(AV12:CH12))","v":""},null,null,null,null,null,null,null,null,null,null,null,null,null,null,null,null,null,null,null,null,null,null,null,null,null,null,null,null,null,null,null,null,null,null,null,null,null,null,null,null,null,{"$f":"IF(ISBLANK(CL12),\"\",AVERAGE(CL12:DX12))","v":""},null,null,null,null,null,null,null,null,null,null,null,null,null,null,null,null,null,null,null,null,null,null,null,null,null,null,null,null,null,null,null,null,null,null,null,null,null,null,null,null,null,{"$f":"IF(ISBLANK(EB12),\"\",AVERAGE(EB12:FN12))","v":""},null,null,null,null,null,null,null,null,null,null,null,null,null,null,null,null,null,null,null,null,null,null,null,null,null,null,null,null,null,null,null,null,null,null,null,null,null,null,null,null,null,{"$f":"IF(ISBLANK(FR12),\"\",AVERAGE(FR12:HD12))","v":""},null,null,null,null,null,null,null,null,null,null,null,null,null,null,null,null,null,null,null,null,null,null,null,null,null,null,null,null,null,null,null,null,null,null,null,null,null,null,null,null,null,{"$f":"IF(ISBLANK(HH12),\"\",AVERAGE(HH12:IT12))","v":""},null,null,null,null,null,null,null,null,null,null,null,null,null,null,null,null,null,null,null,null,null,null,null,null,null,null,null,null,null,null,null,null,null,null,null,null,null,null,null,null,null,{"$f":"IF(ISBLANK(IX12),\"\",AVERAGE(IX12:KJ12))","v":""},null,null,null,null,null,null,null,null,null,null,null,null,null,null,null,null,null,null,null,null,null,null,null,null,null,null,null,null,null,null,null,null,null,null,null,null,null,null,null,null,null,{"$f":"IF(ISBLANK(KN12),\"\",AVERAGE(KN12:LZ12))","v":""},null,null,null,null,null,null,null,null,null,null,null,null,null,null,null,null,null,null,null,null,null,null,null,null,null,null,null,null,null,null,null,null,null,null,null,null,null,null,null,null,null,{"$f":"IF(ISBLANK(MD12),\"\",AVERAGE(MD12:NP12))","v":""},null,null,null,null,null,null,null,null,null,null,null,null,null,null,null,null,null,null,null,null,null,null,null,null,null,null,null,null,null,null,null,null,null,null,null,null,null,null,null,null,null,{"$f":"IF(ISBLANK(NT12),\"\",AVERAGE(NT12:PF12))","v":""},null,{"$f":"IF(AT12=\"\",0,AT12)","v":0},{"$f":"IF(CJ12=\"\",0,CJ12)","v":0},{"$f":"IF(DZ12=\"\",0,DZ12)","v":0},{"$f":"IF(FP12=\"\",0,FP12)","v":0},{"$f":"IF(HF12=\"\",0,HF12)","v":0},{"$f":"IF(IV12=\"\",0,IV12)","v":0},{"$f":"IF(KL12=\"\",0,KL12)","v":0},{"$f":"IF(MB12=\"\",0,MB12)","v":0},{"$f":"IF(NR12=\"\",0,NR12)","v":0},{"$f":"IF(PH12=\"\",0,PH12)","v":0},{"$f":"SUMPRODUCT($PJ$8:$PS$8,PJ12:PS12)","v":0}]
[null,{"$f":"C12+1","v":"1900-01-01"},null,0,null,null,null,null,null,null,null,null,null,null,null,null,null,null,null,null,null,null,null,null,null,null,null,null,null,null,null,null,null,null,null,null,null,null,null,null,null,null,null,null,null,"",null,null,null,null,null,null,null,null,null,null,null,null,null,null,null,null,null,null,null,null,null,null,null,null,null,null,null,null,null,null,null,null,null,null,null,null,null,null,null,null,null,"",null,null,null,null,null,null,null,null,null,null,null,null,null,null,null,null,null,null,null,null,null,null,null,null,null,null,null,null,null,null,null,null,null,null,null,null,null,null,null,null,null,"",null,null,null,null,null,null,null,null,null,null,null,null,null,null,null,null,null,null,null,null,null,null,null,null,null,null,null,null,null,null,null,null,null,null,null,null,null,null,null,null,null,"",null,null,null,null,null,null,null,null,null,null,null,null,null,null,null,null,null,null,null,null,null,null,null,null,null,null,null,null,null,null,null,null,null,null,null,null,null,null,null,null,null,"",null,null,null,null,null,null,null,null,null,null,null,null,null,null,null,null,null,null,null,null,null,null,null,null,null,null,null,null,null,null,null,null,null,null,null,null,null,null,null,null,null,"",null,null,null,null,null,null,null,null,null,null,null,null,null,null,null,null,null,null,null,null,null,null,null,null,null,null,null,null,null,null,null,null,null,null,null,null,null,null,null,null,null,"",null,null,null,null,null,null,null,null,null,null,null,null,null,null,null,null,null,null,null,null,null,null,null,null,null,null,null,null,null,null,null,null,null,null,null,null,null,null,null,null,null,"",null,null,null,null,null,null,null,null,null,null,null,null,null,null,null,null,null,null,null,null,null,null,null,null,null,null,null,null,null,null,null,null,null,null,null,null,null,null,null,null,null,"",null,null,null,null,null,null,null,null,null,null,null,null,null,null,null,null,null,null,null,null,null,null,null,null,null,null,null,null,null,null,null,null,null,null,null,null,null,null,null,null,null,"",null,0,0,0,0,0,0,0,0,0,0,{"$f":"SUMPRODUCT($PJ$8:$PS$8,PJ13:PS13)","v":0}]
[null,"1900-01-01",null,0,null,null,null,null,null,null,null,null,null,null,null,null,null,null,null,null,null,null,null,null,null,null,null,null,null,null,null,null,null,null,null,null,null,null,null,null,null,null,null,null,null,"",null,null,null,null,null,null,null,null,null,null,null,null,null,null,null,null,null,null,null,null,null,null,null,null,null,null,null,null,null,null,null,null,null,null,null,null,null,null,null,null,null,"",null,null,null,null,null,null,null,null,null,null,null,null,null,null,null,null,null,null,null,null,null,null,null,null,null,null,null,null,null,null,null,null,null,null,null,null,null,null,null,null,null,"",null,null,null,null,null,null,null,null,null,null,null,null,null,null,null,null,null,null,null,null,null,null,null,null,null,null,null,null,null,null,null,null,null,null,null,null,null,null,null,null,null,"",null,null,null,null,null,null,null,null,null,null,null,null,null,null,null,null,null,null,null,null,null,null,null,null,null,null,null,null,null,null,null,null,null,null,null,null,null,null,null,null,null,"",null,null,null,null,null,null,null,null,null,null,null,null,null,null,null,null,null,null,null,null,null,null,null,null,null,null,null,null,null,null,null,null,null,null,null,null,null,null,null,null,null,"",null,null,null,null,null,null,null,null,null,null,null,null,null,null,null,null,null,null,null,null,null,null,null,null,null,null,null,null,null,null,null,null,null,null,null,null,null,null,null,null,null,"",null,null,null,null,null,null,null,null,null,null,null,null,null,null,null,null,null,null,null,null,null,null,null,null,null,null,null,null,null,null,null,null,null,null,null,null,null,null,null,null,null,"",null,null,null,null,null,null,null,null,null,null,null,null,null,null,null,null,null,null,null,null,null,null,null,null,null,null,null,null,null,null,null,null,null,null,null,null,null,null,null,null,null,"",null,null,null,null,null,null,null,null,null,null,null,null,null,null,null,null,null,null,null,null,null,null,null,null,null,null,null,null,null,null,null,null,null,null,null,null,null,null,null,null,null,"",null,0,0,0,0,0,0,0,0,0,0,0]
[null,"1900-01-01",null,0,null,null,null,null,null,null,null,null,null,null,null,null,null,null,null,null,null,null,null,null,null,null,null,null,null,null,null,null,null,null,null,null,null,null,null,null,null,null,null,null,null,"",null,null,null,null,null,null,null,null,null,null,null,null,null,null,null,null,null,null,null,null,null,null,null,null,null,null,null,null,null,null,null,null,null,null,null,null,null,null,null,null,null,"",null,null,null,null,null,null,null,null,null,null,null,null,null,null,null,null,null,null,null,null,null,null,null,null,null,null,null,null,null,null,null,null,null,null,null,null,null,null,null,null,null,"",null,null,null,null,null,null,null,null,null,null,null,null,null,null,null,null,null,null,null,null,null,null,null,null,null,null,null,null,null,null,null,null,null,null,null,null,null,null,null,null,null,"",null,null,null,null,null,null,null,null,null,null,null,null,null,null,null,null,null,null,null,null,null,null,null,null,null,null,null,null,null,null,null,null,null,null,null,null,null,null,null,null,null,"",null,null,null,null,null,null,null,null,null,null,null,null,null,null,null,null,null,null,null,null,null,null,null,null,null,null,null,null,null,null,null,null,null,null,null,null,null,null,null,null,null,"",null,null,null,null,null,null,null,null,null,null,null,null,null,null,null,null,null,null,null,null,null,null,null,null,null,null,null,null,null,null,null,null,null,null,null,null,null,null,null,null,null,"",null,null,null,null,null,null,null,null,null,null,null,null,null,null,null,null,null,null,null,null,null,null,null,null,null,null,null,null,null,null,null,null,null,null,null,null,null,null,null,null,null,"",null,null,null,null,null,null,null,null,null,null,null,null,null,null,null,null,null,null,null,null,null,null,null,null,null,null,null,null,null,null,null,null,null,null,null,null,null,null,null,null,null,"",null,null,null,null,null,null,null,null,null,null,null,null,null,null,null,null,null,null,null,null,null,null,null,null,null,null,null,null,null,null,null,null,null,null,null,null,null,null,null,null,null,"",null,0,0,0,0,0,0,0,0,0,0,0]
[null,"1900-01-01",null,0,null,null,null,null,null,null,null,null,null,null,null,null,null,null,null,null,null,null,null,null,null,null,null,null,null,null,null,null,null,null,null,null,null,null,null,null,null,null,null,null,null,"",null,null,null,null,null,null,null,null,null,null,null,null,null,null,null,null,null,null,null,null,null,null,null,null,null,null,null,null,null,null,null,null,null,null,null,null,null,null,null,null,null,"",null,null,null,null,null,null,null,null,null,null,null,null,null,null,null,null,null,null,null,null,null,null,null,null,null,null,null,null,null,null,null,null,null,null,null,null,null,null,null,null,null,"",null,null,null,null,null,null,null,null,null,null,null,null,null,null,null,null,null,null,null,null,null,null,null,null,null,null,null,null,null,null,null,null,null,null,null,null,null,null,null,null,null,"",null,null,null,null,null,null,null,null,null,null,null,null,null,null,null,null,null,null,null,null,null,null,null,null,null,null,null,null,null,null,null,null,null,null,null,null,null,null,null,null,null,"",null,null,null,null,null,null,null,null,null,null,null,null,null,null,null,null,null,null,null,null,null,null,null,null,null,null,null,null,null,null,null,null,null,null,null,null,null,null,null,null,null,"",null,null,null,null,null,null,null,null,null,null,null,null,null,null,null,null,null,null,null,null,null,null,null,null,null,null,null,null,null,null,null,null,null,null,null,null,null,null,null,null,null,"",null,null,null,null,null,null,null,null,null,null,null,null,null,null,null,null,null,null,null,null,null,null,null,null,null,null,null,null,null,null,null,null,null,null,null,null,null,null,null,null,null,"",null,null,null,null,null,null,null,null,null,null,null,null,null,null,null,null,null,null,null,null,null,null,null,null,null,null,null,null,null,null,null,null,null,null,null,null,null,null,null,null,null,"",null,null,null,null,null,null,null,null,null,null,null,null,null,null,null,null,null,null,null,null,null,null,null,null,null,null,null,null,null,null,null,null,null,null,null,null,null,null,null,null,null,"",null,0,0,0,0,0,0,0,0,0,0,0]
[null,"1900-01-01",null,0,null,null,null,null,null,null,null,null,null,null,null,null,null,null,null,null,null,null,null,null,null,null,null,null,null,null,null,null,null,null,null,null,null,null,null,null,null,null,null,null,null,"",null,null,null,null,null,null,null,null,null,null,null,null,null,null,null,null,null,null,null,null,null,null,null,null,null,null,null,null,null,null,null,null,null,null,null,null,null,null,null,null,null,"",null,null,null,null,null,null,null,null,null,null,null,null,null,null,null,null,null,null,null,null,null,null,null,null,null,null,null,null,null,null,null,null,null,null,null,null,null,null,null,null,null,"",null,null,null,null,null,null,null,null,null,null,null,null,null,null,null,null,null,null,null,null,null,null,null,null,null,null,null,null,null,null,null,null,null,null,null,null,null,null,null,null,null,"",null,null,null,null,null,null,null,null,null,null,null,null,null,null,null,null,null,null,null,null,null,null,null,null,null,null,null,null,null,null,null,null,null,null,null,null,null,null,null,null,null,"",null,null,null,null,null,null,null,null,null,null,null,null,null,null,null,null,null,null,null,null,null,null,null,null,null,null,null,null,null,null,null,null,null,null,null,null,null,null,null,null,null,"",null,null,null,null,null,null,null,null,null,null,null,null,null,null,null,null,null,null,null,null,null,null,null,null,null,null,null,null,null,null,null,null,null,null,null,null,null,null,null,null,null,"",null,null,null,null,null,null,null,null,null,null,null,null,null,null,null,null,null,null,null,null,null,null,null,null,null,null,null,null,null,null,null,null,null,null,null,null,null,null,null,null,null,"",null,null,null,null,null,null,null,null,null,null,null,null,null,null,null,null,null,null,null,null,null,null,null,null,null,null,null,null,null,null,null,null,null,null,null,null,null,null,null,null,null,"",null,null,null,null,null,null,null,null,null,null,null,null,null,null,null,null,null,null,null,null,null,null,null,null,null,null,null,null,null,null,null,null,null,null,null,null,null,null,null,null,null,"",null,0,0,0,0,0,0,0,0,0,0,0]
[null,"1900-01-01",null,0,null,null,null,null,null,null,null,null,null,null,null,null,null,null,null,null,null,null,null,null,null,null,null,null,null,null,null,null,null,null,null,null,null,null,null,null,null,null,null,null,null,"",null,null,null,null,null,null,null,null,null,null,null,null,null,null,null,null,null,null,null,null,null,null,null,null,null,null,null,null,null,null,null,null,null,null,null,null,null,null,null,null,null,"",null,null,null,null,null,null,null,null,null,null,null,null,null,null,null,null,null,null,null,null,null,null,null,null,null,null,null,null,null,null,null,null,null,null,null,null,null,null,null,null,null,"",null,null,null,null,null,null,null,null,null,null,null,null,null,null,null,null,null,null,null,null,null,null,null,null,null,null,null,null,null,null,null,null,null,null,null,null,null,null,null,null,null,"",null,null,null,null,null,null,null,null,null,null,null,null,null,null,null,null,null,null,null,null,null,null,null,null,null,null,null,null,null,null,null,null,null,null,null,null,null,null,null,null,null,"",null,null,null,null,null,null,null,null,null,null,null,null,null,null,null,null,null,null,null,null,null,null,null,null,null,null,null,null,null,null,null,null,null,null,null,null,null,null,null,null,null,"",null,null,null,null,null,null,null,null,null,null,null,null,null,null,null,null,null,null,null,null,null,null,null,null,null,null,null,null,null,null,null,null,null,null,null,null,null,null,null,null,null,"",null,null,null,null,null,null,null,null,null,null,null,null,null,null,null,null,null,null,null,null,null,null,null,null,null,null,null,null,null,null,null,null,null,null,null,null,null,null,null,null,null,"",null,null,null,null,null,null,null,null,null,null,null,null,null,null,null,null,null,null,null,null,null,null,null,null,null,null,null,null,null,null,null,null,null,null,null,null,null,null,null,null,null,"",null,null,null,null,null,null,null,null,null,null,null,null,null,null,null,null,null,null,null,null,null,null,null,null,null,null,null,null,null,null,null,null,null,null,null,null,null,null,null,null,null,"",null,0,0,0,0,0,0,0,0,0,0,0]
[null,"1900-01-01",null,0,null,null,null,null,null,null,null,null,null,null,null,null,null,null,null,null,null,null,null,null,null,null,null,null,null,null,null,null,null,null,null,null,null,null,null,null,null,null,null,null,null,"",null,null,null,null,null,null,null,null,null,null,null,null,null,null,null,null,null,null,null,null,null,null,null,null,null,null,null,null,null,null,null,null,null,null,null,null,null,null,null,null,null,"",null,null,null,null,null,null,null,null,null,null,null,null,null,null,null,null,null,null,null,null,null,null,null,null,null,null,null,null,null,null,null,null,null,null,null,null,null,null,null,null,null,"",null,null,null,null,null,null,null,null,null,null,null,null,null,null,null,null,null,null,null,null,null,null,null,null,null,null,null,null,null,null,null,null,null,null,null,null,null,null,null,null,null,"",null,null,null,null,null,null,null,null,null,null,null,null,null,null,null,null,null,null,null,null,null,null,null,null,null,null,null,null,null,null,null,null,null,null,null,null,null,null,null,null,null,"",null,null,null,null,null,null,null,null,null,null,null,null,null,null,null,null,null,null,null,null,null,null,null,null,null,null,null,null,null,null,null,null,null,null,null,null,null,null,null,null,null,"",null,null,null,null,null,null,null,null,null,null,null,null,null,null,null,null,null,null,null,null,null,null,null,null,null,null,null,null,null,null,null,null,null,null,null,null,null,null,null,null,null,"",null,null,null,null,null,null,null,null,null,null,null,null,null,null,null,null,null,null,null,null,null,null,null,null,null,null,null,null,null,null,null,null,null,null,null,null,null,null,null,null,null,"",null,null,null,null,null,null,null,null,null,null,null,null,null,null,null,null,null,null,null,null,null,null,null,null,null,null,null,null,null,null,null,null,null,null,null,null,null,null,null,null,null,"",null,null,null,null,null,null,null,null,null,null,null,null,null,null,null,null,null,null,null,null,null,null,null,null,null,null,null,null,null,null,null,null,null,null,null,null,null,null,null,null,null,"",null,0,0,0,0,0,0,0,0,0,0,0]
[null,"1900-01-01",null,0,null,null,null,null,null,null,null,null,null,null,null,null,null,null,null,null,null,null,null,null,null,null,null,null,null,null,null,null,null,null,null,null,null,null,null,null,null,null,null,null,null,"",null,null,null,null,null,null,null,null,null,null,null,null,null,null,null,null,null,null,null,null,null,null,null,null,null,null,null,null,null,null,null,null,null,null,null,null,null,null,null,null,null,"",null,null,null,null,null,null,null,null,null,null,null,null,null,null,null,null,null,null,null,null,null,null,null,null,null,null,null,null,null,null,null,null,null,null,null,null,null,null,null,null,null,"",null,null,null,null,null,null,null,null,null,null,null,null,null,null,null,null,null,null,null,null,null,null,null,null,null,null,null,null,null,null,null,null,null,null,null,null,null,null,null,null,null,"",null,null,null,null,null,null,null,null,null,null,null,null,null,null,null,null,null,null,null,null,null,null,null,null,null,null,null,null,null,null,null,null,null,null,null,null,null,null,null,null,null,"",null,null,null,null,null,null,null,null,null,null,null,null,null,null,null,null,null,null,null,null,null,null,null,null,null,null,null,null,null,null,null,null,null,null,null,null,null,null,null,null,null,"",null,null,null,null,null,null,null,null,null,null,null,null,null,null,null,null,null,null,null,null,null,null,null,null,null,null,null,null,null,null,null,null,null,null,null,null,null,null,null,null,null,"",null,null,null,null,null,null,null,null,null,null,null,null,null,null,null,null,null,null,null,null,null,null,null,null,null,null,null,null,null,null,null,null,null,null,null,null,null,null,null,null,null,"",null,null,null,null,null,null,null,null,null,null,null,null,null,null,null,null,null,null,null,null,null,null,null,null,null,null,null,null,null,null,null,null,null,null,null,null,null,null,null,null,null,"",null,null,null,null,null,null,null,null,null,null,null,null,null,null,null,null,null,null,null,null,null,null,null,null,null,null,null,null,null,null,null,null,null,null,null,null,null,null,null,null,null,"",null,0,0,0,0,0,0,0,0,0,0,0]
[null,"1900-01-01",null,0,null,null,null,null,null,null,null,null,null,null,null,null,null,null,null,null,null,null,null,null,null,null,null,null,null,null,null,null,null,null,null,null,null,null,null,null,null,null,null,null,null,"",null,null,null,null,null,null,null,null,null,null,null,null,null,null,null,null,null,null,null,null,null,null,null,null,null,null,null,null,null,null,null,null,null,null,null,null,null,null,null,null,null,"",null,null,null,null,null,null,null,null,null,null,null,null,null,null,null,null,null,null,null,null,null,null,null,null,null,null,null,null,null,null,null,null,null,null,null,null,null,null,null,null,null,"",null,null,null,null,null,null,null,null,null,null,null,null,null,null,null,null,null,null,null,null,null,null,null,null,null,null,null,null,null,null,null,null,null,null,null,null,null,null,null,null,null,"",null,null,null,null,null,null,null,null,null,null,null,null,null,null,null,null,null,null,null,null,null,null,null,null,null,null,null,null,null,null,null,null,null,null,null,null,null,null,null,null,null,"",null,null,null,null,null,null,null,null,null,null,null,null,null,null,null,null,null,null,null,null,null,null,null,null,null,null,null,null,null,null,null,null,null,null,null,null,null,null,null,null,null,"",null,null,null,null,null,null,null,null,null,null,null,null,null,null,null,null,null,null,null,null,null,null,null,null,null,null,null,null,null,null,null,null,null,null,null,null,null,null,null,null,null,"",null,null,null,null,null,null,null,null,null,null,null,null,null,null,null,null,null,null,null,null,null,null,null,null,null,null,null,null,null,null,null,null,null,null,null,null,null,null,null,null,null,"",null,null,null,null,null,null,null,null,null,null,null,null,null,null,null,null,null,null,null,null,null,null,null,null,null,null,null,null,null,null,null,null,null,null,null,null,null,null,null,null,null,"",null,null,null,null,null,null,null,null,null,null,null,null,null,null,null,null,null,null,null,null,null,null,null,null,null,null,null,null,null,null,null,null,null,null,null,null,null,null,null,null,null,"",null,0,0,0,0,0,0,0,0,0,0,0]
[null,"1900-01-01",null,0,null,null,null,null,null,null,null,null,null,null,null,null,null,null,null,null,null,null,null,null,null,null,null,null,null,null,null,null,null,null,null,null,null,null,null,null,null,null,null,null,null,"",null,null,null,null,null,null,null,null,null,null,null,null,null,null,null,null,null,null,null,null,null,null,null,null,null,null,null,null,null,null,null,null,null,null,null,null,null,null,null,null,null,"",null,null,null,null,null,null,null,null,null,null,null,null,null,null,null,null,null,null,null,null,null,null,null,null,null,null,null,null,null,null,null,null,null,null,null,null,null,null,null,null,null,"",null,null,null,null,null,null,null,null,null,null,null,null,null,null,null,null,null,null,null,null,null,null,null,null,null,null,null,null,null,null,null,null,null,null,null,null,null,null,null,null,null,"",null,null,null,null,null,null,null,null,null,null,null,null,null,null,null,null,null,null,null,null,null,null,null,null,null,null,null,null,null,null,null,null,null,null,null,null,null,null,null,null,null,"",null,null,null,null,null,null,null,null,null,null,null,null,null,null,null,null,null,null,null,null,null,null,null,null,null,null,null,null,null,null,null,null,null,null,null,null,null,null,null,null,null,"",null,null,null,null,null,null,null,null,null,null,null,null,null,null,null,null,null,null,null,null,null,null,null,null,null,null,null,null,null,null,null,null,null,null,null,null,null,null,null,null,null,"",null,null,null,null,null,null,null,null,null,null,null,null,null,null,null,null,null,null,null,null,null,null,null,null,null,null,null,null,null,null,null,null,null,null,null,null,null,null,null,null,null,"",null,null,null,null,null,null,null,null,null,null,null,null,null,null,null,null,null,null,null,null,null,null,null,null,null,null,null,null,null,null,null,null,null,null,null,null,null,null,null,null,null,"",null,null,null,null,null,null,null,null,null,null,null,null,null,null,null,null,null,null,null,null,null,null,null,null,null,null,null,null,null,null,null,null,null,null,null,null,null,null,null,null,null,"",null,0,0,0,0,0,0,0,0,0,0,0]
[null,"1900-01-01",null,0,null,null,null,null,null,null,null,null,null,null,null,null,null,null,null,null,null,null,null,null,null,null,null,null,null,null,null,null,null,null,null,null,null,null,null,null,null,null,null,null,null,"",null,null,null,null,null,null,null,null,null,null,null,null,null,null,null,null,null,null,null,null,null,null,null,null,null,null,null,null,null,null,null,null,null,null,null,null,null,null,null,null,null,"",null,null,null,null,null,null,null,null,null,null,null,null,null,null,null,null,null,null,null,null,null,null,null,null,null,null,null,null,null,null,null,null,null,null,null,null,null,null,null,null,null,"",null,null,null,null,null,null,null,null,null,null,null,null,null,null,null,null,null,null,null,null,null,null,null,null,null,null,null,null,null,null,null,null,null,null,null,null,null,null,null,null,null,"",null,null,null,null,null,null,null,null,null,null,null,null,null,null,null,null,null,null,null,null,null,null,null,null,null,null,null,null,null,null,null,null,null,null,null,null,null,null,null,null,null,"",null,null,null,null,null,null,null,null,null,null,null,null,null,null,null,null,null,null,null,null,null,null,null,null,null,null,null,null,null,null,null,null,null,null,null,null,null,null,null,null,null,"",null,null,null,null,null,null,null,null,null,null,null,null,null,null,null,null,null,null,null,null,null,null,null,null,null,null,null,null,null,null,null,null,null,null,null,null,null,null,null,null,null,"",null,null,null,null,null,null,null,null,null,null,null,null,null,null,null,null,null,null,null,null,null,null,null,null,null,null,null,null,null,null,null,null,null,null,null,null,null,null,null,null,null,"",null,null,null,null,null,null,null,null,null,null,null,null,null,null,null,null,null,null,null,null,null,null,null,null,null,null,null,null,null,null,null,null,null,null,null,null,null,null,null,null,null,"",null,null,null,null,null,null,null,null,null,null,null,null,null,null,null,null,null,null,null,null,null,null,null,null,null,null,null,null,null,null,null,null,null,null,null,null,null,null,null,null,null,"",null,0,0,0,0,0,0,0,0,0,0,0]
[null,"1900-01-01",null,0,null,null,null,null,null,null,null,null,null,null,null,null,null,null,null,null,null,null,null,null,null,null,null,null,null,null,null,null,null,null,null,null,null,null,null,null,null,null,null,null,null,"",null,null,null,null,null,null,null,null,null,null,null,null,null,null,null,null,null,null,null,null,null,null,null,null,null,null,null,null,null,null,null,null,null,null,null,null,null,null,null,null,null,"",null,null,null,null,null,null,null,null,null,null,null,null,null,null,null,null,null,null,null,null,null,null,null,null,null,null,null,null,null,null,null,null,null,null,null,null,null,null,null,null,null,"",null,null,null,null,null,null,null,null,null,null,null,null,null,null,null,null,null,null,null,null,null,null,null,null,null,null,null,null,null,null,null,null,null,null,null,null,null,null,null,null,null,"",null,null,null,null,null,null,null,null,null,null,null,null,null,null,null,null,null,null,null,null,null,null,null,null,null,null,null,null,null,null,null,null,null,null,null,null,null,null,null,null,null,"",null,null,null,null,null,null,null,null,null,null,null,null,null,null,null,null,null,null,null,null,null,null,null,null,null,null,null,null,null,null,null,null,null,null,null,null,null,null,null,null,null,"",null,null,null,null,null,null,null,null,null,null,null,null,null,null,null,null,null,null,null,null,null,null,null,null,null,null,null,null,null,null,null,null,null,null,null,null,null,null,null,null,null,"",null,null,null,null,null,null,null,null,null,null,null,null,null,null,null,null,null,null,null,null,null,null,null,null,null,null,null,null,null,null,null,null,null,null,null,null,null,null,null,null,null,"",null,null,null,null,null,null,null,null,null,null,null,null,null,null,null,null,null,null,null,null,null,null,null,null,null,null,null,null,null,null,null,null,null,null,null,null,null,null,null,null,null,"",null,null,null,null,null,null,null,null,null,null,null,null,null,null,null,null,null,null,null,null,null,null,null,null,null,null,null,null,null,null,null,null,null,null,null,null,null,null,null,null,null,"",null,0,0,0,0,0,0,0,0,0,0,0]
[null,"1900-01-01",null,0,null,null,null,null,null,null,null,null,null,null,null,null,null,null,null,null,null,null,null,null,null,null,null,null,null,null,null,null,null,null,null,null,null,null,null,null,null,null,null,null,null,"",null,null,null,null,null,null,null,null,null,null,null,null,null,null,null,null,null,null,null,null,null,null,null,null,null,null,null,null,null,null,null,null,null,null,null,null,null,null,null,null,null,"",null,null,null,null,null,null,null,null,null,null,null,null,null,null,null,null,null,null,null,null,null,null,null,null,null,null,null,null,null,null,null,null,null,null,null,null,null,null,null,null,null,"",null,null,null,null,null,null,null,null,null,null,null,null,null,null,null,null,null,null,null,null,null,null,null,null,null,null,null,null,null,null,null,null,null,null,null,null,null,null,null,null,null,"",null,null,null,null,null,null,null,null,null,null,null,null,null,null,null,null,null,null,null,null,null,null,null,null,null,null,null,null,null,null,null,null,null,null,null,null,null,null,null,null,null,"",null,null,null,null,null,null,null,null,null,null,null,null,null,null,null,null,null,null,null,null,null,null,null,null,null,null,null,null,null,null,null,null,null,null,null,null,null,null,null,null,null,"",null,null,null,null,null,null,null,null,null,null,null,null,null,null,null,null,null,null,null,null,null,null,null,null,null,null,null,null,null,null,null,null,null,null,null,null,null,null,null,null,null,"",null,null,null,null,null,null,null,null,null,null,null,null,null,null,null,null,null,null,null,null,null,null,null,null,null,null,null,null,null,null,null,null,null,null,null,null,null,null,null,null,null,"",null,null,null,null,null,null,null,null,null,null,null,null,null,null,null,null,null,null,null,null,null,null,null,null,null,null,null,null,null,null,null,null,null,null,null,null,null,null,null,null,null,"",null,null,null,null,null,null,null,null,null,null,null,null,null,null,null,null,null,null,null,null,null,null,null,null,null,null,null,null,null,null,null,null,null,null,null,null,null,null,null,null,null,"",null,0,0,0,0,0,0,0,0,0,0,0]
[null,"1900-01-01",null,0,null,null,null,null,null,null,null,null,null,null,null,null,null,null,null,null,null,null,null,null,null,null,null,null,null,null,null,null,null,null,null,null,null,null,null,null,null,null,null,null,null,"",null,null,null,null,null,null,null,null,null,null,null,null,null,null,null,null,null,null,null,null,null,null,null,null,null,null,null,null,null,null,null,null,null,null,null,null,null,null,null,null,null,"",null,null,null,null,null,null,null,null,null,null,null,null,null,null,null,null,null,null,null,null,null,null,null,null,null,null,null,null,null,null,null,null,null,null,null,null,null,null,null,null,null,"",null,null,null,null,null,null,null,null,null,null,null,null,null,null,null,null,null,null,null,null,null,null,null,null,null,null,null,null,null,null,null,null,null,null,null,null,null,null,null,null,null,"",null,null,null,null,null,null,null,null,null,null,null,null,null,null,null,null,null,null,null,null,null,null,null,null,null,null,null,null,null,null,null,null,null,null,null,null,null,null,null,null,null,"",null,null,null,null,null,null,null,null,null,null,null,null,null,null,null,null,null,null,null,null,null,null,null,null,null,null,null,null,null,null,null,null,null,null,null,null,null,null,null,null,null,"",null,null,null,null,null,null,null,null,null,null,null,null,null,null,null,null,null,null,null,null,null,null,null,null,null,null,null,null,null,null,null,null,null,null,null,null,null,null,null,null,null,"",null,null,null,null,null,null,null,null,null,null,null,null,null,null,null,null,null,null,null,null,null,null,null,null,null,null,null,null,null,null,null,null,null,null,null,null,null,null,null,null,null,"",null,null,null,null,null,null,null,null,null,null,null,null,null,null,null,null,null,null,null,null,null,null,null,null,null,null,null,null,null,null,null,null,null,null,null,null,null,null,null,null,null,"",null,null,null,null,null,null,null,null,null,null,null,null,null,null,null,null,null,null,null,null,null,null,null,null,null,null,null,null,null,null,null,null,null,null,null,null,null,null,null,null,null,"",null,0,0,0,0,0,0,0,0,0,0,0]
[null,null,{"$f":"IF(ABS(D27-365)>4,\"Must have 365 ± 4 days.\",\"\")","v":"Must have 365 ± 4 days."},{"$f":"SUM(D12:D26)","v":0},null,{"$f":"SUM(F12:F26)","v":0},null,{"$f":"SUM(H12:H26)","v":0},null,{"$f":"SUM(J12:J26)","v":0},null,{"$f":"SUM(L12:L26)","v":0},null,{"$f":"SUM(N12:N26)","v":0},null,{"$f":"SUM(P12:P26)","v":0},null,{"$f":"SUM(R12:R26)","v":0},null,{"$f":"SUM(T12:T26)","v":0},null,{"$f":"SUM(V12:V26)","v":0},null,{"$f":"SUM(X12:X26)","v":0},null,{"$f":"SUM(Z12:Z26)","v":0},null,{"$f":"SUM(AB12:AB26)","v":0},null,{"$f":"SUM(AD12:AD26)","v":0},null,{"$f":"SUM(AF12:AF26)","v":0},null,{"$f":"SUM(AH12:AH26)","v":0},null,{"$f":"SUM(AJ12:AJ26)","v":0},null,{"$f":"SUM(AL12:AL26)","v":0},null,{"$f":"SUM(AN12:AN26)","v":0},null,{"$f":"SUM(AP12:AP26)","v":0},null,{"$f":"SUM(AR12:AR26)","v":0},null,{"$f":"SUM(AT12:AT26)","v":0},null,{"$f":"SUM(AV12:AV26)","v":0},null,{"$f":"SUM(AX12:AX26)","v":0},null,{"$f":"SUM(AZ12:AZ26)","v":0},null,{"$f":"SUM(BB12:BB26)","v":0},null,{"$f":"SUM(BD12:BD26)","v":0},null,{"$f":"SUM(BF12:BF26)","v":0},null,{"$f":"SUM(BH12:BH26)","v":0},null,{"$f":"SUM(BJ12:BJ26)","v":0},null,{"$f":"SUM(BL12:BL26)","v":0},null,{"$f":"SUM(BN12:BN26)","v":0},null,{"$f":"SUM(BP12:BP26)","v":0},null,{"$f":"SUM(BR12:BR26)","v":0},null,{"$f":"SUM(BT12:BT26)","v":0},null,{"$f":"SUM(BV12:BV26)","v":0},null,{"$f":"SUM(BX12:BX26)","v":0},null,{"$f":"SUM(BZ12:BZ26)","v":0},null,{"$f":"SUM(CB12:CB26)","v":0},null,{"$f":"SUM(CD12:CD26)","v":0},null,{"$f":"SUM(CF12:CF26)","v":0},null,{"$f":"SUM(CH12:CH26)","v":0},null,{"$f":"SUM(CJ12:CJ26)","v":0},null,{"$f":"SUM(CL12:CL26)","v":0},null,{"$f":"SUM(CN12:CN26)","v":0},null,{"$f":"SUM(CP12:CP26)","v":0},null,{"$f":"SUM(CR12:CR26)","v":0},null,{"$f":"SUM(CT12:CT26)","v":0},null,{"$f":"SUM(CV12:CV26)","v":0},null,{"$f":"SUM(CX12:CX26)","v":0},null,{"$f":"SUM(CZ12:CZ26)","v":0},null,{"$f":"SUM(DB12:DB26)","v":0},null,{"$f":"SUM(DD12:DD26)","v":0},null,{"$f":"SUM(DF12:DF26)","v":0},null,{"$f":"SUM(DH12:DH26)","v":0},null,{"$f":"SUM(DJ12:DJ26)","v":0},null,{"$f":"SUM(DL12:DL26)","v":0},null,{"$f":"SUM(DN12:DN26)","v":0},null,{"$f":"SUM(DP12:DP26)","v":0},null,{"$f":"SUM(DR12:DR26)","v":0},null,{"$f":"SUM(DT12:DT26)","v":0},null,{"$f":"SUM(DV12:DV26)","v":0},null,{"$f":"SUM(DX12:DX26)","v":0},null,{"$f":"SUM(DZ12:DZ26)","v":0},null,{"$f":"SUM(EB12:EB26)","v":0},null,{"$f":"SUM(ED12:ED26)","v":0},null,{"$f":"SUM(EF12:EF26)","v":0},null,{"$f":"SUM(EH12:EH26)","v":0},null,{"$f":"SUM(EJ12:EJ26)","v":0},null,{"$f":"SUM(EL12:EL26)","v":0},null,{"$f":"SUM(EN12:EN26)","v":0},null,{"$f":"SUM(EP12:EP26)","v":0},null,{"$f":"SUM(ER12:ER26)","v":0},null,{"$f":"SUM(ET12:ET26)","v":0},null,{"$f":"SUM(EV12:EV26)","v":0},null,{"$f":"SUM(EX12:EX26)","v":0},null,{"$f":"SUM(EZ12:EZ26)","v":0},null,{"$f":"SUM(FB12:FB26)","v":0},null,{"$f":"SUM(FD12:FD26)","v":0},null,{"$f":"SUM(FF12:FF26)","v":0},null,{"$f":"SUM(FH12:FH26)","v":0},null,{"$f":"SUM(FJ12:FJ26)","v":0},null,{"$f":"SUM(FL12:FL26)","v":0},null,{"$f":"SUM(FN12:FN26)","v":0},null,{"$f":"SUM(FP12:FP26)","v":0},null,{"$f":"SUM(FR12:FR26)","v":0},null,{"$f":"SUM(FT12:FT26)","v":0},null,{"$f":"SUM(FV12:FV26)","v":0},null,{"$f":"SUM(FX12:FX26)","v":0},null,{"$f":"SUM(FZ12:FZ26)","v":0},null,{"$f":"SUM(GB12:GB26)","v":0},null,{"$f":"SUM(GD12:GD26)","v":0},null,{"$f":"SUM(GF12:GF26)","v":0},null,{"$f":"SUM(GH12:GH26)","v":0},null,{"$f":"SUM(GJ12:GJ26)","v":0},null,{"$f":"SUM(GL12:GL26)","v":0},null,{"$f":"SUM(GN12:GN26)","v":0},null,{"$f":"SUM(GP12:GP26)","v":0},null,{"$f":"SUM(GR12:GR26)","v":0},null,{"$f":"SUM(GT12:GT26)","v":0},null,{"$f":"SUM(GV12:GV26)","v":0},null,{"$f":"SUM(GX12:GX26)","v":0},null,{"$f":"SUM(GZ12:GZ26)","v":0},null,{"$f":"SUM(HB12:HB26)","v":0},null,{"$f":"SUM(HD12:HD26)","v":0},null,{"$f":"SUM(HF12:HF26)","v":0},null,{"$f":"SUM(HH12:HH26)","v":0},null,{"$f":"SUM(HJ12:HJ26)","v":0},null,{"$f":"SUM(HL12:HL26)","v":0},null,{"$f":"SUM(HN12:HN26)","v":0},null,{"$f":"SUM(HP12:HP26)","v":0},null,{"$f":"SUM(HR12:HR26)","v":0},null,{"$f":"SUM(HT12:HT26)","v":0},null,{"$f":"SUM(HV12:HV26)","v":0},null,{"$f":"SUM(HX12:HX26)","v":0},null,{"$f":"SUM(HZ12:HZ26)","v":0},null,{"$f":"SUM(IB12:IB26)","v":0},null,{"$f":"SUM(ID12:ID26)","v":0},null,{"$f":"SUM(IF12:IF26)","v":0},null,{"$f":"SUM(IH12:IH26)","v":0},null,{"$f":"SUM(IJ12:IJ26)","v":0},null,{"$f":"SUM(IL12:IL26)","v":0},null,{"$f":"SUM(IN12:IN26)","v":0},null,{"$f":"SUM(IP12:IP26)","v":0},null,{"$f":"SUM(IR12:IR26)","v":0},null,{"$f":"SUM(IT12:IT26)","v":0},null,{"$f":"SUM(IV12:IV26)","v":0},null,{"$f":"SUM(IX12:IX26)","v":0},null,{"$f":"SUM(IZ12:IZ26)","v":0},null,{"$f":"SUM(JB12:JB26)","v":0},null,{"$f":"SUM(JD12:JD26)","v":0},null,{"$f":"SUM(JF12:JF26)","v":0},null,{"$f":"SUM(JH12:JH26)","v":0},null,{"$f":"SUM(JJ12:JJ26)","v":0},null,{"$f":"SUM(JL12:JL26)","v":0},null,{"$f":"SUM(JN12:JN26)","v":0},null,{"$f":"SUM(JP12:JP26)","v":0},null,{"$f":"SUM(JR12:JR26)","v":0},null,{"$f":"SUM(JT12:JT26)","v":0},null,{"$f":"SUM(JV12:JV26)","v":0},null,{"$f":"SUM(JX12:JX26)","v":0},null,{"$f":"SUM(JZ12:JZ26)","v":0},null,{"$f":"SUM(KB12:KB26)","v":0},null,{"$f":"SUM(KD12:KD26)","v":0},null,{"$f":"SUM(KF12:KF26)","v":0},null,{"$f":"SUM(KH12:KH26)","v":0},null,{"$f":"SUM(KJ12:KJ26)","v":0},null,{"$f":"SUM(KL12:KL26)","v":0},null,{"$f":"SUM(KN12:KN26)","v":0},null,{"$f":"SUM(KP12:KP26)","v":0},null,{"$f":"SUM(KR12:KR26)","v":0},null,{"$f":"SUM(KT12:KT26)","v":0},null,{"$f":"SUM(KV12:KV26)","v":0},null,{"$f":"SUM(KX12:KX26)","v":0},null,{"$f":"SUM(KZ12:KZ26)","v":0},null,{"$f":"SUM(LB12:LB26)","v":0},null,{"$f":"SUM(LD12:LD26)","v":0},null,{"$f":"SUM(LF12:LF26)","v":0},null,{"$f":"SUM(LH12:LH26)","v":0},null,{"$f":"SUM(LJ12:LJ26)","v":0},null,{"$f":"SUM(LL12:LL26)","v":0},null,{"$f":"SUM(LN12:LN26)","v":0},null,{"$f":"SUM(LP12:LP26)","v":0},null,{"$f":"SUM(LR12:LR26)","v":0},null,{"$f":"SUM(LT12:LT26)","v":0},null,{"$f":"SUM(LV12:LV26)","v":0},null,{"$f":"SUM(LX12:LX26)","v":0},null,{"$f":"SUM(LZ12:LZ26)","v":0},null,{"$f":"SUM(MB12:MB26)","v":0},null,{"$f":"SUM(MD12:MD26)","v":0},null,{"$f":"SUM(MF12:MF26)","v":0},null,{"$f":"SUM(MH12:MH26)","v":0},null,{"$f":"SUM(MJ12:MJ26)","v":0},null,{"$f":"SUM(ML12:ML26)","v":0},null,{"$f":"SUM(MN12:MN26)","v":0},null,{"$f":"SUM(MP12:MP26)","v":0},null,{"$f":"SUM(MR12:MR26)","v":0},null,{"$f":"SUM(MT12:MT26)","v":0},null,{"$f":"SUM(MV12:MV26)","v":0},null,{"$f":"SUM(MX12:MX26)","v":0},null,{"$f":"SUM(MZ12:MZ26)","v":0},null,{"$f":"SUM(NB12:NB26)","v":0},null,{"$f":"SUM(ND12:ND26)","v":0},null,{"$f":"SUM(NF12:NF26)","v":0},null,{"$f":"SUM(NH12:NH26)","v":0},null,{"$f":"SUM(NJ12:NJ26)","v":0},null,{"$f":"SUM(NL12:NL26)","v":0},null,{"$f":"SUM(NN12:NN26)","v":0},null,{"$f":"SUM(NP12:NP26)","v":0},null,{"$f":"SUM(NR12:NR26)","v":0},null,{"$f":"SUM(NT12:NT26)","v":0},null,{"$f":"SUM(NV12:NV26)","v":0},null,{"$f":"SUM(NX12:NX26)","v":0},null,{"$f":"SUM(NZ12:NZ26)","v":0},null,{"$f":"SUM(OB12:OB26)","v":0},null,{"$f":"SUM(OD12:OD26)","v":0},null,{"$f":"SUM(OF12:OF26)","v":0},null,{"$f":"SUM(OH12:OH26)","v":0},null,{"$f":"SUM(OJ12:OJ26)","v":0},null,{"$f":"SUM(OL12:OL26)","v":0},null,{"$f":"SUM(ON12:ON26)","v":0},null,{"$f":"SUM(OP12:OP26)","v":0},null,{"$f":"SUM(OR12:OR26)","v":0},null,{"$f":"SUM(OT12:OT26)","v":0},null,{"$f":"SUM(OV12:OV26)","v":0},null,{"$f":"SUM(OX12:OX26)","v":0},null,{"$f":"SUM(OZ12:OZ26)","v":0},null,{"$f":"SUM(PB12:PB26)","v":0},null,{"$f":"SUM(PD12:PD26)","v":0},null,{"$f":"SUM(PF12:PF26)","v":0},null,{"$f":"SUM(PH12:PH26)","v":0},null,{"$f":"SUM(PJ12:PJ26)","v":0},0,0,0,0,0,0,0,0,0,0]
[]
[null,null,null,null,null,"Total Annual Gas Cost",null,"Total Annual Gas Cost",null,"Total Annual Gas Cost",null,"Total Annual Gas Cost",null,"Total Annual Gas Cost",null,"Total Annual Gas Cost",null,"Total Annual Gas Cost",null,"Total Annual Gas Cost",null,"Total Annual Gas Cost",null,"Total Annual Gas Cost",null,"Total Annual Gas Cost",null,"Total Annual Gas Cost",null,"Total Annual Gas Cost",null,"Total Annual Gas Cost",null,"Total Annual Gas Cost",null,"Total Annual Gas Cost",null,"Total Annual Gas Cost",null,"Total Annual Gas Cost",null,"Total Annual Gas Cost",null,"Total Annual Gas Cost",null,"Average Annual Gas  Cost",null,"Total Annual Gas Cost",null,"Total Annual Gas Cost",null,"Total Annual Gas Cost",null,"Total Annual Gas Cost",null,"Total Annual Gas Cost",null,"Total Annual Gas Cost",null,"Total Annual Gas Cost",null,"Total Annual Gas Cost",null,"Total Annual Gas Cost",null,"Total Annual Gas Cost",null,"Total Annual Gas Cost",null,"Total Annual Gas Cost",null,"Total Annual Gas Cost",null,"Total Annual Gas Cost",null,"Total Annual Gas Cost",null,"Total Annual Gas Cost",null,"Total Annual Gas Cost",null,"Total Annual Gas Cost",null,"Total Annual Gas Cost",null,"Total Annual Gas Cost",null,"Average Annual Gas  Cost",null,"Total Annual Gas Cost",null,"Total Annual Gas Cost",null,"Total Annual Gas Cost",null,"Total Annual Gas Cost",null,"Total Annual Gas Cost",null,"Total Annual Gas Cost",null,"Total Annual Gas Cost",null,"Total Annual Gas Cost",null,"Total Annual Gas Cost",null,"Total Annual Gas Cost",null,"Total Annual Gas Cost",null,"Total Annual Gas Cost",null,"Total Annual Gas Cost",null,"Total Annual Gas Cost",null,"Total Annual Gas Cost",null,"Total Annual Gas Cost",null,"Total Annual Gas Cost",null,"Total Annual Gas Cost",null,"Total Annual Gas Cost",null,"Total Annual Gas Cost",null,"Average Annual Gas  Cost",null,"Total Annual Gas Cost",null,"Total Annual Gas Cost",null,"Total Annual Gas Cost",null,"Total Annual Gas Cost",null,"Total Annual Gas Cost",null,"Total Annual Gas Cost",null,"Total Annual Gas Cost",null,"Total Annual Gas Cost",null,"Total Annual Gas Cost",null,"Total Annual Gas Cost",null,"Total Annual Gas Cost",null,"Total Annual Gas Cost",null,"Total Annual Gas Cost",null,"Total Annual Gas Cost",null,"Total Annual Gas Cost",null,"Total Annual Gas Cost",null,"Total Annual Gas Cost",null,"Total Annual Gas Cost",null,"Total Annual Gas Cost",null,"Total Annual Gas Cost",null,"Average Annual Gas  Cost",null,"Total Annual Gas Cost",null,"Total Annual Gas Cost",null,"Total Annual Gas Cost",null,"Total Annual Gas Cost",null,"Total Annual Gas Cost",null,"Total Annual Gas Cost",null,"Total Annual Gas Cost",null,"Total Annual Gas Cost",null,"Total Annual Gas Cost",null,"Total Annual Gas Cost",null,"Total Annual Gas Cost",null,"Total Annual Gas Cost",null,"Total Annual Gas Cost",null,"Total Annual Gas Cost",null,"Total Annual Gas Cost",null,"Total Annual Gas Cost",null,"Total Annual Gas Cost",null,"Total Annual Gas Cost",null,"Total Annual Gas Cost",null,"Total Annual Gas Cost",null,"Average Annual Gas  Cost",null,"Total Annual Gas Cost",null,"Total Annual Gas Cost",null,"Total Annual Gas Cost",null,"Total Annual Gas Cost",null,"Total Annual Gas Cost",null,"Total Annual Gas Cost",null,"Total Annual Gas Cost",null,"Total Annual Gas Cost",null,"Total Annual Gas Cost",null,"Total Annual Gas Cost",null,"Total Annual Gas Cost",null,"Total Annual Gas Cost",null,"Total Annual Gas Cost",null,"Total Annual Gas Cost",null,"Total Annual Gas Cost",null,"Total Annual Gas Cost",null,"Total Annual Gas Cost",null,"Total Annual Gas Cost",null,"Total Annual Gas Cost",null,"Total Annual Gas Cost",null,"Average Annual Gas  Cost",null,"Total Annual Gas Cost",null,"Total Annual Gas Cost",null,"Total Annual Gas Cost",null,"Total Annual Gas Cost",null,"Total Annual Gas Cost",null,"Total Annual Gas Cost",null,"Total Annual Gas Cost",null,"Total Annual Gas Cost",null,"Total Annual Gas Cost",null,"Total Annual Gas Cost",null,"Total Annual Gas Cost",null,"Total Annual Gas Cost",null,"Total Annual Gas Cost",null,"Total Annual Gas Cost",null,"Total Annual Gas Cost",null,"Total Annual Gas Cost",null,"Total Annual Gas Cost",null,"Total Annual Gas Cost",null,"Total Annual Gas Cost",null,"Total Annual Gas Cost",null,"Average Annual Gas  Cost",null,"Total Annual Gas Cost",null,"Total Annual Gas Cost",null,"Total Annual Gas Cost",null,"Total Annual Gas Cost",null,"Total Annual Gas Cost",null,"Total Annual Gas Cost",null,"Total Annual Gas Cost",null,"Total Annual Gas Cost",null,"Total Annual Gas Cost",null,"Total Annual Gas Cost",null,"Total Annual Gas Cost",null,"Total Annual Gas Cost",null,"Total Annual Gas Cost",null,"Total Annual Gas Cost",null,"Total Annual Gas Cost",null,"Total Annual Gas Cost",null,"Total Annual Gas Cost",null,"Total Annual Gas Cost",null,"Total Annual Gas Cost",null,"Total Annual Gas Cost",null,"Average Annual Gas  Cost",null,"Total Annual Gas Cost",null,"Total Annual Gas Cost",null,"Total Annual Gas Cost",null,"Total Annual Gas Cost",null,"Total Annual Gas Cost",null,"Total Annual Gas Cost",null,"Total Annual Gas Cost",null,"Total Annual Gas Cost",null,"Total Annual Gas Cost",null,"Total Annual Gas Cost",null,"Total Annual Gas Cost",null,"Total Annual Gas Cost",null,"Total Annual Gas Cost",null,"Total Annual Gas Cost",null,"Total Annual Gas Cost",null,"Total Annual Gas Cost",null,"Total Annual Gas Cost",null,"Total Annual Gas Cost",null,"Total Annual Gas Cost",null,"Total Annual Gas Cost",null,"Average Annual Gas  Cost",null,"Total Annual Gas Cost",null,"Total Annual Gas Cost",null,"Total Annual Gas Cost",null,"Total Annual Gas Cost",null,"Total Annual Gas Cost",null,"Total Annual Gas Cost",null,"Total Annual Gas Cost",null,"Total Annual Gas Cost",null,"Total Annual Gas Cost",null,"Total Annual Gas Cost",null,"Total Annual Gas Cost",null,"Total Annual Gas Cost",null,"Total Annual Gas Cost",null,"Total Annual Gas Cost",null,"Total Annual Gas Cost",null,"Total Annual Gas Cost",null,"Total Annual Gas Cost",null,"Total Annual Gas Cost",null,"Total Annual Gas Cost",null,"Total Annual Gas Cost",null,"Average Annual Gas  Cost",null,"Average Annual Gas  Cost","Average Annual Gas  Cost","Average Annual Gas  Cost","Average Annual Gas  Cost","Average Annual Gas  Cost","Average Annual Gas  Cost","Average Annual Gas  Cost","Average Annual Gas  Cost","Average Annual Gas  Cost","Average Annual Gas  Cost","Total In-Unit Annual Gas Cost"]
[null,null,null,null,null,null,null,null,null,null,null,null,null,null,null,null,null,null,null,null,null,null,null,null,null,null,null,null,null,null,null,null,null,null,null,null,null,null,null,null,null,null,null,null,null,{"$f":"IF(F30>0,AVERAGE(F30:AR30),0)","v":0},null,null,null,null,null,null,null,null,null,null,null,null,null,null,null,null,null,null,null,null,null,null,null,null,null,null,null,null,null,null,null,null,null,null,null,null,null,null,null,null,null,{"$f":"IF(AV30>0,AVERAGE(AV30:CH30),0)","v":0},null,null,null,null,null,null,null,null,null,null,null,null,null,null,null,null,null,null,null,null,null,null,null,null,null,null,null,null,null,null,null,null,null,null,null,null,null,null,null,null,null,{"$f":"IF(CL30>0,AVERAGE(CL30:DY30),0)","v":0},null,null,null,null,null,null,null,null,null,null,null,null,null,null,null,null,null,null,null,null,null,null,null,null,null,null,null,null,null,null,null,null,null,null,null,null,null,null,null,null,null,{"$f":"IF(EB30>0,AVERAGE(EB30:FN30),0)","v":0},null,null,null,null,null,null,null,null,null,null,null,null,null,null,null,null,null,null,null,null,null,null,null,null,null,null,null,null,null,null,null,null,null,null,null,null,null,null,null,null,null,{"$f":"IF(FR30>0,AVERAGE(FR30:HD30),0)","v":0},null,null,null,null,null,null,null,null,null,null,null,null,null,null,null,null,null,null,null,null,null,null,null,null,null,null,null,null,null,null,null,null,null,null,null,null,null,null,null,null,null,{"$f":"IF(HH30>0,AVERAGE(HH30:IT30),0)","v":0},null,null,null,null,null,null,null,null,null,null,null,null,null,null,null,null,null,null,null,null,null,null,null,null,null,null,null,null,null,null,null,null,null,null,null,null,null,null,null,null,null,{"$f":"IF(IX30>0,AVERAGE(IX30:KJ30),0)","v":0},null,null,null,null,null,null,null,null,null,null,null,null,null,null,null,null,null,null,null,null,null,null,null,null,null,null,null,null,null,null,null,null,null,null,null,null,null,null,null,null,null,{"$f":"IF(KN30>0,AVERAGE(KN30:LZ30),0)","v":0},null,null,null,null,null,null,null,null,null,null,null,null,null,null,null,null,null,null,null,null,null,null,null,null,null,null,null,null,null,null,null,null,null,null,null,null,null,null,null,null,null,{"$f":"IF(MD30>0,AVERAGE(MD30:NP30),0)","v":0},null,null,null,null,null,null,null,null,null,null,null,null,null,null,null,null,null,null,null,null,null,null,null,null,null,null,null,null,null,null,null,null,null,null,null,null,null,null,null,null,null,{"$f":"IF(NT30>0,AVERAGE(NT30:PF30),0)","v":0},null,{"$f":"AT30","v":0},{"$f":"CJ30","v":0},{"$f":"DZ30","v":0},{"$f":"FP30","v":0},{"$f":"HF30","v":0},{"$f":"IV30","v":0},{"$f":"KL30","v":0},{"$f":"MB30","v":0},{"$f":"NR30","v":0},{"$f":"PH30","v":0},{"$f":"SUMPRODUCT($PJ$8:$PS$8,PJ30:PS30)","v":0}]
[]
[null,"Post-Construction In-Unit Billing Dates",null,null,null,{"$f":"F5","v":"Unit Type 1 - "},null,null,null,null,null,null,null,null,null,null,null,null,null,null,null,null,null,null,null,null,null,null,null,null,null,null,null,null,null,null,null,null,null,null,null,null,null,null,null,null,null,{"$f":"AV5","v":"Unit Type 2 - "},null,null,null,null,null,null,null,null,null,null,null,null,null,null,null,null,null,null,null,null,null,null,null,null,null,null,null,null,null,null,null,null,null,null,null,null,null,null,null,null,null,{"$f":"CL5","v":"Unit Type 3 - "},null,null,null,null,null,null,null,null,null,null,null,null,null,null,null,null,null,null,null,null,null,null,null,null,null,null,null,null,null,null,null,null,null,null,null,null,null,null,null,null,null,{"$f":"EB5","v":"Unit Type 4 - "},null,null,null,null,null,null,null,null,null,null,null,null,null,null,null,null,null,null,null,null,null,null,null,null,null,null,null,null,null,null,null,null,null,null,null,null,null,null,null,null,null,{"$f":"FR5","v":"Unit Type 5 - "},null,null,null,null,null,null,null,null,null,null,null,null,null,null,null,null,null,null,null,null,null,null,null,null,null,null,null,null,null,null,null,null,null,null,null,null,null,null,null,null,null,{"$f":"HH5","v":"Unit Type 6 - "},null,null,null,null,null,null,null,null,null,null,null,null,null,null,null,null,null,null,null,null,null,null,null,null,null,null,null,null,null,null,null,null,null,null,null,null,null,null,null,null,null,{"$f":"IX5","v":"Unit Type 7 - "},null,null,null,null,null,null,null,null,null,null,null,null,null,null,null,null,null,null,null,null,null,null,null,null,null,null,null,null,null,null,null,null,null,null,null,null,null,null,null,null,null,{"$f":"KN5","v":"Unit Type 8 - "},null,null,null,null,null,null,null,null,null,null,null,null,null,null,null,null,null,null,null,null,null,null,null,null,null,null,null,null,null,null,null,null,null,null,null,null,null,null,null,null,null,{"$f":"MD5","v":"Unit Type 9 - "},null,null,null,null,null,null,null,null,null,null,null,null,null,null,null,null,null,null,null,null,null,null,null,null,null,null,null,null,null,null,null,null,null,null,null,null,null,null,null,null,null,{"$f":"NT5","v":"Unit Type 10 - "},null,null,null,null,null,null,null,null,null,null,null,null,null,null,null,null,null,null,null,null,null,null,null,null,null,null,null,null,null,null,null,null,null,null,null,null,null,null,null,null,null,"POST-CONSTRUCTION\nSummary of In-Unit Gas Use"]
[null,null,null,null,null,"Unit #:",null,"Unit #:",null,"Unit #:",null,"Unit #:",null,"Unit #:",null,"Unit #:",null,"Unit #:",null,"Unit #:",null,"Unit #:",null,"Unit #:",null,"Unit #:",null,"Unit #:",null,"Unit #:",null,"Unit #:",null,"Unit #:",null,"Unit #:",null,"Unit #:",null,"Unit #:",null,"Unit #:",null,"Unit #:",null,"SUMMARY",null,"Unit #:",null,"Unit #:",null,"Unit #:",null,"Unit #:",null,"Unit #:",null,"Unit #:",null,"Unit #:",null,"Unit #:",null,"Unit #:",null,"Unit #:",null,"Unit #:",null,"Unit #:",null,"Unit #:",null,"Unit #:",null,"Unit #:",null,"Unit #:",null,"Unit #:",null,"Unit #:",null,"Unit #:",null,"Unit #:",null,"SUMMARY",null,"Unit #:",null,"Unit #:",null,"Unit #:",null,"Unit #:",null,"Unit #:",null,"Unit #:",null,"Unit #:",null,"Unit #:",null,"Unit #:",null,"Unit #:",null,"Unit #:",null,"Unit #:",null,"Unit #:",null,"Unit #:",null,"Unit #:",null,"Unit #:",null,"Unit #:",null,"Unit #:",null,"Unit #:",null,"Unit #:",null,"SUMMARY",null,"Unit #:",null,"Unit #:",null,"Unit #:",null,"Unit #:",null,"Unit #:",null,"Unit #:",null,"Unit #:",null,"Unit #:",null,"Unit #:",null,"Unit #:",null,"Unit #:",null,"Unit #:",null,"Unit #:",null,"Unit #:",null,"Unit #:",null,"Unit #:",null,"Unit #:",null,"Unit #:",null,"Unit #:",null,"Unit #:",null,"SUMMARY",null,"Unit #:",null,"Unit #:",null,"Unit #:",null,"Unit #:",null,"Unit #:",null,"Unit #:",null,"Unit #:",null,"Unit #:",null,"Unit #:",null,"Unit #:",null,"Unit #:",null,"Unit #:",null,"Unit #:",null,"Unit #:",null,"Unit #:",null,"Unit #:",null,"Unit #:",null,"Unit #:",null,"Unit #:",null,"Unit #:",null,"SUMMARY",null,"Unit #:",null,"Unit #:",null,"Unit #:",null,"Unit #:",null,"Unit #:",null,"Unit #:",null,"Unit #:",null,"Unit #:",null,"Unit #:",null,"Unit #:",null,"Unit #:",null,"Unit #:",null,"Unit #:",null,"Unit #:",null,"Unit #:",null,"Unit #:",null,"Unit #:",null,"Unit #:",null,"Unit #:",null,"Unit #:",null,"SUMMARY",null,"Unit #:",null,"Unit #:",null,"Unit #:",null,"Unit #:",null,"Unit #:",null,"Unit #:",null,"Unit #:",null,"Unit #:",null,"Unit #:",null,"Unit #:",null,"Unit #:",null,"Unit #:",null,"Unit #:",null,"Unit #:",null,"Unit #:",null,"Unit #:",null,"Unit #:",null,"Unit #:",null,"Unit #:",null,"Unit #:",null,"SUMMARY",null,"Unit #:",null,"Unit #:",null,"Unit #:",null,"Unit #:",null,"Unit #:",null,"Unit #:",null,"Unit #:",null,"Unit #:",null,"Unit #:",null,"Unit #:",null,"Unit #:",null,"Unit #:",null,"Unit #:",null,"Unit #:",null,"Unit #:",null,"Unit #:",null,"Unit #:",null,"Unit #:",null,"Unit #:",null,"Unit #:",null,"SUMMARY",null,"Unit #:",null,"Unit #:",null,"Unit #:",null,"Unit #:",null,"Unit #:",null,"Unit #:",null,"Unit #:",null,"Unit #:",null,"Unit #:",null,"Unit #:",null,"Unit #:",null,"Unit #:",null,"Unit #:",null,"Unit #:",null,"Unit #:",null,"Unit #:",null,"Unit #:",null,"Unit #:",null,"Unit #:",null,"Unit #:",null,"SUMMARY",null,"Unit #:",null,"Unit #:",null,"Unit #:",null,"Unit #:",null,"Unit #:",null,"Unit #:",null,"Unit #:",null,"Unit #:",null,"Unit #:",null,"Unit #:",null,"Unit #:",null,"Unit #:",null,"Unit #:",null,"Unit #:",null,"Unit #:",null,"Unit #:",null,"Unit #:",null,"Unit #:",null,"Unit #:",null,"Unit #:",null,"SUMMARY"]
[]
[null,null,null,null,null,"Account #:",null,"Account #:",null,"Account #:",null,"Account #:",null,"Account #:",null,"Account #:",null,"Account #:",null,"Account #:",null,"Account #:",null,"Account #:",null,"Account #:",null,"Account #:",null,"Account #:",null,"Account #:",null,"Account #:",null,"Account #:",null,"Account #:",null,"Account #:",null,"Account #:",null,"Account #:",null,null,null,"Account #:",null,"Account #:",null,"Account #:",null,"Account #:",null,"Account #:",null,"Account #:",null,"Account #:",null,"Account #:",null,"Account #:",null,"Account #:",null,"Account #:",null,"Account #:",null,"Account #:",null,"Account #:",null,"Account #:",null,"Account #:",null,"Account #:",null,"Account #:",null,"Account #:",null,"Account #:",null,null,null,"Account #:",null,"Account #:",null,"Account #:",null,"Account #:",null,"Account #:",null,"Account #:",null,"Account #:",null,"Account #:",null,"Account #:",null,"Account #:",null,"Account #:",null,"Account #:",null,"Account #:",null,"Account #:",null,"Account #:",null,"Account #:",null,"Account #:",null,"Account #:",null,"Account #:",null,"Account #:",null,null,null,"Account #:",null,"Account #:",null,"Account #:",null,"Account #:",null,"Account #:",null,"Account #:",null,"Account #:",null,"Account #:",null,"Account #:",null,"Account #:",null,"Account #:",null,"Account #:",null,"Account #:",null,"Account #:",null,"Account #:",null,"Account #:",null,"Account #:",null,"Account #:",null,"Account #:",null,"Account #:",null,null,null,"Account #:",null,"Account #:",null,"Account #:",null,"Account #:",null,"Account #:",null,"Account #:",null,"Account #:",null,"Account #:",null,"Account #:",null,"Account #:",null,"Account #:",null,"Account #:",null,"Account #:",null,"Account #:",null,"Account #:",null,"Account #:",null,"Account #:",null,"Account #:",null,"Account #:",null,"Account #:",null,null,null,"Account #:",null,"Account #:",null,"Account #:",null,"Account #:",null,"Account #:",null,"Account #:",null,"Account #:",null,"Account #:",null,"Account #:",null,"Account #:",null,"Account #:",null,"Account #:",null,"Account #:",null,"Account #:",null,"Account #:",null,"Account #:",null,"Account #:",null,"Account #:",null,"Account #:",null,"Account #:",null,null,null,"Account #:",null,"Account #:",null,"Account #:",null,"Account #:",null,"Account #:",null,"Account #:",null,"Account #:",null,"Account #:",null,"Account #:",null,"Account #:",null,"Account #:",null,"Account #:",null,"Account #:",null,"Account #:",null,"Account #:",null,"Account #:",null,"Account #:",null,"Account #:",null,"Account #:",null,"Account #:",null,null,null,"Account #:",null,"Account #:",null,"Account #:",null,"Account #:",null,"Account #:",null,"Account #:",null,"Account #:",null,"Account #:",null,"Account #:",null,"Account #:",null,"Account #:",null,"Account #:",null,"Account #:",null,"Account #:",null,"Account #:",null,"Account #:",null,"Account #:",null,"Account #:",null,"Account #:",null,"Account #:",null,null,null,"Account #:",null,"Account #:",null,"Account #:",null,"Account #:",null,"Account #:",null,"Account #:",null,"Account #:",null,"Account #:",null,"Account #:",null,"Account #:",null,"Account #:",null,"Account #:",null,"Account #:",null,"Account #:",null,"Account #:",null,"Account #:",null,"Account #:",null,"Account #:",null,"Account #:",null,"Account #:",null,null,null,"Account #:",null,"Account #:",null,"Account #:",null,"Account #:",null,"Account #:",null,"Account #:",null,"Account #:",null,"Account #:",null,"Account #:",null,"Account #:",null,"Account #:",null,"Account #:",null,"Account #:",null,"Account #:",null,"Account #:",null,"Account #:",null,"Account #:",null,"Account #:",null,"Account #:",null,"Account #:",null,null,null,{"$f":"PJ8","v":0},{"$f":"PK8","v":0},0,0,0,0,0,0,0,0]
[null,null,null,null,null,null,null,null,null,null,null,null,null,null,null,null,null,null,null,null,null,null,null,null,null,null,null,null,null,null,null,null,null,null,null,null,null,null,null,null,null,null,null,null,null,null,null,null,null,null,null,null,null,null,null,null,null,null,null,null,null,null,null,null,null,null,null,null,null,null,null,null,null,null,null,null,null,null,null,null,null,null,null,null,null,null,null,null,null,null,null,null,null,null,null,null,null,null,null,null,null,null,null,null,null,null,null,null,null,null,null,null,null,null,null,null,null,null,null,null,null,null,null,null,null,null,null,null,null,null,null,null,null,null,null,null,null,null,null,null,null,null,null,null,null,null,null,null,null,null,null,null,null,null,null,null,null,null,null,null,null,null,null,null,null,null,null,null,null,null,null,null,null,null,null,null,null,null,null,null,null,null,null,null,null,null,null,null,null,null,null,null,null,null,null,null,null,null,null,null,null,null,null,null,null,null,null,null,null,null,null,null,null,null,null,null,null,null,null,null,null,null,null,null,null,null,null,null,null,null,null,null,null,null,null,null,null,null,null,null,null,null,null,null,null,null,null,null,null,null,null,null,null,null,null,null,null,null,null,null,null,null,null,null,null,null,null,null,null,null,null,null,null,null,null,null,null,null,null,null,null,null,null,null,null,null,null,null,null,null,null,null,null,null,null,null,null,null,null,null,null,null,null,null,null,null,null,null,null,null,null,null,null,null,null,null,null,null,null,null,null,null,null,null,null,null,null,null,null,null,null,null,null,null,null,null,null,null,null,null,null,null,null,null,null,null,null,null,null,null,null,null,null,null,null,null,null,null,null,null,null,null,null,null,null,null,null,null,null,null,null,null,null,null,null,null,null,null,null,null,null,null,null,null,null,null,null,null,null,null,null,null,null,null,null,null,null,null,null,null,null,null,null,null,null,null,null,null,null,null,null,null,null,null,null,null,null,null,null,null,null,null,null,null,null,{"$f":"PJ9","v":"Unit Type 1"},"Unit Type 2","Unit Type 3","Unit Type 4","Unit Type 5","Unit Type 6","Unit Type 7","Unit Type 8","Unit Type 9","Unit Type 10","SUMMARY"]
[null,"Billing Period Start Date","Read Date","Days in Billing Period",null,{"$f":"'Utility Info'!$D$16","v":"<Not Used>"},"Actual/ Estimated",{"$f":"'Utility Info'!$D$16","v":"<Not Used>"},"Actual/ Estimated",{"$f":"'Utility Info'!$D$16","v":"<Not Used>"},"Actual/ Estimated",{"$f":"'Utility Info'!$D$16","v":"<Not Used>"},"Actual/ Estimated",{"$f":"'Utility Info'!$D$16","v":"<Not Used>"},"Actual/ Estimated",{"$f":"'Utility Info'!$D$16","v":"<Not Used>"},"Actual/ Estimated",{"$f":"'Utility Info'!$D$16","v":"<Not Used>"},"Actual/ Estimated",{"$f":"'Utility Info'!$D$16","v":"<Not Used>"},"Actual/ Estimated",{"$f":"'Utility Info'!$D$16","v":"<Not Used>"},"Actual/ Estimated",{"$f":"'Utility Info'!$D$16","v":"<Not Used>"},"Actual/ Estimated",{"$f":"'Utility Info'!$D$16","v":"<Not Used>"},"Actual/ Estimated",{"$f":"'Utility Info'!$D$16","v":"<Not Used>"},"Actual/ Estimated",{"$f":"'Utility Info'!$D$16","v":"<Not Used>"},"Actual/ Estimated",{"$f":"'Utility Info'!$D$16","v":"<Not Used>"},"Actual/ Estimated",{"$f":"'Utility Info'!$D$16","v":"<Not Used>"},"Actual/ Estimated",{"$f":"'Utility Info'!$D$16","v":"<Not Used>"},"Actual/ Estimated",{"$f":"'Utility Info'!$D$16","v":"<Not Used>"},"Actual/ Estimated",{"$f":"'Utility Info'!$D$16","v":"<Not Used>"},"Actual/ Estimated",{"$f":"'Utility Info'!$D$16","v":"<Not Used>"},"Actual/ Estimated",{"$f":"'Utility Info'!$D$16","v":"<Not Used>"},"Actual/ Estimated","Average Gas Consumption",null,{"$f":"'Utility Info'!$D$16","v":"<Not Used>"},"Actual/ Estimated",{"$f":"'Utility Info'!$D$16","v":"<Not Used>"},"Actual/ Estimated",{"$f":"'Utility Info'!$D$16","v":"<Not Used>"},"Actual/ Estimated",{"$f":"'Utility Info'!$D$16","v":"<Not Used>"},"Actual/ Estimated",{"$f":"'Utility Info'!$D$16","v":"<Not Used>"},"Actual/ Estimated",{"$f":"'Utility Info'!$D$16","v":"<Not Used>"},"Actual/ Estimated",{"$f":"'Utility Info'!$D$16","v":"<Not Used>"},"Actual/ Estimated",{"$f":"'Utility Info'!$D$16","v":"<Not Used>"},"Actual/ Estimated",{"$f":"'Utility Info'!$D$16","v":"<Not Used>"},"Actual/ Estimated",{"$f":"'Utility Info'!$D$16","v":"<Not Used>"},"Actual/ Estimated",{"$f":"'Utility Info'!$D$16","v":"<Not Used>"},"Actual/ Estimated",{"$f":"'Utility Info'!$D$16","v":"<Not Used>"},"Actual/ Estimated",{"$f":"'Utility Info'!$D$16","v":"<Not Used>"},"Actual/ Estimated",{"$f":"'Utility Info'!$D$16","v":"<Not Used>"},"Actual/ Estimated",{"$f":"'Utility Info'!$D$16","v":"<Not Used>"},"Actual/ Estimated",{"$f":"'Utility Info'!$D$16","v":"<Not Used>"},"Actual/ Estimated",{"$f":"'Utility Info'!$D$16","v":"<Not Used>"},"Actual/ Estimated",{"$f":"'Utility Info'!$D$16","v":"<Not Used>"},"Actual/ Estimated",{"$f":"'Utility Info'!$D$16","v":"<Not Used>"},"Actual/ Estimated",{"$f":"'Utility Info'!$D$16","v":"<Not Used>"},"Actual/ Estimated","Average Gas Consumption",null,{"$f":"'Utility Info'!$D$16","v":"<Not Used>"},"Actual/ Estimated",{"$f":"'Utility Info'!$D$16","v":"<Not Used>"},"Actual/ Estimated",{"$f":"'Utility Info'!$D$16","v":"<Not Used>"},"Actual/ Estimated",{"$f":"'Utility Info'!$D$16","v":"<Not Used>"},"Actual/ Estimated",{"$f":"'Utility Info'!$D$16","v":"<Not Used>"},"Actual/ Estimated",{"$f":"'Utility Info'!$D$16","v":"<Not Used>"},"Actual/ Estimated",{"$f":"'Utility Info'!$D$16","v":"<Not Used>"},"Actual/ Estimated",{"$f":"'Utility Info'!$D$16","v":"<Not Used>"},"Actual/ Estimated",{"$f":"'Utility Info'!$D$16","v":"<Not Used>"},"Actual/ Estimated",{"$f":"'Utility Info'!$D$16","v":"<Not Used>"},"Actual/ Estimated",{"$f":"'Utility Info'!$D$16","v":"<Not Used>"},"Actual/ Estimated",{"$f":"'Utility Info'!$D$16","v":"<Not Used>"},"Actual/ Estimated",{"$f":"'Utility Info'!$D$16","v":"<Not Used>"},"Actual/ Estimated",{"$f":"'Utility Info'!$D$16","v":"<Not Used>"},"Actual/ Estimated",{"$f":"'Utility Info'!$D$16","v":"<Not Used>"},"Actual/ Estimated",{"$f":"'Utility Info'!$D$16","v":"<Not Used>"},"Actual/ Estimated",{"$f":"'Utility Info'!$D$16","v":"<Not Used>"},"Actual/ Estimated",{"$f":"'Utility Info'!$D$16","v":"<Not Used>"},"Actual/ Estimated",{"$f":"'Utility Info'!$D$16","v":"<Not Used>"},"Actual/ Estimated",{"$f":"'Utility Info'!$D$16","v":"<Not Used>"},"Actual/ Estimated","Average Gas Consumption",null,{"$f":"'Utility Info'!$D$16","v":"<Not Used>"},"Actual/ Estimated",{"$f":"'Utility Info'!$D$16","v":"<Not Used>"},"Actual/ Estimated",{"$f":"'Utility Info'!$D$16","v":"<Not Used>"},"Actual/ Estimated",{"$f":"'Utility Info'!$D$16","v":"<Not Used>"},"Actual/ Estimated",{"$f":"'Utility Info'!$D$16","v":"<Not Used>"},"Actual/ Estimated",{"$f":"'Utility Info'!$D$16","v":"<Not Used>"},"Actual/ Estimated",{"$f":"'Utility Info'!$D$16","v":"<Not Used>"},"Actual/ Estimated",{"$f":"'Utility Info'!$D$16","v":"<Not Used>"},"Actual/ Estimated",{"$f":"'Utility Info'!$D$16","v":"<Not Used>"},"Actual/ Estimated",{"$f":"'Utility Info'!$D$16","v":"<Not Used>"},"Actual/ Estimated",{"$f":"'Utility Info'!$D$16","v":"<Not Used>"},"Actual/ Estimated",{"$f":"'Utility Info'!$D$16","v":"<Not Used>"},"Actual/ Estimated",{"$f":"'Utility Info'!$D$16","v":"<Not Used>"},"Actual/ Estimated",{"$f":"'Utility Info'!$D$16","v":"<Not Used>"},"Actual/ Estimated",{"$f":"'Utility Info'!$D$16","v":"<Not Used>"},"Actual/ Estimated",{"$f":"'Utility Info'!$D$16","v":"<Not Used>"},"Actual/ Estimated",{"$f":"'Utility Info'!$D$16","v":"<Not Used>"},"Actual/ Estimated",{"$f":"'Utility Info'!$D$16","v":"<Not Used>"},"Actual/ Estimated",{"$f":"'Utility Info'!$D$16","v":"<Not Used>"},"Actual/ Estimated",{"$f":"'Utility Info'!$D$16","v":"<Not Used>"},"Actual/ Estimated","Average Gas Consumption",null,{"$f":"'Utility Info'!$D$16","v":"<Not Used>"},"Actual/ Estimated",{"$f":"'Utility Info'!$D$16","v":"<Not Used>"},"Actual/ Estimated",{"$f":"'Utility Info'!$D$16","v":"<Not Used>"},"Actual/ Estimated",{"$f":"'Utility Info'!$D$16","v":"<Not Used>"},"Actual/ Estimated",{"$f":"'Utility Info'!$D$16","v":"<Not Used>"},"Actual/ Estimated",{"$f":"'Utility Info'!$D$16","v":"<Not Used>"},"Actual/ Estimated",{"$f":"'Utility Info'!$D$16","v":"<Not Used>"},"Actual/ Estimated",{"$f":"'Utility Info'!$D$16","v":"<Not Used>"},"Actual/ Estimated",{"$f":"'Utility Info'!$D$16","v":"<Not Used>"},"Actual/ Estimated",{"$f":"'Utility Info'!$D$16","v":"<Not Used>"},"Actual/ Estimated",{"$f":"'Utility Info'!$D$16","v":"<Not Used>"},"Actual/ Estimated",{"$f":"'Utility Info'!$D$16","v":"<Not Used>"},"Actual/ Estimated",{"$f":"'Utility Info'!$D$16","v":"<Not Used>"},"Actual/ Estimated",{"$f":"'Utility Info'!$D$16","v":"<Not Used>"},"Actual/ Estimated",{"$f":"'Utility Info'!$D$16","v":"<Not Used>"},"Actual/ Estimated",{"$f":"'Utility Info'!$D$16","v":"<Not Used>"},"Actual/ Estimated",{"$f":"'Utility Info'!$D$16","v":"<Not Used>"},"Actual/ Estimated",{"$f":"'Utility Info'!$D$16","v":"<Not Used>"},"Actual/ Estimated",{"$f":"'Utility Info'!$D$16","v":"<Not Used>"},"Actual/ Estimated",{"$f":"'Utility Info'!$D$16","v":"<Not Used>"},"Actual/ Estimated","Average Gas Consumption",null,{"$f":"'Utility Info'!$D$16","v":"<Not Used>"},"Actual/ Estimated",{"$f":"'Utility Info'!$D$16","v":"<Not Used>"},"Actual/ Estimated",{"$f":"'Utility Info'!$D$16","v":"<Not Used>"},"Actual/ Estimated",{"$f":"'Utility Info'!$D$16","v":"<Not Used>"},"Actual/ Estimated",{"$f":"'Utility Info'!$D$16","v":"<Not Used>"},"Actual/ Estimated",{"$f":"'Utility Info'!$D$16","v":"<Not Used>"},"Actual/ Estimated",{"$f":"'Utility Info'!$D$16","v":"<Not Used>"},"Actual/ Estimated",{"$f":"'Utility Info'!$D$16","v":"<Not Used>"},"Actual/ Estimated",{"$f":"'Utility Info'!$D$16","v":"<Not Used>"},"Actual/ Estimated",{"$f":"'Utility Info'!$D$16","v":"<Not Used>"},"Actual/ Estimated",{"$f":"'Utility Info'!$D$16","v":"<Not Used>"},"Actual/ Estimated",{"$f":"'Utility Info'!$D$16","v":"<Not Used>"},"Actual/ Estimated",{"$f":"'Utility Info'!$D$16","v":"<Not Used>"},"Actual/ Estimated",{"$f":"'Utility Info'!$D$16","v":"<Not Used>"},"Actual/ Estimated",{"$f":"'Utility Info'!$D$16","v":"<Not Used>"},"Actual/ Estimated",{"$f":"'Utility Info'!$D$16","v":"<Not Used>"},"Actual/ Estimated",{"$f":"'Utility Info'!$D$16","v":"<Not Used>"},"Actual/ Estimated",{"$f":"'Utility Info'!$D$16","v":"<Not Used>"},"Actual/ Estimated",{"$f":"'Utility Info'!$D$16","v":"<Not Used>"},"Actual/ Estimated",{"$f":"'Utility Info'!$D$16","v":"<Not Used>"},"Actual/ Estimated","Average Gas Consumption",null,{"$f":"'Utility Info'!$D$16","v":"<Not Used>"},"Actual/ Estimated",{"$f":"'Utility Info'!$D$16","v":"<Not Used>"},"Actual/ Estimated",{"$f":"'Utility Info'!$D$16","v":"<Not Used>"},"Actual/ Estimated",{"$f":"'Utility Info'!$D$16","v":"<Not Used>"},"Actual/ Estimated",{"$f":"'Utility Info'!$D$16","v":"<Not Used>"},"Actual/ Estimated",{"$f":"'Utility Info'!$D$16","v":"<Not Used>"},"Actual/ Estimated",{"$f":"'Utility Info'!$D$16","v":"<Not Used>"},"Actual/ Estimated",{"$f":"'Utility Info'!$D$16","v":"<Not Used>"},"Actual/ Estimated",{"$f":"'Utility Info'!$D$16","v":"<Not Used>"},"Actual/ Estimated",{"$f":"'Utility Info'!$D$16","v":"<Not Used>"},"Actual/ Estimated",{"$f":"'Utility Info'!$D$16","v":"<Not Used>"},"Actual/ Estimated",{"$f":"'Utility Info'!$D$16","v":"<Not Used>"},"Actual/ Estimated",{"$f":"'Utility Info'!$D$16","v":"<Not Used>"},"Actual/ Estimated",{"$f":"'Utility Info'!$D$16","v":"<Not Used>"},"Actual/ Estimated",{"$f":"'Utility Info'!$D$16","v":"<Not Used>"},"Actual/ Estimated",{"$f":"'Utility Info'!$D$16","v":"<Not Used>"},"Actual/ Estimated",{"$f":"'Utility Info'!$D$16","v":"<Not Used>"},"Actual/ Estimated",{"$f":"'Utility Info'!$D$16","v":"<Not Used>"},"Actual/ Estimated",{"$f":"'Utility Info'!$D$16","v":"<Not Used>"},"Actual/ Estimated",{"$f":"'Utility Info'!$D$16","v":"<Not Used>"},"Actual/ Estimated","Average Gas Consumption",null,{"$f":"'Utility Info'!$D$16","v":"<Not Used>"},"Actual/ Estimated",{"$f":"'Utility Info'!$D$16","v":"<Not Used>"},"Actual/ Estimated",{"$f":"'Utility Info'!$D$16","v":"<Not Used>"},"Actual/ Estimated",{"$f":"'Utility Info'!$D$16","v":"<Not Used>"},"Actual/ Estimated",{"$f":"'Utility Info'!$D$16","v":"<Not Used>"},"Actual/ Estimated",{"$f":"'Utility Info'!$D$16","v":"<Not Used>"},"Actual/ Estimated",{"$f":"'Utility Info'!$D$16","v":"<Not Used>"},"Actual/ Estimated",{"$f":"'Utility Info'!$D$16","v":"<Not Used>"},"Actual/ Estimated",{"$f":"'Utility Info'!$D$16","v":"<Not Used>"},"Actual/ Estimated",{"$f":"'Utility Info'!$D$16","v":"<Not Used>"},"Actual/ Estimated",{"$f":"'Utility Info'!$D$16","v":"<Not Used>"},"Actual/ Estimated",{"$f":"'Utility Info'!$D$16","v":"<Not Used>"},"Actual/ Estimated",{"$f":"'Utility Info'!$D$16","v":"<Not Used>"},"Actual/ Estimated",{"$f":"'Utility Info'!$D$16","v":"<Not Used>"},"Actual/ Estimated",{"$f":"'Utility Info'!$D$16","v":"<Not Used>"},"Actual/ Estimated",{"$f":"'Utility Info'!$D$16","v":"<Not Used>"},"Actual/ Estimated",{"$f":"'Utility Info'!$D$16","v":"<Not Used>"},"Actual/ Estimated",{"$f":"'Utility Info'!$D$16","v":"<Not Used>"},"Actual/ Estimated",{"$f":"'Utility Info'!$D$16","v":"<Not Used>"},"Actual/ Estimated",{"$f":"'Utility Info'!$D$16","v":"<Not Used>"},"Actual/ Estimated","Average Gas Consumption",null,{"$f":"'Utility Info'!$D$16","v":"<Not Used>"},"Actual/ Estimated",{"$f":"'Utility Info'!$D$16","v":"<Not Used>"},"Actual/ Estimated",{"$f":"'Utility Info'!$D$16","v":"<Not Used>"},"Actual/ Estimated",{"$f":"'Utility Info'!$D$16","v":"<Not Used>"},"Actual/ Estimated",{"$f":"'Utility Info'!$D$16","v":"<Not Used>"},"Actual/ Estimated",{"$f":"'Utility Info'!$D$16","v":"<Not Used>"},"Actual/ Estimated",{"$f":"'Utility Info'!$D$16","v":"<Not Used>"},"Actual/ Estimated",{"$f":"'Utility Info'!$D$16","v":"<Not Used>"},"Actual/ Estimated",{"$f":"'Utility Info'!$D$16","v":"<Not Used>"},"Actual/ Estimated",{"$f":"'Utility Info'!$D$16","v":"<Not Used>"},"Actual/ Estimated",{"$f":"'Utility Info'!$D$16","v":"<Not Used>"},"Actual/ Estimated",{"$f":"'Utility Info'!$D$16","v":"<Not Used>"},"Actual/ Estimated",{"$f":"'Utility Info'!$D$16","v":"<Not Used>"},"Actual/ Estimated",{"$f":"'Utility Info'!$D$16","v":"<Not Used>"},"Actual/ Estimated",{"$f":"'Utility Info'!$D$16","v":"<Not Used>"},"Actual/ Estimated",{"$f":"'Utility Info'!$D$16","v":"<Not Used>"},"Actual/ Estimated",{"$f":"'Utility Info'!$D$16","v":"<Not Used>"},"Actual/ Estimated",{"$f":"'Utility Info'!$D$16","v":"<Not Used>"},"Actual/ Estimated",{"$f":"'Utility Info'!$D$16","v":"<Not Used>"},"Actual/ Estimated",{"$f":"'Utility Info'!$D$16","v":"<Not Used>"},"Actual/ Estimated","Average Gas Consumption",null,{"$f":"'Utility Info'!$D$16","v":"<Not Used>"},"Actual/ Estimated",{"$f":"'Utility Info'!$D$16","v":"<Not Used>"},"Actual/ Estimated",{"$f":"'Utility Info'!$D$16","v":"<Not Used>"},"Actual/ Estimated",{"$f":"'Utility Info'!$D$16","v":"<Not Used>"},"Actual/ Estimated",{"$f":"'Utility Info'!$D$16","v":"<Not Used>"},"Actual/ Estimated",{"$f":"'Utility Info'!$D$16","v":"<Not Used>"},"Actual/ Estimated",{"$f":"'Utility Info'!$D$16","v":"<Not Used>"},"Actual/ Estimated",{"$f":"'Utility Info'!$D$16","v":"<Not Used>"},"Actual/ Estimated",{"$f":"'Utility Info'!$D$16","v":"<Not Used>"},"Actual/ Estimated",{"$f":"'Utility Info'!$D$16","v":"<Not Used>"},"Actual/ Estimated",{"$f":"'Utility Info'!$D$16","v":"<Not Used>"},"Actual/ Estimated",{"$f":"'Utility Info'!$D$16","v":"<Not Used>"},"Actual/ Estimated",{"$f":"'Utility Info'!$D$16","v":"<Not Used>"},"Actual/ Estimated",{"$f":"'Utility Info'!$D$16","v":"<Not Used>"},"Actual/ Estimated",{"$f":"'Utility Info'!$D$16","v":"<Not Used>"},"Actual/ Estimated",{"$f":"'Utility Info'!$D$16","v":"<Not Used>"},"Actual/ Estimated",{"$f":"'Utility Info'!$D$16","v":"<Not Used>"},"Actual/ Estimated",{"$f":"'Utility Info'!$D$16","v":"<Not Used>"},"Actual/ Estimated",{"$f":"'Utility Info'!$D$16","v":"<Not Used>"},"Actual/ Estimated",{"$f":"'Utility Info'!$D$16","v":"<Not Used>"},"Actual/ Estimated","Average Gas Consumption",null,"Average Gas Consumption","Average Gas Consumption","Average Gas Consumption","Average Gas Consumption","Average Gas Consumption","Average Gas Consumption","Average Gas Consumption","Average Gas Consumption","Average Gas Consumption","Average Gas Consumption","Total In-Unit Gas Consumption"]
[]
[null,{"$f":"C38+1","v":"1900-01-01"},null,{"$f":"IF(C39>0,C39+1-B39,0)","v":0},null,null,null,null,null,null,null,null,null,null,null,null,null,null,null,null,null,null,null,null,null,null,null,null,null,null,null,null,null,null,null,null,null,null,null,null,null,null,null,null,null,{"$f":"IF(ISBLANK(F39)=FALSE,AVERAGE(F39:AR39),\"\")","v":""},null,null,null,null,null,null,null,null,null,null,null,null,null,null,null,null,null,null,null,null,null,null,null,null,null,null,null,null,null,null,null,null,null,null,null,null,null,null,null,null,null,{"$f":"IF(ISBLANK(AV39)=FALSE,AVERAGE(AV39:CH39),\"\")","v":""},null,null,null,null,null,null,null,null,null,null,null,null,null,null,null,null,null,null,null,null,null,null,null,null,null,null,null,null,null,null,null,null,null,null,null,null,null,null,null,null,null,{"$f":"IF(ISBLANK(CL39)=FALSE,AVERAGE(CL39:DW39),\"\")","v":""},null,null,null,null,null,null,null,null,null,null,null,null,null,null,null,null,null,null,null,null,null,null,null,null,null,null,null,null,null,null,null,null,null,null,null,null,null,null,null,null,null,{"$f":"IF(ISBLANK(EB39)=FALSE,AVERAGE(EB39:FN39),\"\")","v":""},null,null,null,null,null,null,null,null,null,null,null,null,null,null,null,null,null,null,null,null,null,null,null,null,null,null,null,null,null,null,null,null,null,null,null,null,null,null,null,null,null,{"$f":"IF(ISBLANK(FR39)=FALSE,AVERAGE(FR39:HD39),\"\")","v":""},null,null,null,null,null,null,null,null,null,null,null,null,null,null,null,null,null,null,null,null,null,null,null,null,null,null,null,null,null,null,null,null,null,null,null,null,null,null,null,null,null,{"$f":"IF(ISBLANK(HH39)=FALSE,AVERAGE(HH39:IT39),\"\")","v":""},null,null,null,null,null,null,null,null,null,null,null,null,null,null,null,null,null,null,null,null,null,null,null,null,null,null,null,null,null,null,null,null,null,null,null,null,null,null,null,null,null,{"$f":"IF(ISBLANK(IX39)=FALSE,AVERAGE(IX39:KJ39),\"\")","v":""},null,null,null,null,null,null,null,null,null,null,null,null,null,null,null,null,null,null,null,null,null,null,null,null,null,null,null,null,null,null,null,null,null,null,null,null,null,null,null,null,null,{"$f":"IF(ISBLANK(KN39)=FALSE,AVERAGE(KN39:LZ39),\"\")","v":""},null,null,null,null,null,null,null,null,null,null,null,null,null,null,null,null,null,null,null,null,null,null,null,null,null,null,null,null,null,null,null,null,null,null,null,null,null,null,null,null,null,{"$f":"IF(ISBLANK(MD39)=FALSE,AVERAGE(MD39:NP39),\"\")","v":""},null,null,null,null,null,null,null,null,null,null,null,null,null,null,null,null,null,null,null,null,null,null,null,null,null,null,null,null,null,null,null,null,null,null,null,null,null,null,null,null,null,{"$f":"IF(ISBLANK(NT39)=FALSE,AVERAGE(NT39:PF39),\"\")","v":""},null,{"$f":"IF(AT39=\"\",0,AT39)","v":0},{"$f":"IF(CJ39=\"\",0,CJ39)","v":0},{"$f":"IF(DZ39=\"\",0,DZ39)","v":0},{"$f":"IF(FP39=\"\",0,FP39)","v":0},{"$f":"IF(HF39=\"\",0,HF39)","v":0},{"$f":"IF(IV39=\"\",0,IV39)","v":0},{"$f":"IF(KL39=\"\",0,KL39)","v":0},{"$f":"IF(MB39=\"\",0,MB39)","v":0},{"$f":"IF(NR39=\"\",0,NR39)","v":0},{"$f":"IF(PH39=\"\",0,PH39)","v":0},{"$f":"SUMPRODUCT($PJ$35:$PS$35,PJ39:PS39)","v":0}]
[null,{"$f":"C39+1","v":"1900-01-01"},null,0,null,null,null,null,null,null,null,null,null,null,null,null,null,null,null,null,null,null,null,null,null,null,null,null,null,null,null,null,null,null,null,null,null,null,null,null,null,null,null,null,null,"",null,null,null,null,null,null,null,null,null,null,null,null,null,null,null,null,null,null,null,null,null,null,null,null,null,null,null,null,null,null,null,null,null,null,null,null,null,null,null,null,null,"",null,null,null,null,null,null,null,null,null,null,null,null,null,null,null,null,null,null,null,null,null,null,null,null,null,null,null,null,null,null,null,null,null,null,null,null,null,null,null,null,null,"",null,null,null,null,null,null,null,null,null,null,null,null,null,null,null,null,null,null,null,null,null,null,null,null,null,null,null,null,null,null,null,null,null,null,null,null,null,null,null,null,null,"",null,null,null,null,null,null,null,null,null,null,null,null,null,null,null,null,null,null,null,null,null,null,null,null,null,null,null,null,null,null,null,null,null,null,null,null,null,null,null,null,null,"",null,null,null,null,null,null,null,null,null,null,null,null,null,null,null,null,null,null,null,null,null,null,null,null,null,null,null,null,null,null,null,null,null,null,null,null,null,null,null,null,null,"",null,null,null,null,null,null,null,null,null,null,null,null,null,null,null,null,null,null,null,null,null,null,null,null,null,null,null,null,null,null,null,null,null,null,null,null,null,null,null,null,null,"",null,null,null,null,null,null,null,null,null,null,null,null,null,null,null,null,null,null,null,null,null,null,null,null,null,null,null,null,null,null,null,null,null,null,null,null,null,null,null,null,null,"",null,null,null,null,null,null,null,null,null,null,null,null,null,null,null,null,null,null,null,null,null,null,null,null,null,null,null,null,null,null,null,null,null,null,null,null,null,null,null,null,null,"",null,null,null,null,null,null,null,null,null,null,null,null,null,null,null,null,null,null,null,null,null,null,null,null,null,null,null,null,null,null,null,null,null,null,null,null,null,null,null,null,null,"",null,0,0,0,0,0,0,0,0,0,0,{"$f":"SUMPRODUCT($PJ$35:$PS$35,PJ40:PS40)","v":0}]
[null,"1900-01-01",null,0,null,null,null,null,null,null,null,null,null,null,null,null,null,null,null,null,null,null,null,null,null,null,null,null,null,null,null,null,null,null,null,null,null,null,null,null,null,null,null,null,null,"",null,null,null,null,null,null,null,null,null,null,null,null,null,null,null,null,null,null,null,null,null,null,null,null,null,null,null,null,null,null,null,null,null,null,null,null,null,null,null,null,null,"",null,null,null,null,null,null,null,null,null,null,null,null,null,null,null,null,null,null,null,null,null,null,null,null,null,null,null,null,null,null,null,null,null,null,null,null,null,null,null,null,null,"",null,null,null,null,null,null,null,null,null,null,null,null,null,null,null,null,null,null,null,null,null,null,null,null,null,null,null,null,null,null,null,null,null,null,null,null,null,null,null,null,null,"",null,null,null,null,null,null,null,null,null,null,null,null,null,null,null,null,null,null,null,null,null,null,null,null,null,null,null,null,null,null,null,null,null,null,null,null,null,null,null,null,null,"",null,null,null,null,null,null,null,null,null,null,null,null,null,null,null,null,null,null,null,null,null,null,null,null,null,null,null,null,null,null,null,null,null,null,null,null,null,null,null,null,null,"",null,null,null,null,null,null,null,null,null,null,null,null,null,null,null,null,null,null,null,null,null,null,null,null,null,null,null,null,null,null,null,null,null,null,null,null,null,null,null,null,null,"",null,null,null,null,null,null,null,null,null,null,null,null,null,null,null,null,null,null,null,null,null,null,null,null,null,null,null,null,null,null,null,null,null,null,null,null,null,null,null,null,null,"",null,null,null,null,null,null,null,null,null,null,null,null,null,null,null,null,null,null,null,null,null,null,null,null,null,null,null,null,null,null,null,null,null,null,null,null,null,null,null,null,null,"",null,null,null,null,null,null,null,null,null,null,null,null,null,null,null,null,null,null,null,null,null,null,null,null,null,null,null,null,null,null,null,null,null,null,null,null,null,null,null,null,null,"",null,0,0,0,0,0,0,0,0,0,0,0]
[null,"1900-01-01",null,0,null,null,null,null,null,null,null,null,null,null,null,null,null,null,null,null,null,null,null,null,null,null,null,null,null,null,null,null,null,null,null,null,null,null,null,null,null,null,null,null,null,"",null,null,null,null,null,null,null,null,null,null,null,null,null,null,null,null,null,null,null,null,null,null,null,null,null,null,null,null,null,null,null,null,null,null,null,null,null,null,null,null,null,"",null,null,null,null,null,null,null,null,null,null,null,null,null,null,null,null,null,null,null,null,null,null,null,null,null,null,null,null,null,null,null,null,null,null,null,null,null,null,null,null,null,"",null,null,null,null,null,null,null,null,null,null,null,null,null,null,null,null,null,null,null,null,null,null,null,null,null,null,null,null,null,null,null,null,null,null,null,null,null,null,null,null,null,"",null,null,null,null,null,null,null,null,null,null,null,null,null,null,null,null,null,null,null,null,null,null,null,null,null,null,null,null,null,null,null,null,null,null,null,null,null,null,null,null,null,"",null,null,null,null,null,null,null,null,null,null,null,null,null,null,null,null,null,null,null,null,null,null,null,null,null,null,null,null,null,null,null,null,null,null,null,null,null,null,null,null,null,"",null,null,null,null,null,null,null,null,null,null,null,null,null,null,null,null,null,null,null,null,null,null,null,null,null,null,null,null,null,null,null,null,null,null,null,null,null,null,null,null,null,"",null,null,null,null,null,null,null,null,null,null,null,null,null,null,null,null,null,null,null,null,null,null,null,null,null,null,null,null,null,null,null,null,null,null,null,null,null,null,null,null,null,"",null,null,null,null,null,null,null,null,null,null,null,null,null,null,null,null,null,null,null,null,null,null,null,null,null,null,null,null,null,null,null,null,null,null,null,null,null,null,null,null,null,"",null,null,null,null,null,null,null,null,null,null,null,null,null,null,null,null,null,null,null,null,null,null,null,null,null,null,null,null,null,null,null,null,null,null,null,null,null,null,null,null,null,"",null,0,0,0,0,0,0,0,0,0,0,0]
[null,"1900-01-01",null,0,null,null,null,null,null,null,null,null,null,null,null,null,null,null,null,null,null,null,null,null,null,null,null,null,null,null,null,null,null,null,null,null,null,null,null,null,null,null,null,null,null,"",null,null,null,null,null,null,null,null,null,null,null,null,null,null,null,null,null,null,null,null,null,null,null,null,null,null,null,null,null,null,null,null,null,null,null,null,null,null,null,null,null,"",null,null,null,null,null,null,null,null,null,null,null,null,null,null,null,null,null,null,null,null,null,null,null,null,null,null,null,null,null,null,null,null,null,null,null,null,null,null,null,null,null,"",null,null,null,null,null,null,null,null,null,null,null,null,null,null,null,null,null,null,null,null,null,null,null,null,null,null,null,null,null,null,null,null,null,null,null,null,null,null,null,null,null,"",null,null,null,null,null,null,null,null,null,null,null,null,null,null,null,null,null,null,null,null,null,null,null,null,null,null,null,null,null,null,null,null,null,null,null,null,null,null,null,null,null,"",null,null,null,null,null,null,null,null,null,null,null,null,null,null,null,null,null,null,null,null,null,null,null,null,null,null,null,null,null,null,null,null,null,null,null,null,null,null,null,null,null,"",null,null,null,null,null,null,null,null,null,null,null,null,null,null,null,null,null,null,null,null,null,null,null,null,null,null,null,null,null,null,null,null,null,null,null,null,null,null,null,null,null,"",null,null,null,null,null,null,null,null,null,null,null,null,null,null,null,null,null,null,null,null,null,null,null,null,null,null,null,null,null,null,null,null,null,null,null,null,null,null,null,null,null,"",null,null,null,null,null,null,null,null,null,null,null,null,null,null,null,null,null,null,null,null,null,null,null,null,null,null,null,null,null,null,null,null,null,null,null,null,null,null,null,null,null,"",null,null,null,null,null,null,null,null,null,null,null,null,null,null,null,null,null,null,null,null,null,null,null,null,null,null,null,null,null,null,null,null,null,null,null,null,null,null,null,null,null,"",null,0,0,0,0,0,0,0,0,0,0,0]
[null,"1900-01-01",null,0,null,null,null,null,null,null,null,null,null,null,null,null,null,null,null,null,null,null,null,null,null,null,null,null,null,null,null,null,null,null,null,null,null,null,null,null,null,null,null,null,null,"",null,null,null,null,null,null,null,null,null,null,null,null,null,null,null,null,null,null,null,null,null,null,null,null,null,null,null,null,null,null,null,null,null,null,null,null,null,null,null,null,null,"",null,null,null,null,null,null,null,null,null,null,null,null,null,null,null,null,null,null,null,null,null,null,null,null,null,null,null,null,null,null,null,null,null,null,null,null,null,null,null,null,null,"",null,null,null,null,null,null,null,null,null,null,null,null,null,null,null,null,null,null,null,null,null,null,null,null,null,null,null,null,null,null,null,null,null,null,null,null,null,null,null,null,null,"",null,null,null,null,null,null,null,null,null,null,null,null,null,null,null,null,null,null,null,null,null,null,null,null,null,null,null,null,null,null,null,null,null,null,null,null,null,null,null,null,null,"",null,null,null,null,null,null,null,null,null,null,null,null,null,null,null,null,null,null,null,null,null,null,null,null,null,null,null,null,null,null,null,null,null,null,null,null,null,null,null,null,null,"",null,null,null,null,null,null,null,null,null,null,null,null,null,null,null,null,null,null,null,null,null,null,null,null,null,null,null,null,null,null,null,null,null,null,null,null,null,null,null,null,null,"",null,null,null,null,null,null,null,null,null,null,null,null,null,null,null,null,null,null,null,null,null,null,null,null,null,null,null,null,null,null,null,null,null,null,null,null,null,null,null,null,null,"",null,null,null,null,null,null,null,null,null,null,null,null,null,null,null,null,null,null,null,null,null,null,null,null,null,null,null,null,null,null,null,null,null,null,null,null,null,null,null,null,null,"",null,null,null,null,null,null,null,null,null,null,null,null,null,null,null,null,null,null,null,null,null,null,null,null,null,null,null,null,null,null,null,null,null,null,null,null,null,null,null,null,null,"",null,0,0,0,0,0,0,0,0,0,0,0]
[null,"1900-01-01",null,0,null,null,null,null,null,null,null,null,null,null,null,null,null,null,null,null,null,null,null,null,null,null,null,null,null,null,null,null,null,null,null,null,null,null,null,null,null,null,null,null,null,"",null,null,null,null,null,null,null,null,null,null,null,null,null,null,null,null,null,null,null,null,null,null,null,null,null,null,null,null,null,null,null,null,null,null,null,null,null,null,null,null,null,"",null,null,null,null,null,null,null,null,null,null,null,null,null,null,null,null,null,null,null,null,null,null,null,null,null,null,null,null,null,null,null,null,null,null,null,null,null,null,null,null,null,"",null,null,null,null,null,null,null,null,null,null,null,null,null,null,null,null,null,null,null,null,null,null,null,null,null,null,null,null,null,null,null,null,null,null,null,null,null,null,null,null,null,"",null,null,null,null,null,null,null,null,null,null,null,null,null,null,null,null,null,null,null,null,null,null,null,null,null,null,null,null,null,null,null,null,null,null,null,null,null,null,null,null,null,"",null,null,null,null,null,null,null,null,null,null,null,null,null,null,null,null,null,null,null,null,null,null,null,null,null,null,null,null,null,null,null,null,null,null,null,null,null,null,null,null,null,"",null,null,null,null,null,null,null,null,null,null,null,null,null,null,null,null,null,null,null,null,null,null,null,null,null,null,null,null,null,null,null,null,null,null,null,null,null,null,null,null,null,"",null,null,null,null,null,null,null,null,null,null,null,null,null,null,null,null,null,null,null,null,null,null,null,null,null,null,null,null,null,null,null,null,null,null,null,null,null,null,null,null,null,"",null,null,null,null,null,null,null,null,null,null,null,null,null,null,null,null,null,null,null,null,null,null,null,null,null,null,null,null,null,null,null,null,null,null,null,null,null,null,null,null,null,"",null,null,null,null,null,null,null,null,null,null,null,null,null,null,null,null,null,null,null,null,null,null,null,null,null,null,null,null,null,null,null,null,null,null,null,null,null,null,null,null,null,"",null,0,0,0,0,0,0,0,0,0,0,0]
[null,"1900-01-01",null,0,null,null,null,null,null,null,null,null,null,null,null,null,null,null,null,null,null,null,null,null,null,null,null,null,null,null,null,null,null,null,null,null,null,null,null,null,null,null,null,null,null,"",null,null,null,null,null,null,null,null,null,null,null,null,null,null,null,null,null,null,null,null,null,null,null,null,null,null,null,null,null,null,null,null,null,null,null,null,null,null,null,null,null,"",null,null,null,null,null,null,null,null,null,null,null,null,null,null,null,null,null,null,null,null,null,null,null,null,null,null,null,null,null,null,null,null,null,null,null,null,null,null,null,null,null,"",null,null,null,null,null,null,null,null,null,null,null,null,null,null,null,null,null,null,null,null,null,null,null,null,null,null,null,null,null,null,null,null,null,null,null,null,null,null,null,null,null,"",null,null,null,null,null,null,null,null,null,null,null,null,null,null,null,null,null,null,null,null,null,null,null,null,null,null,null,null,null,null,null,null,null,null,null,null,null,null,null,null,null,"",null,null,null,null,null,null,null,null,null,null,null,null,null,null,null,null,null,null,null,null,null,null,null,null,null,null,null,null,null,null,null,null,null,null,null,null,null,null,null,null,null,"",null,null,null,null,null,null,null,null,null,null,null,null,null,null,null,null,null,null,null,null,null,null,null,null,null,null,null,null,null,null,null,null,null,null,null,null,null,null,null,null,null,"",null,null,null,null,null,null,null,null,null,null,null,null,null,null,null,null,null,null,null,null,null,null,null,null,null,null,null,null,null,null,null,null,null,null,null,null,null,null,null,null,null,"",null,null,null,null,null,null,null,null,null,null,null,null,null,null,null,null,null,null,null,null,null,null,null,null,null,null,null,null,null,null,null,null,null,null,null,null,null,null,null,null,null,"",null,null,null,null,null,null,null,null,null,null,null,null,null,null,null,null,null,null,null,null,null,null,null,null,null,null,null,null,null,null,null,null,null,null,null,null,null,null,null,null,null,"",null,0,0,0,0,0,0,0,0,0,0,0]
[null,"1900-01-01",null,0,null,null,null,null,null,null,null,null,null,null,null,null,null,null,null,null,null,null,null,null,null,null,null,null,null,null,null,null,null,null,null,null,null,null,null,null,null,null,null,null,null,"",null,null,null,null,null,null,null,null,null,null,null,null,null,null,null,null,null,null,null,null,null,null,null,null,null,null,null,null,null,null,null,null,null,null,null,null,null,null,null,null,null,"",null,null,null,null,null,null,null,null,null,null,null,null,null,null,null,null,null,null,null,null,null,null,null,null,null,null,null,null,null,null,null,null,null,null,null,null,null,null,null,null,null,"",null,null,null,null,null,null,null,null,null,null,null,null,null,null,null,null,null,null,null,null,null,null,null,null,null,null,null,null,null,null,null,null,null,null,null,null,null,null,null,null,null,"",null,null,null,null,null,null,null,null,null,null,null,null,null,null,null,null,null,null,null,null,null,null,null,null,null,null,null,null,null,null,null,null,null,null,null,null,null,null,null,null,null,"",null,null,null,null,null,null,null,null,null,null,null,null,null,null,null,null,null,null,null,null,null,null,null,null,null,null,null,null,null,null,null,null,null,null,null,null,null,null,null,null,null,"",null,null,null,null,null,null,null,null,null,null,null,null,null,null,null,null,null,null,null,null,null,null,null,null,null,null,null,null,null,null,null,null,null,null,null,null,null,null,null,null,null,"",null,null,null,null,null,null,null,null,null,null,null,null,null,null,null,null,null,null,null,null,null,null,null,null,null,null,null,null,null,null,null,null,null,null,null,null,null,null,null,null,null,"",null,null,null,null,null,null,null,null,null,null,null,null,null,null,null,null,null,null,null,null,null,null,null,null,null,null,null,null,null,null,null,null,null,null,null,null,null,null,null,null,null,"",null,null,null,null,null,null,null,null,null,null,null,null,null,null,null,null,null,null,null,null,null,null,null,null,null,null,null,null,null,null,null,null,null,null,null,null,null,null,null,null,null,"",null,0,0,0,0,0,0,0,0,0,0,0]
[null,"1900-01-01",null,0,null,null,null,null,null,null,null,null,null,null,null,null,null,null,null,null,null,null,null,null,null,null,null,null,null,null,null,null,null,null,null,null,null,null,null,null,null,null,null,null,null,"",null,null,null,null,null,null,null,null,null,null,null,null,null,null,null,null,null,null,null,null,null,null,null,null,null,null,null,null,null,null,null,null,null,null,null,null,null,null,null,null,null,"",null,null,null,null,null,null,null,null,null,null,null,null,null,null,null,null,null,null,null,null,null,null,null,null,null,null,null,null,null,null,null,null,null,null,null,null,null,null,null,null,null,"",null,null,null,null,null,null,null,null,null,null,null,null,null,null,null,null,null,null,null,null,null,null,null,null,null,null,null,null,null,null,null,null,null,null,null,null,null,null,null,null,null,"",null,null,null,null,null,null,null,null,null,null,null,null,null,null,null,null,null,null,null,null,null,null,null,null,null,null,null,null,null,null,null,null,null,null,null,null,null,null,null,null,null,"",null,null,null,null,null,null,null,null,null,null,null,null,null,null,null,null,null,null,null,null,null,null,null,null,null,null,null,null,null,null,null,null,null,null,null,null,null,null,null,null,null,"",null,null,null,null,null,null,null,null,null,null,null,null,null,null,null,null,null,null,null,null,null,null,null,null,null,null,null,null,null,null,null,null,null,null,null,null,null,null,null,null,null,"",null,null,null,null,null,null,null,null,null,null,null,null,null,null,null,null,null,null,null,null,null,null,null,null,null,null,null,null,null,null,null,null,null,null,null,null,null,null,null,null,null,"",null,null,null,null,null,null,null,null,null,null,null,null,null,null,null,null,null,null,null,null,null,null,null,null,null,null,null,null,null,null,null,null,null,null,null,null,null,null,null,null,null,"",null,null,null,null,null,null,null,null,null,null,null,null,null,null,null,null,null,null,null,null,null,null,null,null,null,null,null,null,null,null,null,null,null,null,null,null,null,null,null,null,null,"",null,0,0,0,0,0,0,0,0,0,0,0]
[null,"1900-01-01",null,0,null,null,null,null,null,null,null,null,null,null,null,null,null,null,null,null,null,null,null,null,null,null,null,null,null,null,null,null,null,null,null,null,null,null,null,null,null,null,null,null,null,"",null,null,null,null,null,null,null,null,null,null,null,null,null,null,null,null,null,null,null,null,null,null,null,null,null,null,null,null,null,null,null,null,null,null,null,null,null,null,null,null,null,"",null,null,null,null,null,null,null,null,null,null,null,null,null,null,null,null,null,null,null,null,null,null,null,null,null,null,null,null,null,null,null,null,null,null,null,null,null,null,null,null,null,"",null,null,null,null,null,null,null,null,null,null,null,null,null,null,null,null,null,null,null,null,null,null,null,null,null,null,null,null,null,null,null,null,null,null,null,null,null,null,null,null,null,"",null,null,null,null,null,null,null,null,null,null,null,null,null,null,null,null,null,null,null,null,null,null,null,null,null,null,null,null,null,null,null,null,null,null,null,null,null,null,null,null,null,"",null,null,null,null,null,null,null,null,null,null,null,null,null,null,null,null,null,null,null,null,null,null,null,null,null,null,null,null,null,null,null,null,null,null,null,null,null,null,null,null,null,"",null,null,null,null,null,null,null,null,null,null,null,null,null,null,null,null,null,null,null,null,null,null,null,null,null,null,null,null,null,null,null,null,null,null,null,null,null,null,null,null,null,"",null,null,null,null,null,null,null,null,null,null,null,null,null,null,null,null,null,null,null,null,null,null,null,null,null,null,null,null,null,null,null,null,null,null,null,null,null,null,null,null,null,"",null,null,null,null,null,null,null,null,null,null,null,null,null,null,null,null,null,null,null,null,null,null,null,null,null,null,null,null,null,null,null,null,null,null,null,null,null,null,null,null,null,"",null,null,null,null,null,null,null,null,null,null,null,null,null,null,null,null,null,null,null,null,null,null,null,null,null,null,null,null,null,null,null,null,null,null,null,null,null,null,null,null,null,"",null,0,0,0,0,0,0,0,0,0,0,0]
[null,"1900-01-01",null,0,null,null,null,null,null,null,null,null,null,null,null,null,null,null,null,null,null,null,null,null,null,null,null,null,null,null,null,null,null,null,null,null,null,null,null,null,null,null,null,null,null,"",null,null,null,null,null,null,null,null,null,null,null,null,null,null,null,null,null,null,null,null,null,null,null,null,null,null,null,null,null,null,null,null,null,null,null,null,null,null,null,null,null,"",null,null,null,null,null,null,null,null,null,null,null,null,null,null,null,null,null,null,null,null,null,null,null,null,null,null,null,null,null,null,null,null,null,null,null,null,null,null,null,null,null,"",null,null,null,null,null,null,null,null,null,null,null,null,null,null,null,null,null,null,null,null,null,null,null,null,null,null,null,null,null,null,null,null,null,null,null,null,null,null,null,null,null,"",null,null,null,null,null,null,null,null,null,null,null,null,null,null,null,null,null,null,null,null,null,null,null,null,null,null,null,null,null,null,null,null,null,null,null,null,null,null,null,null,null,"",null,null,null,null,null,null,null,null,null,null,null,null,null,null,null,null,null,null,null,null,null,null,null,null,null,null,null,null,null,null,null,null,null,null,null,null,null,null,null,null,null,"",null,null,null,null,null,null,null,null,null,null,null,null,null,null,null,null,null,null,null,null,null,null,null,null,null,null,null,null,null,null,null,null,null,null,null,null,null,null,null,null,null,"",null,null,null,null,null,null,null,null,null,null,null,null,null,null,null,null,null,null,null,null,null,null,null,null,null,null,null,null,null,null,null,null,null,null,null,null,null,null,null,null,null,"",null,null,null,null,null,null,null,null,null,null,null,null,null,null,null,null,null,null,null,null,null,null,null,null,null,null,null,null,null,null,null,null,null,null,null,null,null,null,null,null,null,"",null,null,null,null,null,null,null,null,null,null,null,null,null,null,null,null,null,null,null,null,null,null,null,null,null,null,null,null,null,null,null,null,null,null,null,null,null,null,null,null,null,"",null,0,0,0,0,0,0,0,0,0,0,0]
[null,"1900-01-01",null,0,null,null,null,null,null,null,null,null,null,null,null,null,null,null,null,null,null,null,null,null,null,null,null,null,null,null,null,null,null,null,null,null,null,null,null,null,null,null,null,null,null,"",null,null,null,null,null,null,null,null,null,null,null,null,null,null,null,null,null,null,null,null,null,null,null,null,null,null,null,null,null,null,null,null,null,null,null,null,null,null,null,null,null,"",null,null,null,null,null,null,null,null,null,null,null,null,null,null,null,null,null,null,null,null,null,null,null,null,null,null,null,null,null,null,null,null,null,null,null,null,null,null,null,null,null,"",null,null,null,null,null,null,null,null,null,null,null,null,null,null,null,null,null,null,null,null,null,null,null,null,null,null,null,null,null,null,null,null,null,null,null,null,null,null,null,null,null,"",null,null,null,null,null,null,null,null,null,null,null,null,null,null,null,null,null,null,null,null,null,null,null,null,null,null,null,null,null,null,null,null,null,null,null,null,null,null,null,null,null,"",null,null,null,null,null,null,null,null,null,null,null,null,null,null,null,null,null,null,null,null,null,null,null,null,null,null,null,null,null,null,null,null,null,null,null,null,null,null,null,null,null,"",null,null,null,null,null,null,null,null,null,null,null,null,null,null,null,null,null,null,null,null,null,null,null,null,null,null,null,null,null,null,null,null,null,null,null,null,null,null,null,null,null,"",null,null,null,null,null,null,null,null,null,null,null,null,null,null,null,null,null,null,null,null,null,null,null,null,null,null,null,null,null,null,null,null,null,null,null,null,null,null,null,null,null,"",null,null,null,null,null,null,null,null,null,null,null,null,null,null,null,null,null,null,null,null,null,null,null,null,null,null,null,null,null,null,null,null,null,null,null,null,null,null,null,null,null,"",null,null,null,null,null,null,null,null,null,null,null,null,null,null,null,null,null,null,null,null,null,null,null,null,null,null,null,null,null,null,null,null,null,null,null,null,null,null,null,null,null,"",null,0,0,0,0,0,0,0,0,0,0,0]
[null,"1900-01-01",null,0,null,null,null,null,null,null,null,null,null,null,null,null,null,null,null,null,null,null,null,null,null,null,null,null,null,null,null,null,null,null,null,null,null,null,null,null,null,null,null,null,null,"",null,null,null,null,null,null,null,null,null,null,null,null,null,null,null,null,null,null,null,null,null,null,null,null,null,null,null,null,null,null,null,null,null,null,null,null,null,null,null,null,null,"",null,null,null,null,null,null,null,null,null,null,null,null,null,null,null,null,null,null,null,null,null,null,null,null,null,null,null,null,null,null,null,null,null,null,null,null,null,null,null,null,null,"",null,null,null,null,null,null,null,null,null,null,null,null,null,null,null,null,null,null,null,null,null,null,null,null,null,null,null,null,null,null,null,null,null,null,null,null,null,null,null,null,null,"",null,null,null,null,null,null,null,null,null,null,null,null,null,null,null,null,null,null,null,null,null,null,null,null,null,null,null,null,null,null,null,null,null,null,null,null,null,null,null,null,null,"",null,null,null,null,null,null,null,null,null,null,null,null,null,null,null,null,null,null,null,null,null,null,null,null,null,null,null,null,null,null,null,null,null,null,null,null,null,null,null,null,null,"",null,null,null,null,null,null,null,null,null,null,null,null,null,null,null,null,null,null,null,null,null,null,null,null,null,null,null,null,null,null,null,null,null,null,null,null,null,null,null,null,null,"",null,null,null,null,null,null,null,null,null,null,null,null,null,null,null,null,null,null,null,null,null,null,null,null,null,null,null,null,null,null,null,null,null,null,null,null,null,null,null,null,null,"",null,null,null,null,null,null,null,null,null,null,null,null,null,null,null,null,null,null,null,null,null,null,null,null,null,null,null,null,null,null,null,null,null,null,null,null,null,null,null,null,null,"",null,null,null,null,null,null,null,null,null,null,null,null,null,null,null,null,null,null,null,null,null,null,null,null,null,null,null,null,null,null,null,null,null,null,null,null,null,null,null,null,null,"",null,0,0,0,0,0,0,0,0,0,0,0]
[null,"1900-01-01",null,0,null,null,null,null,null,null,null,null,null,null,null,null,null,null,null,null,null,null,null,null,null,null,null,null,null,null,null,null,null,null,null,null,null,null,null,null,null,null,null,null,null,"",null,null,null,null,null,null,null,null,null,null,null,null,null,null,null,null,null,null,null,null,null,null,null,null,null,null,null,null,null,null,null,null,null,null,null,null,null,null,null,null,null,"",null,null,null,null,null,null,null,null,null,null,null,null,null,null,null,null,null,null,null,null,null,null,null,null,null,null,null,null,null,null,null,null,null,null,null,null,null,null,null,null,null,"",null,null,null,null,null,null,null,null,null,null,null,null,null,null,null,null,null,null,null,null,null,null,null,null,null,null,null,null,null,null,null,null,null,null,null,null,null,null,null,null,null,"",null,null,null,null,null,null,null,null,null,null,null,null,null,null,null,null,null,null,null,null,null,null,null,null,null,null,null,null,null,null,null,null,null,null,null,null,null,null,null,null,null,"",null,null,null,null,null,null,null,null,null,null,null,null,null,null,null,null,null,null,null,null,null,null,null,null,null,null,null,null,null,null,null,null,null,null,null,null,null,null,null,null,null,"",null,null,null,null,null,null,null,null,null,null,null,null,null,null,null,null,null,null,null,null,null,null,null,null,null,null,null,null,null,null,null,null,null,null,null,null,null,null,null,null,null,"",null,null,null,null,null,null,null,null,null,null,null,null,null,null,null,null,null,null,null,null,null,null,null,null,null,null,null,null,null,null,null,null,null,null,null,null,null,null,null,null,null,"",null,null,null,null,null,null,null,null,null,null,null,null,null,null,null,null,null,null,null,null,null,null,null,null,null,null,null,null,null,null,null,null,null,null,null,null,null,null,null,null,null,"",null,null,null,null,null,null,null,null,null,null,null,null,null,null,null,null,null,null,null,null,null,null,null,null,null,null,null,null,null,null,null,null,null,null,null,null,null,null,null,null,null,"",null,0,0,0,0,0,0,0,0,0,0,0]
[null,null,{"$f":"IF(ABS(D54-365)>4,\"Must have 365 ± 4 days.\",\"\")","v":"Must have 365 ± 4 days."},{"$f":"SUM(D39:D53)","v":0},null,{"$f":"SUM(F39:F53)","v":0},null,{"$f":"SUM(H39:H53)","v":0},null,{"$f":"SUM(J39:J53)","v":0},null,{"$f":"SUM(L39:L53)","v":0},null,{"$f":"SUM(N39:N53)","v":0},null,{"$f":"SUM(P39:P53)","v":0},null,{"$f":"SUM(R39:R53)","v":0},null,{"$f":"SUM(T39:T53)","v":0},null,{"$f":"SUM(V39:V53)","v":0},null,{"$f":"SUM(X39:X53)","v":0},null,{"$f":"SUM(Z39:Z53)","v":0},null,{"$f":"SUM(AB39:AB53)","v":0},null,{"$f":"SUM(AD39:AD53)","v":0},null,{"$f":"SUM(AF39:AF53)","v":0},null,{"$f":"SUM(AH39:AH53)","v":0},null,{"$f":"SUM(AJ39:AJ53)","v":0},null,{"$f":"SUM(AL39:AL53)","v":0},null,{"$f":"SUM(AN39:AN53)","v":0},null,{"$f":"SUM(AP39:AP53)","v":0},null,{"$f":"SUM(AR39:AR53)","v":0},null,{"$f":"SUM(AT39:AT53)","v":0},null,{"$f":"SUM(AV39:AV53)","v":0},null,{"$f":"SUM(AX39:AX53)","v":0},null,{"$f":"SUM(AZ39:AZ53)","v":0},null,{"$f":"SUM(BB39:BB53)","v":0},null,{"$f":"SUM(BD39:BD53)","v":0},null,{"$f":"SUM(BF39:BF53)","v":0},null,{"$f":"SUM(BH39:BH53)","v":0},null,{"$f":"SUM(BJ39:BJ53)","v":0},null,{"$f":"SUM(BL39:BL53)","v":0},null,{"$f":"SUM(BN39:BN53)","v":0},null,{"$f":"SUM(BP39:BP53)","v":0},null,{"$f":"SUM(BR39:BR53)","v":0},null,{"$f":"SUM(BT39:BT53)","v":0},null,{"$f":"SUM(BV39:BV53)","v":0},null,{"$f":"SUM(BX39:BX53)","v":0},null,{"$f":"SUM(BZ39:BZ53)","v":0},null,{"$f":"SUM(CB39:CB53)","v":0},null,{"$f":"SUM(CD39:CD53)","v":0},null,{"$f":"SUM(CF39:CF53)","v":0},null,{"$f":"SUM(CH39:CH53)","v":0},null,{"$f":"SUM(CJ39:CJ53)","v":0},null,{"$f":"SUM(CL39:CL53)","v":0},null,{"$f":"SUM(CN39:CN53)","v":0},null,{"$f":"SUM(CP39:CP53)","v":0},null,{"$f":"SUM(CR39:CR53)","v":0},null,{"$f":"SUM(CT39:CT53)","v":0},null,{"$f":"SUM(CV39:CV53)","v":0},null,{"$f":"SUM(CX39:CX53)","v":0},null,{"$f":"SUM(CZ39:CZ53)","v":0},null,{"$f":"SUM(DB39:DB53)","v":0},null,{"$f":"SUM(DD39:DD53)","v":0},null,{"$f":"SUM(DF39:DF53)","v":0},null,{"$f":"SUM(DH39:DH53)","v":0},null,{"$f":"SUM(DJ39:DJ53)","v":0},null,{"$f":"SUM(DL39:DL53)","v":0},null,{"$f":"SUM(DN39:DN53)","v":0},null,{"$f":"SUM(DP39:DP53)","v":0},null,{"$f":"SUM(DR39:DR53)","v":0},null,{"$f":"SUM(DT39:DT53)","v":0},null,{"$f":"SUM(DV39:DV53)","v":0},null,{"$f":"SUM(DX39:DX53)","v":0},null,{"$f":"SUM(DZ39:DZ53)","v":0},null,{"$f":"SUM(EB39:EB53)","v":0},null,{"$f":"SUM(ED39:ED53)","v":0},null,{"$f":"SUM(EF39:EF53)","v":0},null,{"$f":"SUM(EH39:EH53)","v":0},null,{"$f":"SUM(EJ39:EJ53)","v":0},null,{"$f":"SUM(EL39:EL53)","v":0},null,{"$f":"SUM(EN39:EN53)","v":0},null,{"$f":"SUM(EP39:EP53)","v":0},null,{"$f":"SUM(ER39:ER53)","v":0},null,{"$f":"SUM(ET39:ET53)","v":0},null,{"$f":"SUM(EV39:EV53)","v":0},null,{"$f":"SUM(EX39:EX53)","v":0},null,{"$f":"SUM(EZ39:EZ53)","v":0},null,{"$f":"SUM(FB39:FB53)","v":0},null,{"$f":"SUM(FD39:FD53)","v":0},null,{"$f":"SUM(FF39:FF53)","v":0},null,{"$f":"SUM(FH39:FH53)","v":0},null,{"$f":"SUM(FJ39:FJ53)","v":0},null,{"$f":"SUM(FL39:FL53)","v":0},null,{"$f":"SUM(FN39:FN53)","v":0},null,{"$f":"SUM(FP39:FP53)","v":0},null,{"$f":"SUM(FR39:FR53)","v":0},null,{"$f":"SUM(FT39:FT53)","v":0},null,{"$f":"SUM(FV39:FV53)","v":0},null,{"$f":"SUM(FX39:FX53)","v":0},null,{"$f":"SUM(FZ39:FZ53)","v":0},null,{"$f":"SUM(GB39:GB53)","v":0},null,{"$f":"SUM(GD39:GD53)","v":0},null,{"$f":"SUM(GF39:GF53)","v":0},null,{"$f":"SUM(GH39:GH53)","v":0},null,{"$f":"SUM(GJ39:GJ53)","v":0},null,{"$f":"SUM(GL39:GL53)","v":0},null,{"$f":"SUM(GN39:GN53)","v":0},null,{"$f":"SUM(GP39:GP53)","v":0},null,{"$f":"SUM(GR39:GR53)","v":0},null,{"$f":"SUM(GT39:GT53)","v":0},null,{"$f":"SUM(GV39:GV53)","v":0},null,{"$f":"SUM(GX39:GX53)","v":0},null,{"$f":"SUM(GZ39:GZ53)","v":0},null,{"$f":"SUM(HB39:HB53)","v":0},null,{"$f":"SUM(HD39:HD53)","v":0},null,{"$f":"SUM(HF39:HF53)","v":0},null,{"$f":"SUM(HH39:HH53)","v":0},null,{"$f":"SUM(HJ39:HJ53)","v":0},null,{"$f":"SUM(HL39:HL53)","v":0},null,{"$f":"SUM(HN39:HN53)","v":0},null,{"$f":"SUM(HP39:HP53)","v":0},null,{"$f":"SUM(HR39:HR53)","v":0},null,{"$f":"SUM(HT39:HT53)","v":0},null,{"$f":"SUM(HV39:HV53)","v":0},null,{"$f":"SUM(HX39:HX53)","v":0},null,{"$f":"SUM(HZ39:HZ53)","v":0},null,{"$f":"SUM(IB39:IB53)","v":0},null,{"$f":"SUM(ID39:ID53)","v":0},null,{"$f":"SUM(IF39:IF53)","v":0},null,{"$f":"SUM(IH39:IH53)","v":0},null,{"$f":"SUM(IJ39:IJ53)","v":0},null,{"$f":"SUM(IL39:IL53)","v":0},null,{"$f":"SUM(IN39:IN53)","v":0},null,{"$f":"SUM(IP39:IP53)","v":0},null,{"$f":"SUM(IR39:IR53)","v":0},null,{"$f":"SUM(IT39:IT53)","v":0},null,{"$f":"SUM(IV39:IV53)","v":0},null,{"$f":"SUM(IX39:IX53)","v":0},null,{"$f":"SUM(IZ39:IZ53)","v":0},null,{"$f":"SUM(JB39:JB53)","v":0},null,{"$f":"SUM(JD39:JD53)","v":0},null,{"$f":"SUM(JF39:JF53)","v":0},null,{"$f":"SUM(JH39:JH53)","v":0},null,{"$f":"SUM(JJ39:JJ53)","v":0},null,{"$f":"SUM(JL39:JL53)","v":0},null,{"$f":"SUM(JN39:JN53)","v":0},null,{"$f":"SUM(JP39:JP53)","v":0},null,{"$f":"SUM(JR39:JR53)","v":0},null,{"$f":"SUM(JT39:JT53)","v":0},null,{"$f":"SUM(JV39:JV53)","v":0},null,{"$f":"SUM(JX39:JX53)","v":0},null,{"$f":"SUM(JZ39:JZ53)","v":0},null,{"$f":"SUM(KB39:KB53)","v":0},null,{"$f":"SUM(KD39:KD53)","v":0},null,{"$f":"SUM(KF39:KF53)","v":0},null,{"$f":"SUM(KH39:KH53)","v":0},null,{"$f":"SUM(KJ39:KJ53)","v":0},null,{"$f":"SUM(KL39:KL53)","v":0},null,{"$f":"SUM(KN39:KN53)","v":0},null,{"$f":"SUM(KP39:KP53)","v":0},null,{"$f":"SUM(KR39:KR53)","v":0},null,{"$f":"SUM(KT39:KT53)","v":0},null,{"$f":"SUM(KV39:KV53)","v":0},null,{"$f":"SUM(KX39:KX53)","v":0},null,{"$f":"SUM(KZ39:KZ53)","v":0},null,{"$f":"SUM(LB39:LB53)","v":0},null,{"$f":"SUM(LD39:LD53)","v":0},null,{"$f":"SUM(LF39:LF53)","v":0},null,{"$f":"SUM(LH39:LH53)","v":0},null,{"$f":"SUM(LJ39:LJ53)","v":0},null,{"$f":"SUM(LL39:LL53)","v":0},null,{"$f":"SUM(LN39:LN53)","v":0},null,{"$f":"SUM(LP39:LP53)","v":0},null,{"$f":"SUM(LR39:LR53)","v":0},null,{"$f":"SUM(LT39:LT53)","v":0},null,{"$f":"SUM(LV39:LV53)","v":0},null,{"$f":"SUM(LX39:LX53)","v":0},null,{"$f":"SUM(LZ39:LZ53)","v":0},null,{"$f":"SUM(MB39:MB53)","v":0},null,{"$f":"SUM(MD39:MD53)","v":0},null,{"$f":"SUM(MF39:MF53)","v":0},null,{"$f":"SUM(MH39:MH53)","v":0},null,{"$f":"SUM(MJ39:MJ53)","v":0},null,{"$f":"SUM(ML39:ML53)","v":0},null,{"$f":"SUM(MN39:MN53)","v":0},null,{"$f":"SUM(MP39:MP53)","v":0},null,{"$f":"SUM(MR39:MR53)","v":0},null,{"$f":"SUM(MT39:MT53)","v":0},null,{"$f":"SUM(MV39:MV53)","v":0},null,{"$f":"SUM(MX39:MX53)","v":0},null,{"$f":"SUM(MZ39:MZ53)","v":0},null,{"$f":"SUM(NB39:NB53)","v":0},null,{"$f":"SUM(ND39:ND53)","v":0},null,{"$f":"SUM(NF39:NF53)","v":0},null,{"$f":"SUM(NH39:NH53)","v":0},null,{"$f":"SUM(NJ39:NJ53)","v":0},null,{"$f":"SUM(NL39:NL53)","v":0},null,{"$f":"SUM(NN39:NN53)","v":0},null,{"$f":"SUM(NP39:NP53)","v":0},null,{"$f":"SUM(NR39:NR53)","v":0},null,{"$f":"SUM(NT39:NT53)","v":0},null,{"$f":"SUM(NV39:NV53)","v":0},null,{"$f":"SUM(NX39:NX53)","v":0},null,{"$f":"SUM(NZ39:NZ53)","v":0},null,{"$f":"SUM(OB39:OB53)","v":0},null,{"$f":"SUM(OD39:OD53)","v":0},null,{"$f":"SUM(OF39:OF53)","v":0},null,{"$f":"SUM(OH39:OH53)","v":0},null,{"$f":"SUM(OJ39:OJ53)","v":0},null,{"$f":"SUM(OL39:OL53)","v":0},null,{"$f":"SUM(ON39:ON53)","v":0},null,{"$f":"SUM(OP39:OP53)","v":0},null,{"$f":"SUM(OR39:OR53)","v":0},null,{"$f":"SUM(OT39:OT53)","v":0},null,{"$f":"SUM(OV39:OV53)","v":0},null,{"$f":"SUM(OX39:OX53)","v":0},null,{"$f":"SUM(OZ39:OZ53)","v":0},null,{"$f":"SUM(PB39:PB53)","v":0},null,{"$f":"SUM(PD39:PD53)","v":0},null,{"$f":"SUM(PF39:PF53)","v":0},null,{"$f":"SUM(PH39:PH53)","v":0},null,{"$f":"SUM(PJ39:PJ53)","v":0},{"$f":"SUM(PK39:PK53)","v":0},{"$f":"SUM(PL39:PL53)","v":0},{"$f":"SUM(PM39:PM53)","v":0},0,0,0,0,0,{"$f":"SUM(PS39:PS53)","v":0},{"$f":"SUM(PT39:PT53)","v":0}]
[]
[null,null,null,null,null,"Total Annual Gas Cost",null,"Total Annual Gas Cost",null,"Total Annual Gas Cost",null,"Total Annual Gas Cost",null,"Total Annual Gas Cost",null,"Total Annual Gas Cost",null,"Total Annual Gas Cost",null,"Total Annual Gas Cost",null,"Total Annual Gas Cost",null,"Total Annual Gas Cost",null,"Total Annual Gas Cost",null,"Total Annual Gas Cost",null,"Total Annual Gas Cost",null,"Total Annual Gas Cost",null,"Total Annual Gas Cost",null,"Total Annual Gas Cost",null,"Total Annual Gas Cost",null,"Total Annual Gas Cost",null,"Total Annual Gas Cost",null,"Total Annual Gas Cost",null,"Average Annual Gas  Cost",null,"Total Annual Gas Cost",null,"Total Annual Gas Cost",null,"Total Annual Gas Cost",null,"Total Annual Gas Cost",null,"Total Annual Gas Cost",null,"Total Annual Gas Cost",null,"Total Annual Gas Cost",null,"Total Annual Gas Cost",null,"Total Annual Gas Cost",null,"Total Annual Gas Cost",null,"Total Annual Gas Cost",null,"Total Annual Gas Cost",null,"Total Annual Gas Cost",null,"Total Annual Gas Cost",null,"Total Annual Gas Cost",null,"Total Annual Gas Cost",null,"Total Annual Gas Cost",null,"Total Annual Gas Cost",null,"Total Annual Gas Cost",null,"Total Annual Gas Cost",null,"Average Annual Gas  Cost",null,"Total Annual Gas Cost",null,"Total Annual Gas Cost",null,"Total Annual Gas Cost",null,"Total Annual Gas Cost",null,"Total Annual Gas Cost",null,"Total Annual Gas Cost",null,"Total Annual Gas Cost",null,"Total Annual Gas Cost",null,"Total Annual Gas Cost",null,"Total Annual Gas Cost",null,"Total Annual Gas Cost",null,"Total Annual Gas Cost",null,"Total Annual Gas Cost",null,"Total Annual Gas Cost",null,"Total Annual Gas Cost",null,"Total Annual Gas Cost",null,"Total Annual Gas Cost",null,"Total Annual Gas Cost",null,"Total Annual Gas Cost",null,"Total Annual Gas Cost",null,"Average Annual Gas  Cost",null,"Total Annual Gas Cost",null,"Total Annual Gas Cost",null,"Total Annual Gas Cost",null,"Total Annual Gas Cost",null,"Total Annual Gas Cost",null,"Total Annual Gas Cost",null,"Total Annual Gas Cost",null,"Total Annual Gas Cost",null,"Total Annual Gas Cost",null,"Total Annual Gas Cost",null,"Total Annual Gas Cost",null,"Total Annual Gas Cost",null,"Total Annual Gas Cost",null,"Total Annual Gas Cost",null,"Total Annual Gas Cost",null,"Total Annual Gas Cost",null,"Total Annual Gas Cost",null,"Total Annual Gas Cost",null,"Total Annual Gas Cost",null,"Total Annual Gas Cost",null,"Average Annual Gas  Cost",null,"Total Annual Gas Cost",null,"Total Annual Gas Cost",null,"Total Annual Gas Cost",null,"Total Annual Gas Cost",null,"Total Annual Gas Cost",null,"Total Annual Gas Cost",null,"Total Annual Gas Cost",null,"Total Annual Gas Cost",null,"Total Annual Gas Cost",null,"Total Annual Gas Cost",null,"Total Annual Gas Cost",null,"Total Annual Gas Cost",null,"Total Annual Gas Cost",null,"Total Annual Gas Cost",null,"Total Annual Gas Cost",null,"Total Annual Gas Cost",null,"Total Annual Gas Cost",null,"Total Annual Gas Cost",null,"Total Annual Gas Cost",null,"Total Annual Gas Cost",null,"Average Annual Gas  Cost",null,"Total Annual Gas Cost",null,"Total Annual Gas Cost",null,"Total Annual Gas Cost",null,"Total Annual Gas Cost",null,"Total Annual Gas Cost",null,"Total Annual Gas Cost",null,"Total Annual Gas Cost",null,"Total Annual Gas Cost",null,"Total Annual Gas Cost",null,"Total Annual Gas Cost",null,"Total Annual Gas Cost",null,"Total Annual Gas Cost",null,"Total Annual Gas Cost",null,"Total Annual Gas Cost",null,"Total Annual Gas Cost",null,"Total Annual Gas Cost",null,"Total Annual Gas Cost",null,"Total Annual Gas Cost",null,"Total Annual Gas Cost",null,"Total Annual Gas Cost",null,"Average Annual Gas  Cost",null,"Total Annual Gas Cost",null,"Total Annual Gas Cost",null,"Total Annual Gas Cost",null,"Total Annual Gas Cost",null,"Total Annual Gas Cost",null,"Total Annual Gas Cost",null,"Total Annual Gas Cost",null,"Total Annual Gas Cost",null,"Total Annual Gas Cost",null,"Total Annual Gas Cost",null,"Total Annual Gas Cost",null,"Total Annual Gas Cost",null,"Total Annual Gas Cost",null,"Total Annual Gas Cost",null,"Total Annual Gas Cost",null,"Total Annual Gas Cost",null,"Total Annual Gas Cost",null,"Total Annual Gas Cost",null,"Total Annual Gas Cost",null,"Total Annual Gas Cost",null,"Average Annual Gas  Cost",null,"Total Annual Gas Cost",null,"Total Annual Gas Cost",null,"Total Annual Gas Cost",null,"Total Annual Gas Cost",null,"Total Annual Gas Cost",null,"Total Annual Gas Cost",null,"Total Annual Gas Cost",null,"Total Annual Gas Cost",null,"Total Annual Gas Cost",null,"Total Annual Gas Cost",null,"Total Annual Gas Cost",null,"Total Annual Gas Cost",null,"Total Annual Gas Cost",null,"Total Annual Gas Cost",null,"Total Annual Gas Cost",null,"Total Annual Gas Cost",null,"Total Annual Gas Cost",null,"Total Annual Gas Cost",null,"Total Annual Gas Cost",null,"Total Annual Gas Cost",null,"Average Annual Gas  Cost",null,"Total Annual Gas Cost",null,"Total Annual Gas Cost",null,"Total Annual Gas Cost",null,"Total Annual Gas Cost",null,"Total Annual Gas Cost",null,"Total Annual Gas Cost",null,"Total Annual Gas Cost",null,"Total Annual Gas Cost",null,"Total Annual Gas Cost",null,"Total Annual Gas Cost",null,"Total Annual Gas Cost",null,"Total Annual Gas Cost",null,"Total Annual Gas Cost",null,"Total Annual Gas Cost",null,"Total Annual Gas Cost",null,"Total Annual Gas Cost",null,"Total Annual Gas Cost",null,"Total Annual Gas Cost",null,"Total Annual Gas Cost",null,"Total Annual Gas Cost",null,"Average Annual Gas  Cost",null,"Total Annual Gas Cost",null,"Total Annual Gas Cost",null,"Total Annual Gas Cost",null,"Total Annual Gas Cost",null,"Total Annual Gas Cost",null,"Total Annual Gas Cost",null,"Total Annual Gas Cost",null,"Total Annual Gas Cost",null,"Total Annual Gas Cost",null,"Total Annual Gas Cost",null,"Total Annual Gas Cost",null,"Total Annual Gas Cost",null,"Total Annual Gas Cost",null,"Total Annual Gas Cost",null,"Total Annual Gas Cost",null,"Total Annual Gas Cost",null,"Total Annual Gas Cost",null,"Total Annual Gas Cost",null,"Total Annual Gas Cost",null,"Total Annual Gas Cost",null,"Average Annual Gas  Cost",null,"Average Annual Gas  Cost","Average Annual Gas  Cost","Average Annual Gas  Cost","Average Annual Gas  Cost","Average Annual Gas  Cost","Average Annual Gas  Cost","Average Annual Gas  Cost","Average Annual Gas  Cost","Average Annual Gas  Cost","Average Annual Gas  Cost","Total In-Unit Annual Gas  Cost"]
[null,null,null,null,null,null,null,null,null,null,null,null,null,null,null,null,null,null,null,null,null,null,null,null,null,null,null,null,null,null,null,null,null,null,null,null,null,null,null,null,null,null,null,null,null,{"$f":"IF(F57>0,AVERAGE(F57:AR57),0)","v":0},null,null,null,null,null,null,null,null,null,null,null,null,null,null,null,null,null,null,null,null,null,null,null,null,null,null,null,null,null,null,null,null,null,null,null,null,null,null,null,null,null,{"$f":"IF(AV57>0,AVERAGE(AV57:CH57),0)","v":0},null,null,null,null,null,null,null,null,null,null,null,null,null,null,null,null,null,null,null,null,null,null,null,null,null,null,null,null,null,null,null,null,null,null,null,null,null,null,null,null,null,{"$f":"IF(CL57>0,AVERAGE(CN57:DY57),0)","v":0},null,null,null,null,null,null,null,null,null,null,null,null,null,null,null,null,null,null,null,null,null,null,null,null,null,null,null,null,null,null,null,null,null,null,null,null,null,null,null,null,null,{"$f":"IF(EB57>0,AVERAGE(EB57:FN57),0)","v":0},null,null,null,null,null,null,null,null,null,null,null,null,null,null,null,null,null,null,null,null,null,null,null,null,null,null,null,null,null,null,null,null,null,null,null,null,null,null,null,null,null,{"$f":"IF(FR57>0,AVERAGE(FR57:HD57),0)","v":0},null,null,null,null,null,null,null,null,null,null,null,null,null,null,null,null,null,null,null,null,null,null,null,null,null,null,null,null,null,null,null,null,null,null,null,null,null,null,null,null,null,{"$f":"IF(HH57>0,AVERAGE(HH57:IT57),0)","v":0},null,null,null,null,null,null,null,null,null,null,null,null,null,null,null,null,null,null,null,null,null,null,null,null,null,null,null,null,null,null,null,null,null,null,null,null,null,null,null,null,null,{"$f":"IF(IX57>0,AVERAGE(IX57:KJ57),0)","v":0},null,null,null,null,null,null,null,null,null,null,null,null,null,null,null,null,null,null,null,null,null,null,null,null,null,null,null,null,null,null,null,null,null,null,null,null,null,null,null,null,null,{"$f":"IF(KN57>0,AVERAGE(KN57:LZ57),0)","v":0},null,null,null,null,null,null,null,null,null,null,null,null,null,null,null,null,null,null,null,null,null,null,null,null,null,null,null,null,null,null,null,null,null,null,null,null,null,null,null,null,null,{"$f":"IF(MD57>0,AVERAGE(MD57:NP57),0)","v":0},null,null,null,null,null,null,null,null,null,null,null,null,null,null,null,null,null,null,null,null,null,null,null,null,null,null,null,null,null,null,null,null,null,null,null,null,null,null,null,null,null,{"$f":"IF(NT57>0,AVERAGE(NT57:PF57),0)","v":0},null,{"$f":"AT57","v":0},{"$f":"CJ57","v":0},{"$f":"DZ57","v":0},{"$f":"FP57","v":0},{"$f":"HF57","v":0},{"$f":"IV57","v":0},{"$f":"KL57","v":0},{"$f":"MB57","v":0},{"$f":"NR57","v":0},{"$f":"PH57","v":0},{"$f":"SUMPRODUCT($PJ$35:$PS$35,PJ57:PS57)","v":0}]
[]
[null,"Notes:",null,null,null,{"$f":"PJ9","v":"Unit Type 1"},null,null,null,null,null,null,null,null,null,null,null,null,null,null,null,null,null,null,null,null,null,null,null,null,null,null,null,null,null,null,null,null,null,null,null,null,null,null,null,null,null,{"$f":"PK9","v":"Unit Type 2"},null,null,null,null,null,null,null,null,null,null,null,null,null,null,null,null,null,null,null,null,null,null,null,null,null,null,null,null,null,null,null,null,null,null,null,null,null,null,null,null,null,{"$f":"PL9","v":"Unit Type 3"},null,null,null,null,null,null,null,null,null,null,null,null,null,null,null,null,null,null,null,null,null,null,null,null,null,null,null,null,null,null,null,null,null,null,null,null,null,null,null,null,null,{"$f":"PM9","v":"Unit Type 4"},null,null,null,null,null,null,null,null,null,null,null,null,null,null,null,null,null,null,null,null,null,null,null,null,null,null,null,null,null,null,null,null,null,null,null,null,null,null,null,null,null,{"$f":"PN9","v":"Unit Type 5"},null,null,null,null,null,null,null,null,null,null,null,null,null,null,null,null,null,null,null,null,null,null,null,null,null,null,null,null,null,null,null,null,null,null,null,null,null,null,null,null,null,{"$f":"PO9","v":"Unit Type 6"},null,null,null,null,null,null,null,null,null,null,null,null,null,null,null,null,null,null,null,null,null,null,null,null,null,null,null,null,null,null,null,null,null,null,null,null,null,null,null,null,null,{"$f":"PP9","v":"Unit Type 7"},null,null,null,null,null,null,null,null,null,null,null,null,null,null,null,null,null,null,null,null,null,null,null,null,null,null,null,null,null,null,null,null,null,null,null,null,null,null,null,null,null,{"$f":"PQ9","v":"Unit Type 8"},null,null,null,null,null,null,null,null,null,null,null,null,null,null,null,null,null,null,null,null,null,null,null,null,null,null,null,null,null,null,null,null,null,null,null,null,null,null,null,null,null,{"$f":"PR9","v":"Unit Type 9"},null,null,null,null,null,null,null,null,null,null,null,null,null,null,null,null,null,null,null,null,null,null,null,null,null,null,null,null,null,null,null,null,null,null,null,null,null,null,null,null,null,{"$f":"PS9","v":"Unit Type 10"},null,null,null,null,null,null,null,null,null,null,null,null,null,null,null,null,null,null,null,null,null,null,null,null,null,null,null,null,null,null,null,null,null,null,null,null,null,null,null,null,null,"Notes:"]
[null,null,null,null,null,"Pre-Construction Unit #","Post-Construction Unit #","Pre- Construction Use ","Post-Construction Use","Difference","% Difference",null,null,null,null,null,null,null,null,null,null,null,null,null,null,null,null,null,null,null,null,null,null,null,null,null,null,null,null,null,null,null,null,null,null,null,null,"Pre-Construction Unit #","Post-Construction Unit #","Pre- Construction Use ","Post-Construction Use","Difference","% Difference",null,null,null,null,null,null,null,null,null,null,null,null,null,null,null,null,null,null,null,null,null,null,null,null,null,null,null,null,null,null,null,null,null,null,null,null,"Pre-Construction Unit #","Post-Construction Unit #","Pre- Construction Use ","Post-Construction Use","Difference","% Difference",null,null,null,null,null,null,null,null,null,null,null,null,null,null,null,null,null,null,null,null,null,null,null,null,null,null,null,null,null,null,null,null,null,null,null,null,"Pre-Construction Unit #","Post-Construction Unit #","Pre- Construction Use ","Post-Construction Use","Difference","% Difference",null,null,null,null,null,null,null,null,null,null,null,null,null,null,null,null,null,null,null,null,null,null,null,null,null,null,null,null,null,null,null,null,null,null,null,null,"Pre-Construction Unit #","Post-Construction Unit #","Pre- Construction Use ","Post-Construction Use","Difference","% Difference",null,null,null,null,null,null,null,null,null,null,null,null,null,null,null,null,null,null,null,null,null,null,null,null,null,null,null,null,null,null,null,null,null,null,null,null,"Pre-Construction Unit #","Post-Construction Unit #","Pre- Construction Use ","Post-Construction Use","Difference","% Difference",null,null,null,null,null,null,null,null,null,null,null,null,null,null,null,null,null,null,null,null,null,null,null,null,null,null,null,null,null,null,null,null,null,null,null,null,"Pre-Construction Unit #","Post-Construction Unit #","Pre- Construction Use ","Post-Construction Use","Difference","% Difference",null,null,null,null,null,null,null,null,null,null,null,null,null,null,null,null,null,null,null,null,null,null,null,null,null,null,null,null,null,null,null,null,null,null,null,null,"Pre-Construction Unit #","Post-Construction Unit #","Pre- Construction Use ","Post-Construction Use","Difference","% Difference",null,null,null,null,null,null,null,null,null,null,null,null,null,null,null,null,null,null,null,null,null,null,null,null,null,null,null,null,null,null,null,null,null,null,null,null,"Pre-Construction Unit #","Post-Construction Unit #","Pre- Construction Use ","Post-Construction Use","Difference","% Difference",null,null,null,null,null,null,null,null,null,null,null,null,null,null,null,null,null,null,null,null,null,null,null,null,null,null,null,null,null,null,null,null,null,null,null,null,"Pre-Construction Unit #","Post-Construction Unit #","Pre- Construction Use ","Post-Construction Use","Difference","% Difference"]
[null,null,null,null,null,{"$f":"F7","v":0},{"$f":"F34","v":0},{"$f":"F27","v":0},{"$f":"F54","v":0},{"$f":"I61-H61","v":0},{"$f":"IF(H61>0,J61/H61,\"\")","v":""},null,null,null,null,null,null,null,null,null,null,null,null,null,null,null,null,null,null,null,null,null,null,null,null,null,null,null,null,null,null,null,null,null,null,null,null,{"$f":"AV7","v":0},{"$f":"AV34","v":0},{"$f":"AV27","v":0},{"$f":"AV54","v":0},{"$f":"AY61-AX61","v":0},{"$f":"IF(AX61>0,AZ61/AX61,\"\")","v":""},null,null,null,null,null,null,null,null,null,null,null,null,null,null,null,null,null,null,null,null,null,null,null,null,null,null,null,null,null,null,null,null,null,null,null,null,{"$f":"CL7","v":0},{"$f":"CL34","v":0},{"$f":"CL27","v":0},{"$f":"CL54","v":0},{"$f":"CO61-CN61","v":0},{"$f":"IF(CN61>0,CP61/CN61,\"\")","v":""},null,null,null,null,null,null,null,null,null,null,null,null,null,null,null,null,null,null,null,null,null,null,null,null,null,null,null,null,null,null,null,null,null,null,null,null,{"$f":"EB7","v":0},{"$f":"EB34","v":0},{"$f":"EB27","v":0},{"$f":"EB54","v":0},{"$f":"EE61-ED61","v":0},{"$f":"IF(ED61>0,EF61/ED61,\"\")","v":""},null,null,null,null,null,null,null,null,null,null,null,null,null,null,null,null,null,null,null,null,null,null,null,null,null,null,null,null,null,null,null,null,null,null,null,null,{"$f":"FR7","v":0},{"$f":"FR34","v":0},{"$f":"FR27","v":0},{"$f":"FR54","v":0},{"$f":"FU61-FT61","v":0},{"$f":"IF(FT61>0,FV61/FT61,\"\")","v":""},null,null,null,null,null,null,null,null,null,null,null,null,null,null,null,null,null,null,null,null,null,null,null,null,null,null,null,null,null,null,null,null,null,null,null,null,{"$f":"HH7","v":0},{"$f":"HH34","v":0},{"$f":"HH27","v":0},{"$f":"HH54","v":0},{"$f":"HK61-HJ61","v":0},{"$f":"IF(HJ61>0,HL61/HJ61,\"\")","v":""},null,null,null,null,null,null,null,null,null,null,null,null,null,null,null,null,null,null,null,null,null,null,null,null,null,null,null,null,null,null,null,null,null,null,null,null,{"$f":"IX7","v":0},{"$f":"IX34","v":0},{"$f":"IX27","v":0},{"$f":"IX54","v":0},{"$f":"JA61-IZ61","v":0},{"$f":"IF(IZ61>0,JB61/IZ61,\"\")","v":""},null,null,null,null,null,null,null,null,null,null,null,null,null,null,null,null,null,null,null,null,null,null,null,null,null,null,null,null,null,null,null,null,null,null,null,null,{"$f":"KN7","v":0},{"$f":"KN34","v":0},{"$f":"KN27","v":0},{"$f":"KN54","v":0},{"$f":"KQ61-KP61","v":0},{"$f":"IF(KP61>0,KR61/KP61,\"\")","v":""},null,null,null,null,null,null,null,null,null,null,null,null,null,null,null,null,null,null,null,null,null,null,null,null,null,null,null,null,null,null,null,null,null,null,null,null,{"$f":"MD7","v":0},{"$f":"MD34","v":0},{"$f":"MD27","v":0},{"$f":"MD54","v":0},{"$f":"MG61-MF61","v":0},{"$f":"IF(MF61>0,MH61/MF61,\"\")","v":""},null,null,null,null,null,null,null,null,null,null,null,null,null,null,null,null,null,null,null,null,null,null,null,null,null,null,null,null,null,null,null,null,null,null,null,null,{"$f":"NT7","v":0},{"$f":"NT34","v":0},{"$f":"NT27","v":0},{"$f":"NT54","v":0},{"$f":"NW61-NV61","v":0},{"$f":"IF(NV61>0,NX61/NV61,\"\")","v":""}]
[null,null,null,null,null,{"$f":"H7","v":0},{"$f":"H34","v":0},{"$f":"H27","v":0},{"$f":"H54","v":0},0,"",null,null,null,null,null,null,null,null,null,null,null,null,null,null,null,null,null,null,null,null,null,null,null,null,null,null,null,null,null,null,null,null,null,null,null,null,{"$f":"AX7","v":0},{"$f":"AX34","v":0},{"$f":"AX27","v":0},{"$f":"AX54","v":0},0,"",null,null,null,null,null,null,null,null,null,null,null,null,null,null,null,null,null,null,null,null,null,null,null,null,null,null,null,null,null,null,null,null,null,null,null,null,{"$f":"CN7","v":0},{"$f":"CN34","v":0},{"$f":"CN27","v":0},{"$f":"CN54","v":0},0,"",null,null,null,null,null,null,null,null,null,null,null,null,null,null,null,null,null,null,null,null,null,null,null,null,null,null,null,null,null,null,null,null,null,null,null,null,{"$f":"ED7","v":0},{"$f":"ED34","v":0},{"$f":"ED27","v":0},{"$f":"ED54","v":0},0,"",null,null,null,null,null,null,null,null,null,null,null,null,null,null,null,null,null,null,null,null,null,null,null,null,null,null,null,null,null,null,null,null,null,null,null,null,{"$f":"FT7","v":0},{"$f":"FT34","v":0},{"$f":"FT27","v":0},{"$f":"FT54","v":0},0,"",null,null,null,null,null,null,null,null,null,null,null,null,null,null,null,null,null,null,null,null,null,null,null,null,null,null,null,null,null,null,null,null,null,null,null,null,{"$f":"HJ7","v":0},{"$f":"HJ34","v":0},{"$f":"HJ27","v":0},{"$f":"HJ54","v":0},0,"",null,null,null,null,null,null,null,null,null,null,null,null,null,null,null,null,null,null,null,null,null,null,null,null,null,null,null,null,null,null,null,null,null,null,null,null,{"$f":"IZ7","v":0},{"$f":"IZ34","v":0},{"$f":"IZ27","v":0},{"$f":"IZ54","v":0},0,"",null,null,null,null,null,null,null,null,null,null,null,null,null,null,null,null,null,null,null,null,null,null,null,null,null,null,null,null,null,null,null,null,null,null,null,null,{"$f":"KP7","v":0},{"$f":"KP34","v":0},{"$f":"KP27","v":0},{"$f":"KP54","v":0},0,"",null,null,null,null,null,null,null,null,null,null,null,null,null,null,null,null,null,null,null,null,null,null,null,null,null,null,null,null,null,null,null,null,null,null,null,null,{"$f":"MF7","v":0},{"$f":"MF34","v":0},{"$f":"MF27","v":0},{"$f":"MF54","v":0},0,"",null,null,null,null,null,null,null,null,null,null,null,null,null,null,null,null,null,null,null,null,null,null,null,null,null,null,null,null,null,null,null,null,null,null,null,null,{"$f":"NV7","v":0},{"$f":"NV34","v":0},{"$f":"NV27","v":0},{"$f":"NV54","v":0},0,""]
[null,null,null,null,null,{"$f":"J7","v":0},{"$f":"J34","v":0},{"$f":"J27","v":0},{"$f":"J54","v":0},0,"",null,null,null,null,null,null,null,null,null,null,null,null,null,null,null,null,null,null,null,null,null,null,null,null,null,null,null,null,null,null,null,null,null,null,null,null,{"$f":"AZ7","v":0},{"$f":"AZ34","v":0},{"$f":"AZ27","v":0},{"$f":"AZ54","v":0},0,"",null,null,null,null,null,null,null,null,null,null,null,null,null,null,null,null,null,null,null,null,null,null,null,null,null,null,null,null,null,null,null,null,null,null,null,null,{"$f":"CP7","v":0},{"$f":"CP34","v":0},{"$f":"CP27","v":0},{"$f":"CP54","v":0},0,"",null,null,null,null,null,null,null,null,null,null,null,null,null,null,null,null,null,null,null,null,null,null,null,null,null,null,null,null,null,null,null,null,null,null,null,null,{"$f":"EF7","v":0},{"$f":"EF34","v":0},{"$f":"EF27","v":0},{"$f":"EF54","v":0},0,"",null,null,null,null,null,null,null,null,null,null,null,null,null,null,null,null,null,null,null,null,null,null,null,null,null,null,null,null,null,null,null,null,null,null,null,null,{"$f":"FV7","v":0},{"$f":"FV34","v":0},{"$f":"FV27","v":0},{"$f":"FV54","v":0},0,"",null,null,null,null,null,null,null,null,null,null,null,null,null,null,null,null,null,null,null,null,null,null,null,null,null,null,null,null,null,null,null,null,null,null,null,null,{"$f":"HL7","v":0},{"$f":"HL34","v":0},{"$f":"HL27","v":0},{"$f":"HL54","v":0},0,"",null,null,null,null,null,null,null,null,null,null,null,null,null,null,null,null,null,null,null,null,null,null,null,null,null,null,null,null,null,null,null,null,null,null,null,null,{"$f":"JB7","v":0},{"$f":"JB34","v":0},{"$f":"JB27","v":0},{"$f":"JB54","v":0},0,"",null,null,null,null,null,null,null,null,null,null,null,null,null,null,null,null,null,null,null,null,null,null,null,null,null,null,null,null,null,null,null,null,null,null,null,null,{"$f":"KR7","v":0},{"$f":"KR34","v":0},{"$f":"KR27","v":0},{"$f":"KR54","v":0},0,"",null,null,null,null,null,null,null,null,null,null,null,null,null,null,null,null,null,null,null,null,null,null,null,null,null,null,null,null,null,null,null,null,null,null,null,null,{"$f":"MH7","v":0},{"$f":"MH34","v":0},{"$f":"MH27","v":0},{"$f":"MH54","v":0},0,"",null,null,null,null,null,null,null,null,null,null,null,null,null,null,null,null,null,null,null,null,null,null,null,null,null,null,null,null,null,null,null,null,null,null,null,null,{"$f":"NX7","v":0},{"$f":"NX34","v":0},{"$f":"NX27","v":0},{"$f":"NX54","v":0},0,""]
[null,null,null,null,null,{"$f":"L7","v":0},{"$f":"L34","v":0},{"$f":"L27","v":0},{"$f":"L54","v":0},0,"",null,null,null,null,null,null,null,null,null,null,null,null,null,null,null,null,null,null,null,null,null,null,null,null,null,null,null,null,null,null,null,null,null,null,null,null,{"$f":"BB7","v":0},{"$f":"BB34","v":0},{"$f":"BB27","v":0},{"$f":"BB54","v":0},0,"",null,null,null,null,null,null,null,null,null,null,null,null,null,null,null,null,null,null,null,null,null,null,null,null,null,null,null,null,null,null,null,null,null,null,null,null,{"$f":"CR7","v":0},{"$f":"CR34","v":0},{"$f":"CR27","v":0},{"$f":"CR54","v":0},0,"",null,null,null,null,null,null,null,null,null,null,null,null,null,null,null,null,null,null,null,null,null,null,null,null,null,null,null,null,null,null,null,null,null,null,null,null,{"$f":"EH7","v":0},{"$f":"EH34","v":0},{"$f":"EH27","v":0},{"$f":"EH54","v":0},0,"",null,null,null,null,null,null,null,null,null,null,null,null,null,null,null,null,null,null,null,null,null,null,null,null,null,null,null,null,null,null,null,null,null,null,null,null,{"$f":"FX7","v":0},{"$f":"FX34","v":0},{"$f":"FX27","v":0},{"$f":"FX54","v":0},0,"",null,null,null,null,null,null,null,null,null,null,null,null,null,null,null,null,null,null,null,null,null,null,null,null,null,null,null,null,null,null,null,null,null,null,null,null,{"$f":"HN7","v":0},{"$f":"HN34","v":0},{"$f":"HN27","v":0},{"$f":"HN54","v":0},0,"",null,null,null,null,null,null,null,null,null,null,null,null,null,null,null,null,null,null,null,null,null,null,null,null,null,null,null,null,null,null,null,null,null,null,null,null,{"$f":"JD7","v":0},{"$f":"JD34","v":0},{"$f":"JD27","v":0},{"$f":"JD54","v":0},0,"",null,null,null,null,null,null,null,null,null,null,null,null,null,null,null,null,null,null,null,null,null,null,null,null,null,null,null,null,null,null,null,null,null,null,null,null,{"$f":"KT7","v":0},{"$f":"KT34","v":0},{"$f":"KT27","v":0},{"$f":"KT54","v":0},0,"",null,null,null,null,null,null,null,null,null,null,null,null,null,null,null,null,null,null,null,null,null,null,null,null,null,null,null,null,null,null,null,null,null,null,null,null,{"$f":"MJ7","v":0},{"$f":"MJ34","v":0},{"$f":"MJ27","v":0},{"$f":"MJ54","v":0},0,"",null,null,null,null,null,null,null,null,null,null,null,null,null,null,null,null,null,null,null,null,null,null,null,null,null,null,null,null,null,null,null,null,null,null,null,null,{"$f":"NZ7","v":0},{"$f":"NZ34","v":0},{"$f":"NZ27","v":0},{"$f":"NZ54","v":0},0,""]
[null,null,null,null,null,{"$f":"N7","v":0},{"$f":"N34","v":0},{"$f":"N27","v":0},{"$f":"N54","v":0},0,"",null,null,null,null,null,null,null,null,null,null,null,null,null,null,null,null,null,null,null,null,null,null,null,null,null,null,null,null,null,null,null,null,null,null,null,null,{"$f":"BD7","v":0},{"$f":"BD34","v":0},{"$f":"BD27","v":0},{"$f":"BD54","v":0},0,"",null,null,null,null,null,null,null,null,null,null,null,null,null,null,null,null,null,null,null,null,null,null,null,null,null,null,null,null,null,null,null,null,null,null,null,null,{"$f":"CT7","v":0},{"$f":"CT34","v":0},{"$f":"CT27","v":0},{"$f":"CT54","v":0},0,"",null,null,null,null,null,null,null,null,null,null,null,null,null,null,null,null,null,null,null,null,null,null,null,null,null,null,null,null,null,null,null,null,null,null,null,null,{"$f":"EJ7","v":0},{"$f":"EJ34","v":0},{"$f":"EJ27","v":0},{"$f":"EJ54","v":0},0,"",null,null,null,null,null,null,null,null,null,null,null,null,null,null,null,null,null,null,null,null,null,null,null,null,null,null,null,null,null,null,null,null,null,null,null,null,{"$f":"FZ7","v":0},{"$f":"FZ34","v":0},{"$f":"FZ27","v":0},{"$f":"FZ54","v":0},0,"",null,null,null,null,null,null,null,null,null,null,null,null,null,null,null,null,null,null,null,null,null,null,null,null,null,null,null,null,null,null,null,null,null,null,null,null,{"$f":"HP7","v":0},{"$f":"HP34","v":0},{"$f":"HP27","v":0},{"$f":"HP54","v":0},0,"",null,null,null,null,null,null,null,null,null,null,null,null,null,null,null,null,null,null,null,null,null,null,null,null,null,null,null,null,null,null,null,null,null,null,null,null,{"$f":"JF7","v":0},{"$f":"JF34","v":0},{"$f":"JF27","v":0},{"$f":"JF54","v":0},0,"",null,null,null,null,null,null,null,null,null,null,null,null,null,null,null,null,null,null,null,null,null,null,null,null,null,null,null,null,null,null,null,null,null,null,null,null,{"$f":"KV7","v":0},{"$f":"KV34","v":0},{"$f":"KV27","v":0},{"$f":"KV54","v":0},0,"",null,null,null,null,null,null,null,null,null,null,null,null,null,null,null,null,null,null,null,null,null,null,null,null,null,null,null,null,null,null,null,null,null,null,null,null,{"$f":"ML7","v":0},{"$f":"ML34","v":0},{"$f":"ML27","v":0},{"$f":"ML54","v":0},0,"",null,null,null,null,null,null,null,null,null,null,null,null,null,null,null,null,null,null,null,null,null,null,null,null,null,null,null,null,null,null,null,null,null,null,null,null,{"$f":"OB7","v":0},{"$f":"OB34","v":0},{"$f":"OB27","v":0},{"$f":"OB54","v":0},0,""]
[null,null,null,null,null,{"$f":"P7","v":0},{"$f":"P34","v":0},{"$f":"P27","v":0},{"$f":"P54","v":0},0,"",null,null,null,null,null,null,null,null,null,null,null,null,null,null,null,null,null,null,null,null,null,null,null,null,null,null,null,null,null,null,null,null,null,null,null,null,{"$f":"BF7","v":0},{"$f":"BF34","v":0},{"$f":"BF27","v":0},{"$f":"BF54","v":0},0,"",null,null,null,null,null,null,null,null,null,null,null,null,null,null,null,null,null,null,null,null,null,null,null,null,null,null,null,null,null,null,null,null,null,null,null,null,{"$f":"CV7","v":0},{"$f":"CV34","v":0},{"$f":"CV27","v":0},{"$f":"CV54","v":0},0,"",null,null,null,null,null,null,null,null,null,null,null,null,null,null,null,null,null,null,null,null,null,null,null,null,null,null,null,null,null,null,null,null,null,null,null,null,{"$f":"EL7","v":0},{"$f":"EL34","v":0},{"$f":"EL27","v":0},{"$f":"EL54","v":0},0,"",null,null,null,null,null,null,null,null,null,null,null,null,null,null,null,null,null,null,null,null,null,null,null,null,null,null,null,null,null,null,null,null,null,null,null,null,{"$f":"GB7","v":0},{"$f":"GB34","v":0},{"$f":"GB27","v":0},{"$f":"GB54","v":0},0,"",null,null,null,null,null,null,null,null,null,null,null,null,null,null,null,null,null,null,null,null,null,null,null,null,null,null,null,null,null,null,null,null,null,null,null,null,{"$f":"HR7","v":0},{"$f":"HR34","v":0},{"$f":"HR27","v":0},{"$f":"HR54","v":0},0,"",null,null,null,null,null,null,null,null,null,null,null,null,null,null,null,null,null,null,null,null,null,null,null,null,null,null,null,null,null,null,null,null,null,null,null,null,{"$f":"JH7","v":0},{"$f":"JH34","v":0},{"$f":"JH27","v":0},{"$f":"JH54","v":0},0,"",null,null,null,null,null,null,null,null,null,null,null,null,null,null,null,null,null,null,null,null,null,null,null,null,null,null,null,null,null,null,null,null,null,null,null,null,{"$f":"KX7","v":0},{"$f":"KX34","v":0},{"$f":"KX27","v":0},{"$f":"KX54","v":0},0,"",null,null,null,null,null,null,null,null,null,null,null,null,null,null,null,null,null,null,null,null,null,null,null,null,null,null,null,null,null,null,null,null,null,null,null,null,{"$f":"MN7","v":0},{"$f":"MN34","v":0},{"$f":"MN27","v":0},{"$f":"MN54","v":0},0,"",null,null,null,null,null,null,null,null,null,null,null,null,null,null,null,null,null,null,null,null,null,null,null,null,null,null,null,null,null,null,null,null,null,null,null,null,{"$f":"OD7","v":0},{"$f":"OD34","v":0},{"$f":"OD27","v":0},{"$f":"OD54","v":0},0,""]
[null,null,null,null,null,{"$f":"R7","v":0},{"$f":"R34","v":0},{"$f":"R27","v":0},{"$f":"R54","v":0},0,"",null,null,null,null,null,null,null,null,null,null,null,null,null,null,null,null,null,null,null,null,null,null,null,null,null,null,null,null,null,null,null,null,null,null,null,null,{"$f":"BH7","v":0},{"$f":"BH34","v":0},{"$f":"BH27","v":0},{"$f":"BH54","v":0},0,"",null,null,null,null,null,null,null,null,null,null,null,null,null,null,null,null,null,null,null,null,null,null,null,null,null,null,null,null,null,null,null,null,null,null,null,null,{"$f":"CX7","v":0},{"$f":"CX34","v":0},{"$f":"CX27","v":0},{"$f":"CX54","v":0},0,"",null,null,null,null,null,null,null,null,null,null,null,null,null,null,null,null,null,null,null,null,null,null,null,null,null,null,null,null,null,null,null,null,null,null,null,null,{"$f":"EN7","v":0},{"$f":"EN34","v":0},{"$f":"EN27","v":0},{"$f":"EN54","v":0},0,"",null,null,null,null,null,null,null,null,null,null,null,null,null,null,null,null,null,null,null,null,null,null,null,null,null,null,null,null,null,null,null,null,null,null,null,null,{"$f":"GD7","v":0},{"$f":"GD34","v":0},{"$f":"GD27","v":0},{"$f":"GD54","v":0},0,"",null,null,null,null,null,null,null,null,null,null,null,null,null,null,null,null,null,null,null,null,null,null,null,null,null,null,null,null,null,null,null,null,null,null,null,null,{"$f":"HT7","v":0},{"$f":"HT34","v":0},{"$f":"HT27","v":0},{"$f":"HT54","v":0},0,"",null,null,null,null,null,null,null,null,null,null,null,null,null,null,null,null,null,null,null,null,null,null,null,null,null,null,null,null,null,null,null,null,null,null,null,null,{"$f":"JJ7","v":0},{"$f":"JJ34","v":0},{"$f":"JJ27","v":0},{"$f":"JJ54","v":0},0,"",null,null,null,null,null,null,null,null,null,null,null,null,null,null,null,null,null,null,null,null,null,null,null,null,null,null,null,null,null,null,null,null,null,null,null,null,{"$f":"KZ7","v":0},{"$f":"KZ34","v":0},{"$f":"KZ27","v":0},{"$f":"KZ54","v":0},0,"",null,null,null,null,null,null,null,null,null,null,null,null,null,null,null,null,null,null,null,null,null,null,null,null,null,null,null,null,null,null,null,null,null,null,null,null,{"$f":"MP7","v":0},{"$f":"MP34","v":0},{"$f":"MP27","v":0},{"$f":"MP54","v":0},0,"",null,null,null,null,null,null,null,null,null,null,null,null,null,null,null,null,null,null,null,null,null,null,null,null,null,null,null,null,null,null,null,null,null,null,null,null,{"$f":"OF7","v":0},{"$f":"OF34","v":0},{"$f":"OF27","v":0},{"$f":"OF54","v":0},0,""]
[null,null,null,null,null,{"$f":"T7","v":0},{"$f":"T34","v":0},{"$f":"T27","v":0},{"$f":"T54","v":0},0,"",null,null,null,null,null,null,null,null,null,null,null,null,null,null,null,null,null,null,null,null,null,null,null,null,null,null,null,null,null,null,null,null,null,null,null,null,{"$f":"BJ7","v":0},{"$f":"BJ34","v":0},{"$f":"BJ27","v":0},{"$f":"BJ54","v":0},0,"",null,null,null,null,null,null,null,null,null,null,null,null,null,null,null,null,null,null,null,null,null,null,null,null,null,null,null,null,null,null,null,null,null,null,null,null,{"$f":"CZ7","v":0},{"$f":"CZ34","v":0},{"$f":"CZ27","v":0},{"$f":"CZ54","v":0},0,"",null,null,null,null,null,null,null,null,null,null,null,null,null,null,null,null,null,null,null,null,null,null,null,null,null,null,null,null,null,null,null,null,null,null,null,null,{"$f":"EP7","v":0},{"$f":"EP34","v":0},{"$f":"EP27","v":0},{"$f":"EP54","v":0},0,"",null,null,null,null,null,null,null,null,null,null,null,null,null,null,null,null,null,null,null,null,null,null,null,null,null,null,null,null,null,null,null,null,null,null,null,null,{"$f":"GF7","v":0},{"$f":"GF34","v":0},{"$f":"GF27","v":0},{"$f":"GF54","v":0},0,"",null,null,null,null,null,null,null,null,null,null,null,null,null,null,null,null,null,null,null,null,null,null,null,null,null,null,null,null,null,null,null,null,null,null,null,null,{"$f":"HV7","v":0},{"$f":"HV34","v":0},{"$f":"HV27","v":0},{"$f":"HV54","v":0},0,"",null,null,null,null,null,null,null,null,null,null,null,null,null,null,null,null,null,null,null,null,null,null,null,null,null,null,null,null,null,null,null,null,null,null,null,null,{"$f":"JL7","v":0},{"$f":"JL34","v":0},{"$f":"JL27","v":0},{"$f":"JL54","v":0},0,"",null,null,null,null,null,null,null,null,null,null,null,null,null,null,null,null,null,null,null,null,null,null,null,null,null,null,null,null,null,null,null,null,null,null,null,null,{"$f":"LB7","v":0},{"$f":"LB34","v":0},{"$f":"LB27","v":0},{"$f":"LB54","v":0},0,"",null,null,null,null,null,null,null,null,null,null,null,null,null,null,null,null,null,null,null,null,null,null,null,null,null,null,null,null,null,null,null,null,null,null,null,null,{"$f":"MR7","v":0},{"$f":"MR34","v":0},{"$f":"MR27","v":0},{"$f":"MR54","v":0},0,"",null,null,null,null,null,null,null,null,null,null,null,null,null,null,null,null,null,null,null,null,null,null,null,null,null,null,null,null,null,null,null,null,null,null,null,null,{"$f":"OH7","v":0},{"$f":"OH34","v":0},{"$f":"OH27","v":0},{"$f":"OH54","v":0},0,""]
[null,null,null,null,null,{"$f":"V7","v":0},{"$f":"V34","v":0},{"$f":"V27","v":0},{"$f":"V54","v":0},0,"",null,null,null,null,null,null,null,null,null,null,null,null,null,null,null,null,null,null,null,null,null,null,null,null,null,null,null,null,null,null,null,null,null,null,null,null,{"$f":"BL7","v":0},{"$f":"BL34","v":0},{"$f":"BL27","v":0},{"$f":"BL54","v":0},0,"",null,null,null,null,null,null,null,null,null,null,null,null,null,null,null,null,null,null,null,null,null,null,null,null,null,null,null,null,null,null,null,null,null,null,null,null,{"$f":"DB7","v":0},{"$f":"DB34","v":0},{"$f":"DB27","v":0},{"$f":"DB54","v":0},0,"",null,null,null,null,null,null,null,null,null,null,null,null,null,null,null,null,null,null,null,null,null,null,null,null,null,null,null,null,null,null,null,null,null,null,null,null,{"$f":"ER7","v":0},{"$f":"ER34","v":0},{"$f":"ER27","v":0},{"$f":"ER54","v":0},0,"",null,null,null,null,null,null,null,null,null,null,null,null,null,null,null,null,null,null,null,null,null,null,null,null,null,null,null,null,null,null,null,null,null,null,null,null,{"$f":"GH7","v":0},{"$f":"GH34","v":0},{"$f":"GH27","v":0},{"$f":"GH54","v":0},0,"",null,null,null,null,null,null,null,null,null,null,null,null,null,null,null,null,null,null,null,null,null,null,null,null,null,null,null,null,null,null,null,null,null,null,null,null,{"$f":"HX7","v":0},{"$f":"HX34","v":0},{"$f":"HX27","v":0},{"$f":"HX54","v":0},0,"",null,null,null,null,null,null,null,null,null,null,null,null,null,null,null,null,null,null,null,null,null,null,null,null,null,null,null,null,null,null,null,null,null,null,null,null,{"$f":"JN7","v":0},{"$f":"JN34","v":0},{"$f":"JN27","v":0},{"$f":"JN54","v":0},0,"",null,null,null,null,null,null,null,null,null,null,null,null,null,null,null,null,null,null,null,null,null,null,null,null,null,null,null,null,null,null,null,null,null,null,null,null,{"$f":"LD7","v":0},{"$f":"LD34","v":0},{"$f":"LD27","v":0},{"$f":"LD54","v":0},0,"",null,null,null,null,null,null,null,null,null,null,null,null,null,null,null,null,null,null,null,null,null,null,null,null,null,null,null,null,null,null,null,null,null,null,null,null,{"$f":"MT7","v":0},{"$f":"MT34","v":0},{"$f":"MT27","v":0},{"$f":"MT54","v":0},0,"",null,null,null,null,null,null,null,null,null,null,null,null,null,null,null,null,null,null,null,null,null,null,null,null,null,null,null,null,null,null,null,null,null,null,null,null,{"$f":"OJ7","v":0},{"$f":"OJ34","v":0},{"$f":"OJ27","v":0},{"$f":"OJ54","v":0},0,""]
[null,null,null,null,null,{"$f":"X7","v":0},{"$f":"X34","v":0},{"$f":"X27","v":0},{"$f":"X54","v":0},0,"",null,null,null,null,null,null,null,null,null,null,null,null,null,null,null,null,null,null,null,null,null,null,null,null,null,null,null,null,null,null,null,null,null,null,null,null,{"$f":"BN7","v":0},{"$f":"BN34","v":0},{"$f":"BN27","v":0},{"$f":"BN54","v":0},0,"",null,null,null,null,null,null,null,null,null,null,null,null,null,null,null,null,null,null,null,null,null,null,null,null,null,null,null,null,null,null,null,null,null,null,null,null,{"$f":"DD7","v":0},{"$f":"DD34","v":0},{"$f":"DD27","v":0},{"$f":"DD54","v":0},0,"",null,null,null,null,null,null,null,null,null,null,null,null,null,null,null,null,null,null,null,null,null,null,null,null,null,null,null,null,null,null,null,null,null,null,null,null,{"$f":"ET7","v":0},{"$f":"ET34","v":0},{"$f":"ET27","v":0},{"$f":"ET54","v":0},0,"",null,null,null,null,null,null,null,null,null,null,null,null,null,null,null,null,null,null,null,null,null,null,null,null,null,null,null,null,null,null,null,null,null,null,null,null,{"$f":"GJ7","v":0},{"$f":"GJ34","v":0},{"$f":"GJ27","v":0},{"$f":"GJ54","v":0},0,"",null,null,null,null,null,null,null,null,null,null,null,null,null,null,null,null,null,null,null,null,null,null,null,null,null,null,null,null,null,null,null,null,null,null,null,null,{"$f":"HZ7","v":0},{"$f":"HZ34","v":0},{"$f":"HZ27","v":0},{"$f":"HZ54","v":0},0,"",null,null,null,null,null,null,null,null,null,null,null,null,null,null,null,null,null,null,null,null,null,null,null,null,null,null,null,null,null,null,null,null,null,null,null,null,{"$f":"JP7","v":0},{"$f":"JP34","v":0},{"$f":"JP27","v":0},{"$f":"JP54","v":0},0,"",null,null,null,null,null,null,null,null,null,null,null,null,null,null,null,null,null,null,null,null,null,null,null,null,null,null,null,null,null,null,null,null,null,null,null,null,{"$f":"LF7","v":0},{"$f":"LF34","v":0},{"$f":"LF27","v":0},{"$f":"LF54","v":0},0,"",null,null,null,null,null,null,null,null,null,null,null,null,null,null,null,null,null,null,null,null,null,null,null,null,null,null,null,null,null,null,null,null,null,null,null,null,{"$f":"MV7","v":0},{"$f":"MV34","v":0},{"$f":"MV27","v":0},{"$f":"MV54","v":0},0,"",null,null,null,null,null,null,null,null,null,null,null,null,null,null,null,null,null,null,null,null,null,null,null,null,null,null,null,null,null,null,null,null,null,null,null,null,{"$f":"OL7","v":0},{"$f":"OL34","v":0},{"$f":"OL27","v":0},{"$f":"OL54","v":0},0,""]
[null,null,null,null,null,{"$f":"Z7","v":0},{"$f":"Z34","v":0},{"$f":"Z27","v":0},{"$f":"Z54","v":0},0,"",null,null,null,null,null,null,null,null,null,null,null,null,null,null,null,null,null,null,null,null,null,null,null,null,null,null,null,null,null,null,null,null,null,null,null,null,{"$f":"BP7","v":0},{"$f":"BP34","v":0},{"$f":"BP27","v":0},{"$f":"BP54","v":0},0,"",null,null,null,null,null,null,null,null,null,null,null,null,null,null,null,null,null,null,null,null,null,null,null,null,null,null,null,null,null,null,null,null,null,null,null,null,{"$f":"DF7","v":0},{"$f":"DF34","v":0},{"$f":"DF27","v":0},{"$f":"DF54","v":0},0,"",null,null,null,null,null,null,null,null,null,null,null,null,null,null,null,null,null,null,null,null,null,null,null,null,null,null,null,null,null,null,null,null,null,null,null,null,{"$f":"EV7","v":0},{"$f":"EV34","v":0},{"$f":"EV27","v":0},{"$f":"EV54","v":0},0,"",null,null,null,null,null,null,null,null,null,null,null,null,null,null,null,null,null,null,null,null,null,null,null,null,null,null,null,null,null,null,null,null,null,null,null,null,{"$f":"GL7","v":0},{"$f":"GL34","v":0},{"$f":"GL27","v":0},{"$f":"GL54","v":0},0,"",null,null,null,null,null,null,null,null,null,null,null,null,null,null,null,null,null,null,null,null,null,null,null,null,null,null,null,null,null,null,null,null,null,null,null,null,{"$f":"IB7","v":0},{"$f":"IB34","v":0},{"$f":"IB27","v":0},{"$f":"IB54","v":0},0,"",null,null,null,null,null,null,null,null,null,null,null,null,null,null,null,null,null,null,null,null,null,null,null,null,null,null,null,null,null,null,null,null,null,null,null,null,{"$f":"JR7","v":0},{"$f":"JR34","v":0},{"$f":"JR27","v":0},{"$f":"JR54","v":0},0,"",null,null,null,null,null,null,null,null,null,null,null,null,null,null,null,null,null,null,null,null,null,null,null,null,null,null,null,null,null,null,null,null,null,null,null,null,{"$f":"LH7","v":0},{"$f":"LH34","v":0},{"$f":"LH27","v":0},{"$f":"LH54","v":0},0,"",null,null,null,null,null,null,null,null,null,null,null,null,null,null,null,null,null,null,null,null,null,null,null,null,null,null,null,null,null,null,null,null,null,null,null,null,{"$f":"MX7","v":0},{"$f":"MX34","v":0},{"$f":"MX27","v":0},{"$f":"MX54","v":0},0,"",null,null,null,null,null,null,null,null,null,null,null,null,null,null,null,null,null,null,null,null,null,null,null,null,null,null,null,null,null,null,null,null,null,null,null,null,{"$f":"ON7","v":0},{"$f":"ON34","v":0},{"$f":"ON27","v":0},{"$f":"ON54","v":0},0,""]
[null,null,null,null,null,{"$f":"AB7","v":0},{"$f":"AB34","v":0},{"$f":"AB27","v":0},{"$f":"AB54","v":0},0,"",null,null,null,null,null,null,null,null,null,null,null,null,null,null,null,null,null,null,null,null,null,null,null,null,null,null,null,null,null,null,null,null,null,null,null,null,{"$f":"BR7","v":0},{"$f":"BR34","v":0},{"$f":"BR27","v":0},{"$f":"BR54","v":0},0,"",null,null,null,null,null,null,null,null,null,null,null,null,null,null,null,null,null,null,null,null,null,null,null,null,null,null,null,null,null,null,null,null,null,null,null,null,{"$f":"DH7","v":0},{"$f":"DH34","v":0},{"$f":"DH27","v":0},{"$f":"DH54","v":0},0,"",null,null,null,null,null,null,null,null,null,null,null,null,null,null,null,null,null,null,null,null,null,null,null,null,null,null,null,null,null,null,null,null,null,null,null,null,{"$f":"EX7","v":0},{"$f":"EX34","v":0},{"$f":"EX27","v":0},{"$f":"EX54","v":0},0,"",null,null,null,null,null,null,null,null,null,null,null,null,null,null,null,null,null,null,null,null,null,null,null,null,null,null,null,null,null,null,null,null,null,null,null,null,{"$f":"GN7","v":0},{"$f":"GN34","v":0},{"$f":"GN27","v":0},{"$f":"GN54","v":0},0,"",null,null,null,null,null,null,null,null,null,null,null,null,null,null,null,null,null,null,null,null,null,null,null,null,null,null,null,null,null,null,null,null,null,null,null,null,{"$f":"ID7","v":0},{"$f":"ID34","v":0},{"$f":"ID27","v":0},{"$f":"ID54","v":0},0,"",null,null,null,null,null,null,null,null,null,null,null,null,null,null,null,null,null,null,null,null,null,null,null,null,null,null,null,null,null,null,null,null,null,null,null,null,{"$f":"JT7","v":0},{"$f":"JT34","v":0},{"$f":"JT27","v":0},{"$f":"JT54","v":0},0,"",null,null,null,null,null,null,null,null,null,null,null,null,null,null,null,null,null,null,null,null,null,null,null,null,null,null,null,null,null,null,null,null,null,null,null,null,{"$f":"LJ7","v":0},{"$f":"LJ34","v":0},{"$f":"LJ27","v":0},{"$f":"LJ54","v":0},0,"",null,null,null,null,null,null,null,null,null,null,null,null,null,null,null,null,null,null,null,null,null,null,null,null,null,null,null,null,null,null,null,null,null,null,null,null,{"$f":"MZ7","v":0},{"$f":"MZ34","v":0},{"$f":"MZ27","v":0},{"$f":"MZ54","v":0},0,"",null,null,null,null,null,null,null,null,null,null,null,null,null,null,null,null,null,null,null,null,null,null,null,null,null,null,null,null,null,null,null,null,null,null,null,null,{"$f":"OP7","v":0},{"$f":"OP34","v":0},{"$f":"OP27","v":0},{"$f":"OP54","v":0},0,""]
[null,null,null,null,null,{"$f":"AD7","v":0},{"$f":"AD34","v":0},{"$f":"AD27","v":0},{"$f":"AD54","v":0},0,"",null,null,null,null,null,null,null,null,null,null,null,null,null,null,null,null,null,null,null,null,null,null,null,null,null,null,null,null,null,null,null,null,null,null,null,null,{"$f":"BT7","v":0},{"$f":"BT34","v":0},{"$f":"BT27","v":0},{"$f":"BT54","v":0},0,"",null,null,null,null,null,null,null,null,null,null,null,null,null,null,null,null,null,null,null,null,null,null,null,null,null,null,null,null,null,null,null,null,null,null,null,null,{"$f":"DJ7","v":0},{"$f":"DJ34","v":0},{"$f":"DJ27","v":0},{"$f":"DJ54","v":0},0,"",null,null,null,null,null,null,null,null,null,null,null,null,null,null,null,null,null,null,null,null,null,null,null,null,null,null,null,null,null,null,null,null,null,null,null,null,{"$f":"EZ7","v":0},{"$f":"EZ34","v":0},{"$f":"EZ27","v":0},{"$f":"EZ54","v":0},0,"",null,null,null,null,null,null,null,null,null,null,null,null,null,null,null,null,null,null,null,null,null,null,null,null,null,null,null,null,null,null,null,null,null,null,null,null,{"$f":"GP7","v":0},{"$f":"GP34","v":0},{"$f":"GP27","v":0},{"$f":"GP54","v":0},0,"",null,null,null,null,null,null,null,null,null,null,null,null,null,null,null,null,null,null,null,null,null,null,null,null,null,null,null,null,null,null,null,null,null,null,null,null,{"$f":"IF7","v":0},{"$f":"IF34","v":0},{"$f":"IF27","v":0},{"$f":"IF54","v":0},0,"",null,null,null,null,null,null,null,null,null,null,null,null,null,null,null,null,null,null,null,null,null,null,null,null,null,null,null,null,null,null,null,null,null,null,null,null,{"$f":"JV7","v":0},{"$f":"JV34","v":0},{"$f":"JV27","v":0},{"$f":"JV54","v":0},0,"",null,null,null,null,null,null,null,null,null,null,null,null,null,null,null,null,null,null,null,null,null,null,null,null,null,null,null,null,null,null,null,null,null,null,null,null,{"$f":"LL7","v":0},{"$f":"LL34","v":0},{"$f":"LL27","v":0},{"$f":"LL54","v":0},0,"",null,null,null,null,null,null,null,null,null,null,null,null,null,null,null,null,null,null,null,null,null,null,null,null,null,null,null,null,null,null,null,null,null,null,null,null,{"$f":"NB7","v":0},{"$f":"NB34","v":0},{"$f":"NB27","v":0},{"$f":"NB54","v":0},0,"",null,null,null,null,null,null,null,null,null,null,null,null,null,null,null,null,null,null,null,null,null,null,null,null,null,null,null,null,null,null,null,null,null,null,null,null,{"$f":"OR7","v":0},{"$f":"OR34","v":0},{"$f":"OR27","v":0},{"$f":"OR54","v":0},0,""]
[null,null,null,null,null,{"$f":"AF7","v":0},{"$f":"AF34","v":0},{"$f":"AF27","v":0},{"$f":"AF54","v":0},0,"",null,null,null,null,null,null,null,null,null,null,null,null,null,null,null,null,null,null,null,null,null,null,null,null,null,null,null,null,null,null,null,null,null,null,null,null,{"$f":"BV7","v":0},{"$f":"BV34","v":0},{"$f":"BV27","v":0},{"$f":"BV54","v":0},0,"",null,null,null,null,null,null,null,null,null,null,null,null,null,null,null,null,null,null,null,null,null,null,null,null,null,null,null,null,null,null,null,null,null,null,null,null,{"$f":"DL7","v":0},{"$f":"DL34","v":0},{"$f":"DL27","v":0},{"$f":"DL54","v":0},0,"",null,null,null,null,null,null,null,null,null,null,null,null,null,null,null,null,null,null,null,null,null,null,null,null,null,null,null,null,null,null,null,null,null,null,null,null,{"$f":"FB7","v":0},{"$f":"FB34","v":0},{"$f":"FB27","v":0},{"$f":"FB54","v":0},0,"",null,null,null,null,null,null,null,null,null,null,null,null,null,null,null,null,null,null,null,null,null,null,null,null,null,null,null,null,null,null,null,null,null,null,null,null,{"$f":"GR7","v":0},{"$f":"GR34","v":0},{"$f":"GR27","v":0},{"$f":"GR54","v":0},0,"",null,null,null,null,null,null,null,null,null,null,null,null,null,null,null,null,null,null,null,null,null,null,null,null,null,null,null,null,null,null,null,null,null,null,null,null,{"$f":"IH7","v":0},{"$f":"IH34","v":0},{"$f":"IH27","v":0},{"$f":"IH54","v":0},0,"",null,null,null,null,null,null,null,null,null,null,null,null,null,null,null,null,null,null,null,null,null,null,null,null,null,null,null,null,null,null,null,null,null,null,null,null,{"$f":"JX7","v":0},{"$f":"JX34","v":0},{"$f":"JX27","v":0},{"$f":"JX54","v":0},0,"",null,null,null,null,null,null,null,null,null,null,null,null,null,null,null,null,null,null,null,null,null,null,null,null,null,null,null,null,null,null,null,null,null,null,null,null,{"$f":"LN7","v":0},{"$f":"LN34","v":0},{"$f":"LN27","v":0},{"$f":"LN54","v":0},0,"",null,null,null,null,null,null,null,null,null,null,null,null,null,null,null,null,null,null,null,null,null,null,null,null,null,null,null,null,null,null,null,null,null,null,null,null,{"$f":"ND7","v":0},{"$f":"ND34","v":0},{"$f":"ND27","v":0},{"$f":"ND54","v":0},0,"",null,null,null,null,null,null,null,null,null,null,null,null,null,null,null,null,null,null,null,null,null,null,null,null,null,null,null,null,null,null,null,null,null,null,null,null,{"$f":"OT7","v":0},{"$f":"OT34","v":0},{"$f":"OT27","v":0},{"$f":"OT54","v":0},0,""]
[null,null,null,null,null,{"$f":"AH7","v":0},{"$f":"AH34","v":0},{"$f":"AH27","v":0},{"$f":"AH54","v":0},0,"",null,null,null,null,null,null,null,null,null,null,null,null,null,null,null,null,null,null,null,null,null,null,null,null,null,null,null,null,null,null,null,null,null,null,null,null,{"$f":"BX7","v":0},{"$f":"BX34","v":0},{"$f":"BX27","v":0},{"$f":"BX54","v":0},0,"",null,null,null,null,null,null,null,null,null,null,null,null,null,null,null,null,null,null,null,null,null,null,null,null,null,null,null,null,null,null,null,null,null,null,null,null,{"$f":"DN7","v":0},{"$f":"DN34","v":0},{"$f":"DN27","v":0},{"$f":"DN54","v":0},0,"",null,null,null,null,null,null,null,null,null,null,null,null,null,null,null,null,null,null,null,null,null,null,null,null,null,null,null,null,null,null,null,null,null,null,null,null,{"$f":"FD7","v":0},{"$f":"FD34","v":0},{"$f":"FD27","v":0},{"$f":"FD54","v":0},0,"",null,null,null,null,null,null,null,null,null,null,null,null,null,null,null,null,null,null,null,null,null,null,null,null,null,null,null,null,null,null,null,null,null,null,null,null,{"$f":"GT7","v":0},{"$f":"GT34","v":0},{"$f":"GT27","v":0},{"$f":"GT54","v":0},0,"",null,null,null,null,null,null,null,null,null,null,null,null,null,null,null,null,null,null,null,null,null,null,null,null,null,null,null,null,null,null,null,null,null,null,null,null,{"$f":"IJ7","v":0},{"$f":"IJ34","v":0},{"$f":"IJ27","v":0},{"$f":"IJ54","v":0},0,"",null,null,null,null,null,null,null,null,null,null,null,null,null,null,null,null,null,null,null,null,null,null,null,null,null,null,null,null,null,null,null,null,null,null,null,null,{"$f":"JZ7","v":0},{"$f":"JZ34","v":0},{"$f":"JZ27","v":0},{"$f":"JZ54","v":0},0,"",null,null,null,null,null,null,null,null,null,null,null,null,null,null,null,null,null,null,null,null,null,null,null,null,null,null,null,null,null,null,null,null,null,null,null,null,{"$f":"LP7","v":0},{"$f":"LP34","v":0},{"$f":"LP27","v":0},{"$f":"LP54","v":0},0,"",null,null,null,null,null,null,null,null,null,null,null,null,null,null,null,null,null,null,null,null,null,null,null,null,null,null,null,null,null,null,null,null,null,null,null,null,{"$f":"NF7","v":0},{"$f":"NF34","v":0},{"$f":"NF27","v":0},{"$f":"NF54","v":0},0,"",null,null,null,null,null,null,null,null,null,null,null,null,null,null,null,null,null,null,null,null,null,null,null,null,null,null,null,null,null,null,null,null,null,null,null,null,{"$f":"OV7","v":0},{"$f":"OV34","v":0},{"$f":"OV27","v":0},{"$f":"OV54","v":0},0,""]
[null,null,null,null,null,{"$f":"AJ7","v":0},{"$f":"AJ34","v":0},{"$f":"AJ27","v":0},{"$f":"AJ54","v":0},0,"",null,null,null,null,null,null,null,null,null,null,null,null,null,null,null,null,null,null,null,null,null,null,null,null,null,null,null,null,null,null,null,null,null,null,null,null,{"$f":"BZ7","v":0},{"$f":"BZ34","v":0},{"$f":"BZ27","v":0},{"$f":"BZ54","v":0},0,"",null,null,null,null,null,null,null,null,null,null,null,null,null,null,null,null,null,null,null,null,null,null,null,null,null,null,null,null,null,null,null,null,null,null,null,null,{"$f":"DP7","v":0},{"$f":"DP34","v":0},{"$f":"DP27","v":0},{"$f":"DP54","v":0},0,"",null,null,null,null,null,null,null,null,null,null,null,null,null,null,null,null,null,null,null,null,null,null,null,null,null,null,null,null,null,null,null,null,null,null,null,null,{"$f":"FF7","v":0},{"$f":"FF34","v":0},{"$f":"FF27","v":0},{"$f":"FF54","v":0},0,"",null,null,null,null,null,null,null,null,null,null,null,null,null,null,null,null,null,null,null,null,null,null,null,null,null,null,null,null,null,null,null,null,null,null,null,null,{"$f":"GV7","v":0},{"$f":"GV34","v":0},{"$f":"GV27","v":0},{"$f":"GV54","v":0},0,"",null,null,null,null,null,null,null,null,null,null,null,null,null,null,null,null,null,null,null,null,null,null,null,null,null,null,null,null,null,null,null,null,null,null,null,null,{"$f":"IL7","v":0},{"$f":"IL34","v":0},{"$f":"IL27","v":0},{"$f":"IL54","v":0},0,"",null,null,null,null,null,null,null,null,null,null,null,null,null,null,null,null,null,null,null,null,null,null,null,null,null,null,null,null,null,null,null,null,null,null,null,null,{"$f":"KB7","v":0},{"$f":"KB34","v":0},{"$f":"KB27","v":0},{"$f":"KB54","v":0},0,"",null,null,null,null,null,null,null,null,null,null,null,null,null,null,null,null,null,null,null,null,null,null,null,null,null,null,null,null,null,null,null,null,null,null,null,null,{"$f":"LR7","v":0},{"$f":"LR34","v":0},{"$f":"LR27","v":0},{"$f":"LR54","v":0},0,"",null,null,null,null,null,null,null,null,null,null,null,null,null,null,null,null,null,null,null,null,null,null,null,null,null,null,null,null,null,null,null,null,null,null,null,null,{"$f":"NH7","v":0},{"$f":"NH34","v":0},{"$f":"NH27","v":0},{"$f":"NH54","v":0},0,"",null,null,null,null,null,null,null,null,null,null,null,null,null,null,null,null,null,null,null,null,null,null,null,null,null,null,null,null,null,null,null,null,null,null,null,null,{"$f":"OX7","v":0},{"$f":"OX34","v":0},{"$f":"OX27","v":0},{"$f":"OX54","v":0},0,""]
[null,null,null,null,null,{"$f":"AL7","v":0},{"$f":"AL34","v":0},{"$f":"AL27","v":0},{"$f":"AL54","v":0},0,"",null,null,null,null,null,null,null,null,null,null,null,null,null,null,null,null,null,null,null,null,null,null,null,null,null,null,null,null,null,null,null,null,null,null,null,null,{"$f":"CB7","v":0},{"$f":"CB34","v":0},{"$f":"CB27","v":0},{"$f":"CB54","v":0},0,"",null,null,null,null,null,null,null,null,null,null,null,null,null,null,null,null,null,null,null,null,null,null,null,null,null,null,null,null,null,null,null,null,null,null,null,null,{"$f":"DR7","v":0},{"$f":"DR34","v":0},{"$f":"DR27","v":0},{"$f":"DR54","v":0},0,"",null,null,null,null,null,null,null,null,null,null,null,null,null,null,null,null,null,null,null,null,null,null,null,null,null,null,null,null,null,null,null,null,null,null,null,null,{"$f":"FH7","v":0},{"$f":"FH34","v":0},{"$f":"FH27","v":0},{"$f":"FH54","v":0},0,"",null,null,null,null,null,null,null,null,null,null,null,null,null,null,null,null,null,null,null,null,null,null,null,null,null,null,null,null,null,null,null,null,null,null,null,null,{"$f":"GX7","v":0},{"$f":"GX34","v":0},{"$f":"GX27","v":0},{"$f":"GX54","v":0},0,"",null,null,null,null,null,null,null,null,null,null,null,null,null,null,null,null,null,null,null,null,null,null,null,null,null,null,null,null,null,null,null,null,null,null,null,null,{"$f":"IN7","v":0},{"$f":"IN34","v":0},{"$f":"IN27","v":0},{"$f":"IN54","v":0},0,"",null,null,null,null,null,null,null,null,null,null,null,null,null,null,null,null,null,null,null,null,null,null,null,null,null,null,null,null,null,null,null,null,null,null,null,null,{"$f":"KD7","v":0},{"$f":"KD34","v":0},{"$f":"KD27","v":0},{"$f":"KD54","v":0},0,"",null,null,null,null,null,null,null,null,null,null,null,null,null,null,null,null,null,null,null,null,null,null,null,null,null,null,null,null,null,null,null,null,null,null,null,null,{"$f":"LT7","v":0},{"$f":"LT34","v":0},{"$f":"LT27","v":0},{"$f":"LT54","v":0},0,"",null,null,null,null,null,null,null,null,null,null,null,null,null,null,null,null,null,null,null,null,null,null,null,null,null,null,null,null,null,null,null,null,null,null,null,null,{"$f":"NJ7","v":0},{"$f":"NJ34","v":0},{"$f":"NJ27","v":0},{"$f":"NJ54","v":0},0,"",null,null,null,null,null,null,null,null,null,null,null,null,null,null,null,null,null,null,null,null,null,null,null,null,null,null,null,null,null,null,null,null,null,null,null,null,{"$f":"OZ7","v":0},{"$f":"OZ34","v":0},{"$f":"OZ27","v":0},{"$f":"OZ54","v":0},0,""]
[null,null,null,null,null,{"$f":"AN7","v":0},{"$f":"AN34","v":0},{"$f":"AN27","v":0},{"$f":"AN54","v":0},0,"",null,null,null,null,null,null,null,null,null,null,null,null,null,null,null,null,null,null,null,null,null,null,null,null,null,null,null,null,null,null,null,null,null,null,null,null,{"$f":"CD7","v":0},{"$f":"CD34","v":0},{"$f":"CD27","v":0},{"$f":"CD54","v":0},0,"",null,null,null,null,null,null,null,null,null,null,null,null,null,null,null,null,null,null,null,null,null,null,null,null,null,null,null,null,null,null,null,null,null,null,null,null,{"$f":"DT7","v":0},{"$f":"DT34","v":0},{"$f":"DT27","v":0},{"$f":"DT54","v":0},0,"",null,null,null,null,null,null,null,null,null,null,null,null,null,null,null,null,null,null,null,null,null,null,null,null,null,null,null,null,null,null,null,null,null,null,null,null,{"$f":"FJ7","v":0},{"$f":"FJ34","v":0},{"$f":"FJ27","v":0},{"$f":"FJ54","v":0},0,"",null,null,null,null,null,null,null,null,null,null,null,null,null,null,null,null,null,null,null,null,null,null,null,null,null,null,null,null,null,null,null,null,null,null,null,null,{"$f":"GZ7","v":0},{"$f":"GZ34","v":0},{"$f":"GZ27","v":0},{"$f":"GZ54","v":0},0,"",null,null,null,null,null,null,null,null,null,null,null,null,null,null,null,null,null,null,null,null,null,null,null,null,null,null,null,null,null,null,null,null,null,null,null,null,{"$f":"IP7","v":0},{"$f":"IP34","v":0},{"$f":"IP27","v":0},{"$f":"IP54","v":0},0,"",null,null,null,null,null,null,null,null,null,null,null,null,null,null,null,null,null,null,null,null,null,null,null,null,null,null,null,null,null,null,null,null,null,null,null,null,{"$f":"KF7","v":0},{"$f":"KF34","v":0},{"$f":"KF27","v":0},{"$f":"KF54","v":0},0,"",null,null,null,null,null,null,null,null,null,null,null,null,null,null,null,null,null,null,null,null,null,null,null,null,null,null,null,null,null,null,null,null,null,null,null,null,{"$f":"LV7","v":0},{"$f":"LV34","v":0},{"$f":"LV27","v":0},{"$f":"LV54","v":0},0,"",null,null,null,null,null,null,null,null,null,null,null,null,null,null,null,null,null,null,null,null,null,null,null,null,null,null,null,null,null,null,null,null,null,null,null,null,{"$f":"NL7","v":0},{"$f":"NL34","v":0},{"$f":"NL27","v":0},{"$f":"NL54","v":0},0,"",null,null,null,null,null,null,null,null,null,null,null,null,null,null,null,null,null,null,null,null,null,null,null,null,null,null,null,null,null,null,null,null,null,null,null,null,{"$f":"PB7","v":0},{"$f":"PB34","v":0},{"$f":"PB27","v":0},{"$f":"PB54","v":0},0,""]
[null,null,null,null,null,{"$f":"AP7","v":0},{"$f":"AP34","v":0},{"$f":"AP27","v":0},{"$f":"AP54","v":0},0,"",null,null,null,null,null,null,null,null,null,null,null,null,null,null,null,null,null,null,null,null,null,null,null,null,null,null,null,null,null,null,null,null,null,null,null,null,{"$f":"CF7","v":0},{"$f":"CF34","v":0},{"$f":"CF27","v":0},{"$f":"CF54","v":0},0,"",null,null,null,null,null,null,null,null,null,null,null,null,null,null,null,null,null,null,null,null,null,null,null,null,null,null,null,null,null,null,null,null,null,null,null,null,{"$f":"DV7","v":0},{"$f":"DV34","v":0},{"$f":"DV27","v":0},{"$f":"DV54","v":0},0,"",null,null,null,null,null,null,null,null,null,null,null,null,null,null,null,null,null,null,null,null,null,null,null,null,null,null,null,null,null,null,null,null,null,null,null,null,{"$f":"FL7","v":0},{"$f":"FL34","v":0},{"$f":"FL27","v":0},{"$f":"FL54","v":0},0,"",null,null,null,null,null,null,null,null,null,null,null,null,null,null,null,null,null,null,null,null,null,null,null,null,null,null,null,null,null,null,null,null,null,null,null,null,{"$f":"HB7","v":0},{"$f":"HB34","v":0},{"$f":"HB27","v":0},{"$f":"HB54","v":0},0,"",null,null,null,null,null,null,null,null,null,null,null,null,null,null,null,null,null,null,null,null,null,null,null,null,null,null,null,null,null,null,null,null,null,null,null,null,{"$f":"IR7","v":0},{"$f":"IR34","v":0},{"$f":"IR27","v":0},{"$f":"IR54","v":0},0,"",null,null,null,null,null,null,null,null,null,null,null,null,null,null,null,null,null,null,null,null,null,null,null,null,null,null,null,null,null,null,null,null,null,null,null,null,{"$f":"KH7","v":0},{"$f":"KH34","v":0},{"$f":"KH27","v":0},{"$f":"KH54","v":0},0,"",null,null,null,null,null,null,null,null,null,null,null,null,null,null,null,null,null,null,null,null,null,null,null,null,null,null,null,null,null,null,null,null,null,null,null,null,{"$f":"LX7","v":0},{"$f":"LX34","v":0},{"$f":"LX27","v":0},{"$f":"LX54","v":0},0,"",null,null,null,null,null,null,null,null,null,null,null,null,null,null,null,null,null,null,null,null,null,null,null,null,null,null,null,null,null,null,null,null,null,null,null,null,{"$f":"NN7","v":0},{"$f":"NN34","v":0},{"$f":"NN27","v":0},{"$f":"NN54","v":0},0,"",null,null,null,null,null,null,null,null,null,null,null,null,null,null,null,null,null,null,null,null,null,null,null,null,null,null,null,null,null,null,null,null,null,null,null,null,{"$f":"PD7","v":0},{"$f":"PD34","v":0},{"$f":"PD27","v":0},{"$f":"PD54","v":0},0,""]
[null,null,null,null,null,{"$f":"AR7","v":0},{"$f":"AR34","v":0},{"$f":"AR27","v":0},{"$f":"AR54","v":0},0,"",null,null,null,null,null,null,null,null,null,null,null,null,null,null,null,null,null,null,null,null,null,null,null,null,null,null,null,null,null,null,null,null,null,null,null,null,{"$f":"CH7","v":0},{"$f":"CH34","v":0},{"$f":"CH27","v":0},{"$f":"CH54","v":0},0,"",null,null,null,null,null,null,null,null,null,null,null,null,null,null,null,null,null,null,null,null,null,null,null,null,null,null,null,null,null,null,null,null,null,null,null,null,{"$f":"DX7","v":0},{"$f":"DX34","v":0},{"$f":"DX27","v":0},{"$f":"DX54","v":0},0,null,null,null,null,null,null,null,null,null,null,null,null,null,null,null,null,null,null,null,null,null,null,null,null,null,null,null,null,null,null,null,null,null,null,null,null,null,{"$f":"FN7","v":0},{"$f":"FN34","v":0},{"$f":"FN27","v":0},{"$f":"FN54","v":0},0,"",null,null,null,null,null,null,null,null,null,null,null,null,null,null,null,null,null,null,null,null,null,null,null,null,null,null,null,null,null,null,null,null,null,null,null,null,{"$f":"HD7","v":0},{"$f":"HD34","v":0},{"$f":"HD27","v":0},{"$f":"HD54","v":0},0,"",null,null,null,null,null,null,null,null,null,null,null,null,null,null,null,null,null,null,null,null,null,null,null,null,null,null,null,null,null,null,null,null,null,null,null,null,{"$f":"IT7","v":0},{"$f":"IT34","v":0},{"$f":"IT27","v":0},{"$f":"IT54","v":0},0,"",null,null,null,null,null,null,null,null,null,null,null,null,null,null,null,null,null,null,null,null,null,null,null,null,null,null,null,null,null,null,null,null,null,null,null,null,{"$f":"KJ7","v":0},{"$f":"KJ34","v":0},{"$f":"KJ27","v":0},{"$f":"KJ54","v":0},0,"",null,null,null,null,null,null,null,null,null,null,null,null,null,null,null,null,null,null,null,null,null,null,null,null,null,null,null,null,null,null,null,null,null,null,null,null,{"$f":"LZ7","v":0},{"$f":"LZ34","v":0},{"$f":"LZ27","v":0},{"$f":"LZ54","v":0},0,"",null,null,null,null,null,null,null,null,null,null,null,null,null,null,null,null,null,null,null,null,null,null,null,null,null,null,null,null,null,null,null,null,null,null,null,null,{"$f":"NP7","v":0},{"$f":"NP34","v":0},{"$f":"NP27","v":0},{"$f":"NP54","v":0},0,"",null,null,null,null,null,null,null,null,null,null,null,null,null,null,null,null,null,null,null,null,null,null,null,null,null,null,null,null,null,null,null,null,null,null,null,null,{"$f":"PF7","v":0},{"$f":"PF34","v":0},{"$f":"PF27","v":0},{"$f":"PF54","v":0},0,""]

{"sheet":"Oil","index":7,"n_rows":93,"n_cols":24,"rows_kept":93,"cut":false,"hidden":true,"merged":[[2,1,2,10],[89,4,89,6],[92,1,92,6],[93,1,97,6],[88,4,88,6],[4,1,5,6],[44,4,44,6],[45,4,45,6],[48,1,49,6]]}
[null,"Oil Utility Data Summary"]
[null,"Instructions"]
[null,"1) Enter data for pre-construction energy use in blue cells. Note that for the Model Calibration Tool, inventory readings, including the amount of fuel in storage at the start and end of a period and the amount used during that period, will also be required in order to assess the volume of oil consumed monthly not simply delivered.                                                                                                                                                                                                                              2) If there is on-site generation that runs on oil, please provide the oil consumed in column F.\n3) Hide any unused rows; do not delete them.\n4) Review graphs to the right for irregularities in the usage data.\n5) Post-Construction data will be filled in one year after construction has been completed.\n6) Please use the \"Notes\" field below the data entry section of this tab to explain unusual circumstances, any anomalies in the data, or adjustments made.\n\n"]
[]
[null,"PRE-CONSTRUCTION"]
[null,null,null,null,null,null,null,null,null,null,null,null,null,null,null,"Data for Graph:"]
[null,"Billing Period Start Date","Delivery Date","Days in Billing Period",{"$f":"\"Oil Delivery \n(\"&'Utility Info'!E7&\")\"","v":"Oil Delivery \n(<Not Used>)"},"On-Site Oil Generation\n(MMBtu)","Oil Consumption\n(MMBtu)",null,null,null,null,null,null,null,null,"Delivery Month/Day"]
[]
[null,{"$f":"C8+1","v":"1900-01-01"},null,{"$f":"IF(C9>0,C9+1-B9,0)","v":0},null,null,{"$f":"(E9+F9)*'UDAT Support'!$C$12","v":0},null,null,null,null,null,null,null,null,{"$f":"DATE(2008,MONTH(C9),DAY(C9))","v":"2007-12-31"},null,null,"Gallons",null,"Days",null,"Gal/day"]
[null,{"$f":"C9+1","v":"1900-01-01"},null,{"$f":"IF(C10>0,C10+1-B10,0)","v":0},null,null,{"$f":"(E10+F10)*'UDAT Support'!$C$12","v":0},null,null,null,null,null,null,null,null,{"$f":"DATE(2008,MONTH(C10),DAY(C10))","v":"2007-12-31"},null,"Date","Pre","Post","Pre","Post","Pre","Post"]
[null,"1900-01-01",null,0,null,null,{"$f":"(E11+F11)*'UDAT Support'!$C$12","v":0},null,null,null,null,null,null,null,null,"2007-12-31",null,"2008-01-05",{"$f":"SUMIFS($E$9:$E$42,$P$9:$P$42,\"<=\"&R11)","v":0},{"$f":"SUMIFS($E$53:$E$86,$P$53:$P$86,\"<=\"&R11)","v":0},{"$f":"SUMIFS($D$9:$D$42,$P$9:$P$42,\"<=\"&$R$11)","v":0},{"$f":"SUMIFS($D$53:$D$86,$P$53:$P$86,\"<=\"&$R$11)","v":0},{"$f":"IF(U11>0,S11/U11,0)","v":0},{"$f":"IF(V11>0,T11/V11,0)","v":0}]
[null,"1900-01-01",null,0,null,null,{"$f":"(E12+F12)*'UDAT Support'!$C$12","v":0},null,null,null,null,null,null,null,null,"2007-12-31",null,{"$f":"R11+5","v":"2008-01-10"},{"$f":"SUMIFS($E$9:$E$42,$P$9:$P$42,\">\"& R11,$P$9:$P$42,\"<=\"&R12)","v":0},{"$f":"SUMIFS($E$53:$E$86,$P$53:$P$86,\">\"& R11,$P$53:$P$86,\"<=\"&R12)","v":0},{"$f":"SUMIFS($D$9:$D$42,$P$9:$P$42,\">\"& $R11,$P$9:$P$42,\"<=\"&$R12)","v":0},{"$f":"SUMIFS($D$53:$D$86,$P$53:$P$86,\">\"& $R11,$P$53:$P$86,\"<=\"&$R12)","v":0},{"$f":"IF(U12>0,S12/U12,0)","v":0},0]
[null,"1900-01-01",null,0,null,null,{"$f":"(E13+F13)*'UDAT Support'!$C$12","v":0},null,null,null,null,null,null,null,null,"2007-12-31",null,{"$f":"R12+5","v":"2008-01-15"},0,0,0,0,0,0]
[null,"1900-01-01",null,0,null,null,{"$f":"(E14+F14)*'UDAT Support'!$C$12","v":0},null,null,null,null,null,null,null,null,"2007-12-31",null,"2008-01-20",0,0,0,0,0,0]
[null,"1900-01-01",null,0,null,null,{"$f":"(E15+F15)*'UDAT Support'!$C$12","v":0},null,null,null,null,null,null,null,null,"2007-12-31",null,"2008-01-25",0,0,0,0,0,0]
[null,"1900-01-01",null,0,null,null,{"$f":"(E16+F16)*'UDAT Support'!$C$12","v":0},null,null,null,null,null,null,null,null,"2007-12-31",null,"2008-01-30",0,0,0,0,0,0]
[null,"1900-01-01",null,0,null,null,{"$f":"(E17+F17)*'UDAT Support'!$C$12","v":0},null,null,null,null,null,null,null,null,"2007-12-31",null,"2008-02-04",0,0,0,0,0,0]
[null,"1900-01-01",null,0,null,null,{"$f":"(E18+F18)*'UDAT Support'!$C$12","v":0},null,null,null,null,null,null,null,null,"2007-12-31",null,"2008-02-09",0,0,0,0,0,0]
[null,"1900-01-01",null,0,null,null,{"$f":"(E19+F19)*'UDAT Support'!$C$12","v":0},null,null,null,null,null,null,null,null,"2007-12-31",null,"2008-02-14",0,0,0,0,0,0]
[null,"1900-01-01",null,0,null,null,{"$f":"(E20+F20)*'UDAT Support'!$C$12","v":0},null,null,null,null,null,null,null,null,"2007-12-31",null,"2008-02-19",0,0,0,0,0,0]
[null,"1900-01-01",null,0,null,null,{"$f":"(E21+F21)*'UDAT Support'!$C$12","v":0},null,null,null,null,null,null,null,null,"2007-12-31",null,"2008-02-24",0,0,0,0,0,0]
[null,"1900-01-01",null,0,null,null,{"$f":"(E22+F22)*'UDAT Support'!$C$12","v":0},null,null,null,null,null,null,null,null,"2007-12-31",null,{"$f":"R21+6","v":"2008-03-01"},0,0,0,0,0,0]
[null,"1900-01-01",null,0,null,null,{"$f":"(E23+F23)*'UDAT Support'!$C$12","v":0},null,null,null,null,null,null,null,null,"2007-12-31",null,"2008-03-06",0,0,0,0,0,0]
[null,"1900-01-01",null,0,null,null,{"$f":"(E24+F24)*'UDAT Support'!$C$12","v":0},null,null,null,null,null,null,null,null,"2007-12-31",null,"2008-03-11",0,0,0,0,0,0]
[null,"1900-01-01",null,0,null,null,{"$f":"(E25+F25)*'UDAT Support'!$C$12","v":0},null,null,null,null,null,null,null,null,"2007-12-31",null,"2008-03-16",0,0,0,0,0,0]
[null,"1900-01-01",null,0,null,null,{"$f":"(E26+F26)*'UDAT Support'!$C$12","v":0},null,null,null,null,null,null,null,null,"2007-12-31",null,"2008-03-21",0,0,0,0,0,0]
[null,"1900-01-01",null,0,null,null,{"$f":"(E27+F27)*'UDAT Support'!$C$12","v":0},null,null,null,null,null,null,null,null,"2007-12-31",null,"2008-03-26",0,0,0,0,0,0]
[null,"1900-01-01",null,0,null,null,{"$f":"(E28+F28)*'UDAT Support'!$C$12","v":0},null,null,null,null,null,null,null,null,"2007-12-31",null,"2008-03-31",0,0,0,0,0,0]
[null,"1900-01-01",null,0,null,null,{"$f":"(E29+F29)*'UDAT Support'!$C$12","v":0},null,null,null,null,null,null,null,null,"2007-12-31",null,"2008-04-05",0,0,0,0,0,0]
[null,"1900-01-01",null,0,null,null,{"$f":"(E30+F30)*'UDAT Support'!$C$12","v":0},null,null,null,null,null,null,null,null,"2007-12-31",null,"2008-04-10",0,0,0,0,0,0]
[null,"1900-01-01",null,0,null,null,{"$f":"(E31+F31)*'UDAT Support'!$C$12","v":0},null,null,null,null,null,null,null,null,"2007-12-31",null,"2008-04-15",0,0,0,0,0,0]
[null,"1900-01-01",null,0,null,null,{"$f":"(E32+F32)*'UDAT Support'!$C$12","v":0},null,null,null,null,null,null,null,null,"2007-12-31",null,"2008-04-20",0,0,0,0,0,0]
[null,"1900-01-01",null,0,null,null,{"$f":"(E33+F33)*'UDAT Support'!$C$12","v":0},null,null,null,null,null,null,null,null,"2007-12-31",null,"2008-04-25",0,0,0,0,0,0]
[null,"1900-01-01",null,0,null,null,{"$f":"(E34+F34)*'UDAT Support'!$C$12","v":0},null,null,null,null,null,null,null,null,"2007-12-31",null,"2008-04-30",0,0,0,0,0,0]
[null,"1900-01-01",null,0,null,null,{"$f":"(E35+F35)*'UDAT Support'!$C$12","v":0},null,null,null,null,null,null,null,null,"2007-12-31",null,"2008-05-05",0,0,0,0,0,0]
[null,"1900-01-01",null,0,null,null,{"$f":"(E36+F36)*'UDAT Support'!$C$12","v":0},null,null,null,null,null,null,null,null,"2007-12-31",null,"2008-05-10",0,0,0,0,0,0]
[null,"1900-01-01",null,0,null,null,{"$f":"(E37+F37)*'UDAT Support'!$C$12","v":0},null,null,null,null,null,null,null,null,"2007-12-31",null,"2008-05-15",0,0,0,0,0,0]
[null,"1900-01-01",null,0,null,null,{"$f":"(E38+F38)*'UDAT Support'!$C$12","v":0},null,null,null,null,null,null,null,null,"2007-12-31",null,"2008-05-20",0,0,0,0,0,0]
[null,"1900-01-01",null,0,null,null,{"$f":"(E39+F39)*'UDAT Support'!$C$12","v":0},null,null,null,null,null,null,null,null,"2007-12-31",null,"2008-05-25",0,0,0,0,0,0]
[null,"1900-01-01",null,0,null,null,{"$f":"(E40+F40)*'UDAT Support'!$C$12","v":0},null,null,null,null,null,null,null,null,"2007-12-31",null,"2008-05-30",0,0,0,0,0,0]
[null,"1900-01-01",null,0,null,null,{"$f":"(E41+F41)*'UDAT Support'!$C$12","v":0},null,null,null,null,null,null,null,null,"2007-12-31",null,"2008-06-04",0,0,0,0,0,0]
[null,"1900-01-01",null,0,null,null,{"$f":"(E42+F42)*'UDAT Support'!$C$12","v":0},null,null,null,null,null,null,null,null,"2007-12-31",null,"2008-06-09",0,0,0,0,0,0]
[null,null,{"$f":"IF(ABS(D43-365)>4,\"Must have 365 ± 4 days.\",\"\")","v":"Must have 365 ± 4 days."},{"$f":"SUM(D9:D42)","v":0},{"$f":"SUM(E9:E42)","v":0},{"$f":"SUM(F9:F42)","v":0},{"$f":"SUM(G9:G42)","v":0},null,null,null,null,null,null,null,null,null,null,"2008-06-14",0,0,0,0,0,0]
[null,null,null,null,null,null,null,null,null,null,null,null,null,null,null,null,null,"2008-06-19",0,0,0,0,0,0]
[null,null,null,null,"Total Annual Oil Cost",null,null,null,null,null,null,null,null,null,null,null,null,"2008-06-24",0,0,0,0,0,0]
[null,null,null,null,null,null,null,null,null,null,null,null,null,null,null,null,null,"2008-06-29",0,0,0,0,0,0]
[null,null,null,null,null,null,null,null,null,null,null,null,null,null,null,null,null,"2008-07-04",0,0,0,0,0,0]
[null,null,null,null,null,null,null,null,null,null,null,null,null,null,null,null,null,"2008-07-09",0,0,0,0,0,0]
[null,"POST-CONSTRUCTION",null,null,null,null,null,null,null,null,null,null,null,null,null,null,null,"2008-07-14",0,0,0,0,0,0]
[null,null,null,null,null,null,null,null,null,null,null,null,null,null,null,null,null,"2008-07-19",0,0,0,0,0,0]
[null,"Billing Period Start Date","Delivery Date","Days in Billing Period",{"$f":"\"Oil Delivery \n(\"&'Utility Info'!E16&\")\"","v":"Oil Delivery \n(<Not Used>)"},"On-Site Oil Generation\n(MMBtu)","Oil Consumption\n(MMBtu)",null,null,null,null,null,null,null,null,"Delivery Month/Day",null,"2008-07-24",0,0,0,0,0,0]
[null,null,null,null,null,null,null,null,null,null,null,null,null,null,null,null,null,"2008-07-29",0,0,0,0,0,0]
[null,{"$f":"C52+1","v":"1900-01-01"},null,{"$f":"IF(C53>0,C53+1-B53,0)","v":0},null,null,{"$f":"(E53+F53)*'UDAT Support'!$C$13","v":0},null,null,null,null,null,null,null,null,{"$f":"DATE(2008,MONTH(C53),DAY(C53))","v":"2007-12-31"},null,"2008-08-03",0,0,0,0,0,0]
[null,{"$f":"C53+1","v":"1900-01-01"},null,0,null,null,{"$f":"(E54+F54)*'UDAT Support'!$C$13","v":0},null,null,null,null,null,null,null,null,"2007-12-31",null,"2008-08-08",0,0,0,0,0,0]
[null,"1900-01-01",null,0,null,null,{"$f":"(E55+F55)*'UDAT Support'!$C$13","v":0},null,null,null,null,null,null,null,null,"2007-12-31",null,"2008-08-13",0,0,0,0,0,0]
[null,"1900-01-01",null,0,null,null,{"$f":"(E56+F56)*'UDAT Support'!$C$13","v":0},null,null,null,null,null,null,null,null,"2007-12-31",null,"2008-08-18",0,0,0,0,0,0]
[null,"1900-01-01",null,0,null,null,{"$f":"(E57+F57)*'UDAT Support'!$C$13","v":0},null,null,null,null,null,null,null,null,"2007-12-31",null,"2008-08-23",0,0,0,0,0,0]
[null,"1900-01-01",null,0,null,null,{"$f":"(E58+F58)*'UDAT Support'!$C$13","v":0},null,null,null,null,null,null,null,null,"2007-12-31",null,"2008-08-28",0,0,0,0,0,0]
[null,"1900-01-01",null,0,null,null,{"$f":"(E59+F59)*'UDAT Support'!$C$13","v":0},null,null,null,null,null,null,null,null,"2007-12-31",null,"2008-09-02",0,0,0,0,0,0]
[null,"1900-01-01",null,0,null,null,{"$f":"(E60+F60)*'UDAT Support'!$C$13","v":0},null,null,null,null,null,null,null,null,"2007-12-31",null,"2008-09-07",0,0,0,0,0,0]
[null,"1900-01-01",null,0,null,null,{"$f":"(E61+F61)*'UDAT Support'!$C$13","v":0},null,null,null,null,null,null,null,null,"2007-12-31",null,"2008-09-12",0,0,0,0,0,0]
[null,"1900-01-01",null,0,null,null,{"$f":"(E62+F62)*'UDAT Support'!$C$13","v":0},null,null,null,null,null,null,null,null,"2007-12-31",null,"2008-09-17",0,0,0,0,0,0]
[null,"1900-01-01",null,0,null,null,{"$f":"(E63+F63)*'UDAT Support'!$C$13","v":0},null,null,null,null,null,null,null,null,"2007-12-31",null,"2008-09-22",0,0,0,0,{"$f":"IF(U63>0,S63/U63,0)","v":0},0]
[null,"1900-01-01",null,0,null,null,{"$f":"(E64+F64)*'UDAT Support'!$C$13","v":0},null,null,null,null,null,null,null,null,"2007-12-31",null,"2008-09-27",0,0,0,0,0,0]
[null,"1900-01-01",null,0,null,null,{"$f":"(E65+F65)*'UDAT Support'!$C$13","v":0},null,null,null,null,null,null,null,null,"2007-12-31",null,"2008-10-02",0,0,0,0,0,0]
[null,"1900-01-01",null,0,null,null,{"$f":"(E66+F66)*'UDAT Support'!$C$13","v":0},null,null,null,null,null,null,null,null,"2007-12-31",null,"2008-10-07",0,0,0,0,0,0]
[null,"1900-01-01",null,0,null,null,{"$f":"(E67+F67)*'UDAT Support'!$C$13","v":0},null,null,null,null,null,null,null,null,"2007-12-31",null,"2008-10-12",0,0,0,0,0,0]
[null,"1900-01-01",null,0,null,null,{"$f":"(E68+F68)*'UDAT Support'!$C$13","v":0},null,null,null,null,null,null,null,null,"2007-12-31",null,"2008-10-17",0,0,0,0,0,0]
[null,"1900-01-01",null,0,null,null,{"$f":"(E69+F69)*'UDAT Support'!$C$13","v":0},null,null,null,null,null,null,null,null,"2007-12-31",null,{"$f":"R68+5","v":"2008-10-22"},0,0,0,0,0,0]
[null,"1900-01-01",null,0,null,null,{"$f":"(E70+F70)*'UDAT Support'!$C$13","v":0},null,null,null,null,null,null,null,null,"2007-12-31",null,"2008-10-27",0,0,0,0,0,0]
[null,"1900-01-01",null,0,null,null,{"$f":"(E71+F71)*'UDAT Support'!$C$13","v":0},null,null,null,null,null,null,null,null,"2007-12-31",null,"2008-11-01",0,0,0,0,0,0]
[null,"1900-01-01",null,0,null,null,{"$f":"(E72+F72)*'UDAT Support'!$C$13","v":0},null,null,null,null,null,null,null,null,"2007-12-31",null,"2008-11-06",0,0,0,0,0,0]
[null,"1900-01-01",null,0,null,null,{"$f":"(E73+F73)*'UDAT Support'!$C$13","v":0},null,null,null,null,null,null,null,null,"2007-12-31",null,"2008-11-11",0,0,0,0,0,0]
[null,"1900-01-01",null,0,null,null,{"$f":"(E74+F74)*'UDAT Support'!$C$13","v":0},null,null,null,null,null,null,null,null,"2007-12-31",null,"2008-11-16",0,0,0,0,0,0]
[null,"1900-01-01",null,0,null,null,{"$f":"(E75+F75)*'UDAT Support'!$C$13","v":0},null,null,null,null,null,null,null,null,"2007-12-31",null,"2008-11-21",0,0,0,0,0,0]
[null,"1900-01-01",null,0,null,null,{"$f":"(E76+F76)*'UDAT Support'!$C$13","v":0},null,null,null,null,null,null,null,null,"2007-12-31",null,"2008-11-26",{"$f":"SUMIFS($E$9:$E$42,$P$9:$P$42,\">\"& R75,$P$9:$P$42,\"<=\"&R76)","v":0},{"$f":"SUMIFS($E$53:$E$86,$P$53:$P$86,\">\"& R75,$P$53:$P$86,\"<=\"&R76)","v":0},{"$f":"SUMIFS($D$9:$D$42,$P$9:$P$42,\">\"& $R75,$P$9:$P$42,\"<=\"&$R76)","v":0},{"$f":"SUMIFS($D$53:$D$86,$P$53:$P$86,\">\"& $R75,$P$53:$P$86,\"<=\"&$R76)","v":0},0,0]
[null,"1900-01-01",null,0,null,null,{"$f":"(E77+F77)*'UDAT Support'!$C$13","v":0},null,null,null,null,null,null,null,null,"2007-12-31",null,{"$f":"R76+5","v":"2008-12-01"},0,0,0,0,0,0]
[null,"1900-01-01",null,0,null,null,{"$f":"(E78+F78)*'UDAT Support'!$C$13","v":0},null,null,null,null,null,null,null,null,"2007-12-31",null,"2008-12-06",0,0,0,0,0,0]
[null,"1900-01-01",null,0,null,null,{"$f":"(E79+F79)*'UDAT Support'!$C$13","v":0},null,null,null,null,null,null,null,null,"2007-12-31",null,"2008-12-11",0,0,0,0,0,0]
[null,"1900-01-01",null,0,null,null,{"$f":"(E80+F80)*'UDAT Support'!$C$13","v":0},null,null,null,null,null,null,null,null,"2007-12-31",null,"2008-12-16",0,0,0,0,0,0]
[null,"1900-01-01",null,0,null,null,{"$f":"(E81+F81)*'UDAT Support'!$C$13","v":0},null,null,null,null,null,null,null,null,"2007-12-31",null,"2008-12-21",0,0,0,0,0,0]
[null,"1900-01-01",null,0,null,null,{"$f":"(E82+F82)*'UDAT Support'!$C$13","v":0},null,null,null,null,null,null,null,null,"2007-12-31",null,"2008-12-26",0,0,0,0,0,0]
[null,"1900-01-01",null,0,null,null,{"$f":"(E83+F83)*'UDAT Support'!$C$13","v":0},null,null,null,null,null,null,null,null,"2007-12-31",null,{"$f":"R82+5","v":"2008-12-31"},0,0,0,0,0,0]
[null,"1900-01-01",null,0,null,null,{"$f":"(E84+F84)*'UDAT Support'!$C$13","v":0},null,null,null,null,null,null,null,null,"2007-12-31"]
[null,"1900-01-01",null,0,null,null,{"$f":"(E85+F85)*'UDAT Support'!$C$13","v":0},null,null,null,null,null,null,null,null,"2007-12-31"]
[null,"1900-01-01",null,0,null,null,{"$f":"(E86+F86)*'UDAT Support'!$C$13","v":0},null,null,null,null,null,null,null,null,"2007-12-31"]
[null,null,{"$f":"IF(ABS(D87-365)>4,\"Must have 365 ± 4 days.\",\"\")","v":"Must have 365 ± 4 days."},{"$f":"SUM(D53:D86)","v":0},{"$f":"SUM(E53:E86)","v":0},{"$f":"SUM(F53:F86)","v":0},{"$f":"SUM(G53:G86)","v":0}]
[]
[null,null,null,null,"Total Annual Oil Cost"]
[]
[]
[]
[null,"Notes:"]

{"sheet":"Propane","index":8,"n_rows":92,"n_cols":24,"rows_kept":92,"cut":false,"hidden":true,"merged":[[2,1,2,10],[89,4,89,6],[91,1,91,6],[92,1,96,6],[88,4,88,6],[4,1,5,6],[44,4,44,6],[45,4,45,6],[48,1,49,6]]}
[null,"Propane Utility Data Summary"]
[null,"Instructions"]
[null,"1) Enter data for pre-construction energy use in blue cells. Note that for the Model Calibration Tool, inventory readings, including the amount of fuel in storage at the start and end of a period and the amount used during that period, will also be required in order to assess the volume of propane consumed monthly not simply delivered.                                                                                                                                                                                                                                                                 2) If there is on-site generation that runs on propane, please provide the propane consumed in column F.\n3) Hide any unused rows; do not delete them.\n4) Review graphs to the right for irregularities in the usage data.\n5) Post-Construction data will be filled in one year after construction has been completed.\n6) Please use the \"Notes\" field below the data entry section of this tab to explain unusual circumstances, any anomalies in the data, or adjustments made.\n\n"]
[]
[null,"PRE-CONSTRUCTION"]
[null,null,null,null,null,null,null,null,null,null,null,null,null,null,null,"Data for Graph:"]
[null,"Billing Period Start Date","Delivery Date","Days in Billing Period",{"$f":"\"Propane Delivery \n(\"&'Utility Info'!F7&\")\"","v":"Propane Delivery \n(<Not Used>)"},"On-Site Propane Generation\n(MMBtu)","Propane Consumption\n(MMBtu)",null,null,null,null,null,null,null,null,"Delivery Month/Day"]
[]
[null,{"$f":"C8+1","v":"1900-01-01"},null,{"$f":"IF(C9>0,C9+1-B9,0)","v":0},null,null,{"$f":"(E9+F9)*'UDAT Support'!$B$37","v":0},null,null,null,null,null,null,null,null,{"$f":"DATE(2008,MONTH(C9),DAY(C9))","v":"2007-12-31"},null,null,"Gallons",null,"Days",null,"Gal/day"]
[null,{"$f":"C9+1","v":"1900-01-01"},null,{"$f":"IF(C10>0,C10+1-B10,0)","v":0},null,null,{"$f":"(E10+F10)*'UDAT Support'!$B$37","v":0},null,null,null,null,null,null,null,null,{"$f":"DATE(2008,MONTH(C10),DAY(C10))","v":"2007-12-31"},null,"Date","Pre","Post","Pre","Post","Pre","Post"]
[null,"1900-01-01",null,0,null,null,{"$f":"(E11+F11)*'UDAT Support'!$B$37","v":0},null,null,null,null,null,null,null,null,"2007-12-31",null,"2008-01-05",{"$f":"SUMIFS($E$9:$E$42,$P$9:$P$42,\"<=\"&R11)","v":0},{"$f":"SUMIFS($E$53:$E$86,$P$53:$P$86,\"<=\"&R11)","v":0},{"$f":"SUMIFS($D$9:$D$42,$P$9:$P$42,\"<=\"&$R$11)","v":0},{"$f":"SUMIFS($D$53:$D$86,$P$53:$P$86,\"<=\"&$R$11)","v":0},{"$f":"IF(U11>0,S11/U11,0)","v":0},{"$f":"IF(V11>0,T11/V11,0)","v":0}]
[null,"1900-01-01",null,0,null,null,{"$f":"(E12+F12)*'UDAT Support'!$B$37","v":0},null,null,null,null,null,null,null,null,"2007-12-31",null,{"$f":"R11+5","v":"2008-01-10"},{"$f":"SUMIFS($E$9:$E$42,$P$9:$P$42,\">\"& R11,$P$9:$P$42,\"<=\"&R12)","v":0},{"$f":"SUMIFS($E$53:$E$86,$P$53:$P$86,\">\"& R11,$P$53:$P$86,\"<=\"&R12)","v":0},{"$f":"SUMIFS($D$9:$D$42,$P$9:$P$42,\">\"& $R11,$P$9:$P$42,\"<=\"&$R12)","v":0},{"$f":"SUMIFS($D$53:$D$86,$P$53:$P$86,\">\"& $R11,$P$53:$P$86,\"<=\"&$R12)","v":0},{"$f":"IF(U12>0,S12/U12,0)","v":0},0]
[null,"1900-01-01",null,0,null,null,{"$f":"(E13+F13)*'UDAT Support'!$B$37","v":0},null,null,null,null,null,null,null,null,"2007-12-31",null,{"$f":"R12+5","v":"2008-01-15"},0,0,0,0,0,0]
[null,"1900-01-01",null,0,null,null,{"$f":"(E14+F14)*'UDAT Support'!$B$37","v":0},null,null,null,null,null,null,null,null,"2007-12-31",null,"2008-01-20",0,0,0,0,0,0]
[null,"1900-01-01",null,0,null,null,{"$f":"(E15+F15)*'UDAT Support'!$B$37","v":0},null,null,null,null,null,null,null,null,"2007-12-31",null,"2008-01-25",0,0,0,0,0,0]
[null,"1900-01-01",null,0,null,null,{"$f":"(E16+F16)*'UDAT Support'!$B$37","v":0},null,null,null,null,null,null,null,null,"2007-12-31",null,"2008-01-30",0,0,0,0,0,0]
[null,"1900-01-01",null,0,null,null,{"$f":"(E17+F17)*'UDAT Support'!$B$37","v":0},null,null,null,null,null,null,null,null,"2007-12-31",null,"2008-02-04",0,0,0,0,0,0]
[null,"1900-01-01",null,0,null,null,{"$f":"(E18+F18)*'UDAT Support'!$B$37","v":0},null,null,null,null,null,null,null,null,"2007-12-31",null,"2008-02-09",0,0,0,0,0,0]
[null,"1900-01-01",null,0,null,null,{"$f":"(E19+F19)*'UDAT Support'!$B$37","v":0},null,null,null,null,null,null,null,null,"2007-12-31",null,"2008-02-14",0,0,0,0,0,0]
[null,"1900-01-01",null,0,null,null,{"$f":"(E20+F20)*'UDAT Support'!$B$37","v":0},null,null,null,null,null,null,null,null,"2007-12-31",null,"2008-02-19",0,0,0,0,0,0]
[null,"1900-01-01",null,0,null,null,{"$f":"(E21+F21)*'UDAT Support'!$B$37","v":0},null,null,null,null,null,null,null,null,"2007-12-31",null,"2008-02-24",0,0,0,0,0,0]
[null,"1900-01-01",null,0,null,null,{"$f":"(E22+F22)*'UDAT Support'!$B$37","v":0},null,null,null,null,null,null,null,null,"2007-12-31",null,{"$f":"R21+6","v":"2008-03-01"},0,0,0,0,0,0]
[null,"1900-01-01",null,0,null,null,{"$f":"(E23+F23)*'UDAT Support'!$B$37","v":0},null,null,null,null,null,null,null,null,"2007-12-31",null,"2008-03-06",0,0,0,0,0,0]
[null,"1900-01-01",null,0,null,null,{"$f":"(E24+F24)*'UDAT Support'!$B$37","v":0},null,null,null,null,null,null,null,null,"2007-12-31",null,"2008-03-11",0,0,0,0,0,0]
[null,"1900-01-01",null,0,null,null,{"$f":"(E25+F25)*'UDAT Support'!$B$37","v":0},null,null,null,null,null,null,null,null,"2007-12-31",null,"2008-03-16",0,0,0,0,0,0]
[null,"1900-01-01",null,0,null,null,{"$f":"(E26+F26)*'UDAT Support'!$B$37","v":0},null,null,null,null,null,null,null,null,"2007-12-31",null,"2008-03-21",0,0,0,0,0,0]
[null,"1900-01-01",null,0,null,null,{"$f":"(E27+F27)*'UDAT Support'!$B$37","v":0},null,null,null,null,null,null,null,null,"2007-12-31",null,"2008-03-26",0,0,0,0,0,0]
[null,"1900-01-01",null,0,null,null,{"$f":"(E28+F28)*'UDAT Support'!$B$37","v":0},null,null,null,null,null,null,null,null,"2007-12-31",null,"2008-03-31",0,0,0,0,0,0]
[null,"1900-01-01",null,0,null,null,{"$f":"(E29+F29)*'UDAT Support'!$B$37","v":0},null,null,null,null,null,null,null,null,"2007-12-31",null,"2008-04-05",0,0,0,0,0,0]
[null,"1900-01-01",null,0,null,null,{"$f":"(E30+F30)*'UDAT Support'!$B$37","v":0},null,null,null,null,null,null,null,null,"2007-12-31",null,"2008-04-10",0,0,0,0,0,0]
[null,"1900-01-01",null,0,null,null,{"$f":"(E31+F31)*'UDAT Support'!$B$37","v":0},null,null,null,null,null,null,null,null,"2007-12-31",null,"2008-04-15",0,0,0,0,0,0]
[null,"1900-01-01",null,0,null,null,{"$f":"(E32+F32)*'UDAT Support'!$B$37","v":0},null,null,null,null,null,null,null,null,"2007-12-31",null,"2008-04-20",0,0,0,0,0,0]
[null,"1900-01-01",null,0,null,null,{"$f":"(E33+F33)*'UDAT Support'!$B$37","v":0},null,null,null,null,null,null,null,null,"2007-12-31",null,"2008-04-25",0,0,0,0,0,0]
[null,"1900-01-01",null,0,null,null,{"$f":"(E34+F34)*'UDAT Support'!$B$37","v":0},null,null,null,null,null,null,null,null,"2007-12-31",null,"2008-04-30",0,0,0,0,0,0]
[null,"1900-01-01",null,0,null,null,{"$f":"(E35+F35)*'UDAT Support'!$B$37","v":0},null,null,null,null,null,null,null,null,"2007-12-31",null,"2008-05-05",0,0,0,0,0,0]
[null,"1900-01-01",null,0,null,null,{"$f":"(E36+F36)*'UDAT Support'!$B$37","v":0},null,null,null,null,null,null,null,null,"2007-12-31",null,"2008-05-10",0,0,0,0,0,0]
[null,"1900-01-01",null,0,null,null,{"$f":"(E37+F37)*'UDAT Support'!$B$37","v":0},null,null,null,null,null,null,null,null,"2007-12-31",null,"2008-05-15",0,0,0,0,0,0]
[null,"1900-01-01",null,0,null,null,{"$f":"(E38+F38)*'UDAT Support'!$B$37","v":0},null,null,null,null,null,null,null,null,"2007-12-31",null,"2008-05-20",0,0,0,0,0,0]
[null,"1900-01-01",null,0,null,null,{"$f":"(E39+F39)*'UDAT Support'!$B$37","v":0},null,null,null,null,null,null,null,null,"2007-12-31",null,"2008-05-25",0,0,0,0,0,0]
[null,"1900-01-01",null,0,null,null,{"$f":"(E40+F40)*'UDAT Support'!$B$37","v":0},null,null,null,null,null,null,null,null,"2007-12-31",null,"2008-05-30",0,0,0,0,0,0]
[null,"1900-01-01",null,0,null,null,{"$f":"(E41+F41)*'UDAT Support'!$B$37","v":0},null,null,null,null,null,null,null,null,"2007-12-31",null,"2008-06-04",0,0,0,0,0,0]
[null,"1900-01-01",null,0,null,null,{"$f":"(E42+F42)*'UDAT Support'!$B$37","v":0},null,null,null,null,null,null,null,null,"2007-12-31",null,"2008-06-09",0,0,0,0,0,0]
[null,null,{"$f":"IF(ABS(D43-365)>4,\"Must have 365 ± 4 days.\",\"\")","v":"Must have 365 ± 4 days."},{"$f":"SUM(D9:D42)","v":0},{"$f":"SUM(E9:E42)","v":0},{"$f":"SUM(F9:F42)","v":0},{"$f":"SUM(G9:G42)","v":0},null,null,null,null,null,null,null,null,null,null,"2008-06-14",0,0,0,0,0,0]
[null,null,null,null,null,null,null,null,null,null,null,null,null,null,null,null,null,"2008-06-19",0,0,0,0,0,0]
[null,null,null,null,"Total Annual Propane Cost",null,null,null,null,null,null,null,null,null,null,null,null,"2008-06-24",0,0,0,0,0,0]
[null,null,null,null,null,null,null,null,null,null,null,null,null,null,null,null,null,"2008-06-29",0,0,0,0,0,0]
[null,null,null,null,null,null,null,null,null,null,null,null,null,null,null,null,null,"2008-07-04",0,0,0,0,0,0]
[null,null,null,null,null,null,null,null,null,null,null,null,null,null,null,null,null,"2008-07-09",0,0,0,0,0,0]
[null,"POST-CONSTRUCTION",null,null,null,null,null,null,null,null,null,null,null,null,null,null,null,"2008-07-14",0,0,0,0,0,0]
[null,null,null,null,null,null,null,null,null,null,null,null,null,null,null,null,null,"2008-07-19",0,0,0,0,0,0]
[null,"Billing Period Start Date","Delivery Date","Days in Billing Period",{"$f":"\"Propane Delivery \n(\"&'Utility Info'!F16&\")\"","v":"Propane Delivery \n(<Not Used>)"},"On-Site Propane Generation\n(MMBtu)","Propane Consumption\n(MMBtu)",null,null,null,null,null,null,null,null,"Delivery Month/Day",null,"2008-07-24",0,0,0,0,0,0]
[null,null,null,null,null,null,null,null,null,null,null,null,null,null,null,null,null,"2008-07-29",0,0,0,0,0,0]
[null,{"$f":"C52+1","v":"1900-01-01"},null,{"$f":"IF(C53>0,C53+1-B53,0)","v":0},null,null,{"$f":"(E53+F53)*'UDAT Support'!$B$37","v":0},null,null,null,null,null,null,null,null,{"$f":"DATE(2008,MONTH(C53),DAY(C53))","v":"2007-12-31"},null,"2008-08-03",0,0,0,0,0,0]
[null,{"$f":"C53+1","v":"1900-01-01"},null,0,null,null,{"$f":"(E54+F54)*'UDAT Support'!$B$37","v":0},null,null,null,null,null,null,null,null,"2007-12-31",null,"2008-08-08",0,0,0,0,0,0]
[null,"1900-01-01",null,0,null,null,{"$f":"(E55+F55)*'UDAT Support'!$B$37","v":0},null,null,null,null,null,null,null,null,"2007-12-31",null,"2008-08-13",0,0,0,0,0,0]
[null,"1900-01-01",null,0,null,null,{"$f":"(E56+F56)*'UDAT Support'!$B$37","v":0},null,null,null,null,null,null,null,null,"2007-12-31",null,"2008-08-18",0,0,0,0,0,0]
[null,"1900-01-01",null,0,null,null,{"$f":"(E57+F57)*'UDAT Support'!$B$37","v":0},null,null,null,null,null,null,null,null,"2007-12-31",null,"2008-08-23",0,0,0,0,0,0]
[null,"1900-01-01",null,0,null,null,{"$f":"(E58+F58)*'UDAT Support'!$B$37","v":0},null,null,null,null,null,null,null,null,"2007-12-31",null,"2008-08-28",0,0,0,0,0,0]
[null,"1900-01-01",null,0,null,null,{"$f":"(E59+F59)*'UDAT Support'!$B$37","v":0},null,null,null,null,null,null,null,null,"2007-12-31",null,"2008-09-02",0,0,0,0,0,0]
[null,"1900-01-01",null,0,null,null,{"$f":"(E60+F60)*'UDAT Support'!$B$37","v":0},null,null,null,null,null,null,null,null,"2007-12-31",null,"2008-09-07",0,0,0,0,0,0]
[null,"1900-01-01",null,0,null,null,{"$f":"(E61+F61)*'UDAT Support'!$B$37","v":0},null,null,null,null,null,null,null,null,"2007-12-31",null,"2008-09-12",0,0,0,0,0,0]
[null,"1900-01-01",null,0,null,null,{"$f":"(E62+F62)*'UDAT Support'!$B$37","v":0},null,null,null,null,null,null,null,null,"2007-12-31",null,"2008-09-17",0,0,0,0,0,0]
[null,"1900-01-01",null,0,null,null,{"$f":"(E63+F63)*'UDAT Support'!$B$37","v":0},null,null,null,null,null,null,null,null,"2007-12-31",null,"2008-09-22",0,0,0,0,{"$f":"IF(U63>0,S63/U63,0)","v":0},0]
[null,"1900-01-01",null,0,null,null,{"$f":"(E64+F64)*'UDAT Support'!$B$37","v":0},null,null,null,null,null,null,null,null,"2007-12-31",null,"2008-09-27",0,0,0,0,0,0]
[null,"1900-01-01",null,0,null,null,{"$f":"(E65+F65)*'UDAT Support'!$B$37","v":0},null,null,null,null,null,null,null,null,"2007-12-31",null,"2008-10-02",0,0,0,0,0,0]
[null,"1900-01-01",null,0,null,null,{"$f":"(E66+F66)*'UDAT Support'!$B$37","v":0},null,null,null,null,null,null,null,null,"2007-12-31",null,"2008-10-07",0,0,0,0,0,0]
[null,"1900-01-01",null,0,null,null,{"$f":"(E67+F67)*'UDAT Support'!$B$37","v":0},null,null,null,null,null,null,null,null,"2007-12-31",null,"2008-10-12",0,0,0,0,0,0]
[null,"1900-01-01",null,0,null,null,{"$f":"(E68+F68)*'UDAT Support'!$B$37","v":0},null,null,null,null,null,null,null,null,"2007-12-31",null,"2008-10-17",0,0,0,0,0,0]
[null,"1900-01-01",null,0,null,null,{"$f":"(E69+F69)*'UDAT Support'!$B$37","v":0},null,null,null,null,null,null,null,null,"2007-12-31",null,{"$f":"R68+5","v":"2008-10-22"},0,0,0,0,0,0]
[null,"1900-01-01",null,0,null,null,{"$f":"(E70+F70)*'UDAT Support'!$B$37","v":0},null,null,null,null,null,null,null,null,"2007-12-31",null,"2008-10-27",0,0,0,0,0,0]
[null,"1900-01-01",null,0,null,null,{"$f":"(E71+F71)*'UDAT Support'!$B$37","v":0},null,null,null,null,null,null,null,null,"2007-12-31",null,"2008-11-01",0,0,0,0,0,0]
[null,"1900-01-01",null,0,null,null,{"$f":"(E72+F72)*'UDAT Support'!$B$37","v":0},null,null,null,null,null,null,null,null,"2007-12-31",null,"2008-11-06",0,0,0,0,0,0]
[null,"1900-01-01",null,0,null,null,{"$f":"(E73+F73)*'UDAT Support'!$B$37","v":0},null,null,null,null,null,null,null,null,"2007-12-31",null,"2008-11-11",0,0,0,0,0,0]
[null,"1900-01-01",null,0,null,null,{"$f":"(E74+F74)*'UDAT Support'!$B$37","v":0},null,null,null,null,null,null,null,null,"2007-12-31",null,"2008-11-16",0,0,0,0,0,0]
[null,"1900-01-01",null,0,null,null,{"$f":"(E75+F75)*'UDAT Support'!$B$37","v":0},null,null,null,null,null,null,null,null,"2007-12-31",null,"2008-11-21",0,0,0,0,0,0]
[null,"1900-01-01",null,0,null,null,{"$f":"(E76+F76)*'UDAT Support'!$B$37","v":0},null,null,null,null,null,null,null,null,"2007-12-31",null,"2008-11-26",{"$f":"SUMIFS($E$9:$E$42,$P$9:$P$42,\">\"& R75,$P$9:$P$42,\"<=\"&R76)","v":0},{"$f":"SUMIFS($E$53:$E$86,$P$53:$P$86,\">\"& R75,$P$53:$P$86,\"<=\"&R76)","v":0},{"$f":"SUMIFS($D$9:$D$42,$P$9:$P$42,\">\"& $R75,$P$9:$P$42,\"<=\"&$R76)","v":0},{"$f":"SUMIFS($D$53:$D$86,$P$53:$P$86,\">\"& $R75,$P$53:$P$86,\"<=\"&$R76)","v":0},0,0]
[null,"1900-01-01",null,0,null,null,{"$f":"(E77+F77)*'UDAT Support'!$B$37","v":0},null,null,null,null,null,null,null,null,"2007-12-31",null,{"$f":"R76+5","v":"2008-12-01"},0,0,0,0,0,0]
[null,"1900-01-01",null,0,null,null,{"$f":"(E78+F78)*'UDAT Support'!$B$37","v":0},null,null,null,null,null,null,null,null,"2007-12-31",null,"2008-12-06",0,0,0,0,0,0]
[null,"1900-01-01",null,0,null,null,{"$f":"(E79+F79)*'UDAT Support'!$B$37","v":0},null,null,null,null,null,null,null,null,"2007-12-31",null,"2008-12-11",0,0,0,0,0,0]
[null,"1900-01-01",null,0,null,null,{"$f":"(E80+F80)*'UDAT Support'!$B$37","v":0},null,null,null,null,null,null,null,null,"2007-12-31",null,"2008-12-16",0,0,0,0,0,0]
[null,"1900-01-01",null,0,null,null,{"$f":"(E81+F81)*'UDAT Support'!$B$37","v":0},null,null,null,null,null,null,null,null,"2007-12-31",null,"2008-12-21",0,0,0,0,0,0]
[null,"1900-01-01",null,0,null,null,{"$f":"(E82+F82)*'UDAT Support'!$B$37","v":0},null,null,null,null,null,null,null,null,"2007-12-31",null,"2008-12-26",0,0,0,0,0,0]
[null,"1900-01-01",null,0,null,null,{"$f":"(E83+F83)*'UDAT Support'!$B$37","v":0},null,null,null,null,null,null,null,null,"2007-12-31",null,{"$f":"R82+5","v":"2008-12-31"},0,0,0,0,0,0]
[null,"1900-01-01",null,0,null,null,{"$f":"(E84+F84)*'UDAT Support'!$B$37","v":0},null,null,null,null,null,null,null,null,"2007-12-31"]
[null,"1900-01-01",null,0,null,null,{"$f":"(E85+F85)*'UDAT Support'!$B$37","v":0},null,null,null,null,null,null,null,null,"2007-12-31"]
[null,"1900-01-01",null,0,null,null,{"$f":"(E86+F86)*'UDAT Support'!$B$37","v":0},null,null,null,null,null,null,null,null,"2007-12-31"]
[null,null,{"$f":"IF(ABS(D87-365)>4,\"Must have 365 ± 4 days.\",\"\")","v":"Must have 365 ± 4 days."},{"$f":"SUM(D53:D86)","v":0},{"$f":"SUM(E53:E86)","v":0},{"$f":"SUM(F53:F86)","v":0},{"$f":"SUM(G53:G86)","v":0}]
[]
[null,null,null,null,"Total Annual Propane Cost"]
[]
[]
[null,"Notes:"]

{"sheet":"Steam","index":9,"n_rows":53,"n_cols":53,"rows_kept":53,"cut":false,"hidden":true,"merged":[[93,4,93,5],[94,4,94,5],[2,1,2,7],[4,1,5,7],[28,1,29,7],[52,1,52,4],[53,1,57,4]]}
[null,"Steam Utility Data Summary"]
[null,"Instructions"]
[null,"1) Enter data for pre-construction energy use in blue cells. Please ensure beginning and end read dates are 'Actual'.                                                                                                                                                                                              2) If there is on-site generation that runs on purchased steam (vs. repurposed), please provide the steam consumed in column G. Alternitavely, if there is on-site generation that provides steam to the site (e.g. CHP/cogen), please include steam consumed in column G. \n3) Hide any unused rows; do not delete them.\n4) Review graphs to the right for irregularities in the usage data.\n5) Post-Construction data will be filled in one year after construction has been completed.\n6) Please use the \"Notes\" field below the data entry section of this tab to explain unusual circumstances, any anomalies in the data, or adjustments made.\n\n"]
[]
[null,"PRE-CONSTRUCTION"]
[null,null,null,null,null,null,null,null,null,null,null,null,null,null,null,"Data for Graphs:"]
[null,"Billing Period Start Date","Read Date","Days in Billing Period",{"$f":"\"Steam Consumption\n(\"&'Utility Info'!G7&\")\"","v":"Steam Consumption\n(<Not Used>)"},"Actual/ Estimated","On-Site Steam Generation\n(MMBtu)","Steam Consumption\n(MMBtu)",null,null,null,null,null,null,null,"Reference Date","Month",null,"Months","Steam Pre","Steam Post",null,null,null,null,null,null,null,null,null,null,null,null,null,null,null,null,null,null,null,null,null,null,null,null,null,null,null,null,null,null,null,"In-Unit Post"]
[]
[null,{"$f":"C8+1","v":"1900-01-01"},null,{"$f":"IF(C9>0,C9+1-B9,0)","v":0},null,null,null,{"$f":"(E9+G9)*'UDAT Support'!$C$24","v":0},null,null,null,null,null,null,null,{"$f":"DATE(YEAR(C9),MONTH(C9),1)","v":"1900-01-01"},{"$f":"IF((P9-B9)>(C9-P9),MONTH(B9),MONTH(C9))","v":1},null,"2012-01-15",{"$f":"SUMIF($Q$9:$Q$23,MONTH($S9),$H$9:$H$23)","v":0},{"$f":"SUMIF($Q$33:$Q$47,MONTH($S9),$H$33:$H$47)","v":0},null,null,null,null,null,null,null,null,null,null,null,null,null,null,null,null,null,null,null,null,null,null,null,null,null,null,null,null,null,null,null,{"$f":"SUMIF($AT$35:$AT$49,MONTH($S9),$AH$35:$AH$49)","v":0}]
[null,{"$f":"C9+1","v":"1900-01-01"},null,0,null,null,null,{"$f":"(E10+G10)*'UDAT Support'!$C$24","v":0},null,null,null,null,null,null,null,"1900-01-01",1,null,"2012-02-15",{"$f":"SUMIF($Q$9:$Q$23,MONTH($S10),$H$9:$H$23)","v":0},0,null,null,null,null,null,null,null,null,null,null,null,null,null,null,null,null,null,null,null,null,null,null,null,null,null,null,null,null,null,null,null,0]
[null,"1900-01-01",null,0,null,null,null,{"$f":"(E11+G11)*'UDAT Support'!$C$24","v":0},null,null,null,null,null,null,null,"1900-01-01",1,null,"2012-03-15",0,0,null,null,null,null,null,null,null,null,null,null,null,null,null,null,null,null,null,null,null,null,null,null,null,null,null,null,null,null,null,null,null,0]
[null,"1900-01-01",null,0,null,null,null,{"$f":"(E12+G12)*'UDAT Support'!$C$24","v":0},null,null,null,null,null,null,null,"1900-01-01",1,null,"2012-04-15",0,0,null,null,null,null,null,null,null,null,null,null,null,null,null,null,null,null,null,null,null,null,null,null,null,null,null,null,null,null,null,null,null,0]
[null,"1900-01-01",null,0,null,null,null,{"$f":"(E13+G13)*'UDAT Support'!$C$24","v":0},null,null,null,null,null,null,null,"1900-01-01",1,null,"2012-05-15",0,0,null,null,null,null,null,null,null,null,null,null,null,null,null,null,null,null,null,null,null,null,null,null,null,null,null,null,null,null,null,null,null,0]
[null,"1900-01-01",null,0,null,null,null,{"$f":"(E14+G14)*'UDAT Support'!$C$24","v":0},null,null,null,null,null,null,null,"1900-01-01",1,null,"2012-06-15",0,0,null,null,null,null,null,null,null,null,null,null,null,null,null,null,null,null,null,null,null,null,null,null,null,null,null,null,null,null,null,null,null,0]
[null,"1900-01-01",null,0,null,null,null,{"$f":"(E15+G15)*'UDAT Support'!$C$24","v":0},null,null,null,null,null,null,null,"1900-01-01",1,null,"2012-07-15",0,0,null,null,null,null,null,null,null,null,null,null,null,null,null,null,null,null,null,null,null,null,null,null,null,null,null,null,null,null,null,null,null,0]
[null,"1900-01-01",null,0,null,null,null,{"$f":"(E16+G16)*'UDAT Support'!$C$24","v":0},null,null,null,null,null,null,null,"1900-01-01",1,null,"2012-08-15",0,0,null,null,null,null,null,null,null,null,null,null,null,null,null,null,null,null,null,null,null,null,null,null,null,null,null,null,null,null,null,null,null,0]
[null,"1900-01-01",null,0,null,null,null,{"$f":"(E17+G17)*'UDAT Support'!$C$24","v":0},null,null,null,null,null,null,null,"1900-01-01",1,null,"2012-09-15",0,0,null,null,null,null,null,null,null,null,null,null,null,null,null,null,null,null,null,null,null,null,null,null,null,null,null,null,null,null,null,null,null,0]
[null,"1900-01-01",null,0,null,null,null,{"$f":"(E18+G18)*'UDAT Support'!$C$24","v":0},null,null,null,null,null,null,null,"1900-01-01",1,null,"2012-10-15",0,0,null,null,null,null,null,null,null,null,null,null,null,null,null,null,null,null,null,null,null,null,null,null,null,null,null,null,null,null,null,null,null,0]
[null,"1900-01-01",null,0,null,null,null,{"$f":"(E19+G19)*'UDAT Support'!$C$24","v":0},null,null,null,null,null,null,null,"1900-01-01",1,null,"2012-11-15",0,0,null,null,null,null,null,null,null,null,null,null,null,null,null,null,null,null,null,null,null,null,null,null,null,null,null,null,null,null,null,null,null,0]
[null,"1900-01-01",null,0,null,null,null,{"$f":"(E20+G20)*'UDAT Support'!$C$24","v":0},null,null,null,null,null,null,null,"1900-01-01",1,null,"2012-12-15",0,0,null,null,null,null,null,null,null,null,null,null,null,null,null,null,null,null,null,null,null,null,null,null,null,null,null,null,null,null,null,null,null,0]
[null,"1900-01-01",null,0,null,null,null,{"$f":"(E21+G21)*'UDAT Support'!$C$24","v":0},null,null,null,null,null,null,null,"1900-01-01",1]
[null,"1900-01-01",null,0,null,null,null,{"$f":"(E22+G22)*'UDAT Support'!$C$24","v":0},null,null,null,null,null,null,null,"1900-01-01",1]
[null,"1900-01-01",null,0,null,null,null,{"$f":"(E23+G23)*'UDAT Support'!$C$24","v":0},null,null,null,null,null,null,null,"1900-01-01",1]
[null,null,{"$f":"IF(ABS(D24-365)>4,\"Must have 365 ± 4 days.\",\"\")","v":"Must have 365 ± 4 days."},{"$f":"SUM(D9:D23)","v":0},{"$f":"SUM(E9:E23)","v":0},null,{"$f":"SUM(G9:G23)","v":0},{"$f":"SUM(H9:H23)","v":0}]
[]
[null,null,null,null,"Total Annual Steam Cost"]
[]
[]
[null,"POST-CONSTRUCTION"]
[null,null,null,null,null,null,null,null,null,null,null,null,null,null,null,"Data for Graphs:"]
[null,"Billing Period Start Date","Read Date","Days in Billing Period",{"$f":"\"Steam Consumption\n(\"&'Utility Info'!G16&\")\"","v":"Steam Consumption\n(<Not Used>)"},"Actual/ Estimated","On-Site Steam Generation\n(MMBtu)","Steam Consumption\n(MMBtu)",null,null,null,null,null,null,null,"Common Area Ref Date","Common Area Month"]
[]
[null,{"$f":"C32+1","v":"1900-01-01"},null,{"$f":"IF(C33>0,C33+1-B33,0)","v":0},null,null,null,{"$f":"(E33+G33)*'UDAT Support'!$C$25","v":0},null,null,null,null,null,null,null,{"$f":"DATE(YEAR(C33),MONTH(C33),1)","v":"1900-01-01"},{"$f":"IF((P33-B33)>(C33-P33),MONTH(B33),MONTH(C33))","v":1}]
[null,{"$f":"C33+1","v":"1900-01-01"},null,0,null,null,null,{"$f":"(E34+G34)*'UDAT Support'!$C$25","v":0},null,null,null,null,null,null,null,"1900-01-01",1]
[null,"1900-01-01",null,0,null,null,null,{"$f":"(E35+G35)*'UDAT Support'!$C$25","v":0},null,null,null,null,null,null,null,"1900-01-01",1]
[null,"1900-01-01",null,0,null,null,null,{"$f":"(E36+G36)*'UDAT Support'!$C$25","v":0},null,null,null,null,null,null,null,"1900-01-01",1]
[null,"1900-01-01",null,0,null,null,null,{"$f":"(E37+G37)*'UDAT Support'!$C$25","v":0},null,null,null,null,null,null,null,"1900-01-01",1]
[null,"1900-01-01",null,0,null,null,null,{"$f":"(E38+G38)*'UDAT Support'!$C$25","v":0},null,null,null,null,null,null,null,"1900-01-01",1]
[null,"1900-01-01",null,0,null,null,null,{"$f":"(E39+G39)*'UDAT Support'!$C$25","v":0},null,null,null,null,null,null,null,"1900-01-01",1]
[null,"1900-01-01",null,0,null,null,null,{"$f":"(E40+G40)*'UDAT Support'!$C$25","v":0},null,null,null,null,null,null,null,"1900-01-01",1]
[null,"1900-01-01",null,0,null,null,null,{"$f":"(E41+G41)*'UDAT Support'!$C$25","v":0},null,null,null,null,null,null,null,"1900-01-01",1]
[null,"1900-01-01",null,0,null,null,null,{"$f":"(E42+G42)*'UDAT Support'!$C$25","v":0},null,null,null,null,null,null,null,"1900-01-01",1]
[null,"1900-01-01",null,0,null,null,null,{"$f":"(E43+G43)*'UDAT Support'!$C$25","v":0},null,null,null,null,null,null,null,"1900-01-01",1]
[null,"1900-01-01",null,0,null,null,null,{"$f":"(E44+G44)*'UDAT Support'!$C$25","v":0},null,null,null,null,null,null,null,"1900-01-01",1]
[null,"1900-01-01",null,0,null,null,null,{"$f":"(E45+G45)*'UDAT Support'!$C$25","v":0},null,null,null,null,null,null,null,"1900-01-01",1]
[null,"1900-01-01",null,0,null,null,null,{"$f":"(E46+G46)*'UDAT Support'!$C$25","v":0},null,null,null,null,null,null,null,"1900-01-01",1]
[null,"1900-01-01",null,0,null,null,null,{"$f":"(E47+G47)*'UDAT Support'!$C$25","v":0},null,null,null,null,null,null,null,"1900-01-01",1]
[null,null,{"$f":"IF(ABS(D48-365)>4,\"Must have 365 ± 4 days.\",\"\")","v":"Must have 365 ± 4 days."},{"$f":"SUM(D33:D47)","v":0},{"$f":"SUM(E33:E47)","v":0},null,{"$f":"SUM(G33:G47)","v":0},{"$f":"SUM(H33:H47)","v":0}]
[]
[null,null,null,null,"Total Annual Steam Cost"]
[]
[]
[null,"Notes:"]

{"sheet":"Chilled Water","index":10,"n_rows":53,"n_cols":52,"rows_kept":53,"cut":false,"hidden":true,"merged":[[53,1,57,4],[2,1,2,6],[4,1,5,6],[28,1,29,6],[52,1,52,4],[25,4,25,6],[26,4,26,6],[49,4,49,6],[50,4,50,6]]}
[null,"Chilled Water Utility Data Summary"]
[null,"Instructions"]
[null,"1) Enter data for pre-construction energy use in blue cells.\n2) If there is on-site generation that provides chilled water to the site (e.g. absorption chiller via CHP/cogen), please include chilled water consumed in column F. \n3) Hide any unused rows; do not delete them.\n4) Review graphs to the right for irregularities in the usage data.\n5) Post-Construction data will be filled in one year after construction has been completed.\n6) Please use the \"Notes\" field below the data entry section of this tab to explain unusual circumstances, any anomalies in the data, or adjustments made.\n\n"]
[]
[null,"PRE-CONSTRUCTION"]
[null,null,null,null,null,null,null,null,null,null,null,null,null,null,"Data for Graphs:"]
[null,"Billing Period Start Date","Read Date","Days in Billing Period","Chilled Water Consumption\n(MMBtu)","On-Site Chilled Water Generation\n(MMBtu)","Chilled Water Consumption\n(MMBtu)",null,null,null,null,null,null,null,"Reference Date","Month",null,"Months","Steam Pre","Steam Post",null,null,null,null,null,null,null,null,null,null,null,null,null,null,null,null,null,null,null,null,null,null,null,null,null,null,null,null,null,null,null,"In-Unit Post"]
[]
[null,{"$f":"C8+1","v":"1900-01-01"},null,{"$f":"IF(C9>0,C9+1-B9,0)","v":0},null,null,{"$f":"E9+F9","v":0},null,null,null,null,null,null,null,{"$f":"DATE(YEAR(C9),MONTH(C9),1)","v":"1900-01-01"},{"$f":"IF((O9-B9)>(C9-O9),MONTH(B9),MONTH(C9))","v":1},null,"2012-01-15",{"$f":"SUMIF($P$9:$P$23,MONTH($R9),$G$9:$G$23)","v":0},{"$f":"SUMIF($P$33:$P$47,MONTH($R9),$G$33:$G$47)","v":0},null,null,null,null,null,null,null,null,null,null,null,null,null,null,null,null,null,null,null,null,null,null,null,null,null,null,null,null,null,null,null,{"$f":"SUMIF($AS$35:$AS$49,MONTH($R9),$AG$35:$AG$49)","v":0}]
[null,{"$f":"C9+1","v":"1900-01-01"},null,0,null,null,{"$f":"E10+F10","v":0},null,null,null,null,null,null,null,"1900-01-01",1,null,"2012-02-15",{"$f":"SUMIF($P$9:$P$23,MONTH($R10),$G$9:$G$23)","v":0},0,null,null,null,null,null,null,null,null,null,null,null,null,null,null,null,null,null,null,null,null,null,null,null,null,null,null,null,null,null,null,null,0]
[null,"1900-01-01",null,0,null,null,0,null,null,null,null,null,null,null,"1900-01-01",1,null,"2012-03-15",0,0,null,null,null,null,null,null,null,null,null,null,null,null,null,null,null,null,null,null,null,null,null,null,null,null,null,null,null,null,null,null,null,0]
[null,"1900-01-01",null,0,null,null,0,null,null,null,null,null,null,null,"1900-01-01",1,null,"2012-04-15",0,0,null,null,null,null,null,null,null,null,null,null,null,null,null,null,null,null,null,null,null,null,null,null,null,null,null,null,null,null,null,null,null,0]
[null,"1900-01-01",null,0,null,null,0,null,null,null,null,null,null,null,"1900-01-01",1,null,"2012-05-15",0,0,null,null,null,null,null,null,null,null,null,null,null,null,null,null,null,null,null,null,null,null,null,null,null,null,null,null,null,null,null,null,null,0]
[null,"1900-01-01",null,0,null,null,0,null,null,null,null,null,null,null,"1900-01-01",1,null,"2012-06-15",0,0,null,null,null,null,null,null,null,null,null,null,null,null,null,null,null,null,null,null,null,null,null,null,null,null,null,null,null,null,null,null,null,0]
[null,"1900-01-01",null,0,null,null,0,null,null,null,null,null,null,null,"1900-01-01",1,null,"2012-07-15",0,0,null,null,null,null,null,null,null,null,null,null,null,null,null,null,null,null,null,null,null,null,null,null,null,null,null,null,null,null,null,null,null,0]
[null,"1900-01-01",null,0,null,null,0,null,null,null,null,null,null,null,"1900-01-01",1,null,"2012-08-15",0,0,null,null,null,null,null,null,null,null,null,null,null,null,null,null,null,null,null,null,null,null,null,null,null,null,null,null,null,null,null,null,null,0]
[null,"1900-01-01",null,0,null,null,0,null,null,null,null,null,null,null,"1900-01-01",1,null,"2012-09-15",0,0,null,null,null,null,null,null,null,null,null,null,null,null,null,null,null,null,null,null,null,null,null,null,null,null,null,null,null,null,null,null,null,0]
[null,"1900-01-01",null,0,null,null,0,null,null,null,null,null,null,null,"1900-01-01",1,null,"2012-10-15",0,0,null,null,null,null,null,null,null,null,null,null,null,null,null,null,null,null,null,null,null,null,null,null,null,null,null,null,null,null,null,null,null,0]
[null,"1900-01-01",null,0,null,null,0,null,null,null,null,null,null,null,"1900-01-01",1,null,"2012-11-15",0,0,null,null,null,null,null,null,null,null,null,null,null,null,null,null,null,null,null,null,null,null,null,null,null,null,null,null,null,null,null,null,null,0]
[null,"1900-01-01",null,0,null,null,0,null,null,null,null,null,null,null,"1900-01-01",1,null,"2012-12-15",0,0,null,null,null,null,null,null,null,null,null,null,null,null,null,null,null,null,null,null,null,null,null,null,null,null,null,null,null,null,null,null,null,0]
[null,"1900-01-01",null,0,null,null,0,null,null,null,null,null,null,null,"1900-01-01",1]
[null,"1900-01-01",null,0,null,null,0,null,null,null,null,null,null,null,"1900-01-01",1]
[null,"1900-01-01",null,0,null,null,{"$f":"E23+F23","v":0},null,null,null,null,null,null,null,"1900-01-01",1]
[null,null,{"$f":"IF(ABS(D24-365)>4,\"Must have 365 ± 4 days.\",\"\")","v":"Must have 365 ± 4 days."},{"$f":"SUM(D9:D23)","v":0},{"$f":"SUM(E9:E23)","v":0},{"$f":"SUM(F9:F23)","v":0},{"$f":"SUM(G9:G23)","v":0}]
[]
[null,null,null,null,"Total Annual Chilled Water Cost"]
[]
[]
[null,"POST-CONSTRUCTION"]
[null,null,null,null,null,null,null,null,null,null,null,null,null,null,"Data for Graphs:"]
[null,"Billing Period Start Date","Read Date","Days in Billing Period","Chilled Water Consumption \n(MMBtu)","On-Site Chilled Water Generation\n(MMBtu)","Chilled Water Consumption\n(MMBtu)",null,null,null,null,null,null,null,"Common Area Ref Date","Common Area Month"]
[]
[null,{"$f":"C32+1","v":"1900-01-01"},null,{"$f":"IF(C33>0,C33+1-B33,0)","v":0},null,null,{"$f":"E33+F33","v":0},null,null,null,null,null,null,null,{"$f":"DATE(YEAR(C33),MONTH(C33),1)","v":"1900-01-01"},{"$f":"IF((O33-B33)>(C33-O33),MONTH(B33),MONTH(C33))","v":1}]
[null,{"$f":"C33+1","v":"1900-01-01"},null,0,null,null,{"$f":"E34+F34","v":0},null,null,null,null,null,null,null,"1900-01-01",1]
[null,"1900-01-01",null,0,null,null,0,null,null,null,null,null,null,null,"1900-01-01",1]
[null,"1900-01-01",null,0,null,null,0,null,null,null,null,null,null,null,"1900-01-01",1]
[null,"1900-01-01",null,0,null,null,0,null,null,null,null,null,null,null,"1900-01-01",1]
[null,"1900-01-01",null,0,null,null,0,null,null,null,null,null,null,null,"1900-01-01",1]
[null,"1900-01-01",null,0,null,null,0,null,null,null,null,null,null,null,"1900-01-01",1]
[null,"1900-01-01",null,0,null,null,0,null,null,null,null,null,null,null,"1900-01-01",1]
[null,"1900-01-01",null,0,null,null,0,null,null,null,null,null,null,null,"1900-01-01",1]
[null,"1900-01-01",null,0,null,null,0,null,null,null,null,null,null,null,"1900-01-01",1]
[null,"1900-01-01",null,0,null,null,0,null,null,null,null,null,null,null,"1900-01-01",1]
[null,"1900-01-01",null,0,null,null,0,null,null,null,null,null,null,null,"1900-01-01",1]
[null,"1900-01-01",null,0,null,null,0,null,null,null,null,null,null,null,"1900-01-01",1]
[null,"1900-01-01",null,0,null,null,0,null,null,null,null,null,null,null,"1900-01-01",1]
[null,"1900-01-01",null,0,null,null,0,null,null,null,null,null,null,null,"1900-01-01",1]
[null,null,{"$f":"IF(ABS(D48-365)>4,\"Must have 365 ± 4 days.\",\"\")","v":"Must have 365 ± 4 days."},{"$f":"SUM(D33:D47)","v":0},{"$f":"SUM(E33:E47)","v":0},{"$f":"SUM(F33:F47)","v":0},{"$f":"SUM(G33:G47)","v":0}]
[]
[null,null,null,null,"Total Annual Chilled Water Cost"]
[]
[]
[null,"Notes:"]

{"sheet":"Hot Water","index":11,"n_rows":53,"n_cols":52,"rows_kept":53,"cut":false,"hidden":true,"merged":[[53,1,57,4],[2,1,2,6],[4,1,5,6],[28,1,29,6],[52,1,52,4],[25,4,25,6],[26,4,26,6],[49,4,49,6],[50,4,50,6]]}
[null,"Hot Water Utility Data Summary"]
[null,"Instructions"]
[null,"1) Enter data for pre-construction energy use in blue cells.\n2) If there is on-site generation that provides hot water to the site (e.g. CHP/cogen), please include hot water consumed in column F.  \n3) Hide any unused rows; do not delete them.\n4) Review graphs to the right for irregularities in the usage data.\n5) Post-Construction data will be filled in one year after construction has been completed.\n6) Please use the \"Notes\" field below the data entry section of this tab to explain unusual circumstances, any anomalies in the data, or adjustments made.\n\n"]
[]
[null,"PRE-CONSTRUCTION"]
[null,null,null,null,null,null,null,null,null,null,null,null,null,null,"Data for Graphs:"]
[null,"Billing Period Start Date","Read Date","Days in Billing Period","Hot Water Consumption\n(MMBtu)","On-Site Hot Water Generation\n(MMBtu)","Hot Water Consumption\n(MMBtu)",null,null,null,null,null,null,null,"Reference Date","Month",null,"Months","Steam Pre","Steam Post",null,null,null,null,null,null,null,null,null,null,null,null,null,null,null,null,null,null,null,null,null,null,null,null,null,null,null,null,null,null,null,"In-Unit Post"]
[]
[null,{"$f":"C8+1","v":"1900-01-01"},null,{"$f":"IF(C9>0,C9+1-B9,0)","v":0},null,null,{"$f":"E9+F9","v":0},null,null,null,null,null,null,null,{"$f":"DATE(YEAR(C9),MONTH(C9),1)","v":"1900-01-01"},{"$f":"IF((O9-B9)>(C9-O9),MONTH(B9),MONTH(C9))","v":1},null,"2012-01-15",{"$f":"SUMIF($P$9:$P$23,MONTH($R9),$G$9:$G$23)","v":0},{"$f":"SUMIF($P$33:$P$47,MONTH($R9),$G$33:$G$47)","v":0},null,null,null,null,null,null,null,null,null,null,null,null,null,null,null,null,null,null,null,null,null,null,null,null,null,null,null,null,null,null,null,{"$f":"SUMIF($AS$35:$AS$49,MONTH($R9),$AG$35:$AG$49)","v":0}]
[null,{"$f":"C9+1","v":"1900-01-01"},null,0,null,null,{"$f":"E10+F10","v":0},null,null,null,null,null,null,null,"1900-01-01",1,null,"2012-02-15",{"$f":"SUMIF($P$9:$P$23,MONTH($R10),$G$9:$G$23)","v":0},0,null,null,null,null,null,null,null,null,null,null,null,null,null,null,null,null,null,null,null,null,null,null,null,null,null,null,null,null,null,null,null,0]
[null,"1900-01-01",null,0,null,null,0,null,null,null,null,null,null,null,"1900-01-01",1,null,"2012-03-15",0,0,null,null,null,null,null,null,null,null,null,null,null,null,null,null,null,null,null,null,null,null,null,null,null,null,null,null,null,null,null,null,null,0]
[null,"1900-01-01",null,0,null,null,0,null,null,null,null,null,null,null,"1900-01-01",1,null,"2012-04-15",0,0,null,null,null,null,null,null,null,null,null,null,null,null,null,null,null,null,null,null,null,null,null,null,null,null,null,null,null,null,null,null,null,0]
[null,"1900-01-01",null,0,null,null,0,null,null,null,null,null,null,null,"1900-01-01",1,null,"2012-05-15",0,0,null,null,null,null,null,null,null,null,null,null,null,null,null,null,null,null,null,null,null,null,null,null,null,null,null,null,null,null,null,null,null,0]
[null,"1900-01-01",null,0,null,null,0,null,null,null,null,null,null,null,"1900-01-01",1,null,"2012-06-15",0,0,null,null,null,null,null,null,null,null,null,null,null,null,null,null,null,null,null,null,null,null,null,null,null,null,null,null,null,null,null,null,null,0]
[null,"1900-01-01",null,0,null,null,0,null,null,null,null,null,null,null,"1900-01-01",1,null,"2012-07-15",0,0,null,null,null,null,null,null,null,null,null,null,null,null,null,null,null,null,null,null,null,null,null,null,null,null,null,null,null,null,null,null,null,0]
[null,"1900-01-01",null,0,null,null,0,null,null,null,null,null,null,null,"1900-01-01",1,null,"2012-08-15",0,0,null,null,null,null,null,null,null,null,null,null,null,null,null,null,null,null,null,null,null,null,null,null,null,null,null,null,null,null,null,null,null,0]
[null,"1900-01-01",null,0,null,null,0,null,null,null,null,null,null,null,"1900-01-01",1,null,"2012-09-15",0,0,null,null,null,null,null,null,null,null,null,null,null,null,null,null,null,null,null,null,null,null,null,null,null,null,null,null,null,null,null,null,null,0]
[null,"1900-01-01",null,0,null,null,0,null,null,null,null,null,null,null,"1900-01-01",1,null,"2012-10-15",0,0,null,null,null,null,null,null,null,null,null,null,null,null,null,null,null,null,null,null,null,null,null,null,null,null,null,null,null,null,null,null,null,0]
[null,"1900-01-01",null,0,null,null,0,null,null,null,null,null,null,null,"1900-01-01",1,null,"2012-11-15",0,0,null,null,null,null,null,null,null,null,null,null,null,null,null,null,null,null,null,null,null,null,null,null,null,null,null,null,null,null,null,null,null,0]
[null,"1900-01-01",null,0,null,null,0,null,null,null,null,null,null,null,"1900-01-01",1,null,"2012-12-15",0,0,null,null,null,null,null,null,null,null,null,null,null,null,null,null,null,null,null,null,null,null,null,null,null,null,null,null,null,null,null,null,null,0]
[null,"1900-01-01",null,0,null,null,0,null,null,null,null,null,null,null,"1900-01-01",1]
[null,"1900-01-01",null,0,null,null,0,null,null,null,null,null,null,null,"1900-01-01",1]
[null,"1900-01-01",null,0,null,null,0,null,null,null,null,null,null,null,"1900-01-01",1]
[null,null,{"$f":"IF(ABS(D24-365)>4,\"Must have 365 ± 4 days.\",\"\")","v":"Must have 365 ± 4 days."},{"$f":"SUM(D9:D23)","v":0},{"$f":"SUM(E9:E23)","v":0},{"$f":"SUM(F9:F23)","v":0},{"$f":"SUM(G9:G23)","v":0}]
[]
[null,null,null,null,"Total Annual Hot Water  Cost"]
[]
[]
[null,"POST-CONSTRUCTION"]
[null,null,null,null,null,null,null,null,null,null,null,null,null,null,"Data for Graphs:"]
[null,"Billing Period Start Date","Read Date","Days in Billing Period","Hot Water Consumption\n(MMBtu)","On-Site Hot Water Generation\n(MMBtu)","Hot Water Consumption\n(MMBtu)",null,null,null,null,null,null,null,"Common Area Ref Date","Common Area Month"]
[]
[null,{"$f":"C32+1","v":"1900-01-01"},null,{"$f":"IF(C33>0,C33+1-B33,0)","v":0},null,null,{"$f":"E33+F33","v":0},null,null,null,null,null,null,null,{"$f":"DATE(YEAR(C33),MONTH(C33),1)","v":"1900-01-01"},{"$f":"IF((O33-B33)>(C33-O33),MONTH(B33),MONTH(C33))","v":1}]
[null,{"$f":"C33+1","v":"1900-01-01"},null,0,null,null,{"$f":"E34+F34","v":0},null,null,null,null,null,null,null,"1900-01-01",1]
[null,"1900-01-01",null,0,null,null,0,null,null,null,null,null,null,null,"1900-01-01",1]
[null,"1900-01-01",null,0,null,null,0,null,null,null,null,null,null,null,"1900-01-01",1]
[null,"1900-01-01",null,0,null,null,0,null,null,null,null,null,null,null,"1900-01-01",1]
[null,"1900-01-01",null,0,null,null,0,null,null,null,null,null,null,null,"1900-01-01",1]
[null,"1900-01-01",null,0,null,null,0,null,null,null,null,null,null,null,"1900-01-01",1]
[null,"1900-01-01",null,0,null,null,0,null,null,null,null,null,null,null,"1900-01-01",1]
[null,"1900-01-01",null,0,null,null,0,null,null,null,null,null,null,null,"1900-01-01",1]
[null,"1900-01-01",null,0,null,null,0,null,null,null,null,null,null,null,"1900-01-01",1]
[null,"1900-01-01",null,0,null,null,0,null,null,null,null,null,null,null,"1900-01-01",1]
[null,"1900-01-01",null,0,null,null,0,null,null,null,null,null,null,null,"1900-01-01",1]
[null,"1900-01-01",null,0,null,null,0,null,null,null,null,null,null,null,"1900-01-01",1]
[null,"1900-01-01",null,0,null,null,0,null,null,null,null,null,null,null,"1900-01-01",1]
[null,"1900-01-01",null,0,null,null,{"$f":"E47+F47","v":0},null,null,null,null,null,null,null,"1900-01-01",1]
[null,null,{"$f":"IF(ABS(D48-365)>4,\"Must have 365 ± 4 days.\",\"\")","v":"Must have 365 ± 4 days."},{"$f":"SUM(D33:D47)","v":0},{"$f":"SUM(E33:E47)","v":0},{"$f":"SUM(F33:F47)","v":0},{"$f":"SUM(G33:G47)","v":0}]
[]
[null,null,null,null,"Total Annual Hot Water  Cost"]
[]
[]
[null,"Notes:"]

{"sheet":"Other","index":12,"n_rows":92,"n_cols":24,"rows_kept":92,"cut":false,"hidden":true,"merged":[[88,4,88,6],[91,1,91,6],[89,4,89,6],[92,1,96,6],[2,1,2,8],[4,1,5,6],[44,4,44,6],[45,4,45,6],[48,1,49,6]]}
[null,"Other Fuel Data Summary"]
[null,"Instructions"]
[null,"1) Enter data for pre-construction energy use in blue cells.\n2) If there is on-site generation that provides other fuel to the site, please include in column F.  \n3) Hide any unused rows; do not delete them.\n4) Review graphs to the right for irregularities in the usage data.\n5) Post-Construction data will be filled in one year after construction has been completed.\n6) Please use the \"Notes\" field below the data entry section of this tab to explain unusual circumstances, any anomalies in the data, or adjustments made.\n\n"]
[]
[null,"PRE-CONSTRUCTION"]
[null,null,null,null,null,null,null,null,null,null,null,null,null,null,null,"Data for Graph:"]
[null,"Billing Period Start Date","Delivery Date","Days in Billing Period",{"$f":"'Utility Info'!J6&\" Delivery\n\"&\"(\"&'Utility Info'!J7&\")\"","v":"Other Delivery\n(<Not Used>)"},{"$f":"\"On-Site \"&'Utility Info'!J6&\" Generation\n(MMBtu)\"","v":"On-Site Other Generation\n(MMBtu)"},{"$f":"'Utility Info'!J6&\" Consumption\n(MMBtu)\"","v":"Other Consumption\n(MMBtu)"},null,null,null,null,null,null,null,null,"Delivery Month/Day"]
[]
[null,{"$f":"C8+1","v":"1900-01-01"},null,{"$f":"IF(C9>0,C9+1-B9,0)","v":0},null,null,{"$f":"E9+F9","v":0},null,null,null,null,null,null,null,null,{"$f":"DATE(2008,MONTH(C9),DAY(C9))","v":"2007-12-31"},null,null,"Gallons",null,"Days",null,"Gal/day"]
[null,{"$f":"C9+1","v":"1900-01-01"},null,{"$f":"IF(C10>0,C10+1-B10,0)","v":0},null,null,{"$f":"E10+F10","v":0},null,null,null,null,null,null,null,null,{"$f":"DATE(2008,MONTH(C10),DAY(C10))","v":"2007-12-31"},null,"Date","Pre","Post","Pre","Post","Pre","Post"]
[null,"1900-01-01",null,0,null,null,0,null,null,null,null,null,null,null,null,"2007-12-31",null,"2008-01-05",{"$f":"SUMIFS($E$9:$E$42,$P$9:$P$42,\"<=\"&R11)","v":0},{"$f":"SUMIFS($E$53:$E$86,$P$53:$P$86,\"<=\"&R11)","v":0},{"$f":"SUMIFS($D$9:$D$42,$P$9:$P$42,\"<=\"&$R$11)","v":0},{"$f":"SUMIFS($D$53:$D$86,$P$53:$P$86,\"<=\"&$R$11)","v":0},{"$f":"IF(U11>0,S11/U11,0)","v":0},{"$f":"IF(V11>0,T11/V11,0)","v":0}]
[null,"1900-01-01",null,0,null,null,0,null,null,null,null,null,null,null,null,"2007-12-31",null,{"$f":"R11+5","v":"2008-01-10"},{"$f":"SUMIFS($E$9:$E$42,$P$9:$P$42,\">\"& R11,$P$9:$P$42,\"<=\"&R12)","v":0},{"$f":"SUMIFS($E$53:$E$86,$P$53:$P$86,\">\"& R11,$P$53:$P$86,\"<=\"&R12)","v":0},{"$f":"SUMIFS($D$9:$D$42,$P$9:$P$42,\">\"& $R11,$P$9:$P$42,\"<=\"&$R12)","v":0},{"$f":"SUMIFS($D$53:$D$86,$P$53:$P$86,\">\"& $R11,$P$53:$P$86,\"<=\"&$R12)","v":0},{"$f":"IF(U12>0,S12/U12,0)","v":0},0]
[null,"1900-01-01",null,0,null,null,0,null,null,null,null,null,null,null,null,"2007-12-31",null,{"$f":"R12+5","v":"2008-01-15"},0,0,0,0,0,0]
[null,"1900-01-01",null,0,null,null,0,null,null,null,null,null,null,null,null,"2007-12-31",null,"2008-01-20",0,0,0,0,0,0]
[null,"1900-01-01",null,0,null,null,0,null,null,null,null,null,null,null,null,"2007-12-31",null,"2008-01-25",0,0,0,0,0,0]
[null,"1900-01-01",null,0,null,null,0,null,null,null,null,null,null,null,null,"2007-12-31",null,"2008-01-30",0,0,0,0,0,0]
[null,"1900-01-01",null,0,null,null,0,null,null,null,null,null,null,null,null,"2007-12-31",null,"2008-02-04",0,0,0,0,0,0]
[null,"1900-01-01",null,0,null,null,0,null,null,null,null,null,null,null,null,"2007-12-31",null,"2008-02-09",0,0,0,0,0,0]
[null,"1900-01-01",null,0,null,null,0,null,null,null,null,null,null,null,null,"2007-12-31",null,"2008-02-14",0,0,0,0,0,0]
[null,"1900-01-01",null,0,null,null,0,null,null,null,null,null,null,null,null,"2007-12-31",null,"2008-02-19",0,0,0,0,0,0]
[null,"1900-01-01",null,0,null,null,0,null,null,null,null,null,null,null,null,"2007-12-31",null,"2008-02-24",0,0,0,0,0,0]
[null,"1900-01-01",null,0,null,null,0,null,null,null,null,null,null,null,null,"2007-12-31",null,{"$f":"R21+6","v":"2008-03-01"},0,0,0,0,0,0]
[null,"1900-01-01",null,0,null,null,0,null,null,null,null,null,null,null,null,"2007-12-31",null,"2008-03-06",0,0,0,0,0,0]
[null,"1900-01-01",null,0,null,null,0,null,null,null,null,null,null,null,null,"2007-12-31",null,"2008-03-11",0,0,0,0,0,0]
[null,"1900-01-01",null,0,null,null,0,null,null,null,null,null,null,null,null,"2007-12-31",null,"2008-03-16",0,0,0,0,0,0]
[null,"1900-01-01",null,0,null,null,0,null,null,null,null,null,null,null,null,"2007-12-31",null,"2008-03-21",0,0,0,0,0,0]
[null,"1900-01-01",null,0,null,null,0,null,null,null,null,null,null,null,null,"2007-12-31",null,"2008-03-26",0,0,0,0,0,0]
[null,"1900-01-01",null,0,null,null,0,null,null,null,null,null,null,null,null,"2007-12-31",null,"2008-03-31",0,0,0,0,0,0]
[null,"1900-01-01",null,0,null,null,0,null,null,null,null,null,null,null,null,"2007-12-31",null,"2008-04-05",0,0,0,0,0,0]
[null,"1900-01-01",null,0,null,null,0,null,null,null,null,null,null,null,null,"2007-12-31",null,"2008-04-10",0,0,0,0,0,0]
[null,"1900-01-01",null,0,null,null,0,null,null,null,null,null,null,null,null,"2007-12-31",null,"2008-04-15",0,0,0,0,0,0]
[null,"1900-01-01",null,0,null,null,0,null,null,null,null,null,null,null,null,"2007-12-31",null,"2008-04-20",0,0,0,0,0,0]
[null,"1900-01-01",null,0,null,null,0,null,null,null,null,null,null,null,null,"2007-12-31",null,"2008-04-25",0,0,0,0,0,0]
[null,"1900-01-01",null,0,null,null,0,null,null,null,null,null,null,null,null,"2007-12-31",null,"2008-04-30",0,0,0,0,0,0]
[null,"1900-01-01",null,0,null,null,0,null,null,null,null,null,null,null,null,"2007-12-31",null,"2008-05-05",0,0,0,0,0,0]
[null,"1900-01-01",null,0,null,null,0,null,null,null,null,null,null,null,null,"2007-12-31",null,"2008-05-10",0,0,0,0,0,0]
[null,"1900-01-01",null,0,null,null,0,null,null,null,null,null,null,null,null,"2007-12-31",null,"2008-05-15",0,0,0,0,0,0]
[null,"1900-01-01",null,0,null,null,0,null,null,null,null,null,null,null,null,"2007-12-31",null,"2008-05-20",0,0,0,0,0,0]
[null,"1900-01-01",null,0,null,null,0,null,null,null,null,null,null,null,null,"2007-12-31",null,"2008-05-25",0,0,0,0,0,0]
[null,"1900-01-01",null,0,null,null,0,null,null,null,null,null,null,null,null,"2007-12-31",null,"2008-05-30",0,0,0,0,0,0]
[null,"1900-01-01",null,0,null,null,0,null,null,null,null,null,null,null,null,"2007-12-31",null,"2008-06-04",0,0,0,0,0,0]
[null,"1900-01-01",null,0,null,null,{"$f":"E42+F42","v":0},null,null,null,null,null,null,null,null,"2007-12-31",null,"2008-06-09",0,0,0,0,0,0]
[null,null,{"$f":"IF(ABS(D43-365)>4,\"Must have 365 ± 4 days.\",\"\")","v":"Must have 365 ± 4 days."},{"$f":"SUM(D9:D42)","v":0},{"$f":"SUM(E9:E42)","v":0},{"$f":"SUM(F9:F42)","v":0},{"$f":"SUM(G9:G42)","v":0},null,null,null,null,null,null,null,null,null,null,"2008-06-14",0,0,0,0,0,0]
[null,null,null,null,null,null,null,null,null,null,null,null,null,null,null,null,null,"2008-06-19",0,0,0,0,0,0]
[null,null,null,null,"Total Annual Cost",null,null,null,null,null,null,null,null,null,null,null,null,"2008-06-24",0,0,0,0,0,0]
[null,null,null,null,null,null,null,null,null,null,null,null,null,null,null,null,null,"2008-06-29",0,0,0,0,0,0]
[null,null,null,null,null,null,null,null,null,null,null,null,null,null,null,null,null,"2008-07-04",0,0,0,0,0,0]
[null,null,null,null,null,null,null,null,null,null,null,null,null,null,null,null,null,"2008-07-09",0,0,0,0,0,0]
[null,"POST-CONSTRUCTION",null,null,null,null,null,null,null,null,null,null,null,null,null,null,null,"2008-07-14",0,0,0,0,0,0]
[null,null,null,null,null,null,null,null,null,null,null,null,null,null,null,null,null,"2008-07-19",0,0,0,0,0,0]
[null,"Billing Period Start Date","Delivery Date","Days in Billing Period",{"$f":"'Utility Info'!J15&\" Delivery\n\"&\"(\"&'Utility Info'!J16&\")\"","v":"<Other Fuel Type> Delivery\n(<Not Used>)"},{"$f":"\"On-Site \"&'Utility Info'!J15&\" Generation\n(MMBtu)\"","v":"On-Site <Other Fuel Type> Generation\n(MMBtu)"},{"$f":"'Utility Info'!J15&\" Consumption\n(MMBtu)\"","v":"<Other Fuel Type> Consumption\n(MMBtu)"},null,null,null,null,null,null,null,null,"Delivery Month/Day",null,"2008-07-24",0,0,0,0,0,0]
[null,null,null,null,null,null,null,null,null,null,null,null,null,null,null,null,null,"2008-07-29",0,0,0,0,0,0]
[null,{"$f":"C52+1","v":"1900-01-01"},null,{"$f":"IF(C53>0,C53+1-B53,0)","v":0},null,null,{"$f":"E53+F53","v":0},null,null,null,null,null,null,null,null,{"$f":"DATE(2008,MONTH(C53),DAY(C53))","v":"2007-12-31"},null,"2008-08-03",0,0,0,0,0,0]
[null,{"$f":"C53+1","v":"1900-01-01"},null,0,null,null,{"$f":"E54+F54","v":0},null,null,null,null,null,null,null,null,"2007-12-31",null,"2008-08-08",0,0,0,0,0,0]
[null,"1900-01-01",null,0,null,null,0,null,null,null,null,null,null,null,null,"2007-12-31",null,"2008-08-13",0,0,0,0,0,0]
[null,"1900-01-01",null,0,null,null,0,null,null,null,null,null,null,null,null,"2007-12-31",null,"2008-08-18",0,0,0,0,0,0]
[null,"1900-01-01",null,0,null,null,0,null,null,null,null,null,null,null,null,"2007-12-31",null,"2008-08-23",0,0,0,0,0,0]
[null,"1900-01-01",null,0,null,null,0,null,null,null,null,null,null,null,null,"2007-12-31",null,"2008-08-28",0,0,0,0,0,0]
[null,"1900-01-01",null,0,null,null,0,null,null,null,null,null,null,null,null,"2007-12-31",null,"2008-09-02",0,0,0,0,0,0]
[null,"1900-01-01",null,0,null,null,0,null,null,null,null,null,null,null,null,"2007-12-31",null,"2008-09-07",0,0,0,0,0,0]
[null,"1900-01-01",null,0,null,null,0,null,null,null,null,null,null,null,null,"2007-12-31",null,"2008-09-12",0,0,0,0,0,0]
[null,"1900-01-01",null,0,null,null,0,null,null,null,null,null,null,null,null,"2007-12-31",null,"2008-09-17",0,0,0,0,0,0]
[null,"1900-01-01",null,0,null,null,0,null,null,null,null,null,null,null,null,"2007-12-31",null,"2008-09-22",0,0,0,0,{"$f":"IF(U63>0,S63/U63,0)","v":0},0]
[null,"1900-01-01",null,0,null,null,0,null,null,null,null,null,null,null,null,"2007-12-31",null,"2008-09-27",0,0,0,0,0,0]
[null,"1900-01-01",null,0,null,null,0,null,null,null,null,null,null,null,null,"2007-12-31",null,"2008-10-02",0,0,0,0,0,0]
[null,"1900-01-01",null,0,null,null,0,null,null,null,null,null,null,null,null,"2007-12-31",null,"2008-10-07",0,0,0,0,0,0]
[null,"1900-01-01",null,0,null,null,0,null,null,null,null,null,null,null,null,"2007-12-31",null,"2008-10-12",0,0,0,0,0,0]
[null,"1900-01-01",null,0,null,null,0,null,null,null,null,null,null,null,null,"2007-12-31",null,"2008-10-17",0,0,0,0,0,0]
[null,"1900-01-01",null,0,null,null,0,null,null,null,null,null,null,null,null,"2007-12-31",null,{"$f":"R68+5","v":"2008-10-22"},0,0,0,0,0,0]
[null,"1900-01-01",null,0,null,null,0,null,null,null,null,null,null,null,null,"2007-12-31",null,"2008-10-27",0,0,0,0,0,0]
[null,"1900-01-01",null,0,null,null,0,null,null,null,null,null,null,null,null,"2007-12-31",null,"2008-11-01",0,0,0,0,0,0]
[null,"1900-01-01",null,0,null,null,0,null,null,null,null,null,null,null,null,"2007-12-31",null,"2008-11-06",0,0,0,0,0,0]
[null,"1900-01-01",null,0,null,null,0,null,null,null,null,null,null,null,null,"2007-12-31",null,"2008-11-11",0,0,0,0,0,0]
[null,"1900-01-01",null,0,null,null,0,null,null,null,null,null,null,null,null,"2007-12-31",null,"2008-11-16",0,0,0,0,0,0]
[null,"1900-01-01",null,0,null,null,0,null,null,null,null,null,null,null,null,"2007-12-31",null,"2008-11-21",0,0,0,0,0,0]
[null,"1900-01-01",null,0,null,null,0,null,null,null,null,null,null,null,null,"2007-12-31",null,"2008-11-26",{"$f":"SUMIFS($E$9:$E$42,$P$9:$P$42,\">\"& R75,$P$9:$P$42,\"<=\"&R76)","v":0},{"$f":"SUMIFS($E$53:$E$86,$P$53:$P$86,\">\"& R75,$P$53:$P$86,\"<=\"&R76)","v":0},{"$f":"SUMIFS($D$9:$D$42,$P$9:$P$42,\">\"& $R75,$P$9:$P$42,\"<=\"&$R76)","v":0},{"$f":"SUMIFS($D$53:$D$86,$P$53:$P$86,\">\"& $R75,$P$53:$P$86,\"<=\"&$R76)","v":0},0,0]
[null,"1900-01-01",null,0,null,null,0,null,null,null,null,null,null,null,null,"2007-12-31",null,{"$f":"R76+5","v":"2008-12-01"},0,0,0,0,0,0]
[null,"1900-01-01",null,0,null,null,0,null,null,null,null,null,null,null,null,"2007-12-31",null,"2008-12-06",0,0,0,0,0,0]
[null,"1900-01-01",null,0,null,null,0,null,null,null,null,null,null,null,null,"2007-12-31",null,"2008-12-11",0,0,0,0,0,0]
[null,"1900-01-01",null,0,null,null,0,null,null,null,null,null,null,null,null,"2007-12-31",null,"2008-12-16",0,0,0,0,0,0]
[null,"1900-01-01",null,0,null,null,0,null,null,null,null,null,null,null,null,"2007-12-31",null,"2008-12-21",0,0,0,0,0,0]
[null,"1900-01-01",null,0,null,null,0,null,null,null,null,null,null,null,null,"2007-12-31",null,"2008-12-26",0,0,0,0,0,0]
[null,"1900-01-01",null,0,null,null,0,null,null,null,null,null,null,null,null,"2007-12-31",null,{"$f":"R82+5","v":"2008-12-31"},0,0,0,0,0,0]
[null,"1900-01-01",null,0,null,null,0,null,null,null,null,null,null,null,null,"2007-12-31"]
[null,"1900-01-01",null,0,null,null,0,null,null,null,null,null,null,null,null,"2007-12-31"]
[null,"1900-01-01",null,0,null,null,{"$f":"E86+F86","v":0},null,null,null,null,null,null,null,null,"2007-12-31"]
[null,null,{"$f":"IF(ABS(D87-365)>4,\"Must have 365 ± 4 days.\",\"\")","v":"Must have 365 ± 4 days."},{"$f":"SUM(D53:D86)","v":0},{"$f":"SUM(E53:E86)","v":0},{"$f":"SUM(F53:F86)","v":0},{"$f":"SUM(G53:G86)","v":0}]
[]
[null,null,null,null,"Total Annual Cost"]
[]
[]
[null,"Notes:"]

{"sheet":"Utility Use Summary","index":13,"n_rows":234,"n_cols":24,"rows_kept":234,"cut":false,"hidden":false,"merged":[[13,17,13,18],[8,1,8,2],[16,1,16,2],[9,3,9,4],[9,7,9,8],[2,1,2,8],[23,5,23,6],[18,17,18,18],[18,15,18,16],[4,1,4,18],[5,15,5,16],[5,17,5,18],[5,11,5,12],[5,13,5,14],[9,13,9,14],[13,13,13,14],[10,7,10,8],[10,9,10,10],[10,11,10,12],[10,13,10,14],[9,17,9,18],[12,1,12,18],[9,9,9,10],[9,11,9,12],[178,7,178,11],[21,15,21,16],[21,17,21,18],[22,15,22,16],[23,15,23,16],[24,15,24,16],[22,17,22,18],[23,17,23,18],[24,17,24,18],[24,11,24,12],[21,13,21,14],[23,13,23,14],[24,13,24,14],[21,7,21,8],[23,11,23,12],[9,5,9,6],[10,1,10,2],[5,1,5,2],[9,15,9,16],[13,1,13,2],[13,3,13,4],[13,5,13,6],[13,7,13,8],[13,9,13,10],[6,1,6,2],[7,1,7,2],[9,1,9,2],[13,15,13,16],[22,3,22,4],[20,1,20,18],[18,1,18,2],[24,5,24,6],[24,1,24,2],[24,3,24,4],[24,7,24,8],[24,9,24,10],[23,1,23,2],[23,3,23,4],[23,7,23,8],[23,9,23,10],[22,9,22,10],[21,9,21,10],[21,1,21,2],[22,1,22,2],[18,13,18,14],[17,13,17,14],[22,13,22,14],[17,5,17,6],[13,11,13,12],[18,11,18,12],[18,7,18,8],[18,3,18,4],[18,5,18,6],[5,7,5,8],[5,9,5,10],[22,11,22,12],[22,5,22,6],[21,11,21,12],[22,7,22,8],[10,3,10,4],[10,5,10,6],[17,7,17,8],[17,11,17,12],[17,9,17,10],[18,9,18,10],[21,3,21,4],[21,5,21,6],[5,3,5,4],[5,5,5,6],[17,15,17,16],[17,17,17,18],[14,1,14,2],[15,1,15,2],[17,1,17,2],[17,3,17,4],[10,15,10,16],[10,17,10,18],[197,1,197,5],[197,7,197,11],[26,7,26,11],[45,7,45,11],[64,7,64,11],[140,7,140,11],[102,7,102,11],[26,1,26,5],[45,1,45,5],[64,1,64,5],[139,4,139,5],[140,1,140,5],[102,1,102,5],[159,1,159,5],[159,7,159,11],[178,1,178,5]]}
[null,"Pre- and Post-Construction Utility Data Summary"]
[null,"Instructions"]
[null,"1) This sheet summarizes utility data and project savings.  Data from this tab must be exported directly into the project's Model Calibration and Savings Verification Tools to ensure consistency across project documents. Same data must also be used to benchmark the project in EPA's ENERGY STAR Portfolio Manager. \n\n"]
[]
[null,"PRE-RETROFIT SUMMARY"]
[null,null,null,"Electricity",null,"Gas",null,"Fuel Oil",null,"Propane",null,"Steam",null,"Chilled Water",null,"Hot Water",null,{"$f":"'Utility Info'!J6","v":"Other"}]
[null,"Units",null,"kWh","MMBtu",{"$f":"'Utility Info'!D7","v":"<Not Used>"},"MMBtu",{"$f":"'Utility Info'!E7","v":"<Not Used>"},"MMBtu",{"$f":"'Utility Info'!F7","v":"<Not Used>"},"MMBtu",{"$f":"'Utility Info'!G7","v":"<Not Used>"},"MMBtu",{"$f":"'Utility Info'!H7","v":"<Not Used>"},"MMBtu",{"$f":"'Utility Info'!I7","v":"<Not Used>"},"MMBtu",{"$f":"'Utility Info'!J7","v":"<Not Used>"},"MMBtu"]
[null,"Annual Energy Use",null,{"$f":"IF(D44=0,0,E44)","v":0},{"$f":"IF(D44=0,0,F44)","v":0},{"$f":"IF(D63=0,0,E63)","v":0},{"$f":"IF(D63=0,0,F63)","v":0},{"$f":"IF(D101=0,0,E101/D101*365)","v":0},{"$f":"IF(D101=0,0,F101/D101*365)","v":0},{"$f":"IF(D139=0,0,E139/D139*365)","v":0},{"$f":"IF(D139=0,0,F139/D139*365)","v":0},{"$f":"IF(D158=0,0,E158)","v":0},{"$f":"IF(D158=0,0,F158)","v":0},{"$f":"IF(D177=0,0,E177)","v":0},{"$f":"IF(D177=0,0,F177)","v":0},{"$f":"IF(D196=0,0,E196)","v":0},{"$f":"IF(D196=0,0,F196)","v":0},{"$f":"IF(D234=0,0,E234/D234*365)","v":0},{"$f":"IF(D234=0,0,F234/D234*365)","v":0}]
[null,"Average Cost per Unit",null,{"$f":"IF(D8=0,0,D10/D8)","v":0},{"$f":"IF(E8=0,0,D10/E8)","v":0},{"$f":"IF(F8=0,0,F10/F8)","v":0},{"$f":"IF(G8=0,0,F10/G8)","v":0},{"$f":"IF(H8=0,0,H10/H8)","v":0},{"$f":"IF(I8=0,0,H10/I8)","v":0},{"$f":"IF(J8=0,0,J10/J8)","v":0},{"$f":"IF(K8=0,0,J10/K8)","v":0},{"$f":"IF(L8=0,0,L10/L8)","v":0},{"$f":"IF(M8=0,0,L10/M8)","v":0},{"$f":"IF(N8=0,0,N10/N8)","v":0},{"$f":"IF(O8=0,0,N10/O8)","v":0},{"$f":"IF(P8=0,0,P10/P8)","v":0},{"$f":"IF(Q8=0,0,P10/Q8)","v":0},{"$f":"IF(R8=0,0,R10/R8)","v":0},{"$f":"IF(S8=0,0,R10/S8)","v":0}]
[null,"Annual Cost",null,{"$f":"IF(D44=0,0,'Electric Totals'!BB28)","v":0},null,{"$f":"IF(D63=0,0,'Gas Totals'!BB28)","v":0},null,{"$f":"IF(D101=0,0,Oil!E46/D101*365)","v":0},null,{"$f":"IF(D139=0,0,Propane!E46/D139*365)","v":0},null,{"$f":"IF(D158=0,0,Steam!E27)","v":0},null,{"$f":"IF(D177=0,0,'Chilled Water'!E27)","v":0},null,{"$f":"IF(D196=0,0,'Hot Water'!E27)","v":0},null,{"$f":"IF(D234=0,0,Other!E46/D234*365)","v":0}]
[null,"Renewable Energy Generation (MMBtu)",null,{"$f":"'Electric Totals'!AU25*0.003412","v":0},null,{"$f":"'Gas Totals'!AU25*0.1","v":0},null,{"$f":"Oil!F43","v":0},null,{"$f":"Propane!F43","v":0},null,{"$f":"Steam!G24","v":0},null,{"$f":"'Chilled Water'!F24","v":0},null,{"$f":"'Hot Water'!F24","v":0},null,{"$f":"Other!F43","v":0}]
[null,{"$f":"IF(W35-W34>15,\"The pre-retrofit start dates are more than 15 days out of synch. Please correct.\",\"\")","v":""}]
[null,"POST-RETROFIT SUMMARY"]
[null,null,null,"Electricity",null,"Gas",null,"Fuel Oil",null,"Propane",null,"Steam",null,"Chilled Water",null,"Hot Water",null,{"$f":"'Utility Info'!J15","v":"<Other Fuel Type>"}]
[null,"Units",null,"kWh","MMBtu",{"$f":"'Utility Info'!D16","v":"<Not Used>"},"MMBtu",{"$f":"'Utility Info'!E16","v":"<Not Used>"},"MMBtu",{"$f":"'Utility Info'!F16","v":"<Not Used>"},"MMBtu",{"$f":"'Utility Info'!G16","v":"<Not Used>"},"MMBtu",{"$f":"'Utility Info'!H16","v":"<Not Used>"},"MMBtu",{"$f":"'Utility Info'!I16","v":"<Not Used>"},"MMBtu",{"$f":"'Utility Info'!J16","v":"<Not Used>"},"MMBtu"]
[null,"Annual Energy Use",null,{"$f":"IF(J44=0,0,K44)","v":0},{"$f":"IF(J44=0,0,L44)","v":0},{"$f":"IF(J63=0,0,K63)","v":0},{"$f":"IF(J63=0,0,L63)","v":0},{"$f":"IF(J101=0,0,K101/J101*365)","v":0},{"$f":"IF(J101=0,0,L101/J101*365)","v":0},{"$f":"IF(J139=0,0,K139/J139*365)","v":0},{"$f":"IF(J139=0,0,L139/J139*365)","v":0},{"$f":"IF(J158=0,0,K158)","v":0},{"$f":"IF(J158=0,0,L158)","v":0},{"$f":"IF(J177=0,0,K177)","v":0},{"$f":"IF(J177=0,0,L177)","v":0},{"$f":"IF(J196=0,0,K196)","v":0},{"$f":"IF(J196=0,0,L196)","v":0},{"$f":"IF(J234=0,0,K234/J234*365)","v":0},{"$f":"IF(J234=0,0,L234/J234*365)","v":0}]
[null,"Average Cost per Unit",null,{"$f":"IF(D16=0,0,D18/D16)","v":0},{"$f":"IF(E16=0,0,D18/E16)","v":0},{"$f":"IF(F16=0,0,F18/F16)","v":0},{"$f":"IF(G16=0,0,F18/G16)","v":0},{"$f":"IF(H16=0,0,H18/H16)","v":0},{"$f":"IF(I16=0,0,H18/I16)","v":0},{"$f":"IF(J16=0,0,J18/J16)","v":0},{"$f":"IF(K16=0,0,J18/K16)","v":0},{"$f":"IF(L16=0,0,L18/L16)","v":0},{"$f":"IF(M16=0,0,L18/M16)","v":0},{"$f":"IF(N16=0,0,N18/N16)","v":0},{"$f":"IF(O16=0,0,N18/O16)","v":0},{"$f":"IF(P16=0,0,P18/P16)","v":0},{"$f":"IF(Q16=0,0,P18/Q16)","v":0},{"$f":"IF(R16=0,0,R18/R16)","v":0},{"$f":"IF(S16=0,0,R18/S16)","v":0}]
[null,"Annual Cost",null,{"$f":"IF(J44=0,0,'Electric Totals'!BB53)","v":0},null,{"$f":"IF(J63=0,0,'Gas Totals'!BB53)","v":0},null,{"$f":"IF(J101=0,0,Oil!E90/J101*365)","v":0},null,{"$f":"IF(J139=0,0,Propane!E90/J139*365)","v":0},null,{"$f":"IF(J158=0,0,Steam!E51)","v":0},null,{"$f":"IF(J177=0,0,'Chilled Water'!E51)","v":0},null,{"$f":"IF(J196=0,0,'Hot Water'!E51)","v":0},null,{"$f":"IF(J234=0,0,Other!E90/J234*365)","v":0}]
[null,"Renewable Energy Generation (MMBtu)",null,{"$f":"'Electric Totals'!AU50*0.003412","v":0},null,{"$f":"'Gas Totals'!AU50*0.1","v":0},null,{"$f":"Oil!F87","v":0},null,{"$f":"Propane!F87","v":0},null,{"$f":"Steam!G48","v":0},null,{"$f":"'Chilled Water'!F48","v":0},null,{"$f":"'Hot Water'!F48","v":0},null,{"$f":"Other!F87","v":0}]
[null,{"$f":"IF(X35-X34>15,\"The post-retrofit start dates are more than 15 days out of synch. Please correct.\",\"\")","v":""}]
[null,"SAVINGS SUMMARY"]
[null,null,null,"Electricity",null,"Gas",null,"Fuel Oil",null,"Propane",null,"Steam",null,"Chilled Water",null,"Hot Water",null,{"$f":"R14","v":"<Other Fuel Type>"}]
[null,"MMBtu Savings",null,{"$f":"IF(D16=0,\"\",(E8+D11)-(E16+D19))","v":""},null,{"$f":"IF(F16=0,\"\",(G8+F11)-(G16+F19))","v":""},null,{"$f":"IF(H16=0,\"\",(I8+H11)-(I16+H19))","v":""},null,{"$f":"IF(J16=0,\"\",(K8+J11)-(K16+J19))","v":""},null,{"$f":"IF(L16=0,\"\",(M8+L11)-(M16+L19))","v":""},null,{"$f":"IF(N16=0,\"\",(O8+N11)-(O16+N19))","v":""},null,{"$f":"IF(P16=0,\"\",(Q8+P11)-(Q16+P19))","v":""},null,{"$f":"IF(R16=0,\"\",(S8+R11)-(S16+R19))","v":""}]
[null,"Percent Savings",null,{"$f":"IF(D16=0,\"\",IF(E8=0,0,D23/E8))","v":""},null,{"$f":"IF(F16=0,\"\",IF(G8=0,0,F23/G8))","v":""},null,{"$f":"IF(H16=0,\"\",IF(I8=0,0,H23/I8))","v":""},null,{"$f":"IF(J16=0,\"\",IF(K8=0,0,J23/K8))","v":""},null,{"$f":"IF(L16=0,\"\",IF(M8=0,0,L23/M8))","v":""},null,{"$f":"IF(N16=0,\"\",IF(O8=0,0,N23/O8))","v":""},null,{"$f":"IF(P16=0,\"\",IF(Q8=0,0,P23/Q8))","v":""},null,{"$f":"IF(R16=0,\"\",IF(S8=0,0,R23/S8))","v":""}]
[null,"Percent of Total Savings",null,{"$f":"IF(D16=0,\"\",IF(SUM($D$23:$S$23)=0,0,D23/SUM($D$23:$S$23)))","v":""},null,{"$f":"IF(F16=0,\"\",IF(SUM($D$23:$S$23)=0,0,F23/SUM($D$23:$S$23)))","v":""},null,{"$f":"IF(H16=0,\"\",IF(SUM($D$23:$S$23)=0,0,H23/SUM($D$23:$S$23)))","v":""},null,{"$f":"IF(J16=0,\"\",IF(SUM($D$23:$S$23)=0,0,J23/SUM($D$23:$S$23)))","v":""},null,{"$f":"IF(L16=0,\"\",IF(SUM($D$23:$S$23)=0,0,L23/SUM($D$23:$S$23)))","v":""},null,{"$f":"IF(N16=0,\"\",IF(SUM($D$23:$S$23)=0,0,N23/SUM($D$23:$S$23)))","v":""},null,{"$f":"IF(P16=0,\"\",IF(SUM($D$23:$S$23)=0,0,P23/SUM($D$23:$S$23)))","v":""},null,{"$f":"IF(R16=0,\"\",IF(SUM($D$23:$S$23)=0,0,R23/SUM($D$23:$S$23)))","v":""}]
[]
[null,"PRE-CONSTRUCTION ELECTRIC",null,null,null,null,null,"POST-CONSTRUCTION ELECTRIC"]
[null,"Billing Period Start Date","Meter Read Date","Days in Billing Period","Total Consumption\nkWh","Total Consumption\nMMBtu",null,"Billing Period Start Date","Meter Read Date","Days in Billing Period","Total Consumption\nkWh","Total Consumption\nMMBtu",null,null,null,null,null,null,null,null,null,null,"Pre","Post"]
[null,{"$f":"IF('Electric Totals'!$AT$25>'Electric Totals'!$AZ$25,'Electric Totals'!B10,'Electric Totals'!AW10)","v":"1900-01-01"},{"$f":"IF('Electric Totals'!$AT$25>'Electric Totals'!$AZ$25,'Electric Totals'!C10,'Electric Totals'!AX10)","v":"00:00:00"},{"$f":"IF('Electric Totals'!$AT$25>'Electric Totals'!$AZ$25,'Electric Totals'!D10,'Electric Totals'!AY10)","v":0},{"$f":"'Electric Totals'!BB10","v":0},{"$f":"E29*0.003412","v":0},null,{"$f":"IF('Electric Totals'!$AT$50>'Electric Totals'!$AZ$50,'Electric Totals'!B35,'Electric Totals'!AW35)","v":"1900-01-01"},{"$f":"IF('Electric Totals'!$AT$50>'Electric Totals'!$AZ$50,'Electric Totals'!C35,'Electric Totals'!AX35)","v":"00:00:00"},{"$f":"IF('Electric Totals'!$AT$50>'Electric Totals'!$AZ$50,'Electric Totals'!D35,'Electric Totals'!AY35)","v":0},{"$f":"'Electric Totals'!BB35","v":0},{"$f":"K29*0.003412","v":0},null,null,null,null,null,null,null,null,null,"Electric",{"$f":"IF(B29>1000,B29,\"\")","v":""},{"$f":"IF(H29>1000,H29,\"\")","v":""}]
[null,{"$f":"IF('Electric Totals'!$AT$25>'Electric Totals'!$AZ$25,'Electric Totals'!B11,'Electric Totals'!AW11)","v":"1900-01-01"},{"$f":"IF('Electric Totals'!$AT$25>'Electric Totals'!$AZ$25,'Electric Totals'!C11,'Electric Totals'!AX11)","v":"00:00:00"},{"$f":"IF('Electric Totals'!$AT$25>'Electric Totals'!$AZ$25,'Electric Totals'!D11,'Electric Totals'!AY11)","v":0},{"$f":"'Electric Totals'!BB11","v":0},{"$f":"E30*0.003412","v":0},null,{"$f":"IF('Electric Totals'!$AT$50>'Electric Totals'!$AZ$50,'Electric Totals'!B36,'Electric Totals'!AW36)","v":"1900-01-01"},{"$f":"IF('Electric Totals'!$AT$50>'Electric Totals'!$AZ$50,'Electric Totals'!C36,'Electric Totals'!AX36)","v":"00:00:00"},{"$f":"IF('Electric Totals'!$AT$50>'Electric Totals'!$AZ$50,'Electric Totals'!D36,'Electric Totals'!AY36)","v":0},{"$f":"'Electric Totals'!BB36","v":0},{"$f":"K30*0.003412","v":0},null,null,null,null,null,null,null,null,null,"Gas",{"$f":"IF(B48>1000,B48,\"\")","v":""},{"$f":"IF(H48>1000,H48,\"\")","v":""}]
[null,{"$f":"IF('Electric Totals'!$AT$25>'Electric Totals'!$AZ$25,'Electric Totals'!B12,'Electric Totals'!AW12)","v":"1900-01-01"},{"$f":"IF('Electric Totals'!$AT$25>'Electric Totals'!$AZ$25,'Electric Totals'!C12,'Electric Totals'!AX12)","v":"00:00:00"},{"$f":"IF('Electric Totals'!$AT$25>'Electric Totals'!$AZ$25,'Electric Totals'!D12,'Electric Totals'!AY12)","v":0},{"$f":"'Electric Totals'!BB12","v":0},0,null,{"$f":"IF('Electric Totals'!$AT$50>'Electric Totals'!$AZ$50,'Electric Totals'!B37,'Electric Totals'!AW37)","v":"1900-01-01"},{"$f":"IF('Electric Totals'!$AT$50>'Electric Totals'!$AZ$50,'Electric Totals'!C37,'Electric Totals'!AX37)","v":"00:00:00"},{"$f":"IF('Electric Totals'!$AT$50>'Electric Totals'!$AZ$50,'Electric Totals'!D37,'Electric Totals'!AY37)","v":0},{"$f":"'Electric Totals'!BB37","v":0},0,null,null,null,null,null,null,null,null,null,"Oil",{"$f":"IF(B67>1000,B67,\"\")","v":""},{"$f":"IF(H67>1000,H67,\"\")","v":""}]
[null,{"$f":"IF('Electric Totals'!$AT$25>'Electric Totals'!$AZ$25,'Electric Totals'!B13,'Electric Totals'!AW13)","v":"1900-01-01"},{"$f":"IF('Electric Totals'!$AT$25>'Electric Totals'!$AZ$25,'Electric Totals'!C13,'Electric Totals'!AX13)","v":"00:00:00"},{"$f":"IF('Electric Totals'!$AT$25>'Electric Totals'!$AZ$25,'Electric Totals'!D13,'Electric Totals'!AY13)","v":0},{"$f":"'Electric Totals'!BB13","v":0},0,null,{"$f":"IF('Electric Totals'!$AT$50>'Electric Totals'!$AZ$50,'Electric Totals'!B38,'Electric Totals'!AW38)","v":"1900-01-01"},{"$f":"IF('Electric Totals'!$AT$50>'Electric Totals'!$AZ$50,'Electric Totals'!C38,'Electric Totals'!AX38)","v":"00:00:00"},{"$f":"IF('Electric Totals'!$AT$50>'Electric Totals'!$AZ$50,'Electric Totals'!D38,'Electric Totals'!AY38)","v":0},{"$f":"'Electric Totals'!BB38","v":0},0,null,null,null,null,null,null,null,null,null,"Steam",{"$f":"IF(B143>1000,B143,\"\")","v":""},{"$f":"IF(H143>1000,H143,\"\")","v":""}]
[null,{"$f":"IF('Electric Totals'!$AT$25>'Electric Totals'!$AZ$25,'Electric Totals'!B14,'Electric Totals'!AW14)","v":"1900-01-01"},{"$f":"IF('Electric Totals'!$AT$25>'Electric Totals'!$AZ$25,'Electric Totals'!C14,'Electric Totals'!AX14)","v":"00:00:00"},{"$f":"IF('Electric Totals'!$AT$25>'Electric Totals'!$AZ$25,'Electric Totals'!D14,'Electric Totals'!AY14)","v":0},{"$f":"'Electric Totals'!BB14","v":0},0,null,{"$f":"IF('Electric Totals'!$AT$50>'Electric Totals'!$AZ$50,'Electric Totals'!B39,'Electric Totals'!AW39)","v":"1900-01-01"},{"$f":"IF('Electric Totals'!$AT$50>'Electric Totals'!$AZ$50,'Electric Totals'!C39,'Electric Totals'!AX39)","v":"00:00:00"},{"$f":"IF('Electric Totals'!$AT$50>'Electric Totals'!$AZ$50,'Electric Totals'!D39,'Electric Totals'!AY39)","v":0},{"$f":"'Electric Totals'!BB39","v":0},0,null,null,null,null,null,null,null,null,null,"Propane",{"$f":"IF(B105>1000,B105,\"\")","v":""},{"$f":"IF(H105>1000,H105,\"\")","v":""}]
[null,{"$f":"IF('Electric Totals'!$AT$25>'Electric Totals'!$AZ$25,'Electric Totals'!B15,'Electric Totals'!AW15)","v":"1900-01-01"},{"$f":"IF('Electric Totals'!$AT$25>'Electric Totals'!$AZ$25,'Electric Totals'!C15,'Electric Totals'!AX15)","v":"00:00:00"},{"$f":"IF('Electric Totals'!$AT$25>'Electric Totals'!$AZ$25,'Electric Totals'!D15,'Electric Totals'!AY15)","v":0},{"$f":"'Electric Totals'!BB15","v":0},0,null,{"$f":"IF('Electric Totals'!$AT$50>'Electric Totals'!$AZ$50,'Electric Totals'!B40,'Electric Totals'!AW40)","v":"1900-01-01"},{"$f":"IF('Electric Totals'!$AT$50>'Electric Totals'!$AZ$50,'Electric Totals'!C40,'Electric Totals'!AX40)","v":"00:00:00"},{"$f":"IF('Electric Totals'!$AT$50>'Electric Totals'!$AZ$50,'Electric Totals'!D40,'Electric Totals'!AY40)","v":0},{"$f":"'Electric Totals'!BB40","v":0},0,null,null,null,null,null,null,null,null,null,"Earliest",{"$f":"MIN(W29:W33)","v":"00:00:00"},{"$f":"MIN(X29:X33)","v":"00:00:00"}]
[null,{"$f":"IF('Electric Totals'!$AT$25>'Electric Totals'!$AZ$25,'Electric Totals'!B16,'Electric Totals'!AW16)","v":"1900-01-01"},{"$f":"IF('Electric Totals'!$AT$25>'Electric Totals'!$AZ$25,'Electric Totals'!C16,'Electric Totals'!AX16)","v":"00:00:00"},{"$f":"IF('Electric Totals'!$AT$25>'Electric Totals'!$AZ$25,'Electric Totals'!D16,'Electric Totals'!AY16)","v":0},{"$f":"'Electric Totals'!BB16","v":0},0,null,{"$f":"IF('Electric Totals'!$AT$50>'Electric Totals'!$AZ$50,'Electric Totals'!B41,'Electric Totals'!AW41)","v":"1900-01-01"},{"$f":"IF('Electric Totals'!$AT$50>'Electric Totals'!$AZ$50,'Electric Totals'!C41,'Electric Totals'!AX41)","v":"00:00:00"},{"$f":"IF('Electric Totals'!$AT$50>'Electric Totals'!$AZ$50,'Electric Totals'!D41,'Electric Totals'!AY41)","v":0},{"$f":"'Electric Totals'!BB41","v":0},0,null,null,null,null,null,null,null,null,null,"Latest",{"$f":"MAX(W29:W33)","v":"00:00:00"},{"$f":"MAX(X29:X33)","v":"00:00:00"}]
[null,{"$f":"IF('Electric Totals'!$AT$25>'Electric Totals'!$AZ$25,'Electric Totals'!B17,'Electric Totals'!AW17)","v":"1900-01-01"},{"$f":"IF('Electric Totals'!$AT$25>'Electric Totals'!$AZ$25,'Electric Totals'!C17,'Electric Totals'!AX17)","v":"00:00:00"},{"$f":"IF('Electric Totals'!$AT$25>'Electric Totals'!$AZ$25,'Electric Totals'!D17,'Electric Totals'!AY17)","v":0},{"$f":"'Electric Totals'!BB17","v":0},0,null,{"$f":"IF('Electric Totals'!$AT$50>'Electric Totals'!$AZ$50,'Electric Totals'!B42,'Electric Totals'!AW42)","v":"1900-01-01"},{"$f":"IF('Electric Totals'!$AT$50>'Electric Totals'!$AZ$50,'Electric Totals'!C42,'Electric Totals'!AX42)","v":"00:00:00"},{"$f":"IF('Electric Totals'!$AT$50>'Electric Totals'!$AZ$50,'Electric Totals'!D42,'Electric Totals'!AY42)","v":0},{"$f":"'Electric Totals'!BB42","v":0},0]
[null,{"$f":"IF('Electric Totals'!$AT$25>'Electric Totals'!$AZ$25,'Electric Totals'!B18,'Electric Totals'!AW18)","v":"1900-01-01"},{"$f":"IF('Electric Totals'!$AT$25>'Electric Totals'!$AZ$25,'Electric Totals'!C18,'Electric Totals'!AX18)","v":"00:00:00"},{"$f":"IF('Electric Totals'!$AT$25>'Electric Totals'!$AZ$25,'Electric Totals'!D18,'Electric Totals'!AY18)","v":0},{"$f":"'Electric Totals'!BB18","v":0},0,null,{"$f":"IF('Electric Totals'!$AT$50>'Electric Totals'!$AZ$50,'Electric Totals'!B43,'Electric Totals'!AW43)","v":"1900-01-01"},{"$f":"IF('Electric Totals'!$AT$50>'Electric Totals'!$AZ$50,'Electric Totals'!C43,'Electric Totals'!AX43)","v":"00:00:00"},{"$f":"IF('Electric Totals'!$AT$50>'Electric Totals'!$AZ$50,'Electric Totals'!D43,'Electric Totals'!AY43)","v":0},{"$f":"'Electric Totals'!BB43","v":0},0]
[null,{"$f":"IF('Electric Totals'!$AT$25>'Electric Totals'!$AZ$25,'Electric Totals'!B19,'Electric Totals'!AW19)","v":"1900-01-01"},{"$f":"IF('Electric Totals'!$AT$25>'Electric Totals'!$AZ$25,'Electric Totals'!C19,'Electric Totals'!AX19)","v":"00:00:00"},{"$f":"IF('Electric Totals'!$AT$25>'Electric Totals'!$AZ$25,'Electric Totals'!D19,'Electric Totals'!AY19)","v":0},{"$f":"'Electric Totals'!BB19","v":0},0,null,{"$f":"IF('Electric Totals'!$AT$50>'Electric Totals'!$AZ$50,'Electric Totals'!B44,'Electric Totals'!AW44)","v":"1900-01-01"},{"$f":"IF('Electric Totals'!$AT$50>'Electric Totals'!$AZ$50,'Electric Totals'!C44,'Electric Totals'!AX44)","v":"00:00:00"},{"$f":"IF('Electric Totals'!$AT$50>'Electric Totals'!$AZ$50,'Electric Totals'!D44,'Electric Totals'!AY44)","v":0},{"$f":"'Electric Totals'!BB44","v":0},0]
[null,{"$f":"IF('Electric Totals'!$AT$25>'Electric Totals'!$AZ$25,'Electric Totals'!B20,'Electric Totals'!AW20)","v":"1900-01-01"},{"$f":"IF('Electric Totals'!$AT$25>'Electric Totals'!$AZ$25,'Electric Totals'!C20,'Electric Totals'!AX20)","v":"00:00:00"},{"$f":"IF('Electric Totals'!$AT$25>'Electric Totals'!$AZ$25,'Electric Totals'!D20,'Electric Totals'!AY20)","v":0},{"$f":"'Electric Totals'!BB20","v":0},0,null,{"$f":"IF('Electric Totals'!$AT$50>'Electric Totals'!$AZ$50,'Electric Totals'!B45,'Electric Totals'!AW45)","v":"1900-01-01"},{"$f":"IF('Electric Totals'!$AT$50>'Electric Totals'!$AZ$50,'Electric Totals'!C45,'Electric Totals'!AX45)","v":"00:00:00"},{"$f":"IF('Electric Totals'!$AT$50>'Electric Totals'!$AZ$50,'Electric Totals'!D45,'Electric Totals'!AY45)","v":0},{"$f":"'Electric Totals'!BB45","v":0},0]
[null,{"$f":"IF('Electric Totals'!$AT$25>'Electric Totals'!$AZ$25,'Electric Totals'!B21,'Electric Totals'!AW21)","v":"1900-01-01"},{"$f":"IF('Electric Totals'!$AT$25>'Electric Totals'!$AZ$25,'Electric Totals'!C21,'Electric Totals'!AX21)","v":"00:00:00"},{"$f":"IF('Electric Totals'!$AT$25>'Electric Totals'!$AZ$25,'Electric Totals'!D21,'Electric Totals'!AY21)","v":0},{"$f":"'Electric Totals'!BB21","v":0},0,null,{"$f":"IF('Electric Totals'!$AT$50>'Electric Totals'!$AZ$50,'Electric Totals'!B46,'Electric Totals'!AW46)","v":"1900-01-01"},{"$f":"IF('Electric Totals'!$AT$50>'Electric Totals'!$AZ$50,'Electric Totals'!C46,'Electric Totals'!AX46)","v":"00:00:00"},{"$f":"IF('Electric Totals'!$AT$50>'Electric Totals'!$AZ$50,'Electric Totals'!D46,'Electric Totals'!AY46)","v":0},{"$f":"'Electric Totals'!BB46","v":0},0]
[null,{"$f":"IF('Electric Totals'!$AT$25>'Electric Totals'!$AZ$25,'Electric Totals'!B22,'Electric Totals'!AW22)","v":"1900-01-01"},{"$f":"IF('Electric Totals'!$AT$25>'Electric Totals'!$AZ$25,'Electric Totals'!C22,'Electric Totals'!AX22)","v":"00:00:00"},{"$f":"IF('Electric Totals'!$AT$25>'Electric Totals'!$AZ$25,'Electric Totals'!D22,'Electric Totals'!AY22)","v":0},{"$f":"'Electric Totals'!BB22","v":0},0,null,{"$f":"IF('Electric Totals'!$AT$50>'Electric Totals'!$AZ$50,'Electric Totals'!B47,'Electric Totals'!AW47)","v":"1900-01-01"},{"$f":"IF('Electric Totals'!$AT$50>'Electric Totals'!$AZ$50,'Electric Totals'!C47,'Electric Totals'!AX47)","v":"00:00:00"},{"$f":"IF('Electric Totals'!$AT$50>'Electric Totals'!$AZ$50,'Electric Totals'!D47,'Electric Totals'!AY47)","v":0},{"$f":"'Electric Totals'!BB47","v":0},0]
[null,{"$f":"IF('Electric Totals'!$AT$25>'Electric Totals'!$AZ$25,'Electric Totals'!B23,'Electric Totals'!AW23)","v":"1900-01-01"},{"$f":"IF('Electric Totals'!$AT$25>'Electric Totals'!$AZ$25,'Electric Totals'!C23,'Electric Totals'!AX23)","v":"00:00:00"},{"$f":"IF('Electric Totals'!$AT$25>'Electric Totals'!$AZ$25,'Electric Totals'!D23,'Electric Totals'!AY23)","v":0},{"$f":"'Electric Totals'!BB23","v":0},0,null,{"$f":"IF('Electric Totals'!$AT$50>'Electric Totals'!$AZ$50,'Electric Totals'!B48,'Electric Totals'!AW48)","v":"1900-01-01"},{"$f":"IF('Electric Totals'!$AT$50>'Electric Totals'!$AZ$50,'Electric Totals'!C48,'Electric Totals'!AX48)","v":"00:00:00"},{"$f":"IF('Electric Totals'!$AT$50>'Electric Totals'!$AZ$50,'Electric Totals'!D48,'Electric Totals'!AY48)","v":0},{"$f":"'Electric Totals'!BB48","v":0},0]
[null,{"$f":"IF('Electric Totals'!$AT$25>'Electric Totals'!$AZ$25,'Electric Totals'!B24,'Electric Totals'!AW24)","v":"1900-01-01"},{"$f":"IF('Electric Totals'!$AT$25>'Electric Totals'!$AZ$25,'Electric Totals'!C24,'Electric Totals'!AX24)","v":"00:00:00"},{"$f":"IF('Electric Totals'!$AT$25>'Electric Totals'!$AZ$25,'Electric Totals'!D24,'Electric Totals'!AY24)","v":0},{"$f":"'Electric Totals'!BB24","v":0},0,null,{"$f":"IF('Electric Totals'!$AT$50>'Electric Totals'!$AZ$50,'Electric Totals'!B49,'Electric Totals'!AW49)","v":"1900-01-01"},{"$f":"IF('Electric Totals'!$AT$50>'Electric Totals'!$AZ$50,'Electric Totals'!C49,'Electric Totals'!AX49)","v":"00:00:00"},{"$f":"IF('Electric Totals'!$AT$50>'Electric Totals'!$AZ$50,'Electric Totals'!D49,'Electric Totals'!AY49)","v":0},{"$f":"'Electric Totals'!BB49","v":0},0]
[null,null,null,{"$f":"SUM(D29:D43)","v":0},{"$f":"SUM(E29:E43)","v":0},{"$f":"SUM(F29:F43)","v":0},null,null,null,{"$f":"SUM(J29:J43)","v":0},{"$f":"SUM(K29:K43)","v":0},{"$f":"SUM(L29:L43)","v":0}]
[]
[null,"PRE-CONSTRUCTION GAS",null,null,null,null,null,"POST-CONSTRUCTION GAS"]
[null,"Billing Period Start Date","Meter Read Date","Days in Billing Period",{"$f":"\"Total  Consumption\n\" & 'Utility Info'!D7","v":"Total  Consumption\n<Not Used>"},"Total Consumption \nMMBtu",null,"Billing Period Start Date","Meter Read Date","Days in Billing Period",{"$f":"\"Total Consumption\n\" & 'Utility Info'!D16","v":"Total Consumption\n<Not Used>"},"Total Consumption\nMMBtu"]
[null,{"$f":"IF('Gas Totals'!$AT$25>'Gas Totals'!$AZ$25,'Gas Totals'!B10,'Gas Totals'!AW10)","v":"1900-01-01"},{"$f":"IF('Gas Totals'!$AT$25>'Gas Totals'!$AZ$25,'Gas Totals'!C10,'Gas Totals'!AX10)","v":"00:00:00"},{"$f":"IF('Gas Totals'!$AT$25>'Gas Totals'!$AZ$25,'Gas Totals'!D10,'Gas Totals'!AY10)","v":0},{"$f":"'Gas Totals'!BB10","v":0},{"$f":"E48*0.1","v":0},null,{"$f":"IF('Gas Totals'!$AT$50>'Gas Totals'!$AZ$50,'Gas Totals'!B35,'Gas Totals'!AW35)","v":"1900-01-01"},{"$f":"IF('Gas Totals'!$AT$50>'Gas Totals'!$AZ$50,'Gas Totals'!C35,'Gas Totals'!AX35)","v":"00:00:00"},{"$f":"IF('Gas Totals'!$AT$50>'Gas Totals'!$AZ$50,'Gas Totals'!D35,'Gas Totals'!AY35)","v":0},{"$f":"'Gas Totals'!BB35","v":0},{"$f":"K48*0.1","v":0}]
[null,{"$f":"IF('Gas Totals'!$AT$25>'Gas Totals'!$AZ$25,'Gas Totals'!B11,'Gas Totals'!AW11)","v":"1900-01-01"},{"$f":"IF('Gas Totals'!$AT$25>'Gas Totals'!$AZ$25,'Gas Totals'!C11,'Gas Totals'!AX11)","v":"00:00:00"},{"$f":"IF('Gas Totals'!$AT$25>'Gas Totals'!$AZ$25,'Gas Totals'!D11,'Gas Totals'!AY11)","v":0},{"$f":"'Gas Totals'!BB11","v":0},{"$f":"E49*0.1","v":0},null,{"$f":"IF('Gas Totals'!$AT$50>'Gas Totals'!$AZ$50,'Gas Totals'!B36,'Gas Totals'!AW36)","v":"1900-01-01"},{"$f":"IF('Gas Totals'!$AT$50>'Gas Totals'!$AZ$50,'Gas Totals'!C36,'Gas Totals'!AX36)","v":"00:00:00"},{"$f":"IF('Gas Totals'!$AT$50>'Gas Totals'!$AZ$50,'Gas Totals'!D36,'Gas Totals'!AY36)","v":0},{"$f":"'Gas Totals'!BB36","v":0},{"$f":"K49*0.1","v":0}]
[null,{"$f":"IF('Gas Totals'!$AT$25>'Gas Totals'!$AZ$25,'Gas Totals'!B12,'Gas Totals'!AW12)","v":"1900-01-01"},{"$f":"IF('Gas Totals'!$AT$25>'Gas Totals'!$AZ$25,'Gas Totals'!C12,'Gas Totals'!AX12)","v":"00:00:00"},{"$f":"IF('Gas Totals'!$AT$25>'Gas Totals'!$AZ$25,'Gas Totals'!D12,'Gas Totals'!AY12)","v":0},{"$f":"'Gas Totals'!BB12","v":0},0,null,{"$f":"IF('Gas Totals'!$AT$50>'Gas Totals'!$AZ$50,'Gas Totals'!B37,'Gas Totals'!AW37)","v":"1900-01-01"},{"$f":"IF('Gas Totals'!$AT$50>'Gas Totals'!$AZ$50,'Gas Totals'!C37,'Gas Totals'!AX37)","v":"00:00:00"},{"$f":"IF('Gas Totals'!$AT$50>'Gas Totals'!$AZ$50,'Gas Totals'!D37,'Gas Totals'!AY37)","v":0},{"$f":"'Gas Totals'!BB37","v":0},{"$f":"K50*0.1","v":0}]
[null,{"$f":"IF('Gas Totals'!$AT$25>'Gas Totals'!$AZ$25,'Gas Totals'!B13,'Gas Totals'!AW13)","v":"1900-01-01"},{"$f":"IF('Gas Totals'!$AT$25>'Gas Totals'!$AZ$25,'Gas Totals'!C13,'Gas Totals'!AX13)","v":"00:00:00"},{"$f":"IF('Gas Totals'!$AT$25>'Gas Totals'!$AZ$25,'Gas Totals'!D13,'Gas Totals'!AY13)","v":0},{"$f":"'Gas Totals'!BB13","v":0},0,null,{"$f":"IF('Gas Totals'!$AT$50>'Gas Totals'!$AZ$50,'Gas Totals'!B38,'Gas Totals'!AW38)","v":"1900-01-01"},{"$f":"IF('Gas Totals'!$AT$50>'Gas Totals'!$AZ$50,'Gas Totals'!C38,'Gas Totals'!AX38)","v":"00:00:00"},{"$f":"IF('Gas Totals'!$AT$50>'Gas Totals'!$AZ$50,'Gas Totals'!D38,'Gas Totals'!AY38)","v":0},{"$f":"'Gas Totals'!BB38","v":0},0]
[null,{"$f":"IF('Gas Totals'!$AT$25>'Gas Totals'!$AZ$25,'Gas Totals'!B14,'Gas Totals'!AW14)","v":"1900-01-01"},{"$f":"IF('Gas Totals'!$AT$25>'Gas Totals'!$AZ$25,'Gas Totals'!C14,'Gas Totals'!AX14)","v":"00:00:00"},{"$f":"IF('Gas Totals'!$AT$25>'Gas Totals'!$AZ$25,'Gas Totals'!D14,'Gas Totals'!AY14)","v":0},{"$f":"'Gas Totals'!BB14","v":0},0,null,{"$f":"IF('Gas Totals'!$AT$50>'Gas Totals'!$AZ$50,'Gas Totals'!B39,'Gas Totals'!AW39)","v":"1900-01-01"},{"$f":"IF('Gas Totals'!$AT$50>'Gas Totals'!$AZ$50,'Gas Totals'!C39,'Gas Totals'!AX39)","v":"00:00:00"},{"$f":"IF('Gas Totals'!$AT$50>'Gas Totals'!$AZ$50,'Gas Totals'!D39,'Gas Totals'!AY39)","v":0},{"$f":"'Gas Totals'!BB39","v":0},0]
[null,{"$f":"IF('Gas Totals'!$AT$25>'Gas Totals'!$AZ$25,'Gas Totals'!B15,'Gas Totals'!AW15)","v":"1900-01-01"},{"$f":"IF('Gas Totals'!$AT$25>'Gas Totals'!$AZ$25,'Gas Totals'!C15,'Gas Totals'!AX15)","v":"00:00:00"},{"$f":"IF('Gas Totals'!$AT$25>'Gas Totals'!$AZ$25,'Gas Totals'!D15,'Gas Totals'!AY15)","v":0},{"$f":"'Gas Totals'!BB15","v":0},0,null,{"$f":"IF('Gas Totals'!$AT$50>'Gas Totals'!$AZ$50,'Gas Totals'!B40,'Gas Totals'!AW40)","v":"1900-01-01"},{"$f":"IF('Gas Totals'!$AT$50>'Gas Totals'!$AZ$50,'Gas Totals'!C40,'Gas Totals'!AX40)","v":"00:00:00"},{"$f":"IF('Gas Totals'!$AT$50>'Gas Totals'!$AZ$50,'Gas Totals'!D40,'Gas Totals'!AY40)","v":0},{"$f":"'Gas Totals'!BB40","v":0},0]
[null,{"$f":"IF('Gas Totals'!$AT$25>'Gas Totals'!$AZ$25,'Gas Totals'!B16,'Gas Totals'!AW16)","v":"1900-01-01"},{"$f":"IF('Gas Totals'!$AT$25>'Gas Totals'!$AZ$25,'Gas Totals'!C16,'Gas Totals'!AX16)","v":"00:00:00"},{"$f":"IF('Gas Totals'!$AT$25>'Gas Totals'!$AZ$25,'Gas Totals'!D16,'Gas Totals'!AY16)","v":0},{"$f":"'Gas Totals'!BB16","v":0},0,null,{"$f":"IF('Gas Totals'!$AT$50>'Gas Totals'!$AZ$50,'Gas Totals'!B41,'Gas Totals'!AW41)","v":"1900-01-01"},{"$f":"IF('Gas Totals'!$AT$50>'Gas Totals'!$AZ$50,'Gas Totals'!C41,'Gas Totals'!AX41)","v":"00:00:00"},{"$f":"IF('Gas Totals'!$AT$50>'Gas Totals'!$AZ$50,'Gas Totals'!D41,'Gas Totals'!AY41)","v":0},{"$f":"'Gas Totals'!BB41","v":0},0]
[null,{"$f":"IF('Gas Totals'!$AT$25>'Gas Totals'!$AZ$25,'Gas Totals'!B17,'Gas Totals'!AW17)","v":"1900-01-01"},{"$f":"IF('Gas Totals'!$AT$25>'Gas Totals'!$AZ$25,'Gas Totals'!C17,'Gas Totals'!AX17)","v":"00:00:00"},{"$f":"IF('Gas Totals'!$AT$25>'Gas Totals'!$AZ$25,'Gas Totals'!D17,'Gas Totals'!AY17)","v":0},{"$f":"'Gas Totals'!BB17","v":0},0,null,{"$f":"IF('Gas Totals'!$AT$50>'Gas Totals'!$AZ$50,'Gas Totals'!B42,'Gas Totals'!AW42)","v":"1900-01-01"},{"$f":"IF('Gas Totals'!$AT$50>'Gas Totals'!$AZ$50,'Gas Totals'!C42,'Gas Totals'!AX42)","v":"00:00:00"},{"$f":"IF('Gas Totals'!$AT$50>'Gas Totals'!$AZ$50,'Gas Totals'!D42,'Gas Totals'!AY42)","v":0},{"$f":"'Gas Totals'!BB42","v":0},0]
[null,{"$f":"IF('Gas Totals'!$AT$25>'Gas Totals'!$AZ$25,'Gas Totals'!B18,'Gas Totals'!AW18)","v":"1900-01-01"},{"$f":"IF('Gas Totals'!$AT$25>'Gas Totals'!$AZ$25,'Gas Totals'!C18,'Gas Totals'!AX18)","v":"00:00:00"},{"$f":"IF('Gas Totals'!$AT$25>'Gas Totals'!$AZ$25,'Gas Totals'!D18,'Gas Totals'!AY18)","v":0},{"$f":"'Gas Totals'!BB18","v":0},0,null,{"$f":"IF('Gas Totals'!$AT$50>'Gas Totals'!$AZ$50,'Gas Totals'!B43,'Gas Totals'!AW43)","v":"1900-01-01"},{"$f":"IF('Gas Totals'!$AT$50>'Gas Totals'!$AZ$50,'Gas Totals'!C43,'Gas Totals'!AX43)","v":"00:00:00"},{"$f":"IF('Gas Totals'!$AT$50>'Gas Totals'!$AZ$50,'Gas Totals'!D43,'Gas Totals'!AY43)","v":0},{"$f":"'Gas Totals'!BB43","v":0},0]
[null,{"$f":"IF('Gas Totals'!$AT$25>'Gas Totals'!$AZ$25,'Gas Totals'!B19,'Gas Totals'!AW19)","v":"1900-01-01"},{"$f":"IF('Gas Totals'!$AT$25>'Gas Totals'!$AZ$25,'Gas Totals'!C19,'Gas Totals'!AX19)","v":"00:00:00"},{"$f":"IF('Gas Totals'!$AT$25>'Gas Totals'!$AZ$25,'Gas Totals'!D19,'Gas Totals'!AY19)","v":0},{"$f":"'Gas Totals'!BB19","v":0},0,null,{"$f":"IF('Gas Totals'!$AT$50>'Gas Totals'!$AZ$50,'Gas Totals'!B44,'Gas Totals'!AW44)","v":"1900-01-01"},{"$f":"IF('Gas Totals'!$AT$50>'Gas Totals'!$AZ$50,'Gas Totals'!C44,'Gas Totals'!AX44)","v":"00:00:00"},{"$f":"IF('Gas Totals'!$AT$50>'Gas Totals'!$AZ$50,'Gas Totals'!D44,'Gas Totals'!AY44)","v":0},{"$f":"'Gas Totals'!BB44","v":0},0]
[null,{"$f":"IF('Gas Totals'!$AT$25>'Gas Totals'!$AZ$25,'Gas Totals'!B20,'Gas Totals'!AW20)","v":"1900-01-01"},{"$f":"IF('Gas Totals'!$AT$25>'Gas Totals'!$AZ$25,'Gas Totals'!C20,'Gas Totals'!AX20)","v":"00:00:00"},{"$f":"IF('Gas Totals'!$AT$25>'Gas Totals'!$AZ$25,'Gas Totals'!D20,'Gas Totals'!AY20)","v":0},{"$f":"'Gas Totals'!BB20","v":0},0,null,{"$f":"IF('Gas Totals'!$AT$50>'Gas Totals'!$AZ$50,'Gas Totals'!B45,'Gas Totals'!AW45)","v":"1900-01-01"},{"$f":"IF('Gas Totals'!$AT$50>'Gas Totals'!$AZ$50,'Gas Totals'!C45,'Gas Totals'!AX45)","v":"00:00:00"},{"$f":"IF('Gas Totals'!$AT$50>'Gas Totals'!$AZ$50,'Gas Totals'!D45,'Gas Totals'!AY45)","v":0},{"$f":"'Gas Totals'!BB45","v":0},0]
[null,{"$f":"IF('Gas Totals'!$AT$25>'Gas Totals'!$AZ$25,'Gas Totals'!B21,'Gas Totals'!AW21)","v":"1900-01-01"},{"$f":"IF('Gas Totals'!$AT$25>'Gas Totals'!$AZ$25,'Gas Totals'!C21,'Gas Totals'!AX21)","v":"00:00:00"},{"$f":"IF('Gas Totals'!$AT$25>'Gas Totals'!$AZ$25,'Gas Totals'!D21,'Gas Totals'!AY21)","v":0},{"$f":"'Gas Totals'!BB21","v":0},0,null,{"$f":"IF('Gas Totals'!$AT$50>'Gas Totals'!$AZ$50,'Gas Totals'!B46,'Gas Totals'!AW46)","v":"1900-01-01"},{"$f":"IF('Gas Totals'!$AT$50>'Gas Totals'!$AZ$50,'Gas Totals'!C46,'Gas Totals'!AX46)","v":"00:00:00"},{"$f":"IF('Gas Totals'!$AT$50>'Gas Totals'!$AZ$50,'Gas Totals'!D46,'Gas Totals'!AY46)","v":0},{"$f":"'Gas Totals'!BB46","v":0},0]
[null,{"$f":"IF('Gas Totals'!$AT$25>'Gas Totals'!$AZ$25,'Gas Totals'!B22,'Gas Totals'!AW22)","v":"1900-01-01"},{"$f":"IF('Gas Totals'!$AT$25>'Gas Totals'!$AZ$25,'Gas Totals'!C22,'Gas Totals'!AX22)","v":"00:00:00"},{"$f":"IF('Gas Totals'!$AT$25>'Gas Totals'!$AZ$25,'Gas Totals'!D22,'Gas Totals'!AY22)","v":0},{"$f":"'Gas Totals'!BB22","v":0},0,null,{"$f":"IF('Gas Totals'!$AT$50>'Gas Totals'!$AZ$50,'Gas Totals'!B47,'Gas Totals'!AW47)","v":"1900-01-01"},{"$f":"IF('Gas Totals'!$AT$50>'Gas Totals'!$AZ$50,'Gas Totals'!C47,'Gas Totals'!AX47)","v":"00:00:00"},{"$f":"IF('Gas Totals'!$AT$50>'Gas Totals'!$AZ$50,'Gas Totals'!D47,'Gas Totals'!AY47)","v":0},{"$f":"'Gas Totals'!BB47","v":0},0]
[null,{"$f":"IF('Gas Totals'!$AT$25>'Gas Totals'!$AZ$25,'Gas Totals'!B23,'Gas Totals'!AW23)","v":"1900-01-01"},{"$f":"IF('Gas Totals'!$AT$25>'Gas Totals'!$AZ$25,'Gas Totals'!C23,'Gas Totals'!AX23)","v":"00:00:00"},{"$f":"IF('Gas Totals'!$AT$25>'Gas Totals'!$AZ$25,'Gas Totals'!D23,'Gas Totals'!AY23)","v":0},{"$f":"'Gas Totals'!BB23","v":0},0,null,{"$f":"IF('Gas Totals'!$AT$50>'Gas Totals'!$AZ$50,'Gas Totals'!B48,'Gas Totals'!AW48)","v":"1900-01-01"},{"$f":"IF('Gas Totals'!$AT$50>'Gas Totals'!$AZ$50,'Gas Totals'!C48,'Gas Totals'!AX48)","v":"00:00:00"},{"$f":"IF('Gas Totals'!$AT$50>'Gas Totals'!$AZ$50,'Gas Totals'!D48,'Gas Totals'!AY48)","v":0},{"$f":"'Gas Totals'!BB48","v":0},0]
[null,{"$f":"IF('Gas Totals'!$AT$25>'Gas Totals'!$AZ$25,'Gas Totals'!B24,'Gas Totals'!AW24)","v":"1900-01-01"},{"$f":"IF('Gas Totals'!$AT$25>'Gas Totals'!$AZ$25,'Gas Totals'!C24,'Gas Totals'!AX24)","v":"00:00:00"},{"$f":"IF('Gas Totals'!$AT$25>'Gas Totals'!$AZ$25,'Gas Totals'!D24,'Gas Totals'!AY24)","v":0},{"$f":"'Gas Totals'!BB24","v":0},0,null,{"$f":"IF('Gas Totals'!$AT$50>'Gas Totals'!$AZ$50,'Gas Totals'!B49,'Gas Totals'!AW49)","v":"1900-01-01"},{"$f":"IF('Gas Totals'!$AT$50>'Gas Totals'!$AZ$50,'Gas Totals'!C49,'Gas Totals'!AX49)","v":"00:00:00"},{"$f":"IF('Gas Totals'!$AT$50>'Gas Totals'!$AZ$50,'Gas Totals'!D49,'Gas Totals'!AY49)","v":0},{"$f":"'Gas Totals'!BB49","v":0},0]
[null,null,null,{"$f":"SUM(D48:D62)","v":0},{"$f":"SUM(E48:E62)","v":0},{"$f":"SUM(F48:F62)","v":0},null,null,null,{"$f":"SUM(J48:J62)","v":0},{"$f":"SUM(K48:K62)","v":0},{"$f":"SUM(L48:L62)","v":0}]
[]
[null,"PRE-CONSTRUCTION OIL",null,null,null,null,null,"POST-CONSTRUCTION OIL"]
[null,"Billing Period Start Date","Read Date","Days in Billing Period",{"$f":"\"Total  Consumption\n\" & 'Utility Info'!E7","v":"Total  Consumption\n<Not Used>"},"Total Consumption\nMMBtu",null,"Billing Period Start Date","Read Date","Days in Billing Period",{"$f":"\"Total  Consumption\n\" & 'Utility Info'!E16","v":"Total  Consumption\n<Not Used>"},"Total Consumption\nMMBtu"]
[null,{"$f":"Oil!B9","v":"1900-01-01"},{"$f":"Oil!C9","v":"00:00:00"},{"$f":"Oil!D9","v":0},{"$f":"Oil!E9","v":0},{"$f":"Oil!G9","v":0},null,{"$f":"Oil!B53","v":"1900-01-01"},{"$f":"Oil!C53","v":"00:00:00"},{"$f":"Oil!D53","v":0},{"$f":"Oil!E53","v":0},{"$f":"Oil!G53","v":0}]
[null,{"$f":"Oil!B10","v":"1900-01-01"},{"$f":"Oil!C10","v":"00:00:00"},{"$f":"Oil!D10","v":0},{"$f":"Oil!E10","v":0},{"$f":"Oil!G10","v":0},null,{"$f":"Oil!B54","v":"1900-01-01"},{"$f":"Oil!C54","v":"00:00:00"},{"$f":"Oil!D54","v":0},{"$f":"Oil!E54","v":0},{"$f":"Oil!G54","v":0}]
[null,{"$f":"Oil!B11","v":"1900-01-01"},{"$f":"Oil!C11","v":"00:00:00"},{"$f":"Oil!D11","v":0},{"$f":"Oil!E11","v":0},{"$f":"Oil!G11","v":0},null,{"$f":"Oil!B55","v":"1900-01-01"},{"$f":"Oil!C55","v":"00:00:00"},{"$f":"Oil!D55","v":0},{"$f":"Oil!E55","v":0},{"$f":"Oil!G55","v":0}]
[null,{"$f":"Oil!B12","v":"1900-01-01"},{"$f":"Oil!C12","v":"00:00:00"},{"$f":"Oil!D12","v":0},{"$f":"Oil!E12","v":0},{"$f":"Oil!G12","v":0},null,{"$f":"Oil!B56","v":"1900-01-01"},{"$f":"Oil!C56","v":"00:00:00"},{"$f":"Oil!D56","v":0},{"$f":"Oil!E56","v":0},{"$f":"Oil!G56","v":0}]
[null,{"$f":"Oil!B13","v":"1900-01-01"},{"$f":"Oil!C13","v":"00:00:00"},{"$f":"Oil!D13","v":0},{"$f":"Oil!E13","v":0},{"$f":"Oil!G13","v":0},null,{"$f":"Oil!B57","v":"1900-01-01"},{"$f":"Oil!C57","v":"00:00:00"},{"$f":"Oil!D57","v":0},{"$f":"Oil!E57","v":0},{"$f":"Oil!G57","v":0}]
[null,{"$f":"Oil!B14","v":"1900-01-01"},{"$f":"Oil!C14","v":"00:00:00"},{"$f":"Oil!D14","v":0},{"$f":"Oil!E14","v":0},{"$f":"Oil!G14","v":0},null,{"$f":"Oil!B58","v":"1900-01-01"},{"$f":"Oil!C58","v":"00:00:00"},{"$f":"Oil!D58","v":0},{"$f":"Oil!E58","v":0},{"$f":"Oil!G58","v":0}]
[null,{"$f":"Oil!B15","v":"1900-01-01"},{"$f":"Oil!C15","v":"00:00:00"},{"$f":"Oil!D15","v":0},{"$f":"Oil!E15","v":0},{"$f":"Oil!G15","v":0},null,{"$f":"Oil!B59","v":"1900-01-01"},{"$f":"Oil!C59","v":"00:00:00"},{"$f":"Oil!D59","v":0},{"$f":"Oil!E59","v":0},{"$f":"Oil!G59","v":0}]
[null,{"$f":"Oil!B16","v":"1900-01-01"},{"$f":"Oil!C16","v":"00:00:00"},{"$f":"Oil!D16","v":0},{"$f":"Oil!E16","v":0},{"$f":"Oil!G16","v":0},null,{"$f":"Oil!B60","v":"1900-01-01"},{"$f":"Oil!C60","v":"00:00:00"},{"$f":"Oil!D60","v":0},{"$f":"Oil!E60","v":0},{"$f":"Oil!G60","v":0}]
[null,{"$f":"Oil!B17","v":"1900-01-01"},{"$f":"Oil!C17","v":"00:00:00"},{"$f":"Oil!D17","v":0},{"$f":"Oil!E17","v":0},{"$f":"Oil!G17","v":0},null,{"$f":"Oil!B61","v":"1900-01-01"},{"$f":"Oil!C61","v":"00:00:00"},{"$f":"Oil!D61","v":0},{"$f":"Oil!E61","v":0},{"$f":"Oil!G61","v":0}]
[null,{"$f":"Oil!B18","v":"1900-01-01"},{"$f":"Oil!C18","v":"00:00:00"},{"$f":"Oil!D18","v":0},{"$f":"Oil!E18","v":0},{"$f":"Oil!G18","v":0},null,{"$f":"Oil!B62","v":"1900-01-01"},{"$f":"Oil!C62","v":"00:00:00"},{"$f":"Oil!D62","v":0},{"$f":"Oil!E62","v":0},{"$f":"Oil!G62","v":0}]
[null,{"$f":"Oil!B19","v":"1900-01-01"},{"$f":"Oil!C19","v":"00:00:00"},{"$f":"Oil!D19","v":0},{"$f":"Oil!E19","v":0},{"$f":"Oil!G19","v":0},null,{"$f":"Oil!B63","v":"1900-01-01"},{"$f":"Oil!C63","v":"00:00:00"},{"$f":"Oil!D63","v":0},{"$f":"Oil!E63","v":0},{"$f":"Oil!G63","v":0}]
[null,{"$f":"Oil!B20","v":"1900-01-01"},{"$f":"Oil!C20","v":"00:00:00"},{"$f":"Oil!D20","v":0},{"$f":"Oil!E20","v":0},{"$f":"Oil!G20","v":0},null,{"$f":"Oil!B64","v":"1900-01-01"},{"$f":"Oil!C64","v":"00:00:00"},{"$f":"Oil!D64","v":0},{"$f":"Oil!E64","v":0},{"$f":"Oil!G64","v":0}]
[null,{"$f":"Oil!B21","v":"1900-01-01"},{"$f":"Oil!C21","v":"00:00:00"},{"$f":"Oil!D21","v":0},{"$f":"Oil!E21","v":0},{"$f":"Oil!G21","v":0},null,{"$f":"Oil!B65","v":"1900-01-01"},{"$f":"Oil!C65","v":"00:00:00"},{"$f":"Oil!D65","v":0},{"$f":"Oil!E65","v":0},{"$f":"Oil!G65","v":0}]
[null,{"$f":"Oil!B22","v":"1900-01-01"},{"$f":"Oil!C22","v":"00:00:00"},{"$f":"Oil!D22","v":0},{"$f":"Oil!E22","v":0},{"$f":"Oil!G22","v":0},null,{"$f":"Oil!B66","v":"1900-01-01"},{"$f":"Oil!C66","v":"00:00:00"},{"$f":"Oil!D66","v":0},{"$f":"Oil!E66","v":0},{"$f":"Oil!G66","v":0}]
[null,{"$f":"Oil!B23","v":"1900-01-01"},{"$f":"Oil!C23","v":"00:00:00"},{"$f":"Oil!D23","v":0},{"$f":"Oil!E23","v":0},{"$f":"Oil!G23","v":0},null,{"$f":"Oil!B67","v":"1900-01-01"},{"$f":"Oil!C67","v":"00:00:00"},{"$f":"Oil!D67","v":0},{"$f":"Oil!E67","v":0},{"$f":"Oil!G67","v":0}]
[null,{"$f":"Oil!B24","v":"1900-01-01"},{"$f":"Oil!C24","v":"00:00:00"},{"$f":"Oil!D24","v":0},{"$f":"Oil!E24","v":0},{"$f":"Oil!G24","v":0},null,{"$f":"Oil!B68","v":"1900-01-01"},{"$f":"Oil!C68","v":"00:00:00"},{"$f":"Oil!D68","v":0},{"$f":"Oil!E68","v":0},{"$f":"Oil!G68","v":0}]
[null,{"$f":"Oil!B25","v":"1900-01-01"},{"$f":"Oil!C25","v":"00:00:00"},{"$f":"Oil!D25","v":0},{"$f":"Oil!E25","v":0},{"$f":"Oil!G25","v":0},null,{"$f":"Oil!B69","v":"1900-01-01"},{"$f":"Oil!C69","v":"00:00:00"},{"$f":"Oil!D69","v":0},{"$f":"Oil!E69","v":0},{"$f":"Oil!G69","v":0}]
[null,{"$f":"Oil!B26","v":"1900-01-01"},{"$f":"Oil!C26","v":"00:00:00"},{"$f":"Oil!D26","v":0},{"$f":"Oil!E26","v":0},{"$f":"Oil!G26","v":0},null,{"$f":"Oil!B70","v":"1900-01-01"},{"$f":"Oil!C70","v":"00:00:00"},{"$f":"Oil!D70","v":0},{"$f":"Oil!E70","v":0},{"$f":"Oil!G70","v":0}]
[null,{"$f":"Oil!B27","v":"1900-01-01"},{"$f":"Oil!C27","v":"00:00:00"},{"$f":"Oil!D27","v":0},{"$f":"Oil!E27","v":0},{"$f":"Oil!G27","v":0},null,{"$f":"Oil!B71","v":"1900-01-01"},{"$f":"Oil!C71","v":"00:00:00"},{"$f":"Oil!D71","v":0},{"$f":"Oil!E71","v":0},{"$f":"Oil!G71","v":0}]
[null,{"$f":"Oil!B28","v":"1900-01-01"},{"$f":"Oil!C28","v":"00:00:00"},{"$f":"Oil!D28","v":0},{"$f":"Oil!E28","v":0},{"$f":"Oil!G28","v":0},null,{"$f":"Oil!B72","v":"1900-01-01"},{"$f":"Oil!C72","v":"00:00:00"},{"$f":"Oil!D72","v":0},{"$f":"Oil!E72","v":0},{"$f":"Oil!G72","v":0}]
[null,{"$f":"Oil!B29","v":"1900-01-01"},{"$f":"Oil!C29","v":"00:00:00"},{"$f":"Oil!D29","v":0},{"$f":"Oil!E29","v":0},{"$f":"Oil!G29","v":0},null,{"$f":"Oil!B73","v":"1900-01-01"},{"$f":"Oil!C73","v":"00:00:00"},{"$f":"Oil!D73","v":0},{"$f":"Oil!E73","v":0},{"$f":"Oil!G73","v":0}]
[null,{"$f":"Oil!B30","v":"1900-01-01"},{"$f":"Oil!C30","v":"00:00:00"},{"$f":"Oil!D30","v":0},{"$f":"Oil!E30","v":0},{"$f":"Oil!G30","v":0},null,{"$f":"Oil!B74","v":"1900-01-01"},{"$f":"Oil!C74","v":"00:00:00"},{"$f":"Oil!D74","v":0},{"$f":"Oil!E74","v":0},{"$f":"Oil!G74","v":0}]
[null,{"$f":"Oil!B31","v":"1900-01-01"},{"$f":"Oil!C31","v":"00:00:00"},{"$f":"Oil!D31","v":0},{"$f":"Oil!E31","v":0},{"$f":"Oil!G31","v":0},null,{"$f":"Oil!B75","v":"1900-01-01"},{"$f":"Oil!C75","v":"00:00:00"},{"$f":"Oil!D75","v":0},{"$f":"Oil!E75","v":0},{"$f":"Oil!G75","v":0}]
[null,{"$f":"Oil!B32","v":"1900-01-01"},{"$f":"Oil!C32","v":"00:00:00"},{"$f":"Oil!D32","v":0},{"$f":"Oil!E32","v":0},{"$f":"Oil!G32","v":0},null,{"$f":"Oil!B76","v":"1900-01-01"},{"$f":"Oil!C76","v":"00:00:00"},{"$f":"Oil!D76","v":0},{"$f":"Oil!E76","v":0},{"$f":"Oil!G76","v":0}]
[null,{"$f":"Oil!B33","v":"1900-01-01"},{"$f":"Oil!C33","v":"00:00:00"},{"$f":"Oil!D33","v":0},{"$f":"Oil!E33","v":0},{"$f":"Oil!G33","v":0},null,{"$f":"Oil!B77","v":"1900-01-01"},{"$f":"Oil!C77","v":"00:00:00"},{"$f":"Oil!D77","v":0},{"$f":"Oil!E77","v":0},{"$f":"Oil!G77","v":0}]
[null,{"$f":"Oil!B34","v":"1900-01-01"},{"$f":"Oil!C34","v":"00:00:00"},{"$f":"Oil!D34","v":0},{"$f":"Oil!E34","v":0},{"$f":"Oil!G34","v":0},null,{"$f":"Oil!B78","v":"1900-01-01"},{"$f":"Oil!C78","v":"00:00:00"},{"$f":"Oil!D78","v":0},{"$f":"Oil!E78","v":0},{"$f":"Oil!G78","v":0}]
[null,{"$f":"Oil!B35","v":"1900-01-01"},{"$f":"Oil!C35","v":"00:00:00"},{"$f":"Oil!D35","v":0},{"$f":"Oil!E35","v":0},{"$f":"Oil!G35","v":0},null,{"$f":"Oil!B79","v":"1900-01-01"},{"$f":"Oil!C79","v":"00:00:00"},{"$f":"Oil!D79","v":0},{"$f":"Oil!E79","v":0},{"$f":"Oil!G79","v":0}]
[null,{"$f":"Oil!B36","v":"1900-01-01"},{"$f":"Oil!C36","v":"00:00:00"},{"$f":"Oil!D36","v":0},{"$f":"Oil!E36","v":0},{"$f":"Oil!G36","v":0},null,{"$f":"Oil!B80","v":"1900-01-01"},{"$f":"Oil!C80","v":"00:00:00"},{"$f":"Oil!D80","v":0},{"$f":"Oil!E80","v":0},{"$f":"Oil!G80","v":0}]
[null,{"$f":"Oil!B37","v":"1900-01-01"},{"$f":"Oil!C37","v":"00:00:00"},{"$f":"Oil!D37","v":0},{"$f":"Oil!E37","v":0},{"$f":"Oil!G37","v":0},null,{"$f":"Oil!B81","v":"1900-01-01"},{"$f":"Oil!C81","v":"00:00:00"},{"$f":"Oil!D81","v":0},{"$f":"Oil!E81","v":0},{"$f":"Oil!G81","v":0}]
[null,{"$f":"Oil!B38","v":"1900-01-01"},{"$f":"Oil!C38","v":"00:00:00"},{"$f":"Oil!D38","v":0},{"$f":"Oil!E38","v":0},{"$f":"Oil!G38","v":0},null,{"$f":"Oil!B82","v":"1900-01-01"},{"$f":"Oil!C82","v":"00:00:00"},{"$f":"Oil!D82","v":0},{"$f":"Oil!E82","v":0},{"$f":"Oil!G82","v":0}]
[null,{"$f":"Oil!B39","v":"1900-01-01"},{"$f":"Oil!C39","v":"00:00:00"},{"$f":"Oil!D39","v":0},{"$f":"Oil!E39","v":0},{"$f":"Oil!G39","v":0},null,{"$f":"Oil!B83","v":"1900-01-01"},{"$f":"Oil!C83","v":"00:00:00"},{"$f":"Oil!D83","v":0},{"$f":"Oil!E83","v":0},{"$f":"Oil!G83","v":0}]
[null,{"$f":"Oil!B40","v":"1900-01-01"},{"$f":"Oil!C40","v":"00:00:00"},{"$f":"Oil!D40","v":0},{"$f":"Oil!E40","v":0},{"$f":"Oil!G40","v":0},null,{"$f":"Oil!B84","v":"1900-01-01"},{"$f":"Oil!C84","v":"00:00:00"},{"$f":"Oil!D84","v":0},{"$f":"Oil!E84","v":0},{"$f":"Oil!G84","v":0}]
[null,{"$f":"Oil!B41","v":"1900-01-01"},{"$f":"Oil!C41","v":"00:00:00"},{"$f":"Oil!D41","v":0},{"$f":"Oil!E41","v":0},{"$f":"Oil!G41","v":0},null,{"$f":"Oil!B85","v":"1900-01-01"},{"$f":"Oil!C85","v":"00:00:00"},{"$f":"Oil!D85","v":0},{"$f":"Oil!E85","v":0},{"$f":"Oil!G85","v":0}]
[null,{"$f":"Oil!B42","v":"1900-01-01"},{"$f":"Oil!C42","v":"00:00:00"},{"$f":"Oil!D42","v":0},{"$f":"Oil!E42","v":0},{"$f":"Oil!G42","v":0},null,{"$f":"Oil!B86","v":"1900-01-01"},{"$f":"Oil!C86","v":"00:00:00"},{"$f":"Oil!D86","v":0},{"$f":"Oil!E86","v":0},{"$f":"Oil!G86","v":0}]
[null,null,null,{"$f":"SUM(D67:D100)","v":0},{"$f":"SUM(E67:E100)","v":0},{"$f":"SUM(F67:F100)","v":0},null,null,null,{"$f":"SUM(J67:J100)","v":0},{"$f":"SUM(K67:K100)","v":0},{"$f":"SUM(L67:L100)","v":0}]
[]
[null,"PRE-CONSTRUCTION PROPANE",null,null,null,null,null,"POST-CONSTRUCTION PROPANE"]
[null,"Billing Period Start Date","Read Date","Days in Billing Period",{"$f":"\"Total  Consumption\n\" &'Utility Info'!F7","v":"Total  Consumption\n<Not Used>"},"Total Consumption\nMMBtu",null,"Billing Period Start Date","Read Date","Days in Billing Period",{"$f":"\"Total  Consumption\n\" &'Utility Info'!F16","v":"Total  Consumption\n<Not Used>"},"Total Consumption\nMMBtu"]
[null,{"$f":"Propane!B9","v":"1900-01-01"},{"$f":"Propane!C9","v":"00:00:00"},{"$f":"Propane!D9","v":0},{"$f":"Propane!E9","v":0},{"$f":"Propane!G9","v":0},null,{"$f":"Propane!B53","v":"1900-01-01"},{"$f":"Propane!C53","v":"00:00:00"},{"$f":"Propane!D53","v":0},{"$f":"Propane!E53","v":0},{"$f":"Propane!G53","v":0}]
[null,{"$f":"Propane!B10","v":"1900-01-01"},{"$f":"Propane!C10","v":"00:00:00"},{"$f":"Propane!D10","v":0},{"$f":"Propane!E10","v":0},{"$f":"Propane!G10","v":0},null,{"$f":"Propane!B54","v":"1900-01-01"},{"$f":"Propane!C54","v":"00:00:00"},{"$f":"Propane!D54","v":0},{"$f":"Propane!E54","v":0},{"$f":"Propane!G54","v":0}]
[null,{"$f":"Propane!B11","v":"1900-01-01"},{"$f":"Propane!C11","v":"00:00:00"},{"$f":"Propane!D11","v":0},{"$f":"Propane!E11","v":0},{"$f":"Propane!G11","v":0},null,{"$f":"Propane!B55","v":"1900-01-01"},{"$f":"Propane!C55","v":"00:00:00"},{"$f":"Propane!D55","v":0},{"$f":"Propane!E55","v":0},{"$f":"Propane!G55","v":0}]
[null,{"$f":"Propane!B12","v":"1900-01-01"},{"$f":"Propane!C12","v":"00:00:00"},{"$f":"Propane!D12","v":0},{"$f":"Propane!E12","v":0},{"$f":"Propane!G12","v":0},null,{"$f":"Propane!B56","v":"1900-01-01"},{"$f":"Propane!C56","v":"00:00:00"},{"$f":"Propane!D56","v":0},{"$f":"Propane!E56","v":0},{"$f":"Propane!G56","v":0}]
[null,{"$f":"Propane!B13","v":"1900-01-01"},{"$f":"Propane!C13","v":"00:00:00"},{"$f":"Propane!D13","v":0},{"$f":"Propane!E13","v":0},{"$f":"Propane!G13","v":0},null,{"$f":"Propane!B57","v":"1900-01-01"},{"$f":"Propane!C57","v":"00:00:00"},{"$f":"Propane!D57","v":0},{"$f":"Propane!E57","v":0},{"$f":"Propane!G57","v":0}]
[null,{"$f":"Propane!B14","v":"1900-01-01"},{"$f":"Propane!C14","v":"00:00:00"},{"$f":"Propane!D14","v":0},{"$f":"Propane!E14","v":0},{"$f":"Propane!G14","v":0},null,{"$f":"Propane!B58","v":"1900-01-01"},{"$f":"Propane!C58","v":"00:00:00"},{"$f":"Propane!D58","v":0},{"$f":"Propane!E58","v":0},{"$f":"Propane!G58","v":0}]
[null,{"$f":"Propane!B15","v":"1900-01-01"},{"$f":"Propane!C15","v":"00:00:00"},{"$f":"Propane!D15","v":0},{"$f":"Propane!E15","v":0},{"$f":"Propane!G15","v":0},null,{"$f":"Propane!B59","v":"1900-01-01"},{"$f":"Propane!C59","v":"00:00:00"},{"$f":"Propane!D59","v":0},{"$f":"Propane!E59","v":0},{"$f":"Propane!G59","v":0}]
[null,{"$f":"Propane!B16","v":"1900-01-01"},{"$f":"Propane!C16","v":"00:00:00"},{"$f":"Propane!D16","v":0},{"$f":"Propane!E16","v":0},{"$f":"Propane!G16","v":0},null,{"$f":"Propane!B60","v":"1900-01-01"},{"$f":"Propane!C60","v":"00:00:00"},{"$f":"Propane!D60","v":0},{"$f":"Propane!E60","v":0},{"$f":"Propane!G60","v":0}]
[null,{"$f":"Propane!B17","v":"1900-01-01"},{"$f":"Propane!C17","v":"00:00:00"},{"$f":"Propane!D17","v":0},{"$f":"Propane!E17","v":0},{"$f":"Propane!G17","v":0},null,{"$f":"Propane!B61","v":"1900-01-01"},{"$f":"Propane!C61","v":"00:00:00"},{"$f":"Propane!D61","v":0},{"$f":"Propane!E61","v":0},{"$f":"Propane!G61","v":0}]
[null,{"$f":"Propane!B18","v":"1900-01-01"},{"$f":"Propane!C18","v":"00:00:00"},{"$f":"Propane!D18","v":0},{"$f":"Propane!E18","v":0},{"$f":"Propane!G18","v":0},null,{"$f":"Propane!B62","v":"1900-01-01"},{"$f":"Propane!C62","v":"00:00:00"},{"$f":"Propane!D62","v":0},{"$f":"Propane!E62","v":0},{"$f":"Propane!G62","v":0}]
[null,{"$f":"Propane!B19","v":"1900-01-01"},{"$f":"Propane!C19","v":"00:00:00"},{"$f":"Propane!D19","v":0},{"$f":"Propane!E19","v":0},{"$f":"Propane!G19","v":0},null,{"$f":"Propane!B63","v":"1900-01-01"},{"$f":"Propane!C63","v":"00:00:00"},{"$f":"Propane!D63","v":0},{"$f":"Propane!E63","v":0},{"$f":"Propane!G63","v":0}]
[null,{"$f":"Propane!B20","v":"1900-01-01"},{"$f":"Propane!C20","v":"00:00:00"},{"$f":"Propane!D20","v":0},{"$f":"Propane!E20","v":0},{"$f":"Propane!G20","v":0},null,{"$f":"Propane!B64","v":"1900-01-01"},{"$f":"Propane!C64","v":"00:00:00"},{"$f":"Propane!D64","v":0},{"$f":"Propane!E64","v":0},{"$f":"Propane!G64","v":0}]
[null,{"$f":"Propane!B21","v":"1900-01-01"},{"$f":"Propane!C21","v":"00:00:00"},{"$f":"Propane!D21","v":0},{"$f":"Propane!E21","v":0},{"$f":"Propane!G21","v":0},null,{"$f":"Propane!B65","v":"1900-01-01"},{"$f":"Propane!C65","v":"00:00:00"},{"$f":"Propane!D65","v":0},{"$f":"Propane!E65","v":0},{"$f":"Propane!G65","v":0}]
[null,{"$f":"Propane!B22","v":"1900-01-01"},{"$f":"Propane!C22","v":"00:00:00"},{"$f":"Propane!D22","v":0},{"$f":"Propane!E22","v":0},{"$f":"Propane!G22","v":0},null,{"$f":"Propane!B66","v":"1900-01-01"},{"$f":"Propane!C66","v":"00:00:00"},{"$f":"Propane!D66","v":0},{"$f":"Propane!E66","v":0},{"$f":"Propane!G66","v":0}]
[null,{"$f":"Propane!B23","v":"1900-01-01"},{"$f":"Propane!C23","v":"00:00:00"},{"$f":"Propane!D23","v":0},{"$f":"Propane!E23","v":0},{"$f":"Propane!G23","v":0},null,{"$f":"Propane!B67","v":"1900-01-01"},{"$f":"Propane!C67","v":"00:00:00"},{"$f":"Propane!D67","v":0},{"$f":"Propane!E67","v":0},{"$f":"Propane!G67","v":0}]
[null,{"$f":"Propane!B24","v":"1900-01-01"},{"$f":"Propane!C24","v":"00:00:00"},{"$f":"Propane!D24","v":0},{"$f":"Propane!E24","v":0},{"$f":"Propane!G24","v":0},null,{"$f":"Propane!B68","v":"1900-01-01"},{"$f":"Propane!C68","v":"00:00:00"},{"$f":"Propane!D68","v":0},{"$f":"Propane!E68","v":0},{"$f":"Propane!G68","v":0}]
[null,{"$f":"Propane!B25","v":"1900-01-01"},{"$f":"Propane!C25","v":"00:00:00"},{"$f":"Propane!D25","v":0},{"$f":"Propane!E25","v":0},{"$f":"Propane!G25","v":0},null,{"$f":"Propane!B69","v":"1900-01-01"},{"$f":"Propane!C69","v":"00:00:00"},{"$f":"Propane!D69","v":0},{"$f":"Propane!E69","v":0},{"$f":"Propane!G69","v":0}]
[null,{"$f":"Propane!B26","v":"1900-01-01"},{"$f":"Propane!C26","v":"00:00:00"},{"$f":"Propane!D26","v":0},{"$f":"Propane!E26","v":0},{"$f":"Propane!G26","v":0},null,{"$f":"Propane!B70","v":"1900-01-01"},{"$f":"Propane!C70","v":"00:00:00"},{"$f":"Propane!D70","v":0},{"$f":"Propane!E70","v":0},{"$f":"Propane!G70","v":0}]
[null,{"$f":"Propane!B27","v":"1900-01-01"},{"$f":"Propane!C27","v":"00:00:00"},{"$f":"Propane!D27","v":0},{"$f":"Propane!E27","v":0},{"$f":"Propane!G27","v":0},null,{"$f":"Propane!B71","v":"1900-01-01"},{"$f":"Propane!C71","v":"00:00:00"},{"$f":"Propane!D71","v":0},{"$f":"Propane!E71","v":0},{"$f":"Propane!G71","v":0}]
[null,{"$f":"Propane!B28","v":"1900-01-01"},{"$f":"Propane!C28","v":"00:00:00"},{"$f":"Propane!D28","v":0},{"$f":"Propane!E28","v":0},{"$f":"Propane!G28","v":0},null,{"$f":"Propane!B72","v":"1900-01-01"},{"$f":"Propane!C72","v":"00:00:00"},{"$f":"Propane!D72","v":0},{"$f":"Propane!E72","v":0},{"$f":"Propane!G72","v":0}]
[null,{"$f":"Propane!B29","v":"1900-01-01"},{"$f":"Propane!C29","v":"00:00:00"},{"$f":"Propane!D29","v":0},{"$f":"Propane!E29","v":0},{"$f":"Propane!G29","v":0},null,{"$f":"Propane!B73","v":"1900-01-01"},{"$f":"Propane!C73","v":"00:00:00"},{"$f":"Propane!D73","v":0},{"$f":"Propane!E73","v":0},{"$f":"Propane!G73","v":0}]
[null,{"$f":"Propane!B30","v":"1900-01-01"},{"$f":"Propane!C30","v":"00:00:00"},{"$f":"Propane!D30","v":0},{"$f":"Propane!E30","v":0},{"$f":"Propane!G30","v":0},null,{"$f":"Propane!B74","v":"1900-01-01"},{"$f":"Propane!C74","v":"00:00:00"},{"$f":"Propane!D74","v":0},{"$f":"Propane!E74","v":0},{"$f":"Propane!G74","v":0}]
[null,{"$f":"Propane!B31","v":"1900-01-01"},{"$f":"Propane!C31","v":"00:00:00"},{"$f":"Propane!D31","v":0},{"$f":"Propane!E31","v":0},{"$f":"Propane!G31","v":0},null,{"$f":"Propane!B75","v":"1900-01-01"},{"$f":"Propane!C75","v":"00:00:00"},{"$f":"Propane!D75","v":0},{"$f":"Propane!E75","v":0},{"$f":"Propane!G75","v":0}]
[null,{"$f":"Propane!B32","v":"1900-01-01"},{"$f":"Propane!C32","v":"00:00:00"},{"$f":"Propane!D32","v":0},{"$f":"Propane!E32","v":0},{"$f":"Propane!G32","v":0},null,{"$f":"Propane!B76","v":"1900-01-01"},{"$f":"Propane!C76","v":"00:00:00"},{"$f":"Propane!D76","v":0},{"$f":"Propane!E76","v":0},{"$f":"Propane!G76","v":0}]
[null,{"$f":"Propane!B33","v":"1900-01-01"},{"$f":"Propane!C33","v":"00:00:00"},{"$f":"Propane!D33","v":0},{"$f":"Propane!E33","v":0},{"$f":"Propane!G33","v":0},null,{"$f":"Propane!B77","v":"1900-01-01"},{"$f":"Propane!C77","v":"00:00:00"},{"$f":"Propane!D77","v":0},{"$f":"Propane!E77","v":0},{"$f":"Propane!G77","v":0}]
[null,{"$f":"Propane!B34","v":"1900-01-01"},{"$f":"Propane!C34","v":"00:00:00"},{"$f":"Propane!D34","v":0},{"$f":"Propane!E34","v":0},{"$f":"Propane!G34","v":0},null,{"$f":"Propane!B78","v":"1900-01-01"},{"$f":"Propane!C78","v":"00:00:00"},{"$f":"Propane!D78","v":0},{"$f":"Propane!E78","v":0},{"$f":"Propane!G78","v":0}]
[null,{"$f":"Propane!B35","v":"1900-01-01"},{"$f":"Propane!C35","v":"00:00:00"},{"$f":"Propane!D35","v":0},{"$f":"Propane!E35","v":0},{"$f":"Propane!G35","v":0},null,{"$f":"Propane!B79","v":"1900-01-01"},{"$f":"Propane!C79","v":"00:00:00"},{"$f":"Propane!D79","v":0},{"$f":"Propane!E79","v":0},{"$f":"Propane!G79","v":0}]
[null,{"$f":"Propane!B36","v":"1900-01-01"},{"$f":"Propane!C36","v":"00:00:00"},{"$f":"Propane!D36","v":0},{"$f":"Propane!E36","v":0},{"$f":"Propane!G36","v":0},null,{"$f":"Propane!B80","v":"1900-01-01"},{"$f":"Propane!C80","v":"00:00:00"},{"$f":"Propane!D80","v":0},{"$f":"Propane!E80","v":0},{"$f":"Propane!G80","v":0}]
[null,{"$f":"Propane!B37","v":"1900-01-01"},{"$f":"Propane!C37","v":"00:00:00"},{"$f":"Propane!D37","v":0},{"$f":"Propane!E37","v":0},{"$f":"Propane!G37","v":0},null,{"$f":"Propane!B81","v":"1900-01-01"},{"$f":"Propane!C81","v":"00:00:00"},{"$f":"Propane!D81","v":0},{"$f":"Propane!E81","v":0},{"$f":"Propane!G81","v":0}]
[null,{"$f":"Propane!B38","v":"1900-01-01"},{"$f":"Propane!C38","v":"00:00:00"},{"$f":"Propane!D38","v":0},{"$f":"Propane!E38","v":0},{"$f":"Propane!G38","v":0},null,{"$f":"Propane!B82","v":"1900-01-01"},{"$f":"Propane!C82","v":"00:00:00"},{"$f":"Propane!D82","v":0},{"$f":"Propane!E82","v":0},{"$f":"Propane!G82","v":0}]
[null,{"$f":"Propane!B39","v":"1900-01-01"},{"$f":"Propane!C39","v":"00:00:00"},{"$f":"Propane!D39","v":0},{"$f":"Propane!E39","v":0},{"$f":"Propane!G39","v":0},null,{"$f":"Propane!B83","v":"1900-01-01"},{"$f":"Propane!C83","v":"00:00:00"},{"$f":"Propane!D83","v":0},{"$f":"Propane!E83","v":0},{"$f":"Propane!G83","v":0}]
[null,{"$f":"Propane!B40","v":"1900-01-01"},{"$f":"Propane!C40","v":"00:00:00"},{"$f":"Propane!D40","v":0},{"$f":"Propane!E40","v":0},{"$f":"Propane!G40","v":0},null,{"$f":"Propane!B84","v":"1900-01-01"},{"$f":"Propane!C84","v":"00:00:00"},{"$f":"Propane!D84","v":0},{"$f":"Propane!E84","v":0},{"$f":"Propane!G84","v":0}]
[null,{"$f":"Propane!B41","v":"1900-01-01"},{"$f":"Propane!C41","v":"00:00:00"},{"$f":"Propane!D41","v":0},{"$f":"Propane!E41","v":0},{"$f":"Propane!G41","v":0},null,{"$f":"Propane!B85","v":"1900-01-01"},{"$f":"Propane!C85","v":"00:00:00"},{"$f":"Propane!D85","v":0},{"$f":"Propane!E85","v":0},{"$f":"Propane!G85","v":0}]
[null,{"$f":"Propane!B42","v":"1900-01-01"},{"$f":"Propane!C42","v":"00:00:00"},{"$f":"Propane!D42","v":0},{"$f":"Propane!E42","v":0},{"$f":"Propane!G42","v":0},null,{"$f":"Propane!B86","v":"1900-01-01"},{"$f":"Propane!C86","v":"00:00:00"},{"$f":"Propane!D86","v":0},{"$f":"Propane!E86","v":0},{"$f":"Propane!G86","v":0}]
[null,null,null,{"$f":"SUM(D105:D138)","v":0},{"$f":"SUM(E105:E138)","v":0},{"$f":"SUM(F105:F138)","v":0},null,null,null,{"$f":"SUM(J105:J138)","v":0},{"$f":"SUM(K105:K138)","v":0},{"$f":"SUM(L105:L138)","v":0}]
[]
[null,"PRE-CONSTRUCTION STEAM",null,null,null,null,null,"POST-CONSTRUCTION STEAM"]
[null,"Billing Period Start Date","Meter Read Date","Days in Billing Period",{"$f":"Steam!E7","v":"Steam Consumption\n(<Not Used>)"},"Steam Consumption\nMMBtu",null,"Billing Period Start Date","Meter Read Date","Days in Billing Period",{"$f":"Steam!E31","v":"Steam Consumption\n(<Not Used>)"},"Steam Consumption\nMMBtu"]
[null,{"$f":"Steam!B9","v":"1900-01-01"},{"$f":"Steam!C9","v":"00:00:00"},{"$f":"Steam!D9","v":0},{"$f":"Steam!E9","v":0},{"$f":"Steam!H9","v":0},null,{"$f":"Steam!B33","v":"1900-01-01"},{"$f":"Steam!C33","v":"00:00:00"},{"$f":"Steam!D33","v":0},{"$f":"Steam!E33","v":0},{"$f":"Steam!H33","v":0}]
[null,{"$f":"Steam!B10","v":"1900-01-01"},{"$f":"Steam!C10","v":"00:00:00"},{"$f":"Steam!D10","v":0},{"$f":"Steam!E10","v":0},{"$f":"Steam!H10","v":0},null,{"$f":"Steam!B34","v":"1900-01-01"},{"$f":"Steam!C34","v":"00:00:00"},{"$f":"Steam!D34","v":0},{"$f":"Steam!E34","v":0},{"$f":"Steam!H34","v":0}]
[null,{"$f":"Steam!B11","v":"1900-01-01"},{"$f":"Steam!C11","v":"00:00:00"},{"$f":"Steam!D11","v":0},{"$f":"Steam!E11","v":0},{"$f":"Steam!H11","v":0},null,{"$f":"Steam!B35","v":"1900-01-01"},{"$f":"Steam!C35","v":"00:00:00"},{"$f":"Steam!D35","v":0},{"$f":"Steam!E35","v":0},{"$f":"Steam!H35","v":0}]
[null,{"$f":"Steam!B12","v":"1900-01-01"},{"$f":"Steam!C12","v":"00:00:00"},{"$f":"Steam!D12","v":0},{"$f":"Steam!E12","v":0},{"$f":"Steam!H12","v":0},null,{"$f":"Steam!B36","v":"1900-01-01"},{"$f":"Steam!C36","v":"00:00:00"},{"$f":"Steam!D36","v":0},{"$f":"Steam!E36","v":0},{"$f":"Steam!H36","v":0}]
[null,{"$f":"Steam!B13","v":"1900-01-01"},{"$f":"Steam!C13","v":"00:00:00"},{"$f":"Steam!D13","v":0},{"$f":"Steam!E13","v":0},{"$f":"Steam!H13","v":0},null,{"$f":"Steam!B37","v":"1900-01-01"},{"$f":"Steam!C37","v":"00:00:00"},{"$f":"Steam!D37","v":0},{"$f":"Steam!E37","v":0},{"$f":"Steam!H37","v":0}]
[null,{"$f":"Steam!B14","v":"1900-01-01"},{"$f":"Steam!C14","v":"00:00:00"},{"$f":"Steam!D14","v":0},{"$f":"Steam!E14","v":0},{"$f":"Steam!H14","v":0},null,{"$f":"Steam!B38","v":"1900-01-01"},{"$f":"Steam!C38","v":"00:00:00"},{"$f":"Steam!D38","v":0},{"$f":"Steam!E38","v":0},{"$f":"Steam!H38","v":0}]
[null,{"$f":"Steam!B15","v":"1900-01-01"},{"$f":"Steam!C15","v":"00:00:00"},{"$f":"Steam!D15","v":0},{"$f":"Steam!E15","v":0},{"$f":"Steam!H15","v":0},null,{"$f":"Steam!B39","v":"1900-01-01"},{"$f":"Steam!C39","v":"00:00:00"},{"$f":"Steam!D39","v":0},{"$f":"Steam!E39","v":0},{"$f":"Steam!H39","v":0}]
[null,{"$f":"Steam!B16","v":"1900-01-01"},{"$f":"Steam!C16","v":"00:00:00"},{"$f":"Steam!D16","v":0},{"$f":"Steam!E16","v":0},{"$f":"Steam!H16","v":0},null,{"$f":"Steam!B40","v":"1900-01-01"},{"$f":"Steam!C40","v":"00:00:00"},{"$f":"Steam!D40","v":0},{"$f":"Steam!E40","v":0},{"$f":"Steam!H40","v":0}]
[null,{"$f":"Steam!B17","v":"1900-01-01"},{"$f":"Steam!C17","v":"00:00:00"},{"$f":"Steam!D17","v":0},{"$f":"Steam!E17","v":0},{"$f":"Steam!H17","v":0},null,{"$f":"Steam!B41","v":"1900-01-01"},{"$f":"Steam!C41","v":"00:00:00"},{"$f":"Steam!D41","v":0},{"$f":"Steam!E41","v":0},{"$f":"Steam!H41","v":0}]
[null,{"$f":"Steam!B18","v":"1900-01-01"},{"$f":"Steam!C18","v":"00:00:00"},{"$f":"Steam!D18","v":0},{"$f":"Steam!E18","v":0},{"$f":"Steam!H18","v":0},null,{"$f":"Steam!B42","v":"1900-01-01"},{"$f":"Steam!C42","v":"00:00:00"},{"$f":"Steam!D42","v":0},{"$f":"Steam!E42","v":0},{"$f":"Steam!H42","v":0}]
[null,{"$f":"Steam!B19","v":"1900-01-01"},{"$f":"Steam!C19","v":"00:00:00"},{"$f":"Steam!D19","v":0},{"$f":"Steam!E19","v":0},{"$f":"Steam!H19","v":0},null,{"$f":"Steam!B43","v":"1900-01-01"},{"$f":"Steam!C43","v":"00:00:00"},{"$f":"Steam!D43","v":0},{"$f":"Steam!E43","v":0},{"$f":"Steam!H43","v":0}]
[null,{"$f":"Steam!B20","v":"1900-01-01"},{"$f":"Steam!C20","v":"00:00:00"},{"$f":"Steam!D20","v":0},{"$f":"Steam!E20","v":0},{"$f":"Steam!H20","v":0},null,{"$f":"Steam!B44","v":"1900-01-01"},{"$f":"Steam!C44","v":"00:00:00"},{"$f":"Steam!D44","v":0},{"$f":"Steam!E44","v":0},{"$f":"Steam!H44","v":0}]
[null,{"$f":"Steam!B21","v":"1900-01-01"},{"$f":"Steam!C21","v":"00:00:00"},{"$f":"Steam!D21","v":0},{"$f":"Steam!E21","v":0},{"$f":"Steam!H21","v":0},null,{"$f":"Steam!B45","v":"1900-01-01"},{"$f":"Steam!C45","v":"00:00:00"},{"$f":"Steam!D45","v":0},{"$f":"Steam!E45","v":0},{"$f":"Steam!H45","v":0}]
[null,{"$f":"Steam!B22","v":"1900-01-01"},{"$f":"Steam!C22","v":"00:00:00"},{"$f":"Steam!D22","v":0},{"$f":"Steam!E22","v":0},{"$f":"Steam!H22","v":0},null,{"$f":"Steam!B46","v":"1900-01-01"},{"$f":"Steam!C46","v":"00:00:00"},{"$f":"Steam!D46","v":0},{"$f":"Steam!E46","v":0},{"$f":"Steam!H46","v":0}]
[null,{"$f":"Steam!B23","v":"1900-01-01"},{"$f":"Steam!C23","v":"00:00:00"},{"$f":"Steam!D23","v":0},{"$f":"Steam!E23","v":0},{"$f":"Steam!H23","v":0},null,{"$f":"Steam!B47","v":"1900-01-01"},{"$f":"Steam!C47","v":"00:00:00"},{"$f":"Steam!D47","v":0},{"$f":"Steam!E47","v":0},{"$f":"Steam!H47","v":0}]
[null,null,null,{"$f":"SUM(D143:D157)","v":0},{"$f":"SUM(E143:E157)","v":0},{"$f":"SUM(F143:F157)","v":0},null,null,null,{"$f":"SUM(J143:J157)","v":0},{"$f":"SUM(K143:K157)","v":0},{"$f":"SUM(L143:L157)","v":0}]
[]
[null,"PRE-CONSTRUCTION CHILLED WATER",null,null,null,null,null,"POST-CONSTRUCTION CHILLED WATER"]
[null,"Billing Period Start Date","Meter Read Date","Days in Billing Period","Chilled Water Consumption MMBtu","Chilled Water Consumption\nMMBtu",null,"Billing Period Start Date","Meter Read Date","Days in Billing Period","Chilled Water Consumption MMBtu","Chilled Water Consumption\nMMBtu"]
[null,{"$f":"'Chilled Water'!B9","v":"1900-01-01"},{"$f":"'Chilled Water'!C9","v":"00:00:00"},{"$f":"'Chilled Water'!D9","v":0},{"$f":"'Chilled Water'!E9","v":0},{"$f":"'Chilled Water'!G9","v":0},null,{"$f":"'Chilled Water'!B33","v":"1900-01-01"},{"$f":"'Chilled Water'!C33","v":"00:00:00"},{"$f":"'Chilled Water'!D33","v":0},{"$f":"'Chilled Water'!E33","v":0},{"$f":"'Chilled Water'!G33","v":0}]
[null,{"$f":"'Chilled Water'!B10","v":"1900-01-01"},{"$f":"'Chilled Water'!C10","v":"00:00:00"},{"$f":"'Chilled Water'!D10","v":0},{"$f":"'Chilled Water'!E10","v":0},{"$f":"'Chilled Water'!G10","v":0},null,{"$f":"'Chilled Water'!B34","v":"1900-01-01"},{"$f":"'Chilled Water'!C34","v":"00:00:00"},{"$f":"'Chilled Water'!D34","v":0},{"$f":"'Chilled Water'!E34","v":0},{"$f":"'Chilled Water'!G34","v":0}]
[null,{"$f":"'Chilled Water'!B11","v":"1900-01-01"},{"$f":"'Chilled Water'!C11","v":"00:00:00"},{"$f":"'Chilled Water'!D11","v":0},{"$f":"'Chilled Water'!E11","v":0},{"$f":"'Chilled Water'!G11","v":0},null,{"$f":"'Chilled Water'!B35","v":"1900-01-01"},{"$f":"'Chilled Water'!C35","v":"00:00:00"},{"$f":"'Chilled Water'!D35","v":0},{"$f":"'Chilled Water'!E35","v":0},{"$f":"'Chilled Water'!G35","v":0}]
[null,{"$f":"'Chilled Water'!B12","v":"1900-01-01"},{"$f":"'Chilled Water'!C12","v":"00:00:00"},{"$f":"'Chilled Water'!D12","v":0},{"$f":"'Chilled Water'!E12","v":0},{"$f":"'Chilled Water'!G12","v":0},null,{"$f":"'Chilled Water'!B36","v":"1900-01-01"},{"$f":"'Chilled Water'!C36","v":"00:00:00"},{"$f":"'Chilled Water'!D36","v":0},{"$f":"'Chilled Water'!E36","v":0},{"$f":"'Chilled Water'!G36","v":0}]
[null,{"$f":"'Chilled Water'!B13","v":"1900-01-01"},{"$f":"'Chilled Water'!C13","v":"00:00:00"},{"$f":"'Chilled Water'!D13","v":0},{"$f":"'Chilled Water'!E13","v":0},{"$f":"'Chilled Water'!G13","v":0},null,{"$f":"'Chilled Water'!B37","v":"1900-01-01"},{"$f":"'Chilled Water'!C37","v":"00:00:00"},{"$f":"'Chilled Water'!D37","v":0},{"$f":"'Chilled Water'!E37","v":0},{"$f":"'Chilled Water'!G37","v":0}]
[null,{"$f":"'Chilled Water'!B14","v":"1900-01-01"},{"$f":"'Chilled Water'!C14","v":"00:00:00"},{"$f":"'Chilled Water'!D14","v":0},{"$f":"'Chilled Water'!E14","v":0},{"$f":"'Chilled Water'!G14","v":0},null,{"$f":"'Chilled Water'!B38","v":"1900-01-01"},{"$f":"'Chilled Water'!C38","v":"00:00:00"},{"$f":"'Chilled Water'!D38","v":0},{"$f":"'Chilled Water'!E38","v":0},{"$f":"'Chilled Water'!G38","v":0}]
[null,{"$f":"'Chilled Water'!B15","v":"1900-01-01"},{"$f":"'Chilled Water'!C15","v":"00:00:00"},{"$f":"'Chilled Water'!D15","v":0},{"$f":"'Chilled Water'!E15","v":0},{"$f":"'Chilled Water'!G15","v":0},null,{"$f":"'Chilled Water'!B39","v":"1900-01-01"},{"$f":"'Chilled Water'!C39","v":"00:00:00"},{"$f":"'Chilled Water'!D39","v":0},{"$f":"'Chilled Water'!E39","v":0},{"$f":"'Chilled Water'!G39","v":0}]
[null,{"$f":"'Chilled Water'!B16","v":"1900-01-01"},{"$f":"'Chilled Water'!C16","v":"00:00:00"},{"$f":"'Chilled Water'!D16","v":0},{"$f":"'Chilled Water'!E16","v":0},{"$f":"'Chilled Water'!G16","v":0},null,{"$f":"'Chilled Water'!B40","v":"1900-01-01"},{"$f":"'Chilled Water'!C40","v":"00:00:00"},{"$f":"'Chilled Water'!D40","v":0},{"$f":"'Chilled Water'!E40","v":0},{"$f":"'Chilled Water'!G40","v":0}]
[null,{"$f":"'Chilled Water'!B17","v":"1900-01-01"},{"$f":"'Chilled Water'!C17","v":"00:00:00"},{"$f":"'Chilled Water'!D17","v":0},{"$f":"'Chilled Water'!E17","v":0},{"$f":"'Chilled Water'!G17","v":0},null,{"$f":"'Chilled Water'!B41","v":"1900-01-01"},{"$f":"'Chilled Water'!C41","v":"00:00:00"},{"$f":"'Chilled Water'!D41","v":0},{"$f":"'Chilled Water'!E41","v":0},{"$f":"'Chilled Water'!G41","v":0}]
[null,{"$f":"'Chilled Water'!B18","v":"1900-01-01"},{"$f":"'Chilled Water'!C18","v":"00:00:00"},{"$f":"'Chilled Water'!D18","v":0},{"$f":"'Chilled Water'!E18","v":0},{"$f":"'Chilled Water'!G18","v":0},null,{"$f":"'Chilled Water'!B42","v":"1900-01-01"},{"$f":"'Chilled Water'!C42","v":"00:00:00"},{"$f":"'Chilled Water'!D42","v":0},{"$f":"'Chilled Water'!E42","v":0},{"$f":"'Chilled Water'!G42","v":0}]
[null,{"$f":"'Chilled Water'!B19","v":"1900-01-01"},{"$f":"'Chilled Water'!C19","v":"00:00:00"},{"$f":"'Chilled Water'!D19","v":0},{"$f":"'Chilled Water'!E19","v":0},{"$f":"'Chilled Water'!G19","v":0},null,{"$f":"'Chilled Water'!B43","v":"1900-01-01"},{"$f":"'Chilled Water'!C43","v":"00:00:00"},{"$f":"'Chilled Water'!D43","v":0},{"$f":"'Chilled Water'!E43","v":0},{"$f":"'Chilled Water'!G43","v":0}]
[null,{"$f":"'Chilled Water'!B20","v":"1900-01-01"},{"$f":"'Chilled Water'!C20","v":"00:00:00"},{"$f":"'Chilled Water'!D20","v":0},{"$f":"'Chilled Water'!E20","v":0},{"$f":"'Chilled Water'!G20","v":0},null,{"$f":"'Chilled Water'!B44","v":"1900-01-01"},{"$f":"'Chilled Water'!C44","v":"00:00:00"},{"$f":"'Chilled Water'!D44","v":0},{"$f":"'Chilled Water'!E44","v":0},{"$f":"'Chilled Water'!G44","v":0}]
[null,{"$f":"'Chilled Water'!B21","v":"1900-01-01"},{"$f":"'Chilled Water'!C21","v":"00:00:00"},{"$f":"'Chilled Water'!D21","v":0},{"$f":"'Chilled Water'!E21","v":0},{"$f":"'Chilled Water'!G21","v":0},null,{"$f":"'Chilled Water'!B45","v":"1900-01-01"},{"$f":"'Chilled Water'!C45","v":"00:00:00"},{"$f":"'Chilled Water'!D45","v":0},{"$f":"'Chilled Water'!E45","v":0},{"$f":"'Chilled Water'!G45","v":0}]
[null,{"$f":"'Chilled Water'!B22","v":"1900-01-01"},{"$f":"'Chilled Water'!C22","v":"00:00:00"},{"$f":"'Chilled Water'!D22","v":0},{"$f":"'Chilled Water'!E22","v":0},{"$f":"'Chilled Water'!G22","v":0},null,{"$f":"'Chilled Water'!B46","v":"1900-01-01"},{"$f":"'Chilled Water'!C46","v":"00:00:00"},{"$f":"'Chilled Water'!D46","v":0},{"$f":"'Chilled Water'!E46","v":0},{"$f":"'Chilled Water'!G46","v":0}]
[null,{"$f":"'Chilled Water'!B23","v":"1900-01-01"},{"$f":"'Chilled Water'!C23","v":"00:00:00"},{"$f":"'Chilled Water'!D23","v":0},{"$f":"'Chilled Water'!E23","v":0},{"$f":"'Chilled Water'!G23","v":0},null,{"$f":"'Chilled Water'!B47","v":"1900-01-01"},{"$f":"'Chilled Water'!C47","v":"00:00:00"},{"$f":"'Chilled Water'!D47","v":0},{"$f":"'Chilled Water'!E47","v":0},{"$f":"'Chilled Water'!G47","v":0}]
[null,null,null,{"$f":"SUM(D162:D176)","v":0},{"$f":"SUM(E162:E176)","v":0},{"$f":"SUM(F162:F176)","v":0},null,null,null,{"$f":"SUM(J162:J176)","v":0},{"$f":"SUM(K162:K176)","v":0},{"$f":"SUM(L162:L176)","v":0}]
[]
[null,"PRE-CONSTRUCTION HOT WATER",null,null,null,null,null,"POST-CONSTRUCTION HOT WATER"]
[null,"Billing Period Start Date","Meter Read Date","Days in Billing Period","Hot Water Consumption MMBtu","Hot Water Consumption\nMMBtu",null,"Billing Period Start Date","Meter Read Date","Days in Billing Period","Hot Water Consumption MMBtu","Hot Water Consumption\nMMBtu"]
[null,{"$f":"'Hot Water'!B9","v":"1900-01-01"},{"$f":"'Hot Water'!C9","v":"00:00:00"},{"$f":"'Hot Water'!D9","v":0},{"$f":"'Hot Water'!E9","v":0},{"$f":"'Hot Water'!G9","v":0},null,{"$f":"'Hot Water'!B33","v":"1900-01-01"},{"$f":"'Hot Water'!C33","v":"00:00:00"},{"$f":"'Hot Water'!D33","v":0},{"$f":"'Hot Water'!E33","v":0},{"$f":"'Hot Water'!G33","v":0}]
[null,{"$f":"'Hot Water'!B10","v":"1900-01-01"},{"$f":"'Hot Water'!C10","v":"00:00:00"},{"$f":"'Hot Water'!D10","v":0},{"$f":"'Hot Water'!E10","v":0},{"$f":"'Hot Water'!G10","v":0},null,{"$f":"'Hot Water'!B34","v":"1900-01-01"},{"$f":"'Hot Water'!C34","v":"00:00:00"},{"$f":"'Hot Water'!D34","v":0},{"$f":"'Hot Water'!E34","v":0},{"$f":"'Hot Water'!G34","v":0}]
[null,{"$f":"'Hot Water'!B11","v":"1900-01-01"},{"$f":"'Hot Water'!C11","v":"00:00:00"},{"$f":"'Hot Water'!D11","v":0},{"$f":"'Hot Water'!E11","v":0},{"$f":"'Hot Water'!G11","v":0},null,{"$f":"'Hot Water'!B35","v":"1900-01-01"},{"$f":"'Hot Water'!C35","v":"00:00:00"},{"$f":"'Hot Water'!D35","v":0},{"$f":"'Hot Water'!E35","v":0},{"$f":"'Hot Water'!G35","v":0}]
[null,{"$f":"'Hot Water'!B12","v":"1900-01-01"},{"$f":"'Hot Water'!C12","v":"00:00:00"},{"$f":"'Hot Water'!D12","v":0},{"$f":"'Hot Water'!E12","v":0},{"$f":"'Hot Water'!G12","v":0},null,{"$f":"'Hot Water'!B36","v":"1900-01-01"},{"$f":"'Hot Water'!C36","v":"00:00:00"},{"$f":"'Hot Water'!D36","v":0},{"$f":"'Hot Water'!E36","v":0},{"$f":"'Hot Water'!G36","v":0}]
[null,{"$f":"'Hot Water'!B13","v":"1900-01-01"},{"$f":"'Hot Water'!C13","v":"00:00:00"},{"$f":"'Hot Water'!D13","v":0},{"$f":"'Hot Water'!E13","v":0},{"$f":"'Hot Water'!G13","v":0},null,{"$f":"'Hot Water'!B37","v":"1900-01-01"},{"$f":"'Hot Water'!C37","v":"00:00:00"},{"$f":"'Hot Water'!D37","v":0},{"$f":"'Hot Water'!E37","v":0},{"$f":"'Hot Water'!G37","v":0}]
[null,{"$f":"'Hot Water'!B14","v":"1900-01-01"},{"$f":"'Hot Water'!C14","v":"00:00:00"},{"$f":"'Hot Water'!D14","v":0},{"$f":"'Hot Water'!E14","v":0},{"$f":"'Hot Water'!G14","v":0},null,{"$f":"'Hot Water'!B38","v":"1900-01-01"},{"$f":"'Hot Water'!C38","v":"00:00:00"},{"$f":"'Hot Water'!D38","v":0},{"$f":"'Hot Water'!E38","v":0},{"$f":"'Hot Water'!G38","v":0}]
[null,{"$f":"'Hot Water'!B15","v":"1900-01-01"},{"$f":"'Hot Water'!C15","v":"00:00:00"},{"$f":"'Hot Water'!D15","v":0},{"$f":"'Hot Water'!E15","v":0},{"$f":"'Hot Water'!G15","v":0},null,{"$f":"'Hot Water'!B39","v":"1900-01-01"},{"$f":"'Hot Water'!C39","v":"00:00:00"},{"$f":"'Hot Water'!D39","v":0},{"$f":"'Hot Water'!E39","v":0},{"$f":"'Hot Water'!G39","v":0}]
[null,{"$f":"'Hot Water'!B16","v":"1900-01-01"},{"$f":"'Hot Water'!C16","v":"00:00:00"},{"$f":"'Hot Water'!D16","v":0},{"$f":"'Hot Water'!E16","v":0},{"$f":"'Hot Water'!G16","v":0},null,{"$f":"'Hot Water'!B40","v":"1900-01-01"},{"$f":"'Hot Water'!C40","v":"00:00:00"},{"$f":"'Hot Water'!D40","v":0},{"$f":"'Hot Water'!E40","v":0},{"$f":"'Hot Water'!G40","v":0}]
[null,{"$f":"'Hot Water'!B17","v":"1900-01-01"},{"$f":"'Hot Water'!C17","v":"00:00:00"},{"$f":"'Hot Water'!D17","v":0},{"$f":"'Hot Water'!E17","v":0},{"$f":"'Hot Water'!G17","v":0},null,{"$f":"'Hot Water'!B41","v":"1900-01-01"},{"$f":"'Hot Water'!C41","v":"00:00:00"},{"$f":"'Hot Water'!D41","v":0},{"$f":"'Hot Water'!E41","v":0},{"$f":"'Hot Water'!G41","v":0}]
[null,{"$f":"'Hot Water'!B18","v":"1900-01-01"},{"$f":"'Hot Water'!C18","v":"00:00:00"},{"$f":"'Hot Water'!D18","v":0},{"$f":"'Hot Water'!E18","v":0},{"$f":"'Hot Water'!G18","v":0},null,{"$f":"'Hot Water'!B42","v":"1900-01-01"},{"$f":"'Hot Water'!C42","v":"00:00:00"},{"$f":"'Hot Water'!D42","v":0},{"$f":"'Hot Water'!E42","v":0},{"$f":"'Hot Water'!G42","v":0}]
[null,{"$f":"'Hot Water'!B19","v":"1900-01-01"},{"$f":"'Hot Water'!C19","v":"00:00:00"},{"$f":"'Hot Water'!D19","v":0},{"$f":"'Hot Water'!E19","v":0},{"$f":"'Hot Water'!G19","v":0},null,{"$f":"'Hot Water'!B43","v":"1900-01-01"},{"$f":"'Hot Water'!C43","v":"00:00:00"},{"$f":"'Hot Water'!D43","v":0},{"$f":"'Hot Water'!E43","v":0},{"$f":"'Hot Water'!G43","v":0}]
[null,{"$f":"'Hot Water'!B20","v":"1900-01-01"},{"$f":"'Hot Water'!C20","v":"00:00:00"},{"$f":"'Hot Water'!D20","v":0},{"$f":"'Hot Water'!E20","v":0},{"$f":"'Hot Water'!G20","v":0},null,{"$f":"'Hot Water'!B44","v":"1900-01-01"},{"$f":"'Hot Water'!C44","v":"00:00:00"},{"$f":"'Hot Water'!D44","v":0},{"$f":"'Hot Water'!E44","v":0},{"$f":"'Hot Water'!G44","v":0}]
[null,{"$f":"'Hot Water'!B21","v":"1900-01-01"},{"$f":"'Hot Water'!C21","v":"00:00:00"},{"$f":"'Hot Water'!D21","v":0},{"$f":"'Hot Water'!E21","v":0},{"$f":"'Hot Water'!G21","v":0},null,{"$f":"'Hot Water'!B45","v":"1900-01-01"},{"$f":"'Hot Water'!C45","v":"00:00:00"},{"$f":"'Hot Water'!D45","v":0},{"$f":"'Hot Water'!E45","v":0},{"$f":"'Hot Water'!G45","v":0}]
[null,{"$f":"'Hot Water'!B22","v":"1900-01-01"},{"$f":"'Hot Water'!C22","v":"00:00:00"},{"$f":"'Hot Water'!D22","v":0},{"$f":"'Hot Water'!E22","v":0},{"$f":"'Hot Water'!G22","v":0},null,{"$f":"'Hot Water'!B46","v":"1900-01-01"},{"$f":"'Hot Water'!C46","v":"00:00:00"},{"$f":"'Hot Water'!D46","v":0},{"$f":"'Hot Water'!E46","v":0},{"$f":"'Hot Water'!G46","v":0}]
[null,{"$f":"'Hot Water'!B23","v":"1900-01-01"},{"$f":"'Hot Water'!C23","v":"00:00:00"},{"$f":"'Hot Water'!D23","v":0},{"$f":"'Hot Water'!E23","v":0},{"$f":"'Hot Water'!G23","v":0},null,{"$f":"'Hot Water'!B47","v":"1900-01-01"},{"$f":"'Hot Water'!C47","v":"00:00:00"},{"$f":"'Hot Water'!D47","v":0},{"$f":"'Hot Water'!E47","v":0},{"$f":"'Hot Water'!G47","v":0}]
[null,null,null,{"$f":"SUM(D181:D195)","v":0},{"$f":"SUM(E181:E195)","v":0},{"$f":"SUM(F181:F195)","v":0},null,null,null,{"$f":"SUM(J181:J195)","v":0},{"$f":"SUM(K181:K195)","v":0},{"$f":"SUM(L181:L195)","v":0}]
[]
[null,"PRE-CONSTRUCTION OTHER",null,null,null,null,null,"POST-CONSTRUCTION OTHER"]
[null,"Billing Period Start Date","Read Date","Days in Billing Period","Total  Consumption\nMMBtu","Total Consumption\nMMBtu",null,"Billing Period Start Date","Read Date","Days in Billing Period","Total  Consumption\nMMBtu","Total Consumption\nMMBtu"]
[null,{"$f":"Other!B9","v":"1900-01-01"},{"$f":"Other!C9","v":"00:00:00"},{"$f":"Other!D9","v":0},{"$f":"Other!E9","v":0},{"$f":"Other!G9","v":0},null,{"$f":"Other!B53","v":"1900-01-01"},{"$f":"Other!C53","v":"00:00:00"},{"$f":"Other!D53","v":0},{"$f":"Other!E53","v":0},{"$f":"Other!G53","v":0}]
[null,{"$f":"Other!B10","v":"1900-01-01"},{"$f":"Other!C10","v":"00:00:00"},{"$f":"Other!D10","v":0},{"$f":"Other!E10","v":0},{"$f":"Other!G10","v":0},null,{"$f":"Other!B54","v":"1900-01-01"},{"$f":"Other!C54","v":"00:00:00"},{"$f":"Other!D54","v":0},{"$f":"Other!E54","v":0},{"$f":"Other!G54","v":0}]
[null,{"$f":"Other!B11","v":"1900-01-01"},{"$f":"Other!C11","v":"00:00:00"},{"$f":"Other!D11","v":0},{"$f":"Other!E11","v":0},{"$f":"Other!G11","v":0},null,{"$f":"Other!B55","v":"1900-01-01"},{"$f":"Other!C55","v":"00:00:00"},{"$f":"Other!D55","v":0},{"$f":"Other!E55","v":0},{"$f":"Other!G55","v":0}]
[null,{"$f":"Other!B12","v":"1900-01-01"},{"$f":"Other!C12","v":"00:00:00"},{"$f":"Other!D12","v":0},{"$f":"Other!E12","v":0},{"$f":"Other!G12","v":0},null,{"$f":"Other!B56","v":"1900-01-01"},{"$f":"Other!C56","v":"00:00:00"},{"$f":"Other!D56","v":0},{"$f":"Other!E56","v":0},{"$f":"Other!G56","v":0}]
[null,{"$f":"Other!B13","v":"1900-01-01"},{"$f":"Other!C13","v":"00:00:00"},{"$f":"Other!D13","v":0},{"$f":"Other!E13","v":0},{"$f":"Other!G13","v":0},null,{"$f":"Other!B57","v":"1900-01-01"},{"$f":"Other!C57","v":"00:00:00"},{"$f":"Other!D57","v":0},{"$f":"Other!E57","v":0},{"$f":"Other!G57","v":0}]
[null,{"$f":"Other!B14","v":"1900-01-01"},{"$f":"Other!C14","v":"00:00:00"},{"$f":"Other!D14","v":0},{"$f":"Other!E14","v":0},{"$f":"Other!G14","v":0},null,{"$f":"Other!B58","v":"1900-01-01"},{"$f":"Other!C58","v":"00:00:00"},{"$f":"Other!D58","v":0},{"$f":"Other!E58","v":0},{"$f":"Other!G58","v":0}]
[null,{"$f":"Other!B15","v":"1900-01-01"},{"$f":"Other!C15","v":"00:00:00"},{"$f":"Other!D15","v":0},{"$f":"Other!E15","v":0},{"$f":"Other!G15","v":0},null,{"$f":"Other!B59","v":"1900-01-01"},{"$f":"Other!C59","v":"00:00:00"},{"$f":"Other!D59","v":0},{"$f":"Other!E59","v":0},{"$f":"Other!G59","v":0}]
[null,{"$f":"Other!B16","v":"1900-01-01"},{"$f":"Other!C16","v":"00:00:00"},{"$f":"Other!D16","v":0},{"$f":"Other!E16","v":0},{"$f":"Other!G16","v":0},null,{"$f":"Other!B60","v":"1900-01-01"},{"$f":"Other!C60","v":"00:00:00"},{"$f":"Other!D60","v":0},{"$f":"Other!E60","v":0},{"$f":"Other!G60","v":0}]
[null,{"$f":"Other!B17","v":"1900-01-01"},{"$f":"Other!C17","v":"00:00:00"},{"$f":"Other!D17","v":0},{"$f":"Other!E17","v":0},{"$f":"Other!G17","v":0},null,{"$f":"Other!B61","v":"1900-01-01"},{"$f":"Other!C61","v":"00:00:00"},{"$f":"Other!D61","v":0},{"$f":"Other!E61","v":0},{"$f":"Other!G61","v":0}]
[null,{"$f":"Other!B18","v":"1900-01-01"},{"$f":"Other!C18","v":"00:00:00"},{"$f":"Other!D18","v":0},{"$f":"Other!E18","v":0},{"$f":"Other!G18","v":0},null,{"$f":"Other!B62","v":"1900-01-01"},{"$f":"Other!C62","v":"00:00:00"},{"$f":"Other!D62","v":0},{"$f":"Other!E62","v":0},{"$f":"Other!G62","v":0}]
[null,{"$f":"Other!B19","v":"1900-01-01"},{"$f":"Other!C19","v":"00:00:00"},{"$f":"Other!D19","v":0},{"$f":"Other!E19","v":0},{"$f":"Other!G19","v":0},null,{"$f":"Other!B63","v":"1900-01-01"},{"$f":"Other!C63","v":"00:00:00"},{"$f":"Other!D63","v":0},{"$f":"Other!E63","v":0},{"$f":"Other!G63","v":0}]
[null,{"$f":"Other!B20","v":"1900-01-01"},{"$f":"Other!C20","v":"00:00:00"},{"$f":"Other!D20","v":0},{"$f":"Other!E20","v":0},{"$f":"Other!G20","v":0},null,{"$f":"Other!B64","v":"1900-01-01"},{"$f":"Other!C64","v":"00:00:00"},{"$f":"Other!D64","v":0},{"$f":"Other!E64","v":0},{"$f":"Other!G64","v":0}]
[null,{"$f":"Other!B21","v":"1900-01-01"},{"$f":"Other!C21","v":"00:00:00"},{"$f":"Other!D21","v":0},{"$f":"Other!E21","v":0},{"$f":"Other!G21","v":0},null,{"$f":"Other!B65","v":"1900-01-01"},{"$f":"Other!C65","v":"00:00:00"},{"$f":"Other!D65","v":0},{"$f":"Other!E65","v":0},{"$f":"Other!G65","v":0}]
[null,{"$f":"Other!B22","v":"1900-01-01"},{"$f":"Other!C22","v":"00:00:00"},{"$f":"Other!D22","v":0},{"$f":"Other!E22","v":0},{"$f":"Other!G22","v":0},null,{"$f":"Other!B66","v":"1900-01-01"},{"$f":"Other!C66","v":"00:00:00"},{"$f":"Other!D66","v":0},{"$f":"Other!E66","v":0},{"$f":"Other!G66","v":0}]
[null,{"$f":"Other!B23","v":"1900-01-01"},{"$f":"Other!C23","v":"00:00:00"},{"$f":"Other!D23","v":0},{"$f":"Other!E23","v":0},{"$f":"Other!G23","v":0},null,{"$f":"Other!B67","v":"1900-01-01"},{"$f":"Other!C67","v":"00:00:00"},{"$f":"Other!D67","v":0},{"$f":"Other!E67","v":0},{"$f":"Other!G67","v":0}]
[null,{"$f":"Other!B24","v":"1900-01-01"},{"$f":"Other!C24","v":"00:00:00"},{"$f":"Other!D24","v":0},{"$f":"Other!E24","v":0},{"$f":"Other!G24","v":0},null,{"$f":"Other!B68","v":"1900-01-01"},{"$f":"Other!C68","v":"00:00:00"},{"$f":"Other!D68","v":0},{"$f":"Other!E68","v":0},{"$f":"Other!G68","v":0}]
[null,{"$f":"Other!B25","v":"1900-01-01"},{"$f":"Other!C25","v":"00:00:00"},{"$f":"Other!D25","v":0},{"$f":"Other!E25","v":0},{"$f":"Other!G25","v":0},null,{"$f":"Other!B69","v":"1900-01-01"},{"$f":"Other!C69","v":"00:00:00"},{"$f":"Other!D69","v":0},{"$f":"Other!E69","v":0},{"$f":"Other!G69","v":0}]
[null,{"$f":"Other!B26","v":"1900-01-01"},{"$f":"Other!C26","v":"00:00:00"},{"$f":"Other!D26","v":0},{"$f":"Other!E26","v":0},{"$f":"Other!G26","v":0},null,{"$f":"Other!B70","v":"1900-01-01"},{"$f":"Other!C70","v":"00:00:00"},{"$f":"Other!D70","v":0},{"$f":"Other!E70","v":0},{"$f":"Other!G70","v":0}]
[null,{"$f":"Other!B27","v":"1900-01-01"},{"$f":"Other!C27","v":"00:00:00"},{"$f":"Other!D27","v":0},{"$f":"Other!E27","v":0},{"$f":"Other!G27","v":0},null,{"$f":"Other!B71","v":"1900-01-01"},{"$f":"Other!C71","v":"00:00:00"},{"$f":"Other!D71","v":0},{"$f":"Other!E71","v":0},{"$f":"Other!G71","v":0}]
[null,{"$f":"Other!B28","v":"1900-01-01"},{"$f":"Other!C28","v":"00:00:00"},{"$f":"Other!D28","v":0},{"$f":"Other!E28","v":0},{"$f":"Other!G28","v":0},null,{"$f":"Other!B72","v":"1900-01-01"},{"$f":"Other!C72","v":"00:00:00"},{"$f":"Other!D72","v":0},{"$f":"Other!E72","v":0},{"$f":"Other!G72","v":0}]
[null,{"$f":"Other!B29","v":"1900-01-01"},{"$f":"Other!C29","v":"00:00:00"},{"$f":"Other!D29","v":0},{"$f":"Other!E29","v":0},{"$f":"Other!G29","v":0},null,{"$f":"Other!B73","v":"1900-01-01"},{"$f":"Other!C73","v":"00:00:00"},{"$f":"Other!D73","v":0},{"$f":"Other!E73","v":0},{"$f":"Other!G73","v":0}]
[null,{"$f":"Other!B30","v":"1900-01-01"},{"$f":"Other!C30","v":"00:00:00"},{"$f":"Other!D30","v":0},{"$f":"Other!E30","v":0},{"$f":"Other!G30","v":0},null,{"$f":"Other!B74","v":"1900-01-01"},{"$f":"Other!C74","v":"00:00:00"},{"$f":"Other!D74","v":0},{"$f":"Other!E74","v":0},{"$f":"Other!G74","v":0}]
[null,{"$f":"Other!B31","v":"1900-01-01"},{"$f":"Other!C31","v":"00:00:00"},{"$f":"Other!D31","v":0},{"$f":"Other!E31","v":0},{"$f":"Other!G31","v":0},null,{"$f":"Other!B75","v":"1900-01-01"},{"$f":"Other!C75","v":"00:00:00"},{"$f":"Other!D75","v":0},{"$f":"Other!E75","v":0},{"$f":"Other!G75","v":0}]
[null,{"$f":"Other!B32","v":"1900-01-01"},{"$f":"Other!C32","v":"00:00:00"},{"$f":"Other!D32","v":0},{"$f":"Other!E32","v":0},{"$f":"Other!G32","v":0},null,{"$f":"Other!B76","v":"1900-01-01"},{"$f":"Other!C76","v":"00:00:00"},{"$f":"Other!D76","v":0},{"$f":"Other!E76","v":0},{"$f":"Other!G76","v":0}]
[null,{"$f":"Other!B33","v":"1900-01-01"},{"$f":"Other!C33","v":"00:00:00"},{"$f":"Other!D33","v":0},{"$f":"Other!E33","v":0},{"$f":"Other!G33","v":0},null,{"$f":"Other!B77","v":"1900-01-01"},{"$f":"Other!C77","v":"00:00:00"},{"$f":"Other!D77","v":0},{"$f":"Other!E77","v":0},{"$f":"Other!G77","v":0}]
[null,{"$f":"Other!B34","v":"1900-01-01"},{"$f":"Other!C34","v":"00:00:00"},{"$f":"Other!D34","v":0},{"$f":"Other!E34","v":0},{"$f":"Other!G34","v":0},null,{"$f":"Other!B78","v":"1900-01-01"},{"$f":"Other!C78","v":"00:00:00"},{"$f":"Other!D78","v":0},{"$f":"Other!E78","v":0},{"$f":"Other!G78","v":0}]
[null,{"$f":"Other!B35","v":"1900-01-01"},{"$f":"Other!C35","v":"00:00:00"},{"$f":"Other!D35","v":0},{"$f":"Other!E35","v":0},{"$f":"Other!G35","v":0},null,{"$f":"Other!B79","v":"1900-01-01"},{"$f":"Other!C79","v":"00:00:00"},{"$f":"Other!D79","v":0},{"$f":"Other!E79","v":0},{"$f":"Other!G79","v":0}]
[null,{"$f":"Other!B36","v":"1900-01-01"},{"$f":"Other!C36","v":"00:00:00"},{"$f":"Other!D36","v":0},{"$f":"Other!E36","v":0},{"$f":"Other!G36","v":0},null,{"$f":"Other!B80","v":"1900-01-01"},{"$f":"Other!C80","v":"00:00:00"},{"$f":"Other!D80","v":0},{"$f":"Other!E80","v":0},{"$f":"Other!G80","v":0}]
[null,{"$f":"Other!B37","v":"1900-01-01"},{"$f":"Other!C37","v":"00:00:00"},{"$f":"Other!D37","v":0},{"$f":"Other!E37","v":0},{"$f":"Other!G37","v":0},null,{"$f":"Other!B81","v":"1900-01-01"},{"$f":"Other!C81","v":"00:00:00"},{"$f":"Other!D81","v":0},{"$f":"Other!E81","v":0},{"$f":"Other!G81","v":0}]
[null,{"$f":"Other!B38","v":"1900-01-01"},{"$f":"Other!C38","v":"00:00:00"},{"$f":"Other!D38","v":0},{"$f":"Other!E38","v":0},{"$f":"Other!G38","v":0},null,{"$f":"Other!B82","v":"1900-01-01"},{"$f":"Other!C82","v":"00:00:00"},{"$f":"Other!D82","v":0},{"$f":"Other!E82","v":0},{"$f":"Other!G82","v":0}]
[null,{"$f":"Other!B39","v":"1900-01-01"},{"$f":"Other!C39","v":"00:00:00"},{"$f":"Other!D39","v":0},{"$f":"Other!E39","v":0},{"$f":"Other!G39","v":0},null,{"$f":"Other!B83","v":"1900-01-01"},{"$f":"Other!C83","v":"00:00:00"},{"$f":"Other!D83","v":0},{"$f":"Other!E83","v":0},{"$f":"Other!G83","v":0}]
[null,{"$f":"Other!B40","v":"1900-01-01"},{"$f":"Other!C40","v":"00:00:00"},{"$f":"Other!D40","v":0},{"$f":"Other!E40","v":0},{"$f":"Other!G40","v":0},null,{"$f":"Other!B84","v":"1900-01-01"},{"$f":"Other!C84","v":"00:00:00"},{"$f":"Other!D84","v":0},{"$f":"Other!E84","v":0},{"$f":"Other!G84","v":0}]
[null,{"$f":"Other!B41","v":"1900-01-01"},{"$f":"Other!C41","v":"00:00:00"},{"$f":"Other!D41","v":0},{"$f":"Other!E41","v":0},{"$f":"Other!G41","v":0},null,{"$f":"Other!B85","v":"1900-01-01"},{"$f":"Other!C85","v":"00:00:00"},{"$f":"Other!D85","v":0},{"$f":"Other!E85","v":0},{"$f":"Other!G85","v":0}]
[null,{"$f":"Other!B42","v":"1900-01-01"},{"$f":"Other!C42","v":"00:00:00"},{"$f":"Other!D42","v":0},{"$f":"Other!E42","v":0},{"$f":"Other!G42","v":0},null,{"$f":"Other!B86","v":"1900-01-01"},{"$f":"Other!C86","v":"00:00:00"},{"$f":"Other!D86","v":0},{"$f":"Other!E86","v":0},{"$f":"Other!G86","v":0}]
[null,null,null,{"$f":"SUM(D200:D233)","v":0},{"$f":"SUM(E200:E233)","v":0},{"$f":"SUM(F200:F233)","v":0},null,null,null,{"$f":"SUM(J200:J233)","v":0},{"$f":"SUM(K200:K233)","v":0},{"$f":"SUM(L200:L233)","v":0}]

{"sheet":"UDAT Support","index":14,"n_rows":48,"n_cols":14,"rows_kept":48,"cut":false,"hidden":true,"merged":[[0,0,0,13],[30,0,30,2],[9,0,9,2],[21,0,21,2],[40,0,40,2]]}
["Drop Down Lists"]
["GasUnits","OilUnits","PropaneUnits","SteamUnits","CWUnits","HWUnits","OtherFuels","OtherUnits","ElecUtil","GasUtil","MeterConf","UDAT_YesNo","UDAT_UnitTypes","MeterRead"]
["<Not Used>","<Not Used>","<Not Used>","<Not Used>","<Not Used>","<Not Used>","<Other Fuel Type>","<Not Used>","<Select One>","<Select One>","Direct Metered","<Select>","Studio","Actual"]
["Therms","MMBtu","MMBtu","MMBtu","MMBtu","MMBtu","Wood","MMBtu","Atlantic City Elec.","Elizabethtown","Submetered","Yes","1-Bedroom","Estimated"]
["MMBtu","#2 Oil Gallons","Gallons",null,null,null,"Biofuel",null,"JCP&L","NJNG","Master Metered","No","2-Bedroom"]
[null,"#4 Oil Gallons",null,null,null,null,"Other",null,"PSE&G","PSE&G",null,null,"3-Bedroom"]
[null,"#6 Oil Gallons",null,null,null,null,null,null,"Rockland Elec.","SJG",null,null,"4+ Bedroom"]
[null,null,null,null,null,null,null,null,"Other","Other"]
[]
["Oil Conversion"]
[null,"Type","Conversion"]
["Pre-Retrofit",{"$f":"'Utility Info'!E7","v":"<Not Used>"},{"$f":"VLOOKUP(B12,$A$16:$B$20,2,FALSE)","v":0}]
["Post-Retrofit",{"$f":"'Utility Info'!E16","v":"<Not Used>"},{"$f":"VLOOKUP(B13,$A$16:$B$20,2,FALSE)","v":0}]
[]
["Type","MMBtu/Unit"]
["#2 Oil Gallons",0.1396]
["#4 Oil Gallons",0.14510000000000001]
["#6 Oil Gallons",0.15240000000000001]
["MMBtu",1]
["<Not Used>",0]
[]
["Steam Conversion"]
[null,"Type","Conversion"]
["Pre-retrofit",{"$f":"'Utility Info'!G7","v":"<Not Used>"},{"$f":"VLOOKUP(B24,$A$28:$B$29,2,FALSE)","v":0}]
["Post-retrofit",{"$f":"'Utility Info'!G16","v":"<Not Used>"},{"$f":"VLOOKUP(B25,$A$28:$B$29,2,FALSE)","v":0}]
[]
["Type","MMBtu/Unit"]
["MMBtu",1]
["<Not Used>",0]
[]
["Propane Conversion"]
[null,"Type","Conversion"]
["Pre-Retrofit",{"$f":"'Utility Info'!F7","v":"<Not Used>"},{"$f":"VLOOKUP(B33,$A$37:$B$39,2,FALSE)","v":0}]
["Post-Retrofit",{"$f":"'Utility Info'!F16","v":"<Not Used>"},{"$f":"VLOOKUP(B34,$A$37:$B$39,2,FALSE)","v":0}]
[]
["Type","MMBtu/Unit"]
["Gallons",9.1300000000000006E-2]
["MMBtu",1]
["<Not Used>",0]
[]
["Energy Unit Costs (for Detailed Measures)"]
["Type","Unit","$/Unit"]
[{"$f":"'Utility Use Summary'!$D$6","v":"Electricity"},"kWh",{"$f":"IF('Utility Use Summary'!$D$8=0,0,'Utility Use Summary'!$D$10/'Utility Use Summary'!$D$8)","v":0}]
[{"$f":"'Utility Use Summary'!$F$6","v":"Gas"},"MMBtu",{"$f":"IF('Utility Use Summary'!$G$8=0,12,'Utility Use Summary'!$F$10/'Utility Use Summary'!$G$8)","v":12}]
[{"$f":"'Utility Use Summary'!$H$6","v":"Fuel Oil"},"MMBtu",{"$f":"IF('Utility Use Summary'!$I$8=0,0,'Utility Use Summary'!$H$10/'Utility Use Summary'!$I$8)","v":0}]
[{"$f":"'Utility Use Summary'!$L$6","v":"Steam"},"MMBtu",{"$f":"IF('Utility Use Summary'!$M$8=0,0,'Utility Use Summary'!$L$10/'Utility Use Summary'!$M$8)","v":0}]
[{"$f":"'Utility Use Summary'!$J$6","v":"Propane"},"MMBtu",{"$f":"IF('Utility Use Summary'!$K$8=0,0,'Utility Use Summary'!$J$10/'Utility Use Summary'!$K$8)","v":0}]
[{"$f":"'Utility Use Summary'!$R$6","v":"Other"},"MMBtu",{"$f":"IF('Utility Use Summary'!$S$8=0,0,'Utility Use Summary'!$R$10/'Utility Use Summary'!$S$8)","v":0}]

{"sheet":"General Project Information","index":15,"n_rows":40,"n_cols":8,"rows_kept":40,"cut":false,"hidden":false,"merged":[[35,1,35,3],[39,2,39,4],[33,1,33,3],[12,1,12,6],[8,2,8,6],[31,1,31,3],[2,1,2,6],[4,1,4,6],[5,2,5,6],[6,2,6,6],[10,2,10,6]]}
[null,"General Project Information "]
[null,"Instructions"]
[null,"1) Provide brief background/description of customer and project site including: project name, address, building type, site overview, and date(s) audit completed. \n2) Include information on project team members. \n3) Indicate whether project has received incentives through the NJCEP Local Government Energy Audit program, whether the project is performing a fuel conversion (e.g. oil/propane to natural gas, etc.), and/or whether the project is a qualifying high energy intensity facility. ",null,null,null,null,null," "]
[]
[null,"Project Information"]
[null,"Project Name"]
[null,"Project Address "]
[]
["*\n*\n*\n*\n*\n*","Customer/Site Overview "]
[]
[null,"Date(s) audit completed "]
[]
[1,"Project Team"]
[1,"Role","Company Name","Company Address ","Contact Person, Title","Phone Number","Email Address"]
[{"$f":"IF(COUNTBLANK(C15:G15)=5,0,1)","v":0},"Owner/customer/ratepayer"]
[{"$f":"IF(COUNTBLANK(C16:G16)=5,0,1)","v":0},"Management Company "]
[0,"P4P Partner "]
[0,"Architect"]
[0,"Design Engineer"]
[0,"Construction Mgr / GC"]
[0,"Cx Authority"]
[0,"LEED Consultant"]
[0,"Mechanical Engineer"]
[0,"Mechanical Contractor"]
[0,"Electrical Engineer"]
[0,"Electrical Contractor"]
[0,"EMS Control Contractor"]
[{"$f":"IF(COUNTBLANK(B28:G28)=6,0,1)","v":0}]
[{"$f":"IF(COUNTBLANK(B29:G29)=6,0,1)","v":0}]
[0]
[]
[null,"Did the facility receive an incentive from the Local Government Energy Audit (LGEA) program? "]
[]
[null,"Is this project performing a fuel conversion (e.g. oil/propane to natural gas, electric to natural gas,etc.)?"]
[]
["*\n*","Is this project for a high energy intensity facility (e.g. where at least 50% or more of the annual energy consumption is from process based loads)? "]
[]
[null,null,"Electric (kWh)","Fuel #2 (MMBtu)","% of Total"]
[null,"Manufacturing/Process Loads",null,null,{"$f":"IFERROR((C39*3.412+D39*1000)/(SUM('Utility Use Summary'!E8,'Utility Use Summary'!G8,'Utility Use Summary'!I8,'Utility Use Summary'!K8,'Utility Use Summary'!M8,'Utility Use Summary'!O8,'Utility Use Summary'!Q8,'Utility Use Summary'!S8)*1000),0)","v":0}]
[null,"High Energy Intensity Screening",{"$f":"IF(AND(C39=\"\",D39=\"\"),\"Indicate Manufacturing/Process Loads Above\",IF(E39<0.5,\"Fail, less than 50% of baseline energy consumption is from process based loads\", \"Pass, project is high energy intensity. Total annual project savings must be greater of 100,000 kWh, 350 MMBtu, or 4% source energy savings.\"))","v":"Indicate Manufacturing/Process Loads Above"}]

{"sheet":"Area Identification","index":16,"n_rows":50,"n_cols":12,"rows_kept":50,"cut":false,"hidden":false,"merged":[[4,1,4,2],[2,1,2,2]]}
[null,"Area Identification"]
[null,"Instructions"]
[null,"1) List all building and area types in the project. Additional Building Type columns will populate based on number of Building Types entered into cell C6.\n2) Read notes indicated by red corners to assist in properly completing this tab. "]
[]
[null,"Project Information"]
[null,"Number of Building Types"]
[null,"Number of Buildings in Project",{"$f":"SUM(C16:L16)","v":0}]
[null,"Number of Apartments in Project (Multifamily Only)",{"$f":"SUM(C25:L25)","v":0},null,""]
[null,"Total Square Footage",{"$f":"SUM(C50:L50)","v":0}]
[]
[null,"Building Information","Building Type 1","Building Type 2","Building Type 3","Building Type 4","Building Type 5","Building Type 6","Building Type 7","Building Type 8","Building Type 9","Building Type 10"]
[null,"Building Type "]
[null,"If \"Other\" is selected in C12 please specify Building Type "]
[null,"Building Street Address(es)",null,"","","","","","","","",""]
[null,"Building Name/Nickname"]
[null,"Number of Buildings"]
[null,"Number of Stories",null,"","","","","","","","",""]
[null,"Year(s) Built",null,"","","","","","","","",""]
[null,"Apartments (Multifamily Only)"]
[null,"Total # of Studios"]
[null,"Total # of 1 Bedroom Units"]
[null,"Total # of 2 Bedroom Units"]
[null,"Total # of 3 Bedroom Units"]
[null,"Total # of 4+ Bedroom Units"]
[null,"Total Apartments",{"$f":"SUM(C20:C24)","v":0},{"$f":"SUM(D20:D24)","v":0},{"$f":"SUM(E20:E24)","v":0},{"$f":"SUM(F20:F24)","v":0},{"$f":"SUM(G20:G24)","v":0},0,0,0,0,0]
[null,"Building Areas (sq. ft.)"]
[]
[]
[]
[]
[]
[]
[]
[]
[]
[]
[]
[]
[]
[]
[]
[]
[]
[]
[]
[]
[]
[]
[]
[null,"Total Project Sq. Ft",{"$f":"SUM(C27:C49)","v":0},{"$f":"SUM(D27:D49)","v":0},0,0,0,0,0,0,0,0]

{"sheet":"Area ID Support","index":17,"n_rows":73,"n_cols":5,"rows_kept":73,"cut":false,"hidden":true,"merged":[]}
["Building Name","Building Type","Square Footage"]
[{"$f":"'Area Identification'!$C$15","v":0},{"$f":"'Area Identification'!$C$12","v":0},{"$f":"'Area Identification'!$C$50","v":0}]
[{"$f":"'Area Identification'!$D$15","v":0},{"$f":"'Area Identification'!$D$12","v":0},{"$f":"'Area Identification'!$D$50","v":0}]
[{"$f":"'Area Identification'!$E$15","v":0},{"$f":"'Area Identification'!$E$12","v":0},{"$f":"'Area Identification'!$E$50","v":0}]
[{"$f":"'Area Identification'!$F$15","v":0},{"$f":"'Area Identification'!$F$12","v":0},{"$f":"'Area Identification'!$F$50","v":0}]
[{"$f":"'Area Identification'!$G$15","v":0},{"$f":"'Area Identification'!$G$12","v":0},{"$f":"'Area Identification'!$G$50","v":0}]
[{"$f":"'Area Identification'!$H$15","v":0},{"$f":"'Area Identification'!$H$12","v":0},{"$f":"'Area Identification'!$H$50","v":0},null,{"$f":"IFERROR(INDEX($A$2:$A$11,SMALL(IF(ISTEXT($A$2:$A$11),ROW($A$1:$A$9)), ROW(A6))),\"\")","v":""}]
[{"$f":"'Area Identification'!$I$15","v":0},{"$f":"'Area Identification'!$I$12","v":0},{"$f":"'Area Identification'!$I$50","v":0},null,{"$f":"IFERROR(INDEX($A$2:$A$11,SMALL(IF(ISTEXT($A$2:$A$11),ROW($A$1:$A$9)), ROW(A7))),\"\")","v":""}]
[{"$f":"'Area Identification'!$J$15","v":0},{"$f":"'Area Identification'!$J$12","v":0},{"$f":"'Area Identification'!$J$50","v":0},null,{"$f":"IFERROR(INDEX($A$2:$A$11,SMALL(IF(ISTEXT($A$2:$A$11),ROW($A$1:$A$9)), ROW(A8))),\"\")","v":""}]
[{"$f":"'Area Identification'!$K$15","v":0},{"$f":"'Area Identification'!$K$12","v":0},{"$f":"'Area Identification'!$K$50","v":0},null,{"$f":"IFERROR(INDEX($A$2:$A$11,SMALL(IF(ISTEXT($A$2:$A$11),ROW($A$1:$A$9)), ROW(A9))),\"\")","v":""}]
[{"$f":"'Area Identification'!$L$15","v":0},{"$f":"'Area Identification'!$L$12","v":0},{"$f":"'Area Identification'!$L$50","v":0},null,{"$f":"IFERROR(INDEX($A$2:$A$11,SMALL(IF(ISTEXT($A$2:$A$11),ROW($A$1:$A$9)), ROW(A10))),\"\")","v":""}]
[]
["\"BuildingName\" Source","Building Type","Square Footage"]
[{"$f":"IFERROR(INDEX($A$2:$A$11,SMALL(IF(ISTEXT($A$2:$A$11),ROW($A$1:$A$9)), ROW(A1))),\"\")","v":""},{"$f":"IFERROR(VLOOKUP($A14,$A$2:$C$11,2,FALSE),0)","v":0},{"$f":"IFERROR(VLOOKUP($A14,$A$2:$C$11,3,FALSE),0)","v":0}]
[{"$f":"IFERROR(INDEX($A$2:$A$11,SMALL(IF(ISTEXT($A$2:$A$11),ROW($A$1:$A$9)), ROW(A2))),\"\")","v":""},{"$f":"IFERROR(VLOOKUP($A15,$A$2:$C$11,2,FALSE),0)","v":0},{"$f":"IFERROR(VLOOKUP($A15,$A$2:$C$11,3,FALSE),0)","v":0}]
[{"$f":"IFERROR(INDEX($A$2:$A$11,SMALL(IF(ISTEXT($A$2:$A$11),ROW($A$1:$A$9)), ROW(A3))),\"\")","v":""},0,0]
[{"$f":"IFERROR(INDEX($A$2:$A$11,SMALL(IF(ISTEXT($A$2:$A$11),ROW($A$1:$A$9)), ROW(A4))),\"\")","v":""},0,0]
[{"$f":"IFERROR(INDEX($A$2:$A$11,SMALL(IF(ISTEXT($A$2:$A$11),ROW($A$1:$A$9)), ROW(A5))),\"\")","v":""},0,0]
[{"$f":"IFERROR(INDEX($A$2:$A$11,SMALL(IF(ISTEXT($A$2:$A$11),ROW($A$1:$A$9)), ROW(A6))),\"\")","v":""},0,0]
[{"$f":"IFERROR(INDEX($A$2:$A$11,SMALL(IF(ISTEXT($A$2:$A$11),ROW($A$1:$A$9)), ROW(A7))),\"\")","v":""},0,0]
[{"$f":"IFERROR(INDEX($A$2:$A$11,SMALL(IF(ISTEXT($A$2:$A$11),ROW($A$1:$A$9)), ROW(A8))),\"\")","v":""},0,0]
[{"$f":"IFERROR(INDEX($A$2:$A$11,SMALL(IF(ISTEXT($A$2:$A$11),ROW($A$1:$A$9)), ROW(A9))),\"\")","v":""},0,0]
[{"$f":"IFERROR(INDEX($A$2:$A$11,SMALL(IF(ISTEXT($A$2:$A$11),ROW($A$1:$A$9)), ROW(A10))),\"\")","v":""},0,0]
[]
["Building Area"]
[{"$f":"'Area Identification'!B27","v":0}]
[{"$f":"'Area Identification'!B28","v":0}]
[{"$f":"'Area Identification'!B29","v":0}]
[{"$f":"'Area Identification'!B30","v":0}]
[{"$f":"'Area Identification'!B31","v":0}]
[{"$f":"'Area Identification'!B32","v":0}]
[{"$f":"'Area Identification'!B33","v":0}]
[{"$f":"'Area Identification'!B34","v":0}]
[{"$f":"'Area Identification'!B35","v":0}]
[{"$f":"'Area Identification'!B36","v":0}]
[{"$f":"'Area Identification'!B37","v":0}]
[{"$f":"'Area Identification'!B38","v":0}]
[{"$f":"'Area Identification'!B39","v":0}]
[{"$f":"'Area Identification'!B40","v":0}]
[{"$f":"'Area Identification'!B41","v":0}]
[{"$f":"'Area Identification'!B42","v":0}]
[{"$f":"'Area Identification'!B43","v":0}]
[{"$f":"'Area Identification'!B44","v":0}]
[{"$f":"'Area Identification'!B45","v":0}]
[{"$f":"'Area Identification'!B46","v":0}]
[{"$f":"'Area Identification'!B47","v":0}]
[{"$f":"'Area Identification'!B48","v":0}]
[{"$f":"'Area Identification'!B49","v":0}]
[]
["\"BuildingArea\" Source"]
[{"$f":"IFERROR(INDEX($A$26:$A$48,SMALL(IF(ISTEXT($A$26:$A$48),ROW($A$1:$A$23)), ROW(A1))),\"\")","v":""}]
[{"$f":"IFERROR(INDEX($A$26:$A$48,SMALL(IF(ISTEXT($A$26:$A$48),ROW($A$1:$A$23)), ROW(A2))),\"\")","v":""}]
[{"$f":"IFERROR(INDEX($A$26:$A$48,SMALL(IF(ISTEXT($A$26:$A$48),ROW($A$1:$A$23)), ROW(A3))),\"\")","v":""}]
[{"$f":"IFERROR(INDEX($A$26:$A$48,SMALL(IF(ISTEXT($A$26:$A$48),ROW($A$1:$A$23)), ROW(A4))),\"\")","v":""}]
[{"$f":"IFERROR(INDEX($A$26:$A$48,SMALL(IF(ISTEXT($A$26:$A$48),ROW($A$1:$A$23)), ROW(A5))),\"\")","v":""}]
[{"$f":"IFERROR(INDEX($A$26:$A$48,SMALL(IF(ISTEXT($A$26:$A$48),ROW($A$1:$A$23)), ROW(A6))),\"\")","v":""}]
[{"$f":"IFERROR(INDEX($A$26:$A$48,SMALL(IF(ISTEXT($A$26:$A$48),ROW($A$1:$A$23)), ROW(A7))),\"\")","v":""}]
[{"$f":"IFERROR(INDEX($A$26:$A$48,SMALL(IF(ISTEXT($A$26:$A$48),ROW($A$1:$A$23)), ROW(A8))),\"\")","v":""}]
[{"$f":"IFERROR(INDEX($A$26:$A$48,SMALL(IF(ISTEXT($A$26:$A$48),ROW($A$1:$A$23)), ROW(A9))),\"\")","v":""}]
[{"$f":"IFERROR(INDEX($A$26:$A$48,SMALL(IF(ISTEXT($A$26:$A$48),ROW($A$1:$A$23)), ROW(A10))),\"\")","v":""}]
[{"$f":"IFERROR(INDEX($A$26:$A$48,SMALL(IF(ISTEXT($A$26:$A$48),ROW($A$1:$A$23)), ROW(A11))),\"\")","v":""}]
[{"$f":"IFERROR(INDEX($A$26:$A$48,SMALL(IF(ISTEXT($A$26:$A$48),ROW($A$1:$A$23)), ROW(A12))),\"\")","v":""}]
[{"$f":"IFERROR(INDEX($A$26:$A$48,SMALL(IF(ISTEXT($A$26:$A$48),ROW($A$1:$A$23)), ROW(A13))),\"\")","v":""}]
[{"$f":"IFERROR(INDEX($A$26:$A$48,SMALL(IF(ISTEXT($A$26:$A$48),ROW($A$1:$A$23)), ROW(A14))),\"\")","v":""}]
[{"$f":"IFERROR(INDEX($A$26:$A$48,SMALL(IF(ISTEXT($A$26:$A$48),ROW($A$1:$A$23)), ROW(A15))),\"\")","v":""}]
[{"$f":"IFERROR(INDEX($A$26:$A$48,SMALL(IF(ISTEXT($A$26:$A$48),ROW($A$1:$A$23)), ROW(A16))),\"\")","v":""}]
[{"$f":"IFERROR(INDEX($A$26:$A$48,SMALL(IF(ISTEXT($A$26:$A$48),ROW($A$1:$A$23)), ROW(A17))),\"\")","v":""}]
[{"$f":"IFERROR(INDEX($A$26:$A$48,SMALL(IF(ISTEXT($A$26:$A$48),ROW($A$1:$A$23)), ROW(A18))),\"\")","v":""}]
[{"$f":"IFERROR(INDEX($A$26:$A$48,SMALL(IF(ISTEXT($A$26:$A$48),ROW($A$1:$A$23)), ROW(A19))),\"\")","v":""}]
[{"$f":"IFERROR(INDEX($A$26:$A$48,SMALL(IF(ISTEXT($A$26:$A$48),ROW($A$1:$A$23)), ROW(A20))),\"\")","v":""}]
[{"$f":"IFERROR(INDEX($A$26:$A$48,SMALL(IF(ISTEXT($A$26:$A$48),ROW($A$1:$A$23)), ROW(A21))),\"\")","v":""}]
[{"$f":"IFERROR(INDEX($A$26:$A$48,SMALL(IF(ISTEXT($A$26:$A$48),ROW($A$1:$A$23)), ROW(A22))),\"\")","v":""}]
[{"$f":"IFERROR(INDEX($A$26:$A$48,SMALL(IF(ISTEXT($A$26:$A$48),ROW($A$1:$A$23)), ROW(A23))),\"\")","v":""}]

{"sheet":"Building Types","index":18,"n_rows":109,"n_cols":16,"rows_kept":109,"cut":false,"hidden":true,"merged":[[1,0,8,0],[9,0,12,0]]}
["Customer Class Primary","Education","Entertainment/Public Assembly","Food Sales","Food Service","Healthcare","Industrial/Technology","Lodging","Mercantile","Multifamily","Office ","Public Order/Safety","Religious Worship","Service","Warehouse/storage","Other"]
["Customer Class Sub ","College/University - private","Casino","Supermarket/Grocery","Restaurant","Hospital","Datacenter","Hotel ","Enclosed and Strip Mall","High-Rise","N/A","Fire Station","N/A","N/A","Distribution Center"]
[null,"College/University - public","Convention, conference, or community center","Wholesale Club/Supercenter","Other","Inpatient","Laboratory ","Nursing Home","Retail (no mall)","Low-Rise",null,"Municipal Building",null,null,"Self-storage"]
[null,"K-12 - private","Fitness center","Other",null,"Medical Office","Laundry ","Residence Hall/Dormitory",null,null,null,"Police Station",null,null,"Warehouse - Nonrefrigerated"]
[null,"K-12 - public ","Ice Rink ",null,null,"Outpatient","Manufacturing","Other",null,null,null,"Prison ",null,null,"Warehouse - Refrigerated "]
[null,"Vocational School","Indoor Arena",null,null,"Other","Pharmacuetical ",null,null,null,null,"Wastewater Treatment Plant",null,null,"Other"]
[null,"Other","Library ",null,null,null,"Other",null,null,null,null,"Other"]
[null,null,"Other"]
[]
["Customer Class Sub II","N/A","N/A","N/A","N/A","N/A","N/A","N/A","N/A","Affordable","N/A","N/A","N/A","N/A","N/A"]
[null,null,null,null,null,null,null,null,null,"Market Rate"]
[null,null,null,null,null,null,null,null,null,"Senior/Assisted"]
[]
[]
["Building Types (for Lighting Run Hours Calculation)","EFLH",null,"ASHRAE Lighting Space by Space"]
["<Select Facility Type>",0,null,"Active Storage"]
["Education – Primary School",1440,null,"Active Storage - For Hospital"]
["Education – Secondary School",2305,null,"Atrium - Each Additional Floor"]
["Education – Community College",3792,null,"Atrium - First Three Floors"]
["Education – University",3073,null,"Audience/Seating Area"]
["Education - Other School",2305,null,"Audience/Seating Area - For Convenience Center"]
["Grocery",5824,null,"Audience/Seating Area - For Exercise Center"]
["Medical – Hospital ",8736,null,"Audience/Seating Area - For Gymnasium"]
["Medical – Clinic",4212,null,"Audience/Seating Area - For Motion Picture Theater"]
["Lodging Hotel (Guest Rooms)",1145,null,"Audience/Seating Area - For Penitentiary"]
["Lodging Motel",8736,null,"Audience/Seating Area - For Performing Arts Theater"]
["Manufacturing – Light Industrial",4290,null,"Audience/Seating Area - For Religious Buildings"]
["Office- Large",2808,null,"Audience/Seating Area - For Sports Arena - Indoor"]
["Office-Small",2808,null,"Audience/Seating Area - For Sports Arena - Outdoor"]
["Residential- Common Area",7665,null,"Audience/Seating Area - For Transportation"]
["Residential- Tenant Area & Related",916,null,"Automotive - Service/Repair"]
["Restaurant – Sit-Down",4368,null,"Bank/Office - Banking Activity Area"]
["Restaurant – Fast-Food",6188,null,"Classroom/Lecture/Training"]
["Retail – 3-Story Large",4259,null,"Classroom/Lecture/Training - For Penitentiary"]
["Retail – Single-Story Large",4368,null,"Conference/Meeting/Multipurpose Room"]
["Retail – Small",4004,null,"Convention Center - Exhibit Space"]
["Storage Conditioned ",4290,null,"Corridor/Transportation"]
["Storage Unconditioned",4290,null,"Corridor/Transportation - For Hospital"]
["Warehouse",3900,null,"Corridor/Transportation - For Manufacturing Facility"]
["Other",4242,null,"Courthouse/Police Station - Confinement Cells"]
[null,null,null,"Courthouse/Police Station - Courtroom"]
[null,null,null,"Courthouse/Police Station - Judges Chambers"]
[null,null,null,"Dining Area"]
[null,null,null,"Dining Area - For Bar Lounge/Leisure Dining"]
[null,null,null,"Dining Area - For Family Dining"]
[null,null,null,"Dining Area - For Hotel"]
[null,null,null,"Dining Area - For Motel"]
[null,null,null,"Dining Area - For Penitentiary"]
[null,null,null,"Dormitory- Living Quarters"]
[null,null,null,"Dressing/Locker/Fitting Room"]
[null,null,null,"Electrical/Mechanical"]
[null,null,null,"Fire Station - Sleeping Quarters"]
[null,null,null,"Fire Station Engine Room"]
[null,null,null,"Food Preparation"]
[null,null,null,"Gymnasium/Exercise Center - Exercise Area"]
[null,null,null,"Gymnasium/Exercise Center - Playing Area"]
[null,null,null,"Hospital - Emergency"]
[null,null,null,"Hospital - Exam/Treatment"]
[null,null,null,"Hospital - Laundry"]
[null,null,null,"Hospital - Medical Supply"]
[null,null,null,"Hospital - Nurse Station"]
[null,null,null,"Hospital - Nursery"]
[null,null,null,"Hospital - Operating Room"]
[null,null,null,"Hospital - Patient Room"]
[null,null,null,"Hospital - Pharmacy"]
[null,null,null,"Hospital - Physical Therapy"]
[null,null,null,"Hospital - Radiology"]
[null,null,null,"Hospital - Recovery"]
[null,null,null,"Hotel/Motel Guest Rooms"]
[null,null,null,"Inactive Storage"]
[null,null,null,"Inactive Storage - For Museum"]
[null,null,null,"Laboratory"]
[null,null,null,"Library - Card File and Cataloging"]
[null,null,null,"Library - Reading Area"]
[null,null,null,"Library - Stacks"]
[null,null,null,"Lobby"]
[null,null,null,"Lobby - For Hotel"]
[null,null,null,"Lobby - For Motion Picture Theater"]
[null,null,null,"Lobby - For Performing Arts Theater"]
[null,null,null,"Lounge/Recreation"]
[null,null,null,"Lounge/Recreation - For Hospital"]
[null,null,null,"Manufacturing - Control Room"]
[null,null,null,"Manufacturing - Detailed Manufacturing"]
[null,null,null,"Manufacturing - Equipment Room"]
[null,null,null,"Manufacturing - High Bay (>=25 ft floor to ceiling height)"]
[null,null,null,"Manufacturing - Low Bay (<25 ft floor to ceiling height)"]
[null,null,null,"Museum - General Exhibition"]
[null,null,null,"Museum - Restoration"]
[null,null,null,"Office-Enclosed"]
[null,null,null,"Office-Open Plan"]
[null,null,null,"Parking Garage"]
[null,null,null,"Post Office- Sorting Area "]
[null,null,null,"Religious Buildings - Fellowship Hall"]
[null,null,null,"Religious Buildings - Worship Pulpit, Choir"]
[null,null,null,"Residential - Apartments"]
[null,null,null,"Residential - Common Areas"]
[null,null,null,"Restrooms"]
[null,null,null,"Retail - Mall Concourse"]
[null,null,null,"Retail - Sales Area"]
[null,null,null,"Sports Arena - Court Sports Arena"]
[null,null,null,"Sports Arena - Indoor Playing Field"]
[null,null,null,"Sports Arena - Ring Sports Arena"]
[null,null,null,"Stairs - Active"]
[null,null,null,"Transportation - Air/Train/Bus - Baggage Area"]
[null,null,null,"Transportation - Airport - Concourse"]
[null,null,null,"Transportation - Terminal - Ticket Counter"]
[null,null,null,"Warehouse - Fine Material Storage"]
[null,null,null,"Warehouse - Medium/Bulky Material Storage"]
[null,null,null,"Workshop"]

{"sheet":"Occupancy","index":19,"n_rows":33,"n_cols":11,"rows_kept":33,"cut":false,"hidden":false,"merged":[[9,4,9,5],[29,2,29,3],[29,4,29,5],[14,2,14,3],[14,4,14,5],[19,2,19,3],[19,4,19,5],[24,2,24,3],[24,4,24,5],[2,1,2,9],[27,10,27,17],[31,10,31,17],[32,10,32,17],[16,10,16,17],[17,10,17,17],[21,10,21,17],[22,10,22,17],[26,10,26,17],[6,10,6,17],[7,10,7,17],[11,10,11,17],[12,10,12,17],[4,2,4,3],[4,4,4,5],[9,2,9,3]]}
[null,"Occupancy Schedules"]
[null,"Instructions"]
[null,"1) Fill out a table for each distinct operating schedule at the facility(ies). Include average occupancy by day.\n2) Use the Additional Notes column to provide additonal detail, including special operating conditions, metering completed, or other information to support your baseline model assumptions.\n3) The Schedule Name should match that used in the model."]
[]
[null,"Schedule Name:",null,null,"Applicable from:",null,null,"to"]
[null,null,"Mon","Tue","Wed","Thu","Fri","Sat","Sun"]
[null,"Hours Open",null,null,null,null,null,null,null,null,"Additional Notes"]
["*\n*","Number of Occupants When Open"]
[]
[null,"Schedule Name:",null,null,"Applicable from:",null,null,"to"]
[null,null,"Mon","Tue","Wed","Thu","Fri","Sat","Sun"]
[null,"Hours Open",null,null,null,null,null,null,null,null,"Additional Notes"]
["*\n*","Number of Occupants When Open"]
[]
[null,"Schedule Name:",null,null,"Applicable from:",null,null,"to"]
[null,null,"Mon","Tue","Wed","Thu","Fri","Sat","Sun"]
[null,"Hours Open",null,null,null,null,null,null,null,null,"Additional Notes"]
["*\n*","Number of Occupants When Open"]
[]
[null,"Schedule Name:",null,null,"Applicable from:",null,null,"to"]
[null,null,"Mon","Tue","Wed","Thu","Fri","Sat","Sun"]
[null,"Hours Open",null,null,null,null,null,null,null,null,"Additional Notes"]
["*\n*","Number of Occupants When Open"]
[]
[null,"Schedule Name:",null,null,"Applicable from:",null,null,"to"]
[null,null,"Mon","Tue","Wed","Thu","Fri","Sat","Sun"]
[null,"Hours Open",null,null,null,null,null,null,null,null,"Additional Notes"]
["*\n*","Number of Occupants When Open"]
[]
[null,"Schedule Name:",null,null,"Applicable from:",null,null,"to"]
[null,null,"Mon","Tue","Wed","Thu","Fri","Sat","Sun"]
[null,"Hours Open",null,null,null,null,null,null,null,null,"Additional Notes"]
["*\n*","Number of Occupants When Open"]

{"sheet":"Envelope","index":20,"n_rows":60,"n_cols":15,"rows_kept":60,"cut":false,"hidden":false,"merged":[[2,1,2,11],[29,7,29,17],[30,7,30,17],[31,7,31,17],[34,7,34,17],[35,7,35,17],[36,7,36,17],[37,7,37,17],[38,7,38,17],[17,14,17,17],[18,14,18,17],[19,14,19,17],[5,7,5,11],[6,7,6,11],[7,7,7,11],[8,7,8,11],[9,7,9,11],[10,7,10,11],[11,7,11,11],[14,3,14,4],[15,3,15,4],[16,3,16,4],[12,7,12,11],[13,7,13,11],[14,7,14,11],[15,7,15,11],[16,7,16,11],[5,3,5,4],[6,3,6,4],[7,3,7,4],[8,3,8,4],[9,3,9,4],[10,3,10,4],[11,3,11,4],[12,3,12,4],[24,3,24,4],[25,3,25,4],[26,3,26,4],[27,3,27,4],[28,3,28,4],[20,14,20,17],[21,14,21,17],[22,14,22,17],[23,3,23,4],[23,5,23,6],[23,7,23,8],[23,11,23,17],[24,11,24,17],[25,11,25,17],[26,11,26,17],[27,11,27,17],[28,11,28,17],[24,7,24,8],[25,7,25,8],[26,7,26,8],[27,7,27,8],[28,7,28,8],[24,5,24,6],[25,5,25,6],[28,5,28,6],[59,3,59,4],[59,5,59,6],[55,7,55,17],[56,7,56,17],[57,7,57,17],[58,7,58,17],[59,7,59,17],[56,3,56,4],[58,3,58,4],[58,5,58,6],[32,7,32,17],[33,7,33,17],[40,7,40,17],[41,7,41,17],[42,7,42,17],[39,7,39,17],[48,1,49,1],[48,3,48,4],[48,5,48,6],[49,3,49,4],[49,5,49,6],[52,7,52,17],[53,7,53,17],[54,7,54,17],[55,3,55,4],[54,3,54,4],[54,5,54,6],[48,7,48,17],[49,7,49,17],[50,7,50,17],[44,1,47,1],[44,3,44,4],[44,5,44,6],[45,3,45,4],[45,5,45,6],[47,3,47,4],[47,5,47,6],[46,3,46,4],[46,5,46,6],[34,1,35,1],[34,3,34,4],[34,5,34,6],[35,3,35,4],[35,5,35,6],[36,1,43,1],[36,3,36,4],[36,5,36,6],[37,3,37,4],[37,5,37,6],[38,3,38,4],[38,5,38,6],[41,3,41,4],[41,5,41,6],[42,3,42,4],[42,5,42,6],[43,3,43,4],[43,5,43,6],[39,3,39,4],[39,5,39,6],[40,3,40,4],[40,5,40,6],[32,1,33,1],[32,3,32,4],[32,5,32,6],[33,3,33,4],[33,5,33,6],[30,1,31,1],[30,3,30,4],[30,5,30,6],[31,3,31,4],[31,5,31,6],[4,2,4,11],[57,3,57,4],[55,5,55,6],[56,5,56,6],[57,5,57,6],[29,3,29,4],[29,5,29,6],[43,7,43,17],[44,7,44,17],[45,7,45,17],[46,7,46,17],[47,7,47,17],[51,7,51,17],[50,3,50,4],[50,5,50,6],[51,3,51,4],[51,5,51,6],[52,3,52,4],[52,5,52,6],[53,3,53,4],[53,5,53,6],[13,3,13,4],[26,5,26,6],[27,5,27,6]]}
[null,"Envelope Summary"]
[null,"Instructions"]
[null,"1) Enter envelope information obtained on the site visit in the tables below.  This tab should be completed to the fullest extent possible.  \n2) The data entered on this tab should represent ALL buildings in the project.\n3) Read the notes indicated by red corners to assist in properly completing this tab.\n4) Use the \"Measure ?\" column to indicate items that are affected by the proposed workscope. Reference Program Guidelines v4.0, Section 4.6.3 for data required for envelope measures.\n5) Use the Additional Notes column to provide additonal detail, including special operating conditions, metering completed, or other information to support your baseline model assumptions.\n"]
[]
["*\n*","General Building/Envelope Description "]
[null,"Envelope Components","Measure?","Construction Type/Description",null,"Total R-value ","Verification Method","Additional Notes"]
["*\n*","Above Grade Exterior Walls"]
["*\n*","Floor Perimeter/ Rim Joists"]
["*\n*","Below Grade Walls"]
["*\n*","Floor Above Unconditioned Space"]
["*\n*","Slab On/Below Grade"]
["*\n*","Roof"]
["*\n*","Ceilings to Unconditioned Attics"]
["*\n*","Wall to Unconditioned Space"]
["*\n*"]
["*\n*"]
["*\n*"]
[null,"Windows","Measure?","Window Type","Frame Type","Condition","Typical Size\n(H x W)","# of Panes","Gas Filled","Glass Coating","U-value","Weather-stripping","Age\n(yrs)","Qty. ","Additional Notes"]
[null,"Window Type 1"]
[null,"Window Type 2"]
[null,"Window Type 3"]
[null,"Window Type 4"]
[null,"Window Type 5"]
[null,"Exterior Doors","Measure?","Material",null,"% Glazing",null,"Glazing Type",null,"Weather-stripping","Qty.","Additional Notes"]
[null,"Door Type 1"]
[null,"Door Type 2"]
[null,"Door Type 3"]
[null,"Door Type 4"]
[null,"Door Type 5"]
[null,"Air Infiltration","Measure?","Location of Leakage",null,"Tightness",null,"Additional Notes"]
[null,"Windows",null,"Frame",null,"",null,""]
[null,null,null,"Moving Surfaces"]
[null,"Exterior Doors",null,"Frame"]
[null,null,null,"Moving Surfaces"]
[null,"Laundry Room",null,"Dryer Vent"]
[null,null,null,"Exhaust Fans"]
[null,"Attic/Roof ",null,"Hatch Frame"]
[null,null,null,"Hatch Door"]
[null,null,null,"Pipe Penetrations"]
[null,null,null,"Electrical Boxes"]
[null,null,null,"Recessed Lights"]
[null,null,null,"Wall Caps"]
[null,null,null,"Exhaust Fans"]
[null,null,null,"Open Chases"]
[null,"Exterior Walls ",null,"Pipe Penetrations",null,""]
[null,null,null,"Exhaust Fans",null,"",null,""]
[null,null,null,"Electrical Boxes",null,"",null,""]
[null,null,null,"Patio Doors",null,"",null,""]
[null,"AC Sleeves",null,"Sleeve-to-wall Junction",null,"",null,""]
[null,null,null,"Unit Fit in Sleeve",null,"",null,""]
[null,"Basement Penetrations",null,"",null,"",null,""]
[null,"Roof Penetrations",null,"",null,"",null,""]
[null,"Elevator Penthouses",null,"",null,"",null,""]
[null,"Stairwells",null,"",null,"",null,""]
[null,null,null,"",null,"",null,""]
[]
[]
[]
[null,null,null,"",null,"",null,""]
[null,null,null,"",null,"",null,""]

{"sheet":"Air-sealing","index":21,"n_rows":57,"n_cols":15,"rows_kept":57,"cut":false,"hidden":false,"merged":[[15,1,15,2],[15,6,15,8],[1,1,1,2],[4,1,5,1],[7,1,10,1],[12,1,13,1],[28,1,34,1],[21,1,22,1],[21,2,22,2],[21,3,21,4],[21,6,22,6],[21,11,22,11],[21,12,22,12],[21,13,22,13],[21,14,22,14],[23,1,26,1],[21,7,21,8],[21,10,22,10],[36,1,39,1],[42,1,43,1],[44,1,45,1],[46,1,51,1],[52,1,55,1]]}
[null,"Air Sealing Measures - Supplemental Worksheet "]
[null,"Instructions"]
[null,"This table MUST be used if air sealing measures are included in your workscope. Reference Program Guidelines v4.0, Section 4.6.3 for additional information pertaining to air-sealing measures."]
[]
[null,"Step 1 - Fill in Table 1","a) Enter whole building Pre-retrofit unadjusted Infiltration in the first row of Table 1. "]
[null,null,"b) Enter average building height and gross conditioned floor area"]
[]
[null,"Step 2 - Fill in Table 2","Enter pre- and post- retrofit conditions for each measure included in the scope of work."]
[null,null,"    Select pre-retrofit description from the dropdown list in Column B, then select corresponding post-retrofit condition in Column F."]
[null,null,"    Enter quantities of each measure in the specified units."]
[null,null,"    If replacement windows or doors are selected, enter specified leakage rating in the NFRC AL column (http://www.nfrc.org/WindowRatings/Energy-Ratings.html) "]
[]
[null,"Step 3 - Enter results from Table 3 into simulation tool","Calculated post-retrofit infiltration (unadjusted for mechanical ventilation) is shown in Table 3"]
[]
[]
[null,"Table 1 - Total Pre-Retrofit Air Leakage and General Building Data",null,null,null,null,"Table 3 - Total Post-Retrofit Air Leakage "]
[null,"Pre-Retrofit Average Infiltration",null,"ACH",null,null,"Post-Retrofit Average Infiltration",{"$f":"IF(ISNUMBER(C17),C17-H18,\"\")","v":""},"ACH"]
[null,"Building Height",null,"ft",null,null,"Infiltration Reduction",{"$f":"IF(C17=0,0,IF(SUM(N24:N56)/C17>0.38,C17*0.38,SUM(N24:N56)))","v":0},"ACH"]
[null,"Gross Conditioned Floor Area",{"$f":"'Area Identification'!$C$9","v":0},"sq ft",null,null,"Average Percentage Reduction",{"$f":"IF(SUM(O24:O56)>0.38,0.38,SUM(O24:O56))","v":0}]
[]
[null,"Table 2 - Detailed Description of Pre- and Post-retrofit Conditions for Proposed Measures"]
[null,"Building Component Category","Pre-Retrofit Condition","Pre-Retrofit",null,null,"Post-Retrofit Condition","Post-Retrofit",null,null,"NFRC AL","Equivalent ELA","ELA difference, sq in (reduction is neg)","ACH Reduction","Percent Reduction"]
[null,null,null,"Qty","Units","ELA",null,"Qty","Units","ELA"]
[null,"Ceiling/ Ceiling Penetrations","-",null,{"$f":"VLOOKUP(C24,'SG - Component'!$B$4:$D$13,3,FALSE)","v":"N/A"},{"$f":"VLOOKUP(C24,'SG - Component'!$B$4:$D$13,2,FALSE)","v":"-"},"-",null,{"$f":"VLOOKUP(G24,'SG - Component'!$B$4:$D$13,3,FALSE)","v":"N/A"},{"$f":"VLOOKUP(G24,'SG - Component'!$B$4:$D$13,2,FALSE)","v":"-"},null,{"$f":"IF(ISNUMBER(K24),H24*K24*0.038,\"\")","v":""},{"$f":"IF(ISNUMBER(-F24*D24+J24*H24),-F24*D24+J24*H24,IF(ISNUMBER(L24),-D24*F24+L24,\"\"))","v":""},{"$f":"IF(ISNUMBER(M24),-6.944*(M24/$C$19)*($C$18/8)^(0.3),\"\")","v":""},{"$f":"IF(ISNUMBER(N24/$C$17),N24/$C$17,\"\")","v":""}]
[null,null,"-",null,{"$f":"VLOOKUP(C25,'SG - Component'!$B$4:$D$13,3,FALSE)","v":"N/A"},{"$f":"VLOOKUP(C25,'SG - Component'!$B$4:$D$13,2,FALSE)","v":"-"},"-",null,{"$f":"VLOOKUP(G25,'SG - Component'!$B$4:$D$13,3,FALSE)","v":"N/A"},{"$f":"VLOOKUP(G25,'SG - Component'!$B$4:$D$13,2,FALSE)","v":"-"},null,"","",{"$f":"IF(ISNUMBER(M25),-6.944*(M25/$C$19)*($C$18/8)^(0.3),\"\")","v":""},{"$f":"IF(ISNUMBER(N25/$C$17),N25/$C$17,\"\")","v":""}]
[null,null,"-",null,{"$f":"VLOOKUP(C26,'SG - Component'!$B$4:$D$13,3,FALSE)","v":"N/A"},{"$f":"VLOOKUP(C26,'SG - Component'!$B$4:$D$13,2,FALSE)","v":"-"},"-",null,{"$f":"VLOOKUP(G26,'SG - Component'!$B$4:$D$13,3,FALSE)","v":"N/A"},{"$f":"VLOOKUP(G26,'SG - Component'!$B$4:$D$13,2,FALSE)","v":"-"},null,"","",{"$f":"IF(ISNUMBER(M26),-6.944*(M26/$C$19)*($C$18/8)^(0.3),\"\")","v":""},{"$f":"IF(ISNUMBER(N26/$C$17),N26/$C$17,\"\")","v":""}]
[null,null,"-",null,{"$f":"VLOOKUP(C27,'SG - Component'!$B$4:$D$13,3,FALSE)","v":"N/A"},{"$f":"VLOOKUP(C27,'SG - Component'!$B$4:$D$13,2,FALSE)","v":"-"},"-",null,{"$f":"VLOOKUP(G27,'SG - Component'!$B$4:$D$13,3,FALSE)","v":"N/A"},{"$f":"VLOOKUP(G27,'SG - Component'!$B$4:$D$13,2,FALSE)","v":"-"},null,"","",{"$f":"IF(ISNUMBER(M27),-6.944*(M27/$C$19)*($C$18/8)^(0.3),\"\")","v":""},{"$f":"IF(ISNUMBER(N27/$C$17),N27/$C$17,\"\")","v":""}]
[null,"Crawl Space","-",null,{"$f":"VLOOKUP(C28,'SG - Component'!$B$14:$D$17,3,FALSE)","v":"N/A"},{"$f":"VLOOKUP(C28,'SG - Component'!$B$14:$D$17,2,FALSE)","v":"-"},"-",null,{"$f":"VLOOKUP(G28,'SG - Component'!$B$14:$D$17,3,FALSE)","v":"N/A"},{"$f":"VLOOKUP(G28,'SG - Component'!$B$14:$D$17,2,FALSE)","v":"-"},null,"","",{"$f":"IF(ISNUMBER(M28),-6.944*(M28/$C$19)*($C$18/8)^(0.3),\"\")","v":""},{"$f":"IF(ISNUMBER(N28/$C$17),N28/$C$17,\"\")","v":""}]
[null,"Door/ Door Framing","-",null,{"$f":"VLOOKUP(C29,'SG - Component'!$B$18:$D$46,3,FALSE)","v":"N/A"},{"$f":"VLOOKUP(C29,'SG - Component'!$B$18:$D$46,2,FALSE)","v":"-"},"-",null,{"$f":"VLOOKUP(G29,'SG - Component'!$B$18:$D$46,3,FALSE)","v":"N/A"},{"$f":"VLOOKUP(G29,'SG - Component'!$B$18:$D$46,2,FALSE)","v":"-"},null,"","",{"$f":"IF(ISNUMBER(M29),-6.944*(M29/$C$19)*($C$18/8)^(0.3),\"\")","v":""},""]
[null,null,"-",null,{"$f":"VLOOKUP(C30,'SG - Component'!$B$18:$D$46,3,FALSE)","v":"N/A"},{"$f":"VLOOKUP(C30,'SG - Component'!$B$18:$D$46,2,FALSE)","v":"-"},"-",null,{"$f":"VLOOKUP(G30,'SG - Component'!$B$18:$D$46,3,FALSE)","v":"N/A"},{"$f":"VLOOKUP(G30,'SG - Component'!$B$18:$D$46,2,FALSE)","v":"-"},null,"","","",""]
[null,null,"-",null,{"$f":"VLOOKUP(C31,'SG - Component'!$B$18:$D$46,3,FALSE)","v":"N/A"},{"$f":"VLOOKUP(C31,'SG - Component'!$B$18:$D$46,2,FALSE)","v":"-"},"-",null,{"$f":"VLOOKUP(G31,'SG - Component'!$B$18:$D$46,3,FALSE)","v":"N/A"},{"$f":"VLOOKUP(G31,'SG - Component'!$B$18:$D$46,2,FALSE)","v":"-"},null,"","","",""]
[null,null,"-",null,{"$f":"VLOOKUP(C32,'SG - Component'!$B$18:$D$46,3,FALSE)","v":"N/A"},{"$f":"VLOOKUP(C32,'SG - Component'!$B$18:$D$46,2,FALSE)","v":"-"},"-",null,{"$f":"VLOOKUP(G32,'SG - Component'!$B$18:$D$46,3,FALSE)","v":"N/A"},{"$f":"VLOOKUP(G32,'SG - Component'!$B$18:$D$46,2,FALSE)","v":"-"},null,{"$f":"IF(ISNUMBER(K32),H32*K32*0.038,\"\")","v":""},{"$f":"IF(ISNUMBER(-F32*D32+J32*H32),-F32*D32+J32*H32,IF(ISNUMBER(L32),-D32*F32+L32,\"\"))","v":""},{"$f":"IF(ISNUMBER(M32),-6.944*(M32/$C$19)*($C$18/8)^(0.3),\"\")","v":""},{"$f":"IF(ISNUMBER(N32/$C$17),N32/$C$17,\"\")","v":""}]
[null,null,"-",null,{"$f":"VLOOKUP(C33,'SG - Component'!$B$18:$D$46,3,FALSE)","v":"N/A"},{"$f":"VLOOKUP(C33,'SG - Component'!$B$18:$D$46,2,FALSE)","v":"-"},"-",null,{"$f":"VLOOKUP(G33,'SG - Component'!$B$18:$D$46,3,FALSE)","v":"N/A"},{"$f":"VLOOKUP(G33,'SG - Component'!$B$18:$D$46,2,FALSE)","v":"-"},null,{"$f":"IF(ISNUMBER(K33),H33*K33*0.038,\"\")","v":""},{"$f":"IF(ISNUMBER(-F33*D33+J33*H33),-F33*D33+J33*H33,IF(ISNUMBER(L33),-D33*F33+L33,\"\"))","v":""},{"$f":"IF(ISNUMBER(M33),-6.944*(M33/$C$19)*($C$18/8)^(0.3),\"\")","v":""},{"$f":"IF(ISNUMBER(N33/$C$17),N33/$C$17,\"\")","v":""}]
[null,null,"-",null,{"$f":"VLOOKUP(C34,'SG - Component'!$B$18:$D$46,3,FALSE)","v":"N/A"},{"$f":"VLOOKUP(C34,'SG - Component'!$B$18:$D$46,2,FALSE)","v":"-"},"-",null,{"$f":"VLOOKUP(G34,'SG - Component'!$B$18:$D$46,3,FALSE)","v":"N/A"},{"$f":"VLOOKUP(G34,'SG - Component'!$B$18:$D$46,2,FALSE)","v":"-"},null,{"$f":"IF(ISNUMBER(K34),H34*K34*0.038,\"\")","v":""},{"$f":"IF(ISNUMBER(-F34*D34+J34*H34),-F34*D34+J34*H34,IF(ISNUMBER(L34),-D34*F34+L34,\"\"))","v":""},{"$f":"IF(ISNUMBER(M34),-6.944*(M34/$C$19)*($C$18/8)^(0.3),\"\")","v":""},{"$f":"IF(ISNUMBER(N34/$C$17),N34/$C$17,\"\")","v":""}]
[null,null,"-",null,{"$f":"VLOOKUP(C35,'SG - Component'!$B$18:$D$46,3,FALSE)","v":"N/A"},{"$f":"VLOOKUP(C35,'SG - Component'!$B$18:$D$46,2,FALSE)","v":"-"},"-",null,{"$f":"VLOOKUP(G35,'SG - Component'!$B$18:$D$46,3,FALSE)","v":"N/A"},{"$f":"VLOOKUP(G35,'SG - Component'!$B$18:$D$46,2,FALSE)","v":"-"},null,{"$f":"IF(ISNUMBER(K35),H35*K35*0.038,\"\")","v":""},{"$f":"IF(ISNUMBER(-F35*D35+J35*H35),-F35*D35+J35*H35,IF(ISNUMBER(L35),-D35*F35+L35,\"\"))","v":""},{"$f":"IF(ISNUMBER(M35),-6.944*(M35/$C$19)*($C$18/8)^(0.3),\"\")","v":""},{"$f":"IF(ISNUMBER(N35/$C$17),N35/$C$17,\"\")","v":""}]
[null,"Electrical Outlets","-",null,{"$f":"VLOOKUP(C36,'SG - Component'!$B$47:$D$49,3,FALSE)","v":"N/A"},{"$f":"VLOOKUP(C36,'SG - Component'!$B$47:$D$49,2,FALSE)","v":"-"},"-",null,{"$f":"VLOOKUP(G36,'SG - Component'!$B$47:$D$49,3,FALSE)","v":"N/A"},{"$f":"VLOOKUP(G36,'SG - Component'!$B$47:$D$49,2,FALSE)","v":"-"},null,"","","",""]
[null,"Exterior Walls","-",null,{"$f":"VLOOKUP(C37,'SG - Component'!$B$50:$D$59,3,FALSE)","v":"N/A"},{"$f":"VLOOKUP(C37,'SG - Component'!$B$50:$C$59,2,FALSE)","v":"-"},"-",null,{"$f":"VLOOKUP(G37,'SG - Component'!$B$50:$D$59,3,FALSE)","v":"N/A"},{"$f":"VLOOKUP(G37,'SG - Component'!$B$50:$C$59,2,FALSE)","v":"-"},null,"","","",""]
[null,null,"-",null,{"$f":"VLOOKUP(C38,'SG - Component'!$B$50:$D$59,3,FALSE)","v":"N/A"},{"$f":"VLOOKUP(C38,'SG - Component'!$B$50:$C$59,2,FALSE)","v":"-"},"-",null,{"$f":"VLOOKUP(G38,'SG - Component'!$B$50:$D$59,3,FALSE)","v":"N/A"},{"$f":"VLOOKUP(G38,'SG - Component'!$B$50:$C$59,2,FALSE)","v":"-"},null,"","",{"$f":"IF(ISNUMBER(M38),-6.944*(M38/$C$19)*($C$18/8)^(0.3),\"\")","v":""},{"$f":"IF(ISNUMBER(N38/$C$17),N38/$C$17,\"\")","v":""}]
[null,null,"-",null,{"$f":"VLOOKUP(C39,'SG - Component'!$B$50:$D$59,3,FALSE)","v":"N/A"},{"$f":"VLOOKUP(C39,'SG - Component'!$B$50:$C$59,2,FALSE)","v":"-"},"-",null,{"$f":"VLOOKUP(G39,'SG - Component'!$B$50:$D$59,3,FALSE)","v":"N/A"},{"$f":"VLOOKUP(G39,'SG - Component'!$B$50:$C$59,2,FALSE)","v":"-"},null,"","",{"$f":"IF(ISNUMBER(M39),-6.944*(M39/$C$19)*($C$18/8)^(0.3),\"\")","v":""},{"$f":"IF(ISNUMBER(N39/$C$17),N39/$C$17,\"\")","v":""}]
[null,null,"-",null,{"$f":"VLOOKUP(C40,'SG - Component'!$B$50:$D$59,3,FALSE)","v":"N/A"},{"$f":"VLOOKUP(C40,'SG - Component'!$B$50:$C$59,2,FALSE)","v":"-"},"-",null,{"$f":"VLOOKUP(G40,'SG - Component'!$B$50:$D$59,3,FALSE)","v":"N/A"},{"$f":"VLOOKUP(G40,'SG - Component'!$B$50:$C$59,2,FALSE)","v":"-"},null,"","","",""]
[null,"Fireplace","-",null,{"$f":"VLOOKUP(C41,'SG - Component'!$B$60:$D$63,3,FALSE)","v":"N/A"},{"$f":"VLOOKUP(C41,'SG - Component'!$B$60:$D$63,2,FALSE)","v":"-"},"-",null,{"$f":"VLOOKUP(G41,'SG - Component'!$B$60:$D$63,3,FALSE)","v":"N/A"},{"$f":"VLOOKUP(G41,'SG - Component'!$B$60:$D$63,2,FALSE)","v":"-"},null,"","","",""]
[null,"Floor Over Crawl Space","-",null,{"$f":"VLOOKUP(C42,'SG - Component'!$B$64:$D$67,3,FALSE)","v":"N/A"},{"$f":"VLOOKUP(C42,'SG - Component'!$B$64:$D$67,2,FALSE)","v":"-"},"-",null,{"$f":"VLOOKUP(G42,'SG - Component'!$B$64:$D$67,3,FALSE)","v":"N/A"},{"$f":"VLOOKUP(G42,'SG - Component'!$B$64:$D$67,2,FALSE)","v":"-"},null,"","","",""]
[null,"Joints","-",null,{"$f":"VLOOKUP(C43,'SG - Component'!$B$68:$D$73,3,FALSE)","v":"N/A"},{"$f":"VLOOKUP(C43,'SG - Component'!$B$68:$C$73,2,FALSE)","v":"-"},"-",null,{"$f":"VLOOKUP(G43,'SG - Component'!$B$68:$D$73,3,FALSE)","v":"N/A"},{"$f":"VLOOKUP(G43,'SG - Component'!$B$68:$C$73,2,FALSE)","v":"-"},null,"","","",""]
[null,null,"-",null,{"$f":"VLOOKUP(C44,'SG - Component'!$B$68:$D$73,3,FALSE)","v":"N/A"},{"$f":"VLOOKUP(C44,'SG - Component'!$B$68:$C$73,2,FALSE)","v":"-"},"-",null,{"$f":"VLOOKUP(G44,'SG - Component'!$B$68:$D$73,3,FALSE)","v":"N/A"},{"$f":"VLOOKUP(G44,'SG - Component'!$B$68:$C$73,2,FALSE)","v":"-"},null,"","","",""]
[null,"Penetrations","-",null,{"$f":"VLOOKUP(C45,'SG - Component'!$B$74:$D$79,3,FALSE)","v":"N/A"},{"$f":"VLOOKUP(C45,'SG - Component'!$B$74:$D$79,2,FALSE)","v":"-"},"-",null,{"$f":"VLOOKUP(G45,'SG - Component'!$B$74:$D$79,3,FALSE)","v":"N/A"},{"$f":"VLOOKUP(G45,'SG - Component'!$B$74:$D$79,2,FALSE)","v":"-"},null,"","","",""]
[null,null,"-",null,{"$f":"VLOOKUP(C46,'SG - Component'!$B$74:$D$79,3,FALSE)","v":"N/A"},{"$f":"VLOOKUP(C46,'SG - Component'!$B$74:$D$79,2,FALSE)","v":"-"},"-",null,{"$f":"VLOOKUP(G46,'SG - Component'!$B$74:$D$79,3,FALSE)","v":"N/A"},{"$f":"VLOOKUP(G46,'SG - Component'!$B$74:$D$79,2,FALSE)","v":"-"},null,"","","",""]
[null,"Window/ Window Framing","-",null,{"$f":"VLOOKUP(C47,'SG - Component'!$B$80:$D$106,3,FALSE)","v":"N/A"},{"$f":"VLOOKUP(C47,'SG - Component'!$B$80:$D$106,2,FALSE)","v":"-"},"-",null,{"$f":"VLOOKUP(G47,'SG - Component'!$B$80:$D$106,3,FALSE)","v":"N/A"},{"$f":"VLOOKUP(G47,'SG - Component'!$B$80:$D$106,2,FALSE)","v":"-"},null,"","","",""]
[null,null,"-",null,{"$f":"VLOOKUP(C48,'SG - Component'!$B$80:$D$106,3,FALSE)","v":"N/A"},{"$f":"VLOOKUP(C48,'SG - Component'!$B$80:$D$106,2,FALSE)","v":"-"},"-",null,{"$f":"VLOOKUP(G48,'SG - Component'!$B$80:$D$106,3,FALSE)","v":"N/A"},{"$f":"VLOOKUP(G48,'SG - Component'!$B$80:$D$106,2,FALSE)","v":"-"},null,"",{"$f":"IF(ISNUMBER(-F48*D48+J48*H48),-F48*D48+J48*H48,IF(ISNUMBER(L48),-D48*F48+L48,\"\"))","v":""},{"$f":"IF(ISNUMBER(M48),-6.944*(M48/$C$19)*($C$18/8)^(0.3),\"\")","v":""},{"$f":"IF(ISNUMBER(N48/$C$17),N48/$C$17,\"\")","v":""}]
[null,null,"-",null,{"$f":"VLOOKUP(C49,'SG - Component'!$B$80:$D$106,3,FALSE)","v":"N/A"},{"$f":"VLOOKUP(C49,'SG - Component'!$B$80:$D$106,2,FALSE)","v":"-"},"-",null,{"$f":"VLOOKUP(G49,'SG - Component'!$B$80:$D$106,3,FALSE)","v":"N/A"},{"$f":"VLOOKUP(G49,'SG - Component'!$B$80:$D$106,2,FALSE)","v":"-"},null,"",{"$f":"IF(ISNUMBER(-F49*D49+J49*H49),-F49*D49+J49*H49,IF(ISNUMBER(L49),-D49*F49+L49,\"\"))","v":""},{"$f":"IF(ISNUMBER(M49),-6.944*(M49/$C$19)*($C$18/8)^(0.3),\"\")","v":""},{"$f":"IF(ISNUMBER(N49/$C$17),N49/$C$17,\"\")","v":""}]
[null,null,"-",null,{"$f":"VLOOKUP(C50,'SG - Component'!$B$80:$D$106,3,FALSE)","v":"N/A"},{"$f":"VLOOKUP(C50,'SG - Component'!$B$80:$D$106,2,FALSE)","v":"-"},"-",null,{"$f":"VLOOKUP(G50,'SG - Component'!$B$80:$D$106,3,FALSE)","v":"N/A"},{"$f":"VLOOKUP(G50,'SG - Component'!$B$80:$D$106,2,FALSE)","v":"-"},null,"",{"$f":"IF(ISNUMBER(-F50*D50+J50*H50),-F50*D50+J50*H50,IF(ISNUMBER(L50),-D50*F50+L50,\"\"))","v":""},"",""]
[null,null,"-",null,{"$f":"VLOOKUP(C51,'SG - Component'!$B$80:$D$106,3,FALSE)","v":"N/A"},{"$f":"VLOOKUP(C51,'SG - Component'!$B$80:$D$106,2,FALSE)","v":"-"},"-",null,{"$f":"VLOOKUP(G51,'SG - Component'!$B$80:$D$106,3,FALSE)","v":"N/A"},{"$f":"VLOOKUP(G51,'SG - Component'!$B$80:$D$106,2,FALSE)","v":"-"},null,"",{"$f":"IF(ISNUMBER(-F51*D51+J51*H51),-F51*D51+J51*H51,IF(ISNUMBER(L51),-D51*F51+L51,\"\"))","v":""},"",""]
[null,null,"-",null,{"$f":"VLOOKUP(C52,'SG - Component'!$B$80:$D$106,3,FALSE)","v":"N/A"},{"$f":"VLOOKUP(C52,'SG - Component'!$B$80:$D$106,2,FALSE)","v":"-"},"-",null,{"$f":"VLOOKUP(G52,'SG - Component'!$B$80:$D$106,3,FALSE)","v":"N/A"},{"$f":"VLOOKUP(G52,'SG - Component'!$B$80:$D$106,2,FALSE)","v":"-"},null,"",{"$f":"IF(ISNUMBER(-F52*D52+J52*H52),-F52*D52+J52*H52,IF(ISNUMBER(L52),-D52*F52+L52,\"\"))","v":""},"",""]
[null,"Vents","-",null,{"$f":"VLOOKUP(C53,'SG - Component'!$B$107:$D$116,3,FALSE)","v":"N/A"},{"$f":"VLOOKUP(C53,'SG - Component'!$B$107:$D$116,2,FALSE)","v":"-"},"-",null,{"$f":"VLOOKUP(G53,'SG - Component'!$B$107:$D$116,3,FALSE)","v":"N/A"},{"$f":"VLOOKUP(G53,'SG - Component'!$B$107:$D$116,2,FALSE)","v":"-"},null,"","","",""]
[null,null,"-",null,{"$f":"VLOOKUP(C54,'SG - Component'!$B$107:$D$116,3,FALSE)","v":"N/A"},{"$f":"VLOOKUP(C54,'SG - Component'!$B$107:$D$116,2,FALSE)","v":"-"},"-",null,{"$f":"VLOOKUP(G54,'SG - Component'!$B$107:$D$116,3,FALSE)","v":"N/A"},{"$f":"VLOOKUP(G54,'SG - Component'!$B$107:$D$116,2,FALSE)","v":"-"},null,"","","",""]
[null,null,"-",null,{"$f":"VLOOKUP(C55,'SG - Component'!$B$107:$D$116,3,FALSE)","v":"N/A"},{"$f":"VLOOKUP(C55,'SG - Component'!$B$107:$D$116,2,FALSE)","v":"-"},"-",null,{"$f":"VLOOKUP(G55,'SG - Component'!$B$107:$D$116,3,FALSE)","v":"N/A"},{"$f":"VLOOKUP(G55,'SG - Component'!$B$107:$D$116,2,FALSE)","v":"-"},null,"","","",""]
[null,null,"-",null,{"$f":"VLOOKUP(C56,'SG - Component'!$B$107:$D$116,3,FALSE)","v":"N/A"},{"$f":"VLOOKUP(C56,'SG - Component'!$B$107:$D$116,2,FALSE)","v":"-"},"-",null,{"$f":"VLOOKUP(G56,'SG - Component'!$B$107:$D$116,3,FALSE)","v":"N/A"},{"$f":"VLOOKUP(G56,'SG - Component'!$B$107:$D$116,2,FALSE)","v":"-"},null,"",{"$f":"IF(ISNUMBER(-F56*D56+J56*H56),-F56*D56+J56*H56,IF(ISNUMBER(L56),-D56*F56+L56,\"\"))","v":""},"",""]
[null,null,null,null,null,null,null,null,null,null,null,""]

{"sheet":"SG - Component","index":22,"n_rows":123,"n_cols":5,"rows_kept":123,"cut":false,"hidden":true,"merged":[[118,0,118,4],[119,1,119,4],[120,1,120,4],[121,1,121,4]]}
["Air-Sealing Component Drop-Downs"]
[]
[null,null,"ELA, SqIn/unit","Unit"]
["Ceiling/ Ceiling Penetrations","-","-","N/A"]
[null,"General Ceiling (well-sealed)",1.0999999999999999E-2,"ft2 ","2001 ASHRAE Fundamentals"]
[null,"General Ceiling (average)",2.5999999999999999E-2,"ft2 ","2001 ASHRAE Fundamentals"]
[null,"General Ceiling (very-leaky)",0.04,"ft2 ","2001 ASHRAE Fundamentals"]
[null,"Ceiling/ Flue vents (well-sealed)",4.3,"each","2001 ASHRAE Fundamentals"]
[null,"Ceiling/ Flue vents (average to very leaky)",4.8,"each","2001 ASHRAE Fundamentals"]
[null,"Lights, Recessed (well-sealed)",0.23,"each","2001 ASHRAE Fundamentals"]
[null,"Lights, Recessed (average)",1.6,"each","2001 ASHRAE Fundamentals"]
[null,"Lights, Recessed (very leaky)",3.3,"each","2001 ASHRAE Fundamentals"]
[null,"Lights, Surface Mounted (average)",0.13,"each","2001 ASHRAE Fundamentals"]
["Crawl Space","-","-","N/A"]
[null,"Crawl Space/ Open chase (well- sealed)",0.1,"ft2 ","2001 ASHRAE Fundamentals"]
[null,"Crawl Space/ Open chase (average)",0.14399999999999999,"ft2 ","2001 ASHRAE Fundamentals"]
[null,"Crawl Space/ Open chase (very leaky)",0.24,"ft2 ","2001 ASHRAE Fundamentals"]
["Doors","-","-","N/A"]
[null,"Framing- General (well-sealed)",0.37,"each","2001 ASHRAE Fundamentals"]
[null,"Framing- General (average)",1.9,"each","2001 ASHRAE Fundamentals"]
[null,"Framing- General (very leaky)",3.9,"each","2001 ASHRAE Fundamentals"]
[null,"Framing- Masonry, caulked",1.4E-2,"ft2 ","2001 ASHRAE Fundamentals"]
[null,"Framing- Masonry, not caulked",2.4E-2,"ft2 ","2001 ASHRAE Fundamentals"]
[null,"Framing- Wood, caulked",4.0000000000000001E-3,"ft2 ","2001 ASHRAE Fundamentals"]
[null,"Framing- Wood, not caulked",2.4E-2,"ft2 ","2001 ASHRAE Fundamentals"]
[null,"Attic/ Crawl Space, weatherstripped",2.8,"each","2001 ASHRAE Fundamentals"]
[null,"Attic/ Crawl Space, not weatherstripped",4.5999999999999996,"each","2001 ASHRAE Fundamentals"]
[null,"Attic Hatch, not weatherstripped",6.8,"each","2001 ASHRAE Fundamentals"]
[null,"Attic Hatch, weatherstripped",3.4,"each","2001 ASHRAE Fundamentals"]
[null,"Attic Hatch, weatherstripped, insulated",0.6,"each","2001 ASHRAE Fundamentals"]
[null,"Elevator (well-sealed)",2.1999999999999999E-2,"each","2001 ASHRAE Fundamentals"]
[null,"Elevator (average)",0.04,"each","2001 ASHRAE Fundamentals"]
[null,"Double, weatherstripped",0.12,"ft2 ","2001 ASHRAE Fundamentals"]
[null,"Double, not weatherstripped",0.16,"ft2 ","2001 ASHRAE Fundamentals"]
[null,"Interior Stairs (well-sealed)",1.2E-2,"ft (crack)","2001 ASHRAE Fundamentals"]
[null,"Interior Stairs (average)",0.04,"ft (crack)","2001 ASHRAE Fundamentals"]
[null,"Interior Stairs (leaky)",7.0000000000000007E-2,"ft (crack)","2001 ASHRAE Fundamentals"]
[null,"Replacement Doors, cfm/ft known (enter cfm/ft in Additional Info)","-","ft","2001 ASHRAE Fundamentals"]
[null,"Replacement Doors, cfm/sq ft known (enter cfm/sq ft in Additional Info)","-","sq ft","2001 ASHRAE Fundamentals"]
[null,"Single, weatherstripped",1.9,"each","2001 ASHRAE Fundamentals"]
[null,"Single, not weatherstripped",3.3,"each","2001 ASHRAE Fundamentals"]
[null,"Sliding Exterior Glass Patio (well-sealed)",0.46,"each","2001 ASHRAE Fundamentals"]
[null,"Sliding Exterior Glass Patio (average)",3.4,"each","2001 ASHRAE Fundamentals"]
[null,"Sliding Exterior Glass Patio (very leaky)",9.3000000000000007,"each","2001 ASHRAE Fundamentals"]
[null,"Storm (select in addition to other doors)",-0.9,"each","2001 ASHRAE Fundamentals"]
[null,"Vestibule (select in addition to other door)",-1.6,"each","2001 ASHRAE Fundamentals"]
["Electrical Outlets","-","-","N/A"]
[null,"Elec outlets/ switches w/ gaskets",2.3E-2,"each","2001 ASHRAE Fundamentals"]
[null,"Elec outlets/switches w/o gaskets",0.38,"each","2001 ASHRAE Fundamentals"]
["Exterior Wall","-","-","N/A"]
[null,"Clay brick Cavity Wall",9.7999999999999997E-3,"ft2 ","2001 ASHRAE Fundamentals"]
[null,"Continuous Air Infiltration Barrier",2.2000000000000001E-3,"ft2 ","2001 ASHRAE Fundamentals"]
[null,"Heavyweight concrete block",3.5999999999999999E-3,"ft2 ","2001 ASHRAE Fundamentals"]
[null,"Lightweight concrete block, unfinished",0.05,"ft2 ","2001 ASHRAE Fundamentals"]
[null,"Lightweight concrete block, painted or stucco",1.6E-2,"ft2 ","2001 ASHRAE Fundamentals"]
[null,"Rigid Sheathing",5.0000000000000001E-3,"ft2 ","2001 ASHRAE Fundamentals"]
[null,"Wood frame w/ dense packed or wet cellulose",{"$f":"0.004","v":4.0000000000000001E-3},"ft2 ","Estimated [2]"]
[null,"Wood-frame w/o Air Barrier System (average)",7.1000000000000004E-3,"ft2 ","Estimated [2]"]
[null,"Wood-frame w/o Air Barrier System (leaky)",0.01,"ft2 ","Estimated [2]"]
["Fireplace","-","-","N/A"]
[null,"With open damper",5.04,"ft2 ","2001 ASHRAE Fundamentals"]
[null,"With closed damper",0.62,"ft2 ","2001 ASHRAE Fundamentals"]
[null,"With glass door",0.57999999999999996,"ft2 ","2001 ASHRAE Fundamentals"]
["Floor Over Crawl Space","-","-","N/A"]
[null,"Floor over Crawl Space (well- sealed)",6.0000000000000001E-3,"ft2 ","2001 ASHRAE Fundamentals"]
[null,"Floor over Crawl Space (average)",3.2000000000000001E-2,"ft2 ","2001 ASHRAE Fundamentals"]
[null,"Floor over Crawl Space (very leaky)",7.0999999999999994E-2,"ft2 ","2001 ASHRAE Fundamentals"]
["Joints","-","-","N/A"]
[null,"Joint- Floor/Wall caulked",0.04,"ft (crack)","2001 ASHRAE Fundamentals"]
[null,"Joint- Floor/Wall uncaulked",0.2,"ft (crack)","2001 ASHRAE Fundamentals"]
[null,"Joint- Ceiling/Wall (well-sealed)",7.4999999999999997E-3,"ft (crack)","2001 ASHRAE Fundamentals"]
[null,"Joint- Ceiling/Wall (average)",7.0000000000000007E-2,"ft (crack)","2001 ASHRAE Fundamentals"]
[null,"Joint- Ceiling/Wall (very leaky)",0.12,"ft (crack)","2001 ASHRAE Fundamentals"]
["Penetrations","-","-","N/A"]
[null,"Penetrations- Pipes/Wiring, caulked (any size)",0.3,"each","2001 ASHRAE Fundamentals"]
[null,"Penetrations- Pipes/Wiring, uncaulked ",0.9,"each","2001 ASHRAE Fundamentals"]
[null,"Penetrations- Pipes/Wiring, uncaulked (large)",3.7,"each","2001 ASHRAE Fundamentals"]
[null,"Air-conditioner Sleeve, caulked",1.9,"each","Estimated [3]"]
[null,"Air-conditioner Sleeve, uncaulked",3.9,"each","Estimated [3]"]
["Windows","-","-","N/A"]
[null,"Framing- masonry, caulked",1.9E-2,"ft2 ","2001 ASHRAE Fundamentals"]
[null,"Framing- masonry, uncaulked",9.4E-2,"ft2 ","2001 ASHRAE Fundamentals"]
[null,"Framing- wood, caulked",4.0000000000000001E-3,"ft2 ","2001 ASHRAE Fundamentals"]
[null,"Framing- wood, uncaulked",2.5000000000000001E-2,"ft2 ","2001 ASHRAE Fundamentals"]
[null,"Awning/ Hopper, weatherstripped",1.2E-2,"ft2 ","2001 ASHRAE Fundamentals"]
[null,"Awning/ Hopper, not weatherstripped",2.3E-2,"ft2 ","2001 ASHRAE Fundamentals"]
[null,"Casement, weatherstripped",1.0999999999999999E-2,"ft (crack)","2001 ASHRAE Fundamentals"]
[null,"Casement, not weatherstripped",1.2999999999999999E-2,"ft (crack)","2001 ASHRAE Fundamentals"]
[null,"Double hung, with storm, weatherstripped",3.1E-2,"ft (crack)","2001 ASHRAE Fundamentals [1]"]
[null,"Double hung, with storm, not weatherstripped",4.5999999999999999E-2,"ft (crack)","2001 ASHRAE Fundamentals"]
[null,"Double hung, weatherstripped",3.6999999999999998E-2,"ft (crack)","2001 ASHRAE Fundamentals [1]"]
[null,"Double hung, not weatherstripped",0.12,"ft (crack)","2001 ASHRAE Fundamentals"]
[null,"Double horizontal slider, wood, weatherstripped",2.5999999999999999E-2,"ft (crack)","2001 ASHRAE Fundamentals"]
[null,"Double horizontal slider, aluminum, weatherstripped",3.4000000000000002E-2,"ft (crack)","2001 ASHRAE Fundamentals"]
[null,"Double horizontal slider, not weatherstripped",5.1999999999999998E-2,"ft (crack)","2001 ASHRAE Fundamentals"]
[null,"Replacement Windows (enter NFRC AL)","-","ft2 ","2001 ASHRAE Fundamentals"]
[null,"Sill (well-sealed)",6.4999999999999997E-3,"ft (crack)","2001 ASHRAE Fundamentals"]
[null,"Sill (average)",9.9000000000000008E-3,"ft (crack)","2001 ASHRAE Fundamentals"]
[null,"Sill (very leaky)",0.01,"ft (crack)","2001 ASHRAE Fundamentals"]
[null,"Single hung, weatherstripped",4.1000000000000002E-2,"ft (sash)","2001 ASHRAE Fundamentals"]
[null,"Single horizontal slider, aluminum",0.04,"ft (sash)","2001 ASHRAE Fundamentals"]
[null,"Single horizontal slider, wood",2.1000000000000001E-2,"ft (sash)","2001 ASHRAE Fundamentals"]
[null,"Storm Inside, flexible sheet with a mechanical seal",7.1999999999999998E-3,"ft (sash)","2001 ASHRAE Fundamentals"]
[null,"Storm Inside, rigid sheet with magnetic seal",5.5999999999999999E-3,"ft (sash)","2001 ASHRAE Fundamentals"]
[null,"Storm Inside, rigid sheet with mechanical seal",1.9E-2,"ft (sash)","2001 ASHRAE Fundamentals"]
[null,"Storm Outside, pressurized track",2.5000000000000001E-2,"ft (sash)","2001 ASHRAE Fundamentals"]
["Vent","-","-","N/A"]
[null,"Bathroom with damper closed",1.6,"each","2001 ASHRAE Fundamentals"]
[null,"Bathroom with damper open",3.1,"each","2001 ASHRAE Fundamentals"]
[null,"Ceiling/ Flue vents (well-sealed)",4.3,"each","2001 ASHRAE Fundamentals"]
[null,"Ceiling/ Flue vents (average to very leaky)",4.8,"each","2001 ASHRAE Fundamentals"]
[null,"Dryer with damper ",0.46,"each","2001 ASHRAE Fundamentals"]
[null,"Dryer without damper",2.2999999999999998,"each","2001 ASHRAE Fundamentals"]
[null,"Kitchen with tight gasket",0.16,"each","2001 ASHRAE Fundamentals"]
[null,"Kitchen with damper closed",0.8,"each","2001 ASHRAE Fundamentals"]
[null,"Kitchen with damper open",6.2,"each","2001 ASHRAE Fundamentals"]
[]
["[1] In ASHRAE table, double hung with storm is leakier than double hung without storm. Flipped the values for consistency."]
["[2] Estimated based on the following references:"]
[null,"2001 ASHRAE Handbook- Fundamentals. Atlanta: American Society of heating, Refrigerating and Air-Conditioning Engineers, Inc."]
[null,"TenWolde, Anton, Charles Carl, Vyto Malinauskas. 1998. Air Pressures in Wood Frame Walls. Thermal Performance of the Exterior Envelopes of Buildings VII. Clearwater beach, FL."]
[null,"Canada Mortgage and Housing Corporation. Research and Highlight Developments- Wet sprayed cellulose insulation in Wood frame construction. Technical Series 90-240"]
["[3] Estimated assuming that leakage through caulked/un-caulked AC sleeve is similar to leakage through average/very leaky general door framing"]

{"sheet":"Mechanical","index":23,"n_rows":147,"n_cols":29,"rows_kept":147,"cut":false,"hidden":false,"merged":[[2,1,2,7],[2,8,2,12],[52,19,52,22],[53,19,53,22],[54,19,54,22],[55,19,55,22],[56,19,56,22],[57,19,57,22],[58,19,58,22],[5,12,5,13],[5,16,5,17],[34,13,34,14],[34,19,34,22],[35,19,35,22],[36,19,36,22],[37,19,37,22],[38,19,38,22],[42,19,42,22],[5,21,5,23],[59,19,59,22],[43,19,43,22],[44,19,44,22],[45,19,45,22],[46,19,46,22],[47,19,47,22],[48,19,48,22],[49,19,49,22],[50,19,50,22],[51,19,51,22],[143,13,143,20],[88,18,88,20],[89,18,89,20],[92,13,92,20],[93,13,93,20],[94,13,94,20],[95,13,95,20],[96,13,96,20],[97,13,97,20],[98,13,98,20],[102,13,102,20],[103,13,103,20],[104,13,104,20],[105,13,105,20],[106,13,106,20],[107,13,107,20],[108,13,108,20],[77,18,77,20],[78,18,78,20],[79,18,79,20],[80,18,80,20],[81,18,81,20],[87,18,87,20],[136,13,136,20],[137,13,137,20],[116,13,116,20],[117,13,117,20],[132,13,132,20],[133,13,133,20],[118,13,118,20],[119,13,119,20],[125,13,125,20],[126,13,126,20],[127,13,127,20],[128,13,128,20],[129,13,129,20],[130,13,130,20],[131,13,131,20],[153,4,153,15],[154,4,154,15],[99,13,99,20],[100,13,100,20],[101,13,101,20],[120,13,120,20],[121,13,121,20],[122,13,122,20],[123,13,123,20],[124,13,124,20],[134,13,134,20],[135,13,135,20],[109,13,109,20],[110,13,110,20],[111,13,111,20],[112,13,112,20],[113,13,113,20],[114,13,114,20],[115,13,115,20],[138,13,138,20],[139,13,139,20],[140,13,140,20],[141,13,141,20],[142,13,142,20],[150,4,150,15],[151,4,151,15],[152,4,152,15],[91,7,91,12],[39,19,39,22],[40,19,40,22],[41,19,41,22],[64,19,64,22],[65,19,65,22],[66,19,66,22],[67,19,67,22],[68,19,68,22],[69,19,69,22],[70,19,70,22],[84,18,84,20],[85,18,85,20],[76,18,76,20],[82,18,82,20],[83,18,83,20],[73,18,73,20],[74,18,74,20],[75,18,75,20],[60,19,60,22],[86,18,86,20],[61,19,61,22],[62,19,62,22],[63,19,63,22],[155,4,155,15],[156,4,156,15],[157,4,157,15],[158,4,158,15],[146,1,146,2],[147,1,147,2],[148,1,148,2],[149,1,149,2],[150,1,150,2],[151,1,151,2],[152,1,152,2],[153,1,153,2],[154,1,154,2],[155,1,155,2],[156,1,156,2],[157,1,157,2],[158,1,158,2],[146,4,146,15],[147,4,147,15],[148,4,148,15],[149,4,149,15]]}
[null,"Mechanical Schedule"]
[null,"Instructions"]
[null,"1) Fill out the schedules below to describe the mechanical systems at the facility. Enter all data pertianing to each system.\n2) If information is not available, such as due to age of the equipment, input values used in the model. \n3) Use the \"Measure ?\" column to indicate items that are affected by the proposed workscope. Reference Program Guidelines v4.0, Section 4.6.3 for data required for various mechanical measures.\n4) Read the notes indicated by red corners to assist in properly completing this tab.\n5) Use the Additional Notes column to provide additonal detail, including special operating conditions, metering completed, or other information to support your baseline model assumptions. Indicate any obvious problems such as duct leakage, unconnected ducts, clogged grilles, or inoperable fans.",null,null,null,null,null,null,"JUMP TO:"]
[]
[null,"Air-Side HVAC "]
[null,"HVAC ID","Measure?","Equipment Type","Location","Areas Served","Number of Identical Units","Manufacturer","Model #","Year of Mfr","Cooling Type","Cooling Capacity (mbh)","Cooling Efficiency                   ",null,"Heating Type","Heating Capacity\n(mbh)","Heating Efficiency                   ",null,"Additional Zone Heating","Supply Air\n(cfm)","Outside Air\n(cfm)","Fan HP\nSupply                       Return                       Exhaust",null,null,"Supply Air Control","Heat Recovery","Recovery Effectiveness","Economizer","Additional Notes"]
[null,"Example","Yes","Packaged AHU","Roof","Administration",1,"Trane","YSC060",2006,"DX",36.299999999999997,12,"SEER","Gas Furnace",103.4,0.8,"Et","None",1500,150,1,"N/A","N/A","Constant","N/A",null,"None"]
[]
[]
[]
[]
[]
[]
[]
[]
[]
[]
[]
[]
[]
[]
[]
[]
[]
[]
[]
[]
[]
[]
[]
[]
[]
[]
[null,"Boilers and Domestic Water Heaters"]
[null,"Boiler or DHW ID","Measure?","Location","HVAC or Area Served","Number of Identical Units","Manufacturer","Model Number","Year of Mfr","Equipment Type","Distribution Type","Fuel Type","Capacity (mbh)","Efficiency ",null,"Combustion Fan HP","Feedwater Pump HP","Circulation Pump HP","Pump Control","Additional Notes"]
[null,"Example","Yes","Boiler Room","Entire Building",2,"H. B. Smith","Mills 450A-12",{"$f":"2009-23","v":1986},"Hot Water Boiler","Hot Water","Natural Gas",200,70,"AFUE","N/A","N/A",1.5,"Constant Volume"]
[]
[]
[]
[]
[]
[]
[]
[]
[]
[]
[]
[]
[]
[]
[]
[]
[]
[]
[]
[]
[]
[]
[]
[]
[]
[]
[]
[]
[]
[]
[]
[]
[]
[]
[]
[]
[null,"Chillers and Condensers"]
[null,"Chiller ID","Measure?","Location","HVAC Served","Number of Identical Units","Manufacturer","Model Number","Year of Mfr","Equipment Type","Capacity (tons)","Type of Refrigerant","AHRI Rated Full Load Efficiency (kW/ton)","Integrated Part-load Efficiency (IPLV)","Condenser Type","Tower or Condenser Fan HP","Num. of Fans","Condenser Fan Control","Additional Notes"]
[null,"Ex","Yes","Utility Room","All",1,"York Millenium","YKJFBJ4-DHES",2005,"Gas Absorption",1600,"R134a",0.73099999999999998,0.66700000000000004,"Water-cooled",75,1,"VFD"]
[]
[]
[]
[]
[]
[]
[]
[]
[]
[]
[]
[]
[]
[]
[]
[]
[null,"Motors (not already included in above tables)",null,null,null,null,null,"Nameplate Data"]
[null,"Motor ID","Measure?","Number of Identical Units","Loading (constant/ variable)","Affiliated System","Control Type","Manufacturer","Model Number","Motor HP","Nominal Efficiency","Synchronous Speed (RPM)","Type: TEFC or ODP","Additional Notes"]
[null,"Example","Yes",1,"Constant","Hot Water System Pump","Switch","Baldor","UTC-F9R-334-2",1.5,0.75,1730,"ODP"]
[]
[]
[]
[]
[]
[]
[]
[]
[]
[]
[]
[]
[]
[]
[]
[]
[]
[]
[]
[]
[]
[]
[]
[]
[]
[]
[]
[]
[]
[]
[]
[]
[]
[]
[]
[]
[]
[]
[]
[]
[]
[]
[]
[]
[]
[]
[]
[]
[]
[]
[]
[null,"Other Mechanical Systems Not Included Above (including any existing controls, automation, or management systems)"]
[null,"Name of System",null,"Measure?","System Description/Additional Notes"]

{"sheet":"Lighting","index":24,"n_rows":1066,"n_cols":37,"rows_kept":1066,"cut":false,"hidden":false,"merged":[[2,1,2,7],[1015,35,1015,36],[13,35,13,41],[14,35,18,41],[1012,1,1012,6],[1012,7,1012,16],[1012,17,1012,28],[1012,32,1012,33],[5,1,5,6],[5,7,5,16],[5,17,5,28],[8,35,8,36],[5,32,5,33],[5,29,5,30],[1012,29,1012,30]]}
[null,"Lighting Schedule"]
[null,"Instructions"]
[null,"1) Fill out the schedule below to describe the lighting at the facility. Include both interior and exterior lighting (see second table below for exterior lighting table). \n2) Read the notes indicated by red corners to assist in properly completing this tab. \n3) Location information must be detailed enough for the Program to perform a site inspection.\n4) Use the \"Measure ?\" column to indicate items that are affected by the proposed workscope. \n5) Reference Program Guidelines v4.0, Section 4.6.3 for data required for lighting and lighting control measures.Reference Program Guidelines v4.0 Appendix A to ensure proposed fixtures and controls comply with minimum performance standards. \n6) Use the Additional Notes section to the left to provide additonal detail, including special operating conditions, metering completed, or other information to support your baseline model assumptions."]
[]
[null,"Interior Lighting"]
[null,"Location ",null,null,null,null,null,"Existing",null,null,null,null,null,null,null,null,null,"Proposed",null,null,null,null,null,null,null,null,null,null,null,"Savings",null,null,"Annual Runtime Hours "]
[null,null,"Building\n(from 'Area Identification')","Building Area\n(from 'Area Identification')","Building Type\n(from 'Area Identification')","Floor #","Area and/or Room/Unit Number","Fixture Type","Ballast  ","Default Watts / Fixture","Actual Watts/Fixture (if different from default)","Fixture Qty.","Control Type","Default Reduction Factor","Actual Reduction Factor\n(if different from default)","Controls Qty.","Total  Watts","Fixture Measure?","Fixture Type","Ballast  ","Default Watts / Fixture","Actual Watts/Fixture (if different from default)","Fixture Qty.","Controls Measure? ","Control Type","Default Reduction Factor","Actual Reduction Factor\n(if different from default)","Controls Qty.","Total   Watts","Watts Saved","% Savings",null,"Default Annual Hours w/o Controls","Default Annual Hours with Controls"]
[null,"Ex","Building 1 ","Classroom/Lecture/Training","Education – Primary School","Ground Floor","Classroom 101","Fluorescent, (4) 48\", T12 ES lamp, EB","Magnetic",{"$f":"IFERROR(IF(H8=\"\",0,VLOOKUP(H8,Exist_Fix_Table,2,FALSE)),\"N/A\")","v":120},null,2,"Occ. Sensor Ceiling Mount (low volt)",{"$f":"IFERROR(IF(M8=\"\",0,1-VLOOKUP(M8,Prop_Sens_Table,2,FALSE)),\"N/A\")","v":9.9999999999999978E-2},null,null,{"$f":"IF(K8=\"\",J8*L8,K8*L8)","v":240},"Yes","4' T8 4-lamp with EB","Electronic",{"$f":"IFERROR(IF(R8=\"No\",J8,IF(S8=\"\",0,IF(S8=\"**No Upgrade (controls only)**\",J8,VLOOKUP(S8,Prop_Fix_Table,2,FALSE)))),\"N/A\")","v":112},{"$f":"IF($R8=\"No\",K8,\"\")","v":""},2,"Yes","Occ. Sensor Ceiling Mount (line volt)",{"$f":"IFERROR(IF($X8=\"No\",N8,IF(Y8=\"\",0,1-VLOOKUP(Y8,Prop_Sens_Table,2,FALSE))),\"N/A\")","v":9.9999999999999978E-2},null,null,{"$f":"IF($R8=\"\",0,IF(R8=\"No\",Q8,IF(V8=\"\",U8*W8,V8*W8)))","v":224},{"$f":"Q8-AC8","v":16},{"$f":"IFERROR(1-(AC8/Q8),0)","v":6.6666666666666652E-2},null,{"$f":"IF(E8=\"\",\"\",VLOOKUP(E8,BuildingType_RunHours,2,FALSE))","v":1440},{"$f":"IF(Y8=\"\",\"\",(VLOOKUP(Y8,Prop_Sens_Table,2,FALSE)*AG8))","v":1296}]
[null,1,null,null,{"$f":"IFERROR(VLOOKUP(C9,BuildingNameTable,2,FALSE),\"\")","v":""},null,null,null,null,0,null,null,null,0,null,null,{"$f":"IF(K9=\"\",N(J9)*L9,K9*L9)","v":0},null,{"$f":"IF($R9=\"No\",IF(H9=\"\",\"\",H9),\"\")","v":""},{"$f":"IF($R9=\"No\",IF(I9=\"\",\"\",I9),\"\")","v":""},0,{"$f":"IF($R9=\"No\",IF(K9=\"\",\"\",K9),\"\")","v":""},{"$f":"IF($R9=\"No\",IF(L9=\"\",\"\",L9),\"\")","v":""},null,{"$f":"IF($X9=\"No\",IF(M9=\"\",\"\",M9),\"\")","v":""},0,{"$f":"IF($X9=\"No\",IF(O9=\"\",\"\",O9),\"\")","v":""},{"$f":"IF($X9=\"No\",IF(P9=\"\",\"\",P9),\"\")","v":""},{"$f":"IF($R9=\"\", 0,IF(R9=\"No\",Q9,IF(V9=\"\",U9*W9,V9*W9)))","v":0},{"$f":"Q9-AC9","v":0},{"$f":"IFERROR(1-(AC9/Q9),0)","v":0},null,"",{"$f":"IF(AG9=\"\",\"\",(1-IF(AA9=\"\",Z9,AA9))*AG9)","v":""},null,"Annual Runtime Hours "]
[null,{"$f":"B9+1","v":2},null,null,"",null,null,null,null,0,null,null,null,0,null,null,{"$f":"IF(K10=\"\",N(J10)*L10,K10*L10)","v":0},null,"","",0,"","",null,{"$f":"IF($X10=\"No\",IF(M10=\"\",\"\",M10),\"\")","v":""},0,{"$f":"IF($X10=\"No\",IF(O10=\"\",\"\",O10),\"\")","v":""},{"$f":"IF($X10=\"No\",IF(P10=\"\",\"\",P10),\"\")","v":""},0,{"$f":"Q10-AC10","v":0},{"$f":"IFERROR(1-(AC10/Q10),0)","v":0},null,"",{"$f":"IF(AG10=\"\",\"\",(1-IF(AA10=\"\",Z10,AA10))*AG10)","v":""},null,"Average Annual Default Hours w/o Controls",{"$f":"IFERROR((SUMPRODUCT(AC9:AC1008,AG9:AG1008)+SUMPRODUCT(AC1016:AC1065,AG1016:AG1065))/SUM(AC1009,AC1066),\"-\")","v":"-"}]
[null,{"$f":"B10+1","v":3},null,null,"",null,null,null,null,0,null,null,null,0,null,null,0,null,"","",0,"","",null,"",0,"","",0,0,0,null,"","",null,"Average Annual Default Hours with Controls",{"$f":"IFERROR((SUMPRODUCT(AC9:AC1008,AH9:AH1008)+SUMPRODUCT(AC1016:AC1065,AH1016:AH1065))/SUM(AC1009,AC1066),\"-\")","v":"-"}]
[null,4,null,null,"",null,null,null,null,0,null,null,null,0,null,null,0,null,"","",0,"","",null,"",0,"","",0,0,0,null,"","",null,"Modeled Annual Hours",{"$f":"IF('QC Summary'!$C$28=0,\"-\",'QC Summary'!$C$28/(((Q1009+Q1066)-(AC1009+AC1066))/1000))","v":"-"}]
[null,5,null,null,"",null,null,null,null,0,null,null,null,0,null,null,0,null,"","",0,"","",null,"",0,"","",0,0,0,null,"",""]
[null,6,null,null,"",null,null,null,null,0,null,null,null,0,null,null,0,null,"","",0,"","",null,"",0,"","",0,0,0,null,"","",null,"Additional Notes"]
[null,7,null,null,"",null,null,null,null,0,null,null,null,0,null,null,0,null,"","",0,"","",null,"",0,"","",0,0,0,null,"",""]
[null,8,null,null,"",null,null,null,null,0,null,null,null,0,null,null,0,null,"","",0,"","",null,"",0,"","",0,0,0,null,"",""]
[null,9,null,null,"",null,null,null,null,0,null,null,null,0,null,null,0,null,"","",0,"","",null,"",0,"","",0,0,0,null,"",""]
[null,10,null,null,"",null,null,null,null,0,null,null,null,0,null,null,0,null,"","",0,"","",null,"",0,"","",0,0,0,null,"",""]
[null,11,null,null,"",null,null,null,null,0,null,null,null,0,null,null,0,null,"","",0,"","",null,"",0,"","",0,0,0,null,"",""]
[null,12,null,null,"",null,null,null,null,0,null,null,null,0,null,null,0,null,"","",0,"","",null,"",0,"","",0,0,0,null,"",""]
[null,13,null,null,"",null,null,null,null,0,null,null,null,0,null,null,0,null,"","",0,"","",null,"",0,"","",0,0,0,null,"",""]
[null,14,null,null,"",null,null,null,null,0,null,null,null,0,null,null,0,null,"","",0,"","",null,"",0,"","",0,0,0,null,"",""]
[null,15,null,null,"",null,null,null,null,0,null,null,null,0,null,null,0,null,"","",0,"","",null,"",0,"","",0,0,0,null,"",""]
[null,16,null,null,"",null,null,null,null,0,null,null,null,0,null,null,0,null,"","",0,"","",null,"",0,"","",0,0,0,null,"",""]
[null,17,null,null,"",null,null,null,null,0,null,null,null,0,null,null,0,null,"","",0,"","",null,"",0,"","",0,0,0,null,"",""]
[null,18,null,null,"",null,null,null,null,0,null,null,null,0,null,null,0,null,"","",0,"","",null,"",0,"","",0,0,0,null,"",""]
[null,19,null,null,"",null,null,null,null,0,null,null,null,0,null,null,0,null,"","",0,"","",null,"",0,"","",0,0,0,null,"",""]
[null,20,null,null,"",null,null,null,null,0,null,null,null,0,null,null,0,null,"","",0,"","",null,"",0,"","",0,0,0,null,"",""]
[null,21,null,null,"",null,null,null,null,0,null,null,null,0,null,null,0,null,"","",0,"","",null,"",0,"","",0,0,0,null,"",""]
[null,22,null,null,"",null,null,null,null,0,null,null,null,0,null,null,0,null,"","",0,"","",null,"",0,"","",0,0,0,null,"",""]
[null,23,null,null,"",null,null,null,null,0,null,null,null,0,null,null,0,null,"","",0,"","",null,"",0,"","",0,0,0,null,"",""]
[null,24,null,null,"",null,null,null,null,0,null,null,null,0,null,null,0,null,"","",0,"","",null,"",0,"","",0,0,0,null,"",""]
[null,25,null,null,"",null,null,null,null,0,null,null,null,0,null,null,0,null,"","",0,"","",null,"",0,"","",0,0,0,null,"",""]
[null,26,null,null,"",null,null,null,null,0,null,null,null,0,null,null,0,null,"","",0,"","",null,"",0,"","",0,0,0,null,"",""]
[null,27,null,null,"",null,null,null,null,0,null,null,null,0,null,null,0,null,"","",0,"","",null,"",0,"","",0,0,0,null,"",""]
[null,28,null,null,"",null,null,null,null,0,null,null,null,0,null,null,0,null,"","",0,"","",null,"",0,"","",0,0,0,null,"",""]
[null,29,null,null,"",null,null,null,null,0,null,null,null,0,null,null,0,null,"","",0,"","",null,"",0,"","",0,0,0,null,"",""]
[null,30,null,null,"",null,null,null,null,0,null,null,null,0,null,null,0,null,"","",0,"","",null,"",0,"","",0,0,0,null,"",""]
[null,31,null,null,"",null,null,null,null,0,null,null,null,0,null,null,0,null,"","",0,"","",null,"",0,"","",0,0,0,null,"",""]
[null,32,null,null,"",null,null,null,null,0,null,null,null,0,null,null,0,null,"","",0,"","",null,"",0,"","",0,0,0,null,"",""]
[null,33,null,null,{"$f":"IFERROR(VLOOKUP(C41,BuildingNameTable,2,FALSE),\"\")","v":""},null,null,null,null,{"$f":"IFERROR(IF(H41=\"\",0,VLOOKUP(H41,Exist_Fix_Table,2,FALSE)),\"N/A\")","v":0},null,null,null,0,null,null,0,null,{"$f":"IF($R41=\"No\",IF(H41=\"\",\"\",H41),\"\")","v":""},{"$f":"IF($R41=\"No\",IF(I41=\"\",\"\",I41),\"\")","v":""},0,{"$f":"IF($R41=\"No\",IF(K41=\"\",\"\",K41),\"\")","v":""},{"$f":"IF($R41=\"No\",IF(L41=\"\",\"\",L41),\"\")","v":""},null,"",0,"","",0,0,0,null,"",""]
[null,34,null,null,"",null,null,null,null,0,null,null,null,0,null,null,0,null,"","",0,"","",null,"",0,"","",0,0,0,null,"",""]
[null,35,null,null,"",null,null,null,null,0,null,null,null,0,null,null,0,null,"","",0,"","",null,"",0,"","",0,0,0,null,"",""]
[null,36,null,null,"",null,null,null,null,0,null,null,null,0,null,null,0,null,"","",0,"","",null,"",0,"","",0,0,0,null,"",""]
[null,37,null,null,"",null,null,null,null,0,null,null,null,0,null,null,0,null,"","",0,"","",null,"",0,"","",0,0,0,null,"",""]
[null,38,null,null,"",null,null,null,null,0,null,null,null,0,null,null,0,null,"","",0,"","",null,"",0,"","",0,0,0,null,"",""]
[null,39,null,null,"",null,null,null,null,0,null,null,null,0,null,null,0,null,"","",0,"","",null,"",0,"","",0,0,0,null,"",""]
[null,40,null,null,"",null,null,null,null,0,null,null,null,0,null,null,0,null,"","",0,"","",null,"",0,"","",0,0,0,null,"",""]
[null,41,null,null,"",null,null,null,null,0,null,null,null,0,null,null,0,null,"","",0,"","",null,"",0,"","",0,0,0,null,"",""]
[null,42,null,null,"",null,null,null,null,0,null,null,null,0,null,null,0,null,"","",0,"","",null,"",0,"","",0,0,0,null,"",""]
[null,43,null,null,"",null,null,null,null,0,null,null,null,0,null,null,0,null,"","",0,"","",null,"",0,"","",0,0,0,null,"",""]
[null,44,null,null,"",null,null,null,null,0,null,null,null,0,null,null,0,null,"","",0,"","",null,"",0,"","",0,0,0,null,"",""]
[null,45,null,null,"",null,null,null,null,0,null,null,null,0,null,null,0,null,"","",0,"","",null,"",0,"","",0,0,0,null,"",""]
[null,46,null,null,"",null,null,null,null,0,null,null,null,0,null,null,0,null,"","",0,"","",null,"",0,"","",0,0,0,null,"",""]
[null,47,null,null,"",null,null,null,null,0,null,null,null,0,null,null,0,null,"","",0,"","",null,"",0,"","",0,0,0,null,"",""]
[null,48,null,null,"",null,null,null,null,0,null,null,null,0,null,null,0,null,"","",0,"","",null,"",0,"","",0,0,0,null,"",""]
[null,49,null,null,"",null,null,null,null,0,null,null,null,0,null,null,0,null,"","",0,"","",null,"",0,"","",0,0,0,null,"",""]
[null,50,null,null,"",null,null,null,null,0,null,null,null,0,null,null,0,null,"","",0,"","",null,"",0,"","",0,0,0,null,"",""]
[null,51,null,null,"",null,null,null,null,0,null,null,null,0,null,null,0,null,"","",0,"","",null,"",0,"","",0,0,0,null,"",""]
[null,52,null,null,"",null,null,null,null,0,null,null,null,0,null,null,0,null,"","",0,"","",null,"",0,"","",0,0,0,null,"",""]
[null,53,null,null,"",null,null,null,null,0,null,null,null,0,null,null,0,null,"","",0,"","",null,"",0,"","",0,0,0,null,"",""]
[null,54,null,null,"",null,null,null,null,0,null,null,null,0,null,null,0,null,"","",0,"","",null,"",0,"","",0,0,0,null,"",""]
[null,55,null,null,"",null,null,null,null,0,null,null,null,0,null,null,0,null,"","",0,"","",null,"",0,"","",0,0,0,null,"",""]
[null,56,null,null,"",null,null,null,null,0,null,null,null,0,null,null,0,null,"","",0,"","",null,"",0,"","",0,0,0,null,"",""]
[null,57,null,null,"",null,null,null,null,0,null,null,null,0,null,null,0,null,"","",0,"","",null,"",0,"","",0,0,0,null,"",""]
[null,58,null,null,"",null,null,null,null,0,null,null,null,0,null,null,0,null,"","",0,"","",null,"",0,"","",0,0,0,null,"",""]
[null,59,null,null,"",null,null,null,null,0,null,null,null,0,null,null,0,null,"","",0,"","",null,"",0,"","",0,0,0,null,"",""]
[null,60,null,null,"",null,null,null,null,0,null,null,null,0,null,null,0,null,"","",0,"","",null,"",0,"","",0,0,0,null,"",""]
[null,61,null,null,"",null,null,null,null,0,null,null,null,0,null,null,0,null,"","",0,"","",null,"",0,"","",0,0,0,null,"",""]
[null,62,null,null,"",null,null,null,null,0,null,null,null,0,null,null,0,null,"","",0,"","",null,"",0,"","",0,0,0,null,"",""]
[null,63,null,null,"",null,null,null,null,0,null,null,null,0,null,null,0,null,"","",0,"","",null,"",0,"","",0,0,0,null,"",""]
[null,64,null,null,"",null,null,null,null,0,null,null,null,{"$f":"IFERROR(IF(M72=\"\",0,1-VLOOKUP(M72,Prop_Sens_Table,2,FALSE)),\"N/A\")","v":0},null,null,0,null,"","",{"$f":"IFERROR(IF(R72=\"No\",J72,IF(S72=\"\",0,IF(S72=\"**No Upgrade (controls only)**\",J72,VLOOKUP(S72,Prop_Fix_Table,2,FALSE)))),\"N/A\")","v":0},"","",null,"",{"$f":"IFERROR(IF($X72=\"No\",N72,IF(Y72=\"\",0,1-VLOOKUP(Y72,Prop_Sens_Table,2,FALSE))),\"N/A\")","v":0},"","",0,0,0,null,{"$f":"IF(E72=\"\",\"\",VLOOKUP(E72,BuildingType_RunHours,2,FALSE))","v":""},""]
[null,65,null,null,{"$f":"IFERROR(VLOOKUP(C73,BuildingNameTable,2,FALSE),\"\")","v":""},null,null,null,null,{"$f":"IFERROR(IF(H73=\"\",0,VLOOKUP(H73,Exist_Fix_Table,2,FALSE)),\"N/A\")","v":0},null,null,null,0,null,null,0,null,{"$f":"IF($R73=\"No\",IF(H73=\"\",\"\",H73),\"\")","v":""},{"$f":"IF($R73=\"No\",IF(I73=\"\",\"\",I73),\"\")","v":""},0,{"$f":"IF($R73=\"No\",IF(K73=\"\",\"\",K73),\"\")","v":""},{"$f":"IF($R73=\"No\",IF(L73=\"\",\"\",L73),\"\")","v":""},null,"",0,"","",0,0,0,null,"",""]
[null,66,null,null,"",null,null,null,null,0,null,null,null,0,null,null,{"$f":"IF(K74=\"\",N(J74)*L74,K74*L74)","v":0},null,"","",0,"","",null,{"$f":"IF($X74=\"No\",IF(M74=\"\",\"\",M74),\"\")","v":""},0,{"$f":"IF($X74=\"No\",IF(O74=\"\",\"\",O74),\"\")","v":""},{"$f":"IF($X74=\"No\",IF(P74=\"\",\"\",P74),\"\")","v":""},0,{"$f":"Q74-AC74","v":0},{"$f":"IFERROR(1-(AC74/Q74),0)","v":0},null,"",{"$f":"IF(AG74=\"\",\"\",(1-IF(AA74=\"\",Z74,AA74))*AG74)","v":""}]
[null,{"$f":"B74+1","v":67},null,null,"",null,null,null,null,0,null,null,null,0,null,null,0,null,"","",0,"","",null,"",0,"","",{"$f":"IF($R75=\"\", 0,IF(R75=\"No\",Q75,IF(V75=\"\",U75*W75,V75*W75)))","v":0},0,0,null,"",""]
[null,68,null,null,"",null,null,null,null,0,null,null,null,0,null,null,0,null,"","",0,"","",null,"",0,"","",0,0,0,null,"",""]
[null,69,null,null,"",null,null,null,null,0,null,null,null,0,null,null,0,null,"","",0,"","",null,"",0,"","",0,0,0,null,"",""]
[null,70,null,null,"",null,null,null,null,0,null,null,null,0,null,null,0,null,"","",0,"","",null,"",0,"","",0,0,0,null,"",""]
[null,71,null,null,"",null,null,null,null,0,null,null,null,0,null,null,0,null,"","",0,"","",null,"",0,"","",0,0,0,null,"",""]
[null,72,null,null,"",null,null,null,null,0,null,null,null,0,null,null,0,null,"","",0,"","",null,"",0,"","",0,0,0,null,"",""]
[null,73,null,null,"",null,null,null,null,0,null,null,null,0,null,null,0,null,"","",0,"","",null,"",0,"","",0,0,0,null,"",""]
[null,74,null,null,"",null,null,null,null,0,null,null,null,0,null,null,0,null,"","",0,"","",null,"",0,"","",0,0,0,null,"",""]
[null,75,null,null,"",null,null,null,null,0,null,null,null,0,null,null,0,null,"","",0,"","",null,"",0,"","",0,0,0,null,"",""]
[null,76,null,null,"",null,null,null,null,0,null,null,null,0,null,null,0,null,"","",0,"","",null,"",0,"","",0,0,0,null,"",""]
[null,77,null,null,"",null,null,null,null,0,null,null,null,0,null,null,0,null,"","",0,"","",null,"",0,"","",0,0,0,null,"",""]
[null,78,null,null,"",null,null,null,null,0,null,null,null,0,null,null,0,null,"","",0,"","",null,"",0,"","",0,0,0,null,"",""]
[null,79,null,null,"",null,null,null,null,0,null,null,null,0,null,null,0,null,"","",0,"","",null,"",0,"","",0,0,0,null,"",""]
[null,80,null,null,"",null,null,null,null,0,null,null,null,0,null,null,0,null,"","",0,"","",null,"",0,"","",0,0,0,null,"",""]
[null,81,null,null,"",null,null,null,null,0,null,null,null,0,null,null,0,null,"","",0,"","",null,"",0,"","",0,0,0,null,"",""]
[null,82,null,null,"",null,null,null,null,0,null,null,null,0,null,null,0,null,"","",0,"","",null,"",0,"","",0,0,0,null,"",""]
[null,83,null,null,"",null,null,null,null,0,null,null,null,0,null,null,0,null,"","",0,"","",null,"",0,"","",0,0,0,null,"",""]
[null,84,null,null,"",null,null,null,null,0,null,null,null,0,null,null,0,null,"","",0,"","",null,"",0,"","",0,0,0,null,"",""]
[null,85,null,null,"",null,null,null,null,0,null,null,null,0,null,null,0,null,"","",0,"","",null,"",0,"","",0,0,0,null,"",""]
[null,86,null,null,"",null,null,null,null,0,null,null,null,0,null,null,0,null,"","",0,"","",null,"",0,"","",0,0,0,null,"",""]
[null,87,null,null,"",null,null,null,null,0,null,null,null,0,null,null,0,null,"","",0,"","",null,"",0,"","",0,0,0,null,"",""]
[null,88,null,null,"",null,null,null,null,0,null,null,null,0,null,null,0,null,"","",0,"","",null,"",0,"","",0,0,0,null,"",""]
[null,89,null,null,"",null,null,null,null,0,null,null,null,0,null,null,0,null,"","",0,"","",null,"",0,"","",0,0,0,null,"",""]
[null,90,null,null,"",null,null,null,null,0,null,null,null,0,null,null,0,null,"","",0,"","",null,"",0,"","",0,0,0,null,"",""]
[null,91,null,null,"",null,null,null,null,0,null,null,null,0,null,null,0,null,"","",0,"","",null,"",0,"","",0,0,0,null,"",""]
[null,92,null,null,"",null,null,null,null,0,null,null,null,0,null,null,0,null,"","",0,"","",null,"",0,"","",0,0,0,null,"",""]
[null,93,null,null,"",null,null,null,null,0,null,null,null,0,null,null,0,null,"","",0,"","",null,"",0,"","",0,0,0,null,"",""]
[null,94,null,null,"",null,null,null,null,0,null,null,null,0,null,null,0,null,"","",0,"","",null,"",0,"","",0,0,0,null,"",""]
[null,95,null,null,"",null,null,null,null,0,null,null,null,0,null,null,0,null,"","",0,"","",null,"",0,"","",0,0,0,null,"",""]
[null,96,null,null,"",null,null,null,null,0,null,null,null,0,null,null,0,null,"","",0,"","",null,"",0,"","",0,0,0,null,"",""]
[null,97,null,null,{"$f":"IFERROR(VLOOKUP(C105,BuildingNameTable,2,FALSE),\"\")","v":""},null,null,null,null,{"$f":"IFERROR(IF(H105=\"\",0,VLOOKUP(H105,Exist_Fix_Table,2,FALSE)),\"N/A\")","v":0},null,null,null,0,null,null,0,null,{"$f":"IF($R105=\"No\",IF(H105=\"\",\"\",H105),\"\")","v":""},{"$f":"IF($R105=\"No\",IF(I105=\"\",\"\",I105),\"\")","v":""},0,{"$f":"IF($R105=\"No\",IF(K105=\"\",\"\",K105),\"\")","v":""},{"$f":"IF($R105=\"No\",IF(L105=\"\",\"\",L105),\"\")","v":""},null,"",0,"","",0,0,0,null,"",""]
[null,98,null,null,"",null,null,null,null,0,null,null,null,0,null,null,0,null,"","",0,"","",null,"",0,"","",0,0,0,null,"",""]
[null,99,null,null,"",null,null,null,null,0,null,null,null,0,null,null,0,null,"","",0,"","",null,"",0,"","",0,0,0,null,"",""]
[null,100,null,null,"",null,null,null,null,0,null,null,null,0,null,null,0,null,"","",0,"","",null,"",0,"","",0,0,0,null,"",""]
[null,101,null,null,"",null,null,null,null,0,null,null,null,0,null,null,0,null,"","",0,"","",null,"",0,"","",0,0,0,null,"",""]
[null,102,null,null,"",null,null,null,null,0,null,null,null,0,null,null,0,null,"","",0,"","",null,"",0,"","",0,0,0,null,"",""]
[null,103,null,null,"",null,null,null,null,0,null,null,null,0,null,null,0,null,"","",0,"","",null,"",0,"","",0,0,0,null,"",""]
[null,104,null,null,"",null,null,null,null,0,null,null,null,0,null,null,0,null,"","",0,"","",null,"",0,"","",0,0,0,null,"",""]
[null,105,null,null,"",null,null,null,null,0,null,null,null,0,null,null,0,null,"","",0,"","",null,"",0,"","",0,0,0,null,"",""]
[null,106,null,null,"",null,null,null,null,0,null,null,null,0,null,null,0,null,"","",0,"","",null,"",0,"","",0,0,0,null,"",""]
[null,107,null,null,"",null,null,null,null,0,null,null,null,0,null,null,0,null,"","",0,"","",null,"",0,"","",0,0,0,null,"",""]
[null,108,null,null,"",null,null,null,null,0,null,null,null,0,null,null,0,null,"","",0,"","",null,"",0,"","",0,0,0,null,"",""]
[null,109,null,null,"",null,null,null,null,0,null,null,null,0,null,null,0,null,"","",0,"","",null,"",0,"","",0,0,0,null,"",""]
[null,110,null,null,"",null,null,null,null,0,null,null,null,0,null,null,0,null,"","",0,"","",null,"",0,"","",0,0,0,null,"",""]
[null,111,null,null,"",null,null,null,null,0,null,null,null,0,null,null,0,null,"","",0,"","",null,"",0,"","",0,0,0,null,"",""]
[null,112,null,null,"",null,null,null,null,0,null,null,null,0,null,null,0,null,"","",0,"","",null,"",0,"","",0,0,0,null,"",""]
[null,113,null,null,"",null,null,null,null,0,null,null,null,0,null,null,0,null,"","",0,"","",null,"",0,"","",0,0,0,null,"",""]
[null,114,null,null,"",null,null,null,null,0,null,null,null,0,null,null,0,null,"","",0,"","",null,"",0,"","",0,0,0,null,"",""]
[null,115,null,null,"",null,null,null,null,0,null,null,null,0,null,null,0,null,"","",0,"","",null,"",0,"","",0,0,0,null,"",""]
[null,116,null,null,"",null,null,null,null,0,null,null,null,0,null,null,0,null,"","",0,"","",null,"",0,"","",0,0,0,null,"",""]
[null,117,null,null,"",null,null,null,null,0,null,null,null,0,null,null,0,null,"","",0,"","",null,"",0,"","",0,0,0,null,"",""]
[null,118,null,null,"",null,null,null,null,0,null,null,null,0,null,null,0,null,"","",0,"","",null,"",0,"","",0,0,0,null,"",""]
[null,119,null,null,"",null,null,null,null,0,null,null,null,0,null,null,0,null,"","",0,"","",null,"",0,"","",0,0,0,null,"",""]
[null,120,null,null,"",null,null,null,null,0,null,null,null,0,null,null,0,null,"","",0,"","",null,"",0,"","",0,0,0,null,"",""]
[null,121,null,null,"",null,null,null,null,0,null,null,null,0,null,null,0,null,"","",0,"","",null,"",0,"","",0,0,0,null,"",""]
[null,122,null,null,"",null,null,null,null,0,null,null,null,0,null,null,0,null,"","",0,"","",null,"",0,"","",0,0,0,null,"",""]
[null,123,null,null,"",null,null,null,null,0,null,null,null,0,null,null,0,null,"","",0,"","",null,"",0,"","",0,0,0,null,"",""]
[null,124,null,null,"",null,null,null,null,0,null,null,null,0,null,null,0,null,"","",0,"","",null,"",0,"","",0,0,0,null,"",""]
[null,125,null,null,"",null,null,null,null,0,null,null,null,0,null,null,0,null,"","",0,"","",null,"",0,"","",0,0,0,null,"",""]
[null,126,null,null,"",null,null,null,null,0,null,null,null,0,null,null,0,null,"","",0,"","",null,"",0,"","",0,0,0,null,"",""]
[null,127,null,null,"",null,null,null,null,0,null,null,null,0,null,null,0,null,"","",0,"","",null,"",0,"","",0,0,0,null,"",""]
[null,128,null,null,"",null,null,null,null,0,null,null,null,{"$f":"IFERROR(IF(M136=\"\",0,1-VLOOKUP(M136,Prop_Sens_Table,2,FALSE)),\"N/A\")","v":0},null,null,0,null,"","",{"$f":"IFERROR(IF(R136=\"No\",J136,IF(S136=\"\",0,IF(S136=\"**No Upgrade (controls only)**\",J136,VLOOKUP(S136,Prop_Fix_Table,2,FALSE)))),\"N/A\")","v":0},"","",null,"",{"$f":"IFERROR(IF($X136=\"No\",N136,IF(Y136=\"\",0,1-VLOOKUP(Y136,Prop_Sens_Table,2,FALSE))),\"N/A\")","v":0},"","",0,0,0,null,{"$f":"IF(E136=\"\",\"\",VLOOKUP(E136,BuildingType_RunHours,2,FALSE))","v":""},""]
[null,129,null,null,{"$f":"IFERROR(VLOOKUP(C137,BuildingNameTable,2,FALSE),\"\")","v":""},null,null,null,null,{"$f":"IFERROR(IF(H137=\"\",0,VLOOKUP(H137,Exist_Fix_Table,2,FALSE)),\"N/A\")","v":0},null,null,null,0,null,null,0,null,{"$f":"IF($R137=\"No\",IF(H137=\"\",\"\",H137),\"\")","v":""},{"$f":"IF($R137=\"No\",IF(I137=\"\",\"\",I137),\"\")","v":""},0,{"$f":"IF($R137=\"No\",IF(K137=\"\",\"\",K137),\"\")","v":""},{"$f":"IF($R137=\"No\",IF(L137=\"\",\"\",L137),\"\")","v":""},null,"",0,"","",0,0,0,null,"",""]
[null,130,null,null,"",null,null,null,null,0,null,null,null,0,null,null,{"$f":"IF(K138=\"\",N(J138)*L138,K138*L138)","v":0},null,"","",0,"","",null,{"$f":"IF($X138=\"No\",IF(M138=\"\",\"\",M138),\"\")","v":""},0,{"$f":"IF($X138=\"No\",IF(O138=\"\",\"\",O138),\"\")","v":""},{"$f":"IF($X138=\"No\",IF(P138=\"\",\"\",P138),\"\")","v":""},0,{"$f":"Q138-AC138","v":0},{"$f":"IFERROR(1-(AC138/Q138),0)","v":0},null,"",{"$f":"IF(AG138=\"\",\"\",(1-IF(AA138=\"\",Z138,AA138))*AG138)","v":""}]
[null,{"$f":"B138+1","v":131},null,null,"",null,null,null,null,0,null,null,null,0,null,null,0,null,"","",0,"","",null,"",0,"","",{"$f":"IF($R139=\"\", 0,IF(R139=\"No\",Q139,IF(V139=\"\",U139*W139,V139*W139)))","v":0},0,0,null,"",""]
[null,132,null,null,"",null,null,null,null,0,null,null,null,0,null,null,0,null,"","",0,"","",null,"",0,"","",0,0,0,null,"",""]
[null,133,null,null,"",null,null,null,null,0,null,null,null,0,null,null,0,null,"","",0,"","",null,"",0,"","",0,0,0,null,"",""]
[null,134,null,null,"",null,null,null,null,0,null,null,null,0,null,null,0,null,"","",0,"","",null,"",0,"","",0,0,0,null,"",""]
[null,135,null,null,"",null,null,null,null,0,null,null,null,0,null,null,0,null,"","",0,"","",null,"",0,"","",0,0,0,null,"",""]
[null,136,null,null,"",null,null,null,null,0,null,null,null,0,null,null,0,null,"","",0,"","",null,"",0,"","",0,0,0,null,"",""]
[null,137,null,null,"",null,null,null,null,0,null,null,null,0,null,null,0,null,"","",0,"","",null,"",0,"","",0,0,0,null,"",""]
[null,138,null,null,"",null,null,null,null,0,null,null,null,0,null,null,0,null,"","",0,"","",null,"",0,"","",0,0,0,null,"",""]
[null,139,null,null,"",null,null,null,null,0,null,null,null,0,null,null,0,null,"","",0,"","",null,"",0,"","",0,0,0,null,"",""]
[null,140,null,null,"",null,null,null,null,0,null,null,null,0,null,null,0,null,"","",0,"","",null,"",0,"","",0,0,0,null,"",""]
[null,141,null,null,"",null,null,null,null,0,null,null,null,0,null,null,0,null,"","",0,"","",null,"",0,"","",0,0,0,null,"",""]
[null,142,null,null,"",null,null,null,null,0,null,null,null,0,null,null,0,null,"","",0,"","",null,"",0,"","",0,0,0,null,"",""]
[null,143,null,null,"",null,null,null,null,0,null,null,null,0,null,null,0,null,"","",0,"","",null,"",0,"","",0,0,0,null,"",""]
[null,144,null,null,"",null,null,null,null,0,null,null,null,0,null,null,0,null,"","",0,"","",null,"",0,"","",0,0,0,null,"",""]
[null,145,null,null,"",null,null,null,null,0,null,null,null,0,null,null,0,null,"","",0,"","",null,"",0,"","",0,0,0,null,"",""]
[null,146,null,null,"",null,null,null,null,0,null,null,null,0,null,null,0,null,"","",0,"","",null,"",0,"","",0,0,0,null,"",""]
[null,147,null,null,"",null,null,null,null,0,null,null,null,0,null,null,0,null,"","",0,"","",null,"",0,"","",0,0,0,null,"",""]
[null,148,null,null,"",null,null,null,null,0,null,null,null,0,null,null,0,null,"","",0,"","",null,"",0,"","",0,0,0,null,"",""]
[null,149,null,null,"",null,null,null,null,0,null,null,null,0,null,null,0,null,"","",0,"","",null,"",0,"","",0,0,0,null,"",""]
[null,150,null,null,"",null,null,null,null,0,null,null,null,0,null,null,0,null,"","",0,"","",null,"",0,"","",0,0,0,null,"",""]
[null,151,null,null,"",null,null,null,null,0,null,null,null,0,null,null,0,null,"","",0,"","",null,"",0,"","",0,0,0,null,"",""]
[null,152,null,null,"",null,null,null,null,0,null,null,null,0,null,null,0,null,"","",0,"","",null,"",0,"","",0,0,0,null,"",""]
[null,153,null,null,"",null,null,null,null,0,null,null,null,0,null,null,0,null,"","",0,"","",null,"",0,"","",0,0,0,null,"",""]
[null,154,null,null,"",null,null,null,null,0,null,null,null,0,null,null,0,null,"","",0,"","",null,"",0,"","",0,0,0,null,"",""]
[null,155,null,null,"",null,null,null,null,0,null,null,null,0,null,null,0,null,"","",0,"","",null,"",0,"","",0,0,0,null,"",""]
[null,156,null,null,"",null,null,null,null,0,null,null,null,0,null,null,0,null,"","",0,"","",null,"",0,"","",0,0,0,null,"",""]
[null,157,null,null,"",null,null,null,null,0,null,null,null,0,null,null,0,null,"","",0,"","",null,"",0,"","",0,0,0,null,"",""]
[null,158,null,null,"",null,null,null,null,0,null,null,null,0,null,null,0,null,"","",0,"","",null,"",0,"","",0,0,0,null,"",""]
[null,159,null,null,"",null,null,null,null,0,null,null,null,0,null,null,0,null,"","",0,"","",null,"",0,"","",0,0,0,null,"",""]
[null,160,null,null,"",null,null,null,null,0,null,null,null,0,null,null,0,null,"","",0,"","",null,"",0,"","",0,0,0,null,"",""]
[null,161,null,null,{"$f":"IFERROR(VLOOKUP(C169,BuildingNameTable,2,FALSE),\"\")","v":""},null,null,null,null,{"$f":"IFERROR(IF(H169=\"\",0,VLOOKUP(H169,Exist_Fix_Table,2,FALSE)),\"N/A\")","v":0},null,null,null,0,null,null,0,null,{"$f":"IF($R169=\"No\",IF(H169=\"\",\"\",H169),\"\")","v":""},{"$f":"IF($R169=\"No\",IF(I169=\"\",\"\",I169),\"\")","v":""},0,{"$f":"IF($R169=\"No\",IF(K169=\"\",\"\",K169),\"\")","v":""},{"$f":"IF($R169=\"No\",IF(L169=\"\",\"\",L169),\"\")","v":""},null,"",0,"","",0,0,0,null,"",""]
[null,162,null,null,"",null,null,null,null,0,null,null,null,0,null,null,0,null,"","",0,"","",null,"",0,"","",0,0,0,null,"",""]
[null,163,null,null,"",null,null,null,null,0,null,null,null,0,null,null,0,null,"","",0,"","",null,"",0,"","",0,0,0,null,"",""]
[null,164,null,null,"",null,null,null,null,0,null,null,null,0,null,null,0,null,"","",0,"","",null,"",0,"","",0,0,0,null,"",""]
[null,165,null,null,"",null,null,null,null,0,null,null,null,0,null,null,0,null,"","",0,"","",null,"",0,"","",0,0,0,null,"",""]
[null,166,null,null,"",null,null,null,null,0,null,null,null,0,null,null,0,null,"","",0,"","",null,"",0,"","",0,0,0,null,"",""]
[null,167,null,null,"",null,null,null,null,0,null,null,null,0,null,null,0,null,"","",0,"","",null,"",0,"","",0,0,0,null,"",""]
[null,168,null,null,"",null,null,null,null,0,null,null,null,0,null,null,0,null,"","",0,"","",null,"",0,"","",0,0,0,null,"",""]
[null,169,null,null,"",null,null,null,null,0,null,null,null,0,null,null,0,null,"","",0,"","",null,"",0,"","",0,0,0,null,"",""]
[null,170,null,null,"",null,null,null,null,0,null,null,null,0,null,null,0,null,"","",0,"","",null,"",0,"","",0,0,0,null,"",""]
[null,171,null,null,"",null,null,null,null,0,null,null,null,0,null,null,0,null,"","",0,"","",null,"",0,"","",0,0,0,null,"",""]
[null,172,null,null,"",null,null,null,null,0,null,null,null,0,null,null,0,null,"","",0,"","",null,"",0,"","",0,0,0,null,"",""]
[null,173,null,null,"",null,null,null,null,0,null,null,null,0,null,null,0,null,"","",0,"","",null,"",0,"","",0,0,0,null,"",""]
[null,174,null,null,"",null,null,null,null,0,null,null,null,0,null,null,0,null,"","",0,"","",null,"",0,"","",0,0,0,null,"",""]
[null,175,null,null,"",null,null,null,null,0,null,null,null,0,null,null,0,null,"","",0,"","",null,"",0,"","",0,0,0,null,"",""]
[null,176,null,null,"",null,null,null,null,0,null,null,null,0,null,null,0,null,"","",0,"","",null,"",0,"","",0,0,0,null,"",""]
[null,177,null,null,"",null,null,null,null,0,null,null,null,0,null,null,0,null,"","",0,"","",null,"",0,"","",0,0,0,null,"",""]
[null,178,null,null,"",null,null,null,null,0,null,null,null,0,null,null,0,null,"","",0,"","",null,"",0,"","",0,0,0,null,"",""]
[null,179,null,null,"",null,null,null,null,0,null,null,null,0,null,null,0,null,"","",0,"","",null,"",0,"","",0,0,0,null,"",""]
[null,180,null,null,"",null,null,null,null,0,null,null,null,0,null,null,0,null,"","",0,"","",null,"",0,"","",0,0,0,null,"",""]
[null,181,null,null,"",null,null,null,null,0,null,null,null,0,null,null,0,null,"","",0,"","",null,"",0,"","",0,0,0,null,"",""]
[null,182,null,null,"",null,null,null,null,0,null,null,null,0,null,null,0,null,"","",0,"","",null,"",0,"","",0,0,0,null,"",""]
[null,183,null,null,"",null,null,null,null,0,null,null,null,0,null,null,0,null,"","",0,"","",null,"",0,"","",0,0,0,null,"",""]
[null,184,null,null,"",null,null,null,null,0,null,null,null,0,null,null,0,null,"","",0,"","",null,"",0,"","",0,0,0,null,"",""]
[null,185,null,null,"",null,null,null,null,0,null,null,null,0,null,null,0,null,"","",0,"","",null,"",0,"","",0,0,0,null,"",""]
[null,186,null,null,"",null,null,null,null,0,null,null,null,0,null,null,0,null,"","",0,"","",null,"",0,"","",0,0,0,null,"",""]
[null,187,null,null,"",null,null,null,null,0,null,null,null,0,null,null,0,null,"","",0,"","",null,"",0,"","",0,0,0,null,"",""]
[null,188,null,null,"",null,null,null,null,0,null,null,null,0,null,null,0,null,"","",0,"","",null,"",0,"","",0,0,0,null,"",""]
[null,189,null,null,"",null,null,null,null,0,null,null,null,0,null,null,0,null,"","",0,"","",null,"",0,"","",0,0,0,null,"",""]
[null,190,null,null,"",null,null,null,null,0,null,null,null,0,null,null,0,null,"","",0,"","",null,"",0,"","",0,0,0,null,"",""]
[null,191,null,null,"",null,null,null,null,0,null,null,null,0,null,null,0,null,"","",0,"","",null,"",0,"","",0,0,0,null,"",""]
[null,192,null,null,"",null,null,null,null,0,null,null,null,{"$f":"IFERROR(IF(M200=\"\",0,1-VLOOKUP(M200,Prop_Sens_Table,2,FALSE)),\"N/A\")","v":0},null,null,0,null,"","",{"$f":"IFERROR(IF(R200=\"No\",J200,IF(S200=\"\",0,IF(S200=\"**No Upgrade (controls only)**\",J200,VLOOKUP(S200,Prop_Fix_Table,2,FALSE)))),\"N/A\")","v":0},"","",null,"",{"$f":"IFERROR(IF($X200=\"No\",N200,IF(Y200=\"\",0,1-VLOOKUP(Y200,Prop_Sens_Table,2,FALSE))),\"N/A\")","v":0},"","",0,0,0,null,{"$f":"IF(E200=\"\",\"\",VLOOKUP(E200,BuildingType_RunHours,2,FALSE))","v":""},""]
[null,193,null,null,{"$f":"IFERROR(VLOOKUP(C201,BuildingNameTable,2,FALSE),\"\")","v":""},null,null,null,null,{"$f":"IFERROR(IF(H201=\"\",0,VLOOKUP(H201,Exist_Fix_Table,2,FALSE)),\"N/A\")","v":0},null,null,null,0,null,null,0,null,{"$f":"IF($R201=\"No\",IF(H201=\"\",\"\",H201),\"\")","v":""},{"$f":"IF($R201=\"No\",IF(I201=\"\",\"\",I201),\"\")","v":""},0,{"$f":"IF($R201=\"No\",IF(K201=\"\",\"\",K201),\"\")","v":""},{"$f":"IF($R201=\"No\",IF(L201=\"\",\"\",L201),\"\")","v":""},null,"",0,"","",0,0,0,null,"",""]
[null,194,null,null,"",null,null,null,null,0,null,null,null,0,null,null,{"$f":"IF(K202=\"\",N(J202)*L202,K202*L202)","v":0},null,"","",0,"","",null,{"$f":"IF($X202=\"No\",IF(M202=\"\",\"\",M202),\"\")","v":""},0,{"$f":"IF($X202=\"No\",IF(O202=\"\",\"\",O202),\"\")","v":""},{"$f":"IF($X202=\"No\",IF(P202=\"\",\"\",P202),\"\")","v":""},0,{"$f":"Q202-AC202","v":0},{"$f":"IFERROR(1-(AC202/Q202),0)","v":0},null,"",{"$f":"IF(AG202=\"\",\"\",(1-IF(AA202=\"\",Z202,AA202))*AG202)","v":""}]
[null,{"$f":"B202+1","v":195},null,null,"",null,null,null,null,0,null,null,null,0,null,null,0,null,"","",0,"","",null,"",0,"","",{"$f":"IF($R203=\"\", 0,IF(R203=\"No\",Q203,IF(V203=\"\",U203*W203,V203*W203)))","v":0},0,0,null,"",""]
[null,196,null,null,"",null,null,null,null,0,null,null,null,0,null,null,0,null,"","",0,"","",null,"",0,"","",0,0,0,null,"",""]
[null,197,null,null,"",null,null,null,null,0,null,null,null,0,null,null,0,null,"","",0,"","",null,"",0,"","",0,0,0,null,"",""]
[null,198,null,null,"",null,null,null,null,0,null,null,null,0,null,null,0,null,"","",0,"","",null,"",0,"","",0,0,0,null,"",""]
[null,199,null,null,"",null,null,null,null,0,null,null,null,0,null,null,0,null,"","",0,"","",null,"",0,"","",0,0,0,null,"",""]
[null,200,null,null,"",null,null,null,null,0,null,null,null,0,null,null,0,null,{"$f":"IF($R208=\"No\",IF(H208=\"\",\"\",H208),\"\")","v":""},"",0,{"$f":"IF($R208=\"No\",IF(K208=\"\",\"\",K208),\"\")","v":""},"",null,{"$f":"IF($X208=\"No\",IF(M208=\"\",\"\",M208),\"\")","v":""},{"$f":"IFERROR(IF($X208=\"No\",N208,IF(Y208=\"\",0,1-VLOOKUP(Y208,Prop_Sens_Table,2,FALSE))),\"N/A\")","v":0},{"$f":"IF($X208=\"No\",IF(O208=\"\",\"\",O208),\"\")","v":""},{"$f":"IF($X208=\"No\",IF(P208=\"\",\"\",P208),\"\")","v":""},{"$f":"IF($R208=\"\", 0,IF(R208=\"No\",Q208,IF(V208=\"\",U208*W208,V208*W208)))","v":0},{"$f":"Q208-AC208","v":0},{"$f":"IFERROR(1-(AC208/Q208),0)","v":0},null,{"$f":"IF(E208=\"\",\"\",VLOOKUP(E208,BuildingType_RunHours,2,FALSE))","v":""},{"$f":"IF(AG208=\"\",\"\",(1-IF(AA208=\"\",Z208,AA208))*AG208)","v":""}]
[null,201,null,null,"",null,null,null,null,0,null,null,null,0,null,null,0,null,"","",0,"","",null,"",0,"","",0,0,0,null,"",""]
[null,202,null,null,"",null,null,null,null,0,null,null,null,0,null,null,0,null,"","",0,"","",null,"",0,"","",0,0,0,null,"",""]
[null,203,null,null,"",null,null,null,null,0,null,null,null,0,null,null,0,null,"","",0,"","",null,"",0,"","",0,0,0,null,"",""]
[null,204,null,null,"",null,null,null,null,0,null,null,null,0,null,null,0,null,"","",0,"","",null,"",0,"","",0,0,0,null,"",""]
[null,205,null,null,"",null,null,null,null,0,null,null,null,0,null,null,0,null,"","",0,"","",null,"",0,"","",0,0,0,null,"",""]
[null,206,null,null,"",null,null,null,null,0,null,null,null,0,null,null,0,null,"","",0,"","",null,"",0,"","",0,0,0,null,"",""]
[null,207,null,null,"",null,null,null,null,0,null,null,null,0,null,null,0,null,"","",0,"","",null,"",0,"","",0,0,0,null,"",""]
[null,208,null,null,"",null,null,null,null,0,null,null,null,0,null,null,0,null,"","",0,"","",null,"",0,"","",0,0,0,null,"",""]
[null,209,null,null,"",null,null,null,null,0,null,null,null,0,null,null,0,null,"","",0,"","",null,"",0,"","",0,0,0,null,"",""]
[null,210,null,null,"",null,null,null,null,0,null,null,null,0,null,null,0,null,"","",0,"","",null,"",0,"","",0,0,0,null,"",""]
[null,211,null,null,"",null,null,null,null,0,null,null,null,0,null,null,0,null,"","",0,"","",null,"",0,"","",0,0,0,null,"",""]
[null,212,null,null,"",null,null,null,null,0,null,null,null,0,null,null,0,null,"","",0,"","",null,"",0,"","",0,0,0,null,"",""]
[null,213,null,null,"",null,null,null,null,0,null,null,null,0,null,null,0,null,"","",0,"","",null,"",0,"","",0,0,0,null,"",""]
[null,214,null,null,"",null,null,null,null,0,null,null,null,0,null,null,0,null,"","",0,"","",null,"",0,"","",0,0,0,null,"",""]
[null,215,null,null,"",null,null,null,null,0,null,null,null,0,null,null,0,null,"","",0,"","",null,"",0,"","",0,0,0,null,"",""]
[null,216,null,null,"",null,null,null,null,0,null,null,null,0,null,null,0,null,"","",0,"","",null,"",0,"","",0,0,0,null,"",""]
[null,217,null,null,"",null,null,null,null,0,null,null,null,0,null,null,0,null,"","",0,"","",null,"",0,"","",0,0,0,null,"",""]
[null,218,null,null,"",null,null,null,null,0,null,null,null,0,null,null,0,null,"","",0,"","",null,"",0,"","",0,0,0,null,"",""]
[null,219,null,null,"",null,null,null,null,0,null,null,null,0,null,null,0,null,"","",0,"","",null,"",0,"","",0,0,0,null,"",""]
[null,220,null,null,"",null,null,null,null,0,null,null,null,0,null,null,0,null,"","",0,"","",null,"",0,"","",0,0,0,null,"",""]
[null,221,null,null,"",null,null,null,null,0,null,null,null,0,null,null,0,null,"","",0,"","",null,"",0,"","",0,0,0,null,"",""]
[null,222,null,null,"",null,null,null,null,0,null,null,null,0,null,null,0,null,"","",0,"","",null,"",0,"","",0,0,0,null,"",""]
[null,223,null,null,"",null,null,null,null,0,null,null,null,0,null,null,0,null,"","",0,"","",null,"",0,"","",0,0,0,null,"",""]
[null,224,null,null,"",null,null,null,null,0,null,null,null,0,null,null,0,null,"","",0,"","",null,"",0,"","",0,0,0,null,"",""]
[null,225,null,null,"",null,null,null,null,0,null,null,null,0,null,null,0,null,"","",0,"","",null,"",0,"","",0,0,0,null,"",""]
[null,226,null,null,"",null,null,null,null,0,null,null,null,0,null,null,0,null,"","",0,"","",null,"",0,"","",0,0,0,null,"",""]
[null,227,null,null,"",null,null,null,null,0,null,null,null,0,null,null,0,null,"","",0,"","",null,"",0,"","",0,0,0,null,"",""]
[null,228,null,null,"",null,null,null,null,0,null,null,null,0,null,null,0,null,"","",0,"","",null,"",0,"","",0,0,0,null,"",""]
[null,229,null,null,"",null,null,null,null,0,null,null,null,0,null,null,0,null,"","",0,"","",null,"",0,"","",0,0,0,null,"",""]
[null,230,null,null,"",null,null,null,null,0,null,null,null,0,null,null,0,null,"","",0,"","",null,"",0,"","",0,0,0,null,"",""]
[null,231,null,null,"",null,null,null,null,0,null,null,null,0,null,null,0,null,"","",0,"","",null,"",0,"","",0,0,0,null,"",""]
[null,232,null,null,"",null,null,null,null,0,null,null,null,0,null,null,0,null,"","",0,"","",null,"",0,"","",0,0,0,null,"",""]
[null,233,null,null,"",null,null,null,null,0,null,null,null,0,null,null,0,null,"","",0,"","",null,"",0,"","",0,0,0,null,"",""]
[null,234,null,null,"",null,null,null,null,0,null,null,null,0,null,null,0,null,"","",0,"","",null,"",0,"","",0,0,0,null,"",""]
[null,235,null,null,"",null,null,null,null,0,null,null,null,0,null,null,0,null,"","",0,"","",null,"",0,"","",0,0,0,null,"",""]
[null,236,null,null,"",null,null,null,null,0,null,null,null,0,null,null,0,null,"","",0,"","",null,"",0,"","",0,0,0,null,"",""]
[null,237,null,null,"",null,null,null,null,0,null,null,null,0,null,null,0,null,"","",0,"","",null,"",0,"","",0,0,0,null,"",""]
[null,238,null,null,"",null,null,null,null,0,null,null,null,0,null,null,0,null,"","",0,"","",null,"",0,"","",0,0,0,null,"",""]
[null,239,null,null,"",null,null,null,null,0,null,null,null,0,null,null,0,null,"","",0,"","",null,"",0,"","",0,0,0,null,"",""]
[null,240,null,null,"",null,null,null,null,0,null,null,null,0,null,null,0,null,"","",0,"","",null,"",0,"","",0,0,0,null,"",""]
[null,241,null,null,"",null,null,null,null,0,null,null,null,0,null,null,0,null,"","",0,"","",null,"",0,"","",0,0,0,null,"",""]
[null,242,null,null,"",null,null,null,null,0,null,null,null,0,null,null,0,null,"","",0,"","",null,"",0,"","",0,0,0,null,"",""]
[null,243,null,null,"",null,null,null,null,0,null,null,null,0,null,null,0,null,"","",0,"","",null,"",0,"","",0,0,0,null,"",""]
[null,244,null,null,"",null,null,null,null,0,null,null,null,0,null,null,0,null,"","",0,"","",null,"",0,"","",0,0,0,null,"",""]
[null,245,null,null,"",null,null,null,null,0,null,null,null,0,null,null,0,null,"","",0,"","",null,"",0,"","",0,0,0,null,"",""]
[null,246,null,null,"",null,null,null,null,0,null,null,null,0,null,null,0,null,"","",0,"","",null,"",0,"","",0,0,0,null,"",""]
[null,247,null,null,"",null,null,null,null,0,null,null,null,0,null,null,0,null,"","",0,"","",null,"",0,"","",0,0,0,null,"",""]
[null,248,null,null,"",null,null,null,null,0,null,null,null,0,null,null,0,null,"","",0,"","",null,"",0,"","",0,0,0,null,"",""]
[null,249,null,null,"",null,null,null,null,0,null,null,null,0,null,null,0,null,"","",0,"","",null,"",0,"","",0,0,0,null,"",""]
[null,250,null,null,"",null,null,null,null,0,null,null,null,0,null,null,0,null,"","",0,"","",null,"",0,"","",0,0,0,null,"",""]
[null,251,null,null,"",null,null,null,null,0,null,null,null,0,null,null,0,null,"","",0,"","",null,"",0,"","",0,0,0,null,"",""]
[null,252,null,null,"",null,null,null,null,0,null,null,null,0,null,null,0,null,"","",0,"","",null,"",0,"","",0,0,0,null,"",""]
[null,253,null,null,"",null,null,null,null,0,null,null,null,0,null,null,0,null,"","",0,"","",null,"",0,"","",0,0,0,null,"",""]
[null,254,null,null,"",null,null,null,null,0,null,null,null,0,null,null,0,null,"","",0,"","",null,"",0,"","",0,0,0,null,"",""]
[null,255,null,null,"",null,null,null,null,0,null,null,null,0,null,null,0,null,"","",0,"","",null,"",0,"","",0,0,0,null,"",""]
[null,256,null,null,"",null,null,null,null,0,null,null,null,0,null,null,0,null,"","",0,"","",null,"",0,"","",0,0,0,null,"",""]
[null,257,null,null,"",null,null,null,null,0,null,null,null,0,null,null,0,null,"","",0,"","",null,"",0,"","",0,0,0,null,"",""]
[null,258,null,null,"",null,null,null,null,0,null,null,null,0,null,null,0,null,"","",0,"","",null,"",0,"","",0,0,0,null,"",""]
[null,{"$f":"B266+1","v":259},null,null,"",null,null,null,null,0,null,null,null,0,null,null,0,null,"","",0,"","",null,"",0,"","",0,0,0,null,"",""]
[null,260,null,null,"",null,null,null,null,0,null,null,null,0,null,null,0,null,"","",0,"","",null,"",0,"","",0,0,0,null,"",""]
[null,261,null,null,"",null,null,null,null,0,null,null,null,0,null,null,0,null,"","",0,"","",null,"",0,"","",0,0,0,null,"",""]
[null,262,null,null,"",null,null,null,null,0,null,null,null,0,null,null,0,null,"","",0,"","",null,"",0,"","",0,0,0,null,"",""]
[null,263,null,null,"",null,null,null,null,0,null,null,null,0,null,null,0,null,"","",0,"","",null,"",0,"","",0,0,0,null,"",""]
[null,264,null,null,"",null,null,null,null,0,null,null,null,0,null,null,0,null,{"$f":"IF($R272=\"No\",IF(H272=\"\",\"\",H272),\"\")","v":""},"",0,{"$f":"IF($R272=\"No\",IF(K272=\"\",\"\",K272),\"\")","v":""},"",null,{"$f":"IF($X272=\"No\",IF(M272=\"\",\"\",M272),\"\")","v":""},{"$f":"IFERROR(IF($X272=\"No\",N272,IF(Y272=\"\",0,1-VLOOKUP(Y272,Prop_Sens_Table,2,FALSE))),\"N/A\")","v":0},{"$f":"IF($X272=\"No\",IF(O272=\"\",\"\",O272),\"\")","v":""},{"$f":"IF($X272=\"No\",IF(P272=\"\",\"\",P272),\"\")","v":""},{"$f":"IF($R272=\"\", 0,IF(R272=\"No\",Q272,IF(V272=\"\",U272*W272,V272*W272)))","v":0},{"$f":"Q272-AC272","v":0},{"$f":"IFERROR(1-(AC272/Q272),0)","v":0},null,{"$f":"IF(E272=\"\",\"\",VLOOKUP(E272,BuildingType_RunHours,2,FALSE))","v":""},{"$f":"IF(AG272=\"\",\"\",(1-IF(AA272=\"\",Z272,AA272))*AG272)","v":""}]
[null,265,null,null,"",null,null,null,null,0,null,null,null,0,null,null,0,null,"","",0,"","",null,"",0,"","",0,0,0,null,"",""]
[null,266,null,null,"",null,null,null,null,0,null,null,null,0,null,null,0,null,"","",0,"","",null,"",0,"","",0,0,0,null,"",""]
[null,267,null,null,"",null,null,null,null,0,null,null,null,0,null,null,0,null,"","",0,"","",null,"",0,"","",0,0,0,null,"",""]
[null,268,null,null,"",null,null,null,null,0,null,null,null,0,null,null,0,null,"","",0,"","",null,"",0,"","",0,0,0,null,"",""]
[null,269,null,null,"",null,null,null,null,0,null,null,null,0,null,null,0,null,"","",0,"","",null,"",0,"","",0,0,0,null,"",""]
[null,270,null,null,"",null,null,null,null,0,null,null,null,0,null,null,0,null,"","",0,"","",null,"",0,"","",0,0,0,null,"",""]
[null,271,null,null,"",null,null,null,null,0,null,null,null,0,null,null,0,null,"","",0,"","",null,"",0,"","",0,0,0,null,"",""]
[null,272,null,null,"",null,null,null,null,0,null,null,null,0,null,null,0,null,"","",0,"","",null,"",0,"","",0,0,0,null,"",""]
[null,273,null,null,"",null,null,null,null,0,null,null,null,0,null,null,0,null,"","",0,"","",null,"",0,"","",0,0,0,null,"",""]
[null,274,null,null,"",null,null,null,null,0,null,null,null,0,null,null,0,null,"","",0,"","",null,"",0,"","",0,0,0,null,"",""]
[null,275,null,null,"",null,null,null,null,0,null,null,null,0,null,null,0,null,"","",0,"","",null,"",0,"","",0,0,0,null,"",""]
[null,276,null,null,"",null,null,null,null,0,null,null,null,0,null,null,0,null,"","",0,"","",null,"",0,"","",0,0,0,null,"",""]
[null,277,null,null,"",null,null,null,null,0,null,null,null,0,null,null,0,null,"","",0,"","",null,"",0,"","",0,0,0,null,"",""]
[null,278,null,null,"",null,null,null,null,0,null,null,null,0,null,null,0,null,"","",0,"","",null,"",0,"","",0,0,0,null,"",""]
[null,279,null,null,"",null,null,null,null,0,null,null,null,0,null,null,0,null,"","",0,"","",null,"",0,"","",0,0,0,null,"",""]
[null,280,null,null,"",null,null,null,null,0,null,null,null,0,null,null,0,null,"","",0,"","",null,"",0,"","",0,0,0,null,"",""]
[null,281,null,null,"",null,null,null,null,0,null,null,null,0,null,null,0,null,"","",0,"","",null,"",0,"","",0,0,0,null,"",""]
[null,282,null,null,"",null,null,null,null,0,null,null,null,0,null,null,0,null,"","",0,"","",null,"",0,"","",0,0,0,null,"",""]
[null,283,null,null,"",null,null,null,null,0,null,null,null,0,null,null,0,null,"","",0,"","",null,"",0,"","",0,0,0,null,"",""]
[null,284,null,null,"",null,null,null,null,0,null,null,null,0,null,null,0,null,"","",0,"","",null,"",0,"","",0,0,0,null,"",""]
[null,285,null,null,"",null,null,null,null,0,null,null,null,0,null,null,0,null,"","",0,"","",null,"",0,"","",0,0,0,null,"",""]
[null,286,null,null,"",null,null,null,null,0,null,null,null,0,null,null,0,null,"","",0,"","",null,"",0,"","",0,0,0,null,"",""]
[null,287,null,null,"",null,null,null,null,0,null,null,null,0,null,null,0,null,"","",0,"","",null,"",0,"","",0,0,0,null,"",""]
[null,288,null,null,"",null,null,null,null,0,null,null,null,0,null,null,0,null,"","",0,"","",null,"",0,"","",0,0,0,null,"",""]
[null,289,null,null,"",null,null,null,null,0,null,null,null,0,null,null,0,null,"","",0,"","",null,"",0,"","",0,0,0,null,"",""]
[null,290,null,null,"",null,null,null,null,0,null,null,null,0,null,null,0,null,"","",0,"","",null,"",0,"","",0,0,0,null,"",""]
[null,291,null,null,"",null,null,null,null,0,null,null,null,0,null,null,0,null,"","",0,"","",null,"",0,"","",0,0,0,null,"",""]
[null,292,null,null,"",null,null,null,null,0,null,null,null,0,null,null,0,null,"","",0,"","",null,"",0,"","",0,0,0,null,"",""]
[null,293,null,null,"",null,null,null,null,0,null,null,null,0,null,null,0,null,"","",0,"","",null,"",0,"","",0,0,0,null,"",""]
[null,294,null,null,"",null,null,null,null,0,null,null,null,0,null,null,0,null,"","",0,"","",null,"",0,"","",0,0,0,null,"",""]
[null,295,null,null,"",null,null,null,null,0,null,null,null,0,null,null,0,null,"","",0,"","",null,"",0,"","",0,0,0,null,"",""]
[null,296,null,null,"",null,null,null,null,0,null,null,null,0,null,null,0,null,"","",0,"","",null,"",0,"","",0,0,0,null,"",""]
[null,297,null,null,"",null,null,null,null,0,null,null,null,0,null,null,0,null,"","",0,"","",null,"",0,"","",0,0,0,null,"",""]
[null,298,null,null,"",null,null,null,null,0,null,null,null,0,null,null,0,null,"","",0,"","",null,"",0,"","",0,0,0,null,"",""]
[null,299,null,null,"",null,null,null,null,0,null,null,null,0,null,null,0,null,"","",0,"","",null,"",0,"","",0,0,0,null,"",""]
[null,300,null,null,"",null,null,null,null,0,null,null,null,0,null,null,0,null,"","",0,"","",null,"",0,"","",0,0,0,null,"",""]
[null,301,null,null,"",null,null,null,null,0,null,null,null,0,null,null,0,null,"","",0,"","",null,"",0,"","",0,0,0,null,"",""]
[null,302,null,null,"",null,null,null,null,0,null,null,null,0,null,null,0,null,"","",0,"","",null,"",0,"","",0,0,0,null,"",""]
[null,303,null,null,"",null,null,null,null,0,null,null,null,0,null,null,0,null,"","",0,"","",null,"",0,"","",0,0,0,null,"",""]
[null,304,null,null,"",null,null,null,null,0,null,null,null,0,null,null,0,null,"","",0,"","",null,"",0,"","",0,0,0,null,"",""]
[null,305,null,null,"",null,null,null,null,0,null,null,null,0,null,null,0,null,"","",0,"","",null,"",0,"","",0,0,0,null,"",""]
[null,306,null,null,"",null,null,null,null,0,null,null,null,0,null,null,0,null,"","",0,"","",null,"",0,"","",0,0,0,null,"",""]
[null,307,null,null,"",null,null,null,null,0,null,null,null,0,null,null,0,null,"","",0,"","",null,"",0,"","",0,0,0,null,"",""]
[null,308,null,null,"",null,null,null,null,0,null,null,null,0,null,null,0,null,"","",0,"","",null,"",0,"","",0,0,0,null,"",""]
[null,309,null,null,"",null,null,null,null,0,null,null,null,0,null,null,0,null,"","",0,"","",null,"",0,"","",0,0,0,null,"",""]
[null,310,null,null,"",null,null,null,null,0,null,null,null,0,null,null,0,null,"","",0,"","",null,"",0,"","",0,0,0,null,"",""]
[null,311,null,null,"",null,null,null,null,0,null,null,null,0,null,null,0,null,"","",0,"","",null,"",0,"","",0,0,0,null,"",""]
[null,312,null,null,"",null,null,null,null,0,null,null,null,0,null,null,0,null,"","",0,"","",null,"",0,"","",0,0,0,null,"",""]
[null,313,null,null,"",null,null,null,null,0,null,null,null,0,null,null,0,null,"","",0,"","",null,"",0,"","",0,0,0,null,"",""]
[null,314,null,null,"",null,null,null,null,0,null,null,null,0,null,null,0,null,"","",0,"","",null,"",0,"","",0,0,0,null,"",""]
[null,315,null,null,"",null,null,null,null,0,null,null,null,0,null,null,0,null,"","",0,"","",null,"",0,"","",0,0,0,null,"",""]
[null,316,null,null,"",null,null,null,null,0,null,null,null,0,null,null,0,null,"","",0,"","",null,"",0,"","",0,0,0,null,"",""]
[null,317,null,null,"",null,null,null,null,0,null,null,null,0,null,null,0,null,"","",0,"","",null,"",0,"","",0,0,0,null,"",""]
[null,318,null,null,"",null,null,null,null,0,null,null,null,0,null,null,0,null,"","",0,"","",null,"",0,"","",0,0,0,null,"",""]
[null,319,null,null,"",null,null,null,null,0,null,null,null,0,null,null,0,null,"","",0,"","",null,"",0,"","",0,0,0,null,"",""]
[null,320,null,null,"",null,null,null,null,0,null,null,null,0,null,null,0,null,"","",0,"","",null,"",0,"","",0,0,0,null,"",""]
[null,321,null,null,"",null,null,null,null,0,null,null,null,0,null,null,0,null,"","",0,"","",null,"",0,"","",0,0,0,null,"",""]
[null,322,null,null,"",null,null,null,null,0,null,null,null,0,null,null,0,null,"","",0,"","",null,"",0,"","",0,0,0,null,"",""]
[null,{"$f":"B330+1","v":323},null,null,"",null,null,null,null,0,null,null,null,0,null,null,0,null,"","",0,"","",null,"",0,"","",0,0,0,null,"",""]
[null,324,null,null,"",null,null,null,null,0,null,null,null,0,null,null,0,null,"","",0,"","",null,"",0,"","",0,0,0,null,"",""]
[null,325,null,null,"",null,null,null,null,0,null,null,null,0,null,null,0,null,"","",0,"","",null,"",0,"","",0,0,0,null,"",""]
[null,326,null,null,"",null,null,null,null,0,null,null,null,0,null,null,0,null,"","",0,"","",null,"",0,"","",0,0,0,null,"",""]
[null,327,null,null,"",null,null,null,null,0,null,null,null,0,null,null,0,null,"","",0,"","",null,"",0,"","",0,0,0,null,"",""]
[null,328,null,null,"",null,null,null,null,0,null,null,null,0,null,null,0,null,{"$f":"IF($R336=\"No\",IF(H336=\"\",\"\",H336),\"\")","v":""},"",0,{"$f":"IF($R336=\"No\",IF(K336=\"\",\"\",K336),\"\")","v":""},"",null,{"$f":"IF($X336=\"No\",IF(M336=\"\",\"\",M336),\"\")","v":""},{"$f":"IFERROR(IF($X336=\"No\",N336,IF(Y336=\"\",0,1-VLOOKUP(Y336,Prop_Sens_Table,2,FALSE))),\"N/A\")","v":0},{"$f":"IF($X336=\"No\",IF(O336=\"\",\"\",O336),\"\")","v":""},{"$f":"IF($X336=\"No\",IF(P336=\"\",\"\",P336),\"\")","v":""},{"$f":"IF($R336=\"\", 0,IF(R336=\"No\",Q336,IF(V336=\"\",U336*W336,V336*W336)))","v":0},{"$f":"Q336-AC336","v":0},{"$f":"IFERROR(1-(AC336/Q336),0)","v":0},null,{"$f":"IF(E336=\"\",\"\",VLOOKUP(E336,BuildingType_RunHours,2,FALSE))","v":""},{"$f":"IF(AG336=\"\",\"\",(1-IF(AA336=\"\",Z336,AA336))*AG336)","v":""}]
[null,329,null,null,"",null,null,null,null,0,null,null,null,0,null,null,0,null,"","",0,"","",null,"",0,"","",0,0,0,null,"",""]
[null,330,null,null,"",null,null,null,null,0,null,null,null,0,null,null,0,null,"","",0,"","",null,"",0,"","",0,0,0,null,"",""]
[null,331,null,null,"",null,null,null,null,0,null,null,null,0,null,null,0,null,"","",0,"","",null,"",0,"","",0,0,0,null,"",""]
[null,332,null,null,"",null,null,null,null,0,null,null,null,0,null,null,0,null,"","",0,"","",null,"",0,"","",0,0,0,null,"",""]
[null,333,null,null,"",null,null,null,null,0,null,null,null,0,null,null,0,null,"","",0,"","",null,"",0,"","",0,0,0,null,"",""]
[null,334,null,null,"",null,null,null,null,0,null,null,null,0,null,null,0,null,"","",0,"","",null,"",0,"","",0,0,0,null,"",""]
[null,335,null,null,"",null,null,null,null,0,null,null,null,0,null,null,0,null,"","",0,"","",null,"",0,"","",0,0,0,null,"",""]
[null,336,null,null,"",null,null,null,null,0,null,null,null,0,null,null,0,null,"","",0,"","",null,"",0,"","",0,0,0,null,"",""]
[null,337,null,null,"",null,null,null,null,0,null,null,null,0,null,null,0,null,"","",0,"","",null,"",0,"","",0,0,0,null,"",""]
[null,338,null,null,"",null,null,null,null,0,null,null,null,0,null,null,0,null,"","",0,"","",null,"",0,"","",0,0,0,null,"",""]
[null,339,null,null,"",null,null,null,null,0,null,null,null,0,null,null,0,null,"","",0,"","",null,"",0,"","",0,0,0,null,"",""]
[null,340,null,null,"",null,null,null,null,0,null,null,null,0,null,null,0,null,"","",0,"","",null,"",0,"","",0,0,0,null,"",""]
[null,341,null,null,"",null,null,null,null,0,null,null,null,0,null,null,0,null,"","",0,"","",null,"",0,"","",0,0,0,null,"",""]
[null,342,null,null,"",null,null,null,null,0,null,null,null,0,null,null,0,null,"","",0,"","",null,"",0,"","",0,0,0,null,"",""]
[null,343,null,null,"",null,null,null,null,0,null,null,null,0,null,null,0,null,"","",0,"","",null,"",0,"","",0,0,0,null,"",""]
[null,344,null,null,"",null,null,null,null,0,null,null,null,0,null,null,0,null,"","",0,"","",null,"",0,"","",0,0,0,null,"",""]
[null,345,null,null,"",null,null,null,null,0,null,null,null,0,null,null,0,null,"","",0,"","",null,"",0,"","",0,0,0,null,"",""]
[null,346,null,null,"",null,null,null,null,0,null,null,null,0,null,null,0,null,"","",0,"","",null,"",0,"","",0,0,0,null,"",""]
[null,347,null,null,"",null,null,null,null,0,null,null,null,0,null,null,0,null,"","",0,"","",null,"",0,"","",0,0,0,null,"",""]
[null,348,null,null,"",null,null,null,null,0,null,null,null,0,null,null,0,null,"","",0,"","",null,"",0,"","",0,0,0,null,"",""]
[null,349,null,null,"",null,null,null,null,0,null,null,null,0,null,null,0,null,"","",0,"","",null,"",0,"","",0,0,0,null,"",""]
[null,350,null,null,"",null,null,null,null,0,null,null,null,0,null,null,0,null,"","",0,"","",null,"",0,"","",0,0,0,null,"",""]
[null,351,null,null,"",null,null,null,null,0,null,null,null,0,null,null,0,null,"","",0,"","",null,"",0,"","",0,0,0,null,"",""]
[null,352,null,null,"",null,null,null,null,0,null,null,null,0,null,null,0,null,"","",0,"","",null,"",0,"","",0,0,0,null,"",""]
[null,353,null,null,"",null,null,null,null,0,null,null,null,0,null,null,0,null,"","",0,"","",null,"",0,"","",0,0,0,null,"",""]
[null,354,null,null,"",null,null,null,null,0,null,null,null,0,null,null,0,null,"","",0,"","",null,"",0,"","",0,0,0,null,"",""]
[null,355,null,null,"",null,null,null,null,0,null,null,null,0,null,null,0,null,"","",0,"","",null,"",0,"","",0,0,0,null,"",""]
[null,356,null,null,"",null,null,null,null,0,null,null,null,0,null,null,0,null,"","",0,"","",null,"",0,"","",0,0,0,null,"",""]
[null,357,null,null,"",null,null,null,null,0,null,null,null,0,null,null,0,null,"","",0,"","",null,"",0,"","",0,0,0,null,"",""]
[null,358,null,null,"",null,null,null,null,0,null,null,null,0,null,null,0,null,"","",0,"","",null,"",0,"","",0,0,0,null,"",""]
[null,359,null,null,"",null,null,null,null,0,null,null,null,0,null,null,0,null,"","",0,"","",null,"",0,"","",0,0,0,null,"",""]
[null,360,null,null,"",null,null,null,null,0,null,null,null,0,null,null,0,null,"","",0,"","",null,"",0,"","",0,0,0,null,"",""]
[null,361,null,null,"",null,null,null,null,0,null,null,null,0,null,null,0,null,"","",0,"","",null,"",0,"","",0,0,0,null,"",""]
[null,362,null,null,"",null,null,null,null,0,null,null,null,0,null,null,0,null,"","",0,"","",null,"",0,"","",0,0,0,null,"",""]
[null,363,null,null,"",null,null,null,null,0,null,null,null,0,null,null,0,null,"","",0,"","",null,"",0,"","",0,0,0,null,"",""]
[null,364,null,null,"",null,null,null,null,0,null,null,null,0,null,null,0,null,"","",0,"","",null,"",0,"","",0,0,0,null,"",""]
[null,365,null,null,"",null,null,null,null,0,null,null,null,0,null,null,0,null,"","",0,"","",null,"",0,"","",0,0,0,null,"",""]
[null,366,null,null,"",null,null,null,null,0,null,null,null,0,null,null,0,null,"","",0,"","",null,"",0,"","",0,0,0,null,"",""]
[null,367,null,null,"",null,null,null,null,0,null,null,null,0,null,null,0,null,"","",0,"","",null,"",0,"","",0,0,0,null,"",""]
[null,368,null,null,"",null,null,null,null,0,null,null,null,0,null,null,0,null,"","",0,"","",null,"",0,"","",0,0,0,null,"",""]
[null,369,null,null,"",null,null,null,null,0,null,null,null,0,null,null,0,null,"","",0,"","",null,"",0,"","",0,0,0,null,"",""]
[null,370,null,null,"",null,null,null,null,0,null,null,null,0,null,null,0,null,"","",0,"","",null,"",0,"","",0,0,0,null,"",""]
[null,371,null,null,"",null,null,null,null,0,null,null,null,0,null,null,0,null,"","",0,"","",null,"",0,"","",0,0,0,null,"",""]
[null,372,null,null,"",null,null,null,null,0,null,null,null,0,null,null,0,null,"","",0,"","",null,"",0,"","",0,0,0,null,"",""]
[null,373,null,null,"",null,null,null,null,0,null,null,null,0,null,null,0,null,"","",0,"","",null,"",0,"","",0,0,0,null,"",""]
[null,374,null,null,"",null,null,null,null,0,null,null,null,0,null,null,0,null,"","",0,"","",null,"",0,"","",0,0,0,null,"",""]
[null,375,null,null,"",null,null,null,null,0,null,null,null,0,null,null,0,null,"","",0,"","",null,"",0,"","",0,0,0,null,"",""]
[null,376,null,null,"",null,null,null,null,0,null,null,null,0,null,null,0,null,"","",0,"","",null,"",0,"","",0,0,0,null,"",""]
[null,377,null,null,"",null,null,null,null,0,null,null,null,0,null,null,0,null,"","",0,"","",null,"",0,"","",0,0,0,null,"",""]
[null,378,null,null,"",null,null,null,null,0,null,null,null,0,null,null,0,null,"","",0,"","",null,"",0,"","",0,0,0,null,"",""]
[null,379,null,null,"",null,null,null,null,0,null,null,null,0,null,null,0,null,"","",0,"","",null,"",0,"","",0,0,0,null,"",""]
[null,380,null,null,"",null,null,null,null,0,null,null,null,0,null,null,0,null,"","",0,"","",null,"",0,"","",0,0,0,null,"",""]
[null,381,null,null,"",null,null,null,null,0,null,null,null,0,null,null,0,null,"","",0,"","",null,"",0,"","",0,0,0,null,"",""]
[null,382,null,null,"",null,null,null,null,0,null,null,null,0,null,null,0,null,"","",0,"","",null,"",0,"","",0,0,0,null,"",""]
[null,383,null,null,"",null,null,null,null,0,null,null,null,0,null,null,0,null,"","",0,"","",null,"",0,"","",0,0,0,null,"",""]
[null,384,null,null,"",null,null,null,null,0,null,null,null,0,null,null,0,null,"","",0,"","",null,"",0,"","",0,0,0,null,"",""]
[null,385,null,null,"",null,null,null,null,0,null,null,null,0,null,null,0,null,"","",0,"","",null,"",0,"","",0,0,0,null,"",""]
[null,386,null,null,"",null,null,null,null,0,null,null,null,0,null,null,0,null,"","",0,"","",null,"",0,"","",0,0,0,null,"",""]
[null,{"$f":"B394+1","v":387},null,null,"",null,null,null,null,0,null,null,null,0,null,null,0,null,"","",0,"","",null,"",0,"","",0,0,0,null,"",""]
[null,388,null,null,"",null,null,null,null,0,null,null,null,0,null,null,0,null,"","",0,"","",null,"",0,"","",0,0,0,null,"",""]
[null,389,null,null,"",null,null,null,null,0,null,null,null,0,null,null,0,null,"","",0,"","",null,"",0,"","",0,0,0,null,"",""]
[null,390,null,null,"",null,null,null,null,0,null,null,null,0,null,null,0,null,"","",0,"","",null,"",0,"","",0,0,0,null,"",""]
[null,391,null,null,"",null,null,null,null,0,null,null,null,0,null,null,0,null,"","",0,"","",null,"",0,"","",0,0,0,null,"",""]
[null,392,null,null,"",null,null,null,null,0,null,null,null,0,null,null,0,null,{"$f":"IF($R400=\"No\",IF(H400=\"\",\"\",H400),\"\")","v":""},"",0,{"$f":"IF($R400=\"No\",IF(K400=\"\",\"\",K400),\"\")","v":""},"",null,{"$f":"IF($X400=\"No\",IF(M400=\"\",\"\",M400),\"\")","v":""},{"$f":"IFERROR(IF($X400=\"No\",N400,IF(Y400=\"\",0,1-VLOOKUP(Y400,Prop_Sens_Table,2,FALSE))),\"N/A\")","v":0},{"$f":"IF($X400=\"No\",IF(O400=\"\",\"\",O400),\"\")","v":""},{"$f":"IF($X400=\"No\",IF(P400=\"\",\"\",P400),\"\")","v":""},{"$f":"IF($R400=\"\", 0,IF(R400=\"No\",Q400,IF(V400=\"\",U400*W400,V400*W400)))","v":0},{"$f":"Q400-AC400","v":0},{"$f":"IFERROR(1-(AC400/Q400),0)","v":0},null,{"$f":"IF(E400=\"\",\"\",VLOOKUP(E400,BuildingType_RunHours,2,FALSE))","v":""},{"$f":"IF(AG400=\"\",\"\",(1-IF(AA400=\"\",Z400,AA400))*AG400)","v":""}]
[null,393,null,null,"",null,null,null,null,0,null,null,null,0,null,null,0,null,"","",0,"","",null,"",0,"","",0,0,0,null,"",""]
[null,394,null,null,"",null,null,null,null,0,null,null,null,0,null,null,0,null,"","",0,"","",null,"",0,"","",0,0,0,null,"",""]
[null,395,null,null,"",null,null,null,null,0,null,null,null,0,null,null,0,null,"","",0,"","",null,"",0,"","",0,0,0,null,"",""]
[null,396,null,null,"",null,null,null,null,0,null,null,null,0,null,null,0,null,"","",0,"","",null,"",0,"","",0,0,0,null,"",""]
[null,397,null,null,"",null,null,null,null,0,null,null,null,0,null,null,0,null,"","",0,"","",null,"",0,"","",0,0,0,null,"",""]
[null,398,null,null,"",null,null,null,null,0,null,null,null,0,null,null,0,null,"","",0,"","",null,"",0,"","",0,0,0,null,"",""]
[null,399,null,null,"",null,null,null,null,0,null,null,null,0,null,null,0,null,"","",0,"","",null,"",0,"","",0,0,0,null,"",""]
[null,400,null,null,null,null,null,null,null,{"$f":"IFERROR(IF(H408=\"\",0,VLOOKUP(H408,Exist_Fix_Table,2,FALSE)),\"N/A\")","v":0},null,null,null,{"$f":"IFERROR(IF(M408=\"\",0,1-VLOOKUP(M408,Prop_Sens_Table,2,FALSE)),\"N/A\")","v":0},null,null,{"$f":"IF(K408=\"\",N(J408)*L408,K408*L408)","v":0},null,{"$f":"IF($R408=\"No\",IF(H408=\"\",\"\",H408),\"\")","v":""},{"$f":"IF($R408=\"No\",IF(I408=\"\",\"\",I408),\"\")","v":""},{"$f":"IFERROR(IF(R408=\"No\",J408,IF(S408=\"\",0,IF(S408=\"**No Upgrade (controls only)**\",J408,VLOOKUP(S408,Prop_Fix_Table,2,FALSE)))),\"N/A\")","v":0},{"$f":"IF($R408=\"No\",IF(K408=\"\",\"\",K408),\"\")","v":""},{"$f":"IF($R408=\"No\",IF(L408=\"\",\"\",L408),\"\")","v":""},null,{"$f":"IF($X408=\"No\",IF(M408=\"\",\"\",M408),\"\")","v":""},{"$f":"IFERROR(IF($X408=\"No\",N408,IF(Y408=\"\",0,1-VLOOKUP(Y408,Prop_Sens_Table,2,FALSE))),\"N/A\")","v":0},{"$f":"IF($X408=\"No\",IF(O408=\"\",\"\",O408),\"\")","v":""},{"$f":"IF($X408=\"No\",IF(P408=\"\",\"\",P408),\"\")","v":""},{"$f":"IF($R408=\"\", 0,IF(R408=\"No\",Q408,IF(V408=\"\",U408*W408,V408*W408)))","v":0},{"$f":"Q408-AC408","v":0},{"$f":"IFERROR(1-(AC408/Q408),0)","v":0}]
[null,401,null,null,null,null,null,null,null,0,null,null,null,0,null,null,0,null,"","",0,"","",null,"",0,"","",0,0,0]
[null,402,null,null,null,null,null,null,null,0,null,null,null,0,null,null,0,null,"","",0,"","",null,"",0,"","",0,0,0]
[null,403,null,null,null,null,null,null,null,0,null,null,null,0,null,null,0,null,"","",0,"","",null,"",0,"","",0,0,0]
[null,404,null,null,null,null,null,null,null,0,null,null,null,0,null,null,0,null,"","",0,"","",null,"",0,"","",0,0,0]
[null,405,null,null,null,null,null,null,null,0,null,null,null,0,null,null,0,null,"","",0,"","",null,"",0,"","",0,0,0]
[null,406,null,null,null,null,null,null,null,0,null,null,null,0,null,null,0,null,"","",0,"","",null,"",0,"","",0,0,0]
[null,407,null,null,null,null,null,null,null,0,null,null,null,0,null,null,0,null,"","",0,"","",null,"",0,"","",0,0,0]
[null,408,null,null,null,null,null,null,null,0,null,null,null,0,null,null,0,null,"","",0,"","",null,"",0,"","",0,0,0]
[null,409,null,null,null,null,null,null,null,0,null,null,null,0,null,null,0,null,"","",0,"","",null,"",0,"","",0,0,0]
[null,410,null,null,null,null,null,null,null,0,null,null,null,0,null,null,0,null,"","",0,"","",null,"",0,"","",0,0,0]
[null,411,null,null,null,null,null,null,null,0,null,null,null,0,null,null,0,null,"","",0,"","",null,"",0,"","",0,0,0]
[null,412,null,null,null,null,null,null,null,0,null,null,null,0,null,null,0,null,"","",0,"","",null,"",0,"","",0,0,0]
[null,413,null,null,null,null,null,null,null,0,null,null,null,0,null,null,0,null,"","",0,"","",null,"",0,"","",0,0,0]
[null,414,null,null,null,null,null,null,null,0,null,null,null,0,null,null,0,null,"","",0,"","",null,"",0,"","",0,0,0]
[null,415,null,null,null,null,null,null,null,0,null,null,null,0,null,null,0,null,"","",0,"","",null,"",0,"","",0,0,0]
[null,416,null,null,null,null,null,null,null,0,null,null,null,0,null,null,0,null,"","",0,"","",null,"",0,"","",0,0,0]
[null,417,null,null,null,null,null,null,null,0,null,null,null,0,null,null,0,null,"","",0,"","",null,"",0,"","",0,0,0]
[null,418,null,null,null,null,null,null,null,0,null,null,null,0,null,null,0,null,"","",0,"","",null,"",0,"","",0,0,0]
[null,419,null,null,null,null,null,null,null,0,null,null,null,0,null,null,0,null,"","",0,"","",null,"",0,"","",0,0,0]
[null,420,null,null,null,null,null,null,null,0,null,null,null,0,null,null,0,null,"","",0,"","",null,"",0,"","",0,0,0]
[null,421,null,null,null,null,null,null,null,0,null,null,null,0,null,null,0,null,"","",0,"","",null,"",0,"","",0,0,0]
[null,422,null,null,null,null,null,null,null,0,null,null,null,0,null,null,0,null,"","",0,"","",null,"",0,"","",0,0,0]
[null,423,null,null,null,null,null,null,null,0,null,null,null,0,null,null,0,null,"","",0,"","",null,"",0,"","",0,0,0]
[null,424,null,null,null,null,null,null,null,0,null,null,null,0,null,null,0,null,"","",0,"","",null,"",0,"","",0,0,0]
[null,425,null,null,null,null,null,null,null,0,null,null,null,0,null,null,0,null,"","",0,"","",null,"",0,"","",0,0,0]
[null,426,null,null,null,null,null,null,null,0,null,null,null,0,null,null,0,null,"","",0,"","",null,"",0,"","",0,0,0]
[null,427,null,null,null,null,null,null,null,0,null,null,null,0,null,null,0,null,"","",0,"","",null,"",0,"","",0,0,0]
[null,428,null,null,null,null,null,null,null,0,null,null,null,0,null,null,0,null,"","",0,"","",null,"",0,"","",0,0,0]
[null,429,null,null,null,null,null,null,null,0,null,null,null,0,null,null,0,null,"","",0,"","",null,"",0,"","",0,0,0]
[null,430,null,null,null,null,null,null,null,0,null,null,null,0,null,null,0,null,"","",0,"","",null,"",0,"","",0,0,0]
[null,431,null,null,null,null,null,null,null,0,null,null,null,0,null,null,0,null,"","",0,"","",null,"",0,"","",0,0,0]
[null,432,null,null,null,null,null,null,null,0,null,null,null,0,null,null,0,null,"","",0,"","",null,"",0,"","",0,0,0]
[null,433,null,null,null,null,null,null,null,0,null,null,null,0,null,null,0,null,"","",0,"","",null,"",0,"","",0,0,0]
[null,434,null,null,null,null,null,null,null,0,null,null,null,0,null,null,0,null,"","",0,"","",null,"",0,"","",0,0,0]
[null,435,null,null,null,null,null,null,null,0,null,null,null,0,null,null,0,null,"","",0,"","",null,"",0,"","",0,0,0]
[null,436,null,null,null,null,null,null,null,0,null,null,null,0,null,null,0,null,"","",0,"","",null,"",0,"","",0,0,0]
[null,437,null,null,null,null,null,null,null,0,null,null,null,0,null,null,0,null,"","",0,"","",null,"",0,"","",0,0,0]
[null,438,null,null,null,null,null,null,null,0,null,null,null,0,null,null,0,null,"","",0,"","",null,"",0,"","",0,0,0]
[null,439,null,null,null,null,null,null,null,0,null,null,null,0,null,null,0,null,"","",0,"","",null,"",0,"","",0,0,0]
[null,440,null,null,null,null,null,null,null,0,null,null,null,0,null,null,0,null,"","",0,"","",null,"",0,"","",0,0,0]
[null,441,null,null,null,null,null,null,null,0,null,null,null,0,null,null,0,null,"","",0,"","",null,"",0,"","",0,0,0]
[null,442,null,null,null,null,null,null,null,0,null,null,null,0,null,null,0,null,"","",0,"","",null,"",0,"","",0,0,0]
[null,443,null,null,null,null,null,null,null,0,null,null,null,0,null,null,0,null,"","",0,"","",null,"",0,"","",0,0,0]
[null,444,null,null,null,null,null,null,null,0,null,null,null,0,null,null,0,null,"","",0,"","",null,"",0,"","",0,0,0]
[null,445,null,null,null,null,null,null,null,0,null,null,null,0,null,null,0,null,"","",0,"","",null,"",0,"","",0,0,0]
[null,446,null,null,null,null,null,null,null,0,null,null,null,0,null,null,0,null,"","",0,"","",null,"",0,"","",0,0,0]
[null,447,null,null,null,null,null,null,null,0,null,null,null,0,null,null,0,null,"","",0,"","",null,"",0,"","",0,0,0]
[null,448,null,null,null,null,null,null,null,0,null,null,null,0,null,null,0,null,"","",0,"","",null,"",0,"","",0,0,0]
[null,449,null,null,null,null,null,null,null,0,null,null,null,0,null,null,0,null,"","",0,"","",null,"",0,"","",0,0,0]
[null,450,null,null,null,null,null,null,null,0,null,null,null,0,null,null,0,null,"","",0,"","",null,"",0,"","",0,0,0]
[null,451,null,null,null,null,null,null,null,0,null,null,null,0,null,null,0,null,"","",0,"","",null,"",0,"","",0,0,0]
[null,452,null,null,null,null,null,null,null,0,null,null,null,0,null,null,0,null,"","",0,"","",null,"",0,"","",0,0,0]
[null,453,null,null,null,null,null,null,null,0,null,null,null,0,null,null,0,null,"","",0,"","",null,"",0,"","",0,0,0]
[null,454,null,null,null,null,null,null,null,0,null,null,null,0,null,null,0,null,"","",0,"","",null,"",0,"","",0,0,0]
[null,455,null,null,null,null,null,null,null,0,null,null,null,0,null,null,0,null,"","",0,"","",null,"",0,"","",0,0,0]
[null,456,null,null,null,null,null,null,null,0,null,null,null,0,null,null,0,null,"","",0,"","",null,"",0,"","",0,0,0]
[null,457,null,null,null,null,null,null,null,0,null,null,null,0,null,null,0,null,"","",0,"","",null,"",0,"","",0,0,0]
[null,458,null,null,null,null,null,null,null,0,null,null,null,0,null,null,0,null,"","",0,"","",null,"",0,"","",0,0,0]
[null,459,null,null,null,null,null,null,null,0,null,null,null,0,null,null,0,null,"","",0,"","",null,"",0,"","",0,0,0]
[null,460,null,null,null,null,null,null,null,0,null,null,null,0,null,null,0,null,"","",0,"","",null,"",0,"","",0,0,0]
[null,461,null,null,null,null,null,null,null,0,null,null,null,0,null,null,0,null,"","",0,"","",null,"",0,"","",0,0,0]
[null,462,null,null,null,null,null,null,null,0,null,null,null,0,null,null,0,null,"","",0,"","",null,"",0,"","",0,0,0]
[null,463,null,null,null,null,null,null,null,0,null,null,null,0,null,null,0,null,"","",0,"","",null,"",0,"","",0,0,0]
[null,464,null,null,null,null,null,null,null,{"$f":"IFERROR(IF(H472=\"\",0,VLOOKUP(H472,Exist_Fix_Table,2,FALSE)),\"N/A\")","v":0},null,null,null,{"$f":"IFERROR(IF(M472=\"\",0,1-VLOOKUP(M472,Prop_Sens_Table,2,FALSE)),\"N/A\")","v":0},null,null,{"$f":"IF(K472=\"\",N(J472)*L472,K472*L472)","v":0},null,{"$f":"IF($R472=\"No\",IF(H472=\"\",\"\",H472),\"\")","v":""},{"$f":"IF($R472=\"No\",IF(I472=\"\",\"\",I472),\"\")","v":""},{"$f":"IFERROR(IF(R472=\"No\",J472,IF(S472=\"\",0,IF(S472=\"**No Upgrade (controls only)**\",J472,VLOOKUP(S472,Prop_Fix_Table,2,FALSE)))),\"N/A\")","v":0},{"$f":"IF($R472=\"No\",IF(K472=\"\",\"\",K472),\"\")","v":""},{"$f":"IF($R472=\"No\",IF(L472=\"\",\"\",L472),\"\")","v":""},null,{"$f":"IF($X472=\"No\",IF(M472=\"\",\"\",M472),\"\")","v":""},{"$f":"IFERROR(IF($X472=\"No\",N472,IF(Y472=\"\",0,1-VLOOKUP(Y472,Prop_Sens_Table,2,FALSE))),\"N/A\")","v":0},{"$f":"IF($X472=\"No\",IF(O472=\"\",\"\",O472),\"\")","v":""},{"$f":"IF($X472=\"No\",IF(P472=\"\",\"\",P472),\"\")","v":""},{"$f":"IF($R472=\"\", 0,IF(R472=\"No\",Q472,IF(V472=\"\",U472*W472,V472*W472)))","v":0},{"$f":"Q472-AC472","v":0},{"$f":"IFERROR(1-(AC472/Q472),0)","v":0}]
[null,465,null,null,null,null,null,null,null,0,null,null,null,0,null,null,0,null,"","",0,"","",null,"",0,"","",0,0,0]
[null,466,null,null,null,null,null,null,null,0,null,null,null,0,null,null,0,null,"","",0,"","",null,"",0,"","",0,0,0]
[null,467,null,null,null,null,null,null,null,0,null,null,null,0,null,null,0,null,"","",0,"","",null,"",0,"","",0,0,0]
[null,468,null,null,null,null,null,null,null,0,null,null,null,0,null,null,0,null,"","",0,"","",null,"",0,"","",0,0,0]
[null,469,null,null,null,null,null,null,null,0,null,null,null,0,null,null,0,null,"","",0,"","",null,"",0,"","",0,0,0]
[null,470,null,null,null,null,null,null,null,0,null,null,null,0,null,null,0,null,"","",0,"","",null,"",0,"","",0,0,0]
[null,471,null,null,null,null,null,null,null,0,null,null,null,0,null,null,0,null,"","",0,"","",null,"",0,"","",0,0,0]
[null,472,null,null,null,null,null,null,null,0,null,null,null,0,null,null,0,null,"","",0,"","",null,"",0,"","",0,0,0]
[null,473,null,null,null,null,null,null,null,0,null,null,null,0,null,null,0,null,"","",0,"","",null,"",0,"","",0,0,0]
[null,474,null,null,null,null,null,null,null,0,null,null,null,0,null,null,0,null,"","",0,"","",null,"",0,"","",0,0,0]
[null,475,null,null,null,null,null,null,null,0,null,null,null,0,null,null,0,null,"","",0,"","",null,"",0,"","",0,0,0]
[null,476,null,null,null,null,null,null,null,0,null,null,null,0,null,null,0,null,"","",0,"","",null,"",0,"","",0,0,0]
[null,477,null,null,null,null,null,null,null,0,null,null,null,0,null,null,0,null,"","",0,"","",null,"",0,"","",0,0,0]
[null,478,null,null,null,null,null,null,null,0,null,null,null,0,null,null,0,null,"","",0,"","",null,"",0,"","",0,0,0]
[null,479,null,null,null,null,null,null,null,0,null,null,null,0,null,null,0,null,"","",0,"","",null,"",0,"","",0,0,0]
[null,480,null,null,null,null,null,null,null,0,null,null,null,0,null,null,0,null,"","",0,"","",null,"",0,"","",0,0,0]
[null,481,null,null,null,null,null,null,null,0,null,null,null,0,null,null,0,null,"","",0,"","",null,"",0,"","",0,0,0]
[null,482,null,null,null,null,null,null,null,0,null,null,null,0,null,null,0,null,"","",0,"","",null,"",0,"","",0,0,0]
[null,483,null,null,null,null,null,null,null,0,null,null,null,0,null,null,0,null,"","",0,"","",null,"",0,"","",0,0,0]
[null,484,null,null,null,null,null,null,null,0,null,null,null,0,null,null,0,null,"","",0,"","",null,"",0,"","",0,0,0]
[null,485,null,null,null,null,null,null,null,0,null,null,null,0,null,null,0,null,"","",0,"","",null,"",0,"","",0,0,0]
[null,486,null,null,null,null,null,null,null,0,null,null,null,0,null,null,0,null,"","",0,"","",null,"",0,"","",0,0,0]
[null,487,null,null,null,null,null,null,null,0,null,null,null,0,null,null,0,null,"","",0,"","",null,"",0,"","",0,0,0]
[null,488,null,null,null,null,null,null,null,0,null,null,null,0,null,null,0,null,"","",0,"","",null,"",0,"","",0,0,0]
[null,489,null,null,null,null,null,null,null,0,null,null,null,0,null,null,0,null,"","",0,"","",null,"",0,"","",0,0,0]
[null,490,null,null,null,null,null,null,null,0,null,null,null,0,null,null,0,null,"","",0,"","",null,"",0,"","",0,0,0]
[null,491,null,null,null,null,null,null,null,0,null,null,null,0,null,null,0,null,"","",0,"","",null,"",0,"","",0,0,0]
[null,492,null,null,null,null,null,null,null,0,null,null,null,0,null,null,0,null,"","",0,"","",null,"",0,"","",0,0,0]
[null,493,null,null,null,null,null,null,null,0,null,null,null,0,null,null,0,null,"","",0,"","",null,"",0,"","",0,0,0]
[null,494,null,null,null,null,null,null,null,0,null,null,null,0,null,null,0,null,"","",0,"","",null,"",0,"","",0,0,0]
[null,495,null,null,null,null,null,null,null,0,null,null,null,0,null,null,0,null,"","",0,"","",null,"",0,"","",0,0,0]
[null,496,null,null,null,null,null,null,null,0,null,null,null,0,null,null,0,null,"","",0,"","",null,"",0,"","",0,0,0]
[null,497,null,null,null,null,null,null,null,0,null,null,null,0,null,null,0,null,"","",0,"","",null,"",0,"","",0,0,0]
[null,498,null,null,null,null,null,null,null,0,null,null,null,0,null,null,0,null,"","",0,"","",null,"",0,"","",0,0,0]
[null,499,null,null,null,null,null,null,null,0,null,null,null,0,null,null,0,null,"","",0,"","",null,"",0,"","",0,0,0]
[null,500,null,null,null,null,null,null,null,0,null,null,null,0,null,null,0,null,"","",0,"","",null,"",0,"","",0,0,0]
[null,501,null,null,null,null,null,null,null,0,null,null,null,0,null,null,0,null,"","",0,"","",null,"",0,"","",0,0,0]
[null,502,null,null,null,null,null,null,null,0,null,null,null,0,null,null,0,null,"","",0,"","",null,"",0,"","",0,0,0]
[null,503,null,null,null,null,null,null,null,0,null,null,null,0,null,null,0,null,"","",0,"","",null,"",0,"","",0,0,0]
[null,504,null,null,null,null,null,null,null,0,null,null,null,0,null,null,0,null,"","",0,"","",null,"",0,"","",0,0,0]
[null,505,null,null,null,null,null,null,null,0,null,null,null,0,null,null,0,null,"","",0,"","",null,"",0,"","",0,0,0]
[null,506,null,null,null,null,null,null,null,0,null,null,null,0,null,null,0,null,"","",0,"","",null,"",0,"","",0,0,0]
[null,507,null,null,null,null,null,null,null,0,null,null,null,0,null,null,0,null,"","",0,"","",null,"",0,"","",0,0,0]
[null,508,null,null,null,null,null,null,null,0,null,null,null,0,null,null,0,null,"","",0,"","",null,"",0,"","",0,0,0]
[null,509,null,null,null,null,null,null,null,0,null,null,null,0,null,null,0,null,"","",0,"","",null,"",0,"","",0,0,0]
[null,510,null,null,null,null,null,null,null,0,null,null,null,0,null,null,0,null,"","",0,"","",null,"",0,"","",0,0,0]
[null,511,null,null,null,null,null,null,null,0,null,null,null,0,null,null,0,null,"","",0,"","",null,"",0,"","",0,0,0]
[null,512,null,null,null,null,null,null,null,0,null,null,null,0,null,null,0,null,"","",0,"","",null,"",0,"","",0,0,0]
[null,513,null,null,null,null,null,null,null,0,null,null,null,0,null,null,0,null,"","",0,"","",null,"",0,"","",0,0,0]
[null,514,null,null,null,null,null,null,null,0,null,null,null,0,null,null,0,null,"","",0,"","",null,"",0,"","",0,0,0]
[null,515,null,null,null,null,null,null,null,0,null,null,null,0,null,null,0,null,"","",0,"","",null,"",0,"","",0,0,0]
[null,516,null,null,null,null,null,null,null,0,null,null,null,0,null,null,0,null,"","",0,"","",null,"",0,"","",0,0,0]
[null,517,null,null,null,null,null,null,null,0,null,null,null,0,null,null,0,null,"","",0,"","",null,"",0,"","",0,0,0]
[null,518,null,null,null,null,null,null,null,0,null,null,null,0,null,null,0,null,"","",0,"","",null,"",0,"","",0,0,0]
[null,519,null,null,null,null,null,null,null,0,null,null,null,0,null,null,0,null,"","",0,"","",null,"",0,"","",0,0,0]
[null,520,null,null,null,null,null,null,null,0,null,null,null,0,null,null,0,null,"","",0,"","",null,"",0,"","",0,0,0]
[null,521,null,null,null,null,null,null,null,0,null,null,null,0,null,null,0,null,"","",0,"","",null,"",0,"","",0,0,0]
[null,522,null,null,null,null,null,null,null,0,null,null,null,0,null,null,0,null,"","",0,"","",null,"",0,"","",0,0,0]
[null,523,null,null,null,null,null,null,null,0,null,null,null,0,null,null,0,null,"","",0,"","",null,"",0,"","",0,0,0]
[null,524,null,null,null,null,null,null,null,0,null,null,null,0,null,null,0,null,"","",0,"","",null,"",0,"","",0,0,0]
[null,525,null,null,null,null,null,null,null,0,null,null,null,0,null,null,0,null,"","",0,"","",null,"",0,"","",0,0,0]
[null,526,null,null,null,null,null,null,null,0,null,null,null,0,null,null,0,null,"","",0,"","",null,"",0,"","",0,0,0]
[null,527,null,null,null,null,null,null,null,0,null,null,null,0,null,null,0,null,"","",0,"","",null,"",0,"","",0,0,0]
[null,528,null,null,null,null,null,null,null,{"$f":"IFERROR(IF(H536=\"\",0,VLOOKUP(H536,Exist_Fix_Table,2,FALSE)),\"N/A\")","v":0},null,null,null,{"$f":"IFERROR(IF(M536=\"\",0,1-VLOOKUP(M536,Prop_Sens_Table,2,FALSE)),\"N/A\")","v":0},null,null,{"$f":"IF(K536=\"\",N(J536)*L536,K536*L536)","v":0},null,{"$f":"IF($R536=\"No\",IF(H536=\"\",\"\",H536),\"\")","v":""},{"$f":"IF($R536=\"No\",IF(I536=\"\",\"\",I536),\"\")","v":""},{"$f":"IFERROR(IF(R536=\"No\",J536,IF(S536=\"\",0,IF(S536=\"**No Upgrade (controls only)**\",J536,VLOOKUP(S536,Prop_Fix_Table,2,FALSE)))),\"N/A\")","v":0},{"$f":"IF($R536=\"No\",IF(K536=\"\",\"\",K536),\"\")","v":""},{"$f":"IF($R536=\"No\",IF(L536=\"\",\"\",L536),\"\")","v":""},null,{"$f":"IF($X536=\"No\",IF(M536=\"\",\"\",M536),\"\")","v":""},{"$f":"IFERROR(IF($X536=\"No\",N536,IF(Y536=\"\",0,1-VLOOKUP(Y536,Prop_Sens_Table,2,FALSE))),\"N/A\")","v":0},{"$f":"IF($X536=\"No\",IF(O536=\"\",\"\",O536),\"\")","v":""},{"$f":"IF($X536=\"No\",IF(P536=\"\",\"\",P536),\"\")","v":""},{"$f":"IF($R536=\"\", 0,IF(R536=\"No\",Q536,IF(V536=\"\",U536*W536,V536*W536)))","v":0},{"$f":"Q536-AC536","v":0},{"$f":"IFERROR(1-(AC536/Q536),0)","v":0}]
[null,529,null,null,null,null,null,null,null,0,null,null,null,0,null,null,0,null,"","",0,"","",null,"",0,"","",0,0,0]
[null,530,null,null,null,null,null,null,null,0,null,null,null,0,null,null,0,null,"","",0,"","",null,"",0,"","",0,0,0]
[null,531,null,null,null,null,null,null,null,0,null,null,null,0,null,null,0,null,"","",0,"","",null,"",0,"","",0,0,0]
[null,532,null,null,null,null,null,null,null,0,null,null,null,0,null,null,0,null,"","",0,"","",null,"",0,"","",0,0,0]
[null,533,null,null,null,null,null,null,null,0,null,null,null,0,null,null,0,null,"","",0,"","",null,"",0,"","",0,0,0]
[null,534,null,null,null,null,null,null,null,0,null,null,null,0,null,null,0,null,"","",0,"","",null,"",0,"","",0,0,0]
[null,535,null,null,null,null,null,null,null,0,null,null,null,0,null,null,0,null,"","",0,"","",null,"",0,"","",0,0,0]
[null,536,null,null,null,null,null,null,null,0,null,null,null,0,null,null,0,null,"","",0,"","",null,"",0,"","",0,0,0]
[null,537,null,null,null,null,null,null,null,0,null,null,null,0,null,null,0,null,"","",0,"","",null,"",0,"","",0,0,0]
[null,538,null,null,null,null,null,null,null,0,null,null,null,0,null,null,0,null,"","",0,"","",null,"",0,"","",0,0,0]
[null,539,null,null,null,null,null,null,null,0,null,null,null,0,null,null,0,null,"","",0,"","",null,"",0,"","",0,0,0]
[null,540,null,null,null,null,null,null,null,0,null,null,null,0,null,null,0,null,"","",0,"","",null,"",0,"","",0,0,0]
[null,541,null,null,null,null,null,null,null,0,null,null,null,0,null,null,0,null,"","",0,"","",null,"",0,"","",0,0,0]
[null,542,null,null,null,null,null,null,null,0,null,null,null,0,null,null,0,null,"","",0,"","",null,"",0,"","",0,0,0]
[null,543,null,null,null,null,null,null,null,0,null,null,null,0,null,null,0,null,"","",0,"","",null,"",0,"","",0,0,0]
[null,544,null,null,null,null,null,null,null,0,null,null,null,0,null,null,0,null,"","",0,"","",null,"",0,"","",0,0,0]
[null,545,null,null,null,null,null,null,null,0,null,null,null,0,null,null,0,null,"","",0,"","",null,"",0,"","",0,0,0]
[null,546,null,null,null,null,null,null,null,0,null,null,null,0,null,null,0,null,"","",0,"","",null,"",0,"","",0,0,0]
[null,547,null,null,null,null,null,null,null,0,null,null,null,0,null,null,0,null,"","",0,"","",null,"",0,"","",0,0,0]
[null,548,null,null,null,null,null,null,null,0,null,null,null,0,null,null,0,null,"","",0,"","",null,"",0,"","",0,0,0]
[null,549,null,null,null,null,null,null,null,0,null,null,null,0,null,null,0,null,"","",0,"","",null,"",0,"","",0,0,0]
[null,550,null,null,null,null,null,null,null,0,null,null,null,0,null,null,0,null,"","",0,"","",null,"",0,"","",0,0,0]
[null,551,null,null,null,null,null,null,null,0,null,null,null,0,null,null,0,null,"","",0,"","",null,"",0,"","",0,0,0]
[null,552,null,null,null,null,null,null,null,0,null,null,null,0,null,null,0,null,"","",0,"","",null,"",0,"","",0,0,0]
[null,553,null,null,null,null,null,null,null,0,null,null,null,0,null,null,0,null,"","",0,"","",null,"",0,"","",0,0,0]
[null,554,null,null,null,null,null,null,null,0,null,null,null,0,null,null,0,null,"","",0,"","",null,"",0,"","",0,0,0]
[null,555,null,null,null,null,null,null,null,0,null,null,null,0,null,null,0,null,"","",0,"","",null,"",0,"","",0,0,0]
[null,556,null,null,null,null,null,null,null,0,null,null,null,0,null,null,0,null,"","",0,"","",null,"",0,"","",0,0,0]
[null,557,null,null,null,null,null,null,null,0,null,null,null,0,null,null,0,null,"","",0,"","",null,"",0,"","",0,0,0]
[null,558,null,null,null,null,null,null,null,0,null,null,null,0,null,null,0,null,"","",0,"","",null,"",0,"","",0,0,0]
[null,559,null,null,null,null,null,null,null,0,null,null,null,0,null,null,0,null,"","",0,"","",null,"",0,"","",0,0,0]
[null,560,null,null,null,null,null,null,null,0,null,null,null,0,null,null,0,null,"","",0,"","",null,"",0,"","",0,0,0]
[null,561,null,null,null,null,null,null,null,0,null,null,null,0,null,null,0,null,"","",0,"","",null,"",0,"","",0,0,0]
[null,562,null,null,null,null,null,null,null,0,null,null,null,0,null,null,0,null,"","",0,"","",null,"",0,"","",0,0,0]
[null,563,null,null,null,null,null,null,null,0,null,null,null,0,null,null,0,null,"","",0,"","",null,"",0,"","",0,0,0]
[null,564,null,null,null,null,null,null,null,0,null,null,null,0,null,null,0,null,"","",0,"","",null,"",0,"","",0,0,0]
[null,565,null,null,null,null,null,null,null,0,null,null,null,0,null,null,0,null,"","",0,"","",null,"",0,"","",0,0,0]
[null,566,null,null,null,null,null,null,null,0,null,null,null,0,null,null,0,null,"","",0,"","",null,"",0,"","",0,0,0]
[null,567,null,null,null,null,null,null,null,0,null,null,null,0,null,null,0,null,"","",0,"","",null,"",0,"","",0,0,0]
[null,568,null,null,null,null,null,null,null,0,null,null,null,0,null,null,0,null,"","",0,"","",null,"",0,"","",0,0,0]
[null,569,null,null,null,null,null,null,null,0,null,null,null,0,null,null,0,null,"","",0,"","",null,"",0,"","",0,0,0]
[null,570,null,null,null,null,null,null,null,0,null,null,null,0,null,null,0,null,"","",0,"","",null,"",0,"","",0,0,0]
[null,571,null,null,null,null,null,null,null,0,null,null,null,0,null,null,0,null,"","",0,"","",null,"",0,"","",0,0,0]
[null,572,null,null,null,null,null,null,null,0,null,null,null,0,null,null,0,null,"","",0,"","",null,"",0,"","",0,0,0]
[null,573,null,null,null,null,null,null,null,0,null,null,null,0,null,null,0,null,"","",0,"","",null,"",0,"","",0,0,0]
[null,574,null,null,null,null,null,null,null,0,null,null,null,0,null,null,0,null,"","",0,"","",null,"",0,"","",0,0,0]
[null,575,null,null,null,null,null,null,null,0,null,null,null,0,null,null,0,null,"","",0,"","",null,"",0,"","",0,0,0]
[null,576,null,null,null,null,null,null,null,0,null,null,null,0,null,null,0,null,"","",0,"","",null,"",0,"","",0,0,0]
[null,577,null,null,null,null,null,null,null,0,null,null,null,0,null,null,0,null,"","",0,"","",null,"",0,"","",0,0,0]
[null,578,null,null,null,null,null,null,null,0,null,null,null,0,null,null,0,null,"","",0,"","",null,"",0,"","",0,0,0]
[null,579,null,null,null,null,null,null,null,0,null,null,null,0,null,null,0,null,"","",0,"","",null,"",0,"","",0,0,0]
[null,580,null,null,null,null,null,null,null,0,null,null,null,0,null,null,0,null,"","",0,"","",null,"",0,"","",0,0,0]
[null,581,null,null,null,null,null,null,null,0,null,null,null,0,null,null,0,null,"","",0,"","",null,"",0,"","",0,0,0]
[null,582,null,null,null,null,null,null,null,0,null,null,null,0,null,null,0,null,"","",0,"","",null,"",0,"","",0,0,0]
[null,583,null,null,null,null,null,null,null,0,null,null,null,0,null,null,0,null,"","",0,"","",null,"",0,"","",0,0,0]
[null,584,null,null,null,null,null,null,null,0,null,null,null,0,null,null,0,null,"","",0,"","",null,"",0,"","",0,0,0]
[null,585,null,null,null,null,null,null,null,0,null,null,null,0,null,null,0,null,"","",0,"","",null,"",0,"","",0,0,0]
[null,586,null,null,null,null,null,null,null,0,null,null,null,0,null,null,0,null,"","",0,"","",null,"",0,"","",0,0,0]
[null,587,null,null,null,null,null,null,null,0,null,null,null,0,null,null,0,null,"","",0,"","",null,"",0,"","",0,0,0]
[null,588,null,null,null,null,null,null,null,0,null,null,null,0,null,null,0,null,"","",0,"","",null,"",0,"","",0,0,0]
[null,589,null,null,null,null,null,null,null,0,null,null,null,0,null,null,0,null,"","",0,"","",null,"",0,"","",0,0,0]
[null,590,null,null,null,null,null,null,null,0,null,null,null,0,null,null,0,null,"","",0,"","",null,"",0,"","",0,0,0]
[null,591,null,null,null,null,null,null,null,0,null,null,null,0,null,null,0,null,"","",0,"","",null,"",0,"","",0,0,0]
[null,{"$f":"B599+1","v":592},null,null,null,null,null,null,null,{"$f":"IFERROR(IF(H600=\"\",0,VLOOKUP(H600,Exist_Fix_Table,2,FALSE)),\"N/A\")","v":0},null,null,null,{"$f":"IFERROR(IF(M600=\"\",0,1-VLOOKUP(M600,Prop_Sens_Table,2,FALSE)),\"N/A\")","v":0},null,null,{"$f":"IF(K600=\"\",N(J600)*L600,K600*L600)","v":0},null,{"$f":"IF($R600=\"No\",IF(H600=\"\",\"\",H600),\"\")","v":""},{"$f":"IF($R600=\"No\",IF(I600=\"\",\"\",I600),\"\")","v":""},{"$f":"IFERROR(IF(R600=\"No\",J600,IF(S600=\"\",0,IF(S600=\"**No Upgrade (controls only)**\",J600,VLOOKUP(S600,Prop_Fix_Table,2,FALSE)))),\"N/A\")","v":0},{"$f":"IF($R600=\"No\",IF(K600=\"\",\"\",K600),\"\")","v":""},{"$f":"IF($R600=\"No\",IF(L600=\"\",\"\",L600),\"\")","v":""},null,{"$f":"IF($X600=\"No\",IF(M600=\"\",\"\",M600),\"\")","v":""},{"$f":"IFERROR(IF($X600=\"No\",N600,IF(Y600=\"\",0,1-VLOOKUP(Y600,Prop_Sens_Table,2,FALSE))),\"N/A\")","v":0},{"$f":"IF($X600=\"No\",IF(O600=\"\",\"\",O600),\"\")","v":""},{"$f":"IF($X600=\"No\",IF(P600=\"\",\"\",P600),\"\")","v":""},{"$f":"IF($R600=\"\", 0,IF(R600=\"No\",Q600,IF(V600=\"\",U600*W600,V600*W600)))","v":0},{"$f":"Q600-AC600","v":0},{"$f":"IFERROR(1-(AC600/Q600),0)","v":0}]
[null,593,null,null,null,null,null,null,null,0,null,null,null,0,null,null,0,null,"","",0,"","",null,"",0,"","",0,0,0]
[null,594,null,null,null,null,null,null,null,0,null,null,null,0,null,null,0,null,"","",0,"","",null,"",0,"","",0,0,0]
[null,595,null,null,null,null,null,null,null,0,null,null,null,0,null,null,0,null,"","",0,"","",null,"",0,"","",0,0,0]
[null,596,null,null,null,null,null,null,null,0,null,null,null,0,null,null,0,null,"","",0,"","",null,"",0,"","",0,0,0]
[null,597,null,null,null,null,null,null,null,0,null,null,null,0,null,null,0,null,"","",0,"","",null,"",0,"","",0,0,0]
[null,598,null,null,null,null,null,null,null,0,null,null,null,0,null,null,0,null,"","",0,"","",null,"",0,"","",0,0,0]
[null,599,null,null,null,null,null,null,null,0,null,null,null,0,null,null,0,null,"","",0,"","",null,"",0,"","",0,0,0]
[null,600,null,null,null,null,null,null,null,0,null,null,null,0,null,null,0,null,"","",0,"","",null,"",0,"","",0,0,0]
[null,601,null,null,null,null,null,null,null,0,null,null,null,0,null,null,0,null,"","",0,"","",null,"",0,"","",0,0,0]
[null,602,null,null,null,null,null,null,null,0,null,null,null,0,null,null,0,null,"","",0,"","",null,"",0,"","",0,0,0]
[null,603,null,null,null,null,null,null,null,0,null,null,null,0,null,null,0,null,"","",0,"","",null,"",0,"","",0,0,0]
[null,604,null,null,null,null,null,null,null,0,null,null,null,0,null,null,0,null,"","",0,"","",null,"",0,"","",0,0,0]
[null,605,null,null,null,null,null,null,null,0,null,null,null,0,null,null,0,null,"","",0,"","",null,"",0,"","",0,0,0]
[null,606,null,null,null,null,null,null,null,0,null,null,null,0,null,null,0,null,"","",0,"","",null,"",0,"","",0,0,0]
[null,607,null,null,null,null,null,null,null,0,null,null,null,0,null,null,0,null,"","",0,"","",null,"",0,"","",0,0,0]
[null,608,null,null,null,null,null,null,null,0,null,null,null,0,null,null,0,null,"","",0,"","",null,"",0,"","",0,0,0]
[null,609,null,null,null,null,null,null,null,0,null,null,null,0,null,null,0,null,"","",0,"","",null,"",0,"","",0,0,0]
[null,610,null,null,null,null,null,null,null,0,null,null,null,0,null,null,0,null,"","",0,"","",null,"",0,"","",0,0,0]
[null,611,null,null,null,null,null,null,null,0,null,null,null,0,null,null,0,null,"","",0,"","",null,"",0,"","",0,0,0]
[null,612,null,null,null,null,null,null,null,0,null,null,null,0,null,null,0,null,"","",0,"","",null,"",0,"","",0,0,0]
[null,613,null,null,null,null,null,null,null,0,null,null,null,0,null,null,0,null,"","",0,"","",null,"",0,"","",0,0,0]
[null,614,null,null,null,null,null,null,null,0,null,null,null,0,null,null,0,null,"","",0,"","",null,"",0,"","",0,0,0]
[null,615,null,null,null,null,null,null,null,0,null,null,null,0,null,null,0,null,"","",0,"","",null,"",0,"","",0,0,0]
[null,616,null,null,null,null,null,null,null,0,null,null,null,0,null,null,0,null,"","",0,"","",null,"",0,"","",0,0,0]
[null,617,null,null,null,null,null,null,null,0,null,null,null,0,null,null,0,null,"","",0,"","",null,"",0,"","",0,0,0]
[null,618,null,null,null,null,null,null,null,0,null,null,null,0,null,null,0,null,"","",0,"","",null,"",0,"","",0,0,0]
[null,619,null,null,null,null,null,null,null,0,null,null,null,0,null,null,0,null,"","",0,"","",null,"",0,"","",0,0,0]
[null,620,null,null,null,null,null,null,null,0,null,null,null,0,null,null,0,null,"","",0,"","",null,"",0,"","",0,0,0]
[null,621,null,null,null,null,null,null,null,0,null,null,null,0,null,null,0,null,"","",0,"","",null,"",0,"","",0,0,0]
[null,622,null,null,null,null,null,null,null,0,null,null,null,0,null,null,0,null,"","",0,"","",null,"",0,"","",0,0,0]
[null,623,null,null,null,null,null,null,null,0,null,null,null,0,null,null,0,null,"","",0,"","",null,"",0,"","",0,0,0]
[null,624,null,null,null,null,null,null,null,0,null,null,null,0,null,null,0,null,"","",0,"","",null,"",0,"","",0,0,0]
[null,625,null,null,null,null,null,null,null,0,null,null,null,0,null,null,0,null,"","",0,"","",null,"",0,"","",0,0,0]
[null,626,null,null,null,null,null,null,null,0,null,null,null,0,null,null,0,null,"","",0,"","",null,"",0,"","",0,0,0]
[null,627,null,null,null,null,null,null,null,0,null,null,null,0,null,null,0,null,"","",0,"","",null,"",0,"","",0,0,0]
[null,628,null,null,null,null,null,null,null,0,null,null,null,0,null,null,0,null,"","",0,"","",null,"",0,"","",0,0,0]
[null,629,null,null,null,null,null,null,null,0,null,null,null,0,null,null,0,null,"","",0,"","",null,"",0,"","",0,0,0]
[null,630,null,null,null,null,null,null,null,0,null,null,null,0,null,null,0,null,"","",0,"","",null,"",0,"","",0,0,0]
[null,631,null,null,null,null,null,null,null,0,null,null,null,0,null,null,0,null,"","",0,"","",null,"",0,"","",0,0,0]
[null,632,null,null,null,null,null,null,null,0,null,null,null,0,null,null,0,null,"","",0,"","",null,"",0,"","",0,0,0]
[null,633,null,null,null,null,null,null,null,0,null,null,null,0,null,null,0,null,"","",0,"","",null,"",0,"","",0,0,0]
[null,634,null,null,null,null,null,null,null,0,null,null,null,0,null,null,0,null,"","",0,"","",null,"",0,"","",0,0,0]
[null,635,null,null,null,null,null,null,null,0,null,null,null,0,null,null,0,null,"","",0,"","",null,"",0,"","",0,0,0]
[null,636,null,null,null,null,null,null,null,0,null,null,null,0,null,null,0,null,"","",0,"","",null,"",0,"","",0,0,0]
[null,637,null,null,null,null,null,null,null,0,null,null,null,0,null,null,0,null,"","",0,"","",null,"",0,"","",0,0,0]
[null,638,null,null,null,null,null,null,null,0,null,null,null,0,null,null,0,null,"","",0,"","",null,"",0,"","",0,0,0]
[null,639,null,null,null,null,null,null,null,0,null,null,null,0,null,null,0,null,"","",0,"","",null,"",0,"","",0,0,0]
[null,640,null,null,null,null,null,null,null,0,null,null,null,0,null,null,0,null,"","",0,"","",null,"",0,"","",0,0,0]
[null,641,null,null,null,null,null,null,null,0,null,null,null,0,null,null,0,null,"","",0,"","",null,"",0,"","",0,0,0]
[null,642,null,null,null,null,null,null,null,0,null,null,null,0,null,null,0,null,"","",0,"","",null,"",0,"","",0,0,0]
[null,643,null,null,null,null,null,null,null,0,null,null,null,0,null,null,0,null,"","",0,"","",null,"",0,"","",0,0,0]
[null,644,null,null,null,null,null,null,null,0,null,null,null,0,null,null,0,null,"","",0,"","",null,"",0,"","",0,0,0]
[null,645,null,null,null,null,null,null,null,0,null,null,null,0,null,null,0,null,"","",0,"","",null,"",0,"","",0,0,0]
[null,646,null,null,null,null,null,null,null,0,null,null,null,0,null,null,0,null,"","",0,"","",null,"",0,"","",0,0,0]
[null,647,null,null,null,null,null,null,null,0,null,null,null,0,null,null,0,null,"","",0,"","",null,"",0,"","",0,0,0]
[null,648,null,null,null,null,null,null,null,0,null,null,null,0,null,null,0,null,"","",0,"","",null,"",0,"","",0,0,0]
[null,649,null,null,null,null,null,null,null,0,null,null,null,0,null,null,0,null,"","",0,"","",null,"",0,"","",0,0,0]
[null,650,null,null,null,null,null,null,null,0,null,null,null,0,null,null,0,null,"","",0,"","",null,"",0,"","",0,0,0]
[null,651,null,null,null,null,null,null,null,0,null,null,null,0,null,null,0,null,"","",0,"","",null,"",0,"","",0,0,0]
[null,652,null,null,null,null,null,null,null,0,null,null,null,0,null,null,0,null,"","",0,"","",null,"",0,"","",0,0,0]
[null,653,null,null,null,null,null,null,null,0,null,null,null,0,null,null,0,null,"","",0,"","",null,"",0,"","",0,0,0]
[null,654,null,null,null,null,null,null,null,0,null,null,null,0,null,null,0,null,"","",0,"","",null,"",0,"","",0,0,0]
[null,655,null,null,null,null,null,null,null,0,null,null,null,0,null,null,0,null,"","",0,"","",null,"",0,"","",0,0,0]
[null,{"$f":"B663+1","v":656},null,null,null,null,null,null,null,{"$f":"IFERROR(IF(H664=\"\",0,VLOOKUP(H664,Exist_Fix_Table,2,FALSE)),\"N/A\")","v":0},null,null,null,{"$f":"IFERROR(IF(M664=\"\",0,1-VLOOKUP(M664,Prop_Sens_Table,2,FALSE)),\"N/A\")","v":0},null,null,{"$f":"IF(K664=\"\",N(J664)*L664,K664*L664)","v":0},null,{"$f":"IF($R664=\"No\",IF(H664=\"\",\"\",H664),\"\")","v":""},{"$f":"IF($R664=\"No\",IF(I664=\"\",\"\",I664),\"\")","v":""},{"$f":"IFERROR(IF(R664=\"No\",J664,IF(S664=\"\",0,IF(S664=\"**No Upgrade (controls only)**\",J664,VLOOKUP(S664,Prop_Fix_Table,2,FALSE)))),\"N/A\")","v":0},{"$f":"IF($R664=\"No\",IF(K664=\"\",\"\",K664),\"\")","v":""},{"$f":"IF($R664=\"No\",IF(L664=\"\",\"\",L664),\"\")","v":""},null,{"$f":"IF($X664=\"No\",IF(M664=\"\",\"\",M664),\"\")","v":""},{"$f":"IFERROR(IF($X664=\"No\",N664,IF(Y664=\"\",0,1-VLOOKUP(Y664,Prop_Sens_Table,2,FALSE))),\"N/A\")","v":0},{"$f":"IF($X664=\"No\",IF(O664=\"\",\"\",O664),\"\")","v":""},{"$f":"IF($X664=\"No\",IF(P664=\"\",\"\",P664),\"\")","v":""},{"$f":"IF($R664=\"\", 0,IF(R664=\"No\",Q664,IF(V664=\"\",U664*W664,V664*W664)))","v":0},{"$f":"Q664-AC664","v":0},{"$f":"IFERROR(1-(AC664/Q664),0)","v":0}]
[null,657,null,null,null,null,null,null,null,0,null,null,null,0,null,null,0,null,"","",0,"","",null,"",0,"","",0,0,0]
[null,658,null,null,null,null,null,null,null,0,null,null,null,0,null,null,0,null,"","",0,"","",null,"",0,"","",0,0,0]
[null,659,null,null,null,null,null,null,null,0,null,null,null,0,null,null,0,null,"","",0,"","",null,"",0,"","",0,0,0]
[null,660,null,null,null,null,null,null,null,0,null,null,null,0,null,null,0,null,"","",0,"","",null,"",0,"","",0,0,0]
[null,661,null,null,null,null,null,null,null,0,null,null,null,0,null,null,0,null,"","",0,"","",null,"",0,"","",0,0,0]
[null,662,null,null,null,null,null,null,null,0,null,null,null,0,null,null,0,null,"","",0,"","",null,"",0,"","",0,0,0]
[null,663,null,null,null,null,null,null,null,0,null,null,null,0,null,null,0,null,"","",0,"","",null,"",0,"","",0,0,0]
[null,664,null,null,null,null,null,null,null,0,null,null,null,0,null,null,0,null,"","",0,"","",null,"",0,"","",0,0,0]
[null,665,null,null,null,null,null,null,null,0,null,null,null,0,null,null,0,null,"","",0,"","",null,"",0,"","",0,0,0]
[null,666,null,null,null,null,null,null,null,0,null,null,null,0,null,null,0,null,"","",0,"","",null,"",0,"","",0,0,0]
[null,667,null,null,null,null,null,null,null,0,null,null,null,0,null,null,0,null,"","",0,"","",null,"",0,"","",0,0,0]
[null,668,null,null,null,null,null,null,null,0,null,null,null,0,null,null,0,null,"","",0,"","",null,"",0,"","",0,0,0]
[null,669,null,null,null,null,null,null,null,0,null,null,null,0,null,null,0,null,"","",0,"","",null,"",0,"","",0,0,0]
[null,670,null,null,null,null,null,null,null,0,null,null,null,0,null,null,0,null,"","",0,"","",null,"",0,"","",0,0,0]
[null,671,null,null,null,null,null,null,null,0,null,null,null,0,null,null,0,null,"","",0,"","",null,"",0,"","",0,0,0]
[null,672,null,null,null,null,null,null,null,0,null,null,null,0,null,null,0,null,"","",0,"","",null,"",0,"","",0,0,0]
[null,673,null,null,null,null,null,null,null,0,null,null,null,0,null,null,0,null,"","",0,"","",null,"",0,"","",0,0,0]
[null,674,null,null,null,null,null,null,null,0,null,null,null,0,null,null,0,null,"","",0,"","",null,"",0,"","",0,0,0]
[null,675,null,null,null,null,null,null,null,0,null,null,null,0,null,null,0,null,"","",0,"","",null,"",0,"","",0,0,0]
[null,676,null,null,null,null,null,null,null,0,null,null,null,0,null,null,0,null,"","",0,"","",null,"",0,"","",0,0,0]
[null,677,null,null,null,null,null,null,null,0,null,null,null,0,null,null,0,null,"","",0,"","",null,"",0,"","",0,0,0]
[null,678,null,null,null,null,null,null,null,0,null,null,null,0,null,null,0,null,"","",0,"","",null,"",0,"","",0,0,0]
[null,679,null,null,null,null,null,null,null,0,null,null,null,0,null,null,0,null,"","",0,"","",null,"",0,"","",0,0,0]
[null,680,null,null,null,null,null,null,null,0,null,null,null,0,null,null,0,null,"","",0,"","",null,"",0,"","",0,0,0]
[null,681,null,null,null,null,null,null,null,0,null,null,null,0,null,null,0,null,"","",0,"","",null,"",0,"","",0,0,0]
[null,682,null,null,null,null,null,null,null,0,null,null,null,0,null,null,0,null,"","",0,"","",null,"",0,"","",0,0,0]
[null,683,null,null,null,null,null,null,null,0,null,null,null,0,null,null,0,null,"","",0,"","",null,"",0,"","",0,0,0]
[null,684,null,null,null,null,null,null,null,0,null,null,null,0,null,null,0,null,"","",0,"","",null,"",0,"","",0,0,0]
[null,685,null,null,null,null,null,null,null,0,null,null,null,0,null,null,0,null,"","",0,"","",null,"",0,"","",0,0,0]
[null,686,null,null,null,null,null,null,null,0,null,null,null,0,null,null,0,null,"","",0,"","",null,"",0,"","",0,0,0]
[null,687,null,null,null,null,null,null,null,0,null,null,null,0,null,null,0,null,"","",0,"","",null,"",0,"","",0,0,0]
[null,688,null,null,null,null,null,null,null,0,null,null,null,0,null,null,0,null,"","",0,"","",null,"",0,"","",0,0,0]
[null,689,null,null,null,null,null,null,null,0,null,null,null,0,null,null,0,null,"","",0,"","",null,"",0,"","",0,0,0]
[null,690,null,null,null,null,null,null,null,0,null,null,null,0,null,null,0,null,"","",0,"","",null,"",0,"","",0,0,0]
[null,691,null,null,null,null,null,null,null,0,null,null,null,0,null,null,0,null,"","",0,"","",null,"",0,"","",0,0,0]
[null,692,null,null,null,null,null,null,null,0,null,null,null,0,null,null,0,null,"","",0,"","",null,"",0,"","",0,0,0]
[null,693,null,null,null,null,null,null,null,0,null,null,null,0,null,null,0,null,"","",0,"","",null,"",0,"","",0,0,0]
[null,694,null,null,null,null,null,null,null,0,null,null,null,0,null,null,0,null,"","",0,"","",null,"",0,"","",0,0,0]
[null,695,null,null,null,null,null,null,null,0,null,null,null,0,null,null,0,null,"","",0,"","",null,"",0,"","",0,0,0]
[null,696,null,null,null,null,null,null,null,0,null,null,null,0,null,null,0,null,"","",0,"","",null,"",0,"","",0,0,0]
[null,697,null,null,null,null,null,null,null,0,null,null,null,0,null,null,0,null,"","",0,"","",null,"",0,"","",0,0,0]
[null,698,null,null,null,null,null,null,null,0,null,null,null,0,null,null,0,null,"","",0,"","",null,"",0,"","",0,0,0]
[null,699,null,null,null,null,null,null,null,0,null,null,null,0,null,null,0,null,"","",0,"","",null,"",0,"","",0,0,0]
[null,700,null,null,null,null,null,null,null,0,null,null,null,0,null,null,0,null,"","",0,"","",null,"",0,"","",0,0,0]
[null,701,null,null,null,null,null,null,null,0,null,null,null,0,null,null,0,null,"","",0,"","",null,"",0,"","",0,0,0]
[null,702,null,null,null,null,null,null,null,0,null,null,null,0,null,null,0,null,"","",0,"","",null,"",0,"","",0,0,0]
[null,703,null,null,null,null,null,null,null,0,null,null,null,0,null,null,0,null,"","",0,"","",null,"",0,"","",0,0,0]
[null,704,null,null,null,null,null,null,null,0,null,null,null,0,null,null,0,null,"","",0,"","",null,"",0,"","",0,0,0]
[null,705,null,null,null,null,null,null,null,0,null,null,null,0,null,null,0,null,"","",0,"","",null,"",0,"","",0,0,0]
[null,706,null,null,null,null,null,null,null,0,null,null,null,0,null,null,0,null,"","",0,"","",null,"",0,"","",0,0,0]
[null,707,null,null,null,null,null,null,null,0,null,null,null,0,null,null,0,null,"","",0,"","",null,"",0,"","",0,0,0]
[null,708,null,null,null,null,null,null,null,0,null,null,null,0,null,null,0,null,"","",0,"","",null,"",0,"","",0,0,0]
[null,709,null,null,null,null,null,null,null,0,null,null,null,0,null,null,0,null,"","",0,"","",null,"",0,"","",0,0,0]
[null,710,null,null,null,null,null,null,null,0,null,null,null,0,null,null,0,null,"","",0,"","",null,"",0,"","",0,0,0]
[null,711,null,null,null,null,null,null,null,0,null,null,null,0,null,null,0,null,"","",0,"","",null,"",0,"","",0,0,0]
[null,712,null,null,null,null,null,null,null,0,null,null,null,0,null,null,0,null,"","",0,"","",null,"",0,"","",0,0,0]
[null,713,null,null,null,null,null,null,null,0,null,null,null,0,null,null,0,null,"","",0,"","",null,"",0,"","",0,0,0]
[null,714,null,null,null,null,null,null,null,0,null,null,null,0,null,null,0,null,"","",0,"","",null,"",0,"","",0,0,0]
[null,715,null,null,null,null,null,null,null,0,null,null,null,0,null,null,0,null,"","",0,"","",null,"",0,"","",0,0,0]
[null,716,null,null,null,null,null,null,null,0,null,null,null,0,null,null,0,null,"","",0,"","",null,"",0,"","",0,0,0]
[null,717,null,null,null,null,null,null,null,0,null,null,null,0,null,null,0,null,"","",0,"","",null,"",0,"","",0,0,0]
[null,718,null,null,null,null,null,null,null,0,null,null,null,0,null,null,0,null,"","",0,"","",null,"",0,"","",0,0,0]
[null,719,null,null,null,null,null,null,null,0,null,null,null,0,null,null,0,null,"","",0,"","",null,"",0,"","",0,0,0]
[null,{"$f":"B727+1","v":720},null,null,null,null,null,null,null,{"$f":"IFERROR(IF(H728=\"\",0,VLOOKUP(H728,Exist_Fix_Table,2,FALSE)),\"N/A\")","v":0},null,null,null,{"$f":"IFERROR(IF(M728=\"\",0,1-VLOOKUP(M728,Prop_Sens_Table,2,FALSE)),\"N/A\")","v":0},null,null,{"$f":"IF(K728=\"\",N(J728)*L728,K728*L728)","v":0},null,{"$f":"IF($R728=\"No\",IF(H728=\"\",\"\",H728),\"\")","v":""},{"$f":"IF($R728=\"No\",IF(I728=\"\",\"\",I728),\"\")","v":""},{"$f":"IFERROR(IF(R728=\"No\",J728,IF(S728=\"\",0,IF(S728=\"**No Upgrade (controls only)**\",J728,VLOOKUP(S728,Prop_Fix_Table,2,FALSE)))),\"N/A\")","v":0},{"$f":"IF($R728=\"No\",IF(K728=\"\",\"\",K728),\"\")","v":""},{"$f":"IF($R728=\"No\",IF(L728=\"\",\"\",L728),\"\")","v":""},null,{"$f":"IF($X728=\"No\",IF(M728=\"\",\"\",M728),\"\")","v":""},{"$f":"IFERROR(IF($X728=\"No\",N728,IF(Y728=\"\",0,1-VLOOKUP(Y728,Prop_Sens_Table,2,FALSE))),\"N/A\")","v":0},{"$f":"IF($X728=\"No\",IF(O728=\"\",\"\",O728),\"\")","v":""},{"$f":"IF($X728=\"No\",IF(P728=\"\",\"\",P728),\"\")","v":""},{"$f":"IF($R728=\"\", 0,IF(R728=\"No\",Q728,IF(V728=\"\",U728*W728,V728*W728)))","v":0},{"$f":"Q728-AC728","v":0},{"$f":"IFERROR(1-(AC728/Q728),0)","v":0}]
[null,721,null,null,null,null,null,null,null,0,null,null,null,0,null,null,0,null,"","",0,"","",null,"",0,"","",0,0,0]
[null,722,null,null,null,null,null,null,null,0,null,null,null,0,null,null,0,null,"","",0,"","",null,"",0,"","",0,0,0]
[null,723,null,null,null,null,null,null,null,0,null,null,null,0,null,null,0,null,"","",0,"","",null,"",0,"","",0,0,0]
[null,724,null,null,null,null,null,null,null,0,null,null,null,0,null,null,0,null,"","",0,"","",null,"",0,"","",0,0,0]
[null,725,null,null,null,null,null,null,null,0,null,null,null,0,null,null,0,null,"","",0,"","",null,"",0,"","",0,0,0]
[null,726,null,null,null,null,null,null,null,0,null,null,null,0,null,null,0,null,"","",0,"","",null,"",0,"","",0,0,0]
[null,727,null,null,null,null,null,null,null,0,null,null,null,0,null,null,0,null,"","",0,"","",null,"",0,"","",0,0,0]
[null,728,null,null,null,null,null,null,null,0,null,null,null,0,null,null,0,null,"","",0,"","",null,"",0,"","",0,0,0]
[null,729,null,null,null,null,null,null,null,0,null,null,null,0,null,null,0,null,"","",0,"","",null,"",0,"","",0,0,0]
[null,730,null,null,null,null,null,null,null,0,null,null,null,0,null,null,0,null,"","",0,"","",null,"",0,"","",0,0,0]
[null,731,null,null,null,null,null,null,null,0,null,null,null,0,null,null,0,null,"","",0,"","",null,"",0,"","",0,0,0]
[null,732,null,null,null,null,null,null,null,0,null,null,null,0,null,null,0,null,"","",0,"","",null,"",0,"","",0,0,0]
[null,733,null,null,null,null,null,null,null,0,null,null,null,0,null,null,0,null,"","",0,"","",null,"",0,"","",0,0,0]
[null,734,null,null,null,null,null,null,null,0,null,null,null,0,null,null,0,null,"","",0,"","",null,"",0,"","",0,0,0]
[null,735,null,null,null,null,null,null,null,0,null,null,null,0,null,null,0,null,"","",0,"","",null,"",0,"","",0,0,0]
[null,736,null,null,null,null,null,null,null,0,null,null,null,0,null,null,0,null,"","",0,"","",null,"",0,"","",0,0,0]
[null,737,null,null,null,null,null,null,null,0,null,null,null,0,null,null,0,null,"","",0,"","",null,"",0,"","",0,0,0]
[null,738,null,null,null,null,null,null,null,0,null,null,null,0,null,null,0,null,"","",0,"","",null,"",0,"","",0,0,0]
[null,739,null,null,null,null,null,null,null,0,null,null,null,0,null,null,0,null,"","",0,"","",null,"",0,"","",0,0,0]
[null,740,null,null,null,null,null,null,null,0,null,null,null,0,null,null,0,null,"","",0,"","",null,"",0,"","",0,0,0]
[null,741,null,null,null,null,null,null,null,0,null,null,null,0,null,null,0,null,"","",0,"","",null,"",0,"","",0,0,0]
[null,742,null,null,null,null,null,null,null,0,null,null,null,0,null,null,0,null,"","",0,"","",null,"",0,"","",0,0,0]
[null,743,null,null,null,null,null,null,null,0,null,null,null,0,null,null,0,null,"","",0,"","",null,"",0,"","",0,0,0]
[null,744,null,null,null,null,null,null,null,0,null,null,null,0,null,null,0,null,"","",0,"","",null,"",0,"","",0,0,0]
[null,745,null,null,null,null,null,null,null,0,null,null,null,0,null,null,0,null,"","",0,"","",null,"",0,"","",0,0,0]
[null,746,null,null,null,null,null,null,null,0,null,null,null,0,null,null,0,null,"","",0,"","",null,"",0,"","",0,0,0]
[null,747,null,null,null,null,null,null,null,0,null,null,null,0,null,null,0,null,"","",0,"","",null,"",0,"","",0,0,0]
[null,748,null,null,null,null,null,null,null,0,null,null,null,0,null,null,0,null,"","",0,"","",null,"",0,"","",0,0,0]
[null,749,null,null,null,null,null,null,null,0,null,null,null,0,null,null,0,null,"","",0,"","",null,"",0,"","",0,0,0]
[null,750,null,null,null,null,null,null,null,0,null,null,null,0,null,null,0,null,"","",0,"","",null,"",0,"","",0,0,0]
[null,751,null,null,null,null,null,null,null,0,null,null,null,0,null,null,0,null,"","",0,"","",null,"",0,"","",0,0,0]
[null,752,null,null,null,null,null,null,null,0,null,null,null,0,null,null,0,null,"","",0,"","",null,"",0,"","",0,0,0]
[null,753,null,null,null,null,null,null,null,0,null,null,null,0,null,null,0,null,"","",0,"","",null,"",0,"","",0,0,0]
[null,754,null,null,null,null,null,null,null,0,null,null,null,0,null,null,0,null,"","",0,"","",null,"",0,"","",0,0,0]
[null,755,null,null,null,null,null,null,null,0,null,null,null,0,null,null,0,null,"","",0,"","",null,"",0,"","",0,0,0]
[null,756,null,null,null,null,null,null,null,0,null,null,null,0,null,null,0,null,"","",0,"","",null,"",0,"","",0,0,0]
[null,757,null,null,null,null,null,null,null,0,null,null,null,0,null,null,0,null,"","",0,"","",null,"",0,"","",0,0,0]
[null,758,null,null,null,null,null,null,null,0,null,null,null,0,null,null,0,null,"","",0,"","",null,"",0,"","",0,0,0]
[null,759,null,null,null,null,null,null,null,0,null,null,null,0,null,null,0,null,"","",0,"","",null,"",0,"","",0,0,0]
[null,760,null,null,null,null,null,null,null,0,null,null,null,0,null,null,0,null,"","",0,"","",null,"",0,"","",0,0,0]
[null,761,null,null,null,null,null,null,null,0,null,null,null,0,null,null,0,null,"","",0,"","",null,"",0,"","",0,0,0]
[null,762,null,null,null,null,null,null,null,0,null,null,null,0,null,null,0,null,"","",0,"","",null,"",0,"","",0,0,0]
[null,763,null,null,null,null,null,null,null,0,null,null,null,0,null,null,0,null,"","",0,"","",null,"",0,"","",0,0,0]
[null,764,null,null,null,null,null,null,null,0,null,null,null,0,null,null,0,null,"","",0,"","",null,"",0,"","",0,0,0]
[null,765,null,null,null,null,null,null,null,0,null,null,null,0,null,null,0,null,"","",0,"","",null,"",0,"","",0,0,0]
[null,766,null,null,null,null,null,null,null,0,null,null,null,0,null,null,0,null,"","",0,"","",null,"",0,"","",0,0,0]
[null,767,null,null,null,null,null,null,null,0,null,null,null,0,null,null,0,null,"","",0,"","",null,"",0,"","",0,0,0]
[null,768,null,null,null,null,null,null,null,0,null,null,null,0,null,null,0,null,"","",0,"","",null,"",0,"","",0,0,0]
[null,769,null,null,null,null,null,null,null,0,null,null,null,0,null,null,0,null,"","",0,"","",null,"",0,"","",0,0,0]
[null,770,null,null,null,null,null,null,null,0,null,null,null,0,null,null,0,null,"","",0,"","",null,"",0,"","",0,0,0]
[null,771,null,null,null,null,null,null,null,0,null,null,null,0,null,null,0,null,"","",0,"","",null,"",0,"","",0,0,0]
[null,772,null,null,null,null,null,null,null,0,null,null,null,0,null,null,0,null,"","",0,"","",null,"",0,"","",0,0,0]
[null,773,null,null,null,null,null,null,null,0,null,null,null,0,null,null,0,null,"","",0,"","",null,"",0,"","",0,0,0]
[null,774,null,null,null,null,null,null,null,0,null,null,null,0,null,null,0,null,"","",0,"","",null,"",0,"","",0,0,0]
[null,775,null,null,null,null,null,null,null,0,null,null,null,0,null,null,0,null,"","",0,"","",null,"",0,"","",0,0,0]
[null,776,null,null,null,null,null,null,null,0,null,null,null,0,null,null,0,null,"","",0,"","",null,"",0,"","",0,0,0]
[null,777,null,null,null,null,null,null,null,0,null,null,null,0,null,null,0,null,"","",0,"","",null,"",0,"","",0,0,0]
[null,778,null,null,null,null,null,null,null,0,null,null,null,0,null,null,0,null,"","",0,"","",null,"",0,"","",0,0,0]
[null,779,null,null,null,null,null,null,null,0,null,null,null,0,null,null,0,null,"","",0,"","",null,"",0,"","",0,0,0]
[null,780,null,null,null,null,null,null,null,0,null,null,null,0,null,null,0,null,"","",0,"","",null,"",0,"","",0,0,0]
[null,781,null,null,null,null,null,null,null,0,null,null,null,0,null,null,0,null,"","",0,"","",null,"",0,"","",0,0,0]
[null,782,null,null,null,null,null,null,null,0,null,null,null,0,null,null,0,null,"","",0,"","",null,"",0,"","",0,0,0]
[null,783,null,null,null,null,null,null,null,0,null,null,null,0,null,null,0,null,"","",0,"","",null,"",0,"","",0,0,0]
[null,{"$f":"B791+1","v":784},null,null,null,null,null,null,null,{"$f":"IFERROR(IF(H792=\"\",0,VLOOKUP(H792,Exist_Fix_Table,2,FALSE)),\"N/A\")","v":0},null,null,null,{"$f":"IFERROR(IF(M792=\"\",0,1-VLOOKUP(M792,Prop_Sens_Table,2,FALSE)),\"N/A\")","v":0},null,null,{"$f":"IF(K792=\"\",N(J792)*L792,K792*L792)","v":0},null,{"$f":"IF($R792=\"No\",IF(H792=\"\",\"\",H792),\"\")","v":""},{"$f":"IF($R792=\"No\",IF(I792=\"\",\"\",I792),\"\")","v":""},{"$f":"IFERROR(IF(R792=\"No\",J792,IF(S792=\"\",0,IF(S792=\"**No Upgrade (controls only)**\",J792,VLOOKUP(S792,Prop_Fix_Table,2,FALSE)))),\"N/A\")","v":0},{"$f":"IF($R792=\"No\",IF(K792=\"\",\"\",K792),\"\")","v":""},{"$f":"IF($R792=\"No\",IF(L792=\"\",\"\",L792),\"\")","v":""},null,{"$f":"IF($X792=\"No\",IF(M792=\"\",\"\",M792),\"\")","v":""},{"$f":"IFERROR(IF($X792=\"No\",N792,IF(Y792=\"\",0,1-VLOOKUP(Y792,Prop_Sens_Table,2,FALSE))),\"N/A\")","v":0},{"$f":"IF($X792=\"No\",IF(O792=\"\",\"\",O792),\"\")","v":""},{"$f":"IF($X792=\"No\",IF(P792=\"\",\"\",P792),\"\")","v":""},{"$f":"IF($R792=\"\", 0,IF(R792=\"No\",Q792,IF(V792=\"\",U792*W792,V792*W792)))","v":0},{"$f":"Q792-AC792","v":0},{"$f":"IFERROR(1-(AC792/Q792),0)","v":0}]
[null,785,null,null,null,null,null,null,null,0,null,null,null,0,null,null,0,null,"","",0,"","",null,"",0,"","",0,0,0]
[null,786,null,null,null,null,null,null,null,0,null,null,null,0,null,null,0,null,"","",0,"","",null,"",0,"","",0,0,0]
[null,787,null,null,null,null,null,null,null,0,null,null,null,0,null,null,0,null,"","",0,"","",null,"",0,"","",0,0,0]
[null,788,null,null,null,null,null,null,null,0,null,null,null,0,null,null,0,null,"","",0,"","",null,"",0,"","",0,0,0]
[null,789,null,null,null,null,null,null,null,0,null,null,null,0,null,null,0,null,"","",0,"","",null,"",0,"","",0,0,0]
[null,790,null,null,null,null,null,null,null,0,null,null,null,0,null,null,0,null,"","",0,"","",null,"",0,"","",0,0,0]
[null,791,null,null,null,null,null,null,null,0,null,null,null,0,null,null,0,null,"","",0,"","",null,"",0,"","",0,0,0]
[null,792,null,null,null,null,null,null,null,0,null,null,null,0,null,null,0,null,"","",0,"","",null,"",0,"","",0,0,0]
[null,793,null,null,null,null,null,null,null,0,null,null,null,0,null,null,0,null,"","",0,"","",null,"",0,"","",0,0,0]
[null,794,null,null,null,null,null,null,null,0,null,null,null,0,null,null,0,null,"","",0,"","",null,"",0,"","",0,0,0]
[null,795,null,null,null,null,null,null,null,0,null,null,null,0,null,null,0,null,"","",0,"","",null,"",0,"","",0,0,0]
[null,796,null,null,null,null,null,null,null,0,null,null,null,0,null,null,0,null,"","",0,"","",null,"",0,"","",0,0,0]
[null,797,null,null,null,null,null,null,null,0,null,null,null,0,null,null,0,null,"","",0,"","",null,"",0,"","",0,0,0]
[null,798,null,null,null,null,null,null,null,0,null,null,null,0,null,null,0,null,"","",0,"","",null,"",0,"","",0,0,0]
[null,799,null,null,null,null,null,null,null,0,null,null,null,0,null,null,0,null,"","",0,"","",null,"",0,"","",0,0,0]
[null,800,null,null,null,null,null,null,null,0,null,null,null,0,null,null,0,null,"","",0,"","",null,"",0,"","",0,0,0]
[null,801,null,null,null,null,null,null,null,0,null,null,null,0,null,null,0,null,"","",0,"","",null,"",0,"","",0,0,0]
[null,802,null,null,null,null,null,null,null,0,null,null,null,0,null,null,0,null,"","",0,"","",null,"",0,"","",0,0,0]
[null,803,null,null,null,null,null,null,null,0,null,null,null,0,null,null,0,null,"","",0,"","",null,"",0,"","",0,0,0]
[null,804,null,null,null,null,null,null,null,0,null,null,null,0,null,null,0,null,"","",0,"","",null,"",0,"","",0,0,0]
[null,805,null,null,null,null,null,null,null,0,null,null,null,0,null,null,0,null,"","",0,"","",null,"",0,"","",0,0,0]
[null,806,null,null,null,null,null,null,null,0,null,null,null,0,null,null,0,null,"","",0,"","",null,"",0,"","",0,0,0]
[null,807,null,null,null,null,null,null,null,0,null,null,null,0,null,null,0,null,"","",0,"","",null,"",0,"","",0,0,0]
[null,808,null,null,null,null,null,null,null,0,null,null,null,0,null,null,0,null,"","",0,"","",null,"",0,"","",0,0,0]
[null,809,null,null,null,null,null,null,null,0,null,null,null,0,null,null,0,null,"","",0,"","",null,"",0,"","",0,0,0]
[null,810,null,null,null,null,null,null,null,0,null,null,null,0,null,null,0,null,"","",0,"","",null,"",0,"","",0,0,0]
[null,811,null,null,null,null,null,null,null,0,null,null,null,0,null,null,0,null,"","",0,"","",null,"",0,"","",0,0,0]
[null,812,null,null,null,null,null,null,null,0,null,null,null,0,null,null,0,null,"","",0,"","",null,"",0,"","",0,0,0]
[null,813,null,null,null,null,null,null,null,0,null,null,null,0,null,null,0,null,"","",0,"","",null,"",0,"","",0,0,0]
[null,814,null,null,null,null,null,null,null,0,null,null,null,0,null,null,0,null,"","",0,"","",null,"",0,"","",0,0,0]
[null,815,null,null,null,null,null,null,null,0,null,null,null,0,null,null,0,null,"","",0,"","",null,"",0,"","",0,0,0]
[null,816,null,null,null,null,null,null,null,0,null,null,null,0,null,null,0,null,"","",0,"","",null,"",0,"","",0,0,0]
[null,817,null,null,null,null,null,null,null,0,null,null,null,0,null,null,0,null,"","",0,"","",null,"",0,"","",0,0,0]
[null,818,null,null,null,null,null,null,null,0,null,null,null,0,null,null,0,null,"","",0,"","",null,"",0,"","",0,0,0]
[null,819,null,null,null,null,null,null,null,0,null,null,null,0,null,null,0,null,"","",0,"","",null,"",0,"","",0,0,0]
[null,820,null,null,null,null,null,null,null,0,null,null,null,0,null,null,0,null,"","",0,"","",null,"",0,"","",0,0,0]
[null,821,null,null,null,null,null,null,null,0,null,null,null,0,null,null,0,null,"","",0,"","",null,"",0,"","",0,0,0]
[null,822,null,null,null,null,null,null,null,0,null,null,null,0,null,null,0,null,"","",0,"","",null,"",0,"","",0,0,0]
[null,823,null,null,null,null,null,null,null,0,null,null,null,0,null,null,0,null,"","",0,"","",null,"",0,"","",0,0,0]
[null,824,null,null,null,null,null,null,null,0,null,null,null,0,null,null,0,null,"","",0,"","",null,"",0,"","",0,0,0]
[null,825,null,null,null,null,null,null,null,0,null,null,null,0,null,null,0,null,"","",0,"","",null,"",0,"","",0,0,0]
[null,826,null,null,null,null,null,null,null,0,null,null,null,0,null,null,0,null,"","",0,"","",null,"",0,"","",0,0,0]
[null,827,null,null,null,null,null,null,null,0,null,null,null,0,null,null,0,null,"","",0,"","",null,"",0,"","",0,0,0]
[null,828,null,null,null,null,null,null,null,0,null,null,null,0,null,null,0,null,"","",0,"","",null,"",0,"","",0,0,0]
[null,829,null,null,null,null,null,null,null,0,null,null,null,0,null,null,0,null,"","",0,"","",null,"",0,"","",0,0,0]
[null,830,null,null,null,null,null,null,null,0,null,null,null,0,null,null,0,null,"","",0,"","",null,"",0,"","",0,0,0]
[null,831,null,null,null,null,null,null,null,0,null,null,null,0,null,null,0,null,"","",0,"","",null,"",0,"","",0,0,0]
[null,832,null,null,null,null,null,null,null,0,null,null,null,0,null,null,0,null,"","",0,"","",null,"",0,"","",0,0,0]
[null,833,null,null,null,null,null,null,null,0,null,null,null,0,null,null,0,null,"","",0,"","",null,"",0,"","",0,0,0]
[null,834,null,null,null,null,null,null,null,0,null,null,null,0,null,null,0,null,"","",0,"","",null,"",0,"","",0,0,0]
[null,835,null,null,null,null,null,null,null,0,null,null,null,0,null,null,0,null,"","",0,"","",null,"",0,"","",0,0,0]
[null,836,null,null,null,null,null,null,null,0,null,null,null,0,null,null,0,null,"","",0,"","",null,"",0,"","",0,0,0]
[null,837,null,null,null,null,null,null,null,0,null,null,null,0,null,null,0,null,"","",0,"","",null,"",0,"","",0,0,0]
[null,838,null,null,null,null,null,null,null,0,null,null,null,0,null,null,0,null,"","",0,"","",null,"",0,"","",0,0,0]
[null,839,null,null,null,null,null,null,null,0,null,null,null,0,null,null,0,null,"","",0,"","",null,"",0,"","",0,0,0]
[null,840,null,null,null,null,null,null,null,0,null,null,null,0,null,null,0,null,"","",0,"","",null,"",0,"","",0,0,0]
[null,841,null,null,null,null,null,null,null,0,null,null,null,0,null,null,0,null,"","",0,"","",null,"",0,"","",0,0,0]
[null,842,null,null,null,null,null,null,null,0,null,null,null,0,null,null,0,null,"","",0,"","",null,"",0,"","",0,0,0]
[null,843,null,null,null,null,null,null,null,0,null,null,null,0,null,null,0,null,"","",0,"","",null,"",0,"","",0,0,0]
[null,844,null,null,null,null,null,null,null,0,null,null,null,0,null,null,0,null,"","",0,"","",null,"",0,"","",0,0,0]
[null,845,null,null,null,null,null,null,null,0,null,null,null,0,null,null,0,null,"","",0,"","",null,"",0,"","",0,0,0]
[null,846,null,null,null,null,null,null,null,0,null,null,null,0,null,null,0,null,"","",0,"","",null,"",0,"","",0,0,0]
[null,847,null,null,null,null,null,null,null,0,null,null,null,0,null,null,0,null,"","",0,"","",null,"",0,"","",0,0,0]
[null,{"$f":"B855+1","v":848},null,null,null,null,null,null,null,{"$f":"IFERROR(IF(H856=\"\",0,VLOOKUP(H856,Exist_Fix_Table,2,FALSE)),\"N/A\")","v":0},null,null,null,{"$f":"IFERROR(IF(M856=\"\",0,1-VLOOKUP(M856,Prop_Sens_Table,2,FALSE)),\"N/A\")","v":0},null,null,{"$f":"IF(K856=\"\",N(J856)*L856,K856*L856)","v":0},null,{"$f":"IF($R856=\"No\",IF(H856=\"\",\"\",H856),\"\")","v":""},{"$f":"IF($R856=\"No\",IF(I856=\"\",\"\",I856),\"\")","v":""},{"$f":"IFERROR(IF(R856=\"No\",J856,IF(S856=\"\",0,IF(S856=\"**No Upgrade (controls only)**\",J856,VLOOKUP(S856,Prop_Fix_Table,2,FALSE)))),\"N/A\")","v":0},{"$f":"IF($R856=\"No\",IF(K856=\"\",\"\",K856),\"\")","v":""},{"$f":"IF($R856=\"No\",IF(L856=\"\",\"\",L856),\"\")","v":""},null,{"$f":"IF($X856=\"No\",IF(M856=\"\",\"\",M856),\"\")","v":""},{"$f":"IFERROR(IF($X856=\"No\",N856,IF(Y856=\"\",0,1-VLOOKUP(Y856,Prop_Sens_Table,2,FALSE))),\"N/A\")","v":0},{"$f":"IF($X856=\"No\",IF(O856=\"\",\"\",O856),\"\")","v":""},{"$f":"IF($X856=\"No\",IF(P856=\"\",\"\",P856),\"\")","v":""},{"$f":"IF($R856=\"\", 0,IF(R856=\"No\",Q856,IF(V856=\"\",U856*W856,V856*W856)))","v":0},{"$f":"Q856-AC856","v":0},{"$f":"IFERROR(1-(AC856/Q856),0)","v":0}]
[null,849,null,null,null,null,null,null,null,0,null,null,null,0,null,null,0,null,"","",0,"","",null,"",0,"","",0,0,0]
[null,850,null,null,null,null,null,null,null,0,null,null,null,0,null,null,0,null,"","",0,"","",null,"",0,"","",0,0,0]
[null,851,null,null,null,null,null,null,null,0,null,null,null,0,null,null,0,null,"","",0,"","",null,"",0,"","",0,0,0]
[null,852,null,null,null,null,null,null,null,0,null,null,null,0,null,null,0,null,"","",0,"","",null,"",0,"","",0,0,0]
[null,853,null,null,null,null,null,null,null,0,null,null,null,0,null,null,0,null,"","",0,"","",null,"",0,"","",0,0,0]
[null,854,null,null,null,null,null,null,null,0,null,null,null,0,null,null,0,null,"","",0,"","",null,"",0,"","",0,0,0]
[null,855,null,null,null,null,null,null,null,0,null,null,null,0,null,null,0,null,"","",0,"","",null,"",0,"","",0,0,0]
[null,856,null,null,null,null,null,null,null,0,null,null,null,0,null,null,0,null,"","",0,"","",null,"",0,"","",0,0,0]
[null,857,null,null,null,null,null,null,null,0,null,null,null,0,null,null,0,null,"","",0,"","",null,"",0,"","",0,0,0]
[null,858,null,null,null,null,null,null,null,0,null,null,null,0,null,null,0,null,"","",0,"","",null,"",0,"","",0,0,0]
[null,859,null,null,null,null,null,null,null,0,null,null,null,0,null,null,0,null,"","",0,"","",null,"",0,"","",0,0,0]
[null,860,null,null,null,null,null,null,null,0,null,null,null,0,null,null,0,null,"","",0,"","",null,"",0,"","",0,0,0]
[null,861,null,null,null,null,null,null,null,0,null,null,null,0,null,null,0,null,"","",0,"","",null,"",0,"","",0,0,0]
[null,862,null,null,null,null,null,null,null,0,null,null,null,0,null,null,0,null,"","",0,"","",null,"",0,"","",0,0,0]
[null,863,null,null,null,null,null,null,null,0,null,null,null,0,null,null,0,null,"","",0,"","",null,"",0,"","",0,0,0]
[null,864,null,null,null,null,null,null,null,0,null,null,null,0,null,null,0,null,"","",0,"","",null,"",0,"","",0,0,0]
[null,865,null,null,null,null,null,null,null,0,null,null,null,0,null,null,0,null,"","",0,"","",null,"",0,"","",0,0,0]
[null,866,null,null,null,null,null,null,null,0,null,null,null,0,null,null,0,null,"","",0,"","",null,"",0,"","",0,0,0]
[null,867,null,null,null,null,null,null,null,0,null,null,null,0,null,null,0,null,"","",0,"","",null,"",0,"","",0,0,0]
[null,868,null,null,null,null,null,null,null,0,null,null,null,0,null,null,0,null,"","",0,"","",null,"",0,"","",0,0,0]
[null,869,null,null,null,null,null,null,null,0,null,null,null,0,null,null,0,null,"","",0,"","",null,"",0,"","",0,0,0]
[null,870,null,null,null,null,null,null,null,0,null,null,null,0,null,null,0,null,"","",0,"","",null,"",0,"","",0,0,0]
[null,871,null,null,null,null,null,null,null,0,null,null,null,0,null,null,0,null,"","",0,"","",null,"",0,"","",0,0,0]
[null,872,null,null,null,null,null,null,null,0,null,null,null,0,null,null,0,null,"","",0,"","",null,"",0,"","",0,0,0]
[null,873,null,null,null,null,null,null,null,0,null,null,null,0,null,null,0,null,"","",0,"","",null,"",0,"","",0,0,0]
[null,874,null,null,null,null,null,null,null,0,null,null,null,0,null,null,0,null,"","",0,"","",null,"",0,"","",0,0,0]
[null,875,null,null,null,null,null,null,null,0,null,null,null,0,null,null,0,null,"","",0,"","",null,"",0,"","",0,0,0]
[null,876,null,null,null,null,null,null,null,0,null,null,null,0,null,null,0,null,"","",0,"","",null,"",0,"","",0,0,0]
[null,877,null,null,null,null,null,null,null,0,null,null,null,0,null,null,0,null,"","",0,"","",null,"",0,"","",0,0,0]
[null,878,null,null,null,null,null,null,null,0,null,null,null,0,null,null,0,null,"","",0,"","",null,"",0,"","",0,0,0]
[null,879,null,null,null,null,null,null,null,0,null,null,null,0,null,null,0,null,"","",0,"","",null,"",0,"","",0,0,0]
[null,880,null,null,null,null,null,null,null,0,null,null,null,0,null,null,0,null,"","",0,"","",null,"",0,"","",0,0,0]
[null,881,null,null,null,null,null,null,null,0,null,null,null,0,null,null,0,null,"","",0,"","",null,"",0,"","",0,0,0]
[null,882,null,null,null,null,null,null,null,0,null,null,null,0,null,null,0,null,"","",0,"","",null,"",0,"","",0,0,0]
[null,883,null,null,null,null,null,null,null,0,null,null,null,0,null,null,0,null,"","",0,"","",null,"",0,"","",0,0,0]
[null,884,null,null,null,null,null,null,null,0,null,null,null,0,null,null,0,null,"","",0,"","",null,"",0,"","",0,0,0]
[null,885,null,null,null,null,null,null,null,0,null,null,null,0,null,null,0,null,"","",0,"","",null,"",0,"","",0,0,0]
[null,886,null,null,null,null,null,null,null,0,null,null,null,0,null,null,0,null,"","",0,"","",null,"",0,"","",0,0,0]
[null,887,null,null,null,null,null,null,null,0,null,null,null,0,null,null,0,null,"","",0,"","",null,"",0,"","",0,0,0]
[null,888,null,null,null,null,null,null,null,0,null,null,null,0,null,null,0,null,"","",0,"","",null,"",0,"","",0,0,0]
[null,889,null,null,null,null,null,null,null,0,null,null,null,0,null,null,0,null,"","",0,"","",null,"",0,"","",0,0,0]
[null,890,null,null,null,null,null,null,null,0,null,null,null,0,null,null,0,null,"","",0,"","",null,"",0,"","",0,0,0]
[null,891,null,null,null,null,null,null,null,0,null,null,null,0,null,null,0,null,"","",0,"","",null,"",0,"","",0,0,0]
[null,892,null,null,null,null,null,null,null,0,null,null,null,0,null,null,0,null,"","",0,"","",null,"",0,"","",0,0,0]
[null,893,null,null,null,null,null,null,null,0,null,null,null,0,null,null,0,null,"","",0,"","",null,"",0,"","",0,0,0]
[null,894,null,null,null,null,null,null,null,0,null,null,null,0,null,null,0,null,"","",0,"","",null,"",0,"","",0,0,0]
[null,895,null,null,null,null,null,null,null,0,null,null,null,0,null,null,0,null,"","",0,"","",null,"",0,"","",0,0,0]
[null,896,null,null,null,null,null,null,null,0,null,null,null,0,null,null,0,null,"","",0,"","",null,"",0,"","",0,0,0]
[null,897,null,null,null,null,null,null,null,0,null,null,null,0,null,null,0,null,"","",0,"","",null,"",0,"","",0,0,0]
[null,898,null,null,null,null,null,null,null,0,null,null,null,0,null,null,0,null,"","",0,"","",null,"",0,"","",0,0,0]
[null,899,null,null,null,null,null,null,null,0,null,null,null,0,null,null,0,null,"","",0,"","",null,"",0,"","",0,0,0]
[null,900,null,null,"",null,null,null,null,0,null,null,null,0,null,null,0,null,"","",0,"","",null,"",0,"","",0,0,0,null,"",""]
[null,901,null,null,"",null,null,null,null,0,null,null,null,0,null,null,0,null,"","",0,"","",null,"",0,"","",0,0,0,null,"",""]
[null,902,null,null,"",null,null,null,null,0,null,null,null,0,null,null,0,null,"","",0,"","",null,"",0,"","",0,0,0,null,"",""]
[null,903,null,null,"",null,null,null,null,0,null,null,null,0,null,null,0,null,"","",0,"","",null,"",0,"","",0,0,0,null,"",""]
[null,904,null,null,"",null,null,null,null,0,null,null,null,0,null,null,0,null,"","",0,"","",null,"",0,"","",0,0,0,null,"",""]
[null,905,null,null,"",null,null,null,null,0,null,null,null,0,null,null,0,null,"","",0,"","",null,"",0,"","",0,0,0,null,"",""]
[null,906,null,null,"",null,null,null,null,0,null,null,null,0,null,null,0,null,"","",0,"","",null,"",0,"","",0,0,0,null,"",""]
[null,907,null,null,"",null,null,null,null,0,null,null,null,0,null,null,0,null,"","",0,"","",null,"",0,"","",0,0,0,null,"",""]
[null,908,null,null,"",null,null,null,null,0,null,null,null,0,null,null,0,null,"","",0,"","",null,"",0,"","",0,0,0,null,"",""]
[null,909,null,null,"",null,null,null,null,0,null,null,null,0,null,null,0,null,"","",0,"","",null,"",0,"","",0,0,0,null,"",""]
[null,910,null,null,"",null,null,null,null,0,null,null,null,0,null,null,0,null,"","",0,"","",null,"",0,"","",0,0,0,null,"",""]
[null,911,null,null,"",null,null,null,null,0,null,null,null,0,null,null,0,null,"","",0,"","",null,"",0,"","",0,0,0,null,"",""]
[null,{"$f":"B919+1","v":912},null,null,"",null,null,null,null,0,null,null,null,0,null,null,0,null,"","",0,"","",null,"",0,"","",0,0,0,null,"",""]
[null,913,null,null,"",null,null,null,null,0,null,null,null,0,null,null,0,null,"","",0,"","",null,"",0,"","",0,0,0,null,"",""]
[null,914,null,null,"",null,null,null,null,0,null,null,null,0,null,null,0,null,"","",0,"","",null,"",0,"","",0,0,0,null,"",""]
[null,915,null,null,"",null,null,null,null,0,null,null,null,0,null,null,0,null,"","",0,"","",null,"",0,"","",0,0,0,null,"",""]
[null,916,null,null,"",null,null,null,null,0,null,null,null,0,null,null,0,null,"","",0,"","",null,"",0,"","",0,0,0,null,"",""]
[null,917,null,null,"",null,null,null,null,0,null,null,null,0,null,null,0,null,"","",0,"","",null,"",0,"","",0,0,0,null,"",""]
[null,918,null,null,"",null,null,null,null,0,null,null,null,0,null,null,0,null,"","",0,"","",null,"",0,"","",0,0,0,null,"",""]
[null,919,null,null,"",null,null,null,null,0,null,null,null,0,null,null,0,null,"","",0,"","",null,"",0,"","",0,0,0,null,"",""]
[null,920,null,null,"",null,null,null,null,0,null,null,null,0,null,null,0,null,"","",0,"","",null,"",0,"","",0,0,0,null,"",""]
[null,921,null,null,"",null,null,null,null,0,null,null,null,0,null,null,0,null,"","",0,"","",null,"",0,"","",0,0,0,null,"",""]
[null,922,null,null,"",null,null,null,null,0,null,null,null,0,null,null,0,null,"","",0,"","",null,"",0,"","",0,0,0,null,"",""]
[null,923,null,null,"",null,null,null,null,0,null,null,null,0,null,null,0,null,"","",0,"","",null,"",0,"","",0,0,0,null,"",""]
[null,924,null,null,"",null,null,null,null,0,null,null,null,0,null,null,0,null,"","",0,"","",null,"",0,"","",0,0,0,null,"",""]
[null,925,null,null,"",null,null,null,null,0,null,null,null,0,null,null,0,null,"","",0,"","",null,"",0,"","",0,0,0,null,"",""]
[null,926,null,null,"",null,null,null,null,0,null,null,null,0,null,null,0,null,"","",0,"","",null,"",0,"","",0,0,0,null,"",""]
[null,927,null,null,"",null,null,null,null,0,null,null,null,0,null,null,0,null,"","",0,"","",null,"",0,"","",0,0,0,null,"",""]
[null,928,null,null,"",null,null,null,null,0,null,null,null,0,null,null,0,null,"","",0,"","",null,"",0,"","",0,0,0,null,"",""]
[null,929,null,null,"",null,null,null,null,0,null,null,null,0,null,null,0,null,"","",0,"","",null,"",0,"","",0,0,0,null,"",""]
[null,930,null,null,"",null,null,null,null,0,null,null,null,0,null,null,0,null,"","",0,"","",null,"",0,"","",0,0,0,null,"",""]
[null,931,null,null,"",null,null,null,null,0,null,null,null,0,null,null,0,null,"","",0,"","",null,"",0,"","",0,0,0,null,"",""]
[null,932,null,null,"",null,null,null,null,0,null,null,null,0,null,null,0,null,"","",0,"","",null,"",0,"","",0,0,0,null,"",""]
[null,933,null,null,"",null,null,null,null,0,null,null,null,0,null,null,0,null,"","",0,"","",null,"",0,"","",0,0,0,null,"",""]
[null,934,null,null,"",null,null,null,null,0,null,null,null,0,null,null,0,null,"","",0,"","",null,"",0,"","",0,0,0,null,"",""]
[null,935,null,null,"",null,null,null,null,0,null,null,null,0,null,null,0,null,"","",0,"","",null,"",0,"","",0,0,0,null,"",""]
[null,936,null,null,"",null,null,null,null,0,null,null,null,0,null,null,0,null,"","",0,"","",null,"",0,"","",0,0,0,null,"",""]
[null,937,null,null,"",null,null,null,null,0,null,null,null,0,null,null,0,null,"","",0,"","",null,"",0,"","",0,0,0,null,"",""]
[null,938,null,null,"",null,null,null,null,0,null,null,null,0,null,null,0,null,"","",0,"","",null,"",0,"","",0,0,0,null,"",""]
[null,939,null,null,"",null,null,null,null,0,null,null,null,0,null,null,0,null,"","",0,"","",null,"",0,"","",0,0,0,null,"",""]
[null,940,null,null,"",null,null,null,null,0,null,null,null,0,null,null,0,null,"","",0,"","",null,"",0,"","",0,0,0,null,"",""]
[null,941,null,null,"",null,null,null,null,0,null,null,null,0,null,null,0,null,"","",0,"","",null,"",0,"","",0,0,0,null,"",""]
[null,942,null,null,"",null,null,null,null,0,null,null,null,0,null,null,0,null,"","",0,"","",null,"",0,"","",0,0,0,null,"",""]
[null,943,null,null,"",null,null,null,null,0,null,null,null,0,null,null,0,null,"","",0,"","",null,"",0,"","",0,0,0,null,"",""]
[null,944,null,null,"",null,null,null,null,0,null,null,null,0,null,null,0,null,"","",0,"","",null,"",0,"","",0,0,0,null,"",""]
[null,945,null,null,"",null,null,null,null,0,null,null,null,0,null,null,0,null,"","",0,"","",null,"",0,"","",0,0,0,null,"",""]
[null,946,null,null,"",null,null,null,null,0,null,null,null,{"$f":"IFERROR(IF(M954=\"\",0,1-VLOOKUP(M954,Prop_Sens_Table,2,FALSE)),\"N/A\")","v":0},null,null,0,null,"","",{"$f":"IFERROR(IF(R954=\"No\",J954,IF(S954=\"\",0,IF(S954=\"**No Upgrade (controls only)**\",J954,VLOOKUP(S954,Prop_Fix_Table,2,FALSE)))),\"N/A\")","v":0},"","",null,"",0,"","",0,0,0,null,"",""]
[null,947,null,null,{"$f":"IFERROR(VLOOKUP(C955,BuildingNameTable,2,FALSE),\"\")","v":""},null,null,null,null,{"$f":"IFERROR(IF(H955=\"\",0,VLOOKUP(H955,Exist_Fix_Table,2,FALSE)),\"N/A\")","v":0},null,null,null,0,null,null,0,null,"","",0,"","",null,"",0,"","",0,0,0,null,"",""]
[null,948,null,null,"",null,null,null,null,0,null,null,null,0,null,null,{"$f":"IF(K956=\"\",N(J956)*L956,K956*L956)","v":0},null,"","",0,"","",null,"",0,"","",0,0,0,null,"",""]
[null,949,null,null,"",null,null,null,null,0,null,null,null,0,null,null,0,null,"","",0,"","",null,"",0,"","",0,0,0,null,"",""]
[null,950,null,null,"",null,null,null,null,0,null,null,null,0,null,null,0,null,"","",0,"","",null,"",0,"","",0,0,0,null,"",""]
[null,951,null,null,"",null,null,null,null,0,null,null,null,0,null,null,0,null,"","",0,"","",null,"",0,"","",0,0,0,null,"",""]
[null,952,null,null,"",null,null,null,null,0,null,null,null,0,null,null,0,null,"","",0,"","",null,"",0,"","",0,0,0,null,"",""]
[null,953,null,null,"",null,null,null,null,0,null,null,null,0,null,null,0,null,"","",0,"","",null,"",0,"","",0,0,0,null,"",""]
[null,954,null,null,"",null,null,null,null,0,null,null,null,0,null,null,0,null,"","",0,"","",null,"",0,"","",0,0,0,null,"",""]
[null,955,null,null,"",null,null,null,null,0,null,null,null,0,null,null,0,null,"","",0,"","",null,"",0,"","",0,0,0,null,"",""]
[null,956,null,null,"",null,null,null,null,0,null,null,null,0,null,null,0,null,{"$f":"IF($R964=\"No\",IF(H964=\"\",\"\",H964),\"\")","v":""},"",0,{"$f":"IF($R964=\"No\",IF(K964=\"\",\"\",K964),\"\")","v":""},"",null,{"$f":"IF($X964=\"No\",IF(M964=\"\",\"\",M964),\"\")","v":""},{"$f":"IFERROR(IF($X964=\"No\",N964,IF(Y964=\"\",0,1-VLOOKUP(Y964,Prop_Sens_Table,2,FALSE))),\"N/A\")","v":0},{"$f":"IF($X964=\"No\",IF(O964=\"\",\"\",O964),\"\")","v":""},{"$f":"IF($X964=\"No\",IF(P964=\"\",\"\",P964),\"\")","v":""},{"$f":"IF($R964=\"\", 0,IF(R964=\"No\",Q964,IF(V964=\"\",U964*W964,V964*W964)))","v":0},{"$f":"Q964-AC964","v":0},{"$f":"IFERROR(1-(AC964/Q964),0)","v":0},null,{"$f":"IF(E964=\"\",\"\",VLOOKUP(E964,BuildingType_RunHours,2,FALSE))","v":""},{"$f":"IF(AG964=\"\",\"\",(1-IF(AA964=\"\",Z964,AA964))*AG964)","v":""}]
[null,957,null,null,"",null,null,null,null,0,null,null,null,0,null,null,0,null,"","",0,"","",null,"",0,"","",0,0,0,null,"",""]
[null,958,null,null,"",null,null,null,null,0,null,null,null,0,null,null,0,null,"","",0,"","",null,"",0,"","",0,0,0,null,"",""]
[null,959,null,null,"",null,null,null,null,0,null,null,null,0,null,null,0,null,"","",0,"","",null,"",0,"","",0,0,0,null,"",""]
[null,960,null,null,"",null,null,null,null,0,null,null,null,0,null,null,0,null,"","",0,"","",null,"",0,"","",0,0,0,null,"",""]
[null,961,null,null,"",null,null,null,null,0,null,null,null,0,null,null,0,null,"","",0,"","",null,"",0,"","",0,0,0,null,"",""]
[null,962,null,null,"",null,null,null,null,0,null,null,null,0,null,null,0,null,"","",0,"","",null,"",0,"","",0,0,0,null,"",""]
[null,963,null,null,"",null,null,null,null,0,null,null,null,0,null,null,0,null,"","",0,"","",null,"",0,"","",0,0,0,null,"",""]
[null,964,null,null,"",null,null,null,null,0,null,null,null,0,null,null,0,null,"","",0,"","",null,"",0,"","",0,0,0,null,"",""]
[null,965,null,null,"",null,null,null,null,0,null,null,null,0,null,null,0,null,"","",0,"","",null,"",0,"","",0,0,0,null,"",""]
[null,966,null,null,"",null,null,null,null,0,null,null,null,0,null,null,0,null,"","",0,"","",null,"",0,"","",0,0,0,null,"",""]
[null,967,null,null,"",null,null,null,null,0,null,null,null,0,null,null,0,null,"","",0,"","",null,"",0,"","",0,0,0,null,"",""]
[null,968,null,null,"",null,null,null,null,0,null,null,null,0,null,null,0,null,"","",0,"","",null,"",0,"","",0,0,0,null,"",""]
[null,969,null,null,"",null,null,null,null,0,null,null,null,0,null,null,0,null,"","",0,"","",null,"",0,"","",0,0,0,null,"",""]
[null,970,null,null,"",null,null,null,null,0,null,null,null,0,null,null,0,null,"","",0,"","",null,"",0,"","",0,0,0,null,"",""]
[null,971,null,null,"",null,null,null,null,0,null,null,null,0,null,null,0,null,"","",0,"","",null,"",0,"","",0,0,0,null,"",""]
[null,972,null,null,"",null,null,null,null,0,null,null,null,0,null,null,0,null,"","",0,"","",null,"",0,"","",0,0,0,null,"",""]
[null,973,null,null,"",null,null,null,null,0,null,null,null,0,null,null,0,null,"","",0,"","",null,"",0,"","",0,0,0,null,"",""]
[null,974,null,null,"",null,null,null,null,0,null,null,null,0,null,null,0,null,"","",0,"","",null,"",0,"","",0,0,0,null,"",""]
[null,975,null,null,"",null,null,null,null,0,null,null,null,0,null,null,0,null,"","",0,"","",null,"",0,"","",0,0,0,null,"",""]
[null,{"$f":"B983+1","v":976},null,null,"",null,null,null,null,0,null,null,null,0,null,null,0,null,"","",0,"","",null,"",0,"","",0,0,0,null,"",""]
[null,977,null,null,"",null,null,null,null,0,null,null,null,0,null,null,0,null,"","",0,"","",null,"",0,"","",0,0,0,null,"",""]
[null,978,null,null,"",null,null,null,null,0,null,null,null,0,null,null,0,null,"","",0,"","",null,"",0,"","",0,0,0,null,"",""]
[null,979,null,null,"",null,null,null,null,0,null,null,null,0,null,null,0,null,"","",0,"","",null,"",0,"","",0,0,0,null,"",""]
[null,980,null,null,"",null,null,null,null,0,null,null,null,0,null,null,0,null,"","",0,"","",null,"",0,"","",0,0,0,null,"",""]
[null,981,null,null,"",null,null,null,null,0,null,null,null,0,null,null,0,null,"","",0,"","",null,"",0,"","",0,0,0,null,"",""]
[null,982,null,null,"",null,null,null,null,0,null,null,null,0,null,null,0,null,"","",0,"","",null,"",0,"","",0,0,0,null,"",""]
[null,983,null,null,"",null,null,null,null,0,null,null,null,0,null,null,0,null,"","",0,"","",null,"",0,"","",0,0,0,null,"",""]
[null,984,null,null,"",null,null,null,null,0,null,null,null,0,null,null,0,null,"","",0,"","",null,"",0,"","",0,0,0,null,"",""]
[null,985,null,null,"",null,null,null,null,0,null,null,null,0,null,null,0,null,"","",0,"","",null,"",0,"","",0,0,0,null,"",""]
[null,986,null,null,"",null,null,null,null,0,null,null,null,0,null,null,0,null,"","",0,"","",null,"",0,"","",0,0,0,null,"",""]
[null,987,null,null,"",null,null,null,null,0,null,null,null,0,null,null,0,null,"","",0,"","",null,"",0,"","",0,0,0,null,"",""]
[null,988,null,null,"",null,null,null,null,0,null,null,null,0,null,null,0,null,"","",0,"","",null,"",0,"","",0,0,0,null,"",""]
[null,989,null,null,"",null,null,null,null,0,null,null,null,0,null,null,0,null,"","",0,"","",null,"",0,"","",0,0,0,null,"",""]
[null,990,null,null,"",null,null,null,null,0,null,null,null,0,null,null,0,null,"","",0,"","",null,"",0,"","",0,0,0,null,"",""]
[null,991,null,null,"",null,null,null,null,0,null,null,null,0,null,null,0,null,"","",0,"","",null,"",0,"","",0,0,0,null,"",""]
[null,992,null,null,"",null,null,null,null,0,null,null,null,0,null,null,0,null,"","",0,"","",null,"",0,"","",0,0,0,null,"",""]
[null,993,null,null,"",null,null,null,null,0,null,null,null,0,null,null,0,null,"","",0,"","",null,"",0,"","",0,0,0,null,"",""]
[null,994,null,null,"",null,null,null,null,0,null,null,null,0,null,null,0,null,"","",0,"","",null,"",0,"","",0,0,0,null,"",""]
[null,995,null,null,"",null,null,null,null,0,null,null,null,0,null,null,0,null,"","",0,"","",null,"",0,"","",0,0,0,null,"",""]
[null,996,null,null,"",null,null,null,null,0,null,null,null,0,null,null,0,null,"","",0,"","",null,"",0,"","",0,0,0,null,"",""]
[null,997,null,null,"",null,null,null,null,0,null,null,null,0,null,null,0,null,"","",0,"","",null,"",0,"","",0,0,0,null,"",""]
[null,998,null,null,"",null,null,null,null,0,null,null,null,0,null,null,0,null,"","",0,"","",null,"",0,"","",0,0,0,null,"",""]
[null,999,null,null,"",null,null,null,null,0,null,null,null,0,null,null,0,null,"","",0,"","",null,"",0,"","",0,0,0,null,"",""]
[null,1000,null,null,"",null,null,null,null,0,null,null,null,0,null,null,0,null,"","",0,"","",null,"",0,"","",{"$f":"IF($R1008=\"\", 0,IF(R1008=\"No\",Q1008,IF(V1008=\"\",U1008*W1008,V1008*W1008)))","v":0},0,0,null,"",""]
[null,null,null,null,null,null,null,null,null,null,null,null,"Total Watts ",null,null,null,{"$f":"SUM(Q9:Q1008)","v":0},null,null,null,null,null,null,null,"Total Watts ",null,null,null,{"$f":"SUM(AC9:AC1008)","v":0}]
[null,null,null,null,null,null,null,null,null,null,null,null,"Total Watts/Sqft (LPD)",null,null,null,{"$f":"IF('Area Identification'!C9=0,0,Q1009/'Area Identification'!C9)","v":0},null,null,null,null,null,null,null,"Total Watts/Sqft (LPD)",null,null,null,{"$f":"IF('Area Identification'!C9=0,0,AC1009/'Area Identification'!C9)","v":0}]
[]
[null,"Exterior Lighting"]
[null,"Location ",null,null,null,null,null,"Existing",null,null,null,null,null,null,null,null,null,"Proposed",null,null,null,null,null,null,null,null,null,null,null,"Savings",null,null,"Annual Runtime Hours "]
[null,null,"Building \n(from 'Area Identification')","Building Area\n(from 'Area Identification')","Building Type","Floor #","Area","Fixture","Ballast  ","Default Watts / Fixture","Actual Watts/Fixture (if different from default)","Fixture Qty.","Control Type","Default Reduction Factor","Actual Reduction Factor\n(if different from default)","Controls Qty.","Total \nWatts","Fixture Measure?","Fixture Type","Ballast  ","Default Watts / Fixture","Actual Watts/Fixture (if different from default)","Fixture Qty.","Controls Measure? ","Control Type","Default Reduction Factor","Actual Reduction Factor\n(if different from default)","Controls Qty.","Total Watts","Watts Saved","% Savings",null,"Default Annual Hours w/o Controls","Default Annual Hours with Controls"]
[null,"Ex","Building 1 ","Facade ","Education – Primary School","Ground Floor","All","*70W MH Flood Fixture w/ Photocell*","Magnetic",{"$f":"IF(H1015=\"\",0,VLOOKUP(H1015,Exist_Fix_Table,2,FALSE))","v":66},null,25,"None",{"$f":"IFERROR(IF(M1015=\"\",0,1-VLOOKUP(M1015,Prop_Sens_Table,2,FALSE)),\"N/A\")","v":0},null,null,{"$f":"IF(K1015=\"\",J1015*L1015,K1015*L1015)","v":1650},"Yes","LED: PAR38 (20W)","N/A",{"$f":"IFERROR(IF(R1015=\"No\",J1015,IF(S1015=\"\",0,IF(S1015=\"**No Upgrade (controls only)**\",J1015,VLOOKUP(S1015,Prop_Fix_Table,2,FALSE)))),\"N/A\")","v":20},{"$f":"IF($R1015=\"No\",IF(K1015=\"\",\"\",K1015),\"\")","v":""},25,"Yes","Programmable Time Clock",{"$f":"IFERROR(IF(Y1015=\"\",0,1-VLOOKUP(Y1015,Prop_Sens_Table,2,FALSE)),\"N/A\")","v":9.9999999999999978E-2},null,null,{"$f":"IF(R1015=\"\",\"\",IF(V1015=\"\",U1015*W1015,V1015*W1015))","v":500},{"$f":"Q1015-AC1015","v":1150},{"$f":"IFERROR(1-(AC1015/Q1015),0)","v":0.69696969696969702},null,{"$f":"IF(Q1015=0,\"\",12*365)","v":4380},{"$f":"IF(Y1015=\"\",\"\",(VLOOKUP(Y1015,Prop_Sens_Table,2,FALSE)*AG1015))","v":3942}]
[null,1,null,null,null,null,null,null,null,{"$f":"IFERROR(IF(H1016=\"\",0,VLOOKUP(H1016,Exist_Fix_Table,2,FALSE)),\"N/A\")","v":0},null,null,null,0,null,null,{"$f":"IF(K1016=\"\",N(J1016)*L1016,K1016*L1016)","v":0},null,{"$f":"IF($R1016=\"No\",IF(H1016=\"\",\"\",H1016),\"\")","v":""},{"$f":"IF($R1016=\"No\",IF(I1016=\"\",\"\",I1016),\"\")","v":""},0,"",{"$f":"IF($R1016=\"No\",IF(L1016=\"\",\"\",L1016),\"\")","v":""},null,{"$f":"IF($X1016=\"No\",IF(M1016=\"\",\"\",M1016),\"\")","v":""},{"$f":"IFERROR(IF($X1016=\"No\",N1016,IF(Y1016=\"\",0,1-VLOOKUP(Y1016,Prop_Sens_Table,2,FALSE))),\"N/A\")","v":0},{"$f":"IF($X1016=\"No\",IF(O1016=\"\",\"\",O1016),\"\")","v":""},{"$f":"IF($X1016=\"No\",IF(P1016=\"\",\"\",P1016),\"\")","v":""},{"$f":"IF($R1016=\"\",0,IF(R1016=\"\",0,IF(V1016=\"\",U1016*W1016,V1016*W1016)))","v":0},{"$f":"Q1016-AC1016","v":0},{"$f":"IFERROR(1-(AC1016/Q1016),0)","v":0},null,{"$f":"IF(Q1016=0,\"\",12*365)","v":""},{"$f":"IF(AG1016=\"\",\"\",(1-IF(AA1016=\"\",Z1016,AA1016))*AG1016)","v":""}]
[null,{"$f":"B1016+1","v":2},null,null,null,null,null,null,null,0,null,null,null,0,null,null,0,null,"","",0,"","",null,{"$f":"IF($X1017=\"No\",IF(M1017=\"\",\"\",M1017),\"\")","v":""},0,{"$f":"IF($X1017=\"No\",IF(O1017=\"\",\"\",O1017),\"\")","v":""},{"$f":"IF($X1017=\"No\",IF(P1017=\"\",\"\",P1017),\"\")","v":""},0,{"$f":"Q1017-AC1017","v":0},{"$f":"IFERROR(1-(AC1017/Q1017),0)","v":0},null,"",{"$f":"IF(AG1017=\"\",\"\",(1-IF(AA1017=\"\",Z1017,AA1017))*AG1017)","v":""}]
[null,{"$f":"B1017+1","v":3},null,null,null,null,null,null,null,0,null,null,null,0,null,null,0,null,"","",0,"","",null,"",0,"","",0,0,0,null,"",""]
[null,4,null,null,null,null,null,null,null,0,null,null,null,0,null,null,0,null,"","",0,"","",null,"",0,"","",0,0,0,null,"",""]
[null,5,null,null,null,null,null,null,null,0,null,null,null,0,null,null,0,null,"","",0,"","",null,"",0,"","",0,0,0,null,"",""]
[null,6,null,null,null,null,null,null,null,0,null,null,null,0,null,null,0,null,"","",0,"","",null,"",0,"","",0,0,0,null,"",""]
[null,7,null,null,null,null,null,null,null,0,null,null,null,0,null,null,0,null,"","",0,"","",null,"",0,"","",0,0,0,null,"",""]
[null,8,null,null,null,null,null,null,null,0,null,null,null,0,null,null,0,null,"","",0,"","",null,"",0,"","",0,0,0,null,"",""]
[null,9,null,null,null,null,null,null,null,0,null,null,null,0,null,null,0,null,"","",0,"","",null,"",0,"","",0,0,0,null,"",""]
[null,10,null,null,null,null,null,null,null,0,null,null,null,0,null,null,0,null,"","",0,"","",null,"",0,"","",0,0,0,null,"",""]
[null,11,null,null,null,null,null,null,null,0,null,null,null,0,null,null,0,null,"","",0,"","",null,"",0,"","",0,0,0,null,"",""]
[null,12,null,null,null,null,null,null,null,0,null,null,null,0,null,null,0,null,"","",0,"","",null,"",0,"","",0,0,0,null,"",""]
[null,13,null,null,null,null,null,null,null,0,null,null,null,0,null,null,0,null,"","",0,"","",null,"",0,"","",0,0,0,null,"",""]
[null,14,null,null,null,null,null,null,null,0,null,null,null,0,null,null,0,null,"","",0,"","",null,"",0,"","",0,0,0,null,"",""]
[null,15,null,null,null,null,null,null,null,0,null,null,null,0,null,null,0,null,"","",0,"","",null,"",0,"","",0,0,0,null,"",""]
[null,16,null,null,null,null,null,null,null,0,null,null,null,0,null,null,0,null,"","",0,"","",null,"",0,"","",0,0,0,null,"",""]
[null,17,null,null,null,null,null,null,null,0,null,null,null,0,null,null,0,null,"","",0,"","",null,"",0,"","",0,0,0,null,"",""]
[null,18,null,null,null,null,null,null,null,0,null,null,null,0,null,null,0,null,"","",0,"","",null,"",0,"","",0,0,0,null,"",""]
[null,19,null,null,null,null,null,null,null,0,null,null,null,0,null,null,0,null,"","",0,"","",null,"",0,"","",0,0,0,null,"",""]
[null,20,null,null,null,null,null,null,null,0,null,null,null,0,null,null,0,null,"","",0,"","",null,"",0,"","",0,0,0,null,"",""]
[null,21,null,null,null,null,null,null,null,0,null,null,null,0,null,null,0,null,"","",0,"","",null,"",0,"","",0,0,0,null,"",""]
[null,22,null,null,null,null,null,null,null,0,null,null,null,0,null,null,0,null,"","",0,"","",null,"",0,"","",0,0,0,null,"",""]
[null,23,null,null,null,null,null,null,null,0,null,null,null,0,null,null,0,null,"","",0,"","",null,"",0,"","",0,0,0,null,"",""]
[null,24,null,null,null,null,null,null,null,0,null,null,null,0,null,null,0,null,"","",0,"","",null,"",0,"","",0,0,0,null,"",""]
[null,25,null,null,null,null,null,null,null,0,null,null,null,0,null,null,0,null,"","",0,"","",null,"",0,"","",0,0,0,null,"",""]
[null,26,null,null,null,null,null,null,null,0,null,null,null,0,null,null,0,null,"","",0,"","",null,"",0,"","",0,0,0,null,"",""]
[null,27,null,null,null,null,null,null,null,0,null,null,null,0,null,null,0,null,"","",0,"","",null,"",0,"","",0,0,0,null,"",""]
[null,28,null,null,null,null,null,null,null,0,null,null,null,0,null,null,0,null,"","",0,"","",null,"",0,"","",0,0,0,null,"",""]
[null,29,null,null,null,null,null,null,null,0,null,null,null,0,null,null,0,null,"","",0,"","",null,"",0,"","",0,0,0,null,"",""]
[null,30,null,null,null,null,null,null,null,0,null,null,null,0,null,null,0,null,"","",0,"","",null,"",0,"","",0,0,0,null,"",""]
[null,31,null,null,null,null,null,null,null,0,null,null,null,0,null,null,0,null,"","",0,"","",null,"",0,"","",0,0,0,null,"",""]
[null,32,null,null,null,null,null,null,null,0,null,null,null,{"$f":"IFERROR(IF(M1047=\"\",0,1-VLOOKUP(M1047,Prop_Sens_Table,2,FALSE)),\"N/A\")","v":0},null,null,0,null,"","",{"$f":"IFERROR(IF(R1047=\"No\",J1047,IF(S1047=\"\",0,IF(S1047=\"**No Upgrade (controls only)**\",J1047,VLOOKUP(S1047,Prop_Fix_Table,2,FALSE)))),\"N/A\")","v":0},{"$f":"IF($R1047=\"No\",IF(K1047=\"\",\"\",K1047),\"\")","v":""},"",null,"",0,"","",0,0,0,null,"",""]
[null,33,null,null,null,null,null,null,null,{"$f":"IFERROR(IF(H1048=\"\",0,VLOOKUP(H1048,Exist_Fix_Table,2,FALSE)),\"N/A\")","v":0},null,null,null,0,null,null,0,null,{"$f":"IF($R1048=\"No\",IF(H1048=\"\",\"\",H1048),\"\")","v":""},{"$f":"IF($R1048=\"No\",IF(I1048=\"\",\"\",I1048),\"\")","v":""},0,"",{"$f":"IF($R1048=\"No\",IF(L1048=\"\",\"\",L1048),\"\")","v":""},null,"",{"$f":"IFERROR(IF($X1048=\"No\",N1048,IF(Y1048=\"\",0,1-VLOOKUP(Y1048,Prop_Sens_Table,2,FALSE))),\"N/A\")","v":0},"","",0,0,0,null,"",""]
[null,34,null,null,null,null,null,null,null,0,null,null,null,0,null,null,0,null,"","",0,"","",null,"",0,"","",0,0,0,null,"",""]
[null,35,null,null,null,null,null,null,null,0,null,null,null,0,null,null,0,null,"","",0,"","",null,"",0,"","",0,0,0,null,"",""]
[null,36,null,null,null,null,null,null,null,0,null,null,null,0,null,null,0,null,"","",0,"","",null,"",0,"","",0,0,0,null,"",""]
[null,37,null,null,null,null,null,null,null,0,null,null,null,0,null,null,0,null,"","",0,"","",null,"",0,"","",0,0,0,null,"",""]
[null,38,null,null,null,null,null,null,null,0,null,null,null,0,null,null,0,null,"","",0,"","",null,"",0,"","",0,0,0,null,"",""]
[null,39,null,null,null,null,null,null,null,0,null,null,null,0,null,null,0,null,"","",0,"","",null,"",0,"","",0,0,0,null,"",""]
[null,40,null,null,null,null,null,null,null,0,null,null,null,0,null,null,0,null,"","",0,"","",null,"",0,"","",0,0,0,null,"",""]
[null,41,null,null,null,null,null,null,null,0,null,null,null,0,null,null,0,null,"","",0,"","",null,"",0,"","",0,0,0,null,"",""]
[null,42,null,null,null,null,null,null,null,0,null,null,null,0,null,null,0,null,"","",0,"","",null,"",0,"","",0,0,0,null,"",""]
[null,43,null,null,null,null,null,null,null,0,null,null,null,0,null,null,0,null,"","",0,"","",null,"",0,"","",0,0,0,null,"",""]
[null,44,null,null,null,null,null,null,null,0,null,null,null,0,null,null,0,null,"","",0,"","",null,"",0,"","",0,0,0,null,"",""]
[null,45,null,null,null,null,null,null,null,0,null,null,null,0,null,null,0,null,"","",0,"","",null,"",0,"","",0,0,0,null,"",""]
[null,46,null,null,null,null,null,null,null,0,null,null,null,0,null,null,0,null,"","",0,"","",null,"",0,"","",0,0,0,null,"",""]
[null,47,null,null,null,null,null,null,null,0,null,null,null,0,null,null,0,null,"","",0,"","",null,"",0,"","",0,0,0,null,"",""]
[null,48,null,null,null,null,null,null,null,0,null,null,null,0,null,null,0,null,"","",0,"","",null,"",0,"","",0,0,0,null,"",""]
[null,49,null,null,null,null,null,null,null,0,null,null,null,0,null,null,0,null,"","",0,"","",null,"",0,"","",0,0,0,null,"",""]
[null,50,null,null,null,null,null,null,null,0,null,null,null,0,null,null,0,null,"","",0,"","",null,"",0,"","",{"$f":"IF($R1065=\"\",0,IF(R1065=\"\",0,IF(V1065=\"\",U1065*W1065,V1065*W1065)))","v":0},0,0,null,{"$f":"IF(Q1065=0,\"\",12*365)","v":""},""]
[null,null,null,null,null,null,null,null,null,null,null,null,"Total Watts ",null,null,null,{"$f":"SUM(Q1016:Q1065)","v":0},null,null,null,null,null,null,null,"Total Watts ",null,null,null,{"$f":"SUM(AC1016:AC1065)","v":0}]

{"sheet":"Lighting Data","index":25,"n_rows":573,"n_cols":12,"rows_kept":573,"cut":false,"hidden":true,"merged":[[1,4,1,5],[1,6,1,7]]}
[]
[null,"Proposed Fixture","Proposed Wattage","Material Cost","Labor Cost",null,"Labor Cost (PW)",null,null,null,null,"Ballast Type"]
[null,null,null,null,"12' or Less","> 12'","12' or Less","> 12'",null,"Measure ID"]
[null,"2' T8 1-lamp with EB",20,18.974986680045152,26.733489315920398,39.906106866382366,48.041817484008526,67.521260696517416,null,115,null,"Magnetic"]
[null,"2' T8 2-lamp with EB",33,21.497359726577201,26.733489315920398,39.906106866382366,48.041817484008526,67.521260696517416,null,115,null,"Electronic"]
[null,"2' T8 3-lamp with EB",47,25.515095309168448,28.440536934968016,41.836868771144282,52.578580341151387,71.109505696517417,null,115,null,"N/A"]
[null,"2' T8 4-lamp with EB",61,29.950221648062211,28.440536934968016,41.836868771144282,52.578580341151387,71.109505696517417,null,115]
[null,"4' T8 1-lamp with EB",31,19.377831619214849,26.733489315920398,39.906106866382366,48.041817484008526,67.521260696517416,null,115]
[null,"4' T8 2-lamp with EB",59,21.700184058698106,26.733489315920398,39.906106866382366,48.041817484008526,67.521260696517416,null,115]
[null,"4' T8 3-lamp with EB",89,26.12299147121535,28.440536934968016,41.836868771144282,52.578580341151387,71.109505696517417,null,115]
[null,"4' T8 4-lamp with EB",112,29.966681236673772,32.011965506396585,45.929725914001423,57.128580341151391,77.176172363184079,null,115]
[null,"2' T8 1-lamp with EB plus reflector",15,34.665362046908321,37.933871462686575,55.780248456005687,71.641294456289984,98.781538681592039,null,115]
[null,"4' T8 1-lamp with EB plus reflector",27,36.536555437100212,38.236728605543718,56.276819884577115,72.756351599147123,99.722708681592053,null,115]
[null,"4' T8 2-lamp with EB plus reflector",54,38.138712153518121,38.236728605543718,56.276819884577115,71.684923027718554,98.472708681592053,null,115]
[null,"4' T8 3-lamp with EB plus reflector",83,52.194482942430703,47.274585748400852,65.319534170291405,89.593280170575696,111.89138034825872,null,115]
[null,"8' T8 2-lamp with EB",109,42.191648187633255,37.372536934968018,54.826583056858567,70.225617484008538,96.490410696517415,null,115]
[null,"4' T8 4-lamp with EB plus reflector",105,56.901477611940308,47.274585748400852,65.319534170291405,89.593280170575696,111.89138034825872,null,115]
[null,"4' T8 6-lamp with EB plus reflector",156,79.440379530916843,52.346014319829422,75.762391313148555,101.70042302771856,132.58304701492537,null,115]
[null,"8' T8 2-lamp with EB plus reflector",98,61.724682302771853,52.346014319829422,71.676677027434252,99.557565884861418,124.01638034825872,null,115]
[null,"2' T8 U-Lamp with EB",31,32.151499999999999,23.200000000000003,30.16,47.963999999999999,62.353200000000001,null,115]
[null,"4' T8 2-lamp w/ HPEB",79,39.362000000000002,52.2,67.860000000000014,107.919,140.29470000000001,null,115]
[null,"4' T8 2-lamp w/ HPEB plus reflector",65,45.262999999999998,52.2,67.860000000000014,107.919,140.29470000000001,null,115]
[null,"4' T8 4-lamp w/ HPEB",140,47.961500000000001,52.2,67.860000000000014,107.919,140.29470000000001,null,115]
[null,"4' T8 4-lamp w/ HPEB plus reflector",112,54.125,52.2,67.860000000000014,107.919,140.29470000000001,null,115]
[null,"54T5HO 2-lamp and fixture",117,151.35059701492537,75.331108363539443,108.88772591400142,161.41891748400852,181.94100236318408,null,115]
[null,"54T5HO 3-lamp and fixture",176,170.60072707889125,75.331108363539443,108.88772591400142,161.41891748400852,181.94100236318408,null,115]
[null,"T8 3-lamp fixture with EB & reflector",72,121.80134754797442,77.524255257995733,111.51950218734896,161.41891748400852,181.94100236318408,null,115]
[null,"T8 4-lamp fixture with EB & reflector",95,130.58164285714284,77.524255257995733,111.51950218734896,161.41891748400852,181.94100236318408,null,115]
[null,"54T5HO 4-lamp and fixture",234,188.03007036247337,89.460281761194025,117.61416256261552,161.41891748400852,181.94100236318408,null,115]
[null,"5W CF Screw-in Quad Lamp",5,9.602476545842217,14.41729617341862,21.729729821748403,27.096243496801709,37.194955472636821,null,23]
[null,"5W CF Screw-in Torpedo or R20 Lamp",5,7.7254051172707898,14.41729617341862,21.729729821748403,27.096243496801709,37.194955472636821,null,23]
[null,"CF 7-1L SCREW IN CFL",7,5.9938893034825869,14.41729617341862,21.729729821748403,27.096243496801709,37.194955472636821,null,23]
[null,"CF 9-1L SCREW IN CFL",9,5.1725479744136464,14.41729617341862,21.729729821748403,27.096243496801709,37.194955472636821,null,23]
[null,"CF 13-1L SCREW IN CFL",13,5.5961194029850754,14.41729617341862,21.729729821748403,27.096243496801709,37.194955472636821,null,23]
[null,"CF 18-1L SCREW IN CFL",18,5.8182622601279315,14.41729617341862,21.729729821748403,27.096243496801709,37.194955472636821,null,23]
[null,"CF 22-1L SCREW IN CFL",22,6.0168336886993599,14.41729617341862,21.729729821748403,27.096243496801709,37.194955472636821,null,23]
[null,"CF 26-1L SCREW IN CFL",26,9.6058336886993612,14.41729617341862,21.729729821748403,27.096243496801709,37.194955472636821,null,23]
[null,"CF 28-1L SCREW IN CFL",28,12.875833688699361,14.41729617341862,21.729729821748403,27.096243496801709,37.194955472636821,null,23]
[null,"CF 32-1L SCREW IN CFL",32,16.044981876332624,14.41729617341862,21.729729821748403,27.096243496801709,37.194955472636821,null,23]
[null,"CF 36-1L SCREW IN CFL",36,16.819145522388059,14.41729617341862,21.729729821748403,27.096243496801709,37.194955472636821,null,23]
[null,"CF 42-1L SCREW IN CFL",42,17.725839019189767,14.41729617341862,21.729729821748403,27.096243496801709,37.194955472636821,null,23]
[null,"CF 7-1L SCREW IN CFL DIMMABLE",7,19.450829424307038,14.41729617341862,21.729729821748403,27.096243496801709,37.194955472636821,null,23]
[null,"CF 18-1L SCREW IN CFL DIMMABLE",18,19.007400852878465,14.41729617341862,21.729729821748403,27.096243496801709,37.194955472636821,null,23]
[null,"CF 23-1L SCREW IN CFL DIMMABLE",23,19.713196162046909,14.41729617341862,21.729729821748403,27.096243496801709,37.194955472636821,null,23]
[null,"18W CIRCLINE w/ dome",19,62.05605010660981,56.51490831556503,79.746746410803127,107.78820597014926,145.04114552238806,null,115]
[null,"32W CIRCLINE w/ dome",34,66.834621535181242,56.51490831556503,79.746746410803127,107.78820597014926,145.04114552238806,null,115]
[null,"40W CIRCLINE w/ dome",45,72.588407249466954,56.51490831556503,79.746746410803127,107.78820597014926,145.04114552238806,null,115]
[null,"58W CIRCLINE w/ dome",65,76.967831556503214,56.51490831556503,79.746746410803127,107.78820597014926,145.04114552238806,null,115]
[null,"28W CF Exterior Floodlight w/PE ",25,77.972896588486137,71.84722104477612,93.669460444444439,115.16308891257995,134.30766902985076,null,23]
[null,"1 LAMP T5 HIGH BAY HO FIXTURE",58,156.8458262260128,71,115.08668038095236,171,182.9930273631841,null,115]
[null,"2 LAMP T5 HIGH BAY HO FIXTURE",117,159.27531236673775,71,115.08668038095236,171,182.9930273631841,null,115]
[null,"3 LAMP T5 HIGH BAY HO FIXTURE",179,177.20758422174842,71,115.08668038095236,171,184.2430273631841,null,115]
[null,"4 LAMP T5 HIGH BAY HO FIXTURE",234,195.04028464818762,71,115.08668038095236,171,184.2430273631841,null,115]
[null,"5 LAMP T5 HIGH BAY HO FIXTURE",292,230.70486886993604,71,120.93446044444444,171,185.4930273631841,null,115]
[null,"6 LAMP T5 HIGH BAY HO FIXTURE",351,237.08599786780383,71,115.08668038095236,171,185.4930273631841,null,115]
[null,"MH PS (320 W) RETRO.",365,117.38107675906183,71,110.57239466666667,171,168.99602736318408,null,119]
[null,"MH PS (250W) RETRO.",288,116.92817164179105,71,110.57239466666667,171,167.74602736318408,null,119]
[null,"MH PS (200 W) RETRO.",235,121.61303837953092,71,110.57239466666667,171,167.74602736318408,null,119]
[null,"MH PS (175 W) RETRO.",208,123.52817164179103,71,110.57239466666667,171,167.74602736318408,null,119]
[null,"NEW MH PS (320 W) FIXTURE",365,224.16646481876336,71,115.08668038095236,171,185.4930273631841,null,119]
[null,"NEW MH PS (250 W) FIXTURE",288,220.5701012793177,71,115.08668038095236,171,185.4930273631841,null,119]
[null,"NEW MH PS (200 W) FIXTURE",235,203.95770415778253,71,115.08668038095236,131.36750000000001,142.10999999999999,null,119]
[null,"NEW MH PS (175 W) FIXTURE",208,193.61246801705758,71,115.08668038095236,150.67501599147121,162.66751599147122,null,119]
[null,"42W Halogen Lamp (12 V System)",42,12.259492537313431,13.766666666666666,39.171682666666669,42.75,81.80757736318408,null,121]
[null,"50W Halogen Lamp (12 V System)",50,15.07080447761194,13.766666666666666,39.171682666666669,42.75,81.80757736318408,null,121]
[null,"65W Halogen Lamp (12 V System)",65,13.557388059701491,13.766666666666666,39.171682666666669,42.75,81.80757736318408,null,121]
[null,"LED: A-Lamp (8W)",8,21.841216293510001,14.563999999999998,20.625999999999998,26.2,35.618000000000002,null,129]
[null,"LED: A-Lamp (8.5W)",8.5,23.591639506821252,14.563999999999998,20.625999999999998,26.2,35.618000000000002,null,129]
[null,"LED: A-Lamp (9W)",9,25.3420627201325,14.563999999999998,20.625999999999998,26.2,35.618000000000002,null,129]
[null,"LED: A-Lamp (12W)",12,35.844602000000009,14.563999999999998,20.625999999999998,26.2,35.618000000000002,null,129]
[null,"LED: A-Lamp (13W)",13,38.709051000000002,14.563999999999998,20.625999999999998,26.2,35.618000000000002,null,129]
[null,"LED: A-Lamp (13.5W)",13.5,40.141275499999999,14.563999999999998,20.625999999999998,26.2,35.618000000000002,null,129]
[null,"LED: A-Lamp (14W)",14,41.573499999999996,14.563999999999998,20.625999999999998,26.2,35.618000000000002,null,129]
[null,"LED: A-Lamp (17W)",17,50.166846999999976,14.563999999999998,20.625999999999998,26.2,35.618000000000002,null,129]
[null,"LED: BR30 (11W)",11,39.542000000000002,14.563999999999998,20.625999999999998,26.2,35.618000000000002,null,129]
[null,"LED: BR30 (12W)",12,39.836043333333336,14.563999999999998,20.625999999999998,26.2,35.618000000000002,null,129]
[null,"LED: BR30 (14W)",14,40.130086666666671,14.563999999999998,20.625999999999998,26.2,35.618000000000002,null,129]
[null,"LED: BR40 (11W)",11,42.508159999999997,14.563999999999998,20.625999999999998,26.2,35.618000000000002,null,129]
[null,"LED: BR40 (14W)",14,46.956188750000003,14.563999999999998,20.625999999999998,26.2,35.618000000000002,null,129]
[null,"LED: BR40 (18W)",18,52.886893750000006,14.563999999999998,20.625999999999998,26.2,35.618000000000002,null,129]
[null,"LED: Candle (1.8W)",1.8,18.901063636363634,14.563999999999998,20.625999999999998,26.2,35.618000000000002,null,129]
[null,"LED: Candle (2W)",2,19.235752892561983,14.563999999999998,20.625999999999998,26.2,35.618000000000002,null,129]
[null,"LED: Candle (3W)",3,19.63738,14.563999999999998,20.625999999999998,26.2,35.618000000000002,null,129]
[null,"LED: Candle (4W)",4,20.039007107438021,14.563999999999998,20.625999999999998,26.2,35.618000000000002,null,129]
[null,"LED: Globe (1.8W)",1.8,19.297936363636364,14.563999999999998,20.625999999999998,26.2,35.618000000000002,null,129]
[null,"LED: Globe (8W)",8,33.344140008499998,14.563999999999998,20.625999999999998,26.2,35.618000000000002,null,129]
[null,"LED: MR16 (4W)",4,21.003712500000002,14.563999999999998,20.625999999999998,26.2,35.618000000000002,null,129]
[null,"LED: MR16 (5.5W)",5.5,21.436999999999998,14.563999999999998,20.625999999999998,26.2,35.618000000000002,null,129]
[null,"LED: MR16 (6W)",6,24.830219027249999,14.563999999999998,20.625999999999998,26.2,35.618000000000002,null,129]
[null,"LED: MR16 (7W)",7,26.743472290875001,14.563999999999998,20.625999999999998,26.2,35.618000000000002,null,129]
[null,"LED: MR16 (8W)",8,32.949306518700006,14.563999999999998,20.625999999999998,26.2,35.618000000000002,null,129]
[null,"LED: MR16 (10W)",10,34.564187500000003,14.563999999999998,20.625999999999998,26.2,35.618000000000002,null,129]
[null,"LED: PAR20 (7W)",7,26.456037499999997,14.563999999999998,20.625999999999998,26.2,35.618000000000002,null,129]
[null,"LED: PAR20 (8W)",8,28.140914897550001,14.563999999999998,20.625999999999998,26.2,35.618000000000002,null,129]
[null,"LED: PAR20 (9W)",9,29.825792295100005,14.563999999999998,20.625999999999998,26.2,35.618000000000002,null,129]
[null,"LED: PAR30 (10W)",10,46.362037922077917,14.563999999999998,20.625999999999998,26.2,35.618000000000002,null,129]
[null,"LED: PAR30 (11W)",11,49.417724999999997,14.563999999999998,20.625999999999998,26.2,35.618000000000002,null,129]
[null,"LED: PAR30 (12W)",12,52.473412077922077,14.563999999999998,20.625999999999998,26.2,35.618000000000002,null,129]
[null,"LED: PAR30 (13W)",13,55.529099155844165,14.563999999999998,20.625999999999998,26.2,35.618000000000002,null,129]
[null,"LED: PAR30 (14W)",14,61.291438749999998,14.563999999999998,20.625999999999998,26.2,35.618000000000002,null,129]
[null,"LED: PAR30 (15W)",15,65.70045208603895,14.563999999999998,20.625999999999998,26.2,35.618000000000002,null,129]
[null,"LED: PAR38 (13W)",13,43.630225184800011,14.563999999999998,20.625999999999998,26.2,35.618000000000002,null,129]
[null,"LED: PAR38 (14W)",14,45.508744999999998,14.563999999999998,20.625999999999998,26.2,35.618000000000002,null,129]
[null,"LED: PAR38 (15W)",15,47.387264815199984,14.563999999999998,20.625999999999998,26.2,35.618000000000002,null,129]
[null,"LED: PAR38 (17W)",17,51.417902499999997,14.563999999999998,20.625999999999998,26.2,35.618000000000002,null,129]
[null,"LED: PAR38 (18W)",18,53.43322134240001,14.563999999999998,20.625999999999998,26.2,35.618000000000002,null,129]
[null,"LED: PAR38 (19W)",19,55.448540184800024,14.563999999999998,20.625999999999998,26.2,35.618000000000002,null,129]
[null,"LED: PAR38 (20W)",20,57.463859027200037,14.563999999999998,20.625999999999998,26.2,35.618000000000002,null,129]
[null,"LED: R20 (9W)",9,28.339892500000001,14.563999999999998,20.625999999999998,26.2,35.618000000000002,null,129]
[null,"LED Exit Sign Retrofit Kit",2,21.302895522388059,46.589415172707895,85,93.361484221748398,200,null,130]
[null,"LED Universal Exit Sign",2,25.495130063965888,52.457986601279309,85,103.46348422174842,200,null,130]
[null,"LED EXIT Sign w/ Batt. Backup",2,30.355844349680172,52.499415172707891,85,103.5491342217484,200,null,130]
[null,"**No Upgrade (controls only)**",0,0,0,0,0,0,null,0]
[]
[null,"Proposed Sensor","Savings Factor","Material Cost","Labor Cost","Labor Cost (PW)"]
[]
[null,"None",1]
[null,"Occ. Sensor Ceiling Mount (line volt)",0.9,103.910421108742,86.277424618336894,164.99041748400853,null,null,null,98]
[null,"Occ. Sensor Ceiling Mount (low volt)",0.9,124.82213184079603,89.134567475479756,167.66898891257998,null,null,null,98]
[null,"Dual Tech. Occ.Sens Ceiling (line v)",0.9,119.29806076759061,86.277424618336894,164.99041748400853,null,null,null,98]
[null,"Dual Tech. Occ.Sens Ceiling (low v)",0.9,162.02616169154228,89.134567475479756,167.66898891257998,null,null,null,97]
[null,"Occ. Sens. Wall/Corner Mount (line v)",0.9,116.30265991471217,72.685996046908329,148.56318891257999,null,null,null,97]
[null,"Occ. Sens. Wall/Corner Mount (low v)",0.9,127.66812189054725,75.543138904051176,153.92033176972285,null,null,null,97]
[null,"Dual Tech Occ.Sens Wall/Corner (line v)",0.9,140.61503304904051,72.685996046908329,148.56318891257999,null,null,null,97]
[null,"Dual Tech Occ.Sens Wall/Corner (low v)",0.9,149.0404552238806,75.543138904051176,153.92033176972285,null,null,null,97]
[null,"Occupancy Sensor Wall Switch",0.9,57.797499999999999,42.776728605543717,93.714651599147132,null,null,null,97]
[null,"Dual Tech Occ. Sensor Wall Switch",0.9,81.408416666666668,42.776728605543717,93.714651599147132,null,null,null,97]
[null,"Occ.Sensor for High Bay Fixtures",0.9,81.629785714285717,54.848304906183373,110.47967921108742,null,null,null,98]
[null,"Photocell Control w/ Dimmable Balast",0.8,77.277363184079604,42.859109557924661,100.90170874200427,null,null,null,100]
[null,"Programmable Time Clock",0.9,168.83041666666665,126.52501066098083,212.68195565031985,null,null,null,238]
[null,"Add'l Power Pack (a.k.a. Relay)","N/A",31.125,43.5,89.932500000000005]
[]
[]
[null,"Existing Fixture","Existing Wattage"]
[null,"EXIT Compact Fluorescent, (1) 5W lamp",9,"***EXIT Sign Fixtures***"]
[null,"EXIT Compact Fluorescent, (2) 5W lamp",20]
[null,"EXIT Compact Fluorescent, (1) 7W lamp",10]
[null,"EXIT Compact Fluorescent, (2) 7W lamp",21]
[null,"EXIT T5 Fluorescent, (1) 8W lamp",12]
[null,"EXIT T5 Fluorescent, (2) 8W lamp",24]
[null,"EXIT Compact Fluorescent, (1) 9W lamp",12]
[null,"EXIT Compact Fluorescent, (2) 9W lamp",20]
[null,"EXIT Incandescent, (2) 10W lamp",20]
[null,"EXIT Incandescent, (1) 15W lamp",15]
[null,"EXIT Incandescent, (2) 15W lamp",30]
[null,"EXIT Incandescent, (1) 20W lamp",20]
[null,"EXIT Incandescent, (2) 20W lamp",40]
[null,"EXIT Incandescent, (1) 25W lamp",25]
[null,"EXIT Incandescent, (2) 25W lamp",50]
[null,"EXIT Incandescent, (1) 34W lamp",34]
[null,"EXIT Incandescent, (2) 34W lamp",68]
[null,"EXIT Incandescent, (1) 40W lamp",40]
[null,"EXIT Incandescent, (2) 40W lamp",80]
[null,"EXIT Incandescent, (1) 5W lamp",5]
[null,"EXIT Incandescent, (2) 5W lamp",10]
[null,"EXIT Incandescent, (2) 50W lamp",100]
[null,"EXIT Tungsten, (1) 7.5 W lamp",8]
[null,"EXIT Tungsten, (2) 7.5 W lamp",15]
[null,"Fluorescent, (1) 18\" T8 lamp",19,"***Linear Fluorescent Fixtures***"]
[null,"Fluorescent, (1) 18\" T12 lamp",19]
[null,"Fluorescent, (2) 18\" T8 lamp",36]
[null,"Fluorescent, (2) 18\", T12 lamp",36]
[null,"Fluorescent, (1) 24\", HO lamp",62]
[null,"Fluorescent, (1) 24\", STD lamp",28]
[null,"Fluorescent, (2) 24\", HO lamp",90]
[null,"Fluorescent, (2) 24\", STD lamp",56]
[null,"Fluorescent, (3) 24\", STD lamp",84]
[null,"Fluorescent, (4) 24\", STD lamp",112]
[null,"Fluorescent, (6) 24\", STD lamp",153]
[null,"Fluorescent, (6) 24\", STD lamp",168]
[null,"Fluorescent, (1) 36\", ES  lamp",42]
[null,"Fluorescent, (1) 36\", HO lamp",70]
[null,"Fluorescent, (1) 36\", STD  lamp",46]
[null,"Fluorescent, (2) 36\", STD  lamp",74]
[null,"Fluorescent, (2) 36\", HO, lamp",114]
[null,"Fluorescent, (2) 36\", STD  lamp",81]
[null,"Fluorescent, (3) 36\", ES lamp",115]
[null,"Fluorescent, (3) 36\", STD lamp",127]
[null,"Fluorescent, (4) 36\", STD  lamp",162]
[null,"Fluorescent, (6) 36\", ES  lamp",198]
[null,"Fluorescent, (6) 36\", STD  lamp",238]
[null,"Fluorescent, (1) 48\", ES lamp",43]
[null,"Fluorescent, (1) 48\", ES HO lamp",80]
[null,"Fluorescent, (1) 48\", ES lamp",50]
[null,"Fluorescent, (1) 48\", VHO ES lamp",123]
[null,"Fluorescent, (1) 48\", STD lamp",57]
[null,"Fluorescent, (1) 48\", STD VHO lamp",135]
[null,"Fluorescent, (1) 48\", T-10 lamp",51]
[null,"Fluorescent, (2) 42\", HO lamp",135]
[null,"Fluorescent, (2) 48\" ES, MB",82]
[null,"Fluorescent, (2) 48\", T12 ES, EB",60]
[null,"Fluorescent, (2) 48\", VHO ES lamp",210]
[null,"Fluorescent, (2) 48\", STD HO lamp",145]
[null,"Fluorescent, (2) 48\", STD lamp",94]
[null,"Fluorescent, (2) 48\", STD VHO lamp",242]
[null,"Fluorescent, (3) 48\", ES HO (3.5' lamp)",215]
[null,"Fluorescent, (3) 48\", ES lamp",133]
[null,"Fluorescent, (3) 48\", VHO ES lamp",333]
[null,"Fluorescent, (3) 48\", STD IS lamp ",162]
[null,"Fluorescent, (3) 48\", STD lamp",151]
[null,"Fluorescent, (3) 48\", STD VHO lamp",377]
[null,"Fluorescent, (4) 48\", ES HO lamp",270]
[null,"Fluorescent, (4) 48\", T12 ES lamp, EB",120]
[null,"Fluorescent, (4) 48\", ES lamp",164]
[null,"Fluorescent, (4) 48\", VHO ES lamp",420]
[null,"Fluorescent, (4) 48\", STD HO lamp",290]
[null,"Fluorescent, (4) 48\", STD IS lamp, EB",148]
[null,"Fluorescent, (4) 48\", STD IS lamp ",204]
[null,"Fluorescent, (4) 48\", STD lamp",188]
[null,"Fluorescent, (4) 48\", STD VHO lamp",484]
[null,"Fluorescent, (6) 48\", ES lamp",236]
[null,"Fluorescent, (6) 48\", STD lamp",282]
[null,"Fluorescent, (8) 48\", ES lamp",288]
[null,"Fluorescent, (1) 60\", STD HO lamp",92]
[null,"Fluorescent, (1) 60\", STD lamp",63]
[null,"Fluorescent, (1) 60\", VHO ES lamp",165]
[null,"Fluorescent, (2) 60\", T-8 HO lamp, IS Bal.",123]
[null,"Fluorescent, (2) 60\", STD HO lamp",176]
[null,"Fluorescent, (2) 60\", STD lamp",128]
[null,"Fluorescent, (2) 60\", VHO ES lamp",310]
[null,"Fluorescent, (1) 72\", STD HO lamp",120]
[null,"Fluorescent, (1) 72\", VHO lamp",180]
[null,"Fluorescent, (2) 72\", STD lamp",122]
[null,"Fluorescent, (2) 72\", STD HO lamp",220]
[null,"Fluorescent, (2) 72\", STD lamp",145]
[null,"Fluorescent, (2) 72\", VHO lamp",330]
[null,"Fluorescent, (3) 72\", STD lamp",202]
[null,"Fluorescent, (4) 72\", STD HO lamp",388]
[null,"Fluorescent, (4) 72\", STD lamp",244]
[null,"Fluorescent, (1) 96\", ES HO lamp",125]
[null,"Fluorescent, (1) 96\", ES lamp",83]
[null,"Fluorescent, (1) 96\", ES VHO lamp",200]
[null,"Fluorescent, (1) 96\", T8 HO lamp",85]
[null,"Fluorescent, (1) 96\", STD lamp",91]
[null,"Fluorescent, (1) 96\", STD HO lamp",145]
[null,"Fluorescent, (1) 96\", STD VHO lamp",230]
[null,"Fluorescent, (2) 96\", ES HO lamp",227]
[null,"Fluorescent, (2) 96\", ES lamp",138]
[null,"Fluorescent, (2) 96\", ES VHO lamp",390]
[null,"Fluorescent, (2) 96\", T8 HO lamp",160]
[null,"Fluorescent, (2) 96\", STD HO lamp",257]
[null,"Fluorescent, (2) 96\", STD lamp",173]
[null,"Fluorescent, (2) 96\", STD VHO lamp",450]
[null,"Fluorescent, (3) 96\", ES HO lamp",352]
[null,"Fluorescent, (3) 96\", ES lamp",221]
[null,"Fluorescent, (3) 96\", ES VHO lamp",590]
[null,"Fluorescent, (3) 96\", STD HO lamp",392]
[null,"Fluorescent, (3) 96\", STD lamp",273]
[null,"Fluorescent, (3) 96\", STD VHO lamp",680]
[null,"Fluorescent, (4) 96\", ES HO lamp",454]
[null,"Fluorescent, (4) 96\", ES lamp",276]
[null,"Fluorescent, (4) 96\", ES VHO lamp",780]
[null,"Fluorescent, (4) 96\", T8 HO lamp",320]
[null,"Fluorescent, (4) 96\", STD HO lamp",514]
[null,"Fluorescent, (4) 96\", STD lamp",346]
[null,"Fluorescent, (4) 96\", STD VHO lamp",900]
[null,"Fluorescent, (1) 12\" circular lamp, RS bal.",31,"***Circline Fluorescent Fixtures***"]
[null,"Fluorescent, (2) 12\" circular lamp, RS bal.",62]
[null,"Fluorescent, (1) 16\" circular lamp",35]
[null,"Fluorescent, (1) 6\" circular lamp, RS bal.",25]
[null,"Fluorescent, (1) 8\" circular lamp, RS bal.",26]
[null,"Fluorescent, (2) 8\" circular lamp, RS bal.",52]
[null,"Fluorescent, (1) U-Tube, ES lamp",43,"***U-Tube Fluorescent Fixtures***"]
[null,"Fluorescent, (1) U-Tube, T-8 lamp",32]
[null,"Fluorescent, (2) U-Tube, STD lamp",96]
[null,"Fluorescent, (2) U-Tube, STD lamp",85]
[null,"Fluorescent, (2) U-Tube, ES lamp",72]
[null,"Fluorescent, (2) U-Tube, ES lamp",82]
[null,"Fluorescent, (2) U-Tube, T-8 lamp",60]
[null,"Fluorescent, (3) U-Tube, ES lamp",115]
[null,"CFL: 5W",5,"***Compact Fluorescent Fixtures***"]
[null,"CFL: 7W",7]
[null,"CFL: 9W",9]
[null,"CFL: 13W",13]
[null,"CFL: 15W",15]
[null,"CFL: 18W",18]
[null,"CFL: 20W",20]
[null,"CFL: 23W",23]
[null,"CFL: 26W",26]
[null,"CFL: 30W",30]
[null,"CFL: 32W",32]
[null,"CFL: 36W",36]
[null,"CFL: 40W",40]
[null,"CFL: 42W",42]
[null,"CFL: 55W",55]
[null,"CFL: 65W",65]
[null,"CFL: 85W",85]
[null,"CFL: 105W",105]
[null,"CFL: 150W",150]
[null,"CFL: 200W",200]
[null,"Incandescent, (1) 100W lamp",100,"***Standard Incandescent Fixtures***"]
[null,"Incandescent, (2) 100W lamp",200]
[null,"Incandescent, (3) 100W lamp",300]
[null,"Incandescent, (4) 100W lamp",400]
[null,"Incandescent, (5) 100W lamp",500]
[null,"Incandescent, (1) 1000W lamp",1000]
[null,"Incandescent, (1) 100W ES lamp",90]
[null,"Incandescent, (1) 120W lamp",120]
[null,"Incandescent, (2) 120W lamp",240]
[null,"Incandescent, (1) 125W lamp",125]
[null,"Incandescent, (1) 135W lamp",135]
[null,"Incandescent, (2) 135W lamp",270]
[null,"Incandescent, (1) 15W lamp",15]
[null,"Incandescent, (2) 15W lamp",30]
[null,"Incandescent, (1) 150W lamp",150]
[null,"Incandescent, (2) 150W lamp",300]
[null,"Incandescent, (1) 1500W lamp",1500]
[null,"Incandescent, (1) 150W ES lamp",135]
[null,"Incandescent, (1) 170W lamp",170]
[null,"Incandescent, (1) 20W lamp",20]
[null,"Incandescent, (2) 20W lamp",40]
[null,"Incandescent, (1) 200W lamp",200]
[null,"Incandescent, (2) 200W lamp",400]
[null,"Incandescent, (1) 2000W lamp",2000]
[null,"Incandescent, (1) 25W lamp",25]
[null,"Incandescent, (2) 25W lamp",50]
[null,"Incandescent, (4) 25W lamp",100]
[null,"Incandescent, (1) 250W lamp",250]
[null,"Incandescent, (1) 300W lamp",300]
[null,"Incandescent, (1) 34W lamp",34]
[null,"Incandescent, (2) 34W lamp",68]
[null,"Incandescent, (1) 36W lamp",36]
[null,"Incandescent, (1) 40W lamp",40]
[null,"Incandescent, (2) 40W lamp",80]
[null,"Incandescent, (1) 400W lamp",400]
[null,"Incandescent, (1) 40W ES lamp",34]
[null,"Incandescent, (1) 42W lamp",42]
[null,"Incandescent, (1) 448W lamp",448]
[null,"Incandescent, (1) 45W lamp",45]
[null,"Incandescent, (1) 50W lamp",50]
[null,"Incandescent, (2) 50W lamp",100]
[null,"Incandescent, (1) 500W lamp",500]
[null,"Incandescent, (1) 52W lamp",52]
[null,"Incandescent, (2) 52W lamp",104]
[null,"Incandescent, (1) 54W lamp",54]
[null,"Incandescent, (2) 54W lamp",108]
[null,"Incandescent, (1) 55W lamp",55]
[null,"Incandescent, (2) 55W lamp",110]
[null,"Incandescent, (1) 60W lamp",60]
[null,"Incandescent, (2) 60W lamp",120]
[null,"Incandescent, (3) 60W lamp",180]
[null,"Incandescent, (4) 60W lamp",240]
[null,"Incandescent, (5) 60W lamp",300]
[null,"Incandescent, (1) 60W ES lamp",52]
[null,"Incandescent, (1) 65W lamp",65]
[null,"Incandescent, (2) 65W lamp",130]
[null,"Incandescent, (1) 67W lamp",67]
[null,"Incandescent, (2) 67W lamp",134]
[null,"Incandescent, (3) 67W lamp",201]
[null,"Incandescent, (1) 69W lamp",69]
[null,"Incandescent, (1) 72W lamp",72]
[null,"Incandescent, (1) 75W lamp",75]
[null,"Incandescent, (2) 75W lamp",150]
[null,"Incandescent, (3) 75W lamp",225]
[null,"Incandescent, (4) 75W lamp",300]
[null,"Incandescent, (1) 750W lamp",750]
[null,"Incandescent, (1) 75W ES lamp",67]
[null,"Incandescent, (1) 80W lamp",80]
[null,"Incandescent, (1) 85W lamp",85]
[null,"Incandescent, (1) 90W lamp",90]
[null,"Incandescent, (2) 90W lamp",180]
[null,"Incandescent, (3) 90W lamp",270]
[null,"Incandescent, (1) 93W lamp",93]
[null,"Incandescent, (1) 95W lamp",95]
[null,"Incandescent, (2) 95W lamp",190]
[null,"Halogen Incandescent, (1) 100W lamp",100,"***Halogen Incandescent Fixtures***"]
[null,"Halogen Incandescent, (1) 1000W lamp",1000]
[null,"Halogen Incandescent, (1) 1200W lamp",1200]
[null,"Halogen Incandescent, (1) 150W lamp",150]
[null,"Halogen Incandescent, (2) 150W lamp",300]
[null,"Halogen Incandescent, (1) 1500W lamp",1500]
[null,"Halogen Incandescent, (1) 200W lamp",200]
[null,"Halogen Incandescent, (1) 250W lamp",250]
[null,"Halogen Incandescent, (1) 300W lamp",300]
[null,"Halogen Incandescent, (1) 35W lamp",35]
[null,"Halogen Incandescent, (1) 350W lamp",350]
[null,"Halogen Incandescent, (1) 40W lamp",40]
[null,"Halogen Incandescent, (1) 400W lamp",400]
[null,"Halogen Incandescent, (1) 42W lamp",42]
[null,"Halogen Incandescent, (1) 425W lamp",425]
[null,"Halogen Incandescent, (1) 45W lamp",45]
[null,"Halogen Incandescent, (2) 45W lamp",90]
[null,"Halogen Incandescent, (1) 50W lamp",50]
[null,"Halogen Incandescent, (2) 50W lamp",100]
[null,"Halogen Incandescent, (1) 500W lamp",500]
[null,"Halogen Incandescent, (1) 52W lamp",52]
[null,"Halogen Incandescent, (1) 55W lamp",55]
[null,"Halogen Incandescent, (2) 55W lamp",110]
[null,"Halogen Incandescent, (1) 60W lamp",60]
[null,"Halogen Incandescent, (1) 72W lamp",72]
[null,"Halogen Incandescent, (1) 75W lamp",75]
[null,"Halogen Incandescent, (2) 75W lamp",150]
[null,"Halogen Incandescent, (1) 750W lamp",750]
[null,"Halogen Incandescent, (1) 90W lamp",90]
[null,"Halogen Incandescent, (2) 90W lamp",180]
[null,"Halogen Incandescent, (1) 900W lamp",900]
[null,"High Pressure Sodium, (1) 100W lamp",138,"***High Pressure Sodium Fixtures***"]
[null,"High Pressure Sodium, (1) 1000W lamp",1100]
[null,"High Pressure Sodium, (1) 150W lamp",188]
[null,"High Pressure Sodium, (1) 200W lamp",250]
[null,"High Pressure Sodium, (1) 225W lamp",275]
[null,"High Pressure Sodium, (1) 250W lamp",295]
[null,"High Pressure Sodium, (1) 310W lamp",365]
[null,"High Pressure Sodium, (1) 35W lamp",46]
[null,"High Pressure Sodium, (1) 360W lamp",414]
[null,"High Pressure Sodium, (1) 400W lamp",465]
[null,"High Pressure Sodium, (1) 50W lamp",66]
[null,"High Pressure Sodium, (1) 600W lamp",675]
[null,"High Pressure Sodium, (1) 70W lamp",95]
[null,"High Pressure Sodium, (1) 750W lamp",835]
[null,"Metal Halide, (1) 100W lamp",128,"***Metal Halide Fixtures***"]
[null,"Metal Halide, (1) 1000W lamp",1080]
[null,"Metal Halide, (1) 150W lamp",190]
[null,"Metal Halide, (1) 1500W lamp",1610]
[null,"Metal Halide, (1) 175W lamp",215]
[null,"Metal Halide, (1) 1800W lamp",1875]
[null,"Metal Halide, (1) 200W lamp",232]
[null,"Metal Halide, (1) 250W lamp",295]
[null,"Metal Halide, (1) 32W lamp",43]
[null,"Metal Halide, (1) 300W lamp",342]
[null,"Metal Halide, (1) 320W lamp",365]
[null,"Metal Halide, (1) 350W lamp",400]
[null,"Metal Halide, (1) 360W lamp",430]
[null,"Metal Halide, (1) 400W lamp",458]
[null,"Metal Halide, (2) 400W lamp",916]
[null,"Metal Halide, (1) 450W lamp",508]
[null,"Metal Halide, (1) 35W lamp",44]
[null,"Metal Halide, (1) 50W lamp",72]
[null,"Metal Halide, (1) 70W lamp",95]
[null,"Metal Halide, (1) 750W lamp",850]
[null,"Mercury Vapor, (1) 100W lamp",125,"***Mercury Vapor Fixtures***"]
[null,"Mercury Vapor, (1) 1000W lamp",1075]
[null,"Mercury Vapor, (1) 175W lamp",205]
[null,"Mercury Vapor, (1) 250W lamp",290]
[null,"Mercury Vapor, (1) 40W lamp",50]
[null,"Mercury Vapor, (1) 400W lamp",455]
[null,"Mercury Vapor, (2) 400W lamp",910]
[null,"Mercury Vapor, (1) 50W lamp",74]
[null,"Mercury Vapor, (1) 700W lamp",780]
[null,"Mercury Vapor, (1) 75W lamp",93]
[null,"*2' T8 1-lamp with EB*",20]
[null,"*2' T8 2-lamp with EB*",33]
[null,"*2' T8 3-lamp with EB*",47]
[null,"*2' T8 4-lamp with EB*",61]
[null,"*4' T8 1-lamp with EB*",31]
[null,"*4' T8 2-lamp with EB*",59]
[null,"*4' T8 3-lamp with EB*",89]
[null,"*4' T8 4-lamp with EB*",112]
[null,"*2' T8 1-lamp with EB plus reflector*",15]
[null,"*4' T8 1-lamp with EB plus reflector*",27]
[null,"*4' T8 2-lamp with EB plus reflector*",54]
[null,"*4' T8 3-lamp with EB plus reflector*",54]
[null,"*8' T8 2-lamp with EB*",109]
[null,"*4' T8 4-lamp with EB plus reflector*",105]
[null,"*4' T8 6-lamp with EB plus reflector*",156]
[null,"*8' T8 2-lamp with EB plus reflector*",98]
[null,"*2' T8 U-Lamp with EB*",31]
[null,"*4' T8 2-lamp w/ HPEB*",79]
[null,"*4' T8 2-lamp w/ HPEB plus reflector*",65]
[null,"*4' T8 4-lamp w/ HPEB*",140]
[null,"*4' T8 4-lamp w/ HPEB plus reflector*",112]
[null,"*54T5HO 2-lamp and fixture*",117]
[null,"*54T5HO 3-lamp and fixture*",176]
[null,"*T8 3-lamp fixture with EB & reflector*",72]
[null,"*T8 4-lamp fixture with EB & reflector*",95]
[null,"*54T5HO 4-lamp and fixture*",234]
[null,"*5W CF Screw-in Quad Lamp*",5]
[null,"*5W CF Screw-in Torpedo or R20 Lamp*",5]
[null,"*CF 7-1L SCREW IN CFL*",7]
[null,"*CF 9-1L SCREW IN CFL*",9]
[null,"*CF 13-1L SCREW IN CFL*",13]
[null,"*CF 18-1L SCREW IN CFL*",18]
[null,"*CF 22-1L SCREW IN CFL*",22]
[null,"*CF 26-1L SCREW IN CFL*",26]
[null,"*CF 28-1L SCREW IN CFL*",28]
[null,"*CF 32-1L SCREW IN CFL*",32]
[null,"*CF 36-1L SCREW IN CFL*",36]
[null,"*CF 42-1L SCREW IN CFL*",42]
[null,"*CF 7-1L SCREW IN CFL DIMMABLE*",7]
[null,"*CF 18-1L SCREW IN CFL DIMMABLE*",18]
[null,"*CF 23-1L SCREW IN CFL DIMMABLE*",23]
[null,"*18W CIRCLINE w/ dome*",19]
[null,"*32W CIRCLINE w/ dome*",34]
[null,"*40W CIRCLINE w/ dome*",45]
[null,"*58W CIRCLINE w/ dome*",65]
[null,"*28W CF Exterior Floodlight w/PE *",25]
[null,"*50W MH Flood Fixture w/ Photocell*",47]
[null,"*70W MH Flood Fixture w/ Photocell*",66]
[null,"*100W MH Flood Fixture w/ Photocell*",95]
[null,"*100W MH CWA Flood w/Photo*",95]
[null,"*100W MH CWA Canopy 13\"x13\" w/Photo*",95]
[null,"*100W MH CWA Wallpack w/Photo*",95]
[null,"*150W MH CWA Flood w/Photo*",143]
[null,"*150W MH CWA Round Canopy w/Photo*",143]
[null,"*150W MH CWA Wallpack w/Photo*",143]
[null,"*200W MH CWA Flood w/Photo*",191]
[null,"*200W MH CWA Wallpack w/Photo*",191]
[null,"*320W MH CWA Flood w/Photo*",305]
[null,"*320W MH CWA Wallpack w/Photo*",305]
[null,"*1 LAMP T5 HIGH BAY HO FIXTURE*",58]
[null,"*2 LAMP T5 HIGH BAY HO FIXTURE*",117]
[null,"*3 LAMP T5 HIGH BAY HO FIXTURE*",179]
[null,"*4 LAMP T5 HIGH BAY HO FIXTURE*",234]
[null,"*5 LAMP T5 HIGH BAY HO FIXTURE*",292]
[null,"*6 LAMP T5 HIGH BAY HO FIXTURE*",351]
[null,"*4 Lamp T8 High Bay Fixture w/ Spec Ref*",110]
[null,"*5 Lamp T8 High Bay Fixture w/ Spec Ref*",132]
[null,"*6 Lamp T8 High Bay Fixture w/ Spec Ref*",165]
[null,"*MH PS (320 W) RETRO.*",365]
[null,"*MH PS (250W) RETRO.*",288]
[null,"*MH PS (200 W) RETRO.*",235]
[null,"*MH PS (175 W) RETRO.*",208]
[null,"*MH PS (150 W) RETRO.*",185]
[null,"*MH PS (100 W) RETRO.*",114]
[null,"*MH PS (70 W) RETRO.*",80]
[null,"*MH PS (50 W) RETRO.*",57]
[null,"*NEW MH PS (320 W) FIXTURE*",365]
[null,"*NEW MH PS (250 W) FIXTURE*",288]
[null,"*NEW MH PS (200 W) FIXTURE*",235]
[null,"*NEW MH PS (175 W) FIXTURE*",208]
[null,"*NEW MH PS (150 W) FIXTURE*",185]
[null,"*NEW MH PS (100 W) FIXTURE*",114]
[null,"*NEW MH PS (70 W) FIXTURE*",80]
[null,"*NEW MH PS (50 W) FIXTURE*",57]
[null,"*42W Halogen Lamp (12 V System)*",42]
[null,"*50W Halogen Lamp (12 V System)*",50]
[null,"*65W Halogen Lamp (12 V System)*",65]
[null,"*LED: A-Lamp (8W)*",8]
[null,"*LED: A-Lamp (8.5W)*",8.5]
[null,"*LED: A-Lamp (9W)*",9]
[null,"*LED: A-Lamp (12W)*",12]
[null,"*LED: A-Lamp (13W)*",13]
[null,"*LED: A-Lamp (13.5W)*",13.5]
[null,"*LED: A-Lamp (14W)*",14]
[null,"*LED: A-Lamp (17W)*",17]
[null,"*LED: BR30 (11W)*",11]
[null,"*LED: BR30 (12W)*",12]
[null,"*LED: BR30 (14W)*",14]
[null,"*LED: BR40 (11W)*",11]
[null,"*LED: BR40 (14W)*",14]
[null,"*LED: BR40 (18W)*",18]
[null,"*LED: Candle (1.8W)*",1.8]
[null,"*LED: Candle (2W)*",2]
[null,"*LED: Candle (3W)*",3]
[null,"*LED: Candle (4W)*",4]
[null,"*LED: Globe (1.8W)*",1.8]
[null,"*LED: Globe (8W)*",8]
[null,"*LED: MR16 (4W)*",4]
[null,"*LED: MR16 (5.5W)*",5.5]
[null,"*LED: MR16 (6W)*",6]
[null,"*LED: MR16 (7W)*",7]
[null,"*LED: MR16 (8W)*",8]
[null,"*LED: MR16 (10W)*",10]
[null,"*LED: PAR20 (7W)*",7]
[null,"*LED: PAR20 (8W)*",8]
[null,"*LED: PAR20 (9W)*",9]
[null,"*LED: PAR30 (10W)*",10]
[null,"*LED: PAR30 (11W)*",11]
[null,"*LED: PAR30 (12W)*",12]
[null,"*LED: PAR30 (13W)*",13]
[null,"*LED: PAR30 (14W)*",14]
[null,"*LED: PAR30 (15W)*",15]
[null,"*LED: PAR38 (13W)*",13]
[null,"*LED: PAR38 (14W)*",14]
[null,"*LED: PAR38 (15W)*",15]
[null,"*LED: PAR38 (17W)*",17]
[null,"*LED: PAR38 (18W)*",18]
[null,"*LED: PAR38 (19W)*",19]
[null,"*LED: PAR38 (20W)*",20]
[null,"*LED: R20 (9W)*",9]
[null,"*LED Exit Sign Retrofit Kit*",2]
[null,"*LED Universal Exit Sign*",2]
[null,"*LED EXIT Sign w/ Batt. Backup*",2]

{"sheet":"Lighting Sample Size Calculator","index":26,"n_rows":103,"n_cols":25,"rows_kept":103,"cut":false,"hidden":false,"merged":[[2,1,2,17]]}
[null,"Lighting Sample Size Calculator "]
[]
[null,"If modeled annual runtime hours from Lighting tab Column AK vary by more than 15% from default, this must be supported through on-site metering of a sample of fixtures as determined by the Lighting Sample Size Calculator below. For default annual lighting runtime hours by building type please reference Program Guidelines v4.0, Section 4.6.3, Table 4-3 and 4-4. Exterior lighting assumes runtime of 12 hours per day x 365 days per year. "]
[]
[null,"Monitoring Year:"]
[null,"Completed By:"]
[null,"Completion Date:"]
[null,"Enter the number of buildings for this calculation:"]
[]
[null,"Building Type or Space Activity","Gross Lighting Area (SqFt)","Number of Room Areas","Baseline Lighting Power Density Allowance (W/SqFt)","Proposed Lighting Power Density (W/SqFt)","Change in lighting power [kW]","Projected Average Hours of Operation","Interactive Factor","Energy Savings (ES) (kWh/year)","Coincidence Factor (CF)","Coefficient of Variance (CV)","Demand Savings (kW)","ES*CV","Sum ((ES*CV)2/ Nk)","nk/n","nk","Sample Size per Usage Group","Intermediate Calculations"]
[null,"ASHRAE space type",0,0,{"$f":"IF(B11=$V$11,0,VLOOKUP(B11,$V$12:$W$103,2,FALSE))","v":0},0,{"$f":"(E11-F11)*C11/1000","v":0},0,{"$f":"IF(B11=$V$11,0,VLOOKUP(B11,$V$12:$Y$103,4,FALSE))","v":0},{"$f":"H11*G11","v":0},{"$f":"IF(B11=$V$11,0,VLOOKUP(B11,$V$12:$X$103,3,FALSE))","v":0},0.5,{"$f":"G11*K11","v":0},{"$f":"0.5*J11","v":0},{"$f":"IF(J11=0,0,(N11^2/D11))","v":0},{"$f":"IF(SUM($N$11:$N$30)=0,0,N11/SUM($N$11:$N$30))","v":0},{"$f":"P11*$R$42","v":0},{"$f":"IF(J11<min_savings*SUM($J$11:$J$30),0,MIN(ROUNDUP(Q11,0),D11))","v":0},{"$f":"IF(R11=0,0,IF(D11=0,0,(((J11*L11)^2/R11)*(1-R11/D11))))","v":0},null,null,"ASHRAE space type","LPD","CF","IF"]
[null,"ASHRAE space type",0,0,{"$f":"IF(B12=$V$11,0,VLOOKUP(B12,$V$12:$W$103,2,FALSE))","v":0},0,{"$f":"(E12-F12)*C12/1000","v":0},0,0,{"$f":"H12*G12","v":0},0,0.5,{"$f":"G12*K12","v":0},{"$f":"0.5*J12","v":0},{"$f":"IF(J12=0,0,(N12^2/D12))","v":0},0,0,{"$f":"IF(J12<min_savings*SUM($J$11:$J$30),0,MIN(ROUNDUP(Q12,0),D12))","v":0},0,null,null,"Office-Enclosed",1.1000000000000001,0.71,1.05]
[null,"ASHRAE space type",0,0,0,0,0,0,0,0,0,0.5,0,0,0,0,0,0,0,null,null,"Office-Open Plan",1.1000000000000001,0.71,1.05]
[null,"ASHRAE space type",0,0,0,0,0,0,0,0,0,0.5,0,0,0,0,0,0,0,null,null,"Conference/Meeting/Multipurpose Room",1.3,0.69,1.05]
[null,"ASHRAE space type",0,0,0,0,0,0,0,0,0,0.5,0,0,0,0,0,0,0,null,null,"Classroom/Lecture/Training",1.4,0.41,1.05]
[null,"ASHRAE space type",0,0,0,0,0,0,0,0,0,0.5,0,0,0,0,0,0,0,null,null,"Classroom/Lecture/Training - For Penitentiary",1.3,0.41,1.05]
[null,"ASHRAE space type",0,0,0,0,0,0,0,0,0,0.5,0,0,0,0,0,0,0,null,null,"Lobby",1.3,0.69,1.05]
[null,"ASHRAE space type",0,0,0,0,0,0,0,0,0,0.5,0,0,0,0,0,0,0,null,null,"Lobby - For Hotel",1.1000000000000001,0.69,1.05]
[null,"ASHRAE space type",0,0,0,0,0,0,0,0,0,0.5,0,0,0,0,0,0,0,null,null,"Lobby - For Performing Arts Theater",3.3,0.69,1.05]
[null,"ASHRAE space type",0,0,0,0,0,0,0,0,0,0.5,0,0,0,0,0,0,0,null,null,"Lobby - For Motion Picture Theater",1.1000000000000001,0.69,1.05]
[null,"ASHRAE space type",0,0,0,0,0,0,0,0,0,0.5,0,0,0,0,0,0,0,null,null,"Audience/Seating Area",0.9,0.63,1.05]
[null,"ASHRAE space type",0,0,0,0,0,0,0,0,0,0.5,0,0,0,0,0,0,0,null,null,"Audience/Seating Area - For Gymnasium",0.4,0.63,1.05]
[null,"ASHRAE space type",0,0,0,0,0,0,0,0,0,0.5,0,0,0,0,0,0,0,null,null,"Audience/Seating Area - For Exercise Center",0.3,0.63,1.05]
[null,"ASHRAE space type",0,0,0,0,0,0,0,0,0,0.5,0,0,0,0,0,{"$f":"IF(J24<min_savings*SUM($J$11:$J$30),0,MIN(ROUNDUP(Q24,0),D24))","v":0},0,null,null,"Audience/Seating Area - For Convenience Center",0.7,0.63,1.05]
[null,"ASHRAE space type",0,0,0,0,0,0,0,0,0,0.5,0,0,0,0,0,0,0,null,null,"Audience/Seating Area - For Penitentiary",0.7,0.63,1.05]
[null,"ASHRAE space type",0,0,0,0,0,0,0,0,0,0.5,0,0,0,0,0,0,0,null,null,"Audience/Seating Area - For Religious Buildings",1.7,0.63,1.05]
[null,"ASHRAE space type",0,0,0,0,0,0,0,0,0,0.5,0,0,0,0,0,0,0,null,null,"Audience/Seating Area - For Sports Arena - Outdoor",0.4,0.63,1]
[null,"ASHRAE space type",0,0,0,0,0,0,0,0,0,0.5,0,0,0,0,0,0,0,null,null,"Audience/Seating Area - For Sports Arena - Indoor",0.4,0.63,1.05]
[null,"ASHRAE space type",0,0,0,0,0,0,0,0,0,0.5,0,0,0,0,0,0,0,null,null,"Audience/Seating Area - For Performing Arts Theater",2.6,0.63,1.05]
[null,"ASHRAE space type",0,0,0,0,0,0,0,0,0,0.5,0,0,0,0,0,0,{"$f":"IF(R30=0,0,IF(D30=0,0,(((J30*L30)^2/R30)*(1-R30/D30))))","v":0},null,null,"Audience/Seating Area - For Motion Picture Theater",1.2,0.63,1.05]
[null,"Total",{"$f":"SUM(C11:C30)","v":0},{"$f":"SUM(D11:D30)","v":0},null,null,null,null,null,null,null,null,null,null,null,null,null,null,null,null,null,"Audience/Seating Area - For Transportation",0.5,0.63,1.05]
[null,null,null,null,null,null,null,"Final, Total Sample Size (n)",null,null,null,null,null,null,null,null,null,{"$f":"SUM(R11:R30)","v":0},{"$f":"SUM(S11:S31)","v":0},null,null,"Atrium - First Three Floors",0.6,0.63,1.05]
[null,null,null,null,null,null,null,null,null,null,null,null,null,null,null,null,null,null,null,null,null,"Atrium - Each Additional Floor",0.2,0.63,1.05]
[null,"Other Factors",null,null,null,null,null,null,null,"Global Inputs",null,null,null,null,null,null,null,null,null,null,null,"Lounge/Recreation",1.2,0.63,1.05]
[null,"Min. Monitored Savings",{"$f":"IF(COUNTIF(Q11:Q30,\">0\")=0,0,0.2/COUNTIF(Q11:Q30,\">0\"))","v":0},null,null,null,null,null,null,"Required Precision",null,null,null,null,null,null,null,0.2,null,null,null,"Lounge/Recreation - For Hospital",0.8,0.67,1.05]
[null,"Number of Buildings","Adj t-value",null,null,null,null,null,null,"Critical t-value, (tcrit)",null,null,null,null,null,null,null,{"$f":"IF(bldg_qty=\"\",0,VLOOKUP(bldg_qty,t_value,2,TRUE))","v":0},null,null,null,"Dining Area",0.9,0.63,1.05]
[null,1,1.645,null,null,null,null,null,null,null,null,null,null,null,null,null,null,null,null,null,null,"Dining Area - For Penitentiary",1.3,0.63,1.05]
[null,2,2,null,null,null,null,null,null,"Check",null,null,null,null,null,null,null,null,null,null,null,"Dining Area - For Hotel",1.3,0.63,1.05]
[null,3,2.2999999999999998,null,null,null,null,null,null,"Standard Error",null,null,null,null,null,null,null,{"$f":"SQRT(S32)","v":0},null,null,null,"Dining Area - For Motel",1.3,0.63,1.05]
[null,4,2.5,null,null,null,null,null,null,"%P*ES/tcrit",null,null,null,null,null,null,null,{"$f":"IF($R$36=0,0,$R$35*(SUM(J11:J30)/$R$36))","v":0},null,null,null,"Dining Area - For Bar Lounge/Leisure Dining",1.4,0.63,1.05]
[null,5,2.65,null,null,null,null,null,null,"Ratio(should be < or =1)",null,null,null,null,null,null,null,{"$f":"IF(R40=0,0,R39/R40)","v":0},null,null,null,"Dining Area - For Family Dining",2.1,0.63,1.05]
[null,6,2.66,null,null,null,null,null,null,"Initial Sample Size (n)",null,null,null,null,null,null,null,{"$f":"IF((R40^2+(SUM(O11:O30)))=0,0,(SUM(N11:N30)^2)/(R40^2+(SUM(O11:O30))))","v":0},null,null,null,"Food Preparation",1.2,0.63,1.05]
[null,null,null,null,null,null,null,null,null,null,null,null,null,null,null,null,null,null,null,null,null,"Laboratory",1.4,0.63,1.05]
[null,null,null,null,null,null,null,null,null,null,null,null,null,null,null,null,null,null,null,null,null,"Restrooms",0.9,0.63,1.05]
[null,null,null,null,null,null,null,null,null,null,null,null,null,null,null,null,null,null,null,null,null,"Dressing/Locker/Fitting Room",0.6,0.63,1.05]
[null,null,null,null,null,null,null,null,null,null,null,null,null,null,null,null,null,null,null,null,null,"Corridor/Transportation",0.5,0.63,1.05]
[null,null,null,null,null,null,null,null,null,null,null,null,null,null,null,null,null,null,null,null,null,"Corridor/Transportation - For Hospital",1,0.67,1.05]
[null,null,null,null,null,null,null,null,null,null,null,null,null,null,null,null,null,null,null,null,null,"Corridor/Transportation - For Manufacturing Facility",0.5,0.71,1.05]
[null,null,null,null,null,null,null,null,null,null,null,null,null,null,null,null,null,null,null,null,null,"Stairs - Active",0.6,0.9,1.05]
[null,null,null,null,null,null,null,null,null,null,null,null,null,null,null,null,null,null,null,null,null,"Active Storage",0.8,0.63,1.05]
[null,null,null,null,null,null,null,null,null,null,null,null,null,null,null,null,null,null,null,null,null,"Active Storage - For Hospital",0.9,0.67,1.05]
[null,null,null,null,null,null,null,null,null,null,null,null,null,null,null,null,null,null,null,null,null,"Inactive Storage",0.3,0.63,1.05]
[null,null,null,null,null,null,null,null,null,null,null,null,null,null,null,null,null,null,null,null,null,"Inactive Storage - For Museum",0.8,0.63,1.05]
[null,null,null,null,null,null,null,null,null,null,null,null,null,null,null,null,null,null,null,null,null,"Gymnasium/Exercise Center - Playing Area",1.4,0.63,1.05]
[null,null,null,null,null,null,null,null,null,null,null,null,null,null,null,null,null,null,null,null,null,"Gymnasium/Exercise Center - Exercise Area",0.9,0.63,1.05]
[null,null,null,null,null,null,null,null,null,null,null,null,null,null,null,null,null,null,null,null,null,"Courthouse - Courtroom",1.9,0.63,1.05]
[null,null,null,null,null,null,null,null,null,null,null,null,null,null,null,null,null,null,null,null,null,"Confinement Cells",0.9,0.63,1.05]
[null,null,null,null,null,null,null,null,null,null,null,null,null,null,null,null,null,null,null,null,null,"Courthouse - Judges Chambers",1.3,0.63,1.05]
[null,null,null,null,null,null,null,null,null,null,null,null,null,null,null,null,null,null,null,null,null,"Fire Station Engine Room",0.8,0.63,1]
[null,null,null,null,null,null,null,null,null,null,null,null,null,null,null,null,null,null,null,null,null,"Fire Station - Sleeping Quarters",0.3,0.63,1.05]
[null,null,null,null,null,null,null,null,null,null,null,null,null,null,null,null,null,null,null,null,null,"Post Office- Sorting Area ",1.2,0.71,1.05]
[null,null,null,null,null,null,null,null,null,null,null,null,null,null,null,null,null,null,null,null,null,"Convention Center - Exhibit Space",1.3,0.63,1.05]
[null,null,null,null,null,null,null,null,null,null,null,null,null,null,null,null,null,null,null,null,null,"Library - Card File and Cataloging",1.1000000000000001,0.71,1.05]
[null,null,null,null,null,null,null,null,null,null,null,null,null,null,null,null,null,null,null,null,null,"Library - Stacks",1.7,0.71,1.05]
[null,null,null,null,null,null,null,null,null,null,null,null,null,null,null,null,null,null,null,null,null,"Library - Reading Area",1.2,0.71,1.05]
[null,null,null,null,null,null,null,null,null,null,null,null,null,null,null,null,null,null,null,null,null,"Hospital - Emergency",2.7,0.67,1.05]
[null,null,null,null,null,null,null,null,null,null,null,null,null,null,null,null,null,null,null,null,null,"Hospital - Recovery",0.8,0.67,1.05]
[null,null,null,null,null,null,null,null,null,null,null,null,null,null,null,null,null,null,null,null,null,"Hospital - Nurse Station",1,0.67,1.05]
[null,null,null,null,null,null,null,null,null,null,null,null,null,null,null,null,null,null,null,null,null,"Hospital - Exam/Treatment",1.5,0.67,1.05]
[null,null,null,null,null,null,null,null,null,null,null,null,null,null,null,null,null,null,null,null,null,"Hospital - Pharmacy",1.2,0.67,1.05]
[null,null,null,null,null,null,null,null,null,null,null,null,null,null,null,null,null,null,null,null,null,"Hospital - Patient Room",0.7,0.67,1.05]
[null,null,null,null,null,null,null,null,null,null,null,null,null,null,null,null,null,null,null,null,null,"Hospital - Operating Room",2.2000000000000002,0.67,1.05]
[null,null,null,null,null,null,null,null,null,null,null,null,null,null,null,null,null,null,null,null,null,"Hospital - Nursery",0.6,0.67,1.05]
[null,null,null,null,null,null,null,null,null,null,null,null,null,null,null,null,null,null,null,null,null,"Hospital - Medical Supply",1.4,0.67,1.05]
[null,null,null,null,null,null,null,null,null,null,null,null,null,null,null,null,null,null,null,null,null,"Hospital - Physical Therapy",0.9,0.67,1.05]
[null,null,null,null,null,null,null,null,null,null,null,null,null,null,null,null,null,null,null,null,null,"Hospital - Radiology",0.4,0.67,1.05]
[null,null,null,null,null,null,null,null,null,null,null,null,null,null,null,null,null,null,null,null,null,"Hospital - Laundry",0.6,0.67,1.05]
[null,null,null,null,null,null,null,null,null,null,null,null,null,null,null,null,null,null,null,null,null,"Automotive - Service/Repair",0.7,0.71,1.05]
[null,null,null,null,null,null,null,null,null,null,null,null,null,null,null,null,null,null,null,null,null,"Manufacturing - Low Bay (<25 ft floor to ceiling height)",1.2,0.71,1.05]
[null,null,null,null,null,null,null,null,null,null,null,null,null,null,null,null,null,null,null,null,null,"Manufacturing - High Bay (>=25 ft floor to ceiling height)",1.7,0.71,1.05]
[null,null,null,null,null,null,null,null,null,null,null,null,null,null,null,null,null,null,null,null,null,"Manufacturing - Detailed Manufacturing",2.1,0.71,1.05]
[null,null,null,null,null,null,null,null,null,null,null,null,null,null,null,null,null,null,null,null,null,"Manufacturing - Equipment Room",1.2,0.71,1.05]
[null,null,null,null,null,null,null,null,null,null,null,null,null,null,null,null,null,null,null,null,null,"Manufacturing - Control Room",0.5,0.71,1.05]
[null,null,null,null,null,null,null,null,null,null,null,null,null,null,null,null,null,null,null,null,null,"Hotel/Motel Guest Rooms",1.1000000000000001,0.67,1.05]
[null,null,null,null,null,null,null,null,null,null,null,null,null,null,null,null,null,null,null,null,null,"Electrical/Mechanical",1.5,0.71,1.05]
[null,null,null,null,null,null,null,null,null,null,null,null,null,null,null,null,null,null,null,null,null,"Dormitory- Living Quarters",1.1000000000000001,0.67,1.05]
[null,null,null,null,null,null,null,null,null,null,null,null,null,null,null,null,null,null,null,null,null,"Workshop",1.9,0.71,1.05]
[null,null,null,null,null,null,null,null,null,null,null,null,null,null,null,null,null,null,null,null,null,"Museum - General Exhibition",1,0.71,1.05]
[null,null,null,null,null,null,null,null,null,null,null,null,null,null,null,null,null,null,null,null,null,"Museum - Restoration",1.7,0.71,1.05]
[null,null,null,null,null,null,null,null,null,null,null,null,null,null,null,null,null,null,null,null,null,"Bank/Office - Banking Activity Area",1.5,0.71,1.05]
[null,null,null,null,null,null,null,null,null,null,null,null,null,null,null,null,null,null,null,null,null,"Religious Buildings - Worship Pulpit, Choir",2.4,0.71,1.05]
[null,null,null,null,null,null,null,null,null,null,null,null,null,null,null,null,null,null,null,null,null,"Religious Buildings - Fellowship Hall",0.9,0.71,1.05]
[null,null,null,null,null,null,null,null,null,null,null,null,null,null,null,null,null,null,null,null,null,"Retail - Sales Area",1.7,0.81,1.05]
[null,null,null,null,null,null,null,null,null,null,null,null,null,null,null,null,null,null,null,null,null,"Retail - Mall Concourse",1.7,0.81,1.05]
[null,null,null,null,null,null,null,null,null,null,null,null,null,null,null,null,null,null,null,null,null,"Sports Arena - Ring Sports Arena",2.7,0.63,1.05]
[null,null,null,null,null,null,null,null,null,null,null,null,null,null,null,null,null,null,null,null,null,"Sports Arena - Court Sports Arena",2.2999999999999998,0.63,1.05]
[null,null,null,null,null,null,null,null,null,null,null,null,null,null,null,null,null,null,null,null,null,"Sports Arena - Indoor Playing Field",1.4,0.63,1.05]
[null,null,null,null,null,null,null,null,null,null,null,null,null,null,null,null,null,null,null,null,null,"Warehouse - Fine Material Storage",1.4,0.63,1.05]
[null,null,null,null,null,null,null,null,null,null,null,null,null,null,null,null,null,null,null,null,null,"Warehouse - Medium/Bulky Material Storage",0.9,0.63,1.05]
[null,null,null,null,null,null,null,null,null,null,null,null,null,null,null,null,null,null,null,null,null,"Parking Garage",0.2,0.63,1]
[null,null,null,null,null,null,null,null,null,null,null,null,null,null,null,null,null,null,null,null,null,"Transportation - Airport - Concourse",0.6,0.63,1.05]
[null,null,null,null,null,null,null,null,null,null,null,null,null,null,null,null,null,null,null,null,null,"Transportation - Air/Train/Bus - Baggage Area",1,0.63,1.05]
[null,null,null,null,null,null,null,null,null,null,null,null,null,null,null,null,null,null,null,null,null,"Transportation - Terminal - Ticket Counter",1.5,0.63,1.05]

{"sheet":"Other Equipment","index":27,"n_rows":70,"n_cols":42,"rows_kept":70,"cut":false,"hidden":false,"merged":[[2,1,2,8],[2,9,2,13],[16,3,16,4],[16,5,16,6],[18,37,18,38],[18,25,18,26],[18,27,18,28],[18,29,18,30],[18,31,18,32],[18,33,18,34],[18,35,18,36],[18,13,18,14],[18,15,18,16],[18,17,18,18],[18,19,18,20],[18,21,18,22],[18,23,18,24],[16,7,16,8],[16,9,16,10],[16,11,16,12],[16,13,16,14],[16,15,16,16],[17,17,17,18],[17,19,17,20],[18,39,18,40],[18,41,18,42],[17,3,17,4],[17,5,17,6],[17,7,17,8],[17,9,17,10],[17,11,17,12],[17,13,17,14],[17,15,17,16],[17,39,17,40],[17,41,17,42],[20,2,20,12],[17,37,17,38],[18,3,18,4],[18,5,18,6],[18,7,18,8],[18,9,18,10],[18,11,18,12],[17,21,17,22],[17,23,17,24],[17,25,17,26],[17,27,17,28],[17,29,17,30],[17,31,17,32],[17,33,17,34],[17,35,17,36],[16,41,16,42],[16,31,16,32],[16,33,16,34],[16,35,16,36],[16,37,16,38],[16,39,16,40],[16,17,16,18],[16,19,16,20],[16,21,16,22],[16,23,16,24],[16,25,16,26],[16,27,16,28],[16,29,16,30],[14,19,14,20],[14,21,14,22],[14,23,14,24],[14,25,14,26],[14,27,14,28],[14,29,14,30],[15,23,15,24],[15,25,15,26],[15,41,15,42],[15,29,15,30],[15,31,15,32],[15,33,15,34],[15,35,15,36],[15,37,15,38],[15,27,15,28],[15,19,15,20],[15,21,15,22],[14,31,14,32],[14,33,14,34],[14,35,14,36],[14,37,14,38],[14,39,14,40],[15,39,15,40],[14,41,14,42],[14,3,14,4],[14,5,14,6],[14,7,14,8],[14,9,14,10],[14,11,14,12],[14,13,14,14],[14,15,14,16],[14,17,14,18],[15,3,15,4],[15,5,15,6],[15,7,15,8],[15,9,15,10],[15,11,15,12],[15,13,15,14],[15,15,15,16],[15,17,15,18],[13,27,13,28],[13,15,13,16],[13,17,13,18],[13,19,13,20],[13,21,13,22],[13,23,13,24],[13,25,13,26],[13,3,13,4],[13,5,13,6],[13,7,13,8],[13,9,13,10],[13,11,13,12],[13,13,13,14],[8,37,8,38],[8,39,8,40],[8,41,8,42],[8,21,8,22],[8,23,8,24],[8,25,8,26],[8,27,8,28],[8,29,8,30],[8,31,8,32],[8,33,8,34],[8,35,8,36],[12,2,12,12],[13,39,13,40],[13,41,13,42],[13,29,13,30],[13,31,13,32],[13,33,13,34],[13,35,13,36],[13,37,13,38],[7,41,7,42],[8,3,8,4],[8,5,8,6],[8,7,8,8],[8,9,8,10],[8,11,8,12],[8,13,8,14],[8,15,8,16],[8,17,8,18],[8,19,8,20],[7,29,7,30],[7,31,7,32],[7,33,7,34],[7,35,7,36],[7,37,7,38],[7,39,7,40],[7,17,7,18],[7,3,7,4],[7,5,7,6],[7,7,7,8],[7,9,7,10],[7,11,7,12],[7,13,7,14],[7,15,7,16],[6,13,6,14],[6,15,6,16],[6,17,6,18],[6,19,6,20],[6,21,6,22],[6,23,6,24],[5,33,5,34],[7,19,7,20],[7,21,7,22],[7,23,7,24],[7,25,7,26],[7,27,7,28],[5,35,5,36],[5,37,5,38],[5,39,5,40],[5,41,5,42],[6,3,6,4],[6,5,6,6],[6,7,6,8],[6,9,6,10],[6,11,6,12],[5,21,5,22],[5,23,5,24],[5,25,5,26],[5,27,5,28],[5,29,5,30],[5,31,5,32],[6,37,6,38],[6,39,6,40],[6,41,6,42],[6,29,6,30],[6,31,6,32],[6,33,6,34],[6,35,6,36],[6,25,6,26],[6,27,6,28],[5,3,5,4],[5,5,5,6],[5,7,5,8],[5,9,5,10],[5,11,5,12],[5,13,5,14],[5,15,5,16],[5,17,5,18],[5,19,5,20],[59,3,59,4],[59,9,59,10],[59,11,59,19],[60,3,60,4],[60,10,60,19],[61,3,61,4],[61,10,61,19],[57,3,57,4],[57,9,57,10],[57,11,57,19],[58,3,58,4],[58,9,58,10],[58,11,58,19],[65,3,65,4],[65,10,65,19],[66,3,66,4],[66,10,66,19],[62,3,62,4],[62,10,62,19],[63,3,63,4],[63,10,63,19],[64,3,64,4],[64,10,64,19],[55,11,55,19],[56,3,56,4],[56,9,56,10],[56,11,56,19],[53,3,53,4],[53,9,53,10],[53,11,53,19],[54,3,54,4],[54,9,54,10],[54,11,54,19],[38,1,43,1],[38,3,38,4],[38,5,38,6],[39,3,39,4],[39,5,39,6],[40,3,40,4],[40,5,40,6],[43,3,43,4],[43,5,43,6],[41,3,41,4],[41,5,41,6],[42,3,42,4],[42,5,42,6],[23,3,23,4],[23,5,23,6],[36,3,36,4],[36,5,36,6],[37,3,37,4],[37,5,37,6],[26,3,26,4],[26,5,26,6],[27,3,27,4],[27,5,27,6],[31,3,31,4],[31,5,31,6],[35,3,35,4],[35,5,35,6],[72,3,72,15],[73,3,73,15],[74,3,74,15],[75,3,75,15],[76,3,76,15],[77,3,77,15],[24,3,24,4],[24,5,24,6],[25,3,25,4],[25,5,25,6],[44,3,44,4],[44,5,44,6],[49,3,49,4],[49,5,49,6],[50,3,50,4],[50,5,50,6],[45,3,45,4],[45,5,45,6],[46,3,46,4],[46,5,46,6],[48,15,48,23],[49,15,49,23],[55,3,55,4],[55,9,55,10],[78,3,78,15],[79,3,79,15],[50,15,50,23],[24,15,24,23],[23,15,23,23],[25,15,25,23],[26,15,26,23],[27,15,27,23],[28,15,28,23],[29,15,29,23],[30,15,30,23],[36,15,36,23],[28,3,28,4],[29,3,29,4],[30,3,30,4],[28,5,28,6],[29,5,29,6],[30,5,30,6],[37,15,37,23],[38,15,38,23],[69,3,69,15],[70,3,70,15],[71,3,71,15],[39,15,39,23],[40,15,40,23],[41,15,41,23],[42,15,42,23],[43,15,43,23],[44,15,44,23],[45,15,45,23],[46,15,46,23],[47,15,47,23],[35,15,35,23],[31,15,31,23],[32,3,32,4],[32,5,32,6],[32,15,32,23],[33,3,33,4],[33,5,33,6],[33,15,33,23],[34,3,34,4],[34,5,34,6],[34,15,34,23]]}
[null,"Other Equipment  (where applicable)"]
[null,"Instructions"]
[null,"1) Below tables should only be filled out where they affect recommended measures. For example, if recommending low-flow fixtures, 'DHW Temperatures/Fixture Flow Rates' table must be completed. \n2) Read the notes indicated by red corners to assist in properly completing this tab.\n3) If information is not available, such as due to age of the equipment, input values used in the model. \n4) Use the \"Measure ?\" column to indicate items that are affected by the proposed workscope. Reference Program Guidelines v4.0, Section 4.6.3 for data required for various related measures below.\n5) Use the Additional Notes column to provide additonal detail, including special operating conditions, metering completed or other information to support your baseline model assumptions. ",null,null,null,null,null,null,null,"JUMP TO:"]
[]
[null,"Temperature Measurements (˚F)"]
[null,"Interior Temperatures","Measure ?","Measurement 1",null,"Measurement 2",null,"Measurement 3",null,"Measurement 4",null,"Measurement 5",null,"Measurement 6",null,"Measurement 7",null,"Measurement 8",null,"Measurement 9",null,"Measurement 10",null,"Measurement 11",null,"Measurement 12",null,"Measurement 13",null,"Measurement 14",null,"Measurement 15",null,"Measurement 16",null,"Measurement 17",null,"Measurement 18",null,"Measurement 19",null,"Measurement 20"]
[null,"Location / Apartment Number"]
[null,"Measured Room Temperature "]
[null,"Overheating Observations"]
[null,"Outdoor Temp. at Time of Measurements"]
[null,"Was heating/cooling system in operation at time of measurements?"]
[null,"Avg. Indoor Temp. in Heating Season"]
[null,"Additional Notes"]
[null,"DHW Temperatures/ Fixture Flow Rates","Measure ?","Measurement 1",null,"Measurement 2",null,"Measurement 3",null,"Measurement 4",null,"Measurement 5",null,"Measurement 6",null,"Measurement 7",null,"Measurement 8",null,"Measurement 9",null,"Measurement 10",null,"Measurement 11",null,"Measurement 12",null,"Measurement 13",null,"Measurement 14",null,"Measurement 15",null,"Measurement 16",null,"Measurement 17",null,"Measurement 18",null,"Measurement 19",null,"Measurement 20"]
[null,"Location / Apartment Number"]
[null,"Measured Tap Temperature "]
[null,"Showerhead Flow Rate (GPM)"]
[null,"Kitchen Faucet Flow Rate (GPM)"]
[null,"Bathroom Faucet Flow Rate (GPM)"]
[null,null,null,"Showerhead GPM",{"$f":"IF(D15>0,AVERAGEIF(D17:AQ17,\">0\",D17:AQ17),\"\")","v":""},null,"Kitchen Faucet GPM",{"$f":"IF(D15>0,AVERAGEIF(D18:AQ18,\">0\",D18:AQ18),\"\")","v":""},null,"Bathroom Faucet GPM",{"$f":"IF(D15>0,AVERAGEIF(D18:AQ18,\">0\",D18:AQ18),\"\")","v":""}]
[null,"Additional Notes"]
[]
[null,"Appliances, Office Equipment, Etc."]
[null,"Common/Commercial Area Appliances","Measure ?","Location of Equipment",null,"Manufacturer",null,"Model No.","Energy Star?","Qty. of Identical Units","Year Manufactured","Capacity\n(ft.3)","Annual kWh/unit","Annual MMBtu/unit","Fuel Source","Additional Notes"]
[null,"Refrigerator",null,null,null,null,null,null,"","","","","","",""]
[null,"Stove/Range",null,null,null,null,null,null,"",null,"","",null,"",null,""]
[null,"Vending Machine",null,null,null,null,null,null,"",null,"","","","",""]
[]
[]
[]
[]
[]
[]
[]
[]
[]
[null,null,null,null,null,null,null,null,"","","","","","","",""]
[null,"Tenant/Unit/Apartment Appliances","Measure ?","List Apartment Numbers",null,"Manufacturer",null,"Model No.","Energy Star?","Qty. of Identical Units","Year Manufactured","Capacity\n(ft.3)","Annual kWh/unit","Annual MMBtu/unit","Fuel Source","Additional Notes"]
[null,"Refrigerators",null,null,null,null,null,null,null,null,null,null,null,null,""]
[null,null,null,null,null,null,null,null,null,null,null,null,null,null,""]
[null,null,null,null,null,null,null,null,null,null,null,null,null,null,""]
[null,null,null,null,null,null,null,null,null,null,null,null,null,null,""]
[null,null,null,null,null,null,null,null,null,null,null,null,null,null,""]
[null,null,null,null,null,null,null,null,null,null,null,null,null,null,""]
[null,"Dishwashers",null,null,null,null,null,null,"","","","","","","",""]
[null,"Stove/Range",null,null,null,null,null,null,"","","","","",null,null,""]
[null,null,null,null,null,null,null,null,"","","","","",null,null,""]
[]
[]
[null,null,null,null,null,null,null,null,"","","","","","",null,""]
[null,null,null,null,null,null,null,null,"","","","","",""]
[]
[null,"Laundry Equipment"]
[null,"Common/Commercial Area Laundry","Measure ?","Manufacturer",null,"Model No.","Energy Star?","Qty. of Identical Units","Fuel Source","Location",null,"Additional Notes"]
[null,"Washer (Type 1)",null,null,null,null,null,null,""]
[null,"Washer (Type 2)",null,null,null,null,null,null,"",null,null,""]
[null,"Washer (Type 3)",null,null,null,null,null,null,""]
[null,"Dryer (Type 1)",null,null,null,null,"",null,null,"",null,""]
[null,"Dryer (Type 2)",null,null,null,null,"","",null,""]
[null,"Dryer (Type 3)",null,null,null,"","","",null,"",null,""]
[null,"Tenant/Unit/Apartment Laundry","Measure ?","Manufacturer",null,"Model No.","Energy Star?","Qty. of Identical Units","Fuel Source","% of Apts. with Equipment","Additional Notes"]
[null,"Washer (Type 1)",null,null,null,null,""]
[null,"Washer (Type 2)",null,null,null,null,""]
[null,"Washer (Type 3)"]
[null,"Dryer (Type 1)"]
[null,"Dryer (Type 2)"]
[null,"Dryer (Type 3)"]
[]
[null,"Other Plug Loads"]
[null,"Name ","Measure ?","System Details/Additional Notes"]

{"sheet":"Modeling Approach","index":28,"n_rows":45,"n_cols":7,"rows_kept":45,"cut":false,"hidden":false,"merged":[[40,4,40,6],[41,4,41,6],[44,1,44,6],[30,1,30,6],[4,1,4,12],[5,1,5,2],[22,1,22,6],[25,1,25,6],[28,1,28,6],[21,1,21,6],[35,4,35,6],[36,4,36,6],[37,4,37,6],[31,4,31,6],[32,4,32,6],[33,4,33,6],[2,1,2,3],[27,1,27,6],[24,1,24,6],[38,4,38,6],[39,4,39,6],[34,4,34,6]]}
[null,"Modeling Approach "]
[null,"Instructions"]
[null,"1) Provide information below relative to the modeling approach and assumptions used. Reference Program Guidelines v4.0, Section 4 for detailed Simulation Guidelines."]
[]
[]
[null,"Modeling Software"]
[null,"Modeling Program "]
[null,"Modeling Program Version #"]
[null,"Number of Models Created for Project"]
[null,"Modeling Information","Model 1","Model 2","Model 3","Model 4","Model 5"]
[null,"Building Type(s) Included in Model (from 'Area Identification')"]
[null,"Representative Building"]
[null,"Apartments Visited for Sample (Multifamily only)"]
[null,"# of Studios Sampled"]
[null,"# of 1 Bedrooms Sampled"]
[null,"# of 2 Bedrooms Sampled"]
[null,"# of 3 Bedrooms Sampled"]
[null,"# of 4+ Bedrooms Sampled"]
[null,"Total Units Sampled",{"$f":"SUM(C14:C18)","v":0},{"$f":"SUM(D14:D18)","v":0},0,0,{"$f":"SUM(G14:G18)","v":0}]
[null,"List Apartments Visited"]
[]
[null,"List and describe all substantive assumptions made in establishing the model not already described in previous area, occupancy, and equipment tables. For example: justification for creating multiple models (generally not permitted per Program Guidelines v4.0, Section 4.4.2); modeling multiple buildings as a single building (see Program Guidelines v4.0, Section 4.4.3); modeling multiple size windows as a single size; etc. "]
["*\n*\n*\n*"]
[]
[null,"How are the energy cost savings calculated?  Are they taken directly from the modeling tool, or are utility costs applied to the fuel savings as computed by the modeling tool?"]
["*\n*\n*\n*"]
[]
[null,"If certain energy efficiency measures are modeled outside of the modeling tool, explain if and how those savings are reflected in the modeling tool for purposes of computing interactive effects. Reference Program Guidelines v4.0, Section 4.4.1 for guidelines on external calculations."]
["*\n*\n*\n*"]
[]
[null,"Identify and discuss key variables affecting energy use at the facility (besides weather), with a focus on those that may change substantially between the baseline and post-retrofit periods. Such variables include occupancy levels, tenant/space use type, production volumes, etc. Reference Program Guidelines v4.0, Section 4.3.1 for guidelines on facility baseline variables."]
[null,"Identified Baseline Facility Variable ","Value(s) Used in Baseline Model ","Potential or Anticipated Changes ","Additional Notes/Assumptions"]
["*\n*"]
["*\n*"]
["*\n*"]
["*\n*"]
["*\n*"]
["*\n*"]
["*\n*"]
["*\n*"]
["*\n*"]
["*\n*"]
[]
[null,"Additional Comments "]
["*\n*\n*\n*"]

{"sheet":"Measure Descriptions","index":29,"n_rows":40,"n_cols":15,"rows_kept":40,"cut":false,"hidden":false,"merged":[[2,1,2,7],[0,21,0,22],[4,1,4,2],[39,2,39,3],[34,4,34,7],[35,4,35,7],[36,4,36,7],[37,4,37,7],[38,4,38,7],[39,4,39,7],[34,1,34,3],[35,2,35,3],[36,2,36,3],[37,2,37,3],[38,2,38,3]]}
[1,"Measure Descriptions"]
[1,"Instructions"]
[1,"1) Fill out below tables to describe each proposed measure, as well as measures analyzed but ultimately not recommended. \n2) Measures should be listed in the order they were modeled, measure savings calculated completely outside the model (custom/external calculation should be listed last). \n2) Read the notes indicated by red corners to assist in properly completing this tab. \n3) Reference Program Guidelines v4.0, Section 3.4 for guidance on measure eligibility, Section 4.6.2 for Measure Granularity, as well as Appendix A to ensure measures comply with minimum performance standards. \n4) Use the Additional Notes column to describe any metering done or assumptions made about how the energy savings for this measure were calculated (i.e. DHW temps, hours of operation, air conditioner SEER, Energy Star labeling requirements)."]
[1]
[1,"Measure Name",null,"Measure Type","Measure Category","Measure Details ","Location ","Capacity ","Capacity Units","Quantity ","Efficiency ","Efficiency Units","Fuel Affected","Existing Conditions \n(Equipment Replaced/Modified)","Additional Notes"]
[0,"Ex","Boiler Replacement","Service/Domestic Hot Water Heater Replacement","Hot Water Boiler (Gas)","Replace existing hot water gas fired boilers with high efficiency ","Boiler Room #1",2000,"MBH",2,0.9,"Ec","Natural Gas","Hot Water Boiler #1"]
[{"$f":"IF(C7=\"\",0,1)","v":0},1]
[{"$f":"IF(C8=\"\",0,1)","v":0},2]
[0,3]
[0,4]
[0,5]
[0,6]
[0,7]
[0,8]
[0,9]
[0,10]
[0,11]
[0,12]
[0,13]
[0,14]
[0,15]
[0,16]
[0,17]
[0,18]
[0,19]
[0,20]
[0,21]
[0,22]
[0,23]
[0,24]
[0,25]
[1]
[1,"Energy Efficiency Options Examined But Not Recommended"]
[1,"The following measures were analyzed but not recommended for the reasons discussed below."]
[1,"Measure Detail",null,null,"Reason for Not Recommending "]
["*\n*",1]
["*\n*",2]
["*\n*",3]
["*\n*",4]
["*\n*",5]

{"sheet":"Measure Simulation","index":30,"n_rows":144,"n_cols":67,"rows_kept":144,"cut":false,"hidden":false,"merged":[[4,5,4,18],[2,3,2,18],[43,15,43,19],[36,15,36,19],[37,15,37,19],[5,3,5,4],[6,3,6,4],[7,3,7,4],[8,3,8,4],[9,3,9,4],[10,3,10,4],[11,3,11,4],[12,3,12,4],[79,3,79,4],[74,3,74,4],[74,6,74,19],[75,3,75,4],[75,6,75,19],[76,3,76,4],[78,3,78,4],[0,24,0,25],[46,3,47,4],[46,6,46,12],[15,3,15,4],[15,15,15,19],[16,15,16,19],[17,15,17,19],[18,15,18,19],[19,15,19,19],[20,15,20,19],[21,15,21,19],[22,15,22,19],[41,15,41,19],[42,15,42,19],[26,15,26,19],[27,15,27,19],[12,21,13,21],[38,15,38,19],[39,15,39,19],[40,15,40,19],[31,15,31,19],[32,15,32,19],[33,15,33,19],[34,15,34,19],[35,15,35,19],[23,15,23,19],[24,15,24,19],[25,15,25,19],[28,15,28,19],[29,15,29,19],[30,15,30,19]]}
[1,null,null,"Recommended Measures - Cost and Energy Savings"]
[1,null,null,"Instructions"]
[1,null,null,"1) Fill out table below pertaining to existing and proposed end-use conusmption. eQuest and TRACE projects can import end-use data using Parms.cvs and Energy Cost Budget Data reports, respectively. All other simulation platforms need to manually enter the end-use data below. Note \"Other Fuel\" (columns R and S) needs to be entered manually for all simulation platforms. \n2) Fill out tables below pertaining to measure level savings. Similar to the end-use table, eQuest and TRACE project can import baseline and measure savings. All other simulation platforms need to manually enter data. Note \"Other Fuel\" needs to be entered manually for all simulation platforms. For Fuel Oil and Propane, use the conversion calculator to the right of this table (select Fuel Type and Units and enter annual use. Annual MMBtu use for this fuel will automatically generate in the table below).\n3) Read the notes indicated by red corners to assist in properly completing this tab. \n4) Reference Program Guidelines v4.0, Section 4.6 for guidance on simulating measures and measure specific modeling requirements. \n5) Custom Calculations will only be accepted for measure that cannot be explicitly captured in the model per Program Guidelines v4.0, Section 4.4.1 . \n       "]
[1]
[1,null,null,null,null,{"$f":"IF($C$6=\"eQUEST\",\"Once all Parms.csv data has been pasted into the Results from eQUEST tab, \"&\"the tables below will be auto-populated with electric and natural gas data for the baseline case and all modeled ECMs.  \"&\"However, results for other fuel types and non-modeled ECMs must be entered manually.\",IF($C$6=\"Trace\",\"Once all Trace data has been pasted into the Results from Trace tab, \"&\"the tables below will be auto-populated with electric and fuel data for the baseline case and all modeled ECMs.  \"&\"However, results for non-modeled ECMs must be entered manually.  \"&\"In order to populate the Measure Simulation table with modeled oil/propane usage, the fuel type and reported units must be selected in the Conversion Calculator in column V.\",\"\"))","v":""}]
[1,"Model Software:",null,"End Use",null,"Existing Electricity (MMBtu)","Proposed Electricity (MMBtu)","Existing Natural Gas (MMBtu)","Proposed Natural Gas (MMBtu)","Existing Steam (MMBtu)","Proposed Steam (MMBtu)","Existing Hot Water (MMBtu)","Proposed Hot Water (MMBtu)","Existing Chilled Water (MMBtu)","Proposed Chilled Water (MMBtu)","Existing Oil/Propane (MMBtu)","Proposed Oil/Propane (MMBtu)","Existing Other Fuel (MMBtu)","Proposed Other Fuel (MMBtu)"]
[1,null,null,"Space Heating",null,{"$f":"IFERROR(IF($C$6=\"eQUEST\",'Results from eQUEST'!$O$7*0.003412,IF($C$6=\"Trace\",SUMIFS('Results from Trace'!$C$6:$C$55,'Results from Trace'!$A$6:$A$55,\"Space Heating\",'Results from Trace'!$B$6:$B$55,\"Electricity\"),\"\")),\"\")","v":""},{"$f":"IFERROR(IF($C$6=\"eQUEST\",'Results from eQUEST'!$O$8*0.003412,IF($C$6=\"Trace\",SUMIFS('Results from Trace'!$D$6:$D$55,'Results from Trace'!$A$6:$A$55,\"Space Heating\",'Results from Trace'!$B$6:$B$55,\"Electricity\"),\"\")),\"\")","v":""},{"$f":"IFERROR(IF($C$6=\"eQUEST\",'Results from eQUEST'!$BA$7*0.003412,IF($C$6=\"Trace\",SUMIFS('Results from Trace'!$C$6:$C$55,'Results from Trace'!$A$6:$A$55,\"Space Heating\",'Results from Trace'!$B$6:$B$55,\"Gas\"),\"\")),\"\")","v":""},{"$f":"IFERROR(IF($C$6=\"eQUEST\",'Results from eQUEST'!$BA$8*0.003412,IF($C$6=\"Trace\",SUMIFS('Results from Trace'!$D$6:$D$55,'Results from Trace'!$A$6:$A$55,\"Space Heating\",'Results from Trace'!$B$6:$B$55,\"Gas\"),\"\")),\"\")","v":""},{"$f":"IFERROR(IF($C$6=\"eQUEST\",\"\",IF($C$6=\"Trace\",SUMIFS('Results from Trace'!$C$6:$C$55,'Results from Trace'!$A$6:$A$55,\"Space Heating\",'Results from Trace'!$B$6:$B$55,\"Purchased Steam\"),\"\")),\"\")","v":""},{"$f":"IFERROR(IF($C$6=\"eQUEST\",\"\",IF($C$6=\"Trace\",SUMIFS('Results from Trace'!$D$6:$D$55,'Results from Trace'!$A$6:$A$55,\"Space Heating\",'Results from Trace'!$B$6:$B$55,\"Purchased Steam\"),\"\")),\"\")","v":""},{"$f":"IFERROR(IF($C$6=\"eQUEST\",\"\",IF($C$6=\"Trace\",SUMIFS('Results from Trace'!$C$6:$C$55,'Results from Trace'!$A$6:$A$55,\"Space Heating\",'Results from Trace'!$B$6:$B$55,\"Purchased Hot Water\"),\"\")),\"\")","v":""},{"$f":"IFERROR(IF($C$6=\"eQUEST\",\"\",IF($C$6=\"Trace\",SUMIFS('Results from Trace'!$D$6:$D$55,'Results from Trace'!$A$6:$A$55,\"Space Heating\",'Results from Trace'!$B$6:$B$55,\"Purchased Hot Water\"),\"\")),\"\")","v":""},{"$f":"IFERROR(IF($C$6=\"eQUEST\",\"\",IF($C$6=\"Trace\",SUMIFS('Results from Trace'!$C$6:$C$55,'Results from Trace'!$A$6:$A$55,\"Space Heating\",'Results from Trace'!$B$6:$B$55,\"Purchased Chilled Water\"),\"\")),\"\")","v":""},{"$f":"IFERROR(IF($C$6=\"eQUEST\",\"\",IF($C$6=\"Trace\",SUMIFS('Results from Trace'!$D$6:$D$55,'Results from Trace'!$A$6:$A$55,\"Space Heating\",'Results from Trace'!$B$6:$B$55,\"Purchased Chilled Water\"),\"\")),\"\")","v":""},{"$f":"IFERROR(IF($C$6=\"eQUEST\",\"\",IF($C$6=\"Trace\",SUMIFS('Results from Trace'!$C$6:$C$55,'Results from Trace'!$A$6:$A$55,\"Space Heating\",'Results from Trace'!$B$6:$B$55,\"Oil\"),\"\")),\"\")","v":""},{"$f":"IFERROR(IF($C$6=\"eQUEST\",\"\",IF($C$6=\"Trace\",SUMIFS('Results from Trace'!$D$6:$D$55,'Results from Trace'!$A$6:$A$55,\"Space Heating\",'Results from Trace'!$B$6:$B$55,\"Oil\"),\"\")),\"\")","v":""}]
[1,null,null,"Cooling",null,{"$f":"IFERROR(IF($C$6=\"eQUEST\",'Results from eQUEST'!$P$7*0.003412,IF($C$6=\"Trace\",SUMIFS('Results from Trace'!$C$6:$C$55,'Results from Trace'!$A$6:$A$55,\"Space Cooling\",'Results from Trace'!$B$6:$B$55,\"Electricity\"),\"\")),\"\")","v":""},{"$f":"IFERROR(IF($C$6=\"eQUEST\",'Results from eQUEST'!$P$8*0.003412,IF($C$6=\"Trace\",SUMIFS('Results from Trace'!$D$6:$D$55,'Results from Trace'!$A$6:$A$55,\"Space Cooling\",'Results from Trace'!$B$6:$B$55,\"Electricity\"),\"\")),\"\")","v":""},{"$f":"IFERROR(IF($C$6=\"eQUEST\",'Results from eQUEST'!$BB$7*0.003412,IF($C$6=\"Trace\",SUMIFS('Results from Trace'!$C$6:$C$55,'Results from Trace'!$A$6:$A$55,\"Space Cooling\",'Results from Trace'!$B$6:$B$55,\"Gas\"),\"\")),\"\")","v":""},{"$f":"IFERROR(IF($C$6=\"eQUEST\",'Results from eQUEST'!$BB$8*0.003412,IF($C$6=\"Trace\",SUMIFS('Results from Trace'!$D$6:$D$55,'Results from Trace'!$A$6:$A$55,\"Space Cooling\",'Results from Trace'!$B$6:$B$55,\"Gas\"),\"\")),\"\")","v":""},{"$f":"IFERROR(IF($C$6=\"eQUEST\",\"\",IF($C$6=\"Trace\",SUMIFS('Results from Trace'!$C$6:$C$55,'Results from Trace'!$A$6:$A$55,\"Space Cooling\",'Results from Trace'!$B$6:$B$55,\"Purchased Steam\"),\"\")),\"\")","v":""},{"$f":"IFERROR(IF($C$6=\"eQUEST\",\"\",IF($C$6=\"Trace\",SUMIFS('Results from Trace'!$D$6:$D$55,'Results from Trace'!$A$6:$A$55,\"Space Cooling\",'Results from Trace'!$B$6:$B$55,\"Purchased Steam\"),\"\")),\"\")","v":""},{"$f":"IFERROR(IF($C$6=\"eQUEST\",\"\",IF($C$6=\"Trace\",SUMIFS('Results from Trace'!$C$6:$C$55,'Results from Trace'!$A$6:$A$55,\"Space Cooling\",'Results from Trace'!$B$6:$B$55,\"Purchased Hot Water\"),\"\")),\"\")","v":""},{"$f":"IFERROR(IF($C$6=\"eQUEST\",\"\",IF($C$6=\"Trace\",SUMIFS('Results from Trace'!$D$6:$D$55,'Results from Trace'!$A$6:$A$55,\"Space Cooling\",'Results from Trace'!$B$6:$B$55,\"Purchased Hot Water\"),\"\")),\"\")","v":""},{"$f":"IFERROR(IF($C$6=\"eQUEST\",\"\",IF($C$6=\"Trace\",SUMIFS('Results from Trace'!$C$6:$C$55,'Results from Trace'!$A$6:$A$55,\"Space Cooling\",'Results from Trace'!$B$6:$B$55,\"Purchased Chilled Water\"),\"\")),\"\")","v":""},{"$f":"IFERROR(IF($C$6=\"eQUEST\",\"\",IF($C$6=\"Trace\",SUMIFS('Results from Trace'!$D$6:$D$55,'Results from Trace'!$A$6:$A$55,\"Space Cooling\",'Results from Trace'!$B$6:$B$55,\"Purchased Chilled Water\"),\"\")),\"\")","v":""},{"$f":"IFERROR(IF($C$6=\"eQUEST\",\"\",IF($C$6=\"Trace\",SUMIFS('Results from Trace'!$C$6:$C$55,'Results from Trace'!$A$6:$A$55,\"Space Cooling\",'Results from Trace'!$B$6:$B$55,\"Oil\"),\"\")),\"\")","v":""},{"$f":"IFERROR(IF($C$6=\"eQUEST\",\"\",IF($C$6=\"Trace\",SUMIFS('Results from Trace'!$D$6:$D$55,'Results from Trace'!$A$6:$A$55,\"Space Cooling\",'Results from Trace'!$B$6:$B$55,\"Oil\"),\"\")),\"\")","v":""}]
[1,null,null,"Ventilation",null,{"$f":"IFERROR(IF($C$6=\"eQUEST\",'Results from eQUEST'!$S$7*0.003412,IF($C$6=\"Trace\",SUMIFS('Results from Trace'!$C$6:$C$55,'Results from Trace'!$A$6:$A$55,\"Fans - Conditioned\",'Results from Trace'!$B$6:$B$55,\"Electricity\"),\"\")),\"\")","v":""},{"$f":"IFERROR(IF($C$6=\"eQUEST\",'Results from eQUEST'!$S$8*0.003412,IF($C$6=\"Trace\",SUMIFS('Results from Trace'!$D$6:$D$55,'Results from Trace'!$A$6:$A$55,\"Fans - Conditioned\",'Results from Trace'!$B$6:$B$55,\"Electricity\"),\"\")),\"\")","v":""},{"$f":"IFERROR(IF($C$6=\"eQUEST\",'Results from eQUEST'!$BE$7*0.003412,IF($C$6=\"Trace\",SUMIFS('Results from Trace'!$C$6:$C$55,'Results from Trace'!$A$6:$A$55,\"Fans - Conditioned\",'Results from Trace'!$B$6:$B$55,\"Gas\"),\"\")),\"\")","v":""},{"$f":"IFERROR(IF($C$6=\"eQUEST\",'Results from eQUEST'!$BE$8*0.003412,IF($C$6=\"Trace\",SUMIFS('Results from Trace'!$D$6:$D$55,'Results from Trace'!$A$6:$A$55,\"Fans - Conditioned\",'Results from Trace'!$B$6:$B$55,\"Gas\"),\"\")),\"\")","v":""},{"$f":"IFERROR(IF($C$6=\"eQUEST\",\"\",IF($C$6=\"Trace\",SUMIFS('Results from Trace'!$C$6:$C$55,'Results from Trace'!$A$6:$A$55,\"Fans - Conditioned\",'Results from Trace'!$B$6:$B$55,\"Purchased Steam\"),\"\")),\"\")","v":""},{"$f":"IFERROR(IF($C$6=\"eQUEST\",\"\",IF($C$6=\"Trace\",SUMIFS('Results from Trace'!$D$6:$D$55,'Results from Trace'!$A$6:$A$55,\"Fans - Conditioned\",'Results from Trace'!$B$6:$B$55,\"Purchased Steam\"),\"\")),\"\")","v":""},{"$f":"IFERROR(IF($C$6=\"eQUEST\",\"\",IF($C$6=\"Trace\",SUMIFS('Results from Trace'!$C$6:$C$55,'Results from Trace'!$A$6:$A$55,\"Fans - Conditioned\",'Results from Trace'!$B$6:$B$55,\"Purchased Hot Water\"),\"\")),\"\")","v":""},{"$f":"IFERROR(IF($C$6=\"eQUEST\",\"\",IF($C$6=\"Trace\",SUMIFS('Results from Trace'!$D$6:$D$55,'Results from Trace'!$A$6:$A$55,\"Fans - Conditioned\",'Results from Trace'!$B$6:$B$55,\"Purchased Hot Water\"),\"\")),\"\")","v":""},{"$f":"IFERROR(IF($C$6=\"eQUEST\",\"\",IF($C$6=\"Trace\",SUMIFS('Results from Trace'!$C$6:$C$55,'Results from Trace'!$A$6:$A$55,\"Fans - Conditioned\",'Results from Trace'!$B$6:$B$55,\"Purchased Chilled Water\"),\"\")),\"\")","v":""},{"$f":"IFERROR(IF($C$6=\"eQUEST\",\"\",IF($C$6=\"Trace\",SUMIFS('Results from Trace'!$D$6:$D$55,'Results from Trace'!$A$6:$A$55,\"Fans - Conditioned\",'Results from Trace'!$B$6:$B$55,\"Purchased Chilled Water\"),\"\")),\"\")","v":""},{"$f":"IFERROR(IF($C$6=\"eQUEST\",\"\",IF($C$6=\"Trace\",SUMIFS('Results from Trace'!$C$6:$C$55,'Results from Trace'!$A$6:$A$55,\"Fans - Conditioned\",'Results from Trace'!$B$6:$B$55,\"Oil\"),\"\")),\"\")","v":""},{"$f":"IFERROR(IF($C$6=\"eQUEST\",\"\",IF($C$6=\"Trace\",SUMIFS('Results from Trace'!$D$6:$D$55,'Results from Trace'!$A$6:$A$55,\"Fans - Conditioned\",'Results from Trace'!$B$6:$B$55,\"Oil\"),\"\")),\"\")","v":""}]
[1,null,null,"Water Heating",null,{"$f":"IFERROR(IF($C$6=\"eQUEST\",'Results from eQUEST'!$V$7*0.003412,IF($C$6=\"Trace\",0,\"\")),\"\")","v":""},{"$f":"IFERROR(IF($C$6=\"eQUEST\",'Results from eQUEST'!$V$8*0.003412,IF($C$6=\"Trace\",0,\"\")),\"\")","v":""},{"$f":"IFERROR(IF($C$6=\"eQUEST\",'Results from eQUEST'!$BH$7*0.003412,IF($C$6=\"Trace\",SUMIFS('Results from Trace'!$C$6:$C$55,'Results from Trace'!$A$6:$A$55,\"Stand-alone Base Utilities\",'Results from Trace'!$B$6:$B$55,\"Gas\"),\"\")),\"\")","v":""},{"$f":"IFERROR(IF($C$6=\"eQUEST\",'Results from eQUEST'!$BH$8*0.003412,IF($C$6=\"Trace\",SUMIFS('Results from Trace'!$D$6:$D$55,'Results from Trace'!$A$6:$A$55,\"Stand-alone Base Utilities\",'Results from Trace'!$B$6:$B$55,\"Gas\"),\"\")),\"\")","v":""},{"$f":"IFERROR(IF($C$6=\"eQUEST\",\"\",IF($C$6=\"Trace\",SUMIFS('Results from Trace'!$C$6:$C$55,'Results from Trace'!$A$6:$A$55,\"Stand-alone Base Utilities\",'Results from Trace'!$B$6:$B$55,\"Purchased Steam\"),\"\")),\"\")","v":""},{"$f":"IFERROR(IF($C$6=\"eQUEST\",\"\",IF($C$6=\"Trace\",SUMIFS('Results from Trace'!$D$6:$D$55,'Results from Trace'!$A$6:$A$55,\"Stand-alone Base Utilities\",'Results from Trace'!$B$6:$B$55,\"Purchased Steam\"),\"\")),\"\")","v":""},{"$f":"IFERROR(IF($C$6=\"eQUEST\",\"\",IF($C$6=\"Trace\",SUMIFS('Results from Trace'!$C$6:$C$55,'Results from Trace'!$A$6:$A$55,\"Stand-alone Base Utilities\",'Results from Trace'!$B$6:$B$55,\"Purchased Hot Water\"),\"\")),\"\")","v":""},{"$f":"IFERROR(IF($C$6=\"eQUEST\",\"\",IF($C$6=\"Trace\",SUMIFS('Results from Trace'!$D$6:$D$55,'Results from Trace'!$A$6:$A$55,\"Stand-alone Base Utilities\",'Results from Trace'!$B$6:$B$55,\"Purchased Hot Water\"),\"\")),\"\")","v":""},{"$f":"IFERROR(IF($C$6=\"eQUEST\",\"\",IF($C$6=\"Trace\",SUMIFS('Results from Trace'!$C$6:$C$55,'Results from Trace'!$A$6:$A$55,\"Stand-alone Base Utilities\",'Results from Trace'!$B$6:$B$55,\"Purchased Chilled Water\"),\"\")),\"\")","v":""},{"$f":"IFERROR(IF($C$6=\"eQUEST\",\"\",IF($C$6=\"Trace\",SUMIFS('Results from Trace'!$D$6:$D$55,'Results from Trace'!$A$6:$A$55,\"Stand-alone Base Utilities\",'Results from Trace'!$B$6:$B$55,\"Purchased Chilled Water\"),\"\")),\"\")","v":""},{"$f":"IFERROR(IF($C$6=\"eQUEST\",\"\",IF($C$6=\"Trace\",SUMIFS('Results from Trace'!$C$6:$C$55,'Results from Trace'!$A$6:$A$55,\"Stand-alone Base Utilities\",'Results from Trace'!$B$6:$B$55,\"Oil\"),\"\")),\"\")","v":""},{"$f":"IFERROR(IF($C$6=\"eQUEST\",\"\",IF($C$6=\"Trace\",SUMIFS('Results from Trace'!$D$6:$D$55,'Results from Trace'!$A$6:$A$55,\"Stand-alone Base Utilities\",'Results from Trace'!$B$6:$B$55,\"Oil\"),\"\")),\"\")","v":""}]
[1,null,null,"Lighting",null,{"$f":"IFERROR(IF($C$6=\"eQUEST\",SUM('Results from eQUEST'!$L$7:$M$7)*0.003412,IF($C$6=\"Trace\",SUMIFS('Results from Trace'!$C$6:$C$55,'Results from Trace'!$A$6:$A$55,\"Lighting - Conditioned\",'Results from Trace'!$B$6:$B$55,\"Electricity\"),\"\")),\"\")","v":""},{"$f":"IFERROR(IF($C$6=\"eQUEST\",SUM('Results from eQUEST'!$L$8:$M$8)*0.003412,IF($C$6=\"Trace\",SUMIFS('Results from Trace'!$D$6:$D$55,'Results from Trace'!$A$6:$A$55,\"Lighting - Conditioned\",'Results from Trace'!$B$6:$B$55,\"Electricity\"),\"\")),\"\")","v":""},{"$f":"IFERROR(IF($C$6=\"eQUEST\",SUM('Results from eQUEST'!$AX$7:$AY$7)*0.003412,IF($C$6=\"Trace\",SUMIFS('Results from Trace'!$C$6:$C$55,'Results from Trace'!$A$6:$A$55,\"Lighting - Conditioned\",'Results from Trace'!$B$6:$B$55,\"Gas\"),\"\")),\"\")","v":""},{"$f":"IFERROR(IF($C$6=\"eQUEST\",SUM('Results from eQUEST'!$AX$8:$AY$8)*0.003412,IF($C$6=\"Trace\",SUMIFS('Results from Trace'!$D$6:$D$55,'Results from Trace'!$A$6:$A$55,\"Lighting - Conditioned\",'Results from Trace'!$B$6:$B$55,\"Gas\"),\"\")),\"\")","v":""},{"$f":"IFERROR(IF($C$6=\"eQUEST\",\"\",IF($C$6=\"Trace\",SUMIFS('Results from Trace'!$C$6:$C$55,'Results from Trace'!$A$6:$A$55,\"Lighting - Conditioned\",'Results from Trace'!$B$6:$B$55,\"Purchased Steam\"),\"\")),\"\")","v":""},{"$f":"IFERROR(IF($C$6=\"eQUEST\",\"\",IF($C$6=\"Trace\",SUMIFS('Results from Trace'!$D$6:$D$55,'Results from Trace'!$A$6:$A$55,\"Lighting - Conditioned\",'Results from Trace'!$B$6:$B$55,\"Purchased Steam\"),\"\")),\"\")","v":""},{"$f":"IFERROR(IF($C$6=\"eQUEST\",\"\",IF($C$6=\"Trace\",SUMIFS('Results from Trace'!$C$6:$C$55,'Results from Trace'!$A$6:$A$55,\"Lighting - Conditioned\",'Results from Trace'!$B$6:$B$55,\"Purchased Hot Water\"),\"\")),\"\")","v":""},{"$f":"IFERROR(IF($C$6=\"eQUEST\",\"\",IF($C$6=\"Trace\",SUMIFS('Results from Trace'!$D$6:$D$55,'Results from Trace'!$A$6:$A$55,\"Lighting - Conditioned\",'Results from Trace'!$B$6:$B$55,\"Purchased Hot Water\"),\"\")),\"\")","v":""},{"$f":"IFERROR(IF($C$6=\"eQUEST\",\"\",IF($C$6=\"Trace\",SUMIFS('Results from Trace'!$C$6:$C$55,'Results from Trace'!$A$6:$A$55,\"Lighting - Conditioned\",'Results from Trace'!$B$6:$B$55,\"Purchased Chilled Water\"),\"\")),\"\")","v":""},{"$f":"IFERROR(IF($C$6=\"eQUEST\",\"\",IF($C$6=\"Trace\",SUMIFS('Results from Trace'!$D$6:$D$55,'Results from Trace'!$A$6:$A$55,\"Lighting - Conditioned\",'Results from Trace'!$B$6:$B$55,\"Purchased Chilled Water\"),\"\")),\"\")","v":""},{"$f":"IFERROR(IF($C$6=\"eQUEST\",\"\",IF($C$6=\"Trace\",SUMIFS('Results from Trace'!$C$6:$C$55,'Results from Trace'!$A$6:$A$55,\"Lighting - Conditioned\",'Results from Trace'!$B$6:$B$55,\"Oil\"),\"\")),\"\")","v":""},{"$f":"IFERROR(IF($C$6=\"eQUEST\",\"\",IF($C$6=\"Trace\",SUMIFS('Results from Trace'!$D$6:$D$55,'Results from Trace'!$A$6:$A$55,\"Lighting - Conditioned\",'Results from Trace'!$B$6:$B$55,\"Oil\"),\"\")),\"\")","v":""}]
[1,null,null,"Plug Load & Aux. Total",null,{"$f":"IFERROR(IF($C$6=\"eQUEST\",SUM('Results from eQUEST'!$N$7,'Results from eQUEST'!$Q$7,'Results from eQUEST'!$R$7,'Results from eQUEST'!$U$7,'Results from eQUEST'!$W$7)*0.003412,IF($C$6=\"Trace\",SUMIFS('Results from Trace'!$C$6:$C$55,'Results from Trace'!$A$6:$A$55,\"Pumps\",'Results from Trace'!$B$6:$B$55,\"Electricity\")+SUMIFS('Results from Trace'!$C$6:$C$55,'Results from Trace'!$A$6:$A$55,\"Heat Rejection\",'Results from Trace'!$B$6:$B$55,\"Electricity\")+SUMIFS('Results from Trace'!$C$6:$C$55,'Results from Trace'!$A$6:$A$55,\"Receptacles - Conditioned\",'Results from Trace'!$B$6:$B$55,\"Electricity\")+SUMIFS('Results from Trace'!$C$6:$C$55,'Results from Trace'!$A$6:$A$55,\"Stand-alone Base Utilities\",'Results from Trace'!$B$6:$B$55,\"Electricity\"),\"\")),\"\")","v":""},{"$f":"IFERROR(IF($C$6=\"eQUEST\",SUM('Results from eQUEST'!$N$8,'Results from eQUEST'!$Q$8,'Results from eQUEST'!$R$8,'Results from eQUEST'!$U$8,'Results from eQUEST'!$W$8)*0.003412,IF($C$6=\"Trace\",SUMIFS('Results from Trace'!$D$6:$D$55,'Results from Trace'!$A$6:$A$55,\"Pumps\",'Results from Trace'!$B$6:$B$55,\"Electricity\")+SUMIFS('Results from Trace'!$D$6:$D$55,'Results from Trace'!$A$6:$A$55,\"Heat Rejection\",'Results from Trace'!$B$6:$B$55,\"Electricity\")+SUMIFS('Results from Trace'!$D$6:$D$55,'Results from Trace'!$A$6:$A$55,\"Receptacles - Conditioned\",'Results from Trace'!$B$6:$B$55,\"Electricity\")+SUMIFS('Results from Trace'!$D$6:$D$55,'Results from Trace'!$A$6:$A$55,\"Stand-alone Base Utilities\",'Results from Trace'!$B$6:$B$55,\"Electricity\"),\"\")),\"\")","v":""},{"$f":"IFERROR(IF($C$6=\"eQUEST\",SUM('Results from eQUEST'!$AZ$7,'Results from eQUEST'!$BC$7,'Results from eQUEST'!$BD$7,'Results from eQUEST'!$BG$7,'Results from eQUEST'!$BI$7)*0.003412,IF($C$6=\"Trace\",SUMIFS('Results from Trace'!$C$6:$C$55,'Results from Trace'!$A$6:$A$55,\"Pumps\",'Results from Trace'!$B$6:$B$55,\"Gas\")+SUMIFS('Results from Trace'!$C$6:$C$55,'Results from Trace'!$A$6:$A$55,\"Heat Rejection\",'Results from Trace'!$B$6:$B$55,\"Gas\")+SUMIFS('Results from Trace'!$C$6:$C$55,'Results from Trace'!$A$6:$A$55,\"Receptacles - Conditioned\",'Results from Trace'!$B$6:$B$55,\"Gas\"),\"\")),\"\")","v":""},{"$f":"IFERROR(IF($C$6=\"eQUEST\",SUM('Results from eQUEST'!$AZ$8,'Results from eQUEST'!$BC$8,'Results from eQUEST'!$BD$8,'Results from eQUEST'!$BG$8,'Results from eQUEST'!$BI$8)*0.003412,IF($C$6=\"Trace\",SUMIFS('Results from Trace'!$D$6:$D$55,'Results from Trace'!$A$6:$A$55,\"Pumps\",'Results from Trace'!$B$6:$B$55,\"Gas\")+SUMIFS('Results from Trace'!$D$6:$D$55,'Results from Trace'!$A$6:$A$55,\"Heat Rejection\",'Results from Trace'!$B$6:$B$55,\"Gas\")+SUMIFS('Results from Trace'!$D$6:$D$55,'Results from Trace'!$A$6:$A$55,\"Receptacles - Conditioned\",'Results from Trace'!$B$6:$B$55,\"Gas\"),\"\")),\"\")","v":""},{"$f":"IFERROR(IF($C$6=\"eQUEST\",\"\",IF($C$6=\"Trace\",SUMIFS('Results from Trace'!$C$6:$C$55,'Results from Trace'!$A$6:$A$55,\"Pumps\",'Results from Trace'!$B$6:$B$55,\"Purchased Steam\")+SUMIFS('Results from Trace'!$C$6:$C$55,'Results from Trace'!$A$6:$A$55,\"Heat Rejection\",'Results from Trace'!$B$6:$B$55,\"Purchased Steam\")+SUMIFS('Results from Trace'!$C$6:$C$55,'Results from Trace'!$A$6:$A$55,\"Receptacles - Conditioned\",'Results from Trace'!$B$6:$B$55,\"Purchased Steam\"),\"\")),\"\")","v":""},{"$f":"IFERROR(IF($C$6=\"eQUEST\",\"\",IF($C$6=\"Trace\",SUMIFS('Results from Trace'!$D$6:$D$55,'Results from Trace'!$A$6:$A$55,\"Pumps\",'Results from Trace'!$B$6:$B$55,\"Purchased Steam\")+SUMIFS('Results from Trace'!$D$6:$D$55,'Results from Trace'!$A$6:$A$55,\"Heat Rejection\",'Results from Trace'!$B$6:$B$55,\"Purchased Steam\")+SUMIFS('Results from Trace'!$D$6:$D$55,'Results from Trace'!$A$6:$A$55,\"Receptacles - Conditioned\",'Results from Trace'!$B$6:$B$55,\"Purchased Steam\"),\"\")),\"\")","v":""},{"$f":"IFERROR(IF($C$6=\"eQUEST\",\"\",IF($C$6=\"Trace\",SUMIFS('Results from Trace'!$C$6:$C$55,'Results from Trace'!$A$6:$A$55,\"Pumps\",'Results from Trace'!$B$6:$B$55,\"Purchased Hot Water\")+SUMIFS('Results from Trace'!$C$6:$C$55,'Results from Trace'!$A$6:$A$55,\"Heat Rejection\",'Results from Trace'!$B$6:$B$55,\"Purchased Hot Water\")+SUMIFS('Results from Trace'!$C$6:$C$55,'Results from Trace'!$A$6:$A$55,\"Receptacles - Conditioned\",'Results from Trace'!$B$6:$B$55,\"Purchased Hot Water\"),\"\")),\"\")","v":""},{"$f":"IFERROR(IF($C$6=\"eQUEST\",\"\",IF($C$6=\"Trace\",SUMIFS('Results from Trace'!$D$6:$D$55,'Results from Trace'!$A$6:$A$55,\"Pumps\",'Results from Trace'!$B$6:$B$55,\"Purchased Hot Water\")+SUMIFS('Results from Trace'!$D$6:$D$55,'Results from Trace'!$A$6:$A$55,\"Heat Rejection\",'Results from Trace'!$B$6:$B$55,\"Purchased Hot Water\")+SUMIFS('Results from Trace'!$D$6:$D$55,'Results from Trace'!$A$6:$A$55,\"Receptacles - Conditioned\",'Results from Trace'!$B$6:$B$55,\"Purchased Hot Water\"),\"\")),\"\")","v":""},{"$f":"IFERROR(IF($C$6=\"eQUEST\",\"\",IF($C$6=\"Trace\",SUMIFS('Results from Trace'!$C$6:$C$55,'Results from Trace'!$A$6:$A$55,\"Pumps\",'Results from Trace'!$B$6:$B$55,\"Purchased Chilled Water\")+SUMIFS('Results from Trace'!$C$6:$C$55,'Results from Trace'!$A$6:$A$55,\"Heat Rejection\",'Results from Trace'!$B$6:$B$55,\"Purchased Chilled Water\")+SUMIFS('Results from Trace'!$C$6:$C$55,'Results from Trace'!$A$6:$A$55,\"Receptacles - Conditioned\",'Results from Trace'!$B$6:$B$55,\"Purchased Chilled Water\"),\"\")),\"\")","v":""},{"$f":"IFERROR(IF($C$6=\"eQUEST\",\"\",IF($C$6=\"Trace\",SUMIFS('Results from Trace'!$D$6:$D$55,'Results from Trace'!$A$6:$A$55,\"Pumps\",'Results from Trace'!$B$6:$B$55,\"Purchased Chilled Water\")+SUMIFS('Results from Trace'!$D$6:$D$55,'Results from Trace'!$A$6:$A$55,\"Heat Rejection\",'Results from Trace'!$B$6:$B$55,\"Purchased Chilled Water\")+SUMIFS('Results from Trace'!$D$6:$D$55,'Results from Trace'!$A$6:$A$55,\"Receptacles - Conditioned\",'Results from Trace'!$B$6:$B$55,\"Purchased Chilled Water\"),\"\")),\"\")","v":""},{"$f":"IFERROR(IF($C$6=\"eQUEST\",\"\",IF($C$6=\"Trace\",SUMIFS('Results from Trace'!$C$6:$C$55,'Results from Trace'!$A$6:$A$55,\"Pumps\",'Results from Trace'!$B$6:$B$55,\"Oil\")+SUMIFS('Results from Trace'!$C$6:$C$55,'Results from Trace'!$A$6:$A$55,\"Heat Rejection\",'Results from Trace'!$B$6:$B$55,\"Oil\")+SUMIFS('Results from Trace'!$C$6:$C$55,'Results from Trace'!$A$6:$A$55,\"Receptacles - Conditioned\",'Results from Trace'!$B$6:$B$55,\"Oil\"),\"\")),\"\")","v":""},{"$f":"IFERROR(IF($C$6=\"eQUEST\",\"\",IF($C$6=\"Trace\",SUMIFS('Results from Trace'!$D$6:$D$55,'Results from Trace'!$A$6:$A$55,\"Pumps\",'Results from Trace'!$B$6:$B$55,\"Oil\")+SUMIFS('Results from Trace'!$D$6:$D$55,'Results from Trace'!$A$6:$A$55,\"Heat Rejection\",'Results from Trace'!$B$6:$B$55,\"Oil\")+SUMIFS('Results from Trace'!$D$6:$D$55,'Results from Trace'!$A$6:$A$55,\"Receptacles - Conditioned\",'Results from Trace'!$B$6:$B$55,\"Oil\"),\"\")),\"\")","v":""}]
[1,null,null,"Refrigeration",null,{"$f":"IFERROR(IF($C$6=\"eQUEST\",'Results from eQUEST'!$T$7*0.003412,IF($C$6=\"Trace\",0,\"\")),\"\")","v":""},{"$f":"IFERROR(IF($C$6=\"eQUEST\",'Results from eQUEST'!$T$8*0.003412,IF($C$6=\"Trace\",0,\"\")),\"\")","v":""},{"$f":"IFERROR(IF($C$6=\"eQUEST\",'Results from eQUEST'!$BF$7*0.1,IF($C$6=\"Trace\",0,\"\")),\"\")","v":""},{"$f":"IFERROR(IF($C$6=\"eQUEST\",'Results from eQUEST'!$BF$8*0.1,IF($C$6=\"Trace\",0,\"\")),\"\")","v":""},{"$f":"IFERROR(IF($C$6=\"eQUEST\",\"\",IF($C$6=\"Trace\",0,\"\")),\"\")","v":""},"","","","","","","",null,null,null,null,"Conversion Calculator for Column N"]
[1,null,null,"Total",null,{"$f":"SUM(F7:F13)","v":0},{"$f":"SUM(G7:G13)","v":0},0,0,0,0,0,0,0,0,0,0,0,0]
[1,null,null,null,null,null,null,null,null,null,null,null,null,null,null,null,null,null,null,null,null,"<Select Fuel Type>"]
[1,null,null,"Measure Name",null,"Savings Calculation Method","Simulation Run Name","Annual Electric Use \n(kWh)","Peak Demand (kW)","Annual Natural Gas Use\n(MMBtu)","Annual Steam Use\n(MMBtu)","Annual Hot Water Use (MMBtu)","Annual Chilled Water Use (MMBtu)","Annual Fuel Oil & Propane Use\n(MMBtu)","Annual Other Use\n(MMBtu)","Changes Made to Previous Model Run",null,null,null,null,null,"<Select Units>"]
[0,null,null,null,null,null,null,null,null,{"$f":"'Utility Use Summary'!G8","v":0},{"$f":"'Utility Use Summary'!M8","v":0},{"$f":"'Utility Use Summary'!Q8","v":0},{"$f":"'Utility Use Summary'!O8","v":0},{"$f":"SUM('Utility Use Summary'!I8,'Utility Use Summary'!K8)","v":0},{"$f":"'Utility Use Summary'!S8","v":0},null,null,null,null,null,null,{"$f":"N17","v":0}]
[1,null,null,null,"Baseline","-","Baseline",{"$f":"IFERROR(IF($C$6=\"eQUEST\",IF('Results from eQUEST'!$I7=\"\",\"\",'Results from eQUEST'!$X7),IF($C$6=\"Trace\",IF(SUM('Results from Trace'!$C$6:$C$55)=0,\"\",SUMIFS('Results from Trace'!$C$6:$C$55,'Results from Trace'!$B$6:$B$55,\"Electricity\")/0.003412),\"\")),\"\")","v":""},{"$f":"IFERROR(IF($C$6=\"eQUEST\",IF('Results from eQUEST'!$I7=\"\",\"\",'Results from eQUEST'!$AW7),IF($C$6=\"Trace\",\"\",\"\")),\"\")","v":""},{"$f":"IFERROR(IF($C$6=\"eQUEST\",IF('Results from eQUEST'!$I7=\"\",\"\",'Results from eQUEST'!$BJ7*0.1),IF($C$6=\"Trace\",IF(SUM('Results from Trace'!$C$6:$C$55)=0,\"\",SUMIFS('Results from Trace'!$C$6:$C$55,'Results from Trace'!$B$6:$B$55,\"Gas\")),\"\")),\"\")","v":""},{"$f":"IFERROR(IF($C$6=\"eQUEST\",\"\",IF($C$6=\"Trace\",IF(SUM('Results from Trace'!$C$6:$C$55)=0,\"\",SUMIFS('Results from Trace'!$C$6:$C$55,'Results from Trace'!$B$6:$B$55,\"Purchased Steam\")),\"\")),\"\")","v":""},{"$f":"IFERROR(IF($C$6=\"eQUEST\",\"\",IF($C$6=\"Trace\",IF(SUM('Results from Trace'!$C$6:$C$55)=0,\"\",SUMIFS('Results from Trace'!$C$6:$C$55,'Results from Trace'!$B$6:$B$55,\"Purchased Hot Water\")),\"\")),\"\")","v":""},{"$f":"IFERROR(IF($C$6=\"eQUEST\",\"\",IF($C$6=\"Trace\",IF(SUM('Results from Trace'!$C$6:$C$55)=0,\"\",SUMIFS('Results from Trace'!$C$6:$C$55,'Results from Trace'!$B$6:$B$55,\"Purchased Chilled Water\")),\"\")),\"\")","v":""},{"$f":"IF(OR($V$15=\"\",$V$15=$V$136,N(V18)=0,$V$16=\"\",$V$16=$V$142),0,IF($V$16=$V$143,V18,V18*VLOOKUP($V$15,$V$137:$W$140,2,FALSE)))","v":0},null,"N/A",null,null,null,null,null,{"$f":"IFERROR(IF($C$6=\"eQUEST\",\"\",IF($C$6=\"Trace\",IF(SUM('Results from Trace'!$C$6:$C$55)=0,\"\",SUMIFS('Results from Trace'!$C$6:$C$55,'Results from Trace'!$B$6:$B$55,\"Oil\")),\"\")),\"\")","v":""}]
[1,null,null,"Ex",{"$f":"'Measure Descriptions'!C6","v":"Boiler Replacement"},"Simulation","Boiler-1,2",246000,424,9500,"N/A",null,null,"N/A","N/A","Changed efficiency from 75% to 90%",null,null,null,null,null,"N/A"]
[1,null,null,1,{"$f":"IF('Measure Descriptions'!C7=0,\" \",'Measure Descriptions'!C7)","v":" "},null,null,{"$f":"IFERROR(IF($C$6=\"eQUEST\",IF('Results from eQUEST'!$I9=\"\",\"\",'Results from eQUEST'!$X9),IF($C$6=\"Trace\",IF(SUM('Results from Trace'!$E$6:$E$55)=0,\"\",SUMIFS('Results from Trace'!$E$6:$E$55,'Results from Trace'!$B$6:$B$55,\"Electricity\")/0.003412),\"\")),\"\")","v":""},{"$f":"IFERROR(IF($C$6=\"eQUEST\",IF('Results from eQUEST'!$I9=\"\",\"\",'Results from eQUEST'!$AW9),IF($C$6=\"Trace\",\"\",\"\")),\"\")","v":""},{"$f":"IFERROR(IF($C$6=\"eQUEST\",IF('Results from eQUEST'!$I9=\"\",\"\",'Results from eQUEST'!$BJ9*0.1),IF($C$6=\"Trace\",IF(SUM('Results from Trace'!$E$6:$E$55)=0,\"\",SUMIFS('Results from Trace'!$E$6:$E$55,'Results from Trace'!$B$6:$B$55,\"Gas\")),\"\")),\"\")","v":""},{"$f":"IFERROR(IF($C$6=\"eQUEST\",\"\",IF($C$6=\"Trace\",IF(SUM('Results from Trace'!$E$6:$E$55)=0,\"\",SUMIFS('Results from Trace'!$E$6:$E$55,'Results from Trace'!$B$6:$B$55,\"Purchased Steam\")),\"\")),\"\")","v":""},{"$f":"IFERROR(IF($C$6=\"eQUEST\",\"\",IF($C$6=\"Trace\",IF(SUM('Results from Trace'!$E$6:$E$55)=0,\"\",SUMIFS('Results from Trace'!$E$6:$E$55,'Results from Trace'!$B$6:$B$55,\"Purchased Hot Water\")),\"\")),\"\")","v":""},{"$f":"IFERROR(IF($C$6=\"eQUEST\",\"\",IF($C$6=\"Trace\",IF(SUM('Results from Trace'!$E$6:$E$55)=0,\"\",SUMIFS('Results from Trace'!$E$6:$E$55,'Results from Trace'!$B$6:$B$55,\"Purchased Chilled Water\")),\"\")),\"\")","v":""},{"$f":"IF(OR($V$15=\"\",$V$15=$V$136,N(V20)=0,$V$16=\"\",$V$16=$V$142),0,IF($V$16=$V$143,V20,V20*VLOOKUP($V$15,$V$137:$W$140,2,FALSE)))","v":0},null,null,null,null,null,null,null,{"$f":"IFERROR(IF($C$6=\"eQUEST\",\"\",IF($C$6=\"Trace\",IF(SUM('Results from Trace'!$E$6:$E$55)=0,\"\",SUMIFS('Results from Trace'!$E$6:$E$55,'Results from Trace'!$B$6:$B$55,\"Oil\")),\"\")),\"\")","v":""}]
[1,null,null,2,{"$f":"IF('Measure Descriptions'!C8=0,\" \",'Measure Descriptions'!C8)","v":" "},null,null,{"$f":"IFERROR(IF($C$6=\"eQUEST\",IF('Results from eQUEST'!$I10=\"\",\"\",'Results from eQUEST'!$X10),IF($C$6=\"Trace\",IF(SUM('Results from Trace'!$F$6:$F$55)=0,\"\",SUMIFS('Results from Trace'!$F$6:$F$55,'Results from Trace'!$B$6:$B$55,\"Electricity\")/0.003412),\"\")),\"\")","v":""},{"$f":"IFERROR(IF($C$6=\"eQUEST\",IF('Results from eQUEST'!$I10=\"\",\"\",'Results from eQUEST'!$AW10),IF($C$6=\"Trace\",\"\",\"\")),\"\")","v":""},{"$f":"IFERROR(IF($C$6=\"eQUEST\",IF('Results from eQUEST'!$I10=\"\",\"\",'Results from eQUEST'!$BJ10*0.1),IF($C$6=\"Trace\",IF(SUM('Results from Trace'!$F$6:$F$55)=0,\"\",SUMIFS('Results from Trace'!$F$6:$F$55,'Results from Trace'!$B$6:$B$55,\"Gas\")),\"\")),\"\")","v":""},{"$f":"IFERROR(IF($C$6=\"eQUEST\",\"\",IF($C$6=\"Trace\",IF(SUM('Results from Trace'!$F$6:$F$55)=0,\"\",SUMIFS('Results from Trace'!$F$6:$F$55,'Results from Trace'!$B$6:$B$55,\"Purchased Steam\")),\"\")),\"\")","v":""},{"$f":"IFERROR(IF($C$6=\"eQUEST\",\"\",IF($C$6=\"Trace\",IF(SUM('Results from Trace'!$F$6:$F$55)=0,\"\",SUMIFS('Results from Trace'!$F$6:$F$55,'Results from Trace'!$B$6:$B$55,\"Purchased Hot Water\")),\"\")),\"\")","v":""},{"$f":"IFERROR(IF($C$6=\"eQUEST\",\"\",IF($C$6=\"Trace\",IF(SUM('Results from Trace'!$F$6:$F$55)=0,\"\",SUMIFS('Results from Trace'!$F$6:$F$55,'Results from Trace'!$B$6:$B$55,\"Purchased Chilled Water\")),\"\")),\"\")","v":""},0,null,null,null,null,null,null,null,{"$f":"IFERROR(IF($C$6=\"eQUEST\",\"\",IF($C$6=\"Trace\",IF(SUM('Results from Trace'!$F$6:$F$55)=0,\"\",SUMIFS('Results from Trace'!$F$6:$F$55,'Results from Trace'!$B$6:$B$55,\"Oil\")),\"\")),\"\")","v":""}]
[1,null,null,3,{"$f":"IF('Measure Descriptions'!C9=0,\" \",'Measure Descriptions'!C9)","v":" "},null,null,{"$f":"IFERROR(IF($C$6=\"eQUEST\",IF('Results from eQUEST'!$I11=\"\",\"\",'Results from eQUEST'!$X11),IF($C$6=\"Trace\",IF(SUM('Results from Trace'!$G$6:$G$55)=0,\"\",SUMIFS('Results from Trace'!$G$6:$G$55,'Results from Trace'!$B$6:$B$55,\"Electricity\")/0.003412),\"\")),\"\")","v":""},{"$f":"IFERROR(IF($C$6=\"eQUEST\",IF('Results from eQUEST'!$I11=\"\",\"\",'Results from eQUEST'!$AW11),IF($C$6=\"Trace\",\"\",\"\")),\"\")","v":""},{"$f":"IFERROR(IF($C$6=\"eQUEST\",IF('Results from eQUEST'!$I11=\"\",\"\",'Results from eQUEST'!$BJ11*0.1),IF($C$6=\"Trace\",IF(SUM('Results from Trace'!$G$6:$G$55)=0,\"\",SUMIFS('Results from Trace'!$G$6:$G$55,'Results from Trace'!$B$6:$B$55,\"Gas\")),\"\")),\"\")","v":""},{"$f":"IFERROR(IF($C$6=\"eQUEST\",\"\",IF($C$6=\"Trace\",IF(SUM('Results from Trace'!$G$6:$G$55)=0,\"\",SUMIFS('Results from Trace'!$G$6:$G$55,'Results from Trace'!$B$6:$B$55,\"Purchased Steam\")),\"\")),\"\")","v":""},{"$f":"IFERROR(IF($C$6=\"eQUEST\",\"\",IF($C$6=\"Trace\",IF(SUM('Results from Trace'!$G$6:$G$55)=0,\"\",SUMIFS('Results from Trace'!$G$6:$G$55,'Results from Trace'!$B$6:$B$55,\"Purchased Hot Water\")),\"\")),\"\")","v":""},{"$f":"IFERROR(IF($C$6=\"eQUEST\",\"\",IF($C$6=\"Trace\",IF(SUM('Results from Trace'!$G$6:$G$55)=0,\"\",SUMIFS('Results from Trace'!$G$6:$G$55,'Results from Trace'!$B$6:$B$55,\"Purchased Chilled Water\")),\"\")),\"\")","v":""},0,null,null,null,null,null,null,null,{"$f":"IFERROR(IF($C$6=\"eQUEST\",\"\",IF($C$6=\"Trace\",IF(SUM('Results from Trace'!$G$6:$G$55)=0,\"\",SUMIFS('Results from Trace'!$G$6:$G$55,'Results from Trace'!$B$6:$B$55,\"Oil\")),\"\")),\"\")","v":""}]
[1,null,null,4,{"$f":"IF('Measure Descriptions'!C10=0,\" \",'Measure Descriptions'!C10)","v":" "},null,null,{"$f":"IFERROR(IF($C$6=\"eQUEST\",IF('Results from eQUEST'!$I12=\"\",\"\",'Results from eQUEST'!$X12),IF($C$6=\"Trace\",IF(SUM('Results from Trace'!$H$6:$H$55)=0,\"\",SUMIFS('Results from Trace'!$H$6:$H$55,'Results from Trace'!$B$6:$B$55,\"Electricity\")/0.003412),\"\")),\"\")","v":""},{"$f":"IFERROR(IF($C$6=\"eQUEST\",IF('Results from eQUEST'!$I12=\"\",\"\",'Results from eQUEST'!$AW12),IF($C$6=\"Trace\",\"\",\"\")),\"\")","v":""},{"$f":"IFERROR(IF($C$6=\"eQUEST\",IF('Results from eQUEST'!$I12=\"\",\"\",'Results from eQUEST'!$BJ12*0.1),IF($C$6=\"Trace\",IF(SUM('Results from Trace'!$H$6:$H$55)=0,\"\",SUMIFS('Results from Trace'!$H$6:$H$55,'Results from Trace'!$B$6:$B$55,\"Gas\")),\"\")),\"\")","v":""},{"$f":"IFERROR(IF($C$6=\"eQUEST\",\"\",IF($C$6=\"Trace\",IF(SUM('Results from Trace'!$H$6:$H$55)=0,\"\",SUMIFS('Results from Trace'!$H$6:$H$55,'Results from Trace'!$B$6:$B$55,\"Purchased Steam\")),\"\")),\"\")","v":""},{"$f":"IFERROR(IF($C$6=\"eQUEST\",\"\",IF($C$6=\"Trace\",IF(SUM('Results from Trace'!$H$6:$H$55)=0,\"\",SUMIFS('Results from Trace'!$H$6:$H$55,'Results from Trace'!$B$6:$B$55,\"Purchased Hot Water\")),\"\")),\"\")","v":""},{"$f":"IFERROR(IF($C$6=\"eQUEST\",\"\",IF($C$6=\"Trace\",IF(SUM('Results from Trace'!$H$6:$H$55)=0,\"\",SUMIFS('Results from Trace'!$H$6:$H$55,'Results from Trace'!$B$6:$B$55,\"Purchased Chilled Water\")),\"\")),\"\")","v":""},0,null,null,null,null,null,null,null,{"$f":"IFERROR(IF($C$6=\"eQUEST\",\"\",IF($C$6=\"Trace\",IF(SUM('Results from Trace'!$H$6:$H$55)=0,\"\",SUMIFS('Results from Trace'!$H$6:$H$55,'Results from Trace'!$B$6:$B$55,\"Oil\")),\"\")),\"\")","v":""}]
[1,null,null,5,{"$f":"IF('Measure Descriptions'!C11=0,\" \",'Measure Descriptions'!C11)","v":" "},null,null,{"$f":"IFERROR(IF($C$6=\"eQUEST\",IF('Results from eQUEST'!$I13=\"\",\"\",'Results from eQUEST'!$X13),IF($C$6=\"Trace\",IF(SUM('Results from Trace'!$I$6:$I$55)=0,\"\",SUMIFS('Results from Trace'!$I$6:$I$55,'Results from Trace'!$B$6:$B$55,\"Electricity\")/0.003412),\"\")),\"\")","v":""},{"$f":"IFERROR(IF($C$6=\"eQUEST\",IF('Results from eQUEST'!$I13=\"\",\"\",'Results from eQUEST'!$AW13),IF($C$6=\"Trace\",\"\",\"\")),\"\")","v":""},{"$f":"IFERROR(IF($C$6=\"eQUEST\",IF('Results from eQUEST'!$I13=\"\",\"\",'Results from eQUEST'!$BJ13*0.1),IF($C$6=\"Trace\",IF(SUM('Results from Trace'!$I$6:$I$55)=0,\"\",SUMIFS('Results from Trace'!$I$6:$I$55,'Results from Trace'!$B$6:$B$55,\"Gas\")),\"\")),\"\")","v":""},{"$f":"IFERROR(IF($C$6=\"eQUEST\",\"\",IF($C$6=\"Trace\",IF(SUM('Results from Trace'!$I$6:$I$55)=0,\"\",SUMIFS('Results from Trace'!$I$6:$I$55,'Results from Trace'!$B$6:$B$55,\"Purchased Steam\")),\"\")),\"\")","v":""},{"$f":"IFERROR(IF($C$6=\"eQUEST\",\"\",IF($C$6=\"Trace\",IF(SUM('Results from Trace'!$I$6:$I$55)=0,\"\",SUMIFS('Results from Trace'!$I$6:$I$55,'Results from Trace'!$B$6:$B$55,\"Purchased Hot Water\")),\"\")),\"\")","v":""},{"$f":"IFERROR(IF($C$6=\"eQUEST\",\"\",IF($C$6=\"Trace\",IF(SUM('Results from Trace'!$I$6:$I$55)=0,\"\",SUMIFS('Results from Trace'!$I$6:$I$55,'Results from Trace'!$B$6:$B$55,\"Purchased Chilled Water\")),\"\")),\"\")","v":""},0,null,null,null,null,null,null,null,{"$f":"IFERROR(IF($C$6=\"eQUEST\",\"\",IF($C$6=\"Trace\",IF(SUM('Results from Trace'!$I$6:$I$55)=0,\"\",SUMIFS('Results from Trace'!$I$6:$I$55,'Results from Trace'!$B$6:$B$55,\"Oil\")),\"\")),\"\")","v":""}]
[1,null,null,6,{"$f":"IF('Measure Descriptions'!C12=0,\" \",'Measure Descriptions'!C12)","v":" "},null,null,{"$f":"IFERROR(IF($C$6=\"eQUEST\",IF('Results from eQUEST'!$I14=\"\",\"\",'Results from eQUEST'!$X14),IF($C$6=\"Trace\",IF(SUM('Results from Trace'!$J$6:$J$55)=0,\"\",SUMIFS('Results from Trace'!$J$6:$J$55,'Results from Trace'!$B$6:$B$55,\"Electricity\")/0.003412),\"\")),\"\")","v":""},{"$f":"IFERROR(IF($C$6=\"eQUEST\",IF('Results from eQUEST'!$I14=\"\",\"\",'Results from eQUEST'!$AW14),IF($C$6=\"Trace\",\"\",\"\")),\"\")","v":""},{"$f":"IFERROR(IF($C$6=\"eQUEST\",IF('Results from eQUEST'!$I14=\"\",\"\",'Results from eQUEST'!$BJ14*0.1),IF($C$6=\"Trace\",IF(SUM('Results from Trace'!$J$6:$J$55)=0,\"\",SUMIFS('Results from Trace'!$J$6:$J$55,'Results from Trace'!$B$6:$B$55,\"Gas\")),\"\")),\"\")","v":""},{"$f":"IFERROR(IF($C$6=\"eQUEST\",\"\",IF($C$6=\"Trace\",IF(SUM('Results from Trace'!$J$6:$J$55)=0,\"\",SUMIFS('Results from Trace'!$J$6:$J$55,'Results from Trace'!$B$6:$B$55,\"Purchased Steam\")),\"\")),\"\")","v":""},{"$f":"IFERROR(IF($C$6=\"eQUEST\",\"\",IF($C$6=\"Trace\",IF(SUM('Results from Trace'!$J$6:$J$55)=0,\"\",SUMIFS('Results from Trace'!$J$6:$J$55,'Results from Trace'!$B$6:$B$55,\"Purchased Hot Water\")),\"\")),\"\")","v":""},{"$f":"IFERROR(IF($C$6=\"eQUEST\",\"\",IF($C$6=\"Trace\",IF(SUM('Results from Trace'!$J$6:$J$55)=0,\"\",SUMIFS('Results from Trace'!$J$6:$J$55,'Results from Trace'!$B$6:$B$55,\"Purchased Chilled Water\")),\"\")),\"\")","v":""},0,null,null,null,null,null,null,null,{"$f":"IFERROR(IF($C$6=\"eQUEST\",\"\",IF($C$6=\"Trace\",IF(SUM('Results from Trace'!$J$6:$J$55)=0,\"\",SUMIFS('Results from Trace'!$J$6:$J$55,'Results from Trace'!$B$6:$B$55,\"Oil\")),\"\")),\"\")","v":""}]
[1,null,null,7,{"$f":"IF('Measure Descriptions'!C13=0,\" \",'Measure Descriptions'!C13)","v":" "},null,null,{"$f":"IFERROR(IF($C$6=\"eQUEST\",IF('Results from eQUEST'!$I15=\"\",\"\",'Results from eQUEST'!$X15),IF($C$6=\"Trace\",IF(SUM('Results from Trace'!$K$6:$K$55)=0,\"\",SUMIFS('Results from Trace'!$K$6:$K$55,'Results from Trace'!$B$6:$B$55,\"Electricity\")/0.003412),\"\")),\"\")","v":""},{"$f":"IFERROR(IF($C$6=\"eQUEST\",IF('Results from eQUEST'!$I15=\"\",\"\",'Results from eQUEST'!$AW15),IF($C$6=\"Trace\",\"\",\"\")),\"\")","v":""},{"$f":"IFERROR(IF($C$6=\"eQUEST\",IF('Results from eQUEST'!$I15=\"\",\"\",'Results from eQUEST'!$BJ15*0.1),IF($C$6=\"Trace\",IF(SUM('Results from Trace'!$K$6:$K$55)=0,\"\",SUMIFS('Results from Trace'!$K$6:$K$55,'Results from Trace'!$B$6:$B$55,\"Gas\")),\"\")),\"\")","v":""},{"$f":"IFERROR(IF($C$6=\"eQUEST\",\"\",IF($C$6=\"Trace\",IF(SUM('Results from Trace'!$K$6:$K$55)=0,\"\",SUMIFS('Results from Trace'!$K$6:$K$55,'Results from Trace'!$B$6:$B$55,\"Purchased Steam\")),\"\")),\"\")","v":""},{"$f":"IFERROR(IF($C$6=\"eQUEST\",\"\",IF($C$6=\"Trace\",IF(SUM('Results from Trace'!$K$6:$K$55)=0,\"\",SUMIFS('Results from Trace'!$K$6:$K$55,'Results from Trace'!$B$6:$B$55,\"Purchased Hot Water\")),\"\")),\"\")","v":""},{"$f":"IFERROR(IF($C$6=\"eQUEST\",\"\",IF($C$6=\"Trace\",IF(SUM('Results from Trace'!$K$6:$K$55)=0,\"\",SUMIFS('Results from Trace'!$K$6:$K$55,'Results from Trace'!$B$6:$B$55,\"Purchased Chilled Water\")),\"\")),\"\")","v":""},0,null,null,null,null,null,null,null,{"$f":"IFERROR(IF($C$6=\"eQUEST\",\"\",IF($C$6=\"Trace\",IF(SUM('Results from Trace'!$K$6:$K$55)=0,\"\",SUMIFS('Results from Trace'!$K$6:$K$55,'Results from Trace'!$B$6:$B$55,\"Oil\")),\"\")),\"\")","v":""}]
[1,null,null,8,{"$f":"IF('Measure Descriptions'!C14=0,\" \",'Measure Descriptions'!C14)","v":" "},null,null,{"$f":"IFERROR(IF($C$6=\"eQUEST\",IF('Results from eQUEST'!$I16=\"\",\"\",'Results from eQUEST'!$X16),IF($C$6=\"Trace\",IF(SUM('Results from Trace'!$L$6:$L$55)=0,\"\",SUMIFS('Results from Trace'!$L$6:$L$55,'Results from Trace'!$B$6:$B$55,\"Electricity\")/0.003412),\"\")),\"\")","v":""},{"$f":"IFERROR(IF($C$6=\"eQUEST\",IF('Results from eQUEST'!$I16=\"\",\"\",'Results from eQUEST'!$AW16),IF($C$6=\"Trace\",\"\",\"\")),\"\")","v":""},{"$f":"IFERROR(IF($C$6=\"eQUEST\",IF('Results from eQUEST'!$I16=\"\",\"\",'Results from eQUEST'!$BJ16*0.1),IF($C$6=\"Trace\",IF(SUM('Results from Trace'!$L$6:$L$55)=0,\"\",SUMIFS('Results from Trace'!$L$6:$L$55,'Results from Trace'!$B$6:$B$55,\"Gas\")),\"\")),\"\")","v":""},{"$f":"IFERROR(IF($C$6=\"eQUEST\",\"\",IF($C$6=\"Trace\",IF(SUM('Results from Trace'!$L$6:$L$55)=0,\"\",SUMIFS('Results from Trace'!$L$6:$L$55,'Results from Trace'!$B$6:$B$55,\"Purchased Steam\")),\"\")),\"\")","v":""},{"$f":"IFERROR(IF($C$6=\"eQUEST\",\"\",IF($C$6=\"Trace\",IF(SUM('Results from Trace'!$L$6:$L$55)=0,\"\",SUMIFS('Results from Trace'!$L$6:$L$55,'Results from Trace'!$B$6:$B$55,\"Purchased Hot Water\")),\"\")),\"\")","v":""},{"$f":"IFERROR(IF($C$6=\"eQUEST\",\"\",IF($C$6=\"Trace\",IF(SUM('Results from Trace'!$L$6:$L$55)=0,\"\",SUMIFS('Results from Trace'!$L$6:$L$55,'Results from Trace'!$B$6:$B$55,\"Purchased Chilled Water\")),\"\")),\"\")","v":""},0,null,null,null,null,null,null,null,{"$f":"IFERROR(IF($C$6=\"eQUEST\",\"\",IF($C$6=\"Trace\",IF(SUM('Results from Trace'!$L$6:$L$55)=0,\"\",SUMIFS('Results from Trace'!$L$6:$L$55,'Results from Trace'!$B$6:$B$55,\"Oil\")),\"\")),\"\")","v":""}]
[1,null,null,9,{"$f":"IF('Measure Descriptions'!C15=0,\" \",'Measure Descriptions'!C15)","v":" "},null,null,{"$f":"IFERROR(IF($C$6=\"eQUEST\",IF('Results from eQUEST'!$I17=\"\",\"\",'Results from eQUEST'!$X17),IF($C$6=\"Trace\",IF(SUM('Results from Trace'!$M$6:$M$55)=0,\"\",SUMIFS('Results from Trace'!$M$6:$M$55,'Results from Trace'!$B$6:$B$55,\"Electricity\")/0.003412),\"\")),\"\")","v":""},{"$f":"IFERROR(IF($C$6=\"eQUEST\",IF('Results from eQUEST'!$I17=\"\",\"\",'Results from eQUEST'!$AW17),IF($C$6=\"Trace\",\"\",\"\")),\"\")","v":""},{"$f":"IFERROR(IF($C$6=\"eQUEST\",IF('Results from eQUEST'!$I17=\"\",\"\",'Results from eQUEST'!$BJ17*0.1),IF($C$6=\"Trace\",IF(SUM('Results from Trace'!$M$6:$M$55)=0,\"\",SUMIFS('Results from Trace'!$M$6:$M$55,'Results from Trace'!$B$6:$B$55,\"Gas\")),\"\")),\"\")","v":""},{"$f":"IFERROR(IF($C$6=\"eQUEST\",\"\",IF($C$6=\"Trace\",IF(SUM('Results from Trace'!$M$6:$M$55)=0,\"\",SUMIFS('Results from Trace'!$M$6:$M$55,'Results from Trace'!$B$6:$B$55,\"Purchased Steam\")),\"\")),\"\")","v":""},{"$f":"IFERROR(IF($C$6=\"eQUEST\",\"\",IF($C$6=\"Trace\",IF(SUM('Results from Trace'!$M$6:$M$55)=0,\"\",SUMIFS('Results from Trace'!$M$6:$M$55,'Results from Trace'!$B$6:$B$55,\"Purchased Hot Water\")),\"\")),\"\")","v":""},{"$f":"IFERROR(IF($C$6=\"eQUEST\",\"\",IF($C$6=\"Trace\",IF(SUM('Results from Trace'!$M$6:$M$55)=0,\"\",SUMIFS('Results from Trace'!$M$6:$M$55,'Results from Trace'!$B$6:$B$55,\"Purchased Chilled Water\")),\"\")),\"\")","v":""},0,null,null,null,null,null,null,null,{"$f":"IFERROR(IF($C$6=\"eQUEST\",\"\",IF($C$6=\"Trace\",IF(SUM('Results from Trace'!$M$6:$M$55)=0,\"\",SUMIFS('Results from Trace'!$M$6:$M$55,'Results from Trace'!$B$6:$B$55,\"Oil\")),\"\")),\"\")","v":""}]
[1,null,null,10,{"$f":"IF('Measure Descriptions'!C16=0,\" \",'Measure Descriptions'!C16)","v":" "},null,null,{"$f":"IFERROR(IF($C$6=\"eQUEST\",IF('Results from eQUEST'!$I18=\"\",\"\",'Results from eQUEST'!$X18),IF($C$6=\"Trace\",IF(SUM('Results from Trace'!$N$6:$N$55)=0,\"\",SUMIFS('Results from Trace'!$N$6:$N$55,'Results from Trace'!$B$6:$B$55,\"Electricity\")/0.003412),\"\")),\"\")","v":""},{"$f":"IFERROR(IF($C$6=\"eQUEST\",IF('Results from eQUEST'!$I18=\"\",\"\",'Results from eQUEST'!$AW18),IF($C$6=\"Trace\",\"\",\"\")),\"\")","v":""},{"$f":"IFERROR(IF($C$6=\"eQUEST\",IF('Results from eQUEST'!$I18=\"\",\"\",'Results from eQUEST'!$BJ18*0.1),IF($C$6=\"Trace\",IF(SUM('Results from Trace'!$N$6:$N$55)=0,\"\",SUMIFS('Results from Trace'!$N$6:$N$55,'Results from Trace'!$B$6:$B$55,\"Gas\")),\"\")),\"\")","v":""},{"$f":"IFERROR(IF($C$6=\"eQUEST\",\"\",IF($C$6=\"Trace\",IF(SUM('Results from Trace'!$N$6:$N$55)=0,\"\",SUMIFS('Results from Trace'!$N$6:$N$55,'Results from Trace'!$B$6:$B$55,\"Purchased Steam\")),\"\")),\"\")","v":""},{"$f":"IFERROR(IF($C$6=\"eQUEST\",\"\",IF($C$6=\"Trace\",IF(SUM('Results from Trace'!$N$6:$N$55)=0,\"\",SUMIFS('Results from Trace'!$N$6:$N$55,'Results from Trace'!$B$6:$B$55,\"Purchased Hot Water\")),\"\")),\"\")","v":""},{"$f":"IFERROR(IF($C$6=\"eQUEST\",\"\",IF($C$6=\"Trace\",IF(SUM('Results from Trace'!$N$6:$N$55)=0,\"\",SUMIFS('Results from Trace'!$N$6:$N$55,'Results from Trace'!$B$6:$B$55,\"Purchased Chilled Water\")),\"\")),\"\")","v":""},0,null,null,null,null,null,null,null,{"$f":"IFERROR(IF($C$6=\"eQUEST\",\"\",IF($C$6=\"Trace\",IF(SUM('Results from Trace'!$N$6:$N$55)=0,\"\",SUMIFS('Results from Trace'!$N$6:$N$55,'Results from Trace'!$B$6:$B$55,\"Oil\")),\"\")),\"\")","v":""}]
[1,null,null,11,{"$f":"IF('Measure Descriptions'!C17=0,\" \",'Measure Descriptions'!C17)","v":" "},null,null,{"$f":"IFERROR(IF($C$6=\"eQUEST\",IF('Results from eQUEST'!$I19=\"\",\"\",'Results from eQUEST'!$X19),IF($C$6=\"Trace\",IF(SUM('Results from Trace'!$O$6:$O$55)=0,\"\",SUMIFS('Results from Trace'!$O$6:$O$55,'Results from Trace'!$B$6:$B$55,\"Electricity\")/0.003412),\"\")),\"\")","v":""},{"$f":"IFERROR(IF($C$6=\"eQUEST\",IF('Results from eQUEST'!$I19=\"\",\"\",'Results from eQUEST'!$AW19),IF($C$6=\"Trace\",\"\",\"\")),\"\")","v":""},{"$f":"IFERROR(IF($C$6=\"eQUEST\",IF('Results from eQUEST'!$I19=\"\",\"\",'Results from eQUEST'!$BJ19*0.1),IF($C$6=\"Trace\",IF(SUM('Results from Trace'!$O$6:$O$55)=0,\"\",SUMIFS('Results from Trace'!$O$6:$O$55,'Results from Trace'!$B$6:$B$55,\"Gas\")),\"\")),\"\")","v":""},{"$f":"IFERROR(IF($C$6=\"eQUEST\",\"\",IF($C$6=\"Trace\",IF(SUM('Results from Trace'!$O$6:$O$55)=0,\"\",SUMIFS('Results from Trace'!$O$6:$O$55,'Results from Trace'!$B$6:$B$55,\"Purchased Steam\")),\"\")),\"\")","v":""},{"$f":"IFERROR(IF($C$6=\"eQUEST\",\"\",IF($C$6=\"Trace\",IF(SUM('Results from Trace'!$O$6:$O$55)=0,\"\",SUMIFS('Results from Trace'!$O$6:$O$55,'Results from Trace'!$B$6:$B$55,\"Purchased Hot Water\")),\"\")),\"\")","v":""},{"$f":"IFERROR(IF($C$6=\"eQUEST\",\"\",IF($C$6=\"Trace\",IF(SUM('Results from Trace'!$O$6:$O$55)=0,\"\",SUMIFS('Results from Trace'!$O$6:$O$55,'Results from Trace'!$B$6:$B$55,\"Purchased Chilled Water\")),\"\")),\"\")","v":""},0,null,null,null,null,null,null,null,{"$f":"IFERROR(IF($C$6=\"eQUEST\",\"\",IF($C$6=\"Trace\",IF(SUM('Results from Trace'!$O$6:$O$55)=0,\"\",SUMIFS('Results from Trace'!$O$6:$O$55,'Results from Trace'!$B$6:$B$55,\"Oil\")),\"\")),\"\")","v":""}]
[1,null,null,12,{"$f":"IF('Measure Descriptions'!C18=0,\" \",'Measure Descriptions'!C18)","v":" "},null,null,{"$f":"IFERROR(IF($C$6=\"eQUEST\",IF('Results from eQUEST'!$I20=\"\",\"\",'Results from eQUEST'!$X20),IF($C$6=\"Trace\",IF(SUM('Results from Trace'!$P$6:$P$55)=0,\"\",SUMIFS('Results from Trace'!$P$6:$P$55,'Results from Trace'!$B$6:$B$55,\"Electricity\")/0.003412),\"\")),\"\")","v":""},{"$f":"IFERROR(IF($C$6=\"eQUEST\",IF('Results from eQUEST'!$I20=\"\",\"\",'Results from eQUEST'!$AW20),IF($C$6=\"Trace\",\"\",\"\")),\"\")","v":""},{"$f":"IFERROR(IF($C$6=\"eQUEST\",IF('Results from eQUEST'!$I20=\"\",\"\",'Results from eQUEST'!$BJ20*0.1),IF($C$6=\"Trace\",IF(SUM('Results from Trace'!$P$6:$P$55)=0,\"\",SUMIFS('Results from Trace'!$P$6:$P$55,'Results from Trace'!$B$6:$B$55,\"Gas\")),\"\")),\"\")","v":""},{"$f":"IFERROR(IF($C$6=\"eQUEST\",\"\",IF($C$6=\"Trace\",IF(SUM('Results from Trace'!$P$6:$P$55)=0,\"\",SUMIFS('Results from Trace'!$P$6:$P$55,'Results from Trace'!$B$6:$B$55,\"Purchased Steam\")),\"\")),\"\")","v":""},{"$f":"IFERROR(IF($C$6=\"eQUEST\",\"\",IF($C$6=\"Trace\",IF(SUM('Results from Trace'!$P$6:$P$55)=0,\"\",SUMIFS('Results from Trace'!$P$6:$P$55,'Results from Trace'!$B$6:$B$55,\"Purchased Hot Water\")),\"\")),\"\")","v":""},{"$f":"IFERROR(IF($C$6=\"eQUEST\",\"\",IF($C$6=\"Trace\",IF(SUM('Results from Trace'!$P$6:$P$55)=0,\"\",SUMIFS('Results from Trace'!$P$6:$P$55,'Results from Trace'!$B$6:$B$55,\"Purchased Chilled Water\")),\"\")),\"\")","v":""},0,null,null,null,null,null,null,null,{"$f":"IFERROR(IF($C$6=\"eQUEST\",\"\",IF($C$6=\"Trace\",IF(SUM('Results from Trace'!$P$6:$P$55)=0,\"\",SUMIFS('Results from Trace'!$P$6:$P$55,'Results from Trace'!$B$6:$B$55,\"Oil\")),\"\")),\"\")","v":""}]
[1,null,null,13,{"$f":"IF('Measure Descriptions'!C19=0,\" \",'Measure Descriptions'!C19)","v":" "},null,null,{"$f":"IFERROR(IF($C$6=\"eQUEST\",IF('Results from eQUEST'!$I21=\"\",\"\",'Results from eQUEST'!$X21),IF($C$6=\"Trace\",IF(SUM('Results from Trace'!$Q$6:$Q$55)=0,\"\",SUMIFS('Results from Trace'!$Q$6:$Q$55,'Results from Trace'!$B$6:$B$55,\"Electricity\")/0.003412),\"\")),\"\")","v":""},{"$f":"IFERROR(IF($C$6=\"eQUEST\",IF('Results from eQUEST'!$I21=\"\",\"\",'Results from eQUEST'!$AW21),IF($C$6=\"Trace\",\"\",\"\")),\"\")","v":""},{"$f":"IFERROR(IF($C$6=\"eQUEST\",IF('Results from eQUEST'!$I21=\"\",\"\",'Results from eQUEST'!$BJ21*0.1),IF($C$6=\"Trace\",IF(SUM('Results from Trace'!$Q$6:$Q$55)=0,\"\",SUMIFS('Results from Trace'!$Q$6:$Q$55,'Results from Trace'!$B$6:$B$55,\"Gas\")),\"\")),\"\")","v":""},{"$f":"IFERROR(IF($C$6=\"eQUEST\",\"\",IF($C$6=\"Trace\",IF(SUM('Results from Trace'!$Q$6:$Q$55)=0,\"\",SUMIFS('Results from Trace'!$Q$6:$Q$55,'Results from Trace'!$B$6:$B$55,\"Purchased Steam\")),\"\")),\"\")","v":""},{"$f":"IFERROR(IF($C$6=\"eQUEST\",\"\",IF($C$6=\"Trace\",IF(SUM('Results from Trace'!$Q$6:$Q$55)=0,\"\",SUMIFS('Results from Trace'!$Q$6:$Q$55,'Results from Trace'!$B$6:$B$55,\"Purchased Hot Water\")),\"\")),\"\")","v":""},{"$f":"IFERROR(IF($C$6=\"eQUEST\",\"\",IF($C$6=\"Trace\",IF(SUM('Results from Trace'!$Q$6:$Q$55)=0,\"\",SUMIFS('Results from Trace'!$Q$6:$Q$55,'Results from Trace'!$B$6:$B$55,\"Purchased Chilled Water\")),\"\")),\"\")","v":""},0,null,null,null,null,null,null,null,{"$f":"IFERROR(IF($C$6=\"eQUEST\",\"\",IF($C$6=\"Trace\",IF(SUM('Results from Trace'!$Q$6:$Q$55)=0,\"\",SUMIFS('Results from Trace'!$Q$6:$Q$55,'Results from Trace'!$B$6:$B$55,\"Oil\")),\"\")),\"\")","v":""}]
[1,null,null,14,{"$f":"IF('Measure Descriptions'!C20=0,\" \",'Measure Descriptions'!C20)","v":" "},null,null,{"$f":"IFERROR(IF($C$6=\"eQUEST\",IF('Results from eQUEST'!$I22=\"\",\"\",'Results from eQUEST'!$X22),IF($C$6=\"Trace\",IF(SUM('Results from Trace'!$R$6:$R$55)=0,\"\",SUMIFS('Results from Trace'!$R$6:$R$55,'Results from Trace'!$B$6:$B$55,\"Electricity\")/0.003412),\"\")),\"\")","v":""},{"$f":"IFERROR(IF($C$6=\"eQUEST\",IF('Results from eQUEST'!$I22=\"\",\"\",'Results from eQUEST'!$AW22),IF($C$6=\"Trace\",\"\",\"\")),\"\")","v":""},{"$f":"IFERROR(IF($C$6=\"eQUEST\",IF('Results from eQUEST'!$I22=\"\",\"\",'Results from eQUEST'!$BJ22*0.1),IF($C$6=\"Trace\",IF(SUM('Results from Trace'!$R$6:$R$55)=0,\"\",SUMIFS('Results from Trace'!$R$6:$R$55,'Results from Trace'!$B$6:$B$55,\"Gas\")),\"\")),\"\")","v":""},{"$f":"IFERROR(IF($C$6=\"eQUEST\",\"\",IF($C$6=\"Trace\",IF(SUM('Results from Trace'!$R$6:$R$55)=0,\"\",SUMIFS('Results from Trace'!$R$6:$R$55,'Results from Trace'!$B$6:$B$55,\"Purchased Steam\")),\"\")),\"\")","v":""},{"$f":"IFERROR(IF($C$6=\"eQUEST\",\"\",IF($C$6=\"Trace\",IF(SUM('Results from Trace'!$R$6:$R$55)=0,\"\",SUMIFS('Results from Trace'!$R$6:$R$55,'Results from Trace'!$B$6:$B$55,\"Purchased Hot Water\")),\"\")),\"\")","v":""},{"$f":"IFERROR(IF($C$6=\"eQUEST\",\"\",IF($C$6=\"Trace\",IF(SUM('Results from Trace'!$R$6:$R$55)=0,\"\",SUMIFS('Results from Trace'!$R$6:$R$55,'Results from Trace'!$B$6:$B$55,\"Purchased Chilled Water\")),\"\")),\"\")","v":""},0,null,null,null,null,null,null,null,{"$f":"IFERROR(IF($C$6=\"eQUEST\",\"\",IF($C$6=\"Trace\",IF(SUM('Results from Trace'!$R$6:$R$55)=0,\"\",SUMIFS('Results from Trace'!$R$6:$R$55,'Results from Trace'!$B$6:$B$55,\"Oil\")),\"\")),\"\")","v":""}]
[1,null,null,15,{"$f":"IF('Measure Descriptions'!C21=0,\" \",'Measure Descriptions'!C21)","v":" "},null,null,{"$f":"IFERROR(IF($C$6=\"eQUEST\",IF('Results from eQUEST'!$I23=\"\",\"\",'Results from eQUEST'!$X23),IF($C$6=\"Trace\",IF(SUM('Results from Trace'!$S$6:$S$55)=0,\"\",SUMIFS('Results from Trace'!$S$6:$S$55,'Results from Trace'!$B$6:$B$55,\"Electricity\")/0.003412),\"\")),\"\")","v":""},{"$f":"IFERROR(IF($C$6=\"eQUEST\",IF('Results from eQUEST'!$I23=\"\",\"\",'Results from eQUEST'!$AW23),IF($C$6=\"Trace\",\"\",\"\")),\"\")","v":""},{"$f":"IFERROR(IF($C$6=\"eQUEST\",IF('Results from eQUEST'!$I23=\"\",\"\",'Results from eQUEST'!$BJ23*0.1),IF($C$6=\"Trace\",IF(SUM('Results from Trace'!$S$6:$S$55)=0,\"\",SUMIFS('Results from Trace'!$S$6:$S$55,'Results from Trace'!$B$6:$B$55,\"Gas\")),\"\")),\"\")","v":""},{"$f":"IFERROR(IF($C$6=\"eQUEST\",\"\",IF($C$6=\"Trace\",IF(SUM('Results from Trace'!$S$6:$S$55)=0,\"\",SUMIFS('Results from Trace'!$S$6:$S$55,'Results from Trace'!$B$6:$B$55,\"Purchased Steam\")),\"\")),\"\")","v":""},{"$f":"IFERROR(IF($C$6=\"eQUEST\",\"\",IF($C$6=\"Trace\",IF(SUM('Results from Trace'!$S$6:$S$55)=0,\"\",SUMIFS('Results from Trace'!$S$6:$S$55,'Results from Trace'!$B$6:$B$55,\"Purchased Hot Water\")),\"\")),\"\")","v":""},{"$f":"IFERROR(IF($C$6=\"eQUEST\",\"\",IF($C$6=\"Trace\",IF(SUM('Results from Trace'!$S$6:$S$55)=0,\"\",SUMIFS('Results from Trace'!$S$6:$S$55,'Results from Trace'!$B$6:$B$55,\"Purchased Chilled Water\")),\"\")),\"\")","v":""},0,null,null,null,null,null,null,null,{"$f":"IFERROR(IF($C$6=\"eQUEST\",\"\",IF($C$6=\"Trace\",IF(SUM('Results from Trace'!$S$6:$S$55)=0,\"\",SUMIFS('Results from Trace'!$S$6:$S$55,'Results from Trace'!$B$6:$B$55,\"Oil\")),\"\")),\"\")","v":""}]
[1,null,null,16,{"$f":"IF('Measure Descriptions'!C22=0,\" \",'Measure Descriptions'!C22)","v":" "},null,null,{"$f":"IFERROR(IF($C$6=\"eQUEST\",IF('Results from eQUEST'!$I24=\"\",\"\",'Results from eQUEST'!$X24),IF($C$6=\"Trace\",IF(SUM('Results from Trace'!$T$6:$T$55)=0,\"\",SUMIFS('Results from Trace'!$T$6:$T$55,'Results from Trace'!$B$6:$B$55,\"Electricity\")/0.003412),\"\")),\"\")","v":""},{"$f":"IFERROR(IF($C$6=\"eQUEST\",IF('Results from eQUEST'!$I24=\"\",\"\",'Results from eQUEST'!$AW24),IF($C$6=\"Trace\",\"\",\"\")),\"\")","v":""},{"$f":"IFERROR(IF($C$6=\"eQUEST\",IF('Results from eQUEST'!$I24=\"\",\"\",'Results from eQUEST'!$BJ24*0.1),IF($C$6=\"Trace\",IF(SUM('Results from Trace'!$T$6:$T$55)=0,\"\",SUMIFS('Results from Trace'!$T$6:$T$55,'Results from Trace'!$B$6:$B$55,\"Gas\")),\"\")),\"\")","v":""},{"$f":"IFERROR(IF($C$6=\"eQUEST\",\"\",IF($C$6=\"Trace\",IF(SUM('Results from Trace'!$T$6:$T$55)=0,\"\",SUMIFS('Results from Trace'!$T$6:$T$55,'Results from Trace'!$B$6:$B$55,\"Purchased Steam\")),\"\")),\"\")","v":""},{"$f":"IFERROR(IF($C$6=\"eQUEST\",\"\",IF($C$6=\"Trace\",IF(SUM('Results from Trace'!$T$6:$T$55)=0,\"\",SUMIFS('Results from Trace'!$T$6:$T$55,'Results from Trace'!$B$6:$B$55,\"Purchased Hot Water\")),\"\")),\"\")","v":""},{"$f":"IFERROR(IF($C$6=\"eQUEST\",\"\",IF($C$6=\"Trace\",IF(SUM('Results from Trace'!$T$6:$T$55)=0,\"\",SUMIFS('Results from Trace'!$T$6:$T$55,'Results from Trace'!$B$6:$B$55,\"Purchased Chilled Water\")),\"\")),\"\")","v":""},0,null,null,null,null,null,null,null,{"$f":"IFERROR(IF($C$6=\"eQUEST\",\"\",IF($C$6=\"Trace\",IF(SUM('Results from Trace'!$T$6:$T$55)=0,\"\",SUMIFS('Results from Trace'!$T$6:$T$55,'Results from Trace'!$B$6:$B$55,\"Oil\")),\"\")),\"\")","v":""}]
[1,null,null,17,{"$f":"IF('Measure Descriptions'!C23=0,\" \",'Measure Descriptions'!C23)","v":" "},null,null,{"$f":"IFERROR(IF($C$6=\"eQUEST\",IF('Results from eQUEST'!$I25=\"\",\"\",'Results from eQUEST'!$X25),IF($C$6=\"Trace\",IF(SUM('Results from Trace'!$U$6:$U$55)=0,\"\",SUMIFS('Results from Trace'!$U$6:$U$55,'Results from Trace'!$B$6:$B$55,\"Electricity\")/0.003412),\"\")),\"\")","v":""},{"$f":"IFERROR(IF($C$6=\"eQUEST\",IF('Results from eQUEST'!$I25=\"\",\"\",'Results from eQUEST'!$AW25),IF($C$6=\"Trace\",\"\",\"\")),\"\")","v":""},{"$f":"IFERROR(IF($C$6=\"eQUEST\",IF('Results from eQUEST'!$I25=\"\",\"\",'Results from eQUEST'!$BJ25*0.1),IF($C$6=\"Trace\",IF(SUM('Results from Trace'!$U$6:$U$55)=0,\"\",SUMIFS('Results from Trace'!$U$6:$U$55,'Results from Trace'!$B$6:$B$55,\"Gas\")),\"\")),\"\")","v":""},{"$f":"IFERROR(IF($C$6=\"eQUEST\",\"\",IF($C$6=\"Trace\",IF(SUM('Results from Trace'!$U$6:$U$55)=0,\"\",SUMIFS('Results from Trace'!$U$6:$U$55,'Results from Trace'!$B$6:$B$55,\"Purchased Steam\")),\"\")),\"\")","v":""},{"$f":"IFERROR(IF($C$6=\"eQUEST\",\"\",IF($C$6=\"Trace\",IF(SUM('Results from Trace'!$U$6:$U$55)=0,\"\",SUMIFS('Results from Trace'!$U$6:$U$55,'Results from Trace'!$B$6:$B$55,\"Purchased Hot Water\")),\"\")),\"\")","v":""},{"$f":"IFERROR(IF($C$6=\"eQUEST\",\"\",IF($C$6=\"Trace\",IF(SUM('Results from Trace'!$U$6:$U$55)=0,\"\",SUMIFS('Results from Trace'!$U$6:$U$55,'Results from Trace'!$B$6:$B$55,\"Purchased Chilled Water\")),\"\")),\"\")","v":""},0,null,null,null,null,null,null,null,{"$f":"IFERROR(IF($C$6=\"eQUEST\",\"\",IF($C$6=\"Trace\",IF(SUM('Results from Trace'!$U$6:$U$55)=0,\"\",SUMIFS('Results from Trace'!$U$6:$U$55,'Results from Trace'!$B$6:$B$55,\"Oil\")),\"\")),\"\")","v":""}]
[1,null,null,18,{"$f":"IF('Measure Descriptions'!C24=0,\" \",'Measure Descriptions'!C24)","v":" "},null,null,{"$f":"IFERROR(IF($C$6=\"eQUEST\",IF('Results from eQUEST'!$I26=\"\",\"\",'Results from eQUEST'!$X26),IF($C$6=\"Trace\",IF(SUM('Results from Trace'!$V$6:$V$55)=0,\"\",SUMIFS('Results from Trace'!$V$6:$V$55,'Results from Trace'!$B$6:$B$55,\"Electricity\")/0.003412),\"\")),\"\")","v":""},{"$f":"IFERROR(IF($C$6=\"eQUEST\",IF('Results from eQUEST'!$I26=\"\",\"\",'Results from eQUEST'!$AW26),IF($C$6=\"Trace\",\"\",\"\")),\"\")","v":""},{"$f":"IFERROR(IF($C$6=\"eQUEST\",IF('Results from eQUEST'!$I26=\"\",\"\",'Results from eQUEST'!$BJ26*0.1),IF($C$6=\"Trace\",IF(SUM('Results from Trace'!$V$6:$V$55)=0,\"\",SUMIFS('Results from Trace'!$V$6:$V$55,'Results from Trace'!$B$6:$B$55,\"Gas\")),\"\")),\"\")","v":""},{"$f":"IFERROR(IF($C$6=\"eQUEST\",\"\",IF($C$6=\"Trace\",IF(SUM('Results from Trace'!$V$6:$V$55)=0,\"\",SUMIFS('Results from Trace'!$V$6:$V$55,'Results from Trace'!$B$6:$B$55,\"Purchased Steam\")),\"\")),\"\")","v":""},{"$f":"IFERROR(IF($C$6=\"eQUEST\",\"\",IF($C$6=\"Trace\",IF(SUM('Results from Trace'!$V$6:$V$55)=0,\"\",SUMIFS('Results from Trace'!$V$6:$V$55,'Results from Trace'!$B$6:$B$55,\"Purchased Hot Water\")),\"\")),\"\")","v":""},{"$f":"IFERROR(IF($C$6=\"eQUEST\",\"\",IF($C$6=\"Trace\",IF(SUM('Results from Trace'!$V$6:$V$55)=0,\"\",SUMIFS('Results from Trace'!$V$6:$V$55,'Results from Trace'!$B$6:$B$55,\"Purchased Chilled Water\")),\"\")),\"\")","v":""},0,null,null,null,null,null,null,null,{"$f":"IFERROR(IF($C$6=\"eQUEST\",\"\",IF($C$6=\"Trace\",IF(SUM('Results from Trace'!$V$6:$V$55)=0,\"\",SUMIFS('Results from Trace'!$V$6:$V$55,'Results from Trace'!$B$6:$B$55,\"Oil\")),\"\")),\"\")","v":""}]
[1,null,null,19,{"$f":"IF('Measure Descriptions'!C25=0,\" \",'Measure Descriptions'!C25)","v":" "},null,null,{"$f":"IFERROR(IF($C$6=\"eQUEST\",IF('Results from eQUEST'!$I27=\"\",\"\",'Results from eQUEST'!$X27),IF($C$6=\"Trace\",IF(SUM('Results from Trace'!$W$6:$W$55)=0,\"\",SUMIFS('Results from Trace'!$W$6:$W$55,'Results from Trace'!$B$6:$B$55,\"Electricity\")/0.003412),\"\")),\"\")","v":""},{"$f":"IFERROR(IF($C$6=\"eQUEST\",IF('Results from eQUEST'!$I27=\"\",\"\",'Results from eQUEST'!$AW27),IF($C$6=\"Trace\",\"\",\"\")),\"\")","v":""},{"$f":"IFERROR(IF($C$6=\"eQUEST\",IF('Results from eQUEST'!$I27=\"\",\"\",'Results from eQUEST'!$BJ27*0.1),IF($C$6=\"Trace\",IF(SUM('Results from Trace'!$W$6:$W$55)=0,\"\",SUMIFS('Results from Trace'!$W$6:$W$55,'Results from Trace'!$B$6:$B$55,\"Gas\")),\"\")),\"\")","v":""},{"$f":"IFERROR(IF($C$6=\"eQUEST\",\"\",IF($C$6=\"Trace\",IF(SUM('Results from Trace'!$W$6:$W$55)=0,\"\",SUMIFS('Results from Trace'!$W$6:$W$55,'Results from Trace'!$B$6:$B$55,\"Purchased Steam\")),\"\")),\"\")","v":""},{"$f":"IFERROR(IF($C$6=\"eQUEST\",\"\",IF($C$6=\"Trace\",IF(SUM('Results from Trace'!$W$6:$W$55)=0,\"\",SUMIFS('Results from Trace'!$W$6:$W$55,'Results from Trace'!$B$6:$B$55,\"Purchased Hot Water\")),\"\")),\"\")","v":""},{"$f":"IFERROR(IF($C$6=\"eQUEST\",\"\",IF($C$6=\"Trace\",IF(SUM('Results from Trace'!$W$6:$W$55)=0,\"\",SUMIFS('Results from Trace'!$W$6:$W$55,'Results from Trace'!$B$6:$B$55,\"Purchased Chilled Water\")),\"\")),\"\")","v":""},0,null,null,null,null,null,null,null,{"$f":"IFERROR(IF($C$6=\"eQUEST\",\"\",IF($C$6=\"Trace\",IF(SUM('Results from Trace'!$W$6:$W$55)=0,\"\",SUMIFS('Results from Trace'!$W$6:$W$55,'Results from Trace'!$B$6:$B$55,\"Oil\")),\"\")),\"\")","v":""}]
[1,null,null,20,{"$f":"IF('Measure Descriptions'!C26=0,\" \",'Measure Descriptions'!C26)","v":" "},null,null,{"$f":"IFERROR(IF($C$6=\"eQUEST\",IF('Results from eQUEST'!$I28=\"\",\"\",'Results from eQUEST'!$X28),IF($C$6=\"Trace\",IF(SUM('Results from Trace'!$X$6:$X$55)=0,\"\",SUMIFS('Results from Trace'!$X$6:$X$55,'Results from Trace'!$B$6:$B$55,\"Electricity\")/0.003412),\"\")),\"\")","v":""},{"$f":"IFERROR(IF($C$6=\"eQUEST\",IF('Results from eQUEST'!$I28=\"\",\"\",'Results from eQUEST'!$AW28),IF($C$6=\"Trace\",\"\",\"\")),\"\")","v":""},{"$f":"IFERROR(IF($C$6=\"eQUEST\",IF('Results from eQUEST'!$I28=\"\",\"\",'Results from eQUEST'!$BJ28*0.1),IF($C$6=\"Trace\",IF(SUM('Results from Trace'!$X$6:$X$55)=0,\"\",SUMIFS('Results from Trace'!$X$6:$X$55,'Results from Trace'!$B$6:$B$55,\"Gas\")),\"\")),\"\")","v":""},{"$f":"IFERROR(IF($C$6=\"eQUEST\",\"\",IF($C$6=\"Trace\",IF(SUM('Results from Trace'!$X$6:$X$55)=0,\"\",SUMIFS('Results from Trace'!$X$6:$X$55,'Results from Trace'!$B$6:$B$55,\"Purchased Steam\")),\"\")),\"\")","v":""},{"$f":"IFERROR(IF($C$6=\"eQUEST\",\"\",IF($C$6=\"Trace\",IF(SUM('Results from Trace'!$X$6:$X$55)=0,\"\",SUMIFS('Results from Trace'!$X$6:$X$55,'Results from Trace'!$B$6:$B$55,\"Purchased Hot Water\")),\"\")),\"\")","v":""},{"$f":"IFERROR(IF($C$6=\"eQUEST\",\"\",IF($C$6=\"Trace\",IF(SUM('Results from Trace'!$X$6:$X$55)=0,\"\",SUMIFS('Results from Trace'!$X$6:$X$55,'Results from Trace'!$B$6:$B$55,\"Purchased Chilled Water\")),\"\")),\"\")","v":""},0,null,null,null,null,null,null,null,{"$f":"IFERROR(IF($C$6=\"eQUEST\",\"\",IF($C$6=\"Trace\",IF(SUM('Results from Trace'!$X$6:$X$55)=0,\"\",SUMIFS('Results from Trace'!$X$6:$X$55,'Results from Trace'!$B$6:$B$55,\"Oil\")),\"\")),\"\")","v":""}]
[1,null,null,21,{"$f":"IF('Measure Descriptions'!C27=0,\" \",'Measure Descriptions'!C27)","v":" "},null,null,{"$f":"IFERROR(IF($C$6=\"eQUEST\",IF('Results from eQUEST'!$I29=\"\",\"\",'Results from eQUEST'!$X29),IF($C$6=\"Trace\",IF(SUM('Results from Trace'!$Y$6:$Y$55)=0,\"\",SUMIFS('Results from Trace'!$Y$6:$Y$55,'Results from Trace'!$B$6:$B$55,\"Electricity\")/0.003412),\"\")),\"\")","v":""},{"$f":"IFERROR(IF($C$6=\"eQUEST\",IF('Results from eQUEST'!$I29=\"\",\"\",'Results from eQUEST'!$AW29),IF($C$6=\"Trace\",\"\",\"\")),\"\")","v":""},{"$f":"IFERROR(IF($C$6=\"eQUEST\",IF('Results from eQUEST'!$I29=\"\",\"\",'Results from eQUEST'!$BJ29*0.1),IF($C$6=\"Trace\",IF(SUM('Results from Trace'!$Y$6:$Y$55)=0,\"\",SUMIFS('Results from Trace'!$Y$6:$Y$55,'Results from Trace'!$B$6:$B$55,\"Gas\")),\"\")),\"\")","v":""},{"$f":"IFERROR(IF($C$6=\"eQUEST\",\"\",IF($C$6=\"Trace\",IF(SUM('Results from Trace'!$Y$6:$Y$55)=0,\"\",SUMIFS('Results from Trace'!$Y$6:$Y$55,'Results from Trace'!$B$6:$B$55,\"Purchased Steam\")),\"\")),\"\")","v":""},{"$f":"IFERROR(IF($C$6=\"eQUEST\",\"\",IF($C$6=\"Trace\",IF(SUM('Results from Trace'!$Y$6:$Y$55)=0,\"\",SUMIFS('Results from Trace'!$Y$6:$Y$55,'Results from Trace'!$B$6:$B$55,\"Purchased Hot Water\")),\"\")),\"\")","v":""},{"$f":"IFERROR(IF($C$6=\"eQUEST\",\"\",IF($C$6=\"Trace\",IF(SUM('Results from Trace'!$Y$6:$Y$55)=0,\"\",SUMIFS('Results from Trace'!$Y$6:$Y$55,'Results from Trace'!$B$6:$B$55,\"Purchased Chilled Water\")),\"\")),\"\")","v":""},0,null,null,null,null,null,null,null,{"$f":"IFERROR(IF($C$6=\"eQUEST\",\"\",IF($C$6=\"Trace\",IF(SUM('Results from Trace'!$Y$6:$Y$55)=0,\"\",SUMIFS('Results from Trace'!$Y$6:$Y$55,'Results from Trace'!$B$6:$B$55,\"Oil\")),\"\")),\"\")","v":""}]
[1,null,null,22,{"$f":"IF('Measure Descriptions'!C28=0,\" \",'Measure Descriptions'!C28)","v":" "},null,null,{"$f":"IFERROR(IF($C$6=\"eQUEST\",IF('Results from eQUEST'!$I30=\"\",\"\",'Results from eQUEST'!$X30),IF($C$6=\"Trace\",IF(SUM('Results from Trace'!$Z$6:$Z$55)=0,\"\",SUMIFS('Results from Trace'!$Z$6:$Z$55,'Results from Trace'!$B$6:$B$55,\"Electricity\")/0.003412),\"\")),\"\")","v":""},{"$f":"IFERROR(IF($C$6=\"eQUEST\",IF('Results from eQUEST'!$I30=\"\",\"\",'Results from eQUEST'!$AW30),IF($C$6=\"Trace\",\"\",\"\")),\"\")","v":""},{"$f":"IFERROR(IF($C$6=\"eQUEST\",IF('Results from eQUEST'!$I30=\"\",\"\",'Results from eQUEST'!$BJ30*0.1),IF($C$6=\"Trace\",IF(SUM('Results from Trace'!$Z$6:$Z$55)=0,\"\",SUMIFS('Results from Trace'!$Z$6:$Z$55,'Results from Trace'!$B$6:$B$55,\"Gas\")),\"\")),\"\")","v":""},{"$f":"IFERROR(IF($C$6=\"eQUEST\",\"\",IF($C$6=\"Trace\",IF(SUM('Results from Trace'!$Z$6:$Z$55)=0,\"\",SUMIFS('Results from Trace'!$Z$6:$Z$55,'Results from Trace'!$B$6:$B$55,\"Purchased Steam\")),\"\")),\"\")","v":""},{"$f":"IFERROR(IF($C$6=\"eQUEST\",\"\",IF($C$6=\"Trace\",IF(SUM('Results from Trace'!$Z$6:$Z$55)=0,\"\",SUMIFS('Results from Trace'!$Z$6:$Z$55,'Results from Trace'!$B$6:$B$55,\"Purchased Hot Water\")),\"\")),\"\")","v":""},{"$f":"IFERROR(IF($C$6=\"eQUEST\",\"\",IF($C$6=\"Trace\",IF(SUM('Results from Trace'!$Z$6:$Z$55)=0,\"\",SUMIFS('Results from Trace'!$Z$6:$Z$55,'Results from Trace'!$B$6:$B$55,\"Purchased Chilled Water\")),\"\")),\"\")","v":""},0,null,null,null,null,null,null,null,{"$f":"IFERROR(IF($C$6=\"eQUEST\",\"\",IF($C$6=\"Trace\",IF(SUM('Results from Trace'!$Z$6:$Z$55)=0,\"\",SUMIFS('Results from Trace'!$Z$6:$Z$55,'Results from Trace'!$B$6:$B$55,\"Oil\")),\"\")),\"\")","v":""}]
[1,null,null,23,{"$f":"IF('Measure Descriptions'!C29=0,\" \",'Measure Descriptions'!C29)","v":" "},null,null,{"$f":"IFERROR(IF($C$6=\"eQUEST\",IF('Results from eQUEST'!$I31=\"\",\"\",'Results from eQUEST'!$X31),IF($C$6=\"Trace\",IF(SUM('Results from Trace'!$AA$6:$AA$55)=0,\"\",SUMIFS('Results from Trace'!$AA$6:$AA$55,'Results from Trace'!$B$6:$B$55,\"Electricity\")/0.003412),\"\")),\"\")","v":""},{"$f":"IFERROR(IF($C$6=\"eQUEST\",IF('Results from eQUEST'!$I31=\"\",\"\",'Results from eQUEST'!$AW31),IF($C$6=\"Trace\",\"\",\"\")),\"\")","v":""},{"$f":"IFERROR(IF($C$6=\"eQUEST\",IF('Results from eQUEST'!$I31=\"\",\"\",'Results from eQUEST'!$BJ31*0.1),IF($C$6=\"Trace\",IF(SUM('Results from Trace'!$AA$6:$AA$55)=0,\"\",SUMIFS('Results from Trace'!$AA$6:$AA$55,'Results from Trace'!$B$6:$B$55,\"Gas\")),\"\")),\"\")","v":""},{"$f":"IFERROR(IF($C$6=\"eQUEST\",\"\",IF($C$6=\"Trace\",IF(SUM('Results from Trace'!$AA$6:$AA$55)=0,\"\",SUMIFS('Results from Trace'!$AA$6:$AA$55,'Results from Trace'!$B$6:$B$55,\"Purchased Steam\")),\"\")),\"\")","v":""},{"$f":"IFERROR(IF($C$6=\"eQUEST\",\"\",IF($C$6=\"Trace\",IF(SUM('Results from Trace'!$AA$6:$AA$55)=0,\"\",SUMIFS('Results from Trace'!$AA$6:$AA$55,'Results from Trace'!$B$6:$B$55,\"Purchased Hot Water\")),\"\")),\"\")","v":""},{"$f":"IFERROR(IF($C$6=\"eQUEST\",\"\",IF($C$6=\"Trace\",IF(SUM('Results from Trace'!$AA$6:$AA$55)=0,\"\",SUMIFS('Results from Trace'!$AA$6:$AA$55,'Results from Trace'!$B$6:$B$55,\"Purchased Chilled Water\")),\"\")),\"\")","v":""},0,null,null,null,null,null,null,null,{"$f":"IFERROR(IF($C$6=\"eQUEST\",\"\",IF($C$6=\"Trace\",IF(SUM('Results from Trace'!$AA$6:$AA$55)=0,\"\",SUMIFS('Results from Trace'!$AA$6:$AA$55,'Results from Trace'!$B$6:$B$55,\"Oil\")),\"\")),\"\")","v":""}]
[1,null,null,24,{"$f":"IF('Measure Descriptions'!C30=0,\" \",'Measure Descriptions'!C30)","v":" "},null,null,{"$f":"IFERROR(IF($C$6=\"eQUEST\",IF('Results from eQUEST'!$I32=\"\",\"\",'Results from eQUEST'!$X32),IF($C$6=\"Trace\",IF(SUM('Results from Trace'!$AB$6:$AB$55)=0,\"\",SUMIFS('Results from Trace'!$AB$6:$AB$55,'Results from Trace'!$B$6:$B$55,\"Electricity\")/0.003412),\"\")),\"\")","v":""},{"$f":"IFERROR(IF($C$6=\"eQUEST\",IF('Results from eQUEST'!$I32=\"\",\"\",'Results from eQUEST'!$AW32),IF($C$6=\"Trace\",\"\",\"\")),\"\")","v":""},{"$f":"IFERROR(IF($C$6=\"eQUEST\",IF('Results from eQUEST'!$I32=\"\",\"\",'Results from eQUEST'!$BJ32*0.1),IF($C$6=\"Trace\",IF(SUM('Results from Trace'!$AB$6:$AB$55)=0,\"\",SUMIFS('Results from Trace'!$AB$6:$AB$55,'Results from Trace'!$B$6:$B$55,\"Gas\")),\"\")),\"\")","v":""},{"$f":"IFERROR(IF($C$6=\"eQUEST\",\"\",IF($C$6=\"Trace\",IF(SUM('Results from Trace'!$AB$6:$AB$55)=0,\"\",SUMIFS('Results from Trace'!$AB$6:$AB$55,'Results from Trace'!$B$6:$B$55,\"Purchased Steam\")),\"\")),\"\")","v":""},{"$f":"IFERROR(IF($C$6=\"eQUEST\",\"\",IF($C$6=\"Trace\",IF(SUM('Results from Trace'!$AB$6:$AB$55)=0,\"\",SUMIFS('Results from Trace'!$AB$6:$AB$55,'Results from Trace'!$B$6:$B$55,\"Purchased Hot Water\")),\"\")),\"\")","v":""},{"$f":"IFERROR(IF($C$6=\"eQUEST\",\"\",IF($C$6=\"Trace\",IF(SUM('Results from Trace'!$AB$6:$AB$55)=0,\"\",SUMIFS('Results from Trace'!$AB$6:$AB$55,'Results from Trace'!$B$6:$B$55,\"Purchased Chilled Water\")),\"\")),\"\")","v":""},0,null,null,null,null,null,null,null,{"$f":"IFERROR(IF($C$6=\"eQUEST\",\"\",IF($C$6=\"Trace\",IF(SUM('Results from Trace'!$AB$6:$AB$55)=0,\"\",SUMIFS('Results from Trace'!$AB$6:$AB$55,'Results from Trace'!$B$6:$B$55,\"Oil\")),\"\")),\"\")","v":""}]
[1,null,null,25,{"$f":"IF('Measure Descriptions'!C31=0,\" \",'Measure Descriptions'!C31)","v":" "},null,null,{"$f":"IFERROR(IF($C$6=\"eQUEST\",IF('Results from eQUEST'!$I33=\"\",\"\",'Results from eQUEST'!$X33),IF($C$6=\"Trace\",IF(SUM('Results from Trace'!$AC$6:$AC$55)=0,\"\",SUMIFS('Results from Trace'!$AC$6:$AC$55,'Results from Trace'!$B$6:$B$55,\"Electricity\")/0.003412),\"\")),\"\")","v":""},{"$f":"IFERROR(IF($C$6=\"eQUEST\",IF('Results from eQUEST'!$I33=\"\",\"\",'Results from eQUEST'!$AW33),IF($C$6=\"Trace\",\"\",\"\")),\"\")","v":""},{"$f":"IFERROR(IF($C$6=\"eQUEST\",IF('Results from eQUEST'!$I33=\"\",\"\",'Results from eQUEST'!$BJ33*0.1),IF($C$6=\"Trace\",IF(SUM('Results from Trace'!$AC$6:$AC$55)=0,\"\",SUMIFS('Results from Trace'!$AC$6:$AC$55,'Results from Trace'!$B$6:$B$55,\"Gas\")),\"\")),\"\")","v":""},{"$f":"IFERROR(IF($C$6=\"eQUEST\",\"\",IF($C$6=\"Trace\",IF(SUM('Results from Trace'!$AC$6:$AC$55)=0,\"\",SUMIFS('Results from Trace'!$AC$6:$AC$55,'Results from Trace'!$B$6:$B$55,\"Purchased Steam\")),\"\")),\"\")","v":""},{"$f":"IFERROR(IF($C$6=\"eQUEST\",\"\",IF($C$6=\"Trace\",IF(SUM('Results from Trace'!$AC$6:$AC$55)=0,\"\",SUMIFS('Results from Trace'!$AC$6:$AC$55,'Results from Trace'!$B$6:$B$55,\"Purchased Hot Water\")),\"\")),\"\")","v":""},{"$f":"IFERROR(IF($C$6=\"eQUEST\",\"\",IF($C$6=\"Trace\",IF(SUM('Results from Trace'!$AC$6:$AC$55)=0,\"\",SUMIFS('Results from Trace'!$AC$6:$AC$55,'Results from Trace'!$B$6:$B$55,\"Purchased Chilled Water\")),\"\")),\"\")","v":""},0,null,null,null,null,null,null,null,{"$f":"IFERROR(IF($C$6=\"eQUEST\",\"\",IF($C$6=\"Trace\",IF(SUM('Results from Trace'!$AC$6:$AC$55)=0,\"\",SUMIFS('Results from Trace'!$AC$6:$AC$55,'Results from Trace'!$B$6:$B$55,\"Oil\")),\"\")),\"\")","v":""}]
[1]
[1]
[1,null,null,"Measure Name",null,"Installed Cost (incl. design)","Annual Energy Savings",null,null,null,null,null,null,"Demand Savings","Annual O&M Savings","Annual Cost Savings","Measure Life ","Simple Payback","Life Cycle Savings","IRR",null,null,null,null,null,"Cash Flow for IRR calculations"]
[1,"MMBTU Sum","Lighting Measure?",null,null,"$","kWh","Gas MMBtu","Steam MMBtu","HW MMBtu","CW MMBtu","Fuel Oil & Propane MMBtu","Other MMBtu","kW","$","$","years","years","$","%",null,null,null,null,null,"Year 0","Year 1","Year 2","Year 3","Year 4","Year 5","Year 6","Year 7","Year 8","Year 9","Year 10","Year 11","Year 12","Year 13","Year 14","Year 15","Year 16","Year 17","Year 18","Year 19","Year 20","Year 21","Year 22","Year 23","Year 24","Year 25","Year 26","Year 27","Year 28","Year 29","Year 30","Year 31","Year 32","Year 33","Year 34","Year 35","Year 36","Year 37","Year 38","Year 39","Year 40","IRR Estimate"]
[0,null,null,null,null,null,null,{"$f":"'Utility Use Summary'!G8","v":0},{"$f":"'Utility Use Summary'!M8","v":0},{"$f":"'Utility Use Summary'!Q8","v":0},{"$f":"'Utility Use Summary'!O8","v":0},{"$f":"SUM('Utility Use Summary'!I8+'Utility Use Summary'!K8)","v":0},{"$f":"'Utility Use Summary'!S8","v":0}]
[{"$f":"IF(E50=\" \",0,1)","v":0},{"$f":"SUM(H50:M50)","v":0},{"$f":"COUNTIF(P4Pindices!$A$36:$A$54,INDEX('Measure Descriptions'!$E$7:$E$31,MATCH('Measure Simulation'!E50,'Measure Descriptions'!$C$7:$C$31,0),1))","v":0},1,{"$f":"IF('Measure Descriptions'!C7=0,\" \",'Measure Descriptions'!C7)","v":" "},0,{"$f":"IF(H20=\"\",0, IF(F20=\"Simulation\",H18-H20,0))","v":0},{"$f":"IF(J20=\"\",0,IF(F20=\"Simulation\",J18-J20,0))","v":0},{"$f":"IF(K20=\"\",0,IF(F20=\"Simulation\",K18-K20,0))","v":0},{"$f":"IF(L20=\"\",0,IF(F20=\"Simulation\",L18-L20,0))","v":0},{"$f":"IF(M20=\"\",0,IF(F20=\"Simulation\",M18-M20,0))","v":0},{"$f":"IF(V20=\"\",0,IF(F20=\"Simulation\",N18-N20,0))","v":0},{"$f":"IF(O20=\"\",0,IF(F20=\"Simulation\",O18-O20,0))","v":0},{"$f":"IF(I20=\"\",0,IF(F20=\"Simulation\",I18-I20,0))","v":0},0,0,{"$f":"IF(P4Pindices!G24=\"\",0,P4Pindices!G24)","v":0},{"$f":"IF(P50=0,0,F50/P50)","v":0},{"$f":"-PV($AB$80,Q50,P50)-F50","v":0},{"$f":"IF(P50=0,0,IRR(Z50:BN50,BO50))","v":0},null,null,null,null,null,{"$f":"-F50","v":0},{"$f":"O50+P50","v":0},{"$f":"IF(COUNTIF(AA50,O50+P50)<Q50,O50+P50,0)","v":0},{"$f":"IF(COUNTIF($AA50:AB50,$O50+$P50)<$Q50,$O50+$P50,0)","v":0},{"$f":"IF(COUNTIF($AA50:AC50,$O50+$P50)<$Q50,$O50+$P50,0)","v":0},{"$f":"IF(COUNTIF($AA50:AD50,$O50+$P50)<$Q50,$O50+$P50,0)","v":0},{"$f":"IF(COUNTIF($AA50:AE50,$O50+$P50)<$Q50,$O50+$P50,0)","v":0},{"$f":"IF(COUNTIF($AA50:AF50,$O50+$P50)<$Q50,$O50+$P50,0)","v":0},{"$f":"IF(COUNTIF($AA50:AG50,$O50+$P50)<$Q50,$O50+$P50,0)","v":0},{"$f":"IF(COUNTIF($AA50:AH50,$O50+$P50)<$Q50,$O50+$P50,0)","v":0},{"$f":"IF(COUNTIF($AA50:AI50,$O50+$P50)<$Q50,$O50+$P50,0)","v":0},{"$f":"IF(COUNTIF($AA50:AJ50,$O50+$P50)<$Q50,$O50+$P50,0)","v":0},{"$f":"IF(COUNTIF($AA50:AK50,$O50+$P50)<$Q50,$O50+$P50,0)","v":0},{"$f":"IF(COUNTIF($AA50:AL50,$O50+$P50)<$Q50,$O50+$P50,0)","v":0},{"$f":"IF(COUNTIF($AA50:AM50,$O50+$P50)<$Q50,$O50+$P50,0)","v":0},{"$f":"IF(COUNTIF($AA50:AN50,$O50+$P50)<$Q50,$O50+$P50,0)","v":0},{"$f":"IF(COUNTIF($AA50:AO50,$O50+$P50)<$Q50,$O50+$P50,0)","v":0},{"$f":"IF(COUNTIF($AA50:AP50,$O50+$P50)<$Q50,$O50+$P50,0)","v":0},{"$f":"IF(COUNTIF($AA50:AQ50,$O50+$P50)<$Q50,$O50+$P50,0)","v":0},{"$f":"IF(COUNTIF($AA50:AR50,$O50+$P50)<$Q50,$O50+$P50,0)","v":0},{"$f":"IF(COUNTIF($AA50:AS50,$O50+$P50)<$Q50,$O50+$P50,0)","v":0},{"$f":"IF(COUNTIF($AA50:AT50,$O50+$P50)<$Q50,$O50+$P50,0)","v":0},{"$f":"IF(COUNTIF($AA50:AU50,$O50+$P50)<$Q50,$O50+$P50,0)","v":0},{"$f":"IF(COUNTIF($AA50:AV50,$O50+$P50)<$Q50,$O50+$P50,0)","v":0},{"$f":"IF(COUNTIF($AA50:AW50,$O50+$P50)<$Q50,$O50+$P50,0)","v":0},{"$f":"IF(COUNTIF($AA50:AX50,$O50+$P50)<$Q50,$O50+$P50,0)","v":0},{"$f":"IF(COUNTIF($AA50:AY50,$O50+$P50)<$Q50,$O50+$P50,0)","v":0},{"$f":"IF(COUNTIF($AA50:AZ50,$O50+$P50)<$Q50,$O50+$P50,0)","v":0},{"$f":"IF(COUNTIF($AA50:BA50,$O50+$P50)<$Q50,$O50+$P50,0)","v":0},{"$f":"IF(COUNTIF($AA50:BB50,$O50+$P50)<$Q50,$O50+$P50,0)","v":0},{"$f":"IF(COUNTIF($AA50:BC50,$O50+$P50)<$Q50,$O50+$P50,0)","v":0},{"$f":"IF(COUNTIF($AA50:BD50,$O50+$P50)<$Q50,$O50+$P50,0)","v":0},{"$f":"IF(COUNTIF($AA50:BE50,$O50+$P50)<$Q50,$O50+$P50,0)","v":0},{"$f":"IF(COUNTIF($AA50:BF50,$O50+$P50)<$Q50,$O50+$P50,0)","v":0},{"$f":"IF(COUNTIF($AA50:BG50,$O50+$P50)<$Q50,$O50+$P50,0)","v":0},{"$f":"IF(COUNTIF($AA50:BH50,$O50+$P50)<$Q50,$O50+$P50,0)","v":0},{"$f":"IF(COUNTIF($AA50:BI50,$O50+$P50)<$Q50,$O50+$P50,0)","v":0},{"$f":"IF(COUNTIF($AA50:BJ50,$O50+$P50)<$Q50,$O50+$P50,0)","v":0},{"$f":"IF(COUNTIF($AA50:BK50,$O50+$P50)<$Q50,$O50+$P50,0)","v":0},{"$f":"IF(COUNTIF($AA50:BL50,$O50+$P50)<$Q50,$O50+$P50,0)","v":0},{"$f":"IF(COUNTIF($AA50:BM50,$O50+$P50)<$Q50,$O50+$P50,0)","v":0},{"$f":"IF(P50*Q50>F50,0.3,-0.3)","v":-0.3}]
[{"$f":"IF(E51=\" \",0,1)","v":0},{"$f":"SUM(H51:M51)","v":0},{"$f":"COUNTIF(P4Pindices!$A$36:$A$54,INDEX('Measure Descriptions'!$E$7:$E$31,MATCH('Measure Simulation'!E51,'Measure Descriptions'!$C$7:$C$31,0),1))","v":0},2,{"$f":"IF('Measure Descriptions'!C8=0,\" \",'Measure Descriptions'!C8)","v":" "},0,{"$f":"IF(H21=\"\",0,IF(F21=\"Simulation\",H20-H21,0))","v":0},{"$f":"IF(J21=\"\",0,IF(F21=\"Simulation\",J20-J21,0))","v":0},{"$f":"IF(K21=\"\",0,IF(F21=\"Simulation\",K20-K21,0))","v":0},{"$f":"IF(L21=\"\",0,IF(F21=\"Simulation\",L20-L21,0))","v":0},{"$f":"IF(M21=\"\",0,IF(F21=\"Simulation\",M20-M21,0))","v":0},{"$f":"IF(V21=\"\",0,IF(F21=\"Simulation\",N20-N21,0))","v":0},{"$f":"IF(O21=\"\",0,IF(F21=\"Simulation\",O20-O21,0))","v":0},{"$f":"IF(I21=\"\",0,IF(F21=\"Simulation\",I20-I21,0))","v":0},0,0,{"$f":"IF(P4Pindices!G25=\"\",0,P4Pindices!G25)","v":0},0,0,{"$f":"IF(P51=0,0,IRR(Z51:BN51,BO51))","v":0},null,null,null,null,null,0,{"$f":"O51+P51","v":0},{"$f":"IF(COUNTIF(AA51,O51+P51)<Q51,O51+P51,0)","v":0},{"$f":"IF(COUNTIF($AA51:AB51,$O51+$P51)<$Q51,$O51+$P51,0)","v":0},{"$f":"IF(COUNTIF($AA51:AC51,$O51+$P51)<$Q51,$O51+$P51,0)","v":0},{"$f":"IF(COUNTIF($AA51:AD51,$O51+$P51)<$Q51,$O51+$P51,0)","v":0},{"$f":"IF(COUNTIF($AA51:AE51,$O51+$P51)<$Q51,$O51+$P51,0)","v":0},{"$f":"IF(COUNTIF($AA51:AF51,$O51+$P51)<$Q51,$O51+$P51,0)","v":0},{"$f":"IF(COUNTIF($AA51:AG51,$O51+$P51)<$Q51,$O51+$P51,0)","v":0},{"$f":"IF(COUNTIF($AA51:AH51,$O51+$P51)<$Q51,$O51+$P51,0)","v":0},{"$f":"IF(COUNTIF($AA51:AI51,$O51+$P51)<$Q51,$O51+$P51,0)","v":0},{"$f":"IF(COUNTIF($AA51:AJ51,$O51+$P51)<$Q51,$O51+$P51,0)","v":0},{"$f":"IF(COUNTIF($AA51:AK51,$O51+$P51)<$Q51,$O51+$P51,0)","v":0},{"$f":"IF(COUNTIF($AA51:AL51,$O51+$P51)<$Q51,$O51+$P51,0)","v":0},{"$f":"IF(COUNTIF($AA51:AM51,$O51+$P51)<$Q51,$O51+$P51,0)","v":0},{"$f":"IF(COUNTIF($AA51:AN51,$O51+$P51)<$Q51,$O51+$P51,0)","v":0},{"$f":"IF(COUNTIF($AA51:AO51,$O51+$P51)<$Q51,$O51+$P51,0)","v":0},{"$f":"IF(COUNTIF($AA51:AP51,$O51+$P51)<$Q51,$O51+$P51,0)","v":0},{"$f":"IF(COUNTIF($AA51:AQ51,$O51+$P51)<$Q51,$O51+$P51,0)","v":0},{"$f":"IF(COUNTIF($AA51:AR51,$O51+$P51)<$Q51,$O51+$P51,0)","v":0},{"$f":"IF(COUNTIF($AA51:AS51,$O51+$P51)<$Q51,$O51+$P51,0)","v":0},{"$f":"IF(COUNTIF($AA51:AT51,$O51+$P51)<$Q51,$O51+$P51,0)","v":0},{"$f":"IF(COUNTIF($AA51:AU51,$O51+$P51)<$Q51,$O51+$P51,0)","v":0},{"$f":"IF(COUNTIF($AA51:AV51,$O51+$P51)<$Q51,$O51+$P51,0)","v":0},{"$f":"IF(COUNTIF($AA51:AW51,$O51+$P51)<$Q51,$O51+$P51,0)","v":0},{"$f":"IF(COUNTIF($AA51:AX51,$O51+$P51)<$Q51,$O51+$P51,0)","v":0},{"$f":"IF(COUNTIF($AA51:AY51,$O51+$P51)<$Q51,$O51+$P51,0)","v":0},{"$f":"IF(COUNTIF($AA51:AZ51,$O51+$P51)<$Q51,$O51+$P51,0)","v":0},{"$f":"IF(COUNTIF($AA51:BA51,$O51+$P51)<$Q51,$O51+$P51,0)","v":0},{"$f":"IF(COUNTIF($AA51:BB51,$O51+$P51)<$Q51,$O51+$P51,0)","v":0},{"$f":"IF(COUNTIF($AA51:BC51,$O51+$P51)<$Q51,$O51+$P51,0)","v":0},{"$f":"IF(COUNTIF($AA51:BD51,$O51+$P51)<$Q51,$O51+$P51,0)","v":0},{"$f":"IF(COUNTIF($AA51:BE51,$O51+$P51)<$Q51,$O51+$P51,0)","v":0},{"$f":"IF(COUNTIF($AA51:BF51,$O51+$P51)<$Q51,$O51+$P51,0)","v":0},{"$f":"IF(COUNTIF($AA51:BG51,$O51+$P51)<$Q51,$O51+$P51,0)","v":0},{"$f":"IF(COUNTIF($AA51:BH51,$O51+$P51)<$Q51,$O51+$P51,0)","v":0},{"$f":"IF(COUNTIF($AA51:BI51,$O51+$P51)<$Q51,$O51+$P51,0)","v":0},{"$f":"IF(COUNTIF($AA51:BJ51,$O51+$P51)<$Q51,$O51+$P51,0)","v":0},{"$f":"IF(COUNTIF($AA51:BK51,$O51+$P51)<$Q51,$O51+$P51,0)","v":0},{"$f":"IF(COUNTIF($AA51:BL51,$O51+$P51)<$Q51,$O51+$P51,0)","v":0},{"$f":"IF(COUNTIF($AA51:BM51,$O51+$P51)<$Q51,$O51+$P51,0)","v":0},-0.3]
[0,0,{"$f":"COUNTIF(P4Pindices!$A$36:$A$54,INDEX('Measure Descriptions'!$E$7:$E$31,MATCH('Measure Simulation'!E52,'Measure Descriptions'!$C$7:$C$31,0),1))","v":0},3,{"$f":"IF('Measure Descriptions'!C9=0,\" \",'Measure Descriptions'!C9)","v":" "},0,{"$f":"IF(H22=\"\",0,IF(F22=\"Simulation\",H21-H22,0))","v":0},{"$f":"IF(J22=\"\",0,IF(F22=\"Simulation\",J21-J22,0))","v":0},{"$f":"IF(K22=\"\",0,IF(F22=\"Simulation\",K21-K22,0))","v":0},{"$f":"IF(L22=\"\",0,IF(F22=\"Simulation\",L21-L22,0))","v":0},{"$f":"IF(M22=\"\",0,IF(F22=\"Simulation\",M21-M22,0))","v":0},0,{"$f":"IF(O22=\"\",0,IF(F22=\"Simulation\",O21-O22,0))","v":0},{"$f":"IF(I22=\"\",0,IF(F22=\"Simulation\",I21-I22,0))","v":0},0,0,{"$f":"IF(P4Pindices!G26=\"\",0,P4Pindices!G26)","v":0},0,0,{"$f":"IF(P52=0,0,IRR(Z52:BN52,BO52))","v":0},null,null,null,null,null,0,0,0,{"$f":"IF(COUNTIF($AA52:AB52,$O52+$P52)<$Q52,$O52+$P52,0)","v":0},{"$f":"IF(COUNTIF($AA52:AC52,$O52+$P52)<$Q52,$O52+$P52,0)","v":0},{"$f":"IF(COUNTIF($AA52:AD52,$O52+$P52)<$Q52,$O52+$P52,0)","v":0},{"$f":"IF(COUNTIF($AA52:AE52,$O52+$P52)<$Q52,$O52+$P52,0)","v":0},{"$f":"IF(COUNTIF($AA52:AF52,$O52+$P52)<$Q52,$O52+$P52,0)","v":0},{"$f":"IF(COUNTIF($AA52:AG52,$O52+$P52)<$Q52,$O52+$P52,0)","v":0},{"$f":"IF(COUNTIF($AA52:AH52,$O52+$P52)<$Q52,$O52+$P52,0)","v":0},{"$f":"IF(COUNTIF($AA52:AI52,$O52+$P52)<$Q52,$O52+$P52,0)","v":0},{"$f":"IF(COUNTIF($AA52:AJ52,$O52+$P52)<$Q52,$O52+$P52,0)","v":0},{"$f":"IF(COUNTIF($AA52:AK52,$O52+$P52)<$Q52,$O52+$P52,0)","v":0},{"$f":"IF(COUNTIF($AA52:AL52,$O52+$P52)<$Q52,$O52+$P52,0)","v":0},{"$f":"IF(COUNTIF($AA52:AM52,$O52+$P52)<$Q52,$O52+$P52,0)","v":0},{"$f":"IF(COUNTIF($AA52:AN52,$O52+$P52)<$Q52,$O52+$P52,0)","v":0},{"$f":"IF(COUNTIF($AA52:AO52,$O52+$P52)<$Q52,$O52+$P52,0)","v":0},{"$f":"IF(COUNTIF($AA52:AP52,$O52+$P52)<$Q52,$O52+$P52,0)","v":0},{"$f":"IF(COUNTIF($AA52:AQ52,$O52+$P52)<$Q52,$O52+$P52,0)","v":0},{"$f":"IF(COUNTIF($AA52:AR52,$O52+$P52)<$Q52,$O52+$P52,0)","v":0},{"$f":"IF(COUNTIF($AA52:AS52,$O52+$P52)<$Q52,$O52+$P52,0)","v":0},{"$f":"IF(COUNTIF($AA52:AT52,$O52+$P52)<$Q52,$O52+$P52,0)","v":0},{"$f":"IF(COUNTIF($AA52:AU52,$O52+$P52)<$Q52,$O52+$P52,0)","v":0},{"$f":"IF(COUNTIF($AA52:AV52,$O52+$P52)<$Q52,$O52+$P52,0)","v":0},{"$f":"IF(COUNTIF($AA52:AW52,$O52+$P52)<$Q52,$O52+$P52,0)","v":0},{"$f":"IF(COUNTIF($AA52:AX52,$O52+$P52)<$Q52,$O52+$P52,0)","v":0},{"$f":"IF(COUNTIF($AA52:AY52,$O52+$P52)<$Q52,$O52+$P52,0)","v":0},{"$f":"IF(COUNTIF($AA52:AZ52,$O52+$P52)<$Q52,$O52+$P52,0)","v":0},{"$f":"IF(COUNTIF($AA52:BA52,$O52+$P52)<$Q52,$O52+$P52,0)","v":0},{"$f":"IF(COUNTIF($AA52:BB52,$O52+$P52)<$Q52,$O52+$P52,0)","v":0},{"$f":"IF(COUNTIF($AA52:BC52,$O52+$P52)<$Q52,$O52+$P52,0)","v":0},{"$f":"IF(COUNTIF($AA52:BD52,$O52+$P52)<$Q52,$O52+$P52,0)","v":0},{"$f":"IF(COUNTIF($AA52:BE52,$O52+$P52)<$Q52,$O52+$P52,0)","v":0},{"$f":"IF(COUNTIF($AA52:BF52,$O52+$P52)<$Q52,$O52+$P52,0)","v":0},{"$f":"IF(COUNTIF($AA52:BG52,$O52+$P52)<$Q52,$O52+$P52,0)","v":0},{"$f":"IF(COUNTIF($AA52:BH52,$O52+$P52)<$Q52,$O52+$P52,0)","v":0},{"$f":"IF(COUNTIF($AA52:BI52,$O52+$P52)<$Q52,$O52+$P52,0)","v":0},{"$f":"IF(COUNTIF($AA52:BJ52,$O52+$P52)<$Q52,$O52+$P52,0)","v":0},{"$f":"IF(COUNTIF($AA52:BK52,$O52+$P52)<$Q52,$O52+$P52,0)","v":0},{"$f":"IF(COUNTIF($AA52:BL52,$O52+$P52)<$Q52,$O52+$P52,0)","v":0},{"$f":"IF(COUNTIF($AA52:BM52,$O52+$P52)<$Q52,$O52+$P52,0)","v":0},-0.3]
[0,0,{"$f":"COUNTIF(P4Pindices!$A$36:$A$54,INDEX('Measure Descriptions'!$E$7:$E$31,MATCH('Measure Simulation'!E53,'Measure Descriptions'!$C$7:$C$31,0),1))","v":0},4,{"$f":"IF('Measure Descriptions'!C10=0,\" \",'Measure Descriptions'!C10)","v":" "},0,{"$f":"IF(H23=\"\",0,IF(F23=\"Simulation\",H22-H23,0))","v":0},0,0,0,0,0,0,0,0,0,{"$f":"IF(P4Pindices!G27=\"\",0,P4Pindices!G27)","v":0},0,0,0,null,null,null,null,null,0,0,0,{"$f":"IF(COUNTIF($AA53:AB53,$O53+$P53)<$Q53,$O53+$P53,0)","v":0},{"$f":"IF(COUNTIF($AA53:AC53,$O53+$P53)<$Q53,$O53+$P53,0)","v":0},{"$f":"IF(COUNTIF($AA53:AD53,$O53+$P53)<$Q53,$O53+$P53,0)","v":0},{"$f":"IF(COUNTIF($AA53:AE53,$O53+$P53)<$Q53,$O53+$P53,0)","v":0},{"$f":"IF(COUNTIF($AA53:AF53,$O53+$P53)<$Q53,$O53+$P53,0)","v":0},{"$f":"IF(COUNTIF($AA53:AG53,$O53+$P53)<$Q53,$O53+$P53,0)","v":0},{"$f":"IF(COUNTIF($AA53:AH53,$O53+$P53)<$Q53,$O53+$P53,0)","v":0},{"$f":"IF(COUNTIF($AA53:AI53,$O53+$P53)<$Q53,$O53+$P53,0)","v":0},{"$f":"IF(COUNTIF($AA53:AJ53,$O53+$P53)<$Q53,$O53+$P53,0)","v":0},{"$f":"IF(COUNTIF($AA53:AK53,$O53+$P53)<$Q53,$O53+$P53,0)","v":0},{"$f":"IF(COUNTIF($AA53:AL53,$O53+$P53)<$Q53,$O53+$P53,0)","v":0},{"$f":"IF(COUNTIF($AA53:AM53,$O53+$P53)<$Q53,$O53+$P53,0)","v":0},{"$f":"IF(COUNTIF($AA53:AN53,$O53+$P53)<$Q53,$O53+$P53,0)","v":0},{"$f":"IF(COUNTIF($AA53:AO53,$O53+$P53)<$Q53,$O53+$P53,0)","v":0},{"$f":"IF(COUNTIF($AA53:AP53,$O53+$P53)<$Q53,$O53+$P53,0)","v":0},{"$f":"IF(COUNTIF($AA53:AQ53,$O53+$P53)<$Q53,$O53+$P53,0)","v":0},{"$f":"IF(COUNTIF($AA53:AR53,$O53+$P53)<$Q53,$O53+$P53,0)","v":0},{"$f":"IF(COUNTIF($AA53:AS53,$O53+$P53)<$Q53,$O53+$P53,0)","v":0},{"$f":"IF(COUNTIF($AA53:AT53,$O53+$P53)<$Q53,$O53+$P53,0)","v":0},{"$f":"IF(COUNTIF($AA53:AU53,$O53+$P53)<$Q53,$O53+$P53,0)","v":0},{"$f":"IF(COUNTIF($AA53:AV53,$O53+$P53)<$Q53,$O53+$P53,0)","v":0},{"$f":"IF(COUNTIF($AA53:AW53,$O53+$P53)<$Q53,$O53+$P53,0)","v":0},{"$f":"IF(COUNTIF($AA53:AX53,$O53+$P53)<$Q53,$O53+$P53,0)","v":0},{"$f":"IF(COUNTIF($AA53:AY53,$O53+$P53)<$Q53,$O53+$P53,0)","v":0},{"$f":"IF(COUNTIF($AA53:AZ53,$O53+$P53)<$Q53,$O53+$P53,0)","v":0},{"$f":"IF(COUNTIF($AA53:BA53,$O53+$P53)<$Q53,$O53+$P53,0)","v":0},{"$f":"IF(COUNTIF($AA53:BB53,$O53+$P53)<$Q53,$O53+$P53,0)","v":0},{"$f":"IF(COUNTIF($AA53:BC53,$O53+$P53)<$Q53,$O53+$P53,0)","v":0},{"$f":"IF(COUNTIF($AA53:BD53,$O53+$P53)<$Q53,$O53+$P53,0)","v":0},{"$f":"IF(COUNTIF($AA53:BE53,$O53+$P53)<$Q53,$O53+$P53,0)","v":0},{"$f":"IF(COUNTIF($AA53:BF53,$O53+$P53)<$Q53,$O53+$P53,0)","v":0},{"$f":"IF(COUNTIF($AA53:BG53,$O53+$P53)<$Q53,$O53+$P53,0)","v":0},{"$f":"IF(COUNTIF($AA53:BH53,$O53+$P53)<$Q53,$O53+$P53,0)","v":0},{"$f":"IF(COUNTIF($AA53:BI53,$O53+$P53)<$Q53,$O53+$P53,0)","v":0},{"$f":"IF(COUNTIF($AA53:BJ53,$O53+$P53)<$Q53,$O53+$P53,0)","v":0},{"$f":"IF(COUNTIF($AA53:BK53,$O53+$P53)<$Q53,$O53+$P53,0)","v":0},{"$f":"IF(COUNTIF($AA53:BL53,$O53+$P53)<$Q53,$O53+$P53,0)","v":0},{"$f":"IF(COUNTIF($AA53:BM53,$O53+$P53)<$Q53,$O53+$P53,0)","v":0},-0.3]
[0,0,{"$f":"COUNTIF(P4Pindices!$A$36:$A$54,INDEX('Measure Descriptions'!$E$7:$E$31,MATCH('Measure Simulation'!E54,'Measure Descriptions'!$C$7:$C$31,0),1))","v":0},5,{"$f":"IF('Measure Descriptions'!C11=0,\" \",'Measure Descriptions'!C11)","v":" "},0,0,0,0,0,0,0,0,0,0,0,{"$f":"IF(P4Pindices!G28=\"\",0,P4Pindices!G28)","v":0},0,0,0,null,null,null,null,null,0,0,0,{"$f":"IF(COUNTIF($AA54:AB54,$O54+$P54)<$Q54,$O54+$P54,0)","v":0},{"$f":"IF(COUNTIF($AA54:AC54,$O54+$P54)<$Q54,$O54+$P54,0)","v":0},{"$f":"IF(COUNTIF($AA54:AD54,$O54+$P54)<$Q54,$O54+$P54,0)","v":0},{"$f":"IF(COUNTIF($AA54:AE54,$O54+$P54)<$Q54,$O54+$P54,0)","v":0},{"$f":"IF(COUNTIF($AA54:AF54,$O54+$P54)<$Q54,$O54+$P54,0)","v":0},{"$f":"IF(COUNTIF($AA54:AG54,$O54+$P54)<$Q54,$O54+$P54,0)","v":0},{"$f":"IF(COUNTIF($AA54:AH54,$O54+$P54)<$Q54,$O54+$P54,0)","v":0},{"$f":"IF(COUNTIF($AA54:AI54,$O54+$P54)<$Q54,$O54+$P54,0)","v":0},{"$f":"IF(COUNTIF($AA54:AJ54,$O54+$P54)<$Q54,$O54+$P54,0)","v":0},{"$f":"IF(COUNTIF($AA54:AK54,$O54+$P54)<$Q54,$O54+$P54,0)","v":0},{"$f":"IF(COUNTIF($AA54:AL54,$O54+$P54)<$Q54,$O54+$P54,0)","v":0},{"$f":"IF(COUNTIF($AA54:AM54,$O54+$P54)<$Q54,$O54+$P54,0)","v":0},{"$f":"IF(COUNTIF($AA54:AN54,$O54+$P54)<$Q54,$O54+$P54,0)","v":0},{"$f":"IF(COUNTIF($AA54:AO54,$O54+$P54)<$Q54,$O54+$P54,0)","v":0},{"$f":"IF(COUNTIF($AA54:AP54,$O54+$P54)<$Q54,$O54+$P54,0)","v":0},{"$f":"IF(COUNTIF($AA54:AQ54,$O54+$P54)<$Q54,$O54+$P54,0)","v":0},{"$f":"IF(COUNTIF($AA54:AR54,$O54+$P54)<$Q54,$O54+$P54,0)","v":0},{"$f":"IF(COUNTIF($AA54:AS54,$O54+$P54)<$Q54,$O54+$P54,0)","v":0},{"$f":"IF(COUNTIF($AA54:AT54,$O54+$P54)<$Q54,$O54+$P54,0)","v":0},{"$f":"IF(COUNTIF($AA54:AU54,$O54+$P54)<$Q54,$O54+$P54,0)","v":0},{"$f":"IF(COUNTIF($AA54:AV54,$O54+$P54)<$Q54,$O54+$P54,0)","v":0},{"$f":"IF(COUNTIF($AA54:AW54,$O54+$P54)<$Q54,$O54+$P54,0)","v":0},{"$f":"IF(COUNTIF($AA54:AX54,$O54+$P54)<$Q54,$O54+$P54,0)","v":0},{"$f":"IF(COUNTIF($AA54:AY54,$O54+$P54)<$Q54,$O54+$P54,0)","v":0},{"$f":"IF(COUNTIF($AA54:AZ54,$O54+$P54)<$Q54,$O54+$P54,0)","v":0},{"$f":"IF(COUNTIF($AA54:BA54,$O54+$P54)<$Q54,$O54+$P54,0)","v":0},{"$f":"IF(COUNTIF($AA54:BB54,$O54+$P54)<$Q54,$O54+$P54,0)","v":0},{"$f":"IF(COUNTIF($AA54:BC54,$O54+$P54)<$Q54,$O54+$P54,0)","v":0},{"$f":"IF(COUNTIF($AA54:BD54,$O54+$P54)<$Q54,$O54+$P54,0)","v":0},{"$f":"IF(COUNTIF($AA54:BE54,$O54+$P54)<$Q54,$O54+$P54,0)","v":0},{"$f":"IF(COUNTIF($AA54:BF54,$O54+$P54)<$Q54,$O54+$P54,0)","v":0},{"$f":"IF(COUNTIF($AA54:BG54,$O54+$P54)<$Q54,$O54+$P54,0)","v":0},{"$f":"IF(COUNTIF($AA54:BH54,$O54+$P54)<$Q54,$O54+$P54,0)","v":0},{"$f":"IF(COUNTIF($AA54:BI54,$O54+$P54)<$Q54,$O54+$P54,0)","v":0},{"$f":"IF(COUNTIF($AA54:BJ54,$O54+$P54)<$Q54,$O54+$P54,0)","v":0},{"$f":"IF(COUNTIF($AA54:BK54,$O54+$P54)<$Q54,$O54+$P54,0)","v":0},{"$f":"IF(COUNTIF($AA54:BL54,$O54+$P54)<$Q54,$O54+$P54,0)","v":0},{"$f":"IF(COUNTIF($AA54:BM54,$O54+$P54)<$Q54,$O54+$P54,0)","v":0},-0.3]
[0,0,{"$f":"COUNTIF(P4Pindices!$A$36:$A$54,INDEX('Measure Descriptions'!$E$7:$E$31,MATCH('Measure Simulation'!E55,'Measure Descriptions'!$C$7:$C$31,0),1))","v":0},6,{"$f":"IF('Measure Descriptions'!C12=0,\" \",'Measure Descriptions'!C12)","v":" "},0,0,0,0,0,0,0,0,0,0,0,{"$f":"IF(P4Pindices!G29=\"\",0,P4Pindices!G29)","v":0},0,0,0,null,null,null,null,null,0,0,0,{"$f":"IF(COUNTIF($AA55:AB55,$O55+$P55)<$Q55,$O55+$P55,0)","v":0},{"$f":"IF(COUNTIF($AA55:AC55,$O55+$P55)<$Q55,$O55+$P55,0)","v":0},{"$f":"IF(COUNTIF($AA55:AD55,$O55+$P55)<$Q55,$O55+$P55,0)","v":0},{"$f":"IF(COUNTIF($AA55:AE55,$O55+$P55)<$Q55,$O55+$P55,0)","v":0},{"$f":"IF(COUNTIF($AA55:AF55,$O55+$P55)<$Q55,$O55+$P55,0)","v":0},{"$f":"IF(COUNTIF($AA55:AG55,$O55+$P55)<$Q55,$O55+$P55,0)","v":0},{"$f":"IF(COUNTIF($AA55:AH55,$O55+$P55)<$Q55,$O55+$P55,0)","v":0},{"$f":"IF(COUNTIF($AA55:AI55,$O55+$P55)<$Q55,$O55+$P55,0)","v":0},{"$f":"IF(COUNTIF($AA55:AJ55,$O55+$P55)<$Q55,$O55+$P55,0)","v":0},{"$f":"IF(COUNTIF($AA55:AK55,$O55+$P55)<$Q55,$O55+$P55,0)","v":0},{"$f":"IF(COUNTIF($AA55:AL55,$O55+$P55)<$Q55,$O55+$P55,0)","v":0},{"$f":"IF(COUNTIF($AA55:AM55,$O55+$P55)<$Q55,$O55+$P55,0)","v":0},{"$f":"IF(COUNTIF($AA55:AN55,$O55+$P55)<$Q55,$O55+$P55,0)","v":0},{"$f":"IF(COUNTIF($AA55:AO55,$O55+$P55)<$Q55,$O55+$P55,0)","v":0},{"$f":"IF(COUNTIF($AA55:AP55,$O55+$P55)<$Q55,$O55+$P55,0)","v":0},{"$f":"IF(COUNTIF($AA55:AQ55,$O55+$P55)<$Q55,$O55+$P55,0)","v":0},{"$f":"IF(COUNTIF($AA55:AR55,$O55+$P55)<$Q55,$O55+$P55,0)","v":0},{"$f":"IF(COUNTIF($AA55:AS55,$O55+$P55)<$Q55,$O55+$P55,0)","v":0},{"$f":"IF(COUNTIF($AA55:AT55,$O55+$P55)<$Q55,$O55+$P55,0)","v":0},{"$f":"IF(COUNTIF($AA55:AU55,$O55+$P55)<$Q55,$O55+$P55,0)","v":0},{"$f":"IF(COUNTIF($AA55:AV55,$O55+$P55)<$Q55,$O55+$P55,0)","v":0},{"$f":"IF(COUNTIF($AA55:AW55,$O55+$P55)<$Q55,$O55+$P55,0)","v":0},{"$f":"IF(COUNTIF($AA55:AX55,$O55+$P55)<$Q55,$O55+$P55,0)","v":0},{"$f":"IF(COUNTIF($AA55:AY55,$O55+$P55)<$Q55,$O55+$P55,0)","v":0},{"$f":"IF(COUNTIF($AA55:AZ55,$O55+$P55)<$Q55,$O55+$P55,0)","v":0},{"$f":"IF(COUNTIF($AA55:BA55,$O55+$P55)<$Q55,$O55+$P55,0)","v":0},{"$f":"IF(COUNTIF($AA55:BB55,$O55+$P55)<$Q55,$O55+$P55,0)","v":0},{"$f":"IF(COUNTIF($AA55:BC55,$O55+$P55)<$Q55,$O55+$P55,0)","v":0},{"$f":"IF(COUNTIF($AA55:BD55,$O55+$P55)<$Q55,$O55+$P55,0)","v":0},{"$f":"IF(COUNTIF($AA55:BE55,$O55+$P55)<$Q55,$O55+$P55,0)","v":0},{"$f":"IF(COUNTIF($AA55:BF55,$O55+$P55)<$Q55,$O55+$P55,0)","v":0},{"$f":"IF(COUNTIF($AA55:BG55,$O55+$P55)<$Q55,$O55+$P55,0)","v":0},{"$f":"IF(COUNTIF($AA55:BH55,$O55+$P55)<$Q55,$O55+$P55,0)","v":0},{"$f":"IF(COUNTIF($AA55:BI55,$O55+$P55)<$Q55,$O55+$P55,0)","v":0},{"$f":"IF(COUNTIF($AA55:BJ55,$O55+$P55)<$Q55,$O55+$P55,0)","v":0},{"$f":"IF(COUNTIF($AA55:BK55,$O55+$P55)<$Q55,$O55+$P55,0)","v":0},{"$f":"IF(COUNTIF($AA55:BL55,$O55+$P55)<$Q55,$O55+$P55,0)","v":0},{"$f":"IF(COUNTIF($AA55:BM55,$O55+$P55)<$Q55,$O55+$P55,0)","v":0},-0.3]
[0,0,{"$f":"COUNTIF(P4Pindices!$A$36:$A$54,INDEX('Measure Descriptions'!$E$7:$E$31,MATCH('Measure Simulation'!E56,'Measure Descriptions'!$C$7:$C$31,0),1))","v":0},7,{"$f":"IF('Measure Descriptions'!C13=0,\" \",'Measure Descriptions'!C13)","v":" "},0,0,0,0,0,0,0,0,0,0,0,{"$f":"IF(P4Pindices!G30=\"\",0,P4Pindices!G30)","v":0},0,0,0,null,null,null,null,null,0,0,0,{"$f":"IF(COUNTIF($AA56:AB56,$O56+$P56)<$Q56,$O56+$P56,0)","v":0},{"$f":"IF(COUNTIF($AA56:AC56,$O56+$P56)<$Q56,$O56+$P56,0)","v":0},{"$f":"IF(COUNTIF($AA56:AD56,$O56+$P56)<$Q56,$O56+$P56,0)","v":0},{"$f":"IF(COUNTIF($AA56:AE56,$O56+$P56)<$Q56,$O56+$P56,0)","v":0},{"$f":"IF(COUNTIF($AA56:AF56,$O56+$P56)<$Q56,$O56+$P56,0)","v":0},{"$f":"IF(COUNTIF($AA56:AG56,$O56+$P56)<$Q56,$O56+$P56,0)","v":0},{"$f":"IF(COUNTIF($AA56:AH56,$O56+$P56)<$Q56,$O56+$P56,0)","v":0},{"$f":"IF(COUNTIF($AA56:AI56,$O56+$P56)<$Q56,$O56+$P56,0)","v":0},{"$f":"IF(COUNTIF($AA56:AJ56,$O56+$P56)<$Q56,$O56+$P56,0)","v":0},{"$f":"IF(COUNTIF($AA56:AK56,$O56+$P56)<$Q56,$O56+$P56,0)","v":0},{"$f":"IF(COUNTIF($AA56:AL56,$O56+$P56)<$Q56,$O56+$P56,0)","v":0},{"$f":"IF(COUNTIF($AA56:AM56,$O56+$P56)<$Q56,$O56+$P56,0)","v":0},{"$f":"IF(COUNTIF($AA56:AN56,$O56+$P56)<$Q56,$O56+$P56,0)","v":0},{"$f":"IF(COUNTIF($AA56:AO56,$O56+$P56)<$Q56,$O56+$P56,0)","v":0},{"$f":"IF(COUNTIF($AA56:AP56,$O56+$P56)<$Q56,$O56+$P56,0)","v":0},{"$f":"IF(COUNTIF($AA56:AQ56,$O56+$P56)<$Q56,$O56+$P56,0)","v":0},{"$f":"IF(COUNTIF($AA56:AR56,$O56+$P56)<$Q56,$O56+$P56,0)","v":0},{"$f":"IF(COUNTIF($AA56:AS56,$O56+$P56)<$Q56,$O56+$P56,0)","v":0},{"$f":"IF(COUNTIF($AA56:AT56,$O56+$P56)<$Q56,$O56+$P56,0)","v":0},{"$f":"IF(COUNTIF($AA56:AU56,$O56+$P56)<$Q56,$O56+$P56,0)","v":0},{"$f":"IF(COUNTIF($AA56:AV56,$O56+$P56)<$Q56,$O56+$P56,0)","v":0},{"$f":"IF(COUNTIF($AA56:AW56,$O56+$P56)<$Q56,$O56+$P56,0)","v":0},{"$f":"IF(COUNTIF($AA56:AX56,$O56+$P56)<$Q56,$O56+$P56,0)","v":0},{"$f":"IF(COUNTIF($AA56:AY56,$O56+$P56)<$Q56,$O56+$P56,0)","v":0},{"$f":"IF(COUNTIF($AA56:AZ56,$O56+$P56)<$Q56,$O56+$P56,0)","v":0},{"$f":"IF(COUNTIF($AA56:BA56,$O56+$P56)<$Q56,$O56+$P56,0)","v":0},{"$f":"IF(COUNTIF($AA56:BB56,$O56+$P56)<$Q56,$O56+$P56,0)","v":0},{"$f":"IF(COUNTIF($AA56:BC56,$O56+$P56)<$Q56,$O56+$P56,0)","v":0},{"$f":"IF(COUNTIF($AA56:BD56,$O56+$P56)<$Q56,$O56+$P56,0)","v":0},{"$f":"IF(COUNTIF($AA56:BE56,$O56+$P56)<$Q56,$O56+$P56,0)","v":0},{"$f":"IF(COUNTIF($AA56:BF56,$O56+$P56)<$Q56,$O56+$P56,0)","v":0},{"$f":"IF(COUNTIF($AA56:BG56,$O56+$P56)<$Q56,$O56+$P56,0)","v":0},{"$f":"IF(COUNTIF($AA56:BH56,$O56+$P56)<$Q56,$O56+$P56,0)","v":0},{"$f":"IF(COUNTIF($AA56:BI56,$O56+$P56)<$Q56,$O56+$P56,0)","v":0},{"$f":"IF(COUNTIF($AA56:BJ56,$O56+$P56)<$Q56,$O56+$P56,0)","v":0},{"$f":"IF(COUNTIF($AA56:BK56,$O56+$P56)<$Q56,$O56+$P56,0)","v":0},{"$f":"IF(COUNTIF($AA56:BL56,$O56+$P56)<$Q56,$O56+$P56,0)","v":0},{"$f":"IF(COUNTIF($AA56:BM56,$O56+$P56)<$Q56,$O56+$P56,0)","v":0},-0.3]
[0,0,{"$f":"COUNTIF(P4Pindices!$A$36:$A$54,INDEX('Measure Descriptions'!$E$7:$E$31,MATCH('Measure Simulation'!E57,'Measure Descriptions'!$C$7:$C$31,0),1))","v":0},8,{"$f":"IF('Measure Descriptions'!C14=0,\" \",'Measure Descriptions'!C14)","v":" "},0,0,0,0,0,0,0,0,0,0,0,{"$f":"IF(P4Pindices!G31=\"\",0,P4Pindices!G31)","v":0},0,0,0,null,null,null,null,null,0,0,0,{"$f":"IF(COUNTIF($AA57:AB57,$O57+$P57)<$Q57,$O57+$P57,0)","v":0},{"$f":"IF(COUNTIF($AA57:AC57,$O57+$P57)<$Q57,$O57+$P57,0)","v":0},{"$f":"IF(COUNTIF($AA57:AD57,$O57+$P57)<$Q57,$O57+$P57,0)","v":0},{"$f":"IF(COUNTIF($AA57:AE57,$O57+$P57)<$Q57,$O57+$P57,0)","v":0},{"$f":"IF(COUNTIF($AA57:AF57,$O57+$P57)<$Q57,$O57+$P57,0)","v":0},{"$f":"IF(COUNTIF($AA57:AG57,$O57+$P57)<$Q57,$O57+$P57,0)","v":0},{"$f":"IF(COUNTIF($AA57:AH57,$O57+$P57)<$Q57,$O57+$P57,0)","v":0},{"$f":"IF(COUNTIF($AA57:AI57,$O57+$P57)<$Q57,$O57+$P57,0)","v":0},{"$f":"IF(COUNTIF($AA57:AJ57,$O57+$P57)<$Q57,$O57+$P57,0)","v":0},{"$f":"IF(COUNTIF($AA57:AK57,$O57+$P57)<$Q57,$O57+$P57,0)","v":0},{"$f":"IF(COUNTIF($AA57:AL57,$O57+$P57)<$Q57,$O57+$P57,0)","v":0},{"$f":"IF(COUNTIF($AA57:AM57,$O57+$P57)<$Q57,$O57+$P57,0)","v":0},{"$f":"IF(COUNTIF($AA57:AN57,$O57+$P57)<$Q57,$O57+$P57,0)","v":0},{"$f":"IF(COUNTIF($AA57:AO57,$O57+$P57)<$Q57,$O57+$P57,0)","v":0},{"$f":"IF(COUNTIF($AA57:AP57,$O57+$P57)<$Q57,$O57+$P57,0)","v":0},{"$f":"IF(COUNTIF($AA57:AQ57,$O57+$P57)<$Q57,$O57+$P57,0)","v":0},{"$f":"IF(COUNTIF($AA57:AR57,$O57+$P57)<$Q57,$O57+$P57,0)","v":0},{"$f":"IF(COUNTIF($AA57:AS57,$O57+$P57)<$Q57,$O57+$P57,0)","v":0},{"$f":"IF(COUNTIF($AA57:AT57,$O57+$P57)<$Q57,$O57+$P57,0)","v":0},{"$f":"IF(COUNTIF($AA57:AU57,$O57+$P57)<$Q57,$O57+$P57,0)","v":0},{"$f":"IF(COUNTIF($AA57:AV57,$O57+$P57)<$Q57,$O57+$P57,0)","v":0},{"$f":"IF(COUNTIF($AA57:AW57,$O57+$P57)<$Q57,$O57+$P57,0)","v":0},{"$f":"IF(COUNTIF($AA57:AX57,$O57+$P57)<$Q57,$O57+$P57,0)","v":0},{"$f":"IF(COUNTIF($AA57:AY57,$O57+$P57)<$Q57,$O57+$P57,0)","v":0},{"$f":"IF(COUNTIF($AA57:AZ57,$O57+$P57)<$Q57,$O57+$P57,0)","v":0},{"$f":"IF(COUNTIF($AA57:BA57,$O57+$P57)<$Q57,$O57+$P57,0)","v":0},{"$f":"IF(COUNTIF($AA57:BB57,$O57+$P57)<$Q57,$O57+$P57,0)","v":0},{"$f":"IF(COUNTIF($AA57:BC57,$O57+$P57)<$Q57,$O57+$P57,0)","v":0},{"$f":"IF(COUNTIF($AA57:BD57,$O57+$P57)<$Q57,$O57+$P57,0)","v":0},{"$f":"IF(COUNTIF($AA57:BE57,$O57+$P57)<$Q57,$O57+$P57,0)","v":0},{"$f":"IF(COUNTIF($AA57:BF57,$O57+$P57)<$Q57,$O57+$P57,0)","v":0},{"$f":"IF(COUNTIF($AA57:BG57,$O57+$P57)<$Q57,$O57+$P57,0)","v":0},{"$f":"IF(COUNTIF($AA57:BH57,$O57+$P57)<$Q57,$O57+$P57,0)","v":0},{"$f":"IF(COUNTIF($AA57:BI57,$O57+$P57)<$Q57,$O57+$P57,0)","v":0},{"$f":"IF(COUNTIF($AA57:BJ57,$O57+$P57)<$Q57,$O57+$P57,0)","v":0},{"$f":"IF(COUNTIF($AA57:BK57,$O57+$P57)<$Q57,$O57+$P57,0)","v":0},{"$f":"IF(COUNTIF($AA57:BL57,$O57+$P57)<$Q57,$O57+$P57,0)","v":0},{"$f":"IF(COUNTIF($AA57:BM57,$O57+$P57)<$Q57,$O57+$P57,0)","v":0},-0.3]
[0,0,{"$f":"COUNTIF(P4Pindices!$A$36:$A$54,INDEX('Measure Descriptions'!$E$7:$E$31,MATCH('Measure Simulation'!E58,'Measure Descriptions'!$C$7:$C$31,0),1))","v":0},9,{"$f":"IF('Measure Descriptions'!C15=0,\" \",'Measure Descriptions'!C15)","v":" "},0,0,0,0,0,0,0,0,0,0,0,{"$f":"IF(P4Pindices!G32=\"\",0,P4Pindices!G32)","v":0},0,0,0,null,null,null,null,null,0,0,0,{"$f":"IF(COUNTIF($AA58:AB58,$O58+$P58)<$Q58,$O58+$P58,0)","v":0},{"$f":"IF(COUNTIF($AA58:AC58,$O58+$P58)<$Q58,$O58+$P58,0)","v":0},{"$f":"IF(COUNTIF($AA58:AD58,$O58+$P58)<$Q58,$O58+$P58,0)","v":0},{"$f":"IF(COUNTIF($AA58:AE58,$O58+$P58)<$Q58,$O58+$P58,0)","v":0},{"$f":"IF(COUNTIF($AA58:AF58,$O58+$P58)<$Q58,$O58+$P58,0)","v":0},{"$f":"IF(COUNTIF($AA58:AG58,$O58+$P58)<$Q58,$O58+$P58,0)","v":0},{"$f":"IF(COUNTIF($AA58:AH58,$O58+$P58)<$Q58,$O58+$P58,0)","v":0},{"$f":"IF(COUNTIF($AA58:AI58,$O58+$P58)<$Q58,$O58+$P58,0)","v":0},{"$f":"IF(COUNTIF($AA58:AJ58,$O58+$P58)<$Q58,$O58+$P58,0)","v":0},{"$f":"IF(COUNTIF($AA58:AK58,$O58+$P58)<$Q58,$O58+$P58,0)","v":0},{"$f":"IF(COUNTIF($AA58:AL58,$O58+$P58)<$Q58,$O58+$P58,0)","v":0},{"$f":"IF(COUNTIF($AA58:AM58,$O58+$P58)<$Q58,$O58+$P58,0)","v":0},{"$f":"IF(COUNTIF($AA58:AN58,$O58+$P58)<$Q58,$O58+$P58,0)","v":0},{"$f":"IF(COUNTIF($AA58:AO58,$O58+$P58)<$Q58,$O58+$P58,0)","v":0},{"$f":"IF(COUNTIF($AA58:AP58,$O58+$P58)<$Q58,$O58+$P58,0)","v":0},{"$f":"IF(COUNTIF($AA58:AQ58,$O58+$P58)<$Q58,$O58+$P58,0)","v":0},{"$f":"IF(COUNTIF($AA58:AR58,$O58+$P58)<$Q58,$O58+$P58,0)","v":0},{"$f":"IF(COUNTIF($AA58:AS58,$O58+$P58)<$Q58,$O58+$P58,0)","v":0},{"$f":"IF(COUNTIF($AA58:AT58,$O58+$P58)<$Q58,$O58+$P58,0)","v":0},{"$f":"IF(COUNTIF($AA58:AU58,$O58+$P58)<$Q58,$O58+$P58,0)","v":0},{"$f":"IF(COUNTIF($AA58:AV58,$O58+$P58)<$Q58,$O58+$P58,0)","v":0},{"$f":"IF(COUNTIF($AA58:AW58,$O58+$P58)<$Q58,$O58+$P58,0)","v":0},{"$f":"IF(COUNTIF($AA58:AX58,$O58+$P58)<$Q58,$O58+$P58,0)","v":0},{"$f":"IF(COUNTIF($AA58:AY58,$O58+$P58)<$Q58,$O58+$P58,0)","v":0},{"$f":"IF(COUNTIF($AA58:AZ58,$O58+$P58)<$Q58,$O58+$P58,0)","v":0},{"$f":"IF(COUNTIF($AA58:BA58,$O58+$P58)<$Q58,$O58+$P58,0)","v":0},{"$f":"IF(COUNTIF($AA58:BB58,$O58+$P58)<$Q58,$O58+$P58,0)","v":0},{"$f":"IF(COUNTIF($AA58:BC58,$O58+$P58)<$Q58,$O58+$P58,0)","v":0},{"$f":"IF(COUNTIF($AA58:BD58,$O58+$P58)<$Q58,$O58+$P58,0)","v":0},{"$f":"IF(COUNTIF($AA58:BE58,$O58+$P58)<$Q58,$O58+$P58,0)","v":0},{"$f":"IF(COUNTIF($AA58:BF58,$O58+$P58)<$Q58,$O58+$P58,0)","v":0},{"$f":"IF(COUNTIF($AA58:BG58,$O58+$P58)<$Q58,$O58+$P58,0)","v":0},{"$f":"IF(COUNTIF($AA58:BH58,$O58+$P58)<$Q58,$O58+$P58,0)","v":0},{"$f":"IF(COUNTIF($AA58:BI58,$O58+$P58)<$Q58,$O58+$P58,0)","v":0},{"$f":"IF(COUNTIF($AA58:BJ58,$O58+$P58)<$Q58,$O58+$P58,0)","v":0},{"$f":"IF(COUNTIF($AA58:BK58,$O58+$P58)<$Q58,$O58+$P58,0)","v":0},{"$f":"IF(COUNTIF($AA58:BL58,$O58+$P58)<$Q58,$O58+$P58,0)","v":0},{"$f":"IF(COUNTIF($AA58:BM58,$O58+$P58)<$Q58,$O58+$P58,0)","v":0},-0.3]
[0,0,{"$f":"COUNTIF(P4Pindices!$A$36:$A$54,INDEX('Measure Descriptions'!$E$7:$E$31,MATCH('Measure Simulation'!E59,'Measure Descriptions'!$C$7:$C$31,0),1))","v":0},10,{"$f":"IF('Measure Descriptions'!C16=0,\" \",'Measure Descriptions'!C16)","v":" "},0,0,0,0,0,0,0,0,0,0,0,{"$f":"IF(P4Pindices!G33=\"\",0,P4Pindices!G33)","v":0},0,0,0,null,null,null,null,null,0,0,0,{"$f":"IF(COUNTIF($AA59:AB59,$O59+$P59)<$Q59,$O59+$P59,0)","v":0},{"$f":"IF(COUNTIF($AA59:AC59,$O59+$P59)<$Q59,$O59+$P59,0)","v":0},{"$f":"IF(COUNTIF($AA59:AD59,$O59+$P59)<$Q59,$O59+$P59,0)","v":0},{"$f":"IF(COUNTIF($AA59:AE59,$O59+$P59)<$Q59,$O59+$P59,0)","v":0},{"$f":"IF(COUNTIF($AA59:AF59,$O59+$P59)<$Q59,$O59+$P59,0)","v":0},{"$f":"IF(COUNTIF($AA59:AG59,$O59+$P59)<$Q59,$O59+$P59,0)","v":0},{"$f":"IF(COUNTIF($AA59:AH59,$O59+$P59)<$Q59,$O59+$P59,0)","v":0},{"$f":"IF(COUNTIF($AA59:AI59,$O59+$P59)<$Q59,$O59+$P59,0)","v":0},{"$f":"IF(COUNTIF($AA59:AJ59,$O59+$P59)<$Q59,$O59+$P59,0)","v":0},{"$f":"IF(COUNTIF($AA59:AK59,$O59+$P59)<$Q59,$O59+$P59,0)","v":0},{"$f":"IF(COUNTIF($AA59:AL59,$O59+$P59)<$Q59,$O59+$P59,0)","v":0},{"$f":"IF(COUNTIF($AA59:AM59,$O59+$P59)<$Q59,$O59+$P59,0)","v":0},{"$f":"IF(COUNTIF($AA59:AN59,$O59+$P59)<$Q59,$O59+$P59,0)","v":0},{"$f":"IF(COUNTIF($AA59:AO59,$O59+$P59)<$Q59,$O59+$P59,0)","v":0},{"$f":"IF(COUNTIF($AA59:AP59,$O59+$P59)<$Q59,$O59+$P59,0)","v":0},{"$f":"IF(COUNTIF($AA59:AQ59,$O59+$P59)<$Q59,$O59+$P59,0)","v":0},{"$f":"IF(COUNTIF($AA59:AR59,$O59+$P59)<$Q59,$O59+$P59,0)","v":0},{"$f":"IF(COUNTIF($AA59:AS59,$O59+$P59)<$Q59,$O59+$P59,0)","v":0},{"$f":"IF(COUNTIF($AA59:AT59,$O59+$P59)<$Q59,$O59+$P59,0)","v":0},{"$f":"IF(COUNTIF($AA59:AU59,$O59+$P59)<$Q59,$O59+$P59,0)","v":0},{"$f":"IF(COUNTIF($AA59:AV59,$O59+$P59)<$Q59,$O59+$P59,0)","v":0},{"$f":"IF(COUNTIF($AA59:AW59,$O59+$P59)<$Q59,$O59+$P59,0)","v":0},{"$f":"IF(COUNTIF($AA59:AX59,$O59+$P59)<$Q59,$O59+$P59,0)","v":0},{"$f":"IF(COUNTIF($AA59:AY59,$O59+$P59)<$Q59,$O59+$P59,0)","v":0},{"$f":"IF(COUNTIF($AA59:AZ59,$O59+$P59)<$Q59,$O59+$P59,0)","v":0},{"$f":"IF(COUNTIF($AA59:BA59,$O59+$P59)<$Q59,$O59+$P59,0)","v":0},{"$f":"IF(COUNTIF($AA59:BB59,$O59+$P59)<$Q59,$O59+$P59,0)","v":0},{"$f":"IF(COUNTIF($AA59:BC59,$O59+$P59)<$Q59,$O59+$P59,0)","v":0},{"$f":"IF(COUNTIF($AA59:BD59,$O59+$P59)<$Q59,$O59+$P59,0)","v":0},{"$f":"IF(COUNTIF($AA59:BE59,$O59+$P59)<$Q59,$O59+$P59,0)","v":0},{"$f":"IF(COUNTIF($AA59:BF59,$O59+$P59)<$Q59,$O59+$P59,0)","v":0},{"$f":"IF(COUNTIF($AA59:BG59,$O59+$P59)<$Q59,$O59+$P59,0)","v":0},{"$f":"IF(COUNTIF($AA59:BH59,$O59+$P59)<$Q59,$O59+$P59,0)","v":0},{"$f":"IF(COUNTIF($AA59:BI59,$O59+$P59)<$Q59,$O59+$P59,0)","v":0},{"$f":"IF(COUNTIF($AA59:BJ59,$O59+$P59)<$Q59,$O59+$P59,0)","v":0},{"$f":"IF(COUNTIF($AA59:BK59,$O59+$P59)<$Q59,$O59+$P59,0)","v":0},{"$f":"IF(COUNTIF($AA59:BL59,$O59+$P59)<$Q59,$O59+$P59,0)","v":0},{"$f":"IF(COUNTIF($AA59:BM59,$O59+$P59)<$Q59,$O59+$P59,0)","v":0},-0.3]
[0,0,{"$f":"COUNTIF(P4Pindices!$A$36:$A$54,INDEX('Measure Descriptions'!$E$7:$E$31,MATCH('Measure Simulation'!E60,'Measure Descriptions'!$C$7:$C$31,0),1))","v":0},11,{"$f":"IF('Measure Descriptions'!C17=0,\" \",'Measure Descriptions'!C17)","v":" "},0,0,0,0,0,0,0,0,0,0,0,{"$f":"IF(P4Pindices!G34=\"\",0,P4Pindices!G34)","v":0},0,0,0,null,null,null,null,null,0,0,0,{"$f":"IF(COUNTIF($AA60:AB60,$O60+$P60)<$Q60,$O60+$P60,0)","v":0},{"$f":"IF(COUNTIF($AA60:AC60,$O60+$P60)<$Q60,$O60+$P60,0)","v":0},{"$f":"IF(COUNTIF($AA60:AD60,$O60+$P60)<$Q60,$O60+$P60,0)","v":0},{"$f":"IF(COUNTIF($AA60:AE60,$O60+$P60)<$Q60,$O60+$P60,0)","v":0},{"$f":"IF(COUNTIF($AA60:AF60,$O60+$P60)<$Q60,$O60+$P60,0)","v":0},{"$f":"IF(COUNTIF($AA60:AG60,$O60+$P60)<$Q60,$O60+$P60,0)","v":0},{"$f":"IF(COUNTIF($AA60:AH60,$O60+$P60)<$Q60,$O60+$P60,0)","v":0},{"$f":"IF(COUNTIF($AA60:AI60,$O60+$P60)<$Q60,$O60+$P60,0)","v":0},{"$f":"IF(COUNTIF($AA60:AJ60,$O60+$P60)<$Q60,$O60+$P60,0)","v":0},{"$f":"IF(COUNTIF($AA60:AK60,$O60+$P60)<$Q60,$O60+$P60,0)","v":0},{"$f":"IF(COUNTIF($AA60:AL60,$O60+$P60)<$Q60,$O60+$P60,0)","v":0},{"$f":"IF(COUNTIF($AA60:AM60,$O60+$P60)<$Q60,$O60+$P60,0)","v":0},{"$f":"IF(COUNTIF($AA60:AN60,$O60+$P60)<$Q60,$O60+$P60,0)","v":0},{"$f":"IF(COUNTIF($AA60:AO60,$O60+$P60)<$Q60,$O60+$P60,0)","v":0},{"$f":"IF(COUNTIF($AA60:AP60,$O60+$P60)<$Q60,$O60+$P60,0)","v":0},{"$f":"IF(COUNTIF($AA60:AQ60,$O60+$P60)<$Q60,$O60+$P60,0)","v":0},{"$f":"IF(COUNTIF($AA60:AR60,$O60+$P60)<$Q60,$O60+$P60,0)","v":0},{"$f":"IF(COUNTIF($AA60:AS60,$O60+$P60)<$Q60,$O60+$P60,0)","v":0},{"$f":"IF(COUNTIF($AA60:AT60,$O60+$P60)<$Q60,$O60+$P60,0)","v":0},{"$f":"IF(COUNTIF($AA60:AU60,$O60+$P60)<$Q60,$O60+$P60,0)","v":0},{"$f":"IF(COUNTIF($AA60:AV60,$O60+$P60)<$Q60,$O60+$P60,0)","v":0},{"$f":"IF(COUNTIF($AA60:AW60,$O60+$P60)<$Q60,$O60+$P60,0)","v":0},{"$f":"IF(COUNTIF($AA60:AX60,$O60+$P60)<$Q60,$O60+$P60,0)","v":0},{"$f":"IF(COUNTIF($AA60:AY60,$O60+$P60)<$Q60,$O60+$P60,0)","v":0},{"$f":"IF(COUNTIF($AA60:AZ60,$O60+$P60)<$Q60,$O60+$P60,0)","v":0},{"$f":"IF(COUNTIF($AA60:BA60,$O60+$P60)<$Q60,$O60+$P60,0)","v":0},{"$f":"IF(COUNTIF($AA60:BB60,$O60+$P60)<$Q60,$O60+$P60,0)","v":0},{"$f":"IF(COUNTIF($AA60:BC60,$O60+$P60)<$Q60,$O60+$P60,0)","v":0},{"$f":"IF(COUNTIF($AA60:BD60,$O60+$P60)<$Q60,$O60+$P60,0)","v":0},{"$f":"IF(COUNTIF($AA60:BE60,$O60+$P60)<$Q60,$O60+$P60,0)","v":0},{"$f":"IF(COUNTIF($AA60:BF60,$O60+$P60)<$Q60,$O60+$P60,0)","v":0},{"$f":"IF(COUNTIF($AA60:BG60,$O60+$P60)<$Q60,$O60+$P60,0)","v":0},{"$f":"IF(COUNTIF($AA60:BH60,$O60+$P60)<$Q60,$O60+$P60,0)","v":0},{"$f":"IF(COUNTIF($AA60:BI60,$O60+$P60)<$Q60,$O60+$P60,0)","v":0},{"$f":"IF(COUNTIF($AA60:BJ60,$O60+$P60)<$Q60,$O60+$P60,0)","v":0},{"$f":"IF(COUNTIF($AA60:BK60,$O60+$P60)<$Q60,$O60+$P60,0)","v":0},{"$f":"IF(COUNTIF($AA60:BL60,$O60+$P60)<$Q60,$O60+$P60,0)","v":0},{"$f":"IF(COUNTIF($AA60:BM60,$O60+$P60)<$Q60,$O60+$P60,0)","v":0},-0.3]
[0,0,{"$f":"COUNTIF(P4Pindices!$A$36:$A$54,INDEX('Measure Descriptions'!$E$7:$E$31,MATCH('Measure Simulation'!E61,'Measure Descriptions'!$C$7:$C$31,0),1))","v":0},12,{"$f":"IF('Measure Descriptions'!C18=0,\" \",'Measure Descriptions'!C18)","v":" "},0,0,0,0,0,0,0,0,0,0,0,{"$f":"IF(P4Pindices!G35=\"\",0,P4Pindices!G35)","v":0},0,0,0,null,null,null,null,null,0,0,0,{"$f":"IF(COUNTIF($AA61:AB61,$O61+$P61)<$Q61,$O61+$P61,0)","v":0},{"$f":"IF(COUNTIF($AA61:AC61,$O61+$P61)<$Q61,$O61+$P61,0)","v":0},{"$f":"IF(COUNTIF($AA61:AD61,$O61+$P61)<$Q61,$O61+$P61,0)","v":0},{"$f":"IF(COUNTIF($AA61:AE61,$O61+$P61)<$Q61,$O61+$P61,0)","v":0},{"$f":"IF(COUNTIF($AA61:AF61,$O61+$P61)<$Q61,$O61+$P61,0)","v":0},{"$f":"IF(COUNTIF($AA61:AG61,$O61+$P61)<$Q61,$O61+$P61,0)","v":0},{"$f":"IF(COUNTIF($AA61:AH61,$O61+$P61)<$Q61,$O61+$P61,0)","v":0},{"$f":"IF(COUNTIF($AA61:AI61,$O61+$P61)<$Q61,$O61+$P61,0)","v":0},{"$f":"IF(COUNTIF($AA61:AJ61,$O61+$P61)<$Q61,$O61+$P61,0)","v":0},{"$f":"IF(COUNTIF($AA61:AK61,$O61+$P61)<$Q61,$O61+$P61,0)","v":0},{"$f":"IF(COUNTIF($AA61:AL61,$O61+$P61)<$Q61,$O61+$P61,0)","v":0},{"$f":"IF(COUNTIF($AA61:AM61,$O61+$P61)<$Q61,$O61+$P61,0)","v":0},{"$f":"IF(COUNTIF($AA61:AN61,$O61+$P61)<$Q61,$O61+$P61,0)","v":0},{"$f":"IF(COUNTIF($AA61:AO61,$O61+$P61)<$Q61,$O61+$P61,0)","v":0},{"$f":"IF(COUNTIF($AA61:AP61,$O61+$P61)<$Q61,$O61+$P61,0)","v":0},{"$f":"IF(COUNTIF($AA61:AQ61,$O61+$P61)<$Q61,$O61+$P61,0)","v":0},{"$f":"IF(COUNTIF($AA61:AR61,$O61+$P61)<$Q61,$O61+$P61,0)","v":0},{"$f":"IF(COUNTIF($AA61:AS61,$O61+$P61)<$Q61,$O61+$P61,0)","v":0},{"$f":"IF(COUNTIF($AA61:AT61,$O61+$P61)<$Q61,$O61+$P61,0)","v":0},{"$f":"IF(COUNTIF($AA61:AU61,$O61+$P61)<$Q61,$O61+$P61,0)","v":0},{"$f":"IF(COUNTIF($AA61:AV61,$O61+$P61)<$Q61,$O61+$P61,0)","v":0},{"$f":"IF(COUNTIF($AA61:AW61,$O61+$P61)<$Q61,$O61+$P61,0)","v":0},{"$f":"IF(COUNTIF($AA61:AX61,$O61+$P61)<$Q61,$O61+$P61,0)","v":0},{"$f":"IF(COUNTIF($AA61:AY61,$O61+$P61)<$Q61,$O61+$P61,0)","v":0},{"$f":"IF(COUNTIF($AA61:AZ61,$O61+$P61)<$Q61,$O61+$P61,0)","v":0},{"$f":"IF(COUNTIF($AA61:BA61,$O61+$P61)<$Q61,$O61+$P61,0)","v":0},{"$f":"IF(COUNTIF($AA61:BB61,$O61+$P61)<$Q61,$O61+$P61,0)","v":0},{"$f":"IF(COUNTIF($AA61:BC61,$O61+$P61)<$Q61,$O61+$P61,0)","v":0},{"$f":"IF(COUNTIF($AA61:BD61,$O61+$P61)<$Q61,$O61+$P61,0)","v":0},{"$f":"IF(COUNTIF($AA61:BE61,$O61+$P61)<$Q61,$O61+$P61,0)","v":0},{"$f":"IF(COUNTIF($AA61:BF61,$O61+$P61)<$Q61,$O61+$P61,0)","v":0},{"$f":"IF(COUNTIF($AA61:BG61,$O61+$P61)<$Q61,$O61+$P61,0)","v":0},{"$f":"IF(COUNTIF($AA61:BH61,$O61+$P61)<$Q61,$O61+$P61,0)","v":0},{"$f":"IF(COUNTIF($AA61:BI61,$O61+$P61)<$Q61,$O61+$P61,0)","v":0},{"$f":"IF(COUNTIF($AA61:BJ61,$O61+$P61)<$Q61,$O61+$P61,0)","v":0},{"$f":"IF(COUNTIF($AA61:BK61,$O61+$P61)<$Q61,$O61+$P61,0)","v":0},{"$f":"IF(COUNTIF($AA61:BL61,$O61+$P61)<$Q61,$O61+$P61,0)","v":0},{"$f":"IF(COUNTIF($AA61:BM61,$O61+$P61)<$Q61,$O61+$P61,0)","v":0},-0.3]
[0,0,{"$f":"COUNTIF(P4Pindices!$A$36:$A$54,INDEX('Measure Descriptions'!$E$7:$E$31,MATCH('Measure Simulation'!E62,'Measure Descriptions'!$C$7:$C$31,0),1))","v":0},13,{"$f":"IF('Measure Descriptions'!C19=0,\" \",'Measure Descriptions'!C19)","v":" "},0,0,0,0,0,0,0,0,0,0,0,{"$f":"IF(P4Pindices!G36=\"\",0,P4Pindices!G36)","v":0},0,0,0,null,null,null,null,null,0,0,0,{"$f":"IF(COUNTIF($AA62:AB62,$O62+$P62)<$Q62,$O62+$P62,0)","v":0},{"$f":"IF(COUNTIF($AA62:AC62,$O62+$P62)<$Q62,$O62+$P62,0)","v":0},{"$f":"IF(COUNTIF($AA62:AD62,$O62+$P62)<$Q62,$O62+$P62,0)","v":0},{"$f":"IF(COUNTIF($AA62:AE62,$O62+$P62)<$Q62,$O62+$P62,0)","v":0},{"$f":"IF(COUNTIF($AA62:AF62,$O62+$P62)<$Q62,$O62+$P62,0)","v":0},{"$f":"IF(COUNTIF($AA62:AG62,$O62+$P62)<$Q62,$O62+$P62,0)","v":0},{"$f":"IF(COUNTIF($AA62:AH62,$O62+$P62)<$Q62,$O62+$P62,0)","v":0},{"$f":"IF(COUNTIF($AA62:AI62,$O62+$P62)<$Q62,$O62+$P62,0)","v":0},{"$f":"IF(COUNTIF($AA62:AJ62,$O62+$P62)<$Q62,$O62+$P62,0)","v":0},{"$f":"IF(COUNTIF($AA62:AK62,$O62+$P62)<$Q62,$O62+$P62,0)","v":0},{"$f":"IF(COUNTIF($AA62:AL62,$O62+$P62)<$Q62,$O62+$P62,0)","v":0},{"$f":"IF(COUNTIF($AA62:AM62,$O62+$P62)<$Q62,$O62+$P62,0)","v":0},{"$f":"IF(COUNTIF($AA62:AN62,$O62+$P62)<$Q62,$O62+$P62,0)","v":0},{"$f":"IF(COUNTIF($AA62:AO62,$O62+$P62)<$Q62,$O62+$P62,0)","v":0},{"$f":"IF(COUNTIF($AA62:AP62,$O62+$P62)<$Q62,$O62+$P62,0)","v":0},{"$f":"IF(COUNTIF($AA62:AQ62,$O62+$P62)<$Q62,$O62+$P62,0)","v":0},{"$f":"IF(COUNTIF($AA62:AR62,$O62+$P62)<$Q62,$O62+$P62,0)","v":0},{"$f":"IF(COUNTIF($AA62:AS62,$O62+$P62)<$Q62,$O62+$P62,0)","v":0},{"$f":"IF(COUNTIF($AA62:AT62,$O62+$P62)<$Q62,$O62+$P62,0)","v":0},{"$f":"IF(COUNTIF($AA62:AU62,$O62+$P62)<$Q62,$O62+$P62,0)","v":0},{"$f":"IF(COUNTIF($AA62:AV62,$O62+$P62)<$Q62,$O62+$P62,0)","v":0},{"$f":"IF(COUNTIF($AA62:AW62,$O62+$P62)<$Q62,$O62+$P62,0)","v":0},{"$f":"IF(COUNTIF($AA62:AX62,$O62+$P62)<$Q62,$O62+$P62,0)","v":0},{"$f":"IF(COUNTIF($AA62:AY62,$O62+$P62)<$Q62,$O62+$P62,0)","v":0},{"$f":"IF(COUNTIF($AA62:AZ62,$O62+$P62)<$Q62,$O62+$P62,0)","v":0},{"$f":"IF(COUNTIF($AA62:BA62,$O62+$P62)<$Q62,$O62+$P62,0)","v":0},{"$f":"IF(COUNTIF($AA62:BB62,$O62+$P62)<$Q62,$O62+$P62,0)","v":0},{"$f":"IF(COUNTIF($AA62:BC62,$O62+$P62)<$Q62,$O62+$P62,0)","v":0},{"$f":"IF(COUNTIF($AA62:BD62,$O62+$P62)<$Q62,$O62+$P62,0)","v":0},{"$f":"IF(COUNTIF($AA62:BE62,$O62+$P62)<$Q62,$O62+$P62,0)","v":0},{"$f":"IF(COUNTIF($AA62:BF62,$O62+$P62)<$Q62,$O62+$P62,0)","v":0},{"$f":"IF(COUNTIF($AA62:BG62,$O62+$P62)<$Q62,$O62+$P62,0)","v":0},{"$f":"IF(COUNTIF($AA62:BH62,$O62+$P62)<$Q62,$O62+$P62,0)","v":0},{"$f":"IF(COUNTIF($AA62:BI62,$O62+$P62)<$Q62,$O62+$P62,0)","v":0},{"$f":"IF(COUNTIF($AA62:BJ62,$O62+$P62)<$Q62,$O62+$P62,0)","v":0},{"$f":"IF(COUNTIF($AA62:BK62,$O62+$P62)<$Q62,$O62+$P62,0)","v":0},{"$f":"IF(COUNTIF($AA62:BL62,$O62+$P62)<$Q62,$O62+$P62,0)","v":0},{"$f":"IF(COUNTIF($AA62:BM62,$O62+$P62)<$Q62,$O62+$P62,0)","v":0},-0.3]
[0,0,{"$f":"COUNTIF(P4Pindices!$A$36:$A$54,INDEX('Measure Descriptions'!$E$7:$E$31,MATCH('Measure Simulation'!E63,'Measure Descriptions'!$C$7:$C$31,0),1))","v":0},14,{"$f":"IF('Measure Descriptions'!C20=0,\" \",'Measure Descriptions'!C20)","v":" "},0,0,0,0,0,0,0,0,0,0,0,{"$f":"IF(P4Pindices!G37=\"\",0,P4Pindices!G37)","v":0},0,0,0,null,null,null,null,null,0,0,0,{"$f":"IF(COUNTIF($AA63:AB63,$O63+$P63)<$Q63,$O63+$P63,0)","v":0},{"$f":"IF(COUNTIF($AA63:AC63,$O63+$P63)<$Q63,$O63+$P63,0)","v":0},{"$f":"IF(COUNTIF($AA63:AD63,$O63+$P63)<$Q63,$O63+$P63,0)","v":0},{"$f":"IF(COUNTIF($AA63:AE63,$O63+$P63)<$Q63,$O63+$P63,0)","v":0},{"$f":"IF(COUNTIF($AA63:AF63,$O63+$P63)<$Q63,$O63+$P63,0)","v":0},{"$f":"IF(COUNTIF($AA63:AG63,$O63+$P63)<$Q63,$O63+$P63,0)","v":0},{"$f":"IF(COUNTIF($AA63:AH63,$O63+$P63)<$Q63,$O63+$P63,0)","v":0},{"$f":"IF(COUNTIF($AA63:AI63,$O63+$P63)<$Q63,$O63+$P63,0)","v":0},{"$f":"IF(COUNTIF($AA63:AJ63,$O63+$P63)<$Q63,$O63+$P63,0)","v":0},{"$f":"IF(COUNTIF($AA63:AK63,$O63+$P63)<$Q63,$O63+$P63,0)","v":0},{"$f":"IF(COUNTIF($AA63:AL63,$O63+$P63)<$Q63,$O63+$P63,0)","v":0},{"$f":"IF(COUNTIF($AA63:AM63,$O63+$P63)<$Q63,$O63+$P63,0)","v":0},{"$f":"IF(COUNTIF($AA63:AN63,$O63+$P63)<$Q63,$O63+$P63,0)","v":0},{"$f":"IF(COUNTIF($AA63:AO63,$O63+$P63)<$Q63,$O63+$P63,0)","v":0},{"$f":"IF(COUNTIF($AA63:AP63,$O63+$P63)<$Q63,$O63+$P63,0)","v":0},{"$f":"IF(COUNTIF($AA63:AQ63,$O63+$P63)<$Q63,$O63+$P63,0)","v":0},{"$f":"IF(COUNTIF($AA63:AR63,$O63+$P63)<$Q63,$O63+$P63,0)","v":0},{"$f":"IF(COUNTIF($AA63:AS63,$O63+$P63)<$Q63,$O63+$P63,0)","v":0},{"$f":"IF(COUNTIF($AA63:AT63,$O63+$P63)<$Q63,$O63+$P63,0)","v":0},{"$f":"IF(COUNTIF($AA63:AU63,$O63+$P63)<$Q63,$O63+$P63,0)","v":0},{"$f":"IF(COUNTIF($AA63:AV63,$O63+$P63)<$Q63,$O63+$P63,0)","v":0},{"$f":"IF(COUNTIF($AA63:AW63,$O63+$P63)<$Q63,$O63+$P63,0)","v":0},{"$f":"IF(COUNTIF($AA63:AX63,$O63+$P63)<$Q63,$O63+$P63,0)","v":0},{"$f":"IF(COUNTIF($AA63:AY63,$O63+$P63)<$Q63,$O63+$P63,0)","v":0},{"$f":"IF(COUNTIF($AA63:AZ63,$O63+$P63)<$Q63,$O63+$P63,0)","v":0},{"$f":"IF(COUNTIF($AA63:BA63,$O63+$P63)<$Q63,$O63+$P63,0)","v":0},{"$f":"IF(COUNTIF($AA63:BB63,$O63+$P63)<$Q63,$O63+$P63,0)","v":0},{"$f":"IF(COUNTIF($AA63:BC63,$O63+$P63)<$Q63,$O63+$P63,0)","v":0},{"$f":"IF(COUNTIF($AA63:BD63,$O63+$P63)<$Q63,$O63+$P63,0)","v":0},{"$f":"IF(COUNTIF($AA63:BE63,$O63+$P63)<$Q63,$O63+$P63,0)","v":0},{"$f":"IF(COUNTIF($AA63:BF63,$O63+$P63)<$Q63,$O63+$P63,0)","v":0},{"$f":"IF(COUNTIF($AA63:BG63,$O63+$P63)<$Q63,$O63+$P63,0)","v":0},{"$f":"IF(COUNTIF($AA63:BH63,$O63+$P63)<$Q63,$O63+$P63,0)","v":0},{"$f":"IF(COUNTIF($AA63:BI63,$O63+$P63)<$Q63,$O63+$P63,0)","v":0},{"$f":"IF(COUNTIF($AA63:BJ63,$O63+$P63)<$Q63,$O63+$P63,0)","v":0},{"$f":"IF(COUNTIF($AA63:BK63,$O63+$P63)<$Q63,$O63+$P63,0)","v":0},{"$f":"IF(COUNTIF($AA63:BL63,$O63+$P63)<$Q63,$O63+$P63,0)","v":0},{"$f":"IF(COUNTIF($AA63:BM63,$O63+$P63)<$Q63,$O63+$P63,0)","v":0},-0.3]
[0,0,{"$f":"COUNTIF(P4Pindices!$A$36:$A$54,INDEX('Measure Descriptions'!$E$7:$E$31,MATCH('Measure Simulation'!E64,'Measure Descriptions'!$C$7:$C$31,0),1))","v":0},15,{"$f":"IF('Measure Descriptions'!C21=0,\" \",'Measure Descriptions'!C21)","v":" "},0,0,0,0,0,0,0,0,0,0,0,{"$f":"IF(P4Pindices!G38=\"\",0,P4Pindices!G38)","v":0},0,0,0,null,null,null,null,null,0,0,0,{"$f":"IF(COUNTIF($AA64:AB64,$O64+$P64)<$Q64,$O64+$P64,0)","v":0},{"$f":"IF(COUNTIF($AA64:AC64,$O64+$P64)<$Q64,$O64+$P64,0)","v":0},{"$f":"IF(COUNTIF($AA64:AD64,$O64+$P64)<$Q64,$O64+$P64,0)","v":0},{"$f":"IF(COUNTIF($AA64:AE64,$O64+$P64)<$Q64,$O64+$P64,0)","v":0},{"$f":"IF(COUNTIF($AA64:AF64,$O64+$P64)<$Q64,$O64+$P64,0)","v":0},{"$f":"IF(COUNTIF($AA64:AG64,$O64+$P64)<$Q64,$O64+$P64,0)","v":0},{"$f":"IF(COUNTIF($AA64:AH64,$O64+$P64)<$Q64,$O64+$P64,0)","v":0},{"$f":"IF(COUNTIF($AA64:AI64,$O64+$P64)<$Q64,$O64+$P64,0)","v":0},{"$f":"IF(COUNTIF($AA64:AJ64,$O64+$P64)<$Q64,$O64+$P64,0)","v":0},{"$f":"IF(COUNTIF($AA64:AK64,$O64+$P64)<$Q64,$O64+$P64,0)","v":0},{"$f":"IF(COUNTIF($AA64:AL64,$O64+$P64)<$Q64,$O64+$P64,0)","v":0},{"$f":"IF(COUNTIF($AA64:AM64,$O64+$P64)<$Q64,$O64+$P64,0)","v":0},{"$f":"IF(COUNTIF($AA64:AN64,$O64+$P64)<$Q64,$O64+$P64,0)","v":0},{"$f":"IF(COUNTIF($AA64:AO64,$O64+$P64)<$Q64,$O64+$P64,0)","v":0},{"$f":"IF(COUNTIF($AA64:AP64,$O64+$P64)<$Q64,$O64+$P64,0)","v":0},{"$f":"IF(COUNTIF($AA64:AQ64,$O64+$P64)<$Q64,$O64+$P64,0)","v":0},{"$f":"IF(COUNTIF($AA64:AR64,$O64+$P64)<$Q64,$O64+$P64,0)","v":0},{"$f":"IF(COUNTIF($AA64:AS64,$O64+$P64)<$Q64,$O64+$P64,0)","v":0},{"$f":"IF(COUNTIF($AA64:AT64,$O64+$P64)<$Q64,$O64+$P64,0)","v":0},{"$f":"IF(COUNTIF($AA64:AU64,$O64+$P64)<$Q64,$O64+$P64,0)","v":0},{"$f":"IF(COUNTIF($AA64:AV64,$O64+$P64)<$Q64,$O64+$P64,0)","v":0},{"$f":"IF(COUNTIF($AA64:AW64,$O64+$P64)<$Q64,$O64+$P64,0)","v":0},{"$f":"IF(COUNTIF($AA64:AX64,$O64+$P64)<$Q64,$O64+$P64,0)","v":0},{"$f":"IF(COUNTIF($AA64:AY64,$O64+$P64)<$Q64,$O64+$P64,0)","v":0},{"$f":"IF(COUNTIF($AA64:AZ64,$O64+$P64)<$Q64,$O64+$P64,0)","v":0},{"$f":"IF(COUNTIF($AA64:BA64,$O64+$P64)<$Q64,$O64+$P64,0)","v":0},{"$f":"IF(COUNTIF($AA64:BB64,$O64+$P64)<$Q64,$O64+$P64,0)","v":0},{"$f":"IF(COUNTIF($AA64:BC64,$O64+$P64)<$Q64,$O64+$P64,0)","v":0},{"$f":"IF(COUNTIF($AA64:BD64,$O64+$P64)<$Q64,$O64+$P64,0)","v":0},{"$f":"IF(COUNTIF($AA64:BE64,$O64+$P64)<$Q64,$O64+$P64,0)","v":0},{"$f":"IF(COUNTIF($AA64:BF64,$O64+$P64)<$Q64,$O64+$P64,0)","v":0},{"$f":"IF(COUNTIF($AA64:BG64,$O64+$P64)<$Q64,$O64+$P64,0)","v":0},{"$f":"IF(COUNTIF($AA64:BH64,$O64+$P64)<$Q64,$O64+$P64,0)","v":0},{"$f":"IF(COUNTIF($AA64:BI64,$O64+$P64)<$Q64,$O64+$P64,0)","v":0},{"$f":"IF(COUNTIF($AA64:BJ64,$O64+$P64)<$Q64,$O64+$P64,0)","v":0},{"$f":"IF(COUNTIF($AA64:BK64,$O64+$P64)<$Q64,$O64+$P64,0)","v":0},{"$f":"IF(COUNTIF($AA64:BL64,$O64+$P64)<$Q64,$O64+$P64,0)","v":0},{"$f":"IF(COUNTIF($AA64:BM64,$O64+$P64)<$Q64,$O64+$P64,0)","v":0},-0.3]
[0,0,{"$f":"COUNTIF(P4Pindices!$A$36:$A$54,INDEX('Measure Descriptions'!$E$7:$E$31,MATCH('Measure Simulation'!E65,'Measure Descriptions'!$C$7:$C$31,0),1))","v":0},16,{"$f":"IF('Measure Descriptions'!C22=0,\" \",'Measure Descriptions'!C22)","v":" "},0,0,0,0,0,0,0,0,0,0,0,{"$f":"IF(P4Pindices!G39=\"\",0,P4Pindices!G39)","v":0},0,0,0,null,null,null,null,null,{"$f":"-F65","v":0},0,0,{"$f":"IF(COUNTIF($AA65:AB65,$O65+$P65)<$Q65,$O65+$P65,0)","v":0},{"$f":"IF(COUNTIF($AA65:AC65,$O65+$P65)<$Q65,$O65+$P65,0)","v":0},{"$f":"IF(COUNTIF($AA65:AD65,$O65+$P65)<$Q65,$O65+$P65,0)","v":0},{"$f":"IF(COUNTIF($AA65:AE65,$O65+$P65)<$Q65,$O65+$P65,0)","v":0},{"$f":"IF(COUNTIF($AA65:AF65,$O65+$P65)<$Q65,$O65+$P65,0)","v":0},{"$f":"IF(COUNTIF($AA65:AG65,$O65+$P65)<$Q65,$O65+$P65,0)","v":0},{"$f":"IF(COUNTIF($AA65:AH65,$O65+$P65)<$Q65,$O65+$P65,0)","v":0},{"$f":"IF(COUNTIF($AA65:AI65,$O65+$P65)<$Q65,$O65+$P65,0)","v":0},{"$f":"IF(COUNTIF($AA65:AJ65,$O65+$P65)<$Q65,$O65+$P65,0)","v":0},{"$f":"IF(COUNTIF($AA65:AK65,$O65+$P65)<$Q65,$O65+$P65,0)","v":0},{"$f":"IF(COUNTIF($AA65:AL65,$O65+$P65)<$Q65,$O65+$P65,0)","v":0},{"$f":"IF(COUNTIF($AA65:AM65,$O65+$P65)<$Q65,$O65+$P65,0)","v":0},{"$f":"IF(COUNTIF($AA65:AN65,$O65+$P65)<$Q65,$O65+$P65,0)","v":0},{"$f":"IF(COUNTIF($AA65:AO65,$O65+$P65)<$Q65,$O65+$P65,0)","v":0},{"$f":"IF(COUNTIF($AA65:AP65,$O65+$P65)<$Q65,$O65+$P65,0)","v":0},{"$f":"IF(COUNTIF($AA65:AQ65,$O65+$P65)<$Q65,$O65+$P65,0)","v":0},{"$f":"IF(COUNTIF($AA65:AR65,$O65+$P65)<$Q65,$O65+$P65,0)","v":0},{"$f":"IF(COUNTIF($AA65:AS65,$O65+$P65)<$Q65,$O65+$P65,0)","v":0},{"$f":"IF(COUNTIF($AA65:AT65,$O65+$P65)<$Q65,$O65+$P65,0)","v":0},{"$f":"IF(COUNTIF($AA65:AU65,$O65+$P65)<$Q65,$O65+$P65,0)","v":0},{"$f":"IF(COUNTIF($AA65:AV65,$O65+$P65)<$Q65,$O65+$P65,0)","v":0},{"$f":"IF(COUNTIF($AA65:AW65,$O65+$P65)<$Q65,$O65+$P65,0)","v":0},{"$f":"IF(COUNTIF($AA65:AX65,$O65+$P65)<$Q65,$O65+$P65,0)","v":0},{"$f":"IF(COUNTIF($AA65:AY65,$O65+$P65)<$Q65,$O65+$P65,0)","v":0},{"$f":"IF(COUNTIF($AA65:AZ65,$O65+$P65)<$Q65,$O65+$P65,0)","v":0},{"$f":"IF(COUNTIF($AA65:BA65,$O65+$P65)<$Q65,$O65+$P65,0)","v":0},{"$f":"IF(COUNTIF($AA65:BB65,$O65+$P65)<$Q65,$O65+$P65,0)","v":0},{"$f":"IF(COUNTIF($AA65:BC65,$O65+$P65)<$Q65,$O65+$P65,0)","v":0},{"$f":"IF(COUNTIF($AA65:BD65,$O65+$P65)<$Q65,$O65+$P65,0)","v":0},{"$f":"IF(COUNTIF($AA65:BE65,$O65+$P65)<$Q65,$O65+$P65,0)","v":0},{"$f":"IF(COUNTIF($AA65:BF65,$O65+$P65)<$Q65,$O65+$P65,0)","v":0},{"$f":"IF(COUNTIF($AA65:BG65,$O65+$P65)<$Q65,$O65+$P65,0)","v":0},{"$f":"IF(COUNTIF($AA65:BH65,$O65+$P65)<$Q65,$O65+$P65,0)","v":0},{"$f":"IF(COUNTIF($AA65:BI65,$O65+$P65)<$Q65,$O65+$P65,0)","v":0},{"$f":"IF(COUNTIF($AA65:BJ65,$O65+$P65)<$Q65,$O65+$P65,0)","v":0},{"$f":"IF(COUNTIF($AA65:BK65,$O65+$P65)<$Q65,$O65+$P65,0)","v":0},{"$f":"IF(COUNTIF($AA65:BL65,$O65+$P65)<$Q65,$O65+$P65,0)","v":0},{"$f":"IF(COUNTIF($AA65:BM65,$O65+$P65)<$Q65,$O65+$P65,0)","v":0},-0.3]
[0,0,{"$f":"COUNTIF(P4Pindices!$A$36:$A$54,INDEX('Measure Descriptions'!$E$7:$E$31,MATCH('Measure Simulation'!E66,'Measure Descriptions'!$C$7:$C$31,0),1))","v":0},17,{"$f":"IF('Measure Descriptions'!C23=0,\" \",'Measure Descriptions'!C23)","v":" "},0,0,0,0,0,0,0,0,0,0,0,{"$f":"IF(P4Pindices!G40=\"\",0,P4Pindices!G40)","v":0},0,0,0,null,null,null,null,null,0,0,0,{"$f":"IF(COUNTIF($AA66:AB66,$O66+$P66)<$Q66,$O66+$P66,0)","v":0},{"$f":"IF(COUNTIF($AA66:AC66,$O66+$P66)<$Q66,$O66+$P66,0)","v":0},{"$f":"IF(COUNTIF($AA66:AD66,$O66+$P66)<$Q66,$O66+$P66,0)","v":0},{"$f":"IF(COUNTIF($AA66:AE66,$O66+$P66)<$Q66,$O66+$P66,0)","v":0},{"$f":"IF(COUNTIF($AA66:AF66,$O66+$P66)<$Q66,$O66+$P66,0)","v":0},{"$f":"IF(COUNTIF($AA66:AG66,$O66+$P66)<$Q66,$O66+$P66,0)","v":0},{"$f":"IF(COUNTIF($AA66:AH66,$O66+$P66)<$Q66,$O66+$P66,0)","v":0},{"$f":"IF(COUNTIF($AA66:AI66,$O66+$P66)<$Q66,$O66+$P66,0)","v":0},{"$f":"IF(COUNTIF($AA66:AJ66,$O66+$P66)<$Q66,$O66+$P66,0)","v":0},{"$f":"IF(COUNTIF($AA66:AK66,$O66+$P66)<$Q66,$O66+$P66,0)","v":0},{"$f":"IF(COUNTIF($AA66:AL66,$O66+$P66)<$Q66,$O66+$P66,0)","v":0},{"$f":"IF(COUNTIF($AA66:AM66,$O66+$P66)<$Q66,$O66+$P66,0)","v":0},{"$f":"IF(COUNTIF($AA66:AN66,$O66+$P66)<$Q66,$O66+$P66,0)","v":0},{"$f":"IF(COUNTIF($AA66:AO66,$O66+$P66)<$Q66,$O66+$P66,0)","v":0},{"$f":"IF(COUNTIF($AA66:AP66,$O66+$P66)<$Q66,$O66+$P66,0)","v":0},{"$f":"IF(COUNTIF($AA66:AQ66,$O66+$P66)<$Q66,$O66+$P66,0)","v":0},{"$f":"IF(COUNTIF($AA66:AR66,$O66+$P66)<$Q66,$O66+$P66,0)","v":0},{"$f":"IF(COUNTIF($AA66:AS66,$O66+$P66)<$Q66,$O66+$P66,0)","v":0},{"$f":"IF(COUNTIF($AA66:AT66,$O66+$P66)<$Q66,$O66+$P66,0)","v":0},{"$f":"IF(COUNTIF($AA66:AU66,$O66+$P66)<$Q66,$O66+$P66,0)","v":0},{"$f":"IF(COUNTIF($AA66:AV66,$O66+$P66)<$Q66,$O66+$P66,0)","v":0},{"$f":"IF(COUNTIF($AA66:AW66,$O66+$P66)<$Q66,$O66+$P66,0)","v":0},{"$f":"IF(COUNTIF($AA66:AX66,$O66+$P66)<$Q66,$O66+$P66,0)","v":0},{"$f":"IF(COUNTIF($AA66:AY66,$O66+$P66)<$Q66,$O66+$P66,0)","v":0},{"$f":"IF(COUNTIF($AA66:AZ66,$O66+$P66)<$Q66,$O66+$P66,0)","v":0},{"$f":"IF(COUNTIF($AA66:BA66,$O66+$P66)<$Q66,$O66+$P66,0)","v":0},{"$f":"IF(COUNTIF($AA66:BB66,$O66+$P66)<$Q66,$O66+$P66,0)","v":0},{"$f":"IF(COUNTIF($AA66:BC66,$O66+$P66)<$Q66,$O66+$P66,0)","v":0},{"$f":"IF(COUNTIF($AA66:BD66,$O66+$P66)<$Q66,$O66+$P66,0)","v":0},{"$f":"IF(COUNTIF($AA66:BE66,$O66+$P66)<$Q66,$O66+$P66,0)","v":0},{"$f":"IF(COUNTIF($AA66:BF66,$O66+$P66)<$Q66,$O66+$P66,0)","v":0},{"$f":"IF(COUNTIF($AA66:BG66,$O66+$P66)<$Q66,$O66+$P66,0)","v":0},{"$f":"IF(COUNTIF($AA66:BH66,$O66+$P66)<$Q66,$O66+$P66,0)","v":0},{"$f":"IF(COUNTIF($AA66:BI66,$O66+$P66)<$Q66,$O66+$P66,0)","v":0},{"$f":"IF(COUNTIF($AA66:BJ66,$O66+$P66)<$Q66,$O66+$P66,0)","v":0},{"$f":"IF(COUNTIF($AA66:BK66,$O66+$P66)<$Q66,$O66+$P66,0)","v":0},{"$f":"IF(COUNTIF($AA66:BL66,$O66+$P66)<$Q66,$O66+$P66,0)","v":0},{"$f":"IF(COUNTIF($AA66:BM66,$O66+$P66)<$Q66,$O66+$P66,0)","v":0},-0.3]
[0,0,{"$f":"COUNTIF(P4Pindices!$A$36:$A$54,INDEX('Measure Descriptions'!$E$7:$E$31,MATCH('Measure Simulation'!E67,'Measure Descriptions'!$C$7:$C$31,0),1))","v":0},18,{"$f":"IF('Measure Descriptions'!C24=0,\" \",'Measure Descriptions'!C24)","v":" "},0,0,0,0,0,0,0,0,0,0,0,{"$f":"IF(P4Pindices!G41=\"\",0,P4Pindices!G41)","v":0},0,0,0,null,null,null,null,null,0,0,0,{"$f":"IF(COUNTIF($AA67:AB67,$O67+$P67)<$Q67,$O67+$P67,0)","v":0},{"$f":"IF(COUNTIF($AA67:AC67,$O67+$P67)<$Q67,$O67+$P67,0)","v":0},{"$f":"IF(COUNTIF($AA67:AD67,$O67+$P67)<$Q67,$O67+$P67,0)","v":0},{"$f":"IF(COUNTIF($AA67:AE67,$O67+$P67)<$Q67,$O67+$P67,0)","v":0},{"$f":"IF(COUNTIF($AA67:AF67,$O67+$P67)<$Q67,$O67+$P67,0)","v":0},{"$f":"IF(COUNTIF($AA67:AG67,$O67+$P67)<$Q67,$O67+$P67,0)","v":0},{"$f":"IF(COUNTIF($AA67:AH67,$O67+$P67)<$Q67,$O67+$P67,0)","v":0},{"$f":"IF(COUNTIF($AA67:AI67,$O67+$P67)<$Q67,$O67+$P67,0)","v":0},{"$f":"IF(COUNTIF($AA67:AJ67,$O67+$P67)<$Q67,$O67+$P67,0)","v":0},{"$f":"IF(COUNTIF($AA67:AK67,$O67+$P67)<$Q67,$O67+$P67,0)","v":0},{"$f":"IF(COUNTIF($AA67:AL67,$O67+$P67)<$Q67,$O67+$P67,0)","v":0},{"$f":"IF(COUNTIF($AA67:AM67,$O67+$P67)<$Q67,$O67+$P67,0)","v":0},{"$f":"IF(COUNTIF($AA67:AN67,$O67+$P67)<$Q67,$O67+$P67,0)","v":0},{"$f":"IF(COUNTIF($AA67:AO67,$O67+$P67)<$Q67,$O67+$P67,0)","v":0},{"$f":"IF(COUNTIF($AA67:AP67,$O67+$P67)<$Q67,$O67+$P67,0)","v":0},{"$f":"IF(COUNTIF($AA67:AQ67,$O67+$P67)<$Q67,$O67+$P67,0)","v":0},{"$f":"IF(COUNTIF($AA67:AR67,$O67+$P67)<$Q67,$O67+$P67,0)","v":0},{"$f":"IF(COUNTIF($AA67:AS67,$O67+$P67)<$Q67,$O67+$P67,0)","v":0},{"$f":"IF(COUNTIF($AA67:AT67,$O67+$P67)<$Q67,$O67+$P67,0)","v":0},{"$f":"IF(COUNTIF($AA67:AU67,$O67+$P67)<$Q67,$O67+$P67,0)","v":0},{"$f":"IF(COUNTIF($AA67:AV67,$O67+$P67)<$Q67,$O67+$P67,0)","v":0},{"$f":"IF(COUNTIF($AA67:AW67,$O67+$P67)<$Q67,$O67+$P67,0)","v":0},{"$f":"IF(COUNTIF($AA67:AX67,$O67+$P67)<$Q67,$O67+$P67,0)","v":0},{"$f":"IF(COUNTIF($AA67:AY67,$O67+$P67)<$Q67,$O67+$P67,0)","v":0},{"$f":"IF(COUNTIF($AA67:AZ67,$O67+$P67)<$Q67,$O67+$P67,0)","v":0},{"$f":"IF(COUNTIF($AA67:BA67,$O67+$P67)<$Q67,$O67+$P67,0)","v":0},{"$f":"IF(COUNTIF($AA67:BB67,$O67+$P67)<$Q67,$O67+$P67,0)","v":0},{"$f":"IF(COUNTIF($AA67:BC67,$O67+$P67)<$Q67,$O67+$P67,0)","v":0},{"$f":"IF(COUNTIF($AA67:BD67,$O67+$P67)<$Q67,$O67+$P67,0)","v":0},{"$f":"IF(COUNTIF($AA67:BE67,$O67+$P67)<$Q67,$O67+$P67,0)","v":0},{"$f":"IF(COUNTIF($AA67:BF67,$O67+$P67)<$Q67,$O67+$P67,0)","v":0},{"$f":"IF(COUNTIF($AA67:BG67,$O67+$P67)<$Q67,$O67+$P67,0)","v":0},{"$f":"IF(COUNTIF($AA67:BH67,$O67+$P67)<$Q67,$O67+$P67,0)","v":0},{"$f":"IF(COUNTIF($AA67:BI67,$O67+$P67)<$Q67,$O67+$P67,0)","v":0},{"$f":"IF(COUNTIF($AA67:BJ67,$O67+$P67)<$Q67,$O67+$P67,0)","v":0},{"$f":"IF(COUNTIF($AA67:BK67,$O67+$P67)<$Q67,$O67+$P67,0)","v":0},{"$f":"IF(COUNTIF($AA67:BL67,$O67+$P67)<$Q67,$O67+$P67,0)","v":0},{"$f":"IF(COUNTIF($AA67:BM67,$O67+$P67)<$Q67,$O67+$P67,0)","v":0},-0.3]
[0,{"$f":"SUM(H68:M68)","v":0},{"$f":"COUNTIF(P4Pindices!$A$36:$A$54,INDEX('Measure Descriptions'!$E$7:$E$31,MATCH('Measure Simulation'!E68,'Measure Descriptions'!$C$7:$C$31,0),1))","v":0},19,{"$f":"IF('Measure Descriptions'!C25=0,\" \",'Measure Descriptions'!C25)","v":" "},0,0,0,0,0,0,0,0,0,0,0,{"$f":"IF(P4Pindices!G42=\"\",0,P4Pindices!G42)","v":0},0,0,0,null,null,null,null,null,0,0,0,{"$f":"IF(COUNTIF($AA68:AB68,$O68+$P68)<$Q68,$O68+$P68,0)","v":0},{"$f":"IF(COUNTIF($AA68:AC68,$O68+$P68)<$Q68,$O68+$P68,0)","v":0},{"$f":"IF(COUNTIF($AA68:AD68,$O68+$P68)<$Q68,$O68+$P68,0)","v":0},{"$f":"IF(COUNTIF($AA68:AE68,$O68+$P68)<$Q68,$O68+$P68,0)","v":0},{"$f":"IF(COUNTIF($AA68:AF68,$O68+$P68)<$Q68,$O68+$P68,0)","v":0},{"$f":"IF(COUNTIF($AA68:AG68,$O68+$P68)<$Q68,$O68+$P68,0)","v":0},{"$f":"IF(COUNTIF($AA68:AH68,$O68+$P68)<$Q68,$O68+$P68,0)","v":0},{"$f":"IF(COUNTIF($AA68:AI68,$O68+$P68)<$Q68,$O68+$P68,0)","v":0},{"$f":"IF(COUNTIF($AA68:AJ68,$O68+$P68)<$Q68,$O68+$P68,0)","v":0},{"$f":"IF(COUNTIF($AA68:AK68,$O68+$P68)<$Q68,$O68+$P68,0)","v":0},{"$f":"IF(COUNTIF($AA68:AL68,$O68+$P68)<$Q68,$O68+$P68,0)","v":0},{"$f":"IF(COUNTIF($AA68:AM68,$O68+$P68)<$Q68,$O68+$P68,0)","v":0},{"$f":"IF(COUNTIF($AA68:AN68,$O68+$P68)<$Q68,$O68+$P68,0)","v":0},{"$f":"IF(COUNTIF($AA68:AO68,$O68+$P68)<$Q68,$O68+$P68,0)","v":0},{"$f":"IF(COUNTIF($AA68:AP68,$O68+$P68)<$Q68,$O68+$P68,0)","v":0},{"$f":"IF(COUNTIF($AA68:AQ68,$O68+$P68)<$Q68,$O68+$P68,0)","v":0},{"$f":"IF(COUNTIF($AA68:AR68,$O68+$P68)<$Q68,$O68+$P68,0)","v":0},{"$f":"IF(COUNTIF($AA68:AS68,$O68+$P68)<$Q68,$O68+$P68,0)","v":0},{"$f":"IF(COUNTIF($AA68:AT68,$O68+$P68)<$Q68,$O68+$P68,0)","v":0},{"$f":"IF(COUNTIF($AA68:AU68,$O68+$P68)<$Q68,$O68+$P68,0)","v":0},{"$f":"IF(COUNTIF($AA68:AV68,$O68+$P68)<$Q68,$O68+$P68,0)","v":0},{"$f":"IF(COUNTIF($AA68:AW68,$O68+$P68)<$Q68,$O68+$P68,0)","v":0},{"$f":"IF(COUNTIF($AA68:AX68,$O68+$P68)<$Q68,$O68+$P68,0)","v":0},{"$f":"IF(COUNTIF($AA68:AY68,$O68+$P68)<$Q68,$O68+$P68,0)","v":0},{"$f":"IF(COUNTIF($AA68:AZ68,$O68+$P68)<$Q68,$O68+$P68,0)","v":0},{"$f":"IF(COUNTIF($AA68:BA68,$O68+$P68)<$Q68,$O68+$P68,0)","v":0},{"$f":"IF(COUNTIF($AA68:BB68,$O68+$P68)<$Q68,$O68+$P68,0)","v":0},{"$f":"IF(COUNTIF($AA68:BC68,$O68+$P68)<$Q68,$O68+$P68,0)","v":0},{"$f":"IF(COUNTIF($AA68:BD68,$O68+$P68)<$Q68,$O68+$P68,0)","v":0},{"$f":"IF(COUNTIF($AA68:BE68,$O68+$P68)<$Q68,$O68+$P68,0)","v":0},{"$f":"IF(COUNTIF($AA68:BF68,$O68+$P68)<$Q68,$O68+$P68,0)","v":0},{"$f":"IF(COUNTIF($AA68:BG68,$O68+$P68)<$Q68,$O68+$P68,0)","v":0},{"$f":"IF(COUNTIF($AA68:BH68,$O68+$P68)<$Q68,$O68+$P68,0)","v":0},{"$f":"IF(COUNTIF($AA68:BI68,$O68+$P68)<$Q68,$O68+$P68,0)","v":0},{"$f":"IF(COUNTIF($AA68:BJ68,$O68+$P68)<$Q68,$O68+$P68,0)","v":0},{"$f":"IF(COUNTIF($AA68:BK68,$O68+$P68)<$Q68,$O68+$P68,0)","v":0},{"$f":"IF(COUNTIF($AA68:BL68,$O68+$P68)<$Q68,$O68+$P68,0)","v":0},{"$f":"IF(COUNTIF($AA68:BM68,$O68+$P68)<$Q68,$O68+$P68,0)","v":0},-0.3]
[0,{"$f":"SUM(H69:M69)","v":0},{"$f":"COUNTIF(P4Pindices!$A$36:$A$54,INDEX('Measure Descriptions'!$E$7:$E$31,MATCH('Measure Simulation'!E69,'Measure Descriptions'!$C$7:$C$31,0),1))","v":0},20,{"$f":"IF('Measure Descriptions'!C26=0,\" \",'Measure Descriptions'!C26)","v":" "},0,0,0,0,0,0,0,0,0,0,0,{"$f":"IF(P4Pindices!G43=\"\",0,P4Pindices!G43)","v":0},0,0,0,null,null,null,null,null,0,0,0,{"$f":"IF(COUNTIF($AA69:AB69,$O69+$P69)<$Q69,$O69+$P69,0)","v":0},{"$f":"IF(COUNTIF($AA69:AC69,$O69+$P69)<$Q69,$O69+$P69,0)","v":0},{"$f":"IF(COUNTIF($AA69:AD69,$O69+$P69)<$Q69,$O69+$P69,0)","v":0},{"$f":"IF(COUNTIF($AA69:AE69,$O69+$P69)<$Q69,$O69+$P69,0)","v":0},{"$f":"IF(COUNTIF($AA69:AF69,$O69+$P69)<$Q69,$O69+$P69,0)","v":0},{"$f":"IF(COUNTIF($AA69:AG69,$O69+$P69)<$Q69,$O69+$P69,0)","v":0},{"$f":"IF(COUNTIF($AA69:AH69,$O69+$P69)<$Q69,$O69+$P69,0)","v":0},{"$f":"IF(COUNTIF($AA69:AI69,$O69+$P69)<$Q69,$O69+$P69,0)","v":0},{"$f":"IF(COUNTIF($AA69:AJ69,$O69+$P69)<$Q69,$O69+$P69,0)","v":0},{"$f":"IF(COUNTIF($AA69:AK69,$O69+$P69)<$Q69,$O69+$P69,0)","v":0},{"$f":"IF(COUNTIF($AA69:AL69,$O69+$P69)<$Q69,$O69+$P69,0)","v":0},{"$f":"IF(COUNTIF($AA69:AM69,$O69+$P69)<$Q69,$O69+$P69,0)","v":0},{"$f":"IF(COUNTIF($AA69:AN69,$O69+$P69)<$Q69,$O69+$P69,0)","v":0},{"$f":"IF(COUNTIF($AA69:AO69,$O69+$P69)<$Q69,$O69+$P69,0)","v":0},{"$f":"IF(COUNTIF($AA69:AP69,$O69+$P69)<$Q69,$O69+$P69,0)","v":0},{"$f":"IF(COUNTIF($AA69:AQ69,$O69+$P69)<$Q69,$O69+$P69,0)","v":0},{"$f":"IF(COUNTIF($AA69:AR69,$O69+$P69)<$Q69,$O69+$P69,0)","v":0},{"$f":"IF(COUNTIF($AA69:AS69,$O69+$P69)<$Q69,$O69+$P69,0)","v":0},{"$f":"IF(COUNTIF($AA69:AT69,$O69+$P69)<$Q69,$O69+$P69,0)","v":0},{"$f":"IF(COUNTIF($AA69:AU69,$O69+$P69)<$Q69,$O69+$P69,0)","v":0},{"$f":"IF(COUNTIF($AA69:AV69,$O69+$P69)<$Q69,$O69+$P69,0)","v":0},{"$f":"IF(COUNTIF($AA69:AW69,$O69+$P69)<$Q69,$O69+$P69,0)","v":0},{"$f":"IF(COUNTIF($AA69:AX69,$O69+$P69)<$Q69,$O69+$P69,0)","v":0},{"$f":"IF(COUNTIF($AA69:AY69,$O69+$P69)<$Q69,$O69+$P69,0)","v":0},{"$f":"IF(COUNTIF($AA69:AZ69,$O69+$P69)<$Q69,$O69+$P69,0)","v":0},{"$f":"IF(COUNTIF($AA69:BA69,$O69+$P69)<$Q69,$O69+$P69,0)","v":0},{"$f":"IF(COUNTIF($AA69:BB69,$O69+$P69)<$Q69,$O69+$P69,0)","v":0},{"$f":"IF(COUNTIF($AA69:BC69,$O69+$P69)<$Q69,$O69+$P69,0)","v":0},{"$f":"IF(COUNTIF($AA69:BD69,$O69+$P69)<$Q69,$O69+$P69,0)","v":0},{"$f":"IF(COUNTIF($AA69:BE69,$O69+$P69)<$Q69,$O69+$P69,0)","v":0},{"$f":"IF(COUNTIF($AA69:BF69,$O69+$P69)<$Q69,$O69+$P69,0)","v":0},{"$f":"IF(COUNTIF($AA69:BG69,$O69+$P69)<$Q69,$O69+$P69,0)","v":0},{"$f":"IF(COUNTIF($AA69:BH69,$O69+$P69)<$Q69,$O69+$P69,0)","v":0},{"$f":"IF(COUNTIF($AA69:BI69,$O69+$P69)<$Q69,$O69+$P69,0)","v":0},{"$f":"IF(COUNTIF($AA69:BJ69,$O69+$P69)<$Q69,$O69+$P69,0)","v":0},{"$f":"IF(COUNTIF($AA69:BK69,$O69+$P69)<$Q69,$O69+$P69,0)","v":0},{"$f":"IF(COUNTIF($AA69:BL69,$O69+$P69)<$Q69,$O69+$P69,0)","v":0},{"$f":"IF(COUNTIF($AA69:BM69,$O69+$P69)<$Q69,$O69+$P69,0)","v":0},-0.3]
[0,0,{"$f":"COUNTIF(P4Pindices!$A$36:$A$54,INDEX('Measure Descriptions'!$E$7:$E$31,MATCH('Measure Simulation'!E70,'Measure Descriptions'!$C$7:$C$31,0),1))","v":0},21,{"$f":"IF('Measure Descriptions'!C27=0,\" \",'Measure Descriptions'!C27)","v":" "},0,0,0,0,0,0,0,0,0,0,0,{"$f":"IF(P4Pindices!G44=\"\",0,P4Pindices!G44)","v":0},0,0,0,null,null,null,null,null,0,0,0,{"$f":"IF(COUNTIF($AA70:AB70,$O70+$P70)<$Q70,$O70+$P70,0)","v":0},{"$f":"IF(COUNTIF($AA70:AC70,$O70+$P70)<$Q70,$O70+$P70,0)","v":0},{"$f":"IF(COUNTIF($AA70:AD70,$O70+$P70)<$Q70,$O70+$P70,0)","v":0},{"$f":"IF(COUNTIF($AA70:AE70,$O70+$P70)<$Q70,$O70+$P70,0)","v":0},{"$f":"IF(COUNTIF($AA70:AF70,$O70+$P70)<$Q70,$O70+$P70,0)","v":0},{"$f":"IF(COUNTIF($AA70:AG70,$O70+$P70)<$Q70,$O70+$P70,0)","v":0},{"$f":"IF(COUNTIF($AA70:AH70,$O70+$P70)<$Q70,$O70+$P70,0)","v":0},{"$f":"IF(COUNTIF($AA70:AI70,$O70+$P70)<$Q70,$O70+$P70,0)","v":0},{"$f":"IF(COUNTIF($AA70:AJ70,$O70+$P70)<$Q70,$O70+$P70,0)","v":0},{"$f":"IF(COUNTIF($AA70:AK70,$O70+$P70)<$Q70,$O70+$P70,0)","v":0},{"$f":"IF(COUNTIF($AA70:AL70,$O70+$P70)<$Q70,$O70+$P70,0)","v":0},{"$f":"IF(COUNTIF($AA70:AM70,$O70+$P70)<$Q70,$O70+$P70,0)","v":0},{"$f":"IF(COUNTIF($AA70:AN70,$O70+$P70)<$Q70,$O70+$P70,0)","v":0},{"$f":"IF(COUNTIF($AA70:AO70,$O70+$P70)<$Q70,$O70+$P70,0)","v":0},{"$f":"IF(COUNTIF($AA70:AP70,$O70+$P70)<$Q70,$O70+$P70,0)","v":0},{"$f":"IF(COUNTIF($AA70:AQ70,$O70+$P70)<$Q70,$O70+$P70,0)","v":0},{"$f":"IF(COUNTIF($AA70:AR70,$O70+$P70)<$Q70,$O70+$P70,0)","v":0},{"$f":"IF(COUNTIF($AA70:AS70,$O70+$P70)<$Q70,$O70+$P70,0)","v":0},{"$f":"IF(COUNTIF($AA70:AT70,$O70+$P70)<$Q70,$O70+$P70,0)","v":0},{"$f":"IF(COUNTIF($AA70:AU70,$O70+$P70)<$Q70,$O70+$P70,0)","v":0},{"$f":"IF(COUNTIF($AA70:AV70,$O70+$P70)<$Q70,$O70+$P70,0)","v":0},{"$f":"IF(COUNTIF($AA70:AW70,$O70+$P70)<$Q70,$O70+$P70,0)","v":0},{"$f":"IF(COUNTIF($AA70:AX70,$O70+$P70)<$Q70,$O70+$P70,0)","v":0},{"$f":"IF(COUNTIF($AA70:AY70,$O70+$P70)<$Q70,$O70+$P70,0)","v":0},{"$f":"IF(COUNTIF($AA70:AZ70,$O70+$P70)<$Q70,$O70+$P70,0)","v":0},{"$f":"IF(COUNTIF($AA70:BA70,$O70+$P70)<$Q70,$O70+$P70,0)","v":0},{"$f":"IF(COUNTIF($AA70:BB70,$O70+$P70)<$Q70,$O70+$P70,0)","v":0},{"$f":"IF(COUNTIF($AA70:BC70,$O70+$P70)<$Q70,$O70+$P70,0)","v":0},{"$f":"IF(COUNTIF($AA70:BD70,$O70+$P70)<$Q70,$O70+$P70,0)","v":0},{"$f":"IF(COUNTIF($AA70:BE70,$O70+$P70)<$Q70,$O70+$P70,0)","v":0},{"$f":"IF(COUNTIF($AA70:BF70,$O70+$P70)<$Q70,$O70+$P70,0)","v":0},{"$f":"IF(COUNTIF($AA70:BG70,$O70+$P70)<$Q70,$O70+$P70,0)","v":0},{"$f":"IF(COUNTIF($AA70:BH70,$O70+$P70)<$Q70,$O70+$P70,0)","v":0},{"$f":"IF(COUNTIF($AA70:BI70,$O70+$P70)<$Q70,$O70+$P70,0)","v":0},{"$f":"IF(COUNTIF($AA70:BJ70,$O70+$P70)<$Q70,$O70+$P70,0)","v":0},{"$f":"IF(COUNTIF($AA70:BK70,$O70+$P70)<$Q70,$O70+$P70,0)","v":0},{"$f":"IF(COUNTIF($AA70:BL70,$O70+$P70)<$Q70,$O70+$P70,0)","v":0},{"$f":"IF(COUNTIF($AA70:BM70,$O70+$P70)<$Q70,$O70+$P70,0)","v":0},-0.3]
[0,0,{"$f":"COUNTIF(P4Pindices!$A$36:$A$54,INDEX('Measure Descriptions'!$E$7:$E$31,MATCH('Measure Simulation'!E71,'Measure Descriptions'!$C$7:$C$31,0),1))","v":0},22,{"$f":"IF('Measure Descriptions'!C28=0,\" \",'Measure Descriptions'!C28)","v":" "},0,0,0,0,0,0,0,0,0,0,0,{"$f":"IF(P4Pindices!G45=\"\",0,P4Pindices!G45)","v":0},0,0,0,null,null,null,null,null,0,0,0,{"$f":"IF(COUNTIF($AA71:AB71,$O71+$P71)<$Q71,$O71+$P71,0)","v":0},{"$f":"IF(COUNTIF($AA71:AC71,$O71+$P71)<$Q71,$O71+$P71,0)","v":0},{"$f":"IF(COUNTIF($AA71:AD71,$O71+$P71)<$Q71,$O71+$P71,0)","v":0},{"$f":"IF(COUNTIF($AA71:AE71,$O71+$P71)<$Q71,$O71+$P71,0)","v":0},{"$f":"IF(COUNTIF($AA71:AF71,$O71+$P71)<$Q71,$O71+$P71,0)","v":0},{"$f":"IF(COUNTIF($AA71:AG71,$O71+$P71)<$Q71,$O71+$P71,0)","v":0},{"$f":"IF(COUNTIF($AA71:AH71,$O71+$P71)<$Q71,$O71+$P71,0)","v":0},{"$f":"IF(COUNTIF($AA71:AI71,$O71+$P71)<$Q71,$O71+$P71,0)","v":0},{"$f":"IF(COUNTIF($AA71:AJ71,$O71+$P71)<$Q71,$O71+$P71,0)","v":0},{"$f":"IF(COUNTIF($AA71:AK71,$O71+$P71)<$Q71,$O71+$P71,0)","v":0},{"$f":"IF(COUNTIF($AA71:AL71,$O71+$P71)<$Q71,$O71+$P71,0)","v":0},{"$f":"IF(COUNTIF($AA71:AM71,$O71+$P71)<$Q71,$O71+$P71,0)","v":0},{"$f":"IF(COUNTIF($AA71:AN71,$O71+$P71)<$Q71,$O71+$P71,0)","v":0},{"$f":"IF(COUNTIF($AA71:AO71,$O71+$P71)<$Q71,$O71+$P71,0)","v":0},{"$f":"IF(COUNTIF($AA71:AP71,$O71+$P71)<$Q71,$O71+$P71,0)","v":0},{"$f":"IF(COUNTIF($AA71:AQ71,$O71+$P71)<$Q71,$O71+$P71,0)","v":0},{"$f":"IF(COUNTIF($AA71:AR71,$O71+$P71)<$Q71,$O71+$P71,0)","v":0},{"$f":"IF(COUNTIF($AA71:AS71,$O71+$P71)<$Q71,$O71+$P71,0)","v":0},{"$f":"IF(COUNTIF($AA71:AT71,$O71+$P71)<$Q71,$O71+$P71,0)","v":0},{"$f":"IF(COUNTIF($AA71:AU71,$O71+$P71)<$Q71,$O71+$P71,0)","v":0},{"$f":"IF(COUNTIF($AA71:AV71,$O71+$P71)<$Q71,$O71+$P71,0)","v":0},{"$f":"IF(COUNTIF($AA71:AW71,$O71+$P71)<$Q71,$O71+$P71,0)","v":0},{"$f":"IF(COUNTIF($AA71:AX71,$O71+$P71)<$Q71,$O71+$P71,0)","v":0},{"$f":"IF(COUNTIF($AA71:AY71,$O71+$P71)<$Q71,$O71+$P71,0)","v":0},{"$f":"IF(COUNTIF($AA71:AZ71,$O71+$P71)<$Q71,$O71+$P71,0)","v":0},{"$f":"IF(COUNTIF($AA71:BA71,$O71+$P71)<$Q71,$O71+$P71,0)","v":0},{"$f":"IF(COUNTIF($AA71:BB71,$O71+$P71)<$Q71,$O71+$P71,0)","v":0},{"$f":"IF(COUNTIF($AA71:BC71,$O71+$P71)<$Q71,$O71+$P71,0)","v":0},{"$f":"IF(COUNTIF($AA71:BD71,$O71+$P71)<$Q71,$O71+$P71,0)","v":0},{"$f":"IF(COUNTIF($AA71:BE71,$O71+$P71)<$Q71,$O71+$P71,0)","v":0},{"$f":"IF(COUNTIF($AA71:BF71,$O71+$P71)<$Q71,$O71+$P71,0)","v":0},{"$f":"IF(COUNTIF($AA71:BG71,$O71+$P71)<$Q71,$O71+$P71,0)","v":0},{"$f":"IF(COUNTIF($AA71:BH71,$O71+$P71)<$Q71,$O71+$P71,0)","v":0},{"$f":"IF(COUNTIF($AA71:BI71,$O71+$P71)<$Q71,$O71+$P71,0)","v":0},{"$f":"IF(COUNTIF($AA71:BJ71,$O71+$P71)<$Q71,$O71+$P71,0)","v":0},{"$f":"IF(COUNTIF($AA71:BK71,$O71+$P71)<$Q71,$O71+$P71,0)","v":0},{"$f":"IF(COUNTIF($AA71:BL71,$O71+$P71)<$Q71,$O71+$P71,0)","v":0},{"$f":"IF(COUNTIF($AA71:BM71,$O71+$P71)<$Q71,$O71+$P71,0)","v":0},-0.3]
[0,0,{"$f":"COUNTIF(P4Pindices!$A$36:$A$54,INDEX('Measure Descriptions'!$E$7:$E$31,MATCH('Measure Simulation'!E72,'Measure Descriptions'!$C$7:$C$31,0),1))","v":0},23,{"$f":"IF('Measure Descriptions'!C29=0,\" \",'Measure Descriptions'!C29)","v":" "},0,0,0,0,0,0,0,0,0,0,0,{"$f":"IF(P4Pindices!G46=\"\",0,P4Pindices!G46)","v":0},0,0,0,null,null,null,null,null,0,0,0,{"$f":"IF(COUNTIF($AA72:AB72,$O72+$P72)<$Q72,$O72+$P72,0)","v":0},{"$f":"IF(COUNTIF($AA72:AC72,$O72+$P72)<$Q72,$O72+$P72,0)","v":0},{"$f":"IF(COUNTIF($AA72:AD72,$O72+$P72)<$Q72,$O72+$P72,0)","v":0},{"$f":"IF(COUNTIF($AA72:AE72,$O72+$P72)<$Q72,$O72+$P72,0)","v":0},{"$f":"IF(COUNTIF($AA72:AF72,$O72+$P72)<$Q72,$O72+$P72,0)","v":0},{"$f":"IF(COUNTIF($AA72:AG72,$O72+$P72)<$Q72,$O72+$P72,0)","v":0},{"$f":"IF(COUNTIF($AA72:AH72,$O72+$P72)<$Q72,$O72+$P72,0)","v":0},{"$f":"IF(COUNTIF($AA72:AI72,$O72+$P72)<$Q72,$O72+$P72,0)","v":0},{"$f":"IF(COUNTIF($AA72:AJ72,$O72+$P72)<$Q72,$O72+$P72,0)","v":0},{"$f":"IF(COUNTIF($AA72:AK72,$O72+$P72)<$Q72,$O72+$P72,0)","v":0},{"$f":"IF(COUNTIF($AA72:AL72,$O72+$P72)<$Q72,$O72+$P72,0)","v":0},{"$f":"IF(COUNTIF($AA72:AM72,$O72+$P72)<$Q72,$O72+$P72,0)","v":0},{"$f":"IF(COUNTIF($AA72:AN72,$O72+$P72)<$Q72,$O72+$P72,0)","v":0},{"$f":"IF(COUNTIF($AA72:AO72,$O72+$P72)<$Q72,$O72+$P72,0)","v":0},{"$f":"IF(COUNTIF($AA72:AP72,$O72+$P72)<$Q72,$O72+$P72,0)","v":0},{"$f":"IF(COUNTIF($AA72:AQ72,$O72+$P72)<$Q72,$O72+$P72,0)","v":0},{"$f":"IF(COUNTIF($AA72:AR72,$O72+$P72)<$Q72,$O72+$P72,0)","v":0},{"$f":"IF(COUNTIF($AA72:AS72,$O72+$P72)<$Q72,$O72+$P72,0)","v":0},{"$f":"IF(COUNTIF($AA72:AT72,$O72+$P72)<$Q72,$O72+$P72,0)","v":0},{"$f":"IF(COUNTIF($AA72:AU72,$O72+$P72)<$Q72,$O72+$P72,0)","v":0},{"$f":"IF(COUNTIF($AA72:AV72,$O72+$P72)<$Q72,$O72+$P72,0)","v":0},{"$f":"IF(COUNTIF($AA72:AW72,$O72+$P72)<$Q72,$O72+$P72,0)","v":0},{"$f":"IF(COUNTIF($AA72:AX72,$O72+$P72)<$Q72,$O72+$P72,0)","v":0},{"$f":"IF(COUNTIF($AA72:AY72,$O72+$P72)<$Q72,$O72+$P72,0)","v":0},{"$f":"IF(COUNTIF($AA72:AZ72,$O72+$P72)<$Q72,$O72+$P72,0)","v":0},{"$f":"IF(COUNTIF($AA72:BA72,$O72+$P72)<$Q72,$O72+$P72,0)","v":0},{"$f":"IF(COUNTIF($AA72:BB72,$O72+$P72)<$Q72,$O72+$P72,0)","v":0},{"$f":"IF(COUNTIF($AA72:BC72,$O72+$P72)<$Q72,$O72+$P72,0)","v":0},{"$f":"IF(COUNTIF($AA72:BD72,$O72+$P72)<$Q72,$O72+$P72,0)","v":0},{"$f":"IF(COUNTIF($AA72:BE72,$O72+$P72)<$Q72,$O72+$P72,0)","v":0},{"$f":"IF(COUNTIF($AA72:BF72,$O72+$P72)<$Q72,$O72+$P72,0)","v":0},{"$f":"IF(COUNTIF($AA72:BG72,$O72+$P72)<$Q72,$O72+$P72,0)","v":0},{"$f":"IF(COUNTIF($AA72:BH72,$O72+$P72)<$Q72,$O72+$P72,0)","v":0},{"$f":"IF(COUNTIF($AA72:BI72,$O72+$P72)<$Q72,$O72+$P72,0)","v":0},{"$f":"IF(COUNTIF($AA72:BJ72,$O72+$P72)<$Q72,$O72+$P72,0)","v":0},{"$f":"IF(COUNTIF($AA72:BK72,$O72+$P72)<$Q72,$O72+$P72,0)","v":0},{"$f":"IF(COUNTIF($AA72:BL72,$O72+$P72)<$Q72,$O72+$P72,0)","v":0},{"$f":"IF(COUNTIF($AA72:BM72,$O72+$P72)<$Q72,$O72+$P72,0)","v":0},-0.3]
[0,0,{"$f":"COUNTIF(P4Pindices!$A$36:$A$54,INDEX('Measure Descriptions'!$E$7:$E$31,MATCH('Measure Simulation'!E73,'Measure Descriptions'!$C$7:$C$31,0),1))","v":0},24,{"$f":"IF('Measure Descriptions'!C30=0,\" \",'Measure Descriptions'!C30)","v":" "},0,0,0,0,0,0,0,0,0,0,0,{"$f":"IF(P4Pindices!G47=\"\",0,P4Pindices!G47)","v":0},0,0,0,null,null,null,null,null,0,0,0,{"$f":"IF(COUNTIF($AA73:AB73,$O73+$P73)<$Q73,$O73+$P73,0)","v":0},{"$f":"IF(COUNTIF($AA73:AC73,$O73+$P73)<$Q73,$O73+$P73,0)","v":0},{"$f":"IF(COUNTIF($AA73:AD73,$O73+$P73)<$Q73,$O73+$P73,0)","v":0},{"$f":"IF(COUNTIF($AA73:AE73,$O73+$P73)<$Q73,$O73+$P73,0)","v":0},{"$f":"IF(COUNTIF($AA73:AF73,$O73+$P73)<$Q73,$O73+$P73,0)","v":0},{"$f":"IF(COUNTIF($AA73:AG73,$O73+$P73)<$Q73,$O73+$P73,0)","v":0},{"$f":"IF(COUNTIF($AA73:AH73,$O73+$P73)<$Q73,$O73+$P73,0)","v":0},{"$f":"IF(COUNTIF($AA73:AI73,$O73+$P73)<$Q73,$O73+$P73,0)","v":0},{"$f":"IF(COUNTIF($AA73:AJ73,$O73+$P73)<$Q73,$O73+$P73,0)","v":0},{"$f":"IF(COUNTIF($AA73:AK73,$O73+$P73)<$Q73,$O73+$P73,0)","v":0},{"$f":"IF(COUNTIF($AA73:AL73,$O73+$P73)<$Q73,$O73+$P73,0)","v":0},{"$f":"IF(COUNTIF($AA73:AM73,$O73+$P73)<$Q73,$O73+$P73,0)","v":0},{"$f":"IF(COUNTIF($AA73:AN73,$O73+$P73)<$Q73,$O73+$P73,0)","v":0},{"$f":"IF(COUNTIF($AA73:AO73,$O73+$P73)<$Q73,$O73+$P73,0)","v":0},{"$f":"IF(COUNTIF($AA73:AP73,$O73+$P73)<$Q73,$O73+$P73,0)","v":0},{"$f":"IF(COUNTIF($AA73:AQ73,$O73+$P73)<$Q73,$O73+$P73,0)","v":0},{"$f":"IF(COUNTIF($AA73:AR73,$O73+$P73)<$Q73,$O73+$P73,0)","v":0},{"$f":"IF(COUNTIF($AA73:AS73,$O73+$P73)<$Q73,$O73+$P73,0)","v":0},{"$f":"IF(COUNTIF($AA73:AT73,$O73+$P73)<$Q73,$O73+$P73,0)","v":0},{"$f":"IF(COUNTIF($AA73:AU73,$O73+$P73)<$Q73,$O73+$P73,0)","v":0},{"$f":"IF(COUNTIF($AA73:AV73,$O73+$P73)<$Q73,$O73+$P73,0)","v":0},{"$f":"IF(COUNTIF($AA73:AW73,$O73+$P73)<$Q73,$O73+$P73,0)","v":0},{"$f":"IF(COUNTIF($AA73:AX73,$O73+$P73)<$Q73,$O73+$P73,0)","v":0},{"$f":"IF(COUNTIF($AA73:AY73,$O73+$P73)<$Q73,$O73+$P73,0)","v":0},{"$f":"IF(COUNTIF($AA73:AZ73,$O73+$P73)<$Q73,$O73+$P73,0)","v":0},{"$f":"IF(COUNTIF($AA73:BA73,$O73+$P73)<$Q73,$O73+$P73,0)","v":0},{"$f":"IF(COUNTIF($AA73:BB73,$O73+$P73)<$Q73,$O73+$P73,0)","v":0},{"$f":"IF(COUNTIF($AA73:BC73,$O73+$P73)<$Q73,$O73+$P73,0)","v":0},{"$f":"IF(COUNTIF($AA73:BD73,$O73+$P73)<$Q73,$O73+$P73,0)","v":0},{"$f":"IF(COUNTIF($AA73:BE73,$O73+$P73)<$Q73,$O73+$P73,0)","v":0},{"$f":"IF(COUNTIF($AA73:BF73,$O73+$P73)<$Q73,$O73+$P73,0)","v":0},{"$f":"IF(COUNTIF($AA73:BG73,$O73+$P73)<$Q73,$O73+$P73,0)","v":0},{"$f":"IF(COUNTIF($AA73:BH73,$O73+$P73)<$Q73,$O73+$P73,0)","v":0},{"$f":"IF(COUNTIF($AA73:BI73,$O73+$P73)<$Q73,$O73+$P73,0)","v":0},{"$f":"IF(COUNTIF($AA73:BJ73,$O73+$P73)<$Q73,$O73+$P73,0)","v":0},{"$f":"IF(COUNTIF($AA73:BK73,$O73+$P73)<$Q73,$O73+$P73,0)","v":0},{"$f":"IF(COUNTIF($AA73:BL73,$O73+$P73)<$Q73,$O73+$P73,0)","v":0},{"$f":"IF(COUNTIF($AA73:BM73,$O73+$P73)<$Q73,$O73+$P73,0)","v":0},-0.3]
[0,{"$f":"SUM(H74:M74)","v":0},{"$f":"COUNTIF(P4Pindices!$A$36:$A$54,INDEX('Measure Descriptions'!$E$7:$E$31,MATCH('Measure Simulation'!E74,'Measure Descriptions'!$C$7:$C$31,0),1))","v":0},25,{"$f":"IF('Measure Descriptions'!C31=0,\" \",'Measure Descriptions'!C31)","v":" "},0,0,0,0,0,0,0,0,0,0,0,{"$f":"IF(P4Pindices!G48=\"\",0,P4Pindices!G48)","v":0},0,0,0,null,null,null,null,null,0,{"$f":"O74+P74","v":0},{"$f":"IF(COUNTIF(AA74,O74+P74)<Q74,O74+P74,0)","v":0},{"$f":"IF(COUNTIF($AA74:AB74,$O74+$P74)<$Q74,$O74+$P74,0)","v":0},{"$f":"IF(COUNTIF($AA74:AC74,$O74+$P74)<$Q74,$O74+$P74,0)","v":0},{"$f":"IF(COUNTIF($AA74:AD74,$O74+$P74)<$Q74,$O74+$P74,0)","v":0},{"$f":"IF(COUNTIF($AA74:AE74,$O74+$P74)<$Q74,$O74+$P74,0)","v":0},{"$f":"IF(COUNTIF($AA74:AF74,$O74+$P74)<$Q74,$O74+$P74,0)","v":0},{"$f":"IF(COUNTIF($AA74:AG74,$O74+$P74)<$Q74,$O74+$P74,0)","v":0},{"$f":"IF(COUNTIF($AA74:AH74,$O74+$P74)<$Q74,$O74+$P74,0)","v":0},{"$f":"IF(COUNTIF($AA74:AI74,$O74+$P74)<$Q74,$O74+$P74,0)","v":0},{"$f":"IF(COUNTIF($AA74:AJ74,$O74+$P74)<$Q74,$O74+$P74,0)","v":0},{"$f":"IF(COUNTIF($AA74:AK74,$O74+$P74)<$Q74,$O74+$P74,0)","v":0},{"$f":"IF(COUNTIF($AA74:AL74,$O74+$P74)<$Q74,$O74+$P74,0)","v":0},{"$f":"IF(COUNTIF($AA74:AM74,$O74+$P74)<$Q74,$O74+$P74,0)","v":0},{"$f":"IF(COUNTIF($AA74:AN74,$O74+$P74)<$Q74,$O74+$P74,0)","v":0},{"$f":"IF(COUNTIF($AA74:AO74,$O74+$P74)<$Q74,$O74+$P74,0)","v":0},{"$f":"IF(COUNTIF($AA74:AP74,$O74+$P74)<$Q74,$O74+$P74,0)","v":0},{"$f":"IF(COUNTIF($AA74:AQ74,$O74+$P74)<$Q74,$O74+$P74,0)","v":0},{"$f":"IF(COUNTIF($AA74:AR74,$O74+$P74)<$Q74,$O74+$P74,0)","v":0},{"$f":"IF(COUNTIF($AA74:AS74,$O74+$P74)<$Q74,$O74+$P74,0)","v":0},{"$f":"IF(COUNTIF($AA74:AT74,$O74+$P74)<$Q74,$O74+$P74,0)","v":0},{"$f":"IF(COUNTIF($AA74:AU74,$O74+$P74)<$Q74,$O74+$P74,0)","v":0},{"$f":"IF(COUNTIF($AA74:AV74,$O74+$P74)<$Q74,$O74+$P74,0)","v":0},{"$f":"IF(COUNTIF($AA74:AW74,$O74+$P74)<$Q74,$O74+$P74,0)","v":0},{"$f":"IF(COUNTIF($AA74:AX74,$O74+$P74)<$Q74,$O74+$P74,0)","v":0},{"$f":"IF(COUNTIF($AA74:AY74,$O74+$P74)<$Q74,$O74+$P74,0)","v":0},{"$f":"IF(COUNTIF($AA74:AZ74,$O74+$P74)<$Q74,$O74+$P74,0)","v":0},{"$f":"IF(COUNTIF($AA74:BA74,$O74+$P74)<$Q74,$O74+$P74,0)","v":0},{"$f":"IF(COUNTIF($AA74:BB74,$O74+$P74)<$Q74,$O74+$P74,0)","v":0},{"$f":"IF(COUNTIF($AA74:BC74,$O74+$P74)<$Q74,$O74+$P74,0)","v":0},{"$f":"IF(COUNTIF($AA74:BD74,$O74+$P74)<$Q74,$O74+$P74,0)","v":0},{"$f":"IF(COUNTIF($AA74:BE74,$O74+$P74)<$Q74,$O74+$P74,0)","v":0},{"$f":"IF(COUNTIF($AA74:BF74,$O74+$P74)<$Q74,$O74+$P74,0)","v":0},{"$f":"IF(COUNTIF($AA74:BG74,$O74+$P74)<$Q74,$O74+$P74,0)","v":0},{"$f":"IF(COUNTIF($AA74:BH74,$O74+$P74)<$Q74,$O74+$P74,0)","v":0},{"$f":"IF(COUNTIF($AA74:BI74,$O74+$P74)<$Q74,$O74+$P74,0)","v":0},{"$f":"IF(COUNTIF($AA74:BJ74,$O74+$P74)<$Q74,$O74+$P74,0)","v":0},{"$f":"IF(COUNTIF($AA74:BK74,$O74+$P74)<$Q74,$O74+$P74,0)","v":0},{"$f":"IF(COUNTIF($AA74:BL74,$O74+$P74)<$Q74,$O74+$P74,0)","v":0},{"$f":"IF(COUNTIF($AA74:BM74,$O74+$P74)<$Q74,$O74+$P74,0)","v":0},-0.3]
[1,null,null,"CM Fees",null,0,"Overall project management, all fees associated with specific measures should be noted above."]
[1,null,null,"Partner Fees",null,0,"Per Partner Contract "]
[1,null,null,"TOTALS",null,{"$f":"SUM(F50:F76)","v":0},{"$f":"SUM(G50:G74)","v":0},{"$f":"SUM(H50:H74)","v":0},{"$f":"SUM(I50:I74)","v":0},{"$f":"SUM(J50:J74)","v":0},0,0,0,0,0,0,{"$f":"IF(Q50=0,0,(SUMPRODUCT(F50:F74,Q50:Q74)/F77))","v":0},{"$f":"IF(P77=0,0,F77/P77)","v":0},{"$f":"SUM(S50:S74)-F75-F76","v":0},{"$f":"IF(P77=0,0,IRR(Z77:BN77,BO77))","v":0},null,{"$f":"IF(T77<10%,\"Total Project IRR must be at least 10%!\", \"\")","v":"Total Project IRR must be at least 10%!"},null,null,null,{"$f":"-F77","v":0},{"$f":"SUM(AA50:AA74)","v":0},{"$f":"SUM(AB50:AB74)","v":0},{"$f":"SUM(AC50:AC74)","v":0},0,0,0,0,0,0,0,0,0,0,0,0,0,0,0,0,0,0,0,0,0,0,0,0,0,0,0,0,0,0,0,0,0,0,0,0,{"$f":"SUM(BN50:BN74)","v":0},{"$f":"IF(P77*Q77>F77,0.3,-0.3)","v":-0.3}]
[]
[]
[null,null,null,null,null,null,null,null,null,null,null,null,null,null,null,null,null,null,null,null,null,null,null,null,null,null,"Discount Rate =",0.03]
[]
[]
[]
[]
[]
[]
[]
[]
[]
[]
[]
[]
[]
[]
[]
[]
[]
[]
[]
[]
[]
[]
[]
[]
[]
[]
[]
[]
[]
[]
[]
[]
[]
[]
[]
[]
[]
[]
[]
[]
[]
[]
[]
[]
[]
[]
[]
[]
[]
[]
[]
[]
[]
[]
[]
[null,null,null,null,null,null,null,null,null,null,null,null,null,null,null,null,null,null,null,null,null,"<Select Fuel Type>"]
[null,null,null,null,null,null,null,null,null,null,null,null,null,null,null,null,null,null,null,null,null,"Oil #2",0.1396]
[null,null,null,null,null,null,null,null,null,null,null,null,null,null,null,null,null,null,null,null,null,"Oil #4",0.14510000000000001]
[null,null,null,null,null,null,null,null,null,null,null,null,null,null,null,null,null,null,null,null,null,"Oil #6",0.15240000000000001]
[null,null,null,null,null,null,null,null,null,null,null,null,null,null,null,null,null,null,null,null,null,"Propane",9.1300000000000006E-2]
[]
[null,null,null,null,null,null,null,null,null,null,null,null,null,null,null,null,null,null,null,null,null,"<Select Units>"]
[null,null,null,null,null,null,null,null,null,null,null,null,null,null,null,null,null,null,null,null,null,"MMBtu"]
[null,null,null,null,null,null,null,null,null,null,null,null,null,null,null,null,null,null,null,null,null,"Gallons"]

{"sheet":"Results from Trace","index":31,"n_rows":5,"n_cols":29,"rows_kept":5,"cut":false,"hidden":true,"merged":[[2,0,2,9]]}
["Results from Trace Energy Cost Budget File(s)"]
["Instructions"]
["1) Open Trace ECB file(s) that include results for baseline and proposed models and all ECMs for this project.\n2) Copy end uses and associated affected fuel types from an ECB file (columns A and B from row 4 to the \"Total Building Consumption\" line item) and paste into columns A and B below.  \n3) Copy baseline run Energy 10˄6 Btu/yr column from the appropriate ECB file and paste into column C below.\n4) Copy proposed run Energy 10˄6 Btu/yr column from the approrpriate ECB file and paste into column D below.  This should represent the building with all measures included.\n5) Copy ECM run Energy 10˄6 Btu/yr columns that correspond to each ECM. including final run from Step 4, from the appropriate ECB file(s) and paste into columns E - AC (leave un-needed columns blank).  Do not include the baseline run.\n6) Click the \"Update ECB Data for Measure Simulation\" button to normalize end uses to CBECS designations.\n       "]
[]
["END USES (COL A)","AFFECTED FUELS (COL B)","BASELINE \n(Energy 10˄6 Btu/yr)","PROPOSED \n(Energy 10˄6 Btu/yr)","ECM 1\n(Energy 10˄6 Btu/yr)","ECM 2\n(Energy 10˄6 Btu/yr)","ECM 3\n(Energy 10˄6 Btu/yr)","ECM 4\n(Energy 10˄6 Btu/yr)","ECM 5\n(Energy 10˄6 Btu/yr)","ECM 6\n(Energy 10˄6 Btu/yr)","ECM 7\n(Energy 10˄6 Btu/yr)","ECM 8\n(Energy 10˄6 Btu/yr)","ECM 9\n(Energy 10˄6 Btu/yr)","ECM 10\n(Energy 10˄6 Btu/yr)","ECM 11\n(Energy 10˄6 Btu/yr)","ECM 12\n(Energy 10˄6 Btu/yr)","ECM 13\n(Energy 10˄6 Btu/yr)","ECM 14\n(Energy 10˄6 Btu/yr)","ECM15\n(Energy 10˄6 Btu/yr)","ECM 16\n(Energy 10˄6 Btu/yr)","ECM 17\n(Energy 10˄6 Btu/yr)","ECM 18\n(Energy 10˄6 Btu/yr)","ECM 19\n(Energy 10˄6 Btu/yr)","ECM 20\n(Energy 10˄6 Btu/yr)","ECM 21\n(Energy 10˄6 Btu/yr)","ECM 22\n(Energy 10˄6 Btu/yr)","ECM 23\n(Energy 10˄6 Btu/yr)","ECM24\n(Energy 10˄6 Btu/yr)","ECM 25\n(Energy 10˄6 Btu/yr)"]

{"sheet":"Results from eQUEST","index":32,"n_rows":32,"n_cols":76,"rows_kept":32,"cut":false,"hidden":true,"merged":[[4,66,4,69],[4,70,4,75],[2,0,2,10],[4,11,4,23],[4,24,4,35],[4,36,4,48],[4,49,4,61],[4,62,4,63],[4,64,4,65]]}
["Results from eQUEST Parms.csv File(s)"]
["Instructions"]
["1) Open Parms.csv file(s) that include results for baseline and proposed models and all ECMs for this project.\n2) Copy baseline run from the appropriate Parms.csv file and paste values into row 7 below.\n3) Copy proposed run from the approrpriate Parms.csv file and paste values into row 8 below.  This should represent the building with all measures included.\n4) Copy runs that correspond to each ECM from the appropriate Parms.csv file(s), including final run from Step 3, and paste into rows 9-32 (leave un-needed rows blank).  Do not include the baseline run.\n       "]
[]
[null,null,null,null,null,null,null,null,null,null,null,"Electric Usage:",null,null,null,null,null,null,null,null,null,null,null,null,"Non-Coincident Peak Demand:",null,null,null,null,null,null,null,null,null,null,null,"Coincident Peak Demand:",null,null,null,null,null,null,null,null,null,null,null,null,"Fuel Usage:",null,null,null,null,null,null,null,null,null,null,null,null,"Source Energy:",null,"TDV Energy:",null,"Annual Utility Costs:",null,null,null,"Hours Outside Throttling Range:"]
["Run Type","Internal Loads","Case #s","Short Name","Carry Fwd","Incremental First Cost ($)","Incremental Annual Maint. ($)","Date & Time of Run","File Name","Case Description","SS-D\nPeak Cooling Coil Load\nkBtu","PS-E\nAmbient Lights\nkWh","PS-E\nTask Lights\nkWh","PS-E\nMisc Equip\nkWh","PS-E\nSpace Heating\nkWh","PS-E\nSpace Cooling\nkWh","PS-E\nHeat Reject\nkWh","PS-E\nPumps & Aux\nkWh","PS-E\nVentilation Fans\nkWh","PS-E\nRefrig Display\nkWh","PS-E\nHeat Pump Supplement\nkWh","PS-E\nDomestic Hot Water\nkWh","PS-E\nExterior Usage\nkWh","PS-E\nTotal\nkWh","PS-E\nAmbient Lights\nkW","PS-E\nTask Lights\nkW","PS-E\nMisc Equip\nkW","PS-E\nSpace Heating\nkW","PS-E\nSpace Cooling\nkW","PS-E\nHeat Reject\nkW","PS-E\nPumps & Aux\nkW","PS-E\nVentilation Fans\nkW","PS-E\nRefrig Display\nkW","PS-E\nHeat Pump Supplement\nkW","PS-E\nDomestic Hot Water\nkW","PS-E\nExterior Usage\nkW","PS-E\nAmbient Lights\nkW","PS-E\nTask Lights\nkW","PS-E\nMisc Equip\nkW","PS-E\nSpace Heating\nkW","PS-E\nSpace Cooling\nkW","PS-E\nHeat Reject\nkW","PS-E\nPumps & Aux\nkW","PS-E\nVentilation Fans\nkW","PS-E\nRefrig Display\nkW","PS-E\nHeat Pump Supplement\nkW","PS-E\nDomestic Hot Water\nkW","PS-E\nExterior Usage\nkW","PS-E\nBldg Total\nkW","PS-E\nAmbient Lights\nTherms","PS-E\nTask Lights\nTherms","PS-E\nMisc Equip\nTherms","PS-E\nSpace Heating\nTherms","PS-E\nSpace Cooling\nTherms","PS-E\nHeat Reject\nTherms","PS-E\nPumps & Aux\nTherms","PS-E\nVentilation Fans\nTherms","PS-E\nRefrig Display\nTherms","PS-E\nHeat Pump Supplement\nTherms","PS-E\nDomestic Hot Water\nTherms","PS-E\nExterior Usage\nTherms","PS-E\nTotal\nTherms","BEPS\nBldg Energy\nMbtu","BEPS\nBldg EUI\nkBtu/sf/yr","TDV1\nBldg Energy\nTDV-Mbtu","TDV1\nBldg EUI\nTDV-kBtu/sf/yr","ES-E\nTotal Electric\n$","ES-E\nTotal Fuel\n$","ES-E\nElectric kWh\n$","ES-E\nElectric kW\n$","BEPS\nZone Outsd Thrtlng Rng\n% hrs","BEPS\nPlant Ld Not Met\n% hrs","SS-E\nHours Fan On\n# hrs","\nZone Outsd Thrtlng Rng\n# hrs","BEPS\nCool Loads Not Met\n# hrs","BEPS\nHeat Loads Not Met\n# hrs"]
["<Paste Baseline Run Here>"]
["<Paste Proposed Run Here>"]
["<Paste ECM Run Here>"]
["<Paste ECM Run Here>"]
["<Paste ECM Run Here>"]
["<Paste ECM Run Here>"]
["<Paste ECM Run Here>"]
["<Paste ECM Run Here>"]
["<Paste ECM Run Here>"]
["<Paste ECM Run Here>"]
["<Paste ECM Run Here>"]
["<Paste ECM Run Here>"]
["<Paste ECM Run Here>"]
["<Paste ECM Run Here>"]
["<Paste ECM Run Here>"]
["<Paste ECM Run Here>"]
["<Paste ECM Run Here>"]
["<Paste ECM Run Here>"]
["<Paste ECM Run Here>"]
["<Paste ECM Run Here>"]
["<Paste ECM Run Here>"]
["<Paste ECM Run Here>"]
["<Paste ECM Run Here>"]
["<Paste ECM Run Here>"]
["<Paste ECM Run Here>"]
["<Paste ECM Run Here>"]

{"sheet":"Implementation & Financing","index":33,"n_rows":45,"n_cols":6,"rows_kept":45,"cut":false,"hidden":false,"merged":[[17,1,17,5],[19,1,19,2],[0,11,0,12],[10,0,12,0],[4,1,4,2],[5,1,5,2],[6,1,6,2],[7,1,7,2],[9,1,9,2],[10,1,10,2],[11,1,11,2],[12,1,12,2],[13,1,13,2],[14,1,14,2],[2,1,2,5]]}
[1,"Implementation & Financing Plan"]
[1,"Instructions"]
[1,"1) Enter funding sources, amounts, and dates committed or requested for all funding (e.g. owner capital, performance contract, loan, federal grant, etc.)\n2) Multi-year sources of funding, such as federal depreciation credits, should be entered  as a single value using Net Present Value (NPV).\n3) Total Costs must equal Total Funding \n4) Note: Measures under this program cannot be funded from both Pay for Performance and other SBC-funded programs (including most utility programs and other NJCEP programs). See Program Guidelines v4.0, Sections 2.4 and 3.5 for additional guidance."]
[1]
[1,"Total Cost of Improvements",null,{"$f":"'Measure Simulation'!F77-'Measure Simulation'!F76-'Measure Simulation'!F75","v":0}]
[1,"Construction Management Fees",null,{"$f":"'Measure Simulation'!F75","v":0}]
[1,"P4P Partner Fees",null,{"$f":"'Measure Simulation'!F76","v":0}]
[1,"TOTAL COSTS",null,{"$f":"ROUND(SUM(D5:D7),0)","v":0}]
[1]
[1,"Anticipated NJOCE Incentives",null,{"$f":"SUM('Project Summary & Incentives'!C52:C54)","v":0},"Committed  or Requested"]
[1," <Enter funding source>",null,0]
[null," <Enter funding source>",null,0]
[null," <Enter funding source>",null,0]
[1," <Enter funding source>",null,0]
[1,"TOTAL FUNDING",null,{"$f":"ROUND(SUM(D10:D14),0)","v":0},null,{"$f":"IFERROR(IF(D15=D8,\"\",\"<------- Total Funding must equal Total Costs.  Please revise funding data.\"),\"\")","v":""}]
[1]
[1]
[1,"1) Select the appropriate delivery method for each measure from the drop down menu. \n2) Enter approximate start and end dates for installation of each measure. See Program Guidelines v4.0, Sections 2.5, 3.6, and 5 for additional guidance. "]
[1]
[1,"Measure",null,"Delivery Method","Estimated Construction Start","Estimated Completion Date"]
[{"$f":"IF(C21=\" \",0,1)","v":0},{"$f":"'Measure Descriptions'!B7","v":1},{"$f":"IF('Measure Descriptions'!C7=0,\" \",'Measure Descriptions'!C7)","v":" "}]
[{"$f":"IF(C22=\" \",0,1)","v":0},{"$f":"'Measure Descriptions'!B8","v":2},{"$f":"IF('Measure Descriptions'!C8=0,\" \",'Measure Descriptions'!C8)","v":" "}]
[0,{"$f":"'Measure Descriptions'!B9","v":3},{"$f":"IF('Measure Descriptions'!C9=0,\" \",'Measure Descriptions'!C9)","v":" "}]
[0,{"$f":"'Measure Descriptions'!B10","v":4},{"$f":"IF('Measure Descriptions'!C10=0,\" \",'Measure Descriptions'!C10)","v":" "}]
[0,{"$f":"'Measure Descriptions'!B11","v":5},{"$f":"IF('Measure Descriptions'!C11=0,\" \",'Measure Descriptions'!C11)","v":" "}]
[0,{"$f":"'Measure Descriptions'!B12","v":6},{"$f":"IF('Measure Descriptions'!C12=0,\" \",'Measure Descriptions'!C12)","v":" "}]
[0,{"$f":"'Measure Descriptions'!B13","v":7},{"$f":"IF('Measure Descriptions'!C13=0,\" \",'Measure Descriptions'!C13)","v":" "}]
[0,{"$f":"'Measure Descriptions'!B14","v":8},{"$f":"IF('Measure Descriptions'!C14=0,\" \",'Measure Descriptions'!C14)","v":" "}]
[0,{"$f":"'Measure Descriptions'!B15","v":9},{"$f":"IF('Measure Descriptions'!C15=0,\" \",'Measure Descriptions'!C15)","v":" "}]
[0,{"$f":"'Measure Descriptions'!B16","v":10},{"$f":"IF('Measure Descriptions'!C16=0,\" \",'Measure Descriptions'!C16)","v":" "}]
[0,{"$f":"'Measure Descriptions'!B17","v":11},{"$f":"IF('Measure Descriptions'!C17=0,\" \",'Measure Descriptions'!C17)","v":" "}]
[0,{"$f":"'Measure Descriptions'!B18","v":12},{"$f":"IF('Measure Descriptions'!C18=0,\" \",'Measure Descriptions'!C18)","v":" "}]
[0,{"$f":"'Measure Descriptions'!B19","v":13},{"$f":"IF('Measure Descriptions'!C19=0,\" \",'Measure Descriptions'!C19)","v":" "}]
[0,{"$f":"'Measure Descriptions'!B20","v":14},{"$f":"IF('Measure Descriptions'!C20=0,\" \",'Measure Descriptions'!C20)","v":" "}]
[0,{"$f":"'Measure Descriptions'!B21","v":15},{"$f":"IF('Measure Descriptions'!C21=0,\" \",'Measure Descriptions'!C21)","v":" "}]
[0,{"$f":"'Measure Descriptions'!B22","v":16},{"$f":"IF('Measure Descriptions'!C22=0,\" \",'Measure Descriptions'!C22)","v":" "}]
[0,{"$f":"'Measure Descriptions'!B23","v":17},{"$f":"IF('Measure Descriptions'!C23=0,\" \",'Measure Descriptions'!C23)","v":" "}]
[0,{"$f":"'Measure Descriptions'!B24","v":18},{"$f":"IF('Measure Descriptions'!C24=0,\" \",'Measure Descriptions'!C24)","v":" "}]
[0,{"$f":"'Measure Descriptions'!B25","v":19},{"$f":"IF('Measure Descriptions'!C25=0,\" \",'Measure Descriptions'!C25)","v":" "}]
[0,{"$f":"'Measure Descriptions'!B26","v":20},{"$f":"IF('Measure Descriptions'!C26=0,\" \",'Measure Descriptions'!C26)","v":" "}]
[0,{"$f":"'Measure Descriptions'!B27","v":21},{"$f":"IF('Measure Descriptions'!C27=0,\" \",'Measure Descriptions'!C27)","v":" "}]
[0,{"$f":"'Measure Descriptions'!B28","v":22},{"$f":"IF('Measure Descriptions'!C28=0,\" \",'Measure Descriptions'!C28)","v":" "}]
[0,{"$f":"'Measure Descriptions'!B29","v":23},{"$f":"IF('Measure Descriptions'!C29=0,\" \",'Measure Descriptions'!C29)","v":" "}]
[0,{"$f":"'Measure Descriptions'!B30","v":24},{"$f":"IF('Measure Descriptions'!C30=0,\" \",'Measure Descriptions'!C30)","v":" "}]
[0,{"$f":"'Measure Descriptions'!B31","v":25},{"$f":"IF('Measure Descriptions'!C31=0,\" \",'Measure Descriptions'!C31)","v":" "}]

{"sheet":"P4Pindices","index":34,"n_rows":129,"n_cols":22,"rows_kept":129,"cut":false,"hidden":true,"merged":[[121,3,121,4],[21,3,21,6],[0,3,0,21],[83,3,83,4],[96,3,96,4],[64,3,64,21],[54,3,54,15]]}
["Measure Category (consistent with database) - \nMeasure Descriptions tab","ID",null,"For lifetime review on QC tab"]
["                    --  HVAC --",null,null,"Lighting","LightingControls","UnitaryHVAC","Chillers","ChillerOptimization","VSD","Motors","Boilers","Furnaces","DHW","CompressedAir","OM ","CustomElec","CustomGas","Envelope","PlugLoads","Refrigeration","Commercial Food"]
["Air Cooled Chiller (Electric)",70,null,"CFL - Indoor Fixture","Occupancy Sensors - Wall Mounted (OSW)","Air to Air Heat Pump","Air Cooled Chiller (Electric)",null,"VFD - Chilled Water Pump","ODP Premium Motor - 1200 RPM","Hot Water Boiler (Gas)","Gas Furnace","Water Heater (Gas) - </= 50 Gals.","Air Compressor with VFD",null,"Custom Electric","Custom Gas","Air Sealing","Computer (CPU or Laptop)","Cooler or Freezer Door Heater Control","Commercial Convection Oven (Electric)"]
["Air to Air Heat Pump",74,null,"Fluorescent Fixtures","Occupancy Sensors - Remote Mounted (OSR, OSRH)","Central DX AC System","Gas Absorption Chiller",null,"VFD - Variable Air Volume","ODP Premium Motor - 1800 RPM","Steam Boiler (Gas)",null,"Water Heater (Gas) - > 50 Gals.",null,null,null,null,"Doors","LCD or LED Monitor","Evaporator-Compressor Control","Commercial Convection Oven (Gas)"]
["Central DX AC System",77,null,"De-Lamp/Add Reflectors","Occupancy Hi-Low Controls","Closed Loop HP","Water Cooled Chiller (Electric) - Full Load",null,null,"ODP Premium Motor - 3600 RPM",null,null,"Water Booster Heater (Gas)",null,null,null,null,"Energy Efficient Doors","CRT Monitor","Fan-Door Control","Commercial Conveyer Oven"]
["Closed Loop HP",80,null,"HID","Daylight Dimming Control","Desiccant System (Gas or Electric)","Water Cooled Chiller (Electric) - Partial Load",null,null,"TEFC Premium Motor - 1200 RPM",null,null,null,null,null,null,null,"Insulation ","CPU and LCD or LED Monitor","Night Covers for Refrigerator Cases","Commercial Dishwasher"]
["Desiccant System (Gas or Electric)",72,null,"Incandescent",null,"Dual Enthalpy Economizer",null,null,null,"TEFC Premium Motor - 1800 RPM",null,null,null,null,null,null,null,"Other Shell Measures","CPU and CRT Monitor","Novelty Cooler Shutoff","Commercial Freezer - Glass Door"]
["Dual Enthalpy Economizer",76,null,"Metal Halide",null,"Open Loop HP",null,null,null,"TEFC Premium Motor - 3600 RPM",null,null,null,null,null,null,null,"Windows, Skylights","TV",null,"Commercial Freezer - Solid Door"]
["Gas Absorption Chiller",71,null,"Mercury Vapor",null,"Packaged Terminal AC & HP",null,null,null,"Fractional ECM",null,null,null,null,null,null,null,null,"Printer",null,"Commercial Fryer (Electric)"]
["Gas Furnace",11,null,"Halogen",null,"Programmable Thermostat",null,null,null,null,null,null,null,null,null,null,null,null,null,null,"Commercial Fryer (Gas)"]
["Hot Water Boiler (Gas)",81,null,"LED Lighting",null,"Unitary HVAC/Split Systems",null,null,null,null,null,null,null,null,null,null,null,null,null,null,"Commercial Griddle (Electric)"]
["Open Loop HP",79,null,"LED Exit Signs",null,"Water Source Heat Pump",null,null,null,null,null,null,null,null,null,null,null,null,null,null,"Commercial Griddle (Gas)","Packaged Terminal AC & HP"]
["Packaged Terminal AC & HP",75,null,"LED Parking Lot Lighting",null,null,null,null,null,null,null,null,null,null,null,null,null,null,null,null,"Commercial Hot Food Holding Cabinet"]
["Programmable Thermostat",222,null,"LED Traffic Signal (For historic files only.)",null,null,null,null,null,null,null,null,null,null,null,null,null,null,null,null,"Commercial Ice Machine"]
["Steam Boiler (Gas)",82,null,"LED Pedestrian Signal (For historic files only.)",null,null,null,null,null,null,null,null,null,null,null,null,null,null,null,null,"Commercial Rack Oven",{"$f":"IF(MATCH(V12,Lighting,0)=\"#N/A\",0,\"Lighting\")","v":{"$error":"#N/A"}}]
["Unitary HVAC/Split Systems",73,null,"Other Lighting",null,null,null,null,null,null,null,null,null,null,null,null,null,null,null,null,"Commercial Refrigerator - Glass Door"]
["Water Cooled Chiller (Electric) - Full Load",69,null,null,null,null,null,null,null,null,null,null,null,null,null,null,null,null,null,null,"Commercial Refrigerator - Solid Door"]
["Water Cooled Chiller (Electric) - Partial Load",68,null,null,null,null,null,null,null,null,null,null,null,null,null,null,null,null,null,null,"Commercial Steam Cooker (Electric)"]
["Water Source Heat Pump",78,null,null,null,null,null,null,null,null,null,null,null,null,null,null,null,null,null,null,"Commercial Steam Cooker (Gas)"]
["                    --  Motors/Pumps  --",null,null,null,null,null,null,null,null,null,null,null,null,null,null,null,null,null,null,null,"Commercial Combination Steam Cooker (Electric)"]
["Air Compressor with VFD",86,null,null,null,null,null,null,null,null,null,null,null,null,null,null,null,null,null,null,"Commercial Combination Steam Cooker (Gas)"]
["Fractional ECM",331,null,"For lifetime defaults on Measure Simulation Tab "]
["ODP Premium Motor - 1200 RPM",90,null,"For Calculation Use","NJ Measure Lifetime Protocols",null,"Default Lifetime"]
["ODP Premium Motor - 1800 RPM",91,null,{"$f":"IF(ISERROR(MATCH('Measure Descriptions'!E7,Lighting,0)),IF(ISERROR(MATCH('Measure Descriptions'!E7,UnitaryHVAC,0)),IF(ISERROR(MATCH('Measure Descriptions'!E7,Chillers,0)),IF(ISERROR(MATCH('Measure Descriptions'!E7,VSD,0)),IF(ISERROR(MATCH('Measure Descriptions'!E7,Motors,0)),IF(ISERROR(MATCH('Measure Descriptions'!E7,Boilers,0)),IF(ISERROR(MATCH('Measure Descriptions'!E7,LightingControls,0)),IF(ISERROR(MATCH('Measure Descriptions'!E7,Envelope,0)),IF(ISERROR(MATCH('Measure Descriptions'!E7,PlugLoads,0)),IF(ISERROR(MATCH('Measure Descriptions'!E7,Furnaces,0)),IF(ISERROR(MATCH('Measure Descriptions'!E7,DHW,0)),IF(ISERROR(MATCH('Measure Descriptions'!E7,CustomElec,0)),IF(ISERROR(MATCH('Measure Descriptions'!E7,CustomGas,0)),IF(ISERROR(MATCH('Measure Descriptions'!E7,Refrigeration,0)),IF(ISERROR(MATCH('Measure Descriptions'!E7,CommercialFood,0)),\"Next\",\"CommercialFood\"),\"Refrigeration\"),\"CustomGas\"),\"CustomElec\"),\"DHW\"),\"Furnaces\"),\"PlugLoads\"),\"Envelope\"),\"LightingControls\"),\"Boilers\"),\"Motors\"),\"VSD\"),\"Chillers\"),\"HVAC\"),\"Lighting\")","v":"Next"},"Lighting",15,{"$f":"IF('Measure Descriptions'!E7=\"\",\"\",INDEX($F$24:$F$41,MATCH($D24,$E$24:$E$41,0),1))","v":""}]
["ODP Premium Motor - 3600 RPM",92,null,{"$f":"IF(ISERROR(MATCH('Measure Descriptions'!E8,Lighting,0)),IF(ISERROR(MATCH('Measure Descriptions'!E8,UnitaryHVAC,0)),IF(ISERROR(MATCH('Measure Descriptions'!E8,Chillers,0)),IF(ISERROR(MATCH('Measure Descriptions'!E8,VSD,0)),IF(ISERROR(MATCH('Measure Descriptions'!E8,Motors,0)),IF(ISERROR(MATCH('Measure Descriptions'!E8,Boilers,0)),IF(ISERROR(MATCH('Measure Descriptions'!E8,LightingControls,0)),IF(ISERROR(MATCH('Measure Descriptions'!E8,Envelope,0)),IF(ISERROR(MATCH('Measure Descriptions'!E8,PlugLoads,0)),IF(ISERROR(MATCH('Measure Descriptions'!E8,Furnaces,0)),IF(ISERROR(MATCH('Measure Descriptions'!E8,DHW,0)),IF(ISERROR(MATCH('Measure Descriptions'!E8,CustomElec,0)),IF(ISERROR(MATCH('Measure Descriptions'!E8,CustomGas,0)),IF(ISERROR(MATCH('Measure Descriptions'!E8,Refrigeration,0)),IF(ISERROR(MATCH('Measure Descriptions'!E8,CommercialFood,0)),\"Next\",\"CommercialFood\"),\"Refrigeration\"),\"CustomGas\"),\"CustomElec\"),\"DHW\"),\"Furnaces\"),\"PlugLoads\"),\"Envelope\"),\"LightingControls\"),\"Boilers\"),\"Motors\"),\"VSD\"),\"Chillers\"),\"HVAC\"),\"Lighting\")","v":"Next"},"LightingControls",18,{"$f":"IF('Measure Descriptions'!E8=\"\",\"\",INDEX($F$24:$F$41,MATCH($D25,$E$24:$E$41,0),1))","v":""}]
["TEFC Premium Motor - 1200 RPM",93,null,{"$f":"IF(ISERROR(MATCH('Measure Descriptions'!E9,Lighting,0)),IF(ISERROR(MATCH('Measure Descriptions'!E9,UnitaryHVAC,0)),IF(ISERROR(MATCH('Measure Descriptions'!E9,Chillers,0)),IF(ISERROR(MATCH('Measure Descriptions'!E9,VSD,0)),IF(ISERROR(MATCH('Measure Descriptions'!E9,Motors,0)),IF(ISERROR(MATCH('Measure Descriptions'!E9,Boilers,0)),IF(ISERROR(MATCH('Measure Descriptions'!E9,LightingControls,0)),IF(ISERROR(MATCH('Measure Descriptions'!E9,Envelope,0)),IF(ISERROR(MATCH('Measure Descriptions'!E9,PlugLoads,0)),IF(ISERROR(MATCH('Measure Descriptions'!E9,Furnaces,0)),IF(ISERROR(MATCH('Measure Descriptions'!E9,DHW,0)),IF(ISERROR(MATCH('Measure Descriptions'!E9,CustomElec,0)),IF(ISERROR(MATCH('Measure Descriptions'!E9,CustomGas,0)),IF(ISERROR(MATCH('Measure Descriptions'!E9,Refrigeration,0)),IF(ISERROR(MATCH('Measure Descriptions'!E9,CommercialFood,0)),\"Next\",\"CommercialFood\"),\"Refrigeration\"),\"CustomGas\"),\"CustomElec\"),\"DHW\"),\"Furnaces\"),\"PlugLoads\"),\"Envelope\"),\"LightingControls\"),\"Boilers\"),\"Motors\"),\"VSD\"),\"Chillers\"),\"HVAC\"),\"Lighting\")","v":"Next"},"HVAC",15,{"$f":"IF('Measure Descriptions'!E9=\"\",\"\",INDEX($F$24:$F$41,MATCH($D26,$E$24:$E$41,0),1))","v":""}]
["TEFC Premium Motor - 1800 RPM",94,null,{"$f":"IF(ISERROR(MATCH('Measure Descriptions'!E10,Lighting,0)),IF(ISERROR(MATCH('Measure Descriptions'!E10,UnitaryHVAC,0)),IF(ISERROR(MATCH('Measure Descriptions'!E10,Chillers,0)),IF(ISERROR(MATCH('Measure Descriptions'!E10,VSD,0)),IF(ISERROR(MATCH('Measure Descriptions'!E10,Motors,0)),IF(ISERROR(MATCH('Measure Descriptions'!E10,Boilers,0)),IF(ISERROR(MATCH('Measure Descriptions'!E10,LightingControls,0)),IF(ISERROR(MATCH('Measure Descriptions'!E10,Envelope,0)),IF(ISERROR(MATCH('Measure Descriptions'!E10,PlugLoads,0)),IF(ISERROR(MATCH('Measure Descriptions'!E10,Furnaces,0)),IF(ISERROR(MATCH('Measure Descriptions'!E10,DHW,0)),IF(ISERROR(MATCH('Measure Descriptions'!E10,CustomElec,0)),IF(ISERROR(MATCH('Measure Descriptions'!E10,CustomGas,0)),IF(ISERROR(MATCH('Measure Descriptions'!E10,Refrigeration,0)),IF(ISERROR(MATCH('Measure Descriptions'!E10,CommercialFood,0)),\"Next\",\"CommercialFood\"),\"Refrigeration\"),\"CustomGas\"),\"CustomElec\"),\"DHW\"),\"Furnaces\"),\"PlugLoads\"),\"Envelope\"),\"LightingControls\"),\"Boilers\"),\"Motors\"),\"VSD\"),\"Chillers\"),\"HVAC\"),\"Lighting\")","v":"Next"},"Chillers",25,{"$f":"IF('Measure Descriptions'!E10=\"\",\"\",INDEX($F$24:$F$41,MATCH($D27,$E$24:$E$41,0),1))","v":""}]
["TEFC Premium Motor - 3600 RPM",95,null,{"$f":"IF(ISERROR(MATCH('Measure Descriptions'!E11,Lighting,0)),IF(ISERROR(MATCH('Measure Descriptions'!E11,UnitaryHVAC,0)),IF(ISERROR(MATCH('Measure Descriptions'!E11,Chillers,0)),IF(ISERROR(MATCH('Measure Descriptions'!E11,VSD,0)),IF(ISERROR(MATCH('Measure Descriptions'!E11,Motors,0)),IF(ISERROR(MATCH('Measure Descriptions'!E11,Boilers,0)),IF(ISERROR(MATCH('Measure Descriptions'!E11,LightingControls,0)),IF(ISERROR(MATCH('Measure Descriptions'!E11,Envelope,0)),IF(ISERROR(MATCH('Measure Descriptions'!E11,PlugLoads,0)),IF(ISERROR(MATCH('Measure Descriptions'!E11,Furnaces,0)),IF(ISERROR(MATCH('Measure Descriptions'!E11,DHW,0)),IF(ISERROR(MATCH('Measure Descriptions'!E11,CustomElec,0)),IF(ISERROR(MATCH('Measure Descriptions'!E11,CustomGas,0)),IF(ISERROR(MATCH('Measure Descriptions'!E11,Refrigeration,0)),IF(ISERROR(MATCH('Measure Descriptions'!E11,CommercialFood,0)),\"Next\",\"CommercialFood\"),\"Refrigeration\"),\"CustomGas\"),\"CustomElec\"),\"DHW\"),\"Furnaces\"),\"PlugLoads\"),\"Envelope\"),\"LightingControls\"),\"Boilers\"),\"Motors\"),\"VSD\"),\"Chillers\"),\"HVAC\"),\"Lighting\")","v":"Next"},"ChillerOptimization",18,{"$f":"IF('Measure Descriptions'!E11=\"\",\"\",INDEX($F$24:$F$41,MATCH($D28,$E$24:$E$41,0),1))","v":""}]
["VFD - Chilled Water Pump",85,null,{"$f":"IF(ISERROR(MATCH('Measure Descriptions'!E12,Lighting,0)),IF(ISERROR(MATCH('Measure Descriptions'!E12,UnitaryHVAC,0)),IF(ISERROR(MATCH('Measure Descriptions'!E12,Chillers,0)),IF(ISERROR(MATCH('Measure Descriptions'!E12,VSD,0)),IF(ISERROR(MATCH('Measure Descriptions'!E12,Motors,0)),IF(ISERROR(MATCH('Measure Descriptions'!E12,Boilers,0)),IF(ISERROR(MATCH('Measure Descriptions'!E12,LightingControls,0)),IF(ISERROR(MATCH('Measure Descriptions'!E12,Envelope,0)),IF(ISERROR(MATCH('Measure Descriptions'!E12,PlugLoads,0)),IF(ISERROR(MATCH('Measure Descriptions'!E12,Furnaces,0)),IF(ISERROR(MATCH('Measure Descriptions'!E12,DHW,0)),IF(ISERROR(MATCH('Measure Descriptions'!E12,CustomElec,0)),IF(ISERROR(MATCH('Measure Descriptions'!E12,CustomGas,0)),IF(ISERROR(MATCH('Measure Descriptions'!E12,Refrigeration,0)),IF(ISERROR(MATCH('Measure Descriptions'!E12,CommercialFood,0)),\"Next\",\"CommercialFood\"),\"Refrigeration\"),\"CustomGas\"),\"CustomElec\"),\"DHW\"),\"Furnaces\"),\"PlugLoads\"),\"Envelope\"),\"LightingControls\"),\"Boilers\"),\"Motors\"),\"VSD\"),\"Chillers\"),\"HVAC\"),\"Lighting\")","v":"Next"},"VSD",15,{"$f":"IF('Measure Descriptions'!E12=\"\",\"\",INDEX($F$24:$F$41,MATCH($D29,$E$24:$E$41,0),1))","v":""}]
["VFD - Variable Air Volume",84,null,{"$f":"IF(ISERROR(MATCH('Measure Descriptions'!E13,Lighting,0)),IF(ISERROR(MATCH('Measure Descriptions'!E13,UnitaryHVAC,0)),IF(ISERROR(MATCH('Measure Descriptions'!E13,Chillers,0)),IF(ISERROR(MATCH('Measure Descriptions'!E13,VSD,0)),IF(ISERROR(MATCH('Measure Descriptions'!E13,Motors,0)),IF(ISERROR(MATCH('Measure Descriptions'!E13,Boilers,0)),IF(ISERROR(MATCH('Measure Descriptions'!E13,LightingControls,0)),IF(ISERROR(MATCH('Measure Descriptions'!E13,Envelope,0)),IF(ISERROR(MATCH('Measure Descriptions'!E13,PlugLoads,0)),IF(ISERROR(MATCH('Measure Descriptions'!E13,Furnaces,0)),IF(ISERROR(MATCH('Measure Descriptions'!E13,DHW,0)),IF(ISERROR(MATCH('Measure Descriptions'!E13,CustomElec,0)),IF(ISERROR(MATCH('Measure Descriptions'!E13,CustomGas,0)),IF(ISERROR(MATCH('Measure Descriptions'!E13,Refrigeration,0)),IF(ISERROR(MATCH('Measure Descriptions'!E13,CommercialFood,0)),\"Next\",\"CommercialFood\"),\"Refrigeration\"),\"CustomGas\"),\"CustomElec\"),\"DHW\"),\"Furnaces\"),\"PlugLoads\"),\"Envelope\"),\"LightingControls\"),\"Boilers\"),\"Motors\"),\"VSD\"),\"Chillers\"),\"HVAC\"),\"Lighting\")","v":"Next"},"Motors",20,{"$f":"IF('Measure Descriptions'!E13=\"\",\"\",INDEX($F$24:$F$41,MATCH($D30,$E$24:$E$41,0),1))","v":""}]
["                --  Service Hot Water  --",null,null,{"$f":"IF(ISERROR(MATCH('Measure Descriptions'!E14,Lighting,0)),IF(ISERROR(MATCH('Measure Descriptions'!E14,UnitaryHVAC,0)),IF(ISERROR(MATCH('Measure Descriptions'!E14,Chillers,0)),IF(ISERROR(MATCH('Measure Descriptions'!E14,VSD,0)),IF(ISERROR(MATCH('Measure Descriptions'!E14,Motors,0)),IF(ISERROR(MATCH('Measure Descriptions'!E14,Boilers,0)),IF(ISERROR(MATCH('Measure Descriptions'!E14,LightingControls,0)),IF(ISERROR(MATCH('Measure Descriptions'!E14,Envelope,0)),IF(ISERROR(MATCH('Measure Descriptions'!E14,PlugLoads,0)),IF(ISERROR(MATCH('Measure Descriptions'!E14,Furnaces,0)),IF(ISERROR(MATCH('Measure Descriptions'!E14,DHW,0)),IF(ISERROR(MATCH('Measure Descriptions'!E14,CustomElec,0)),IF(ISERROR(MATCH('Measure Descriptions'!E14,CustomGas,0)),IF(ISERROR(MATCH('Measure Descriptions'!E14,Refrigeration,0)),IF(ISERROR(MATCH('Measure Descriptions'!E14,CommercialFood,0)),\"Next\",\"CommercialFood\"),\"Refrigeration\"),\"CustomGas\"),\"CustomElec\"),\"DHW\"),\"Furnaces\"),\"PlugLoads\"),\"Envelope\"),\"LightingControls\"),\"Boilers\"),\"Motors\"),\"VSD\"),\"Chillers\"),\"HVAC\"),\"Lighting\")","v":"Next"},"Boilers",25,{"$f":"IF('Measure Descriptions'!E14=\"\",\"\",INDEX($F$24:$F$41,MATCH($D31,$E$24:$E$41,0),1))","v":""}]
["Water Heater (Gas) - </= 50 Gals.",87,null,{"$f":"IF(ISERROR(MATCH('Measure Descriptions'!E15,Lighting,0)),IF(ISERROR(MATCH('Measure Descriptions'!E15,UnitaryHVAC,0)),IF(ISERROR(MATCH('Measure Descriptions'!E15,Chillers,0)),IF(ISERROR(MATCH('Measure Descriptions'!E15,VSD,0)),IF(ISERROR(MATCH('Measure Descriptions'!E15,Motors,0)),IF(ISERROR(MATCH('Measure Descriptions'!E15,Boilers,0)),IF(ISERROR(MATCH('Measure Descriptions'!E15,LightingControls,0)),IF(ISERROR(MATCH('Measure Descriptions'!E15,Envelope,0)),IF(ISERROR(MATCH('Measure Descriptions'!E15,PlugLoads,0)),IF(ISERROR(MATCH('Measure Descriptions'!E15,Furnaces,0)),IF(ISERROR(MATCH('Measure Descriptions'!E15,DHW,0)),IF(ISERROR(MATCH('Measure Descriptions'!E15,CustomElec,0)),IF(ISERROR(MATCH('Measure Descriptions'!E15,CustomGas,0)),IF(ISERROR(MATCH('Measure Descriptions'!E15,Refrigeration,0)),IF(ISERROR(MATCH('Measure Descriptions'!E15,CommercialFood,0)),\"Next\",\"CommercialFood\"),\"Refrigeration\"),\"CustomGas\"),\"CustomElec\"),\"DHW\"),\"Furnaces\"),\"PlugLoads\"),\"Envelope\"),\"LightingControls\"),\"Boilers\"),\"Motors\"),\"VSD\"),\"Chillers\"),\"HVAC\"),\"Lighting\")","v":"Next"},"Furnaces",20,{"$f":"IF('Measure Descriptions'!E15=\"\",\"\",INDEX($F$24:$F$41,MATCH($D32,$E$24:$E$41,0),1))","v":""}]
["Water Heater (Gas) - > 50 Gals.",88,null,{"$f":"IF(ISERROR(MATCH('Measure Descriptions'!E16,Lighting,0)),IF(ISERROR(MATCH('Measure Descriptions'!E16,UnitaryHVAC,0)),IF(ISERROR(MATCH('Measure Descriptions'!E16,Chillers,0)),IF(ISERROR(MATCH('Measure Descriptions'!E16,VSD,0)),IF(ISERROR(MATCH('Measure Descriptions'!E16,Motors,0)),IF(ISERROR(MATCH('Measure Descriptions'!E16,Boilers,0)),IF(ISERROR(MATCH('Measure Descriptions'!E16,LightingControls,0)),IF(ISERROR(MATCH('Measure Descriptions'!E16,Envelope,0)),IF(ISERROR(MATCH('Measure Descriptions'!E16,PlugLoads,0)),IF(ISERROR(MATCH('Measure Descriptions'!E16,Furnaces,0)),IF(ISERROR(MATCH('Measure Descriptions'!E16,DHW,0)),IF(ISERROR(MATCH('Measure Descriptions'!E16,CustomElec,0)),IF(ISERROR(MATCH('Measure Descriptions'!E16,CustomGas,0)),IF(ISERROR(MATCH('Measure Descriptions'!E16,Refrigeration,0)),IF(ISERROR(MATCH('Measure Descriptions'!E16,CommercialFood,0)),\"Next\",\"CommercialFood\"),\"Refrigeration\"),\"CustomGas\"),\"CustomElec\"),\"DHW\"),\"Furnaces\"),\"PlugLoads\"),\"Envelope\"),\"LightingControls\"),\"Boilers\"),\"Motors\"),\"VSD\"),\"Chillers\"),\"HVAC\"),\"Lighting\")","v":"Next"},"DHW",10,{"$f":"IF('Measure Descriptions'!E16=\"\",\"\",INDEX($F$24:$F$41,MATCH($D33,$E$24:$E$41,0),1))","v":""}]
["Water Booster Heater (Gas)",89,null,{"$f":"IF(ISERROR(MATCH('Measure Descriptions'!E17,Lighting,0)),IF(ISERROR(MATCH('Measure Descriptions'!E17,UnitaryHVAC,0)),IF(ISERROR(MATCH('Measure Descriptions'!E17,Chillers,0)),IF(ISERROR(MATCH('Measure Descriptions'!E17,VSD,0)),IF(ISERROR(MATCH('Measure Descriptions'!E17,Motors,0)),IF(ISERROR(MATCH('Measure Descriptions'!E17,Boilers,0)),IF(ISERROR(MATCH('Measure Descriptions'!E17,LightingControls,0)),IF(ISERROR(MATCH('Measure Descriptions'!E17,Envelope,0)),IF(ISERROR(MATCH('Measure Descriptions'!E17,PlugLoads,0)),IF(ISERROR(MATCH('Measure Descriptions'!E17,Furnaces,0)),IF(ISERROR(MATCH('Measure Descriptions'!E17,DHW,0)),IF(ISERROR(MATCH('Measure Descriptions'!E17,CustomElec,0)),IF(ISERROR(MATCH('Measure Descriptions'!E17,CustomGas,0)),IF(ISERROR(MATCH('Measure Descriptions'!E17,Refrigeration,0)),IF(ISERROR(MATCH('Measure Descriptions'!E17,CommercialFood,0)),\"Next\",\"CommercialFood\"),\"Refrigeration\"),\"CustomGas\"),\"CustomElec\"),\"DHW\"),\"Furnaces\"),\"PlugLoads\"),\"Envelope\"),\"LightingControls\"),\"Boilers\"),\"Motors\"),\"VSD\"),\"Chillers\"),\"HVAC\"),\"Lighting\")","v":"Next"},"CompressedAir",8,{"$f":"IF('Measure Descriptions'!E17=\"\",\"\",INDEX($F$24:$F$41,MATCH($D34,$E$24:$E$41,0),1))","v":""}]
["                    --  Lighting  --",null,null,{"$f":"IF(ISERROR(MATCH('Measure Descriptions'!E18,Lighting,0)),IF(ISERROR(MATCH('Measure Descriptions'!E18,UnitaryHVAC,0)),IF(ISERROR(MATCH('Measure Descriptions'!E18,Chillers,0)),IF(ISERROR(MATCH('Measure Descriptions'!E18,VSD,0)),IF(ISERROR(MATCH('Measure Descriptions'!E18,Motors,0)),IF(ISERROR(MATCH('Measure Descriptions'!E18,Boilers,0)),IF(ISERROR(MATCH('Measure Descriptions'!E18,LightingControls,0)),IF(ISERROR(MATCH('Measure Descriptions'!E18,Envelope,0)),IF(ISERROR(MATCH('Measure Descriptions'!E18,PlugLoads,0)),IF(ISERROR(MATCH('Measure Descriptions'!E18,Furnaces,0)),IF(ISERROR(MATCH('Measure Descriptions'!E18,DHW,0)),IF(ISERROR(MATCH('Measure Descriptions'!E18,CustomElec,0)),IF(ISERROR(MATCH('Measure Descriptions'!E18,CustomGas,0)),IF(ISERROR(MATCH('Measure Descriptions'!E18,Refrigeration,0)),IF(ISERROR(MATCH('Measure Descriptions'!E18,CommercialFood,0)),\"Next\",\"CommercialFood\"),\"Refrigeration\"),\"CustomGas\"),\"CustomElec\"),\"DHW\"),\"Furnaces\"),\"PlugLoads\"),\"Envelope\"),\"LightingControls\"),\"Boilers\"),\"Motors\"),\"VSD\"),\"Chillers\"),\"HVAC\"),\"Lighting\")","v":"Next"},"O+M ",3,{"$f":"IF('Measure Descriptions'!E18=\"\",\"\",INDEX($F$24:$F$41,MATCH($D35,$E$24:$E$41,0),1))","v":""}]
["CFL - Indoor Fixture",23,null,{"$f":"IF(ISERROR(MATCH('Measure Descriptions'!E19,Lighting,0)),IF(ISERROR(MATCH('Measure Descriptions'!E19,UnitaryHVAC,0)),IF(ISERROR(MATCH('Measure Descriptions'!E19,Chillers,0)),IF(ISERROR(MATCH('Measure Descriptions'!E19,VSD,0)),IF(ISERROR(MATCH('Measure Descriptions'!E19,Motors,0)),IF(ISERROR(MATCH('Measure Descriptions'!E19,Boilers,0)),IF(ISERROR(MATCH('Measure Descriptions'!E19,LightingControls,0)),IF(ISERROR(MATCH('Measure Descriptions'!E19,Envelope,0)),IF(ISERROR(MATCH('Measure Descriptions'!E19,PlugLoads,0)),IF(ISERROR(MATCH('Measure Descriptions'!E19,Furnaces,0)),IF(ISERROR(MATCH('Measure Descriptions'!E19,DHW,0)),IF(ISERROR(MATCH('Measure Descriptions'!E19,CustomElec,0)),IF(ISERROR(MATCH('Measure Descriptions'!E19,CustomGas,0)),IF(ISERROR(MATCH('Measure Descriptions'!E19,Refrigeration,0)),IF(ISERROR(MATCH('Measure Descriptions'!E19,CommercialFood,0)),\"Next\",\"CommercialFood\"),\"Refrigeration\"),\"CustomGas\"),\"CustomElec\"),\"DHW\"),\"Furnaces\"),\"PlugLoads\"),\"Envelope\"),\"LightingControls\"),\"Boilers\"),\"Motors\"),\"VSD\"),\"Chillers\"),\"HVAC\"),\"Lighting\")","v":"Next"},"CustomElec",18,{"$f":"IF('Measure Descriptions'!E19=\"\",\"\",INDEX($F$24:$F$41,MATCH($D36,$E$24:$E$41,0),1))","v":""}]
["Fluorescent Fixtures",115,null,{"$f":"IF(ISERROR(MATCH('Measure Descriptions'!E20,Lighting,0)),IF(ISERROR(MATCH('Measure Descriptions'!E20,UnitaryHVAC,0)),IF(ISERROR(MATCH('Measure Descriptions'!E20,Chillers,0)),IF(ISERROR(MATCH('Measure Descriptions'!E20,VSD,0)),IF(ISERROR(MATCH('Measure Descriptions'!E20,Motors,0)),IF(ISERROR(MATCH('Measure Descriptions'!E20,Boilers,0)),IF(ISERROR(MATCH('Measure Descriptions'!E20,LightingControls,0)),IF(ISERROR(MATCH('Measure Descriptions'!E20,Envelope,0)),IF(ISERROR(MATCH('Measure Descriptions'!E20,PlugLoads,0)),IF(ISERROR(MATCH('Measure Descriptions'!E20,Furnaces,0)),IF(ISERROR(MATCH('Measure Descriptions'!E20,DHW,0)),IF(ISERROR(MATCH('Measure Descriptions'!E20,CustomElec,0)),IF(ISERROR(MATCH('Measure Descriptions'!E20,CustomGas,0)),IF(ISERROR(MATCH('Measure Descriptions'!E20,Refrigeration,0)),IF(ISERROR(MATCH('Measure Descriptions'!E20,CommercialFood,0)),\"Next\",\"CommercialFood\"),\"Refrigeration\"),\"CustomGas\"),\"CustomElec\"),\"DHW\"),\"Furnaces\"),\"PlugLoads\"),\"Envelope\"),\"LightingControls\"),\"Boilers\"),\"Motors\"),\"VSD\"),\"Chillers\"),\"HVAC\"),\"Lighting\")","v":"Next"},"CustomGas",18,{"$f":"IF('Measure Descriptions'!E20=\"\",\"\",INDEX($F$24:$F$41,MATCH($D37,$E$24:$E$41,0),1))","v":""}]
["De-Lamp/Add Reflectors",116,null,{"$f":"IF(ISERROR(MATCH('Measure Descriptions'!E21,Lighting,0)),IF(ISERROR(MATCH('Measure Descriptions'!E21,UnitaryHVAC,0)),IF(ISERROR(MATCH('Measure Descriptions'!E21,Chillers,0)),IF(ISERROR(MATCH('Measure Descriptions'!E21,VSD,0)),IF(ISERROR(MATCH('Measure Descriptions'!E21,Motors,0)),IF(ISERROR(MATCH('Measure Descriptions'!E21,Boilers,0)),IF(ISERROR(MATCH('Measure Descriptions'!E21,LightingControls,0)),IF(ISERROR(MATCH('Measure Descriptions'!E21,Envelope,0)),IF(ISERROR(MATCH('Measure Descriptions'!E21,PlugLoads,0)),IF(ISERROR(MATCH('Measure Descriptions'!E21,Furnaces,0)),IF(ISERROR(MATCH('Measure Descriptions'!E21,DHW,0)),IF(ISERROR(MATCH('Measure Descriptions'!E21,CustomElec,0)),IF(ISERROR(MATCH('Measure Descriptions'!E21,CustomGas,0)),IF(ISERROR(MATCH('Measure Descriptions'!E21,Refrigeration,0)),IF(ISERROR(MATCH('Measure Descriptions'!E21,CommercialFood,0)),\"Next\",\"CommercialFood\"),\"Refrigeration\"),\"CustomGas\"),\"CustomElec\"),\"DHW\"),\"Furnaces\"),\"PlugLoads\"),\"Envelope\"),\"LightingControls\"),\"Boilers\"),\"Motors\"),\"VSD\"),\"Chillers\"),\"HVAC\"),\"Lighting\")","v":"Next"},"Envelope",20,{"$f":"IF('Measure Descriptions'!E21=\"\",\"\",INDEX($F$24:$F$41,MATCH($D38,$E$24:$E$41,0),1))","v":""}]
["HID",117,null,{"$f":"IF(ISERROR(MATCH('Measure Descriptions'!E22,Lighting,0)),IF(ISERROR(MATCH('Measure Descriptions'!E22,UnitaryHVAC,0)),IF(ISERROR(MATCH('Measure Descriptions'!E22,Chillers,0)),IF(ISERROR(MATCH('Measure Descriptions'!E22,VSD,0)),IF(ISERROR(MATCH('Measure Descriptions'!E22,Motors,0)),IF(ISERROR(MATCH('Measure Descriptions'!E22,Boilers,0)),IF(ISERROR(MATCH('Measure Descriptions'!E22,LightingControls,0)),IF(ISERROR(MATCH('Measure Descriptions'!E22,Envelope,0)),IF(ISERROR(MATCH('Measure Descriptions'!E22,PlugLoads,0)),IF(ISERROR(MATCH('Measure Descriptions'!E22,Furnaces,0)),IF(ISERROR(MATCH('Measure Descriptions'!E22,DHW,0)),IF(ISERROR(MATCH('Measure Descriptions'!E22,CustomElec,0)),IF(ISERROR(MATCH('Measure Descriptions'!E22,CustomGas,0)),IF(ISERROR(MATCH('Measure Descriptions'!E22,Refrigeration,0)),IF(ISERROR(MATCH('Measure Descriptions'!E22,CommercialFood,0)),\"Next\",\"CommercialFood\"),\"Refrigeration\"),\"CustomGas\"),\"CustomElec\"),\"DHW\"),\"Furnaces\"),\"PlugLoads\"),\"Envelope\"),\"LightingControls\"),\"Boilers\"),\"Motors\"),\"VSD\"),\"Chillers\"),\"HVAC\"),\"Lighting\")","v":"Next"},"PlugLoads",10,{"$f":"IF('Measure Descriptions'!E22=\"\",\"\",INDEX($F$24:$F$41,MATCH($D39,$E$24:$E$41,0),1))","v":""}]
["Incandescent",118,null,{"$f":"IF(ISERROR(MATCH('Measure Descriptions'!E23,Lighting,0)),IF(ISERROR(MATCH('Measure Descriptions'!E23,UnitaryHVAC,0)),IF(ISERROR(MATCH('Measure Descriptions'!E23,Chillers,0)),IF(ISERROR(MATCH('Measure Descriptions'!E23,VSD,0)),IF(ISERROR(MATCH('Measure Descriptions'!E23,Motors,0)),IF(ISERROR(MATCH('Measure Descriptions'!E23,Boilers,0)),IF(ISERROR(MATCH('Measure Descriptions'!E23,LightingControls,0)),IF(ISERROR(MATCH('Measure Descriptions'!E23,Envelope,0)),IF(ISERROR(MATCH('Measure Descriptions'!E23,PlugLoads,0)),IF(ISERROR(MATCH('Measure Descriptions'!E23,Furnaces,0)),IF(ISERROR(MATCH('Measure Descriptions'!E23,DHW,0)),IF(ISERROR(MATCH('Measure Descriptions'!E23,CustomElec,0)),IF(ISERROR(MATCH('Measure Descriptions'!E23,CustomGas,0)),IF(ISERROR(MATCH('Measure Descriptions'!E23,Refrigeration,0)),IF(ISERROR(MATCH('Measure Descriptions'!E23,CommercialFood,0)),\"Next\",\"CommercialFood\"),\"Refrigeration\"),\"CustomGas\"),\"CustomElec\"),\"DHW\"),\"Furnaces\"),\"PlugLoads\"),\"Envelope\"),\"LightingControls\"),\"Boilers\"),\"Motors\"),\"VSD\"),\"Chillers\"),\"HVAC\"),\"Lighting\")","v":"Next"},"Refrigeration",10,{"$f":"IF('Measure Descriptions'!E23=\"\",\"\",INDEX($F$24:$F$41,MATCH($D40,$E$24:$E$41,0),1))","v":""}]
["Metal Halide",119,null,{"$f":"IF(ISERROR(MATCH('Measure Descriptions'!E24,Lighting,0)),IF(ISERROR(MATCH('Measure Descriptions'!E24,UnitaryHVAC,0)),IF(ISERROR(MATCH('Measure Descriptions'!E24,Chillers,0)),IF(ISERROR(MATCH('Measure Descriptions'!E24,VSD,0)),IF(ISERROR(MATCH('Measure Descriptions'!E24,Motors,0)),IF(ISERROR(MATCH('Measure Descriptions'!E24,Boilers,0)),IF(ISERROR(MATCH('Measure Descriptions'!E24,LightingControls,0)),IF(ISERROR(MATCH('Measure Descriptions'!E24,Envelope,0)),IF(ISERROR(MATCH('Measure Descriptions'!E24,PlugLoads,0)),IF(ISERROR(MATCH('Measure Descriptions'!E24,Furnaces,0)),IF(ISERROR(MATCH('Measure Descriptions'!E24,DHW,0)),IF(ISERROR(MATCH('Measure Descriptions'!E24,CustomElec,0)),IF(ISERROR(MATCH('Measure Descriptions'!E24,CustomGas,0)),IF(ISERROR(MATCH('Measure Descriptions'!E24,Refrigeration,0)),IF(ISERROR(MATCH('Measure Descriptions'!E24,CommercialFood,0)),\"Next\",\"CommercialFood\"),\"Refrigeration\"),\"CustomGas\"),\"CustomElec\"),\"DHW\"),\"Furnaces\"),\"PlugLoads\"),\"Envelope\"),\"LightingControls\"),\"Boilers\"),\"Motors\"),\"VSD\"),\"Chillers\"),\"HVAC\"),\"Lighting\")","v":"Next"},"CommercialFood",12,{"$f":"IF('Measure Descriptions'!E24=\"\",\"\",INDEX($F$24:$F$41,MATCH($D41,$E$24:$E$41,0),1))","v":""}]
["Mercury Vapor",120,null,{"$f":"IF(ISERROR(MATCH('Measure Descriptions'!E25,Lighting,0)),IF(ISERROR(MATCH('Measure Descriptions'!E25,UnitaryHVAC,0)),IF(ISERROR(MATCH('Measure Descriptions'!E25,Chillers,0)),IF(ISERROR(MATCH('Measure Descriptions'!E25,VSD,0)),IF(ISERROR(MATCH('Measure Descriptions'!E25,Motors,0)),IF(ISERROR(MATCH('Measure Descriptions'!E25,Boilers,0)),IF(ISERROR(MATCH('Measure Descriptions'!E25,LightingControls,0)),IF(ISERROR(MATCH('Measure Descriptions'!E25,Envelope,0)),IF(ISERROR(MATCH('Measure Descriptions'!E25,PlugLoads,0)),IF(ISERROR(MATCH('Measure Descriptions'!E25,Furnaces,0)),IF(ISERROR(MATCH('Measure Descriptions'!E25,DHW,0)),IF(ISERROR(MATCH('Measure Descriptions'!E25,CustomElec,0)),IF(ISERROR(MATCH('Measure Descriptions'!E25,CustomGas,0)),IF(ISERROR(MATCH('Measure Descriptions'!E25,Refrigeration,0)),IF(ISERROR(MATCH('Measure Descriptions'!E25,CommercialFood,0)),\"Next\",\"CommercialFood\"),\"Refrigeration\"),\"CustomGas\"),\"CustomElec\"),\"DHW\"),\"Furnaces\"),\"PlugLoads\"),\"Envelope\"),\"LightingControls\"),\"Boilers\"),\"Motors\"),\"VSD\"),\"Chillers\"),\"HVAC\"),\"Lighting\")","v":"Next"},"ManualEntry","<enter life>",{"$f":"IF('Measure Descriptions'!E25=\"\",\"\",INDEX($F$24:$F$41,MATCH($D42,$E$24:$E$41,0),1))","v":""}]
["Halogen",121,null,{"$f":"IF(ISERROR(MATCH('Measure Descriptions'!E26,Lighting,0)),IF(ISERROR(MATCH('Measure Descriptions'!E26,UnitaryHVAC,0)),IF(ISERROR(MATCH('Measure Descriptions'!E26,Chillers,0)),IF(ISERROR(MATCH('Measure Descriptions'!E26,VSD,0)),IF(ISERROR(MATCH('Measure Descriptions'!E26,Motors,0)),IF(ISERROR(MATCH('Measure Descriptions'!E26,Boilers,0)),IF(ISERROR(MATCH('Measure Descriptions'!E26,LightingControls,0)),IF(ISERROR(MATCH('Measure Descriptions'!E26,Envelope,0)),IF(ISERROR(MATCH('Measure Descriptions'!E26,PlugLoads,0)),IF(ISERROR(MATCH('Measure Descriptions'!E26,Furnaces,0)),IF(ISERROR(MATCH('Measure Descriptions'!E26,DHW,0)),IF(ISERROR(MATCH('Measure Descriptions'!E26,CustomElec,0)),IF(ISERROR(MATCH('Measure Descriptions'!E26,CustomGas,0)),IF(ISERROR(MATCH('Measure Descriptions'!E26,Refrigeration,0)),IF(ISERROR(MATCH('Measure Descriptions'!E26,CommercialFood,0)),\"Next\",\"CommercialFood\"),\"Refrigeration\"),\"CustomGas\"),\"CustomElec\"),\"DHW\"),\"Furnaces\"),\"PlugLoads\"),\"Envelope\"),\"LightingControls\"),\"Boilers\"),\"Motors\"),\"VSD\"),\"Chillers\"),\"HVAC\"),\"Lighting\")","v":"Next"},null,null,{"$f":"IF('Measure Descriptions'!E26=\"\",\"\",INDEX($F$24:$F$41,MATCH($D43,$E$24:$E$41,0),1))","v":""}]
["LED Lighting",308,null,{"$f":"IF(ISERROR(MATCH('Measure Descriptions'!E27,Lighting,0)),IF(ISERROR(MATCH('Measure Descriptions'!E27,UnitaryHVAC,0)),IF(ISERROR(MATCH('Measure Descriptions'!E27,Chillers,0)),IF(ISERROR(MATCH('Measure Descriptions'!E27,VSD,0)),IF(ISERROR(MATCH('Measure Descriptions'!E27,Motors,0)),IF(ISERROR(MATCH('Measure Descriptions'!E27,Boilers,0)),IF(ISERROR(MATCH('Measure Descriptions'!E27,LightingControls,0)),IF(ISERROR(MATCH('Measure Descriptions'!E27,Envelope,0)),IF(ISERROR(MATCH('Measure Descriptions'!E27,PlugLoads,0)),IF(ISERROR(MATCH('Measure Descriptions'!E27,Furnaces,0)),IF(ISERROR(MATCH('Measure Descriptions'!E27,DHW,0)),IF(ISERROR(MATCH('Measure Descriptions'!E27,CustomElec,0)),IF(ISERROR(MATCH('Measure Descriptions'!E27,CustomGas,0)),IF(ISERROR(MATCH('Measure Descriptions'!E27,Refrigeration,0)),IF(ISERROR(MATCH('Measure Descriptions'!E27,CommercialFood,0)),\"Next\",\"CommercialFood\"),\"Refrigeration\"),\"CustomGas\"),\"CustomElec\"),\"DHW\"),\"Furnaces\"),\"PlugLoads\"),\"Envelope\"),\"LightingControls\"),\"Boilers\"),\"Motors\"),\"VSD\"),\"Chillers\"),\"HVAC\"),\"Lighting\")","v":"Next"},null,null,{"$f":"IF('Measure Descriptions'!E27=\"\",\"\",INDEX($F$24:$F$41,MATCH($D44,$E$24:$E$41,0),1))","v":""}]
["LED Exit Signs",130,null,{"$f":"IF(ISERROR(MATCH('Measure Descriptions'!E28,Lighting,0)),IF(ISERROR(MATCH('Measure Descriptions'!E28,UnitaryHVAC,0)),IF(ISERROR(MATCH('Measure Descriptions'!E28,Chillers,0)),IF(ISERROR(MATCH('Measure Descriptions'!E28,VSD,0)),IF(ISERROR(MATCH('Measure Descriptions'!E28,Motors,0)),IF(ISERROR(MATCH('Measure Descriptions'!E28,Boilers,0)),IF(ISERROR(MATCH('Measure Descriptions'!E28,LightingControls,0)),IF(ISERROR(MATCH('Measure Descriptions'!E28,Envelope,0)),IF(ISERROR(MATCH('Measure Descriptions'!E28,PlugLoads,0)),IF(ISERROR(MATCH('Measure Descriptions'!E28,Furnaces,0)),IF(ISERROR(MATCH('Measure Descriptions'!E28,DHW,0)),IF(ISERROR(MATCH('Measure Descriptions'!E28,CustomElec,0)),IF(ISERROR(MATCH('Measure Descriptions'!E28,CustomGas,0)),IF(ISERROR(MATCH('Measure Descriptions'!E28,Refrigeration,0)),IF(ISERROR(MATCH('Measure Descriptions'!E28,CommercialFood,0)),\"Next\",\"CommercialFood\"),\"Refrigeration\"),\"CustomGas\"),\"CustomElec\"),\"DHW\"),\"Furnaces\"),\"PlugLoads\"),\"Envelope\"),\"LightingControls\"),\"Boilers\"),\"Motors\"),\"VSD\"),\"Chillers\"),\"HVAC\"),\"Lighting\")","v":"Next"},null,null,{"$f":"IF('Measure Descriptions'!E28=\"\",\"\",INDEX($F$24:$F$41,MATCH($D45,$E$24:$E$41,0),1))","v":""}]
["LED Parking Lot Lighting",131,null,{"$f":"IF(ISERROR(MATCH('Measure Descriptions'!E29,Lighting,0)),IF(ISERROR(MATCH('Measure Descriptions'!E29,UnitaryHVAC,0)),IF(ISERROR(MATCH('Measure Descriptions'!E29,Chillers,0)),IF(ISERROR(MATCH('Measure Descriptions'!E29,VSD,0)),IF(ISERROR(MATCH('Measure Descriptions'!E29,Motors,0)),IF(ISERROR(MATCH('Measure Descriptions'!E29,Boilers,0)),IF(ISERROR(MATCH('Measure Descriptions'!E29,LightingControls,0)),IF(ISERROR(MATCH('Measure Descriptions'!E29,Envelope,0)),IF(ISERROR(MATCH('Measure Descriptions'!E29,PlugLoads,0)),IF(ISERROR(MATCH('Measure Descriptions'!E29,Furnaces,0)),IF(ISERROR(MATCH('Measure Descriptions'!E29,DHW,0)),IF(ISERROR(MATCH('Measure Descriptions'!E29,CustomElec,0)),IF(ISERROR(MATCH('Measure Descriptions'!E29,CustomGas,0)),IF(ISERROR(MATCH('Measure Descriptions'!E29,Refrigeration,0)),IF(ISERROR(MATCH('Measure Descriptions'!E29,CommercialFood,0)),\"Next\",\"CommercialFood\"),\"Refrigeration\"),\"CustomGas\"),\"CustomElec\"),\"DHW\"),\"Furnaces\"),\"PlugLoads\"),\"Envelope\"),\"LightingControls\"),\"Boilers\"),\"Motors\"),\"VSD\"),\"Chillers\"),\"HVAC\"),\"Lighting\")","v":"Next"},null,null,{"$f":"IF('Measure Descriptions'!E29=\"\",\"\",INDEX($F$24:$F$41,MATCH($D46,$E$24:$E$41,0),1))","v":""}]
["LED Traffic Signal (For historic files only.)",132,null,{"$f":"IF(ISERROR(MATCH('Measure Descriptions'!E30,Lighting,0)),IF(ISERROR(MATCH('Measure Descriptions'!E30,UnitaryHVAC,0)),IF(ISERROR(MATCH('Measure Descriptions'!E30,Chillers,0)),IF(ISERROR(MATCH('Measure Descriptions'!E30,VSD,0)),IF(ISERROR(MATCH('Measure Descriptions'!E30,Motors,0)),IF(ISERROR(MATCH('Measure Descriptions'!E30,Boilers,0)),IF(ISERROR(MATCH('Measure Descriptions'!E30,LightingControls,0)),IF(ISERROR(MATCH('Measure Descriptions'!E30,Envelope,0)),IF(ISERROR(MATCH('Measure Descriptions'!E30,PlugLoads,0)),IF(ISERROR(MATCH('Measure Descriptions'!E30,Furnaces,0)),IF(ISERROR(MATCH('Measure Descriptions'!E30,DHW,0)),IF(ISERROR(MATCH('Measure Descriptions'!E30,CustomElec,0)),IF(ISERROR(MATCH('Measure Descriptions'!E30,CustomGas,0)),IF(ISERROR(MATCH('Measure Descriptions'!E30,Refrigeration,0)),IF(ISERROR(MATCH('Measure Descriptions'!E30,CommercialFood,0)),\"Next\",\"CommercialFood\"),\"Refrigeration\"),\"CustomGas\"),\"CustomElec\"),\"DHW\"),\"Furnaces\"),\"PlugLoads\"),\"Envelope\"),\"LightingControls\"),\"Boilers\"),\"Motors\"),\"VSD\"),\"Chillers\"),\"HVAC\"),\"Lighting\")","v":"Next"},null,null,{"$f":"IF('Measure Descriptions'!E30=\"\",\"\",INDEX($F$24:$F$41,MATCH($D47,$E$24:$E$41,0),1))","v":""}]
["LED Pedestrian Signal (For historic files only.)",133,null,{"$f":"IF(ISERROR(MATCH('Measure Descriptions'!E31,Lighting,0)),IF(ISERROR(MATCH('Measure Descriptions'!E31,UnitaryHVAC,0)),IF(ISERROR(MATCH('Measure Descriptions'!E31,Chillers,0)),IF(ISERROR(MATCH('Measure Descriptions'!E31,VSD,0)),IF(ISERROR(MATCH('Measure Descriptions'!E31,Motors,0)),IF(ISERROR(MATCH('Measure Descriptions'!E31,Boilers,0)),IF(ISERROR(MATCH('Measure Descriptions'!E31,LightingControls,0)),IF(ISERROR(MATCH('Measure Descriptions'!E31,Envelope,0)),IF(ISERROR(MATCH('Measure Descriptions'!E31,PlugLoads,0)),IF(ISERROR(MATCH('Measure Descriptions'!E31,Furnaces,0)),IF(ISERROR(MATCH('Measure Descriptions'!E31,DHW,0)),IF(ISERROR(MATCH('Measure Descriptions'!E31,CustomElec,0)),IF(ISERROR(MATCH('Measure Descriptions'!E31,CustomGas,0)),IF(ISERROR(MATCH('Measure Descriptions'!E31,Refrigeration,0)),IF(ISERROR(MATCH('Measure Descriptions'!E31,CommercialFood,0)),\"Next\",\"CommercialFood\"),\"Refrigeration\"),\"CustomGas\"),\"CustomElec\"),\"DHW\"),\"Furnaces\"),\"PlugLoads\"),\"Envelope\"),\"LightingControls\"),\"Boilers\"),\"Motors\"),\"VSD\"),\"Chillers\"),\"HVAC\"),\"Lighting\")","v":"Next"},null,null,{"$f":"IF('Measure Descriptions'!E31=\"\",\"\",INDEX($F$24:$F$41,MATCH($D48,$E$24:$E$41,0),1))","v":""}]
["Other Lighting",122]
["                    --  Lighting Controls  --"]
["Occupancy Sensors - Wall Mounted (OSW)",97,null,"YesNo"]
["Occupancy Sensors - Remote Mounted (OSR, OSRH)",98,null,"Yes"]
["Occupancy Hi-Low Controls",412,null,"No"]
["Daylight Dimming Control",413]
["                    --  Envelope  --",null,null,"Envelope Tab"]
["Air Sealing",38,null,"Verification Method","Framing Material","Thermal Break","No of Panes","Glass Coating","Gas Filled","Wheather Stripping","Material","Glazing Type","Tightness","Window Type","Window Condition","Frame Type"]
["Doors",37,null,"Estimated","Aluminum","Yes","Single","Heat Absorbing Tints","Yes","Excellent","Solid Wood","Single Pane","Low Leakage","Double Hung","Poor","Aluminum"]
["Insulation ",285,null,"Reported by Site Staff","Wood","No","Single w/ storms","Reflective Coating","No","Good","Solid Metal","Double Pane","Some Leakage","Casement","Average","Aluminum w/Thermal Break"]
["Other Shell Measures",286,null,"From Drawings","Fiberglass",null,"Double","Low-E Coating","Unknown","Fair","Hollow Wood","Other","Very Leaky","Sliding","Good","Wood"]
["Windows, Skylights",284,null,"Confirmed","Vinyl",null,"Triple","None",null,"Poor ","Hollow Metal","N/A","N/A","Fixed",null,"Vinyl"]
["                    --  Plug Loads  --",null,null,null,"Other",null,null,"Unknown",null,"None","Glass",null,null,"Curtain Wall",null,"Fiberglass"]
["Computer (CPU or Laptop)",47,null,null,null,null,null,"Other",null,null,"Glass Slider",null,null,null,null,"Other"]
["LCD or LED Monitor",48,null,null,null,null,null,null,null,null,"Other"]
["CRT Monitor",415]
["CPU and LCD or LED Monitor",416,null,"Mechanical Tab"]
["CPU and CRT Monitor",417,null,"HVAC System Type","Heating Efficiency","Cooling Efficiency","HVAC Cooling Type","HVAC Heating Type","Economizer","Additional Zone Heating","Supply Air Control","ERV Type","Boiler Equipment Type","Distribution Type","Fuel Type","Pump Control","Chiller Equipment Type","Condenser Type","Condenser Fan Control","Loading","HVAC Control ","Motor Type"]
["TV",49,null,"PTAC","AFUE","COP","DX","Electric Resistance","Dry Bulb","Electric Reheat","Constant Volume","Sensible HX","Hot Water Boiler","Steam ","Electric","Constant Volume","Centrifugal","Air-cooled","Single Speed","Constant ","Switch","ODP"]
["Printer",369,null,"PTHP","Et","EER","Chilled Water","Gas Furnace","Enthalpy","Hot Water Reheat","Variable Volume","Enthalpy HX","Steam Boiler","Hot Water","Natural Gas","Primary / Secondary","Gas Absorption","Water-cooled","Two Speed","Variable","Damper","TEFC"]
["                  --  Refrigeration  --",null,null,"Packaged AHU","Ec","SEER","None","Heat Pump","Dual Enthalpy","Other",null,"Sensible Wheel","Water Heater","N/A","Oil #2","VFD","Gas Engine",null,"VFD",null,"VFD"]
["Cooler or Freezer Door Heater Control",249,null,"Split AHU","Energy Factor","N/A",null,"Hot Water","None","None",null,"Enthalpy Wheel",null,null,"Oil #4",null,"Recirpocating",null,null,null,"None"]
["Energy Efficient Doors",307,null,"Packaged ASHP","HSPF",null,null,"Steam",null,null,null,"Heat Pipe",null,null,"Oil #6",null,"Screw"]
["Evaporator-Compressor Control",247,null,"Split ASHP","N/A",null,null,"Other",null,null,null,"N/A",null,null,"Propane",null,"Scroll"]
["Fan-Door Control",246,null,"WSHP",null,null,null,"None",null,null,null,null,null,null,"Dual Fuel Oil & Gas",null,"Steam Absorption"]
["Night Covers for Refrigerator Cases",251,null,"GSHP",null,null,null,null,null,null,null,null,null,null,"District Steam"]
["Novelty Cooler Shutoff",306,null,"GWHP",null,null,null,null,null,null,null,null,null,null,"District Hot Water"]
["                  --  Commercial Food  --",null,null,"VRF",null,null,null,null,null,null,null,null,null,null,"Other"]
["Commercial Convection Oven (Electric)",398,null,"Unit Heater"]
["Commercial Convection Oven (Gas)",399,null,"Baseboard"]
["Commercial Conveyer Oven",401,null,"4-pipe fan-coil"]
["Commercial Dishwasher",391,null,"2-pipe fan coil"]
["Commercial Freezer - Glass Door",408,null,"Other"]
["Commercial Freezer - Solid Door",409]
["Commercial Fryer (Electric)",392]
["Commercial Fryer (Gas)",393,null,"Other Equipment Tab"]
["Commercial Griddle (Electric)",394,null,"Energy Star?","Fuel Source"]
["Commercial Griddle (Gas)",395,null,"Yes","Electric"]
["Commercial Hot Food Holding Cabinet",396,null,"No ","Natural Gas"]
["Commercial Ice Machine",397,null,"Unknown","Oil #2"]
["Commercial Rack Oven",400,null,null,"Oil #4"]
["Commercial Refrigerator - Glass Door",406,null,null,"Oil #6"]
["Commercial Refrigerator - Solid Door",407,null,null,"Propane"]
["Commercial Steam Cooker (Electric)",402,null,null,"District Steam"]
["Commercial Steam Cooker (Gas)",403,null,null,"District Hot Water"]
["Commercial Combination Steam Cooker (Electric)",404,null,null,"District Chilled Water"]
["Commercial Combination Steam Cooker (Gas)",405,null,null,"Other"]
["                    --  Other  --"]
["Custom Electric",103,null,"Measure Descriptions tab"]
["Custom Gas",104,null,"Capacity Units","Efficiency Units"]
[null,null,null,"Tons","EER"]
[null,null,null,"Gallons","SEER"]
["Measure Type (for savings review) - Measure Descriptions tab",null,null,"BTUH","HSPF"]
["                    --  HVAC --",null,null,"MBH","AFUE"]
["Boiler Improvement",null,null,"W","Et"]
["BAS - Boiler Reset Control ",null,null,"DCW","Ec"]
["BAS - Demand Control Ventilation ",null,null,"HP","Energy Factor"]
["BAS - Kitchen Hood Control",null,null,"NPC","kW/ton"]
["BAS - Setback Thermostat",null,null,"WG","COP"]
["Chiller Improvement ",null,null,"GPM","gpm"]
["Energy Efficient RTU/Split HVAC",null,null,null,"NEMA"]
["Pipe Insulation ",null,null,null,"CFM"]
["Reduction of OA Supply/Exhaust",null,null,null,"CFM/sf"]
["VFDs on Fan Motors",null,null,null,"U-value"]
["VFDs on Pump Motors",null,null,null,"R-value"]
["                    --  Motors/Pumps  --",null,null,null,"SHGC"]
["Motor Replacement ",null,null,null,"N/A"]
["                --  Service Hot Water  --"]
["Service/Domestic Hot Water Heater Replacement",null,null,"Measure Simulation tab"]
["Low Flow Fixtures ",null,null,"Savings Method"]
["                    --  Lighting  --",null,null,"Simulation"]
["Interior Lighting",null,null,"Custom Calcs"]
["Exterior Lighting"]
["Occupancy Sensors",null,null,"Implementation & Financing"]
["Daylighting Sensors",null,null,"Funding Status","Delivery Method"]
["                    --  Envelope  --",null,null,"Committed","Contracted Bid"]
["Attic Insulation ",null,null,"Requested","Preferred Contractor"]
["Crawlspace Insulation ",null,null,null,"In-house Labor"]
["Infiltration ",null,null,null,"WAP"]
["Window Improvement "]
["      -- Non-Standard/Custom/Other --"]

{"sheet":"Project Summary & Incentives","index":35,"n_rows":120,"n_cols":13,"rows_kept":120,"cut":false,"hidden":false,"merged":[[2,1,2,6]]}
[1,"Summary of P4P Program Metrics & Incentives"]
[1,"Instructions"]
[1,"Please note that although all fuel types will count towards the Source Energy Reduction % (cell E14), incentives will only be paid for Investor-Owned utility electricity and natural gas savings. If this is a project performing a fuel switch from oil and/or propane, incentives will also be paid for oil and/or propane savings (see Program Guidelines v4.0, Section 4.6.3). In order to claim incentives for other fuel types, such as steam, hot water, chilled water, etc., those savings must be traced back to natural gas, electricity, or oil/propane savings (fuel switch project). Please consult with Market Manager. Additionally, at least 50% of total savings must come from electricity or natural gas purchased from an Investor-Owned utility (see Program Guidelines v4.0, Section 2.3). "]
[1]
[1,"*\n*\n*","Annual Consumption","Projected Savings","% Savings",null,null,"Pre-Retrofit Consumption ","Pre-Retrofit Consumption  (kBtu)","Pre-Retrofit Annual Cost","Post-Retrofit Consumption ","Post-Retrofit Consumption  (kBtu)","Post-Retrofit Annual Cost"]
[1,"Electricity (kBtu)",{"$f":"'Utility Use Summary'!D8*3.412","v":0},{"$f":"'Measure Simulation'!$G$77*3.412","v":0},{"$f":"IF(C6=0,0,D6/C6)","v":0},null,"Electricity (kWh)",{"$f":"$C$6/3.412","v":0},{"$f":"C6","v":0},{"$f":"'Utility Use Summary'!$D$10","v":0},{"$f":"(C6-D6)/3.412","v":0},{"$f":"C6-D6","v":0},{"$f":"IFERROR(J6/I6*L6,0)","v":0}]
[{"$f":"IF(OR('Utility Info'!D12=\"Yes\",'General Project Information'!E34=\"Yes\")=TRUE,1,IF(N(C7)=0,0,1))","v":0},"Natural Gas (kBtu)",{"$f":"'Utility Use Summary'!G8*1000","v":0},{"$f":"'Measure Simulation'!$H$77*1000","v":0},0,null,"Natural Gas (Therm)",{"$f":"$C$7/100","v":0},{"$f":"C7","v":0},{"$f":"'Utility Use Summary'!$F$10","v":0},{"$f":"(C7-D7)/100","v":0},{"$f":"C7-D7","v":0},{"$f":"IF('General Project Information'!$E$34=\"Yes\", IF($C$7=0,0.0092*L7,IFERROR(J7/I7*L7,0)),IFERROR(J7/I7*L7,0))","v":0}]
[{"$f":"IF(N(C8)=0,0,1)","v":0},"District Steam (kBtu)",{"$f":"'Utility Use Summary'!M8*1000","v":0},{"$f":"'Measure Simulation'!$I$77*1000","v":0},0,null,"District Steam (MMBtu)",{"$f":"$C$8/1000","v":0},0,{"$f":"'Utility Use Summary'!$L$10","v":0},{"$f":"(C8-D8)/1000","v":0},0,{"$f":"IFERROR(J8/I8*L8,0)","v":0}]
[0,"District Hot Water (kBtu)",{"$f":"'Utility Use Summary'!Q8*1000","v":0},{"$f":"'Measure Simulation'!$J$77*1000","v":0},0,null,"District Hot Water (MMBtu)",{"$f":"$C$9/1000","v":0},0,{"$f":"'Utility Use Summary'!$P$10","v":0},{"$f":"(C9-D9)/1000","v":0},0,0]
[0,"District Chilled Water (kBtu)",{"$f":"'Utility Use Summary'!O8*1000","v":0},{"$f":"'Measure Simulation'!$K$77*1000","v":0},0,null,"District Chilled Water (MMBtu)",{"$f":"$C$10/1000","v":0},0,{"$f":"'Utility Use Summary'!$N$10","v":0},0,0,0]
[0,"Fuel Oil and/or Propane (kBtu)",{"$f":"SUM('Utility Use Summary'!I8,'Utility Use Summary'!K8)*1000","v":0},{"$f":"'Measure Simulation'!$L$77*1000","v":0},0,null,"Fuel Oil/Propane (MMBtu)",{"$f":"$C$11/1000","v":0},0,{"$f":"'Utility Use Summary'!$H$10+'Utility Use Summary'!$J$10","v":0},0,0,0]
[0,{"$f":"'Utility Use Summary'!R6","v":"Other"},{"$f":"'Utility Use Summary'!S8*1000","v":0},{"$f":"'Measure Simulation'!$M$77*1000","v":0},0,null,"Other Fuel Type (MMBtu)",{"$f":"$C$12/1000","v":0},0,{"$f":"'Utility Use Summary'!$R$10","v":0},0,0,{"$f":"IFERROR(J12/I12*L12,0)","v":0}]
[1,"Source Energy Use Intensity (kBtu/ft2)",{"$f":"IF('Area Identification'!$C$9=0,0,((C6*3.14)+(C7*1.05)+(C8*1.2)+(C9*1.2)+(C10)+(C11*1.01)+(C12))/C49)","v":0},{"$f":"IF('Area Identification'!$C$9=0,0,((D6*3.14)+(D7*1.05)+(D8*1.2)+(D9*1.2)+(D10)+(D11*1.01)+(D12))/C49)","v":0},null,null,"Total",{"$f":"SUM(H6:H12)","v":0},0,0,0,0,0]
[1,"Source Energy Use Reduction",null,null,{"$f":"IF(C13=0,0,D13/C13)","v":0}]
[1]
[1]
[1]
[1]
[1]
[1]
[1]
[1]
[1]
[1]
[1]
[1]
[1]
[1]
[1]
[1]
[1]
[1]
[1]
[1]
[1]
[1]
[1]
[1]
[1]
[1]
[1,"Total Investment ($)",{"$f":"'Measure Simulation'!F77","v":0}]
[1,"Annual Energy Cost ($)",{"$f":"SUM('Utility Use Summary'!D10:S10)","v":0}]
[1,"Annual Cost Savings ($)",{"$f":"'Measure Simulation'!P77","v":0}]
[1,"Internal Rate of Return (IRR)",{"$f":"'Measure Simulation'!T77","v":0}]
[1,"Life Cycle Savings",{"$f":"'Measure Simulation'!S77","v":0}]
[1,"Simple Payback (yrs)",{"$f":"'Measure Simulation'!R77","v":0}]
[1,"Simple Payback with NJCEP Incentive (yrs)",{"$f":"IF('Measure Simulation'!$P$77=0,0,('Measure Simulation'!$F$77-SUM($C$52:$C$54))/'Measure Simulation'!$P$77)","v":0}]
[1]
[1,"Total Project Area (sq. ft.)",{"$f":"'Area Identification'!C9","v":0}]
[1]
[1,"Incentives"]
[1,"Incentive #1",{"$f":"IF('General Project Information'!E32=\"No\", IF($C$49=0,0,IF('Introduction & Instructions'!$D$21*$C$49<'Introduction & Instructions'!$D$22,'Introduction & Instructions'!$D$22,IF($C$42*0.5<'Introduction & Instructions'!$D$22,'Introduction & Instructions'!$D$22,IF('Introduction & Instructions'!$D$21*$C$49>MIN('Introduction & Instructions'!$D$23,$C$42*0.5),MIN('Introduction & Instructions'!$D$23,$C$42*0.5),0.1*$C$49)))), IF($C$49=0,0,IF('Introduction & Instructions'!$D$21*$C$49<'Introduction & Instructions'!$D$22,'Introduction & Instructions'!$D$22,IF($C$42*0.5<'Introduction & Instructions'!$D$22,'Introduction & Instructions'!$D$22,IF('Introduction & Instructions'!$D$21*$C$49>MIN('Introduction & Instructions'!$D$23,$C$42*0.5),MIN('Introduction & Instructions'!$D$23,$C$42*0.5),0.1*$C$49))))*0.5)","v":0}]
[1,"Incentive #2",{"$f":"MIN($C$69,IF('General Project Information'!$E$34=\"Yes\",IF('General Project Information'!$E$36=\"Yes\",$C$68,$C$66),IF('General Project Information'!$E$36=\"Yes\",$C$67,$C$65)))","v":0}]
[1,"Incentive #3 (Projected)",{"$f":"MIN($C$76,IF('General Project Information'!$E$34=\"Yes\",IF('General Project Information'!$E$36=\"Yes\",$C$75,$C$73),IF('General Project Information'!$E$36=\"Yes\",$C$74,$C$72)))","v":0}]
[1]
[]
[]
[]
[]
[]
[]
[]
[]
[null,"Incentive #2 Calc"]
[null,"Regular",{"$f":"IF(ROUND($E$14,2)<'Introduction & Instructions'!$D$27,0,MIN('Introduction & Instructions'!$D$37*$C$41,($D$6/3.412)*MIN('Introduction & Instructions'!$D$30,('Introduction & Instructions'!$D$28+(100*(ROUND($E$14,2)-'Introduction & Instructions'!$D$27)*'Introduction & Instructions'!$D$29)))+($D$7/100)*MIN('Introduction & Instructions'!$D$33,('Introduction & Instructions'!$D$31+(100*(ROUND($E$14,2)-'Introduction & Instructions'!$D$27)*'Introduction & Instructions'!$D$32)))))","v":0}]
[null,"Fuel Switch",{"$f":"IF(ROUND($E$14,2)<'Introduction & Instructions'!$D$27,0,MIN('Introduction & Instructions'!$D$37*$C$41,($D$6/3.412)*MIN('Introduction & Instructions'!$D$30,('Introduction & Instructions'!$D$28+(100*(ROUND($E$14,2)-'Introduction & Instructions'!$D$27)*'Introduction & Instructions'!$D$29)))+($D$7/100)*MIN('Introduction & Instructions'!$D$33,('Introduction & Instructions'!$D$31+(100*(ROUND($E$14,2)-'Introduction & Instructions'!$D$27)*'Introduction & Instructions'!$D$32)))+($D$11/1000)*MIN('Introduction & Instructions'!$D$36,('Introduction & Instructions'!$D$34+(100*(ROUND($E$14,2)-'Introduction & Instructions'!$D$27)*'Introduction & Instructions'!$D$35)))))","v":0}]
[null,"High Energy Intensity User",{"$f":"IF(ROUND($E$14,2)<'Introduction & Instructions'!$D$27,IF(ROUND($E$14,2)<0.04,0,MIN('Introduction & Instructions'!$D$37*$C$41,($D$6/3.412)*'Introduction & Instructions'!$D$28+($D$7/100)*'Introduction & Instructions'!$D$31)),MIN('Introduction & Instructions'!$D$37*$C$41,($D$6/3.412)*MIN('Introduction & Instructions'!$D$30,('Introduction & Instructions'!$D$28+(100*(ROUND($E$14,2)-'Introduction & Instructions'!$D$27)*'Introduction & Instructions'!$D$29)))+($D$7/100)*MIN('Introduction & Instructions'!$D$33,('Introduction & Instructions'!$D$31+(100*(ROUND($E$14,2)-'Introduction & Instructions'!$D$27)*'Introduction & Instructions'!$D$32)))))","v":0}]
[null,"Non-IOU + High Energy Intensity ",{"$f":"IF(ROUND($E$14,2)<'Introduction & Instructions'!$D$27,IF(ROUND($E$14,2)<0.04,0,MIN('Introduction & Instructions'!$D$37*$C$41,($D$6/3.412)*'Introduction & Instructions'!$D$28+($D$7/100)*'Introduction & Instructions'!$D$31+($D$11/1000)*'Introduction & Instructions'!$D$34)),MIN('Introduction & Instructions'!$D$37*$C$41,($D$6/3.412)*MIN('Introduction & Instructions'!$D$30,('Introduction & Instructions'!$D$28+(100*(ROUND($E$14,2)-'Introduction & Instructions'!$D$27)*'Introduction & Instructions'!$D$29)))+($D$7/100)*MIN('Introduction & Instructions'!$D$33,('Introduction & Instructions'!$D$31+(100*(ROUND($E$14,2)-'Introduction & Instructions'!$D$27)*'Introduction & Instructions'!$D$32)))+($D$11/1000)*MIN('Introduction & Instructions'!$D$36,('Introduction & Instructions'!$D$34+(100*(ROUND($E$14,2)-'Introduction & Instructions'!$D$27)*'Introduction & Instructions'!$D$35)))))","v":0}]
[null,"Max Cap ",{"$f":"IF(SUM($D$7:$D$12)=0,0.5*(1000000-$C$52),0.5*(2000000-$C$52))","v":500000}]
[]
[null,"Incentive #3 Calc"]
[null,"Regular",{"$f":"IF(ROUND($E$14,2)<'Introduction & Instructions'!$D$41,0,MIN('Introduction & Instructions'!$D$51*$C$41,($D$6/3.412)*MIN('Introduction & Instructions'!$D$44,('Introduction & Instructions'!$D$42+(100*(ROUND($E$14,2)-'Introduction & Instructions'!$D$41)*'Introduction & Instructions'!$D$43)))+($D$7/100)*MIN('Introduction & Instructions'!$D$47,('Introduction & Instructions'!$D$45+(100*(ROUND($E$14,2)-'Introduction & Instructions'!$D$41)*'Introduction & Instructions'!$D$46)))))","v":0}]
[null,"Fuel Switch",{"$f":"IF(ROUND($E$14,2)<'Introduction & Instructions'!$D$41,0,MIN('Introduction & Instructions'!$D$51*$C$41,($D$6/3.412)*MIN('Introduction & Instructions'!$D$44,('Introduction & Instructions'!$D$42+(100*(ROUND($E$14,2)-'Introduction & Instructions'!$D$41)*'Introduction & Instructions'!$D$43)))+($D$7/100)*MIN('Introduction & Instructions'!$D$47,('Introduction & Instructions'!$D$45+(100*(ROUND($E$14,2)-'Introduction & Instructions'!$D$41)*'Introduction & Instructions'!$D$46)))+($D$11/1000)*MIN('Introduction & Instructions'!$D$50,('Introduction & Instructions'!$D$48+(100*(ROUND($E$14,2)-'Introduction & Instructions'!$D$41)*'Introduction & Instructions'!$D$49)))))","v":0}]
[null,"High Energy Intensity User",{"$f":"IF(ROUND($E$14,2)<'Introduction & Instructions'!$D$41,IF(ROUND($E$14,2)<0.04,0,MIN('Introduction & Instructions'!$D$51*$C$41,($D$6/3.412)*'Introduction & Instructions'!$D$42+($D$7/100)*'Introduction & Instructions'!$D$45)),MIN('Introduction & Instructions'!$D$51*$C$41,($D$6/3.412)*MIN('Introduction & Instructions'!$D$44,('Introduction & Instructions'!$D$42+(100*(ROUND($E$14,2)-'Introduction & Instructions'!$D$41)*'Introduction & Instructions'!$D$43)))+($D$7/100)*MIN('Introduction & Instructions'!$D$47,('Introduction & Instructions'!$D$45+(100*(ROUND($E$14,2)-'Introduction & Instructions'!$D$41)*'Introduction & Instructions'!$D$46)))))","v":0}]
[null,"Non-IOU + High Energy Intensity ",{"$f":"IF(ROUND($E$14,2)<'Introduction & Instructions'!$D$41,IF(ROUND($E$14,2)<0.04,0,MIN('Introduction & Instructions'!$D$51*$C$41,($D$6/3.412)*'Introduction & Instructions'!$D$42+($D$7/100)*'Introduction & Instructions'!$D$45+($D$11/1000)*'Introduction & Instructions'!$D$48)),MIN('Introduction & Instructions'!$D$51*$C$41,($D$6/3.412)*MIN('Introduction & Instructions'!$D$44,('Introduction & Instructions'!$D$42+(100*(ROUND($E$14,2)-'Introduction & Instructions'!$D$41)*'Introduction & Instructions'!$D$43)))+($D$7/100)*MIN('Introduction & Instructions'!$D$47,('Introduction & Instructions'!$D$45+(100*(ROUND($E$14,2)-'Introduction & Instructions'!$D$41)*'Introduction & Instructions'!$D$46)))+($D$11/1000)*MIN('Introduction & Instructions'!$D$50,('Introduction & Instructions'!$D$48+(100*(ROUND($E$14,2)-'Introduction & Instructions'!$D$41)*'Introduction & Instructions'!$D$49)))))","v":0}]
[null,"Max Cap ",{"$f":"IF(SUM($D$7:$D$12)=0,0.5*(1000000-$C$52),0.5*(2000000-$C$52))","v":500000}]
[]
[]
[]
[]
[]
[]
[]
[]
[]
[]
[]
[]
[]
[]
[]
[]
[]
[]
[]
[]
[]
[]
[]
[]
[]
[]
[]
[]
[]
[]
[]
[]
[]
[]
[]
[]
[]
[]
[]
[]
[null,"<Select Fuel Type>"]
[null,"Fuel Oil (kBtu)"]
[null,"Propane & Liquid Propane (kBtu)"]
[null,"Combination of Fuel Oil & Propane (kBtu)"]

{"sheet":"CBECS Statistics","index":36,"n_rows":23,"n_cols":26,"rows_kept":23,"cut":false,"hidden":false,"merged":[[2,1,2,25]]}
[1,"CBECS Statistics"]
[null,"Instructions"]
[null,"This table compares the project's baseline and post-retrofit consumption to CBECS data from 2003.  While the heating and cooling consumption is calibrated per utility bills, the base load consumption is often estimated.  This tool provides an  overview of approximate expected contribution from base load equipment such as lights, plug load, water heating, etc.  This tool also calculates the energy cost savings and energy savings for each end-use.  The graphs will display energy savings and energy cost savings by end-use below the table. Information for reference only. "]
[]
[null,"Building Type",{"$f":"VLOOKUP(INDEX('Area ID Support'!B14:C23,MATCH(MAX('Area ID Support'!C14:C23),'Area ID Support'!C14:C23,0),1),Reference!V3:W26,2,FALSE)","v":{"$error":"#N/A"}}]
[null,"Total Square Footage",{"$f":"'Area Identification'!C9","v":0}]
[null,"Electricty ($/MMBtu)",{"$f":"'Utility Use Summary'!$E$9","v":0}]
[null,"Natural Gas ($/MMBtu)",{"$f":"IF('General Project Information'!$E$34=\"Yes\",IF('Project Summary & Incentives'!$C$7=0,9.38,'Utility Use Summary'!$G$9),'Utility Use Summary'!$G$9)","v":0}]
[null,"Steam ($/MMBtu)",{"$f":"'Utility Use Summary'!$M$9","v":0}]
[null,"Hot Water ($/MMBtu)",{"$f":"'Utility Use Summary'!$Q$9","v":0}]
[null,"Chilled Water ($/MMBtu)",{"$f":"'Utility Use Summary'!$O$9","v":0}]
[null,"Oil/Propane ($/MMBtu)",{"$f":"MAX('Utility Use Summary'!$I$9,'Utility Use Summary'!$K$9)","v":0}]
[null,"Other Fuel ($/MMBtu)",{"$f":"'Utility Use Summary'!$S$9","v":0}]
[]
[null,"End Use","Existing Electricity\n(MMBtu)","Existing Fossil Fuel (MMBtu)","Proposed Electricity (MMBtu)","Proposed Fossil Fuel (MMBtu)","Electricity MMBtu Savings\n(%)","Fossil Fuel MMBtu Savings\n(%)","Total MMBtu Savings\n(%)","CBECs Survey Btu/SqFt","Existing Btu/SqFt","Existing Percent Difference from CBECS (%) ","Proposed Btu/SqFt","Energy  Savings (MMBtu)","End Use (Energy Savings)","Energy Savings (% of Total)","Electric Savings (MMBtu)","Natural Gas Savings (MMBtu)","Steam Savings (MMBtu)","Chilled Water Savings (MMBtu)","Hot Water Savings (MMBtu)","Oil/Propane Savings (MMBtu)","Other Fuel Savings (MMBtu)","Energy Cost Savings ($)","End Use (Cost Savings)","Cost Savings \n(% of Total)"]
[null,"Space Heating",{"$f":"'Measure Simulation'!F7","v":""},{"$f":"SUM('Measure Simulation'!H7,'Measure Simulation'!J7,'Measure Simulation'!L7,'Measure Simulation'!N7,'Measure Simulation'!P7,'Measure Simulation'!R7)","v":0},{"$f":"'Measure Simulation'!G7","v":""},{"$f":"SUM('Measure Simulation'!I7,'Measure Simulation'!K7,'Measure Simulation'!M7,'Measure Simulation'!O7,'Measure Simulation'!Q7,'Measure Simulation'!S7)","v":0},{"$f":"IFERROR((C16-E16)/C16,0)","v":0},{"$f":"IFERROR((D16-F16)/D16,0)","v":0},{"$f":"G16+H16","v":0},{"$f":"IFERROR(IF($C$5=\"\",\"\",VLOOKUP($C$5,Reference!$B$16:$M$33,2,0)),\"\")","v":""},{"$f":"IFERROR(SUM(C16:D16)/$C$6*1000000,\"\")","v":""},{"$f":"IFERROR(IF(AND(N(C16)=0,N(D16)=0),\"\",((C16+D16)*1000000-J16*$C$6)/(J16*$C$6)),\"\")","v":""},{"$f":"IFERROR(SUM(E16:F16)/$C$6*1000000,\"\")","v":""},{"$f":"IFERROR((C16-E16)+(D16-F16),\"\")","v":""},{"$f":"B16&\": \"&TEXT(P16,\"0%\")","v":"Space Heating: "},{"$f":"IF($N$23=0,\"\",N16/$N$23)","v":""},{"$f":"IFERROR('Measure Simulation'!F7-'Measure Simulation'!G7,0)","v":0},{"$f":"IFERROR('Measure Simulation'!H7-'Measure Simulation'!I7,0)","v":0},{"$f":"IFERROR('Measure Simulation'!J7-'Measure Simulation'!K7,0)","v":0},{"$f":"IFERROR('Measure Simulation'!L7-'Measure Simulation'!M7,0)","v":0},{"$f":"IFERROR('Measure Simulation'!N7-'Measure Simulation'!O7,0)","v":0},{"$f":"IFERROR('Measure Simulation'!P7-'Measure Simulation'!Q7,0)","v":0},{"$f":"IFERROR('Measure Simulation'!R7-'Measure Simulation'!S,0)","v":0},{"$f":"IFERROR(Q16*$C$7+R16*$C$8+S16*$C$9+T16*$C$11+U16*$C$10+V16*$C$12+W16*$C$13,\"\")","v":0},{"$f":"B16&\": \"&TEXT(Z16,\"0%\")","v":"Space Heating: "},{"$f":"IF($X$23=0,\"\",X16/$X$23)","v":""}]
[null,"Cooling",{"$f":"'Measure Simulation'!F8","v":""},{"$f":"SUM('Measure Simulation'!H8,'Measure Simulation'!J8,'Measure Simulation'!L8,'Measure Simulation'!N8,'Measure Simulation'!P8,'Measure Simulation'!R8)","v":0},{"$f":"'Measure Simulation'!G8","v":""},{"$f":"SUM('Measure Simulation'!I8,'Measure Simulation'!K8,'Measure Simulation'!M8,'Measure Simulation'!O8,'Measure Simulation'!Q8,'Measure Simulation'!S8)","v":0},{"$f":"IFERROR((C17-E17)/C17,0)","v":0},{"$f":"IFERROR((D17-F17)/D17,0)","v":0},{"$f":"G17+H17","v":0},{"$f":"IFERROR(IF($C$5=\"\",\"\",VLOOKUP($C$5,Reference!$B$16:$M$33,3,0)),\"\")","v":""},{"$f":"IFERROR(SUM(C17:D17)/$C$6*1000000,\"\")","v":""},{"$f":"IFERROR(IF(AND(N(C17)=0,N(D17)=0),\"\",((C17+D17)*1000000-J17*$C$6)/(J17*$C$6)),\"\")","v":""},{"$f":"IFERROR(SUM(E17:F17)/$C$6*1000000,\"\")","v":""},{"$f":"IFERROR((C17-E17)+(D17-F17),\"\")","v":""},"Cooling: ",{"$f":"IF($N$23=0,\"\",N17/$N$23)","v":""},{"$f":"IFERROR('Measure Simulation'!F8-'Measure Simulation'!G8,0)","v":0},{"$f":"IFERROR('Measure Simulation'!H8-'Measure Simulation'!I8,0)","v":0},{"$f":"IFERROR('Measure Simulation'!J8-'Measure Simulation'!K8,0)","v":0},{"$f":"IFERROR('Measure Simulation'!L8-'Measure Simulation'!M8,0)","v":0},{"$f":"IFERROR('Measure Simulation'!N8-'Measure Simulation'!O8,0)","v":0},{"$f":"IFERROR('Measure Simulation'!P8-'Measure Simulation'!Q8,0)","v":0},{"$f":"IFERROR('Measure Simulation'!R8-'Measure Simulation'!S,0)","v":0},{"$f":"IFERROR(Q17*$C$7+R17*$C$8+S17*$C$9+T17*$C$11+U17*$C$10+V17*$C$12+W17*$C$13,\"\")","v":0},"Cooling: ",{"$f":"IF($X$23=0,\"\",X17/$X$23)","v":""}]
[null,"Ventilation",{"$f":"'Measure Simulation'!F9","v":""},{"$f":"SUM('Measure Simulation'!H9,'Measure Simulation'!J9,'Measure Simulation'!L9,'Measure Simulation'!N9,'Measure Simulation'!P9,'Measure Simulation'!R9)","v":0},{"$f":"'Measure Simulation'!G9","v":""},{"$f":"SUM('Measure Simulation'!I9,'Measure Simulation'!K9,'Measure Simulation'!M9,'Measure Simulation'!O9,'Measure Simulation'!Q9,'Measure Simulation'!S9)","v":0},0,0,0,{"$f":"IFERROR(IF($C$5=\"\",\"\",VLOOKUP($C$5,Reference!$B$16:$M$33,4,0)),\"\")","v":""},"","","","","Ventilation: ","",{"$f":"IFERROR('Measure Simulation'!F9-'Measure Simulation'!G9,0)","v":0},{"$f":"IFERROR('Measure Simulation'!H9-'Measure Simulation'!I9,0)","v":0},{"$f":"IFERROR('Measure Simulation'!J9-'Measure Simulation'!K9,0)","v":0},{"$f":"IFERROR('Measure Simulation'!L9-'Measure Simulation'!M9,0)","v":0},{"$f":"IFERROR('Measure Simulation'!N9-'Measure Simulation'!O9,0)","v":0},{"$f":"IFERROR('Measure Simulation'!P9-'Measure Simulation'!Q9,0)","v":0},{"$f":"IFERROR('Measure Simulation'!R9-'Measure Simulation'!S,0)","v":0},0,"Ventilation: ",""]
[null,"Water Heating",{"$f":"'Measure Simulation'!F10","v":""},{"$f":"SUM('Measure Simulation'!H10,'Measure Simulation'!J10,'Measure Simulation'!L10,'Measure Simulation'!N10,'Measure Simulation'!P10,'Measure Simulation'!R10)","v":0},{"$f":"'Measure Simulation'!G10","v":""},{"$f":"SUM('Measure Simulation'!I10,'Measure Simulation'!K10,'Measure Simulation'!M10,'Measure Simulation'!O10,'Measure Simulation'!Q10,'Measure Simulation'!S10)","v":0},0,0,0,{"$f":"IFERROR(IF($C$5=\"\",\"\",VLOOKUP($C$5,Reference!$B$16:$M$33,5,0)),\"\")","v":""},"","","","","Water Heating: ","",{"$f":"IFERROR('Measure Simulation'!F10-'Measure Simulation'!G10,0)","v":0},{"$f":"IFERROR('Measure Simulation'!H10-'Measure Simulation'!I10,0)","v":0},{"$f":"IFERROR('Measure Simulation'!J10-'Measure Simulation'!K10,0)","v":0},{"$f":"IFERROR('Measure Simulation'!L10-'Measure Simulation'!M10,0)","v":0},{"$f":"IFERROR('Measure Simulation'!N10-'Measure Simulation'!O10,0)","v":0},{"$f":"IFERROR('Measure Simulation'!P10-'Measure Simulation'!Q10,0)","v":0},{"$f":"IFERROR('Measure Simulation'!R10-'Measure Simulation'!S,0)","v":0},0,"Water Heating: ",""]
[null,"Lighting",{"$f":"'Measure Simulation'!F11","v":""},{"$f":"SUM('Measure Simulation'!H11,'Measure Simulation'!J11,'Measure Simulation'!L11,'Measure Simulation'!N11,'Measure Simulation'!P11,'Measure Simulation'!R11)","v":0},{"$f":"'Measure Simulation'!G11","v":""},{"$f":"SUM('Measure Simulation'!I11,'Measure Simulation'!K11,'Measure Simulation'!M11,'Measure Simulation'!O11,'Measure Simulation'!Q11,'Measure Simulation'!S11)","v":0},0,0,0,{"$f":"IFERROR(IF($C$5=\"\",\"\",VLOOKUP($C$5,Reference!$B$16:$M$33,6,0)),\"\")","v":""},"","","","","Lighting: ","",{"$f":"IFERROR('Measure Simulation'!F11-'Measure Simulation'!G11,0)","v":0},{"$f":"IFERROR('Measure Simulation'!H11-'Measure Simulation'!I11,0)","v":0},{"$f":"IFERROR('Measure Simulation'!J11-'Measure Simulation'!K11,0)","v":0},{"$f":"IFERROR('Measure Simulation'!L11-'Measure Simulation'!M11,0)","v":0},{"$f":"IFERROR('Measure Simulation'!N11-'Measure Simulation'!O11,0)","v":0},{"$f":"IFERROR('Measure Simulation'!P11-'Measure Simulation'!Q11,0)","v":0},{"$f":"IFERROR('Measure Simulation'!R11-'Measure Simulation'!S,0)","v":0},0,"Lighting: ",""]
[null,"Plug Load & Aux. Total",{"$f":"'Measure Simulation'!F12","v":""},{"$f":"SUM('Measure Simulation'!H12,'Measure Simulation'!J12,'Measure Simulation'!L12,'Measure Simulation'!N12,'Measure Simulation'!P12,'Measure Simulation'!R12)","v":0},{"$f":"'Measure Simulation'!G12","v":""},{"$f":"SUM('Measure Simulation'!I12,'Measure Simulation'!K12,'Measure Simulation'!M12,'Measure Simulation'!O12,'Measure Simulation'!Q12,'Measure Simulation'!S12)","v":0},0,0,0,{"$f":"IFERROR(IF($C$5=\"\",\"\",SUM(VLOOKUP($C$5,Reference!$B$16:$M$33,7,0),VLOOKUP($C$5,Reference!$B$16:$M$33,9,0),VLOOKUP($C$5,Reference!$B$16:$M$33,10,0),VLOOKUP($C$5,Reference!$B$16:$M$33,11,0))),\"\")","v":""},"","","","","Plug Load & Aux. Total: ","",{"$f":"IFERROR('Measure Simulation'!F12-'Measure Simulation'!G12,0)","v":0},{"$f":"IFERROR('Measure Simulation'!H12-'Measure Simulation'!I12,0)","v":0},{"$f":"IFERROR('Measure Simulation'!J12-'Measure Simulation'!K12,0)","v":0},{"$f":"IFERROR('Measure Simulation'!L12-'Measure Simulation'!M12,0)","v":0},{"$f":"IFERROR('Measure Simulation'!N12-'Measure Simulation'!O12,0)","v":0},{"$f":"IFERROR('Measure Simulation'!P12-'Measure Simulation'!Q12,0)","v":0},{"$f":"IFERROR('Measure Simulation'!R12-'Measure Simulation'!S,0)","v":0},0,"Plug Load & Aux. Total: ",""]
[null,"Refrigeration",{"$f":"'Measure Simulation'!F13","v":""},{"$f":"SUM('Measure Simulation'!H13,'Measure Simulation'!J13,'Measure Simulation'!L13,'Measure Simulation'!N13,'Measure Simulation'!P13,'Measure Simulation'!R13)","v":0},{"$f":"'Measure Simulation'!G13","v":""},{"$f":"SUM('Measure Simulation'!I13,'Measure Simulation'!K13,'Measure Simulation'!M13,'Measure Simulation'!O13,'Measure Simulation'!Q13,'Measure Simulation'!S13)","v":0},0,0,{"$f":"G22+H22","v":0},{"$f":"IFERROR(IF($C$5=\"\",\"\",VLOOKUP($C$5,Reference!$B$16:$M$33,8,0)),\"\")","v":""},"",{"$f":"IFERROR(IF(AND(N(C22)=0,N(D22)=0),\"\",((C22+D22)*1000000-J22*$C$6)/(J22*$C$6)),\"\")","v":""},"","","Refrigeration: ","",{"$f":"IFERROR('Measure Simulation'!F13-'Measure Simulation'!G13,0)","v":0},{"$f":"IFERROR('Measure Simulation'!H13-'Measure Simulation'!I13,0)","v":0},{"$f":"IFERROR('Measure Simulation'!J13-'Measure Simulation'!K13,0)","v":0},{"$f":"IFERROR('Measure Simulation'!L13-'Measure Simulation'!M13,0)","v":0},{"$f":"IFERROR('Measure Simulation'!N13-'Measure Simulation'!O13,0)","v":0},{"$f":"IFERROR('Measure Simulation'!P13-'Measure Simulation'!Q13,0)","v":0},{"$f":"IFERROR('Measure Simulation'!R13-'Measure Simulation'!S,0)","v":0},0,"Refrigeration: ",""]
[null,"Total",{"$f":"SUM(C16:C22)","v":0},{"$f":"SUM(D16:D22)","v":0},{"$f":"SUM(E16:E22)","v":0},{"$f":"SUM(F16:F22)","v":0},null,null,null,{"$f":"IFERROR(IF($C$5=\"\",\"\",VLOOKUP($C$5,Reference!B16:M33,12,0)),\"\")","v":""},{"$f":"SUM(K16:K22)","v":0},{"$f":"IFERROR(IF(AND(N(C23)=0,N(D23)=0),\"\",((C23+D23)*1000000-J23*$C$6)/(J23*$C$6)),\"\")","v":""},{"$f":"SUM(M16:M22)","v":0},{"$f":"(C23-E23)+(D23-F23)","v":0},"Total",{"$f":"SUM(P16:P22)","v":0},{"$f":"SUM(Q16:Q22)","v":0},{"$f":"SUM(R16:R22)","v":0},0,0,0,0,0,{"$f":"SUM(X16:X22)","v":0},"Total",{"$f":"SUM(Z16:Z22)","v":0}]

{"sheet":"Reference","index":37,"n_rows":34,"n_cols":23,"rows_kept":34,"cut":false,"hidden":true,"merged":[]}
[]
[null,null,"Education","Food Sales","Food Service","Health Care","Inpatient","Outpatient","Lodging","Mercantile","Service","Retail(No Mall)","Enclosed and Strip Malls","Office","Public Assemly","Public Order and Safety","Religious Worship","Warehouse and Storage","Other","Vacant",null,"P4P Building Type","CBECS Building Type"]
[null,"Space Heating",39400,28900,43100,70400,91800,38100,22200,24000,35900,24800,23600,32800,49700,49900,26200,19300,79400,14400,null,"Education – Primary School","Education"]
[null,"Cooling",8000,9800,17400,14100,18600,7200,4900,9900,3800,5900,12400,8900,9600,8900,2900,1300,10500,600,null,"Education – Secondary School","Education"]
[null,"Ventilation",8400,5900,14800,13300,20000,3300,2700,6000,6000,3700,7500,5200,15900,9500,1400,2000,6100,400,null,"Education – Community College","Education"]
[null,"Water Heating",5800,2900,40400,30200,48400,2500,31400,5100,1000,1100,7700,2000,1000,14000,800,600,2100,100,null,"Education – University","Education"]
[null,"Lighting",11500,36700,25400,33100,40100,22600,24300,27500,15600,25700,28600,23100,7000,16500,4400,13100,34100,1700,null,"Education - Other School","Education"]
[null,"Cooking",800,8600,63500,3500,5600,0,3200,2300,0,600,3400,300,800,1300,800,0,0,0,null,"Grocery","Food Sales"]
[null,"Refrigeration",1600,94800,42100,2600,2000,3500,2300,4400,2100,5000,4000,2900,2200,2900,1700,3500,6000,0,null,"Medical – Hospital ","Inpatient"]
[null,"Office Equipment",400,1600,1000,1200,1100,1300,0,700,300,600,800,2600,0,600,100,200,0,0,null,"Medical – Clinic","Health Care"]
[null,"Computers",4000,9100,9500,16100.000000000002,18100,13200,7000,10300,11400,5600,13200,9000,6500,10600,4900,4800,18900,3100,null,"Lodging Hotel (Guest Rooms)","Lodging"]
[null,"Other",3400,1900,1400,3400,3900,2600,1300,1100,1000,1000,1100,6100,0,1600,300,600,3000,0,null,"Lodging Motel","Lodging"]
[null,"Total",83300,200200,258599.99999999997,187899.99999999997,249600,94300,99300,91300,77100,74000,102300.00000000001,92899.999999999985,92700,115799.99999999999,43499.999999999993,45400.000000000007,160100,20300,null,"Manufacturing – Light Industrial","Other"]
[null,null,null,null,null,null,null,null,null,null,null,null,null,null,null,null,null,null,null,null,null,"Office- Large","Office"]
[null,null,"Space Heating","Cooling","Ventilation","Water Heating","Lighting","Cooking","Refrigeration","Office Equipment","Computers","Other","Total",null,null,null,null,null,null,null,null,"Office-Small","Office"]
[null,"Education",39400,8000,8400,5800,11500,800,1600,400,4000,3400,83300,null,null,null,null,null,null,null,null,"Residential- Common Area","Lodging"]
[null,"Food Sales",28900,9800,5900,2900,36700,8600,94800,1600,9100,1900,200200,null,null,null,null,null,null,null,null,"Residential- Tenant Area & Related","Lodging"]
[null,"Food Service",43100,17400,14800,40400,25400,63500,42100,1000,9500,1400,258599.99999999997,null,null,null,null,null,null,null,null,"Restaurant – Sit-Down","Food Service"]
[null,"Health Care",70400,14100,13300,30200,33100,3500,2600,1200,16100.000000000002,3400,187899.99999999997,null,null,null,null,null,null,null,null,"Restaurant – Fast-Food","Food Service"]
[null,"Inpatient",91800,18600,20000,48400,40100,5600,2000,1100,18100,3900,249600,null,null,null,null,null,null,null,null,"Retail – 3-Story Large","Retail(No Mall)"]
[null,"Outpatient",38100,7200,3300,2500,22600,0,3500,1300,13200,2600,94300,null,null,null,null,null,null,null,null,"Retail – Single-Story Large","Retail(No Mall)"]
[null,"Lodging",22200,4900,2700,31400,24300,3200,2300,0,7000,1300,99300,null,null,null,null,null,null,null,null,"Retail – Small","Retail(No Mall)"]
[null,"Mercantile",24000,9900,6000,5100,27500,2300,4400,700,10300,1100,91300,null,null,null,null,null,null,null,null,"Storage Conditioned ","Warehouse and Storage"]
[null,"Service",35900,3800,6000,1000,15600,0,2100,300,11400,1000,77100,null,null,null,null,null,null,null,null,"Storage Unconditioned","Warehouse and Storage"]
[null,"Retail(No Mall)",24800,5900,3700,1100,25700,600,5000,600,5600,1000,74000,null,null,null,null,null,null,null,null,"Warehouse","Warehouse and Storage"]
[null,"Enclosed and Strip Malls",23600,12400,7500,7700,28600,3400,4000,800,13200,1100,102300.00000000001,null,null,null,null,null,null,null,null,"Other","Other"]
[null,"Office",32800,8900,5200,2000,23100,300,2900,2600,9000,6100,92899.999999999985]
[null,"Public Assemly",49700,9600,15900,1000,7000,800,2200,0,6500,0,92700]
[null,"Public Order and Safety",49900,8900,9500,14000,16500,1300,2900,600,10600,1600,115799.99999999999]
[null,"Religious Worship",26200,2900,1400,800,4400,800,1700,100,4900,300,43499.999999999993]
[null,"Warehouse and Storage",19300,1300,2000,600,13100,0,3500,200,4800,600,45400.000000000007]
[null,"Other",79400,10500,6100,2100,34100,0,6000,0,18900,3000,160100]
[null,"Vacant",14400,600,400,100,1700,0,0,0,3100,0,20300]
[null,"Multifamily"]

{"sheet":"CBECS Buildings","index":38,"n_rows":0,"n_cols":0,"rows_kept":0,"cut":false,"hidden":true,"merged":[]}

{"sheet":"Partner Internal QC","index":39,"n_rows":24,"n_cols":5,"rows_kept":24,"cut":false,"hidden":false,"merged":[[0,11,0,12],[6,3,7,3],[5,1,5,4]]}
[null,"Partner QC"]
[null,"Instructions"]
[null,"Once you have completed filling out all of the tables, enter Revision Number and Date into the Pre-Submittal Screening Tool below.        "]
[null,"Review all errors, if any, and make necessary corrections to the tables. Make comments under \"Partner Note\" as you see fit.       "]
[]
[null,"Pre Submittal QC Screening Tool"]
[null,"Revision Number:"]
[null,"Revision Date:"]
[null,"Critial Items","Result","Comment","Partner Notes"]
[null,"15% Savings Threshold",{"$f":"IF(C7=\"\",\"\",'QC Summary'!K21)","v":""},{"$f":"IF(C10=\"Fail\",\"Project does not save minimum 15% source energy\",\"\")","v":""}]
[null,"Comprehensive Scope",{"$f":"IF(C7=\"\",\"\",'QC Summary'!K103)","v":""},{"$f":"IF(C11=\"Fail\",\"Project must consist of at least two unique measures\",\"\")","v":""}]
[null,"Max 50% Lighting Savings",{"$f":"IF(C7=\"\",\"\",'QC Summary'!K26)","v":""},{"$f":"IF(C12=\"Fail\",\"Savings from lighting measures exceeds 50% of total savings\",\"\")","v":""}]
[null,"Max 50% Non-IOU Savings",{"$f":"IF(C7=\"\",\"\",'QC Summary'!K27)","v":""},{"$f":"IF(C13=\"Fail\",\"Savings from Non-IOU fuels exceeds 50% of total savings\",\"\")","v":""}]
[null,"10% Project IRR ",{"$f":"IF(C7=\"\",\"\",'QC Summary'!K32)","v":""},{"$f":"IF(C14=\"Fail\",\"Project IRR is too low\",\"\")","v":""}]
[null,"General Items","Result","Comment","Partner Notes"]
[null,"Individual Fuel Savings",{"$f":"IF(C7=\"\",\"\",'QC Summary'!K17)","v":""},{"$f":"IF(C16=\"Note\",\"Savings of one or more fuel types exceeds 100% and may need revision\",\"\")","v":""}]
[null,"Actual Lighting Runtime Hours",{"$f":"IF(C7=\"\",\"\",'QC Summary'!K29)","v":""},{"$f":"IF(C17=\"Fail\",\"Lighting Runtime Hours in the model may vary by more than 15% from default based on building type. Please review runtime hours in Lighting table, as well as inputs in the model.\",\"\")","v":""}]
[null,"CM Fees",{"$f":"IF(C7=\"\",\"\",'QC Summary'!K30)","v":""},{"$f":"IF(C18=\"Note\",\"Construction management fees have not been added to Measure Simulation table. Please update or explain.\",\"\")","v":""}]
[null,"Partner Fees",{"$f":"IF(C7=\"\",\"\",'QC Summary'!K31)","v":""},{"$f":"IF(C19=\"Note\",\"Partner fees have not been included in Measure Simulation table. Please update or explain.\",\"\")","v":""}]
[null,"Measure Lifetimes",{"$f":"IF(C7=\"\",\"\",'QC Summary'!K101)","v":""},{"$f":"IF(C20=\"Fail\",\"Measure lifetimes in Measure Simulation table exceed program guidelines, please revise or provide justification.\",IF(C20=\"Note\",\"Measure category may be not have been defined in Measure Descriptions table. Lifetime may exceed program guidelines and may need to be revised.\",\"\"))","v":""}]
[null,"Project Schedule",{"$f":"IF(C7=\"\",\"\",'QC Summary'!K74)","v":""},{"$f":"IF(C21=\"Fail\",\"Project schedule does not meet program guidelines, please adjust accordingly\",\"\")","v":""}]
[null,"Model Items","Result","Comment","Partner Notes"]
[null,"Provided Savings",{"$f":"IF(C7=\"\",\"\",IF('QC Measure Savings Review'!D32>0,\"Fail\",\"Pass\"))","v":""},{"$f":"IF(C23=\"Fail\",\"The annual consumptions in the first Measure Simulation table from the simulation's runs does not produce the savings entered in the second Measure Simulation table .  Please revise.\",\"\")","v":""}]
[null,"Custom Calcs",{"$f":"IF(C7=\"\",\"\",IF('QC Measure Savings Review'!D33>0,\"Note\",\"Pass\"))","v":""},{"$f":"IF(C24=\"Note\",\"One or more measures have been calculated without the use of a simulation program. Please ensure measure can not be modeled in software, and attach supporting external calculations.\",\"\")","v":""}]

{"sheet":"QC Summary","index":40,"n_rows":103,"n_cols":17,"rows_kept":103,"cut":false,"hidden":true,"merged":[]}
["2011-01-01","ERP Table Version 2.0","2011 ARRA and Non ARRA Tables"]
["2011-03-01","ERP Table Version 2.1","Updated District Steam site-to-source ratios to 1.21; changed cell protections; "]
["2012-01-12","ERP Table Version 3.0","2012 ARRA and Non ARRA Tables  50/50 split. "]
["2014-03-01","ERP Table Version 4.0"]
[]
[null,null,"Pass","Fail","Note","Lev 2 Fail",null,null,"Custom Calcs"]
[null,null,{"$f":"COUNTIF($K$10:$K$103,C6)","v":17},{"$f":"COUNTIF($K$10:$K$103,D6)","v":3},{"$f":"COUNTIF($K$10:$K$103,E6)","v":3},{"$f":"'QC Measure Savings Review'!D32","v":0},null,null,{"$f":"'QC Measure Savings Review'!D33","v":0}]
[]
[null,null,"Baseline Use","Savings","% Savings",null,null,"  ","Constraints",null,null,null,"Site Source Ratios"]
[null,{"$f":"'Project Summary & Incentives'!B6","v":"Electricity (kBtu)"},{"$f":"'Project Summary & Incentives'!C6","v":0},{"$f":"'Project Summary & Incentives'!D6","v":0},{"$f":"'Project Summary & Incentives'!E6","v":0},null,null,"<=",1,2,{"$f":"IF(E10<=I10,\"Pass\",\"Note\")","v":"Pass"},null,3.14]
[null,{"$f":"'Project Summary & Incentives'!B7","v":"Natural Gas (kBtu)"},{"$f":"'Project Summary & Incentives'!C7","v":0},{"$f":"'Project Summary & Incentives'!D7","v":0},{"$f":"'Project Summary & Incentives'!E7","v":0},null,null,"<=",1,2,"Pass",null,1.05]
[null,{"$f":"'Project Summary & Incentives'!B8","v":"District Steam (kBtu)"},{"$f":"'Project Summary & Incentives'!C8","v":0},{"$f":"'Project Summary & Incentives'!D8","v":0},{"$f":"'Project Summary & Incentives'!E8","v":0},null,null,"<=",1,2,"Pass",null,1.2]
[null,{"$f":"'Project Summary & Incentives'!B9","v":"District Hot Water (kBtu)"},{"$f":"'Project Summary & Incentives'!C9","v":0},{"$f":"'Project Summary & Incentives'!D9","v":0},{"$f":"'Project Summary & Incentives'!E9","v":0},null,null,"<=",1,2,"Pass",null,1.2]
[null,{"$f":"'Project Summary & Incentives'!B10","v":"District Chilled Water (kBtu)"},{"$f":"'Project Summary & Incentives'!C10","v":0},{"$f":"'Project Summary & Incentives'!D10","v":0},{"$f":"'Project Summary & Incentives'!E10","v":0},null,null,"<=",1,2,"Pass",null,1]
[null,{"$f":"'Project Summary & Incentives'!B11","v":"Fuel Oil and/or Propane (kBtu)"},{"$f":"'Project Summary & Incentives'!C11","v":0},{"$f":"'Project Summary & Incentives'!D11","v":0},{"$f":"'Project Summary & Incentives'!E11","v":0},null,null,"<=",1,2,"Pass",null,1.01]
[null,{"$f":"'Project Summary & Incentives'!B12","v":"Other"},{"$f":"'Project Summary & Incentives'!C12","v":0},{"$f":"'Project Summary & Incentives'!D12","v":0},{"$f":"'Project Summary & Incentives'!E12","v":0},null,null,"<=",1,2,"Pass",null,1]
[null,null,null,null,null,null,null,null,"Total",2,{"$f":"IF(AND(K10=\"Pass\",K11=\"Pass\",K12=\"Pass\",K13=\"Pass\", K14=\"Pass\",K15=\"Pass\",K16=\"Pass\"),\"Pass\",\"Note\")","v":"Pass"}]
[null,"PM EUI (rounded)",{"$f":"ROUND('Project Summary & Incentives'!C13,0)","v":0},{"$f":"ROUND('Project Summary & Incentives'!D13,1)","v":0},{"$f":"D15/1000","v":0},{"$f":"E18*12.5","v":0}]
[null,"Calculated Source EUI (rounded)",{"$f":"IF('Project Summary & Incentives'!C49=0,0,ROUND(SUMPRODUCT(C10:C16,M10:M16)/'Project Summary & Incentives'!C49,0))","v":0},{"$f":"IF('Project Summary & Incentives'!C49=0,0,ROUND(SUMPRODUCT(D10:D16,M10:M16)/'Project Summary & Incentives'!C49,1))","v":0},{"$f":"D11/100","v":0},{"$f":"E19*1.25","v":0},null,null,null,null,null,null,"Incentive Payouts"]
[null,"Project Square Footage",{"$f":"'Project Summary & Incentives'!C49","v":0},null,null,null,null,null,null,null,null,null,{"$f":"IF(C21>0.15,MIN('Introduction & Instructions'!D30,'Introduction & Instructions'!D28+'Introduction & Instructions'!D29*'QC Summary'!E21),0)","v":0},"per kWh"]
[null,"Percent Savings from PM",{"$f":"'Project Summary & Incentives'!E14","v":0},{"$f":"ROUND(C21,2)","v":0},{"$f":"D21*100-15","v":-15},null,null,">=",0.15,1,{"$f":"IF(D21>=I21,\"Pass\",\"Fail\")","v":"Fail"},null,{"$f":"IF(C21>0.15,MIN('Introduction & Instructions'!D36,'Introduction & Instructions'!D34+'Introduction & Instructions'!D35*'QC Summary'!E21),0)","v":0},"per MMBTU"]
[null,"Percent Savings from Utility",{"$f":"IF(C19=0,0,'Project Summary & Incentives'!D13/C19)","v":0},{"$f":"ROUND(C22,2)","v":0},null,null,null,null,null,null,null,null,{"$f":"IF(C21>0.15,MIN('Introduction & Instructions'!D33,'Introduction & Instructions'!D31+'Introduction & Instructions'!D32*'QC Summary'!E21),0)","v":0},"per Therm"]
[null,"PM SF/EUI/% Matches ERP",{"$f":"IF(C18=0,0,C19/C18)","v":0},null,null,null,null,"=",1,2,{"$f":"IF(AND(C23=I23),\"Pass\",\"Note\")","v":"Note"}]
[]
[null,null,"kWh","MMBtu","kBtu","%"]
[null,"Lighting Measures Savings Contribution",{"$f":"SUMPRODUCT('Measure Simulation'!$C$50:$C$74,'Measure Simulation'!$G$50:$G$74)","v":0},{"$f":"SUMPRODUCT('Measure Simulation'!$B$50:$B$74,'Measure Simulation'!$C$50:$C$74)","v":0},{"$f":"(C26*3.412*3.14)+(D26*1000*1.05)","v":0},{"$f":"IF(C26=0,0,E26/(D18*C20))","v":0},null,"<=",0.5,1,{"$f":"IF(F26<=I26,\"Pass\",\"Fail\")","v":"Pass"}]
[null,"Non-IOU Savings Contribution ",null,null,{"$f":"ROUND(SUMPRODUCT(D12:D16,M12:M16),0)","v":0},{"$f":"IF(E27=0,0,E27/(D18*C20))","v":0},null,"<=",0.5,1,{"$f":"IF(F27<=I27,\"Pass\",\"Fail\")","v":"Pass"}]
[null,"Modeled Runtime Hours",{"$f":"IF('Measure Simulation'!$F$11=\"\",0,('Measure Simulation'!$F$11-'Measure Simulation'!$G$11)/0.003412)","v":0},{"$f":"IF('Measure Simulation'!$H$11=\"\",0,'Measure Simulation'!$H$11-'Measure Simulation'!$I$11)","v":0}]
[null,"Lighting Measure Runtime Hours",{"$f":"IF(Lighting!AK11=\"-\",Lighting!AK10,Lighting!AK11)","v":"-"},{"$f":"Lighting!AK12","v":"-"},null,{"$f":"ABS(IF(D29=\"-\",0,((D29-C29)/C29)))","v":0},null,"<=",0.15,1,{"$f":"IF(F29<=I29,\"Pass\",\"Fail\")","v":"Pass"}]
[null,"CM Fees",{"$f":"'Measure Simulation'!F75","v":0},null,null,null,null,">",0,2,{"$f":"IF(C30>I30,\"Pass\",\"Note\")","v":"Note"}]
[null,"Partner Fees",{"$f":"'Measure Simulation'!F76","v":0},null,null,null,null,">",0,2,{"$f":"IF(C31>I31,\"Pass\",\"Note\")","v":"Note"}]
[null,"Project IRR",{"$f":"'Measure Simulation'!T77","v":0},null,null,null,null,">=",0.1,1,{"$f":"IF(C32>=I32,\"Pass\",\"Fail\")","v":"Fail"}]
[]
[]
[null,"ARRA/Non-IOU Project?",{"$f":"'General Project Information'!E34","v":0},null,null,null,null,null,null,null,{"$f":"IF(C35=\"Yes\",\"Note\",\"N/A\")","v":"N/A"}]
[null,"Total Project Cost",{"$f":"'Measure Simulation'!F77","v":0}]
[]
[]
[null,"Total Incentive Cap",{"$f":"IF(AND(D10>0,D11>0),MIN(2000000,0.5*C36+C42),IF(AND(C35=\"Yes\",D10>0,SUM(D12:D16)>0),MIN(2000000,0.5*C36+C42),MIN(1000000,0.5*C36+C42)))","v":0}]
[]
[null,null,"ARRA/Non-IOU","Non-ARRA/IOU","Project Incentive",null,null,null,null,null,null,null,"Incentive Cap"]
[null,"Incentive 1",{"$f":"IF(C20=0,0,IF('Project Summary & Incentives'!C49*0.1<5000,5000,IF('Project Summary & Incentives'!C49*0.1>50000,50000,'Project Summary & Incentives'!C49*0.1)))","v":0},{"$f":"IF(C20=0,0,IF('Project Summary & Incentives'!C49*0.1<5000,5000,IF('Project Summary & Incentives'!C49*0.1>50000,50000,'Project Summary & Incentives'!C49*0.1)))","v":0},{"$f":"IF('General Project Information'!E34=\"Yes\",C42,D42)","v":0},null,null,"<=",{"$f":"M42","v":50000},1,{"$f":"IF(E42<=I42,\"Pass\",\"Fail\")","v":"Pass"},null,50000,"Incentive 1"]
[null,"Incentive 2",{"$f":"D10/3.412*M20+D11/100*M22+D15/1000*M21","v":0},{"$f":"D10/3.412*M20+D11/100*M22","v":0},{"$f":"IF('General Project Information'!E34=\"Yes\",C43,D43)","v":0},null,null,"<=",{"$f":"M43","v":0},1,{"$f":"IF(E43<=I43,\"Pass\",\"Fail\")","v":"Pass"},null,{"$f":"0.25*C36","v":0},"Incentive 2"]
[null,"Incentive 3 (projected)",{"$f":"D10/3.412*M20+D11/100*M22+D15/1000*M21","v":0},{"$f":"D10/3.412*M20+D11/100*M22","v":0},{"$f":"IF('General Project Information'!E34=\"Yes\",C44,D44)","v":0},null,null,"<=",{"$f":"M44","v":0},1,{"$f":"IF(E44<=I44,\"Pass\",\"Fail\")","v":"Pass"},null,{"$f":"0.25*C36","v":0},"Incentive 3"]
[null,"Total",{"$f":"SUM(C42:C44)","v":0},{"$f":"SUM(D42:D44)","v":0},{"$f":"SUM(E42:E44)","v":0},null,null,"<=",{"$f":"M45","v":0},1,{"$f":"IF(E45<=I45,\"Pass\",\"Fail\")","v":"Pass"},null,{"$f":"C39","v":0},"Total Cap"]
[]
[null,null,null,null,null,null,null,null,"Now"]
[null,"Measure",null,"Start","End","Time",null,null,{"$f":"NOW()","v":"2014-05-29T14:17:05.010"}]
[null,{"$f":"'Measure Descriptions'!C7","v":0},null,{"$f":"'Implementation & Financing'!E21","v":"00:00:00"},{"$f":"'Implementation & Financing'!F21","v":"00:00:00"},{"$f":"E49-D49","v":0},null,null,null,1,{"$f":"IF(B49=0,\"N/A\",IF(OR(OR((D49-$I$48)>180,(D49-$I$48)<=0),OR(F49<0,F49>365)),\"Fail\",\"Pass\"))","v":"N/A"}]
[null,{"$f":"'Measure Descriptions'!C8","v":0},null,{"$f":"'Implementation & Financing'!E22","v":"00:00:00"},{"$f":"'Implementation & Financing'!F22","v":"00:00:00"},{"$f":"E50-D50","v":0},null,null,null,1,{"$f":"IF(B50=0,\"N/A\",IF(OR(OR((D50-$I$48)>180,(D50-$I$48)<=0),OR(F50<0,F50>365)),\"Fail\",\"Pass\"))","v":"N/A"}]
[null,{"$f":"'Measure Descriptions'!C9","v":0},null,{"$f":"'Implementation & Financing'!E23","v":"00:00:00"},{"$f":"'Implementation & Financing'!F23","v":"00:00:00"},0,null,null,null,1,"N/A"]
[null,{"$f":"'Measure Descriptions'!C10","v":0},null,{"$f":"'Implementation & Financing'!E24","v":"00:00:00"},{"$f":"'Implementation & Financing'!F24","v":"00:00:00"},0,null,null,null,1,"N/A"]
[null,{"$f":"'Measure Descriptions'!C11","v":0},null,{"$f":"'Implementation & Financing'!E25","v":"00:00:00"},{"$f":"'Implementation & Financing'!F25","v":"00:00:00"},{"$f":"E53-D53","v":0},null,null,null,1,"N/A"]
[null,{"$f":"'Measure Descriptions'!C12","v":0},null,{"$f":"'Implementation & Financing'!E26","v":"00:00:00"},{"$f":"'Implementation & Financing'!F26","v":"00:00:00"},0,null,null,null,1,"N/A"]
[null,{"$f":"'Measure Descriptions'!C13","v":0},null,{"$f":"'Implementation & Financing'!E27","v":"00:00:00"},{"$f":"'Implementation & Financing'!F27","v":"00:00:00"},0,null,null,null,1,"N/A"]
[null,{"$f":"'Measure Descriptions'!C14","v":0},null,{"$f":"'Implementation & Financing'!E28","v":"00:00:00"},{"$f":"'Implementation & Financing'!F28","v":"00:00:00"},0,null,null,null,1,"N/A"]
[null,{"$f":"'Measure Descriptions'!C15","v":0},null,{"$f":"'Implementation & Financing'!E29","v":"00:00:00"},{"$f":"'Implementation & Financing'!F29","v":"00:00:00"},0,null,null,null,1,"N/A"]
[null,{"$f":"'Measure Descriptions'!C16","v":0},null,{"$f":"'Implementation & Financing'!E30","v":"00:00:00"},{"$f":"'Implementation & Financing'!F30","v":"00:00:00"},0,null,null,null,1,"N/A"]
[null,{"$f":"'Measure Descriptions'!C17","v":0},null,{"$f":"'Implementation & Financing'!E31","v":"00:00:00"},{"$f":"'Implementation & Financing'!F31","v":"00:00:00"},0,null,null,null,1,"N/A"]
[null,{"$f":"'Measure Descriptions'!C18","v":0},null,{"$f":"'Implementation & Financing'!E32","v":"00:00:00"},{"$f":"'Implementation & Financing'!F32","v":"00:00:00"},0,null,null,null,1,"N/A"]
[null,{"$f":"'Measure Descriptions'!C19","v":0},null,{"$f":"'Implementation & Financing'!E33","v":"00:00:00"},{"$f":"'Implementation & Financing'!F33","v":"00:00:00"},0,null,null,null,1,"N/A"]
[null,{"$f":"'Measure Descriptions'!C20","v":0},null,{"$f":"'Implementation & Financing'!E34","v":"00:00:00"},{"$f":"'Implementation & Financing'!F34","v":"00:00:00"},0,null,null,null,1,"N/A"]
[null,{"$f":"'Measure Descriptions'!C21","v":0},null,{"$f":"'Implementation & Financing'!E35","v":"00:00:00"},{"$f":"'Implementation & Financing'!F35","v":"00:00:00"},0,null,null,null,1,"N/A"]
[null,{"$f":"'Measure Descriptions'!C22","v":0},null,{"$f":"'Implementation & Financing'!E36","v":"00:00:00"},{"$f":"'Implementation & Financing'!F36","v":"00:00:00"},0,null,null,null,1,"N/A"]
[null,{"$f":"'Measure Descriptions'!C23","v":0},null,{"$f":"'Implementation & Financing'!E37","v":"00:00:00"},{"$f":"'Implementation & Financing'!F37","v":"00:00:00"},0,null,null,null,1,"N/A"]
[null,{"$f":"'Measure Descriptions'!C24","v":0},null,{"$f":"'Implementation & Financing'!E38","v":"00:00:00"},{"$f":"'Implementation & Financing'!F38","v":"00:00:00"},0,null,null,null,1,"N/A"]
[null,{"$f":"'Measure Descriptions'!C25","v":0},null,{"$f":"'Implementation & Financing'!E39","v":"00:00:00"},{"$f":"'Implementation & Financing'!F39","v":"00:00:00"},0,null,null,null,1,"N/A"]
[null,{"$f":"'Measure Descriptions'!C26","v":0},null,{"$f":"'Implementation & Financing'!E40","v":"00:00:00"},{"$f":"'Implementation & Financing'!F40","v":"00:00:00"},0,null,null,null,1,"N/A"]
[null,{"$f":"'Measure Descriptions'!C27","v":0},null,{"$f":"'Implementation & Financing'!E41","v":"00:00:00"},{"$f":"'Implementation & Financing'!F41","v":"00:00:00"},0,null,null,null,1,"N/A"]
[null,{"$f":"'Measure Descriptions'!C28","v":0},null,{"$f":"'Implementation & Financing'!E42","v":"00:00:00"},{"$f":"'Implementation & Financing'!F42","v":"00:00:00"},0,null,null,null,1,"N/A"]
[null,{"$f":"'Measure Descriptions'!C29","v":0},null,{"$f":"'Implementation & Financing'!E43","v":"00:00:00"},{"$f":"'Implementation & Financing'!F43","v":"00:00:00"},0,null,null,null,1,"N/A"]
[null,{"$f":"'Measure Descriptions'!C30","v":0},null,{"$f":"'Implementation & Financing'!E44","v":"00:00:00"},{"$f":"'Implementation & Financing'!F44","v":"00:00:00"},0,null,null,null,1,"N/A"]
[null,{"$f":"'Measure Descriptions'!C31","v":0},null,{"$f":"'Implementation & Financing'!E45","v":"00:00:00"},{"$f":"'Implementation & Financing'!F45","v":"00:00:00"},0,null,null,null,1,"N/A"]
[null,null,null,null,null,null,null,null,null,"Total",{"$f":"IF(COUNTIF(K49:K73,\"Fail\")>0,\"Fail\",\"Pass\")","v":"Pass"}]
[null,"Measure","Lifetime Category","Value","Number Input Override","Max Life",null,null,"Measure Simulation Table Lifetime",null,null,null,"NJ Measure Lifetime Protocols",null,null,"For Calculation Use:"]
[null,{"$f":"'Measure Descriptions'!E7","v":0},null,{"$f":"IF(E76=\"\",IF(AND(B76=0,I76=0),\"\",IF(B76=0,\"Check/Enter\",IF(P76=\"Next\",IF(Q76=\"Check\",\"Check/Enter\",Q76),P76))),\"Enter Cat\")","v":""},null,{"$f":"IF(E76=\"\",IF(OR(D76=\"Check/Enter\",D76=\"Check\"),\"Input\",IF(D76=\"\",\"\",INDEX($N$76:$N$94,MATCH(D76,$M$76:$M$94,0),1))),E76)","v":""},null,">=",{"$f":"'Measure Simulation'!Q50","v":0},null,{"$f":"IF(F76=\"Input\",\"Note\",IF(OR(ISERROR(F76),F76=\"\"),\"N/A\",IF(F76>=I76,\"Pass\",\"Fail\")))","v":"N/A"},null,"Lighting",15,null,{"$f":"IF(ISERROR(MATCH(B76,Lighting,0)),IF(ISERROR(MATCH(B76,UnitaryHVAC,0)),IF(ISERROR(MATCH(B76,Chillers,0)),IF(ISERROR(MATCH(B76,VSD,0)),IF(ISERROR(MATCH(B76,Motors,0)),IF(ISERROR(MATCH(B76,Boilers,0)),IF(ISERROR(MATCH(B76,LightingControls,0)),IF(ISERROR(MATCH(B76,Envelope,0)),IF(ISERROR(MATCH(B76,PlugLoads,0)),IF(ISERROR(MATCH(B76,Furnaces,0)),IF(ISERROR(MATCH(B76,DHW,0)),IF(ISERROR(MATCH(B76,CustomElec,0)),IF(ISERROR(MATCH(B76,CustomGas,0)),IF(ISERROR(MATCH(B76,Refrigeration,0)),IF(ISERROR(MATCH(B76,CommercialFood,0)),\"Next\",\"CommercialFood\"),\"Refrigeration\"),\"CustomGas\"),\"CustomElec\"),\"DHW\"),\"Furnaces\"),\"PlugLoads\"),\"Envelope\"),\"LightingControls\"),\"Boilers\"),\"Motors\"),\"VSD\"),\"Chillers\"),\"HVAC\"),\"Lighting\")","v":"Next"},{"$f":"IF(ISERROR(MATCH(B76,CompressedAir,0)),\"Check\",\"CompressedAir\")","v":"Check"}]
[null,{"$f":"'Measure Descriptions'!E8","v":0},null,{"$f":"IF(E77=\"\",IF(AND(B77=0,I77=0),\"\",IF(B77=0,\"Check/Enter\",IF(P77=\"Next\",IF(Q77=\"Check\",\"Check/Enter\",Q77),P77))),\"Enter Cat\")","v":""},null,"",null,">=",{"$f":"'Measure Simulation'!Q51","v":0},null,{"$f":"IF(F77=\"Input\",\"Note\",IF(OR(ISERROR(F77),F77=\"\"),\"N/A\",IF(F77>=I77,\"Pass\",\"Fail\")))","v":"N/A"},null,"LightingControls",18,null,"Next","Check"]
[null,{"$f":"'Measure Descriptions'!E9","v":0},null,"",null,"",null,">=",{"$f":"'Measure Simulation'!Q52","v":0},null,"N/A",null,"HVAC",15,null,"Next","Check"]
[null,{"$f":"'Measure Descriptions'!E10","v":0},null,"",null,"",null,">=",{"$f":"'Measure Simulation'!Q53","v":0},null,"N/A",null,"Chillers",25,null,"Next","Check"]
[null,{"$f":"'Measure Descriptions'!E11","v":0},null,"",null,"",null,">=",{"$f":"'Measure Simulation'!Q54","v":0},null,"N/A",null,"ChillerOptimization",18,null,"Next","Check"]
[null,{"$f":"'Measure Descriptions'!E12","v":0},null,"",null,"",null,">=",{"$f":"'Measure Simulation'!Q55","v":0},null,"N/A",null,"VSD",15,null,"Next","Check"]
[null,{"$f":"'Measure Descriptions'!E13","v":0},null,"",null,"",null,">=",{"$f":"'Measure Simulation'!Q56","v":0},null,"N/A",null,"Motors",20,null,"Next","Check"]
[null,{"$f":"'Measure Descriptions'!E14","v":0},null,"",null,"",null,">=",{"$f":"'Measure Simulation'!Q57","v":0},null,"N/A",null,"Boilers",25,null,"Next","Check"]
[null,{"$f":"'Measure Descriptions'!E15","v":0},null,"",null,"",null,">=",{"$f":"'Measure Simulation'!Q58","v":0},null,"N/A",null,"Furnaces",20,null,"Next","Check"]
[null,{"$f":"'Measure Descriptions'!E16","v":0},null,"",null,"",null,">=",{"$f":"'Measure Simulation'!Q59","v":0},null,"N/A",null,"DHW",10,null,"Next","Check"]
[null,{"$f":"'Measure Descriptions'!E17","v":0},null,"",null,"",null,">=",{"$f":"'Measure Simulation'!Q60","v":0},null,"N/A",null,"CompressedAir",8,null,"Next","Check"]
[null,{"$f":"'Measure Descriptions'!E18","v":0},null,"",null,"",null,">=",{"$f":"'Measure Simulation'!Q61","v":0},null,"N/A",null,"O+M ",3,null,"Next","Check"]
[null,{"$f":"'Measure Descriptions'!E19","v":0},null,"",null,"",null,">=",{"$f":"'Measure Simulation'!Q62","v":0},null,"N/A",null,"CustomElec",18,null,"Next","Check"]
[null,{"$f":"'Measure Descriptions'!E20","v":0},null,"",null,"",null,">=",{"$f":"'Measure Simulation'!Q63","v":0},null,"N/A",null,"CustomGas",18,null,"Next","Check"]
[null,{"$f":"'Measure Descriptions'!E21","v":0},null,"",null,"",null,">=",{"$f":"'Measure Simulation'!Q64","v":0},null,"N/A",null,"Envelope",20,null,"Next","Check"]
[null,{"$f":"'Measure Descriptions'!E22","v":0},null,"",null,"",null,">=",{"$f":"'Measure Simulation'!Q65","v":0},null,"N/A",null,"PlugLoads",10,null,"Next","Check"]
[null,{"$f":"'Measure Descriptions'!E23","v":0},null,"",null,"",null,">=",{"$f":"'Measure Simulation'!Q66","v":0},null,"N/A",null,"Refrigeration",10,null,"Next","Check"]
[null,{"$f":"'Measure Descriptions'!E24","v":0},null,"",null,"",null,">=",{"$f":"'Measure Simulation'!Q67","v":0},null,"N/A",null,"CommercialFood",12,null,"Next","Check"]
[null,{"$f":"'Measure Descriptions'!E25","v":0},null,"",null,"",null,">=",{"$f":"'Measure Simulation'!Q68","v":0},null,"N/A",null,"ManualEntry","<enter life>",null,"Next","Check"]
[null,{"$f":"'Measure Descriptions'!E26","v":0},null,{"$f":"IF(E95=\"\",IF(AND(B95=0,I95=0),\"\",IF(B95=0,\"Check/Enter\",IF(P95=\"Next\",IF(Q95=\"Check\",\"Check/Enter\",Q95),P95))),\"Enter Cat\")","v":""},null,"",null,">=",{"$f":"'Measure Simulation'!Q69","v":0},null,{"$f":"IF(F95=\"Input\",\"Note\",IF(OR(ISERROR(F95),F95=\"\"),\"N/A\",IF(F95>=I95,\"Pass\",\"Fail\")))","v":"N/A"},null,null,null,null,"Next","Check"]
[null,{"$f":"'Measure Descriptions'!E27","v":0},null,"",null,"",null,">=",{"$f":"'Measure Simulation'!Q70","v":0},null,"N/A",null,null,null,null,"Next","Check"]
[null,{"$f":"'Measure Descriptions'!E28","v":0},null,"",null,"",null,">=",{"$f":"'Measure Simulation'!Q71","v":0},null,"N/A",null,null,null,null,"Next","Check"]
[null,{"$f":"'Measure Descriptions'!E29","v":0},null,"",null,"",null,">=",{"$f":"'Measure Simulation'!Q72","v":0},null,"N/A",null,null,null,null,"Next","Check"]
[null,{"$f":"'Measure Descriptions'!E30","v":0},null,"",null,"",null,">=",{"$f":"'Measure Simulation'!Q73","v":0},null,"N/A",null,null,null,null,"Next","Check"]
[null,{"$f":"'Measure Descriptions'!E31","v":0},null,"",null,"",null,">=",{"$f":"'Measure Simulation'!Q74","v":0},null,"N/A",null,null,null,null,"Next","Check"]
[null,null,null,null,null,null,null,null,null,"Total",{"$f":"IF(COUNTIF(K76:K100,\"Fail\")>0,\"Fail\",IF(COUNTIF(K76:K100,\"Note\")>0,\"Note\",\"Pass\"))","v":"Pass"}]
[]
[null,null,null,null,null,null,null,"At least two measures? ",null,null,{"$f":"IF(B50=0, \"Fail\", \"Pass\")","v":"Fail"}]

{"sheet":"QC Measure Savings Review","index":41,"n_rows":37,"n_cols":21,"rows_kept":37,"cut":false,"hidden":true,"merged":[[3,1,3,3],[3,4,3,11],[3,13,3,20],[31,5,34,15],[36,5,38,15]]}
[]
[]
[]
[null,"Measure Savings Comparison",null,null,"Measure Simulation Table1",null,null,null,null,null,null,null,null,"Measure Simulation Table2"]
[null,"Measure","Name","Calculation Type","kWh","kW","NG Therms","Steam MMBtu","Hot Water MMBTU","CHW MMBTU","O & P Therms","Other MMBtu","Match?","kWh","kW","NG Therms","Steam MMBtu","Hot Water MMBTU","CHW MMBTU","O & P Therms","Other MMBtu"]
[null,1,{"$f":"'Measure Descriptions'!C7","v":0},{"$f":"'Measure Simulation'!F20","v":0},{"$f":"IF($D6=\"Simulation\",ROUND('Measure Simulation'!H18-'Measure Simulation'!H20,4),0)","v":0},{"$f":"IF($D6=\"Simulation\",ROUND('Measure Simulation'!I18-'Measure Simulation'!I20,4),0)","v":0},{"$f":"IF($D6=\"Simulation\",ROUND('Measure Simulation'!J18-'Measure Simulation'!J20,4),0)","v":0},{"$f":"IF($D6=\"Simulation\",ROUND('Measure Simulation'!K18-'Measure Simulation'!K20,4),0)","v":0},{"$f":"IF($D6=\"Simulation\",ROUND('Measure Simulation'!L18-'Measure Simulation'!L20,4),0)","v":0},{"$f":"IF($D6=\"Simulation\",ROUND('Measure Simulation'!M18-'Measure Simulation'!M20,4),0)","v":0},{"$f":"IF($D6=\"Simulation\",ROUND('Measure Simulation'!N18-'Measure Simulation'!N20,4),0)","v":0},{"$f":"IF($D6=\"Simulation\",ROUND('Measure Simulation'!O18-'Measure Simulation'!O20,4),0)","v":0},{"$f":"IF(D6=\"Custom Calcs\",\"Check\",IF(AND(E6=N6,F6=O6,G6=P6,H6=Q6,K6=T6,L6=U6),\"Yes\",\"No\"))","v":"Yes"},{"$f":"ROUND('Measure Simulation'!G50,4)","v":0},{"$f":"ROUND('Measure Simulation'!N50,4)","v":0},{"$f":"ROUND('Measure Simulation'!H50,4)","v":0},{"$f":"ROUND('Measure Simulation'!I50,4)","v":0},{"$f":"ROUND('Measure Simulation'!J50,4)","v":0},{"$f":"ROUND('Measure Simulation'!K50,4)","v":0},{"$f":"ROUND('Measure Simulation'!L50,4)","v":0},{"$f":"ROUND('Measure Simulation'!M50,4)","v":0}]
[null,2,{"$f":"'Measure Descriptions'!C8","v":0},{"$f":"'Measure Simulation'!F21","v":0},{"$f":"IF($D7=\"Simulation\",ROUND('Measure Simulation'!H20-'Measure Simulation'!H21,4),0)","v":0},{"$f":"IF($D7=\"Simulation\",ROUND('Measure Simulation'!I20-'Measure Simulation'!I21,4),0)","v":0},{"$f":"IF($D7=\"Simulation\",ROUND('Measure Simulation'!J20-'Measure Simulation'!J21,4),0)","v":0},{"$f":"IF($D7=\"Simulation\",ROUND('Measure Simulation'!K20-'Measure Simulation'!K21,4),0)","v":0},{"$f":"IF($D7=\"Simulation\",ROUND('Measure Simulation'!L20-'Measure Simulation'!L21,4),0)","v":0},{"$f":"IF($D7=\"Simulation\",ROUND('Measure Simulation'!M20-'Measure Simulation'!M21,4),0)","v":0},{"$f":"IF($D7=\"Simulation\",ROUND('Measure Simulation'!N20-'Measure Simulation'!N21,4),0)","v":0},{"$f":"IF($D7=\"Simulation\",ROUND('Measure Simulation'!O20-'Measure Simulation'!O21,4),0)","v":0},{"$f":"IF(D7=\"Custom Calcs\",\"Check\",IF(AND(E7=N7,F7=O7,G7=P7,H7=Q7,K7=T7,L7=U7),\"Yes\",\"No\"))","v":"Yes"},{"$f":"ROUND('Measure Simulation'!G51,4)","v":0},{"$f":"ROUND('Measure Simulation'!N51,4)","v":0},{"$f":"ROUND('Measure Simulation'!H51,4)","v":0},{"$f":"ROUND('Measure Simulation'!I51,4)","v":0},{"$f":"ROUND('Measure Simulation'!J51,4)","v":0},{"$f":"ROUND('Measure Simulation'!K51,4)","v":0},{"$f":"ROUND('Measure Simulation'!L51,4)","v":0},{"$f":"ROUND('Measure Simulation'!M51,4)","v":0}]
[null,3,{"$f":"'Measure Descriptions'!C9","v":0},{"$f":"'Measure Simulation'!F22","v":0},{"$f":"IF($D8=\"Simulation\",ROUND('Measure Simulation'!H21-'Measure Simulation'!H22,4),0)","v":0},{"$f":"IF($D8=\"Simulation\",ROUND('Measure Simulation'!I21-'Measure Simulation'!I22,4),0)","v":0},{"$f":"IF($D8=\"Simulation\",ROUND('Measure Simulation'!J21-'Measure Simulation'!J22,4),0)","v":0},{"$f":"IF($D8=\"Simulation\",ROUND('Measure Simulation'!K21-'Measure Simulation'!K22,4),0)","v":0},{"$f":"IF($D8=\"Simulation\",ROUND('Measure Simulation'!L21-'Measure Simulation'!L22,4),0)","v":0},{"$f":"IF($D8=\"Simulation\",ROUND('Measure Simulation'!M21-'Measure Simulation'!M22,4),0)","v":0},{"$f":"IF($D8=\"Simulation\",ROUND('Measure Simulation'!N21-'Measure Simulation'!N22,4),0)","v":0},{"$f":"IF($D8=\"Simulation\",ROUND('Measure Simulation'!O21-'Measure Simulation'!O22,4),0)","v":0},{"$f":"IF(D8=\"Custom Calcs\",\"Check\",IF(AND(E8=N8,F8=O8,G8=P8,H8=Q8,K8=T8,L8=U8),\"Yes\",\"No\"))","v":"Yes"},{"$f":"ROUND('Measure Simulation'!G52,4)","v":0},{"$f":"ROUND('Measure Simulation'!N52,4)","v":0},{"$f":"ROUND('Measure Simulation'!H52,4)","v":0},{"$f":"ROUND('Measure Simulation'!I52,4)","v":0},{"$f":"ROUND('Measure Simulation'!J52,4)","v":0},{"$f":"ROUND('Measure Simulation'!K52,4)","v":0},{"$f":"ROUND('Measure Simulation'!L52,4)","v":0},{"$f":"ROUND('Measure Simulation'!M52,4)","v":0}]
[null,4,{"$f":"'Measure Descriptions'!C10","v":0},{"$f":"'Measure Simulation'!F23","v":0},{"$f":"IF($D9=\"Simulation\",ROUND('Measure Simulation'!H22-'Measure Simulation'!H23,4),0)","v":0},{"$f":"IF($D9=\"Simulation\",ROUND('Measure Simulation'!I22-'Measure Simulation'!I23,4),0)","v":0},{"$f":"IF($D9=\"Simulation\",ROUND('Measure Simulation'!J22-'Measure Simulation'!J23,4),0)","v":0},{"$f":"IF($D9=\"Simulation\",ROUND('Measure Simulation'!K22-'Measure Simulation'!K23,4),0)","v":0},{"$f":"IF($D9=\"Simulation\",ROUND('Measure Simulation'!L22-'Measure Simulation'!L23,4),0)","v":0},{"$f":"IF($D9=\"Simulation\",ROUND('Measure Simulation'!M22-'Measure Simulation'!M23,4),0)","v":0},{"$f":"IF($D9=\"Simulation\",ROUND('Measure Simulation'!N22-'Measure Simulation'!N23,4),0)","v":0},{"$f":"IF($D9=\"Simulation\",ROUND('Measure Simulation'!O22-'Measure Simulation'!O23,4),0)","v":0},"Yes",{"$f":"ROUND('Measure Simulation'!G53,4)","v":0},{"$f":"ROUND('Measure Simulation'!N53,4)","v":0},{"$f":"ROUND('Measure Simulation'!H53,4)","v":0},{"$f":"ROUND('Measure Simulation'!I53,4)","v":0},{"$f":"ROUND('Measure Simulation'!J53,4)","v":0},{"$f":"ROUND('Measure Simulation'!K53,4)","v":0},{"$f":"ROUND('Measure Simulation'!L53,4)","v":0},{"$f":"ROUND('Measure Simulation'!M53,4)","v":0}]
[null,5,{"$f":"'Measure Descriptions'!C11","v":0},{"$f":"'Measure Simulation'!F24","v":0},{"$f":"IF($D10=\"Simulation\",ROUND('Measure Simulation'!H23-'Measure Simulation'!H24,4),0)","v":0},{"$f":"IF($D10=\"Simulation\",ROUND('Measure Simulation'!I23-'Measure Simulation'!I24,4),0)","v":0},{"$f":"IF($D10=\"Simulation\",ROUND('Measure Simulation'!J23-'Measure Simulation'!J24,4),0)","v":0},{"$f":"IF($D10=\"Simulation\",ROUND('Measure Simulation'!K23-'Measure Simulation'!K24,4),0)","v":0},{"$f":"IF($D10=\"Simulation\",ROUND('Measure Simulation'!L23-'Measure Simulation'!L24,4),0)","v":0},{"$f":"IF($D10=\"Simulation\",ROUND('Measure Simulation'!M23-'Measure Simulation'!M24,4),0)","v":0},{"$f":"IF($D10=\"Simulation\",ROUND('Measure Simulation'!N23-'Measure Simulation'!N24,4),0)","v":0},{"$f":"IF($D10=\"Simulation\",ROUND('Measure Simulation'!O23-'Measure Simulation'!O24,4),0)","v":0},"Yes",{"$f":"ROUND('Measure Simulation'!G54,4)","v":0},{"$f":"ROUND('Measure Simulation'!N54,4)","v":0},{"$f":"ROUND('Measure Simulation'!H54,4)","v":0},{"$f":"ROUND('Measure Simulation'!I54,4)","v":0},{"$f":"ROUND('Measure Simulation'!J54,4)","v":0},{"$f":"ROUND('Measure Simulation'!K54,4)","v":0},{"$f":"ROUND('Measure Simulation'!L54,4)","v":0},{"$f":"ROUND('Measure Simulation'!M54,4)","v":0}]
[null,6,{"$f":"'Measure Descriptions'!C12","v":0},{"$f":"'Measure Simulation'!F25","v":0},{"$f":"IF($D11=\"Simulation\",ROUND('Measure Simulation'!H24-'Measure Simulation'!H25,4),0)","v":0},{"$f":"IF($D11=\"Simulation\",ROUND('Measure Simulation'!I24-'Measure Simulation'!I25,4),0)","v":0},{"$f":"IF($D11=\"Simulation\",ROUND('Measure Simulation'!J24-'Measure Simulation'!J25,4),0)","v":0},{"$f":"IF($D11=\"Simulation\",ROUND('Measure Simulation'!K24-'Measure Simulation'!K25,4),0)","v":0},{"$f":"IF($D11=\"Simulation\",ROUND('Measure Simulation'!L24-'Measure Simulation'!L25,4),0)","v":0},{"$f":"IF($D11=\"Simulation\",ROUND('Measure Simulation'!M24-'Measure Simulation'!M25,4),0)","v":0},{"$f":"IF($D11=\"Simulation\",ROUND('Measure Simulation'!N24-'Measure Simulation'!N25,4),0)","v":0},{"$f":"IF($D11=\"Simulation\",ROUND('Measure Simulation'!O24-'Measure Simulation'!O25,4),0)","v":0},"Yes",{"$f":"ROUND('Measure Simulation'!G55,4)","v":0},{"$f":"ROUND('Measure Simulation'!N55,4)","v":0},{"$f":"ROUND('Measure Simulation'!H55,4)","v":0},{"$f":"ROUND('Measure Simulation'!I55,4)","v":0},{"$f":"ROUND('Measure Simulation'!J55,4)","v":0},{"$f":"ROUND('Measure Simulation'!K55,4)","v":0},{"$f":"ROUND('Measure Simulation'!L55,4)","v":0},{"$f":"ROUND('Measure Simulation'!M55,4)","v":0}]
[null,7,{"$f":"'Measure Descriptions'!C13","v":0},{"$f":"'Measure Simulation'!F26","v":0},{"$f":"IF($D12=\"Simulation\",ROUND('Measure Simulation'!H25-'Measure Simulation'!H26,4),0)","v":0},{"$f":"IF($D12=\"Simulation\",ROUND('Measure Simulation'!I25-'Measure Simulation'!I26,4),0)","v":0},{"$f":"IF($D12=\"Simulation\",ROUND('Measure Simulation'!J25-'Measure Simulation'!J26,4),0)","v":0},{"$f":"IF($D12=\"Simulation\",ROUND('Measure Simulation'!K25-'Measure Simulation'!K26,4),0)","v":0},{"$f":"IF($D12=\"Simulation\",ROUND('Measure Simulation'!L25-'Measure Simulation'!L26,4),0)","v":0},{"$f":"IF($D12=\"Simulation\",ROUND('Measure Simulation'!M25-'Measure Simulation'!M26,4),0)","v":0},{"$f":"IF($D12=\"Simulation\",ROUND('Measure Simulation'!N25-'Measure Simulation'!N26,4),0)","v":0},{"$f":"IF($D12=\"Simulation\",ROUND('Measure Simulation'!O25-'Measure Simulation'!O26,4),0)","v":0},"Yes",{"$f":"ROUND('Measure Simulation'!G56,4)","v":0},{"$f":"ROUND('Measure Simulation'!N56,4)","v":0},{"$f":"ROUND('Measure Simulation'!H56,4)","v":0},{"$f":"ROUND('Measure Simulation'!I56,4)","v":0},{"$f":"ROUND('Measure Simulation'!J56,4)","v":0},{"$f":"ROUND('Measure Simulation'!K56,4)","v":0},{"$f":"ROUND('Measure Simulation'!L56,4)","v":0},{"$f":"ROUND('Measure Simulation'!M56,4)","v":0}]
[null,8,{"$f":"'Measure Descriptions'!C14","v":0},{"$f":"'Measure Simulation'!F27","v":0},{"$f":"IF($D13=\"Simulation\",ROUND('Measure Simulation'!H26-'Measure Simulation'!H27,4),0)","v":0},{"$f":"IF($D13=\"Simulation\",ROUND('Measure Simulation'!I26-'Measure Simulation'!I27,4),0)","v":0},{"$f":"IF($D13=\"Simulation\",ROUND('Measure Simulation'!J26-'Measure Simulation'!J27,4),0)","v":0},{"$f":"IF($D13=\"Simulation\",ROUND('Measure Simulation'!K26-'Measure Simulation'!K27,4),0)","v":0},{"$f":"IF($D13=\"Simulation\",ROUND('Measure Simulation'!L26-'Measure Simulation'!L27,4),0)","v":0},{"$f":"IF($D13=\"Simulation\",ROUND('Measure Simulation'!M26-'Measure Simulation'!M27,4),0)","v":0},{"$f":"IF($D13=\"Simulation\",ROUND('Measure Simulation'!N26-'Measure Simulation'!N27,4),0)","v":0},{"$f":"IF($D13=\"Simulation\",ROUND('Measure Simulation'!O26-'Measure Simulation'!O27,4),0)","v":0},"Yes",{"$f":"ROUND('Measure Simulation'!G57,4)","v":0},{"$f":"ROUND('Measure Simulation'!N57,4)","v":0},{"$f":"ROUND('Measure Simulation'!H57,4)","v":0},{"$f":"ROUND('Measure Simulation'!I57,4)","v":0},{"$f":"ROUND('Measure Simulation'!J57,4)","v":0},{"$f":"ROUND('Measure Simulation'!K57,4)","v":0},{"$f":"ROUND('Measure Simulation'!L57,4)","v":0},{"$f":"ROUND('Measure Simulation'!M57,4)","v":0}]
[null,9,{"$f":"'Measure Descriptions'!C15","v":0},{"$f":"'Measure Simulation'!F28","v":0},{"$f":"IF($D14=\"Simulation\",ROUND('Measure Simulation'!H27-'Measure Simulation'!H28,4),0)","v":0},{"$f":"IF($D14=\"Simulation\",ROUND('Measure Simulation'!I27-'Measure Simulation'!I28,4),0)","v":0},{"$f":"IF($D14=\"Simulation\",ROUND('Measure Simulation'!J27-'Measure Simulation'!J28,4),0)","v":0},{"$f":"IF($D14=\"Simulation\",ROUND('Measure Simulation'!K27-'Measure Simulation'!K28,4),0)","v":0},{"$f":"IF($D14=\"Simulation\",ROUND('Measure Simulation'!L27-'Measure Simulation'!L28,4),0)","v":0},{"$f":"IF($D14=\"Simulation\",ROUND('Measure Simulation'!M27-'Measure Simulation'!M28,4),0)","v":0},{"$f":"IF($D14=\"Simulation\",ROUND('Measure Simulation'!N27-'Measure Simulation'!N28,4),0)","v":0},{"$f":"IF($D14=\"Simulation\",ROUND('Measure Simulation'!O27-'Measure Simulation'!O28,4),0)","v":0},"Yes",{"$f":"ROUND('Measure Simulation'!G58,4)","v":0},{"$f":"ROUND('Measure Simulation'!N58,4)","v":0},{"$f":"ROUND('Measure Simulation'!H58,4)","v":0},{"$f":"ROUND('Measure Simulation'!I58,4)","v":0},{"$f":"ROUND('Measure Simulation'!J58,4)","v":0},{"$f":"ROUND('Measure Simulation'!K58,4)","v":0},{"$f":"ROUND('Measure Simulation'!L58,4)","v":0},{"$f":"ROUND('Measure Simulation'!M58,4)","v":0}]
[null,10,{"$f":"'Measure Descriptions'!C16","v":0},{"$f":"'Measure Simulation'!F29","v":0},{"$f":"IF($D15=\"Simulation\",ROUND('Measure Simulation'!H28-'Measure Simulation'!H29,4),0)","v":0},{"$f":"IF($D15=\"Simulation\",ROUND('Measure Simulation'!I28-'Measure Simulation'!I29,4),0)","v":0},{"$f":"IF($D15=\"Simulation\",ROUND('Measure Simulation'!J28-'Measure Simulation'!J29,4),0)","v":0},{"$f":"IF($D15=\"Simulation\",ROUND('Measure Simulation'!K28-'Measure Simulation'!K29,4),0)","v":0},{"$f":"IF($D15=\"Simulation\",ROUND('Measure Simulation'!L28-'Measure Simulation'!L29,4),0)","v":0},{"$f":"IF($D15=\"Simulation\",ROUND('Measure Simulation'!M28-'Measure Simulation'!M29,4),0)","v":0},{"$f":"IF($D15=\"Simulation\",ROUND('Measure Simulation'!N28-'Measure Simulation'!N29,4),0)","v":0},{"$f":"IF($D15=\"Simulation\",ROUND('Measure Simulation'!O28-'Measure Simulation'!O29,4),0)","v":0},"Yes",{"$f":"ROUND('Measure Simulation'!G59,4)","v":0},{"$f":"ROUND('Measure Simulation'!N59,4)","v":0},{"$f":"ROUND('Measure Simulation'!H59,4)","v":0},{"$f":"ROUND('Measure Simulation'!I59,4)","v":0},{"$f":"ROUND('Measure Simulation'!J59,4)","v":0},{"$f":"ROUND('Measure Simulation'!K59,4)","v":0},{"$f":"ROUND('Measure Simulation'!L59,4)","v":0},{"$f":"ROUND('Measure Simulation'!M59,4)","v":0}]
[null,11,{"$f":"'Measure Descriptions'!C17","v":0},{"$f":"'Measure Simulation'!F30","v":0},{"$f":"IF($D16=\"Simulation\",ROUND('Measure Simulation'!H29-'Measure Simulation'!H30,4),0)","v":0},{"$f":"IF($D16=\"Simulation\",ROUND('Measure Simulation'!I29-'Measure Simulation'!I30,4),0)","v":0},{"$f":"IF($D16=\"Simulation\",ROUND('Measure Simulation'!J29-'Measure Simulation'!J30,4),0)","v":0},{"$f":"IF($D16=\"Simulation\",ROUND('Measure Simulation'!K29-'Measure Simulation'!K30,4),0)","v":0},{"$f":"IF($D16=\"Simulation\",ROUND('Measure Simulation'!L29-'Measure Simulation'!L30,4),0)","v":0},{"$f":"IF($D16=\"Simulation\",ROUND('Measure Simulation'!M29-'Measure Simulation'!M30,4),0)","v":0},{"$f":"IF($D16=\"Simulation\",ROUND('Measure Simulation'!N29-'Measure Simulation'!N30,4),0)","v":0},{"$f":"IF($D16=\"Simulation\",ROUND('Measure Simulation'!O29-'Measure Simulation'!O30,4),0)","v":0},"Yes",{"$f":"ROUND('Measure Simulation'!G60,4)","v":0},{"$f":"ROUND('Measure Simulation'!N60,4)","v":0},{"$f":"ROUND('Measure Simulation'!H60,4)","v":0},{"$f":"ROUND('Measure Simulation'!I60,4)","v":0},{"$f":"ROUND('Measure Simulation'!J60,4)","v":0},{"$f":"ROUND('Measure Simulation'!K60,4)","v":0},{"$f":"ROUND('Measure Simulation'!L60,4)","v":0},{"$f":"ROUND('Measure Simulation'!M60,4)","v":0}]
[null,12,{"$f":"'Measure Descriptions'!C18","v":0},{"$f":"'Measure Simulation'!F31","v":0},{"$f":"IF($D17=\"Simulation\",ROUND('Measure Simulation'!H30-'Measure Simulation'!H31,4),0)","v":0},{"$f":"IF($D17=\"Simulation\",ROUND('Measure Simulation'!I30-'Measure Simulation'!I31,4),0)","v":0},{"$f":"IF($D17=\"Simulation\",ROUND('Measure Simulation'!J30-'Measure Simulation'!J31,4),0)","v":0},{"$f":"IF($D17=\"Simulation\",ROUND('Measure Simulation'!K30-'Measure Simulation'!K31,4),0)","v":0},{"$f":"IF($D17=\"Simulation\",ROUND('Measure Simulation'!L30-'Measure Simulation'!L31,4),0)","v":0},{"$f":"IF($D17=\"Simulation\",ROUND('Measure Simulation'!M30-'Measure Simulation'!M31,4),0)","v":0},{"$f":"IF($D17=\"Simulation\",ROUND('Measure Simulation'!N30-'Measure Simulation'!N31,4),0)","v":0},{"$f":"IF($D17=\"Simulation\",ROUND('Measure Simulation'!O30-'Measure Simulation'!O31,4),0)","v":0},"Yes",{"$f":"ROUND('Measure Simulation'!G61,4)","v":0},{"$f":"ROUND('Measure Simulation'!N61,4)","v":0},{"$f":"ROUND('Measure Simulation'!H61,4)","v":0},{"$f":"ROUND('Measure Simulation'!I61,4)","v":0},{"$f":"ROUND('Measure Simulation'!J61,4)","v":0},{"$f":"ROUND('Measure Simulation'!K61,4)","v":0},{"$f":"ROUND('Measure Simulation'!L61,4)","v":0},{"$f":"ROUND('Measure Simulation'!M61,4)","v":0}]
[null,13,{"$f":"'Measure Descriptions'!C19","v":0},{"$f":"'Measure Simulation'!F32","v":0},{"$f":"IF($D18=\"Simulation\",ROUND('Measure Simulation'!H31-'Measure Simulation'!H32,4),0)","v":0},{"$f":"IF($D18=\"Simulation\",ROUND('Measure Simulation'!I31-'Measure Simulation'!I32,4),0)","v":0},{"$f":"IF($D18=\"Simulation\",ROUND('Measure Simulation'!J31-'Measure Simulation'!J32,4),0)","v":0},{"$f":"IF($D18=\"Simulation\",ROUND('Measure Simulation'!K31-'Measure Simulation'!K32,4),0)","v":0},{"$f":"IF($D18=\"Simulation\",ROUND('Measure Simulation'!L31-'Measure Simulation'!L32,4),0)","v":0},{"$f":"IF($D18=\"Simulation\",ROUND('Measure Simulation'!M31-'Measure Simulation'!M32,4),0)","v":0},{"$f":"IF($D18=\"Simulation\",ROUND('Measure Simulation'!N31-'Measure Simulation'!N32,4),0)","v":0},{"$f":"IF($D18=\"Simulation\",ROUND('Measure Simulation'!O31-'Measure Simulation'!O32,4),0)","v":0},"Yes",{"$f":"ROUND('Measure Simulation'!G62,4)","v":0},{"$f":"ROUND('Measure Simulation'!N62,4)","v":0},{"$f":"ROUND('Measure Simulation'!H62,4)","v":0},{"$f":"ROUND('Measure Simulation'!I62,4)","v":0},{"$f":"ROUND('Measure Simulation'!J62,4)","v":0},{"$f":"ROUND('Measure Simulation'!K62,4)","v":0},{"$f":"ROUND('Measure Simulation'!L62,4)","v":0},{"$f":"ROUND('Measure Simulation'!M62,4)","v":0}]
[null,14,{"$f":"'Measure Descriptions'!C20","v":0},{"$f":"'Measure Simulation'!F33","v":0},{"$f":"IF($D19=\"Simulation\",ROUND('Measure Simulation'!H32-'Measure Simulation'!H33,4),0)","v":0},{"$f":"IF($D19=\"Simulation\",ROUND('Measure Simulation'!I32-'Measure Simulation'!I33,4),0)","v":0},{"$f":"IF($D19=\"Simulation\",ROUND('Measure Simulation'!J32-'Measure Simulation'!J33,4),0)","v":0},{"$f":"IF($D19=\"Simulation\",ROUND('Measure Simulation'!K32-'Measure Simulation'!K33,4),0)","v":0},{"$f":"IF($D19=\"Simulation\",ROUND('Measure Simulation'!L32-'Measure Simulation'!L33,4),0)","v":0},{"$f":"IF($D19=\"Simulation\",ROUND('Measure Simulation'!M32-'Measure Simulation'!M33,4),0)","v":0},{"$f":"IF($D19=\"Simulation\",ROUND('Measure Simulation'!N32-'Measure Simulation'!N33,4),0)","v":0},{"$f":"IF($D19=\"Simulation\",ROUND('Measure Simulation'!O32-'Measure Simulation'!O33,4),0)","v":0},"Yes",{"$f":"ROUND('Measure Simulation'!G63,4)","v":0},{"$f":"ROUND('Measure Simulation'!N63,4)","v":0},{"$f":"ROUND('Measure Simulation'!H63,4)","v":0},{"$f":"ROUND('Measure Simulation'!I63,4)","v":0},{"$f":"ROUND('Measure Simulation'!J63,4)","v":0},{"$f":"ROUND('Measure Simulation'!K63,4)","v":0},{"$f":"ROUND('Measure Simulation'!L63,4)","v":0},{"$f":"ROUND('Measure Simulation'!M63,4)","v":0}]
[null,15,{"$f":"'Measure Descriptions'!C21","v":0},{"$f":"'Measure Simulation'!F34","v":0},{"$f":"IF($D20=\"Simulation\",ROUND('Measure Simulation'!H33-'Measure Simulation'!H34,4),0)","v":0},{"$f":"IF($D20=\"Simulation\",ROUND('Measure Simulation'!I33-'Measure Simulation'!I34,4),0)","v":0},{"$f":"IF($D20=\"Simulation\",ROUND('Measure Simulation'!J33-'Measure Simulation'!J34,4),0)","v":0},{"$f":"IF($D20=\"Simulation\",ROUND('Measure Simulation'!K33-'Measure Simulation'!K34,4),0)","v":0},{"$f":"IF($D20=\"Simulation\",ROUND('Measure Simulation'!L33-'Measure Simulation'!L34,4),0)","v":0},{"$f":"IF($D20=\"Simulation\",ROUND('Measure Simulation'!M33-'Measure Simulation'!M34,4),0)","v":0},{"$f":"IF($D20=\"Simulation\",ROUND('Measure Simulation'!N33-'Measure Simulation'!N34,4),0)","v":0},{"$f":"IF($D20=\"Simulation\",ROUND('Measure Simulation'!O33-'Measure Simulation'!O34,4),0)","v":0},"Yes",{"$f":"ROUND('Measure Simulation'!G64,4)","v":0},{"$f":"ROUND('Measure Simulation'!N64,4)","v":0},{"$f":"ROUND('Measure Simulation'!H64,4)","v":0},{"$f":"ROUND('Measure Simulation'!I64,4)","v":0},{"$f":"ROUND('Measure Simulation'!J64,4)","v":0},{"$f":"ROUND('Measure Simulation'!K64,4)","v":0},{"$f":"ROUND('Measure Simulation'!L64,4)","v":0},{"$f":"ROUND('Measure Simulation'!M64,4)","v":0}]
[null,16,{"$f":"'Measure Descriptions'!C22","v":0},{"$f":"'Measure Simulation'!F35","v":0},{"$f":"IF($D21=\"Simulation\",ROUND('Measure Simulation'!H34-'Measure Simulation'!H35,4),0)","v":0},{"$f":"IF($D21=\"Simulation\",ROUND('Measure Simulation'!I34-'Measure Simulation'!I35,4),0)","v":0},{"$f":"IF($D21=\"Simulation\",ROUND('Measure Simulation'!J34-'Measure Simulation'!J35,4),0)","v":0},{"$f":"IF($D21=\"Simulation\",ROUND('Measure Simulation'!K34-'Measure Simulation'!K35,4),0)","v":0},{"$f":"IF($D21=\"Simulation\",ROUND('Measure Simulation'!L34-'Measure Simulation'!L35,4),0)","v":0},{"$f":"IF($D21=\"Simulation\",ROUND('Measure Simulation'!M34-'Measure Simulation'!M35,4),0)","v":0},{"$f":"IF($D21=\"Simulation\",ROUND('Measure Simulation'!N34-'Measure Simulation'!N35,4),0)","v":0},{"$f":"IF($D21=\"Simulation\",ROUND('Measure Simulation'!O34-'Measure Simulation'!O35,4),0)","v":0},"Yes",{"$f":"ROUND('Measure Simulation'!G65,4)","v":0},{"$f":"ROUND('Measure Simulation'!N65,4)","v":0},{"$f":"ROUND('Measure Simulation'!H65,4)","v":0},{"$f":"ROUND('Measure Simulation'!I65,4)","v":0},{"$f":"ROUND('Measure Simulation'!J65,4)","v":0},{"$f":"ROUND('Measure Simulation'!K65,4)","v":0},{"$f":"ROUND('Measure Simulation'!L65,4)","v":0},{"$f":"ROUND('Measure Simulation'!M65,4)","v":0}]
[null,17,{"$f":"'Measure Descriptions'!C23","v":0},{"$f":"'Measure Simulation'!F36","v":0},{"$f":"IF($D22=\"Simulation\",ROUND('Measure Simulation'!H35-'Measure Simulation'!H36,4),0)","v":0},{"$f":"IF($D22=\"Simulation\",ROUND('Measure Simulation'!I35-'Measure Simulation'!I36,4),0)","v":0},{"$f":"IF($D22=\"Simulation\",ROUND('Measure Simulation'!J35-'Measure Simulation'!J36,4),0)","v":0},{"$f":"IF($D22=\"Simulation\",ROUND('Measure Simulation'!K35-'Measure Simulation'!K36,4),0)","v":0},{"$f":"IF($D22=\"Simulation\",ROUND('Measure Simulation'!L35-'Measure Simulation'!L36,4),0)","v":0},{"$f":"IF($D22=\"Simulation\",ROUND('Measure Simulation'!M35-'Measure Simulation'!M36,4),0)","v":0},{"$f":"IF($D22=\"Simulation\",ROUND('Measure Simulation'!N35-'Measure Simulation'!N36,4),0)","v":0},{"$f":"IF($D22=\"Simulation\",ROUND('Measure Simulation'!O35-'Measure Simulation'!O36,4),0)","v":0},"Yes",{"$f":"ROUND('Measure Simulation'!G66,4)","v":0},{"$f":"ROUND('Measure Simulation'!N66,4)","v":0},{"$f":"ROUND('Measure Simulation'!H66,4)","v":0},{"$f":"ROUND('Measure Simulation'!I66,4)","v":0},{"$f":"ROUND('Measure Simulation'!J66,4)","v":0},{"$f":"ROUND('Measure Simulation'!K66,4)","v":0},{"$f":"ROUND('Measure Simulation'!L66,4)","v":0},{"$f":"ROUND('Measure Simulation'!M66,4)","v":0}]
[null,18,{"$f":"'Measure Descriptions'!C24","v":0},{"$f":"'Measure Simulation'!F37","v":0},{"$f":"IF($D23=\"Simulation\",ROUND('Measure Simulation'!H36-'Measure Simulation'!H37,4),0)","v":0},{"$f":"IF($D23=\"Simulation\",ROUND('Measure Simulation'!I36-'Measure Simulation'!I37,4),0)","v":0},{"$f":"IF($D23=\"Simulation\",ROUND('Measure Simulation'!J36-'Measure Simulation'!J37,4),0)","v":0},{"$f":"IF($D23=\"Simulation\",ROUND('Measure Simulation'!K36-'Measure Simulation'!K37,4),0)","v":0},{"$f":"IF($D23=\"Simulation\",ROUND('Measure Simulation'!L36-'Measure Simulation'!L37,4),0)","v":0},{"$f":"IF($D23=\"Simulation\",ROUND('Measure Simulation'!M36-'Measure Simulation'!M37,4),0)","v":0},{"$f":"IF($D23=\"Simulation\",ROUND('Measure Simulation'!N36-'Measure Simulation'!N37,4),0)","v":0},{"$f":"IF($D23=\"Simulation\",ROUND('Measure Simulation'!O36-'Measure Simulation'!O37,4),0)","v":0},"Yes",{"$f":"ROUND('Measure Simulation'!G67,4)","v":0},{"$f":"ROUND('Measure Simulation'!N67,4)","v":0},{"$f":"ROUND('Measure Simulation'!H67,4)","v":0},{"$f":"ROUND('Measure Simulation'!I67,4)","v":0},{"$f":"ROUND('Measure Simulation'!J67,4)","v":0},{"$f":"ROUND('Measure Simulation'!K67,4)","v":0},{"$f":"ROUND('Measure Simulation'!L67,4)","v":0},{"$f":"ROUND('Measure Simulation'!M67,4)","v":0}]
[null,19,{"$f":"'Measure Descriptions'!C25","v":0},{"$f":"'Measure Simulation'!F38","v":0},{"$f":"IF($D24=\"Simulation\",ROUND('Measure Simulation'!H37-'Measure Simulation'!H38,4),0)","v":0},{"$f":"IF($D24=\"Simulation\",ROUND('Measure Simulation'!I37-'Measure Simulation'!I38,4),0)","v":0},{"$f":"IF($D24=\"Simulation\",ROUND('Measure Simulation'!J37-'Measure Simulation'!J38,4),0)","v":0},{"$f":"IF($D24=\"Simulation\",ROUND('Measure Simulation'!K37-'Measure Simulation'!K38,4),0)","v":0},{"$f":"IF($D24=\"Simulation\",ROUND('Measure Simulation'!L37-'Measure Simulation'!L38,4),0)","v":0},{"$f":"IF($D24=\"Simulation\",ROUND('Measure Simulation'!M37-'Measure Simulation'!M38,4),0)","v":0},{"$f":"IF($D24=\"Simulation\",ROUND('Measure Simulation'!N37-'Measure Simulation'!N38,4),0)","v":0},{"$f":"IF($D24=\"Simulation\",ROUND('Measure Simulation'!O37-'Measure Simulation'!O38,4),0)","v":0},"Yes",{"$f":"ROUND('Measure Simulation'!G68,4)","v":0},{"$f":"ROUND('Measure Simulation'!N68,4)","v":0},{"$f":"ROUND('Measure Simulation'!H68,4)","v":0},{"$f":"ROUND('Measure Simulation'!I68,4)","v":0},{"$f":"ROUND('Measure Simulation'!J68,4)","v":0},{"$f":"ROUND('Measure Simulation'!K68,4)","v":0},{"$f":"ROUND('Measure Simulation'!L68,4)","v":0},{"$f":"ROUND('Measure Simulation'!M68,4)","v":0}]
[null,20,{"$f":"'Measure Descriptions'!C26","v":0},{"$f":"'Measure Simulation'!F39","v":0},{"$f":"IF($D25=\"Simulation\",ROUND('Measure Simulation'!H38-'Measure Simulation'!H39,4),0)","v":0},{"$f":"IF($D25=\"Simulation\",ROUND('Measure Simulation'!I38-'Measure Simulation'!I39,4),0)","v":0},{"$f":"IF($D25=\"Simulation\",ROUND('Measure Simulation'!J38-'Measure Simulation'!J39,4),0)","v":0},{"$f":"IF($D25=\"Simulation\",ROUND('Measure Simulation'!K38-'Measure Simulation'!K39,4),0)","v":0},{"$f":"IF($D25=\"Simulation\",ROUND('Measure Simulation'!L38-'Measure Simulation'!L39,4),0)","v":0},{"$f":"IF($D25=\"Simulation\",ROUND('Measure Simulation'!M38-'Measure Simulation'!M39,4),0)","v":0},{"$f":"IF($D25=\"Simulation\",ROUND('Measure Simulation'!N38-'Measure Simulation'!N39,4),0)","v":0},{"$f":"IF($D25=\"Simulation\",ROUND('Measure Simulation'!O38-'Measure Simulation'!O39,4),0)","v":0},"Yes",{"$f":"ROUND('Measure Simulation'!G69,4)","v":0},{"$f":"ROUND('Measure Simulation'!N69,4)","v":0},{"$f":"ROUND('Measure Simulation'!H69,4)","v":0},{"$f":"ROUND('Measure Simulation'!I69,4)","v":0},{"$f":"ROUND('Measure Simulation'!J69,4)","v":0},{"$f":"ROUND('Measure Simulation'!K69,4)","v":0},{"$f":"ROUND('Measure Simulation'!L69,4)","v":0},{"$f":"ROUND('Measure Simulation'!M69,4)","v":0}]
[null,21,{"$f":"'Measure Descriptions'!C27","v":0},{"$f":"'Measure Simulation'!F40","v":0},{"$f":"IF($D26=\"Simulation\",ROUND('Measure Simulation'!H39-'Measure Simulation'!H40,4),0)","v":0},{"$f":"IF($D26=\"Simulation\",ROUND('Measure Simulation'!I39-'Measure Simulation'!I40,4),0)","v":0},{"$f":"IF($D26=\"Simulation\",ROUND('Measure Simulation'!J39-'Measure Simulation'!J40,4),0)","v":0},{"$f":"IF($D26=\"Simulation\",ROUND('Measure Simulation'!K39-'Measure Simulation'!K40,4),0)","v":0},{"$f":"IF($D26=\"Simulation\",ROUND('Measure Simulation'!L39-'Measure Simulation'!L40,4),0)","v":0},{"$f":"IF($D26=\"Simulation\",ROUND('Measure Simulation'!M39-'Measure Simulation'!M40,4),0)","v":0},{"$f":"IF($D26=\"Simulation\",ROUND('Measure Simulation'!N39-'Measure Simulation'!N40,4),0)","v":0},{"$f":"IF($D26=\"Simulation\",ROUND('Measure Simulation'!O39-'Measure Simulation'!O40,4),0)","v":0},"Yes",{"$f":"ROUND('Measure Simulation'!G70,4)","v":0},{"$f":"ROUND('Measure Simulation'!N70,4)","v":0},{"$f":"ROUND('Measure Simulation'!H70,4)","v":0},{"$f":"ROUND('Measure Simulation'!I70,4)","v":0},{"$f":"ROUND('Measure Simulation'!J70,4)","v":0},{"$f":"ROUND('Measure Simulation'!K70,4)","v":0},{"$f":"ROUND('Measure Simulation'!L70,4)","v":0},{"$f":"ROUND('Measure Simulation'!M70,4)","v":0}]
[null,22,{"$f":"'Measure Descriptions'!C28","v":0},{"$f":"'Measure Simulation'!F41","v":0},{"$f":"IF($D27=\"Simulation\",ROUND('Measure Simulation'!H40-'Measure Simulation'!H41,4),0)","v":0},{"$f":"IF($D27=\"Simulation\",ROUND('Measure Simulation'!I40-'Measure Simulation'!I41,4),0)","v":0},{"$f":"IF($D27=\"Simulation\",ROUND('Measure Simulation'!J40-'Measure Simulation'!J41,4),0)","v":0},{"$f":"IF($D27=\"Simulation\",ROUND('Measure Simulation'!K40-'Measure Simulation'!K41,4),0)","v":0},{"$f":"IF($D27=\"Simulation\",ROUND('Measure Simulation'!L40-'Measure Simulation'!L41,4),0)","v":0},{"$f":"IF($D27=\"Simulation\",ROUND('Measure Simulation'!M40-'Measure Simulation'!M41,4),0)","v":0},{"$f":"IF($D27=\"Simulation\",ROUND('Measure Simulation'!N40-'Measure Simulation'!N41,4),0)","v":0},{"$f":"IF($D27=\"Simulation\",ROUND('Measure Simulation'!O40-'Measure Simulation'!O41,4),0)","v":0},"Yes",{"$f":"ROUND('Measure Simulation'!G71,4)","v":0},{"$f":"ROUND('Measure Simulation'!N71,4)","v":0},{"$f":"ROUND('Measure Simulation'!H71,4)","v":0},{"$f":"ROUND('Measure Simulation'!I71,4)","v":0},{"$f":"ROUND('Measure Simulation'!J71,4)","v":0},{"$f":"ROUND('Measure Simulation'!K71,4)","v":0},{"$f":"ROUND('Measure Simulation'!L71,4)","v":0},{"$f":"ROUND('Measure Simulation'!M71,4)","v":0}]
[null,23,{"$f":"'Measure Descriptions'!C29","v":0},{"$f":"'Measure Simulation'!F42","v":0},{"$f":"IF($D28=\"Simulation\",ROUND('Measure Simulation'!H41-'Measure Simulation'!H42,4),0)","v":0},{"$f":"IF($D28=\"Simulation\",ROUND('Measure Simulation'!I41-'Measure Simulation'!I42,4),0)","v":0},{"$f":"IF($D28=\"Simulation\",ROUND('Measure Simulation'!J41-'Measure Simulation'!J42,4),0)","v":0},{"$f":"IF($D28=\"Simulation\",ROUND('Measure Simulation'!K41-'Measure Simulation'!K42,4),0)","v":0},{"$f":"IF($D28=\"Simulation\",ROUND('Measure Simulation'!L41-'Measure Simulation'!L42,4),0)","v":0},{"$f":"IF($D28=\"Simulation\",ROUND('Measure Simulation'!M41-'Measure Simulation'!M42,4),0)","v":0},{"$f":"IF($D28=\"Simulation\",ROUND('Measure Simulation'!N41-'Measure Simulation'!N42,4),0)","v":0},{"$f":"IF($D28=\"Simulation\",ROUND('Measure Simulation'!O41-'Measure Simulation'!O42,4),0)","v":0},"Yes",{"$f":"ROUND('Measure Simulation'!G72,4)","v":0},{"$f":"ROUND('Measure Simulation'!N72,4)","v":0},{"$f":"ROUND('Measure Simulation'!H72,4)","v":0},{"$f":"ROUND('Measure Simulation'!I72,4)","v":0},{"$f":"ROUND('Measure Simulation'!J72,4)","v":0},{"$f":"ROUND('Measure Simulation'!K72,4)","v":0},{"$f":"ROUND('Measure Simulation'!L72,4)","v":0},{"$f":"ROUND('Measure Simulation'!M72,4)","v":0}]
[null,24,{"$f":"'Measure Descriptions'!C30","v":0},{"$f":"'Measure Simulation'!F43","v":0},{"$f":"IF($D29=\"Simulation\",ROUND('Measure Simulation'!H42-'Measure Simulation'!H43,4),0)","v":0},{"$f":"IF($D29=\"Simulation\",ROUND('Measure Simulation'!I42-'Measure Simulation'!I43,4),0)","v":0},{"$f":"IF($D29=\"Simulation\",ROUND('Measure Simulation'!J42-'Measure Simulation'!J43,4),0)","v":0},{"$f":"IF($D29=\"Simulation\",ROUND('Measure Simulation'!K42-'Measure Simulation'!K43,4),0)","v":0},{"$f":"IF($D29=\"Simulation\",ROUND('Measure Simulation'!L42-'Measure Simulation'!L43,4),0)","v":0},{"$f":"IF($D29=\"Simulation\",ROUND('Measure Simulation'!M42-'Measure Simulation'!M43,4),0)","v":0},{"$f":"IF($D29=\"Simulation\",ROUND('Measure Simulation'!N42-'Measure Simulation'!N43,4),0)","v":0},{"$f":"IF($D29=\"Simulation\",ROUND('Measure Simulation'!O42-'Measure Simulation'!O43,4),0)","v":0},"Yes",{"$f":"ROUND('Measure Simulation'!G73,4)","v":0},{"$f":"ROUND('Measure Simulation'!N73,4)","v":0},{"$f":"ROUND('Measure Simulation'!H73,4)","v":0},{"$f":"ROUND('Measure Simulation'!I73,4)","v":0},{"$f":"ROUND('Measure Simulation'!J73,4)","v":0},{"$f":"ROUND('Measure Simulation'!K73,4)","v":0},{"$f":"ROUND('Measure Simulation'!L73,4)","v":0},{"$f":"ROUND('Measure Simulation'!M73,4)","v":0}]
[null,25,{"$f":"'Measure Descriptions'!C31","v":0},{"$f":"'Measure Simulation'!F44","v":0},{"$f":"IF($D30=\"Simulation\",ROUND('Measure Simulation'!H43-'Measure Simulation'!H44,4),0)","v":0},{"$f":"IF($D30=\"Simulation\",ROUND('Measure Simulation'!I43-'Measure Simulation'!I44,4),0)","v":0},{"$f":"IF($D30=\"Simulation\",ROUND('Measure Simulation'!J43-'Measure Simulation'!J44,4),0)","v":0},{"$f":"IF($D30=\"Simulation\",ROUND('Measure Simulation'!K43-'Measure Simulation'!K44,4),0)","v":0},{"$f":"IF($D30=\"Simulation\",ROUND('Measure Simulation'!L43-'Measure Simulation'!L44,4),0)","v":0},{"$f":"IF($D30=\"Simulation\",ROUND('Measure Simulation'!M43-'Measure Simulation'!M44,4),0)","v":0},{"$f":"IF($D30=\"Simulation\",ROUND('Measure Simulation'!N43-'Measure Simulation'!N44,4),0)","v":0},{"$f":"IF($D30=\"Simulation\",ROUND('Measure Simulation'!O43-'Measure Simulation'!O44,4),0)","v":0},"Yes",{"$f":"ROUND('Measure Simulation'!G74,4)","v":0},{"$f":"ROUND('Measure Simulation'!N74,4)","v":0},{"$f":"ROUND('Measure Simulation'!H74,4)","v":0},{"$f":"ROUND('Measure Simulation'!I74,4)","v":0},{"$f":"ROUND('Measure Simulation'!J74,4)","v":0},{"$f":"ROUND('Measure Simulation'!K74,4)","v":0},{"$f":"ROUND('Measure Simulation'!L74,4)","v":0},{"$f":"ROUND('Measure Simulation'!M74,4)","v":0}]
[]
[null,null,"Errors:",{"$f":"COUNTIF(M6:M30,\"No\")","v":0},null,"Errors mean that a measures energy savings listed in Measure Simulation Table 2 do not match the simulation outputs in Measure Simulation  Table 1.  This may be because of small rounding errors (acceptable), erroneous calcuations, typos in data entry, not updating all tables between revisions, etc.  If an error occurs, find the root cause by looking at Measure Simulation Tables 1 and 2, as well as the simulation outputs to determine cause, and comment accordingly."]
[null,null,"Checks:",{"$f":"COUNTIF(M6:M30,\"Check\")","v":0}]
[]
[]
[]
[null,null,null,null,null,"Checks mean that the savings calculations came from hand, excel tools, or another source than the building simulation.  In these cases, ensure that the measure is one that cannot be modeled by the DOE software and then review custom calculation for accuracy and validity, and ensure savings in Measure Simulation Table 2 match calculations."]

{"sheet":"Report Generation","index":42,"n_rows":32,"n_cols":2,"rows_kept":32,"cut":false,"hidden":true,"merged":[[0,0,0,1]]}
["Text Bookmarks"]
["Bookmark Name","Text"]
["bkProjName1",{"$f":"'General Project Information'!$C$6","v":0}]
["bkProjName2",{"$f":"'General Project Information'!$C$6","v":0}]
["bkProjName3",{"$f":"'General Project Information'!$C$6","v":0}]
["bkProjName4",{"$f":"'General Project Information'!$C$6","v":0}]
["bkProjName5",{"$f":"'General Project Information'!$C$6","v":0}]
["bkProjName6",{"$f":"'General Project Information'!$C$6","v":0}]
["bkProjName7",{"$f":"'General Project Information'!$C$6","v":0}]
["bkProjName8",{"$f":"'General Project Information'!$C$6","v":0}]
["bkProjName9",{"$f":"'General Project Information'!$C$6","v":0}]
["bkStAdds1",{"$f":"'General Project Information'!C7","v":0}]
["bkCustCo1",{"$f":"'General Project Information'!C15","v":0}]
["bkPartCo1",{"$f":"'General Project Information'!C17","v":0}]
["bkProjAdd1",{"$f":"'General Project Information'!C7","v":0}]
["bkUDStart1",{"$f":"'Utility Info'!M7","v":"00:00:00"}]
["bkUDEnd1",{"$f":"'Utility Info'!M8","v":"00:00:00"}]
["bkCustSiteOverview1",{"$f":"'General Project Information'!C9","v":0}]
["bkAuditDates1",{"$f":"'General Project Information'!C11","v":0}]
[]
["Table Bookmarks"]
["Bookmark Name"]
["tblProjPerf1"]
["tblProjPerf2"]
["tblIncentives"]
["tblProjInfo"]
["tblProjTeam"]
["tblMeasDesc"]
["tblMeasSavings"]
["tblProjFund"]
["tblImpSched"]
["tblMeasEval"]

{"sheet":"Appendix B Tables","index":43,"n_rows":778,"n_cols":24,"rows_kept":778,"cut":false,"hidden":false,"merged":[[773,3,773,13],[774,3,774,13],[775,3,775,13],[776,3,776,13],[777,3,777,13],[2,2,2,8],[767,3,767,13],[768,3,768,13],[769,3,769,13],[770,3,770,13],[771,3,771,13],[772,3,772,13],[759,3,759,4],[760,3,760,4],[761,3,761,4],[762,3,762,4],[763,3,763,4],[764,3,764,4],[753,3,753,4],[754,3,754,4],[755,3,755,4],[756,3,756,4],[757,3,757,4],[758,3,758,4],[747,3,747,4],[747,5,747,6],[748,3,748,4],[748,5,748,6],[751,3,751,4],[752,3,752,4],[733,5,733,6],[734,5,734,6],[745,3,745,4],[745,5,745,6],[746,3,746,4],[746,5,746,6],[743,3,743,4],[743,5,743,6],[744,3,744,4],[744,5,744,6],[739,5,739,6],[740,3,740,4],[740,5,740,6],[741,3,741,4],[741,5,741,6],[742,3,742,4],[742,5,742,6],[735,3,735,4],[732,3,732,4],[733,3,733,4],[734,3,734,4],[726,5,726,6],[727,5,727,6],[728,5,728,6],[729,5,729,6],[730,5,730,6],[731,5,731,6],[732,5,732,6],[726,3,726,4],[727,3,727,4],[728,3,728,4],[729,3,729,4],[730,3,730,4],[731,3,731,4],[735,5,735,6],[736,2,741,2],[736,3,736,4],[736,5,736,6],[737,3,737,4],[737,5,737,6],[738,3,738,4],[738,5,738,6],[739,3,739,4],[723,3,723,4],[723,5,723,6],[724,3,724,4],[724,5,724,6],[725,3,725,4],[725,5,725,6],[666,14,666,21],[666,22,666,23],[721,3,721,4],[721,5,721,6],[722,3,722,4],[722,5,722,6],[161,1,161,5],[161,6,161,13],[161,14,161,21],[161,22,161,23],[666,1,666,5],[666,6,666,13],[158,2,158,3],[158,4,158,13],[155,2,155,3],[155,4,155,13],[156,2,156,3],[156,4,156,13],[157,2,157,3],[157,4,157,13],[152,2,152,3],[152,4,152,13],[153,2,153,3],[153,4,153,13],[154,2,154,3],[154,4,154,13],[149,2,149,3],[149,4,149,13],[150,2,150,3],[150,4,150,13],[151,2,151,3],[151,4,151,13],[146,2,146,3],[146,4,146,13],[147,2,147,3],[147,4,147,13],[148,2,148,3],[148,4,148,13],[5,10,5,11],[5,13,5,14],[34,10,34,11],[91,7,91,12]]}
[1,null,"Appendix B Tables"]
[1,null,"Instructions"]
[1,null,"The tables below are condensed equipment inventories that can be included as a supplement to the generated ERP Report.  These can either be printed out or published to PDF to be included with an electronic copy of the ERP Report.  Print areas have been set up to minimize the occurrence of table splits across pages."]
[1]
[{"$f":"IF(SUM($A$8:$A$32)>0,1,0)","v":0},null,"Air-Side HVAC "]
[{"$f":"IF(SUM($A$8:$A$32)>0,1,0)","v":0},null,"HVAC ID","Equipment Type","Location","Number of Identical Units","Manufacturer","Model #","Year of Mfr","Cooling Capacity (mbh)","Cooling Efficiency                   ",null,"Heating Capacity\n(mbh)","Heating Efficiency                   "]
[0,null,"Example","Packaged AHU","Roof",1,"Trane","YSC060",2006,36.299999999999997,12,"SEER",103.4,0.8,"Et"]
[{"$f":"IF(C8=0,0,1)","v":0},null,{"$f":"Mechanical!B8","v":0},{"$f":"Mechanical!D8","v":0},{"$f":"Mechanical!E8","v":0},{"$f":"Mechanical!G8","v":0},{"$f":"Mechanical!H8","v":0},{"$f":"Mechanical!I8","v":0},{"$f":"Mechanical!J8","v":0},{"$f":"Mechanical!L8","v":0},{"$f":"Mechanical!M8","v":0},{"$f":"Mechanical!N8","v":0},{"$f":"Mechanical!P8","v":0},{"$f":"Mechanical!Q8","v":0},{"$f":"Mechanical!R8","v":0}]
[{"$f":"IF(C9=0,0,1)","v":0},null,{"$f":"Mechanical!B9","v":0},{"$f":"Mechanical!D9","v":0},{"$f":"Mechanical!E9","v":0},{"$f":"Mechanical!G9","v":0},{"$f":"Mechanical!H9","v":0},{"$f":"Mechanical!I9","v":0},{"$f":"Mechanical!J9","v":0},{"$f":"Mechanical!L9","v":0},{"$f":"Mechanical!M9","v":0},{"$f":"Mechanical!N9","v":0},{"$f":"Mechanical!P9","v":0},{"$f":"Mechanical!Q9","v":0},{"$f":"Mechanical!R9","v":0}]
[0,null,{"$f":"Mechanical!B10","v":0},{"$f":"Mechanical!D10","v":0},{"$f":"Mechanical!E10","v":0},{"$f":"Mechanical!G10","v":0},{"$f":"Mechanical!H10","v":0},{"$f":"Mechanical!I10","v":0},{"$f":"Mechanical!J10","v":0},{"$f":"Mechanical!L10","v":0},{"$f":"Mechanical!M10","v":0},{"$f":"Mechanical!N10","v":0},{"$f":"Mechanical!P10","v":0},{"$f":"Mechanical!Q10","v":0},{"$f":"Mechanical!R10","v":0}]
[0,null,{"$f":"Mechanical!B11","v":0},{"$f":"Mechanical!D11","v":0},{"$f":"Mechanical!E11","v":0},{"$f":"Mechanical!G11","v":0},{"$f":"Mechanical!H11","v":0},{"$f":"Mechanical!I11","v":0},{"$f":"Mechanical!J11","v":0},{"$f":"Mechanical!L11","v":0},{"$f":"Mechanical!M11","v":0},{"$f":"Mechanical!N11","v":0},{"$f":"Mechanical!P11","v":0},{"$f":"Mechanical!Q11","v":0},{"$f":"Mechanical!R11","v":0}]
[0,null,{"$f":"Mechanical!B12","v":0},{"$f":"Mechanical!D12","v":0},{"$f":"Mechanical!E12","v":0},{"$f":"Mechanical!G12","v":0},{"$f":"Mechanical!H12","v":0},{"$f":"Mechanical!I12","v":0},{"$f":"Mechanical!J12","v":0},{"$f":"Mechanical!L12","v":0},{"$f":"Mechanical!M12","v":0},{"$f":"Mechanical!N12","v":0},{"$f":"Mechanical!P12","v":0},{"$f":"Mechanical!Q12","v":0},{"$f":"Mechanical!R12","v":0}]
[0,null,{"$f":"Mechanical!B13","v":0},{"$f":"Mechanical!D13","v":0},{"$f":"Mechanical!E13","v":0},{"$f":"Mechanical!G13","v":0},{"$f":"Mechanical!H13","v":0},{"$f":"Mechanical!I13","v":0},{"$f":"Mechanical!J13","v":0},{"$f":"Mechanical!L13","v":0},{"$f":"Mechanical!M13","v":0},{"$f":"Mechanical!N13","v":0},{"$f":"Mechanical!P13","v":0},{"$f":"Mechanical!Q13","v":0},{"$f":"Mechanical!R13","v":0}]
[0,null,{"$f":"Mechanical!B14","v":0},{"$f":"Mechanical!D14","v":0},{"$f":"Mechanical!E14","v":0},{"$f":"Mechanical!G14","v":0},{"$f":"Mechanical!H14","v":0},{"$f":"Mechanical!I14","v":0},{"$f":"Mechanical!J14","v":0},{"$f":"Mechanical!L14","v":0},{"$f":"Mechanical!M14","v":0},{"$f":"Mechanical!N14","v":0},{"$f":"Mechanical!P14","v":0},{"$f":"Mechanical!Q14","v":0},{"$f":"Mechanical!R14","v":0}]
[0,null,{"$f":"Mechanical!B15","v":0},{"$f":"Mechanical!D15","v":0},{"$f":"Mechanical!E15","v":0},{"$f":"Mechanical!G15","v":0},{"$f":"Mechanical!H15","v":0},{"$f":"Mechanical!I15","v":0},{"$f":"Mechanical!J15","v":0},{"$f":"Mechanical!L15","v":0},{"$f":"Mechanical!M15","v":0},{"$f":"Mechanical!N15","v":0},{"$f":"Mechanical!P15","v":0},{"$f":"Mechanical!Q15","v":0},{"$f":"Mechanical!R15","v":0}]
[0,null,{"$f":"Mechanical!B16","v":0},{"$f":"Mechanical!D16","v":0},{"$f":"Mechanical!E16","v":0},{"$f":"Mechanical!G16","v":0},{"$f":"Mechanical!H16","v":0},{"$f":"Mechanical!I16","v":0},{"$f":"Mechanical!J16","v":0},{"$f":"Mechanical!L16","v":0},{"$f":"Mechanical!M16","v":0},{"$f":"Mechanical!N16","v":0},{"$f":"Mechanical!P16","v":0},{"$f":"Mechanical!Q16","v":0},{"$f":"Mechanical!R16","v":0}]
[0,null,{"$f":"Mechanical!B17","v":0},{"$f":"Mechanical!D17","v":0},{"$f":"Mechanical!E17","v":0},{"$f":"Mechanical!G17","v":0},{"$f":"Mechanical!H17","v":0},{"$f":"Mechanical!I17","v":0},{"$f":"Mechanical!J17","v":0},{"$f":"Mechanical!L17","v":0},{"$f":"Mechanical!M17","v":0},{"$f":"Mechanical!N17","v":0},{"$f":"Mechanical!P17","v":0},{"$f":"Mechanical!Q17","v":0},{"$f":"Mechanical!R17","v":0}]
[0,null,{"$f":"Mechanical!B18","v":0},{"$f":"Mechanical!D18","v":0},{"$f":"Mechanical!E18","v":0},{"$f":"Mechanical!G18","v":0},{"$f":"Mechanical!H18","v":0},{"$f":"Mechanical!I18","v":0},{"$f":"Mechanical!J18","v":0},{"$f":"Mechanical!L18","v":0},{"$f":"Mechanical!M18","v":0},{"$f":"Mechanical!N18","v":0},{"$f":"Mechanical!P18","v":0},{"$f":"Mechanical!Q18","v":0},{"$f":"Mechanical!R18","v":0}]
[0,null,{"$f":"Mechanical!B19","v":0},{"$f":"Mechanical!D19","v":0},{"$f":"Mechanical!E19","v":0},{"$f":"Mechanical!G19","v":0},{"$f":"Mechanical!H19","v":0},{"$f":"Mechanical!I19","v":0},{"$f":"Mechanical!J19","v":0},{"$f":"Mechanical!L19","v":0},{"$f":"Mechanical!M19","v":0},{"$f":"Mechanical!N19","v":0},{"$f":"Mechanical!P19","v":0},{"$f":"Mechanical!Q19","v":0},{"$f":"Mechanical!R19","v":0}]
[0,null,{"$f":"Mechanical!B20","v":0},{"$f":"Mechanical!D20","v":0},{"$f":"Mechanical!E20","v":0},{"$f":"Mechanical!G20","v":0},{"$f":"Mechanical!H20","v":0},{"$f":"Mechanical!I20","v":0},{"$f":"Mechanical!J20","v":0},{"$f":"Mechanical!L20","v":0},{"$f":"Mechanical!M20","v":0},{"$f":"Mechanical!N20","v":0},{"$f":"Mechanical!P20","v":0},{"$f":"Mechanical!Q20","v":0},{"$f":"Mechanical!R20","v":0}]
[0,null,{"$f":"Mechanical!B21","v":0},{"$f":"Mechanical!D21","v":0},{"$f":"Mechanical!E21","v":0},{"$f":"Mechanical!G21","v":0},{"$f":"Mechanical!H21","v":0},{"$f":"Mechanical!I21","v":0},{"$f":"Mechanical!J21","v":0},{"$f":"Mechanical!L21","v":0},{"$f":"Mechanical!M21","v":0},{"$f":"Mechanical!N21","v":0},{"$f":"Mechanical!P21","v":0},{"$f":"Mechanical!Q21","v":0},{"$f":"Mechanical!R21","v":0}]
[0,null,{"$f":"Mechanical!B22","v":0},{"$f":"Mechanical!D22","v":0},{"$f":"Mechanical!E22","v":0},{"$f":"Mechanical!G22","v":0},{"$f":"Mechanical!H22","v":0},{"$f":"Mechanical!I22","v":0},{"$f":"Mechanical!J22","v":0},{"$f":"Mechanical!L22","v":0},{"$f":"Mechanical!M22","v":0},{"$f":"Mechanical!N22","v":0},{"$f":"Mechanical!P22","v":0},{"$f":"Mechanical!Q22","v":0},{"$f":"Mechanical!R22","v":0}]
[0,null,{"$f":"Mechanical!B23","v":0},{"$f":"Mechanical!D23","v":0},{"$f":"Mechanical!E23","v":0},{"$f":"Mechanical!G23","v":0},{"$f":"Mechanical!H23","v":0},{"$f":"Mechanical!I23","v":0},{"$f":"Mechanical!J23","v":0},{"$f":"Mechanical!L23","v":0},{"$f":"Mechanical!M23","v":0},{"$f":"Mechanical!N23","v":0},{"$f":"Mechanical!P23","v":0},{"$f":"Mechanical!Q23","v":0},{"$f":"Mechanical!R23","v":0}]
[0,null,{"$f":"Mechanical!B24","v":0},{"$f":"Mechanical!D24","v":0},{"$f":"Mechanical!E24","v":0},{"$f":"Mechanical!G24","v":0},{"$f":"Mechanical!H24","v":0},{"$f":"Mechanical!I24","v":0},{"$f":"Mechanical!J24","v":0},{"$f":"Mechanical!L24","v":0},{"$f":"Mechanical!M24","v":0},{"$f":"Mechanical!N24","v":0},{"$f":"Mechanical!P24","v":0},{"$f":"Mechanical!Q24","v":0},{"$f":"Mechanical!R24","v":0}]
[0,null,{"$f":"Mechanical!B25","v":0},{"$f":"Mechanical!D25","v":0},{"$f":"Mechanical!E25","v":0},{"$f":"Mechanical!G25","v":0},{"$f":"Mechanical!H25","v":0},{"$f":"Mechanical!I25","v":0},{"$f":"Mechanical!J25","v":0},{"$f":"Mechanical!L25","v":0},{"$f":"Mechanical!M25","v":0},{"$f":"Mechanical!N25","v":0},{"$f":"Mechanical!P25","v":0},{"$f":"Mechanical!Q25","v":0},{"$f":"Mechanical!R25","v":0}]
[0,null,{"$f":"Mechanical!B26","v":0},{"$f":"Mechanical!D26","v":0},{"$f":"Mechanical!E26","v":0},{"$f":"Mechanical!G26","v":0},{"$f":"Mechanical!H26","v":0},{"$f":"Mechanical!I26","v":0},{"$f":"Mechanical!J26","v":0},{"$f":"Mechanical!L26","v":0},{"$f":"Mechanical!M26","v":0},{"$f":"Mechanical!N26","v":0},{"$f":"Mechanical!P26","v":0},{"$f":"Mechanical!Q26","v":0},{"$f":"Mechanical!R26","v":0}]
[0,null,{"$f":"Mechanical!B27","v":0},{"$f":"Mechanical!D27","v":0},{"$f":"Mechanical!E27","v":0},{"$f":"Mechanical!G27","v":0},{"$f":"Mechanical!H27","v":0},{"$f":"Mechanical!I27","v":0},{"$f":"Mechanical!J27","v":0},{"$f":"Mechanical!L27","v":0},{"$f":"Mechanical!M27","v":0},{"$f":"Mechanical!N27","v":0},{"$f":"Mechanical!P27","v":0},{"$f":"Mechanical!Q27","v":0},{"$f":"Mechanical!R27","v":0}]
[0,null,{"$f":"Mechanical!B28","v":0},{"$f":"Mechanical!D28","v":0},{"$f":"Mechanical!E28","v":0},{"$f":"Mechanical!G28","v":0},{"$f":"Mechanical!H28","v":0},{"$f":"Mechanical!I28","v":0},{"$f":"Mechanical!J28","v":0},{"$f":"Mechanical!L28","v":0},{"$f":"Mechanical!M28","v":0},{"$f":"Mechanical!N28","v":0},{"$f":"Mechanical!P28","v":0},{"$f":"Mechanical!Q28","v":0},{"$f":"Mechanical!R28","v":0}]
[0,null,{"$f":"Mechanical!B29","v":0},{"$f":"Mechanical!D29","v":0},{"$f":"Mechanical!E29","v":0},{"$f":"Mechanical!G29","v":0},{"$f":"Mechanical!H29","v":0},{"$f":"Mechanical!I29","v":0},{"$f":"Mechanical!J29","v":0},{"$f":"Mechanical!L29","v":0},{"$f":"Mechanical!M29","v":0},{"$f":"Mechanical!N29","v":0},{"$f":"Mechanical!P29","v":0},{"$f":"Mechanical!Q29","v":0},{"$f":"Mechanical!R29","v":0}]
[0,null,{"$f":"Mechanical!B30","v":0},{"$f":"Mechanical!D30","v":0},{"$f":"Mechanical!E30","v":0},{"$f":"Mechanical!G30","v":0},{"$f":"Mechanical!H30","v":0},{"$f":"Mechanical!I30","v":0},{"$f":"Mechanical!J30","v":0},{"$f":"Mechanical!L30","v":0},{"$f":"Mechanical!M30","v":0},{"$f":"Mechanical!N30","v":0},{"$f":"Mechanical!P30","v":0},{"$f":"Mechanical!Q30","v":0},{"$f":"Mechanical!R30","v":0}]
[0,null,{"$f":"Mechanical!B31","v":0},{"$f":"Mechanical!D31","v":0},{"$f":"Mechanical!E31","v":0},{"$f":"Mechanical!G31","v":0},{"$f":"Mechanical!H31","v":0},{"$f":"Mechanical!I31","v":0},{"$f":"Mechanical!J31","v":0},{"$f":"Mechanical!L31","v":0},{"$f":"Mechanical!M31","v":0},{"$f":"Mechanical!N31","v":0},{"$f":"Mechanical!P31","v":0},{"$f":"Mechanical!Q31","v":0},{"$f":"Mechanical!R31","v":0}]
[0,null,{"$f":"Mechanical!B32","v":0},{"$f":"Mechanical!D32","v":0},{"$f":"Mechanical!E32","v":0},{"$f":"Mechanical!G32","v":0},{"$f":"Mechanical!H32","v":0},{"$f":"Mechanical!I32","v":0},{"$f":"Mechanical!J32","v":0},{"$f":"Mechanical!L32","v":0},{"$f":"Mechanical!M32","v":0},{"$f":"Mechanical!N32","v":0},{"$f":"Mechanical!P32","v":0},{"$f":"Mechanical!Q32","v":0},{"$f":"Mechanical!R32","v":0}]
[1]
[{"$f":"IF(SUM($A$37:$A$71)>0,1,0)","v":0},null,"Boilers and Domestic Water Heaters"]
[{"$f":"IF(SUM($A$37:$A$71)>0,1,0)","v":0},null,"Boiler or DHW ID","Equipment Type","Location","Number of Identical Units","Manufacturer","Model Number","Year of Mfr","Capacity (mbh)","Efficiency "]
[0,null,"Example","Hot Water Boiler","Boiler Room",2,"H. B. Smith","Mills 450A-12",1986,200,70,"AFUE"]
[{"$f":"IF(C37=0,0,1)","v":0},null,{"$f":"Mechanical!B37","v":0},{"$f":"Mechanical!J37","v":0},{"$f":"Mechanical!D37","v":0},{"$f":"Mechanical!F37","v":0},{"$f":"Mechanical!G37","v":0},{"$f":"Mechanical!H37","v":0},{"$f":"Mechanical!I37","v":0},{"$f":"Mechanical!M37","v":0},{"$f":"Mechanical!N37","v":0},{"$f":"Mechanical!O37","v":0}]
[{"$f":"IF(C38=0,0,1)","v":0},null,{"$f":"Mechanical!B38","v":0},{"$f":"Mechanical!J38","v":0},{"$f":"Mechanical!D38","v":0},{"$f":"Mechanical!F38","v":0},{"$f":"Mechanical!G38","v":0},{"$f":"Mechanical!H38","v":0},{"$f":"Mechanical!I38","v":0},{"$f":"Mechanical!M38","v":0},{"$f":"Mechanical!N38","v":0},{"$f":"Mechanical!O38","v":0}]
[0,null,{"$f":"Mechanical!B39","v":0},{"$f":"Mechanical!J39","v":0},{"$f":"Mechanical!D39","v":0},{"$f":"Mechanical!F39","v":0},{"$f":"Mechanical!G39","v":0},{"$f":"Mechanical!H39","v":0},{"$f":"Mechanical!I39","v":0},{"$f":"Mechanical!M39","v":0},{"$f":"Mechanical!N39","v":0},{"$f":"Mechanical!O39","v":0}]
[0,null,{"$f":"Mechanical!B40","v":0},{"$f":"Mechanical!J40","v":0},{"$f":"Mechanical!D40","v":0},{"$f":"Mechanical!F40","v":0},{"$f":"Mechanical!G40","v":0},{"$f":"Mechanical!H40","v":0},{"$f":"Mechanical!I40","v":0},{"$f":"Mechanical!M40","v":0},{"$f":"Mechanical!N40","v":0},{"$f":"Mechanical!O40","v":0}]
[0,null,{"$f":"Mechanical!B41","v":0},{"$f":"Mechanical!J41","v":0},{"$f":"Mechanical!D41","v":0},{"$f":"Mechanical!F41","v":0},{"$f":"Mechanical!G41","v":0},{"$f":"Mechanical!H41","v":0},{"$f":"Mechanical!I41","v":0},{"$f":"Mechanical!M41","v":0},{"$f":"Mechanical!N41","v":0},{"$f":"Mechanical!O41","v":0}]
[0,null,{"$f":"Mechanical!B42","v":0},{"$f":"Mechanical!J42","v":0},{"$f":"Mechanical!D42","v":0},{"$f":"Mechanical!F42","v":0},{"$f":"Mechanical!G42","v":0},{"$f":"Mechanical!H42","v":0},{"$f":"Mechanical!I42","v":0},{"$f":"Mechanical!M42","v":0},{"$f":"Mechanical!N42","v":0},{"$f":"Mechanical!O42","v":0}]
[0,null,{"$f":"Mechanical!B43","v":0},{"$f":"Mechanical!J43","v":0},{"$f":"Mechanical!D43","v":0},{"$f":"Mechanical!F43","v":0},{"$f":"Mechanical!G43","v":0},{"$f":"Mechanical!H43","v":0},{"$f":"Mechanical!I43","v":0},{"$f":"Mechanical!M43","v":0},{"$f":"Mechanical!N43","v":0},{"$f":"Mechanical!O43","v":0}]
[0,null,{"$f":"Mechanical!B44","v":0},{"$f":"Mechanical!J44","v":0},{"$f":"Mechanical!D44","v":0},{"$f":"Mechanical!F44","v":0},{"$f":"Mechanical!G44","v":0},{"$f":"Mechanical!H44","v":0},{"$f":"Mechanical!I44","v":0},{"$f":"Mechanical!M44","v":0},{"$f":"Mechanical!N44","v":0},{"$f":"Mechanical!O44","v":0}]
[0,null,{"$f":"Mechanical!B45","v":0},{"$f":"Mechanical!J45","v":0},{"$f":"Mechanical!D45","v":0},{"$f":"Mechanical!F45","v":0},{"$f":"Mechanical!G45","v":0},{"$f":"Mechanical!H45","v":0},{"$f":"Mechanical!I45","v":0},{"$f":"Mechanical!M45","v":0},{"$f":"Mechanical!N45","v":0},{"$f":"Mechanical!O45","v":0}]
[0,null,{"$f":"Mechanical!B46","v":0},{"$f":"Mechanical!J46","v":0},{"$f":"Mechanical!D46","v":0},{"$f":"Mechanical!F46","v":0},{"$f":"Mechanical!G46","v":0},{"$f":"Mechanical!H46","v":0},{"$f":"Mechanical!I46","v":0},{"$f":"Mechanical!M46","v":0},{"$f":"Mechanical!N46","v":0},{"$f":"Mechanical!O46","v":0}]
[0,null,{"$f":"Mechanical!B47","v":0},{"$f":"Mechanical!J47","v":0},{"$f":"Mechanical!D47","v":0},{"$f":"Mechanical!F47","v":0},{"$f":"Mechanical!G47","v":0},{"$f":"Mechanical!H47","v":0},{"$f":"Mechanical!I47","v":0},{"$f":"Mechanical!M47","v":0},{"$f":"Mechanical!N47","v":0},{"$f":"Mechanical!O47","v":0}]
[0,null,{"$f":"Mechanical!B48","v":0},{"$f":"Mechanical!J48","v":0},{"$f":"Mechanical!D48","v":0},{"$f":"Mechanical!F48","v":0},{"$f":"Mechanical!G48","v":0},{"$f":"Mechanical!H48","v":0},{"$f":"Mechanical!I48","v":0},{"$f":"Mechanical!M48","v":0},{"$f":"Mechanical!N48","v":0},{"$f":"Mechanical!O48","v":0}]
[0,null,{"$f":"Mechanical!B49","v":0},{"$f":"Mechanical!J49","v":0},{"$f":"Mechanical!D49","v":0},{"$f":"Mechanical!F49","v":0},{"$f":"Mechanical!G49","v":0},{"$f":"Mechanical!H49","v":0},{"$f":"Mechanical!I49","v":0},{"$f":"Mechanical!M49","v":0},{"$f":"Mechanical!N49","v":0},{"$f":"Mechanical!O49","v":0}]
[0,null,{"$f":"Mechanical!B50","v":0},{"$f":"Mechanical!J50","v":0},{"$f":"Mechanical!D50","v":0},{"$f":"Mechanical!F50","v":0},{"$f":"Mechanical!G50","v":0},{"$f":"Mechanical!H50","v":0},{"$f":"Mechanical!I50","v":0},{"$f":"Mechanical!M50","v":0},{"$f":"Mechanical!N50","v":0},{"$f":"Mechanical!O50","v":0}]
[0,null,{"$f":"Mechanical!B51","v":0},{"$f":"Mechanical!J51","v":0},{"$f":"Mechanical!D51","v":0},{"$f":"Mechanical!F51","v":0},{"$f":"Mechanical!G51","v":0},{"$f":"Mechanical!H51","v":0},{"$f":"Mechanical!I51","v":0},{"$f":"Mechanical!M51","v":0},{"$f":"Mechanical!N51","v":0},{"$f":"Mechanical!O51","v":0}]
[0,null,{"$f":"Mechanical!B52","v":0},{"$f":"Mechanical!J52","v":0},{"$f":"Mechanical!D52","v":0},{"$f":"Mechanical!F52","v":0},{"$f":"Mechanical!G52","v":0},{"$f":"Mechanical!H52","v":0},{"$f":"Mechanical!I52","v":0},{"$f":"Mechanical!M52","v":0},{"$f":"Mechanical!N52","v":0},{"$f":"Mechanical!O52","v":0}]
[0,null,{"$f":"Mechanical!B53","v":0},{"$f":"Mechanical!J53","v":0},{"$f":"Mechanical!D53","v":0},{"$f":"Mechanical!F53","v":0},{"$f":"Mechanical!G53","v":0},{"$f":"Mechanical!H53","v":0},{"$f":"Mechanical!I53","v":0},{"$f":"Mechanical!M53","v":0},{"$f":"Mechanical!N53","v":0},{"$f":"Mechanical!O53","v":0}]
[0,null,{"$f":"Mechanical!B54","v":0},{"$f":"Mechanical!J54","v":0},{"$f":"Mechanical!D54","v":0},{"$f":"Mechanical!F54","v":0},{"$f":"Mechanical!G54","v":0},{"$f":"Mechanical!H54","v":0},{"$f":"Mechanical!I54","v":0},{"$f":"Mechanical!M54","v":0},{"$f":"Mechanical!N54","v":0},{"$f":"Mechanical!O54","v":0}]
[0,null,{"$f":"Mechanical!B55","v":0},{"$f":"Mechanical!J55","v":0},{"$f":"Mechanical!D55","v":0},{"$f":"Mechanical!F55","v":0},{"$f":"Mechanical!G55","v":0},{"$f":"Mechanical!H55","v":0},{"$f":"Mechanical!I55","v":0},{"$f":"Mechanical!M55","v":0},{"$f":"Mechanical!N55","v":0},{"$f":"Mechanical!O55","v":0}]
[0,null,{"$f":"Mechanical!B56","v":0},{"$f":"Mechanical!J56","v":0},{"$f":"Mechanical!D56","v":0},{"$f":"Mechanical!F56","v":0},{"$f":"Mechanical!G56","v":0},{"$f":"Mechanical!H56","v":0},{"$f":"Mechanical!I56","v":0},{"$f":"Mechanical!M56","v":0},{"$f":"Mechanical!N56","v":0},{"$f":"Mechanical!O56","v":0}]
[0,null,{"$f":"Mechanical!B57","v":0},{"$f":"Mechanical!J57","v":0},{"$f":"Mechanical!D57","v":0},{"$f":"Mechanical!F57","v":0},{"$f":"Mechanical!G57","v":0},{"$f":"Mechanical!H57","v":0},{"$f":"Mechanical!I57","v":0},{"$f":"Mechanical!M57","v":0},{"$f":"Mechanical!N57","v":0},{"$f":"Mechanical!O57","v":0}]
[0,null,{"$f":"Mechanical!B58","v":0},{"$f":"Mechanical!J58","v":0},{"$f":"Mechanical!D58","v":0},{"$f":"Mechanical!F58","v":0},{"$f":"Mechanical!G58","v":0},{"$f":"Mechanical!H58","v":0},{"$f":"Mechanical!I58","v":0},{"$f":"Mechanical!M58","v":0},{"$f":"Mechanical!N58","v":0},{"$f":"Mechanical!O58","v":0}]
[0,null,{"$f":"Mechanical!B59","v":0},{"$f":"Mechanical!J59","v":0},{"$f":"Mechanical!D59","v":0},{"$f":"Mechanical!F59","v":0},{"$f":"Mechanical!G59","v":0},{"$f":"Mechanical!H59","v":0},{"$f":"Mechanical!I59","v":0},{"$f":"Mechanical!M59","v":0},{"$f":"Mechanical!N59","v":0},{"$f":"Mechanical!O59","v":0}]
[0,null,{"$f":"Mechanical!B60","v":0},{"$f":"Mechanical!J60","v":0},{"$f":"Mechanical!D60","v":0},{"$f":"Mechanical!F60","v":0},{"$f":"Mechanical!G60","v":0},{"$f":"Mechanical!H60","v":0},{"$f":"Mechanical!I60","v":0},{"$f":"Mechanical!M60","v":0},{"$f":"Mechanical!N60","v":0},{"$f":"Mechanical!O60","v":0}]
[0,null,{"$f":"Mechanical!B61","v":0},{"$f":"Mechanical!J61","v":0},{"$f":"Mechanical!D61","v":0},{"$f":"Mechanical!F61","v":0},{"$f":"Mechanical!G61","v":0},{"$f":"Mechanical!H61","v":0},{"$f":"Mechanical!I61","v":0},{"$f":"Mechanical!M61","v":0},{"$f":"Mechanical!N61","v":0},{"$f":"Mechanical!O61","v":0}]
[0,null,{"$f":"Mechanical!B62","v":0},{"$f":"Mechanical!J62","v":0},{"$f":"Mechanical!D62","v":0},{"$f":"Mechanical!F62","v":0},{"$f":"Mechanical!G62","v":0},{"$f":"Mechanical!H62","v":0},{"$f":"Mechanical!I62","v":0},{"$f":"Mechanical!M62","v":0},{"$f":"Mechanical!N62","v":0},{"$f":"Mechanical!O62","v":0}]
[0,null,{"$f":"Mechanical!B63","v":0},{"$f":"Mechanical!J63","v":0},{"$f":"Mechanical!D63","v":0},{"$f":"Mechanical!F63","v":0},{"$f":"Mechanical!G63","v":0},{"$f":"Mechanical!H63","v":0},{"$f":"Mechanical!I63","v":0},{"$f":"Mechanical!M63","v":0},{"$f":"Mechanical!N63","v":0},{"$f":"Mechanical!O63","v":0}]
[0,null,{"$f":"Mechanical!B64","v":0},{"$f":"Mechanical!J64","v":0},{"$f":"Mechanical!D64","v":0},{"$f":"Mechanical!F64","v":0},{"$f":"Mechanical!G64","v":0},{"$f":"Mechanical!H64","v":0},{"$f":"Mechanical!I64","v":0},{"$f":"Mechanical!M64","v":0},{"$f":"Mechanical!N64","v":0},{"$f":"Mechanical!O64","v":0}]
[0,null,{"$f":"Mechanical!B65","v":0},{"$f":"Mechanical!J65","v":0},{"$f":"Mechanical!D65","v":0},{"$f":"Mechanical!F65","v":0},{"$f":"Mechanical!G65","v":0},{"$f":"Mechanical!H65","v":0},{"$f":"Mechanical!I65","v":0},{"$f":"Mechanical!M65","v":0},{"$f":"Mechanical!N65","v":0},{"$f":"Mechanical!O65","v":0}]
[0,null,{"$f":"Mechanical!B66","v":0},{"$f":"Mechanical!J66","v":0},{"$f":"Mechanical!D66","v":0},{"$f":"Mechanical!F66","v":0},{"$f":"Mechanical!G66","v":0},{"$f":"Mechanical!H66","v":0},{"$f":"Mechanical!I66","v":0},{"$f":"Mechanical!M66","v":0},{"$f":"Mechanical!N66","v":0},{"$f":"Mechanical!O66","v":0}]
[0,null,{"$f":"Mechanical!B67","v":0},{"$f":"Mechanical!J67","v":0},{"$f":"Mechanical!D67","v":0},{"$f":"Mechanical!F67","v":0},{"$f":"Mechanical!G67","v":0},{"$f":"Mechanical!H67","v":0},{"$f":"Mechanical!I67","v":0},{"$f":"Mechanical!M67","v":0},{"$f":"Mechanical!N67","v":0},{"$f":"Mechanical!O67","v":0}]
[0,null,{"$f":"Mechanical!B68","v":0},{"$f":"Mechanical!J68","v":0},{"$f":"Mechanical!D68","v":0},{"$f":"Mechanical!F68","v":0},{"$f":"Mechanical!G68","v":0},{"$f":"Mechanical!H68","v":0},{"$f":"Mechanical!I68","v":0},{"$f":"Mechanical!M68","v":0},{"$f":"Mechanical!N68","v":0},{"$f":"Mechanical!O68","v":0}]
[0,null,{"$f":"Mechanical!B69","v":0},{"$f":"Mechanical!J69","v":0},{"$f":"Mechanical!D69","v":0},{"$f":"Mechanical!F69","v":0},{"$f":"Mechanical!G69","v":0},{"$f":"Mechanical!H69","v":0},{"$f":"Mechanical!I69","v":0},{"$f":"Mechanical!M69","v":0},{"$f":"Mechanical!N69","v":0},{"$f":"Mechanical!O69","v":0}]
[0,null,{"$f":"Mechanical!B70","v":0},{"$f":"Mechanical!J70","v":0},{"$f":"Mechanical!D70","v":0},{"$f":"Mechanical!F70","v":0},{"$f":"Mechanical!G70","v":0},{"$f":"Mechanical!H70","v":0},{"$f":"Mechanical!I70","v":0},{"$f":"Mechanical!M70","v":0},{"$f":"Mechanical!N70","v":0},{"$f":"Mechanical!O70","v":0}]
[0,null,{"$f":"Mechanical!B71","v":0},{"$f":"Mechanical!J71","v":0},{"$f":"Mechanical!D71","v":0},{"$f":"Mechanical!F71","v":0},{"$f":"Mechanical!G71","v":0},{"$f":"Mechanical!H71","v":0},{"$f":"Mechanical!I71","v":0},{"$f":"Mechanical!M71","v":0},{"$f":"Mechanical!N71","v":0},{"$f":"Mechanical!O71","v":0}]
[1]
[{"$f":"IF(SUM($A$76:$A$90)>0,1,0)","v":0},null,"Chillers and Condensers"]
[{"$f":"IF(SUM($A$76:$A$90)>0,1,0)","v":0},null,"Chiller ID","Equipment Type","Location","Number of Identical Units","Manufacturer","Model Number","Year of Mfr","Capacity (tons)","AHRI Rated Full Load Efficiency (kW/ton)","Integrated Part-load Efficiency (IPLV)","Condenser Type","Condenser Fan Control"]
[0,null,"Ex","Gas Absorption","Utility Room",1,"York Millenium","YKJFBJ4-DHES",2005,1600,0.73099999999999998,0.66700000000000004,"Water-cooled","VFD"]
[{"$f":"IF(C76=0,0,1)","v":0},null,{"$f":"Mechanical!B76","v":0},{"$f":"Mechanical!J76","v":0},{"$f":"Mechanical!D76","v":0},{"$f":"Mechanical!F76","v":0},{"$f":"Mechanical!G76","v":0},{"$f":"Mechanical!H76","v":0},{"$f":"Mechanical!I76","v":0},{"$f":"Mechanical!K76","v":0},{"$f":"Mechanical!M76","v":0},{"$f":"Mechanical!N76","v":0},{"$f":"Mechanical!O76","v":0},{"$f":"Mechanical!R76","v":0}]
[{"$f":"IF(C77=0,0,1)","v":0},null,{"$f":"Mechanical!B77","v":0},{"$f":"Mechanical!J77","v":0},{"$f":"Mechanical!D77","v":0},{"$f":"Mechanical!F77","v":0},{"$f":"Mechanical!G77","v":0},{"$f":"Mechanical!H77","v":0},{"$f":"Mechanical!I77","v":0},{"$f":"Mechanical!K77","v":0},{"$f":"Mechanical!M77","v":0},{"$f":"Mechanical!N77","v":0},{"$f":"Mechanical!O77","v":0},{"$f":"Mechanical!R77","v":0}]
[0,null,{"$f":"Mechanical!B78","v":0},{"$f":"Mechanical!J78","v":0},{"$f":"Mechanical!D78","v":0},{"$f":"Mechanical!F78","v":0},{"$f":"Mechanical!G78","v":0},{"$f":"Mechanical!H78","v":0},{"$f":"Mechanical!I78","v":0},{"$f":"Mechanical!K78","v":0},{"$f":"Mechanical!M78","v":0},{"$f":"Mechanical!N78","v":0},{"$f":"Mechanical!O78","v":0},{"$f":"Mechanical!R78","v":0}]
[0,null,{"$f":"Mechanical!B79","v":0},{"$f":"Mechanical!J79","v":0},{"$f":"Mechanical!D79","v":0},{"$f":"Mechanical!F79","v":0},{"$f":"Mechanical!G79","v":0},{"$f":"Mechanical!H79","v":0},{"$f":"Mechanical!I79","v":0},{"$f":"Mechanical!K79","v":0},{"$f":"Mechanical!M79","v":0},{"$f":"Mechanical!N79","v":0},{"$f":"Mechanical!O79","v":0},{"$f":"Mechanical!R79","v":0}]
[0,null,{"$f":"Mechanical!B80","v":0},{"$f":"Mechanical!J80","v":0},{"$f":"Mechanical!D80","v":0},{"$f":"Mechanical!F80","v":0},{"$f":"Mechanical!G80","v":0},{"$f":"Mechanical!H80","v":0},{"$f":"Mechanical!I80","v":0},{"$f":"Mechanical!K80","v":0},{"$f":"Mechanical!M80","v":0},{"$f":"Mechanical!N80","v":0},{"$f":"Mechanical!O80","v":0},{"$f":"Mechanical!R80","v":0}]
[0,null,{"$f":"Mechanical!B81","v":0},{"$f":"Mechanical!J81","v":0},{"$f":"Mechanical!D81","v":0},{"$f":"Mechanical!F81","v":0},{"$f":"Mechanical!G81","v":0},{"$f":"Mechanical!H81","v":0},{"$f":"Mechanical!I81","v":0},{"$f":"Mechanical!K81","v":0},{"$f":"Mechanical!M81","v":0},{"$f":"Mechanical!N81","v":0},{"$f":"Mechanical!O81","v":0},{"$f":"Mechanical!R81","v":0}]
[0,null,{"$f":"Mechanical!B82","v":0},{"$f":"Mechanical!J82","v":0},{"$f":"Mechanical!D82","v":0},{"$f":"Mechanical!F82","v":0},{"$f":"Mechanical!G82","v":0},{"$f":"Mechanical!H82","v":0},{"$f":"Mechanical!I82","v":0},{"$f":"Mechanical!K82","v":0},{"$f":"Mechanical!M82","v":0},{"$f":"Mechanical!N82","v":0},{"$f":"Mechanical!O82","v":0},{"$f":"Mechanical!R82","v":0}]
[0,null,{"$f":"Mechanical!B83","v":0},{"$f":"Mechanical!J83","v":0},{"$f":"Mechanical!D83","v":0},{"$f":"Mechanical!F83","v":0},{"$f":"Mechanical!G83","v":0},{"$f":"Mechanical!H83","v":0},{"$f":"Mechanical!I83","v":0},{"$f":"Mechanical!K83","v":0},{"$f":"Mechanical!M83","v":0},{"$f":"Mechanical!N83","v":0},{"$f":"Mechanical!O83","v":0},{"$f":"Mechanical!R83","v":0}]
[0,null,{"$f":"Mechanical!B84","v":0},{"$f":"Mechanical!J84","v":0},{"$f":"Mechanical!D84","v":0},{"$f":"Mechanical!F84","v":0},{"$f":"Mechanical!G84","v":0},{"$f":"Mechanical!H84","v":0},{"$f":"Mechanical!I84","v":0},{"$f":"Mechanical!K84","v":0},{"$f":"Mechanical!M84","v":0},{"$f":"Mechanical!N84","v":0},{"$f":"Mechanical!O84","v":0},{"$f":"Mechanical!R84","v":0}]
[0,null,{"$f":"Mechanical!B85","v":0},{"$f":"Mechanical!J85","v":0},{"$f":"Mechanical!D85","v":0},{"$f":"Mechanical!F85","v":0},{"$f":"Mechanical!G85","v":0},{"$f":"Mechanical!H85","v":0},{"$f":"Mechanical!I85","v":0},{"$f":"Mechanical!K85","v":0},{"$f":"Mechanical!M85","v":0},{"$f":"Mechanical!N85","v":0},{"$f":"Mechanical!O85","v":0},{"$f":"Mechanical!R85","v":0}]
[0,null,{"$f":"Mechanical!B86","v":0},{"$f":"Mechanical!J86","v":0},{"$f":"Mechanical!D86","v":0},{"$f":"Mechanical!F86","v":0},{"$f":"Mechanical!G86","v":0},{"$f":"Mechanical!H86","v":0},{"$f":"Mechanical!I86","v":0},{"$f":"Mechanical!K86","v":0},{"$f":"Mechanical!M86","v":0},{"$f":"Mechanical!N86","v":0},{"$f":"Mechanical!O86","v":0},{"$f":"Mechanical!R86","v":0}]
[0,null,{"$f":"Mechanical!B87","v":0},{"$f":"Mechanical!J87","v":0},{"$f":"Mechanical!D87","v":0},{"$f":"Mechanical!F87","v":0},{"$f":"Mechanical!G87","v":0},{"$f":"Mechanical!H87","v":0},{"$f":"Mechanical!I87","v":0},{"$f":"Mechanical!K87","v":0},{"$f":"Mechanical!M87","v":0},{"$f":"Mechanical!N87","v":0},{"$f":"Mechanical!O87","v":0},{"$f":"Mechanical!R87","v":0}]
[0,null,{"$f":"Mechanical!B88","v":0},{"$f":"Mechanical!J88","v":0},{"$f":"Mechanical!D88","v":0},{"$f":"Mechanical!F88","v":0},{"$f":"Mechanical!G88","v":0},{"$f":"Mechanical!H88","v":0},{"$f":"Mechanical!I88","v":0},{"$f":"Mechanical!K88","v":0},{"$f":"Mechanical!M88","v":0},{"$f":"Mechanical!N88","v":0},{"$f":"Mechanical!O88","v":0},{"$f":"Mechanical!R88","v":0}]
[0,null,{"$f":"Mechanical!B89","v":0},{"$f":"Mechanical!J89","v":0},{"$f":"Mechanical!D89","v":0},{"$f":"Mechanical!F89","v":0},{"$f":"Mechanical!G89","v":0},{"$f":"Mechanical!H89","v":0},{"$f":"Mechanical!I89","v":0},{"$f":"Mechanical!K89","v":0},{"$f":"Mechanical!M89","v":0},{"$f":"Mechanical!N89","v":0},{"$f":"Mechanical!O89","v":0},{"$f":"Mechanical!R89","v":0}]
[0,null,{"$f":"Mechanical!B90","v":0},{"$f":"Mechanical!J90","v":0},{"$f":"Mechanical!D90","v":0},{"$f":"Mechanical!F90","v":0},{"$f":"Mechanical!G90","v":0},{"$f":"Mechanical!H90","v":0},{"$f":"Mechanical!I90","v":0},{"$f":"Mechanical!K90","v":0},{"$f":"Mechanical!M90","v":0},{"$f":"Mechanical!N90","v":0},{"$f":"Mechanical!O90","v":0},{"$f":"Mechanical!R90","v":0}]
[1]
[{"$f":"IF(SUM($A$95:$A$144)>0,1,0)","v":0},null,"Motors (not already included in above tables)",null,null,null,null,"Nameplate Data"]
[{"$f":"IF(SUM($A$95:$A$144)>0,1,0)","v":0},null,"Motor ID","Number of Identical Units","Loading (constant/ variable)","Affiliated System","Control Type","Manufacturer","Model Number","Motor HP","Nominal Efficiency","Synchronous Speed (RPM)","Type: TEFC or ODP"]
[0,null,"Example",1,"Constant","Hot Water System Pump","Switch","Baldor","UTC-F9R-334-2",1.5,0.75,1730,"ODP"]
[{"$f":"IF(C95=0,0,1)","v":0},null,{"$f":"Mechanical!B95","v":0},{"$f":"Mechanical!D95","v":0},{"$f":"Mechanical!E95","v":0},{"$f":"Mechanical!F95","v":0},{"$f":"Mechanical!G95","v":0},{"$f":"Mechanical!H95","v":0},{"$f":"Mechanical!I95","v":0},{"$f":"Mechanical!J95","v":0},{"$f":"Mechanical!K95","v":0},{"$f":"Mechanical!L95","v":0},{"$f":"Mechanical!M95","v":0}]
[{"$f":"IF(C96=0,0,1)","v":0},null,{"$f":"Mechanical!B96","v":0},{"$f":"Mechanical!D96","v":0},{"$f":"Mechanical!E96","v":0},{"$f":"Mechanical!F96","v":0},{"$f":"Mechanical!G96","v":0},{"$f":"Mechanical!H96","v":0},{"$f":"Mechanical!I96","v":0},{"$f":"Mechanical!J96","v":0},{"$f":"Mechanical!K96","v":0},{"$f":"Mechanical!L96","v":0},{"$f":"Mechanical!M96","v":0}]
[0,null,{"$f":"Mechanical!B97","v":0},{"$f":"Mechanical!D97","v":0},{"$f":"Mechanical!E97","v":0},{"$f":"Mechanical!F97","v":0},{"$f":"Mechanical!G97","v":0},{"$f":"Mechanical!H97","v":0},{"$f":"Mechanical!I97","v":0},{"$f":"Mechanical!J97","v":0},{"$f":"Mechanical!K97","v":0},{"$f":"Mechanical!L97","v":0},{"$f":"Mechanical!M97","v":0}]
[0,null,{"$f":"Mechanical!B98","v":0},{"$f":"Mechanical!D98","v":0},{"$f":"Mechanical!E98","v":0},{"$f":"Mechanical!F98","v":0},{"$f":"Mechanical!G98","v":0},{"$f":"Mechanical!H98","v":0},{"$f":"Mechanical!I98","v":0},{"$f":"Mechanical!J98","v":0},{"$f":"Mechanical!K98","v":0},{"$f":"Mechanical!L98","v":0},{"$f":"Mechanical!M98","v":0}]
[0,null,{"$f":"Mechanical!B99","v":0},{"$f":"Mechanical!D99","v":0},{"$f":"Mechanical!E99","v":0},{"$f":"Mechanical!F99","v":0},{"$f":"Mechanical!G99","v":0},{"$f":"Mechanical!H99","v":0},{"$f":"Mechanical!I99","v":0},{"$f":"Mechanical!J99","v":0},{"$f":"Mechanical!K99","v":0},{"$f":"Mechanical!L99","v":0},{"$f":"Mechanical!M99","v":0}]
[0,null,{"$f":"Mechanical!B100","v":0},{"$f":"Mechanical!D100","v":0},{"$f":"Mechanical!E100","v":0},{"$f":"Mechanical!F100","v":0},{"$f":"Mechanical!G100","v":0},{"$f":"Mechanical!H100","v":0},{"$f":"Mechanical!I100","v":0},{"$f":"Mechanical!J100","v":0},{"$f":"Mechanical!K100","v":0},{"$f":"Mechanical!L100","v":0},{"$f":"Mechanical!M100","v":0}]
[0,null,{"$f":"Mechanical!B101","v":0},{"$f":"Mechanical!D101","v":0},{"$f":"Mechanical!E101","v":0},{"$f":"Mechanical!F101","v":0},{"$f":"Mechanical!G101","v":0},{"$f":"Mechanical!H101","v":0},{"$f":"Mechanical!I101","v":0},{"$f":"Mechanical!J101","v":0},{"$f":"Mechanical!K101","v":0},{"$f":"Mechanical!L101","v":0},{"$f":"Mechanical!M101","v":0}]
[0,null,{"$f":"Mechanical!B102","v":0},{"$f":"Mechanical!D102","v":0},{"$f":"Mechanical!E102","v":0},{"$f":"Mechanical!F102","v":0},{"$f":"Mechanical!G102","v":0},{"$f":"Mechanical!H102","v":0},{"$f":"Mechanical!I102","v":0},{"$f":"Mechanical!J102","v":0},{"$f":"Mechanical!K102","v":0},{"$f":"Mechanical!L102","v":0},{"$f":"Mechanical!M102","v":0}]
[0,null,{"$f":"Mechanical!B103","v":0},{"$f":"Mechanical!D103","v":0},{"$f":"Mechanical!E103","v":0},{"$f":"Mechanical!F103","v":0},{"$f":"Mechanical!G103","v":0},{"$f":"Mechanical!H103","v":0},{"$f":"Mechanical!I103","v":0},{"$f":"Mechanical!J103","v":0},{"$f":"Mechanical!K103","v":0},{"$f":"Mechanical!L103","v":0},{"$f":"Mechanical!M103","v":0}]
[0,null,{"$f":"Mechanical!B104","v":0},{"$f":"Mechanical!D104","v":0},{"$f":"Mechanical!E104","v":0},{"$f":"Mechanical!F104","v":0},{"$f":"Mechanical!G104","v":0},{"$f":"Mechanical!H104","v":0},{"$f":"Mechanical!I104","v":0},{"$f":"Mechanical!J104","v":0},{"$f":"Mechanical!K104","v":0},{"$f":"Mechanical!L104","v":0},{"$f":"Mechanical!M104","v":0}]
[0,null,{"$f":"Mechanical!B105","v":0},{"$f":"Mechanical!D105","v":0},{"$f":"Mechanical!E105","v":0},{"$f":"Mechanical!F105","v":0},{"$f":"Mechanical!G105","v":0},{"$f":"Mechanical!H105","v":0},{"$f":"Mechanical!I105","v":0},{"$f":"Mechanical!J105","v":0},{"$f":"Mechanical!K105","v":0},{"$f":"Mechanical!L105","v":0},{"$f":"Mechanical!M105","v":0}]
[0,null,{"$f":"Mechanical!B106","v":0},{"$f":"Mechanical!D106","v":0},{"$f":"Mechanical!E106","v":0},{"$f":"Mechanical!F106","v":0},{"$f":"Mechanical!G106","v":0},{"$f":"Mechanical!H106","v":0},{"$f":"Mechanical!I106","v":0},{"$f":"Mechanical!J106","v":0},{"$f":"Mechanical!K106","v":0},{"$f":"Mechanical!L106","v":0},{"$f":"Mechanical!M106","v":0}]
[0,null,{"$f":"Mechanical!B107","v":0},{"$f":"Mechanical!D107","v":0},{"$f":"Mechanical!E107","v":0},{"$f":"Mechanical!F107","v":0},{"$f":"Mechanical!G107","v":0},{"$f":"Mechanical!H107","v":0},{"$f":"Mechanical!I107","v":0},{"$f":"Mechanical!J107","v":0},{"$f":"Mechanical!K107","v":0},{"$f":"Mechanical!L107","v":0},{"$f":"Mechanical!M107","v":0}]
[0,null,{"$f":"Mechanical!B108","v":0},{"$f":"Mechanical!D108","v":0},{"$f":"Mechanical!E108","v":0},{"$f":"Mechanical!F108","v":0},{"$f":"Mechanical!G108","v":0},{"$f":"Mechanical!H108","v":0},{"$f":"Mechanical!I108","v":0},{"$f":"Mechanical!J108","v":0},{"$f":"Mechanical!K108","v":0},{"$f":"Mechanical!L108","v":0},{"$f":"Mechanical!M108","v":0}]
[0,null,{"$f":"Mechanical!B109","v":0},{"$f":"Mechanical!D109","v":0},{"$f":"Mechanical!E109","v":0},{"$f":"Mechanical!F109","v":0},{"$f":"Mechanical!G109","v":0},{"$f":"Mechanical!H109","v":0},{"$f":"Mechanical!I109","v":0},{"$f":"Mechanical!J109","v":0},{"$f":"Mechanical!K109","v":0},{"$f":"Mechanical!L109","v":0},{"$f":"Mechanical!M109","v":0}]
[0,null,{"$f":"Mechanical!B110","v":0},{"$f":"Mechanical!D110","v":0},{"$f":"Mechanical!E110","v":0},{"$f":"Mechanical!F110","v":0},{"$f":"Mechanical!G110","v":0},{"$f":"Mechanical!H110","v":0},{"$f":"Mechanical!I110","v":0},{"$f":"Mechanical!J110","v":0},{"$f":"Mechanical!K110","v":0},{"$f":"Mechanical!L110","v":0},{"$f":"Mechanical!M110","v":0}]
[0,null,{"$f":"Mechanical!B111","v":0},{"$f":"Mechanical!D111","v":0},{"$f":"Mechanical!E111","v":0},{"$f":"Mechanical!F111","v":0},{"$f":"Mechanical!G111","v":0},{"$f":"Mechanical!H111","v":0},{"$f":"Mechanical!I111","v":0},{"$f":"Mechanical!J111","v":0},{"$f":"Mechanical!K111","v":0},{"$f":"Mechanical!L111","v":0},{"$f":"Mechanical!M111","v":0}]
[0,null,{"$f":"Mechanical!B112","v":0},{"$f":"Mechanical!D112","v":0},{"$f":"Mechanical!E112","v":0},{"$f":"Mechanical!F112","v":0},{"$f":"Mechanical!G112","v":0},{"$f":"Mechanical!H112","v":0},{"$f":"Mechanical!I112","v":0},{"$f":"Mechanical!J112","v":0},{"$f":"Mechanical!K112","v":0},{"$f":"Mechanical!L112","v":0},{"$f":"Mechanical!M112","v":0}]
[0,null,{"$f":"Mechanical!B113","v":0},{"$f":"Mechanical!D113","v":0},{"$f":"Mechanical!E113","v":0},{"$f":"Mechanical!F113","v":0},{"$f":"Mechanical!G113","v":0},{"$f":"Mechanical!H113","v":0},{"$f":"Mechanical!I113","v":0},{"$f":"Mechanical!J113","v":0},{"$f":"Mechanical!K113","v":0},{"$f":"Mechanical!L113","v":0},{"$f":"Mechanical!M113","v":0}]
[0,null,{"$f":"Mechanical!B114","v":0},{"$f":"Mechanical!D114","v":0},{"$f":"Mechanical!E114","v":0},{"$f":"Mechanical!F114","v":0},{"$f":"Mechanical!G114","v":0},{"$f":"Mechanical!H114","v":0},{"$f":"Mechanical!I114","v":0},{"$f":"Mechanical!J114","v":0},{"$f":"Mechanical!K114","v":0},{"$f":"Mechanical!L114","v":0},{"$f":"Mechanical!M114","v":0}]
[0,null,{"$f":"Mechanical!B115","v":0},{"$f":"Mechanical!D115","v":0},{"$f":"Mechanical!E115","v":0},{"$f":"Mechanical!F115","v":0},{"$f":"Mechanical!G115","v":0},{"$f":"Mechanical!H115","v":0},{"$f":"Mechanical!I115","v":0},{"$f":"Mechanical!J115","v":0},{"$f":"Mechanical!K115","v":0},{"$f":"Mechanical!L115","v":0},{"$f":"Mechanical!M115","v":0}]
[0,null,{"$f":"Mechanical!B116","v":0},{"$f":"Mechanical!D116","v":0},{"$f":"Mechanical!E116","v":0},{"$f":"Mechanical!F116","v":0},{"$f":"Mechanical!G116","v":0},{"$f":"Mechanical!H116","v":0},{"$f":"Mechanical!I116","v":0},{"$f":"Mechanical!J116","v":0},{"$f":"Mechanical!K116","v":0},{"$f":"Mechanical!L116","v":0},{"$f":"Mechanical!M116","v":0}]
[0,null,{"$f":"Mechanical!B117","v":0},{"$f":"Mechanical!D117","v":0},{"$f":"Mechanical!E117","v":0},{"$f":"Mechanical!F117","v":0},{"$f":"Mechanical!G117","v":0},{"$f":"Mechanical!H117","v":0},{"$f":"Mechanical!I117","v":0},{"$f":"Mechanical!J117","v":0},{"$f":"Mechanical!K117","v":0},{"$f":"Mechanical!L117","v":0},{"$f":"Mechanical!M117","v":0}]
[0,null,{"$f":"Mechanical!B118","v":0},{"$f":"Mechanical!D118","v":0},{"$f":"Mechanical!E118","v":0},{"$f":"Mechanical!F118","v":0},{"$f":"Mechanical!G118","v":0},{"$f":"Mechanical!H118","v":0},{"$f":"Mechanical!I118","v":0},{"$f":"Mechanical!J118","v":0},{"$f":"Mechanical!K118","v":0},{"$f":"Mechanical!L118","v":0},{"$f":"Mechanical!M118","v":0}]
[0,null,{"$f":"Mechanical!B119","v":0},{"$f":"Mechanical!D119","v":0},{"$f":"Mechanical!E119","v":0},{"$f":"Mechanical!F119","v":0},{"$f":"Mechanical!G119","v":0},{"$f":"Mechanical!H119","v":0},{"$f":"Mechanical!I119","v":0},{"$f":"Mechanical!J119","v":0},{"$f":"Mechanical!K119","v":0},{"$f":"Mechanical!L119","v":0},{"$f":"Mechanical!M119","v":0}]
[0,null,{"$f":"Mechanical!B120","v":0},{"$f":"Mechanical!D120","v":0},{"$f":"Mechanical!E120","v":0},{"$f":"Mechanical!F120","v":0},{"$f":"Mechanical!G120","v":0},{"$f":"Mechanical!H120","v":0},{"$f":"Mechanical!I120","v":0},{"$f":"Mechanical!J120","v":0},{"$f":"Mechanical!K120","v":0},{"$f":"Mechanical!L120","v":0},{"$f":"Mechanical!M120","v":0}]
[0,null,{"$f":"Mechanical!B121","v":0},{"$f":"Mechanical!D121","v":0},{"$f":"Mechanical!E121","v":0},{"$f":"Mechanical!F121","v":0},{"$f":"Mechanical!G121","v":0},{"$f":"Mechanical!H121","v":0},{"$f":"Mechanical!I121","v":0},{"$f":"Mechanical!J121","v":0},{"$f":"Mechanical!K121","v":0},{"$f":"Mechanical!L121","v":0},{"$f":"Mechanical!M121","v":0}]
[0,null,{"$f":"Mechanical!B122","v":0},{"$f":"Mechanical!D122","v":0},{"$f":"Mechanical!E122","v":0},{"$f":"Mechanical!F122","v":0},{"$f":"Mechanical!G122","v":0},{"$f":"Mechanical!H122","v":0},{"$f":"Mechanical!I122","v":0},{"$f":"Mechanical!J122","v":0},{"$f":"Mechanical!K122","v":0},{"$f":"Mechanical!L122","v":0},{"$f":"Mechanical!M122","v":0}]
[0,null,{"$f":"Mechanical!B123","v":0},{"$f":"Mechanical!D123","v":0},{"$f":"Mechanical!E123","v":0},{"$f":"Mechanical!F123","v":0},{"$f":"Mechanical!G123","v":0},{"$f":"Mechanical!H123","v":0},{"$f":"Mechanical!I123","v":0},{"$f":"Mechanical!J123","v":0},{"$f":"Mechanical!K123","v":0},{"$f":"Mechanical!L123","v":0},{"$f":"Mechanical!M123","v":0}]
[0,null,{"$f":"Mechanical!B124","v":0},{"$f":"Mechanical!D124","v":0},{"$f":"Mechanical!E124","v":0},{"$f":"Mechanical!F124","v":0},{"$f":"Mechanical!G124","v":0},{"$f":"Mechanical!H124","v":0},{"$f":"Mechanical!I124","v":0},{"$f":"Mechanical!J124","v":0},{"$f":"Mechanical!K124","v":0},{"$f":"Mechanical!L124","v":0},{"$f":"Mechanical!M124","v":0}]
[0,null,{"$f":"Mechanical!B125","v":0},{"$f":"Mechanical!D125","v":0},{"$f":"Mechanical!E125","v":0},{"$f":"Mechanical!F125","v":0},{"$f":"Mechanical!G125","v":0},{"$f":"Mechanical!H125","v":0},{"$f":"Mechanical!I125","v":0},{"$f":"Mechanical!J125","v":0},{"$f":"Mechanical!K125","v":0},{"$f":"Mechanical!L125","v":0},{"$f":"Mechanical!M125","v":0}]
[0,null,{"$f":"Mechanical!B126","v":0},{"$f":"Mechanical!D126","v":0},{"$f":"Mechanical!E126","v":0},{"$f":"Mechanical!F126","v":0},{"$f":"Mechanical!G126","v":0},{"$f":"Mechanical!H126","v":0},{"$f":"Mechanical!I126","v":0},{"$f":"Mechanical!J126","v":0},{"$f":"Mechanical!K126","v":0},{"$f":"Mechanical!L126","v":0},{"$f":"Mechanical!M126","v":0}]
[0,null,{"$f":"Mechanical!B127","v":0},{"$f":"Mechanical!D127","v":0},{"$f":"Mechanical!E127","v":0},{"$f":"Mechanical!F127","v":0},{"$f":"Mechanical!G127","v":0},{"$f":"Mechanical!H127","v":0},{"$f":"Mechanical!I127","v":0},{"$f":"Mechanical!J127","v":0},{"$f":"Mechanical!K127","v":0},{"$f":"Mechanical!L127","v":0},{"$f":"Mechanical!M127","v":0}]
[0,null,{"$f":"Mechanical!B128","v":0},{"$f":"Mechanical!D128","v":0},{"$f":"Mechanical!E128","v":0},{"$f":"Mechanical!F128","v":0},{"$f":"Mechanical!G128","v":0},{"$f":"Mechanical!H128","v":0},{"$f":"Mechanical!I128","v":0},{"$f":"Mechanical!J128","v":0},{"$f":"Mechanical!K128","v":0},{"$f":"Mechanical!L128","v":0},{"$f":"Mechanical!M128","v":0}]
[0,null,{"$f":"Mechanical!B129","v":0},{"$f":"Mechanical!D129","v":0},{"$f":"Mechanical!E129","v":0},{"$f":"Mechanical!F129","v":0},{"$f":"Mechanical!G129","v":0},{"$f":"Mechanical!H129","v":0},{"$f":"Mechanical!I129","v":0},{"$f":"Mechanical!J129","v":0},{"$f":"Mechanical!K129","v":0},{"$f":"Mechanical!L129","v":0},{"$f":"Mechanical!M129","v":0}]
[0,null,{"$f":"Mechanical!B130","v":0},{"$f":"Mechanical!D130","v":0},{"$f":"Mechanical!E130","v":0},{"$f":"Mechanical!F130","v":0},{"$f":"Mechanical!G130","v":0},{"$f":"Mechanical!H130","v":0},{"$f":"Mechanical!I130","v":0},{"$f":"Mechanical!J130","v":0},{"$f":"Mechanical!K130","v":0},{"$f":"Mechanical!L130","v":0},{"$f":"Mechanical!M130","v":0}]
[0,null,{"$f":"Mechanical!B131","v":0},{"$f":"Mechanical!D131","v":0},{"$f":"Mechanical!E131","v":0},{"$f":"Mechanical!F131","v":0},{"$f":"Mechanical!G131","v":0},{"$f":"Mechanical!H131","v":0},{"$f":"Mechanical!I131","v":0},{"$f":"Mechanical!J131","v":0},{"$f":"Mechanical!K131","v":0},{"$f":"Mechanical!L131","v":0},{"$f":"Mechanical!M131","v":0}]
[0,null,{"$f":"Mechanical!B132","v":0},{"$f":"Mechanical!D132","v":0},{"$f":"Mechanical!E132","v":0},{"$f":"Mechanical!F132","v":0},{"$f":"Mechanical!G132","v":0},{"$f":"Mechanical!H132","v":0},{"$f":"Mechanical!I132","v":0},{"$f":"Mechanical!J132","v":0},{"$f":"Mechanical!K132","v":0},{"$f":"Mechanical!L132","v":0},{"$f":"Mechanical!M132","v":0}]
[0,null,{"$f":"Mechanical!B133","v":0},{"$f":"Mechanical!D133","v":0},{"$f":"Mechanical!E133","v":0},{"$f":"Mechanical!F133","v":0},{"$f":"Mechanical!G133","v":0},{"$f":"Mechanical!H133","v":0},{"$f":"Mechanical!I133","v":0},{"$f":"Mechanical!J133","v":0},{"$f":"Mechanical!K133","v":0},{"$f":"Mechanical!L133","v":0},{"$f":"Mechanical!M133","v":0}]
[0,null,{"$f":"Mechanical!B134","v":0},{"$f":"Mechanical!D134","v":0},{"$f":"Mechanical!E134","v":0},{"$f":"Mechanical!F134","v":0},{"$f":"Mechanical!G134","v":0},{"$f":"Mechanical!H134","v":0},{"$f":"Mechanical!I134","v":0},{"$f":"Mechanical!J134","v":0},{"$f":"Mechanical!K134","v":0},{"$f":"Mechanical!L134","v":0},{"$f":"Mechanical!M134","v":0}]
[0,null,{"$f":"Mechanical!B135","v":0},{"$f":"Mechanical!D135","v":0},{"$f":"Mechanical!E135","v":0},{"$f":"Mechanical!F135","v":0},{"$f":"Mechanical!G135","v":0},{"$f":"Mechanical!H135","v":0},{"$f":"Mechanical!I135","v":0},{"$f":"Mechanical!J135","v":0},{"$f":"Mechanical!K135","v":0},{"$f":"Mechanical!L135","v":0},{"$f":"Mechanical!M135","v":0}]
[0,null,{"$f":"Mechanical!B136","v":0},{"$f":"Mechanical!D136","v":0},{"$f":"Mechanical!E136","v":0},{"$f":"Mechanical!F136","v":0},{"$f":"Mechanical!G136","v":0},{"$f":"Mechanical!H136","v":0},{"$f":"Mechanical!I136","v":0},{"$f":"Mechanical!J136","v":0},{"$f":"Mechanical!K136","v":0},{"$f":"Mechanical!L136","v":0},{"$f":"Mechanical!M136","v":0}]
[0,null,{"$f":"Mechanical!B137","v":0},{"$f":"Mechanical!D137","v":0},{"$f":"Mechanical!E137","v":0},{"$f":"Mechanical!F137","v":0},{"$f":"Mechanical!G137","v":0},{"$f":"Mechanical!H137","v":0},{"$f":"Mechanical!I137","v":0},{"$f":"Mechanical!J137","v":0},{"$f":"Mechanical!K137","v":0},{"$f":"Mechanical!L137","v":0},{"$f":"Mechanical!M137","v":0}]
[0,null,{"$f":"Mechanical!B138","v":0},{"$f":"Mechanical!D138","v":0},{"$f":"Mechanical!E138","v":0},{"$f":"Mechanical!F138","v":0},{"$f":"Mechanical!G138","v":0},{"$f":"Mechanical!H138","v":0},{"$f":"Mechanical!I138","v":0},{"$f":"Mechanical!J138","v":0},{"$f":"Mechanical!K138","v":0},{"$f":"Mechanical!L138","v":0},{"$f":"Mechanical!M138","v":0}]
[0,null,{"$f":"Mechanical!B139","v":0},{"$f":"Mechanical!D139","v":0},{"$f":"Mechanical!E139","v":0},{"$f":"Mechanical!F139","v":0},{"$f":"Mechanical!G139","v":0},{"$f":"Mechanical!H139","v":0},{"$f":"Mechanical!I139","v":0},{"$f":"Mechanical!J139","v":0},{"$f":"Mechanical!K139","v":0},{"$f":"Mechanical!L139","v":0},{"$f":"Mechanical!M139","v":0}]
[0,null,{"$f":"Mechanical!B140","v":0},{"$f":"Mechanical!D140","v":0},{"$f":"Mechanical!E140","v":0},{"$f":"Mechanical!F140","v":0},{"$f":"Mechanical!G140","v":0},{"$f":"Mechanical!H140","v":0},{"$f":"Mechanical!I140","v":0},{"$f":"Mechanical!J140","v":0},{"$f":"Mechanical!K140","v":0},{"$f":"Mechanical!L140","v":0},{"$f":"Mechanical!M140","v":0}]
[0,null,{"$f":"Mechanical!B141","v":0},{"$f":"Mechanical!D141","v":0},{"$f":"Mechanical!E141","v":0},{"$f":"Mechanical!F141","v":0},{"$f":"Mechanical!G141","v":0},{"$f":"Mechanical!H141","v":0},{"$f":"Mechanical!I141","v":0},{"$f":"Mechanical!J141","v":0},{"$f":"Mechanical!K141","v":0},{"$f":"Mechanical!L141","v":0},{"$f":"Mechanical!M141","v":0}]
[0,null,{"$f":"Mechanical!B142","v":0},{"$f":"Mechanical!D142","v":0},{"$f":"Mechanical!E142","v":0},{"$f":"Mechanical!F142","v":0},{"$f":"Mechanical!G142","v":0},{"$f":"Mechanical!H142","v":0},{"$f":"Mechanical!I142","v":0},{"$f":"Mechanical!J142","v":0},{"$f":"Mechanical!K142","v":0},{"$f":"Mechanical!L142","v":0},{"$f":"Mechanical!M142","v":0}]
[0,null,{"$f":"Mechanical!B143","v":0},{"$f":"Mechanical!D143","v":0},{"$f":"Mechanical!E143","v":0},{"$f":"Mechanical!F143","v":0},{"$f":"Mechanical!G143","v":0},{"$f":"Mechanical!H143","v":0},{"$f":"Mechanical!I143","v":0},{"$f":"Mechanical!J143","v":0},{"$f":"Mechanical!K143","v":0},{"$f":"Mechanical!L143","v":0},{"$f":"Mechanical!M143","v":0}]
[0,null,{"$f":"Mechanical!B144","v":0},{"$f":"Mechanical!D144","v":0},{"$f":"Mechanical!E144","v":0},{"$f":"Mechanical!F144","v":0},{"$f":"Mechanical!G144","v":0},{"$f":"Mechanical!H144","v":0},{"$f":"Mechanical!I144","v":0},{"$f":"Mechanical!J144","v":0},{"$f":"Mechanical!K144","v":0},{"$f":"Mechanical!L144","v":0},{"$f":"Mechanical!M144","v":0}]
[1]
[{"$f":"IF(SUM($A$148:$A$159)>0,1,0)","v":0},null,"Other Mechanical Systems Not Included Above (including any existing controls, automation, or management systems)"]
[{"$f":"IF(SUM($A$148:$A$159)>0,1,0)","v":0},null,"Name of System",null,"System Description/Additional Notes"]
[{"$f":"IF(C148=0,0,1)","v":0},null,{"$f":"Mechanical!B148","v":0},null,{"$f":"Mechanical!E148","v":0}]
[{"$f":"IF(C149=0,0,1)","v":0},null,{"$f":"Mechanical!B149","v":0},null,{"$f":"Mechanical!E149","v":0}]
[0,null,{"$f":"Mechanical!B150","v":0},null,{"$f":"Mechanical!E150","v":0}]
[0,null,{"$f":"Mechanical!B151","v":0},null,{"$f":"Mechanical!E151","v":0}]
[0,null,{"$f":"Mechanical!B152","v":0},null,{"$f":"Mechanical!E152","v":0}]
[0,null,{"$f":"Mechanical!B153","v":0},null,{"$f":"Mechanical!E153","v":0}]
[0,null,{"$f":"Mechanical!B154","v":0},null,{"$f":"Mechanical!E154","v":0}]
[0,null,{"$f":"Mechanical!B155","v":0},null,{"$f":"Mechanical!E155","v":0}]
[0,null,{"$f":"Mechanical!B156","v":0},null,{"$f":"Mechanical!E156","v":0}]
[0,null,{"$f":"Mechanical!B157","v":0},null,{"$f":"Mechanical!E157","v":0}]
[0,null,{"$f":"Mechanical!B158","v":0},null,{"$f":"Mechanical!E158","v":0}]
[0,null,{"$f":"Mechanical!B159","v":0},null,{"$f":"Mechanical!E159","v":0}]
[1]
[{"$f":"IF(SUM($A$165:$A$664)>0,1,0)","v":0},"Interior Lighting"]
[{"$f":"IF(SUM($A$165:$A$664)>0,1,0)","v":0},"Location ",null,null,null,null,"Existing",null,null,null,null,null,null,null,"Proposed",null,null,null,null,null,null,null,"Savings"]
[0,null,"Building\n(from 'Area Identification')","Building Area\n(from 'Area Identification')","Floor #","Area and/or Room/Unit Number","Fixture Type","Ballast  ","Default Watts / Fixture","Actual Watts/Fixture (if different from default)","Fixture Qty.","Control Type","Controls Qty.","Total  Watts","Fixture Type","Ballast  ","Default Watts / Fixture","Actual Watts/Fixture (if different from default)","Fixture Qty.","Control Type","Controls Qty.","Total   Watts","Watts Saved","% Savings"]
[0,"Ex","Building 1 ","Classroom/Lecture/Training","Ground Floor","Classroom 101","Fluorescent, (4) 48\", T12 ES lamp, EB","Magnetic",120,null,2,"Occ. Sensor Ceiling Mount (low volt)",null,240,"4' T8 4-lamp with EB","Electronic",112,"",2,"Occ. Sensor Ceiling Mount (line volt)",null,224,{"$f":"J164-V164","v":-224},{"$f":"IFERROR(1-(V164/J164),0)","v":0}]
[{"$f":"IF(G165=0,0,1)","v":0},{"$f":"Lighting!B9","v":1},{"$f":"Lighting!C9","v":0},{"$f":"Lighting!D9","v":0},{"$f":"Lighting!F9","v":0},{"$f":"Lighting!G9","v":0},{"$f":"Lighting!H9","v":0},{"$f":"Lighting!I9","v":0},{"$f":"Lighting!J9","v":0},{"$f":"Lighting!K9","v":0},{"$f":"Lighting!L9","v":0},{"$f":"Lighting!M9","v":0},{"$f":"Lighting!P9","v":0},{"$f":"Lighting!Q9","v":0},{"$f":"Lighting!S9","v":""},{"$f":"Lighting!T9","v":""},{"$f":"Lighting!U9","v":0},{"$f":"Lighting!V9","v":""},{"$f":"Lighting!W9","v":""},{"$f":"Lighting!Y9","v":""},{"$f":"Lighting!AB9","v":""},{"$f":"Lighting!AC9","v":0},{"$f":"Lighting!AD9","v":0},{"$f":"Lighting!AE9","v":0}]
[{"$f":"IF(G166=0,0,1)","v":0},{"$f":"Lighting!B10","v":2},{"$f":"Lighting!C10","v":0},{"$f":"Lighting!D10","v":0},{"$f":"Lighting!F10","v":0},{"$f":"Lighting!G10","v":0},{"$f":"Lighting!H10","v":0},{"$f":"Lighting!I10","v":0},{"$f":"Lighting!J10","v":0},{"$f":"Lighting!K10","v":0},{"$f":"Lighting!L10","v":0},{"$f":"Lighting!M10","v":0},{"$f":"Lighting!P10","v":0},{"$f":"Lighting!Q10","v":0},{"$f":"Lighting!S10","v":""},{"$f":"Lighting!T10","v":""},{"$f":"Lighting!U10","v":0},{"$f":"Lighting!V10","v":""},{"$f":"Lighting!W10","v":""},{"$f":"Lighting!Y10","v":""},{"$f":"Lighting!AB10","v":""},{"$f":"Lighting!AC10","v":0},{"$f":"Lighting!AD10","v":0},{"$f":"Lighting!AE10","v":0}]
[0,{"$f":"Lighting!B11","v":3},{"$f":"Lighting!C11","v":0},{"$f":"Lighting!D11","v":0},{"$f":"Lighting!F11","v":0},{"$f":"Lighting!G11","v":0},{"$f":"Lighting!H11","v":0},{"$f":"Lighting!I11","v":0},{"$f":"Lighting!J11","v":0},{"$f":"Lighting!K11","v":0},{"$f":"Lighting!L11","v":0},{"$f":"Lighting!M11","v":0},{"$f":"Lighting!P11","v":0},{"$f":"Lighting!Q11","v":0},{"$f":"Lighting!S11","v":""},{"$f":"Lighting!T11","v":""},{"$f":"Lighting!U11","v":0},{"$f":"Lighting!V11","v":""},{"$f":"Lighting!W11","v":""},{"$f":"Lighting!Y11","v":""},{"$f":"Lighting!AB11","v":""},{"$f":"Lighting!AC11","v":0},{"$f":"Lighting!AD11","v":0},{"$f":"Lighting!AE11","v":0}]
[0,{"$f":"Lighting!B12","v":4},{"$f":"Lighting!C12","v":0},{"$f":"Lighting!D12","v":0},{"$f":"Lighting!F12","v":0},{"$f":"Lighting!G12","v":0},{"$f":"Lighting!H12","v":0},{"$f":"Lighting!I12","v":0},{"$f":"Lighting!J12","v":0},{"$f":"Lighting!K12","v":0},{"$f":"Lighting!L12","v":0},{"$f":"Lighting!M12","v":0},{"$f":"Lighting!P12","v":0},{"$f":"Lighting!Q12","v":0},{"$f":"Lighting!S12","v":""},{"$f":"Lighting!T12","v":""},{"$f":"Lighting!U12","v":0},{"$f":"Lighting!V12","v":""},{"$f":"Lighting!W12","v":""},{"$f":"Lighting!Y12","v":""},{"$f":"Lighting!AB12","v":""},{"$f":"Lighting!AC12","v":0},{"$f":"Lighting!AD12","v":0},{"$f":"Lighting!AE12","v":0}]
[0,{"$f":"Lighting!B13","v":5},{"$f":"Lighting!C13","v":0},{"$f":"Lighting!D13","v":0},{"$f":"Lighting!F13","v":0},{"$f":"Lighting!G13","v":0},{"$f":"Lighting!H13","v":0},{"$f":"Lighting!I13","v":0},{"$f":"Lighting!J13","v":0},{"$f":"Lighting!K13","v":0},{"$f":"Lighting!L13","v":0},{"$f":"Lighting!M13","v":0},{"$f":"Lighting!P13","v":0},{"$f":"Lighting!Q13","v":0},{"$f":"Lighting!S13","v":""},{"$f":"Lighting!T13","v":""},{"$f":"Lighting!U13","v":0},{"$f":"Lighting!V13","v":""},{"$f":"Lighting!W13","v":""},{"$f":"Lighting!Y13","v":""},{"$f":"Lighting!AB13","v":""},{"$f":"Lighting!AC13","v":0},{"$f":"Lighting!AD13","v":0},{"$f":"Lighting!AE13","v":0}]
[0,{"$f":"Lighting!B14","v":6},{"$f":"Lighting!C14","v":0},{"$f":"Lighting!D14","v":0},{"$f":"Lighting!F14","v":0},{"$f":"Lighting!G14","v":0},{"$f":"Lighting!H14","v":0},{"$f":"Lighting!I14","v":0},{"$f":"Lighting!J14","v":0},{"$f":"Lighting!K14","v":0},{"$f":"Lighting!L14","v":0},{"$f":"Lighting!M14","v":0},{"$f":"Lighting!P14","v":0},{"$f":"Lighting!Q14","v":0},{"$f":"Lighting!S14","v":""},{"$f":"Lighting!T14","v":""},{"$f":"Lighting!U14","v":0},{"$f":"Lighting!V14","v":""},{"$f":"Lighting!W14","v":""},{"$f":"Lighting!Y14","v":""},{"$f":"Lighting!AB14","v":""},{"$f":"Lighting!AC14","v":0},{"$f":"Lighting!AD14","v":0},{"$f":"Lighting!AE14","v":0}]
[0,{"$f":"Lighting!B15","v":7},{"$f":"Lighting!C15","v":0},{"$f":"Lighting!D15","v":0},{"$f":"Lighting!F15","v":0},{"$f":"Lighting!G15","v":0},{"$f":"Lighting!H15","v":0},{"$f":"Lighting!I15","v":0},{"$f":"Lighting!J15","v":0},{"$f":"Lighting!K15","v":0},{"$f":"Lighting!L15","v":0},{"$f":"Lighting!M15","v":0},{"$f":"Lighting!P15","v":0},{"$f":"Lighting!Q15","v":0},{"$f":"Lighting!S15","v":""},{"$f":"Lighting!T15","v":""},{"$f":"Lighting!U15","v":0},{"$f":"Lighting!V15","v":""},{"$f":"Lighting!W15","v":""},{"$f":"Lighting!Y15","v":""},{"$f":"Lighting!AB15","v":""},{"$f":"Lighting!AC15","v":0},{"$f":"Lighting!AD15","v":0},{"$f":"Lighting!AE15","v":0}]
[0,{"$f":"Lighting!B16","v":8},{"$f":"Lighting!C16","v":0},{"$f":"Lighting!D16","v":0},{"$f":"Lighting!F16","v":0},{"$f":"Lighting!G16","v":0},{"$f":"Lighting!H16","v":0},{"$f":"Lighting!I16","v":0},{"$f":"Lighting!J16","v":0},{"$f":"Lighting!K16","v":0},{"$f":"Lighting!L16","v":0},{"$f":"Lighting!M16","v":0},{"$f":"Lighting!P16","v":0},{"$f":"Lighting!Q16","v":0},{"$f":"Lighting!S16","v":""},{"$f":"Lighting!T16","v":""},{"$f":"Lighting!U16","v":0},{"$f":"Lighting!V16","v":""},{"$f":"Lighting!W16","v":""},{"$f":"Lighting!Y16","v":""},{"$f":"Lighting!AB16","v":""},{"$f":"Lighting!AC16","v":0},{"$f":"Lighting!AD16","v":0},{"$f":"Lighting!AE16","v":0}]
[0,{"$f":"Lighting!B17","v":9},{"$f":"Lighting!C17","v":0},{"$f":"Lighting!D17","v":0},{"$f":"Lighting!F17","v":0},{"$f":"Lighting!G17","v":0},{"$f":"Lighting!H17","v":0},{"$f":"Lighting!I17","v":0},{"$f":"Lighting!J17","v":0},{"$f":"Lighting!K17","v":0},{"$f":"Lighting!L17","v":0},{"$f":"Lighting!M17","v":0},{"$f":"Lighting!P17","v":0},{"$f":"Lighting!Q17","v":0},{"$f":"Lighting!S17","v":""},{"$f":"Lighting!T17","v":""},{"$f":"Lighting!U17","v":0},{"$f":"Lighting!V17","v":""},{"$f":"Lighting!W17","v":""},{"$f":"Lighting!Y17","v":""},{"$f":"Lighting!AB17","v":""},{"$f":"Lighting!AC17","v":0},{"$f":"Lighting!AD17","v":0},{"$f":"Lighting!AE17","v":0}]
[0,{"$f":"Lighting!B18","v":10},{"$f":"Lighting!C18","v":0},{"$f":"Lighting!D18","v":0},{"$f":"Lighting!F18","v":0},{"$f":"Lighting!G18","v":0},{"$f":"Lighting!H18","v":0},{"$f":"Lighting!I18","v":0},{"$f":"Lighting!J18","v":0},{"$f":"Lighting!K18","v":0},{"$f":"Lighting!L18","v":0},{"$f":"Lighting!M18","v":0},{"$f":"Lighting!P18","v":0},{"$f":"Lighting!Q18","v":0},{"$f":"Lighting!S18","v":""},{"$f":"Lighting!T18","v":""},{"$f":"Lighting!U18","v":0},{"$f":"Lighting!V18","v":""},{"$f":"Lighting!W18","v":""},{"$f":"Lighting!Y18","v":""},{"$f":"Lighting!AB18","v":""},{"$f":"Lighting!AC18","v":0},{"$f":"Lighting!AD18","v":0},{"$f":"Lighting!AE18","v":0}]
[0,{"$f":"Lighting!B19","v":11},{"$f":"Lighting!C19","v":0},{"$f":"Lighting!D19","v":0},{"$f":"Lighting!F19","v":0},{"$f":"Lighting!G19","v":0},{"$f":"Lighting!H19","v":0},{"$f":"Lighting!I19","v":0},{"$f":"Lighting!J19","v":0},{"$f":"Lighting!K19","v":0},{"$f":"Lighting!L19","v":0},{"$f":"Lighting!M19","v":0},{"$f":"Lighting!P19","v":0},{"$f":"Lighting!Q19","v":0},{"$f":"Lighting!S19","v":""},{"$f":"Lighting!T19","v":""},{"$f":"Lighting!U19","v":0},{"$f":"Lighting!V19","v":""},{"$f":"Lighting!W19","v":""},{"$f":"Lighting!Y19","v":""},{"$f":"Lighting!AB19","v":""},{"$f":"Lighting!AC19","v":0},{"$f":"Lighting!AD19","v":0},{"$f":"Lighting!AE19","v":0}]
[0,{"$f":"Lighting!B20","v":12},{"$f":"Lighting!C20","v":0},{"$f":"Lighting!D20","v":0},{"$f":"Lighting!F20","v":0},{"$f":"Lighting!G20","v":0},{"$f":"Lighting!H20","v":0},{"$f":"Lighting!I20","v":0},{"$f":"Lighting!J20","v":0},{"$f":"Lighting!K20","v":0},{"$f":"Lighting!L20","v":0},{"$f":"Lighting!M20","v":0},{"$f":"Lighting!P20","v":0},{"$f":"Lighting!Q20","v":0},{"$f":"Lighting!S20","v":""},{"$f":"Lighting!T20","v":""},{"$f":"Lighting!U20","v":0},{"$f":"Lighting!V20","v":""},{"$f":"Lighting!W20","v":""},{"$f":"Lighting!Y20","v":""},{"$f":"Lighting!AB20","v":""},{"$f":"Lighting!AC20","v":0},{"$f":"Lighting!AD20","v":0},{"$f":"Lighting!AE20","v":0}]
[0,{"$f":"Lighting!B21","v":13},{"$f":"Lighting!C21","v":0},{"$f":"Lighting!D21","v":0},{"$f":"Lighting!F21","v":0},{"$f":"Lighting!G21","v":0},{"$f":"Lighting!H21","v":0},{"$f":"Lighting!I21","v":0},{"$f":"Lighting!J21","v":0},{"$f":"Lighting!K21","v":0},{"$f":"Lighting!L21","v":0},{"$f":"Lighting!M21","v":0},{"$f":"Lighting!P21","v":0},{"$f":"Lighting!Q21","v":0},{"$f":"Lighting!S21","v":""},{"$f":"Lighting!T21","v":""},{"$f":"Lighting!U21","v":0},{"$f":"Lighting!V21","v":""},{"$f":"Lighting!W21","v":""},{"$f":"Lighting!Y21","v":""},{"$f":"Lighting!AB21","v":""},{"$f":"Lighting!AC21","v":0},{"$f":"Lighting!AD21","v":0},{"$f":"Lighting!AE21","v":0}]
[0,{"$f":"Lighting!B22","v":14},{"$f":"Lighting!C22","v":0},{"$f":"Lighting!D22","v":0},{"$f":"Lighting!F22","v":0},{"$f":"Lighting!G22","v":0},{"$f":"Lighting!H22","v":0},{"$f":"Lighting!I22","v":0},{"$f":"Lighting!J22","v":0},{"$f":"Lighting!K22","v":0},{"$f":"Lighting!L22","v":0},{"$f":"Lighting!M22","v":0},{"$f":"Lighting!P22","v":0},{"$f":"Lighting!Q22","v":0},{"$f":"Lighting!S22","v":""},{"$f":"Lighting!T22","v":""},{"$f":"Lighting!U22","v":0},{"$f":"Lighting!V22","v":""},{"$f":"Lighting!W22","v":""},{"$f":"Lighting!Y22","v":""},{"$f":"Lighting!AB22","v":""},{"$f":"Lighting!AC22","v":0},{"$f":"Lighting!AD22","v":0},{"$f":"Lighting!AE22","v":0}]
[0,{"$f":"Lighting!B23","v":15},{"$f":"Lighting!C23","v":0},{"$f":"Lighting!D23","v":0},{"$f":"Lighting!F23","v":0},{"$f":"Lighting!G23","v":0},{"$f":"Lighting!H23","v":0},{"$f":"Lighting!I23","v":0},{"$f":"Lighting!J23","v":0},{"$f":"Lighting!K23","v":0},{"$f":"Lighting!L23","v":0},{"$f":"Lighting!M23","v":0},{"$f":"Lighting!P23","v":0},{"$f":"Lighting!Q23","v":0},{"$f":"Lighting!S23","v":""},{"$f":"Lighting!T23","v":""},{"$f":"Lighting!U23","v":0},{"$f":"Lighting!V23","v":""},{"$f":"Lighting!W23","v":""},{"$f":"Lighting!Y23","v":""},{"$f":"Lighting!AB23","v":""},{"$f":"Lighting!AC23","v":0},{"$f":"Lighting!AD23","v":0},{"$f":"Lighting!AE23","v":0}]
[0,{"$f":"Lighting!B24","v":16},{"$f":"Lighting!C24","v":0},{"$f":"Lighting!D24","v":0},{"$f":"Lighting!F24","v":0},{"$f":"Lighting!G24","v":0},{"$f":"Lighting!H24","v":0},{"$f":"Lighting!I24","v":0},{"$f":"Lighting!J24","v":0},{"$f":"Lighting!K24","v":0},{"$f":"Lighting!L24","v":0},{"$f":"Lighting!M24","v":0},{"$f":"Lighting!P24","v":0},{"$f":"Lighting!Q24","v":0},{"$f":"Lighting!S24","v":""},{"$f":"Lighting!T24","v":""},{"$f":"Lighting!U24","v":0},{"$f":"Lighting!V24","v":""},{"$f":"Lighting!W24","v":""},{"$f":"Lighting!Y24","v":""},{"$f":"Lighting!AB24","v":""},{"$f":"Lighting!AC24","v":0},{"$f":"Lighting!AD24","v":0},{"$f":"Lighting!AE24","v":0}]
[0,{"$f":"Lighting!B25","v":17},{"$f":"Lighting!C25","v":0},{"$f":"Lighting!D25","v":0},{"$f":"Lighting!F25","v":0},{"$f":"Lighting!G25","v":0},{"$f":"Lighting!H25","v":0},{"$f":"Lighting!I25","v":0},{"$f":"Lighting!J25","v":0},{"$f":"Lighting!K25","v":0},{"$f":"Lighting!L25","v":0},{"$f":"Lighting!M25","v":0},{"$f":"Lighting!P25","v":0},{"$f":"Lighting!Q25","v":0},{"$f":"Lighting!S25","v":""},{"$f":"Lighting!T25","v":""},{"$f":"Lighting!U25","v":0},{"$f":"Lighting!V25","v":""},{"$f":"Lighting!W25","v":""},{"$f":"Lighting!Y25","v":""},{"$f":"Lighting!AB25","v":""},{"$f":"Lighting!AC25","v":0},{"$f":"Lighting!AD25","v":0},{"$f":"Lighting!AE25","v":0}]
[0,{"$f":"Lighting!B26","v":18},{"$f":"Lighting!C26","v":0},{"$f":"Lighting!D26","v":0},{"$f":"Lighting!F26","v":0},{"$f":"Lighting!G26","v":0},{"$f":"Lighting!H26","v":0},{"$f":"Lighting!I26","v":0},{"$f":"Lighting!J26","v":0},{"$f":"Lighting!K26","v":0},{"$f":"Lighting!L26","v":0},{"$f":"Lighting!M26","v":0},{"$f":"Lighting!P26","v":0},{"$f":"Lighting!Q26","v":0},{"$f":"Lighting!S26","v":""},{"$f":"Lighting!T26","v":""},{"$f":"Lighting!U26","v":0},{"$f":"Lighting!V26","v":""},{"$f":"Lighting!W26","v":""},{"$f":"Lighting!Y26","v":""},{"$f":"Lighting!AB26","v":""},{"$f":"Lighting!AC26","v":0},{"$f":"Lighting!AD26","v":0},{"$f":"Lighting!AE26","v":0}]
[0,{"$f":"Lighting!B27","v":19},{"$f":"Lighting!C27","v":0},{"$f":"Lighting!D27","v":0},{"$f":"Lighting!F27","v":0},{"$f":"Lighting!G27","v":0},{"$f":"Lighting!H27","v":0},{"$f":"Lighting!I27","v":0},{"$f":"Lighting!J27","v":0},{"$f":"Lighting!K27","v":0},{"$f":"Lighting!L27","v":0},{"$f":"Lighting!M27","v":0},{"$f":"Lighting!P27","v":0},{"$f":"Lighting!Q27","v":0},{"$f":"Lighting!S27","v":""},{"$f":"Lighting!T27","v":""},{"$f":"Lighting!U27","v":0},{"$f":"Lighting!V27","v":""},{"$f":"Lighting!W27","v":""},{"$f":"Lighting!Y27","v":""},{"$f":"Lighting!AB27","v":""},{"$f":"Lighting!AC27","v":0},{"$f":"Lighting!AD27","v":0},{"$f":"Lighting!AE27","v":0}]
[0,{"$f":"Lighting!B28","v":20},{"$f":"Lighting!C28","v":0},{"$f":"Lighting!D28","v":0},{"$f":"Lighting!F28","v":0},{"$f":"Lighting!G28","v":0},{"$f":"Lighting!H28","v":0},{"$f":"Lighting!I28","v":0},{"$f":"Lighting!J28","v":0},{"$f":"Lighting!K28","v":0},{"$f":"Lighting!L28","v":0},{"$f":"Lighting!M28","v":0},{"$f":"Lighting!P28","v":0},{"$f":"Lighting!Q28","v":0},{"$f":"Lighting!S28","v":""},{"$f":"Lighting!T28","v":""},{"$f":"Lighting!U28","v":0},{"$f":"Lighting!V28","v":""},{"$f":"Lighting!W28","v":""},{"$f":"Lighting!Y28","v":""},{"$f":"Lighting!AB28","v":""},{"$f":"Lighting!AC28","v":0},{"$f":"Lighting!AD28","v":0},{"$f":"Lighting!AE28","v":0}]
[0,{"$f":"Lighting!B29","v":21},{"$f":"Lighting!C29","v":0},{"$f":"Lighting!D29","v":0},{"$f":"Lighting!F29","v":0},{"$f":"Lighting!G29","v":0},{"$f":"Lighting!H29","v":0},{"$f":"Lighting!I29","v":0},{"$f":"Lighting!J29","v":0},{"$f":"Lighting!K29","v":0},{"$f":"Lighting!L29","v":0},{"$f":"Lighting!M29","v":0},{"$f":"Lighting!P29","v":0},{"$f":"Lighting!Q29","v":0},{"$f":"Lighting!S29","v":""},{"$f":"Lighting!T29","v":""},{"$f":"Lighting!U29","v":0},{"$f":"Lighting!V29","v":""},{"$f":"Lighting!W29","v":""},{"$f":"Lighting!Y29","v":""},{"$f":"Lighting!AB29","v":""},{"$f":"Lighting!AC29","v":0},{"$f":"Lighting!AD29","v":0},{"$f":"Lighting!AE29","v":0}]
[0,{"$f":"Lighting!B30","v":22},{"$f":"Lighting!C30","v":0},{"$f":"Lighting!D30","v":0},{"$f":"Lighting!F30","v":0},{"$f":"Lighting!G30","v":0},{"$f":"Lighting!H30","v":0},{"$f":"Lighting!I30","v":0},{"$f":"Lighting!J30","v":0},{"$f":"Lighting!K30","v":0},{"$f":"Lighting!L30","v":0},{"$f":"Lighting!M30","v":0},{"$f":"Lighting!P30","v":0},{"$f":"Lighting!Q30","v":0},{"$f":"Lighting!S30","v":""},{"$f":"Lighting!T30","v":""},{"$f":"Lighting!U30","v":0},{"$f":"Lighting!V30","v":""},{"$f":"Lighting!W30","v":""},{"$f":"Lighting!Y30","v":""},{"$f":"Lighting!AB30","v":""},{"$f":"Lighting!AC30","v":0},{"$f":"Lighting!AD30","v":0},{"$f":"Lighting!AE30","v":0}]
[0,{"$f":"Lighting!B31","v":23},{"$f":"Lighting!C31","v":0},{"$f":"Lighting!D31","v":0},{"$f":"Lighting!F31","v":0},{"$f":"Lighting!G31","v":0},{"$f":"Lighting!H31","v":0},{"$f":"Lighting!I31","v":0},{"$f":"Lighting!J31","v":0},{"$f":"Lighting!K31","v":0},{"$f":"Lighting!L31","v":0},{"$f":"Lighting!M31","v":0},{"$f":"Lighting!P31","v":0},{"$f":"Lighting!Q31","v":0},{"$f":"Lighting!S31","v":""},{"$f":"Lighting!T31","v":""},{"$f":"Lighting!U31","v":0},{"$f":"Lighting!V31","v":""},{"$f":"Lighting!W31","v":""},{"$f":"Lighting!Y31","v":""},{"$f":"Lighting!AB31","v":""},{"$f":"Lighting!AC31","v":0},{"$f":"Lighting!AD31","v":0},{"$f":"Lighting!AE31","v":0}]
[0,{"$f":"Lighting!B32","v":24},{"$f":"Lighting!C32","v":0},{"$f":"Lighting!D32","v":0},{"$f":"Lighting!F32","v":0},{"$f":"Lighting!G32","v":0},{"$f":"Lighting!H32","v":0},{"$f":"Lighting!I32","v":0},{"$f":"Lighting!J32","v":0},{"$f":"Lighting!K32","v":0},{"$f":"Lighting!L32","v":0},{"$f":"Lighting!M32","v":0},{"$f":"Lighting!P32","v":0},{"$f":"Lighting!Q32","v":0},{"$f":"Lighting!S32","v":""},{"$f":"Lighting!T32","v":""},{"$f":"Lighting!U32","v":0},{"$f":"Lighting!V32","v":""},{"$f":"Lighting!W32","v":""},{"$f":"Lighting!Y32","v":""},{"$f":"Lighting!AB32","v":""},{"$f":"Lighting!AC32","v":0},{"$f":"Lighting!AD32","v":0},{"$f":"Lighting!AE32","v":0}]
[0,{"$f":"Lighting!B33","v":25},{"$f":"Lighting!C33","v":0},{"$f":"Lighting!D33","v":0},{"$f":"Lighting!F33","v":0},{"$f":"Lighting!G33","v":0},{"$f":"Lighting!H33","v":0},{"$f":"Lighting!I33","v":0},{"$f":"Lighting!J33","v":0},{"$f":"Lighting!K33","v":0},{"$f":"Lighting!L33","v":0},{"$f":"Lighting!M33","v":0},{"$f":"Lighting!P33","v":0},{"$f":"Lighting!Q33","v":0},{"$f":"Lighting!S33","v":""},{"$f":"Lighting!T33","v":""},{"$f":"Lighting!U33","v":0},{"$f":"Lighting!V33","v":""},{"$f":"Lighting!W33","v":""},{"$f":"Lighting!Y33","v":""},{"$f":"Lighting!AB33","v":""},{"$f":"Lighting!AC33","v":0},{"$f":"Lighting!AD33","v":0},{"$f":"Lighting!AE33","v":0}]
[0,{"$f":"Lighting!B34","v":26},{"$f":"Lighting!C34","v":0},{"$f":"Lighting!D34","v":0},{"$f":"Lighting!F34","v":0},{"$f":"Lighting!G34","v":0},{"$f":"Lighting!H34","v":0},{"$f":"Lighting!I34","v":0},{"$f":"Lighting!J34","v":0},{"$f":"Lighting!K34","v":0},{"$f":"Lighting!L34","v":0},{"$f":"Lighting!M34","v":0},{"$f":"Lighting!P34","v":0},{"$f":"Lighting!Q34","v":0},{"$f":"Lighting!S34","v":""},{"$f":"Lighting!T34","v":""},{"$f":"Lighting!U34","v":0},{"$f":"Lighting!V34","v":""},{"$f":"Lighting!W34","v":""},{"$f":"Lighting!Y34","v":""},{"$f":"Lighting!AB34","v":""},{"$f":"Lighting!AC34","v":0},{"$f":"Lighting!AD34","v":0},{"$f":"Lighting!AE34","v":0}]
[0,{"$f":"Lighting!B35","v":27},{"$f":"Lighting!C35","v":0},{"$f":"Lighting!D35","v":0},{"$f":"Lighting!F35","v":0},{"$f":"Lighting!G35","v":0},{"$f":"Lighting!H35","v":0},{"$f":"Lighting!I35","v":0},{"$f":"Lighting!J35","v":0},{"$f":"Lighting!K35","v":0},{"$f":"Lighting!L35","v":0},{"$f":"Lighting!M35","v":0},{"$f":"Lighting!P35","v":0},{"$f":"Lighting!Q35","v":0},{"$f":"Lighting!S35","v":""},{"$f":"Lighting!T35","v":""},{"$f":"Lighting!U35","v":0},{"$f":"Lighting!V35","v":""},{"$f":"Lighting!W35","v":""},{"$f":"Lighting!Y35","v":""},{"$f":"Lighting!AB35","v":""},{"$f":"Lighting!AC35","v":0},{"$f":"Lighting!AD35","v":0},{"$f":"Lighting!AE35","v":0}]
[0,{"$f":"Lighting!B36","v":28},{"$f":"Lighting!C36","v":0},{"$f":"Lighting!D36","v":0},{"$f":"Lighting!F36","v":0},{"$f":"Lighting!G36","v":0},{"$f":"Lighting!H36","v":0},{"$f":"Lighting!I36","v":0},{"$f":"Lighting!J36","v":0},{"$f":"Lighting!K36","v":0},{"$f":"Lighting!L36","v":0},{"$f":"Lighting!M36","v":0},{"$f":"Lighting!P36","v":0},{"$f":"Lighting!Q36","v":0},{"$f":"Lighting!S36","v":""},{"$f":"Lighting!T36","v":""},{"$f":"Lighting!U36","v":0},{"$f":"Lighting!V36","v":""},{"$f":"Lighting!W36","v":""},{"$f":"Lighting!Y36","v":""},{"$f":"Lighting!AB36","v":""},{"$f":"Lighting!AC36","v":0},{"$f":"Lighting!AD36","v":0},{"$f":"Lighting!AE36","v":0}]
[0,{"$f":"Lighting!B37","v":29},{"$f":"Lighting!C37","v":0},{"$f":"Lighting!D37","v":0},{"$f":"Lighting!F37","v":0},{"$f":"Lighting!G37","v":0},{"$f":"Lighting!H37","v":0},{"$f":"Lighting!I37","v":0},{"$f":"Lighting!J37","v":0},{"$f":"Lighting!K37","v":0},{"$f":"Lighting!L37","v":0},{"$f":"Lighting!M37","v":0},{"$f":"Lighting!P37","v":0},{"$f":"Lighting!Q37","v":0},{"$f":"Lighting!S37","v":""},{"$f":"Lighting!T37","v":""},{"$f":"Lighting!U37","v":0},{"$f":"Lighting!V37","v":""},{"$f":"Lighting!W37","v":""},{"$f":"Lighting!Y37","v":""},{"$f":"Lighting!AB37","v":""},{"$f":"Lighting!AC37","v":0},{"$f":"Lighting!AD37","v":0},{"$f":"Lighting!AE37","v":0}]
[0,{"$f":"Lighting!B38","v":30},{"$f":"Lighting!C38","v":0},{"$f":"Lighting!D38","v":0},{"$f":"Lighting!F38","v":0},{"$f":"Lighting!G38","v":0},{"$f":"Lighting!H38","v":0},{"$f":"Lighting!I38","v":0},{"$f":"Lighting!J38","v":0},{"$f":"Lighting!K38","v":0},{"$f":"Lighting!L38","v":0},{"$f":"Lighting!M38","v":0},{"$f":"Lighting!P38","v":0},{"$f":"Lighting!Q38","v":0},{"$f":"Lighting!S38","v":""},{"$f":"Lighting!T38","v":""},{"$f":"Lighting!U38","v":0},{"$f":"Lighting!V38","v":""},{"$f":"Lighting!W38","v":""},{"$f":"Lighting!Y38","v":""},{"$f":"Lighting!AB38","v":""},{"$f":"Lighting!AC38","v":0},{"$f":"Lighting!AD38","v":0},{"$f":"Lighting!AE38","v":0}]
[0,{"$f":"Lighting!B39","v":31},{"$f":"Lighting!C39","v":0},{"$f":"Lighting!D39","v":0},{"$f":"Lighting!F39","v":0},{"$f":"Lighting!G39","v":0},{"$f":"Lighting!H39","v":0},{"$f":"Lighting!I39","v":0},{"$f":"Lighting!J39","v":0},{"$f":"Lighting!K39","v":0},{"$f":"Lighting!L39","v":0},{"$f":"Lighting!M39","v":0},{"$f":"Lighting!P39","v":0},{"$f":"Lighting!Q39","v":0},{"$f":"Lighting!S39","v":""},{"$f":"Lighting!T39","v":""},{"$f":"Lighting!U39","v":0},{"$f":"Lighting!V39","v":""},{"$f":"Lighting!W39","v":""},{"$f":"Lighting!Y39","v":""},{"$f":"Lighting!AB39","v":""},{"$f":"Lighting!AC39","v":0},{"$f":"Lighting!AD39","v":0},{"$f":"Lighting!AE39","v":0}]
[0,{"$f":"Lighting!B40","v":32},{"$f":"Lighting!C40","v":0},{"$f":"Lighting!D40","v":0},{"$f":"Lighting!F40","v":0},{"$f":"Lighting!G40","v":0},{"$f":"Lighting!H40","v":0},{"$f":"Lighting!I40","v":0},{"$f":"Lighting!J40","v":0},{"$f":"Lighting!K40","v":0},{"$f":"Lighting!L40","v":0},{"$f":"Lighting!M40","v":0},{"$f":"Lighting!P40","v":0},{"$f":"Lighting!Q40","v":0},{"$f":"Lighting!S40","v":""},{"$f":"Lighting!T40","v":""},{"$f":"Lighting!U40","v":0},{"$f":"Lighting!V40","v":""},{"$f":"Lighting!W40","v":""},{"$f":"Lighting!Y40","v":""},{"$f":"Lighting!AB40","v":""},{"$f":"Lighting!AC40","v":0},{"$f":"Lighting!AD40","v":0},{"$f":"Lighting!AE40","v":0}]
[0,{"$f":"Lighting!B41","v":33},{"$f":"Lighting!C41","v":0},{"$f":"Lighting!D41","v":0},{"$f":"Lighting!F41","v":0},{"$f":"Lighting!G41","v":0},{"$f":"Lighting!H41","v":0},{"$f":"Lighting!I41","v":0},{"$f":"Lighting!J41","v":0},{"$f":"Lighting!K41","v":0},{"$f":"Lighting!L41","v":0},{"$f":"Lighting!M41","v":0},{"$f":"Lighting!P41","v":0},{"$f":"Lighting!Q41","v":0},{"$f":"Lighting!S41","v":""},{"$f":"Lighting!T41","v":""},{"$f":"Lighting!U41","v":0},{"$f":"Lighting!V41","v":""},{"$f":"Lighting!W41","v":""},{"$f":"Lighting!Y41","v":""},{"$f":"Lighting!AB41","v":""},{"$f":"Lighting!AC41","v":0},{"$f":"Lighting!AD41","v":0},{"$f":"Lighting!AE41","v":0}]
[0,{"$f":"Lighting!B42","v":34},{"$f":"Lighting!C42","v":0},{"$f":"Lighting!D42","v":0},{"$f":"Lighting!F42","v":0},{"$f":"Lighting!G42","v":0},{"$f":"Lighting!H42","v":0},{"$f":"Lighting!I42","v":0},{"$f":"Lighting!J42","v":0},{"$f":"Lighting!K42","v":0},{"$f":"Lighting!L42","v":0},{"$f":"Lighting!M42","v":0},{"$f":"Lighting!P42","v":0},{"$f":"Lighting!Q42","v":0},{"$f":"Lighting!S42","v":""},{"$f":"Lighting!T42","v":""},{"$f":"Lighting!U42","v":0},{"$f":"Lighting!V42","v":""},{"$f":"Lighting!W42","v":""},{"$f":"Lighting!Y42","v":""},{"$f":"Lighting!AB42","v":""},{"$f":"Lighting!AC42","v":0},{"$f":"Lighting!AD42","v":0},{"$f":"Lighting!AE42","v":0}]
[0,{"$f":"Lighting!B43","v":35},{"$f":"Lighting!C43","v":0},{"$f":"Lighting!D43","v":0},{"$f":"Lighting!F43","v":0},{"$f":"Lighting!G43","v":0},{"$f":"Lighting!H43","v":0},{"$f":"Lighting!I43","v":0},{"$f":"Lighting!J43","v":0},{"$f":"Lighting!K43","v":0},{"$f":"Lighting!L43","v":0},{"$f":"Lighting!M43","v":0},{"$f":"Lighting!P43","v":0},{"$f":"Lighting!Q43","v":0},{"$f":"Lighting!S43","v":""},{"$f":"Lighting!T43","v":""},{"$f":"Lighting!U43","v":0},{"$f":"Lighting!V43","v":""},{"$f":"Lighting!W43","v":""},{"$f":"Lighting!Y43","v":""},{"$f":"Lighting!AB43","v":""},{"$f":"Lighting!AC43","v":0},{"$f":"Lighting!AD43","v":0},{"$f":"Lighting!AE43","v":0}]
[0,{"$f":"Lighting!B44","v":36},{"$f":"Lighting!C44","v":0},{"$f":"Lighting!D44","v":0},{"$f":"Lighting!F44","v":0},{"$f":"Lighting!G44","v":0},{"$f":"Lighting!H44","v":0},{"$f":"Lighting!I44","v":0},{"$f":"Lighting!J44","v":0},{"$f":"Lighting!K44","v":0},{"$f":"Lighting!L44","v":0},{"$f":"Lighting!M44","v":0},{"$f":"Lighting!P44","v":0},{"$f":"Lighting!Q44","v":0},{"$f":"Lighting!S44","v":""},{"$f":"Lighting!T44","v":""},{"$f":"Lighting!U44","v":0},{"$f":"Lighting!V44","v":""},{"$f":"Lighting!W44","v":""},{"$f":"Lighting!Y44","v":""},{"$f":"Lighting!AB44","v":""},{"$f":"Lighting!AC44","v":0},{"$f":"Lighting!AD44","v":0},{"$f":"Lighting!AE44","v":0}]
[0,{"$f":"Lighting!B45","v":37},{"$f":"Lighting!C45","v":0},{"$f":"Lighting!D45","v":0},{"$f":"Lighting!F45","v":0},{"$f":"Lighting!G45","v":0},{"$f":"Lighting!H45","v":0},{"$f":"Lighting!I45","v":0},{"$f":"Lighting!J45","v":0},{"$f":"Lighting!K45","v":0},{"$f":"Lighting!L45","v":0},{"$f":"Lighting!M45","v":0},{"$f":"Lighting!P45","v":0},{"$f":"Lighting!Q45","v":0},{"$f":"Lighting!S45","v":""},{"$f":"Lighting!T45","v":""},{"$f":"Lighting!U45","v":0},{"$f":"Lighting!V45","v":""},{"$f":"Lighting!W45","v":""},{"$f":"Lighting!Y45","v":""},{"$f":"Lighting!AB45","v":""},{"$f":"Lighting!AC45","v":0},{"$f":"Lighting!AD45","v":0},{"$f":"Lighting!AE45","v":0}]
[0,{"$f":"Lighting!B46","v":38},{"$f":"Lighting!C46","v":0},{"$f":"Lighting!D46","v":0},{"$f":"Lighting!F46","v":0},{"$f":"Lighting!G46","v":0},{"$f":"Lighting!H46","v":0},{"$f":"Lighting!I46","v":0},{"$f":"Lighting!J46","v":0},{"$f":"Lighting!K46","v":0},{"$f":"Lighting!L46","v":0},{"$f":"Lighting!M46","v":0},{"$f":"Lighting!P46","v":0},{"$f":"Lighting!Q46","v":0},{"$f":"Lighting!S46","v":""},{"$f":"Lighting!T46","v":""},{"$f":"Lighting!U46","v":0},{"$f":"Lighting!V46","v":""},{"$f":"Lighting!W46","v":""},{"$f":"Lighting!Y46","v":""},{"$f":"Lighting!AB46","v":""},{"$f":"Lighting!AC46","v":0},{"$f":"Lighting!AD46","v":0},{"$f":"Lighting!AE46","v":0}]
[0,{"$f":"Lighting!B47","v":39},{"$f":"Lighting!C47","v":0},{"$f":"Lighting!D47","v":0},{"$f":"Lighting!F47","v":0},{"$f":"Lighting!G47","v":0},{"$f":"Lighting!H47","v":0},{"$f":"Lighting!I47","v":0},{"$f":"Lighting!J47","v":0},{"$f":"Lighting!K47","v":0},{"$f":"Lighting!L47","v":0},{"$f":"Lighting!M47","v":0},{"$f":"Lighting!P47","v":0},{"$f":"Lighting!Q47","v":0},{"$f":"Lighting!S47","v":""},{"$f":"Lighting!T47","v":""},{"$f":"Lighting!U47","v":0},{"$f":"Lighting!V47","v":""},{"$f":"Lighting!W47","v":""},{"$f":"Lighting!Y47","v":""},{"$f":"Lighting!AB47","v":""},{"$f":"Lighting!AC47","v":0},{"$f":"Lighting!AD47","v":0},{"$f":"Lighting!AE47","v":0}]
[0,{"$f":"Lighting!B48","v":40},{"$f":"Lighting!C48","v":0},{"$f":"Lighting!D48","v":0},{"$f":"Lighting!F48","v":0},{"$f":"Lighting!G48","v":0},{"$f":"Lighting!H48","v":0},{"$f":"Lighting!I48","v":0},{"$f":"Lighting!J48","v":0},{"$f":"Lighting!K48","v":0},{"$f":"Lighting!L48","v":0},{"$f":"Lighting!M48","v":0},{"$f":"Lighting!P48","v":0},{"$f":"Lighting!Q48","v":0},{"$f":"Lighting!S48","v":""},{"$f":"Lighting!T48","v":""},{"$f":"Lighting!U48","v":0},{"$f":"Lighting!V48","v":""},{"$f":"Lighting!W48","v":""},{"$f":"Lighting!Y48","v":""},{"$f":"Lighting!AB48","v":""},{"$f":"Lighting!AC48","v":0},{"$f":"Lighting!AD48","v":0},{"$f":"Lighting!AE48","v":0}]
[0,{"$f":"Lighting!B49","v":41},{"$f":"Lighting!C49","v":0},{"$f":"Lighting!D49","v":0},{"$f":"Lighting!F49","v":0},{"$f":"Lighting!G49","v":0},{"$f":"Lighting!H49","v":0},{"$f":"Lighting!I49","v":0},{"$f":"Lighting!J49","v":0},{"$f":"Lighting!K49","v":0},{"$f":"Lighting!L49","v":0},{"$f":"Lighting!M49","v":0},{"$f":"Lighting!P49","v":0},{"$f":"Lighting!Q49","v":0},{"$f":"Lighting!S49","v":""},{"$f":"Lighting!T49","v":""},{"$f":"Lighting!U49","v":0},{"$f":"Lighting!V49","v":""},{"$f":"Lighting!W49","v":""},{"$f":"Lighting!Y49","v":""},{"$f":"Lighting!AB49","v":""},{"$f":"Lighting!AC49","v":0},{"$f":"Lighting!AD49","v":0},{"$f":"Lighting!AE49","v":0}]
[0,{"$f":"Lighting!B50","v":42},{"$f":"Lighting!C50","v":0},{"$f":"Lighting!D50","v":0},{"$f":"Lighting!F50","v":0},{"$f":"Lighting!G50","v":0},{"$f":"Lighting!H50","v":0},{"$f":"Lighting!I50","v":0},{"$f":"Lighting!J50","v":0},{"$f":"Lighting!K50","v":0},{"$f":"Lighting!L50","v":0},{"$f":"Lighting!M50","v":0},{"$f":"Lighting!P50","v":0},{"$f":"Lighting!Q50","v":0},{"$f":"Lighting!S50","v":""},{"$f":"Lighting!T50","v":""},{"$f":"Lighting!U50","v":0},{"$f":"Lighting!V50","v":""},{"$f":"Lighting!W50","v":""},{"$f":"Lighting!Y50","v":""},{"$f":"Lighting!AB50","v":""},{"$f":"Lighting!AC50","v":0},{"$f":"Lighting!AD50","v":0},{"$f":"Lighting!AE50","v":0}]
[0,{"$f":"Lighting!B51","v":43},{"$f":"Lighting!C51","v":0},{"$f":"Lighting!D51","v":0},{"$f":"Lighting!F51","v":0},{"$f":"Lighting!G51","v":0},{"$f":"Lighting!H51","v":0},{"$f":"Lighting!I51","v":0},{"$f":"Lighting!J51","v":0},{"$f":"Lighting!K51","v":0},{"$f":"Lighting!L51","v":0},{"$f":"Lighting!M51","v":0},{"$f":"Lighting!P51","v":0},{"$f":"Lighting!Q51","v":0},{"$f":"Lighting!S51","v":""},{"$f":"Lighting!T51","v":""},{"$f":"Lighting!U51","v":0},{"$f":"Lighting!V51","v":""},{"$f":"Lighting!W51","v":""},{"$f":"Lighting!Y51","v":""},{"$f":"Lighting!AB51","v":""},{"$f":"Lighting!AC51","v":0},{"$f":"Lighting!AD51","v":0},{"$f":"Lighting!AE51","v":0}]
[0,{"$f":"Lighting!B52","v":44},{"$f":"Lighting!C52","v":0},{"$f":"Lighting!D52","v":0},{"$f":"Lighting!F52","v":0},{"$f":"Lighting!G52","v":0},{"$f":"Lighting!H52","v":0},{"$f":"Lighting!I52","v":0},{"$f":"Lighting!J52","v":0},{"$f":"Lighting!K52","v":0},{"$f":"Lighting!L52","v":0},{"$f":"Lighting!M52","v":0},{"$f":"Lighting!P52","v":0},{"$f":"Lighting!Q52","v":0},{"$f":"Lighting!S52","v":""},{"$f":"Lighting!T52","v":""},{"$f":"Lighting!U52","v":0},{"$f":"Lighting!V52","v":""},{"$f":"Lighting!W52","v":""},{"$f":"Lighting!Y52","v":""},{"$f":"Lighting!AB52","v":""},{"$f":"Lighting!AC52","v":0},{"$f":"Lighting!AD52","v":0},{"$f":"Lighting!AE52","v":0}]
[0,{"$f":"Lighting!B53","v":45},{"$f":"Lighting!C53","v":0},{"$f":"Lighting!D53","v":0},{"$f":"Lighting!F53","v":0},{"$f":"Lighting!G53","v":0},{"$f":"Lighting!H53","v":0},{"$f":"Lighting!I53","v":0},{"$f":"Lighting!J53","v":0},{"$f":"Lighting!K53","v":0},{"$f":"Lighting!L53","v":0},{"$f":"Lighting!M53","v":0},{"$f":"Lighting!P53","v":0},{"$f":"Lighting!Q53","v":0},{"$f":"Lighting!S53","v":""},{"$f":"Lighting!T53","v":""},{"$f":"Lighting!U53","v":0},{"$f":"Lighting!V53","v":""},{"$f":"Lighting!W53","v":""},{"$f":"Lighting!Y53","v":""},{"$f":"Lighting!AB53","v":""},{"$f":"Lighting!AC53","v":0},{"$f":"Lighting!AD53","v":0},{"$f":"Lighting!AE53","v":0}]
[0,{"$f":"Lighting!B54","v":46},{"$f":"Lighting!C54","v":0},{"$f":"Lighting!D54","v":0},{"$f":"Lighting!F54","v":0},{"$f":"Lighting!G54","v":0},{"$f":"Lighting!H54","v":0},{"$f":"Lighting!I54","v":0},{"$f":"Lighting!J54","v":0},{"$f":"Lighting!K54","v":0},{"$f":"Lighting!L54","v":0},{"$f":"Lighting!M54","v":0},{"$f":"Lighting!P54","v":0},{"$f":"Lighting!Q54","v":0},{"$f":"Lighting!S54","v":""},{"$f":"Lighting!T54","v":""},{"$f":"Lighting!U54","v":0},{"$f":"Lighting!V54","v":""},{"$f":"Lighting!W54","v":""},{"$f":"Lighting!Y54","v":""},{"$f":"Lighting!AB54","v":""},{"$f":"Lighting!AC54","v":0},{"$f":"Lighting!AD54","v":0},{"$f":"Lighting!AE54","v":0}]
[0,{"$f":"Lighting!B55","v":47},{"$f":"Lighting!C55","v":0},{"$f":"Lighting!D55","v":0},{"$f":"Lighting!F55","v":0},{"$f":"Lighting!G55","v":0},{"$f":"Lighting!H55","v":0},{"$f":"Lighting!I55","v":0},{"$f":"Lighting!J55","v":0},{"$f":"Lighting!K55","v":0},{"$f":"Lighting!L55","v":0},{"$f":"Lighting!M55","v":0},{"$f":"Lighting!P55","v":0},{"$f":"Lighting!Q55","v":0},{"$f":"Lighting!S55","v":""},{"$f":"Lighting!T55","v":""},{"$f":"Lighting!U55","v":0},{"$f":"Lighting!V55","v":""},{"$f":"Lighting!W55","v":""},{"$f":"Lighting!Y55","v":""},{"$f":"Lighting!AB55","v":""},{"$f":"Lighting!AC55","v":0},{"$f":"Lighting!AD55","v":0},{"$f":"Lighting!AE55","v":0}]
[0,{"$f":"Lighting!B56","v":48},{"$f":"Lighting!C56","v":0},{"$f":"Lighting!D56","v":0},{"$f":"Lighting!F56","v":0},{"$f":"Lighting!G56","v":0},{"$f":"Lighting!H56","v":0},{"$f":"Lighting!I56","v":0},{"$f":"Lighting!J56","v":0},{"$f":"Lighting!K56","v":0},{"$f":"Lighting!L56","v":0},{"$f":"Lighting!M56","v":0},{"$f":"Lighting!P56","v":0},{"$f":"Lighting!Q56","v":0},{"$f":"Lighting!S56","v":""},{"$f":"Lighting!T56","v":""},{"$f":"Lighting!U56","v":0},{"$f":"Lighting!V56","v":""},{"$f":"Lighting!W56","v":""},{"$f":"Lighting!Y56","v":""},{"$f":"Lighting!AB56","v":""},{"$f":"Lighting!AC56","v":0},{"$f":"Lighting!AD56","v":0},{"$f":"Lighting!AE56","v":0}]
[0,{"$f":"Lighting!B57","v":49},{"$f":"Lighting!C57","v":0},{"$f":"Lighting!D57","v":0},{"$f":"Lighting!F57","v":0},{"$f":"Lighting!G57","v":0},{"$f":"Lighting!H57","v":0},{"$f":"Lighting!I57","v":0},{"$f":"Lighting!J57","v":0},{"$f":"Lighting!K57","v":0},{"$f":"Lighting!L57","v":0},{"$f":"Lighting!M57","v":0},{"$f":"Lighting!P57","v":0},{"$f":"Lighting!Q57","v":0},{"$f":"Lighting!S57","v":""},{"$f":"Lighting!T57","v":""},{"$f":"Lighting!U57","v":0},{"$f":"Lighting!V57","v":""},{"$f":"Lighting!W57","v":""},{"$f":"Lighting!Y57","v":""},{"$f":"Lighting!AB57","v":""},{"$f":"Lighting!AC57","v":0},{"$f":"Lighting!AD57","v":0},{"$f":"Lighting!AE57","v":0}]
[0,{"$f":"Lighting!B58","v":50},{"$f":"Lighting!C58","v":0},{"$f":"Lighting!D58","v":0},{"$f":"Lighting!F58","v":0},{"$f":"Lighting!G58","v":0},{"$f":"Lighting!H58","v":0},{"$f":"Lighting!I58","v":0},{"$f":"Lighting!J58","v":0},{"$f":"Lighting!K58","v":0},{"$f":"Lighting!L58","v":0},{"$f":"Lighting!M58","v":0},{"$f":"Lighting!P58","v":0},{"$f":"Lighting!Q58","v":0},{"$f":"Lighting!S58","v":""},{"$f":"Lighting!T58","v":""},{"$f":"Lighting!U58","v":0},{"$f":"Lighting!V58","v":""},{"$f":"Lighting!W58","v":""},{"$f":"Lighting!Y58","v":""},{"$f":"Lighting!AB58","v":""},{"$f":"Lighting!AC58","v":0},{"$f":"Lighting!AD58","v":0},{"$f":"Lighting!AE58","v":0}]
[0,{"$f":"Lighting!B59","v":51},{"$f":"Lighting!C59","v":0},{"$f":"Lighting!D59","v":0},{"$f":"Lighting!F59","v":0},{"$f":"Lighting!G59","v":0},{"$f":"Lighting!H59","v":0},{"$f":"Lighting!I59","v":0},{"$f":"Lighting!J59","v":0},{"$f":"Lighting!K59","v":0},{"$f":"Lighting!L59","v":0},{"$f":"Lighting!M59","v":0},{"$f":"Lighting!P59","v":0},{"$f":"Lighting!Q59","v":0},{"$f":"Lighting!S59","v":""},{"$f":"Lighting!T59","v":""},{"$f":"Lighting!U59","v":0},{"$f":"Lighting!V59","v":""},{"$f":"Lighting!W59","v":""},{"$f":"Lighting!Y59","v":""},{"$f":"Lighting!AB59","v":""},{"$f":"Lighting!AC59","v":0},{"$f":"Lighting!AD59","v":0},{"$f":"Lighting!AE59","v":0}]
[0,{"$f":"Lighting!B60","v":52},{"$f":"Lighting!C60","v":0},{"$f":"Lighting!D60","v":0},{"$f":"Lighting!F60","v":0},{"$f":"Lighting!G60","v":0},{"$f":"Lighting!H60","v":0},{"$f":"Lighting!I60","v":0},{"$f":"Lighting!J60","v":0},{"$f":"Lighting!K60","v":0},{"$f":"Lighting!L60","v":0},{"$f":"Lighting!M60","v":0},{"$f":"Lighting!P60","v":0},{"$f":"Lighting!Q60","v":0},{"$f":"Lighting!S60","v":""},{"$f":"Lighting!T60","v":""},{"$f":"Lighting!U60","v":0},{"$f":"Lighting!V60","v":""},{"$f":"Lighting!W60","v":""},{"$f":"Lighting!Y60","v":""},{"$f":"Lighting!AB60","v":""},{"$f":"Lighting!AC60","v":0},{"$f":"Lighting!AD60","v":0},{"$f":"Lighting!AE60","v":0}]
[0,{"$f":"Lighting!B61","v":53},{"$f":"Lighting!C61","v":0},{"$f":"Lighting!D61","v":0},{"$f":"Lighting!F61","v":0},{"$f":"Lighting!G61","v":0},{"$f":"Lighting!H61","v":0},{"$f":"Lighting!I61","v":0},{"$f":"Lighting!J61","v":0},{"$f":"Lighting!K61","v":0},{"$f":"Lighting!L61","v":0},{"$f":"Lighting!M61","v":0},{"$f":"Lighting!P61","v":0},{"$f":"Lighting!Q61","v":0},{"$f":"Lighting!S61","v":""},{"$f":"Lighting!T61","v":""},{"$f":"Lighting!U61","v":0},{"$f":"Lighting!V61","v":""},{"$f":"Lighting!W61","v":""},{"$f":"Lighting!Y61","v":""},{"$f":"Lighting!AB61","v":""},{"$f":"Lighting!AC61","v":0},{"$f":"Lighting!AD61","v":0},{"$f":"Lighting!AE61","v":0}]
[0,{"$f":"Lighting!B62","v":54},{"$f":"Lighting!C62","v":0},{"$f":"Lighting!D62","v":0},{"$f":"Lighting!F62","v":0},{"$f":"Lighting!G62","v":0},{"$f":"Lighting!H62","v":0},{"$f":"Lighting!I62","v":0},{"$f":"Lighting!J62","v":0},{"$f":"Lighting!K62","v":0},{"$f":"Lighting!L62","v":0},{"$f":"Lighting!M62","v":0},{"$f":"Lighting!P62","v":0},{"$f":"Lighting!Q62","v":0},{"$f":"Lighting!S62","v":""},{"$f":"Lighting!T62","v":""},{"$f":"Lighting!U62","v":0},{"$f":"Lighting!V62","v":""},{"$f":"Lighting!W62","v":""},{"$f":"Lighting!Y62","v":""},{"$f":"Lighting!AB62","v":""},{"$f":"Lighting!AC62","v":0},{"$f":"Lighting!AD62","v":0},{"$f":"Lighting!AE62","v":0}]
[0,{"$f":"Lighting!B63","v":55},{"$f":"Lighting!C63","v":0},{"$f":"Lighting!D63","v":0},{"$f":"Lighting!F63","v":0},{"$f":"Lighting!G63","v":0},{"$f":"Lighting!H63","v":0},{"$f":"Lighting!I63","v":0},{"$f":"Lighting!J63","v":0},{"$f":"Lighting!K63","v":0},{"$f":"Lighting!L63","v":0},{"$f":"Lighting!M63","v":0},{"$f":"Lighting!P63","v":0},{"$f":"Lighting!Q63","v":0},{"$f":"Lighting!S63","v":""},{"$f":"Lighting!T63","v":""},{"$f":"Lighting!U63","v":0},{"$f":"Lighting!V63","v":""},{"$f":"Lighting!W63","v":""},{"$f":"Lighting!Y63","v":""},{"$f":"Lighting!AB63","v":""},{"$f":"Lighting!AC63","v":0},{"$f":"Lighting!AD63","v":0},{"$f":"Lighting!AE63","v":0}]
[0,{"$f":"Lighting!B64","v":56},{"$f":"Lighting!C64","v":0},{"$f":"Lighting!D64","v":0},{"$f":"Lighting!F64","v":0},{"$f":"Lighting!G64","v":0},{"$f":"Lighting!H64","v":0},{"$f":"Lighting!I64","v":0},{"$f":"Lighting!J64","v":0},{"$f":"Lighting!K64","v":0},{"$f":"Lighting!L64","v":0},{"$f":"Lighting!M64","v":0},{"$f":"Lighting!P64","v":0},{"$f":"Lighting!Q64","v":0},{"$f":"Lighting!S64","v":""},{"$f":"Lighting!T64","v":""},{"$f":"Lighting!U64","v":0},{"$f":"Lighting!V64","v":""},{"$f":"Lighting!W64","v":""},{"$f":"Lighting!Y64","v":""},{"$f":"Lighting!AB64","v":""},{"$f":"Lighting!AC64","v":0},{"$f":"Lighting!AD64","v":0},{"$f":"Lighting!AE64","v":0}]
[0,{"$f":"Lighting!B65","v":57},{"$f":"Lighting!C65","v":0},{"$f":"Lighting!D65","v":0},{"$f":"Lighting!F65","v":0},{"$f":"Lighting!G65","v":0},{"$f":"Lighting!H65","v":0},{"$f":"Lighting!I65","v":0},{"$f":"Lighting!J65","v":0},{"$f":"Lighting!K65","v":0},{"$f":"Lighting!L65","v":0},{"$f":"Lighting!M65","v":0},{"$f":"Lighting!P65","v":0},{"$f":"Lighting!Q65","v":0},{"$f":"Lighting!S65","v":""},{"$f":"Lighting!T65","v":""},{"$f":"Lighting!U65","v":0},{"$f":"Lighting!V65","v":""},{"$f":"Lighting!W65","v":""},{"$f":"Lighting!Y65","v":""},{"$f":"Lighting!AB65","v":""},{"$f":"Lighting!AC65","v":0},{"$f":"Lighting!AD65","v":0},{"$f":"Lighting!AE65","v":0}]
[0,{"$f":"Lighting!B66","v":58},{"$f":"Lighting!C66","v":0},{"$f":"Lighting!D66","v":0},{"$f":"Lighting!F66","v":0},{"$f":"Lighting!G66","v":0},{"$f":"Lighting!H66","v":0},{"$f":"Lighting!I66","v":0},{"$f":"Lighting!J66","v":0},{"$f":"Lighting!K66","v":0},{"$f":"Lighting!L66","v":0},{"$f":"Lighting!M66","v":0},{"$f":"Lighting!P66","v":0},{"$f":"Lighting!Q66","v":0},{"$f":"Lighting!S66","v":""},{"$f":"Lighting!T66","v":""},{"$f":"Lighting!U66","v":0},{"$f":"Lighting!V66","v":""},{"$f":"Lighting!W66","v":""},{"$f":"Lighting!Y66","v":""},{"$f":"Lighting!AB66","v":""},{"$f":"Lighting!AC66","v":0},{"$f":"Lighting!AD66","v":0},{"$f":"Lighting!AE66","v":0}]
[0,{"$f":"Lighting!B67","v":59},{"$f":"Lighting!C67","v":0},{"$f":"Lighting!D67","v":0},{"$f":"Lighting!F67","v":0},{"$f":"Lighting!G67","v":0},{"$f":"Lighting!H67","v":0},{"$f":"Lighting!I67","v":0},{"$f":"Lighting!J67","v":0},{"$f":"Lighting!K67","v":0},{"$f":"Lighting!L67","v":0},{"$f":"Lighting!M67","v":0},{"$f":"Lighting!P67","v":0},{"$f":"Lighting!Q67","v":0},{"$f":"Lighting!S67","v":""},{"$f":"Lighting!T67","v":""},{"$f":"Lighting!U67","v":0},{"$f":"Lighting!V67","v":""},{"$f":"Lighting!W67","v":""},{"$f":"Lighting!Y67","v":""},{"$f":"Lighting!AB67","v":""},{"$f":"Lighting!AC67","v":0},{"$f":"Lighting!AD67","v":0},{"$f":"Lighting!AE67","v":0}]
[0,{"$f":"Lighting!B68","v":60},{"$f":"Lighting!C68","v":0},{"$f":"Lighting!D68","v":0},{"$f":"Lighting!F68","v":0},{"$f":"Lighting!G68","v":0},{"$f":"Lighting!H68","v":0},{"$f":"Lighting!I68","v":0},{"$f":"Lighting!J68","v":0},{"$f":"Lighting!K68","v":0},{"$f":"Lighting!L68","v":0},{"$f":"Lighting!M68","v":0},{"$f":"Lighting!P68","v":0},{"$f":"Lighting!Q68","v":0},{"$f":"Lighting!S68","v":""},{"$f":"Lighting!T68","v":""},{"$f":"Lighting!U68","v":0},{"$f":"Lighting!V68","v":""},{"$f":"Lighting!W68","v":""},{"$f":"Lighting!Y68","v":""},{"$f":"Lighting!AB68","v":""},{"$f":"Lighting!AC68","v":0},{"$f":"Lighting!AD68","v":0},{"$f":"Lighting!AE68","v":0}]
[0,{"$f":"Lighting!B69","v":61},{"$f":"Lighting!C69","v":0},{"$f":"Lighting!D69","v":0},{"$f":"Lighting!F69","v":0},{"$f":"Lighting!G69","v":0},{"$f":"Lighting!H69","v":0},{"$f":"Lighting!I69","v":0},{"$f":"Lighting!J69","v":0},{"$f":"Lighting!K69","v":0},{"$f":"Lighting!L69","v":0},{"$f":"Lighting!M69","v":0},{"$f":"Lighting!P69","v":0},{"$f":"Lighting!Q69","v":0},{"$f":"Lighting!S69","v":""},{"$f":"Lighting!T69","v":""},{"$f":"Lighting!U69","v":0},{"$f":"Lighting!V69","v":""},{"$f":"Lighting!W69","v":""},{"$f":"Lighting!Y69","v":""},{"$f":"Lighting!AB69","v":""},{"$f":"Lighting!AC69","v":0},{"$f":"Lighting!AD69","v":0},{"$f":"Lighting!AE69","v":0}]
[0,{"$f":"Lighting!B70","v":62},{"$f":"Lighting!C70","v":0},{"$f":"Lighting!D70","v":0},{"$f":"Lighting!F70","v":0},{"$f":"Lighting!G70","v":0},{"$f":"Lighting!H70","v":0},{"$f":"Lighting!I70","v":0},{"$f":"Lighting!J70","v":0},{"$f":"Lighting!K70","v":0},{"$f":"Lighting!L70","v":0},{"$f":"Lighting!M70","v":0},{"$f":"Lighting!P70","v":0},{"$f":"Lighting!Q70","v":0},{"$f":"Lighting!S70","v":""},{"$f":"Lighting!T70","v":""},{"$f":"Lighting!U70","v":0},{"$f":"Lighting!V70","v":""},{"$f":"Lighting!W70","v":""},{"$f":"Lighting!Y70","v":""},{"$f":"Lighting!AB70","v":""},{"$f":"Lighting!AC70","v":0},{"$f":"Lighting!AD70","v":0},{"$f":"Lighting!AE70","v":0}]
[0,{"$f":"Lighting!B71","v":63},{"$f":"Lighting!C71","v":0},{"$f":"Lighting!D71","v":0},{"$f":"Lighting!F71","v":0},{"$f":"Lighting!G71","v":0},{"$f":"Lighting!H71","v":0},{"$f":"Lighting!I71","v":0},{"$f":"Lighting!J71","v":0},{"$f":"Lighting!K71","v":0},{"$f":"Lighting!L71","v":0},{"$f":"Lighting!M71","v":0},{"$f":"Lighting!P71","v":0},{"$f":"Lighting!Q71","v":0},{"$f":"Lighting!S71","v":""},{"$f":"Lighting!T71","v":""},{"$f":"Lighting!U71","v":0},{"$f":"Lighting!V71","v":""},{"$f":"Lighting!W71","v":""},{"$f":"Lighting!Y71","v":""},{"$f":"Lighting!AB71","v":""},{"$f":"Lighting!AC71","v":0},{"$f":"Lighting!AD71","v":0},{"$f":"Lighting!AE71","v":0}]
[0,{"$f":"Lighting!B72","v":64},{"$f":"Lighting!C72","v":0},{"$f":"Lighting!D72","v":0},{"$f":"Lighting!F72","v":0},{"$f":"Lighting!G72","v":0},{"$f":"Lighting!H72","v":0},{"$f":"Lighting!I72","v":0},{"$f":"Lighting!J72","v":0},{"$f":"Lighting!K72","v":0},{"$f":"Lighting!L72","v":0},{"$f":"Lighting!M72","v":0},{"$f":"Lighting!P72","v":0},{"$f":"Lighting!Q72","v":0},{"$f":"Lighting!S72","v":""},{"$f":"Lighting!T72","v":""},{"$f":"Lighting!U72","v":0},{"$f":"Lighting!V72","v":""},{"$f":"Lighting!W72","v":""},{"$f":"Lighting!Y72","v":""},{"$f":"Lighting!AB72","v":""},{"$f":"Lighting!AC72","v":0},{"$f":"Lighting!AD72","v":0},{"$f":"Lighting!AE72","v":0}]
[0,{"$f":"Lighting!B73","v":65},{"$f":"Lighting!C73","v":0},{"$f":"Lighting!D73","v":0},{"$f":"Lighting!F73","v":0},{"$f":"Lighting!G73","v":0},{"$f":"Lighting!H73","v":0},{"$f":"Lighting!I73","v":0},{"$f":"Lighting!J73","v":0},{"$f":"Lighting!K73","v":0},{"$f":"Lighting!L73","v":0},{"$f":"Lighting!M73","v":0},{"$f":"Lighting!P73","v":0},{"$f":"Lighting!Q73","v":0},{"$f":"Lighting!S73","v":""},{"$f":"Lighting!T73","v":""},{"$f":"Lighting!U73","v":0},{"$f":"Lighting!V73","v":""},{"$f":"Lighting!W73","v":""},{"$f":"Lighting!Y73","v":""},{"$f":"Lighting!AB73","v":""},{"$f":"Lighting!AC73","v":0},{"$f":"Lighting!AD73","v":0},{"$f":"Lighting!AE73","v":0}]
[{"$f":"IF(G230=0,0,1)","v":0},{"$f":"Lighting!B74","v":66},{"$f":"Lighting!C74","v":0},{"$f":"Lighting!D74","v":0},{"$f":"Lighting!F74","v":0},{"$f":"Lighting!G74","v":0},{"$f":"Lighting!H74","v":0},{"$f":"Lighting!I74","v":0},{"$f":"Lighting!J74","v":0},{"$f":"Lighting!K74","v":0},{"$f":"Lighting!L74","v":0},{"$f":"Lighting!M74","v":0},{"$f":"Lighting!P74","v":0},{"$f":"Lighting!Q74","v":0},{"$f":"Lighting!S74","v":""},{"$f":"Lighting!T74","v":""},{"$f":"Lighting!U74","v":0},{"$f":"Lighting!V74","v":""},{"$f":"Lighting!W74","v":""},{"$f":"Lighting!Y74","v":""},{"$f":"Lighting!AB74","v":""},{"$f":"Lighting!AC74","v":0},{"$f":"Lighting!AD74","v":0},{"$f":"Lighting!AE74","v":0}]
[0,{"$f":"Lighting!B75","v":67},{"$f":"Lighting!C75","v":0},{"$f":"Lighting!D75","v":0},{"$f":"Lighting!F75","v":0},{"$f":"Lighting!G75","v":0},{"$f":"Lighting!H75","v":0},{"$f":"Lighting!I75","v":0},{"$f":"Lighting!J75","v":0},{"$f":"Lighting!K75","v":0},{"$f":"Lighting!L75","v":0},{"$f":"Lighting!M75","v":0},{"$f":"Lighting!P75","v":0},{"$f":"Lighting!Q75","v":0},{"$f":"Lighting!S75","v":""},{"$f":"Lighting!T75","v":""},{"$f":"Lighting!U75","v":0},{"$f":"Lighting!V75","v":""},{"$f":"Lighting!W75","v":""},{"$f":"Lighting!Y75","v":""},{"$f":"Lighting!AB75","v":""},{"$f":"Lighting!AC75","v":0},{"$f":"Lighting!AD75","v":0},{"$f":"Lighting!AE75","v":0}]
[0,{"$f":"Lighting!B76","v":68},{"$f":"Lighting!C76","v":0},{"$f":"Lighting!D76","v":0},{"$f":"Lighting!F76","v":0},{"$f":"Lighting!G76","v":0},{"$f":"Lighting!H76","v":0},{"$f":"Lighting!I76","v":0},{"$f":"Lighting!J76","v":0},{"$f":"Lighting!K76","v":0},{"$f":"Lighting!L76","v":0},{"$f":"Lighting!M76","v":0},{"$f":"Lighting!P76","v":0},{"$f":"Lighting!Q76","v":0},{"$f":"Lighting!S76","v":""},{"$f":"Lighting!T76","v":""},{"$f":"Lighting!U76","v":0},{"$f":"Lighting!V76","v":""},{"$f":"Lighting!W76","v":""},{"$f":"Lighting!Y76","v":""},{"$f":"Lighting!AB76","v":""},{"$f":"Lighting!AC76","v":0},{"$f":"Lighting!AD76","v":0},{"$f":"Lighting!AE76","v":0}]
[0,{"$f":"Lighting!B77","v":69},{"$f":"Lighting!C77","v":0},{"$f":"Lighting!D77","v":0},{"$f":"Lighting!F77","v":0},{"$f":"Lighting!G77","v":0},{"$f":"Lighting!H77","v":0},{"$f":"Lighting!I77","v":0},{"$f":"Lighting!J77","v":0},{"$f":"Lighting!K77","v":0},{"$f":"Lighting!L77","v":0},{"$f":"Lighting!M77","v":0},{"$f":"Lighting!P77","v":0},{"$f":"Lighting!Q77","v":0},{"$f":"Lighting!S77","v":""},{"$f":"Lighting!T77","v":""},{"$f":"Lighting!U77","v":0},{"$f":"Lighting!V77","v":""},{"$f":"Lighting!W77","v":""},{"$f":"Lighting!Y77","v":""},{"$f":"Lighting!AB77","v":""},{"$f":"Lighting!AC77","v":0},{"$f":"Lighting!AD77","v":0},{"$f":"Lighting!AE77","v":0}]
[0,{"$f":"Lighting!B78","v":70},{"$f":"Lighting!C78","v":0},{"$f":"Lighting!D78","v":0},{"$f":"Lighting!F78","v":0},{"$f":"Lighting!G78","v":0},{"$f":"Lighting!H78","v":0},{"$f":"Lighting!I78","v":0},{"$f":"Lighting!J78","v":0},{"$f":"Lighting!K78","v":0},{"$f":"Lighting!L78","v":0},{"$f":"Lighting!M78","v":0},{"$f":"Lighting!P78","v":0},{"$f":"Lighting!Q78","v":0},{"$f":"Lighting!S78","v":""},{"$f":"Lighting!T78","v":""},{"$f":"Lighting!U78","v":0},{"$f":"Lighting!V78","v":""},{"$f":"Lighting!W78","v":""},{"$f":"Lighting!Y78","v":""},{"$f":"Lighting!AB78","v":""},{"$f":"Lighting!AC78","v":0},{"$f":"Lighting!AD78","v":0},{"$f":"Lighting!AE78","v":0}]
[0,{"$f":"Lighting!B79","v":71},{"$f":"Lighting!C79","v":0},{"$f":"Lighting!D79","v":0},{"$f":"Lighting!F79","v":0},{"$f":"Lighting!G79","v":0},{"$f":"Lighting!H79","v":0},{"$f":"Lighting!I79","v":0},{"$f":"Lighting!J79","v":0},{"$f":"Lighting!K79","v":0},{"$f":"Lighting!L79","v":0},{"$f":"Lighting!M79","v":0},{"$f":"Lighting!P79","v":0},{"$f":"Lighting!Q79","v":0},{"$f":"Lighting!S79","v":""},{"$f":"Lighting!T79","v":""},{"$f":"Lighting!U79","v":0},{"$f":"Lighting!V79","v":""},{"$f":"Lighting!W79","v":""},{"$f":"Lighting!Y79","v":""},{"$f":"Lighting!AB79","v":""},{"$f":"Lighting!AC79","v":0},{"$f":"Lighting!AD79","v":0},{"$f":"Lighting!AE79","v":0}]
[0,{"$f":"Lighting!B80","v":72},{"$f":"Lighting!C80","v":0},{"$f":"Lighting!D80","v":0},{"$f":"Lighting!F80","v":0},{"$f":"Lighting!G80","v":0},{"$f":"Lighting!H80","v":0},{"$f":"Lighting!I80","v":0},{"$f":"Lighting!J80","v":0},{"$f":"Lighting!K80","v":0},{"$f":"Lighting!L80","v":0},{"$f":"Lighting!M80","v":0},{"$f":"Lighting!P80","v":0},{"$f":"Lighting!Q80","v":0},{"$f":"Lighting!S80","v":""},{"$f":"Lighting!T80","v":""},{"$f":"Lighting!U80","v":0},{"$f":"Lighting!V80","v":""},{"$f":"Lighting!W80","v":""},{"$f":"Lighting!Y80","v":""},{"$f":"Lighting!AB80","v":""},{"$f":"Lighting!AC80","v":0},{"$f":"Lighting!AD80","v":0},{"$f":"Lighting!AE80","v":0}]
[0,{"$f":"Lighting!B81","v":73},{"$f":"Lighting!C81","v":0},{"$f":"Lighting!D81","v":0},{"$f":"Lighting!F81","v":0},{"$f":"Lighting!G81","v":0},{"$f":"Lighting!H81","v":0},{"$f":"Lighting!I81","v":0},{"$f":"Lighting!J81","v":0},{"$f":"Lighting!K81","v":0},{"$f":"Lighting!L81","v":0},{"$f":"Lighting!M81","v":0},{"$f":"Lighting!P81","v":0},{"$f":"Lighting!Q81","v":0},{"$f":"Lighting!S81","v":""},{"$f":"Lighting!T81","v":""},{"$f":"Lighting!U81","v":0},{"$f":"Lighting!V81","v":""},{"$f":"Lighting!W81","v":""},{"$f":"Lighting!Y81","v":""},{"$f":"Lighting!AB81","v":""},{"$f":"Lighting!AC81","v":0},{"$f":"Lighting!AD81","v":0},{"$f":"Lighting!AE81","v":0}]
[0,{"$f":"Lighting!B82","v":74},{"$f":"Lighting!C82","v":0},{"$f":"Lighting!D82","v":0},{"$f":"Lighting!F82","v":0},{"$f":"Lighting!G82","v":0},{"$f":"Lighting!H82","v":0},{"$f":"Lighting!I82","v":0},{"$f":"Lighting!J82","v":0},{"$f":"Lighting!K82","v":0},{"$f":"Lighting!L82","v":0},{"$f":"Lighting!M82","v":0},{"$f":"Lighting!P82","v":0},{"$f":"Lighting!Q82","v":0},{"$f":"Lighting!S82","v":""},{"$f":"Lighting!T82","v":""},{"$f":"Lighting!U82","v":0},{"$f":"Lighting!V82","v":""},{"$f":"Lighting!W82","v":""},{"$f":"Lighting!Y82","v":""},{"$f":"Lighting!AB82","v":""},{"$f":"Lighting!AC82","v":0},{"$f":"Lighting!AD82","v":0},{"$f":"Lighting!AE82","v":0}]
[0,{"$f":"Lighting!B83","v":75},{"$f":"Lighting!C83","v":0},{"$f":"Lighting!D83","v":0},{"$f":"Lighting!F83","v":0},{"$f":"Lighting!G83","v":0},{"$f":"Lighting!H83","v":0},{"$f":"Lighting!I83","v":0},{"$f":"Lighting!J83","v":0},{"$f":"Lighting!K83","v":0},{"$f":"Lighting!L83","v":0},{"$f":"Lighting!M83","v":0},{"$f":"Lighting!P83","v":0},{"$f":"Lighting!Q83","v":0},{"$f":"Lighting!S83","v":""},{"$f":"Lighting!T83","v":""},{"$f":"Lighting!U83","v":0},{"$f":"Lighting!V83","v":""},{"$f":"Lighting!W83","v":""},{"$f":"Lighting!Y83","v":""},{"$f":"Lighting!AB83","v":""},{"$f":"Lighting!AC83","v":0},{"$f":"Lighting!AD83","v":0},{"$f":"Lighting!AE83","v":0}]
[0,{"$f":"Lighting!B84","v":76},{"$f":"Lighting!C84","v":0},{"$f":"Lighting!D84","v":0},{"$f":"Lighting!F84","v":0},{"$f":"Lighting!G84","v":0},{"$f":"Lighting!H84","v":0},{"$f":"Lighting!I84","v":0},{"$f":"Lighting!J84","v":0},{"$f":"Lighting!K84","v":0},{"$f":"Lighting!L84","v":0},{"$f":"Lighting!M84","v":0},{"$f":"Lighting!P84","v":0},{"$f":"Lighting!Q84","v":0},{"$f":"Lighting!S84","v":""},{"$f":"Lighting!T84","v":""},{"$f":"Lighting!U84","v":0},{"$f":"Lighting!V84","v":""},{"$f":"Lighting!W84","v":""},{"$f":"Lighting!Y84","v":""},{"$f":"Lighting!AB84","v":""},{"$f":"Lighting!AC84","v":0},{"$f":"Lighting!AD84","v":0},{"$f":"Lighting!AE84","v":0}]
[0,{"$f":"Lighting!B85","v":77},{"$f":"Lighting!C85","v":0},{"$f":"Lighting!D85","v":0},{"$f":"Lighting!F85","v":0},{"$f":"Lighting!G85","v":0},{"$f":"Lighting!H85","v":0},{"$f":"Lighting!I85","v":0},{"$f":"Lighting!J85","v":0},{"$f":"Lighting!K85","v":0},{"$f":"Lighting!L85","v":0},{"$f":"Lighting!M85","v":0},{"$f":"Lighting!P85","v":0},{"$f":"Lighting!Q85","v":0},{"$f":"Lighting!S85","v":""},{"$f":"Lighting!T85","v":""},{"$f":"Lighting!U85","v":0},{"$f":"Lighting!V85","v":""},{"$f":"Lighting!W85","v":""},{"$f":"Lighting!Y85","v":""},{"$f":"Lighting!AB85","v":""},{"$f":"Lighting!AC85","v":0},{"$f":"Lighting!AD85","v":0},{"$f":"Lighting!AE85","v":0}]
[0,{"$f":"Lighting!B86","v":78},{"$f":"Lighting!C86","v":0},{"$f":"Lighting!D86","v":0},{"$f":"Lighting!F86","v":0},{"$f":"Lighting!G86","v":0},{"$f":"Lighting!H86","v":0},{"$f":"Lighting!I86","v":0},{"$f":"Lighting!J86","v":0},{"$f":"Lighting!K86","v":0},{"$f":"Lighting!L86","v":0},{"$f":"Lighting!M86","v":0},{"$f":"Lighting!P86","v":0},{"$f":"Lighting!Q86","v":0},{"$f":"Lighting!S86","v":""},{"$f":"Lighting!T86","v":""},{"$f":"Lighting!U86","v":0},{"$f":"Lighting!V86","v":""},{"$f":"Lighting!W86","v":""},{"$f":"Lighting!Y86","v":""},{"$f":"Lighting!AB86","v":""},{"$f":"Lighting!AC86","v":0},{"$f":"Lighting!AD86","v":0},{"$f":"Lighting!AE86","v":0}]
[0,{"$f":"Lighting!B87","v":79},{"$f":"Lighting!C87","v":0},{"$f":"Lighting!D87","v":0},{"$f":"Lighting!F87","v":0},{"$f":"Lighting!G87","v":0},{"$f":"Lighting!H87","v":0},{"$f":"Lighting!I87","v":0},{"$f":"Lighting!J87","v":0},{"$f":"Lighting!K87","v":0},{"$f":"Lighting!L87","v":0},{"$f":"Lighting!M87","v":0},{"$f":"Lighting!P87","v":0},{"$f":"Lighting!Q87","v":0},{"$f":"Lighting!S87","v":""},{"$f":"Lighting!T87","v":""},{"$f":"Lighting!U87","v":0},{"$f":"Lighting!V87","v":""},{"$f":"Lighting!W87","v":""},{"$f":"Lighting!Y87","v":""},{"$f":"Lighting!AB87","v":""},{"$f":"Lighting!AC87","v":0},{"$f":"Lighting!AD87","v":0},{"$f":"Lighting!AE87","v":0}]
[0,{"$f":"Lighting!B88","v":80},{"$f":"Lighting!C88","v":0},{"$f":"Lighting!D88","v":0},{"$f":"Lighting!F88","v":0},{"$f":"Lighting!G88","v":0},{"$f":"Lighting!H88","v":0},{"$f":"Lighting!I88","v":0},{"$f":"Lighting!J88","v":0},{"$f":"Lighting!K88","v":0},{"$f":"Lighting!L88","v":0},{"$f":"Lighting!M88","v":0},{"$f":"Lighting!P88","v":0},{"$f":"Lighting!Q88","v":0},{"$f":"Lighting!S88","v":""},{"$f":"Lighting!T88","v":""},{"$f":"Lighting!U88","v":0},{"$f":"Lighting!V88","v":""},{"$f":"Lighting!W88","v":""},{"$f":"Lighting!Y88","v":""},{"$f":"Lighting!AB88","v":""},{"$f":"Lighting!AC88","v":0},{"$f":"Lighting!AD88","v":0},{"$f":"Lighting!AE88","v":0}]
[0,{"$f":"Lighting!B89","v":81},{"$f":"Lighting!C89","v":0},{"$f":"Lighting!D89","v":0},{"$f":"Lighting!F89","v":0},{"$f":"Lighting!G89","v":0},{"$f":"Lighting!H89","v":0},{"$f":"Lighting!I89","v":0},{"$f":"Lighting!J89","v":0},{"$f":"Lighting!K89","v":0},{"$f":"Lighting!L89","v":0},{"$f":"Lighting!M89","v":0},{"$f":"Lighting!P89","v":0},{"$f":"Lighting!Q89","v":0},{"$f":"Lighting!S89","v":""},{"$f":"Lighting!T89","v":""},{"$f":"Lighting!U89","v":0},{"$f":"Lighting!V89","v":""},{"$f":"Lighting!W89","v":""},{"$f":"Lighting!Y89","v":""},{"$f":"Lighting!AB89","v":""},{"$f":"Lighting!AC89","v":0},{"$f":"Lighting!AD89","v":0},{"$f":"Lighting!AE89","v":0}]
[0,{"$f":"Lighting!B90","v":82},{"$f":"Lighting!C90","v":0},{"$f":"Lighting!D90","v":0},{"$f":"Lighting!F90","v":0},{"$f":"Lighting!G90","v":0},{"$f":"Lighting!H90","v":0},{"$f":"Lighting!I90","v":0},{"$f":"Lighting!J90","v":0},{"$f":"Lighting!K90","v":0},{"$f":"Lighting!L90","v":0},{"$f":"Lighting!M90","v":0},{"$f":"Lighting!P90","v":0},{"$f":"Lighting!Q90","v":0},{"$f":"Lighting!S90","v":""},{"$f":"Lighting!T90","v":""},{"$f":"Lighting!U90","v":0},{"$f":"Lighting!V90","v":""},{"$f":"Lighting!W90","v":""},{"$f":"Lighting!Y90","v":""},{"$f":"Lighting!AB90","v":""},{"$f":"Lighting!AC90","v":0},{"$f":"Lighting!AD90","v":0},{"$f":"Lighting!AE90","v":0}]
[0,{"$f":"Lighting!B91","v":83},{"$f":"Lighting!C91","v":0},{"$f":"Lighting!D91","v":0},{"$f":"Lighting!F91","v":0},{"$f":"Lighting!G91","v":0},{"$f":"Lighting!H91","v":0},{"$f":"Lighting!I91","v":0},{"$f":"Lighting!J91","v":0},{"$f":"Lighting!K91","v":0},{"$f":"Lighting!L91","v":0},{"$f":"Lighting!M91","v":0},{"$f":"Lighting!P91","v":0},{"$f":"Lighting!Q91","v":0},{"$f":"Lighting!S91","v":""},{"$f":"Lighting!T91","v":""},{"$f":"Lighting!U91","v":0},{"$f":"Lighting!V91","v":""},{"$f":"Lighting!W91","v":""},{"$f":"Lighting!Y91","v":""},{"$f":"Lighting!AB91","v":""},{"$f":"Lighting!AC91","v":0},{"$f":"Lighting!AD91","v":0},{"$f":"Lighting!AE91","v":0}]
[0,{"$f":"Lighting!B92","v":84},{"$f":"Lighting!C92","v":0},{"$f":"Lighting!D92","v":0},{"$f":"Lighting!F92","v":0},{"$f":"Lighting!G92","v":0},{"$f":"Lighting!H92","v":0},{"$f":"Lighting!I92","v":0},{"$f":"Lighting!J92","v":0},{"$f":"Lighting!K92","v":0},{"$f":"Lighting!L92","v":0},{"$f":"Lighting!M92","v":0},{"$f":"Lighting!P92","v":0},{"$f":"Lighting!Q92","v":0},{"$f":"Lighting!S92","v":""},{"$f":"Lighting!T92","v":""},{"$f":"Lighting!U92","v":0},{"$f":"Lighting!V92","v":""},{"$f":"Lighting!W92","v":""},{"$f":"Lighting!Y92","v":""},{"$f":"Lighting!AB92","v":""},{"$f":"Lighting!AC92","v":0},{"$f":"Lighting!AD92","v":0},{"$f":"Lighting!AE92","v":0}]
[0,{"$f":"Lighting!B93","v":85},{"$f":"Lighting!C93","v":0},{"$f":"Lighting!D93","v":0},{"$f":"Lighting!F93","v":0},{"$f":"Lighting!G93","v":0},{"$f":"Lighting!H93","v":0},{"$f":"Lighting!I93","v":0},{"$f":"Lighting!J93","v":0},{"$f":"Lighting!K93","v":0},{"$f":"Lighting!L93","v":0},{"$f":"Lighting!M93","v":0},{"$f":"Lighting!P93","v":0},{"$f":"Lighting!Q93","v":0},{"$f":"Lighting!S93","v":""},{"$f":"Lighting!T93","v":""},{"$f":"Lighting!U93","v":0},{"$f":"Lighting!V93","v":""},{"$f":"Lighting!W93","v":""},{"$f":"Lighting!Y93","v":""},{"$f":"Lighting!AB93","v":""},{"$f":"Lighting!AC93","v":0},{"$f":"Lighting!AD93","v":0},{"$f":"Lighting!AE93","v":0}]
[0,{"$f":"Lighting!B94","v":86},{"$f":"Lighting!C94","v":0},{"$f":"Lighting!D94","v":0},{"$f":"Lighting!F94","v":0},{"$f":"Lighting!G94","v":0},{"$f":"Lighting!H94","v":0},{"$f":"Lighting!I94","v":0},{"$f":"Lighting!J94","v":0},{"$f":"Lighting!K94","v":0},{"$f":"Lighting!L94","v":0},{"$f":"Lighting!M94","v":0},{"$f":"Lighting!P94","v":0},{"$f":"Lighting!Q94","v":0},{"$f":"Lighting!S94","v":""},{"$f":"Lighting!T94","v":""},{"$f":"Lighting!U94","v":0},{"$f":"Lighting!V94","v":""},{"$f":"Lighting!W94","v":""},{"$f":"Lighting!Y94","v":""},{"$f":"Lighting!AB94","v":""},{"$f":"Lighting!AC94","v":0},{"$f":"Lighting!AD94","v":0},{"$f":"Lighting!AE94","v":0}]
[0,{"$f":"Lighting!B95","v":87},{"$f":"Lighting!C95","v":0},{"$f":"Lighting!D95","v":0},{"$f":"Lighting!F95","v":0},{"$f":"Lighting!G95","v":0},{"$f":"Lighting!H95","v":0},{"$f":"Lighting!I95","v":0},{"$f":"Lighting!J95","v":0},{"$f":"Lighting!K95","v":0},{"$f":"Lighting!L95","v":0},{"$f":"Lighting!M95","v":0},{"$f":"Lighting!P95","v":0},{"$f":"Lighting!Q95","v":0},{"$f":"Lighting!S95","v":""},{"$f":"Lighting!T95","v":""},{"$f":"Lighting!U95","v":0},{"$f":"Lighting!V95","v":""},{"$f":"Lighting!W95","v":""},{"$f":"Lighting!Y95","v":""},{"$f":"Lighting!AB95","v":""},{"$f":"Lighting!AC95","v":0},{"$f":"Lighting!AD95","v":0},{"$f":"Lighting!AE95","v":0}]
[0,{"$f":"Lighting!B96","v":88},{"$f":"Lighting!C96","v":0},{"$f":"Lighting!D96","v":0},{"$f":"Lighting!F96","v":0},{"$f":"Lighting!G96","v":0},{"$f":"Lighting!H96","v":0},{"$f":"Lighting!I96","v":0},{"$f":"Lighting!J96","v":0},{"$f":"Lighting!K96","v":0},{"$f":"Lighting!L96","v":0},{"$f":"Lighting!M96","v":0},{"$f":"Lighting!P96","v":0},{"$f":"Lighting!Q96","v":0},{"$f":"Lighting!S96","v":""},{"$f":"Lighting!T96","v":""},{"$f":"Lighting!U96","v":0},{"$f":"Lighting!V96","v":""},{"$f":"Lighting!W96","v":""},{"$f":"Lighting!Y96","v":""},{"$f":"Lighting!AB96","v":""},{"$f":"Lighting!AC96","v":0},{"$f":"Lighting!AD96","v":0},{"$f":"Lighting!AE96","v":0}]
[0,{"$f":"Lighting!B97","v":89},{"$f":"Lighting!C97","v":0},{"$f":"Lighting!D97","v":0},{"$f":"Lighting!F97","v":0},{"$f":"Lighting!G97","v":0},{"$f":"Lighting!H97","v":0},{"$f":"Lighting!I97","v":0},{"$f":"Lighting!J97","v":0},{"$f":"Lighting!K97","v":0},{"$f":"Lighting!L97","v":0},{"$f":"Lighting!M97","v":0},{"$f":"Lighting!P97","v":0},{"$f":"Lighting!Q97","v":0},{"$f":"Lighting!S97","v":""},{"$f":"Lighting!T97","v":""},{"$f":"Lighting!U97","v":0},{"$f":"Lighting!V97","v":""},{"$f":"Lighting!W97","v":""},{"$f":"Lighting!Y97","v":""},{"$f":"Lighting!AB97","v":""},{"$f":"Lighting!AC97","v":0},{"$f":"Lighting!AD97","v":0},{"$f":"Lighting!AE97","v":0}]
[0,{"$f":"Lighting!B98","v":90},{"$f":"Lighting!C98","v":0},{"$f":"Lighting!D98","v":0},{"$f":"Lighting!F98","v":0},{"$f":"Lighting!G98","v":0},{"$f":"Lighting!H98","v":0},{"$f":"Lighting!I98","v":0},{"$f":"Lighting!J98","v":0},{"$f":"Lighting!K98","v":0},{"$f":"Lighting!L98","v":0},{"$f":"Lighting!M98","v":0},{"$f":"Lighting!P98","v":0},{"$f":"Lighting!Q98","v":0},{"$f":"Lighting!S98","v":""},{"$f":"Lighting!T98","v":""},{"$f":"Lighting!U98","v":0},{"$f":"Lighting!V98","v":""},{"$f":"Lighting!W98","v":""},{"$f":"Lighting!Y98","v":""},{"$f":"Lighting!AB98","v":""},{"$f":"Lighting!AC98","v":0},{"$f":"Lighting!AD98","v":0},{"$f":"Lighting!AE98","v":0}]
[0,{"$f":"Lighting!B99","v":91},{"$f":"Lighting!C99","v":0},{"$f":"Lighting!D99","v":0},{"$f":"Lighting!F99","v":0},{"$f":"Lighting!G99","v":0},{"$f":"Lighting!H99","v":0},{"$f":"Lighting!I99","v":0},{"$f":"Lighting!J99","v":0},{"$f":"Lighting!K99","v":0},{"$f":"Lighting!L99","v":0},{"$f":"Lighting!M99","v":0},{"$f":"Lighting!P99","v":0},{"$f":"Lighting!Q99","v":0},{"$f":"Lighting!S99","v":""},{"$f":"Lighting!T99","v":""},{"$f":"Lighting!U99","v":0},{"$f":"Lighting!V99","v":""},{"$f":"Lighting!W99","v":""},{"$f":"Lighting!Y99","v":""},{"$f":"Lighting!AB99","v":""},{"$f":"Lighting!AC99","v":0},{"$f":"Lighting!AD99","v":0},{"$f":"Lighting!AE99","v":0}]
[0,{"$f":"Lighting!B100","v":92},{"$f":"Lighting!C100","v":0},{"$f":"Lighting!D100","v":0},{"$f":"Lighting!F100","v":0},{"$f":"Lighting!G100","v":0},{"$f":"Lighting!H100","v":0},{"$f":"Lighting!I100","v":0},{"$f":"Lighting!J100","v":0},{"$f":"Lighting!K100","v":0},{"$f":"Lighting!L100","v":0},{"$f":"Lighting!M100","v":0},{"$f":"Lighting!P100","v":0},{"$f":"Lighting!Q100","v":0},{"$f":"Lighting!S100","v":""},{"$f":"Lighting!T100","v":""},{"$f":"Lighting!U100","v":0},{"$f":"Lighting!V100","v":""},{"$f":"Lighting!W100","v":""},{"$f":"Lighting!Y100","v":""},{"$f":"Lighting!AB100","v":""},{"$f":"Lighting!AC100","v":0},{"$f":"Lighting!AD100","v":0},{"$f":"Lighting!AE100","v":0}]
[0,{"$f":"Lighting!B101","v":93},{"$f":"Lighting!C101","v":0},{"$f":"Lighting!D101","v":0},{"$f":"Lighting!F101","v":0},{"$f":"Lighting!G101","v":0},{"$f":"Lighting!H101","v":0},{"$f":"Lighting!I101","v":0},{"$f":"Lighting!J101","v":0},{"$f":"Lighting!K101","v":0},{"$f":"Lighting!L101","v":0},{"$f":"Lighting!M101","v":0},{"$f":"Lighting!P101","v":0},{"$f":"Lighting!Q101","v":0},{"$f":"Lighting!S101","v":""},{"$f":"Lighting!T101","v":""},{"$f":"Lighting!U101","v":0},{"$f":"Lighting!V101","v":""},{"$f":"Lighting!W101","v":""},{"$f":"Lighting!Y101","v":""},{"$f":"Lighting!AB101","v":""},{"$f":"Lighting!AC101","v":0},{"$f":"Lighting!AD101","v":0},{"$f":"Lighting!AE101","v":0}]
[0,{"$f":"Lighting!B102","v":94},{"$f":"Lighting!C102","v":0},{"$f":"Lighting!D102","v":0},{"$f":"Lighting!F102","v":0},{"$f":"Lighting!G102","v":0},{"$f":"Lighting!H102","v":0},{"$f":"Lighting!I102","v":0},{"$f":"Lighting!J102","v":0},{"$f":"Lighting!K102","v":0},{"$f":"Lighting!L102","v":0},{"$f":"Lighting!M102","v":0},{"$f":"Lighting!P102","v":0},{"$f":"Lighting!Q102","v":0},{"$f":"Lighting!S102","v":""},{"$f":"Lighting!T102","v":""},{"$f":"Lighting!U102","v":0},{"$f":"Lighting!V102","v":""},{"$f":"Lighting!W102","v":""},{"$f":"Lighting!Y102","v":""},{"$f":"Lighting!AB102","v":""},{"$f":"Lighting!AC102","v":0},{"$f":"Lighting!AD102","v":0},{"$f":"Lighting!AE102","v":0}]
[0,{"$f":"Lighting!B103","v":95},{"$f":"Lighting!C103","v":0},{"$f":"Lighting!D103","v":0},{"$f":"Lighting!F103","v":0},{"$f":"Lighting!G103","v":0},{"$f":"Lighting!H103","v":0},{"$f":"Lighting!I103","v":0},{"$f":"Lighting!J103","v":0},{"$f":"Lighting!K103","v":0},{"$f":"Lighting!L103","v":0},{"$f":"Lighting!M103","v":0},{"$f":"Lighting!P103","v":0},{"$f":"Lighting!Q103","v":0},{"$f":"Lighting!S103","v":""},{"$f":"Lighting!T103","v":""},{"$f":"Lighting!U103","v":0},{"$f":"Lighting!V103","v":""},{"$f":"Lighting!W103","v":""},{"$f":"Lighting!Y103","v":""},{"$f":"Lighting!AB103","v":""},{"$f":"Lighting!AC103","v":0},{"$f":"Lighting!AD103","v":0},{"$f":"Lighting!AE103","v":0}]
[0,{"$f":"Lighting!B104","v":96},{"$f":"Lighting!C104","v":0},{"$f":"Lighting!D104","v":0},{"$f":"Lighting!F104","v":0},{"$f":"Lighting!G104","v":0},{"$f":"Lighting!H104","v":0},{"$f":"Lighting!I104","v":0},{"$f":"Lighting!J104","v":0},{"$f":"Lighting!K104","v":0},{"$f":"Lighting!L104","v":0},{"$f":"Lighting!M104","v":0},{"$f":"Lighting!P104","v":0},{"$f":"Lighting!Q104","v":0},{"$f":"Lighting!S104","v":""},{"$f":"Lighting!T104","v":""},{"$f":"Lighting!U104","v":0},{"$f":"Lighting!V104","v":""},{"$f":"Lighting!W104","v":""},{"$f":"Lighting!Y104","v":""},{"$f":"Lighting!AB104","v":""},{"$f":"Lighting!AC104","v":0},{"$f":"Lighting!AD104","v":0},{"$f":"Lighting!AE104","v":0}]
[0,{"$f":"Lighting!B105","v":97},{"$f":"Lighting!C105","v":0},{"$f":"Lighting!D105","v":0},{"$f":"Lighting!F105","v":0},{"$f":"Lighting!G105","v":0},{"$f":"Lighting!H105","v":0},{"$f":"Lighting!I105","v":0},{"$f":"Lighting!J105","v":0},{"$f":"Lighting!K105","v":0},{"$f":"Lighting!L105","v":0},{"$f":"Lighting!M105","v":0},{"$f":"Lighting!P105","v":0},{"$f":"Lighting!Q105","v":0},{"$f":"Lighting!S105","v":""},{"$f":"Lighting!T105","v":""},{"$f":"Lighting!U105","v":0},{"$f":"Lighting!V105","v":""},{"$f":"Lighting!W105","v":""},{"$f":"Lighting!Y105","v":""},{"$f":"Lighting!AB105","v":""},{"$f":"Lighting!AC105","v":0},{"$f":"Lighting!AD105","v":0},{"$f":"Lighting!AE105","v":0}]
[0,{"$f":"Lighting!B106","v":98},{"$f":"Lighting!C106","v":0},{"$f":"Lighting!D106","v":0},{"$f":"Lighting!F106","v":0},{"$f":"Lighting!G106","v":0},{"$f":"Lighting!H106","v":0},{"$f":"Lighting!I106","v":0},{"$f":"Lighting!J106","v":0},{"$f":"Lighting!K106","v":0},{"$f":"Lighting!L106","v":0},{"$f":"Lighting!M106","v":0},{"$f":"Lighting!P106","v":0},{"$f":"Lighting!Q106","v":0},{"$f":"Lighting!S106","v":""},{"$f":"Lighting!T106","v":""},{"$f":"Lighting!U106","v":0},{"$f":"Lighting!V106","v":""},{"$f":"Lighting!W106","v":""},{"$f":"Lighting!Y106","v":""},{"$f":"Lighting!AB106","v":""},{"$f":"Lighting!AC106","v":0},{"$f":"Lighting!AD106","v":0},{"$f":"Lighting!AE106","v":0}]
[0,{"$f":"Lighting!B107","v":99},{"$f":"Lighting!C107","v":0},{"$f":"Lighting!D107","v":0},{"$f":"Lighting!F107","v":0},{"$f":"Lighting!G107","v":0},{"$f":"Lighting!H107","v":0},{"$f":"Lighting!I107","v":0},{"$f":"Lighting!J107","v":0},{"$f":"Lighting!K107","v":0},{"$f":"Lighting!L107","v":0},{"$f":"Lighting!M107","v":0},{"$f":"Lighting!P107","v":0},{"$f":"Lighting!Q107","v":0},{"$f":"Lighting!S107","v":""},{"$f":"Lighting!T107","v":""},{"$f":"Lighting!U107","v":0},{"$f":"Lighting!V107","v":""},{"$f":"Lighting!W107","v":""},{"$f":"Lighting!Y107","v":""},{"$f":"Lighting!AB107","v":""},{"$f":"Lighting!AC107","v":0},{"$f":"Lighting!AD107","v":0},{"$f":"Lighting!AE107","v":0}]
[0,{"$f":"Lighting!B108","v":100},{"$f":"Lighting!C108","v":0},{"$f":"Lighting!D108","v":0},{"$f":"Lighting!F108","v":0},{"$f":"Lighting!G108","v":0},{"$f":"Lighting!H108","v":0},{"$f":"Lighting!I108","v":0},{"$f":"Lighting!J108","v":0},{"$f":"Lighting!K108","v":0},{"$f":"Lighting!L108","v":0},{"$f":"Lighting!M108","v":0},{"$f":"Lighting!P108","v":0},{"$f":"Lighting!Q108","v":0},{"$f":"Lighting!S108","v":""},{"$f":"Lighting!T108","v":""},{"$f":"Lighting!U108","v":0},{"$f":"Lighting!V108","v":""},{"$f":"Lighting!W108","v":""},{"$f":"Lighting!Y108","v":""},{"$f":"Lighting!AB108","v":""},{"$f":"Lighting!AC108","v":0},{"$f":"Lighting!AD108","v":0},{"$f":"Lighting!AE108","v":0}]
[0,{"$f":"Lighting!B109","v":101},{"$f":"Lighting!C109","v":0},{"$f":"Lighting!D109","v":0},{"$f":"Lighting!F109","v":0},{"$f":"Lighting!G109","v":0},{"$f":"Lighting!H109","v":0},{"$f":"Lighting!I109","v":0},{"$f":"Lighting!J109","v":0},{"$f":"Lighting!K109","v":0},{"$f":"Lighting!L109","v":0},{"$f":"Lighting!M109","v":0},{"$f":"Lighting!P109","v":0},{"$f":"Lighting!Q109","v":0},{"$f":"Lighting!S109","v":""},{"$f":"Lighting!T109","v":""},{"$f":"Lighting!U109","v":0},{"$f":"Lighting!V109","v":""},{"$f":"Lighting!W109","v":""},{"$f":"Lighting!Y109","v":""},{"$f":"Lighting!AB109","v":""},{"$f":"Lighting!AC109","v":0},{"$f":"Lighting!AD109","v":0},{"$f":"Lighting!AE109","v":0}]
[0,{"$f":"Lighting!B110","v":102},{"$f":"Lighting!C110","v":0},{"$f":"Lighting!D110","v":0},{"$f":"Lighting!F110","v":0},{"$f":"Lighting!G110","v":0},{"$f":"Lighting!H110","v":0},{"$f":"Lighting!I110","v":0},{"$f":"Lighting!J110","v":0},{"$f":"Lighting!K110","v":0},{"$f":"Lighting!L110","v":0},{"$f":"Lighting!M110","v":0},{"$f":"Lighting!P110","v":0},{"$f":"Lighting!Q110","v":0},{"$f":"Lighting!S110","v":""},{"$f":"Lighting!T110","v":""},{"$f":"Lighting!U110","v":0},{"$f":"Lighting!V110","v":""},{"$f":"Lighting!W110","v":""},{"$f":"Lighting!Y110","v":""},{"$f":"Lighting!AB110","v":""},{"$f":"Lighting!AC110","v":0},{"$f":"Lighting!AD110","v":0},{"$f":"Lighting!AE110","v":0}]
[0,{"$f":"Lighting!B111","v":103},{"$f":"Lighting!C111","v":0},{"$f":"Lighting!D111","v":0},{"$f":"Lighting!F111","v":0},{"$f":"Lighting!G111","v":0},{"$f":"Lighting!H111","v":0},{"$f":"Lighting!I111","v":0},{"$f":"Lighting!J111","v":0},{"$f":"Lighting!K111","v":0},{"$f":"Lighting!L111","v":0},{"$f":"Lighting!M111","v":0},{"$f":"Lighting!P111","v":0},{"$f":"Lighting!Q111","v":0},{"$f":"Lighting!S111","v":""},{"$f":"Lighting!T111","v":""},{"$f":"Lighting!U111","v":0},{"$f":"Lighting!V111","v":""},{"$f":"Lighting!W111","v":""},{"$f":"Lighting!Y111","v":""},{"$f":"Lighting!AB111","v":""},{"$f":"Lighting!AC111","v":0},{"$f":"Lighting!AD111","v":0},{"$f":"Lighting!AE111","v":0}]
[0,{"$f":"Lighting!B112","v":104},{"$f":"Lighting!C112","v":0},{"$f":"Lighting!D112","v":0},{"$f":"Lighting!F112","v":0},{"$f":"Lighting!G112","v":0},{"$f":"Lighting!H112","v":0},{"$f":"Lighting!I112","v":0},{"$f":"Lighting!J112","v":0},{"$f":"Lighting!K112","v":0},{"$f":"Lighting!L112","v":0},{"$f":"Lighting!M112","v":0},{"$f":"Lighting!P112","v":0},{"$f":"Lighting!Q112","v":0},{"$f":"Lighting!S112","v":""},{"$f":"Lighting!T112","v":""},{"$f":"Lighting!U112","v":0},{"$f":"Lighting!V112","v":""},{"$f":"Lighting!W112","v":""},{"$f":"Lighting!Y112","v":""},{"$f":"Lighting!AB112","v":""},{"$f":"Lighting!AC112","v":0},{"$f":"Lighting!AD112","v":0},{"$f":"Lighting!AE112","v":0}]
[0,{"$f":"Lighting!B113","v":105},{"$f":"Lighting!C113","v":0},{"$f":"Lighting!D113","v":0},{"$f":"Lighting!F113","v":0},{"$f":"Lighting!G113","v":0},{"$f":"Lighting!H113","v":0},{"$f":"Lighting!I113","v":0},{"$f":"Lighting!J113","v":0},{"$f":"Lighting!K113","v":0},{"$f":"Lighting!L113","v":0},{"$f":"Lighting!M113","v":0},{"$f":"Lighting!P113","v":0},{"$f":"Lighting!Q113","v":0},{"$f":"Lighting!S113","v":""},{"$f":"Lighting!T113","v":""},{"$f":"Lighting!U113","v":0},{"$f":"Lighting!V113","v":""},{"$f":"Lighting!W113","v":""},{"$f":"Lighting!Y113","v":""},{"$f":"Lighting!AB113","v":""},{"$f":"Lighting!AC113","v":0},{"$f":"Lighting!AD113","v":0},{"$f":"Lighting!AE113","v":0}]
[0,{"$f":"Lighting!B114","v":106},{"$f":"Lighting!C114","v":0},{"$f":"Lighting!D114","v":0},{"$f":"Lighting!F114","v":0},{"$f":"Lighting!G114","v":0},{"$f":"Lighting!H114","v":0},{"$f":"Lighting!I114","v":0},{"$f":"Lighting!J114","v":0},{"$f":"Lighting!K114","v":0},{"$f":"Lighting!L114","v":0},{"$f":"Lighting!M114","v":0},{"$f":"Lighting!P114","v":0},{"$f":"Lighting!Q114","v":0},{"$f":"Lighting!S114","v":""},{"$f":"Lighting!T114","v":""},{"$f":"Lighting!U114","v":0},{"$f":"Lighting!V114","v":""},{"$f":"Lighting!W114","v":""},{"$f":"Lighting!Y114","v":""},{"$f":"Lighting!AB114","v":""},{"$f":"Lighting!AC114","v":0},{"$f":"Lighting!AD114","v":0},{"$f":"Lighting!AE114","v":0}]
[0,{"$f":"Lighting!B115","v":107},{"$f":"Lighting!C115","v":0},{"$f":"Lighting!D115","v":0},{"$f":"Lighting!F115","v":0},{"$f":"Lighting!G115","v":0},{"$f":"Lighting!H115","v":0},{"$f":"Lighting!I115","v":0},{"$f":"Lighting!J115","v":0},{"$f":"Lighting!K115","v":0},{"$f":"Lighting!L115","v":0},{"$f":"Lighting!M115","v":0},{"$f":"Lighting!P115","v":0},{"$f":"Lighting!Q115","v":0},{"$f":"Lighting!S115","v":""},{"$f":"Lighting!T115","v":""},{"$f":"Lighting!U115","v":0},{"$f":"Lighting!V115","v":""},{"$f":"Lighting!W115","v":""},{"$f":"Lighting!Y115","v":""},{"$f":"Lighting!AB115","v":""},{"$f":"Lighting!AC115","v":0},{"$f":"Lighting!AD115","v":0},{"$f":"Lighting!AE115","v":0}]
[0,{"$f":"Lighting!B116","v":108},{"$f":"Lighting!C116","v":0},{"$f":"Lighting!D116","v":0},{"$f":"Lighting!F116","v":0},{"$f":"Lighting!G116","v":0},{"$f":"Lighting!H116","v":0},{"$f":"Lighting!I116","v":0},{"$f":"Lighting!J116","v":0},{"$f":"Lighting!K116","v":0},{"$f":"Lighting!L116","v":0},{"$f":"Lighting!M116","v":0},{"$f":"Lighting!P116","v":0},{"$f":"Lighting!Q116","v":0},{"$f":"Lighting!S116","v":""},{"$f":"Lighting!T116","v":""},{"$f":"Lighting!U116","v":0},{"$f":"Lighting!V116","v":""},{"$f":"Lighting!W116","v":""},{"$f":"Lighting!Y116","v":""},{"$f":"Lighting!AB116","v":""},{"$f":"Lighting!AC116","v":0},{"$f":"Lighting!AD116","v":0},{"$f":"Lighting!AE116","v":0}]
[0,{"$f":"Lighting!B117","v":109},{"$f":"Lighting!C117","v":0},{"$f":"Lighting!D117","v":0},{"$f":"Lighting!F117","v":0},{"$f":"Lighting!G117","v":0},{"$f":"Lighting!H117","v":0},{"$f":"Lighting!I117","v":0},{"$f":"Lighting!J117","v":0},{"$f":"Lighting!K117","v":0},{"$f":"Lighting!L117","v":0},{"$f":"Lighting!M117","v":0},{"$f":"Lighting!P117","v":0},{"$f":"Lighting!Q117","v":0},{"$f":"Lighting!S117","v":""},{"$f":"Lighting!T117","v":""},{"$f":"Lighting!U117","v":0},{"$f":"Lighting!V117","v":""},{"$f":"Lighting!W117","v":""},{"$f":"Lighting!Y117","v":""},{"$f":"Lighting!AB117","v":""},{"$f":"Lighting!AC117","v":0},{"$f":"Lighting!AD117","v":0},{"$f":"Lighting!AE117","v":0}]
[0,{"$f":"Lighting!B118","v":110},{"$f":"Lighting!C118","v":0},{"$f":"Lighting!D118","v":0},{"$f":"Lighting!F118","v":0},{"$f":"Lighting!G118","v":0},{"$f":"Lighting!H118","v":0},{"$f":"Lighting!I118","v":0},{"$f":"Lighting!J118","v":0},{"$f":"Lighting!K118","v":0},{"$f":"Lighting!L118","v":0},{"$f":"Lighting!M118","v":0},{"$f":"Lighting!P118","v":0},{"$f":"Lighting!Q118","v":0},{"$f":"Lighting!S118","v":""},{"$f":"Lighting!T118","v":""},{"$f":"Lighting!U118","v":0},{"$f":"Lighting!V118","v":""},{"$f":"Lighting!W118","v":""},{"$f":"Lighting!Y118","v":""},{"$f":"Lighting!AB118","v":""},{"$f":"Lighting!AC118","v":0},{"$f":"Lighting!AD118","v":0},{"$f":"Lighting!AE118","v":0}]
[0,{"$f":"Lighting!B119","v":111},{"$f":"Lighting!C119","v":0},{"$f":"Lighting!D119","v":0},{"$f":"Lighting!F119","v":0},{"$f":"Lighting!G119","v":0},{"$f":"Lighting!H119","v":0},{"$f":"Lighting!I119","v":0},{"$f":"Lighting!J119","v":0},{"$f":"Lighting!K119","v":0},{"$f":"Lighting!L119","v":0},{"$f":"Lighting!M119","v":0},{"$f":"Lighting!P119","v":0},{"$f":"Lighting!Q119","v":0},{"$f":"Lighting!S119","v":""},{"$f":"Lighting!T119","v":""},{"$f":"Lighting!U119","v":0},{"$f":"Lighting!V119","v":""},{"$f":"Lighting!W119","v":""},{"$f":"Lighting!Y119","v":""},{"$f":"Lighting!AB119","v":""},{"$f":"Lighting!AC119","v":0},{"$f":"Lighting!AD119","v":0},{"$f":"Lighting!AE119","v":0}]
[0,{"$f":"Lighting!B120","v":112},{"$f":"Lighting!C120","v":0},{"$f":"Lighting!D120","v":0},{"$f":"Lighting!F120","v":0},{"$f":"Lighting!G120","v":0},{"$f":"Lighting!H120","v":0},{"$f":"Lighting!I120","v":0},{"$f":"Lighting!J120","v":0},{"$f":"Lighting!K120","v":0},{"$f":"Lighting!L120","v":0},{"$f":"Lighting!M120","v":0},{"$f":"Lighting!P120","v":0},{"$f":"Lighting!Q120","v":0},{"$f":"Lighting!S120","v":""},{"$f":"Lighting!T120","v":""},{"$f":"Lighting!U120","v":0},{"$f":"Lighting!V120","v":""},{"$f":"Lighting!W120","v":""},{"$f":"Lighting!Y120","v":""},{"$f":"Lighting!AB120","v":""},{"$f":"Lighting!AC120","v":0},{"$f":"Lighting!AD120","v":0},{"$f":"Lighting!AE120","v":0}]
[0,{"$f":"Lighting!B121","v":113},{"$f":"Lighting!C121","v":0},{"$f":"Lighting!D121","v":0},{"$f":"Lighting!F121","v":0},{"$f":"Lighting!G121","v":0},{"$f":"Lighting!H121","v":0},{"$f":"Lighting!I121","v":0},{"$f":"Lighting!J121","v":0},{"$f":"Lighting!K121","v":0},{"$f":"Lighting!L121","v":0},{"$f":"Lighting!M121","v":0},{"$f":"Lighting!P121","v":0},{"$f":"Lighting!Q121","v":0},{"$f":"Lighting!S121","v":""},{"$f":"Lighting!T121","v":""},{"$f":"Lighting!U121","v":0},{"$f":"Lighting!V121","v":""},{"$f":"Lighting!W121","v":""},{"$f":"Lighting!Y121","v":""},{"$f":"Lighting!AB121","v":""},{"$f":"Lighting!AC121","v":0},{"$f":"Lighting!AD121","v":0},{"$f":"Lighting!AE121","v":0}]
[0,{"$f":"Lighting!B122","v":114},{"$f":"Lighting!C122","v":0},{"$f":"Lighting!D122","v":0},{"$f":"Lighting!F122","v":0},{"$f":"Lighting!G122","v":0},{"$f":"Lighting!H122","v":0},{"$f":"Lighting!I122","v":0},{"$f":"Lighting!J122","v":0},{"$f":"Lighting!K122","v":0},{"$f":"Lighting!L122","v":0},{"$f":"Lighting!M122","v":0},{"$f":"Lighting!P122","v":0},{"$f":"Lighting!Q122","v":0},{"$f":"Lighting!S122","v":""},{"$f":"Lighting!T122","v":""},{"$f":"Lighting!U122","v":0},{"$f":"Lighting!V122","v":""},{"$f":"Lighting!W122","v":""},{"$f":"Lighting!Y122","v":""},{"$f":"Lighting!AB122","v":""},{"$f":"Lighting!AC122","v":0},{"$f":"Lighting!AD122","v":0},{"$f":"Lighting!AE122","v":0}]
[0,{"$f":"Lighting!B123","v":115},{"$f":"Lighting!C123","v":0},{"$f":"Lighting!D123","v":0},{"$f":"Lighting!F123","v":0},{"$f":"Lighting!G123","v":0},{"$f":"Lighting!H123","v":0},{"$f":"Lighting!I123","v":0},{"$f":"Lighting!J123","v":0},{"$f":"Lighting!K123","v":0},{"$f":"Lighting!L123","v":0},{"$f":"Lighting!M123","v":0},{"$f":"Lighting!P123","v":0},{"$f":"Lighting!Q123","v":0},{"$f":"Lighting!S123","v":""},{"$f":"Lighting!T123","v":""},{"$f":"Lighting!U123","v":0},{"$f":"Lighting!V123","v":""},{"$f":"Lighting!W123","v":""},{"$f":"Lighting!Y123","v":""},{"$f":"Lighting!AB123","v":""},{"$f":"Lighting!AC123","v":0},{"$f":"Lighting!AD123","v":0},{"$f":"Lighting!AE123","v":0}]
[0,{"$f":"Lighting!B124","v":116},{"$f":"Lighting!C124","v":0},{"$f":"Lighting!D124","v":0},{"$f":"Lighting!F124","v":0},{"$f":"Lighting!G124","v":0},{"$f":"Lighting!H124","v":0},{"$f":"Lighting!I124","v":0},{"$f":"Lighting!J124","v":0},{"$f":"Lighting!K124","v":0},{"$f":"Lighting!L124","v":0},{"$f":"Lighting!M124","v":0},{"$f":"Lighting!P124","v":0},{"$f":"Lighting!Q124","v":0},{"$f":"Lighting!S124","v":""},{"$f":"Lighting!T124","v":""},{"$f":"Lighting!U124","v":0},{"$f":"Lighting!V124","v":""},{"$f":"Lighting!W124","v":""},{"$f":"Lighting!Y124","v":""},{"$f":"Lighting!AB124","v":""},{"$f":"Lighting!AC124","v":0},{"$f":"Lighting!AD124","v":0},{"$f":"Lighting!AE124","v":0}]
[0,{"$f":"Lighting!B125","v":117},{"$f":"Lighting!C125","v":0},{"$f":"Lighting!D125","v":0},{"$f":"Lighting!F125","v":0},{"$f":"Lighting!G125","v":0},{"$f":"Lighting!H125","v":0},{"$f":"Lighting!I125","v":0},{"$f":"Lighting!J125","v":0},{"$f":"Lighting!K125","v":0},{"$f":"Lighting!L125","v":0},{"$f":"Lighting!M125","v":0},{"$f":"Lighting!P125","v":0},{"$f":"Lighting!Q125","v":0},{"$f":"Lighting!S125","v":""},{"$f":"Lighting!T125","v":""},{"$f":"Lighting!U125","v":0},{"$f":"Lighting!V125","v":""},{"$f":"Lighting!W125","v":""},{"$f":"Lighting!Y125","v":""},{"$f":"Lighting!AB125","v":""},{"$f":"Lighting!AC125","v":0},{"$f":"Lighting!AD125","v":0},{"$f":"Lighting!AE125","v":0}]
[0,{"$f":"Lighting!B126","v":118},{"$f":"Lighting!C126","v":0},{"$f":"Lighting!D126","v":0},{"$f":"Lighting!F126","v":0},{"$f":"Lighting!G126","v":0},{"$f":"Lighting!H126","v":0},{"$f":"Lighting!I126","v":0},{"$f":"Lighting!J126","v":0},{"$f":"Lighting!K126","v":0},{"$f":"Lighting!L126","v":0},{"$f":"Lighting!M126","v":0},{"$f":"Lighting!P126","v":0},{"$f":"Lighting!Q126","v":0},{"$f":"Lighting!S126","v":""},{"$f":"Lighting!T126","v":""},{"$f":"Lighting!U126","v":0},{"$f":"Lighting!V126","v":""},{"$f":"Lighting!W126","v":""},{"$f":"Lighting!Y126","v":""},{"$f":"Lighting!AB126","v":""},{"$f":"Lighting!AC126","v":0},{"$f":"Lighting!AD126","v":0},{"$f":"Lighting!AE126","v":0}]
[0,{"$f":"Lighting!B127","v":119},{"$f":"Lighting!C127","v":0},{"$f":"Lighting!D127","v":0},{"$f":"Lighting!F127","v":0},{"$f":"Lighting!G127","v":0},{"$f":"Lighting!H127","v":0},{"$f":"Lighting!I127","v":0},{"$f":"Lighting!J127","v":0},{"$f":"Lighting!K127","v":0},{"$f":"Lighting!L127","v":0},{"$f":"Lighting!M127","v":0},{"$f":"Lighting!P127","v":0},{"$f":"Lighting!Q127","v":0},{"$f":"Lighting!S127","v":""},{"$f":"Lighting!T127","v":""},{"$f":"Lighting!U127","v":0},{"$f":"Lighting!V127","v":""},{"$f":"Lighting!W127","v":""},{"$f":"Lighting!Y127","v":""},{"$f":"Lighting!AB127","v":""},{"$f":"Lighting!AC127","v":0},{"$f":"Lighting!AD127","v":0},{"$f":"Lighting!AE127","v":0}]
[0,{"$f":"Lighting!B128","v":120},{"$f":"Lighting!C128","v":0},{"$f":"Lighting!D128","v":0},{"$f":"Lighting!F128","v":0},{"$f":"Lighting!G128","v":0},{"$f":"Lighting!H128","v":0},{"$f":"Lighting!I128","v":0},{"$f":"Lighting!J128","v":0},{"$f":"Lighting!K128","v":0},{"$f":"Lighting!L128","v":0},{"$f":"Lighting!M128","v":0},{"$f":"Lighting!P128","v":0},{"$f":"Lighting!Q128","v":0},{"$f":"Lighting!S128","v":""},{"$f":"Lighting!T128","v":""},{"$f":"Lighting!U128","v":0},{"$f":"Lighting!V128","v":""},{"$f":"Lighting!W128","v":""},{"$f":"Lighting!Y128","v":""},{"$f":"Lighting!AB128","v":""},{"$f":"Lighting!AC128","v":0},{"$f":"Lighting!AD128","v":0},{"$f":"Lighting!AE128","v":0}]
[0,{"$f":"Lighting!B129","v":121},{"$f":"Lighting!C129","v":0},{"$f":"Lighting!D129","v":0},{"$f":"Lighting!F129","v":0},{"$f":"Lighting!G129","v":0},{"$f":"Lighting!H129","v":0},{"$f":"Lighting!I129","v":0},{"$f":"Lighting!J129","v":0},{"$f":"Lighting!K129","v":0},{"$f":"Lighting!L129","v":0},{"$f":"Lighting!M129","v":0},{"$f":"Lighting!P129","v":0},{"$f":"Lighting!Q129","v":0},{"$f":"Lighting!S129","v":""},{"$f":"Lighting!T129","v":""},{"$f":"Lighting!U129","v":0},{"$f":"Lighting!V129","v":""},{"$f":"Lighting!W129","v":""},{"$f":"Lighting!Y129","v":""},{"$f":"Lighting!AB129","v":""},{"$f":"Lighting!AC129","v":0},{"$f":"Lighting!AD129","v":0},{"$f":"Lighting!AE129","v":0}]
[0,{"$f":"Lighting!B130","v":122},{"$f":"Lighting!C130","v":0},{"$f":"Lighting!D130","v":0},{"$f":"Lighting!F130","v":0},{"$f":"Lighting!G130","v":0},{"$f":"Lighting!H130","v":0},{"$f":"Lighting!I130","v":0},{"$f":"Lighting!J130","v":0},{"$f":"Lighting!K130","v":0},{"$f":"Lighting!L130","v":0},{"$f":"Lighting!M130","v":0},{"$f":"Lighting!P130","v":0},{"$f":"Lighting!Q130","v":0},{"$f":"Lighting!S130","v":""},{"$f":"Lighting!T130","v":""},{"$f":"Lighting!U130","v":0},{"$f":"Lighting!V130","v":""},{"$f":"Lighting!W130","v":""},{"$f":"Lighting!Y130","v":""},{"$f":"Lighting!AB130","v":""},{"$f":"Lighting!AC130","v":0},{"$f":"Lighting!AD130","v":0},{"$f":"Lighting!AE130","v":0}]
[0,{"$f":"Lighting!B131","v":123},{"$f":"Lighting!C131","v":0},{"$f":"Lighting!D131","v":0},{"$f":"Lighting!F131","v":0},{"$f":"Lighting!G131","v":0},{"$f":"Lighting!H131","v":0},{"$f":"Lighting!I131","v":0},{"$f":"Lighting!J131","v":0},{"$f":"Lighting!K131","v":0},{"$f":"Lighting!L131","v":0},{"$f":"Lighting!M131","v":0},{"$f":"Lighting!P131","v":0},{"$f":"Lighting!Q131","v":0},{"$f":"Lighting!S131","v":""},{"$f":"Lighting!T131","v":""},{"$f":"Lighting!U131","v":0},{"$f":"Lighting!V131","v":""},{"$f":"Lighting!W131","v":""},{"$f":"Lighting!Y131","v":""},{"$f":"Lighting!AB131","v":""},{"$f":"Lighting!AC131","v":0},{"$f":"Lighting!AD131","v":0},{"$f":"Lighting!AE131","v":0}]
[0,{"$f":"Lighting!B132","v":124},{"$f":"Lighting!C132","v":0},{"$f":"Lighting!D132","v":0},{"$f":"Lighting!F132","v":0},{"$f":"Lighting!G132","v":0},{"$f":"Lighting!H132","v":0},{"$f":"Lighting!I132","v":0},{"$f":"Lighting!J132","v":0},{"$f":"Lighting!K132","v":0},{"$f":"Lighting!L132","v":0},{"$f":"Lighting!M132","v":0},{"$f":"Lighting!P132","v":0},{"$f":"Lighting!Q132","v":0},{"$f":"Lighting!S132","v":""},{"$f":"Lighting!T132","v":""},{"$f":"Lighting!U132","v":0},{"$f":"Lighting!V132","v":""},{"$f":"Lighting!W132","v":""},{"$f":"Lighting!Y132","v":""},{"$f":"Lighting!AB132","v":""},{"$f":"Lighting!AC132","v":0},{"$f":"Lighting!AD132","v":0},{"$f":"Lighting!AE132","v":0}]
[0,{"$f":"Lighting!B133","v":125},{"$f":"Lighting!C133","v":0},{"$f":"Lighting!D133","v":0},{"$f":"Lighting!F133","v":0},{"$f":"Lighting!G133","v":0},{"$f":"Lighting!H133","v":0},{"$f":"Lighting!I133","v":0},{"$f":"Lighting!J133","v":0},{"$f":"Lighting!K133","v":0},{"$f":"Lighting!L133","v":0},{"$f":"Lighting!M133","v":0},{"$f":"Lighting!P133","v":0},{"$f":"Lighting!Q133","v":0},{"$f":"Lighting!S133","v":""},{"$f":"Lighting!T133","v":""},{"$f":"Lighting!U133","v":0},{"$f":"Lighting!V133","v":""},{"$f":"Lighting!W133","v":""},{"$f":"Lighting!Y133","v":""},{"$f":"Lighting!AB133","v":""},{"$f":"Lighting!AC133","v":0},{"$f":"Lighting!AD133","v":0},{"$f":"Lighting!AE133","v":0}]
[0,{"$f":"Lighting!B134","v":126},{"$f":"Lighting!C134","v":0},{"$f":"Lighting!D134","v":0},{"$f":"Lighting!F134","v":0},{"$f":"Lighting!G134","v":0},{"$f":"Lighting!H134","v":0},{"$f":"Lighting!I134","v":0},{"$f":"Lighting!J134","v":0},{"$f":"Lighting!K134","v":0},{"$f":"Lighting!L134","v":0},{"$f":"Lighting!M134","v":0},{"$f":"Lighting!P134","v":0},{"$f":"Lighting!Q134","v":0},{"$f":"Lighting!S134","v":""},{"$f":"Lighting!T134","v":""},{"$f":"Lighting!U134","v":0},{"$f":"Lighting!V134","v":""},{"$f":"Lighting!W134","v":""},{"$f":"Lighting!Y134","v":""},{"$f":"Lighting!AB134","v":""},{"$f":"Lighting!AC134","v":0},{"$f":"Lighting!AD134","v":0},{"$f":"Lighting!AE134","v":0}]
[0,{"$f":"Lighting!B135","v":127},{"$f":"Lighting!C135","v":0},{"$f":"Lighting!D135","v":0},{"$f":"Lighting!F135","v":0},{"$f":"Lighting!G135","v":0},{"$f":"Lighting!H135","v":0},{"$f":"Lighting!I135","v":0},{"$f":"Lighting!J135","v":0},{"$f":"Lighting!K135","v":0},{"$f":"Lighting!L135","v":0},{"$f":"Lighting!M135","v":0},{"$f":"Lighting!P135","v":0},{"$f":"Lighting!Q135","v":0},{"$f":"Lighting!S135","v":""},{"$f":"Lighting!T135","v":""},{"$f":"Lighting!U135","v":0},{"$f":"Lighting!V135","v":""},{"$f":"Lighting!W135","v":""},{"$f":"Lighting!Y135","v":""},{"$f":"Lighting!AB135","v":""},{"$f":"Lighting!AC135","v":0},{"$f":"Lighting!AD135","v":0},{"$f":"Lighting!AE135","v":0}]
[0,{"$f":"Lighting!B136","v":128},{"$f":"Lighting!C136","v":0},{"$f":"Lighting!D136","v":0},{"$f":"Lighting!F136","v":0},{"$f":"Lighting!G136","v":0},{"$f":"Lighting!H136","v":0},{"$f":"Lighting!I136","v":0},{"$f":"Lighting!J136","v":0},{"$f":"Lighting!K136","v":0},{"$f":"Lighting!L136","v":0},{"$f":"Lighting!M136","v":0},{"$f":"Lighting!P136","v":0},{"$f":"Lighting!Q136","v":0},{"$f":"Lighting!S136","v":""},{"$f":"Lighting!T136","v":""},{"$f":"Lighting!U136","v":0},{"$f":"Lighting!V136","v":""},{"$f":"Lighting!W136","v":""},{"$f":"Lighting!Y136","v":""},{"$f":"Lighting!AB136","v":""},{"$f":"Lighting!AC136","v":0},{"$f":"Lighting!AD136","v":0},{"$f":"Lighting!AE136","v":0}]
[0,{"$f":"Lighting!B137","v":129},{"$f":"Lighting!C137","v":0},{"$f":"Lighting!D137","v":0},{"$f":"Lighting!F137","v":0},{"$f":"Lighting!G137","v":0},{"$f":"Lighting!H137","v":0},{"$f":"Lighting!I137","v":0},{"$f":"Lighting!J137","v":0},{"$f":"Lighting!K137","v":0},{"$f":"Lighting!L137","v":0},{"$f":"Lighting!M137","v":0},{"$f":"Lighting!P137","v":0},{"$f":"Lighting!Q137","v":0},{"$f":"Lighting!S137","v":""},{"$f":"Lighting!T137","v":""},{"$f":"Lighting!U137","v":0},{"$f":"Lighting!V137","v":""},{"$f":"Lighting!W137","v":""},{"$f":"Lighting!Y137","v":""},{"$f":"Lighting!AB137","v":""},{"$f":"Lighting!AC137","v":0},{"$f":"Lighting!AD137","v":0},{"$f":"Lighting!AE137","v":0}]
[{"$f":"IF(G294=0,0,1)","v":0},{"$f":"Lighting!B138","v":130},{"$f":"Lighting!C138","v":0},{"$f":"Lighting!D138","v":0},{"$f":"Lighting!F138","v":0},{"$f":"Lighting!G138","v":0},{"$f":"Lighting!H138","v":0},{"$f":"Lighting!I138","v":0},{"$f":"Lighting!J138","v":0},{"$f":"Lighting!K138","v":0},{"$f":"Lighting!L138","v":0},{"$f":"Lighting!M138","v":0},{"$f":"Lighting!P138","v":0},{"$f":"Lighting!Q138","v":0},{"$f":"Lighting!S138","v":""},{"$f":"Lighting!T138","v":""},{"$f":"Lighting!U138","v":0},{"$f":"Lighting!V138","v":""},{"$f":"Lighting!W138","v":""},{"$f":"Lighting!Y138","v":""},{"$f":"Lighting!AB138","v":""},{"$f":"Lighting!AC138","v":0},{"$f":"Lighting!AD138","v":0},{"$f":"Lighting!AE138","v":0}]
[0,{"$f":"Lighting!B139","v":131},{"$f":"Lighting!C139","v":0},{"$f":"Lighting!D139","v":0},{"$f":"Lighting!F139","v":0},{"$f":"Lighting!G139","v":0},{"$f":"Lighting!H139","v":0},{"$f":"Lighting!I139","v":0},{"$f":"Lighting!J139","v":0},{"$f":"Lighting!K139","v":0},{"$f":"Lighting!L139","v":0},{"$f":"Lighting!M139","v":0},{"$f":"Lighting!P139","v":0},{"$f":"Lighting!Q139","v":0},{"$f":"Lighting!S139","v":""},{"$f":"Lighting!T139","v":""},{"$f":"Lighting!U139","v":0},{"$f":"Lighting!V139","v":""},{"$f":"Lighting!W139","v":""},{"$f":"Lighting!Y139","v":""},{"$f":"Lighting!AB139","v":""},{"$f":"Lighting!AC139","v":0},{"$f":"Lighting!AD139","v":0},{"$f":"Lighting!AE139","v":0}]
[0,{"$f":"Lighting!B140","v":132},{"$f":"Lighting!C140","v":0},{"$f":"Lighting!D140","v":0},{"$f":"Lighting!F140","v":0},{"$f":"Lighting!G140","v":0},{"$f":"Lighting!H140","v":0},{"$f":"Lighting!I140","v":0},{"$f":"Lighting!J140","v":0},{"$f":"Lighting!K140","v":0},{"$f":"Lighting!L140","v":0},{"$f":"Lighting!M140","v":0},{"$f":"Lighting!P140","v":0},{"$f":"Lighting!Q140","v":0},{"$f":"Lighting!S140","v":""},{"$f":"Lighting!T140","v":""},{"$f":"Lighting!U140","v":0},{"$f":"Lighting!V140","v":""},{"$f":"Lighting!W140","v":""},{"$f":"Lighting!Y140","v":""},{"$f":"Lighting!AB140","v":""},{"$f":"Lighting!AC140","v":0},{"$f":"Lighting!AD140","v":0},{"$f":"Lighting!AE140","v":0}]
[0,{"$f":"Lighting!B141","v":133},{"$f":"Lighting!C141","v":0},{"$f":"Lighting!D141","v":0},{"$f":"Lighting!F141","v":0},{"$f":"Lighting!G141","v":0},{"$f":"Lighting!H141","v":0},{"$f":"Lighting!I141","v":0},{"$f":"Lighting!J141","v":0},{"$f":"Lighting!K141","v":0},{"$f":"Lighting!L141","v":0},{"$f":"Lighting!M141","v":0},{"$f":"Lighting!P141","v":0},{"$f":"Lighting!Q141","v":0},{"$f":"Lighting!S141","v":""},{"$f":"Lighting!T141","v":""},{"$f":"Lighting!U141","v":0},{"$f":"Lighting!V141","v":""},{"$f":"Lighting!W141","v":""},{"$f":"Lighting!Y141","v":""},{"$f":"Lighting!AB141","v":""},{"$f":"Lighting!AC141","v":0},{"$f":"Lighting!AD141","v":0},{"$f":"Lighting!AE141","v":0}]
[0,{"$f":"Lighting!B142","v":134},{"$f":"Lighting!C142","v":0},{"$f":"Lighting!D142","v":0},{"$f":"Lighting!F142","v":0},{"$f":"Lighting!G142","v":0},{"$f":"Lighting!H142","v":0},{"$f":"Lighting!I142","v":0},{"$f":"Lighting!J142","v":0},{"$f":"Lighting!K142","v":0},{"$f":"Lighting!L142","v":0},{"$f":"Lighting!M142","v":0},{"$f":"Lighting!P142","v":0},{"$f":"Lighting!Q142","v":0},{"$f":"Lighting!S142","v":""},{"$f":"Lighting!T142","v":""},{"$f":"Lighting!U142","v":0},{"$f":"Lighting!V142","v":""},{"$f":"Lighting!W142","v":""},{"$f":"Lighting!Y142","v":""},{"$f":"Lighting!AB142","v":""},{"$f":"Lighting!AC142","v":0},{"$f":"Lighting!AD142","v":0},{"$f":"Lighting!AE142","v":0}]
[0,{"$f":"Lighting!B143","v":135},{"$f":"Lighting!C143","v":0},{"$f":"Lighting!D143","v":0},{"$f":"Lighting!F143","v":0},{"$f":"Lighting!G143","v":0},{"$f":"Lighting!H143","v":0},{"$f":"Lighting!I143","v":0},{"$f":"Lighting!J143","v":0},{"$f":"Lighting!K143","v":0},{"$f":"Lighting!L143","v":0},{"$f":"Lighting!M143","v":0},{"$f":"Lighting!P143","v":0},{"$f":"Lighting!Q143","v":0},{"$f":"Lighting!S143","v":""},{"$f":"Lighting!T143","v":""},{"$f":"Lighting!U143","v":0},{"$f":"Lighting!V143","v":""},{"$f":"Lighting!W143","v":""},{"$f":"Lighting!Y143","v":""},{"$f":"Lighting!AB143","v":""},{"$f":"Lighting!AC143","v":0},{"$f":"Lighting!AD143","v":0},{"$f":"Lighting!AE143","v":0}]
[0,{"$f":"Lighting!B144","v":136},{"$f":"Lighting!C144","v":0},{"$f":"Lighting!D144","v":0},{"$f":"Lighting!F144","v":0},{"$f":"Lighting!G144","v":0},{"$f":"Lighting!H144","v":0},{"$f":"Lighting!I144","v":0},{"$f":"Lighting!J144","v":0},{"$f":"Lighting!K144","v":0},{"$f":"Lighting!L144","v":0},{"$f":"Lighting!M144","v":0},{"$f":"Lighting!P144","v":0},{"$f":"Lighting!Q144","v":0},{"$f":"Lighting!S144","v":""},{"$f":"Lighting!T144","v":""},{"$f":"Lighting!U144","v":0},{"$f":"Lighting!V144","v":""},{"$f":"Lighting!W144","v":""},{"$f":"Lighting!Y144","v":""},{"$f":"Lighting!AB144","v":""},{"$f":"Lighting!AC144","v":0},{"$f":"Lighting!AD144","v":0},{"$f":"Lighting!AE144","v":0}]
[0,{"$f":"Lighting!B145","v":137},{"$f":"Lighting!C145","v":0},{"$f":"Lighting!D145","v":0},{"$f":"Lighting!F145","v":0},{"$f":"Lighting!G145","v":0},{"$f":"Lighting!H145","v":0},{"$f":"Lighting!I145","v":0},{"$f":"Lighting!J145","v":0},{"$f":"Lighting!K145","v":0},{"$f":"Lighting!L145","v":0},{"$f":"Lighting!M145","v":0},{"$f":"Lighting!P145","v":0},{"$f":"Lighting!Q145","v":0},{"$f":"Lighting!S145","v":""},{"$f":"Lighting!T145","v":""},{"$f":"Lighting!U145","v":0},{"$f":"Lighting!V145","v":""},{"$f":"Lighting!W145","v":""},{"$f":"Lighting!Y145","v":""},{"$f":"Lighting!AB145","v":""},{"$f":"Lighting!AC145","v":0},{"$f":"Lighting!AD145","v":0},{"$f":"Lighting!AE145","v":0}]
[0,{"$f":"Lighting!B146","v":138},{"$f":"Lighting!C146","v":0},{"$f":"Lighting!D146","v":0},{"$f":"Lighting!F146","v":0},{"$f":"Lighting!G146","v":0},{"$f":"Lighting!H146","v":0},{"$f":"Lighting!I146","v":0},{"$f":"Lighting!J146","v":0},{"$f":"Lighting!K146","v":0},{"$f":"Lighting!L146","v":0},{"$f":"Lighting!M146","v":0},{"$f":"Lighting!P146","v":0},{"$f":"Lighting!Q146","v":0},{"$f":"Lighting!S146","v":""},{"$f":"Lighting!T146","v":""},{"$f":"Lighting!U146","v":0},{"$f":"Lighting!V146","v":""},{"$f":"Lighting!W146","v":""},{"$f":"Lighting!Y146","v":""},{"$f":"Lighting!AB146","v":""},{"$f":"Lighting!AC146","v":0},{"$f":"Lighting!AD146","v":0},{"$f":"Lighting!AE146","v":0}]
[0,{"$f":"Lighting!B147","v":139},{"$f":"Lighting!C147","v":0},{"$f":"Lighting!D147","v":0},{"$f":"Lighting!F147","v":0},{"$f":"Lighting!G147","v":0},{"$f":"Lighting!H147","v":0},{"$f":"Lighting!I147","v":0},{"$f":"Lighting!J147","v":0},{"$f":"Lighting!K147","v":0},{"$f":"Lighting!L147","v":0},{"$f":"Lighting!M147","v":0},{"$f":"Lighting!P147","v":0},{"$f":"Lighting!Q147","v":0},{"$f":"Lighting!S147","v":""},{"$f":"Lighting!T147","v":""},{"$f":"Lighting!U147","v":0},{"$f":"Lighting!V147","v":""},{"$f":"Lighting!W147","v":""},{"$f":"Lighting!Y147","v":""},{"$f":"Lighting!AB147","v":""},{"$f":"Lighting!AC147","v":0},{"$f":"Lighting!AD147","v":0},{"$f":"Lighting!AE147","v":0}]
[0,{"$f":"Lighting!B148","v":140},{"$f":"Lighting!C148","v":0},{"$f":"Lighting!D148","v":0},{"$f":"Lighting!F148","v":0},{"$f":"Lighting!G148","v":0},{"$f":"Lighting!H148","v":0},{"$f":"Lighting!I148","v":0},{"$f":"Lighting!J148","v":0},{"$f":"Lighting!K148","v":0},{"$f":"Lighting!L148","v":0},{"$f":"Lighting!M148","v":0},{"$f":"Lighting!P148","v":0},{"$f":"Lighting!Q148","v":0},{"$f":"Lighting!S148","v":""},{"$f":"Lighting!T148","v":""},{"$f":"Lighting!U148","v":0},{"$f":"Lighting!V148","v":""},{"$f":"Lighting!W148","v":""},{"$f":"Lighting!Y148","v":""},{"$f":"Lighting!AB148","v":""},{"$f":"Lighting!AC148","v":0},{"$f":"Lighting!AD148","v":0},{"$f":"Lighting!AE148","v":0}]
[0,{"$f":"Lighting!B149","v":141},{"$f":"Lighting!C149","v":0},{"$f":"Lighting!D149","v":0},{"$f":"Lighting!F149","v":0},{"$f":"Lighting!G149","v":0},{"$f":"Lighting!H149","v":0},{"$f":"Lighting!I149","v":0},{"$f":"Lighting!J149","v":0},{"$f":"Lighting!K149","v":0},{"$f":"Lighting!L149","v":0},{"$f":"Lighting!M149","v":0},{"$f":"Lighting!P149","v":0},{"$f":"Lighting!Q149","v":0},{"$f":"Lighting!S149","v":""},{"$f":"Lighting!T149","v":""},{"$f":"Lighting!U149","v":0},{"$f":"Lighting!V149","v":""},{"$f":"Lighting!W149","v":""},{"$f":"Lighting!Y149","v":""},{"$f":"Lighting!AB149","v":""},{"$f":"Lighting!AC149","v":0},{"$f":"Lighting!AD149","v":0},{"$f":"Lighting!AE149","v":0}]
[0,{"$f":"Lighting!B150","v":142},{"$f":"Lighting!C150","v":0},{"$f":"Lighting!D150","v":0},{"$f":"Lighting!F150","v":0},{"$f":"Lighting!G150","v":0},{"$f":"Lighting!H150","v":0},{"$f":"Lighting!I150","v":0},{"$f":"Lighting!J150","v":0},{"$f":"Lighting!K150","v":0},{"$f":"Lighting!L150","v":0},{"$f":"Lighting!M150","v":0},{"$f":"Lighting!P150","v":0},{"$f":"Lighting!Q150","v":0},{"$f":"Lighting!S150","v":""},{"$f":"Lighting!T150","v":""},{"$f":"Lighting!U150","v":0},{"$f":"Lighting!V150","v":""},{"$f":"Lighting!W150","v":""},{"$f":"Lighting!Y150","v":""},{"$f":"Lighting!AB150","v":""},{"$f":"Lighting!AC150","v":0},{"$f":"Lighting!AD150","v":0},{"$f":"Lighting!AE150","v":0}]
[0,{"$f":"Lighting!B151","v":143},{"$f":"Lighting!C151","v":0},{"$f":"Lighting!D151","v":0},{"$f":"Lighting!F151","v":0},{"$f":"Lighting!G151","v":0},{"$f":"Lighting!H151","v":0},{"$f":"Lighting!I151","v":0},{"$f":"Lighting!J151","v":0},{"$f":"Lighting!K151","v":0},{"$f":"Lighting!L151","v":0},{"$f":"Lighting!M151","v":0},{"$f":"Lighting!P151","v":0},{"$f":"Lighting!Q151","v":0},{"$f":"Lighting!S151","v":""},{"$f":"Lighting!T151","v":""},{"$f":"Lighting!U151","v":0},{"$f":"Lighting!V151","v":""},{"$f":"Lighting!W151","v":""},{"$f":"Lighting!Y151","v":""},{"$f":"Lighting!AB151","v":""},{"$f":"Lighting!AC151","v":0},{"$f":"Lighting!AD151","v":0},{"$f":"Lighting!AE151","v":0}]
[0,{"$f":"Lighting!B152","v":144},{"$f":"Lighting!C152","v":0},{"$f":"Lighting!D152","v":0},{"$f":"Lighting!F152","v":0},{"$f":"Lighting!G152","v":0},{"$f":"Lighting!H152","v":0},{"$f":"Lighting!I152","v":0},{"$f":"Lighting!J152","v":0},{"$f":"Lighting!K152","v":0},{"$f":"Lighting!L152","v":0},{"$f":"Lighting!M152","v":0},{"$f":"Lighting!P152","v":0},{"$f":"Lighting!Q152","v":0},{"$f":"Lighting!S152","v":""},{"$f":"Lighting!T152","v":""},{"$f":"Lighting!U152","v":0},{"$f":"Lighting!V152","v":""},{"$f":"Lighting!W152","v":""},{"$f":"Lighting!Y152","v":""},{"$f":"Lighting!AB152","v":""},{"$f":"Lighting!AC152","v":0},{"$f":"Lighting!AD152","v":0},{"$f":"Lighting!AE152","v":0}]
[0,{"$f":"Lighting!B153","v":145},{"$f":"Lighting!C153","v":0},{"$f":"Lighting!D153","v":0},{"$f":"Lighting!F153","v":0},{"$f":"Lighting!G153","v":0},{"$f":"Lighting!H153","v":0},{"$f":"Lighting!I153","v":0},{"$f":"Lighting!J153","v":0},{"$f":"Lighting!K153","v":0},{"$f":"Lighting!L153","v":0},{"$f":"Lighting!M153","v":0},{"$f":"Lighting!P153","v":0},{"$f":"Lighting!Q153","v":0},{"$f":"Lighting!S153","v":""},{"$f":"Lighting!T153","v":""},{"$f":"Lighting!U153","v":0},{"$f":"Lighting!V153","v":""},{"$f":"Lighting!W153","v":""},{"$f":"Lighting!Y153","v":""},{"$f":"Lighting!AB153","v":""},{"$f":"Lighting!AC153","v":0},{"$f":"Lighting!AD153","v":0},{"$f":"Lighting!AE153","v":0}]
[0,{"$f":"Lighting!B154","v":146},{"$f":"Lighting!C154","v":0},{"$f":"Lighting!D154","v":0},{"$f":"Lighting!F154","v":0},{"$f":"Lighting!G154","v":0},{"$f":"Lighting!H154","v":0},{"$f":"Lighting!I154","v":0},{"$f":"Lighting!J154","v":0},{"$f":"Lighting!K154","v":0},{"$f":"Lighting!L154","v":0},{"$f":"Lighting!M154","v":0},{"$f":"Lighting!P154","v":0},{"$f":"Lighting!Q154","v":0},{"$f":"Lighting!S154","v":""},{"$f":"Lighting!T154","v":""},{"$f":"Lighting!U154","v":0},{"$f":"Lighting!V154","v":""},{"$f":"Lighting!W154","v":""},{"$f":"Lighting!Y154","v":""},{"$f":"Lighting!AB154","v":""},{"$f":"Lighting!AC154","v":0},{"$f":"Lighting!AD154","v":0},{"$f":"Lighting!AE154","v":0}]
[0,{"$f":"Lighting!B155","v":147},{"$f":"Lighting!C155","v":0},{"$f":"Lighting!D155","v":0},{"$f":"Lighting!F155","v":0},{"$f":"Lighting!G155","v":0},{"$f":"Lighting!H155","v":0},{"$f":"Lighting!I155","v":0},{"$f":"Lighting!J155","v":0},{"$f":"Lighting!K155","v":0},{"$f":"Lighting!L155","v":0},{"$f":"Lighting!M155","v":0},{"$f":"Lighting!P155","v":0},{"$f":"Lighting!Q155","v":0},{"$f":"Lighting!S155","v":""},{"$f":"Lighting!T155","v":""},{"$f":"Lighting!U155","v":0},{"$f":"Lighting!V155","v":""},{"$f":"Lighting!W155","v":""},{"$f":"Lighting!Y155","v":""},{"$f":"Lighting!AB155","v":""},{"$f":"Lighting!AC155","v":0},{"$f":"Lighting!AD155","v":0},{"$f":"Lighting!AE155","v":0}]
[0,{"$f":"Lighting!B156","v":148},{"$f":"Lighting!C156","v":0},{"$f":"Lighting!D156","v":0},{"$f":"Lighting!F156","v":0},{"$f":"Lighting!G156","v":0},{"$f":"Lighting!H156","v":0},{"$f":"Lighting!I156","v":0},{"$f":"Lighting!J156","v":0},{"$f":"Lighting!K156","v":0},{"$f":"Lighting!L156","v":0},{"$f":"Lighting!M156","v":0},{"$f":"Lighting!P156","v":0},{"$f":"Lighting!Q156","v":0},{"$f":"Lighting!S156","v":""},{"$f":"Lighting!T156","v":""},{"$f":"Lighting!U156","v":0},{"$f":"Lighting!V156","v":""},{"$f":"Lighting!W156","v":""},{"$f":"Lighting!Y156","v":""},{"$f":"Lighting!AB156","v":""},{"$f":"Lighting!AC156","v":0},{"$f":"Lighting!AD156","v":0},{"$f":"Lighting!AE156","v":0}]
[0,{"$f":"Lighting!B157","v":149},{"$f":"Lighting!C157","v":0},{"$f":"Lighting!D157","v":0},{"$f":"Lighting!F157","v":0},{"$f":"Lighting!G157","v":0},{"$f":"Lighting!H157","v":0},{"$f":"Lighting!I157","v":0},{"$f":"Lighting!J157","v":0},{"$f":"Lighting!K157","v":0},{"$f":"Lighting!L157","v":0},{"$f":"Lighting!M157","v":0},{"$f":"Lighting!P157","v":0},{"$f":"Lighting!Q157","v":0},{"$f":"Lighting!S157","v":""},{"$f":"Lighting!T157","v":""},{"$f":"Lighting!U157","v":0},{"$f":"Lighting!V157","v":""},{"$f":"Lighting!W157","v":""},{"$f":"Lighting!Y157","v":""},{"$f":"Lighting!AB157","v":""},{"$f":"Lighting!AC157","v":0},{"$f":"Lighting!AD157","v":0},{"$f":"Lighting!AE157","v":0}]
[0,{"$f":"Lighting!B158","v":150},{"$f":"Lighting!C158","v":0},{"$f":"Lighting!D158","v":0},{"$f":"Lighting!F158","v":0},{"$f":"Lighting!G158","v":0},{"$f":"Lighting!H158","v":0},{"$f":"Lighting!I158","v":0},{"$f":"Lighting!J158","v":0},{"$f":"Lighting!K158","v":0},{"$f":"Lighting!L158","v":0},{"$f":"Lighting!M158","v":0},{"$f":"Lighting!P158","v":0},{"$f":"Lighting!Q158","v":0},{"$f":"Lighting!S158","v":""},{"$f":"Lighting!T158","v":""},{"$f":"Lighting!U158","v":0},{"$f":"Lighting!V158","v":""},{"$f":"Lighting!W158","v":""},{"$f":"Lighting!Y158","v":""},{"$f":"Lighting!AB158","v":""},{"$f":"Lighting!AC158","v":0},{"$f":"Lighting!AD158","v":0},{"$f":"Lighting!AE158","v":0}]
[0,{"$f":"Lighting!B159","v":151},{"$f":"Lighting!C159","v":0},{"$f":"Lighting!D159","v":0},{"$f":"Lighting!F159","v":0},{"$f":"Lighting!G159","v":0},{"$f":"Lighting!H159","v":0},{"$f":"Lighting!I159","v":0},{"$f":"Lighting!J159","v":0},{"$f":"Lighting!K159","v":0},{"$f":"Lighting!L159","v":0},{"$f":"Lighting!M159","v":0},{"$f":"Lighting!P159","v":0},{"$f":"Lighting!Q159","v":0},{"$f":"Lighting!S159","v":""},{"$f":"Lighting!T159","v":""},{"$f":"Lighting!U159","v":0},{"$f":"Lighting!V159","v":""},{"$f":"Lighting!W159","v":""},{"$f":"Lighting!Y159","v":""},{"$f":"Lighting!AB159","v":""},{"$f":"Lighting!AC159","v":0},{"$f":"Lighting!AD159","v":0},{"$f":"Lighting!AE159","v":0}]
[0,{"$f":"Lighting!B160","v":152},{"$f":"Lighting!C160","v":0},{"$f":"Lighting!D160","v":0},{"$f":"Lighting!F160","v":0},{"$f":"Lighting!G160","v":0},{"$f":"Lighting!H160","v":0},{"$f":"Lighting!I160","v":0},{"$f":"Lighting!J160","v":0},{"$f":"Lighting!K160","v":0},{"$f":"Lighting!L160","v":0},{"$f":"Lighting!M160","v":0},{"$f":"Lighting!P160","v":0},{"$f":"Lighting!Q160","v":0},{"$f":"Lighting!S160","v":""},{"$f":"Lighting!T160","v":""},{"$f":"Lighting!U160","v":0},{"$f":"Lighting!V160","v":""},{"$f":"Lighting!W160","v":""},{"$f":"Lighting!Y160","v":""},{"$f":"Lighting!AB160","v":""},{"$f":"Lighting!AC160","v":0},{"$f":"Lighting!AD160","v":0},{"$f":"Lighting!AE160","v":0}]
[0,{"$f":"Lighting!B161","v":153},{"$f":"Lighting!C161","v":0},{"$f":"Lighting!D161","v":0},{"$f":"Lighting!F161","v":0},{"$f":"Lighting!G161","v":0},{"$f":"Lighting!H161","v":0},{"$f":"Lighting!I161","v":0},{"$f":"Lighting!J161","v":0},{"$f":"Lighting!K161","v":0},{"$f":"Lighting!L161","v":0},{"$f":"Lighting!M161","v":0},{"$f":"Lighting!P161","v":0},{"$f":"Lighting!Q161","v":0},{"$f":"Lighting!S161","v":""},{"$f":"Lighting!T161","v":""},{"$f":"Lighting!U161","v":0},{"$f":"Lighting!V161","v":""},{"$f":"Lighting!W161","v":""},{"$f":"Lighting!Y161","v":""},{"$f":"Lighting!AB161","v":""},{"$f":"Lighting!AC161","v":0},{"$f":"Lighting!AD161","v":0},{"$f":"Lighting!AE161","v":0}]
[0,{"$f":"Lighting!B162","v":154},{"$f":"Lighting!C162","v":0},{"$f":"Lighting!D162","v":0},{"$f":"Lighting!F162","v":0},{"$f":"Lighting!G162","v":0},{"$f":"Lighting!H162","v":0},{"$f":"Lighting!I162","v":0},{"$f":"Lighting!J162","v":0},{"$f":"Lighting!K162","v":0},{"$f":"Lighting!L162","v":0},{"$f":"Lighting!M162","v":0},{"$f":"Lighting!P162","v":0},{"$f":"Lighting!Q162","v":0},{"$f":"Lighting!S162","v":""},{"$f":"Lighting!T162","v":""},{"$f":"Lighting!U162","v":0},{"$f":"Lighting!V162","v":""},{"$f":"Lighting!W162","v":""},{"$f":"Lighting!Y162","v":""},{"$f":"Lighting!AB162","v":""},{"$f":"Lighting!AC162","v":0},{"$f":"Lighting!AD162","v":0},{"$f":"Lighting!AE162","v":0}]
[0,{"$f":"Lighting!B163","v":155},{"$f":"Lighting!C163","v":0},{"$f":"Lighting!D163","v":0},{"$f":"Lighting!F163","v":0},{"$f":"Lighting!G163","v":0},{"$f":"Lighting!H163","v":0},{"$f":"Lighting!I163","v":0},{"$f":"Lighting!J163","v":0},{"$f":"Lighting!K163","v":0},{"$f":"Lighting!L163","v":0},{"$f":"Lighting!M163","v":0},{"$f":"Lighting!P163","v":0},{"$f":"Lighting!Q163","v":0},{"$f":"Lighting!S163","v":""},{"$f":"Lighting!T163","v":""},{"$f":"Lighting!U163","v":0},{"$f":"Lighting!V163","v":""},{"$f":"Lighting!W163","v":""},{"$f":"Lighting!Y163","v":""},{"$f":"Lighting!AB163","v":""},{"$f":"Lighting!AC163","v":0},{"$f":"Lighting!AD163","v":0},{"$f":"Lighting!AE163","v":0}]
[0,{"$f":"Lighting!B164","v":156},{"$f":"Lighting!C164","v":0},{"$f":"Lighting!D164","v":0},{"$f":"Lighting!F164","v":0},{"$f":"Lighting!G164","v":0},{"$f":"Lighting!H164","v":0},{"$f":"Lighting!I164","v":0},{"$f":"Lighting!J164","v":0},{"$f":"Lighting!K164","v":0},{"$f":"Lighting!L164","v":0},{"$f":"Lighting!M164","v":0},{"$f":"Lighting!P164","v":0},{"$f":"Lighting!Q164","v":0},{"$f":"Lighting!S164","v":""},{"$f":"Lighting!T164","v":""},{"$f":"Lighting!U164","v":0},{"$f":"Lighting!V164","v":""},{"$f":"Lighting!W164","v":""},{"$f":"Lighting!Y164","v":""},{"$f":"Lighting!AB164","v":""},{"$f":"Lighting!AC164","v":0},{"$f":"Lighting!AD164","v":0},{"$f":"Lighting!AE164","v":0}]
[0,{"$f":"Lighting!B165","v":157},{"$f":"Lighting!C165","v":0},{"$f":"Lighting!D165","v":0},{"$f":"Lighting!F165","v":0},{"$f":"Lighting!G165","v":0},{"$f":"Lighting!H165","v":0},{"$f":"Lighting!I165","v":0},{"$f":"Lighting!J165","v":0},{"$f":"Lighting!K165","v":0},{"$f":"Lighting!L165","v":0},{"$f":"Lighting!M165","v":0},{"$f":"Lighting!P165","v":0},{"$f":"Lighting!Q165","v":0},{"$f":"Lighting!S165","v":""},{"$f":"Lighting!T165","v":""},{"$f":"Lighting!U165","v":0},{"$f":"Lighting!V165","v":""},{"$f":"Lighting!W165","v":""},{"$f":"Lighting!Y165","v":""},{"$f":"Lighting!AB165","v":""},{"$f":"Lighting!AC165","v":0},{"$f":"Lighting!AD165","v":0},{"$f":"Lighting!AE165","v":0}]
[0,{"$f":"Lighting!B166","v":158},{"$f":"Lighting!C166","v":0},{"$f":"Lighting!D166","v":0},{"$f":"Lighting!F166","v":0},{"$f":"Lighting!G166","v":0},{"$f":"Lighting!H166","v":0},{"$f":"Lighting!I166","v":0},{"$f":"Lighting!J166","v":0},{"$f":"Lighting!K166","v":0},{"$f":"Lighting!L166","v":0},{"$f":"Lighting!M166","v":0},{"$f":"Lighting!P166","v":0},{"$f":"Lighting!Q166","v":0},{"$f":"Lighting!S166","v":""},{"$f":"Lighting!T166","v":""},{"$f":"Lighting!U166","v":0},{"$f":"Lighting!V166","v":""},{"$f":"Lighting!W166","v":""},{"$f":"Lighting!Y166","v":""},{"$f":"Lighting!AB166","v":""},{"$f":"Lighting!AC166","v":0},{"$f":"Lighting!AD166","v":0},{"$f":"Lighting!AE166","v":0}]
[0,{"$f":"Lighting!B167","v":159},{"$f":"Lighting!C167","v":0},{"$f":"Lighting!D167","v":0},{"$f":"Lighting!F167","v":0},{"$f":"Lighting!G167","v":0},{"$f":"Lighting!H167","v":0},{"$f":"Lighting!I167","v":0},{"$f":"Lighting!J167","v":0},{"$f":"Lighting!K167","v":0},{"$f":"Lighting!L167","v":0},{"$f":"Lighting!M167","v":0},{"$f":"Lighting!P167","v":0},{"$f":"Lighting!Q167","v":0},{"$f":"Lighting!S167","v":""},{"$f":"Lighting!T167","v":""},{"$f":"Lighting!U167","v":0},{"$f":"Lighting!V167","v":""},{"$f":"Lighting!W167","v":""},{"$f":"Lighting!Y167","v":""},{"$f":"Lighting!AB167","v":""},{"$f":"Lighting!AC167","v":0},{"$f":"Lighting!AD167","v":0},{"$f":"Lighting!AE167","v":0}]
[0,{"$f":"Lighting!B168","v":160},{"$f":"Lighting!C168","v":0},{"$f":"Lighting!D168","v":0},{"$f":"Lighting!F168","v":0},{"$f":"Lighting!G168","v":0},{"$f":"Lighting!H168","v":0},{"$f":"Lighting!I168","v":0},{"$f":"Lighting!J168","v":0},{"$f":"Lighting!K168","v":0},{"$f":"Lighting!L168","v":0},{"$f":"Lighting!M168","v":0},{"$f":"Lighting!P168","v":0},{"$f":"Lighting!Q168","v":0},{"$f":"Lighting!S168","v":""},{"$f":"Lighting!T168","v":""},{"$f":"Lighting!U168","v":0},{"$f":"Lighting!V168","v":""},{"$f":"Lighting!W168","v":""},{"$f":"Lighting!Y168","v":""},{"$f":"Lighting!AB168","v":""},{"$f":"Lighting!AC168","v":0},{"$f":"Lighting!AD168","v":0},{"$f":"Lighting!AE168","v":0}]
[0,{"$f":"Lighting!B169","v":161},{"$f":"Lighting!C169","v":0},{"$f":"Lighting!D169","v":0},{"$f":"Lighting!F169","v":0},{"$f":"Lighting!G169","v":0},{"$f":"Lighting!H169","v":0},{"$f":"Lighting!I169","v":0},{"$f":"Lighting!J169","v":0},{"$f":"Lighting!K169","v":0},{"$f":"Lighting!L169","v":0},{"$f":"Lighting!M169","v":0},{"$f":"Lighting!P169","v":0},{"$f":"Lighting!Q169","v":0},{"$f":"Lighting!S169","v":""},{"$f":"Lighting!T169","v":""},{"$f":"Lighting!U169","v":0},{"$f":"Lighting!V169","v":""},{"$f":"Lighting!W169","v":""},{"$f":"Lighting!Y169","v":""},{"$f":"Lighting!AB169","v":""},{"$f":"Lighting!AC169","v":0},{"$f":"Lighting!AD169","v":0},{"$f":"Lighting!AE169","v":0}]
[0,{"$f":"Lighting!B170","v":162},{"$f":"Lighting!C170","v":0},{"$f":"Lighting!D170","v":0},{"$f":"Lighting!F170","v":0},{"$f":"Lighting!G170","v":0},{"$f":"Lighting!H170","v":0},{"$f":"Lighting!I170","v":0},{"$f":"Lighting!J170","v":0},{"$f":"Lighting!K170","v":0},{"$f":"Lighting!L170","v":0},{"$f":"Lighting!M170","v":0},{"$f":"Lighting!P170","v":0},{"$f":"Lighting!Q170","v":0},{"$f":"Lighting!S170","v":""},{"$f":"Lighting!T170","v":""},{"$f":"Lighting!U170","v":0},{"$f":"Lighting!V170","v":""},{"$f":"Lighting!W170","v":""},{"$f":"Lighting!Y170","v":""},{"$f":"Lighting!AB170","v":""},{"$f":"Lighting!AC170","v":0},{"$f":"Lighting!AD170","v":0},{"$f":"Lighting!AE170","v":0}]
[0,{"$f":"Lighting!B171","v":163},{"$f":"Lighting!C171","v":0},{"$f":"Lighting!D171","v":0},{"$f":"Lighting!F171","v":0},{"$f":"Lighting!G171","v":0},{"$f":"Lighting!H171","v":0},{"$f":"Lighting!I171","v":0},{"$f":"Lighting!J171","v":0},{"$f":"Lighting!K171","v":0},{"$f":"Lighting!L171","v":0},{"$f":"Lighting!M171","v":0},{"$f":"Lighting!P171","v":0},{"$f":"Lighting!Q171","v":0},{"$f":"Lighting!S171","v":""},{"$f":"Lighting!T171","v":""},{"$f":"Lighting!U171","v":0},{"$f":"Lighting!V171","v":""},{"$f":"Lighting!W171","v":""},{"$f":"Lighting!Y171","v":""},{"$f":"Lighting!AB171","v":""},{"$f":"Lighting!AC171","v":0},{"$f":"Lighting!AD171","v":0},{"$f":"Lighting!AE171","v":0}]
[0,{"$f":"Lighting!B172","v":164},{"$f":"Lighting!C172","v":0},{"$f":"Lighting!D172","v":0},{"$f":"Lighting!F172","v":0},{"$f":"Lighting!G172","v":0},{"$f":"Lighting!H172","v":0},{"$f":"Lighting!I172","v":0},{"$f":"Lighting!J172","v":0},{"$f":"Lighting!K172","v":0},{"$f":"Lighting!L172","v":0},{"$f":"Lighting!M172","v":0},{"$f":"Lighting!P172","v":0},{"$f":"Lighting!Q172","v":0},{"$f":"Lighting!S172","v":""},{"$f":"Lighting!T172","v":""},{"$f":"Lighting!U172","v":0},{"$f":"Lighting!V172","v":""},{"$f":"Lighting!W172","v":""},{"$f":"Lighting!Y172","v":""},{"$f":"Lighting!AB172","v":""},{"$f":"Lighting!AC172","v":0},{"$f":"Lighting!AD172","v":0},{"$f":"Lighting!AE172","v":0}]
[0,{"$f":"Lighting!B173","v":165},{"$f":"Lighting!C173","v":0},{"$f":"Lighting!D173","v":0},{"$f":"Lighting!F173","v":0},{"$f":"Lighting!G173","v":0},{"$f":"Lighting!H173","v":0},{"$f":"Lighting!I173","v":0},{"$f":"Lighting!J173","v":0},{"$f":"Lighting!K173","v":0},{"$f":"Lighting!L173","v":0},{"$f":"Lighting!M173","v":0},{"$f":"Lighting!P173","v":0},{"$f":"Lighting!Q173","v":0},{"$f":"Lighting!S173","v":""},{"$f":"Lighting!T173","v":""},{"$f":"Lighting!U173","v":0},{"$f":"Lighting!V173","v":""},{"$f":"Lighting!W173","v":""},{"$f":"Lighting!Y173","v":""},{"$f":"Lighting!AB173","v":""},{"$f":"Lighting!AC173","v":0},{"$f":"Lighting!AD173","v":0},{"$f":"Lighting!AE173","v":0}]
[0,{"$f":"Lighting!B174","v":166},{"$f":"Lighting!C174","v":0},{"$f":"Lighting!D174","v":0},{"$f":"Lighting!F174","v":0},{"$f":"Lighting!G174","v":0},{"$f":"Lighting!H174","v":0},{"$f":"Lighting!I174","v":0},{"$f":"Lighting!J174","v":0},{"$f":"Lighting!K174","v":0},{"$f":"Lighting!L174","v":0},{"$f":"Lighting!M174","v":0},{"$f":"Lighting!P174","v":0},{"$f":"Lighting!Q174","v":0},{"$f":"Lighting!S174","v":""},{"$f":"Lighting!T174","v":""},{"$f":"Lighting!U174","v":0},{"$f":"Lighting!V174","v":""},{"$f":"Lighting!W174","v":""},{"$f":"Lighting!Y174","v":""},{"$f":"Lighting!AB174","v":""},{"$f":"Lighting!AC174","v":0},{"$f":"Lighting!AD174","v":0},{"$f":"Lighting!AE174","v":0}]
[0,{"$f":"Lighting!B175","v":167},{"$f":"Lighting!C175","v":0},{"$f":"Lighting!D175","v":0},{"$f":"Lighting!F175","v":0},{"$f":"Lighting!G175","v":0},{"$f":"Lighting!H175","v":0},{"$f":"Lighting!I175","v":0},{"$f":"Lighting!J175","v":0},{"$f":"Lighting!K175","v":0},{"$f":"Lighting!L175","v":0},{"$f":"Lighting!M175","v":0},{"$f":"Lighting!P175","v":0},{"$f":"Lighting!Q175","v":0},{"$f":"Lighting!S175","v":""},{"$f":"Lighting!T175","v":""},{"$f":"Lighting!U175","v":0},{"$f":"Lighting!V175","v":""},{"$f":"Lighting!W175","v":""},{"$f":"Lighting!Y175","v":""},{"$f":"Lighting!AB175","v":""},{"$f":"Lighting!AC175","v":0},{"$f":"Lighting!AD175","v":0},{"$f":"Lighting!AE175","v":0}]
[0,{"$f":"Lighting!B176","v":168},{"$f":"Lighting!C176","v":0},{"$f":"Lighting!D176","v":0},{"$f":"Lighting!F176","v":0},{"$f":"Lighting!G176","v":0},{"$f":"Lighting!H176","v":0},{"$f":"Lighting!I176","v":0},{"$f":"Lighting!J176","v":0},{"$f":"Lighting!K176","v":0},{"$f":"Lighting!L176","v":0},{"$f":"Lighting!M176","v":0},{"$f":"Lighting!P176","v":0},{"$f":"Lighting!Q176","v":0},{"$f":"Lighting!S176","v":""},{"$f":"Lighting!T176","v":""},{"$f":"Lighting!U176","v":0},{"$f":"Lighting!V176","v":""},{"$f":"Lighting!W176","v":""},{"$f":"Lighting!Y176","v":""},{"$f":"Lighting!AB176","v":""},{"$f":"Lighting!AC176","v":0},{"$f":"Lighting!AD176","v":0},{"$f":"Lighting!AE176","v":0}]
[0,{"$f":"Lighting!B177","v":169},{"$f":"Lighting!C177","v":0},{"$f":"Lighting!D177","v":0},{"$f":"Lighting!F177","v":0},{"$f":"Lighting!G177","v":0},{"$f":"Lighting!H177","v":0},{"$f":"Lighting!I177","v":0},{"$f":"Lighting!J177","v":0},{"$f":"Lighting!K177","v":0},{"$f":"Lighting!L177","v":0},{"$f":"Lighting!M177","v":0},{"$f":"Lighting!P177","v":0},{"$f":"Lighting!Q177","v":0},{"$f":"Lighting!S177","v":""},{"$f":"Lighting!T177","v":""},{"$f":"Lighting!U177","v":0},{"$f":"Lighting!V177","v":""},{"$f":"Lighting!W177","v":""},{"$f":"Lighting!Y177","v":""},{"$f":"Lighting!AB177","v":""},{"$f":"Lighting!AC177","v":0},{"$f":"Lighting!AD177","v":0},{"$f":"Lighting!AE177","v":0}]
[0,{"$f":"Lighting!B178","v":170},{"$f":"Lighting!C178","v":0},{"$f":"Lighting!D178","v":0},{"$f":"Lighting!F178","v":0},{"$f":"Lighting!G178","v":0},{"$f":"Lighting!H178","v":0},{"$f":"Lighting!I178","v":0},{"$f":"Lighting!J178","v":0},{"$f":"Lighting!K178","v":0},{"$f":"Lighting!L178","v":0},{"$f":"Lighting!M178","v":0},{"$f":"Lighting!P178","v":0},{"$f":"Lighting!Q178","v":0},{"$f":"Lighting!S178","v":""},{"$f":"Lighting!T178","v":""},{"$f":"Lighting!U178","v":0},{"$f":"Lighting!V178","v":""},{"$f":"Lighting!W178","v":""},{"$f":"Lighting!Y178","v":""},{"$f":"Lighting!AB178","v":""},{"$f":"Lighting!AC178","v":0},{"$f":"Lighting!AD178","v":0},{"$f":"Lighting!AE178","v":0}]
[0,{"$f":"Lighting!B179","v":171},{"$f":"Lighting!C179","v":0},{"$f":"Lighting!D179","v":0},{"$f":"Lighting!F179","v":0},{"$f":"Lighting!G179","v":0},{"$f":"Lighting!H179","v":0},{"$f":"Lighting!I179","v":0},{"$f":"Lighting!J179","v":0},{"$f":"Lighting!K179","v":0},{"$f":"Lighting!L179","v":0},{"$f":"Lighting!M179","v":0},{"$f":"Lighting!P179","v":0},{"$f":"Lighting!Q179","v":0},{"$f":"Lighting!S179","v":""},{"$f":"Lighting!T179","v":""},{"$f":"Lighting!U179","v":0},{"$f":"Lighting!V179","v":""},{"$f":"Lighting!W179","v":""},{"$f":"Lighting!Y179","v":""},{"$f":"Lighting!AB179","v":""},{"$f":"Lighting!AC179","v":0},{"$f":"Lighting!AD179","v":0},{"$f":"Lighting!AE179","v":0}]
[0,{"$f":"Lighting!B180","v":172},{"$f":"Lighting!C180","v":0},{"$f":"Lighting!D180","v":0},{"$f":"Lighting!F180","v":0},{"$f":"Lighting!G180","v":0},{"$f":"Lighting!H180","v":0},{"$f":"Lighting!I180","v":0},{"$f":"Lighting!J180","v":0},{"$f":"Lighting!K180","v":0},{"$f":"Lighting!L180","v":0},{"$f":"Lighting!M180","v":0},{"$f":"Lighting!P180","v":0},{"$f":"Lighting!Q180","v":0},{"$f":"Lighting!S180","v":""},{"$f":"Lighting!T180","v":""},{"$f":"Lighting!U180","v":0},{"$f":"Lighting!V180","v":""},{"$f":"Lighting!W180","v":""},{"$f":"Lighting!Y180","v":""},{"$f":"Lighting!AB180","v":""},{"$f":"Lighting!AC180","v":0},{"$f":"Lighting!AD180","v":0},{"$f":"Lighting!AE180","v":0}]
[0,{"$f":"Lighting!B181","v":173},{"$f":"Lighting!C181","v":0},{"$f":"Lighting!D181","v":0},{"$f":"Lighting!F181","v":0},{"$f":"Lighting!G181","v":0},{"$f":"Lighting!H181","v":0},{"$f":"Lighting!I181","v":0},{"$f":"Lighting!J181","v":0},{"$f":"Lighting!K181","v":0},{"$f":"Lighting!L181","v":0},{"$f":"Lighting!M181","v":0},{"$f":"Lighting!P181","v":0},{"$f":"Lighting!Q181","v":0},{"$f":"Lighting!S181","v":""},{"$f":"Lighting!T181","v":""},{"$f":"Lighting!U181","v":0},{"$f":"Lighting!V181","v":""},{"$f":"Lighting!W181","v":""},{"$f":"Lighting!Y181","v":""},{"$f":"Lighting!AB181","v":""},{"$f":"Lighting!AC181","v":0},{"$f":"Lighting!AD181","v":0},{"$f":"Lighting!AE181","v":0}]
[0,{"$f":"Lighting!B182","v":174},{"$f":"Lighting!C182","v":0},{"$f":"Lighting!D182","v":0},{"$f":"Lighting!F182","v":0},{"$f":"Lighting!G182","v":0},{"$f":"Lighting!H182","v":0},{"$f":"Lighting!I182","v":0},{"$f":"Lighting!J182","v":0},{"$f":"Lighting!K182","v":0},{"$f":"Lighting!L182","v":0},{"$f":"Lighting!M182","v":0},{"$f":"Lighting!P182","v":0},{"$f":"Lighting!Q182","v":0},{"$f":"Lighting!S182","v":""},{"$f":"Lighting!T182","v":""},{"$f":"Lighting!U182","v":0},{"$f":"Lighting!V182","v":""},{"$f":"Lighting!W182","v":""},{"$f":"Lighting!Y182","v":""},{"$f":"Lighting!AB182","v":""},{"$f":"Lighting!AC182","v":0},{"$f":"Lighting!AD182","v":0},{"$f":"Lighting!AE182","v":0}]
[0,{"$f":"Lighting!B183","v":175},{"$f":"Lighting!C183","v":0},{"$f":"Lighting!D183","v":0},{"$f":"Lighting!F183","v":0},{"$f":"Lighting!G183","v":0},{"$f":"Lighting!H183","v":0},{"$f":"Lighting!I183","v":0},{"$f":"Lighting!J183","v":0},{"$f":"Lighting!K183","v":0},{"$f":"Lighting!L183","v":0},{"$f":"Lighting!M183","v":0},{"$f":"Lighting!P183","v":0},{"$f":"Lighting!Q183","v":0},{"$f":"Lighting!S183","v":""},{"$f":"Lighting!T183","v":""},{"$f":"Lighting!U183","v":0},{"$f":"Lighting!V183","v":""},{"$f":"Lighting!W183","v":""},{"$f":"Lighting!Y183","v":""},{"$f":"Lighting!AB183","v":""},{"$f":"Lighting!AC183","v":0},{"$f":"Lighting!AD183","v":0},{"$f":"Lighting!AE183","v":0}]
[0,{"$f":"Lighting!B184","v":176},{"$f":"Lighting!C184","v":0},{"$f":"Lighting!D184","v":0},{"$f":"Lighting!F184","v":0},{"$f":"Lighting!G184","v":0},{"$f":"Lighting!H184","v":0},{"$f":"Lighting!I184","v":0},{"$f":"Lighting!J184","v":0},{"$f":"Lighting!K184","v":0},{"$f":"Lighting!L184","v":0},{"$f":"Lighting!M184","v":0},{"$f":"Lighting!P184","v":0},{"$f":"Lighting!Q184","v":0},{"$f":"Lighting!S184","v":""},{"$f":"Lighting!T184","v":""},{"$f":"Lighting!U184","v":0},{"$f":"Lighting!V184","v":""},{"$f":"Lighting!W184","v":""},{"$f":"Lighting!Y184","v":""},{"$f":"Lighting!AB184","v":""},{"$f":"Lighting!AC184","v":0},{"$f":"Lighting!AD184","v":0},{"$f":"Lighting!AE184","v":0}]
[0,{"$f":"Lighting!B185","v":177},{"$f":"Lighting!C185","v":0},{"$f":"Lighting!D185","v":0},{"$f":"Lighting!F185","v":0},{"$f":"Lighting!G185","v":0},{"$f":"Lighting!H185","v":0},{"$f":"Lighting!I185","v":0},{"$f":"Lighting!J185","v":0},{"$f":"Lighting!K185","v":0},{"$f":"Lighting!L185","v":0},{"$f":"Lighting!M185","v":0},{"$f":"Lighting!P185","v":0},{"$f":"Lighting!Q185","v":0},{"$f":"Lighting!S185","v":""},{"$f":"Lighting!T185","v":""},{"$f":"Lighting!U185","v":0},{"$f":"Lighting!V185","v":""},{"$f":"Lighting!W185","v":""},{"$f":"Lighting!Y185","v":""},{"$f":"Lighting!AB185","v":""},{"$f":"Lighting!AC185","v":0},{"$f":"Lighting!AD185","v":0},{"$f":"Lighting!AE185","v":0}]
[0,{"$f":"Lighting!B186","v":178},{"$f":"Lighting!C186","v":0},{"$f":"Lighting!D186","v":0},{"$f":"Lighting!F186","v":0},{"$f":"Lighting!G186","v":0},{"$f":"Lighting!H186","v":0},{"$f":"Lighting!I186","v":0},{"$f":"Lighting!J186","v":0},{"$f":"Lighting!K186","v":0},{"$f":"Lighting!L186","v":0},{"$f":"Lighting!M186","v":0},{"$f":"Lighting!P186","v":0},{"$f":"Lighting!Q186","v":0},{"$f":"Lighting!S186","v":""},{"$f":"Lighting!T186","v":""},{"$f":"Lighting!U186","v":0},{"$f":"Lighting!V186","v":""},{"$f":"Lighting!W186","v":""},{"$f":"Lighting!Y186","v":""},{"$f":"Lighting!AB186","v":""},{"$f":"Lighting!AC186","v":0},{"$f":"Lighting!AD186","v":0},{"$f":"Lighting!AE186","v":0}]
[0,{"$f":"Lighting!B187","v":179},{"$f":"Lighting!C187","v":0},{"$f":"Lighting!D187","v":0},{"$f":"Lighting!F187","v":0},{"$f":"Lighting!G187","v":0},{"$f":"Lighting!H187","v":0},{"$f":"Lighting!I187","v":0},{"$f":"Lighting!J187","v":0},{"$f":"Lighting!K187","v":0},{"$f":"Lighting!L187","v":0},{"$f":"Lighting!M187","v":0},{"$f":"Lighting!P187","v":0},{"$f":"Lighting!Q187","v":0},{"$f":"Lighting!S187","v":""},{"$f":"Lighting!T187","v":""},{"$f":"Lighting!U187","v":0},{"$f":"Lighting!V187","v":""},{"$f":"Lighting!W187","v":""},{"$f":"Lighting!Y187","v":""},{"$f":"Lighting!AB187","v":""},{"$f":"Lighting!AC187","v":0},{"$f":"Lighting!AD187","v":0},{"$f":"Lighting!AE187","v":0}]
[0,{"$f":"Lighting!B188","v":180},{"$f":"Lighting!C188","v":0},{"$f":"Lighting!D188","v":0},{"$f":"Lighting!F188","v":0},{"$f":"Lighting!G188","v":0},{"$f":"Lighting!H188","v":0},{"$f":"Lighting!I188","v":0},{"$f":"Lighting!J188","v":0},{"$f":"Lighting!K188","v":0},{"$f":"Lighting!L188","v":0},{"$f":"Lighting!M188","v":0},{"$f":"Lighting!P188","v":0},{"$f":"Lighting!Q188","v":0},{"$f":"Lighting!S188","v":""},{"$f":"Lighting!T188","v":""},{"$f":"Lighting!U188","v":0},{"$f":"Lighting!V188","v":""},{"$f":"Lighting!W188","v":""},{"$f":"Lighting!Y188","v":""},{"$f":"Lighting!AB188","v":""},{"$f":"Lighting!AC188","v":0},{"$f":"Lighting!AD188","v":0},{"$f":"Lighting!AE188","v":0}]
[0,{"$f":"Lighting!B189","v":181},{"$f":"Lighting!C189","v":0},{"$f":"Lighting!D189","v":0},{"$f":"Lighting!F189","v":0},{"$f":"Lighting!G189","v":0},{"$f":"Lighting!H189","v":0},{"$f":"Lighting!I189","v":0},{"$f":"Lighting!J189","v":0},{"$f":"Lighting!K189","v":0},{"$f":"Lighting!L189","v":0},{"$f":"Lighting!M189","v":0},{"$f":"Lighting!P189","v":0},{"$f":"Lighting!Q189","v":0},{"$f":"Lighting!S189","v":""},{"$f":"Lighting!T189","v":""},{"$f":"Lighting!U189","v":0},{"$f":"Lighting!V189","v":""},{"$f":"Lighting!W189","v":""},{"$f":"Lighting!Y189","v":""},{"$f":"Lighting!AB189","v":""},{"$f":"Lighting!AC189","v":0},{"$f":"Lighting!AD189","v":0},{"$f":"Lighting!AE189","v":0}]
[0,{"$f":"Lighting!B190","v":182},{"$f":"Lighting!C190","v":0},{"$f":"Lighting!D190","v":0},{"$f":"Lighting!F190","v":0},{"$f":"Lighting!G190","v":0},{"$f":"Lighting!H190","v":0},{"$f":"Lighting!I190","v":0},{"$f":"Lighting!J190","v":0},{"$f":"Lighting!K190","v":0},{"$f":"Lighting!L190","v":0},{"$f":"Lighting!M190","v":0},{"$f":"Lighting!P190","v":0},{"$f":"Lighting!Q190","v":0},{"$f":"Lighting!S190","v":""},{"$f":"Lighting!T190","v":""},{"$f":"Lighting!U190","v":0},{"$f":"Lighting!V190","v":""},{"$f":"Lighting!W190","v":""},{"$f":"Lighting!Y190","v":""},{"$f":"Lighting!AB190","v":""},{"$f":"Lighting!AC190","v":0},{"$f":"Lighting!AD190","v":0},{"$f":"Lighting!AE190","v":0}]
[0,{"$f":"Lighting!B191","v":183},{"$f":"Lighting!C191","v":0},{"$f":"Lighting!D191","v":0},{"$f":"Lighting!F191","v":0},{"$f":"Lighting!G191","v":0},{"$f":"Lighting!H191","v":0},{"$f":"Lighting!I191","v":0},{"$f":"Lighting!J191","v":0},{"$f":"Lighting!K191","v":0},{"$f":"Lighting!L191","v":0},{"$f":"Lighting!M191","v":0},{"$f":"Lighting!P191","v":0},{"$f":"Lighting!Q191","v":0},{"$f":"Lighting!S191","v":""},{"$f":"Lighting!T191","v":""},{"$f":"Lighting!U191","v":0},{"$f":"Lighting!V191","v":""},{"$f":"Lighting!W191","v":""},{"$f":"Lighting!Y191","v":""},{"$f":"Lighting!AB191","v":""},{"$f":"Lighting!AC191","v":0},{"$f":"Lighting!AD191","v":0},{"$f":"Lighting!AE191","v":0}]
[0,{"$f":"Lighting!B192","v":184},{"$f":"Lighting!C192","v":0},{"$f":"Lighting!D192","v":0},{"$f":"Lighting!F192","v":0},{"$f":"Lighting!G192","v":0},{"$f":"Lighting!H192","v":0},{"$f":"Lighting!I192","v":0},{"$f":"Lighting!J192","v":0},{"$f":"Lighting!K192","v":0},{"$f":"Lighting!L192","v":0},{"$f":"Lighting!M192","v":0},{"$f":"Lighting!P192","v":0},{"$f":"Lighting!Q192","v":0},{"$f":"Lighting!S192","v":""},{"$f":"Lighting!T192","v":""},{"$f":"Lighting!U192","v":0},{"$f":"Lighting!V192","v":""},{"$f":"Lighting!W192","v":""},{"$f":"Lighting!Y192","v":""},{"$f":"Lighting!AB192","v":""},{"$f":"Lighting!AC192","v":0},{"$f":"Lighting!AD192","v":0},{"$f":"Lighting!AE192","v":0}]
[0,{"$f":"Lighting!B193","v":185},{"$f":"Lighting!C193","v":0},{"$f":"Lighting!D193","v":0},{"$f":"Lighting!F193","v":0},{"$f":"Lighting!G193","v":0},{"$f":"Lighting!H193","v":0},{"$f":"Lighting!I193","v":0},{"$f":"Lighting!J193","v":0},{"$f":"Lighting!K193","v":0},{"$f":"Lighting!L193","v":0},{"$f":"Lighting!M193","v":0},{"$f":"Lighting!P193","v":0},{"$f":"Lighting!Q193","v":0},{"$f":"Lighting!S193","v":""},{"$f":"Lighting!T193","v":""},{"$f":"Lighting!U193","v":0},{"$f":"Lighting!V193","v":""},{"$f":"Lighting!W193","v":""},{"$f":"Lighting!Y193","v":""},{"$f":"Lighting!AB193","v":""},{"$f":"Lighting!AC193","v":0},{"$f":"Lighting!AD193","v":0},{"$f":"Lighting!AE193","v":0}]
[0,{"$f":"Lighting!B194","v":186},{"$f":"Lighting!C194","v":0},{"$f":"Lighting!D194","v":0},{"$f":"Lighting!F194","v":0},{"$f":"Lighting!G194","v":0},{"$f":"Lighting!H194","v":0},{"$f":"Lighting!I194","v":0},{"$f":"Lighting!J194","v":0},{"$f":"Lighting!K194","v":0},{"$f":"Lighting!L194","v":0},{"$f":"Lighting!M194","v":0},{"$f":"Lighting!P194","v":0},{"$f":"Lighting!Q194","v":0},{"$f":"Lighting!S194","v":""},{"$f":"Lighting!T194","v":""},{"$f":"Lighting!U194","v":0},{"$f":"Lighting!V194","v":""},{"$f":"Lighting!W194","v":""},{"$f":"Lighting!Y194","v":""},{"$f":"Lighting!AB194","v":""},{"$f":"Lighting!AC194","v":0},{"$f":"Lighting!AD194","v":0},{"$f":"Lighting!AE194","v":0}]
[0,{"$f":"Lighting!B195","v":187},{"$f":"Lighting!C195","v":0},{"$f":"Lighting!D195","v":0},{"$f":"Lighting!F195","v":0},{"$f":"Lighting!G195","v":0},{"$f":"Lighting!H195","v":0},{"$f":"Lighting!I195","v":0},{"$f":"Lighting!J195","v":0},{"$f":"Lighting!K195","v":0},{"$f":"Lighting!L195","v":0},{"$f":"Lighting!M195","v":0},{"$f":"Lighting!P195","v":0},{"$f":"Lighting!Q195","v":0},{"$f":"Lighting!S195","v":""},{"$f":"Lighting!T195","v":""},{"$f":"Lighting!U195","v":0},{"$f":"Lighting!V195","v":""},{"$f":"Lighting!W195","v":""},{"$f":"Lighting!Y195","v":""},{"$f":"Lighting!AB195","v":""},{"$f":"Lighting!AC195","v":0},{"$f":"Lighting!AD195","v":0},{"$f":"Lighting!AE195","v":0}]
[0,{"$f":"Lighting!B196","v":188},{"$f":"Lighting!C196","v":0},{"$f":"Lighting!D196","v":0},{"$f":"Lighting!F196","v":0},{"$f":"Lighting!G196","v":0},{"$f":"Lighting!H196","v":0},{"$f":"Lighting!I196","v":0},{"$f":"Lighting!J196","v":0},{"$f":"Lighting!K196","v":0},{"$f":"Lighting!L196","v":0},{"$f":"Lighting!M196","v":0},{"$f":"Lighting!P196","v":0},{"$f":"Lighting!Q196","v":0},{"$f":"Lighting!S196","v":""},{"$f":"Lighting!T196","v":""},{"$f":"Lighting!U196","v":0},{"$f":"Lighting!V196","v":""},{"$f":"Lighting!W196","v":""},{"$f":"Lighting!Y196","v":""},{"$f":"Lighting!AB196","v":""},{"$f":"Lighting!AC196","v":0},{"$f":"Lighting!AD196","v":0},{"$f":"Lighting!AE196","v":0}]
[0,{"$f":"Lighting!B197","v":189},{"$f":"Lighting!C197","v":0},{"$f":"Lighting!D197","v":0},{"$f":"Lighting!F197","v":0},{"$f":"Lighting!G197","v":0},{"$f":"Lighting!H197","v":0},{"$f":"Lighting!I197","v":0},{"$f":"Lighting!J197","v":0},{"$f":"Lighting!K197","v":0},{"$f":"Lighting!L197","v":0},{"$f":"Lighting!M197","v":0},{"$f":"Lighting!P197","v":0},{"$f":"Lighting!Q197","v":0},{"$f":"Lighting!S197","v":""},{"$f":"Lighting!T197","v":""},{"$f":"Lighting!U197","v":0},{"$f":"Lighting!V197","v":""},{"$f":"Lighting!W197","v":""},{"$f":"Lighting!Y197","v":""},{"$f":"Lighting!AB197","v":""},{"$f":"Lighting!AC197","v":0},{"$f":"Lighting!AD197","v":0},{"$f":"Lighting!AE197","v":0}]
[0,{"$f":"Lighting!B198","v":190},{"$f":"Lighting!C198","v":0},{"$f":"Lighting!D198","v":0},{"$f":"Lighting!F198","v":0},{"$f":"Lighting!G198","v":0},{"$f":"Lighting!H198","v":0},{"$f":"Lighting!I198","v":0},{"$f":"Lighting!J198","v":0},{"$f":"Lighting!K198","v":0},{"$f":"Lighting!L198","v":0},{"$f":"Lighting!M198","v":0},{"$f":"Lighting!P198","v":0},{"$f":"Lighting!Q198","v":0},{"$f":"Lighting!S198","v":""},{"$f":"Lighting!T198","v":""},{"$f":"Lighting!U198","v":0},{"$f":"Lighting!V198","v":""},{"$f":"Lighting!W198","v":""},{"$f":"Lighting!Y198","v":""},{"$f":"Lighting!AB198","v":""},{"$f":"Lighting!AC198","v":0},{"$f":"Lighting!AD198","v":0},{"$f":"Lighting!AE198","v":0}]
[0,{"$f":"Lighting!B199","v":191},{"$f":"Lighting!C199","v":0},{"$f":"Lighting!D199","v":0},{"$f":"Lighting!F199","v":0},{"$f":"Lighting!G199","v":0},{"$f":"Lighting!H199","v":0},{"$f":"Lighting!I199","v":0},{"$f":"Lighting!J199","v":0},{"$f":"Lighting!K199","v":0},{"$f":"Lighting!L199","v":0},{"$f":"Lighting!M199","v":0},{"$f":"Lighting!P199","v":0},{"$f":"Lighting!Q199","v":0},{"$f":"Lighting!S199","v":""},{"$f":"Lighting!T199","v":""},{"$f":"Lighting!U199","v":0},{"$f":"Lighting!V199","v":""},{"$f":"Lighting!W199","v":""},{"$f":"Lighting!Y199","v":""},{"$f":"Lighting!AB199","v":""},{"$f":"Lighting!AC199","v":0},{"$f":"Lighting!AD199","v":0},{"$f":"Lighting!AE199","v":0}]
[0,{"$f":"Lighting!B200","v":192},{"$f":"Lighting!C200","v":0},{"$f":"Lighting!D200","v":0},{"$f":"Lighting!F200","v":0},{"$f":"Lighting!G200","v":0},{"$f":"Lighting!H200","v":0},{"$f":"Lighting!I200","v":0},{"$f":"Lighting!J200","v":0},{"$f":"Lighting!K200","v":0},{"$f":"Lighting!L200","v":0},{"$f":"Lighting!M200","v":0},{"$f":"Lighting!P200","v":0},{"$f":"Lighting!Q200","v":0},{"$f":"Lighting!S200","v":""},{"$f":"Lighting!T200","v":""},{"$f":"Lighting!U200","v":0},{"$f":"Lighting!V200","v":""},{"$f":"Lighting!W200","v":""},{"$f":"Lighting!Y200","v":""},{"$f":"Lighting!AB200","v":""},{"$f":"Lighting!AC200","v":0},{"$f":"Lighting!AD200","v":0},{"$f":"Lighting!AE200","v":0}]
[0,{"$f":"Lighting!B201","v":193},{"$f":"Lighting!C201","v":0},{"$f":"Lighting!D201","v":0},{"$f":"Lighting!F201","v":0},{"$f":"Lighting!G201","v":0},{"$f":"Lighting!H201","v":0},{"$f":"Lighting!I201","v":0},{"$f":"Lighting!J201","v":0},{"$f":"Lighting!K201","v":0},{"$f":"Lighting!L201","v":0},{"$f":"Lighting!M201","v":0},{"$f":"Lighting!P201","v":0},{"$f":"Lighting!Q201","v":0},{"$f":"Lighting!S201","v":""},{"$f":"Lighting!T201","v":""},{"$f":"Lighting!U201","v":0},{"$f":"Lighting!V201","v":""},{"$f":"Lighting!W201","v":""},{"$f":"Lighting!Y201","v":""},{"$f":"Lighting!AB201","v":""},{"$f":"Lighting!AC201","v":0},{"$f":"Lighting!AD201","v":0},{"$f":"Lighting!AE201","v":0}]
[{"$f":"IF(G358=0,0,1)","v":0},{"$f":"Lighting!B202","v":194},{"$f":"Lighting!C202","v":0},{"$f":"Lighting!D202","v":0},{"$f":"Lighting!F202","v":0},{"$f":"Lighting!G202","v":0},{"$f":"Lighting!H202","v":0},{"$f":"Lighting!I202","v":0},{"$f":"Lighting!J202","v":0},{"$f":"Lighting!K202","v":0},{"$f":"Lighting!L202","v":0},{"$f":"Lighting!M202","v":0},{"$f":"Lighting!P202","v":0},{"$f":"Lighting!Q202","v":0},{"$f":"Lighting!S202","v":""},{"$f":"Lighting!T202","v":""},{"$f":"Lighting!U202","v":0},{"$f":"Lighting!V202","v":""},{"$f":"Lighting!W202","v":""},{"$f":"Lighting!Y202","v":""},{"$f":"Lighting!AB202","v":""},{"$f":"Lighting!AC202","v":0},{"$f":"Lighting!AD202","v":0},{"$f":"Lighting!AE202","v":0}]
[0,{"$f":"Lighting!B203","v":195},{"$f":"Lighting!C203","v":0},{"$f":"Lighting!D203","v":0},{"$f":"Lighting!F203","v":0},{"$f":"Lighting!G203","v":0},{"$f":"Lighting!H203","v":0},{"$f":"Lighting!I203","v":0},{"$f":"Lighting!J203","v":0},{"$f":"Lighting!K203","v":0},{"$f":"Lighting!L203","v":0},{"$f":"Lighting!M203","v":0},{"$f":"Lighting!P203","v":0},{"$f":"Lighting!Q203","v":0},{"$f":"Lighting!S203","v":""},{"$f":"Lighting!T203","v":""},{"$f":"Lighting!U203","v":0},{"$f":"Lighting!V203","v":""},{"$f":"Lighting!W203","v":""},{"$f":"Lighting!Y203","v":""},{"$f":"Lighting!AB203","v":""},{"$f":"Lighting!AC203","v":0},{"$f":"Lighting!AD203","v":0},{"$f":"Lighting!AE203","v":0}]
[0,{"$f":"Lighting!B204","v":196},{"$f":"Lighting!C204","v":0},{"$f":"Lighting!D204","v":0},{"$f":"Lighting!F204","v":0},{"$f":"Lighting!G204","v":0},{"$f":"Lighting!H204","v":0},{"$f":"Lighting!I204","v":0},{"$f":"Lighting!J204","v":0},{"$f":"Lighting!K204","v":0},{"$f":"Lighting!L204","v":0},{"$f":"Lighting!M204","v":0},{"$f":"Lighting!P204","v":0},{"$f":"Lighting!Q204","v":0},{"$f":"Lighting!S204","v":""},{"$f":"Lighting!T204","v":""},{"$f":"Lighting!U204","v":0},{"$f":"Lighting!V204","v":""},{"$f":"Lighting!W204","v":""},{"$f":"Lighting!Y204","v":""},{"$f":"Lighting!AB204","v":""},{"$f":"Lighting!AC204","v":0},{"$f":"Lighting!AD204","v":0},{"$f":"Lighting!AE204","v":0}]
[0,{"$f":"Lighting!B205","v":197},{"$f":"Lighting!C205","v":0},{"$f":"Lighting!D205","v":0},{"$f":"Lighting!F205","v":0},{"$f":"Lighting!G205","v":0},{"$f":"Lighting!H205","v":0},{"$f":"Lighting!I205","v":0},{"$f":"Lighting!J205","v":0},{"$f":"Lighting!K205","v":0},{"$f":"Lighting!L205","v":0},{"$f":"Lighting!M205","v":0},{"$f":"Lighting!P205","v":0},{"$f":"Lighting!Q205","v":0},{"$f":"Lighting!S205","v":""},{"$f":"Lighting!T205","v":""},{"$f":"Lighting!U205","v":0},{"$f":"Lighting!V205","v":""},{"$f":"Lighting!W205","v":""},{"$f":"Lighting!Y205","v":""},{"$f":"Lighting!AB205","v":""},{"$f":"Lighting!AC205","v":0},{"$f":"Lighting!AD205","v":0},{"$f":"Lighting!AE205","v":0}]
[0,{"$f":"Lighting!B206","v":198},{"$f":"Lighting!C206","v":0},{"$f":"Lighting!D206","v":0},{"$f":"Lighting!F206","v":0},{"$f":"Lighting!G206","v":0},{"$f":"Lighting!H206","v":0},{"$f":"Lighting!I206","v":0},{"$f":"Lighting!J206","v":0},{"$f":"Lighting!K206","v":0},{"$f":"Lighting!L206","v":0},{"$f":"Lighting!M206","v":0},{"$f":"Lighting!P206","v":0},{"$f":"Lighting!Q206","v":0},{"$f":"Lighting!S206","v":""},{"$f":"Lighting!T206","v":""},{"$f":"Lighting!U206","v":0},{"$f":"Lighting!V206","v":""},{"$f":"Lighting!W206","v":""},{"$f":"Lighting!Y206","v":""},{"$f":"Lighting!AB206","v":""},{"$f":"Lighting!AC206","v":0},{"$f":"Lighting!AD206","v":0},{"$f":"Lighting!AE206","v":0}]
[0,{"$f":"Lighting!B207","v":199},{"$f":"Lighting!C207","v":0},{"$f":"Lighting!D207","v":0},{"$f":"Lighting!F207","v":0},{"$f":"Lighting!G207","v":0},{"$f":"Lighting!H207","v":0},{"$f":"Lighting!I207","v":0},{"$f":"Lighting!J207","v":0},{"$f":"Lighting!K207","v":0},{"$f":"Lighting!L207","v":0},{"$f":"Lighting!M207","v":0},{"$f":"Lighting!P207","v":0},{"$f":"Lighting!Q207","v":0},{"$f":"Lighting!S207","v":""},{"$f":"Lighting!T207","v":""},{"$f":"Lighting!U207","v":0},{"$f":"Lighting!V207","v":""},{"$f":"Lighting!W207","v":""},{"$f":"Lighting!Y207","v":""},{"$f":"Lighting!AB207","v":""},{"$f":"Lighting!AC207","v":0},{"$f":"Lighting!AD207","v":0},{"$f":"Lighting!AE207","v":0}]
[0,{"$f":"Lighting!B208","v":200},{"$f":"Lighting!C208","v":0},{"$f":"Lighting!D208","v":0},{"$f":"Lighting!F208","v":0},{"$f":"Lighting!G208","v":0},{"$f":"Lighting!H208","v":0},{"$f":"Lighting!I208","v":0},{"$f":"Lighting!J208","v":0},{"$f":"Lighting!K208","v":0},{"$f":"Lighting!L208","v":0},{"$f":"Lighting!M208","v":0},{"$f":"Lighting!P208","v":0},{"$f":"Lighting!Q208","v":0},{"$f":"Lighting!S208","v":""},{"$f":"Lighting!T208","v":""},{"$f":"Lighting!U208","v":0},{"$f":"Lighting!V208","v":""},{"$f":"Lighting!W208","v":""},{"$f":"Lighting!Y208","v":""},{"$f":"Lighting!AB208","v":""},{"$f":"Lighting!AC208","v":0},{"$f":"Lighting!AD208","v":0},{"$f":"Lighting!AE208","v":0}]
[0,{"$f":"Lighting!B209","v":201},{"$f":"Lighting!C209","v":0},{"$f":"Lighting!D209","v":0},{"$f":"Lighting!F209","v":0},{"$f":"Lighting!G209","v":0},{"$f":"Lighting!H209","v":0},{"$f":"Lighting!I209","v":0},{"$f":"Lighting!J209","v":0},{"$f":"Lighting!K209","v":0},{"$f":"Lighting!L209","v":0},{"$f":"Lighting!M209","v":0},{"$f":"Lighting!P209","v":0},{"$f":"Lighting!Q209","v":0},{"$f":"Lighting!S209","v":""},{"$f":"Lighting!T209","v":""},{"$f":"Lighting!U209","v":0},{"$f":"Lighting!V209","v":""},{"$f":"Lighting!W209","v":""},{"$f":"Lighting!Y209","v":""},{"$f":"Lighting!AB209","v":""},{"$f":"Lighting!AC209","v":0},{"$f":"Lighting!AD209","v":0},{"$f":"Lighting!AE209","v":0}]
[0,{"$f":"Lighting!B210","v":202},{"$f":"Lighting!C210","v":0},{"$f":"Lighting!D210","v":0},{"$f":"Lighting!F210","v":0},{"$f":"Lighting!G210","v":0},{"$f":"Lighting!H210","v":0},{"$f":"Lighting!I210","v":0},{"$f":"Lighting!J210","v":0},{"$f":"Lighting!K210","v":0},{"$f":"Lighting!L210","v":0},{"$f":"Lighting!M210","v":0},{"$f":"Lighting!P210","v":0},{"$f":"Lighting!Q210","v":0},{"$f":"Lighting!S210","v":""},{"$f":"Lighting!T210","v":""},{"$f":"Lighting!U210","v":0},{"$f":"Lighting!V210","v":""},{"$f":"Lighting!W210","v":""},{"$f":"Lighting!Y210","v":""},{"$f":"Lighting!AB210","v":""},{"$f":"Lighting!AC210","v":0},{"$f":"Lighting!AD210","v":0},{"$f":"Lighting!AE210","v":0}]
[0,{"$f":"Lighting!B211","v":203},{"$f":"Lighting!C211","v":0},{"$f":"Lighting!D211","v":0},{"$f":"Lighting!F211","v":0},{"$f":"Lighting!G211","v":0},{"$f":"Lighting!H211","v":0},{"$f":"Lighting!I211","v":0},{"$f":"Lighting!J211","v":0},{"$f":"Lighting!K211","v":0},{"$f":"Lighting!L211","v":0},{"$f":"Lighting!M211","v":0},{"$f":"Lighting!P211","v":0},{"$f":"Lighting!Q211","v":0},{"$f":"Lighting!S211","v":""},{"$f":"Lighting!T211","v":""},{"$f":"Lighting!U211","v":0},{"$f":"Lighting!V211","v":""},{"$f":"Lighting!W211","v":""},{"$f":"Lighting!Y211","v":""},{"$f":"Lighting!AB211","v":""},{"$f":"Lighting!AC211","v":0},{"$f":"Lighting!AD211","v":0},{"$f":"Lighting!AE211","v":0}]
[0,{"$f":"Lighting!B212","v":204},{"$f":"Lighting!C212","v":0},{"$f":"Lighting!D212","v":0},{"$f":"Lighting!F212","v":0},{"$f":"Lighting!G212","v":0},{"$f":"Lighting!H212","v":0},{"$f":"Lighting!I212","v":0},{"$f":"Lighting!J212","v":0},{"$f":"Lighting!K212","v":0},{"$f":"Lighting!L212","v":0},{"$f":"Lighting!M212","v":0},{"$f":"Lighting!P212","v":0},{"$f":"Lighting!Q212","v":0},{"$f":"Lighting!S212","v":""},{"$f":"Lighting!T212","v":""},{"$f":"Lighting!U212","v":0},{"$f":"Lighting!V212","v":""},{"$f":"Lighting!W212","v":""},{"$f":"Lighting!Y212","v":""},{"$f":"Lighting!AB212","v":""},{"$f":"Lighting!AC212","v":0},{"$f":"Lighting!AD212","v":0},{"$f":"Lighting!AE212","v":0}]
[0,{"$f":"Lighting!B213","v":205},{"$f":"Lighting!C213","v":0},{"$f":"Lighting!D213","v":0},{"$f":"Lighting!F213","v":0},{"$f":"Lighting!G213","v":0},{"$f":"Lighting!H213","v":0},{"$f":"Lighting!I213","v":0},{"$f":"Lighting!J213","v":0},{"$f":"Lighting!K213","v":0},{"$f":"Lighting!L213","v":0},{"$f":"Lighting!M213","v":0},{"$f":"Lighting!P213","v":0},{"$f":"Lighting!Q213","v":0},{"$f":"Lighting!S213","v":""},{"$f":"Lighting!T213","v":""},{"$f":"Lighting!U213","v":0},{"$f":"Lighting!V213","v":""},{"$f":"Lighting!W213","v":""},{"$f":"Lighting!Y213","v":""},{"$f":"Lighting!AB213","v":""},{"$f":"Lighting!AC213","v":0},{"$f":"Lighting!AD213","v":0},{"$f":"Lighting!AE213","v":0}]
[0,{"$f":"Lighting!B214","v":206},{"$f":"Lighting!C214","v":0},{"$f":"Lighting!D214","v":0},{"$f":"Lighting!F214","v":0},{"$f":"Lighting!G214","v":0},{"$f":"Lighting!H214","v":0},{"$f":"Lighting!I214","v":0},{"$f":"Lighting!J214","v":0},{"$f":"Lighting!K214","v":0},{"$f":"Lighting!L214","v":0},{"$f":"Lighting!M214","v":0},{"$f":"Lighting!P214","v":0},{"$f":"Lighting!Q214","v":0},{"$f":"Lighting!S214","v":""},{"$f":"Lighting!T214","v":""},{"$f":"Lighting!U214","v":0},{"$f":"Lighting!V214","v":""},{"$f":"Lighting!W214","v":""},{"$f":"Lighting!Y214","v":""},{"$f":"Lighting!AB214","v":""},{"$f":"Lighting!AC214","v":0},{"$f":"Lighting!AD214","v":0},{"$f":"Lighting!AE214","v":0}]
[0,{"$f":"Lighting!B215","v":207},{"$f":"Lighting!C215","v":0},{"$f":"Lighting!D215","v":0},{"$f":"Lighting!F215","v":0},{"$f":"Lighting!G215","v":0},{"$f":"Lighting!H215","v":0},{"$f":"Lighting!I215","v":0},{"$f":"Lighting!J215","v":0},{"$f":"Lighting!K215","v":0},{"$f":"Lighting!L215","v":0},{"$f":"Lighting!M215","v":0},{"$f":"Lighting!P215","v":0},{"$f":"Lighting!Q215","v":0},{"$f":"Lighting!S215","v":""},{"$f":"Lighting!T215","v":""},{"$f":"Lighting!U215","v":0},{"$f":"Lighting!V215","v":""},{"$f":"Lighting!W215","v":""},{"$f":"Lighting!Y215","v":""},{"$f":"Lighting!AB215","v":""},{"$f":"Lighting!AC215","v":0},{"$f":"Lighting!AD215","v":0},{"$f":"Lighting!AE215","v":0}]
[0,{"$f":"Lighting!B216","v":208},{"$f":"Lighting!C216","v":0},{"$f":"Lighting!D216","v":0},{"$f":"Lighting!F216","v":0},{"$f":"Lighting!G216","v":0},{"$f":"Lighting!H216","v":0},{"$f":"Lighting!I216","v":0},{"$f":"Lighting!J216","v":0},{"$f":"Lighting!K216","v":0},{"$f":"Lighting!L216","v":0},{"$f":"Lighting!M216","v":0},{"$f":"Lighting!P216","v":0},{"$f":"Lighting!Q216","v":0},{"$f":"Lighting!S216","v":""},{"$f":"Lighting!T216","v":""},{"$f":"Lighting!U216","v":0},{"$f":"Lighting!V216","v":""},{"$f":"Lighting!W216","v":""},{"$f":"Lighting!Y216","v":""},{"$f":"Lighting!AB216","v":""},{"$f":"Lighting!AC216","v":0},{"$f":"Lighting!AD216","v":0},{"$f":"Lighting!AE216","v":0}]
[0,{"$f":"Lighting!B217","v":209},{"$f":"Lighting!C217","v":0},{"$f":"Lighting!D217","v":0},{"$f":"Lighting!F217","v":0},{"$f":"Lighting!G217","v":0},{"$f":"Lighting!H217","v":0},{"$f":"Lighting!I217","v":0},{"$f":"Lighting!J217","v":0},{"$f":"Lighting!K217","v":0},{"$f":"Lighting!L217","v":0},{"$f":"Lighting!M217","v":0},{"$f":"Lighting!P217","v":0},{"$f":"Lighting!Q217","v":0},{"$f":"Lighting!S217","v":""},{"$f":"Lighting!T217","v":""},{"$f":"Lighting!U217","v":0},{"$f":"Lighting!V217","v":""},{"$f":"Lighting!W217","v":""},{"$f":"Lighting!Y217","v":""},{"$f":"Lighting!AB217","v":""},{"$f":"Lighting!AC217","v":0},{"$f":"Lighting!AD217","v":0},{"$f":"Lighting!AE217","v":0}]
[0,{"$f":"Lighting!B218","v":210},{"$f":"Lighting!C218","v":0},{"$f":"Lighting!D218","v":0},{"$f":"Lighting!F218","v":0},{"$f":"Lighting!G218","v":0},{"$f":"Lighting!H218","v":0},{"$f":"Lighting!I218","v":0},{"$f":"Lighting!J218","v":0},{"$f":"Lighting!K218","v":0},{"$f":"Lighting!L218","v":0},{"$f":"Lighting!M218","v":0},{"$f":"Lighting!P218","v":0},{"$f":"Lighting!Q218","v":0},{"$f":"Lighting!S218","v":""},{"$f":"Lighting!T218","v":""},{"$f":"Lighting!U218","v":0},{"$f":"Lighting!V218","v":""},{"$f":"Lighting!W218","v":""},{"$f":"Lighting!Y218","v":""},{"$f":"Lighting!AB218","v":""},{"$f":"Lighting!AC218","v":0},{"$f":"Lighting!AD218","v":0},{"$f":"Lighting!AE218","v":0}]
[0,{"$f":"Lighting!B219","v":211},{"$f":"Lighting!C219","v":0},{"$f":"Lighting!D219","v":0},{"$f":"Lighting!F219","v":0},{"$f":"Lighting!G219","v":0},{"$f":"Lighting!H219","v":0},{"$f":"Lighting!I219","v":0},{"$f":"Lighting!J219","v":0},{"$f":"Lighting!K219","v":0},{"$f":"Lighting!L219","v":0},{"$f":"Lighting!M219","v":0},{"$f":"Lighting!P219","v":0},{"$f":"Lighting!Q219","v":0},{"$f":"Lighting!S219","v":""},{"$f":"Lighting!T219","v":""},{"$f":"Lighting!U219","v":0},{"$f":"Lighting!V219","v":""},{"$f":"Lighting!W219","v":""},{"$f":"Lighting!Y219","v":""},{"$f":"Lighting!AB219","v":""},{"$f":"Lighting!AC219","v":0},{"$f":"Lighting!AD219","v":0},{"$f":"Lighting!AE219","v":0}]
[0,{"$f":"Lighting!B220","v":212},{"$f":"Lighting!C220","v":0},{"$f":"Lighting!D220","v":0},{"$f":"Lighting!F220","v":0},{"$f":"Lighting!G220","v":0},{"$f":"Lighting!H220","v":0},{"$f":"Lighting!I220","v":0},{"$f":"Lighting!J220","v":0},{"$f":"Lighting!K220","v":0},{"$f":"Lighting!L220","v":0},{"$f":"Lighting!M220","v":0},{"$f":"Lighting!P220","v":0},{"$f":"Lighting!Q220","v":0},{"$f":"Lighting!S220","v":""},{"$f":"Lighting!T220","v":""},{"$f":"Lighting!U220","v":0},{"$f":"Lighting!V220","v":""},{"$f":"Lighting!W220","v":""},{"$f":"Lighting!Y220","v":""},{"$f":"Lighting!AB220","v":""},{"$f":"Lighting!AC220","v":0},{"$f":"Lighting!AD220","v":0},{"$f":"Lighting!AE220","v":0}]
[0,{"$f":"Lighting!B221","v":213},{"$f":"Lighting!C221","v":0},{"$f":"Lighting!D221","v":0},{"$f":"Lighting!F221","v":0},{"$f":"Lighting!G221","v":0},{"$f":"Lighting!H221","v":0},{"$f":"Lighting!I221","v":0},{"$f":"Lighting!J221","v":0},{"$f":"Lighting!K221","v":0},{"$f":"Lighting!L221","v":0},{"$f":"Lighting!M221","v":0},{"$f":"Lighting!P221","v":0},{"$f":"Lighting!Q221","v":0},{"$f":"Lighting!S221","v":""},{"$f":"Lighting!T221","v":""},{"$f":"Lighting!U221","v":0},{"$f":"Lighting!V221","v":""},{"$f":"Lighting!W221","v":""},{"$f":"Lighting!Y221","v":""},{"$f":"Lighting!AB221","v":""},{"$f":"Lighting!AC221","v":0},{"$f":"Lighting!AD221","v":0},{"$f":"Lighting!AE221","v":0}]
[0,{"$f":"Lighting!B222","v":214},{"$f":"Lighting!C222","v":0},{"$f":"Lighting!D222","v":0},{"$f":"Lighting!F222","v":0},{"$f":"Lighting!G222","v":0},{"$f":"Lighting!H222","v":0},{"$f":"Lighting!I222","v":0},{"$f":"Lighting!J222","v":0},{"$f":"Lighting!K222","v":0},{"$f":"Lighting!L222","v":0},{"$f":"Lighting!M222","v":0},{"$f":"Lighting!P222","v":0},{"$f":"Lighting!Q222","v":0},{"$f":"Lighting!S222","v":""},{"$f":"Lighting!T222","v":""},{"$f":"Lighting!U222","v":0},{"$f":"Lighting!V222","v":""},{"$f":"Lighting!W222","v":""},{"$f":"Lighting!Y222","v":""},{"$f":"Lighting!AB222","v":""},{"$f":"Lighting!AC222","v":0},{"$f":"Lighting!AD222","v":0},{"$f":"Lighting!AE222","v":0}]
[0,{"$f":"Lighting!B223","v":215},{"$f":"Lighting!C223","v":0},{"$f":"Lighting!D223","v":0},{"$f":"Lighting!F223","v":0},{"$f":"Lighting!G223","v":0},{"$f":"Lighting!H223","v":0},{"$f":"Lighting!I223","v":0},{"$f":"Lighting!J223","v":0},{"$f":"Lighting!K223","v":0},{"$f":"Lighting!L223","v":0},{"$f":"Lighting!M223","v":0},{"$f":"Lighting!P223","v":0},{"$f":"Lighting!Q223","v":0},{"$f":"Lighting!S223","v":""},{"$f":"Lighting!T223","v":""},{"$f":"Lighting!U223","v":0},{"$f":"Lighting!V223","v":""},{"$f":"Lighting!W223","v":""},{"$f":"Lighting!Y223","v":""},{"$f":"Lighting!AB223","v":""},{"$f":"Lighting!AC223","v":0},{"$f":"Lighting!AD223","v":0},{"$f":"Lighting!AE223","v":0}]
[0,{"$f":"Lighting!B224","v":216},{"$f":"Lighting!C224","v":0},{"$f":"Lighting!D224","v":0},{"$f":"Lighting!F224","v":0},{"$f":"Lighting!G224","v":0},{"$f":"Lighting!H224","v":0},{"$f":"Lighting!I224","v":0},{"$f":"Lighting!J224","v":0},{"$f":"Lighting!K224","v":0},{"$f":"Lighting!L224","v":0},{"$f":"Lighting!M224","v":0},{"$f":"Lighting!P224","v":0},{"$f":"Lighting!Q224","v":0},{"$f":"Lighting!S224","v":""},{"$f":"Lighting!T224","v":""},{"$f":"Lighting!U224","v":0},{"$f":"Lighting!V224","v":""},{"$f":"Lighting!W224","v":""},{"$f":"Lighting!Y224","v":""},{"$f":"Lighting!AB224","v":""},{"$f":"Lighting!AC224","v":0},{"$f":"Lighting!AD224","v":0},{"$f":"Lighting!AE224","v":0}]
[0,{"$f":"Lighting!B225","v":217},{"$f":"Lighting!C225","v":0},{"$f":"Lighting!D225","v":0},{"$f":"Lighting!F225","v":0},{"$f":"Lighting!G225","v":0},{"$f":"Lighting!H225","v":0},{"$f":"Lighting!I225","v":0},{"$f":"Lighting!J225","v":0},{"$f":"Lighting!K225","v":0},{"$f":"Lighting!L225","v":0},{"$f":"Lighting!M225","v":0},{"$f":"Lighting!P225","v":0},{"$f":"Lighting!Q225","v":0},{"$f":"Lighting!S225","v":""},{"$f":"Lighting!T225","v":""},{"$f":"Lighting!U225","v":0},{"$f":"Lighting!V225","v":""},{"$f":"Lighting!W225","v":""},{"$f":"Lighting!Y225","v":""},{"$f":"Lighting!AB225","v":""},{"$f":"Lighting!AC225","v":0},{"$f":"Lighting!AD225","v":0},{"$f":"Lighting!AE225","v":0}]
[0,{"$f":"Lighting!B226","v":218},{"$f":"Lighting!C226","v":0},{"$f":"Lighting!D226","v":0},{"$f":"Lighting!F226","v":0},{"$f":"Lighting!G226","v":0},{"$f":"Lighting!H226","v":0},{"$f":"Lighting!I226","v":0},{"$f":"Lighting!J226","v":0},{"$f":"Lighting!K226","v":0},{"$f":"Lighting!L226","v":0},{"$f":"Lighting!M226","v":0},{"$f":"Lighting!P226","v":0},{"$f":"Lighting!Q226","v":0},{"$f":"Lighting!S226","v":""},{"$f":"Lighting!T226","v":""},{"$f":"Lighting!U226","v":0},{"$f":"Lighting!V226","v":""},{"$f":"Lighting!W226","v":""},{"$f":"Lighting!Y226","v":""},{"$f":"Lighting!AB226","v":""},{"$f":"Lighting!AC226","v":0},{"$f":"Lighting!AD226","v":0},{"$f":"Lighting!AE226","v":0}]
[0,{"$f":"Lighting!B227","v":219},{"$f":"Lighting!C227","v":0},{"$f":"Lighting!D227","v":0},{"$f":"Lighting!F227","v":0},{"$f":"Lighting!G227","v":0},{"$f":"Lighting!H227","v":0},{"$f":"Lighting!I227","v":0},{"$f":"Lighting!J227","v":0},{"$f":"Lighting!K227","v":0},{"$f":"Lighting!L227","v":0},{"$f":"Lighting!M227","v":0},{"$f":"Lighting!P227","v":0},{"$f":"Lighting!Q227","v":0},{"$f":"Lighting!S227","v":""},{"$f":"Lighting!T227","v":""},{"$f":"Lighting!U227","v":0},{"$f":"Lighting!V227","v":""},{"$f":"Lighting!W227","v":""},{"$f":"Lighting!Y227","v":""},{"$f":"Lighting!AB227","v":""},{"$f":"Lighting!AC227","v":0},{"$f":"Lighting!AD227","v":0},{"$f":"Lighting!AE227","v":0}]
[0,{"$f":"Lighting!B228","v":220},{"$f":"Lighting!C228","v":0},{"$f":"Lighting!D228","v":0},{"$f":"Lighting!F228","v":0},{"$f":"Lighting!G228","v":0},{"$f":"Lighting!H228","v":0},{"$f":"Lighting!I228","v":0},{"$f":"Lighting!J228","v":0},{"$f":"Lighting!K228","v":0},{"$f":"Lighting!L228","v":0},{"$f":"Lighting!M228","v":0},{"$f":"Lighting!P228","v":0},{"$f":"Lighting!Q228","v":0},{"$f":"Lighting!S228","v":""},{"$f":"Lighting!T228","v":""},{"$f":"Lighting!U228","v":0},{"$f":"Lighting!V228","v":""},{"$f":"Lighting!W228","v":""},{"$f":"Lighting!Y228","v":""},{"$f":"Lighting!AB228","v":""},{"$f":"Lighting!AC228","v":0},{"$f":"Lighting!AD228","v":0},{"$f":"Lighting!AE228","v":0}]
[0,{"$f":"Lighting!B229","v":221},{"$f":"Lighting!C229","v":0},{"$f":"Lighting!D229","v":0},{"$f":"Lighting!F229","v":0},{"$f":"Lighting!G229","v":0},{"$f":"Lighting!H229","v":0},{"$f":"Lighting!I229","v":0},{"$f":"Lighting!J229","v":0},{"$f":"Lighting!K229","v":0},{"$f":"Lighting!L229","v":0},{"$f":"Lighting!M229","v":0},{"$f":"Lighting!P229","v":0},{"$f":"Lighting!Q229","v":0},{"$f":"Lighting!S229","v":""},{"$f":"Lighting!T229","v":""},{"$f":"Lighting!U229","v":0},{"$f":"Lighting!V229","v":""},{"$f":"Lighting!W229","v":""},{"$f":"Lighting!Y229","v":""},{"$f":"Lighting!AB229","v":""},{"$f":"Lighting!AC229","v":0},{"$f":"Lighting!AD229","v":0},{"$f":"Lighting!AE229","v":0}]
[0,{"$f":"Lighting!B230","v":222},{"$f":"Lighting!C230","v":0},{"$f":"Lighting!D230","v":0},{"$f":"Lighting!F230","v":0},{"$f":"Lighting!G230","v":0},{"$f":"Lighting!H230","v":0},{"$f":"Lighting!I230","v":0},{"$f":"Lighting!J230","v":0},{"$f":"Lighting!K230","v":0},{"$f":"Lighting!L230","v":0},{"$f":"Lighting!M230","v":0},{"$f":"Lighting!P230","v":0},{"$f":"Lighting!Q230","v":0},{"$f":"Lighting!S230","v":""},{"$f":"Lighting!T230","v":""},{"$f":"Lighting!U230","v":0},{"$f":"Lighting!V230","v":""},{"$f":"Lighting!W230","v":""},{"$f":"Lighting!Y230","v":""},{"$f":"Lighting!AB230","v":""},{"$f":"Lighting!AC230","v":0},{"$f":"Lighting!AD230","v":0},{"$f":"Lighting!AE230","v":0}]
[0,{"$f":"Lighting!B231","v":223},{"$f":"Lighting!C231","v":0},{"$f":"Lighting!D231","v":0},{"$f":"Lighting!F231","v":0},{"$f":"Lighting!G231","v":0},{"$f":"Lighting!H231","v":0},{"$f":"Lighting!I231","v":0},{"$f":"Lighting!J231","v":0},{"$f":"Lighting!K231","v":0},{"$f":"Lighting!L231","v":0},{"$f":"Lighting!M231","v":0},{"$f":"Lighting!P231","v":0},{"$f":"Lighting!Q231","v":0},{"$f":"Lighting!S231","v":""},{"$f":"Lighting!T231","v":""},{"$f":"Lighting!U231","v":0},{"$f":"Lighting!V231","v":""},{"$f":"Lighting!W231","v":""},{"$f":"Lighting!Y231","v":""},{"$f":"Lighting!AB231","v":""},{"$f":"Lighting!AC231","v":0},{"$f":"Lighting!AD231","v":0},{"$f":"Lighting!AE231","v":0}]
[0,{"$f":"Lighting!B232","v":224},{"$f":"Lighting!C232","v":0},{"$f":"Lighting!D232","v":0},{"$f":"Lighting!F232","v":0},{"$f":"Lighting!G232","v":0},{"$f":"Lighting!H232","v":0},{"$f":"Lighting!I232","v":0},{"$f":"Lighting!J232","v":0},{"$f":"Lighting!K232","v":0},{"$f":"Lighting!L232","v":0},{"$f":"Lighting!M232","v":0},{"$f":"Lighting!P232","v":0},{"$f":"Lighting!Q232","v":0},{"$f":"Lighting!S232","v":""},{"$f":"Lighting!T232","v":""},{"$f":"Lighting!U232","v":0},{"$f":"Lighting!V232","v":""},{"$f":"Lighting!W232","v":""},{"$f":"Lighting!Y232","v":""},{"$f":"Lighting!AB232","v":""},{"$f":"Lighting!AC232","v":0},{"$f":"Lighting!AD232","v":0},{"$f":"Lighting!AE232","v":0}]
[0,{"$f":"Lighting!B233","v":225},{"$f":"Lighting!C233","v":0},{"$f":"Lighting!D233","v":0},{"$f":"Lighting!F233","v":0},{"$f":"Lighting!G233","v":0},{"$f":"Lighting!H233","v":0},{"$f":"Lighting!I233","v":0},{"$f":"Lighting!J233","v":0},{"$f":"Lighting!K233","v":0},{"$f":"Lighting!L233","v":0},{"$f":"Lighting!M233","v":0},{"$f":"Lighting!P233","v":0},{"$f":"Lighting!Q233","v":0},{"$f":"Lighting!S233","v":""},{"$f":"Lighting!T233","v":""},{"$f":"Lighting!U233","v":0},{"$f":"Lighting!V233","v":""},{"$f":"Lighting!W233","v":""},{"$f":"Lighting!Y233","v":""},{"$f":"Lighting!AB233","v":""},{"$f":"Lighting!AC233","v":0},{"$f":"Lighting!AD233","v":0},{"$f":"Lighting!AE233","v":0}]
[0,{"$f":"Lighting!B234","v":226},{"$f":"Lighting!C234","v":0},{"$f":"Lighting!D234","v":0},{"$f":"Lighting!F234","v":0},{"$f":"Lighting!G234","v":0},{"$f":"Lighting!H234","v":0},{"$f":"Lighting!I234","v":0},{"$f":"Lighting!J234","v":0},{"$f":"Lighting!K234","v":0},{"$f":"Lighting!L234","v":0},{"$f":"Lighting!M234","v":0},{"$f":"Lighting!P234","v":0},{"$f":"Lighting!Q234","v":0},{"$f":"Lighting!S234","v":""},{"$f":"Lighting!T234","v":""},{"$f":"Lighting!U234","v":0},{"$f":"Lighting!V234","v":""},{"$f":"Lighting!W234","v":""},{"$f":"Lighting!Y234","v":""},{"$f":"Lighting!AB234","v":""},{"$f":"Lighting!AC234","v":0},{"$f":"Lighting!AD234","v":0},{"$f":"Lighting!AE234","v":0}]
[0,{"$f":"Lighting!B235","v":227},{"$f":"Lighting!C235","v":0},{"$f":"Lighting!D235","v":0},{"$f":"Lighting!F235","v":0},{"$f":"Lighting!G235","v":0},{"$f":"Lighting!H235","v":0},{"$f":"Lighting!I235","v":0},{"$f":"Lighting!J235","v":0},{"$f":"Lighting!K235","v":0},{"$f":"Lighting!L235","v":0},{"$f":"Lighting!M235","v":0},{"$f":"Lighting!P235","v":0},{"$f":"Lighting!Q235","v":0},{"$f":"Lighting!S235","v":""},{"$f":"Lighting!T235","v":""},{"$f":"Lighting!U235","v":0},{"$f":"Lighting!V235","v":""},{"$f":"Lighting!W235","v":""},{"$f":"Lighting!Y235","v":""},{"$f":"Lighting!AB235","v":""},{"$f":"Lighting!AC235","v":0},{"$f":"Lighting!AD235","v":0},{"$f":"Lighting!AE235","v":0}]
[0,{"$f":"Lighting!B236","v":228},{"$f":"Lighting!C236","v":0},{"$f":"Lighting!D236","v":0},{"$f":"Lighting!F236","v":0},{"$f":"Lighting!G236","v":0},{"$f":"Lighting!H236","v":0},{"$f":"Lighting!I236","v":0},{"$f":"Lighting!J236","v":0},{"$f":"Lighting!K236","v":0},{"$f":"Lighting!L236","v":0},{"$f":"Lighting!M236","v":0},{"$f":"Lighting!P236","v":0},{"$f":"Lighting!Q236","v":0},{"$f":"Lighting!S236","v":""},{"$f":"Lighting!T236","v":""},{"$f":"Lighting!U236","v":0},{"$f":"Lighting!V236","v":""},{"$f":"Lighting!W236","v":""},{"$f":"Lighting!Y236","v":""},{"$f":"Lighting!AB236","v":""},{"$f":"Lighting!AC236","v":0},{"$f":"Lighting!AD236","v":0},{"$f":"Lighting!AE236","v":0}]
[0,{"$f":"Lighting!B237","v":229},{"$f":"Lighting!C237","v":0},{"$f":"Lighting!D237","v":0},{"$f":"Lighting!F237","v":0},{"$f":"Lighting!G237","v":0},{"$f":"Lighting!H237","v":0},{"$f":"Lighting!I237","v":0},{"$f":"Lighting!J237","v":0},{"$f":"Lighting!K237","v":0},{"$f":"Lighting!L237","v":0},{"$f":"Lighting!M237","v":0},{"$f":"Lighting!P237","v":0},{"$f":"Lighting!Q237","v":0},{"$f":"Lighting!S237","v":""},{"$f":"Lighting!T237","v":""},{"$f":"Lighting!U237","v":0},{"$f":"Lighting!V237","v":""},{"$f":"Lighting!W237","v":""},{"$f":"Lighting!Y237","v":""},{"$f":"Lighting!AB237","v":""},{"$f":"Lighting!AC237","v":0},{"$f":"Lighting!AD237","v":0},{"$f":"Lighting!AE237","v":0}]
[0,{"$f":"Lighting!B238","v":230},{"$f":"Lighting!C238","v":0},{"$f":"Lighting!D238","v":0},{"$f":"Lighting!F238","v":0},{"$f":"Lighting!G238","v":0},{"$f":"Lighting!H238","v":0},{"$f":"Lighting!I238","v":0},{"$f":"Lighting!J238","v":0},{"$f":"Lighting!K238","v":0},{"$f":"Lighting!L238","v":0},{"$f":"Lighting!M238","v":0},{"$f":"Lighting!P238","v":0},{"$f":"Lighting!Q238","v":0},{"$f":"Lighting!S238","v":""},{"$f":"Lighting!T238","v":""},{"$f":"Lighting!U238","v":0},{"$f":"Lighting!V238","v":""},{"$f":"Lighting!W238","v":""},{"$f":"Lighting!Y238","v":""},{"$f":"Lighting!AB238","v":""},{"$f":"Lighting!AC238","v":0},{"$f":"Lighting!AD238","v":0},{"$f":"Lighting!AE238","v":0}]
[0,{"$f":"Lighting!B239","v":231},{"$f":"Lighting!C239","v":0},{"$f":"Lighting!D239","v":0},{"$f":"Lighting!F239","v":0},{"$f":"Lighting!G239","v":0},{"$f":"Lighting!H239","v":0},{"$f":"Lighting!I239","v":0},{"$f":"Lighting!J239","v":0},{"$f":"Lighting!K239","v":0},{"$f":"Lighting!L239","v":0},{"$f":"Lighting!M239","v":0},{"$f":"Lighting!P239","v":0},{"$f":"Lighting!Q239","v":0},{"$f":"Lighting!S239","v":""},{"$f":"Lighting!T239","v":""},{"$f":"Lighting!U239","v":0},{"$f":"Lighting!V239","v":""},{"$f":"Lighting!W239","v":""},{"$f":"Lighting!Y239","v":""},{"$f":"Lighting!AB239","v":""},{"$f":"Lighting!AC239","v":0},{"$f":"Lighting!AD239","v":0},{"$f":"Lighting!AE239","v":0}]
[0,{"$f":"Lighting!B240","v":232},{"$f":"Lighting!C240","v":0},{"$f":"Lighting!D240","v":0},{"$f":"Lighting!F240","v":0},{"$f":"Lighting!G240","v":0},{"$f":"Lighting!H240","v":0},{"$f":"Lighting!I240","v":0},{"$f":"Lighting!J240","v":0},{"$f":"Lighting!K240","v":0},{"$f":"Lighting!L240","v":0},{"$f":"Lighting!M240","v":0},{"$f":"Lighting!P240","v":0},{"$f":"Lighting!Q240","v":0},{"$f":"Lighting!S240","v":""},{"$f":"Lighting!T240","v":""},{"$f":"Lighting!U240","v":0},{"$f":"Lighting!V240","v":""},{"$f":"Lighting!W240","v":""},{"$f":"Lighting!Y240","v":""},{"$f":"Lighting!AB240","v":""},{"$f":"Lighting!AC240","v":0},{"$f":"Lighting!AD240","v":0},{"$f":"Lighting!AE240","v":0}]
[0,{"$f":"Lighting!B241","v":233},{"$f":"Lighting!C241","v":0},{"$f":"Lighting!D241","v":0},{"$f":"Lighting!F241","v":0},{"$f":"Lighting!G241","v":0},{"$f":"Lighting!H241","v":0},{"$f":"Lighting!I241","v":0},{"$f":"Lighting!J241","v":0},{"$f":"Lighting!K241","v":0},{"$f":"Lighting!L241","v":0},{"$f":"Lighting!M241","v":0},{"$f":"Lighting!P241","v":0},{"$f":"Lighting!Q241","v":0},{"$f":"Lighting!S241","v":""},{"$f":"Lighting!T241","v":""},{"$f":"Lighting!U241","v":0},{"$f":"Lighting!V241","v":""},{"$f":"Lighting!W241","v":""},{"$f":"Lighting!Y241","v":""},{"$f":"Lighting!AB241","v":""},{"$f":"Lighting!AC241","v":0},{"$f":"Lighting!AD241","v":0},{"$f":"Lighting!AE241","v":0}]
[0,{"$f":"Lighting!B242","v":234},{"$f":"Lighting!C242","v":0},{"$f":"Lighting!D242","v":0},{"$f":"Lighting!F242","v":0},{"$f":"Lighting!G242","v":0},{"$f":"Lighting!H242","v":0},{"$f":"Lighting!I242","v":0},{"$f":"Lighting!J242","v":0},{"$f":"Lighting!K242","v":0},{"$f":"Lighting!L242","v":0},{"$f":"Lighting!M242","v":0},{"$f":"Lighting!P242","v":0},{"$f":"Lighting!Q242","v":0},{"$f":"Lighting!S242","v":""},{"$f":"Lighting!T242","v":""},{"$f":"Lighting!U242","v":0},{"$f":"Lighting!V242","v":""},{"$f":"Lighting!W242","v":""},{"$f":"Lighting!Y242","v":""},{"$f":"Lighting!AB242","v":""},{"$f":"Lighting!AC242","v":0},{"$f":"Lighting!AD242","v":0},{"$f":"Lighting!AE242","v":0}]
[0,{"$f":"Lighting!B243","v":235},{"$f":"Lighting!C243","v":0},{"$f":"Lighting!D243","v":0},{"$f":"Lighting!F243","v":0},{"$f":"Lighting!G243","v":0},{"$f":"Lighting!H243","v":0},{"$f":"Lighting!I243","v":0},{"$f":"Lighting!J243","v":0},{"$f":"Lighting!K243","v":0},{"$f":"Lighting!L243","v":0},{"$f":"Lighting!M243","v":0},{"$f":"Lighting!P243","v":0},{"$f":"Lighting!Q243","v":0},{"$f":"Lighting!S243","v":""},{"$f":"Lighting!T243","v":""},{"$f":"Lighting!U243","v":0},{"$f":"Lighting!V243","v":""},{"$f":"Lighting!W243","v":""},{"$f":"Lighting!Y243","v":""},{"$f":"Lighting!AB243","v":""},{"$f":"Lighting!AC243","v":0},{"$f":"Lighting!AD243","v":0},{"$f":"Lighting!AE243","v":0}]
[0,{"$f":"Lighting!B244","v":236},{"$f":"Lighting!C244","v":0},{"$f":"Lighting!D244","v":0},{"$f":"Lighting!F244","v":0},{"$f":"Lighting!G244","v":0},{"$f":"Lighting!H244","v":0},{"$f":"Lighting!I244","v":0},{"$f":"Lighting!J244","v":0},{"$f":"Lighting!K244","v":0},{"$f":"Lighting!L244","v":0},{"$f":"Lighting!M244","v":0},{"$f":"Lighting!P244","v":0},{"$f":"Lighting!Q244","v":0},{"$f":"Lighting!S244","v":""},{"$f":"Lighting!T244","v":""},{"$f":"Lighting!U244","v":0},{"$f":"Lighting!V244","v":""},{"$f":"Lighting!W244","v":""},{"$f":"Lighting!Y244","v":""},{"$f":"Lighting!AB244","v":""},{"$f":"Lighting!AC244","v":0},{"$f":"Lighting!AD244","v":0},{"$f":"Lighting!AE244","v":0}]
[0,{"$f":"Lighting!B245","v":237},{"$f":"Lighting!C245","v":0},{"$f":"Lighting!D245","v":0},{"$f":"Lighting!F245","v":0},{"$f":"Lighting!G245","v":0},{"$f":"Lighting!H245","v":0},{"$f":"Lighting!I245","v":0},{"$f":"Lighting!J245","v":0},{"$f":"Lighting!K245","v":0},{"$f":"Lighting!L245","v":0},{"$f":"Lighting!M245","v":0},{"$f":"Lighting!P245","v":0},{"$f":"Lighting!Q245","v":0},{"$f":"Lighting!S245","v":""},{"$f":"Lighting!T245","v":""},{"$f":"Lighting!U245","v":0},{"$f":"Lighting!V245","v":""},{"$f":"Lighting!W245","v":""},{"$f":"Lighting!Y245","v":""},{"$f":"Lighting!AB245","v":""},{"$f":"Lighting!AC245","v":0},{"$f":"Lighting!AD245","v":0},{"$f":"Lighting!AE245","v":0}]
[0,{"$f":"Lighting!B246","v":238},{"$f":"Lighting!C246","v":0},{"$f":"Lighting!D246","v":0},{"$f":"Lighting!F246","v":0},{"$f":"Lighting!G246","v":0},{"$f":"Lighting!H246","v":0},{"$f":"Lighting!I246","v":0},{"$f":"Lighting!J246","v":0},{"$f":"Lighting!K246","v":0},{"$f":"Lighting!L246","v":0},{"$f":"Lighting!M246","v":0},{"$f":"Lighting!P246","v":0},{"$f":"Lighting!Q246","v":0},{"$f":"Lighting!S246","v":""},{"$f":"Lighting!T246","v":""},{"$f":"Lighting!U246","v":0},{"$f":"Lighting!V246","v":""},{"$f":"Lighting!W246","v":""},{"$f":"Lighting!Y246","v":""},{"$f":"Lighting!AB246","v":""},{"$f":"Lighting!AC246","v":0},{"$f":"Lighting!AD246","v":0},{"$f":"Lighting!AE246","v":0}]
[0,{"$f":"Lighting!B247","v":239},{"$f":"Lighting!C247","v":0},{"$f":"Lighting!D247","v":0},{"$f":"Lighting!F247","v":0},{"$f":"Lighting!G247","v":0},{"$f":"Lighting!H247","v":0},{"$f":"Lighting!I247","v":0},{"$f":"Lighting!J247","v":0},{"$f":"Lighting!K247","v":0},{"$f":"Lighting!L247","v":0},{"$f":"Lighting!M247","v":0},{"$f":"Lighting!P247","v":0},{"$f":"Lighting!Q247","v":0},{"$f":"Lighting!S247","v":""},{"$f":"Lighting!T247","v":""},{"$f":"Lighting!U247","v":0},{"$f":"Lighting!V247","v":""},{"$f":"Lighting!W247","v":""},{"$f":"Lighting!Y247","v":""},{"$f":"Lighting!AB247","v":""},{"$f":"Lighting!AC247","v":0},{"$f":"Lighting!AD247","v":0},{"$f":"Lighting!AE247","v":0}]
[0,{"$f":"Lighting!B248","v":240},{"$f":"Lighting!C248","v":0},{"$f":"Lighting!D248","v":0},{"$f":"Lighting!F248","v":0},{"$f":"Lighting!G248","v":0},{"$f":"Lighting!H248","v":0},{"$f":"Lighting!I248","v":0},{"$f":"Lighting!J248","v":0},{"$f":"Lighting!K248","v":0},{"$f":"Lighting!L248","v":0},{"$f":"Lighting!M248","v":0},{"$f":"Lighting!P248","v":0},{"$f":"Lighting!Q248","v":0},{"$f":"Lighting!S248","v":""},{"$f":"Lighting!T248","v":""},{"$f":"Lighting!U248","v":0},{"$f":"Lighting!V248","v":""},{"$f":"Lighting!W248","v":""},{"$f":"Lighting!Y248","v":""},{"$f":"Lighting!AB248","v":""},{"$f":"Lighting!AC248","v":0},{"$f":"Lighting!AD248","v":0},{"$f":"Lighting!AE248","v":0}]
[0,{"$f":"Lighting!B249","v":241},{"$f":"Lighting!C249","v":0},{"$f":"Lighting!D249","v":0},{"$f":"Lighting!F249","v":0},{"$f":"Lighting!G249","v":0},{"$f":"Lighting!H249","v":0},{"$f":"Lighting!I249","v":0},{"$f":"Lighting!J249","v":0},{"$f":"Lighting!K249","v":0},{"$f":"Lighting!L249","v":0},{"$f":"Lighting!M249","v":0},{"$f":"Lighting!P249","v":0},{"$f":"Lighting!Q249","v":0},{"$f":"Lighting!S249","v":""},{"$f":"Lighting!T249","v":""},{"$f":"Lighting!U249","v":0},{"$f":"Lighting!V249","v":""},{"$f":"Lighting!W249","v":""},{"$f":"Lighting!Y249","v":""},{"$f":"Lighting!AB249","v":""},{"$f":"Lighting!AC249","v":0},{"$f":"Lighting!AD249","v":0},{"$f":"Lighting!AE249","v":0}]
[0,{"$f":"Lighting!B250","v":242},{"$f":"Lighting!C250","v":0},{"$f":"Lighting!D250","v":0},{"$f":"Lighting!F250","v":0},{"$f":"Lighting!G250","v":0},{"$f":"Lighting!H250","v":0},{"$f":"Lighting!I250","v":0},{"$f":"Lighting!J250","v":0},{"$f":"Lighting!K250","v":0},{"$f":"Lighting!L250","v":0},{"$f":"Lighting!M250","v":0},{"$f":"Lighting!P250","v":0},{"$f":"Lighting!Q250","v":0},{"$f":"Lighting!S250","v":""},{"$f":"Lighting!T250","v":""},{"$f":"Lighting!U250","v":0},{"$f":"Lighting!V250","v":""},{"$f":"Lighting!W250","v":""},{"$f":"Lighting!Y250","v":""},{"$f":"Lighting!AB250","v":""},{"$f":"Lighting!AC250","v":0},{"$f":"Lighting!AD250","v":0},{"$f":"Lighting!AE250","v":0}]
[0,{"$f":"Lighting!B251","v":243},{"$f":"Lighting!C251","v":0},{"$f":"Lighting!D251","v":0},{"$f":"Lighting!F251","v":0},{"$f":"Lighting!G251","v":0},{"$f":"Lighting!H251","v":0},{"$f":"Lighting!I251","v":0},{"$f":"Lighting!J251","v":0},{"$f":"Lighting!K251","v":0},{"$f":"Lighting!L251","v":0},{"$f":"Lighting!M251","v":0},{"$f":"Lighting!P251","v":0},{"$f":"Lighting!Q251","v":0},{"$f":"Lighting!S251","v":""},{"$f":"Lighting!T251","v":""},{"$f":"Lighting!U251","v":0},{"$f":"Lighting!V251","v":""},{"$f":"Lighting!W251","v":""},{"$f":"Lighting!Y251","v":""},{"$f":"Lighting!AB251","v":""},{"$f":"Lighting!AC251","v":0},{"$f":"Lighting!AD251","v":0},{"$f":"Lighting!AE251","v":0}]
[0,{"$f":"Lighting!B252","v":244},{"$f":"Lighting!C252","v":0},{"$f":"Lighting!D252","v":0},{"$f":"Lighting!F252","v":0},{"$f":"Lighting!G252","v":0},{"$f":"Lighting!H252","v":0},{"$f":"Lighting!I252","v":0},{"$f":"Lighting!J252","v":0},{"$f":"Lighting!K252","v":0},{"$f":"Lighting!L252","v":0},{"$f":"Lighting!M252","v":0},{"$f":"Lighting!P252","v":0},{"$f":"Lighting!Q252","v":0},{"$f":"Lighting!S252","v":""},{"$f":"Lighting!T252","v":""},{"$f":"Lighting!U252","v":0},{"$f":"Lighting!V252","v":""},{"$f":"Lighting!W252","v":""},{"$f":"Lighting!Y252","v":""},{"$f":"Lighting!AB252","v":""},{"$f":"Lighting!AC252","v":0},{"$f":"Lighting!AD252","v":0},{"$f":"Lighting!AE252","v":0}]
[0,{"$f":"Lighting!B253","v":245},{"$f":"Lighting!C253","v":0},{"$f":"Lighting!D253","v":0},{"$f":"Lighting!F253","v":0},{"$f":"Lighting!G253","v":0},{"$f":"Lighting!H253","v":0},{"$f":"Lighting!I253","v":0},{"$f":"Lighting!J253","v":0},{"$f":"Lighting!K253","v":0},{"$f":"Lighting!L253","v":0},{"$f":"Lighting!M253","v":0},{"$f":"Lighting!P253","v":0},{"$f":"Lighting!Q253","v":0},{"$f":"Lighting!S253","v":""},{"$f":"Lighting!T253","v":""},{"$f":"Lighting!U253","v":0},{"$f":"Lighting!V253","v":""},{"$f":"Lighting!W253","v":""},{"$f":"Lighting!Y253","v":""},{"$f":"Lighting!AB253","v":""},{"$f":"Lighting!AC253","v":0},{"$f":"Lighting!AD253","v":0},{"$f":"Lighting!AE253","v":0}]
[0,{"$f":"Lighting!B254","v":246},{"$f":"Lighting!C254","v":0},{"$f":"Lighting!D254","v":0},{"$f":"Lighting!F254","v":0},{"$f":"Lighting!G254","v":0},{"$f":"Lighting!H254","v":0},{"$f":"Lighting!I254","v":0},{"$f":"Lighting!J254","v":0},{"$f":"Lighting!K254","v":0},{"$f":"Lighting!L254","v":0},{"$f":"Lighting!M254","v":0},{"$f":"Lighting!P254","v":0},{"$f":"Lighting!Q254","v":0},{"$f":"Lighting!S254","v":""},{"$f":"Lighting!T254","v":""},{"$f":"Lighting!U254","v":0},{"$f":"Lighting!V254","v":""},{"$f":"Lighting!W254","v":""},{"$f":"Lighting!Y254","v":""},{"$f":"Lighting!AB254","v":""},{"$f":"Lighting!AC254","v":0},{"$f":"Lighting!AD254","v":0},{"$f":"Lighting!AE254","v":0}]
[0,{"$f":"Lighting!B255","v":247},{"$f":"Lighting!C255","v":0},{"$f":"Lighting!D255","v":0},{"$f":"Lighting!F255","v":0},{"$f":"Lighting!G255","v":0},{"$f":"Lighting!H255","v":0},{"$f":"Lighting!I255","v":0},{"$f":"Lighting!J255","v":0},{"$f":"Lighting!K255","v":0},{"$f":"Lighting!L255","v":0},{"$f":"Lighting!M255","v":0},{"$f":"Lighting!P255","v":0},{"$f":"Lighting!Q255","v":0},{"$f":"Lighting!S255","v":""},{"$f":"Lighting!T255","v":""},{"$f":"Lighting!U255","v":0},{"$f":"Lighting!V255","v":""},{"$f":"Lighting!W255","v":""},{"$f":"Lighting!Y255","v":""},{"$f":"Lighting!AB255","v":""},{"$f":"Lighting!AC255","v":0},{"$f":"Lighting!AD255","v":0},{"$f":"Lighting!AE255","v":0}]
[0,{"$f":"Lighting!B256","v":248},{"$f":"Lighting!C256","v":0},{"$f":"Lighting!D256","v":0},{"$f":"Lighting!F256","v":0},{"$f":"Lighting!G256","v":0},{"$f":"Lighting!H256","v":0},{"$f":"Lighting!I256","v":0},{"$f":"Lighting!J256","v":0},{"$f":"Lighting!K256","v":0},{"$f":"Lighting!L256","v":0},{"$f":"Lighting!M256","v":0},{"$f":"Lighting!P256","v":0},{"$f":"Lighting!Q256","v":0},{"$f":"Lighting!S256","v":""},{"$f":"Lighting!T256","v":""},{"$f":"Lighting!U256","v":0},{"$f":"Lighting!V256","v":""},{"$f":"Lighting!W256","v":""},{"$f":"Lighting!Y256","v":""},{"$f":"Lighting!AB256","v":""},{"$f":"Lighting!AC256","v":0},{"$f":"Lighting!AD256","v":0},{"$f":"Lighting!AE256","v":0}]
[0,{"$f":"Lighting!B257","v":249},{"$f":"Lighting!C257","v":0},{"$f":"Lighting!D257","v":0},{"$f":"Lighting!F257","v":0},{"$f":"Lighting!G257","v":0},{"$f":"Lighting!H257","v":0},{"$f":"Lighting!I257","v":0},{"$f":"Lighting!J257","v":0},{"$f":"Lighting!K257","v":0},{"$f":"Lighting!L257","v":0},{"$f":"Lighting!M257","v":0},{"$f":"Lighting!P257","v":0},{"$f":"Lighting!Q257","v":0},{"$f":"Lighting!S257","v":""},{"$f":"Lighting!T257","v":""},{"$f":"Lighting!U257","v":0},{"$f":"Lighting!V257","v":""},{"$f":"Lighting!W257","v":""},{"$f":"Lighting!Y257","v":""},{"$f":"Lighting!AB257","v":""},{"$f":"Lighting!AC257","v":0},{"$f":"Lighting!AD257","v":0},{"$f":"Lighting!AE257","v":0}]
[0,{"$f":"Lighting!B258","v":250},{"$f":"Lighting!C258","v":0},{"$f":"Lighting!D258","v":0},{"$f":"Lighting!F258","v":0},{"$f":"Lighting!G258","v":0},{"$f":"Lighting!H258","v":0},{"$f":"Lighting!I258","v":0},{"$f":"Lighting!J258","v":0},{"$f":"Lighting!K258","v":0},{"$f":"Lighting!L258","v":0},{"$f":"Lighting!M258","v":0},{"$f":"Lighting!P258","v":0},{"$f":"Lighting!Q258","v":0},{"$f":"Lighting!S258","v":""},{"$f":"Lighting!T258","v":""},{"$f":"Lighting!U258","v":0},{"$f":"Lighting!V258","v":""},{"$f":"Lighting!W258","v":""},{"$f":"Lighting!Y258","v":""},{"$f":"Lighting!AB258","v":""},{"$f":"Lighting!AC258","v":0},{"$f":"Lighting!AD258","v":0},{"$f":"Lighting!AE258","v":0}]
[0,{"$f":"Lighting!B259","v":251},{"$f":"Lighting!C259","v":0},{"$f":"Lighting!D259","v":0},{"$f":"Lighting!F259","v":0},{"$f":"Lighting!G259","v":0},{"$f":"Lighting!H259","v":0},{"$f":"Lighting!I259","v":0},{"$f":"Lighting!J259","v":0},{"$f":"Lighting!K259","v":0},{"$f":"Lighting!L259","v":0},{"$f":"Lighting!M259","v":0},{"$f":"Lighting!P259","v":0},{"$f":"Lighting!Q259","v":0},{"$f":"Lighting!S259","v":""},{"$f":"Lighting!T259","v":""},{"$f":"Lighting!U259","v":0},{"$f":"Lighting!V259","v":""},{"$f":"Lighting!W259","v":""},{"$f":"Lighting!Y259","v":""},{"$f":"Lighting!AB259","v":""},{"$f":"Lighting!AC259","v":0},{"$f":"Lighting!AD259","v":0},{"$f":"Lighting!AE259","v":0}]
[0,{"$f":"Lighting!B260","v":252},{"$f":"Lighting!C260","v":0},{"$f":"Lighting!D260","v":0},{"$f":"Lighting!F260","v":0},{"$f":"Lighting!G260","v":0},{"$f":"Lighting!H260","v":0},{"$f":"Lighting!I260","v":0},{"$f":"Lighting!J260","v":0},{"$f":"Lighting!K260","v":0},{"$f":"Lighting!L260","v":0},{"$f":"Lighting!M260","v":0},{"$f":"Lighting!P260","v":0},{"$f":"Lighting!Q260","v":0},{"$f":"Lighting!S260","v":""},{"$f":"Lighting!T260","v":""},{"$f":"Lighting!U260","v":0},{"$f":"Lighting!V260","v":""},{"$f":"Lighting!W260","v":""},{"$f":"Lighting!Y260","v":""},{"$f":"Lighting!AB260","v":""},{"$f":"Lighting!AC260","v":0},{"$f":"Lighting!AD260","v":0},{"$f":"Lighting!AE260","v":0}]
[0,{"$f":"Lighting!B261","v":253},{"$f":"Lighting!C261","v":0},{"$f":"Lighting!D261","v":0},{"$f":"Lighting!F261","v":0},{"$f":"Lighting!G261","v":0},{"$f":"Lighting!H261","v":0},{"$f":"Lighting!I261","v":0},{"$f":"Lighting!J261","v":0},{"$f":"Lighting!K261","v":0},{"$f":"Lighting!L261","v":0},{"$f":"Lighting!M261","v":0},{"$f":"Lighting!P261","v":0},{"$f":"Lighting!Q261","v":0},{"$f":"Lighting!S261","v":""},{"$f":"Lighting!T261","v":""},{"$f":"Lighting!U261","v":0},{"$f":"Lighting!V261","v":""},{"$f":"Lighting!W261","v":""},{"$f":"Lighting!Y261","v":""},{"$f":"Lighting!AB261","v":""},{"$f":"Lighting!AC261","v":0},{"$f":"Lighting!AD261","v":0},{"$f":"Lighting!AE261","v":0}]
[0,{"$f":"Lighting!B262","v":254},{"$f":"Lighting!C262","v":0},{"$f":"Lighting!D262","v":0},{"$f":"Lighting!F262","v":0},{"$f":"Lighting!G262","v":0},{"$f":"Lighting!H262","v":0},{"$f":"Lighting!I262","v":0},{"$f":"Lighting!J262","v":0},{"$f":"Lighting!K262","v":0},{"$f":"Lighting!L262","v":0},{"$f":"Lighting!M262","v":0},{"$f":"Lighting!P262","v":0},{"$f":"Lighting!Q262","v":0},{"$f":"Lighting!S262","v":""},{"$f":"Lighting!T262","v":""},{"$f":"Lighting!U262","v":0},{"$f":"Lighting!V262","v":""},{"$f":"Lighting!W262","v":""},{"$f":"Lighting!Y262","v":""},{"$f":"Lighting!AB262","v":""},{"$f":"Lighting!AC262","v":0},{"$f":"Lighting!AD262","v":0},{"$f":"Lighting!AE262","v":0}]
[0,{"$f":"Lighting!B263","v":255},{"$f":"Lighting!C263","v":0},{"$f":"Lighting!D263","v":0},{"$f":"Lighting!F263","v":0},{"$f":"Lighting!G263","v":0},{"$f":"Lighting!H263","v":0},{"$f":"Lighting!I263","v":0},{"$f":"Lighting!J263","v":0},{"$f":"Lighting!K263","v":0},{"$f":"Lighting!L263","v":0},{"$f":"Lighting!M263","v":0},{"$f":"Lighting!P263","v":0},{"$f":"Lighting!Q263","v":0},{"$f":"Lighting!S263","v":""},{"$f":"Lighting!T263","v":""},{"$f":"Lighting!U263","v":0},{"$f":"Lighting!V263","v":""},{"$f":"Lighting!W263","v":""},{"$f":"Lighting!Y263","v":""},{"$f":"Lighting!AB263","v":""},{"$f":"Lighting!AC263","v":0},{"$f":"Lighting!AD263","v":0},{"$f":"Lighting!AE263","v":0}]
[0,{"$f":"Lighting!B264","v":256},{"$f":"Lighting!C264","v":0},{"$f":"Lighting!D264","v":0},{"$f":"Lighting!F264","v":0},{"$f":"Lighting!G264","v":0},{"$f":"Lighting!H264","v":0},{"$f":"Lighting!I264","v":0},{"$f":"Lighting!J264","v":0},{"$f":"Lighting!K264","v":0},{"$f":"Lighting!L264","v":0},{"$f":"Lighting!M264","v":0},{"$f":"Lighting!P264","v":0},{"$f":"Lighting!Q264","v":0},{"$f":"Lighting!S264","v":""},{"$f":"Lighting!T264","v":""},{"$f":"Lighting!U264","v":0},{"$f":"Lighting!V264","v":""},{"$f":"Lighting!W264","v":""},{"$f":"Lighting!Y264","v":""},{"$f":"Lighting!AB264","v":""},{"$f":"Lighting!AC264","v":0},{"$f":"Lighting!AD264","v":0},{"$f":"Lighting!AE264","v":0}]
[0,{"$f":"Lighting!B265","v":257},{"$f":"Lighting!C265","v":0},{"$f":"Lighting!D265","v":0},{"$f":"Lighting!F265","v":0},{"$f":"Lighting!G265","v":0},{"$f":"Lighting!H265","v":0},{"$f":"Lighting!I265","v":0},{"$f":"Lighting!J265","v":0},{"$f":"Lighting!K265","v":0},{"$f":"Lighting!L265","v":0},{"$f":"Lighting!M265","v":0},{"$f":"Lighting!P265","v":0},{"$f":"Lighting!Q265","v":0},{"$f":"Lighting!S265","v":""},{"$f":"Lighting!T265","v":""},{"$f":"Lighting!U265","v":0},{"$f":"Lighting!V265","v":""},{"$f":"Lighting!W265","v":""},{"$f":"Lighting!Y265","v":""},{"$f":"Lighting!AB265","v":""},{"$f":"Lighting!AC265","v":0},{"$f":"Lighting!AD265","v":0},{"$f":"Lighting!AE265","v":0}]
[0,{"$f":"Lighting!B266","v":258},{"$f":"Lighting!C266","v":0},{"$f":"Lighting!D266","v":0},{"$f":"Lighting!F266","v":0},{"$f":"Lighting!G266","v":0},{"$f":"Lighting!H266","v":0},{"$f":"Lighting!I266","v":0},{"$f":"Lighting!J266","v":0},{"$f":"Lighting!K266","v":0},{"$f":"Lighting!L266","v":0},{"$f":"Lighting!M266","v":0},{"$f":"Lighting!P266","v":0},{"$f":"Lighting!Q266","v":0},{"$f":"Lighting!S266","v":""},{"$f":"Lighting!T266","v":""},{"$f":"Lighting!U266","v":0},{"$f":"Lighting!V266","v":""},{"$f":"Lighting!W266","v":""},{"$f":"Lighting!Y266","v":""},{"$f":"Lighting!AB266","v":""},{"$f":"Lighting!AC266","v":0},{"$f":"Lighting!AD266","v":0},{"$f":"Lighting!AE266","v":0}]
[0,{"$f":"Lighting!B267","v":259},{"$f":"Lighting!C267","v":0},{"$f":"Lighting!D267","v":0},{"$f":"Lighting!F267","v":0},{"$f":"Lighting!G267","v":0},{"$f":"Lighting!H267","v":0},{"$f":"Lighting!I267","v":0},{"$f":"Lighting!J267","v":0},{"$f":"Lighting!K267","v":0},{"$f":"Lighting!L267","v":0},{"$f":"Lighting!M267","v":0},{"$f":"Lighting!P267","v":0},{"$f":"Lighting!Q267","v":0},{"$f":"Lighting!S267","v":""},{"$f":"Lighting!T267","v":""},{"$f":"Lighting!U267","v":0},{"$f":"Lighting!V267","v":""},{"$f":"Lighting!W267","v":""},{"$f":"Lighting!Y267","v":""},{"$f":"Lighting!AB267","v":""},{"$f":"Lighting!AC267","v":0},{"$f":"Lighting!AD267","v":0},{"$f":"Lighting!AE267","v":0}]
[0,{"$f":"Lighting!B268","v":260},{"$f":"Lighting!C268","v":0},{"$f":"Lighting!D268","v":0},{"$f":"Lighting!F268","v":0},{"$f":"Lighting!G268","v":0},{"$f":"Lighting!H268","v":0},{"$f":"Lighting!I268","v":0},{"$f":"Lighting!J268","v":0},{"$f":"Lighting!K268","v":0},{"$f":"Lighting!L268","v":0},{"$f":"Lighting!M268","v":0},{"$f":"Lighting!P268","v":0},{"$f":"Lighting!Q268","v":0},{"$f":"Lighting!S268","v":""},{"$f":"Lighting!T268","v":""},{"$f":"Lighting!U268","v":0},{"$f":"Lighting!V268","v":""},{"$f":"Lighting!W268","v":""},{"$f":"Lighting!Y268","v":""},{"$f":"Lighting!AB268","v":""},{"$f":"Lighting!AC268","v":0},{"$f":"Lighting!AD268","v":0},{"$f":"Lighting!AE268","v":0}]
[0,{"$f":"Lighting!B269","v":261},{"$f":"Lighting!C269","v":0},{"$f":"Lighting!D269","v":0},{"$f":"Lighting!F269","v":0},{"$f":"Lighting!G269","v":0},{"$f":"Lighting!H269","v":0},{"$f":"Lighting!I269","v":0},{"$f":"Lighting!J269","v":0},{"$f":"Lighting!K269","v":0},{"$f":"Lighting!L269","v":0},{"$f":"Lighting!M269","v":0},{"$f":"Lighting!P269","v":0},{"$f":"Lighting!Q269","v":0},{"$f":"Lighting!S269","v":""},{"$f":"Lighting!T269","v":""},{"$f":"Lighting!U269","v":0},{"$f":"Lighting!V269","v":""},{"$f":"Lighting!W269","v":""},{"$f":"Lighting!Y269","v":""},{"$f":"Lighting!AB269","v":""},{"$f":"Lighting!AC269","v":0},{"$f":"Lighting!AD269","v":0},{"$f":"Lighting!AE269","v":0}]
[0,{"$f":"Lighting!B270","v":262},{"$f":"Lighting!C270","v":0},{"$f":"Lighting!D270","v":0},{"$f":"Lighting!F270","v":0},{"$f":"Lighting!G270","v":0},{"$f":"Lighting!H270","v":0},{"$f":"Lighting!I270","v":0},{"$f":"Lighting!J270","v":0},{"$f":"Lighting!K270","v":0},{"$f":"Lighting!L270","v":0},{"$f":"Lighting!M270","v":0},{"$f":"Lighting!P270","v":0},{"$f":"Lighting!Q270","v":0},{"$f":"Lighting!S270","v":""},{"$f":"Lighting!T270","v":""},{"$f":"Lighting!U270","v":0},{"$f":"Lighting!V270","v":""},{"$f":"Lighting!W270","v":""},{"$f":"Lighting!Y270","v":""},{"$f":"Lighting!AB270","v":""},{"$f":"Lighting!AC270","v":0},{"$f":"Lighting!AD270","v":0},{"$f":"Lighting!AE270","v":0}]
[0,{"$f":"Lighting!B271","v":263},{"$f":"Lighting!C271","v":0},{"$f":"Lighting!D271","v":0},{"$f":"Lighting!F271","v":0},{"$f":"Lighting!G271","v":0},{"$f":"Lighting!H271","v":0},{"$f":"Lighting!I271","v":0},{"$f":"Lighting!J271","v":0},{"$f":"Lighting!K271","v":0},{"$f":"Lighting!L271","v":0},{"$f":"Lighting!M271","v":0},{"$f":"Lighting!P271","v":0},{"$f":"Lighting!Q271","v":0},{"$f":"Lighting!S271","v":""},{"$f":"Lighting!T271","v":""},{"$f":"Lighting!U271","v":0},{"$f":"Lighting!V271","v":""},{"$f":"Lighting!W271","v":""},{"$f":"Lighting!Y271","v":""},{"$f":"Lighting!AB271","v":""},{"$f":"Lighting!AC271","v":0},{"$f":"Lighting!AD271","v":0},{"$f":"Lighting!AE271","v":0}]
[0,{"$f":"Lighting!B272","v":264},{"$f":"Lighting!C272","v":0},{"$f":"Lighting!D272","v":0},{"$f":"Lighting!F272","v":0},{"$f":"Lighting!G272","v":0},{"$f":"Lighting!H272","v":0},{"$f":"Lighting!I272","v":0},{"$f":"Lighting!J272","v":0},{"$f":"Lighting!K272","v":0},{"$f":"Lighting!L272","v":0},{"$f":"Lighting!M272","v":0},{"$f":"Lighting!P272","v":0},{"$f":"Lighting!Q272","v":0},{"$f":"Lighting!S272","v":""},{"$f":"Lighting!T272","v":""},{"$f":"Lighting!U272","v":0},{"$f":"Lighting!V272","v":""},{"$f":"Lighting!W272","v":""},{"$f":"Lighting!Y272","v":""},{"$f":"Lighting!AB272","v":""},{"$f":"Lighting!AC272","v":0},{"$f":"Lighting!AD272","v":0},{"$f":"Lighting!AE272","v":0}]
[0,{"$f":"Lighting!B273","v":265},{"$f":"Lighting!C273","v":0},{"$f":"Lighting!D273","v":0},{"$f":"Lighting!F273","v":0},{"$f":"Lighting!G273","v":0},{"$f":"Lighting!H273","v":0},{"$f":"Lighting!I273","v":0},{"$f":"Lighting!J273","v":0},{"$f":"Lighting!K273","v":0},{"$f":"Lighting!L273","v":0},{"$f":"Lighting!M273","v":0},{"$f":"Lighting!P273","v":0},{"$f":"Lighting!Q273","v":0},{"$f":"Lighting!S273","v":""},{"$f":"Lighting!T273","v":""},{"$f":"Lighting!U273","v":0},{"$f":"Lighting!V273","v":""},{"$f":"Lighting!W273","v":""},{"$f":"Lighting!Y273","v":""},{"$f":"Lighting!AB273","v":""},{"$f":"Lighting!AC273","v":0},{"$f":"Lighting!AD273","v":0},{"$f":"Lighting!AE273","v":0}]
[0,{"$f":"Lighting!B274","v":266},{"$f":"Lighting!C274","v":0},{"$f":"Lighting!D274","v":0},{"$f":"Lighting!F274","v":0},{"$f":"Lighting!G274","v":0},{"$f":"Lighting!H274","v":0},{"$f":"Lighting!I274","v":0},{"$f":"Lighting!J274","v":0},{"$f":"Lighting!K274","v":0},{"$f":"Lighting!L274","v":0},{"$f":"Lighting!M274","v":0},{"$f":"Lighting!P274","v":0},{"$f":"Lighting!Q274","v":0},{"$f":"Lighting!S274","v":""},{"$f":"Lighting!T274","v":""},{"$f":"Lighting!U274","v":0},{"$f":"Lighting!V274","v":""},{"$f":"Lighting!W274","v":""},{"$f":"Lighting!Y274","v":""},{"$f":"Lighting!AB274","v":""},{"$f":"Lighting!AC274","v":0},{"$f":"Lighting!AD274","v":0},{"$f":"Lighting!AE274","v":0}]
[0,{"$f":"Lighting!B275","v":267},{"$f":"Lighting!C275","v":0},{"$f":"Lighting!D275","v":0},{"$f":"Lighting!F275","v":0},{"$f":"Lighting!G275","v":0},{"$f":"Lighting!H275","v":0},{"$f":"Lighting!I275","v":0},{"$f":"Lighting!J275","v":0},{"$f":"Lighting!K275","v":0},{"$f":"Lighting!L275","v":0},{"$f":"Lighting!M275","v":0},{"$f":"Lighting!P275","v":0},{"$f":"Lighting!Q275","v":0},{"$f":"Lighting!S275","v":""},{"$f":"Lighting!T275","v":""},{"$f":"Lighting!U275","v":0},{"$f":"Lighting!V275","v":""},{"$f":"Lighting!W275","v":""},{"$f":"Lighting!Y275","v":""},{"$f":"Lighting!AB275","v":""},{"$f":"Lighting!AC275","v":0},{"$f":"Lighting!AD275","v":0},{"$f":"Lighting!AE275","v":0}]
[0,{"$f":"Lighting!B276","v":268},{"$f":"Lighting!C276","v":0},{"$f":"Lighting!D276","v":0},{"$f":"Lighting!F276","v":0},{"$f":"Lighting!G276","v":0},{"$f":"Lighting!H276","v":0},{"$f":"Lighting!I276","v":0},{"$f":"Lighting!J276","v":0},{"$f":"Lighting!K276","v":0},{"$f":"Lighting!L276","v":0},{"$f":"Lighting!M276","v":0},{"$f":"Lighting!P276","v":0},{"$f":"Lighting!Q276","v":0},{"$f":"Lighting!S276","v":""},{"$f":"Lighting!T276","v":""},{"$f":"Lighting!U276","v":0},{"$f":"Lighting!V276","v":""},{"$f":"Lighting!W276","v":""},{"$f":"Lighting!Y276","v":""},{"$f":"Lighting!AB276","v":""},{"$f":"Lighting!AC276","v":0},{"$f":"Lighting!AD276","v":0},{"$f":"Lighting!AE276","v":0}]
[0,{"$f":"Lighting!B277","v":269},{"$f":"Lighting!C277","v":0},{"$f":"Lighting!D277","v":0},{"$f":"Lighting!F277","v":0},{"$f":"Lighting!G277","v":0},{"$f":"Lighting!H277","v":0},{"$f":"Lighting!I277","v":0},{"$f":"Lighting!J277","v":0},{"$f":"Lighting!K277","v":0},{"$f":"Lighting!L277","v":0},{"$f":"Lighting!M277","v":0},{"$f":"Lighting!P277","v":0},{"$f":"Lighting!Q277","v":0},{"$f":"Lighting!S277","v":""},{"$f":"Lighting!T277","v":""},{"$f":"Lighting!U277","v":0},{"$f":"Lighting!V277","v":""},{"$f":"Lighting!W277","v":""},{"$f":"Lighting!Y277","v":""},{"$f":"Lighting!AB277","v":""},{"$f":"Lighting!AC277","v":0},{"$f":"Lighting!AD277","v":0},{"$f":"Lighting!AE277","v":0}]
[0,{"$f":"Lighting!B278","v":270},{"$f":"Lighting!C278","v":0},{"$f":"Lighting!D278","v":0},{"$f":"Lighting!F278","v":0},{"$f":"Lighting!G278","v":0},{"$f":"Lighting!H278","v":0},{"$f":"Lighting!I278","v":0},{"$f":"Lighting!J278","v":0},{"$f":"Lighting!K278","v":0},{"$f":"Lighting!L278","v":0},{"$f":"Lighting!M278","v":0},{"$f":"Lighting!P278","v":0},{"$f":"Lighting!Q278","v":0},{"$f":"Lighting!S278","v":""},{"$f":"Lighting!T278","v":""},{"$f":"Lighting!U278","v":0},{"$f":"Lighting!V278","v":""},{"$f":"Lighting!W278","v":""},{"$f":"Lighting!Y278","v":""},{"$f":"Lighting!AB278","v":""},{"$f":"Lighting!AC278","v":0},{"$f":"Lighting!AD278","v":0},{"$f":"Lighting!AE278","v":0}]
[0,{"$f":"Lighting!B279","v":271},{"$f":"Lighting!C279","v":0},{"$f":"Lighting!D279","v":0},{"$f":"Lighting!F279","v":0},{"$f":"Lighting!G279","v":0},{"$f":"Lighting!H279","v":0},{"$f":"Lighting!I279","v":0},{"$f":"Lighting!J279","v":0},{"$f":"Lighting!K279","v":0},{"$f":"Lighting!L279","v":0},{"$f":"Lighting!M279","v":0},{"$f":"Lighting!P279","v":0},{"$f":"Lighting!Q279","v":0},{"$f":"Lighting!S279","v":""},{"$f":"Lighting!T279","v":""},{"$f":"Lighting!U279","v":0},{"$f":"Lighting!V279","v":""},{"$f":"Lighting!W279","v":""},{"$f":"Lighting!Y279","v":""},{"$f":"Lighting!AB279","v":""},{"$f":"Lighting!AC279","v":0},{"$f":"Lighting!AD279","v":0},{"$f":"Lighting!AE279","v":0}]
[0,{"$f":"Lighting!B280","v":272},{"$f":"Lighting!C280","v":0},{"$f":"Lighting!D280","v":0},{"$f":"Lighting!F280","v":0},{"$f":"Lighting!G280","v":0},{"$f":"Lighting!H280","v":0},{"$f":"Lighting!I280","v":0},{"$f":"Lighting!J280","v":0},{"$f":"Lighting!K280","v":0},{"$f":"Lighting!L280","v":0},{"$f":"Lighting!M280","v":0},{"$f":"Lighting!P280","v":0},{"$f":"Lighting!Q280","v":0},{"$f":"Lighting!S280","v":""},{"$f":"Lighting!T280","v":""},{"$f":"Lighting!U280","v":0},{"$f":"Lighting!V280","v":""},{"$f":"Lighting!W280","v":""},{"$f":"Lighting!Y280","v":""},{"$f":"Lighting!AB280","v":""},{"$f":"Lighting!AC280","v":0},{"$f":"Lighting!AD280","v":0},{"$f":"Lighting!AE280","v":0}]
[0,{"$f":"Lighting!B281","v":273},{"$f":"Lighting!C281","v":0},{"$f":"Lighting!D281","v":0},{"$f":"Lighting!F281","v":0},{"$f":"Lighting!G281","v":0},{"$f":"Lighting!H281","v":0},{"$f":"Lighting!I281","v":0},{"$f":"Lighting!J281","v":0},{"$f":"Lighting!K281","v":0},{"$f":"Lighting!L281","v":0},{"$f":"Lighting!M281","v":0},{"$f":"Lighting!P281","v":0},{"$f":"Lighting!Q281","v":0},{"$f":"Lighting!S281","v":""},{"$f":"Lighting!T281","v":""},{"$f":"Lighting!U281","v":0},{"$f":"Lighting!V281","v":""},{"$f":"Lighting!W281","v":""},{"$f":"Lighting!Y281","v":""},{"$f":"Lighting!AB281","v":""},{"$f":"Lighting!AC281","v":0},{"$f":"Lighting!AD281","v":0},{"$f":"Lighting!AE281","v":0}]
[0,{"$f":"Lighting!B282","v":274},{"$f":"Lighting!C282","v":0},{"$f":"Lighting!D282","v":0},{"$f":"Lighting!F282","v":0},{"$f":"Lighting!G282","v":0},{"$f":"Lighting!H282","v":0},{"$f":"Lighting!I282","v":0},{"$f":"Lighting!J282","v":0},{"$f":"Lighting!K282","v":0},{"$f":"Lighting!L282","v":0},{"$f":"Lighting!M282","v":0},{"$f":"Lighting!P282","v":0},{"$f":"Lighting!Q282","v":0},{"$f":"Lighting!S282","v":""},{"$f":"Lighting!T282","v":""},{"$f":"Lighting!U282","v":0},{"$f":"Lighting!V282","v":""},{"$f":"Lighting!W282","v":""},{"$f":"Lighting!Y282","v":""},{"$f":"Lighting!AB282","v":""},{"$f":"Lighting!AC282","v":0},{"$f":"Lighting!AD282","v":0},{"$f":"Lighting!AE282","v":0}]
[0,{"$f":"Lighting!B283","v":275},{"$f":"Lighting!C283","v":0},{"$f":"Lighting!D283","v":0},{"$f":"Lighting!F283","v":0},{"$f":"Lighting!G283","v":0},{"$f":"Lighting!H283","v":0},{"$f":"Lighting!I283","v":0},{"$f":"Lighting!J283","v":0},{"$f":"Lighting!K283","v":0},{"$f":"Lighting!L283","v":0},{"$f":"Lighting!M283","v":0},{"$f":"Lighting!P283","v":0},{"$f":"Lighting!Q283","v":0},{"$f":"Lighting!S283","v":""},{"$f":"Lighting!T283","v":""},{"$f":"Lighting!U283","v":0},{"$f":"Lighting!V283","v":""},{"$f":"Lighting!W283","v":""},{"$f":"Lighting!Y283","v":""},{"$f":"Lighting!AB283","v":""},{"$f":"Lighting!AC283","v":0},{"$f":"Lighting!AD283","v":0},{"$f":"Lighting!AE283","v":0}]
[0,{"$f":"Lighting!B284","v":276},{"$f":"Lighting!C284","v":0},{"$f":"Lighting!D284","v":0},{"$f":"Lighting!F284","v":0},{"$f":"Lighting!G284","v":0},{"$f":"Lighting!H284","v":0},{"$f":"Lighting!I284","v":0},{"$f":"Lighting!J284","v":0},{"$f":"Lighting!K284","v":0},{"$f":"Lighting!L284","v":0},{"$f":"Lighting!M284","v":0},{"$f":"Lighting!P284","v":0},{"$f":"Lighting!Q284","v":0},{"$f":"Lighting!S284","v":""},{"$f":"Lighting!T284","v":""},{"$f":"Lighting!U284","v":0},{"$f":"Lighting!V284","v":""},{"$f":"Lighting!W284","v":""},{"$f":"Lighting!Y284","v":""},{"$f":"Lighting!AB284","v":""},{"$f":"Lighting!AC284","v":0},{"$f":"Lighting!AD284","v":0},{"$f":"Lighting!AE284","v":0}]
[0,{"$f":"Lighting!B285","v":277},{"$f":"Lighting!C285","v":0},{"$f":"Lighting!D285","v":0},{"$f":"Lighting!F285","v":0},{"$f":"Lighting!G285","v":0},{"$f":"Lighting!H285","v":0},{"$f":"Lighting!I285","v":0},{"$f":"Lighting!J285","v":0},{"$f":"Lighting!K285","v":0},{"$f":"Lighting!L285","v":0},{"$f":"Lighting!M285","v":0},{"$f":"Lighting!P285","v":0},{"$f":"Lighting!Q285","v":0},{"$f":"Lighting!S285","v":""},{"$f":"Lighting!T285","v":""},{"$f":"Lighting!U285","v":0},{"$f":"Lighting!V285","v":""},{"$f":"Lighting!W285","v":""},{"$f":"Lighting!Y285","v":""},{"$f":"Lighting!AB285","v":""},{"$f":"Lighting!AC285","v":0},{"$f":"Lighting!AD285","v":0},{"$f":"Lighting!AE285","v":0}]
[0,{"$f":"Lighting!B286","v":278},{"$f":"Lighting!C286","v":0},{"$f":"Lighting!D286","v":0},{"$f":"Lighting!F286","v":0},{"$f":"Lighting!G286","v":0},{"$f":"Lighting!H286","v":0},{"$f":"Lighting!I286","v":0},{"$f":"Lighting!J286","v":0},{"$f":"Lighting!K286","v":0},{"$f":"Lighting!L286","v":0},{"$f":"Lighting!M286","v":0},{"$f":"Lighting!P286","v":0},{"$f":"Lighting!Q286","v":0},{"$f":"Lighting!S286","v":""},{"$f":"Lighting!T286","v":""},{"$f":"Lighting!U286","v":0},{"$f":"Lighting!V286","v":""},{"$f":"Lighting!W286","v":""},{"$f":"Lighting!Y286","v":""},{"$f":"Lighting!AB286","v":""},{"$f":"Lighting!AC286","v":0},{"$f":"Lighting!AD286","v":0},{"$f":"Lighting!AE286","v":0}]
[0,{"$f":"Lighting!B287","v":279},{"$f":"Lighting!C287","v":0},{"$f":"Lighting!D287","v":0},{"$f":"Lighting!F287","v":0},{"$f":"Lighting!G287","v":0},{"$f":"Lighting!H287","v":0},{"$f":"Lighting!I287","v":0},{"$f":"Lighting!J287","v":0},{"$f":"Lighting!K287","v":0},{"$f":"Lighting!L287","v":0},{"$f":"Lighting!M287","v":0},{"$f":"Lighting!P287","v":0},{"$f":"Lighting!Q287","v":0},{"$f":"Lighting!S287","v":""},{"$f":"Lighting!T287","v":""},{"$f":"Lighting!U287","v":0},{"$f":"Lighting!V287","v":""},{"$f":"Lighting!W287","v":""},{"$f":"Lighting!Y287","v":""},{"$f":"Lighting!AB287","v":""},{"$f":"Lighting!AC287","v":0},{"$f":"Lighting!AD287","v":0},{"$f":"Lighting!AE287","v":0}]
[0,{"$f":"Lighting!B288","v":280},{"$f":"Lighting!C288","v":0},{"$f":"Lighting!D288","v":0},{"$f":"Lighting!F288","v":0},{"$f":"Lighting!G288","v":0},{"$f":"Lighting!H288","v":0},{"$f":"Lighting!I288","v":0},{"$f":"Lighting!J288","v":0},{"$f":"Lighting!K288","v":0},{"$f":"Lighting!L288","v":0},{"$f":"Lighting!M288","v":0},{"$f":"Lighting!P288","v":0},{"$f":"Lighting!Q288","v":0},{"$f":"Lighting!S288","v":""},{"$f":"Lighting!T288","v":""},{"$f":"Lighting!U288","v":0},{"$f":"Lighting!V288","v":""},{"$f":"Lighting!W288","v":""},{"$f":"Lighting!Y288","v":""},{"$f":"Lighting!AB288","v":""},{"$f":"Lighting!AC288","v":0},{"$f":"Lighting!AD288","v":0},{"$f":"Lighting!AE288","v":0}]
[0,{"$f":"Lighting!B289","v":281},{"$f":"Lighting!C289","v":0},{"$f":"Lighting!D289","v":0},{"$f":"Lighting!F289","v":0},{"$f":"Lighting!G289","v":0},{"$f":"Lighting!H289","v":0},{"$f":"Lighting!I289","v":0},{"$f":"Lighting!J289","v":0},{"$f":"Lighting!K289","v":0},{"$f":"Lighting!L289","v":0},{"$f":"Lighting!M289","v":0},{"$f":"Lighting!P289","v":0},{"$f":"Lighting!Q289","v":0},{"$f":"Lighting!S289","v":""},{"$f":"Lighting!T289","v":""},{"$f":"Lighting!U289","v":0},{"$f":"Lighting!V289","v":""},{"$f":"Lighting!W289","v":""},{"$f":"Lighting!Y289","v":""},{"$f":"Lighting!AB289","v":""},{"$f":"Lighting!AC289","v":0},{"$f":"Lighting!AD289","v":0},{"$f":"Lighting!AE289","v":0}]
[0,{"$f":"Lighting!B290","v":282},{"$f":"Lighting!C290","v":0},{"$f":"Lighting!D290","v":0},{"$f":"Lighting!F290","v":0},{"$f":"Lighting!G290","v":0},{"$f":"Lighting!H290","v":0},{"$f":"Lighting!I290","v":0},{"$f":"Lighting!J290","v":0},{"$f":"Lighting!K290","v":0},{"$f":"Lighting!L290","v":0},{"$f":"Lighting!M290","v":0},{"$f":"Lighting!P290","v":0},{"$f":"Lighting!Q290","v":0},{"$f":"Lighting!S290","v":""},{"$f":"Lighting!T290","v":""},{"$f":"Lighting!U290","v":0},{"$f":"Lighting!V290","v":""},{"$f":"Lighting!W290","v":""},{"$f":"Lighting!Y290","v":""},{"$f":"Lighting!AB290","v":""},{"$f":"Lighting!AC290","v":0},{"$f":"Lighting!AD290","v":0},{"$f":"Lighting!AE290","v":0}]
[0,{"$f":"Lighting!B291","v":283},{"$f":"Lighting!C291","v":0},{"$f":"Lighting!D291","v":0},{"$f":"Lighting!F291","v":0},{"$f":"Lighting!G291","v":0},{"$f":"Lighting!H291","v":0},{"$f":"Lighting!I291","v":0},{"$f":"Lighting!J291","v":0},{"$f":"Lighting!K291","v":0},{"$f":"Lighting!L291","v":0},{"$f":"Lighting!M291","v":0},{"$f":"Lighting!P291","v":0},{"$f":"Lighting!Q291","v":0},{"$f":"Lighting!S291","v":""},{"$f":"Lighting!T291","v":""},{"$f":"Lighting!U291","v":0},{"$f":"Lighting!V291","v":""},{"$f":"Lighting!W291","v":""},{"$f":"Lighting!Y291","v":""},{"$f":"Lighting!AB291","v":""},{"$f":"Lighting!AC291","v":0},{"$f":"Lighting!AD291","v":0},{"$f":"Lighting!AE291","v":0}]
[0,{"$f":"Lighting!B292","v":284},{"$f":"Lighting!C292","v":0},{"$f":"Lighting!D292","v":0},{"$f":"Lighting!F292","v":0},{"$f":"Lighting!G292","v":0},{"$f":"Lighting!H292","v":0},{"$f":"Lighting!I292","v":0},{"$f":"Lighting!J292","v":0},{"$f":"Lighting!K292","v":0},{"$f":"Lighting!L292","v":0},{"$f":"Lighting!M292","v":0},{"$f":"Lighting!P292","v":0},{"$f":"Lighting!Q292","v":0},{"$f":"Lighting!S292","v":""},{"$f":"Lighting!T292","v":""},{"$f":"Lighting!U292","v":0},{"$f":"Lighting!V292","v":""},{"$f":"Lighting!W292","v":""},{"$f":"Lighting!Y292","v":""},{"$f":"Lighting!AB292","v":""},{"$f":"Lighting!AC292","v":0},{"$f":"Lighting!AD292","v":0},{"$f":"Lighting!AE292","v":0}]
[0,{"$f":"Lighting!B293","v":285},{"$f":"Lighting!C293","v":0},{"$f":"Lighting!D293","v":0},{"$f":"Lighting!F293","v":0},{"$f":"Lighting!G293","v":0},{"$f":"Lighting!H293","v":0},{"$f":"Lighting!I293","v":0},{"$f":"Lighting!J293","v":0},{"$f":"Lighting!K293","v":0},{"$f":"Lighting!L293","v":0},{"$f":"Lighting!M293","v":0},{"$f":"Lighting!P293","v":0},{"$f":"Lighting!Q293","v":0},{"$f":"Lighting!S293","v":""},{"$f":"Lighting!T293","v":""},{"$f":"Lighting!U293","v":0},{"$f":"Lighting!V293","v":""},{"$f":"Lighting!W293","v":""},{"$f":"Lighting!Y293","v":""},{"$f":"Lighting!AB293","v":""},{"$f":"Lighting!AC293","v":0},{"$f":"Lighting!AD293","v":0},{"$f":"Lighting!AE293","v":0}]
[0,{"$f":"Lighting!B294","v":286},{"$f":"Lighting!C294","v":0},{"$f":"Lighting!D294","v":0},{"$f":"Lighting!F294","v":0},{"$f":"Lighting!G294","v":0},{"$f":"Lighting!H294","v":0},{"$f":"Lighting!I294","v":0},{"$f":"Lighting!J294","v":0},{"$f":"Lighting!K294","v":0},{"$f":"Lighting!L294","v":0},{"$f":"Lighting!M294","v":0},{"$f":"Lighting!P294","v":0},{"$f":"Lighting!Q294","v":0},{"$f":"Lighting!S294","v":""},{"$f":"Lighting!T294","v":""},{"$f":"Lighting!U294","v":0},{"$f":"Lighting!V294","v":""},{"$f":"Lighting!W294","v":""},{"$f":"Lighting!Y294","v":""},{"$f":"Lighting!AB294","v":""},{"$f":"Lighting!AC294","v":0},{"$f":"Lighting!AD294","v":0},{"$f":"Lighting!AE294","v":0}]
[0,{"$f":"Lighting!B295","v":287},{"$f":"Lighting!C295","v":0},{"$f":"Lighting!D295","v":0},{"$f":"Lighting!F295","v":0},{"$f":"Lighting!G295","v":0},{"$f":"Lighting!H295","v":0},{"$f":"Lighting!I295","v":0},{"$f":"Lighting!J295","v":0},{"$f":"Lighting!K295","v":0},{"$f":"Lighting!L295","v":0},{"$f":"Lighting!M295","v":0},{"$f":"Lighting!P295","v":0},{"$f":"Lighting!Q295","v":0},{"$f":"Lighting!S295","v":""},{"$f":"Lighting!T295","v":""},{"$f":"Lighting!U295","v":0},{"$f":"Lighting!V295","v":""},{"$f":"Lighting!W295","v":""},{"$f":"Lighting!Y295","v":""},{"$f":"Lighting!AB295","v":""},{"$f":"Lighting!AC295","v":0},{"$f":"Lighting!AD295","v":0},{"$f":"Lighting!AE295","v":0}]
[0,{"$f":"Lighting!B296","v":288},{"$f":"Lighting!C296","v":0},{"$f":"Lighting!D296","v":0},{"$f":"Lighting!F296","v":0},{"$f":"Lighting!G296","v":0},{"$f":"Lighting!H296","v":0},{"$f":"Lighting!I296","v":0},{"$f":"Lighting!J296","v":0},{"$f":"Lighting!K296","v":0},{"$f":"Lighting!L296","v":0},{"$f":"Lighting!M296","v":0},{"$f":"Lighting!P296","v":0},{"$f":"Lighting!Q296","v":0},{"$f":"Lighting!S296","v":""},{"$f":"Lighting!T296","v":""},{"$f":"Lighting!U296","v":0},{"$f":"Lighting!V296","v":""},{"$f":"Lighting!W296","v":""},{"$f":"Lighting!Y296","v":""},{"$f":"Lighting!AB296","v":""},{"$f":"Lighting!AC296","v":0},{"$f":"Lighting!AD296","v":0},{"$f":"Lighting!AE296","v":0}]
[0,{"$f":"Lighting!B297","v":289},{"$f":"Lighting!C297","v":0},{"$f":"Lighting!D297","v":0},{"$f":"Lighting!F297","v":0},{"$f":"Lighting!G297","v":0},{"$f":"Lighting!H297","v":0},{"$f":"Lighting!I297","v":0},{"$f":"Lighting!J297","v":0},{"$f":"Lighting!K297","v":0},{"$f":"Lighting!L297","v":0},{"$f":"Lighting!M297","v":0},{"$f":"Lighting!P297","v":0},{"$f":"Lighting!Q297","v":0},{"$f":"Lighting!S297","v":""},{"$f":"Lighting!T297","v":""},{"$f":"Lighting!U297","v":0},{"$f":"Lighting!V297","v":""},{"$f":"Lighting!W297","v":""},{"$f":"Lighting!Y297","v":""},{"$f":"Lighting!AB297","v":""},{"$f":"Lighting!AC297","v":0},{"$f":"Lighting!AD297","v":0},{"$f":"Lighting!AE297","v":0}]
[0,{"$f":"Lighting!B298","v":290},{"$f":"Lighting!C298","v":0},{"$f":"Lighting!D298","v":0},{"$f":"Lighting!F298","v":0},{"$f":"Lighting!G298","v":0},{"$f":"Lighting!H298","v":0},{"$f":"Lighting!I298","v":0},{"$f":"Lighting!J298","v":0},{"$f":"Lighting!K298","v":0},{"$f":"Lighting!L298","v":0},{"$f":"Lighting!M298","v":0},{"$f":"Lighting!P298","v":0},{"$f":"Lighting!Q298","v":0},{"$f":"Lighting!S298","v":""},{"$f":"Lighting!T298","v":""},{"$f":"Lighting!U298","v":0},{"$f":"Lighting!V298","v":""},{"$f":"Lighting!W298","v":""},{"$f":"Lighting!Y298","v":""},{"$f":"Lighting!AB298","v":""},{"$f":"Lighting!AC298","v":0},{"$f":"Lighting!AD298","v":0},{"$f":"Lighting!AE298","v":0}]
[0,{"$f":"Lighting!B299","v":291},{"$f":"Lighting!C299","v":0},{"$f":"Lighting!D299","v":0},{"$f":"Lighting!F299","v":0},{"$f":"Lighting!G299","v":0},{"$f":"Lighting!H299","v":0},{"$f":"Lighting!I299","v":0},{"$f":"Lighting!J299","v":0},{"$f":"Lighting!K299","v":0},{"$f":"Lighting!L299","v":0},{"$f":"Lighting!M299","v":0},{"$f":"Lighting!P299","v":0},{"$f":"Lighting!Q299","v":0},{"$f":"Lighting!S299","v":""},{"$f":"Lighting!T299","v":""},{"$f":"Lighting!U299","v":0},{"$f":"Lighting!V299","v":""},{"$f":"Lighting!W299","v":""},{"$f":"Lighting!Y299","v":""},{"$f":"Lighting!AB299","v":""},{"$f":"Lighting!AC299","v":0},{"$f":"Lighting!AD299","v":0},{"$f":"Lighting!AE299","v":0}]
[0,{"$f":"Lighting!B300","v":292},{"$f":"Lighting!C300","v":0},{"$f":"Lighting!D300","v":0},{"$f":"Lighting!F300","v":0},{"$f":"Lighting!G300","v":0},{"$f":"Lighting!H300","v":0},{"$f":"Lighting!I300","v":0},{"$f":"Lighting!J300","v":0},{"$f":"Lighting!K300","v":0},{"$f":"Lighting!L300","v":0},{"$f":"Lighting!M300","v":0},{"$f":"Lighting!P300","v":0},{"$f":"Lighting!Q300","v":0},{"$f":"Lighting!S300","v":""},{"$f":"Lighting!T300","v":""},{"$f":"Lighting!U300","v":0},{"$f":"Lighting!V300","v":""},{"$f":"Lighting!W300","v":""},{"$f":"Lighting!Y300","v":""},{"$f":"Lighting!AB300","v":""},{"$f":"Lighting!AC300","v":0},{"$f":"Lighting!AD300","v":0},{"$f":"Lighting!AE300","v":0}]
[0,{"$f":"Lighting!B301","v":293},{"$f":"Lighting!C301","v":0},{"$f":"Lighting!D301","v":0},{"$f":"Lighting!F301","v":0},{"$f":"Lighting!G301","v":0},{"$f":"Lighting!H301","v":0},{"$f":"Lighting!I301","v":0},{"$f":"Lighting!J301","v":0},{"$f":"Lighting!K301","v":0},{"$f":"Lighting!L301","v":0},{"$f":"Lighting!M301","v":0},{"$f":"Lighting!P301","v":0},{"$f":"Lighting!Q301","v":0},{"$f":"Lighting!S301","v":""},{"$f":"Lighting!T301","v":""},{"$f":"Lighting!U301","v":0},{"$f":"Lighting!V301","v":""},{"$f":"Lighting!W301","v":""},{"$f":"Lighting!Y301","v":""},{"$f":"Lighting!AB301","v":""},{"$f":"Lighting!AC301","v":0},{"$f":"Lighting!AD301","v":0},{"$f":"Lighting!AE301","v":0}]
[0,{"$f":"Lighting!B302","v":294},{"$f":"Lighting!C302","v":0},{"$f":"Lighting!D302","v":0},{"$f":"Lighting!F302","v":0},{"$f":"Lighting!G302","v":0},{"$f":"Lighting!H302","v":0},{"$f":"Lighting!I302","v":0},{"$f":"Lighting!J302","v":0},{"$f":"Lighting!K302","v":0},{"$f":"Lighting!L302","v":0},{"$f":"Lighting!M302","v":0},{"$f":"Lighting!P302","v":0},{"$f":"Lighting!Q302","v":0},{"$f":"Lighting!S302","v":""},{"$f":"Lighting!T302","v":""},{"$f":"Lighting!U302","v":0},{"$f":"Lighting!V302","v":""},{"$f":"Lighting!W302","v":""},{"$f":"Lighting!Y302","v":""},{"$f":"Lighting!AB302","v":""},{"$f":"Lighting!AC302","v":0},{"$f":"Lighting!AD302","v":0},{"$f":"Lighting!AE302","v":0}]
[0,{"$f":"Lighting!B303","v":295},{"$f":"Lighting!C303","v":0},{"$f":"Lighting!D303","v":0},{"$f":"Lighting!F303","v":0},{"$f":"Lighting!G303","v":0},{"$f":"Lighting!H303","v":0},{"$f":"Lighting!I303","v":0},{"$f":"Lighting!J303","v":0},{"$f":"Lighting!K303","v":0},{"$f":"Lighting!L303","v":0},{"$f":"Lighting!M303","v":0},{"$f":"Lighting!P303","v":0},{"$f":"Lighting!Q303","v":0},{"$f":"Lighting!S303","v":""},{"$f":"Lighting!T303","v":""},{"$f":"Lighting!U303","v":0},{"$f":"Lighting!V303","v":""},{"$f":"Lighting!W303","v":""},{"$f":"Lighting!Y303","v":""},{"$f":"Lighting!AB303","v":""},{"$f":"Lighting!AC303","v":0},{"$f":"Lighting!AD303","v":0},{"$f":"Lighting!AE303","v":0}]
[0,{"$f":"Lighting!B304","v":296},{"$f":"Lighting!C304","v":0},{"$f":"Lighting!D304","v":0},{"$f":"Lighting!F304","v":0},{"$f":"Lighting!G304","v":0},{"$f":"Lighting!H304","v":0},{"$f":"Lighting!I304","v":0},{"$f":"Lighting!J304","v":0},{"$f":"Lighting!K304","v":0},{"$f":"Lighting!L304","v":0},{"$f":"Lighting!M304","v":0},{"$f":"Lighting!P304","v":0},{"$f":"Lighting!Q304","v":0},{"$f":"Lighting!S304","v":""},{"$f":"Lighting!T304","v":""},{"$f":"Lighting!U304","v":0},{"$f":"Lighting!V304","v":""},{"$f":"Lighting!W304","v":""},{"$f":"Lighting!Y304","v":""},{"$f":"Lighting!AB304","v":""},{"$f":"Lighting!AC304","v":0},{"$f":"Lighting!AD304","v":0},{"$f":"Lighting!AE304","v":0}]
[0,{"$f":"Lighting!B305","v":297},{"$f":"Lighting!C305","v":0},{"$f":"Lighting!D305","v":0},{"$f":"Lighting!F305","v":0},{"$f":"Lighting!G305","v":0},{"$f":"Lighting!H305","v":0},{"$f":"Lighting!I305","v":0},{"$f":"Lighting!J305","v":0},{"$f":"Lighting!K305","v":0},{"$f":"Lighting!L305","v":0},{"$f":"Lighting!M305","v":0},{"$f":"Lighting!P305","v":0},{"$f":"Lighting!Q305","v":0},{"$f":"Lighting!S305","v":""},{"$f":"Lighting!T305","v":""},{"$f":"Lighting!U305","v":0},{"$f":"Lighting!V305","v":""},{"$f":"Lighting!W305","v":""},{"$f":"Lighting!Y305","v":""},{"$f":"Lighting!AB305","v":""},{"$f":"Lighting!AC305","v":0},{"$f":"Lighting!AD305","v":0},{"$f":"Lighting!AE305","v":0}]
[0,{"$f":"Lighting!B306","v":298},{"$f":"Lighting!C306","v":0},{"$f":"Lighting!D306","v":0},{"$f":"Lighting!F306","v":0},{"$f":"Lighting!G306","v":0},{"$f":"Lighting!H306","v":0},{"$f":"Lighting!I306","v":0},{"$f":"Lighting!J306","v":0},{"$f":"Lighting!K306","v":0},{"$f":"Lighting!L306","v":0},{"$f":"Lighting!M306","v":0},{"$f":"Lighting!P306","v":0},{"$f":"Lighting!Q306","v":0},{"$f":"Lighting!S306","v":""},{"$f":"Lighting!T306","v":""},{"$f":"Lighting!U306","v":0},{"$f":"Lighting!V306","v":""},{"$f":"Lighting!W306","v":""},{"$f":"Lighting!Y306","v":""},{"$f":"Lighting!AB306","v":""},{"$f":"Lighting!AC306","v":0},{"$f":"Lighting!AD306","v":0},{"$f":"Lighting!AE306","v":0}]
[0,{"$f":"Lighting!B307","v":299},{"$f":"Lighting!C307","v":0},{"$f":"Lighting!D307","v":0},{"$f":"Lighting!F307","v":0},{"$f":"Lighting!G307","v":0},{"$f":"Lighting!H307","v":0},{"$f":"Lighting!I307","v":0},{"$f":"Lighting!J307","v":0},{"$f":"Lighting!K307","v":0},{"$f":"Lighting!L307","v":0},{"$f":"Lighting!M307","v":0},{"$f":"Lighting!P307","v":0},{"$f":"Lighting!Q307","v":0},{"$f":"Lighting!S307","v":""},{"$f":"Lighting!T307","v":""},{"$f":"Lighting!U307","v":0},{"$f":"Lighting!V307","v":""},{"$f":"Lighting!W307","v":""},{"$f":"Lighting!Y307","v":""},{"$f":"Lighting!AB307","v":""},{"$f":"Lighting!AC307","v":0},{"$f":"Lighting!AD307","v":0},{"$f":"Lighting!AE307","v":0}]
[0,{"$f":"Lighting!B308","v":300},{"$f":"Lighting!C308","v":0},{"$f":"Lighting!D308","v":0},{"$f":"Lighting!F308","v":0},{"$f":"Lighting!G308","v":0},{"$f":"Lighting!H308","v":0},{"$f":"Lighting!I308","v":0},{"$f":"Lighting!J308","v":0},{"$f":"Lighting!K308","v":0},{"$f":"Lighting!L308","v":0},{"$f":"Lighting!M308","v":0},{"$f":"Lighting!P308","v":0},{"$f":"Lighting!Q308","v":0},{"$f":"Lighting!S308","v":""},{"$f":"Lighting!T308","v":""},{"$f":"Lighting!U308","v":0},{"$f":"Lighting!V308","v":""},{"$f":"Lighting!W308","v":""},{"$f":"Lighting!Y308","v":""},{"$f":"Lighting!AB308","v":""},{"$f":"Lighting!AC308","v":0},{"$f":"Lighting!AD308","v":0},{"$f":"Lighting!AE308","v":0}]
[0,{"$f":"Lighting!B309","v":301},{"$f":"Lighting!C309","v":0},{"$f":"Lighting!D309","v":0},{"$f":"Lighting!F309","v":0},{"$f":"Lighting!G309","v":0},{"$f":"Lighting!H309","v":0},{"$f":"Lighting!I309","v":0},{"$f":"Lighting!J309","v":0},{"$f":"Lighting!K309","v":0},{"$f":"Lighting!L309","v":0},{"$f":"Lighting!M309","v":0},{"$f":"Lighting!P309","v":0},{"$f":"Lighting!Q309","v":0},{"$f":"Lighting!S309","v":""},{"$f":"Lighting!T309","v":""},{"$f":"Lighting!U309","v":0},{"$f":"Lighting!V309","v":""},{"$f":"Lighting!W309","v":""},{"$f":"Lighting!Y309","v":""},{"$f":"Lighting!AB309","v":""},{"$f":"Lighting!AC309","v":0},{"$f":"Lighting!AD309","v":0},{"$f":"Lighting!AE309","v":0}]
[0,{"$f":"Lighting!B310","v":302},{"$f":"Lighting!C310","v":0},{"$f":"Lighting!D310","v":0},{"$f":"Lighting!F310","v":0},{"$f":"Lighting!G310","v":0},{"$f":"Lighting!H310","v":0},{"$f":"Lighting!I310","v":0},{"$f":"Lighting!J310","v":0},{"$f":"Lighting!K310","v":0},{"$f":"Lighting!L310","v":0},{"$f":"Lighting!M310","v":0},{"$f":"Lighting!P310","v":0},{"$f":"Lighting!Q310","v":0},{"$f":"Lighting!S310","v":""},{"$f":"Lighting!T310","v":""},{"$f":"Lighting!U310","v":0},{"$f":"Lighting!V310","v":""},{"$f":"Lighting!W310","v":""},{"$f":"Lighting!Y310","v":""},{"$f":"Lighting!AB310","v":""},{"$f":"Lighting!AC310","v":0},{"$f":"Lighting!AD310","v":0},{"$f":"Lighting!AE310","v":0}]
[0,{"$f":"Lighting!B311","v":303},{"$f":"Lighting!C311","v":0},{"$f":"Lighting!D311","v":0},{"$f":"Lighting!F311","v":0},{"$f":"Lighting!G311","v":0},{"$f":"Lighting!H311","v":0},{"$f":"Lighting!I311","v":0},{"$f":"Lighting!J311","v":0},{"$f":"Lighting!K311","v":0},{"$f":"Lighting!L311","v":0},{"$f":"Lighting!M311","v":0},{"$f":"Lighting!P311","v":0},{"$f":"Lighting!Q311","v":0},{"$f":"Lighting!S311","v":""},{"$f":"Lighting!T311","v":""},{"$f":"Lighting!U311","v":0},{"$f":"Lighting!V311","v":""},{"$f":"Lighting!W311","v":""},{"$f":"Lighting!Y311","v":""},{"$f":"Lighting!AB311","v":""},{"$f":"Lighting!AC311","v":0},{"$f":"Lighting!AD311","v":0},{"$f":"Lighting!AE311","v":0}]
[0,{"$f":"Lighting!B312","v":304},{"$f":"Lighting!C312","v":0},{"$f":"Lighting!D312","v":0},{"$f":"Lighting!F312","v":0},{"$f":"Lighting!G312","v":0},{"$f":"Lighting!H312","v":0},{"$f":"Lighting!I312","v":0},{"$f":"Lighting!J312","v":0},{"$f":"Lighting!K312","v":0},{"$f":"Lighting!L312","v":0},{"$f":"Lighting!M312","v":0},{"$f":"Lighting!P312","v":0},{"$f":"Lighting!Q312","v":0},{"$f":"Lighting!S312","v":""},{"$f":"Lighting!T312","v":""},{"$f":"Lighting!U312","v":0},{"$f":"Lighting!V312","v":""},{"$f":"Lighting!W312","v":""},{"$f":"Lighting!Y312","v":""},{"$f":"Lighting!AB312","v":""},{"$f":"Lighting!AC312","v":0},{"$f":"Lighting!AD312","v":0},{"$f":"Lighting!AE312","v":0}]
[0,{"$f":"Lighting!B313","v":305},{"$f":"Lighting!C313","v":0},{"$f":"Lighting!D313","v":0},{"$f":"Lighting!F313","v":0},{"$f":"Lighting!G313","v":0},{"$f":"Lighting!H313","v":0},{"$f":"Lighting!I313","v":0},{"$f":"Lighting!J313","v":0},{"$f":"Lighting!K313","v":0},{"$f":"Lighting!L313","v":0},{"$f":"Lighting!M313","v":0},{"$f":"Lighting!P313","v":0},{"$f":"Lighting!Q313","v":0},{"$f":"Lighting!S313","v":""},{"$f":"Lighting!T313","v":""},{"$f":"Lighting!U313","v":0},{"$f":"Lighting!V313","v":""},{"$f":"Lighting!W313","v":""},{"$f":"Lighting!Y313","v":""},{"$f":"Lighting!AB313","v":""},{"$f":"Lighting!AC313","v":0},{"$f":"Lighting!AD313","v":0},{"$f":"Lighting!AE313","v":0}]
[0,{"$f":"Lighting!B314","v":306},{"$f":"Lighting!C314","v":0},{"$f":"Lighting!D314","v":0},{"$f":"Lighting!F314","v":0},{"$f":"Lighting!G314","v":0},{"$f":"Lighting!H314","v":0},{"$f":"Lighting!I314","v":0},{"$f":"Lighting!J314","v":0},{"$f":"Lighting!K314","v":0},{"$f":"Lighting!L314","v":0},{"$f":"Lighting!M314","v":0},{"$f":"Lighting!P314","v":0},{"$f":"Lighting!Q314","v":0},{"$f":"Lighting!S314","v":""},{"$f":"Lighting!T314","v":""},{"$f":"Lighting!U314","v":0},{"$f":"Lighting!V314","v":""},{"$f":"Lighting!W314","v":""},{"$f":"Lighting!Y314","v":""},{"$f":"Lighting!AB314","v":""},{"$f":"Lighting!AC314","v":0},{"$f":"Lighting!AD314","v":0},{"$f":"Lighting!AE314","v":0}]
[0,{"$f":"Lighting!B315","v":307},{"$f":"Lighting!C315","v":0},{"$f":"Lighting!D315","v":0},{"$f":"Lighting!F315","v":0},{"$f":"Lighting!G315","v":0},{"$f":"Lighting!H315","v":0},{"$f":"Lighting!I315","v":0},{"$f":"Lighting!J315","v":0},{"$f":"Lighting!K315","v":0},{"$f":"Lighting!L315","v":0},{"$f":"Lighting!M315","v":0},{"$f":"Lighting!P315","v":0},{"$f":"Lighting!Q315","v":0},{"$f":"Lighting!S315","v":""},{"$f":"Lighting!T315","v":""},{"$f":"Lighting!U315","v":0},{"$f":"Lighting!V315","v":""},{"$f":"Lighting!W315","v":""},{"$f":"Lighting!Y315","v":""},{"$f":"Lighting!AB315","v":""},{"$f":"Lighting!AC315","v":0},{"$f":"Lighting!AD315","v":0},{"$f":"Lighting!AE315","v":0}]
[0,{"$f":"Lighting!B316","v":308},{"$f":"Lighting!C316","v":0},{"$f":"Lighting!D316","v":0},{"$f":"Lighting!F316","v":0},{"$f":"Lighting!G316","v":0},{"$f":"Lighting!H316","v":0},{"$f":"Lighting!I316","v":0},{"$f":"Lighting!J316","v":0},{"$f":"Lighting!K316","v":0},{"$f":"Lighting!L316","v":0},{"$f":"Lighting!M316","v":0},{"$f":"Lighting!P316","v":0},{"$f":"Lighting!Q316","v":0},{"$f":"Lighting!S316","v":""},{"$f":"Lighting!T316","v":""},{"$f":"Lighting!U316","v":0},{"$f":"Lighting!V316","v":""},{"$f":"Lighting!W316","v":""},{"$f":"Lighting!Y316","v":""},{"$f":"Lighting!AB316","v":""},{"$f":"Lighting!AC316","v":0},{"$f":"Lighting!AD316","v":0},{"$f":"Lighting!AE316","v":0}]
[0,{"$f":"Lighting!B317","v":309},{"$f":"Lighting!C317","v":0},{"$f":"Lighting!D317","v":0},{"$f":"Lighting!F317","v":0},{"$f":"Lighting!G317","v":0},{"$f":"Lighting!H317","v":0},{"$f":"Lighting!I317","v":0},{"$f":"Lighting!J317","v":0},{"$f":"Lighting!K317","v":0},{"$f":"Lighting!L317","v":0},{"$f":"Lighting!M317","v":0},{"$f":"Lighting!P317","v":0},{"$f":"Lighting!Q317","v":0},{"$f":"Lighting!S317","v":""},{"$f":"Lighting!T317","v":""},{"$f":"Lighting!U317","v":0},{"$f":"Lighting!V317","v":""},{"$f":"Lighting!W317","v":""},{"$f":"Lighting!Y317","v":""},{"$f":"Lighting!AB317","v":""},{"$f":"Lighting!AC317","v":0},{"$f":"Lighting!AD317","v":0},{"$f":"Lighting!AE317","v":0}]
[0,{"$f":"Lighting!B318","v":310},{"$f":"Lighting!C318","v":0},{"$f":"Lighting!D318","v":0},{"$f":"Lighting!F318","v":0},{"$f":"Lighting!G318","v":0},{"$f":"Lighting!H318","v":0},{"$f":"Lighting!I318","v":0},{"$f":"Lighting!J318","v":0},{"$f":"Lighting!K318","v":0},{"$f":"Lighting!L318","v":0},{"$f":"Lighting!M318","v":0},{"$f":"Lighting!P318","v":0},{"$f":"Lighting!Q318","v":0},{"$f":"Lighting!S318","v":""},{"$f":"Lighting!T318","v":""},{"$f":"Lighting!U318","v":0},{"$f":"Lighting!V318","v":""},{"$f":"Lighting!W318","v":""},{"$f":"Lighting!Y318","v":""},{"$f":"Lighting!AB318","v":""},{"$f":"Lighting!AC318","v":0},{"$f":"Lighting!AD318","v":0},{"$f":"Lighting!AE318","v":0}]
[0,{"$f":"Lighting!B319","v":311},{"$f":"Lighting!C319","v":0},{"$f":"Lighting!D319","v":0},{"$f":"Lighting!F319","v":0},{"$f":"Lighting!G319","v":0},{"$f":"Lighting!H319","v":0},{"$f":"Lighting!I319","v":0},{"$f":"Lighting!J319","v":0},{"$f":"Lighting!K319","v":0},{"$f":"Lighting!L319","v":0},{"$f":"Lighting!M319","v":0},{"$f":"Lighting!P319","v":0},{"$f":"Lighting!Q319","v":0},{"$f":"Lighting!S319","v":""},{"$f":"Lighting!T319","v":""},{"$f":"Lighting!U319","v":0},{"$f":"Lighting!V319","v":""},{"$f":"Lighting!W319","v":""},{"$f":"Lighting!Y319","v":""},{"$f":"Lighting!AB319","v":""},{"$f":"Lighting!AC319","v":0},{"$f":"Lighting!AD319","v":0},{"$f":"Lighting!AE319","v":0}]
[0,{"$f":"Lighting!B320","v":312},{"$f":"Lighting!C320","v":0},{"$f":"Lighting!D320","v":0},{"$f":"Lighting!F320","v":0},{"$f":"Lighting!G320","v":0},{"$f":"Lighting!H320","v":0},{"$f":"Lighting!I320","v":0},{"$f":"Lighting!J320","v":0},{"$f":"Lighting!K320","v":0},{"$f":"Lighting!L320","v":0},{"$f":"Lighting!M320","v":0},{"$f":"Lighting!P320","v":0},{"$f":"Lighting!Q320","v":0},{"$f":"Lighting!S320","v":""},{"$f":"Lighting!T320","v":""},{"$f":"Lighting!U320","v":0},{"$f":"Lighting!V320","v":""},{"$f":"Lighting!W320","v":""},{"$f":"Lighting!Y320","v":""},{"$f":"Lighting!AB320","v":""},{"$f":"Lighting!AC320","v":0},{"$f":"Lighting!AD320","v":0},{"$f":"Lighting!AE320","v":0}]
[0,{"$f":"Lighting!B321","v":313},{"$f":"Lighting!C321","v":0},{"$f":"Lighting!D321","v":0},{"$f":"Lighting!F321","v":0},{"$f":"Lighting!G321","v":0},{"$f":"Lighting!H321","v":0},{"$f":"Lighting!I321","v":0},{"$f":"Lighting!J321","v":0},{"$f":"Lighting!K321","v":0},{"$f":"Lighting!L321","v":0},{"$f":"Lighting!M321","v":0},{"$f":"Lighting!P321","v":0},{"$f":"Lighting!Q321","v":0},{"$f":"Lighting!S321","v":""},{"$f":"Lighting!T321","v":""},{"$f":"Lighting!U321","v":0},{"$f":"Lighting!V321","v":""},{"$f":"Lighting!W321","v":""},{"$f":"Lighting!Y321","v":""},{"$f":"Lighting!AB321","v":""},{"$f":"Lighting!AC321","v":0},{"$f":"Lighting!AD321","v":0},{"$f":"Lighting!AE321","v":0}]
[0,{"$f":"Lighting!B322","v":314},{"$f":"Lighting!C322","v":0},{"$f":"Lighting!D322","v":0},{"$f":"Lighting!F322","v":0},{"$f":"Lighting!G322","v":0},{"$f":"Lighting!H322","v":0},{"$f":"Lighting!I322","v":0},{"$f":"Lighting!J322","v":0},{"$f":"Lighting!K322","v":0},{"$f":"Lighting!L322","v":0},{"$f":"Lighting!M322","v":0},{"$f":"Lighting!P322","v":0},{"$f":"Lighting!Q322","v":0},{"$f":"Lighting!S322","v":""},{"$f":"Lighting!T322","v":""},{"$f":"Lighting!U322","v":0},{"$f":"Lighting!V322","v":""},{"$f":"Lighting!W322","v":""},{"$f":"Lighting!Y322","v":""},{"$f":"Lighting!AB322","v":""},{"$f":"Lighting!AC322","v":0},{"$f":"Lighting!AD322","v":0},{"$f":"Lighting!AE322","v":0}]
[0,{"$f":"Lighting!B323","v":315},{"$f":"Lighting!C323","v":0},{"$f":"Lighting!D323","v":0},{"$f":"Lighting!F323","v":0},{"$f":"Lighting!G323","v":0},{"$f":"Lighting!H323","v":0},{"$f":"Lighting!I323","v":0},{"$f":"Lighting!J323","v":0},{"$f":"Lighting!K323","v":0},{"$f":"Lighting!L323","v":0},{"$f":"Lighting!M323","v":0},{"$f":"Lighting!P323","v":0},{"$f":"Lighting!Q323","v":0},{"$f":"Lighting!S323","v":""},{"$f":"Lighting!T323","v":""},{"$f":"Lighting!U323","v":0},{"$f":"Lighting!V323","v":""},{"$f":"Lighting!W323","v":""},{"$f":"Lighting!Y323","v":""},{"$f":"Lighting!AB323","v":""},{"$f":"Lighting!AC323","v":0},{"$f":"Lighting!AD323","v":0},{"$f":"Lighting!AE323","v":0}]
[0,{"$f":"Lighting!B324","v":316},{"$f":"Lighting!C324","v":0},{"$f":"Lighting!D324","v":0},{"$f":"Lighting!F324","v":0},{"$f":"Lighting!G324","v":0},{"$f":"Lighting!H324","v":0},{"$f":"Lighting!I324","v":0},{"$f":"Lighting!J324","v":0},{"$f":"Lighting!K324","v":0},{"$f":"Lighting!L324","v":0},{"$f":"Lighting!M324","v":0},{"$f":"Lighting!P324","v":0},{"$f":"Lighting!Q324","v":0},{"$f":"Lighting!S324","v":""},{"$f":"Lighting!T324","v":""},{"$f":"Lighting!U324","v":0},{"$f":"Lighting!V324","v":""},{"$f":"Lighting!W324","v":""},{"$f":"Lighting!Y324","v":""},{"$f":"Lighting!AB324","v":""},{"$f":"Lighting!AC324","v":0},{"$f":"Lighting!AD324","v":0},{"$f":"Lighting!AE324","v":0}]
[0,{"$f":"Lighting!B325","v":317},{"$f":"Lighting!C325","v":0},{"$f":"Lighting!D325","v":0},{"$f":"Lighting!F325","v":0},{"$f":"Lighting!G325","v":0},{"$f":"Lighting!H325","v":0},{"$f":"Lighting!I325","v":0},{"$f":"Lighting!J325","v":0},{"$f":"Lighting!K325","v":0},{"$f":"Lighting!L325","v":0},{"$f":"Lighting!M325","v":0},{"$f":"Lighting!P325","v":0},{"$f":"Lighting!Q325","v":0},{"$f":"Lighting!S325","v":""},{"$f":"Lighting!T325","v":""},{"$f":"Lighting!U325","v":0},{"$f":"Lighting!V325","v":""},{"$f":"Lighting!W325","v":""},{"$f":"Lighting!Y325","v":""},{"$f":"Lighting!AB325","v":""},{"$f":"Lighting!AC325","v":0},{"$f":"Lighting!AD325","v":0},{"$f":"Lighting!AE325","v":0}]
[0,{"$f":"Lighting!B326","v":318},{"$f":"Lighting!C326","v":0},{"$f":"Lighting!D326","v":0},{"$f":"Lighting!F326","v":0},{"$f":"Lighting!G326","v":0},{"$f":"Lighting!H326","v":0},{"$f":"Lighting!I326","v":0},{"$f":"Lighting!J326","v":0},{"$f":"Lighting!K326","v":0},{"$f":"Lighting!L326","v":0},{"$f":"Lighting!M326","v":0},{"$f":"Lighting!P326","v":0},{"$f":"Lighting!Q326","v":0},{"$f":"Lighting!S326","v":""},{"$f":"Lighting!T326","v":""},{"$f":"Lighting!U326","v":0},{"$f":"Lighting!V326","v":""},{"$f":"Lighting!W326","v":""},{"$f":"Lighting!Y326","v":""},{"$f":"Lighting!AB326","v":""},{"$f":"Lighting!AC326","v":0},{"$f":"Lighting!AD326","v":0},{"$f":"Lighting!AE326","v":0}]
[0,{"$f":"Lighting!B327","v":319},{"$f":"Lighting!C327","v":0},{"$f":"Lighting!D327","v":0},{"$f":"Lighting!F327","v":0},{"$f":"Lighting!G327","v":0},{"$f":"Lighting!H327","v":0},{"$f":"Lighting!I327","v":0},{"$f":"Lighting!J327","v":0},{"$f":"Lighting!K327","v":0},{"$f":"Lighting!L327","v":0},{"$f":"Lighting!M327","v":0},{"$f":"Lighting!P327","v":0},{"$f":"Lighting!Q327","v":0},{"$f":"Lighting!S327","v":""},{"$f":"Lighting!T327","v":""},{"$f":"Lighting!U327","v":0},{"$f":"Lighting!V327","v":""},{"$f":"Lighting!W327","v":""},{"$f":"Lighting!Y327","v":""},{"$f":"Lighting!AB327","v":""},{"$f":"Lighting!AC327","v":0},{"$f":"Lighting!AD327","v":0},{"$f":"Lighting!AE327","v":0}]
[0,{"$f":"Lighting!B328","v":320},{"$f":"Lighting!C328","v":0},{"$f":"Lighting!D328","v":0},{"$f":"Lighting!F328","v":0},{"$f":"Lighting!G328","v":0},{"$f":"Lighting!H328","v":0},{"$f":"Lighting!I328","v":0},{"$f":"Lighting!J328","v":0},{"$f":"Lighting!K328","v":0},{"$f":"Lighting!L328","v":0},{"$f":"Lighting!M328","v":0},{"$f":"Lighting!P328","v":0},{"$f":"Lighting!Q328","v":0},{"$f":"Lighting!S328","v":""},{"$f":"Lighting!T328","v":""},{"$f":"Lighting!U328","v":0},{"$f":"Lighting!V328","v":""},{"$f":"Lighting!W328","v":""},{"$f":"Lighting!Y328","v":""},{"$f":"Lighting!AB328","v":""},{"$f":"Lighting!AC328","v":0},{"$f":"Lighting!AD328","v":0},{"$f":"Lighting!AE328","v":0}]
[0,{"$f":"Lighting!B329","v":321},{"$f":"Lighting!C329","v":0},{"$f":"Lighting!D329","v":0},{"$f":"Lighting!F329","v":0},{"$f":"Lighting!G329","v":0},{"$f":"Lighting!H329","v":0},{"$f":"Lighting!I329","v":0},{"$f":"Lighting!J329","v":0},{"$f":"Lighting!K329","v":0},{"$f":"Lighting!L329","v":0},{"$f":"Lighting!M329","v":0},{"$f":"Lighting!P329","v":0},{"$f":"Lighting!Q329","v":0},{"$f":"Lighting!S329","v":""},{"$f":"Lighting!T329","v":""},{"$f":"Lighting!U329","v":0},{"$f":"Lighting!V329","v":""},{"$f":"Lighting!W329","v":""},{"$f":"Lighting!Y329","v":""},{"$f":"Lighting!AB329","v":""},{"$f":"Lighting!AC329","v":0},{"$f":"Lighting!AD329","v":0},{"$f":"Lighting!AE329","v":0}]
[0,{"$f":"Lighting!B330","v":322},{"$f":"Lighting!C330","v":0},{"$f":"Lighting!D330","v":0},{"$f":"Lighting!F330","v":0},{"$f":"Lighting!G330","v":0},{"$f":"Lighting!H330","v":0},{"$f":"Lighting!I330","v":0},{"$f":"Lighting!J330","v":0},{"$f":"Lighting!K330","v":0},{"$f":"Lighting!L330","v":0},{"$f":"Lighting!M330","v":0},{"$f":"Lighting!P330","v":0},{"$f":"Lighting!Q330","v":0},{"$f":"Lighting!S330","v":""},{"$f":"Lighting!T330","v":""},{"$f":"Lighting!U330","v":0},{"$f":"Lighting!V330","v":""},{"$f":"Lighting!W330","v":""},{"$f":"Lighting!Y330","v":""},{"$f":"Lighting!AB330","v":""},{"$f":"Lighting!AC330","v":0},{"$f":"Lighting!AD330","v":0},{"$f":"Lighting!AE330","v":0}]
[0,{"$f":"Lighting!B331","v":323},{"$f":"Lighting!C331","v":0},{"$f":"Lighting!D331","v":0},{"$f":"Lighting!F331","v":0},{"$f":"Lighting!G331","v":0},{"$f":"Lighting!H331","v":0},{"$f":"Lighting!I331","v":0},{"$f":"Lighting!J331","v":0},{"$f":"Lighting!K331","v":0},{"$f":"Lighting!L331","v":0},{"$f":"Lighting!M331","v":0},{"$f":"Lighting!P331","v":0},{"$f":"Lighting!Q331","v":0},{"$f":"Lighting!S331","v":""},{"$f":"Lighting!T331","v":""},{"$f":"Lighting!U331","v":0},{"$f":"Lighting!V331","v":""},{"$f":"Lighting!W331","v":""},{"$f":"Lighting!Y331","v":""},{"$f":"Lighting!AB331","v":""},{"$f":"Lighting!AC331","v":0},{"$f":"Lighting!AD331","v":0},{"$f":"Lighting!AE331","v":0}]
[0,{"$f":"Lighting!B332","v":324},{"$f":"Lighting!C332","v":0},{"$f":"Lighting!D332","v":0},{"$f":"Lighting!F332","v":0},{"$f":"Lighting!G332","v":0},{"$f":"Lighting!H332","v":0},{"$f":"Lighting!I332","v":0},{"$f":"Lighting!J332","v":0},{"$f":"Lighting!K332","v":0},{"$f":"Lighting!L332","v":0},{"$f":"Lighting!M332","v":0},{"$f":"Lighting!P332","v":0},{"$f":"Lighting!Q332","v":0},{"$f":"Lighting!S332","v":""},{"$f":"Lighting!T332","v":""},{"$f":"Lighting!U332","v":0},{"$f":"Lighting!V332","v":""},{"$f":"Lighting!W332","v":""},{"$f":"Lighting!Y332","v":""},{"$f":"Lighting!AB332","v":""},{"$f":"Lighting!AC332","v":0},{"$f":"Lighting!AD332","v":0},{"$f":"Lighting!AE332","v":0}]
[0,{"$f":"Lighting!B333","v":325},{"$f":"Lighting!C333","v":0},{"$f":"Lighting!D333","v":0},{"$f":"Lighting!F333","v":0},{"$f":"Lighting!G333","v":0},{"$f":"Lighting!H333","v":0},{"$f":"Lighting!I333","v":0},{"$f":"Lighting!J333","v":0},{"$f":"Lighting!K333","v":0},{"$f":"Lighting!L333","v":0},{"$f":"Lighting!M333","v":0},{"$f":"Lighting!P333","v":0},{"$f":"Lighting!Q333","v":0},{"$f":"Lighting!S333","v":""},{"$f":"Lighting!T333","v":""},{"$f":"Lighting!U333","v":0},{"$f":"Lighting!V333","v":""},{"$f":"Lighting!W333","v":""},{"$f":"Lighting!Y333","v":""},{"$f":"Lighting!AB333","v":""},{"$f":"Lighting!AC333","v":0},{"$f":"Lighting!AD333","v":0},{"$f":"Lighting!AE333","v":0}]
[0,{"$f":"Lighting!B334","v":326},{"$f":"Lighting!C334","v":0},{"$f":"Lighting!D334","v":0},{"$f":"Lighting!F334","v":0},{"$f":"Lighting!G334","v":0},{"$f":"Lighting!H334","v":0},{"$f":"Lighting!I334","v":0},{"$f":"Lighting!J334","v":0},{"$f":"Lighting!K334","v":0},{"$f":"Lighting!L334","v":0},{"$f":"Lighting!M334","v":0},{"$f":"Lighting!P334","v":0},{"$f":"Lighting!Q334","v":0},{"$f":"Lighting!S334","v":""},{"$f":"Lighting!T334","v":""},{"$f":"Lighting!U334","v":0},{"$f":"Lighting!V334","v":""},{"$f":"Lighting!W334","v":""},{"$f":"Lighting!Y334","v":""},{"$f":"Lighting!AB334","v":""},{"$f":"Lighting!AC334","v":0},{"$f":"Lighting!AD334","v":0},{"$f":"Lighting!AE334","v":0}]
[0,{"$f":"Lighting!B335","v":327},{"$f":"Lighting!C335","v":0},{"$f":"Lighting!D335","v":0},{"$f":"Lighting!F335","v":0},{"$f":"Lighting!G335","v":0},{"$f":"Lighting!H335","v":0},{"$f":"Lighting!I335","v":0},{"$f":"Lighting!J335","v":0},{"$f":"Lighting!K335","v":0},{"$f":"Lighting!L335","v":0},{"$f":"Lighting!M335","v":0},{"$f":"Lighting!P335","v":0},{"$f":"Lighting!Q335","v":0},{"$f":"Lighting!S335","v":""},{"$f":"Lighting!T335","v":""},{"$f":"Lighting!U335","v":0},{"$f":"Lighting!V335","v":""},{"$f":"Lighting!W335","v":""},{"$f":"Lighting!Y335","v":""},{"$f":"Lighting!AB335","v":""},{"$f":"Lighting!AC335","v":0},{"$f":"Lighting!AD335","v":0},{"$f":"Lighting!AE335","v":0}]
[0,{"$f":"Lighting!B336","v":328},{"$f":"Lighting!C336","v":0},{"$f":"Lighting!D336","v":0},{"$f":"Lighting!F336","v":0},{"$f":"Lighting!G336","v":0},{"$f":"Lighting!H336","v":0},{"$f":"Lighting!I336","v":0},{"$f":"Lighting!J336","v":0},{"$f":"Lighting!K336","v":0},{"$f":"Lighting!L336","v":0},{"$f":"Lighting!M336","v":0},{"$f":"Lighting!P336","v":0},{"$f":"Lighting!Q336","v":0},{"$f":"Lighting!S336","v":""},{"$f":"Lighting!T336","v":""},{"$f":"Lighting!U336","v":0},{"$f":"Lighting!V336","v":""},{"$f":"Lighting!W336","v":""},{"$f":"Lighting!Y336","v":""},{"$f":"Lighting!AB336","v":""},{"$f":"Lighting!AC336","v":0},{"$f":"Lighting!AD336","v":0},{"$f":"Lighting!AE336","v":0}]
[0,{"$f":"Lighting!B337","v":329},{"$f":"Lighting!C337","v":0},{"$f":"Lighting!D337","v":0},{"$f":"Lighting!F337","v":0},{"$f":"Lighting!G337","v":0},{"$f":"Lighting!H337","v":0},{"$f":"Lighting!I337","v":0},{"$f":"Lighting!J337","v":0},{"$f":"Lighting!K337","v":0},{"$f":"Lighting!L337","v":0},{"$f":"Lighting!M337","v":0},{"$f":"Lighting!P337","v":0},{"$f":"Lighting!Q337","v":0},{"$f":"Lighting!S337","v":""},{"$f":"Lighting!T337","v":""},{"$f":"Lighting!U337","v":0},{"$f":"Lighting!V337","v":""},{"$f":"Lighting!W337","v":""},{"$f":"Lighting!Y337","v":""},{"$f":"Lighting!AB337","v":""},{"$f":"Lighting!AC337","v":0},{"$f":"Lighting!AD337","v":0},{"$f":"Lighting!AE337","v":0}]
[0,{"$f":"Lighting!B338","v":330},{"$f":"Lighting!C338","v":0},{"$f":"Lighting!D338","v":0},{"$f":"Lighting!F338","v":0},{"$f":"Lighting!G338","v":0},{"$f":"Lighting!H338","v":0},{"$f":"Lighting!I338","v":0},{"$f":"Lighting!J338","v":0},{"$f":"Lighting!K338","v":0},{"$f":"Lighting!L338","v":0},{"$f":"Lighting!M338","v":0},{"$f":"Lighting!P338","v":0},{"$f":"Lighting!Q338","v":0},{"$f":"Lighting!S338","v":""},{"$f":"Lighting!T338","v":""},{"$f":"Lighting!U338","v":0},{"$f":"Lighting!V338","v":""},{"$f":"Lighting!W338","v":""},{"$f":"Lighting!Y338","v":""},{"$f":"Lighting!AB338","v":""},{"$f":"Lighting!AC338","v":0},{"$f":"Lighting!AD338","v":0},{"$f":"Lighting!AE338","v":0}]
[0,{"$f":"Lighting!B339","v":331},{"$f":"Lighting!C339","v":0},{"$f":"Lighting!D339","v":0},{"$f":"Lighting!F339","v":0},{"$f":"Lighting!G339","v":0},{"$f":"Lighting!H339","v":0},{"$f":"Lighting!I339","v":0},{"$f":"Lighting!J339","v":0},{"$f":"Lighting!K339","v":0},{"$f":"Lighting!L339","v":0},{"$f":"Lighting!M339","v":0},{"$f":"Lighting!P339","v":0},{"$f":"Lighting!Q339","v":0},{"$f":"Lighting!S339","v":""},{"$f":"Lighting!T339","v":""},{"$f":"Lighting!U339","v":0},{"$f":"Lighting!V339","v":""},{"$f":"Lighting!W339","v":""},{"$f":"Lighting!Y339","v":""},{"$f":"Lighting!AB339","v":""},{"$f":"Lighting!AC339","v":0},{"$f":"Lighting!AD339","v":0},{"$f":"Lighting!AE339","v":0}]
[0,{"$f":"Lighting!B340","v":332},{"$f":"Lighting!C340","v":0},{"$f":"Lighting!D340","v":0},{"$f":"Lighting!F340","v":0},{"$f":"Lighting!G340","v":0},{"$f":"Lighting!H340","v":0},{"$f":"Lighting!I340","v":0},{"$f":"Lighting!J340","v":0},{"$f":"Lighting!K340","v":0},{"$f":"Lighting!L340","v":0},{"$f":"Lighting!M340","v":0},{"$f":"Lighting!P340","v":0},{"$f":"Lighting!Q340","v":0},{"$f":"Lighting!S340","v":""},{"$f":"Lighting!T340","v":""},{"$f":"Lighting!U340","v":0},{"$f":"Lighting!V340","v":""},{"$f":"Lighting!W340","v":""},{"$f":"Lighting!Y340","v":""},{"$f":"Lighting!AB340","v":""},{"$f":"Lighting!AC340","v":0},{"$f":"Lighting!AD340","v":0},{"$f":"Lighting!AE340","v":0}]
[0,{"$f":"Lighting!B341","v":333},{"$f":"Lighting!C341","v":0},{"$f":"Lighting!D341","v":0},{"$f":"Lighting!F341","v":0},{"$f":"Lighting!G341","v":0},{"$f":"Lighting!H341","v":0},{"$f":"Lighting!I341","v":0},{"$f":"Lighting!J341","v":0},{"$f":"Lighting!K341","v":0},{"$f":"Lighting!L341","v":0},{"$f":"Lighting!M341","v":0},{"$f":"Lighting!P341","v":0},{"$f":"Lighting!Q341","v":0},{"$f":"Lighting!S341","v":""},{"$f":"Lighting!T341","v":""},{"$f":"Lighting!U341","v":0},{"$f":"Lighting!V341","v":""},{"$f":"Lighting!W341","v":""},{"$f":"Lighting!Y341","v":""},{"$f":"Lighting!AB341","v":""},{"$f":"Lighting!AC341","v":0},{"$f":"Lighting!AD341","v":0},{"$f":"Lighting!AE341","v":0}]
[0,{"$f":"Lighting!B342","v":334},{"$f":"Lighting!C342","v":0},{"$f":"Lighting!D342","v":0},{"$f":"Lighting!F342","v":0},{"$f":"Lighting!G342","v":0},{"$f":"Lighting!H342","v":0},{"$f":"Lighting!I342","v":0},{"$f":"Lighting!J342","v":0},{"$f":"Lighting!K342","v":0},{"$f":"Lighting!L342","v":0},{"$f":"Lighting!M342","v":0},{"$f":"Lighting!P342","v":0},{"$f":"Lighting!Q342","v":0},{"$f":"Lighting!S342","v":""},{"$f":"Lighting!T342","v":""},{"$f":"Lighting!U342","v":0},{"$f":"Lighting!V342","v":""},{"$f":"Lighting!W342","v":""},{"$f":"Lighting!Y342","v":""},{"$f":"Lighting!AB342","v":""},{"$f":"Lighting!AC342","v":0},{"$f":"Lighting!AD342","v":0},{"$f":"Lighting!AE342","v":0}]
[0,{"$f":"Lighting!B343","v":335},{"$f":"Lighting!C343","v":0},{"$f":"Lighting!D343","v":0},{"$f":"Lighting!F343","v":0},{"$f":"Lighting!G343","v":0},{"$f":"Lighting!H343","v":0},{"$f":"Lighting!I343","v":0},{"$f":"Lighting!J343","v":0},{"$f":"Lighting!K343","v":0},{"$f":"Lighting!L343","v":0},{"$f":"Lighting!M343","v":0},{"$f":"Lighting!P343","v":0},{"$f":"Lighting!Q343","v":0},{"$f":"Lighting!S343","v":""},{"$f":"Lighting!T343","v":""},{"$f":"Lighting!U343","v":0},{"$f":"Lighting!V343","v":""},{"$f":"Lighting!W343","v":""},{"$f":"Lighting!Y343","v":""},{"$f":"Lighting!AB343","v":""},{"$f":"Lighting!AC343","v":0},{"$f":"Lighting!AD343","v":0},{"$f":"Lighting!AE343","v":0}]
[0,{"$f":"Lighting!B344","v":336},{"$f":"Lighting!C344","v":0},{"$f":"Lighting!D344","v":0},{"$f":"Lighting!F344","v":0},{"$f":"Lighting!G344","v":0},{"$f":"Lighting!H344","v":0},{"$f":"Lighting!I344","v":0},{"$f":"Lighting!J344","v":0},{"$f":"Lighting!K344","v":0},{"$f":"Lighting!L344","v":0},{"$f":"Lighting!M344","v":0},{"$f":"Lighting!P344","v":0},{"$f":"Lighting!Q344","v":0},{"$f":"Lighting!S344","v":""},{"$f":"Lighting!T344","v":""},{"$f":"Lighting!U344","v":0},{"$f":"Lighting!V344","v":""},{"$f":"Lighting!W344","v":""},{"$f":"Lighting!Y344","v":""},{"$f":"Lighting!AB344","v":""},{"$f":"Lighting!AC344","v":0},{"$f":"Lighting!AD344","v":0},{"$f":"Lighting!AE344","v":0}]
[0,{"$f":"Lighting!B345","v":337},{"$f":"Lighting!C345","v":0},{"$f":"Lighting!D345","v":0},{"$f":"Lighting!F345","v":0},{"$f":"Lighting!G345","v":0},{"$f":"Lighting!H345","v":0},{"$f":"Lighting!I345","v":0},{"$f":"Lighting!J345","v":0},{"$f":"Lighting!K345","v":0},{"$f":"Lighting!L345","v":0},{"$f":"Lighting!M345","v":0},{"$f":"Lighting!P345","v":0},{"$f":"Lighting!Q345","v":0},{"$f":"Lighting!S345","v":""},{"$f":"Lighting!T345","v":""},{"$f":"Lighting!U345","v":0},{"$f":"Lighting!V345","v":""},{"$f":"Lighting!W345","v":""},{"$f":"Lighting!Y345","v":""},{"$f":"Lighting!AB345","v":""},{"$f":"Lighting!AC345","v":0},{"$f":"Lighting!AD345","v":0},{"$f":"Lighting!AE345","v":0}]
[0,{"$f":"Lighting!B346","v":338},{"$f":"Lighting!C346","v":0},{"$f":"Lighting!D346","v":0},{"$f":"Lighting!F346","v":0},{"$f":"Lighting!G346","v":0},{"$f":"Lighting!H346","v":0},{"$f":"Lighting!I346","v":0},{"$f":"Lighting!J346","v":0},{"$f":"Lighting!K346","v":0},{"$f":"Lighting!L346","v":0},{"$f":"Lighting!M346","v":0},{"$f":"Lighting!P346","v":0},{"$f":"Lighting!Q346","v":0},{"$f":"Lighting!S346","v":""},{"$f":"Lighting!T346","v":""},{"$f":"Lighting!U346","v":0},{"$f":"Lighting!V346","v":""},{"$f":"Lighting!W346","v":""},{"$f":"Lighting!Y346","v":""},{"$f":"Lighting!AB346","v":""},{"$f":"Lighting!AC346","v":0},{"$f":"Lighting!AD346","v":0},{"$f":"Lighting!AE346","v":0}]
[0,{"$f":"Lighting!B347","v":339},{"$f":"Lighting!C347","v":0},{"$f":"Lighting!D347","v":0},{"$f":"Lighting!F347","v":0},{"$f":"Lighting!G347","v":0},{"$f":"Lighting!H347","v":0},{"$f":"Lighting!I347","v":0},{"$f":"Lighting!J347","v":0},{"$f":"Lighting!K347","v":0},{"$f":"Lighting!L347","v":0},{"$f":"Lighting!M347","v":0},{"$f":"Lighting!P347","v":0},{"$f":"Lighting!Q347","v":0},{"$f":"Lighting!S347","v":""},{"$f":"Lighting!T347","v":""},{"$f":"Lighting!U347","v":0},{"$f":"Lighting!V347","v":""},{"$f":"Lighting!W347","v":""},{"$f":"Lighting!Y347","v":""},{"$f":"Lighting!AB347","v":""},{"$f":"Lighting!AC347","v":0},{"$f":"Lighting!AD347","v":0},{"$f":"Lighting!AE347","v":0}]
[0,{"$f":"Lighting!B348","v":340},{"$f":"Lighting!C348","v":0},{"$f":"Lighting!D348","v":0},{"$f":"Lighting!F348","v":0},{"$f":"Lighting!G348","v":0},{"$f":"Lighting!H348","v":0},{"$f":"Lighting!I348","v":0},{"$f":"Lighting!J348","v":0},{"$f":"Lighting!K348","v":0},{"$f":"Lighting!L348","v":0},{"$f":"Lighting!M348","v":0},{"$f":"Lighting!P348","v":0},{"$f":"Lighting!Q348","v":0},{"$f":"Lighting!S348","v":""},{"$f":"Lighting!T348","v":""},{"$f":"Lighting!U348","v":0},{"$f":"Lighting!V348","v":""},{"$f":"Lighting!W348","v":""},{"$f":"Lighting!Y348","v":""},{"$f":"Lighting!AB348","v":""},{"$f":"Lighting!AC348","v":0},{"$f":"Lighting!AD348","v":0},{"$f":"Lighting!AE348","v":0}]
[0,{"$f":"Lighting!B349","v":341},{"$f":"Lighting!C349","v":0},{"$f":"Lighting!D349","v":0},{"$f":"Lighting!F349","v":0},{"$f":"Lighting!G349","v":0},{"$f":"Lighting!H349","v":0},{"$f":"Lighting!I349","v":0},{"$f":"Lighting!J349","v":0},{"$f":"Lighting!K349","v":0},{"$f":"Lighting!L349","v":0},{"$f":"Lighting!M349","v":0},{"$f":"Lighting!P349","v":0},{"$f":"Lighting!Q349","v":0},{"$f":"Lighting!S349","v":""},{"$f":"Lighting!T349","v":""},{"$f":"Lighting!U349","v":0},{"$f":"Lighting!V349","v":""},{"$f":"Lighting!W349","v":""},{"$f":"Lighting!Y349","v":""},{"$f":"Lighting!AB349","v":""},{"$f":"Lighting!AC349","v":0},{"$f":"Lighting!AD349","v":0},{"$f":"Lighting!AE349","v":0}]
[0,{"$f":"Lighting!B350","v":342},{"$f":"Lighting!C350","v":0},{"$f":"Lighting!D350","v":0},{"$f":"Lighting!F350","v":0},{"$f":"Lighting!G350","v":0},{"$f":"Lighting!H350","v":0},{"$f":"Lighting!I350","v":0},{"$f":"Lighting!J350","v":0},{"$f":"Lighting!K350","v":0},{"$f":"Lighting!L350","v":0},{"$f":"Lighting!M350","v":0},{"$f":"Lighting!P350","v":0},{"$f":"Lighting!Q350","v":0},{"$f":"Lighting!S350","v":""},{"$f":"Lighting!T350","v":""},{"$f":"Lighting!U350","v":0},{"$f":"Lighting!V350","v":""},{"$f":"Lighting!W350","v":""},{"$f":"Lighting!Y350","v":""},{"$f":"Lighting!AB350","v":""},{"$f":"Lighting!AC350","v":0},{"$f":"Lighting!AD350","v":0},{"$f":"Lighting!AE350","v":0}]
[0,{"$f":"Lighting!B351","v":343},{"$f":"Lighting!C351","v":0},{"$f":"Lighting!D351","v":0},{"$f":"Lighting!F351","v":0},{"$f":"Lighting!G351","v":0},{"$f":"Lighting!H351","v":0},{"$f":"Lighting!I351","v":0},{"$f":"Lighting!J351","v":0},{"$f":"Lighting!K351","v":0},{"$f":"Lighting!L351","v":0},{"$f":"Lighting!M351","v":0},{"$f":"Lighting!P351","v":0},{"$f":"Lighting!Q351","v":0},{"$f":"Lighting!S351","v":""},{"$f":"Lighting!T351","v":""},{"$f":"Lighting!U351","v":0},{"$f":"Lighting!V351","v":""},{"$f":"Lighting!W351","v":""},{"$f":"Lighting!Y351","v":""},{"$f":"Lighting!AB351","v":""},{"$f":"Lighting!AC351","v":0},{"$f":"Lighting!AD351","v":0},{"$f":"Lighting!AE351","v":0}]
[0,{"$f":"Lighting!B352","v":344},{"$f":"Lighting!C352","v":0},{"$f":"Lighting!D352","v":0},{"$f":"Lighting!F352","v":0},{"$f":"Lighting!G352","v":0},{"$f":"Lighting!H352","v":0},{"$f":"Lighting!I352","v":0},{"$f":"Lighting!J352","v":0},{"$f":"Lighting!K352","v":0},{"$f":"Lighting!L352","v":0},{"$f":"Lighting!M352","v":0},{"$f":"Lighting!P352","v":0},{"$f":"Lighting!Q352","v":0},{"$f":"Lighting!S352","v":""},{"$f":"Lighting!T352","v":""},{"$f":"Lighting!U352","v":0},{"$f":"Lighting!V352","v":""},{"$f":"Lighting!W352","v":""},{"$f":"Lighting!Y352","v":""},{"$f":"Lighting!AB352","v":""},{"$f":"Lighting!AC352","v":0},{"$f":"Lighting!AD352","v":0},{"$f":"Lighting!AE352","v":0}]
[0,{"$f":"Lighting!B353","v":345},{"$f":"Lighting!C353","v":0},{"$f":"Lighting!D353","v":0},{"$f":"Lighting!F353","v":0},{"$f":"Lighting!G353","v":0},{"$f":"Lighting!H353","v":0},{"$f":"Lighting!I353","v":0},{"$f":"Lighting!J353","v":0},{"$f":"Lighting!K353","v":0},{"$f":"Lighting!L353","v":0},{"$f":"Lighting!M353","v":0},{"$f":"Lighting!P353","v":0},{"$f":"Lighting!Q353","v":0},{"$f":"Lighting!S353","v":""},{"$f":"Lighting!T353","v":""},{"$f":"Lighting!U353","v":0},{"$f":"Lighting!V353","v":""},{"$f":"Lighting!W353","v":""},{"$f":"Lighting!Y353","v":""},{"$f":"Lighting!AB353","v":""},{"$f":"Lighting!AC353","v":0},{"$f":"Lighting!AD353","v":0},{"$f":"Lighting!AE353","v":0}]
[0,{"$f":"Lighting!B354","v":346},{"$f":"Lighting!C354","v":0},{"$f":"Lighting!D354","v":0},{"$f":"Lighting!F354","v":0},{"$f":"Lighting!G354","v":0},{"$f":"Lighting!H354","v":0},{"$f":"Lighting!I354","v":0},{"$f":"Lighting!J354","v":0},{"$f":"Lighting!K354","v":0},{"$f":"Lighting!L354","v":0},{"$f":"Lighting!M354","v":0},{"$f":"Lighting!P354","v":0},{"$f":"Lighting!Q354","v":0},{"$f":"Lighting!S354","v":""},{"$f":"Lighting!T354","v":""},{"$f":"Lighting!U354","v":0},{"$f":"Lighting!V354","v":""},{"$f":"Lighting!W354","v":""},{"$f":"Lighting!Y354","v":""},{"$f":"Lighting!AB354","v":""},{"$f":"Lighting!AC354","v":0},{"$f":"Lighting!AD354","v":0},{"$f":"Lighting!AE354","v":0}]
[0,{"$f":"Lighting!B355","v":347},{"$f":"Lighting!C355","v":0},{"$f":"Lighting!D355","v":0},{"$f":"Lighting!F355","v":0},{"$f":"Lighting!G355","v":0},{"$f":"Lighting!H355","v":0},{"$f":"Lighting!I355","v":0},{"$f":"Lighting!J355","v":0},{"$f":"Lighting!K355","v":0},{"$f":"Lighting!L355","v":0},{"$f":"Lighting!M355","v":0},{"$f":"Lighting!P355","v":0},{"$f":"Lighting!Q355","v":0},{"$f":"Lighting!S355","v":""},{"$f":"Lighting!T355","v":""},{"$f":"Lighting!U355","v":0},{"$f":"Lighting!V355","v":""},{"$f":"Lighting!W355","v":""},{"$f":"Lighting!Y355","v":""},{"$f":"Lighting!AB355","v":""},{"$f":"Lighting!AC355","v":0},{"$f":"Lighting!AD355","v":0},{"$f":"Lighting!AE355","v":0}]
[0,{"$f":"Lighting!B356","v":348},{"$f":"Lighting!C356","v":0},{"$f":"Lighting!D356","v":0},{"$f":"Lighting!F356","v":0},{"$f":"Lighting!G356","v":0},{"$f":"Lighting!H356","v":0},{"$f":"Lighting!I356","v":0},{"$f":"Lighting!J356","v":0},{"$f":"Lighting!K356","v":0},{"$f":"Lighting!L356","v":0},{"$f":"Lighting!M356","v":0},{"$f":"Lighting!P356","v":0},{"$f":"Lighting!Q356","v":0},{"$f":"Lighting!S356","v":""},{"$f":"Lighting!T356","v":""},{"$f":"Lighting!U356","v":0},{"$f":"Lighting!V356","v":""},{"$f":"Lighting!W356","v":""},{"$f":"Lighting!Y356","v":""},{"$f":"Lighting!AB356","v":""},{"$f":"Lighting!AC356","v":0},{"$f":"Lighting!AD356","v":0},{"$f":"Lighting!AE356","v":0}]
[0,{"$f":"Lighting!B357","v":349},{"$f":"Lighting!C357","v":0},{"$f":"Lighting!D357","v":0},{"$f":"Lighting!F357","v":0},{"$f":"Lighting!G357","v":0},{"$f":"Lighting!H357","v":0},{"$f":"Lighting!I357","v":0},{"$f":"Lighting!J357","v":0},{"$f":"Lighting!K357","v":0},{"$f":"Lighting!L357","v":0},{"$f":"Lighting!M357","v":0},{"$f":"Lighting!P357","v":0},{"$f":"Lighting!Q357","v":0},{"$f":"Lighting!S357","v":""},{"$f":"Lighting!T357","v":""},{"$f":"Lighting!U357","v":0},{"$f":"Lighting!V357","v":""},{"$f":"Lighting!W357","v":""},{"$f":"Lighting!Y357","v":""},{"$f":"Lighting!AB357","v":""},{"$f":"Lighting!AC357","v":0},{"$f":"Lighting!AD357","v":0},{"$f":"Lighting!AE357","v":0}]
[0,{"$f":"Lighting!B358","v":350},{"$f":"Lighting!C358","v":0},{"$f":"Lighting!D358","v":0},{"$f":"Lighting!F358","v":0},{"$f":"Lighting!G358","v":0},{"$f":"Lighting!H358","v":0},{"$f":"Lighting!I358","v":0},{"$f":"Lighting!J358","v":0},{"$f":"Lighting!K358","v":0},{"$f":"Lighting!L358","v":0},{"$f":"Lighting!M358","v":0},{"$f":"Lighting!P358","v":0},{"$f":"Lighting!Q358","v":0},{"$f":"Lighting!S358","v":""},{"$f":"Lighting!T358","v":""},{"$f":"Lighting!U358","v":0},{"$f":"Lighting!V358","v":""},{"$f":"Lighting!W358","v":""},{"$f":"Lighting!Y358","v":""},{"$f":"Lighting!AB358","v":""},{"$f":"Lighting!AC358","v":0},{"$f":"Lighting!AD358","v":0},{"$f":"Lighting!AE358","v":0}]
[0,{"$f":"Lighting!B359","v":351},{"$f":"Lighting!C359","v":0},{"$f":"Lighting!D359","v":0},{"$f":"Lighting!F359","v":0},{"$f":"Lighting!G359","v":0},{"$f":"Lighting!H359","v":0},{"$f":"Lighting!I359","v":0},{"$f":"Lighting!J359","v":0},{"$f":"Lighting!K359","v":0},{"$f":"Lighting!L359","v":0},{"$f":"Lighting!M359","v":0},{"$f":"Lighting!P359","v":0},{"$f":"Lighting!Q359","v":0},{"$f":"Lighting!S359","v":""},{"$f":"Lighting!T359","v":""},{"$f":"Lighting!U359","v":0},{"$f":"Lighting!V359","v":""},{"$f":"Lighting!W359","v":""},{"$f":"Lighting!Y359","v":""},{"$f":"Lighting!AB359","v":""},{"$f":"Lighting!AC359","v":0},{"$f":"Lighting!AD359","v":0},{"$f":"Lighting!AE359","v":0}]
[0,{"$f":"Lighting!B360","v":352},{"$f":"Lighting!C360","v":0},{"$f":"Lighting!D360","v":0},{"$f":"Lighting!F360","v":0},{"$f":"Lighting!G360","v":0},{"$f":"Lighting!H360","v":0},{"$f":"Lighting!I360","v":0},{"$f":"Lighting!J360","v":0},{"$f":"Lighting!K360","v":0},{"$f":"Lighting!L360","v":0},{"$f":"Lighting!M360","v":0},{"$f":"Lighting!P360","v":0},{"$f":"Lighting!Q360","v":0},{"$f":"Lighting!S360","v":""},{"$f":"Lighting!T360","v":""},{"$f":"Lighting!U360","v":0},{"$f":"Lighting!V360","v":""},{"$f":"Lighting!W360","v":""},{"$f":"Lighting!Y360","v":""},{"$f":"Lighting!AB360","v":""},{"$f":"Lighting!AC360","v":0},{"$f":"Lighting!AD360","v":0},{"$f":"Lighting!AE360","v":0}]
[0,{"$f":"Lighting!B361","v":353},{"$f":"Lighting!C361","v":0},{"$f":"Lighting!D361","v":0},{"$f":"Lighting!F361","v":0},{"$f":"Lighting!G361","v":0},{"$f":"Lighting!H361","v":0},{"$f":"Lighting!I361","v":0},{"$f":"Lighting!J361","v":0},{"$f":"Lighting!K361","v":0},{"$f":"Lighting!L361","v":0},{"$f":"Lighting!M361","v":0},{"$f":"Lighting!P361","v":0},{"$f":"Lighting!Q361","v":0},{"$f":"Lighting!S361","v":""},{"$f":"Lighting!T361","v":""},{"$f":"Lighting!U361","v":0},{"$f":"Lighting!V361","v":""},{"$f":"Lighting!W361","v":""},{"$f":"Lighting!Y361","v":""},{"$f":"Lighting!AB361","v":""},{"$f":"Lighting!AC361","v":0},{"$f":"Lighting!AD361","v":0},{"$f":"Lighting!AE361","v":0}]
[0,{"$f":"Lighting!B362","v":354},{"$f":"Lighting!C362","v":0},{"$f":"Lighting!D362","v":0},{"$f":"Lighting!F362","v":0},{"$f":"Lighting!G362","v":0},{"$f":"Lighting!H362","v":0},{"$f":"Lighting!I362","v":0},{"$f":"Lighting!J362","v":0},{"$f":"Lighting!K362","v":0},{"$f":"Lighting!L362","v":0},{"$f":"Lighting!M362","v":0},{"$f":"Lighting!P362","v":0},{"$f":"Lighting!Q362","v":0},{"$f":"Lighting!S362","v":""},{"$f":"Lighting!T362","v":""},{"$f":"Lighting!U362","v":0},{"$f":"Lighting!V362","v":""},{"$f":"Lighting!W362","v":""},{"$f":"Lighting!Y362","v":""},{"$f":"Lighting!AB362","v":""},{"$f":"Lighting!AC362","v":0},{"$f":"Lighting!AD362","v":0},{"$f":"Lighting!AE362","v":0}]
[0,{"$f":"Lighting!B363","v":355},{"$f":"Lighting!C363","v":0},{"$f":"Lighting!D363","v":0},{"$f":"Lighting!F363","v":0},{"$f":"Lighting!G363","v":0},{"$f":"Lighting!H363","v":0},{"$f":"Lighting!I363","v":0},{"$f":"Lighting!J363","v":0},{"$f":"Lighting!K363","v":0},{"$f":"Lighting!L363","v":0},{"$f":"Lighting!M363","v":0},{"$f":"Lighting!P363","v":0},{"$f":"Lighting!Q363","v":0},{"$f":"Lighting!S363","v":""},{"$f":"Lighting!T363","v":""},{"$f":"Lighting!U363","v":0},{"$f":"Lighting!V363","v":""},{"$f":"Lighting!W363","v":""},{"$f":"Lighting!Y363","v":""},{"$f":"Lighting!AB363","v":""},{"$f":"Lighting!AC363","v":0},{"$f":"Lighting!AD363","v":0},{"$f":"Lighting!AE363","v":0}]
[0,{"$f":"Lighting!B364","v":356},{"$f":"Lighting!C364","v":0},{"$f":"Lighting!D364","v":0},{"$f":"Lighting!F364","v":0},{"$f":"Lighting!G364","v":0},{"$f":"Lighting!H364","v":0},{"$f":"Lighting!I364","v":0},{"$f":"Lighting!J364","v":0},{"$f":"Lighting!K364","v":0},{"$f":"Lighting!L364","v":0},{"$f":"Lighting!M364","v":0},{"$f":"Lighting!P364","v":0},{"$f":"Lighting!Q364","v":0},{"$f":"Lighting!S364","v":""},{"$f":"Lighting!T364","v":""},{"$f":"Lighting!U364","v":0},{"$f":"Lighting!V364","v":""},{"$f":"Lighting!W364","v":""},{"$f":"Lighting!Y364","v":""},{"$f":"Lighting!AB364","v":""},{"$f":"Lighting!AC364","v":0},{"$f":"Lighting!AD364","v":0},{"$f":"Lighting!AE364","v":0}]
[0,{"$f":"Lighting!B365","v":357},{"$f":"Lighting!C365","v":0},{"$f":"Lighting!D365","v":0},{"$f":"Lighting!F365","v":0},{"$f":"Lighting!G365","v":0},{"$f":"Lighting!H365","v":0},{"$f":"Lighting!I365","v":0},{"$f":"Lighting!J365","v":0},{"$f":"Lighting!K365","v":0},{"$f":"Lighting!L365","v":0},{"$f":"Lighting!M365","v":0},{"$f":"Lighting!P365","v":0},{"$f":"Lighting!Q365","v":0},{"$f":"Lighting!S365","v":""},{"$f":"Lighting!T365","v":""},{"$f":"Lighting!U365","v":0},{"$f":"Lighting!V365","v":""},{"$f":"Lighting!W365","v":""},{"$f":"Lighting!Y365","v":""},{"$f":"Lighting!AB365","v":""},{"$f":"Lighting!AC365","v":0},{"$f":"Lighting!AD365","v":0},{"$f":"Lighting!AE365","v":0}]
[0,{"$f":"Lighting!B366","v":358},{"$f":"Lighting!C366","v":0},{"$f":"Lighting!D366","v":0},{"$f":"Lighting!F366","v":0},{"$f":"Lighting!G366","v":0},{"$f":"Lighting!H366","v":0},{"$f":"Lighting!I366","v":0},{"$f":"Lighting!J366","v":0},{"$f":"Lighting!K366","v":0},{"$f":"Lighting!L366","v":0},{"$f":"Lighting!M366","v":0},{"$f":"Lighting!P366","v":0},{"$f":"Lighting!Q366","v":0},{"$f":"Lighting!S366","v":""},{"$f":"Lighting!T366","v":""},{"$f":"Lighting!U366","v":0},{"$f":"Lighting!V366","v":""},{"$f":"Lighting!W366","v":""},{"$f":"Lighting!Y366","v":""},{"$f":"Lighting!AB366","v":""},{"$f":"Lighting!AC366","v":0},{"$f":"Lighting!AD366","v":0},{"$f":"Lighting!AE366","v":0}]
[0,{"$f":"Lighting!B367","v":359},{"$f":"Lighting!C367","v":0},{"$f":"Lighting!D367","v":0},{"$f":"Lighting!F367","v":0},{"$f":"Lighting!G367","v":0},{"$f":"Lighting!H367","v":0},{"$f":"Lighting!I367","v":0},{"$f":"Lighting!J367","v":0},{"$f":"Lighting!K367","v":0},{"$f":"Lighting!L367","v":0},{"$f":"Lighting!M367","v":0},{"$f":"Lighting!P367","v":0},{"$f":"Lighting!Q367","v":0},{"$f":"Lighting!S367","v":""},{"$f":"Lighting!T367","v":""},{"$f":"Lighting!U367","v":0},{"$f":"Lighting!V367","v":""},{"$f":"Lighting!W367","v":""},{"$f":"Lighting!Y367","v":""},{"$f":"Lighting!AB367","v":""},{"$f":"Lighting!AC367","v":0},{"$f":"Lighting!AD367","v":0},{"$f":"Lighting!AE367","v":0}]
[0,{"$f":"Lighting!B368","v":360},{"$f":"Lighting!C368","v":0},{"$f":"Lighting!D368","v":0},{"$f":"Lighting!F368","v":0},{"$f":"Lighting!G368","v":0},{"$f":"Lighting!H368","v":0},{"$f":"Lighting!I368","v":0},{"$f":"Lighting!J368","v":0},{"$f":"Lighting!K368","v":0},{"$f":"Lighting!L368","v":0},{"$f":"Lighting!M368","v":0},{"$f":"Lighting!P368","v":0},{"$f":"Lighting!Q368","v":0},{"$f":"Lighting!S368","v":""},{"$f":"Lighting!T368","v":""},{"$f":"Lighting!U368","v":0},{"$f":"Lighting!V368","v":""},{"$f":"Lighting!W368","v":""},{"$f":"Lighting!Y368","v":""},{"$f":"Lighting!AB368","v":""},{"$f":"Lighting!AC368","v":0},{"$f":"Lighting!AD368","v":0},{"$f":"Lighting!AE368","v":0}]
[0,{"$f":"Lighting!B369","v":361},{"$f":"Lighting!C369","v":0},{"$f":"Lighting!D369","v":0},{"$f":"Lighting!F369","v":0},{"$f":"Lighting!G369","v":0},{"$f":"Lighting!H369","v":0},{"$f":"Lighting!I369","v":0},{"$f":"Lighting!J369","v":0},{"$f":"Lighting!K369","v":0},{"$f":"Lighting!L369","v":0},{"$f":"Lighting!M369","v":0},{"$f":"Lighting!P369","v":0},{"$f":"Lighting!Q369","v":0},{"$f":"Lighting!S369","v":""},{"$f":"Lighting!T369","v":""},{"$f":"Lighting!U369","v":0},{"$f":"Lighting!V369","v":""},{"$f":"Lighting!W369","v":""},{"$f":"Lighting!Y369","v":""},{"$f":"Lighting!AB369","v":""},{"$f":"Lighting!AC369","v":0},{"$f":"Lighting!AD369","v":0},{"$f":"Lighting!AE369","v":0}]
[0,{"$f":"Lighting!B370","v":362},{"$f":"Lighting!C370","v":0},{"$f":"Lighting!D370","v":0},{"$f":"Lighting!F370","v":0},{"$f":"Lighting!G370","v":0},{"$f":"Lighting!H370","v":0},{"$f":"Lighting!I370","v":0},{"$f":"Lighting!J370","v":0},{"$f":"Lighting!K370","v":0},{"$f":"Lighting!L370","v":0},{"$f":"Lighting!M370","v":0},{"$f":"Lighting!P370","v":0},{"$f":"Lighting!Q370","v":0},{"$f":"Lighting!S370","v":""},{"$f":"Lighting!T370","v":""},{"$f":"Lighting!U370","v":0},{"$f":"Lighting!V370","v":""},{"$f":"Lighting!W370","v":""},{"$f":"Lighting!Y370","v":""},{"$f":"Lighting!AB370","v":""},{"$f":"Lighting!AC370","v":0},{"$f":"Lighting!AD370","v":0},{"$f":"Lighting!AE370","v":0}]
[0,{"$f":"Lighting!B371","v":363},{"$f":"Lighting!C371","v":0},{"$f":"Lighting!D371","v":0},{"$f":"Lighting!F371","v":0},{"$f":"Lighting!G371","v":0},{"$f":"Lighting!H371","v":0},{"$f":"Lighting!I371","v":0},{"$f":"Lighting!J371","v":0},{"$f":"Lighting!K371","v":0},{"$f":"Lighting!L371","v":0},{"$f":"Lighting!M371","v":0},{"$f":"Lighting!P371","v":0},{"$f":"Lighting!Q371","v":0},{"$f":"Lighting!S371","v":""},{"$f":"Lighting!T371","v":""},{"$f":"Lighting!U371","v":0},{"$f":"Lighting!V371","v":""},{"$f":"Lighting!W371","v":""},{"$f":"Lighting!Y371","v":""},{"$f":"Lighting!AB371","v":""},{"$f":"Lighting!AC371","v":0},{"$f":"Lighting!AD371","v":0},{"$f":"Lighting!AE371","v":0}]
[0,{"$f":"Lighting!B372","v":364},{"$f":"Lighting!C372","v":0},{"$f":"Lighting!D372","v":0},{"$f":"Lighting!F372","v":0},{"$f":"Lighting!G372","v":0},{"$f":"Lighting!H372","v":0},{"$f":"Lighting!I372","v":0},{"$f":"Lighting!J372","v":0},{"$f":"Lighting!K372","v":0},{"$f":"Lighting!L372","v":0},{"$f":"Lighting!M372","v":0},{"$f":"Lighting!P372","v":0},{"$f":"Lighting!Q372","v":0},{"$f":"Lighting!S372","v":""},{"$f":"Lighting!T372","v":""},{"$f":"Lighting!U372","v":0},{"$f":"Lighting!V372","v":""},{"$f":"Lighting!W372","v":""},{"$f":"Lighting!Y372","v":""},{"$f":"Lighting!AB372","v":""},{"$f":"Lighting!AC372","v":0},{"$f":"Lighting!AD372","v":0},{"$f":"Lighting!AE372","v":0}]
[0,{"$f":"Lighting!B373","v":365},{"$f":"Lighting!C373","v":0},{"$f":"Lighting!D373","v":0},{"$f":"Lighting!F373","v":0},{"$f":"Lighting!G373","v":0},{"$f":"Lighting!H373","v":0},{"$f":"Lighting!I373","v":0},{"$f":"Lighting!J373","v":0},{"$f":"Lighting!K373","v":0},{"$f":"Lighting!L373","v":0},{"$f":"Lighting!M373","v":0},{"$f":"Lighting!P373","v":0},{"$f":"Lighting!Q373","v":0},{"$f":"Lighting!S373","v":""},{"$f":"Lighting!T373","v":""},{"$f":"Lighting!U373","v":0},{"$f":"Lighting!V373","v":""},{"$f":"Lighting!W373","v":""},{"$f":"Lighting!Y373","v":""},{"$f":"Lighting!AB373","v":""},{"$f":"Lighting!AC373","v":0},{"$f":"Lighting!AD373","v":0},{"$f":"Lighting!AE373","v":0}]
[0,{"$f":"Lighting!B374","v":366},{"$f":"Lighting!C374","v":0},{"$f":"Lighting!D374","v":0},{"$f":"Lighting!F374","v":0},{"$f":"Lighting!G374","v":0},{"$f":"Lighting!H374","v":0},{"$f":"Lighting!I374","v":0},{"$f":"Lighting!J374","v":0},{"$f":"Lighting!K374","v":0},{"$f":"Lighting!L374","v":0},{"$f":"Lighting!M374","v":0},{"$f":"Lighting!P374","v":0},{"$f":"Lighting!Q374","v":0},{"$f":"Lighting!S374","v":""},{"$f":"Lighting!T374","v":""},{"$f":"Lighting!U374","v":0},{"$f":"Lighting!V374","v":""},{"$f":"Lighting!W374","v":""},{"$f":"Lighting!Y374","v":""},{"$f":"Lighting!AB374","v":""},{"$f":"Lighting!AC374","v":0},{"$f":"Lighting!AD374","v":0},{"$f":"Lighting!AE374","v":0}]
[0,{"$f":"Lighting!B375","v":367},{"$f":"Lighting!C375","v":0},{"$f":"Lighting!D375","v":0},{"$f":"Lighting!F375","v":0},{"$f":"Lighting!G375","v":0},{"$f":"Lighting!H375","v":0},{"$f":"Lighting!I375","v":0},{"$f":"Lighting!J375","v":0},{"$f":"Lighting!K375","v":0},{"$f":"Lighting!L375","v":0},{"$f":"Lighting!M375","v":0},{"$f":"Lighting!P375","v":0},{"$f":"Lighting!Q375","v":0},{"$f":"Lighting!S375","v":""},{"$f":"Lighting!T375","v":""},{"$f":"Lighting!U375","v":0},{"$f":"Lighting!V375","v":""},{"$f":"Lighting!W375","v":""},{"$f":"Lighting!Y375","v":""},{"$f":"Lighting!AB375","v":""},{"$f":"Lighting!AC375","v":0},{"$f":"Lighting!AD375","v":0},{"$f":"Lighting!AE375","v":0}]
[0,{"$f":"Lighting!B376","v":368},{"$f":"Lighting!C376","v":0},{"$f":"Lighting!D376","v":0},{"$f":"Lighting!F376","v":0},{"$f":"Lighting!G376","v":0},{"$f":"Lighting!H376","v":0},{"$f":"Lighting!I376","v":0},{"$f":"Lighting!J376","v":0},{"$f":"Lighting!K376","v":0},{"$f":"Lighting!L376","v":0},{"$f":"Lighting!M376","v":0},{"$f":"Lighting!P376","v":0},{"$f":"Lighting!Q376","v":0},{"$f":"Lighting!S376","v":""},{"$f":"Lighting!T376","v":""},{"$f":"Lighting!U376","v":0},{"$f":"Lighting!V376","v":""},{"$f":"Lighting!W376","v":""},{"$f":"Lighting!Y376","v":""},{"$f":"Lighting!AB376","v":""},{"$f":"Lighting!AC376","v":0},{"$f":"Lighting!AD376","v":0},{"$f":"Lighting!AE376","v":0}]
[0,{"$f":"Lighting!B377","v":369},{"$f":"Lighting!C377","v":0},{"$f":"Lighting!D377","v":0},{"$f":"Lighting!F377","v":0},{"$f":"Lighting!G377","v":0},{"$f":"Lighting!H377","v":0},{"$f":"Lighting!I377","v":0},{"$f":"Lighting!J377","v":0},{"$f":"Lighting!K377","v":0},{"$f":"Lighting!L377","v":0},{"$f":"Lighting!M377","v":0},{"$f":"Lighting!P377","v":0},{"$f":"Lighting!Q377","v":0},{"$f":"Lighting!S377","v":""},{"$f":"Lighting!T377","v":""},{"$f":"Lighting!U377","v":0},{"$f":"Lighting!V377","v":""},{"$f":"Lighting!W377","v":""},{"$f":"Lighting!Y377","v":""},{"$f":"Lighting!AB377","v":""},{"$f":"Lighting!AC377","v":0},{"$f":"Lighting!AD377","v":0},{"$f":"Lighting!AE377","v":0}]
[0,{"$f":"Lighting!B378","v":370},{"$f":"Lighting!C378","v":0},{"$f":"Lighting!D378","v":0},{"$f":"Lighting!F378","v":0},{"$f":"Lighting!G378","v":0},{"$f":"Lighting!H378","v":0},{"$f":"Lighting!I378","v":0},{"$f":"Lighting!J378","v":0},{"$f":"Lighting!K378","v":0},{"$f":"Lighting!L378","v":0},{"$f":"Lighting!M378","v":0},{"$f":"Lighting!P378","v":0},{"$f":"Lighting!Q378","v":0},{"$f":"Lighting!S378","v":""},{"$f":"Lighting!T378","v":""},{"$f":"Lighting!U378","v":0},{"$f":"Lighting!V378","v":""},{"$f":"Lighting!W378","v":""},{"$f":"Lighting!Y378","v":""},{"$f":"Lighting!AB378","v":""},{"$f":"Lighting!AC378","v":0},{"$f":"Lighting!AD378","v":0},{"$f":"Lighting!AE378","v":0}]
[0,{"$f":"Lighting!B379","v":371},{"$f":"Lighting!C379","v":0},{"$f":"Lighting!D379","v":0},{"$f":"Lighting!F379","v":0},{"$f":"Lighting!G379","v":0},{"$f":"Lighting!H379","v":0},{"$f":"Lighting!I379","v":0},{"$f":"Lighting!J379","v":0},{"$f":"Lighting!K379","v":0},{"$f":"Lighting!L379","v":0},{"$f":"Lighting!M379","v":0},{"$f":"Lighting!P379","v":0},{"$f":"Lighting!Q379","v":0},{"$f":"Lighting!S379","v":""},{"$f":"Lighting!T379","v":""},{"$f":"Lighting!U379","v":0},{"$f":"Lighting!V379","v":""},{"$f":"Lighting!W379","v":""},{"$f":"Lighting!Y379","v":""},{"$f":"Lighting!AB379","v":""},{"$f":"Lighting!AC379","v":0},{"$f":"Lighting!AD379","v":0},{"$f":"Lighting!AE379","v":0}]
[0,{"$f":"Lighting!B380","v":372},{"$f":"Lighting!C380","v":0},{"$f":"Lighting!D380","v":0},{"$f":"Lighting!F380","v":0},{"$f":"Lighting!G380","v":0},{"$f":"Lighting!H380","v":0},{"$f":"Lighting!I380","v":0},{"$f":"Lighting!J380","v":0},{"$f":"Lighting!K380","v":0},{"$f":"Lighting!L380","v":0},{"$f":"Lighting!M380","v":0},{"$f":"Lighting!P380","v":0},{"$f":"Lighting!Q380","v":0},{"$f":"Lighting!S380","v":""},{"$f":"Lighting!T380","v":""},{"$f":"Lighting!U380","v":0},{"$f":"Lighting!V380","v":""},{"$f":"Lighting!W380","v":""},{"$f":"Lighting!Y380","v":""},{"$f":"Lighting!AB380","v":""},{"$f":"Lighting!AC380","v":0},{"$f":"Lighting!AD380","v":0},{"$f":"Lighting!AE380","v":0}]
[0,{"$f":"Lighting!B381","v":373},{"$f":"Lighting!C381","v":0},{"$f":"Lighting!D381","v":0},{"$f":"Lighting!F381","v":0},{"$f":"Lighting!G381","v":0},{"$f":"Lighting!H381","v":0},{"$f":"Lighting!I381","v":0},{"$f":"Lighting!J381","v":0},{"$f":"Lighting!K381","v":0},{"$f":"Lighting!L381","v":0},{"$f":"Lighting!M381","v":0},{"$f":"Lighting!P381","v":0},{"$f":"Lighting!Q381","v":0},{"$f":"Lighting!S381","v":""},{"$f":"Lighting!T381","v":""},{"$f":"Lighting!U381","v":0},{"$f":"Lighting!V381","v":""},{"$f":"Lighting!W381","v":""},{"$f":"Lighting!Y381","v":""},{"$f":"Lighting!AB381","v":""},{"$f":"Lighting!AC381","v":0},{"$f":"Lighting!AD381","v":0},{"$f":"Lighting!AE381","v":0}]
[0,{"$f":"Lighting!B382","v":374},{"$f":"Lighting!C382","v":0},{"$f":"Lighting!D382","v":0},{"$f":"Lighting!F382","v":0},{"$f":"Lighting!G382","v":0},{"$f":"Lighting!H382","v":0},{"$f":"Lighting!I382","v":0},{"$f":"Lighting!J382","v":0},{"$f":"Lighting!K382","v":0},{"$f":"Lighting!L382","v":0},{"$f":"Lighting!M382","v":0},{"$f":"Lighting!P382","v":0},{"$f":"Lighting!Q382","v":0},{"$f":"Lighting!S382","v":""},{"$f":"Lighting!T382","v":""},{"$f":"Lighting!U382","v":0},{"$f":"Lighting!V382","v":""},{"$f":"Lighting!W382","v":""},{"$f":"Lighting!Y382","v":""},{"$f":"Lighting!AB382","v":""},{"$f":"Lighting!AC382","v":0},{"$f":"Lighting!AD382","v":0},{"$f":"Lighting!AE382","v":0}]
[0,{"$f":"Lighting!B383","v":375},{"$f":"Lighting!C383","v":0},{"$f":"Lighting!D383","v":0},{"$f":"Lighting!F383","v":0},{"$f":"Lighting!G383","v":0},{"$f":"Lighting!H383","v":0},{"$f":"Lighting!I383","v":0},{"$f":"Lighting!J383","v":0},{"$f":"Lighting!K383","v":0},{"$f":"Lighting!L383","v":0},{"$f":"Lighting!M383","v":0},{"$f":"Lighting!P383","v":0},{"$f":"Lighting!Q383","v":0},{"$f":"Lighting!S383","v":""},{"$f":"Lighting!T383","v":""},{"$f":"Lighting!U383","v":0},{"$f":"Lighting!V383","v":""},{"$f":"Lighting!W383","v":""},{"$f":"Lighting!Y383","v":""},{"$f":"Lighting!AB383","v":""},{"$f":"Lighting!AC383","v":0},{"$f":"Lighting!AD383","v":0},{"$f":"Lighting!AE383","v":0}]
[0,{"$f":"Lighting!B384","v":376},{"$f":"Lighting!C384","v":0},{"$f":"Lighting!D384","v":0},{"$f":"Lighting!F384","v":0},{"$f":"Lighting!G384","v":0},{"$f":"Lighting!H384","v":0},{"$f":"Lighting!I384","v":0},{"$f":"Lighting!J384","v":0},{"$f":"Lighting!K384","v":0},{"$f":"Lighting!L384","v":0},{"$f":"Lighting!M384","v":0},{"$f":"Lighting!P384","v":0},{"$f":"Lighting!Q384","v":0},{"$f":"Lighting!S384","v":""},{"$f":"Lighting!T384","v":""},{"$f":"Lighting!U384","v":0},{"$f":"Lighting!V384","v":""},{"$f":"Lighting!W384","v":""},{"$f":"Lighting!Y384","v":""},{"$f":"Lighting!AB384","v":""},{"$f":"Lighting!AC384","v":0},{"$f":"Lighting!AD384","v":0},{"$f":"Lighting!AE384","v":0}]
[0,{"$f":"Lighting!B385","v":377},{"$f":"Lighting!C385","v":0},{"$f":"Lighting!D385","v":0},{"$f":"Lighting!F385","v":0},{"$f":"Lighting!G385","v":0},{"$f":"Lighting!H385","v":0},{"$f":"Lighting!I385","v":0},{"$f":"Lighting!J385","v":0},{"$f":"Lighting!K385","v":0},{"$f":"Lighting!L385","v":0},{"$f":"Lighting!M385","v":0},{"$f":"Lighting!P385","v":0},{"$f":"Lighting!Q385","v":0},{"$f":"Lighting!S385","v":""},{"$f":"Lighting!T385","v":""},{"$f":"Lighting!U385","v":0},{"$f":"Lighting!V385","v":""},{"$f":"Lighting!W385","v":""},{"$f":"Lighting!Y385","v":""},{"$f":"Lighting!AB385","v":""},{"$f":"Lighting!AC385","v":0},{"$f":"Lighting!AD385","v":0},{"$f":"Lighting!AE385","v":0}]
[0,{"$f":"Lighting!B386","v":378},{"$f":"Lighting!C386","v":0},{"$f":"Lighting!D386","v":0},{"$f":"Lighting!F386","v":0},{"$f":"Lighting!G386","v":0},{"$f":"Lighting!H386","v":0},{"$f":"Lighting!I386","v":0},{"$f":"Lighting!J386","v":0},{"$f":"Lighting!K386","v":0},{"$f":"Lighting!L386","v":0},{"$f":"Lighting!M386","v":0},{"$f":"Lighting!P386","v":0},{"$f":"Lighting!Q386","v":0},{"$f":"Lighting!S386","v":""},{"$f":"Lighting!T386","v":""},{"$f":"Lighting!U386","v":0},{"$f":"Lighting!V386","v":""},{"$f":"Lighting!W386","v":""},{"$f":"Lighting!Y386","v":""},{"$f":"Lighting!AB386","v":""},{"$f":"Lighting!AC386","v":0},{"$f":"Lighting!AD386","v":0},{"$f":"Lighting!AE386","v":0}]
[0,{"$f":"Lighting!B387","v":379},{"$f":"Lighting!C387","v":0},{"$f":"Lighting!D387","v":0},{"$f":"Lighting!F387","v":0},{"$f":"Lighting!G387","v":0},{"$f":"Lighting!H387","v":0},{"$f":"Lighting!I387","v":0},{"$f":"Lighting!J387","v":0},{"$f":"Lighting!K387","v":0},{"$f":"Lighting!L387","v":0},{"$f":"Lighting!M387","v":0},{"$f":"Lighting!P387","v":0},{"$f":"Lighting!Q387","v":0},{"$f":"Lighting!S387","v":""},{"$f":"Lighting!T387","v":""},{"$f":"Lighting!U387","v":0},{"$f":"Lighting!V387","v":""},{"$f":"Lighting!W387","v":""},{"$f":"Lighting!Y387","v":""},{"$f":"Lighting!AB387","v":""},{"$f":"Lighting!AC387","v":0},{"$f":"Lighting!AD387","v":0},{"$f":"Lighting!AE387","v":0}]
[0,{"$f":"Lighting!B388","v":380},{"$f":"Lighting!C388","v":0},{"$f":"Lighting!D388","v":0},{"$f":"Lighting!F388","v":0},{"$f":"Lighting!G388","v":0},{"$f":"Lighting!H388","v":0},{"$f":"Lighting!I388","v":0},{"$f":"Lighting!J388","v":0},{"$f":"Lighting!K388","v":0},{"$f":"Lighting!L388","v":0},{"$f":"Lighting!M388","v":0},{"$f":"Lighting!P388","v":0},{"$f":"Lighting!Q388","v":0},{"$f":"Lighting!S388","v":""},{"$f":"Lighting!T388","v":""},{"$f":"Lighting!U388","v":0},{"$f":"Lighting!V388","v":""},{"$f":"Lighting!W388","v":""},{"$f":"Lighting!Y388","v":""},{"$f":"Lighting!AB388","v":""},{"$f":"Lighting!AC388","v":0},{"$f":"Lighting!AD388","v":0},{"$f":"Lighting!AE388","v":0}]
[0,{"$f":"Lighting!B389","v":381},{"$f":"Lighting!C389","v":0},{"$f":"Lighting!D389","v":0},{"$f":"Lighting!F389","v":0},{"$f":"Lighting!G389","v":0},{"$f":"Lighting!H389","v":0},{"$f":"Lighting!I389","v":0},{"$f":"Lighting!J389","v":0},{"$f":"Lighting!K389","v":0},{"$f":"Lighting!L389","v":0},{"$f":"Lighting!M389","v":0},{"$f":"Lighting!P389","v":0},{"$f":"Lighting!Q389","v":0},{"$f":"Lighting!S389","v":""},{"$f":"Lighting!T389","v":""},{"$f":"Lighting!U389","v":0},{"$f":"Lighting!V389","v":""},{"$f":"Lighting!W389","v":""},{"$f":"Lighting!Y389","v":""},{"$f":"Lighting!AB389","v":""},{"$f":"Lighting!AC389","v":0},{"$f":"Lighting!AD389","v":0},{"$f":"Lighting!AE389","v":0}]
[0,{"$f":"Lighting!B390","v":382},{"$f":"Lighting!C390","v":0},{"$f":"Lighting!D390","v":0},{"$f":"Lighting!F390","v":0},{"$f":"Lighting!G390","v":0},{"$f":"Lighting!H390","v":0},{"$f":"Lighting!I390","v":0},{"$f":"Lighting!J390","v":0},{"$f":"Lighting!K390","v":0},{"$f":"Lighting!L390","v":0},{"$f":"Lighting!M390","v":0},{"$f":"Lighting!P390","v":0},{"$f":"Lighting!Q390","v":0},{"$f":"Lighting!S390","v":""},{"$f":"Lighting!T390","v":""},{"$f":"Lighting!U390","v":0},{"$f":"Lighting!V390","v":""},{"$f":"Lighting!W390","v":""},{"$f":"Lighting!Y390","v":""},{"$f":"Lighting!AB390","v":""},{"$f":"Lighting!AC390","v":0},{"$f":"Lighting!AD390","v":0},{"$f":"Lighting!AE390","v":0}]
[0,{"$f":"Lighting!B391","v":383},{"$f":"Lighting!C391","v":0},{"$f":"Lighting!D391","v":0},{"$f":"Lighting!F391","v":0},{"$f":"Lighting!G391","v":0},{"$f":"Lighting!H391","v":0},{"$f":"Lighting!I391","v":0},{"$f":"Lighting!J391","v":0},{"$f":"Lighting!K391","v":0},{"$f":"Lighting!L391","v":0},{"$f":"Lighting!M391","v":0},{"$f":"Lighting!P391","v":0},{"$f":"Lighting!Q391","v":0},{"$f":"Lighting!S391","v":""},{"$f":"Lighting!T391","v":""},{"$f":"Lighting!U391","v":0},{"$f":"Lighting!V391","v":""},{"$f":"Lighting!W391","v":""},{"$f":"Lighting!Y391","v":""},{"$f":"Lighting!AB391","v":""},{"$f":"Lighting!AC391","v":0},{"$f":"Lighting!AD391","v":0},{"$f":"Lighting!AE391","v":0}]
[0,{"$f":"Lighting!B392","v":384},{"$f":"Lighting!C392","v":0},{"$f":"Lighting!D392","v":0},{"$f":"Lighting!F392","v":0},{"$f":"Lighting!G392","v":0},{"$f":"Lighting!H392","v":0},{"$f":"Lighting!I392","v":0},{"$f":"Lighting!J392","v":0},{"$f":"Lighting!K392","v":0},{"$f":"Lighting!L392","v":0},{"$f":"Lighting!M392","v":0},{"$f":"Lighting!P392","v":0},{"$f":"Lighting!Q392","v":0},{"$f":"Lighting!S392","v":""},{"$f":"Lighting!T392","v":""},{"$f":"Lighting!U392","v":0},{"$f":"Lighting!V392","v":""},{"$f":"Lighting!W392","v":""},{"$f":"Lighting!Y392","v":""},{"$f":"Lighting!AB392","v":""},{"$f":"Lighting!AC392","v":0},{"$f":"Lighting!AD392","v":0},{"$f":"Lighting!AE392","v":0}]
[0,{"$f":"Lighting!B393","v":385},{"$f":"Lighting!C393","v":0},{"$f":"Lighting!D393","v":0},{"$f":"Lighting!F393","v":0},{"$f":"Lighting!G393","v":0},{"$f":"Lighting!H393","v":0},{"$f":"Lighting!I393","v":0},{"$f":"Lighting!J393","v":0},{"$f":"Lighting!K393","v":0},{"$f":"Lighting!L393","v":0},{"$f":"Lighting!M393","v":0},{"$f":"Lighting!P393","v":0},{"$f":"Lighting!Q393","v":0},{"$f":"Lighting!S393","v":""},{"$f":"Lighting!T393","v":""},{"$f":"Lighting!U393","v":0},{"$f":"Lighting!V393","v":""},{"$f":"Lighting!W393","v":""},{"$f":"Lighting!Y393","v":""},{"$f":"Lighting!AB393","v":""},{"$f":"Lighting!AC393","v":0},{"$f":"Lighting!AD393","v":0},{"$f":"Lighting!AE393","v":0}]
[0,{"$f":"Lighting!B394","v":386},{"$f":"Lighting!C394","v":0},{"$f":"Lighting!D394","v":0},{"$f":"Lighting!F394","v":0},{"$f":"Lighting!G394","v":0},{"$f":"Lighting!H394","v":0},{"$f":"Lighting!I394","v":0},{"$f":"Lighting!J394","v":0},{"$f":"Lighting!K394","v":0},{"$f":"Lighting!L394","v":0},{"$f":"Lighting!M394","v":0},{"$f":"Lighting!P394","v":0},{"$f":"Lighting!Q394","v":0},{"$f":"Lighting!S394","v":""},{"$f":"Lighting!T394","v":""},{"$f":"Lighting!U394","v":0},{"$f":"Lighting!V394","v":""},{"$f":"Lighting!W394","v":""},{"$f":"Lighting!Y394","v":""},{"$f":"Lighting!AB394","v":""},{"$f":"Lighting!AC394","v":0},{"$f":"Lighting!AD394","v":0},{"$f":"Lighting!AE394","v":0}]
[0,{"$f":"Lighting!B395","v":387},{"$f":"Lighting!C395","v":0},{"$f":"Lighting!D395","v":0},{"$f":"Lighting!F395","v":0},{"$f":"Lighting!G395","v":0},{"$f":"Lighting!H395","v":0},{"$f":"Lighting!I395","v":0},{"$f":"Lighting!J395","v":0},{"$f":"Lighting!K395","v":0},{"$f":"Lighting!L395","v":0},{"$f":"Lighting!M395","v":0},{"$f":"Lighting!P395","v":0},{"$f":"Lighting!Q395","v":0},{"$f":"Lighting!S395","v":""},{"$f":"Lighting!T395","v":""},{"$f":"Lighting!U395","v":0},{"$f":"Lighting!V395","v":""},{"$f":"Lighting!W395","v":""},{"$f":"Lighting!Y395","v":""},{"$f":"Lighting!AB395","v":""},{"$f":"Lighting!AC395","v":0},{"$f":"Lighting!AD395","v":0},{"$f":"Lighting!AE395","v":0}]
[0,{"$f":"Lighting!B396","v":388},{"$f":"Lighting!C396","v":0},{"$f":"Lighting!D396","v":0},{"$f":"Lighting!F396","v":0},{"$f":"Lighting!G396","v":0},{"$f":"Lighting!H396","v":0},{"$f":"Lighting!I396","v":0},{"$f":"Lighting!J396","v":0},{"$f":"Lighting!K396","v":0},{"$f":"Lighting!L396","v":0},{"$f":"Lighting!M396","v":0},{"$f":"Lighting!P396","v":0},{"$f":"Lighting!Q396","v":0},{"$f":"Lighting!S396","v":""},{"$f":"Lighting!T396","v":""},{"$f":"Lighting!U396","v":0},{"$f":"Lighting!V396","v":""},{"$f":"Lighting!W396","v":""},{"$f":"Lighting!Y396","v":""},{"$f":"Lighting!AB396","v":""},{"$f":"Lighting!AC396","v":0},{"$f":"Lighting!AD396","v":0},{"$f":"Lighting!AE396","v":0}]
[0,{"$f":"Lighting!B397","v":389},{"$f":"Lighting!C397","v":0},{"$f":"Lighting!D397","v":0},{"$f":"Lighting!F397","v":0},{"$f":"Lighting!G397","v":0},{"$f":"Lighting!H397","v":0},{"$f":"Lighting!I397","v":0},{"$f":"Lighting!J397","v":0},{"$f":"Lighting!K397","v":0},{"$f":"Lighting!L397","v":0},{"$f":"Lighting!M397","v":0},{"$f":"Lighting!P397","v":0},{"$f":"Lighting!Q397","v":0},{"$f":"Lighting!S397","v":""},{"$f":"Lighting!T397","v":""},{"$f":"Lighting!U397","v":0},{"$f":"Lighting!V397","v":""},{"$f":"Lighting!W397","v":""},{"$f":"Lighting!Y397","v":""},{"$f":"Lighting!AB397","v":""},{"$f":"Lighting!AC397","v":0},{"$f":"Lighting!AD397","v":0},{"$f":"Lighting!AE397","v":0}]
[0,{"$f":"Lighting!B398","v":390},{"$f":"Lighting!C398","v":0},{"$f":"Lighting!D398","v":0},{"$f":"Lighting!F398","v":0},{"$f":"Lighting!G398","v":0},{"$f":"Lighting!H398","v":0},{"$f":"Lighting!I398","v":0},{"$f":"Lighting!J398","v":0},{"$f":"Lighting!K398","v":0},{"$f":"Lighting!L398","v":0},{"$f":"Lighting!M398","v":0},{"$f":"Lighting!P398","v":0},{"$f":"Lighting!Q398","v":0},{"$f":"Lighting!S398","v":""},{"$f":"Lighting!T398","v":""},{"$f":"Lighting!U398","v":0},{"$f":"Lighting!V398","v":""},{"$f":"Lighting!W398","v":""},{"$f":"Lighting!Y398","v":""},{"$f":"Lighting!AB398","v":""},{"$f":"Lighting!AC398","v":0},{"$f":"Lighting!AD398","v":0},{"$f":"Lighting!AE398","v":0}]
[0,{"$f":"Lighting!B399","v":391},{"$f":"Lighting!C399","v":0},{"$f":"Lighting!D399","v":0},{"$f":"Lighting!F399","v":0},{"$f":"Lighting!G399","v":0},{"$f":"Lighting!H399","v":0},{"$f":"Lighting!I399","v":0},{"$f":"Lighting!J399","v":0},{"$f":"Lighting!K399","v":0},{"$f":"Lighting!L399","v":0},{"$f":"Lighting!M399","v":0},{"$f":"Lighting!P399","v":0},{"$f":"Lighting!Q399","v":0},{"$f":"Lighting!S399","v":""},{"$f":"Lighting!T399","v":""},{"$f":"Lighting!U399","v":0},{"$f":"Lighting!V399","v":""},{"$f":"Lighting!W399","v":""},{"$f":"Lighting!Y399","v":""},{"$f":"Lighting!AB399","v":""},{"$f":"Lighting!AC399","v":0},{"$f":"Lighting!AD399","v":0},{"$f":"Lighting!AE399","v":0}]
[0,{"$f":"Lighting!B400","v":392},{"$f":"Lighting!C400","v":0},{"$f":"Lighting!D400","v":0},{"$f":"Lighting!F400","v":0},{"$f":"Lighting!G400","v":0},{"$f":"Lighting!H400","v":0},{"$f":"Lighting!I400","v":0},{"$f":"Lighting!J400","v":0},{"$f":"Lighting!K400","v":0},{"$f":"Lighting!L400","v":0},{"$f":"Lighting!M400","v":0},{"$f":"Lighting!P400","v":0},{"$f":"Lighting!Q400","v":0},{"$f":"Lighting!S400","v":""},{"$f":"Lighting!T400","v":""},{"$f":"Lighting!U400","v":0},{"$f":"Lighting!V400","v":""},{"$f":"Lighting!W400","v":""},{"$f":"Lighting!Y400","v":""},{"$f":"Lighting!AB400","v":""},{"$f":"Lighting!AC400","v":0},{"$f":"Lighting!AD400","v":0},{"$f":"Lighting!AE400","v":0}]
[0,{"$f":"Lighting!B401","v":393},{"$f":"Lighting!C401","v":0},{"$f":"Lighting!D401","v":0},{"$f":"Lighting!F401","v":0},{"$f":"Lighting!G401","v":0},{"$f":"Lighting!H401","v":0},{"$f":"Lighting!I401","v":0},{"$f":"Lighting!J401","v":0},{"$f":"Lighting!K401","v":0},{"$f":"Lighting!L401","v":0},{"$f":"Lighting!M401","v":0},{"$f":"Lighting!P401","v":0},{"$f":"Lighting!Q401","v":0},{"$f":"Lighting!S401","v":""},{"$f":"Lighting!T401","v":""},{"$f":"Lighting!U401","v":0},{"$f":"Lighting!V401","v":""},{"$f":"Lighting!W401","v":""},{"$f":"Lighting!Y401","v":""},{"$f":"Lighting!AB401","v":""},{"$f":"Lighting!AC401","v":0},{"$f":"Lighting!AD401","v":0},{"$f":"Lighting!AE401","v":0}]
[0,{"$f":"Lighting!B402","v":394},{"$f":"Lighting!C402","v":0},{"$f":"Lighting!D402","v":0},{"$f":"Lighting!F402","v":0},{"$f":"Lighting!G402","v":0},{"$f":"Lighting!H402","v":0},{"$f":"Lighting!I402","v":0},{"$f":"Lighting!J402","v":0},{"$f":"Lighting!K402","v":0},{"$f":"Lighting!L402","v":0},{"$f":"Lighting!M402","v":0},{"$f":"Lighting!P402","v":0},{"$f":"Lighting!Q402","v":0},{"$f":"Lighting!S402","v":""},{"$f":"Lighting!T402","v":""},{"$f":"Lighting!U402","v":0},{"$f":"Lighting!V402","v":""},{"$f":"Lighting!W402","v":""},{"$f":"Lighting!Y402","v":""},{"$f":"Lighting!AB402","v":""},{"$f":"Lighting!AC402","v":0},{"$f":"Lighting!AD402","v":0},{"$f":"Lighting!AE402","v":0}]
[0,{"$f":"Lighting!B403","v":395},{"$f":"Lighting!C403","v":0},{"$f":"Lighting!D403","v":0},{"$f":"Lighting!F403","v":0},{"$f":"Lighting!G403","v":0},{"$f":"Lighting!H403","v":0},{"$f":"Lighting!I403","v":0},{"$f":"Lighting!J403","v":0},{"$f":"Lighting!K403","v":0},{"$f":"Lighting!L403","v":0},{"$f":"Lighting!M403","v":0},{"$f":"Lighting!P403","v":0},{"$f":"Lighting!Q403","v":0},{"$f":"Lighting!S403","v":""},{"$f":"Lighting!T403","v":""},{"$f":"Lighting!U403","v":0},{"$f":"Lighting!V403","v":""},{"$f":"Lighting!W403","v":""},{"$f":"Lighting!Y403","v":""},{"$f":"Lighting!AB403","v":""},{"$f":"Lighting!AC403","v":0},{"$f":"Lighting!AD403","v":0},{"$f":"Lighting!AE403","v":0}]
[0,{"$f":"Lighting!B404","v":396},{"$f":"Lighting!C404","v":0},{"$f":"Lighting!D404","v":0},{"$f":"Lighting!F404","v":0},{"$f":"Lighting!G404","v":0},{"$f":"Lighting!H404","v":0},{"$f":"Lighting!I404","v":0},{"$f":"Lighting!J404","v":0},{"$f":"Lighting!K404","v":0},{"$f":"Lighting!L404","v":0},{"$f":"Lighting!M404","v":0},{"$f":"Lighting!P404","v":0},{"$f":"Lighting!Q404","v":0},{"$f":"Lighting!S404","v":""},{"$f":"Lighting!T404","v":""},{"$f":"Lighting!U404","v":0},{"$f":"Lighting!V404","v":""},{"$f":"Lighting!W404","v":""},{"$f":"Lighting!Y404","v":""},{"$f":"Lighting!AB404","v":""},{"$f":"Lighting!AC404","v":0},{"$f":"Lighting!AD404","v":0},{"$f":"Lighting!AE404","v":0}]
[0,{"$f":"Lighting!B405","v":397},{"$f":"Lighting!C405","v":0},{"$f":"Lighting!D405","v":0},{"$f":"Lighting!F405","v":0},{"$f":"Lighting!G405","v":0},{"$f":"Lighting!H405","v":0},{"$f":"Lighting!I405","v":0},{"$f":"Lighting!J405","v":0},{"$f":"Lighting!K405","v":0},{"$f":"Lighting!L405","v":0},{"$f":"Lighting!M405","v":0},{"$f":"Lighting!P405","v":0},{"$f":"Lighting!Q405","v":0},{"$f":"Lighting!S405","v":""},{"$f":"Lighting!T405","v":""},{"$f":"Lighting!U405","v":0},{"$f":"Lighting!V405","v":""},{"$f":"Lighting!W405","v":""},{"$f":"Lighting!Y405","v":""},{"$f":"Lighting!AB405","v":""},{"$f":"Lighting!AC405","v":0},{"$f":"Lighting!AD405","v":0},{"$f":"Lighting!AE405","v":0}]
[0,{"$f":"Lighting!B406","v":398},{"$f":"Lighting!C406","v":0},{"$f":"Lighting!D406","v":0},{"$f":"Lighting!F406","v":0},{"$f":"Lighting!G406","v":0},{"$f":"Lighting!H406","v":0},{"$f":"Lighting!I406","v":0},{"$f":"Lighting!J406","v":0},{"$f":"Lighting!K406","v":0},{"$f":"Lighting!L406","v":0},{"$f":"Lighting!M406","v":0},{"$f":"Lighting!P406","v":0},{"$f":"Lighting!Q406","v":0},{"$f":"Lighting!S406","v":""},{"$f":"Lighting!T406","v":""},{"$f":"Lighting!U406","v":0},{"$f":"Lighting!V406","v":""},{"$f":"Lighting!W406","v":""},{"$f":"Lighting!Y406","v":""},{"$f":"Lighting!AB406","v":""},{"$f":"Lighting!AC406","v":0},{"$f":"Lighting!AD406","v":0},{"$f":"Lighting!AE406","v":0}]
[0,{"$f":"Lighting!B407","v":399},{"$f":"Lighting!C407","v":0},{"$f":"Lighting!D407","v":0},{"$f":"Lighting!F407","v":0},{"$f":"Lighting!G407","v":0},{"$f":"Lighting!H407","v":0},{"$f":"Lighting!I407","v":0},{"$f":"Lighting!J407","v":0},{"$f":"Lighting!K407","v":0},{"$f":"Lighting!L407","v":0},{"$f":"Lighting!M407","v":0},{"$f":"Lighting!P407","v":0},{"$f":"Lighting!Q407","v":0},{"$f":"Lighting!S407","v":""},{"$f":"Lighting!T407","v":""},{"$f":"Lighting!U407","v":0},{"$f":"Lighting!V407","v":""},{"$f":"Lighting!W407","v":""},{"$f":"Lighting!Y407","v":""},{"$f":"Lighting!AB407","v":""},{"$f":"Lighting!AC407","v":0},{"$f":"Lighting!AD407","v":0},{"$f":"Lighting!AE407","v":0}]
[0,{"$f":"Lighting!B908","v":900},{"$f":"Lighting!C908","v":0},{"$f":"Lighting!D908","v":0},{"$f":"Lighting!F908","v":0},{"$f":"Lighting!G908","v":0},{"$f":"Lighting!H908","v":0},{"$f":"Lighting!I908","v":0},{"$f":"Lighting!J908","v":0},{"$f":"Lighting!K908","v":0},{"$f":"Lighting!L908","v":0},{"$f":"Lighting!M908","v":0},{"$f":"Lighting!P908","v":0},{"$f":"Lighting!Q908","v":0},{"$f":"Lighting!S908","v":""},{"$f":"Lighting!T908","v":""},{"$f":"Lighting!U908","v":0},{"$f":"Lighting!V908","v":""},{"$f":"Lighting!W908","v":""},{"$f":"Lighting!Y908","v":""},{"$f":"Lighting!AB908","v":""},{"$f":"Lighting!AC908","v":0},{"$f":"Lighting!AD908","v":0},{"$f":"Lighting!AE908","v":0}]
[0,{"$f":"Lighting!B909","v":901},{"$f":"Lighting!C909","v":0},{"$f":"Lighting!D909","v":0},{"$f":"Lighting!F909","v":0},{"$f":"Lighting!G909","v":0},{"$f":"Lighting!H909","v":0},{"$f":"Lighting!I909","v":0},{"$f":"Lighting!J909","v":0},{"$f":"Lighting!K909","v":0},{"$f":"Lighting!L909","v":0},{"$f":"Lighting!M909","v":0},{"$f":"Lighting!P909","v":0},{"$f":"Lighting!Q909","v":0},{"$f":"Lighting!S909","v":""},{"$f":"Lighting!T909","v":""},{"$f":"Lighting!U909","v":0},{"$f":"Lighting!V909","v":""},{"$f":"Lighting!W909","v":""},{"$f":"Lighting!Y909","v":""},{"$f":"Lighting!AB909","v":""},{"$f":"Lighting!AC909","v":0},{"$f":"Lighting!AD909","v":0},{"$f":"Lighting!AE909","v":0}]
[0,{"$f":"Lighting!B910","v":902},{"$f":"Lighting!C910","v":0},{"$f":"Lighting!D910","v":0},{"$f":"Lighting!F910","v":0},{"$f":"Lighting!G910","v":0},{"$f":"Lighting!H910","v":0},{"$f":"Lighting!I910","v":0},{"$f":"Lighting!J910","v":0},{"$f":"Lighting!K910","v":0},{"$f":"Lighting!L910","v":0},{"$f":"Lighting!M910","v":0},{"$f":"Lighting!P910","v":0},{"$f":"Lighting!Q910","v":0},{"$f":"Lighting!S910","v":""},{"$f":"Lighting!T910","v":""},{"$f":"Lighting!U910","v":0},{"$f":"Lighting!V910","v":""},{"$f":"Lighting!W910","v":""},{"$f":"Lighting!Y910","v":""},{"$f":"Lighting!AB910","v":""},{"$f":"Lighting!AC910","v":0},{"$f":"Lighting!AD910","v":0},{"$f":"Lighting!AE910","v":0}]
[0,{"$f":"Lighting!B911","v":903},{"$f":"Lighting!C911","v":0},{"$f":"Lighting!D911","v":0},{"$f":"Lighting!F911","v":0},{"$f":"Lighting!G911","v":0},{"$f":"Lighting!H911","v":0},{"$f":"Lighting!I911","v":0},{"$f":"Lighting!J911","v":0},{"$f":"Lighting!K911","v":0},{"$f":"Lighting!L911","v":0},{"$f":"Lighting!M911","v":0},{"$f":"Lighting!P911","v":0},{"$f":"Lighting!Q911","v":0},{"$f":"Lighting!S911","v":""},{"$f":"Lighting!T911","v":""},{"$f":"Lighting!U911","v":0},{"$f":"Lighting!V911","v":""},{"$f":"Lighting!W911","v":""},{"$f":"Lighting!Y911","v":""},{"$f":"Lighting!AB911","v":""},{"$f":"Lighting!AC911","v":0},{"$f":"Lighting!AD911","v":0},{"$f":"Lighting!AE911","v":0}]
[0,{"$f":"Lighting!B912","v":904},{"$f":"Lighting!C912","v":0},{"$f":"Lighting!D912","v":0},{"$f":"Lighting!F912","v":0},{"$f":"Lighting!G912","v":0},{"$f":"Lighting!H912","v":0},{"$f":"Lighting!I912","v":0},{"$f":"Lighting!J912","v":0},{"$f":"Lighting!K912","v":0},{"$f":"Lighting!L912","v":0},{"$f":"Lighting!M912","v":0},{"$f":"Lighting!P912","v":0},{"$f":"Lighting!Q912","v":0},{"$f":"Lighting!S912","v":""},{"$f":"Lighting!T912","v":""},{"$f":"Lighting!U912","v":0},{"$f":"Lighting!V912","v":""},{"$f":"Lighting!W912","v":""},{"$f":"Lighting!Y912","v":""},{"$f":"Lighting!AB912","v":""},{"$f":"Lighting!AC912","v":0},{"$f":"Lighting!AD912","v":0},{"$f":"Lighting!AE912","v":0}]
[0,{"$f":"Lighting!B913","v":905},{"$f":"Lighting!C913","v":0},{"$f":"Lighting!D913","v":0},{"$f":"Lighting!F913","v":0},{"$f":"Lighting!G913","v":0},{"$f":"Lighting!H913","v":0},{"$f":"Lighting!I913","v":0},{"$f":"Lighting!J913","v":0},{"$f":"Lighting!K913","v":0},{"$f":"Lighting!L913","v":0},{"$f":"Lighting!M913","v":0},{"$f":"Lighting!P913","v":0},{"$f":"Lighting!Q913","v":0},{"$f":"Lighting!S913","v":""},{"$f":"Lighting!T913","v":""},{"$f":"Lighting!U913","v":0},{"$f":"Lighting!V913","v":""},{"$f":"Lighting!W913","v":""},{"$f":"Lighting!Y913","v":""},{"$f":"Lighting!AB913","v":""},{"$f":"Lighting!AC913","v":0},{"$f":"Lighting!AD913","v":0},{"$f":"Lighting!AE913","v":0}]
[0,{"$f":"Lighting!B914","v":906},{"$f":"Lighting!C914","v":0},{"$f":"Lighting!D914","v":0},{"$f":"Lighting!F914","v":0},{"$f":"Lighting!G914","v":0},{"$f":"Lighting!H914","v":0},{"$f":"Lighting!I914","v":0},{"$f":"Lighting!J914","v":0},{"$f":"Lighting!K914","v":0},{"$f":"Lighting!L914","v":0},{"$f":"Lighting!M914","v":0},{"$f":"Lighting!P914","v":0},{"$f":"Lighting!Q914","v":0},{"$f":"Lighting!S914","v":""},{"$f":"Lighting!T914","v":""},{"$f":"Lighting!U914","v":0},{"$f":"Lighting!V914","v":""},{"$f":"Lighting!W914","v":""},{"$f":"Lighting!Y914","v":""},{"$f":"Lighting!AB914","v":""},{"$f":"Lighting!AC914","v":0},{"$f":"Lighting!AD914","v":0},{"$f":"Lighting!AE914","v":0}]
[0,{"$f":"Lighting!B915","v":907},{"$f":"Lighting!C915","v":0},{"$f":"Lighting!D915","v":0},{"$f":"Lighting!F915","v":0},{"$f":"Lighting!G915","v":0},{"$f":"Lighting!H915","v":0},{"$f":"Lighting!I915","v":0},{"$f":"Lighting!J915","v":0},{"$f":"Lighting!K915","v":0},{"$f":"Lighting!L915","v":0},{"$f":"Lighting!M915","v":0},{"$f":"Lighting!P915","v":0},{"$f":"Lighting!Q915","v":0},{"$f":"Lighting!S915","v":""},{"$f":"Lighting!T915","v":""},{"$f":"Lighting!U915","v":0},{"$f":"Lighting!V915","v":""},{"$f":"Lighting!W915","v":""},{"$f":"Lighting!Y915","v":""},{"$f":"Lighting!AB915","v":""},{"$f":"Lighting!AC915","v":0},{"$f":"Lighting!AD915","v":0},{"$f":"Lighting!AE915","v":0}]
[0,{"$f":"Lighting!B916","v":908},{"$f":"Lighting!C916","v":0},{"$f":"Lighting!D916","v":0},{"$f":"Lighting!F916","v":0},{"$f":"Lighting!G916","v":0},{"$f":"Lighting!H916","v":0},{"$f":"Lighting!I916","v":0},{"$f":"Lighting!J916","v":0},{"$f":"Lighting!K916","v":0},{"$f":"Lighting!L916","v":0},{"$f":"Lighting!M916","v":0},{"$f":"Lighting!P916","v":0},{"$f":"Lighting!Q916","v":0},{"$f":"Lighting!S916","v":""},{"$f":"Lighting!T916","v":""},{"$f":"Lighting!U916","v":0},{"$f":"Lighting!V916","v":""},{"$f":"Lighting!W916","v":""},{"$f":"Lighting!Y916","v":""},{"$f":"Lighting!AB916","v":""},{"$f":"Lighting!AC916","v":0},{"$f":"Lighting!AD916","v":0},{"$f":"Lighting!AE916","v":0}]
[0,{"$f":"Lighting!B917","v":909},{"$f":"Lighting!C917","v":0},{"$f":"Lighting!D917","v":0},{"$f":"Lighting!F917","v":0},{"$f":"Lighting!G917","v":0},{"$f":"Lighting!H917","v":0},{"$f":"Lighting!I917","v":0},{"$f":"Lighting!J917","v":0},{"$f":"Lighting!K917","v":0},{"$f":"Lighting!L917","v":0},{"$f":"Lighting!M917","v":0},{"$f":"Lighting!P917","v":0},{"$f":"Lighting!Q917","v":0},{"$f":"Lighting!S917","v":""},{"$f":"Lighting!T917","v":""},{"$f":"Lighting!U917","v":0},{"$f":"Lighting!V917","v":""},{"$f":"Lighting!W917","v":""},{"$f":"Lighting!Y917","v":""},{"$f":"Lighting!AB917","v":""},{"$f":"Lighting!AC917","v":0},{"$f":"Lighting!AD917","v":0},{"$f":"Lighting!AE917","v":0}]
[0,{"$f":"Lighting!B918","v":910},{"$f":"Lighting!C918","v":0},{"$f":"Lighting!D918","v":0},{"$f":"Lighting!F918","v":0},{"$f":"Lighting!G918","v":0},{"$f":"Lighting!H918","v":0},{"$f":"Lighting!I918","v":0},{"$f":"Lighting!J918","v":0},{"$f":"Lighting!K918","v":0},{"$f":"Lighting!L918","v":0},{"$f":"Lighting!M918","v":0},{"$f":"Lighting!P918","v":0},{"$f":"Lighting!Q918","v":0},{"$f":"Lighting!S918","v":""},{"$f":"Lighting!T918","v":""},{"$f":"Lighting!U918","v":0},{"$f":"Lighting!V918","v":""},{"$f":"Lighting!W918","v":""},{"$f":"Lighting!Y918","v":""},{"$f":"Lighting!AB918","v":""},{"$f":"Lighting!AC918","v":0},{"$f":"Lighting!AD918","v":0},{"$f":"Lighting!AE918","v":0}]
[0,{"$f":"Lighting!B919","v":911},{"$f":"Lighting!C919","v":0},{"$f":"Lighting!D919","v":0},{"$f":"Lighting!F919","v":0},{"$f":"Lighting!G919","v":0},{"$f":"Lighting!H919","v":0},{"$f":"Lighting!I919","v":0},{"$f":"Lighting!J919","v":0},{"$f":"Lighting!K919","v":0},{"$f":"Lighting!L919","v":0},{"$f":"Lighting!M919","v":0},{"$f":"Lighting!P919","v":0},{"$f":"Lighting!Q919","v":0},{"$f":"Lighting!S919","v":""},{"$f":"Lighting!T919","v":""},{"$f":"Lighting!U919","v":0},{"$f":"Lighting!V919","v":""},{"$f":"Lighting!W919","v":""},{"$f":"Lighting!Y919","v":""},{"$f":"Lighting!AB919","v":""},{"$f":"Lighting!AC919","v":0},{"$f":"Lighting!AD919","v":0},{"$f":"Lighting!AE919","v":0}]
[0,{"$f":"Lighting!B920","v":912},{"$f":"Lighting!C920","v":0},{"$f":"Lighting!D920","v":0},{"$f":"Lighting!F920","v":0},{"$f":"Lighting!G920","v":0},{"$f":"Lighting!H920","v":0},{"$f":"Lighting!I920","v":0},{"$f":"Lighting!J920","v":0},{"$f":"Lighting!K920","v":0},{"$f":"Lighting!L920","v":0},{"$f":"Lighting!M920","v":0},{"$f":"Lighting!P920","v":0},{"$f":"Lighting!Q920","v":0},{"$f":"Lighting!S920","v":""},{"$f":"Lighting!T920","v":""},{"$f":"Lighting!U920","v":0},{"$f":"Lighting!V920","v":""},{"$f":"Lighting!W920","v":""},{"$f":"Lighting!Y920","v":""},{"$f":"Lighting!AB920","v":""},{"$f":"Lighting!AC920","v":0},{"$f":"Lighting!AD920","v":0},{"$f":"Lighting!AE920","v":0}]
[0,{"$f":"Lighting!B921","v":913},{"$f":"Lighting!C921","v":0},{"$f":"Lighting!D921","v":0},{"$f":"Lighting!F921","v":0},{"$f":"Lighting!G921","v":0},{"$f":"Lighting!H921","v":0},{"$f":"Lighting!I921","v":0},{"$f":"Lighting!J921","v":0},{"$f":"Lighting!K921","v":0},{"$f":"Lighting!L921","v":0},{"$f":"Lighting!M921","v":0},{"$f":"Lighting!P921","v":0},{"$f":"Lighting!Q921","v":0},{"$f":"Lighting!S921","v":""},{"$f":"Lighting!T921","v":""},{"$f":"Lighting!U921","v":0},{"$f":"Lighting!V921","v":""},{"$f":"Lighting!W921","v":""},{"$f":"Lighting!Y921","v":""},{"$f":"Lighting!AB921","v":""},{"$f":"Lighting!AC921","v":0},{"$f":"Lighting!AD921","v":0},{"$f":"Lighting!AE921","v":0}]
[0,{"$f":"Lighting!B922","v":914},{"$f":"Lighting!C922","v":0},{"$f":"Lighting!D922","v":0},{"$f":"Lighting!F922","v":0},{"$f":"Lighting!G922","v":0},{"$f":"Lighting!H922","v":0},{"$f":"Lighting!I922","v":0},{"$f":"Lighting!J922","v":0},{"$f":"Lighting!K922","v":0},{"$f":"Lighting!L922","v":0},{"$f":"Lighting!M922","v":0},{"$f":"Lighting!P922","v":0},{"$f":"Lighting!Q922","v":0},{"$f":"Lighting!S922","v":""},{"$f":"Lighting!T922","v":""},{"$f":"Lighting!U922","v":0},{"$f":"Lighting!V922","v":""},{"$f":"Lighting!W922","v":""},{"$f":"Lighting!Y922","v":""},{"$f":"Lighting!AB922","v":""},{"$f":"Lighting!AC922","v":0},{"$f":"Lighting!AD922","v":0},{"$f":"Lighting!AE922","v":0}]
[0,{"$f":"Lighting!B923","v":915},{"$f":"Lighting!C923","v":0},{"$f":"Lighting!D923","v":0},{"$f":"Lighting!F923","v":0},{"$f":"Lighting!G923","v":0},{"$f":"Lighting!H923","v":0},{"$f":"Lighting!I923","v":0},{"$f":"Lighting!J923","v":0},{"$f":"Lighting!K923","v":0},{"$f":"Lighting!L923","v":0},{"$f":"Lighting!M923","v":0},{"$f":"Lighting!P923","v":0},{"$f":"Lighting!Q923","v":0},{"$f":"Lighting!S923","v":""},{"$f":"Lighting!T923","v":""},{"$f":"Lighting!U923","v":0},{"$f":"Lighting!V923","v":""},{"$f":"Lighting!W923","v":""},{"$f":"Lighting!Y923","v":""},{"$f":"Lighting!AB923","v":""},{"$f":"Lighting!AC923","v":0},{"$f":"Lighting!AD923","v":0},{"$f":"Lighting!AE923","v":0}]
[0,{"$f":"Lighting!B924","v":916},{"$f":"Lighting!C924","v":0},{"$f":"Lighting!D924","v":0},{"$f":"Lighting!F924","v":0},{"$f":"Lighting!G924","v":0},{"$f":"Lighting!H924","v":0},{"$f":"Lighting!I924","v":0},{"$f":"Lighting!J924","v":0},{"$f":"Lighting!K924","v":0},{"$f":"Lighting!L924","v":0},{"$f":"Lighting!M924","v":0},{"$f":"Lighting!P924","v":0},{"$f":"Lighting!Q924","v":0},{"$f":"Lighting!S924","v":""},{"$f":"Lighting!T924","v":""},{"$f":"Lighting!U924","v":0},{"$f":"Lighting!V924","v":""},{"$f":"Lighting!W924","v":""},{"$f":"Lighting!Y924","v":""},{"$f":"Lighting!AB924","v":""},{"$f":"Lighting!AC924","v":0},{"$f":"Lighting!AD924","v":0},{"$f":"Lighting!AE924","v":0}]
[0,{"$f":"Lighting!B925","v":917},{"$f":"Lighting!C925","v":0},{"$f":"Lighting!D925","v":0},{"$f":"Lighting!F925","v":0},{"$f":"Lighting!G925","v":0},{"$f":"Lighting!H925","v":0},{"$f":"Lighting!I925","v":0},{"$f":"Lighting!J925","v":0},{"$f":"Lighting!K925","v":0},{"$f":"Lighting!L925","v":0},{"$f":"Lighting!M925","v":0},{"$f":"Lighting!P925","v":0},{"$f":"Lighting!Q925","v":0},{"$f":"Lighting!S925","v":""},{"$f":"Lighting!T925","v":""},{"$f":"Lighting!U925","v":0},{"$f":"Lighting!V925","v":""},{"$f":"Lighting!W925","v":""},{"$f":"Lighting!Y925","v":""},{"$f":"Lighting!AB925","v":""},{"$f":"Lighting!AC925","v":0},{"$f":"Lighting!AD925","v":0},{"$f":"Lighting!AE925","v":0}]
[0,{"$f":"Lighting!B926","v":918},{"$f":"Lighting!C926","v":0},{"$f":"Lighting!D926","v":0},{"$f":"Lighting!F926","v":0},{"$f":"Lighting!G926","v":0},{"$f":"Lighting!H926","v":0},{"$f":"Lighting!I926","v":0},{"$f":"Lighting!J926","v":0},{"$f":"Lighting!K926","v":0},{"$f":"Lighting!L926","v":0},{"$f":"Lighting!M926","v":0},{"$f":"Lighting!P926","v":0},{"$f":"Lighting!Q926","v":0},{"$f":"Lighting!S926","v":""},{"$f":"Lighting!T926","v":""},{"$f":"Lighting!U926","v":0},{"$f":"Lighting!V926","v":""},{"$f":"Lighting!W926","v":""},{"$f":"Lighting!Y926","v":""},{"$f":"Lighting!AB926","v":""},{"$f":"Lighting!AC926","v":0},{"$f":"Lighting!AD926","v":0},{"$f":"Lighting!AE926","v":0}]
[0,{"$f":"Lighting!B927","v":919},{"$f":"Lighting!C927","v":0},{"$f":"Lighting!D927","v":0},{"$f":"Lighting!F927","v":0},{"$f":"Lighting!G927","v":0},{"$f":"Lighting!H927","v":0},{"$f":"Lighting!I927","v":0},{"$f":"Lighting!J927","v":0},{"$f":"Lighting!K927","v":0},{"$f":"Lighting!L927","v":0},{"$f":"Lighting!M927","v":0},{"$f":"Lighting!P927","v":0},{"$f":"Lighting!Q927","v":0},{"$f":"Lighting!S927","v":""},{"$f":"Lighting!T927","v":""},{"$f":"Lighting!U927","v":0},{"$f":"Lighting!V927","v":""},{"$f":"Lighting!W927","v":""},{"$f":"Lighting!Y927","v":""},{"$f":"Lighting!AB927","v":""},{"$f":"Lighting!AC927","v":0},{"$f":"Lighting!AD927","v":0},{"$f":"Lighting!AE927","v":0}]
[0,{"$f":"Lighting!B928","v":920},{"$f":"Lighting!C928","v":0},{"$f":"Lighting!D928","v":0},{"$f":"Lighting!F928","v":0},{"$f":"Lighting!G928","v":0},{"$f":"Lighting!H928","v":0},{"$f":"Lighting!I928","v":0},{"$f":"Lighting!J928","v":0},{"$f":"Lighting!K928","v":0},{"$f":"Lighting!L928","v":0},{"$f":"Lighting!M928","v":0},{"$f":"Lighting!P928","v":0},{"$f":"Lighting!Q928","v":0},{"$f":"Lighting!S928","v":""},{"$f":"Lighting!T928","v":""},{"$f":"Lighting!U928","v":0},{"$f":"Lighting!V928","v":""},{"$f":"Lighting!W928","v":""},{"$f":"Lighting!Y928","v":""},{"$f":"Lighting!AB928","v":""},{"$f":"Lighting!AC928","v":0},{"$f":"Lighting!AD928","v":0},{"$f":"Lighting!AE928","v":0}]
[0,{"$f":"Lighting!B929","v":921},{"$f":"Lighting!C929","v":0},{"$f":"Lighting!D929","v":0},{"$f":"Lighting!F929","v":0},{"$f":"Lighting!G929","v":0},{"$f":"Lighting!H929","v":0},{"$f":"Lighting!I929","v":0},{"$f":"Lighting!J929","v":0},{"$f":"Lighting!K929","v":0},{"$f":"Lighting!L929","v":0},{"$f":"Lighting!M929","v":0},{"$f":"Lighting!P929","v":0},{"$f":"Lighting!Q929","v":0},{"$f":"Lighting!S929","v":""},{"$f":"Lighting!T929","v":""},{"$f":"Lighting!U929","v":0},{"$f":"Lighting!V929","v":""},{"$f":"Lighting!W929","v":""},{"$f":"Lighting!Y929","v":""},{"$f":"Lighting!AB929","v":""},{"$f":"Lighting!AC929","v":0},{"$f":"Lighting!AD929","v":0},{"$f":"Lighting!AE929","v":0}]
[0,{"$f":"Lighting!B930","v":922},{"$f":"Lighting!C930","v":0},{"$f":"Lighting!D930","v":0},{"$f":"Lighting!F930","v":0},{"$f":"Lighting!G930","v":0},{"$f":"Lighting!H930","v":0},{"$f":"Lighting!I930","v":0},{"$f":"Lighting!J930","v":0},{"$f":"Lighting!K930","v":0},{"$f":"Lighting!L930","v":0},{"$f":"Lighting!M930","v":0},{"$f":"Lighting!P930","v":0},{"$f":"Lighting!Q930","v":0},{"$f":"Lighting!S930","v":""},{"$f":"Lighting!T930","v":""},{"$f":"Lighting!U930","v":0},{"$f":"Lighting!V930","v":""},{"$f":"Lighting!W930","v":""},{"$f":"Lighting!Y930","v":""},{"$f":"Lighting!AB930","v":""},{"$f":"Lighting!AC930","v":0},{"$f":"Lighting!AD930","v":0},{"$f":"Lighting!AE930","v":0}]
[0,{"$f":"Lighting!B931","v":923},{"$f":"Lighting!C931","v":0},{"$f":"Lighting!D931","v":0},{"$f":"Lighting!F931","v":0},{"$f":"Lighting!G931","v":0},{"$f":"Lighting!H931","v":0},{"$f":"Lighting!I931","v":0},{"$f":"Lighting!J931","v":0},{"$f":"Lighting!K931","v":0},{"$f":"Lighting!L931","v":0},{"$f":"Lighting!M931","v":0},{"$f":"Lighting!P931","v":0},{"$f":"Lighting!Q931","v":0},{"$f":"Lighting!S931","v":""},{"$f":"Lighting!T931","v":""},{"$f":"Lighting!U931","v":0},{"$f":"Lighting!V931","v":""},{"$f":"Lighting!W931","v":""},{"$f":"Lighting!Y931","v":""},{"$f":"Lighting!AB931","v":""},{"$f":"Lighting!AC931","v":0},{"$f":"Lighting!AD931","v":0},{"$f":"Lighting!AE931","v":0}]
[0,{"$f":"Lighting!B932","v":924},{"$f":"Lighting!C932","v":0},{"$f":"Lighting!D932","v":0},{"$f":"Lighting!F932","v":0},{"$f":"Lighting!G932","v":0},{"$f":"Lighting!H932","v":0},{"$f":"Lighting!I932","v":0},{"$f":"Lighting!J932","v":0},{"$f":"Lighting!K932","v":0},{"$f":"Lighting!L932","v":0},{"$f":"Lighting!M932","v":0},{"$f":"Lighting!P932","v":0},{"$f":"Lighting!Q932","v":0},{"$f":"Lighting!S932","v":""},{"$f":"Lighting!T932","v":""},{"$f":"Lighting!U932","v":0},{"$f":"Lighting!V932","v":""},{"$f":"Lighting!W932","v":""},{"$f":"Lighting!Y932","v":""},{"$f":"Lighting!AB932","v":""},{"$f":"Lighting!AC932","v":0},{"$f":"Lighting!AD932","v":0},{"$f":"Lighting!AE932","v":0}]
[0,{"$f":"Lighting!B933","v":925},{"$f":"Lighting!C933","v":0},{"$f":"Lighting!D933","v":0},{"$f":"Lighting!F933","v":0},{"$f":"Lighting!G933","v":0},{"$f":"Lighting!H933","v":0},{"$f":"Lighting!I933","v":0},{"$f":"Lighting!J933","v":0},{"$f":"Lighting!K933","v":0},{"$f":"Lighting!L933","v":0},{"$f":"Lighting!M933","v":0},{"$f":"Lighting!P933","v":0},{"$f":"Lighting!Q933","v":0},{"$f":"Lighting!S933","v":""},{"$f":"Lighting!T933","v":""},{"$f":"Lighting!U933","v":0},{"$f":"Lighting!V933","v":""},{"$f":"Lighting!W933","v":""},{"$f":"Lighting!Y933","v":""},{"$f":"Lighting!AB933","v":""},{"$f":"Lighting!AC933","v":0},{"$f":"Lighting!AD933","v":0},{"$f":"Lighting!AE933","v":0}]
[0,{"$f":"Lighting!B934","v":926},{"$f":"Lighting!C934","v":0},{"$f":"Lighting!D934","v":0},{"$f":"Lighting!F934","v":0},{"$f":"Lighting!G934","v":0},{"$f":"Lighting!H934","v":0},{"$f":"Lighting!I934","v":0},{"$f":"Lighting!J934","v":0},{"$f":"Lighting!K934","v":0},{"$f":"Lighting!L934","v":0},{"$f":"Lighting!M934","v":0},{"$f":"Lighting!P934","v":0},{"$f":"Lighting!Q934","v":0},{"$f":"Lighting!S934","v":""},{"$f":"Lighting!T934","v":""},{"$f":"Lighting!U934","v":0},{"$f":"Lighting!V934","v":""},{"$f":"Lighting!W934","v":""},{"$f":"Lighting!Y934","v":""},{"$f":"Lighting!AB934","v":""},{"$f":"Lighting!AC934","v":0},{"$f":"Lighting!AD934","v":0},{"$f":"Lighting!AE934","v":0}]
[0,{"$f":"Lighting!B935","v":927},{"$f":"Lighting!C935","v":0},{"$f":"Lighting!D935","v":0},{"$f":"Lighting!F935","v":0},{"$f":"Lighting!G935","v":0},{"$f":"Lighting!H935","v":0},{"$f":"Lighting!I935","v":0},{"$f":"Lighting!J935","v":0},{"$f":"Lighting!K935","v":0},{"$f":"Lighting!L935","v":0},{"$f":"Lighting!M935","v":0},{"$f":"Lighting!P935","v":0},{"$f":"Lighting!Q935","v":0},{"$f":"Lighting!S935","v":""},{"$f":"Lighting!T935","v":""},{"$f":"Lighting!U935","v":0},{"$f":"Lighting!V935","v":""},{"$f":"Lighting!W935","v":""},{"$f":"Lighting!Y935","v":""},{"$f":"Lighting!AB935","v":""},{"$f":"Lighting!AC935","v":0},{"$f":"Lighting!AD935","v":0},{"$f":"Lighting!AE935","v":0}]
[0,{"$f":"Lighting!B936","v":928},{"$f":"Lighting!C936","v":0},{"$f":"Lighting!D936","v":0},{"$f":"Lighting!F936","v":0},{"$f":"Lighting!G936","v":0},{"$f":"Lighting!H936","v":0},{"$f":"Lighting!I936","v":0},{"$f":"Lighting!J936","v":0},{"$f":"Lighting!K936","v":0},{"$f":"Lighting!L936","v":0},{"$f":"Lighting!M936","v":0},{"$f":"Lighting!P936","v":0},{"$f":"Lighting!Q936","v":0},{"$f":"Lighting!S936","v":""},{"$f":"Lighting!T936","v":""},{"$f":"Lighting!U936","v":0},{"$f":"Lighting!V936","v":""},{"$f":"Lighting!W936","v":""},{"$f":"Lighting!Y936","v":""},{"$f":"Lighting!AB936","v":""},{"$f":"Lighting!AC936","v":0},{"$f":"Lighting!AD936","v":0},{"$f":"Lighting!AE936","v":0}]
[0,{"$f":"Lighting!B937","v":929},{"$f":"Lighting!C937","v":0},{"$f":"Lighting!D937","v":0},{"$f":"Lighting!F937","v":0},{"$f":"Lighting!G937","v":0},{"$f":"Lighting!H937","v":0},{"$f":"Lighting!I937","v":0},{"$f":"Lighting!J937","v":0},{"$f":"Lighting!K937","v":0},{"$f":"Lighting!L937","v":0},{"$f":"Lighting!M937","v":0},{"$f":"Lighting!P937","v":0},{"$f":"Lighting!Q937","v":0},{"$f":"Lighting!S937","v":""},{"$f":"Lighting!T937","v":""},{"$f":"Lighting!U937","v":0},{"$f":"Lighting!V937","v":""},{"$f":"Lighting!W937","v":""},{"$f":"Lighting!Y937","v":""},{"$f":"Lighting!AB937","v":""},{"$f":"Lighting!AC937","v":0},{"$f":"Lighting!AD937","v":0},{"$f":"Lighting!AE937","v":0}]
[0,{"$f":"Lighting!B938","v":930},{"$f":"Lighting!C938","v":0},{"$f":"Lighting!D938","v":0},{"$f":"Lighting!F938","v":0},{"$f":"Lighting!G938","v":0},{"$f":"Lighting!H938","v":0},{"$f":"Lighting!I938","v":0},{"$f":"Lighting!J938","v":0},{"$f":"Lighting!K938","v":0},{"$f":"Lighting!L938","v":0},{"$f":"Lighting!M938","v":0},{"$f":"Lighting!P938","v":0},{"$f":"Lighting!Q938","v":0},{"$f":"Lighting!S938","v":""},{"$f":"Lighting!T938","v":""},{"$f":"Lighting!U938","v":0},{"$f":"Lighting!V938","v":""},{"$f":"Lighting!W938","v":""},{"$f":"Lighting!Y938","v":""},{"$f":"Lighting!AB938","v":""},{"$f":"Lighting!AC938","v":0},{"$f":"Lighting!AD938","v":0},{"$f":"Lighting!AE938","v":0}]
[0,{"$f":"Lighting!B939","v":931},{"$f":"Lighting!C939","v":0},{"$f":"Lighting!D939","v":0},{"$f":"Lighting!F939","v":0},{"$f":"Lighting!G939","v":0},{"$f":"Lighting!H939","v":0},{"$f":"Lighting!I939","v":0},{"$f":"Lighting!J939","v":0},{"$f":"Lighting!K939","v":0},{"$f":"Lighting!L939","v":0},{"$f":"Lighting!M939","v":0},{"$f":"Lighting!P939","v":0},{"$f":"Lighting!Q939","v":0},{"$f":"Lighting!S939","v":""},{"$f":"Lighting!T939","v":""},{"$f":"Lighting!U939","v":0},{"$f":"Lighting!V939","v":""},{"$f":"Lighting!W939","v":""},{"$f":"Lighting!Y939","v":""},{"$f":"Lighting!AB939","v":""},{"$f":"Lighting!AC939","v":0},{"$f":"Lighting!AD939","v":0},{"$f":"Lighting!AE939","v":0}]
[0,{"$f":"Lighting!B940","v":932},{"$f":"Lighting!C940","v":0},{"$f":"Lighting!D940","v":0},{"$f":"Lighting!F940","v":0},{"$f":"Lighting!G940","v":0},{"$f":"Lighting!H940","v":0},{"$f":"Lighting!I940","v":0},{"$f":"Lighting!J940","v":0},{"$f":"Lighting!K940","v":0},{"$f":"Lighting!L940","v":0},{"$f":"Lighting!M940","v":0},{"$f":"Lighting!P940","v":0},{"$f":"Lighting!Q940","v":0},{"$f":"Lighting!S940","v":""},{"$f":"Lighting!T940","v":""},{"$f":"Lighting!U940","v":0},{"$f":"Lighting!V940","v":""},{"$f":"Lighting!W940","v":""},{"$f":"Lighting!Y940","v":""},{"$f":"Lighting!AB940","v":""},{"$f":"Lighting!AC940","v":0},{"$f":"Lighting!AD940","v":0},{"$f":"Lighting!AE940","v":0}]
[0,{"$f":"Lighting!B941","v":933},{"$f":"Lighting!C941","v":0},{"$f":"Lighting!D941","v":0},{"$f":"Lighting!F941","v":0},{"$f":"Lighting!G941","v":0},{"$f":"Lighting!H941","v":0},{"$f":"Lighting!I941","v":0},{"$f":"Lighting!J941","v":0},{"$f":"Lighting!K941","v":0},{"$f":"Lighting!L941","v":0},{"$f":"Lighting!M941","v":0},{"$f":"Lighting!P941","v":0},{"$f":"Lighting!Q941","v":0},{"$f":"Lighting!S941","v":""},{"$f":"Lighting!T941","v":""},{"$f":"Lighting!U941","v":0},{"$f":"Lighting!V941","v":""},{"$f":"Lighting!W941","v":""},{"$f":"Lighting!Y941","v":""},{"$f":"Lighting!AB941","v":""},{"$f":"Lighting!AC941","v":0},{"$f":"Lighting!AD941","v":0},{"$f":"Lighting!AE941","v":0}]
[0,{"$f":"Lighting!B942","v":934},{"$f":"Lighting!C942","v":0},{"$f":"Lighting!D942","v":0},{"$f":"Lighting!F942","v":0},{"$f":"Lighting!G942","v":0},{"$f":"Lighting!H942","v":0},{"$f":"Lighting!I942","v":0},{"$f":"Lighting!J942","v":0},{"$f":"Lighting!K942","v":0},{"$f":"Lighting!L942","v":0},{"$f":"Lighting!M942","v":0},{"$f":"Lighting!P942","v":0},{"$f":"Lighting!Q942","v":0},{"$f":"Lighting!S942","v":""},{"$f":"Lighting!T942","v":""},{"$f":"Lighting!U942","v":0},{"$f":"Lighting!V942","v":""},{"$f":"Lighting!W942","v":""},{"$f":"Lighting!Y942","v":""},{"$f":"Lighting!AB942","v":""},{"$f":"Lighting!AC942","v":0},{"$f":"Lighting!AD942","v":0},{"$f":"Lighting!AE942","v":0}]
[0,{"$f":"Lighting!B943","v":935},{"$f":"Lighting!C943","v":0},{"$f":"Lighting!D943","v":0},{"$f":"Lighting!F943","v":0},{"$f":"Lighting!G943","v":0},{"$f":"Lighting!H943","v":0},{"$f":"Lighting!I943","v":0},{"$f":"Lighting!J943","v":0},{"$f":"Lighting!K943","v":0},{"$f":"Lighting!L943","v":0},{"$f":"Lighting!M943","v":0},{"$f":"Lighting!P943","v":0},{"$f":"Lighting!Q943","v":0},{"$f":"Lighting!S943","v":""},{"$f":"Lighting!T943","v":""},{"$f":"Lighting!U943","v":0},{"$f":"Lighting!V943","v":""},{"$f":"Lighting!W943","v":""},{"$f":"Lighting!Y943","v":""},{"$f":"Lighting!AB943","v":""},{"$f":"Lighting!AC943","v":0},{"$f":"Lighting!AD943","v":0},{"$f":"Lighting!AE943","v":0}]
[0,{"$f":"Lighting!B944","v":936},{"$f":"Lighting!C944","v":0},{"$f":"Lighting!D944","v":0},{"$f":"Lighting!F944","v":0},{"$f":"Lighting!G944","v":0},{"$f":"Lighting!H944","v":0},{"$f":"Lighting!I944","v":0},{"$f":"Lighting!J944","v":0},{"$f":"Lighting!K944","v":0},{"$f":"Lighting!L944","v":0},{"$f":"Lighting!M944","v":0},{"$f":"Lighting!P944","v":0},{"$f":"Lighting!Q944","v":0},{"$f":"Lighting!S944","v":""},{"$f":"Lighting!T944","v":""},{"$f":"Lighting!U944","v":0},{"$f":"Lighting!V944","v":""},{"$f":"Lighting!W944","v":""},{"$f":"Lighting!Y944","v":""},{"$f":"Lighting!AB944","v":""},{"$f":"Lighting!AC944","v":0},{"$f":"Lighting!AD944","v":0},{"$f":"Lighting!AE944","v":0}]
[0,{"$f":"Lighting!B945","v":937},{"$f":"Lighting!C945","v":0},{"$f":"Lighting!D945","v":0},{"$f":"Lighting!F945","v":0},{"$f":"Lighting!G945","v":0},{"$f":"Lighting!H945","v":0},{"$f":"Lighting!I945","v":0},{"$f":"Lighting!J945","v":0},{"$f":"Lighting!K945","v":0},{"$f":"Lighting!L945","v":0},{"$f":"Lighting!M945","v":0},{"$f":"Lighting!P945","v":0},{"$f":"Lighting!Q945","v":0},{"$f":"Lighting!S945","v":""},{"$f":"Lighting!T945","v":""},{"$f":"Lighting!U945","v":0},{"$f":"Lighting!V945","v":""},{"$f":"Lighting!W945","v":""},{"$f":"Lighting!Y945","v":""},{"$f":"Lighting!AB945","v":""},{"$f":"Lighting!AC945","v":0},{"$f":"Lighting!AD945","v":0},{"$f":"Lighting!AE945","v":0}]
[0,{"$f":"Lighting!B946","v":938},{"$f":"Lighting!C946","v":0},{"$f":"Lighting!D946","v":0},{"$f":"Lighting!F946","v":0},{"$f":"Lighting!G946","v":0},{"$f":"Lighting!H946","v":0},{"$f":"Lighting!I946","v":0},{"$f":"Lighting!J946","v":0},{"$f":"Lighting!K946","v":0},{"$f":"Lighting!L946","v":0},{"$f":"Lighting!M946","v":0},{"$f":"Lighting!P946","v":0},{"$f":"Lighting!Q946","v":0},{"$f":"Lighting!S946","v":""},{"$f":"Lighting!T946","v":""},{"$f":"Lighting!U946","v":0},{"$f":"Lighting!V946","v":""},{"$f":"Lighting!W946","v":""},{"$f":"Lighting!Y946","v":""},{"$f":"Lighting!AB946","v":""},{"$f":"Lighting!AC946","v":0},{"$f":"Lighting!AD946","v":0},{"$f":"Lighting!AE946","v":0}]
[0,{"$f":"Lighting!B947","v":939},{"$f":"Lighting!C947","v":0},{"$f":"Lighting!D947","v":0},{"$f":"Lighting!F947","v":0},{"$f":"Lighting!G947","v":0},{"$f":"Lighting!H947","v":0},{"$f":"Lighting!I947","v":0},{"$f":"Lighting!J947","v":0},{"$f":"Lighting!K947","v":0},{"$f":"Lighting!L947","v":0},{"$f":"Lighting!M947","v":0},{"$f":"Lighting!P947","v":0},{"$f":"Lighting!Q947","v":0},{"$f":"Lighting!S947","v":""},{"$f":"Lighting!T947","v":""},{"$f":"Lighting!U947","v":0},{"$f":"Lighting!V947","v":""},{"$f":"Lighting!W947","v":""},{"$f":"Lighting!Y947","v":""},{"$f":"Lighting!AB947","v":""},{"$f":"Lighting!AC947","v":0},{"$f":"Lighting!AD947","v":0},{"$f":"Lighting!AE947","v":0}]
[0,{"$f":"Lighting!B948","v":940},{"$f":"Lighting!C948","v":0},{"$f":"Lighting!D948","v":0},{"$f":"Lighting!F948","v":0},{"$f":"Lighting!G948","v":0},{"$f":"Lighting!H948","v":0},{"$f":"Lighting!I948","v":0},{"$f":"Lighting!J948","v":0},{"$f":"Lighting!K948","v":0},{"$f":"Lighting!L948","v":0},{"$f":"Lighting!M948","v":0},{"$f":"Lighting!P948","v":0},{"$f":"Lighting!Q948","v":0},{"$f":"Lighting!S948","v":""},{"$f":"Lighting!T948","v":""},{"$f":"Lighting!U948","v":0},{"$f":"Lighting!V948","v":""},{"$f":"Lighting!W948","v":""},{"$f":"Lighting!Y948","v":""},{"$f":"Lighting!AB948","v":""},{"$f":"Lighting!AC948","v":0},{"$f":"Lighting!AD948","v":0},{"$f":"Lighting!AE948","v":0}]
[0,{"$f":"Lighting!B949","v":941},{"$f":"Lighting!C949","v":0},{"$f":"Lighting!D949","v":0},{"$f":"Lighting!F949","v":0},{"$f":"Lighting!G949","v":0},{"$f":"Lighting!H949","v":0},{"$f":"Lighting!I949","v":0},{"$f":"Lighting!J949","v":0},{"$f":"Lighting!K949","v":0},{"$f":"Lighting!L949","v":0},{"$f":"Lighting!M949","v":0},{"$f":"Lighting!P949","v":0},{"$f":"Lighting!Q949","v":0},{"$f":"Lighting!S949","v":""},{"$f":"Lighting!T949","v":""},{"$f":"Lighting!U949","v":0},{"$f":"Lighting!V949","v":""},{"$f":"Lighting!W949","v":""},{"$f":"Lighting!Y949","v":""},{"$f":"Lighting!AB949","v":""},{"$f":"Lighting!AC949","v":0},{"$f":"Lighting!AD949","v":0},{"$f":"Lighting!AE949","v":0}]
[0,{"$f":"Lighting!B950","v":942},{"$f":"Lighting!C950","v":0},{"$f":"Lighting!D950","v":0},{"$f":"Lighting!F950","v":0},{"$f":"Lighting!G950","v":0},{"$f":"Lighting!H950","v":0},{"$f":"Lighting!I950","v":0},{"$f":"Lighting!J950","v":0},{"$f":"Lighting!K950","v":0},{"$f":"Lighting!L950","v":0},{"$f":"Lighting!M950","v":0},{"$f":"Lighting!P950","v":0},{"$f":"Lighting!Q950","v":0},{"$f":"Lighting!S950","v":""},{"$f":"Lighting!T950","v":""},{"$f":"Lighting!U950","v":0},{"$f":"Lighting!V950","v":""},{"$f":"Lighting!W950","v":""},{"$f":"Lighting!Y950","v":""},{"$f":"Lighting!AB950","v":""},{"$f":"Lighting!AC950","v":0},{"$f":"Lighting!AD950","v":0},{"$f":"Lighting!AE950","v":0}]
[0,{"$f":"Lighting!B951","v":943},{"$f":"Lighting!C951","v":0},{"$f":"Lighting!D951","v":0},{"$f":"Lighting!F951","v":0},{"$f":"Lighting!G951","v":0},{"$f":"Lighting!H951","v":0},{"$f":"Lighting!I951","v":0},{"$f":"Lighting!J951","v":0},{"$f":"Lighting!K951","v":0},{"$f":"Lighting!L951","v":0},{"$f":"Lighting!M951","v":0},{"$f":"Lighting!P951","v":0},{"$f":"Lighting!Q951","v":0},{"$f":"Lighting!S951","v":""},{"$f":"Lighting!T951","v":""},{"$f":"Lighting!U951","v":0},{"$f":"Lighting!V951","v":""},{"$f":"Lighting!W951","v":""},{"$f":"Lighting!Y951","v":""},{"$f":"Lighting!AB951","v":""},{"$f":"Lighting!AC951","v":0},{"$f":"Lighting!AD951","v":0},{"$f":"Lighting!AE951","v":0}]
[0,{"$f":"Lighting!B952","v":944},{"$f":"Lighting!C952","v":0},{"$f":"Lighting!D952","v":0},{"$f":"Lighting!F952","v":0},{"$f":"Lighting!G952","v":0},{"$f":"Lighting!H952","v":0},{"$f":"Lighting!I952","v":0},{"$f":"Lighting!J952","v":0},{"$f":"Lighting!K952","v":0},{"$f":"Lighting!L952","v":0},{"$f":"Lighting!M952","v":0},{"$f":"Lighting!P952","v":0},{"$f":"Lighting!Q952","v":0},{"$f":"Lighting!S952","v":""},{"$f":"Lighting!T952","v":""},{"$f":"Lighting!U952","v":0},{"$f":"Lighting!V952","v":""},{"$f":"Lighting!W952","v":""},{"$f":"Lighting!Y952","v":""},{"$f":"Lighting!AB952","v":""},{"$f":"Lighting!AC952","v":0},{"$f":"Lighting!AD952","v":0},{"$f":"Lighting!AE952","v":0}]
[0,{"$f":"Lighting!B953","v":945},{"$f":"Lighting!C953","v":0},{"$f":"Lighting!D953","v":0},{"$f":"Lighting!F953","v":0},{"$f":"Lighting!G953","v":0},{"$f":"Lighting!H953","v":0},{"$f":"Lighting!I953","v":0},{"$f":"Lighting!J953","v":0},{"$f":"Lighting!K953","v":0},{"$f":"Lighting!L953","v":0},{"$f":"Lighting!M953","v":0},{"$f":"Lighting!P953","v":0},{"$f":"Lighting!Q953","v":0},{"$f":"Lighting!S953","v":""},{"$f":"Lighting!T953","v":""},{"$f":"Lighting!U953","v":0},{"$f":"Lighting!V953","v":""},{"$f":"Lighting!W953","v":""},{"$f":"Lighting!Y953","v":""},{"$f":"Lighting!AB953","v":""},{"$f":"Lighting!AC953","v":0},{"$f":"Lighting!AD953","v":0},{"$f":"Lighting!AE953","v":0}]
[0,{"$f":"Lighting!B954","v":946},{"$f":"Lighting!C954","v":0},{"$f":"Lighting!D954","v":0},{"$f":"Lighting!F954","v":0},{"$f":"Lighting!G954","v":0},{"$f":"Lighting!H954","v":0},{"$f":"Lighting!I954","v":0},{"$f":"Lighting!J954","v":0},{"$f":"Lighting!K954","v":0},{"$f":"Lighting!L954","v":0},{"$f":"Lighting!M954","v":0},{"$f":"Lighting!P954","v":0},{"$f":"Lighting!Q954","v":0},{"$f":"Lighting!S954","v":""},{"$f":"Lighting!T954","v":""},{"$f":"Lighting!U954","v":0},{"$f":"Lighting!V954","v":""},{"$f":"Lighting!W954","v":""},{"$f":"Lighting!Y954","v":""},{"$f":"Lighting!AB954","v":""},{"$f":"Lighting!AC954","v":0},{"$f":"Lighting!AD954","v":0},{"$f":"Lighting!AE954","v":0}]
[0,{"$f":"Lighting!B955","v":947},{"$f":"Lighting!C955","v":0},{"$f":"Lighting!D955","v":0},{"$f":"Lighting!F955","v":0},{"$f":"Lighting!G955","v":0},{"$f":"Lighting!H955","v":0},{"$f":"Lighting!I955","v":0},{"$f":"Lighting!J955","v":0},{"$f":"Lighting!K955","v":0},{"$f":"Lighting!L955","v":0},{"$f":"Lighting!M955","v":0},{"$f":"Lighting!P955","v":0},{"$f":"Lighting!Q955","v":0},{"$f":"Lighting!S955","v":""},{"$f":"Lighting!T955","v":""},{"$f":"Lighting!U955","v":0},{"$f":"Lighting!V955","v":""},{"$f":"Lighting!W955","v":""},{"$f":"Lighting!Y955","v":""},{"$f":"Lighting!AB955","v":""},{"$f":"Lighting!AC955","v":0},{"$f":"Lighting!AD955","v":0},{"$f":"Lighting!AE955","v":0}]
[{"$f":"IF(G612=0,0,1)","v":0},{"$f":"Lighting!B956","v":948},{"$f":"Lighting!C956","v":0},{"$f":"Lighting!D956","v":0},{"$f":"Lighting!F956","v":0},{"$f":"Lighting!G956","v":0},{"$f":"Lighting!H956","v":0},{"$f":"Lighting!I956","v":0},{"$f":"Lighting!J956","v":0},{"$f":"Lighting!K956","v":0},{"$f":"Lighting!L956","v":0},{"$f":"Lighting!M956","v":0},{"$f":"Lighting!P956","v":0},{"$f":"Lighting!Q956","v":0},{"$f":"Lighting!S956","v":""},{"$f":"Lighting!T956","v":""},{"$f":"Lighting!U956","v":0},{"$f":"Lighting!V956","v":""},{"$f":"Lighting!W956","v":""},{"$f":"Lighting!Y956","v":""},{"$f":"Lighting!AB956","v":""},{"$f":"Lighting!AC956","v":0},{"$f":"Lighting!AD956","v":0},{"$f":"Lighting!AE956","v":0}]
[0,{"$f":"Lighting!B957","v":949},{"$f":"Lighting!C957","v":0},{"$f":"Lighting!D957","v":0},{"$f":"Lighting!F957","v":0},{"$f":"Lighting!G957","v":0},{"$f":"Lighting!H957","v":0},{"$f":"Lighting!I957","v":0},{"$f":"Lighting!J957","v":0},{"$f":"Lighting!K957","v":0},{"$f":"Lighting!L957","v":0},{"$f":"Lighting!M957","v":0},{"$f":"Lighting!P957","v":0},{"$f":"Lighting!Q957","v":0},{"$f":"Lighting!S957","v":""},{"$f":"Lighting!T957","v":""},{"$f":"Lighting!U957","v":0},{"$f":"Lighting!V957","v":""},{"$f":"Lighting!W957","v":""},{"$f":"Lighting!Y957","v":""},{"$f":"Lighting!AB957","v":""},{"$f":"Lighting!AC957","v":0},{"$f":"Lighting!AD957","v":0},{"$f":"Lighting!AE957","v":0}]
[0,{"$f":"Lighting!B958","v":950},{"$f":"Lighting!C958","v":0},{"$f":"Lighting!D958","v":0},{"$f":"Lighting!F958","v":0},{"$f":"Lighting!G958","v":0},{"$f":"Lighting!H958","v":0},{"$f":"Lighting!I958","v":0},{"$f":"Lighting!J958","v":0},{"$f":"Lighting!K958","v":0},{"$f":"Lighting!L958","v":0},{"$f":"Lighting!M958","v":0},{"$f":"Lighting!P958","v":0},{"$f":"Lighting!Q958","v":0},{"$f":"Lighting!S958","v":""},{"$f":"Lighting!T958","v":""},{"$f":"Lighting!U958","v":0},{"$f":"Lighting!V958","v":""},{"$f":"Lighting!W958","v":""},{"$f":"Lighting!Y958","v":""},{"$f":"Lighting!AB958","v":""},{"$f":"Lighting!AC958","v":0},{"$f":"Lighting!AD958","v":0},{"$f":"Lighting!AE958","v":0}]
[0,{"$f":"Lighting!B959","v":951},{"$f":"Lighting!C959","v":0},{"$f":"Lighting!D959","v":0},{"$f":"Lighting!F959","v":0},{"$f":"Lighting!G959","v":0},{"$f":"Lighting!H959","v":0},{"$f":"Lighting!I959","v":0},{"$f":"Lighting!J959","v":0},{"$f":"Lighting!K959","v":0},{"$f":"Lighting!L959","v":0},{"$f":"Lighting!M959","v":0},{"$f":"Lighting!P959","v":0},{"$f":"Lighting!Q959","v":0},{"$f":"Lighting!S959","v":""},{"$f":"Lighting!T959","v":""},{"$f":"Lighting!U959","v":0},{"$f":"Lighting!V959","v":""},{"$f":"Lighting!W959","v":""},{"$f":"Lighting!Y959","v":""},{"$f":"Lighting!AB959","v":""},{"$f":"Lighting!AC959","v":0},{"$f":"Lighting!AD959","v":0},{"$f":"Lighting!AE959","v":0}]
[0,{"$f":"Lighting!B960","v":952},{"$f":"Lighting!C960","v":0},{"$f":"Lighting!D960","v":0},{"$f":"Lighting!F960","v":0},{"$f":"Lighting!G960","v":0},{"$f":"Lighting!H960","v":0},{"$f":"Lighting!I960","v":0},{"$f":"Lighting!J960","v":0},{"$f":"Lighting!K960","v":0},{"$f":"Lighting!L960","v":0},{"$f":"Lighting!M960","v":0},{"$f":"Lighting!P960","v":0},{"$f":"Lighting!Q960","v":0},{"$f":"Lighting!S960","v":""},{"$f":"Lighting!T960","v":""},{"$f":"Lighting!U960","v":0},{"$f":"Lighting!V960","v":""},{"$f":"Lighting!W960","v":""},{"$f":"Lighting!Y960","v":""},{"$f":"Lighting!AB960","v":""},{"$f":"Lighting!AC960","v":0},{"$f":"Lighting!AD960","v":0},{"$f":"Lighting!AE960","v":0}]
[0,{"$f":"Lighting!B961","v":953},{"$f":"Lighting!C961","v":0},{"$f":"Lighting!D961","v":0},{"$f":"Lighting!F961","v":0},{"$f":"Lighting!G961","v":0},{"$f":"Lighting!H961","v":0},{"$f":"Lighting!I961","v":0},{"$f":"Lighting!J961","v":0},{"$f":"Lighting!K961","v":0},{"$f":"Lighting!L961","v":0},{"$f":"Lighting!M961","v":0},{"$f":"Lighting!P961","v":0},{"$f":"Lighting!Q961","v":0},{"$f":"Lighting!S961","v":""},{"$f":"Lighting!T961","v":""},{"$f":"Lighting!U961","v":0},{"$f":"Lighting!V961","v":""},{"$f":"Lighting!W961","v":""},{"$f":"Lighting!Y961","v":""},{"$f":"Lighting!AB961","v":""},{"$f":"Lighting!AC961","v":0},{"$f":"Lighting!AD961","v":0},{"$f":"Lighting!AE961","v":0}]
[0,{"$f":"Lighting!B962","v":954},{"$f":"Lighting!C962","v":0},{"$f":"Lighting!D962","v":0},{"$f":"Lighting!F962","v":0},{"$f":"Lighting!G962","v":0},{"$f":"Lighting!H962","v":0},{"$f":"Lighting!I962","v":0},{"$f":"Lighting!J962","v":0},{"$f":"Lighting!K962","v":0},{"$f":"Lighting!L962","v":0},{"$f":"Lighting!M962","v":0},{"$f":"Lighting!P962","v":0},{"$f":"Lighting!Q962","v":0},{"$f":"Lighting!S962","v":""},{"$f":"Lighting!T962","v":""},{"$f":"Lighting!U962","v":0},{"$f":"Lighting!V962","v":""},{"$f":"Lighting!W962","v":""},{"$f":"Lighting!Y962","v":""},{"$f":"Lighting!AB962","v":""},{"$f":"Lighting!AC962","v":0},{"$f":"Lighting!AD962","v":0},{"$f":"Lighting!AE962","v":0}]
[0,{"$f":"Lighting!B963","v":955},{"$f":"Lighting!C963","v":0},{"$f":"Lighting!D963","v":0},{"$f":"Lighting!F963","v":0},{"$f":"Lighting!G963","v":0},{"$f":"Lighting!H963","v":0},{"$f":"Lighting!I963","v":0},{"$f":"Lighting!J963","v":0},{"$f":"Lighting!K963","v":0},{"$f":"Lighting!L963","v":0},{"$f":"Lighting!M963","v":0},{"$f":"Lighting!P963","v":0},{"$f":"Lighting!Q963","v":0},{"$f":"Lighting!S963","v":""},{"$f":"Lighting!T963","v":""},{"$f":"Lighting!U963","v":0},{"$f":"Lighting!V963","v":""},{"$f":"Lighting!W963","v":""},{"$f":"Lighting!Y963","v":""},{"$f":"Lighting!AB963","v":""},{"$f":"Lighting!AC963","v":0},{"$f":"Lighting!AD963","v":0},{"$f":"Lighting!AE963","v":0}]
[0,{"$f":"Lighting!B964","v":956},{"$f":"Lighting!C964","v":0},{"$f":"Lighting!D964","v":0},{"$f":"Lighting!F964","v":0},{"$f":"Lighting!G964","v":0},{"$f":"Lighting!H964","v":0},{"$f":"Lighting!I964","v":0},{"$f":"Lighting!J964","v":0},{"$f":"Lighting!K964","v":0},{"$f":"Lighting!L964","v":0},{"$f":"Lighting!M964","v":0},{"$f":"Lighting!P964","v":0},{"$f":"Lighting!Q964","v":0},{"$f":"Lighting!S964","v":""},{"$f":"Lighting!T964","v":""},{"$f":"Lighting!U964","v":0},{"$f":"Lighting!V964","v":""},{"$f":"Lighting!W964","v":""},{"$f":"Lighting!Y964","v":""},{"$f":"Lighting!AB964","v":""},{"$f":"Lighting!AC964","v":0},{"$f":"Lighting!AD964","v":0},{"$f":"Lighting!AE964","v":0}]
[0,{"$f":"Lighting!B965","v":957},{"$f":"Lighting!C965","v":0},{"$f":"Lighting!D965","v":0},{"$f":"Lighting!F965","v":0},{"$f":"Lighting!G965","v":0},{"$f":"Lighting!H965","v":0},{"$f":"Lighting!I965","v":0},{"$f":"Lighting!J965","v":0},{"$f":"Lighting!K965","v":0},{"$f":"Lighting!L965","v":0},{"$f":"Lighting!M965","v":0},{"$f":"Lighting!P965","v":0},{"$f":"Lighting!Q965","v":0},{"$f":"Lighting!S965","v":""},{"$f":"Lighting!T965","v":""},{"$f":"Lighting!U965","v":0},{"$f":"Lighting!V965","v":""},{"$f":"Lighting!W965","v":""},{"$f":"Lighting!Y965","v":""},{"$f":"Lighting!AB965","v":""},{"$f":"Lighting!AC965","v":0},{"$f":"Lighting!AD965","v":0},{"$f":"Lighting!AE965","v":0}]
[0,{"$f":"Lighting!B966","v":958},{"$f":"Lighting!C966","v":0},{"$f":"Lighting!D966","v":0},{"$f":"Lighting!F966","v":0},{"$f":"Lighting!G966","v":0},{"$f":"Lighting!H966","v":0},{"$f":"Lighting!I966","v":0},{"$f":"Lighting!J966","v":0},{"$f":"Lighting!K966","v":0},{"$f":"Lighting!L966","v":0},{"$f":"Lighting!M966","v":0},{"$f":"Lighting!P966","v":0},{"$f":"Lighting!Q966","v":0},{"$f":"Lighting!S966","v":""},{"$f":"Lighting!T966","v":""},{"$f":"Lighting!U966","v":0},{"$f":"Lighting!V966","v":""},{"$f":"Lighting!W966","v":""},{"$f":"Lighting!Y966","v":""},{"$f":"Lighting!AB966","v":""},{"$f":"Lighting!AC966","v":0},{"$f":"Lighting!AD966","v":0},{"$f":"Lighting!AE966","v":0}]
[0,{"$f":"Lighting!B967","v":959},{"$f":"Lighting!C967","v":0},{"$f":"Lighting!D967","v":0},{"$f":"Lighting!F967","v":0},{"$f":"Lighting!G967","v":0},{"$f":"Lighting!H967","v":0},{"$f":"Lighting!I967","v":0},{"$f":"Lighting!J967","v":0},{"$f":"Lighting!K967","v":0},{"$f":"Lighting!L967","v":0},{"$f":"Lighting!M967","v":0},{"$f":"Lighting!P967","v":0},{"$f":"Lighting!Q967","v":0},{"$f":"Lighting!S967","v":""},{"$f":"Lighting!T967","v":""},{"$f":"Lighting!U967","v":0},{"$f":"Lighting!V967","v":""},{"$f":"Lighting!W967","v":""},{"$f":"Lighting!Y967","v":""},{"$f":"Lighting!AB967","v":""},{"$f":"Lighting!AC967","v":0},{"$f":"Lighting!AD967","v":0},{"$f":"Lighting!AE967","v":0}]
[0,{"$f":"Lighting!B968","v":960},{"$f":"Lighting!C968","v":0},{"$f":"Lighting!D968","v":0},{"$f":"Lighting!F968","v":0},{"$f":"Lighting!G968","v":0},{"$f":"Lighting!H968","v":0},{"$f":"Lighting!I968","v":0},{"$f":"Lighting!J968","v":0},{"$f":"Lighting!K968","v":0},{"$f":"Lighting!L968","v":0},{"$f":"Lighting!M968","v":0},{"$f":"Lighting!P968","v":0},{"$f":"Lighting!Q968","v":0},{"$f":"Lighting!S968","v":""},{"$f":"Lighting!T968","v":""},{"$f":"Lighting!U968","v":0},{"$f":"Lighting!V968","v":""},{"$f":"Lighting!W968","v":""},{"$f":"Lighting!Y968","v":""},{"$f":"Lighting!AB968","v":""},{"$f":"Lighting!AC968","v":0},{"$f":"Lighting!AD968","v":0},{"$f":"Lighting!AE968","v":0}]
[0,{"$f":"Lighting!B969","v":961},{"$f":"Lighting!C969","v":0},{"$f":"Lighting!D969","v":0},{"$f":"Lighting!F969","v":0},{"$f":"Lighting!G969","v":0},{"$f":"Lighting!H969","v":0},{"$f":"Lighting!I969","v":0},{"$f":"Lighting!J969","v":0},{"$f":"Lighting!K969","v":0},{"$f":"Lighting!L969","v":0},{"$f":"Lighting!M969","v":0},{"$f":"Lighting!P969","v":0},{"$f":"Lighting!Q969","v":0},{"$f":"Lighting!S969","v":""},{"$f":"Lighting!T969","v":""},{"$f":"Lighting!U969","v":0},{"$f":"Lighting!V969","v":""},{"$f":"Lighting!W969","v":""},{"$f":"Lighting!Y969","v":""},{"$f":"Lighting!AB969","v":""},{"$f":"Lighting!AC969","v":0},{"$f":"Lighting!AD969","v":0},{"$f":"Lighting!AE969","v":0}]
[0,{"$f":"Lighting!B970","v":962},{"$f":"Lighting!C970","v":0},{"$f":"Lighting!D970","v":0},{"$f":"Lighting!F970","v":0},{"$f":"Lighting!G970","v":0},{"$f":"Lighting!H970","v":0},{"$f":"Lighting!I970","v":0},{"$f":"Lighting!J970","v":0},{"$f":"Lighting!K970","v":0},{"$f":"Lighting!L970","v":0},{"$f":"Lighting!M970","v":0},{"$f":"Lighting!P970","v":0},{"$f":"Lighting!Q970","v":0},{"$f":"Lighting!S970","v":""},{"$f":"Lighting!T970","v":""},{"$f":"Lighting!U970","v":0},{"$f":"Lighting!V970","v":""},{"$f":"Lighting!W970","v":""},{"$f":"Lighting!Y970","v":""},{"$f":"Lighting!AB970","v":""},{"$f":"Lighting!AC970","v":0},{"$f":"Lighting!AD970","v":0},{"$f":"Lighting!AE970","v":0}]
[0,{"$f":"Lighting!B971","v":963},{"$f":"Lighting!C971","v":0},{"$f":"Lighting!D971","v":0},{"$f":"Lighting!F971","v":0},{"$f":"Lighting!G971","v":0},{"$f":"Lighting!H971","v":0},{"$f":"Lighting!I971","v":0},{"$f":"Lighting!J971","v":0},{"$f":"Lighting!K971","v":0},{"$f":"Lighting!L971","v":0},{"$f":"Lighting!M971","v":0},{"$f":"Lighting!P971","v":0},{"$f":"Lighting!Q971","v":0},{"$f":"Lighting!S971","v":""},{"$f":"Lighting!T971","v":""},{"$f":"Lighting!U971","v":0},{"$f":"Lighting!V971","v":""},{"$f":"Lighting!W971","v":""},{"$f":"Lighting!Y971","v":""},{"$f":"Lighting!AB971","v":""},{"$f":"Lighting!AC971","v":0},{"$f":"Lighting!AD971","v":0},{"$f":"Lighting!AE971","v":0}]
[0,{"$f":"Lighting!B972","v":964},{"$f":"Lighting!C972","v":0},{"$f":"Lighting!D972","v":0},{"$f":"Lighting!F972","v":0},{"$f":"Lighting!G972","v":0},{"$f":"Lighting!H972","v":0},{"$f":"Lighting!I972","v":0},{"$f":"Lighting!J972","v":0},{"$f":"Lighting!K972","v":0},{"$f":"Lighting!L972","v":0},{"$f":"Lighting!M972","v":0},{"$f":"Lighting!P972","v":0},{"$f":"Lighting!Q972","v":0},{"$f":"Lighting!S972","v":""},{"$f":"Lighting!T972","v":""},{"$f":"Lighting!U972","v":0},{"$f":"Lighting!V972","v":""},{"$f":"Lighting!W972","v":""},{"$f":"Lighting!Y972","v":""},{"$f":"Lighting!AB972","v":""},{"$f":"Lighting!AC972","v":0},{"$f":"Lighting!AD972","v":0},{"$f":"Lighting!AE972","v":0}]
[0,{"$f":"Lighting!B973","v":965},{"$f":"Lighting!C973","v":0},{"$f":"Lighting!D973","v":0},{"$f":"Lighting!F973","v":0},{"$f":"Lighting!G973","v":0},{"$f":"Lighting!H973","v":0},{"$f":"Lighting!I973","v":0},{"$f":"Lighting!J973","v":0},{"$f":"Lighting!K973","v":0},{"$f":"Lighting!L973","v":0},{"$f":"Lighting!M973","v":0},{"$f":"Lighting!P973","v":0},{"$f":"Lighting!Q973","v":0},{"$f":"Lighting!S973","v":""},{"$f":"Lighting!T973","v":""},{"$f":"Lighting!U973","v":0},{"$f":"Lighting!V973","v":""},{"$f":"Lighting!W973","v":""},{"$f":"Lighting!Y973","v":""},{"$f":"Lighting!AB973","v":""},{"$f":"Lighting!AC973","v":0},{"$f":"Lighting!AD973","v":0},{"$f":"Lighting!AE973","v":0}]
[0,{"$f":"Lighting!B974","v":966},{"$f":"Lighting!C974","v":0},{"$f":"Lighting!D974","v":0},{"$f":"Lighting!F974","v":0},{"$f":"Lighting!G974","v":0},{"$f":"Lighting!H974","v":0},{"$f":"Lighting!I974","v":0},{"$f":"Lighting!J974","v":0},{"$f":"Lighting!K974","v":0},{"$f":"Lighting!L974","v":0},{"$f":"Lighting!M974","v":0},{"$f":"Lighting!P974","v":0},{"$f":"Lighting!Q974","v":0},{"$f":"Lighting!S974","v":""},{"$f":"Lighting!T974","v":""},{"$f":"Lighting!U974","v":0},{"$f":"Lighting!V974","v":""},{"$f":"Lighting!W974","v":""},{"$f":"Lighting!Y974","v":""},{"$f":"Lighting!AB974","v":""},{"$f":"Lighting!AC974","v":0},{"$f":"Lighting!AD974","v":0},{"$f":"Lighting!AE974","v":0}]
[0,{"$f":"Lighting!B975","v":967},{"$f":"Lighting!C975","v":0},{"$f":"Lighting!D975","v":0},{"$f":"Lighting!F975","v":0},{"$f":"Lighting!G975","v":0},{"$f":"Lighting!H975","v":0},{"$f":"Lighting!I975","v":0},{"$f":"Lighting!J975","v":0},{"$f":"Lighting!K975","v":0},{"$f":"Lighting!L975","v":0},{"$f":"Lighting!M975","v":0},{"$f":"Lighting!P975","v":0},{"$f":"Lighting!Q975","v":0},{"$f":"Lighting!S975","v":""},{"$f":"Lighting!T975","v":""},{"$f":"Lighting!U975","v":0},{"$f":"Lighting!V975","v":""},{"$f":"Lighting!W975","v":""},{"$f":"Lighting!Y975","v":""},{"$f":"Lighting!AB975","v":""},{"$f":"Lighting!AC975","v":0},{"$f":"Lighting!AD975","v":0},{"$f":"Lighting!AE975","v":0}]
[0,{"$f":"Lighting!B976","v":968},{"$f":"Lighting!C976","v":0},{"$f":"Lighting!D976","v":0},{"$f":"Lighting!F976","v":0},{"$f":"Lighting!G976","v":0},{"$f":"Lighting!H976","v":0},{"$f":"Lighting!I976","v":0},{"$f":"Lighting!J976","v":0},{"$f":"Lighting!K976","v":0},{"$f":"Lighting!L976","v":0},{"$f":"Lighting!M976","v":0},{"$f":"Lighting!P976","v":0},{"$f":"Lighting!Q976","v":0},{"$f":"Lighting!S976","v":""},{"$f":"Lighting!T976","v":""},{"$f":"Lighting!U976","v":0},{"$f":"Lighting!V976","v":""},{"$f":"Lighting!W976","v":""},{"$f":"Lighting!Y976","v":""},{"$f":"Lighting!AB976","v":""},{"$f":"Lighting!AC976","v":0},{"$f":"Lighting!AD976","v":0},{"$f":"Lighting!AE976","v":0}]
[0,{"$f":"Lighting!B977","v":969},{"$f":"Lighting!C977","v":0},{"$f":"Lighting!D977","v":0},{"$f":"Lighting!F977","v":0},{"$f":"Lighting!G977","v":0},{"$f":"Lighting!H977","v":0},{"$f":"Lighting!I977","v":0},{"$f":"Lighting!J977","v":0},{"$f":"Lighting!K977","v":0},{"$f":"Lighting!L977","v":0},{"$f":"Lighting!M977","v":0},{"$f":"Lighting!P977","v":0},{"$f":"Lighting!Q977","v":0},{"$f":"Lighting!S977","v":""},{"$f":"Lighting!T977","v":""},{"$f":"Lighting!U977","v":0},{"$f":"Lighting!V977","v":""},{"$f":"Lighting!W977","v":""},{"$f":"Lighting!Y977","v":""},{"$f":"Lighting!AB977","v":""},{"$f":"Lighting!AC977","v":0},{"$f":"Lighting!AD977","v":0},{"$f":"Lighting!AE977","v":0}]
[0,{"$f":"Lighting!B978","v":970},{"$f":"Lighting!C978","v":0},{"$f":"Lighting!D978","v":0},{"$f":"Lighting!F978","v":0},{"$f":"Lighting!G978","v":0},{"$f":"Lighting!H978","v":0},{"$f":"Lighting!I978","v":0},{"$f":"Lighting!J978","v":0},{"$f":"Lighting!K978","v":0},{"$f":"Lighting!L978","v":0},{"$f":"Lighting!M978","v":0},{"$f":"Lighting!P978","v":0},{"$f":"Lighting!Q978","v":0},{"$f":"Lighting!S978","v":""},{"$f":"Lighting!T978","v":""},{"$f":"Lighting!U978","v":0},{"$f":"Lighting!V978","v":""},{"$f":"Lighting!W978","v":""},{"$f":"Lighting!Y978","v":""},{"$f":"Lighting!AB978","v":""},{"$f":"Lighting!AC978","v":0},{"$f":"Lighting!AD978","v":0},{"$f":"Lighting!AE978","v":0}]
[0,{"$f":"Lighting!B979","v":971},{"$f":"Lighting!C979","v":0},{"$f":"Lighting!D979","v":0},{"$f":"Lighting!F979","v":0},{"$f":"Lighting!G979","v":0},{"$f":"Lighting!H979","v":0},{"$f":"Lighting!I979","v":0},{"$f":"Lighting!J979","v":0},{"$f":"Lighting!K979","v":0},{"$f":"Lighting!L979","v":0},{"$f":"Lighting!M979","v":0},{"$f":"Lighting!P979","v":0},{"$f":"Lighting!Q979","v":0},{"$f":"Lighting!S979","v":""},{"$f":"Lighting!T979","v":""},{"$f":"Lighting!U979","v":0},{"$f":"Lighting!V979","v":""},{"$f":"Lighting!W979","v":""},{"$f":"Lighting!Y979","v":""},{"$f":"Lighting!AB979","v":""},{"$f":"Lighting!AC979","v":0},{"$f":"Lighting!AD979","v":0},{"$f":"Lighting!AE979","v":0}]
[0,{"$f":"Lighting!B980","v":972},{"$f":"Lighting!C980","v":0},{"$f":"Lighting!D980","v":0},{"$f":"Lighting!F980","v":0},{"$f":"Lighting!G980","v":0},{"$f":"Lighting!H980","v":0},{"$f":"Lighting!I980","v":0},{"$f":"Lighting!J980","v":0},{"$f":"Lighting!K980","v":0},{"$f":"Lighting!L980","v":0},{"$f":"Lighting!M980","v":0},{"$f":"Lighting!P980","v":0},{"$f":"Lighting!Q980","v":0},{"$f":"Lighting!S980","v":""},{"$f":"Lighting!T980","v":""},{"$f":"Lighting!U980","v":0},{"$f":"Lighting!V980","v":""},{"$f":"Lighting!W980","v":""},{"$f":"Lighting!Y980","v":""},{"$f":"Lighting!AB980","v":""},{"$f":"Lighting!AC980","v":0},{"$f":"Lighting!AD980","v":0},{"$f":"Lighting!AE980","v":0}]
[0,{"$f":"Lighting!B981","v":973},{"$f":"Lighting!C981","v":0},{"$f":"Lighting!D981","v":0},{"$f":"Lighting!F981","v":0},{"$f":"Lighting!G981","v":0},{"$f":"Lighting!H981","v":0},{"$f":"Lighting!I981","v":0},{"$f":"Lighting!J981","v":0},{"$f":"Lighting!K981","v":0},{"$f":"Lighting!L981","v":0},{"$f":"Lighting!M981","v":0},{"$f":"Lighting!P981","v":0},{"$f":"Lighting!Q981","v":0},{"$f":"Lighting!S981","v":""},{"$f":"Lighting!T981","v":""},{"$f":"Lighting!U981","v":0},{"$f":"Lighting!V981","v":""},{"$f":"Lighting!W981","v":""},{"$f":"Lighting!Y981","v":""},{"$f":"Lighting!AB981","v":""},{"$f":"Lighting!AC981","v":0},{"$f":"Lighting!AD981","v":0},{"$f":"Lighting!AE981","v":0}]
[0,{"$f":"Lighting!B982","v":974},{"$f":"Lighting!C982","v":0},{"$f":"Lighting!D982","v":0},{"$f":"Lighting!F982","v":0},{"$f":"Lighting!G982","v":0},{"$f":"Lighting!H982","v":0},{"$f":"Lighting!I982","v":0},{"$f":"Lighting!J982","v":0},{"$f":"Lighting!K982","v":0},{"$f":"Lighting!L982","v":0},{"$f":"Lighting!M982","v":0},{"$f":"Lighting!P982","v":0},{"$f":"Lighting!Q982","v":0},{"$f":"Lighting!S982","v":""},{"$f":"Lighting!T982","v":""},{"$f":"Lighting!U982","v":0},{"$f":"Lighting!V982","v":""},{"$f":"Lighting!W982","v":""},{"$f":"Lighting!Y982","v":""},{"$f":"Lighting!AB982","v":""},{"$f":"Lighting!AC982","v":0},{"$f":"Lighting!AD982","v":0},{"$f":"Lighting!AE982","v":0}]
[0,{"$f":"Lighting!B983","v":975},{"$f":"Lighting!C983","v":0},{"$f":"Lighting!D983","v":0},{"$f":"Lighting!F983","v":0},{"$f":"Lighting!G983","v":0},{"$f":"Lighting!H983","v":0},{"$f":"Lighting!I983","v":0},{"$f":"Lighting!J983","v":0},{"$f":"Lighting!K983","v":0},{"$f":"Lighting!L983","v":0},{"$f":"Lighting!M983","v":0},{"$f":"Lighting!P983","v":0},{"$f":"Lighting!Q983","v":0},{"$f":"Lighting!S983","v":""},{"$f":"Lighting!T983","v":""},{"$f":"Lighting!U983","v":0},{"$f":"Lighting!V983","v":""},{"$f":"Lighting!W983","v":""},{"$f":"Lighting!Y983","v":""},{"$f":"Lighting!AB983","v":""},{"$f":"Lighting!AC983","v":0},{"$f":"Lighting!AD983","v":0},{"$f":"Lighting!AE983","v":0}]
[0,{"$f":"Lighting!B984","v":976},{"$f":"Lighting!C984","v":0},{"$f":"Lighting!D984","v":0},{"$f":"Lighting!F984","v":0},{"$f":"Lighting!G984","v":0},{"$f":"Lighting!H984","v":0},{"$f":"Lighting!I984","v":0},{"$f":"Lighting!J984","v":0},{"$f":"Lighting!K984","v":0},{"$f":"Lighting!L984","v":0},{"$f":"Lighting!M984","v":0},{"$f":"Lighting!P984","v":0},{"$f":"Lighting!Q984","v":0},{"$f":"Lighting!S984","v":""},{"$f":"Lighting!T984","v":""},{"$f":"Lighting!U984","v":0},{"$f":"Lighting!V984","v":""},{"$f":"Lighting!W984","v":""},{"$f":"Lighting!Y984","v":""},{"$f":"Lighting!AB984","v":""},{"$f":"Lighting!AC984","v":0},{"$f":"Lighting!AD984","v":0},{"$f":"Lighting!AE984","v":0}]
[0,{"$f":"Lighting!B985","v":977},{"$f":"Lighting!C985","v":0},{"$f":"Lighting!D985","v":0},{"$f":"Lighting!F985","v":0},{"$f":"Lighting!G985","v":0},{"$f":"Lighting!H985","v":0},{"$f":"Lighting!I985","v":0},{"$f":"Lighting!J985","v":0},{"$f":"Lighting!K985","v":0},{"$f":"Lighting!L985","v":0},{"$f":"Lighting!M985","v":0},{"$f":"Lighting!P985","v":0},{"$f":"Lighting!Q985","v":0},{"$f":"Lighting!S985","v":""},{"$f":"Lighting!T985","v":""},{"$f":"Lighting!U985","v":0},{"$f":"Lighting!V985","v":""},{"$f":"Lighting!W985","v":""},{"$f":"Lighting!Y985","v":""},{"$f":"Lighting!AB985","v":""},{"$f":"Lighting!AC985","v":0},{"$f":"Lighting!AD985","v":0},{"$f":"Lighting!AE985","v":0}]
[0,{"$f":"Lighting!B986","v":978},{"$f":"Lighting!C986","v":0},{"$f":"Lighting!D986","v":0},{"$f":"Lighting!F986","v":0},{"$f":"Lighting!G986","v":0},{"$f":"Lighting!H986","v":0},{"$f":"Lighting!I986","v":0},{"$f":"Lighting!J986","v":0},{"$f":"Lighting!K986","v":0},{"$f":"Lighting!L986","v":0},{"$f":"Lighting!M986","v":0},{"$f":"Lighting!P986","v":0},{"$f":"Lighting!Q986","v":0},{"$f":"Lighting!S986","v":""},{"$f":"Lighting!T986","v":""},{"$f":"Lighting!U986","v":0},{"$f":"Lighting!V986","v":""},{"$f":"Lighting!W986","v":""},{"$f":"Lighting!Y986","v":""},{"$f":"Lighting!AB986","v":""},{"$f":"Lighting!AC986","v":0},{"$f":"Lighting!AD986","v":0},{"$f":"Lighting!AE986","v":0}]
[0,{"$f":"Lighting!B987","v":979},{"$f":"Lighting!C987","v":0},{"$f":"Lighting!D987","v":0},{"$f":"Lighting!F987","v":0},{"$f":"Lighting!G987","v":0},{"$f":"Lighting!H987","v":0},{"$f":"Lighting!I987","v":0},{"$f":"Lighting!J987","v":0},{"$f":"Lighting!K987","v":0},{"$f":"Lighting!L987","v":0},{"$f":"Lighting!M987","v":0},{"$f":"Lighting!P987","v":0},{"$f":"Lighting!Q987","v":0},{"$f":"Lighting!S987","v":""},{"$f":"Lighting!T987","v":""},{"$f":"Lighting!U987","v":0},{"$f":"Lighting!V987","v":""},{"$f":"Lighting!W987","v":""},{"$f":"Lighting!Y987","v":""},{"$f":"Lighting!AB987","v":""},{"$f":"Lighting!AC987","v":0},{"$f":"Lighting!AD987","v":0},{"$f":"Lighting!AE987","v":0}]
[0,{"$f":"Lighting!B988","v":980},{"$f":"Lighting!C988","v":0},{"$f":"Lighting!D988","v":0},{"$f":"Lighting!F988","v":0},{"$f":"Lighting!G988","v":0},{"$f":"Lighting!H988","v":0},{"$f":"Lighting!I988","v":0},{"$f":"Lighting!J988","v":0},{"$f":"Lighting!K988","v":0},{"$f":"Lighting!L988","v":0},{"$f":"Lighting!M988","v":0},{"$f":"Lighting!P988","v":0},{"$f":"Lighting!Q988","v":0},{"$f":"Lighting!S988","v":""},{"$f":"Lighting!T988","v":""},{"$f":"Lighting!U988","v":0},{"$f":"Lighting!V988","v":""},{"$f":"Lighting!W988","v":""},{"$f":"Lighting!Y988","v":""},{"$f":"Lighting!AB988","v":""},{"$f":"Lighting!AC988","v":0},{"$f":"Lighting!AD988","v":0},{"$f":"Lighting!AE988","v":0}]
[0,{"$f":"Lighting!B989","v":981},{"$f":"Lighting!C989","v":0},{"$f":"Lighting!D989","v":0},{"$f":"Lighting!F989","v":0},{"$f":"Lighting!G989","v":0},{"$f":"Lighting!H989","v":0},{"$f":"Lighting!I989","v":0},{"$f":"Lighting!J989","v":0},{"$f":"Lighting!K989","v":0},{"$f":"Lighting!L989","v":0},{"$f":"Lighting!M989","v":0},{"$f":"Lighting!P989","v":0},{"$f":"Lighting!Q989","v":0},{"$f":"Lighting!S989","v":""},{"$f":"Lighting!T989","v":""},{"$f":"Lighting!U989","v":0},{"$f":"Lighting!V989","v":""},{"$f":"Lighting!W989","v":""},{"$f":"Lighting!Y989","v":""},{"$f":"Lighting!AB989","v":""},{"$f":"Lighting!AC989","v":0},{"$f":"Lighting!AD989","v":0},{"$f":"Lighting!AE989","v":0}]
[0,{"$f":"Lighting!B990","v":982},{"$f":"Lighting!C990","v":0},{"$f":"Lighting!D990","v":0},{"$f":"Lighting!F990","v":0},{"$f":"Lighting!G990","v":0},{"$f":"Lighting!H990","v":0},{"$f":"Lighting!I990","v":0},{"$f":"Lighting!J990","v":0},{"$f":"Lighting!K990","v":0},{"$f":"Lighting!L990","v":0},{"$f":"Lighting!M990","v":0},{"$f":"Lighting!P990","v":0},{"$f":"Lighting!Q990","v":0},{"$f":"Lighting!S990","v":""},{"$f":"Lighting!T990","v":""},{"$f":"Lighting!U990","v":0},{"$f":"Lighting!V990","v":""},{"$f":"Lighting!W990","v":""},{"$f":"Lighting!Y990","v":""},{"$f":"Lighting!AB990","v":""},{"$f":"Lighting!AC990","v":0},{"$f":"Lighting!AD990","v":0},{"$f":"Lighting!AE990","v":0}]
[0,{"$f":"Lighting!B991","v":983},{"$f":"Lighting!C991","v":0},{"$f":"Lighting!D991","v":0},{"$f":"Lighting!F991","v":0},{"$f":"Lighting!G991","v":0},{"$f":"Lighting!H991","v":0},{"$f":"Lighting!I991","v":0},{"$f":"Lighting!J991","v":0},{"$f":"Lighting!K991","v":0},{"$f":"Lighting!L991","v":0},{"$f":"Lighting!M991","v":0},{"$f":"Lighting!P991","v":0},{"$f":"Lighting!Q991","v":0},{"$f":"Lighting!S991","v":""},{"$f":"Lighting!T991","v":""},{"$f":"Lighting!U991","v":0},{"$f":"Lighting!V991","v":""},{"$f":"Lighting!W991","v":""},{"$f":"Lighting!Y991","v":""},{"$f":"Lighting!AB991","v":""},{"$f":"Lighting!AC991","v":0},{"$f":"Lighting!AD991","v":0},{"$f":"Lighting!AE991","v":0}]
[0,{"$f":"Lighting!B992","v":984},{"$f":"Lighting!C992","v":0},{"$f":"Lighting!D992","v":0},{"$f":"Lighting!F992","v":0},{"$f":"Lighting!G992","v":0},{"$f":"Lighting!H992","v":0},{"$f":"Lighting!I992","v":0},{"$f":"Lighting!J992","v":0},{"$f":"Lighting!K992","v":0},{"$f":"Lighting!L992","v":0},{"$f":"Lighting!M992","v":0},{"$f":"Lighting!P992","v":0},{"$f":"Lighting!Q992","v":0},{"$f":"Lighting!S992","v":""},{"$f":"Lighting!T992","v":""},{"$f":"Lighting!U992","v":0},{"$f":"Lighting!V992","v":""},{"$f":"Lighting!W992","v":""},{"$f":"Lighting!Y992","v":""},{"$f":"Lighting!AB992","v":""},{"$f":"Lighting!AC992","v":0},{"$f":"Lighting!AD992","v":0},{"$f":"Lighting!AE992","v":0}]
[0,{"$f":"Lighting!B993","v":985},{"$f":"Lighting!C993","v":0},{"$f":"Lighting!D993","v":0},{"$f":"Lighting!F993","v":0},{"$f":"Lighting!G993","v":0},{"$f":"Lighting!H993","v":0},{"$f":"Lighting!I993","v":0},{"$f":"Lighting!J993","v":0},{"$f":"Lighting!K993","v":0},{"$f":"Lighting!L993","v":0},{"$f":"Lighting!M993","v":0},{"$f":"Lighting!P993","v":0},{"$f":"Lighting!Q993","v":0},{"$f":"Lighting!S993","v":""},{"$f":"Lighting!T993","v":""},{"$f":"Lighting!U993","v":0},{"$f":"Lighting!V993","v":""},{"$f":"Lighting!W993","v":""},{"$f":"Lighting!Y993","v":""},{"$f":"Lighting!AB993","v":""},{"$f":"Lighting!AC993","v":0},{"$f":"Lighting!AD993","v":0},{"$f":"Lighting!AE993","v":0}]
[0,{"$f":"Lighting!B994","v":986},{"$f":"Lighting!C994","v":0},{"$f":"Lighting!D994","v":0},{"$f":"Lighting!F994","v":0},{"$f":"Lighting!G994","v":0},{"$f":"Lighting!H994","v":0},{"$f":"Lighting!I994","v":0},{"$f":"Lighting!J994","v":0},{"$f":"Lighting!K994","v":0},{"$f":"Lighting!L994","v":0},{"$f":"Lighting!M994","v":0},{"$f":"Lighting!P994","v":0},{"$f":"Lighting!Q994","v":0},{"$f":"Lighting!S994","v":""},{"$f":"Lighting!T994","v":""},{"$f":"Lighting!U994","v":0},{"$f":"Lighting!V994","v":""},{"$f":"Lighting!W994","v":""},{"$f":"Lighting!Y994","v":""},{"$f":"Lighting!AB994","v":""},{"$f":"Lighting!AC994","v":0},{"$f":"Lighting!AD994","v":0},{"$f":"Lighting!AE994","v":0}]
[0,{"$f":"Lighting!B995","v":987},{"$f":"Lighting!C995","v":0},{"$f":"Lighting!D995","v":0},{"$f":"Lighting!F995","v":0},{"$f":"Lighting!G995","v":0},{"$f":"Lighting!H995","v":0},{"$f":"Lighting!I995","v":0},{"$f":"Lighting!J995","v":0},{"$f":"Lighting!K995","v":0},{"$f":"Lighting!L995","v":0},{"$f":"Lighting!M995","v":0},{"$f":"Lighting!P995","v":0},{"$f":"Lighting!Q995","v":0},{"$f":"Lighting!S995","v":""},{"$f":"Lighting!T995","v":""},{"$f":"Lighting!U995","v":0},{"$f":"Lighting!V995","v":""},{"$f":"Lighting!W995","v":""},{"$f":"Lighting!Y995","v":""},{"$f":"Lighting!AB995","v":""},{"$f":"Lighting!AC995","v":0},{"$f":"Lighting!AD995","v":0},{"$f":"Lighting!AE995","v":0}]
[0,{"$f":"Lighting!B996","v":988},{"$f":"Lighting!C996","v":0},{"$f":"Lighting!D996","v":0},{"$f":"Lighting!F996","v":0},{"$f":"Lighting!G996","v":0},{"$f":"Lighting!H996","v":0},{"$f":"Lighting!I996","v":0},{"$f":"Lighting!J996","v":0},{"$f":"Lighting!K996","v":0},{"$f":"Lighting!L996","v":0},{"$f":"Lighting!M996","v":0},{"$f":"Lighting!P996","v":0},{"$f":"Lighting!Q996","v":0},{"$f":"Lighting!S996","v":""},{"$f":"Lighting!T996","v":""},{"$f":"Lighting!U996","v":0},{"$f":"Lighting!V996","v":""},{"$f":"Lighting!W996","v":""},{"$f":"Lighting!Y996","v":""},{"$f":"Lighting!AB996","v":""},{"$f":"Lighting!AC996","v":0},{"$f":"Lighting!AD996","v":0},{"$f":"Lighting!AE996","v":0}]
[0,{"$f":"Lighting!B997","v":989},{"$f":"Lighting!C997","v":0},{"$f":"Lighting!D997","v":0},{"$f":"Lighting!F997","v":0},{"$f":"Lighting!G997","v":0},{"$f":"Lighting!H997","v":0},{"$f":"Lighting!I997","v":0},{"$f":"Lighting!J997","v":0},{"$f":"Lighting!K997","v":0},{"$f":"Lighting!L997","v":0},{"$f":"Lighting!M997","v":0},{"$f":"Lighting!P997","v":0},{"$f":"Lighting!Q997","v":0},{"$f":"Lighting!S997","v":""},{"$f":"Lighting!T997","v":""},{"$f":"Lighting!U997","v":0},{"$f":"Lighting!V997","v":""},{"$f":"Lighting!W997","v":""},{"$f":"Lighting!Y997","v":""},{"$f":"Lighting!AB997","v":""},{"$f":"Lighting!AC997","v":0},{"$f":"Lighting!AD997","v":0},{"$f":"Lighting!AE997","v":0}]
[0,{"$f":"Lighting!B998","v":990},{"$f":"Lighting!C998","v":0},{"$f":"Lighting!D998","v":0},{"$f":"Lighting!F998","v":0},{"$f":"Lighting!G998","v":0},{"$f":"Lighting!H998","v":0},{"$f":"Lighting!I998","v":0},{"$f":"Lighting!J998","v":0},{"$f":"Lighting!K998","v":0},{"$f":"Lighting!L998","v":0},{"$f":"Lighting!M998","v":0},{"$f":"Lighting!P998","v":0},{"$f":"Lighting!Q998","v":0},{"$f":"Lighting!S998","v":""},{"$f":"Lighting!T998","v":""},{"$f":"Lighting!U998","v":0},{"$f":"Lighting!V998","v":""},{"$f":"Lighting!W998","v":""},{"$f":"Lighting!Y998","v":""},{"$f":"Lighting!AB998","v":""},{"$f":"Lighting!AC998","v":0},{"$f":"Lighting!AD998","v":0},{"$f":"Lighting!AE998","v":0}]
[0,{"$f":"Lighting!B999","v":991},{"$f":"Lighting!C999","v":0},{"$f":"Lighting!D999","v":0},{"$f":"Lighting!F999","v":0},{"$f":"Lighting!G999","v":0},{"$f":"Lighting!H999","v":0},{"$f":"Lighting!I999","v":0},{"$f":"Lighting!J999","v":0},{"$f":"Lighting!K999","v":0},{"$f":"Lighting!L999","v":0},{"$f":"Lighting!M999","v":0},{"$f":"Lighting!P999","v":0},{"$f":"Lighting!Q999","v":0},{"$f":"Lighting!S999","v":""},{"$f":"Lighting!T999","v":""},{"$f":"Lighting!U999","v":0},{"$f":"Lighting!V999","v":""},{"$f":"Lighting!W999","v":""},{"$f":"Lighting!Y999","v":""},{"$f":"Lighting!AB999","v":""},{"$f":"Lighting!AC999","v":0},{"$f":"Lighting!AD999","v":0},{"$f":"Lighting!AE999","v":0}]
[0,{"$f":"Lighting!B1000","v":992},{"$f":"Lighting!C1000","v":0},{"$f":"Lighting!D1000","v":0},{"$f":"Lighting!F1000","v":0},{"$f":"Lighting!G1000","v":0},{"$f":"Lighting!H1000","v":0},{"$f":"Lighting!I1000","v":0},{"$f":"Lighting!J1000","v":0},{"$f":"Lighting!K1000","v":0},{"$f":"Lighting!L1000","v":0},{"$f":"Lighting!M1000","v":0},{"$f":"Lighting!P1000","v":0},{"$f":"Lighting!Q1000","v":0},{"$f":"Lighting!S1000","v":""},{"$f":"Lighting!T1000","v":""},{"$f":"Lighting!U1000","v":0},{"$f":"Lighting!V1000","v":""},{"$f":"Lighting!W1000","v":""},{"$f":"Lighting!Y1000","v":""},{"$f":"Lighting!AB1000","v":""},{"$f":"Lighting!AC1000","v":0},{"$f":"Lighting!AD1000","v":0},{"$f":"Lighting!AE1000","v":0}]
[0,{"$f":"Lighting!B1001","v":993},{"$f":"Lighting!C1001","v":0},{"$f":"Lighting!D1001","v":0},{"$f":"Lighting!F1001","v":0},{"$f":"Lighting!G1001","v":0},{"$f":"Lighting!H1001","v":0},{"$f":"Lighting!I1001","v":0},{"$f":"Lighting!J1001","v":0},{"$f":"Lighting!K1001","v":0},{"$f":"Lighting!L1001","v":0},{"$f":"Lighting!M1001","v":0},{"$f":"Lighting!P1001","v":0},{"$f":"Lighting!Q1001","v":0},{"$f":"Lighting!S1001","v":""},{"$f":"Lighting!T1001","v":""},{"$f":"Lighting!U1001","v":0},{"$f":"Lighting!V1001","v":""},{"$f":"Lighting!W1001","v":""},{"$f":"Lighting!Y1001","v":""},{"$f":"Lighting!AB1001","v":""},{"$f":"Lighting!AC1001","v":0},{"$f":"Lighting!AD1001","v":0},{"$f":"Lighting!AE1001","v":0}]
[0,{"$f":"Lighting!B1002","v":994},{"$f":"Lighting!C1002","v":0},{"$f":"Lighting!D1002","v":0},{"$f":"Lighting!F1002","v":0},{"$f":"Lighting!G1002","v":0},{"$f":"Lighting!H1002","v":0},{"$f":"Lighting!I1002","v":0},{"$f":"Lighting!J1002","v":0},{"$f":"Lighting!K1002","v":0},{"$f":"Lighting!L1002","v":0},{"$f":"Lighting!M1002","v":0},{"$f":"Lighting!P1002","v":0},{"$f":"Lighting!Q1002","v":0},{"$f":"Lighting!S1002","v":""},{"$f":"Lighting!T1002","v":""},{"$f":"Lighting!U1002","v":0},{"$f":"Lighting!V1002","v":""},{"$f":"Lighting!W1002","v":""},{"$f":"Lighting!Y1002","v":""},{"$f":"Lighting!AB1002","v":""},{"$f":"Lighting!AC1002","v":0},{"$f":"Lighting!AD1002","v":0},{"$f":"Lighting!AE1002","v":0}]
[0,{"$f":"Lighting!B1003","v":995},{"$f":"Lighting!C1003","v":0},{"$f":"Lighting!D1003","v":0},{"$f":"Lighting!F1003","v":0},{"$f":"Lighting!G1003","v":0},{"$f":"Lighting!H1003","v":0},{"$f":"Lighting!I1003","v":0},{"$f":"Lighting!J1003","v":0},{"$f":"Lighting!K1003","v":0},{"$f":"Lighting!L1003","v":0},{"$f":"Lighting!M1003","v":0},{"$f":"Lighting!P1003","v":0},{"$f":"Lighting!Q1003","v":0},{"$f":"Lighting!S1003","v":""},{"$f":"Lighting!T1003","v":""},{"$f":"Lighting!U1003","v":0},{"$f":"Lighting!V1003","v":""},{"$f":"Lighting!W1003","v":""},{"$f":"Lighting!Y1003","v":""},{"$f":"Lighting!AB1003","v":""},{"$f":"Lighting!AC1003","v":0},{"$f":"Lighting!AD1003","v":0},{"$f":"Lighting!AE1003","v":0}]
[0,{"$f":"Lighting!B1004","v":996},{"$f":"Lighting!C1004","v":0},{"$f":"Lighting!D1004","v":0},{"$f":"Lighting!F1004","v":0},{"$f":"Lighting!G1004","v":0},{"$f":"Lighting!H1004","v":0},{"$f":"Lighting!I1004","v":0},{"$f":"Lighting!J1004","v":0},{"$f":"Lighting!K1004","v":0},{"$f":"Lighting!L1004","v":0},{"$f":"Lighting!M1004","v":0},{"$f":"Lighting!P1004","v":0},{"$f":"Lighting!Q1004","v":0},{"$f":"Lighting!S1004","v":""},{"$f":"Lighting!T1004","v":""},{"$f":"Lighting!U1004","v":0},{"$f":"Lighting!V1004","v":""},{"$f":"Lighting!W1004","v":""},{"$f":"Lighting!Y1004","v":""},{"$f":"Lighting!AB1004","v":""},{"$f":"Lighting!AC1004","v":0},{"$f":"Lighting!AD1004","v":0},{"$f":"Lighting!AE1004","v":0}]
[0,{"$f":"Lighting!B1005","v":997},{"$f":"Lighting!C1005","v":0},{"$f":"Lighting!D1005","v":0},{"$f":"Lighting!F1005","v":0},{"$f":"Lighting!G1005","v":0},{"$f":"Lighting!H1005","v":0},{"$f":"Lighting!I1005","v":0},{"$f":"Lighting!J1005","v":0},{"$f":"Lighting!K1005","v":0},{"$f":"Lighting!L1005","v":0},{"$f":"Lighting!M1005","v":0},{"$f":"Lighting!P1005","v":0},{"$f":"Lighting!Q1005","v":0},{"$f":"Lighting!S1005","v":""},{"$f":"Lighting!T1005","v":""},{"$f":"Lighting!U1005","v":0},{"$f":"Lighting!V1005","v":""},{"$f":"Lighting!W1005","v":""},{"$f":"Lighting!Y1005","v":""},{"$f":"Lighting!AB1005","v":""},{"$f":"Lighting!AC1005","v":0},{"$f":"Lighting!AD1005","v":0},{"$f":"Lighting!AE1005","v":0}]
[0,{"$f":"Lighting!B1006","v":998},{"$f":"Lighting!C1006","v":0},{"$f":"Lighting!D1006","v":0},{"$f":"Lighting!F1006","v":0},{"$f":"Lighting!G1006","v":0},{"$f":"Lighting!H1006","v":0},{"$f":"Lighting!I1006","v":0},{"$f":"Lighting!J1006","v":0},{"$f":"Lighting!K1006","v":0},{"$f":"Lighting!L1006","v":0},{"$f":"Lighting!M1006","v":0},{"$f":"Lighting!P1006","v":0},{"$f":"Lighting!Q1006","v":0},{"$f":"Lighting!S1006","v":""},{"$f":"Lighting!T1006","v":""},{"$f":"Lighting!U1006","v":0},{"$f":"Lighting!V1006","v":""},{"$f":"Lighting!W1006","v":""},{"$f":"Lighting!Y1006","v":""},{"$f":"Lighting!AB1006","v":""},{"$f":"Lighting!AC1006","v":0},{"$f":"Lighting!AD1006","v":0},{"$f":"Lighting!AE1006","v":0}]
[0,{"$f":"Lighting!B1007","v":999},{"$f":"Lighting!C1007","v":0},{"$f":"Lighting!D1007","v":0},{"$f":"Lighting!F1007","v":0},{"$f":"Lighting!G1007","v":0},{"$f":"Lighting!H1007","v":0},{"$f":"Lighting!I1007","v":0},{"$f":"Lighting!J1007","v":0},{"$f":"Lighting!K1007","v":0},{"$f":"Lighting!L1007","v":0},{"$f":"Lighting!M1007","v":0},{"$f":"Lighting!P1007","v":0},{"$f":"Lighting!Q1007","v":0},{"$f":"Lighting!S1007","v":""},{"$f":"Lighting!T1007","v":""},{"$f":"Lighting!U1007","v":0},{"$f":"Lighting!V1007","v":""},{"$f":"Lighting!W1007","v":""},{"$f":"Lighting!Y1007","v":""},{"$f":"Lighting!AB1007","v":""},{"$f":"Lighting!AC1007","v":0},{"$f":"Lighting!AD1007","v":0},{"$f":"Lighting!AE1007","v":0}]
[0,{"$f":"Lighting!B1008","v":1000},{"$f":"Lighting!C1008","v":0},{"$f":"Lighting!D1008","v":0},{"$f":"Lighting!F1008","v":0},{"$f":"Lighting!G1008","v":0},{"$f":"Lighting!H1008","v":0},{"$f":"Lighting!I1008","v":0},{"$f":"Lighting!J1008","v":0},{"$f":"Lighting!K1008","v":0},{"$f":"Lighting!L1008","v":0},{"$f":"Lighting!M1008","v":0},{"$f":"Lighting!P1008","v":0},{"$f":"Lighting!Q1008","v":0},{"$f":"Lighting!S1008","v":""},{"$f":"Lighting!T1008","v":""},{"$f":"Lighting!U1008","v":0},{"$f":"Lighting!V1008","v":""},{"$f":"Lighting!W1008","v":""},{"$f":"Lighting!Y1008","v":""},{"$f":"Lighting!AB1008","v":""},{"$f":"Lighting!AC1008","v":0},{"$f":"Lighting!AD1008","v":0},{"$f":"Lighting!AE1008","v":0}]
[1]
[{"$f":"IF(SUM($A$670:$A$719)>0,1,0)","v":0},"Exterior Lighting"]
[{"$f":"IF(SUM($A$670:$A$719)>0,1,0)","v":0},"Location ",null,null,null,null,"Existing",null,null,null,null,null,null,null,"Proposed",null,null,null,null,null,null,null,"Savings"]
[0,null,"Building\n(from 'Area Identification')","Building Area\n(from 'Area Identification')","Floor #","Area and/or Room/Unit Number","Fixture Type","Ballast  ","Default Watts / Fixture","Actual Watts/Fixture (if different from default)","Fixture Qty.","Control Type","Controls Qty.","Total  Watts","Fixture Type","Ballast  ","Default Watts / Fixture","Actual Watts/Fixture (if different from default)","Fixture Qty.","Control Type","Controls Qty.","Total   Watts","Watts Saved","% Savings"]
[0,"Ex","Building 1 ","Classroom/Lecture/Training","Ground Floor","Classroom 101","Fluorescent, (4) 48\", T12 ES lamp, EB","Magnetic",120,null,2,"Occ. Sensor Ceiling Mount (low volt)",null,240,"4' T8 4-lamp with EB","Electronic",112,"",2,"Occ. Sensor Ceiling Mount (line volt)",null,224,{"$f":"J669-V669","v":-224},{"$f":"IFERROR(1-(V669/J669),0)","v":0}]
[{"$f":"IF(G670=0,0,1)","v":0},{"$f":"Lighting!B1016","v":1},{"$f":"Lighting!C1016","v":0},{"$f":"Lighting!D1016","v":0},{"$f":"Lighting!F1016","v":0},{"$f":"Lighting!G1016","v":0},{"$f":"Lighting!H1016","v":0},{"$f":"Lighting!I1016","v":0},{"$f":"Lighting!J1016","v":0},{"$f":"Lighting!K1016","v":0},{"$f":"Lighting!L1016","v":0},{"$f":"Lighting!M1016","v":0},{"$f":"Lighting!P1016","v":0},{"$f":"Lighting!Q1016","v":0},{"$f":"Lighting!S1016","v":""},{"$f":"Lighting!T1016","v":""},{"$f":"Lighting!U1016","v":0},{"$f":"Lighting!V1016","v":""},{"$f":"Lighting!W1016","v":""},{"$f":"Lighting!Y1016","v":""},{"$f":"Lighting!AB1016","v":""},{"$f":"Lighting!AC1016","v":0},{"$f":"Lighting!AD1016","v":0},{"$f":"Lighting!AE1016","v":0}]
[{"$f":"IF(G671=0,0,1)","v":0},{"$f":"Lighting!B1017","v":2},{"$f":"Lighting!C1017","v":0},{"$f":"Lighting!D1017","v":0},{"$f":"Lighting!F1017","v":0},{"$f":"Lighting!G1017","v":0},{"$f":"Lighting!H1017","v":0},{"$f":"Lighting!I1017","v":0},{"$f":"Lighting!J1017","v":0},{"$f":"Lighting!K1017","v":0},{"$f":"Lighting!L1017","v":0},{"$f":"Lighting!M1017","v":0},{"$f":"Lighting!P1017","v":0},{"$f":"Lighting!Q1017","v":0},{"$f":"Lighting!S1017","v":""},{"$f":"Lighting!T1017","v":""},{"$f":"Lighting!U1017","v":0},{"$f":"Lighting!V1017","v":""},{"$f":"Lighting!W1017","v":""},{"$f":"Lighting!Y1017","v":""},{"$f":"Lighting!AB1017","v":""},{"$f":"Lighting!AC1017","v":0},{"$f":"Lighting!AD1017","v":0},{"$f":"Lighting!AE1017","v":0}]
[0,{"$f":"Lighting!B1018","v":3},{"$f":"Lighting!C1018","v":0},{"$f":"Lighting!D1018","v":0},{"$f":"Lighting!F1018","v":0},{"$f":"Lighting!G1018","v":0},{"$f":"Lighting!H1018","v":0},{"$f":"Lighting!I1018","v":0},{"$f":"Lighting!J1018","v":0},{"$f":"Lighting!K1018","v":0},{"$f":"Lighting!L1018","v":0},{"$f":"Lighting!M1018","v":0},{"$f":"Lighting!P1018","v":0},{"$f":"Lighting!Q1018","v":0},{"$f":"Lighting!S1018","v":""},{"$f":"Lighting!T1018","v":""},{"$f":"Lighting!U1018","v":0},{"$f":"Lighting!V1018","v":""},{"$f":"Lighting!W1018","v":""},{"$f":"Lighting!Y1018","v":""},{"$f":"Lighting!AB1018","v":""},{"$f":"Lighting!AC1018","v":0},{"$f":"Lighting!AD1018","v":0},{"$f":"Lighting!AE1018","v":0}]
[0,{"$f":"Lighting!B1019","v":4},{"$f":"Lighting!C1019","v":0},{"$f":"Lighting!D1019","v":0},{"$f":"Lighting!F1019","v":0},{"$f":"Lighting!G1019","v":0},{"$f":"Lighting!H1019","v":0},{"$f":"Lighting!I1019","v":0},{"$f":"Lighting!J1019","v":0},{"$f":"Lighting!K1019","v":0},{"$f":"Lighting!L1019","v":0},{"$f":"Lighting!M1019","v":0},{"$f":"Lighting!P1019","v":0},{"$f":"Lighting!Q1019","v":0},{"$f":"Lighting!S1019","v":""},{"$f":"Lighting!T1019","v":""},{"$f":"Lighting!U1019","v":0},{"$f":"Lighting!V1019","v":""},{"$f":"Lighting!W1019","v":""},{"$f":"Lighting!Y1019","v":""},{"$f":"Lighting!AB1019","v":""},{"$f":"Lighting!AC1019","v":0},{"$f":"Lighting!AD1019","v":0},{"$f":"Lighting!AE1019","v":0}]
[0,{"$f":"Lighting!B1020","v":5},{"$f":"Lighting!C1020","v":0},{"$f":"Lighting!D1020","v":0},{"$f":"Lighting!F1020","v":0},{"$f":"Lighting!G1020","v":0},{"$f":"Lighting!H1020","v":0},{"$f":"Lighting!I1020","v":0},{"$f":"Lighting!J1020","v":0},{"$f":"Lighting!K1020","v":0},{"$f":"Lighting!L1020","v":0},{"$f":"Lighting!M1020","v":0},{"$f":"Lighting!P1020","v":0},{"$f":"Lighting!Q1020","v":0},{"$f":"Lighting!S1020","v":""},{"$f":"Lighting!T1020","v":""},{"$f":"Lighting!U1020","v":0},{"$f":"Lighting!V1020","v":""},{"$f":"Lighting!W1020","v":""},{"$f":"Lighting!Y1020","v":""},{"$f":"Lighting!AB1020","v":""},{"$f":"Lighting!AC1020","v":0},{"$f":"Lighting!AD1020","v":0},{"$f":"Lighting!AE1020","v":0}]
[0,{"$f":"Lighting!B1021","v":6},{"$f":"Lighting!C1021","v":0},{"$f":"Lighting!D1021","v":0},{"$f":"Lighting!F1021","v":0},{"$f":"Lighting!G1021","v":0},{"$f":"Lighting!H1021","v":0},{"$f":"Lighting!I1021","v":0},{"$f":"Lighting!J1021","v":0},{"$f":"Lighting!K1021","v":0},{"$f":"Lighting!L1021","v":0},{"$f":"Lighting!M1021","v":0},{"$f":"Lighting!P1021","v":0},{"$f":"Lighting!Q1021","v":0},{"$f":"Lighting!S1021","v":""},{"$f":"Lighting!T1021","v":""},{"$f":"Lighting!U1021","v":0},{"$f":"Lighting!V1021","v":""},{"$f":"Lighting!W1021","v":""},{"$f":"Lighting!Y1021","v":""},{"$f":"Lighting!AB1021","v":""},{"$f":"Lighting!AC1021","v":0},{"$f":"Lighting!AD1021","v":0},{"$f":"Lighting!AE1021","v":0}]
[0,{"$f":"Lighting!B1022","v":7},{"$f":"Lighting!C1022","v":0},{"$f":"Lighting!D1022","v":0},{"$f":"Lighting!F1022","v":0},{"$f":"Lighting!G1022","v":0},{"$f":"Lighting!H1022","v":0},{"$f":"Lighting!I1022","v":0},{"$f":"Lighting!J1022","v":0},{"$f":"Lighting!K1022","v":0},{"$f":"Lighting!L1022","v":0},{"$f":"Lighting!M1022","v":0},{"$f":"Lighting!P1022","v":0},{"$f":"Lighting!Q1022","v":0},{"$f":"Lighting!S1022","v":""},{"$f":"Lighting!T1022","v":""},{"$f":"Lighting!U1022","v":0},{"$f":"Lighting!V1022","v":""},{"$f":"Lighting!W1022","v":""},{"$f":"Lighting!Y1022","v":""},{"$f":"Lighting!AB1022","v":""},{"$f":"Lighting!AC1022","v":0},{"$f":"Lighting!AD1022","v":0},{"$f":"Lighting!AE1022","v":0}]
[0,{"$f":"Lighting!B1023","v":8},{"$f":"Lighting!C1023","v":0},{"$f":"Lighting!D1023","v":0},{"$f":"Lighting!F1023","v":0},{"$f":"Lighting!G1023","v":0},{"$f":"Lighting!H1023","v":0},{"$f":"Lighting!I1023","v":0},{"$f":"Lighting!J1023","v":0},{"$f":"Lighting!K1023","v":0},{"$f":"Lighting!L1023","v":0},{"$f":"Lighting!M1023","v":0},{"$f":"Lighting!P1023","v":0},{"$f":"Lighting!Q1023","v":0},{"$f":"Lighting!S1023","v":""},{"$f":"Lighting!T1023","v":""},{"$f":"Lighting!U1023","v":0},{"$f":"Lighting!V1023","v":""},{"$f":"Lighting!W1023","v":""},{"$f":"Lighting!Y1023","v":""},{"$f":"Lighting!AB1023","v":""},{"$f":"Lighting!AC1023","v":0},{"$f":"Lighting!AD1023","v":0},{"$f":"Lighting!AE1023","v":0}]
[0,{"$f":"Lighting!B1024","v":9},{"$f":"Lighting!C1024","v":0},{"$f":"Lighting!D1024","v":0},{"$f":"Lighting!F1024","v":0},{"$f":"Lighting!G1024","v":0},{"$f":"Lighting!H1024","v":0},{"$f":"Lighting!I1024","v":0},{"$f":"Lighting!J1024","v":0},{"$f":"Lighting!K1024","v":0},{"$f":"Lighting!L1024","v":0},{"$f":"Lighting!M1024","v":0},{"$f":"Lighting!P1024","v":0},{"$f":"Lighting!Q1024","v":0},{"$f":"Lighting!S1024","v":""},{"$f":"Lighting!T1024","v":""},{"$f":"Lighting!U1024","v":0},{"$f":"Lighting!V1024","v":""},{"$f":"Lighting!W1024","v":""},{"$f":"Lighting!Y1024","v":""},{"$f":"Lighting!AB1024","v":""},{"$f":"Lighting!AC1024","v":0},{"$f":"Lighting!AD1024","v":0},{"$f":"Lighting!AE1024","v":0}]
[0,{"$f":"Lighting!B1025","v":10},{"$f":"Lighting!C1025","v":0},{"$f":"Lighting!D1025","v":0},{"$f":"Lighting!F1025","v":0},{"$f":"Lighting!G1025","v":0},{"$f":"Lighting!H1025","v":0},{"$f":"Lighting!I1025","v":0},{"$f":"Lighting!J1025","v":0},{"$f":"Lighting!K1025","v":0},{"$f":"Lighting!L1025","v":0},{"$f":"Lighting!M1025","v":0},{"$f":"Lighting!P1025","v":0},{"$f":"Lighting!Q1025","v":0},{"$f":"Lighting!S1025","v":""},{"$f":"Lighting!T1025","v":""},{"$f":"Lighting!U1025","v":0},{"$f":"Lighting!V1025","v":""},{"$f":"Lighting!W1025","v":""},{"$f":"Lighting!Y1025","v":""},{"$f":"Lighting!AB1025","v":""},{"$f":"Lighting!AC1025","v":0},{"$f":"Lighting!AD1025","v":0},{"$f":"Lighting!AE1025","v":0}]
[0,{"$f":"Lighting!B1026","v":11},{"$f":"Lighting!C1026","v":0},{"$f":"Lighting!D1026","v":0},{"$f":"Lighting!F1026","v":0},{"$f":"Lighting!G1026","v":0},{"$f":"Lighting!H1026","v":0},{"$f":"Lighting!I1026","v":0},{"$f":"Lighting!J1026","v":0},{"$f":"Lighting!K1026","v":0},{"$f":"Lighting!L1026","v":0},{"$f":"Lighting!M1026","v":0},{"$f":"Lighting!P1026","v":0},{"$f":"Lighting!Q1026","v":0},{"$f":"Lighting!S1026","v":""},{"$f":"Lighting!T1026","v":""},{"$f":"Lighting!U1026","v":0},{"$f":"Lighting!V1026","v":""},{"$f":"Lighting!W1026","v":""},{"$f":"Lighting!Y1026","v":""},{"$f":"Lighting!AB1026","v":""},{"$f":"Lighting!AC1026","v":0},{"$f":"Lighting!AD1026","v":0},{"$f":"Lighting!AE1026","v":0}]
[0,{"$f":"Lighting!B1027","v":12},{"$f":"Lighting!C1027","v":0},{"$f":"Lighting!D1027","v":0},{"$f":"Lighting!F1027","v":0},{"$f":"Lighting!G1027","v":0},{"$f":"Lighting!H1027","v":0},{"$f":"Lighting!I1027","v":0},{"$f":"Lighting!J1027","v":0},{"$f":"Lighting!K1027","v":0},{"$f":"Lighting!L1027","v":0},{"$f":"Lighting!M1027","v":0},{"$f":"Lighting!P1027","v":0},{"$f":"Lighting!Q1027","v":0},{"$f":"Lighting!S1027","v":""},{"$f":"Lighting!T1027","v":""},{"$f":"Lighting!U1027","v":0},{"$f":"Lighting!V1027","v":""},{"$f":"Lighting!W1027","v":""},{"$f":"Lighting!Y1027","v":""},{"$f":"Lighting!AB1027","v":""},{"$f":"Lighting!AC1027","v":0},{"$f":"Lighting!AD1027","v":0},{"$f":"Lighting!AE1027","v":0}]
[0,{"$f":"Lighting!B1028","v":13},{"$f":"Lighting!C1028","v":0},{"$f":"Lighting!D1028","v":0},{"$f":"Lighting!F1028","v":0},{"$f":"Lighting!G1028","v":0},{"$f":"Lighting!H1028","v":0},{"$f":"Lighting!I1028","v":0},{"$f":"Lighting!J1028","v":0},{"$f":"Lighting!K1028","v":0},{"$f":"Lighting!L1028","v":0},{"$f":"Lighting!M1028","v":0},{"$f":"Lighting!P1028","v":0},{"$f":"Lighting!Q1028","v":0},{"$f":"Lighting!S1028","v":""},{"$f":"Lighting!T1028","v":""},{"$f":"Lighting!U1028","v":0},{"$f":"Lighting!V1028","v":""},{"$f":"Lighting!W1028","v":""},{"$f":"Lighting!Y1028","v":""},{"$f":"Lighting!AB1028","v":""},{"$f":"Lighting!AC1028","v":0},{"$f":"Lighting!AD1028","v":0},{"$f":"Lighting!AE1028","v":0}]
[0,{"$f":"Lighting!B1029","v":14},{"$f":"Lighting!C1029","v":0},{"$f":"Lighting!D1029","v":0},{"$f":"Lighting!F1029","v":0},{"$f":"Lighting!G1029","v":0},{"$f":"Lighting!H1029","v":0},{"$f":"Lighting!I1029","v":0},{"$f":"Lighting!J1029","v":0},{"$f":"Lighting!K1029","v":0},{"$f":"Lighting!L1029","v":0},{"$f":"Lighting!M1029","v":0},{"$f":"Lighting!P1029","v":0},{"$f":"Lighting!Q1029","v":0},{"$f":"Lighting!S1029","v":""},{"$f":"Lighting!T1029","v":""},{"$f":"Lighting!U1029","v":0},{"$f":"Lighting!V1029","v":""},{"$f":"Lighting!W1029","v":""},{"$f":"Lighting!Y1029","v":""},{"$f":"Lighting!AB1029","v":""},{"$f":"Lighting!AC1029","v":0},{"$f":"Lighting!AD1029","v":0},{"$f":"Lighting!AE1029","v":0}]
[0,{"$f":"Lighting!B1030","v":15},{"$f":"Lighting!C1030","v":0},{"$f":"Lighting!D1030","v":0},{"$f":"Lighting!F1030","v":0},{"$f":"Lighting!G1030","v":0},{"$f":"Lighting!H1030","v":0},{"$f":"Lighting!I1030","v":0},{"$f":"Lighting!J1030","v":0},{"$f":"Lighting!K1030","v":0},{"$f":"Lighting!L1030","v":0},{"$f":"Lighting!M1030","v":0},{"$f":"Lighting!P1030","v":0},{"$f":"Lighting!Q1030","v":0},{"$f":"Lighting!S1030","v":""},{"$f":"Lighting!T1030","v":""},{"$f":"Lighting!U1030","v":0},{"$f":"Lighting!V1030","v":""},{"$f":"Lighting!W1030","v":""},{"$f":"Lighting!Y1030","v":""},{"$f":"Lighting!AB1030","v":""},{"$f":"Lighting!AC1030","v":0},{"$f":"Lighting!AD1030","v":0},{"$f":"Lighting!AE1030","v":0}]
[0,{"$f":"Lighting!B1031","v":16},{"$f":"Lighting!C1031","v":0},{"$f":"Lighting!D1031","v":0},{"$f":"Lighting!F1031","v":0},{"$f":"Lighting!G1031","v":0},{"$f":"Lighting!H1031","v":0},{"$f":"Lighting!I1031","v":0},{"$f":"Lighting!J1031","v":0},{"$f":"Lighting!K1031","v":0},{"$f":"Lighting!L1031","v":0},{"$f":"Lighting!M1031","v":0},{"$f":"Lighting!P1031","v":0},{"$f":"Lighting!Q1031","v":0},{"$f":"Lighting!S1031","v":""},{"$f":"Lighting!T1031","v":""},{"$f":"Lighting!U1031","v":0},{"$f":"Lighting!V1031","v":""},{"$f":"Lighting!W1031","v":""},{"$f":"Lighting!Y1031","v":""},{"$f":"Lighting!AB1031","v":""},{"$f":"Lighting!AC1031","v":0},{"$f":"Lighting!AD1031","v":0},{"$f":"Lighting!AE1031","v":0}]
[0,{"$f":"Lighting!B1032","v":17},{"$f":"Lighting!C1032","v":0},{"$f":"Lighting!D1032","v":0},{"$f":"Lighting!F1032","v":0},{"$f":"Lighting!G1032","v":0},{"$f":"Lighting!H1032","v":0},{"$f":"Lighting!I1032","v":0},{"$f":"Lighting!J1032","v":0},{"$f":"Lighting!K1032","v":0},{"$f":"Lighting!L1032","v":0},{"$f":"Lighting!M1032","v":0},{"$f":"Lighting!P1032","v":0},{"$f":"Lighting!Q1032","v":0},{"$f":"Lighting!S1032","v":""},{"$f":"Lighting!T1032","v":""},{"$f":"Lighting!U1032","v":0},{"$f":"Lighting!V1032","v":""},{"$f":"Lighting!W1032","v":""},{"$f":"Lighting!Y1032","v":""},{"$f":"Lighting!AB1032","v":""},{"$f":"Lighting!AC1032","v":0},{"$f":"Lighting!AD1032","v":0},{"$f":"Lighting!AE1032","v":0}]
[0,{"$f":"Lighting!B1033","v":18},{"$f":"Lighting!C1033","v":0},{"$f":"Lighting!D1033","v":0},{"$f":"Lighting!F1033","v":0},{"$f":"Lighting!G1033","v":0},{"$f":"Lighting!H1033","v":0},{"$f":"Lighting!I1033","v":0},{"$f":"Lighting!J1033","v":0},{"$f":"Lighting!K1033","v":0},{"$f":"Lighting!L1033","v":0},{"$f":"Lighting!M1033","v":0},{"$f":"Lighting!P1033","v":0},{"$f":"Lighting!Q1033","v":0},{"$f":"Lighting!S1033","v":""},{"$f":"Lighting!T1033","v":""},{"$f":"Lighting!U1033","v":0},{"$f":"Lighting!V1033","v":""},{"$f":"Lighting!W1033","v":""},{"$f":"Lighting!Y1033","v":""},{"$f":"Lighting!AB1033","v":""},{"$f":"Lighting!AC1033","v":0},{"$f":"Lighting!AD1033","v":0},{"$f":"Lighting!AE1033","v":0}]
[0,{"$f":"Lighting!B1034","v":19},{"$f":"Lighting!C1034","v":0},{"$f":"Lighting!D1034","v":0},{"$f":"Lighting!F1034","v":0},{"$f":"Lighting!G1034","v":0},{"$f":"Lighting!H1034","v":0},{"$f":"Lighting!I1034","v":0},{"$f":"Lighting!J1034","v":0},{"$f":"Lighting!K1034","v":0},{"$f":"Lighting!L1034","v":0},{"$f":"Lighting!M1034","v":0},{"$f":"Lighting!P1034","v":0},{"$f":"Lighting!Q1034","v":0},{"$f":"Lighting!S1034","v":""},{"$f":"Lighting!T1034","v":""},{"$f":"Lighting!U1034","v":0},{"$f":"Lighting!V1034","v":""},{"$f":"Lighting!W1034","v":""},{"$f":"Lighting!Y1034","v":""},{"$f":"Lighting!AB1034","v":""},{"$f":"Lighting!AC1034","v":0},{"$f":"Lighting!AD1034","v":0},{"$f":"Lighting!AE1034","v":0}]
[0,{"$f":"Lighting!B1035","v":20},{"$f":"Lighting!C1035","v":0},{"$f":"Lighting!D1035","v":0},{"$f":"Lighting!F1035","v":0},{"$f":"Lighting!G1035","v":0},{"$f":"Lighting!H1035","v":0},{"$f":"Lighting!I1035","v":0},{"$f":"Lighting!J1035","v":0},{"$f":"Lighting!K1035","v":0},{"$f":"Lighting!L1035","v":0},{"$f":"Lighting!M1035","v":0},{"$f":"Lighting!P1035","v":0},{"$f":"Lighting!Q1035","v":0},{"$f":"Lighting!S1035","v":""},{"$f":"Lighting!T1035","v":""},{"$f":"Lighting!U1035","v":0},{"$f":"Lighting!V1035","v":""},{"$f":"Lighting!W1035","v":""},{"$f":"Lighting!Y1035","v":""},{"$f":"Lighting!AB1035","v":""},{"$f":"Lighting!AC1035","v":0},{"$f":"Lighting!AD1035","v":0},{"$f":"Lighting!AE1035","v":0}]
[0,{"$f":"Lighting!B1036","v":21},{"$f":"Lighting!C1036","v":0},{"$f":"Lighting!D1036","v":0},{"$f":"Lighting!F1036","v":0},{"$f":"Lighting!G1036","v":0},{"$f":"Lighting!H1036","v":0},{"$f":"Lighting!I1036","v":0},{"$f":"Lighting!J1036","v":0},{"$f":"Lighting!K1036","v":0},{"$f":"Lighting!L1036","v":0},{"$f":"Lighting!M1036","v":0},{"$f":"Lighting!P1036","v":0},{"$f":"Lighting!Q1036","v":0},{"$f":"Lighting!S1036","v":""},{"$f":"Lighting!T1036","v":""},{"$f":"Lighting!U1036","v":0},{"$f":"Lighting!V1036","v":""},{"$f":"Lighting!W1036","v":""},{"$f":"Lighting!Y1036","v":""},{"$f":"Lighting!AB1036","v":""},{"$f":"Lighting!AC1036","v":0},{"$f":"Lighting!AD1036","v":0},{"$f":"Lighting!AE1036","v":0}]
[0,{"$f":"Lighting!B1037","v":22},{"$f":"Lighting!C1037","v":0},{"$f":"Lighting!D1037","v":0},{"$f":"Lighting!F1037","v":0},{"$f":"Lighting!G1037","v":0},{"$f":"Lighting!H1037","v":0},{"$f":"Lighting!I1037","v":0},{"$f":"Lighting!J1037","v":0},{"$f":"Lighting!K1037","v":0},{"$f":"Lighting!L1037","v":0},{"$f":"Lighting!M1037","v":0},{"$f":"Lighting!P1037","v":0},{"$f":"Lighting!Q1037","v":0},{"$f":"Lighting!S1037","v":""},{"$f":"Lighting!T1037","v":""},{"$f":"Lighting!U1037","v":0},{"$f":"Lighting!V1037","v":""},{"$f":"Lighting!W1037","v":""},{"$f":"Lighting!Y1037","v":""},{"$f":"Lighting!AB1037","v":""},{"$f":"Lighting!AC1037","v":0},{"$f":"Lighting!AD1037","v":0},{"$f":"Lighting!AE1037","v":0}]
[0,{"$f":"Lighting!B1038","v":23},{"$f":"Lighting!C1038","v":0},{"$f":"Lighting!D1038","v":0},{"$f":"Lighting!F1038","v":0},{"$f":"Lighting!G1038","v":0},{"$f":"Lighting!H1038","v":0},{"$f":"Lighting!I1038","v":0},{"$f":"Lighting!J1038","v":0},{"$f":"Lighting!K1038","v":0},{"$f":"Lighting!L1038","v":0},{"$f":"Lighting!M1038","v":0},{"$f":"Lighting!P1038","v":0},{"$f":"Lighting!Q1038","v":0},{"$f":"Lighting!S1038","v":""},{"$f":"Lighting!T1038","v":""},{"$f":"Lighting!U1038","v":0},{"$f":"Lighting!V1038","v":""},{"$f":"Lighting!W1038","v":""},{"$f":"Lighting!Y1038","v":""},{"$f":"Lighting!AB1038","v":""},{"$f":"Lighting!AC1038","v":0},{"$f":"Lighting!AD1038","v":0},{"$f":"Lighting!AE1038","v":0}]
[0,{"$f":"Lighting!B1039","v":24},{"$f":"Lighting!C1039","v":0},{"$f":"Lighting!D1039","v":0},{"$f":"Lighting!F1039","v":0},{"$f":"Lighting!G1039","v":0},{"$f":"Lighting!H1039","v":0},{"$f":"Lighting!I1039","v":0},{"$f":"Lighting!J1039","v":0},{"$f":"Lighting!K1039","v":0},{"$f":"Lighting!L1039","v":0},{"$f":"Lighting!M1039","v":0},{"$f":"Lighting!P1039","v":0},{"$f":"Lighting!Q1039","v":0},{"$f":"Lighting!S1039","v":""},{"$f":"Lighting!T1039","v":""},{"$f":"Lighting!U1039","v":0},{"$f":"Lighting!V1039","v":""},{"$f":"Lighting!W1039","v":""},{"$f":"Lighting!Y1039","v":""},{"$f":"Lighting!AB1039","v":""},{"$f":"Lighting!AC1039","v":0},{"$f":"Lighting!AD1039","v":0},{"$f":"Lighting!AE1039","v":0}]
[0,{"$f":"Lighting!B1040","v":25},{"$f":"Lighting!C1040","v":0},{"$f":"Lighting!D1040","v":0},{"$f":"Lighting!F1040","v":0},{"$f":"Lighting!G1040","v":0},{"$f":"Lighting!H1040","v":0},{"$f":"Lighting!I1040","v":0},{"$f":"Lighting!J1040","v":0},{"$f":"Lighting!K1040","v":0},{"$f":"Lighting!L1040","v":0},{"$f":"Lighting!M1040","v":0},{"$f":"Lighting!P1040","v":0},{"$f":"Lighting!Q1040","v":0},{"$f":"Lighting!S1040","v":""},{"$f":"Lighting!T1040","v":""},{"$f":"Lighting!U1040","v":0},{"$f":"Lighting!V1040","v":""},{"$f":"Lighting!W1040","v":""},{"$f":"Lighting!Y1040","v":""},{"$f":"Lighting!AB1040","v":""},{"$f":"Lighting!AC1040","v":0},{"$f":"Lighting!AD1040","v":0},{"$f":"Lighting!AE1040","v":0}]
[0,{"$f":"Lighting!B1041","v":26},{"$f":"Lighting!C1041","v":0},{"$f":"Lighting!D1041","v":0},{"$f":"Lighting!F1041","v":0},{"$f":"Lighting!G1041","v":0},{"$f":"Lighting!H1041","v":0},{"$f":"Lighting!I1041","v":0},{"$f":"Lighting!J1041","v":0},{"$f":"Lighting!K1041","v":0},{"$f":"Lighting!L1041","v":0},{"$f":"Lighting!M1041","v":0},{"$f":"Lighting!P1041","v":0},{"$f":"Lighting!Q1041","v":0},{"$f":"Lighting!S1041","v":""},{"$f":"Lighting!T1041","v":""},{"$f":"Lighting!U1041","v":0},{"$f":"Lighting!V1041","v":""},{"$f":"Lighting!W1041","v":""},{"$f":"Lighting!Y1041","v":""},{"$f":"Lighting!AB1041","v":""},{"$f":"Lighting!AC1041","v":0},{"$f":"Lighting!AD1041","v":0},{"$f":"Lighting!AE1041","v":0}]
[0,{"$f":"Lighting!B1042","v":27},{"$f":"Lighting!C1042","v":0},{"$f":"Lighting!D1042","v":0},{"$f":"Lighting!F1042","v":0},{"$f":"Lighting!G1042","v":0},{"$f":"Lighting!H1042","v":0},{"$f":"Lighting!I1042","v":0},{"$f":"Lighting!J1042","v":0},{"$f":"Lighting!K1042","v":0},{"$f":"Lighting!L1042","v":0},{"$f":"Lighting!M1042","v":0},{"$f":"Lighting!P1042","v":0},{"$f":"Lighting!Q1042","v":0},{"$f":"Lighting!S1042","v":""},{"$f":"Lighting!T1042","v":""},{"$f":"Lighting!U1042","v":0},{"$f":"Lighting!V1042","v":""},{"$f":"Lighting!W1042","v":""},{"$f":"Lighting!Y1042","v":""},{"$f":"Lighting!AB1042","v":""},{"$f":"Lighting!AC1042","v":0},{"$f":"Lighting!AD1042","v":0},{"$f":"Lighting!AE1042","v":0}]
[0,{"$f":"Lighting!B1043","v":28},{"$f":"Lighting!C1043","v":0},{"$f":"Lighting!D1043","v":0},{"$f":"Lighting!F1043","v":0},{"$f":"Lighting!G1043","v":0},{"$f":"Lighting!H1043","v":0},{"$f":"Lighting!I1043","v":0},{"$f":"Lighting!J1043","v":0},{"$f":"Lighting!K1043","v":0},{"$f":"Lighting!L1043","v":0},{"$f":"Lighting!M1043","v":0},{"$f":"Lighting!P1043","v":0},{"$f":"Lighting!Q1043","v":0},{"$f":"Lighting!S1043","v":""},{"$f":"Lighting!T1043","v":""},{"$f":"Lighting!U1043","v":0},{"$f":"Lighting!V1043","v":""},{"$f":"Lighting!W1043","v":""},{"$f":"Lighting!Y1043","v":""},{"$f":"Lighting!AB1043","v":""},{"$f":"Lighting!AC1043","v":0},{"$f":"Lighting!AD1043","v":0},{"$f":"Lighting!AE1043","v":0}]
[0,{"$f":"Lighting!B1044","v":29},{"$f":"Lighting!C1044","v":0},{"$f":"Lighting!D1044","v":0},{"$f":"Lighting!F1044","v":0},{"$f":"Lighting!G1044","v":0},{"$f":"Lighting!H1044","v":0},{"$f":"Lighting!I1044","v":0},{"$f":"Lighting!J1044","v":0},{"$f":"Lighting!K1044","v":0},{"$f":"Lighting!L1044","v":0},{"$f":"Lighting!M1044","v":0},{"$f":"Lighting!P1044","v":0},{"$f":"Lighting!Q1044","v":0},{"$f":"Lighting!S1044","v":""},{"$f":"Lighting!T1044","v":""},{"$f":"Lighting!U1044","v":0},{"$f":"Lighting!V1044","v":""},{"$f":"Lighting!W1044","v":""},{"$f":"Lighting!Y1044","v":""},{"$f":"Lighting!AB1044","v":""},{"$f":"Lighting!AC1044","v":0},{"$f":"Lighting!AD1044","v":0},{"$f":"Lighting!AE1044","v":0}]
[0,{"$f":"Lighting!B1045","v":30},{"$f":"Lighting!C1045","v":0},{"$f":"Lighting!D1045","v":0},{"$f":"Lighting!F1045","v":0},{"$f":"Lighting!G1045","v":0},{"$f":"Lighting!H1045","v":0},{"$f":"Lighting!I1045","v":0},{"$f":"Lighting!J1045","v":0},{"$f":"Lighting!K1045","v":0},{"$f":"Lighting!L1045","v":0},{"$f":"Lighting!M1045","v":0},{"$f":"Lighting!P1045","v":0},{"$f":"Lighting!Q1045","v":0},{"$f":"Lighting!S1045","v":""},{"$f":"Lighting!T1045","v":""},{"$f":"Lighting!U1045","v":0},{"$f":"Lighting!V1045","v":""},{"$f":"Lighting!W1045","v":""},{"$f":"Lighting!Y1045","v":""},{"$f":"Lighting!AB1045","v":""},{"$f":"Lighting!AC1045","v":0},{"$f":"Lighting!AD1045","v":0},{"$f":"Lighting!AE1045","v":0}]
[0,{"$f":"Lighting!B1046","v":31},{"$f":"Lighting!C1046","v":0},{"$f":"Lighting!D1046","v":0},{"$f":"Lighting!F1046","v":0},{"$f":"Lighting!G1046","v":0},{"$f":"Lighting!H1046","v":0},{"$f":"Lighting!I1046","v":0},{"$f":"Lighting!J1046","v":0},{"$f":"Lighting!K1046","v":0},{"$f":"Lighting!L1046","v":0},{"$f":"Lighting!M1046","v":0},{"$f":"Lighting!P1046","v":0},{"$f":"Lighting!Q1046","v":0},{"$f":"Lighting!S1046","v":""},{"$f":"Lighting!T1046","v":""},{"$f":"Lighting!U1046","v":0},{"$f":"Lighting!V1046","v":""},{"$f":"Lighting!W1046","v":""},{"$f":"Lighting!Y1046","v":""},{"$f":"Lighting!AB1046","v":""},{"$f":"Lighting!AC1046","v":0},{"$f":"Lighting!AD1046","v":0},{"$f":"Lighting!AE1046","v":0}]
[0,{"$f":"Lighting!B1047","v":32},{"$f":"Lighting!C1047","v":0},{"$f":"Lighting!D1047","v":0},{"$f":"Lighting!F1047","v":0},{"$f":"Lighting!G1047","v":0},{"$f":"Lighting!H1047","v":0},{"$f":"Lighting!I1047","v":0},{"$f":"Lighting!J1047","v":0},{"$f":"Lighting!K1047","v":0},{"$f":"Lighting!L1047","v":0},{"$f":"Lighting!M1047","v":0},{"$f":"Lighting!P1047","v":0},{"$f":"Lighting!Q1047","v":0},{"$f":"Lighting!S1047","v":""},{"$f":"Lighting!T1047","v":""},{"$f":"Lighting!U1047","v":0},{"$f":"Lighting!V1047","v":""},{"$f":"Lighting!W1047","v":""},{"$f":"Lighting!Y1047","v":""},{"$f":"Lighting!AB1047","v":""},{"$f":"Lighting!AC1047","v":0},{"$f":"Lighting!AD1047","v":0},{"$f":"Lighting!AE1047","v":0}]
[0,{"$f":"Lighting!B1048","v":33},{"$f":"Lighting!C1048","v":0},{"$f":"Lighting!D1048","v":0},{"$f":"Lighting!F1048","v":0},{"$f":"Lighting!G1048","v":0},{"$f":"Lighting!H1048","v":0},{"$f":"Lighting!I1048","v":0},{"$f":"Lighting!J1048","v":0},{"$f":"Lighting!K1048","v":0},{"$f":"Lighting!L1048","v":0},{"$f":"Lighting!M1048","v":0},{"$f":"Lighting!P1048","v":0},{"$f":"Lighting!Q1048","v":0},{"$f":"Lighting!S1048","v":""},{"$f":"Lighting!T1048","v":""},{"$f":"Lighting!U1048","v":0},{"$f":"Lighting!V1048","v":""},{"$f":"Lighting!W1048","v":""},{"$f":"Lighting!Y1048","v":""},{"$f":"Lighting!AB1048","v":""},{"$f":"Lighting!AC1048","v":0},{"$f":"Lighting!AD1048","v":0},{"$f":"Lighting!AE1048","v":0}]
[0,{"$f":"Lighting!B1049","v":34},{"$f":"Lighting!C1049","v":0},{"$f":"Lighting!D1049","v":0},{"$f":"Lighting!F1049","v":0},{"$f":"Lighting!G1049","v":0},{"$f":"Lighting!H1049","v":0},{"$f":"Lighting!I1049","v":0},{"$f":"Lighting!J1049","v":0},{"$f":"Lighting!K1049","v":0},{"$f":"Lighting!L1049","v":0},{"$f":"Lighting!M1049","v":0},{"$f":"Lighting!P1049","v":0},{"$f":"Lighting!Q1049","v":0},{"$f":"Lighting!S1049","v":""},{"$f":"Lighting!T1049","v":""},{"$f":"Lighting!U1049","v":0},{"$f":"Lighting!V1049","v":""},{"$f":"Lighting!W1049","v":""},{"$f":"Lighting!Y1049","v":""},{"$f":"Lighting!AB1049","v":""},{"$f":"Lighting!AC1049","v":0},{"$f":"Lighting!AD1049","v":0},{"$f":"Lighting!AE1049","v":0}]
[0,{"$f":"Lighting!B1050","v":35},{"$f":"Lighting!C1050","v":0},{"$f":"Lighting!D1050","v":0},{"$f":"Lighting!F1050","v":0},{"$f":"Lighting!G1050","v":0},{"$f":"Lighting!H1050","v":0},{"$f":"Lighting!I1050","v":0},{"$f":"Lighting!J1050","v":0},{"$f":"Lighting!K1050","v":0},{"$f":"Lighting!L1050","v":0},{"$f":"Lighting!M1050","v":0},{"$f":"Lighting!P1050","v":0},{"$f":"Lighting!Q1050","v":0},{"$f":"Lighting!S1050","v":""},{"$f":"Lighting!T1050","v":""},{"$f":"Lighting!U1050","v":0},{"$f":"Lighting!V1050","v":""},{"$f":"Lighting!W1050","v":""},{"$f":"Lighting!Y1050","v":""},{"$f":"Lighting!AB1050","v":""},{"$f":"Lighting!AC1050","v":0},{"$f":"Lighting!AD1050","v":0},{"$f":"Lighting!AE1050","v":0}]
[0,{"$f":"Lighting!B1051","v":36},{"$f":"Lighting!C1051","v":0},{"$f":"Lighting!D1051","v":0},{"$f":"Lighting!F1051","v":0},{"$f":"Lighting!G1051","v":0},{"$f":"Lighting!H1051","v":0},{"$f":"Lighting!I1051","v":0},{"$f":"Lighting!J1051","v":0},{"$f":"Lighting!K1051","v":0},{"$f":"Lighting!L1051","v":0},{"$f":"Lighting!M1051","v":0},{"$f":"Lighting!P1051","v":0},{"$f":"Lighting!Q1051","v":0},{"$f":"Lighting!S1051","v":""},{"$f":"Lighting!T1051","v":""},{"$f":"Lighting!U1051","v":0},{"$f":"Lighting!V1051","v":""},{"$f":"Lighting!W1051","v":""},{"$f":"Lighting!Y1051","v":""},{"$f":"Lighting!AB1051","v":""},{"$f":"Lighting!AC1051","v":0},{"$f":"Lighting!AD1051","v":0},{"$f":"Lighting!AE1051","v":0}]
[0,{"$f":"Lighting!B1052","v":37},{"$f":"Lighting!C1052","v":0},{"$f":"Lighting!D1052","v":0},{"$f":"Lighting!F1052","v":0},{"$f":"Lighting!G1052","v":0},{"$f":"Lighting!H1052","v":0},{"$f":"Lighting!I1052","v":0},{"$f":"Lighting!J1052","v":0},{"$f":"Lighting!K1052","v":0},{"$f":"Lighting!L1052","v":0},{"$f":"Lighting!M1052","v":0},{"$f":"Lighting!P1052","v":0},{"$f":"Lighting!Q1052","v":0},{"$f":"Lighting!S1052","v":""},{"$f":"Lighting!T1052","v":""},{"$f":"Lighting!U1052","v":0},{"$f":"Lighting!V1052","v":""},{"$f":"Lighting!W1052","v":""},{"$f":"Lighting!Y1052","v":""},{"$f":"Lighting!AB1052","v":""},{"$f":"Lighting!AC1052","v":0},{"$f":"Lighting!AD1052","v":0},{"$f":"Lighting!AE1052","v":0}]
[0,{"$f":"Lighting!B1053","v":38},{"$f":"Lighting!C1053","v":0},{"$f":"Lighting!D1053","v":0},{"$f":"Lighting!F1053","v":0},{"$f":"Lighting!G1053","v":0},{"$f":"Lighting!H1053","v":0},{"$f":"Lighting!I1053","v":0},{"$f":"Lighting!J1053","v":0},{"$f":"Lighting!K1053","v":0},{"$f":"Lighting!L1053","v":0},{"$f":"Lighting!M1053","v":0},{"$f":"Lighting!P1053","v":0},{"$f":"Lighting!Q1053","v":0},{"$f":"Lighting!S1053","v":""},{"$f":"Lighting!T1053","v":""},{"$f":"Lighting!U1053","v":0},{"$f":"Lighting!V1053","v":""},{"$f":"Lighting!W1053","v":""},{"$f":"Lighting!Y1053","v":""},{"$f":"Lighting!AB1053","v":""},{"$f":"Lighting!AC1053","v":0},{"$f":"Lighting!AD1053","v":0},{"$f":"Lighting!AE1053","v":0}]
[0,{"$f":"Lighting!B1054","v":39},{"$f":"Lighting!C1054","v":0},{"$f":"Lighting!D1054","v":0},{"$f":"Lighting!F1054","v":0},{"$f":"Lighting!G1054","v":0},{"$f":"Lighting!H1054","v":0},{"$f":"Lighting!I1054","v":0},{"$f":"Lighting!J1054","v":0},{"$f":"Lighting!K1054","v":0},{"$f":"Lighting!L1054","v":0},{"$f":"Lighting!M1054","v":0},{"$f":"Lighting!P1054","v":0},{"$f":"Lighting!Q1054","v":0},{"$f":"Lighting!S1054","v":""},{"$f":"Lighting!T1054","v":""},{"$f":"Lighting!U1054","v":0},{"$f":"Lighting!V1054","v":""},{"$f":"Lighting!W1054","v":""},{"$f":"Lighting!Y1054","v":""},{"$f":"Lighting!AB1054","v":""},{"$f":"Lighting!AC1054","v":0},{"$f":"Lighting!AD1054","v":0},{"$f":"Lighting!AE1054","v":0}]
[0,{"$f":"Lighting!B1055","v":40},{"$f":"Lighting!C1055","v":0},{"$f":"Lighting!D1055","v":0},{"$f":"Lighting!F1055","v":0},{"$f":"Lighting!G1055","v":0},{"$f":"Lighting!H1055","v":0},{"$f":"Lighting!I1055","v":0},{"$f":"Lighting!J1055","v":0},{"$f":"Lighting!K1055","v":0},{"$f":"Lighting!L1055","v":0},{"$f":"Lighting!M1055","v":0},{"$f":"Lighting!P1055","v":0},{"$f":"Lighting!Q1055","v":0},{"$f":"Lighting!S1055","v":""},{"$f":"Lighting!T1055","v":""},{"$f":"Lighting!U1055","v":0},{"$f":"Lighting!V1055","v":""},{"$f":"Lighting!W1055","v":""},{"$f":"Lighting!Y1055","v":""},{"$f":"Lighting!AB1055","v":""},{"$f":"Lighting!AC1055","v":0},{"$f":"Lighting!AD1055","v":0},{"$f":"Lighting!AE1055","v":0}]
[0,{"$f":"Lighting!B1056","v":41},{"$f":"Lighting!C1056","v":0},{"$f":"Lighting!D1056","v":0},{"$f":"Lighting!F1056","v":0},{"$f":"Lighting!G1056","v":0},{"$f":"Lighting!H1056","v":0},{"$f":"Lighting!I1056","v":0},{"$f":"Lighting!J1056","v":0},{"$f":"Lighting!K1056","v":0},{"$f":"Lighting!L1056","v":0},{"$f":"Lighting!M1056","v":0},{"$f":"Lighting!P1056","v":0},{"$f":"Lighting!Q1056","v":0},{"$f":"Lighting!S1056","v":""},{"$f":"Lighting!T1056","v":""},{"$f":"Lighting!U1056","v":0},{"$f":"Lighting!V1056","v":""},{"$f":"Lighting!W1056","v":""},{"$f":"Lighting!Y1056","v":""},{"$f":"Lighting!AB1056","v":""},{"$f":"Lighting!AC1056","v":0},{"$f":"Lighting!AD1056","v":0},{"$f":"Lighting!AE1056","v":0}]
[0,{"$f":"Lighting!B1057","v":42},{"$f":"Lighting!C1057","v":0},{"$f":"Lighting!D1057","v":0},{"$f":"Lighting!F1057","v":0},{"$f":"Lighting!G1057","v":0},{"$f":"Lighting!H1057","v":0},{"$f":"Lighting!I1057","v":0},{"$f":"Lighting!J1057","v":0},{"$f":"Lighting!K1057","v":0},{"$f":"Lighting!L1057","v":0},{"$f":"Lighting!M1057","v":0},{"$f":"Lighting!P1057","v":0},{"$f":"Lighting!Q1057","v":0},{"$f":"Lighting!S1057","v":""},{"$f":"Lighting!T1057","v":""},{"$f":"Lighting!U1057","v":0},{"$f":"Lighting!V1057","v":""},{"$f":"Lighting!W1057","v":""},{"$f":"Lighting!Y1057","v":""},{"$f":"Lighting!AB1057","v":""},{"$f":"Lighting!AC1057","v":0},{"$f":"Lighting!AD1057","v":0},{"$f":"Lighting!AE1057","v":0}]
[0,{"$f":"Lighting!B1058","v":43},{"$f":"Lighting!C1058","v":0},{"$f":"Lighting!D1058","v":0},{"$f":"Lighting!F1058","v":0},{"$f":"Lighting!G1058","v":0},{"$f":"Lighting!H1058","v":0},{"$f":"Lighting!I1058","v":0},{"$f":"Lighting!J1058","v":0},{"$f":"Lighting!K1058","v":0},{"$f":"Lighting!L1058","v":0},{"$f":"Lighting!M1058","v":0},{"$f":"Lighting!P1058","v":0},{"$f":"Lighting!Q1058","v":0},{"$f":"Lighting!S1058","v":""},{"$f":"Lighting!T1058","v":""},{"$f":"Lighting!U1058","v":0},{"$f":"Lighting!V1058","v":""},{"$f":"Lighting!W1058","v":""},{"$f":"Lighting!Y1058","v":""},{"$f":"Lighting!AB1058","v":""},{"$f":"Lighting!AC1058","v":0},{"$f":"Lighting!AD1058","v":0},{"$f":"Lighting!AE1058","v":0}]
[0,{"$f":"Lighting!B1059","v":44},{"$f":"Lighting!C1059","v":0},{"$f":"Lighting!D1059","v":0},{"$f":"Lighting!F1059","v":0},{"$f":"Lighting!G1059","v":0},{"$f":"Lighting!H1059","v":0},{"$f":"Lighting!I1059","v":0},{"$f":"Lighting!J1059","v":0},{"$f":"Lighting!K1059","v":0},{"$f":"Lighting!L1059","v":0},{"$f":"Lighting!M1059","v":0},{"$f":"Lighting!P1059","v":0},{"$f":"Lighting!Q1059","v":0},{"$f":"Lighting!S1059","v":""},{"$f":"Lighting!T1059","v":""},{"$f":"Lighting!U1059","v":0},{"$f":"Lighting!V1059","v":""},{"$f":"Lighting!W1059","v":""},{"$f":"Lighting!Y1059","v":""},{"$f":"Lighting!AB1059","v":""},{"$f":"Lighting!AC1059","v":0},{"$f":"Lighting!AD1059","v":0},{"$f":"Lighting!AE1059","v":0}]
[0,{"$f":"Lighting!B1060","v":45},{"$f":"Lighting!C1060","v":0},{"$f":"Lighting!D1060","v":0},{"$f":"Lighting!F1060","v":0},{"$f":"Lighting!G1060","v":0},{"$f":"Lighting!H1060","v":0},{"$f":"Lighting!I1060","v":0},{"$f":"Lighting!J1060","v":0},{"$f":"Lighting!K1060","v":0},{"$f":"Lighting!L1060","v":0},{"$f":"Lighting!M1060","v":0},{"$f":"Lighting!P1060","v":0},{"$f":"Lighting!Q1060","v":0},{"$f":"Lighting!S1060","v":""},{"$f":"Lighting!T1060","v":""},{"$f":"Lighting!U1060","v":0},{"$f":"Lighting!V1060","v":""},{"$f":"Lighting!W1060","v":""},{"$f":"Lighting!Y1060","v":""},{"$f":"Lighting!AB1060","v":""},{"$f":"Lighting!AC1060","v":0},{"$f":"Lighting!AD1060","v":0},{"$f":"Lighting!AE1060","v":0}]
[0,{"$f":"Lighting!B1061","v":46},{"$f":"Lighting!C1061","v":0},{"$f":"Lighting!D1061","v":0},{"$f":"Lighting!F1061","v":0},{"$f":"Lighting!G1061","v":0},{"$f":"Lighting!H1061","v":0},{"$f":"Lighting!I1061","v":0},{"$f":"Lighting!J1061","v":0},{"$f":"Lighting!K1061","v":0},{"$f":"Lighting!L1061","v":0},{"$f":"Lighting!M1061","v":0},{"$f":"Lighting!P1061","v":0},{"$f":"Lighting!Q1061","v":0},{"$f":"Lighting!S1061","v":""},{"$f":"Lighting!T1061","v":""},{"$f":"Lighting!U1061","v":0},{"$f":"Lighting!V1061","v":""},{"$f":"Lighting!W1061","v":""},{"$f":"Lighting!Y1061","v":""},{"$f":"Lighting!AB1061","v":""},{"$f":"Lighting!AC1061","v":0},{"$f":"Lighting!AD1061","v":0},{"$f":"Lighting!AE1061","v":0}]
[0,{"$f":"Lighting!B1062","v":47},{"$f":"Lighting!C1062","v":0},{"$f":"Lighting!D1062","v":0},{"$f":"Lighting!F1062","v":0},{"$f":"Lighting!G1062","v":0},{"$f":"Lighting!H1062","v":0},{"$f":"Lighting!I1062","v":0},{"$f":"Lighting!J1062","v":0},{"$f":"Lighting!K1062","v":0},{"$f":"Lighting!L1062","v":0},{"$f":"Lighting!M1062","v":0},{"$f":"Lighting!P1062","v":0},{"$f":"Lighting!Q1062","v":0},{"$f":"Lighting!S1062","v":""},{"$f":"Lighting!T1062","v":""},{"$f":"Lighting!U1062","v":0},{"$f":"Lighting!V1062","v":""},{"$f":"Lighting!W1062","v":""},{"$f":"Lighting!Y1062","v":""},{"$f":"Lighting!AB1062","v":""},{"$f":"Lighting!AC1062","v":0},{"$f":"Lighting!AD1062","v":0},{"$f":"Lighting!AE1062","v":0}]
[0,{"$f":"Lighting!B1063","v":48},{"$f":"Lighting!C1063","v":0},{"$f":"Lighting!D1063","v":0},{"$f":"Lighting!F1063","v":0},{"$f":"Lighting!G1063","v":0},{"$f":"Lighting!H1063","v":0},{"$f":"Lighting!I1063","v":0},{"$f":"Lighting!J1063","v":0},{"$f":"Lighting!K1063","v":0},{"$f":"Lighting!L1063","v":0},{"$f":"Lighting!M1063","v":0},{"$f":"Lighting!P1063","v":0},{"$f":"Lighting!Q1063","v":0},{"$f":"Lighting!S1063","v":""},{"$f":"Lighting!T1063","v":""},{"$f":"Lighting!U1063","v":0},{"$f":"Lighting!V1063","v":""},{"$f":"Lighting!W1063","v":""},{"$f":"Lighting!Y1063","v":""},{"$f":"Lighting!AB1063","v":""},{"$f":"Lighting!AC1063","v":0},{"$f":"Lighting!AD1063","v":0},{"$f":"Lighting!AE1063","v":0}]
[0,{"$f":"Lighting!B1064","v":49},{"$f":"Lighting!C1064","v":0},{"$f":"Lighting!D1064","v":0},{"$f":"Lighting!F1064","v":0},{"$f":"Lighting!G1064","v":0},{"$f":"Lighting!H1064","v":0},{"$f":"Lighting!I1064","v":0},{"$f":"Lighting!J1064","v":0},{"$f":"Lighting!K1064","v":0},{"$f":"Lighting!L1064","v":0},{"$f":"Lighting!M1064","v":0},{"$f":"Lighting!P1064","v":0},{"$f":"Lighting!Q1064","v":0},{"$f":"Lighting!S1064","v":""},{"$f":"Lighting!T1064","v":""},{"$f":"Lighting!U1064","v":0},{"$f":"Lighting!V1064","v":""},{"$f":"Lighting!W1064","v":""},{"$f":"Lighting!Y1064","v":""},{"$f":"Lighting!AB1064","v":""},{"$f":"Lighting!AC1064","v":0},{"$f":"Lighting!AD1064","v":0},{"$f":"Lighting!AE1064","v":0}]
[0,{"$f":"Lighting!B1065","v":50},{"$f":"Lighting!C1065","v":0},{"$f":"Lighting!D1065","v":0},{"$f":"Lighting!F1065","v":0},{"$f":"Lighting!G1065","v":0},{"$f":"Lighting!H1065","v":0},{"$f":"Lighting!I1065","v":0},{"$f":"Lighting!J1065","v":0},{"$f":"Lighting!K1065","v":0},{"$f":"Lighting!L1065","v":0},{"$f":"Lighting!M1065","v":0},{"$f":"Lighting!P1065","v":0},{"$f":"Lighting!Q1065","v":0},{"$f":"Lighting!S1065","v":""},{"$f":"Lighting!T1065","v":""},{"$f":"Lighting!U1065","v":0},{"$f":"Lighting!V1065","v":""},{"$f":"Lighting!W1065","v":""},{"$f":"Lighting!Y1065","v":""},{"$f":"Lighting!AB1065","v":""},{"$f":"Lighting!AC1065","v":0},{"$f":"Lighting!AD1065","v":0},{"$f":"Lighting!AE1065","v":0}]
[1]
[{"$f":"IF(SUM($A$723:$A$735,$A$737:$A$749)>0,1,0)","v":0},null,"Appliances, Office Equipment, Etc."]
[{"$f":"IF(SUM($A$723:$A$735)>0,1,0)","v":0},null,"Common/Commercial Area Appliances","Location of Equipment",null,"Manufacturer",null,"Model No.","Energy Star?","Qty. of Identical Units","Year Manufactured","Capacity\n(ft.3)"]
[{"$f":"IF(D723=0,0,1)","v":0},null,"Refrigerator",{"$f":"'Other Equipment'!D25","v":0},null,{"$f":"'Other Equipment'!F25","v":0},null,{"$f":"'Other Equipment'!H25","v":0},{"$f":"'Other Equipment'!I25","v":""},{"$f":"'Other Equipment'!J25","v":""},{"$f":"'Other Equipment'!K25","v":""},{"$f":"'Other Equipment'!L25","v":""}]
[{"$f":"IF(D724=0,0,1)","v":0},null,"Stove/Range",{"$f":"'Other Equipment'!D26","v":0},null,{"$f":"'Other Equipment'!F26","v":0},null,{"$f":"'Other Equipment'!H26","v":0},"",{"$f":"'Other Equipment'!J26","v":0},{"$f":"'Other Equipment'!K26","v":""},""]
[0,null,"Vending Machine",{"$f":"'Other Equipment'!D27","v":0},null,{"$f":"'Other Equipment'!F27","v":0},null,{"$f":"'Other Equipment'!H27","v":0},"",{"$f":"'Other Equipment'!J27","v":0},{"$f":"'Other Equipment'!K27","v":""},""]
[{"$f":"IF(C726=0,0,1)","v":0},null,{"$f":"'Other Equipment'!B28","v":0},{"$f":"'Other Equipment'!D28","v":0},null,{"$f":"'Other Equipment'!F28","v":0},null,{"$f":"'Other Equipment'!H28","v":0},{"$f":"'Other Equipment'!I28","v":0},{"$f":"'Other Equipment'!J28","v":0},{"$f":"'Other Equipment'!K28","v":0},{"$f":"'Other Equipment'!L28","v":0}]
[{"$f":"IF(C727=0,0,1)","v":0},null,{"$f":"'Other Equipment'!B29","v":0},{"$f":"'Other Equipment'!D29","v":0},null,{"$f":"'Other Equipment'!F29","v":0},null,{"$f":"'Other Equipment'!H29","v":0},{"$f":"'Other Equipment'!I29","v":0},{"$f":"'Other Equipment'!J29","v":0},{"$f":"'Other Equipment'!K29","v":0},{"$f":"'Other Equipment'!L29","v":0}]
[0,null,{"$f":"'Other Equipment'!B30","v":0},{"$f":"'Other Equipment'!D30","v":0},null,{"$f":"'Other Equipment'!F30","v":0},null,{"$f":"'Other Equipment'!H30","v":0},{"$f":"'Other Equipment'!I30","v":0},{"$f":"'Other Equipment'!J30","v":0},{"$f":"'Other Equipment'!K30","v":0},{"$f":"'Other Equipment'!L30","v":0}]
[0,null,{"$f":"'Other Equipment'!B31","v":0},{"$f":"'Other Equipment'!D31","v":0},null,{"$f":"'Other Equipment'!F31","v":0},null,{"$f":"'Other Equipment'!H31","v":0},{"$f":"'Other Equipment'!I31","v":0},{"$f":"'Other Equipment'!J31","v":0},{"$f":"'Other Equipment'!K31","v":0},{"$f":"'Other Equipment'!L31","v":0}]
[0,null,{"$f":"'Other Equipment'!B32","v":0},{"$f":"'Other Equipment'!D32","v":0},null,{"$f":"'Other Equipment'!F32","v":0},null,{"$f":"'Other Equipment'!H32","v":0},{"$f":"'Other Equipment'!I32","v":0},{"$f":"'Other Equipment'!J32","v":0},{"$f":"'Other Equipment'!K32","v":0},{"$f":"'Other Equipment'!L32","v":0}]
[0,null,{"$f":"'Other Equipment'!B33","v":0},{"$f":"'Other Equipment'!D33","v":0},null,{"$f":"'Other Equipment'!F33","v":0},null,{"$f":"'Other Equipment'!H33","v":0},{"$f":"'Other Equipment'!I33","v":0},{"$f":"'Other Equipment'!J33","v":0},{"$f":"'Other Equipment'!K33","v":0},{"$f":"'Other Equipment'!L33","v":0}]
[0,null,{"$f":"'Other Equipment'!B34","v":0},{"$f":"'Other Equipment'!D34","v":0},null,{"$f":"'Other Equipment'!F34","v":0},null,{"$f":"'Other Equipment'!H34","v":0},{"$f":"'Other Equipment'!I34","v":0},{"$f":"'Other Equipment'!J34","v":0},{"$f":"'Other Equipment'!K34","v":0},{"$f":"'Other Equipment'!L34","v":0}]
[0,null,{"$f":"'Other Equipment'!B35","v":0},{"$f":"'Other Equipment'!D35","v":0},null,{"$f":"'Other Equipment'!F35","v":0},null,{"$f":"'Other Equipment'!H35","v":0},{"$f":"'Other Equipment'!I35","v":0},{"$f":"'Other Equipment'!J35","v":0},{"$f":"'Other Equipment'!K35","v":0},{"$f":"'Other Equipment'!L35","v":0}]
[0,null,{"$f":"'Other Equipment'!B36","v":0},{"$f":"'Other Equipment'!D36","v":0},null,{"$f":"'Other Equipment'!F36","v":0},null,{"$f":"'Other Equipment'!H36","v":0},{"$f":"'Other Equipment'!I36","v":0},{"$f":"'Other Equipment'!J36","v":0},{"$f":"'Other Equipment'!K36","v":0},{"$f":"'Other Equipment'!L36","v":0}]
[0,null,{"$f":"'Other Equipment'!B37","v":0},{"$f":"'Other Equipment'!D37","v":0},null,{"$f":"'Other Equipment'!F37","v":0},null,{"$f":"'Other Equipment'!H37","v":0},{"$f":"'Other Equipment'!I37","v":""},{"$f":"'Other Equipment'!J37","v":""},{"$f":"'Other Equipment'!K37","v":""},{"$f":"'Other Equipment'!L37","v":""}]
[{"$f":"IF(SUM($A$737:$A$749)>0,1,0)","v":0},null,"Tenant/Unit/Apartment Appliances","List Apartment Numbers",null,"Manufacturer",null,"Model No.","Energy Star?","Qty. of Identical Units","Year Manufactured","Capacity\n(ft.3)"]
[{"$f":"IF(D737=0,0,1)","v":0},null,"Refrigerators",{"$f":"'Other Equipment'!D39","v":0},null,{"$f":"'Other Equipment'!F39","v":0},null,{"$f":"'Other Equipment'!H39","v":0},{"$f":"'Other Equipment'!I39","v":0},{"$f":"'Other Equipment'!J39","v":0},{"$f":"'Other Equipment'!K39","v":0},{"$f":"'Other Equipment'!L39","v":0}]
[{"$f":"IF(D738=0,0,1)","v":0},null,null,{"$f":"'Other Equipment'!D40","v":0},null,{"$f":"'Other Equipment'!F40","v":0},null,{"$f":"'Other Equipment'!H40","v":0},{"$f":"'Other Equipment'!I40","v":0},{"$f":"'Other Equipment'!J40","v":0},{"$f":"'Other Equipment'!K40","v":0},{"$f":"'Other Equipment'!L40","v":0}]
[0,null,null,{"$f":"'Other Equipment'!D41","v":0},null,{"$f":"'Other Equipment'!F41","v":0},null,{"$f":"'Other Equipment'!H41","v":0},{"$f":"'Other Equipment'!I41","v":0},{"$f":"'Other Equipment'!J41","v":0},{"$f":"'Other Equipment'!K41","v":0},{"$f":"'Other Equipment'!L41","v":0}]
[0,null,null,{"$f":"'Other Equipment'!D42","v":0},null,{"$f":"'Other Equipment'!F42","v":0},null,{"$f":"'Other Equipment'!H42","v":0},{"$f":"'Other Equipment'!I42","v":0},{"$f":"'Other Equipment'!J42","v":0},{"$f":"'Other Equipment'!K42","v":0},{"$f":"'Other Equipment'!L42","v":0}]
[0,null,null,{"$f":"'Other Equipment'!D43","v":0},null,{"$f":"'Other Equipment'!F43","v":0},null,{"$f":"'Other Equipment'!H43","v":0},{"$f":"'Other Equipment'!I43","v":0},{"$f":"'Other Equipment'!J43","v":0},{"$f":"'Other Equipment'!K43","v":0},{"$f":"'Other Equipment'!L43","v":0}]
[0,null,null,{"$f":"'Other Equipment'!D44","v":0},null,{"$f":"'Other Equipment'!F44","v":0},null,{"$f":"'Other Equipment'!H44","v":0},{"$f":"'Other Equipment'!I44","v":0},{"$f":"'Other Equipment'!J44","v":0},{"$f":"'Other Equipment'!K44","v":0},{"$f":"'Other Equipment'!L44","v":0}]
[0,null,"Dishwashers",{"$f":"'Other Equipment'!D45","v":0},null,{"$f":"'Other Equipment'!F45","v":0},null,{"$f":"'Other Equipment'!H45","v":0},{"$f":"'Other Equipment'!I45","v":""},{"$f":"'Other Equipment'!J45","v":""},{"$f":"'Other Equipment'!K45","v":""},""]
[0,null,"Stove/Range",{"$f":"'Other Equipment'!D46","v":0},null,{"$f":"'Other Equipment'!F46","v":0},null,{"$f":"'Other Equipment'!H46","v":0},"",{"$f":"'Other Equipment'!J46","v":""},{"$f":"'Other Equipment'!K46","v":""},""]
[{"$f":"IF(C745=0,0,1)","v":0},null,{"$f":"'Other Equipment'!B47","v":0},{"$f":"'Other Equipment'!D47","v":0},null,{"$f":"'Other Equipment'!F47","v":0},null,{"$f":"'Other Equipment'!H47","v":0},{"$f":"'Other Equipment'!I47","v":""},{"$f":"'Other Equipment'!J47","v":""},{"$f":"'Other Equipment'!K47","v":""},{"$f":"'Other Equipment'!L47","v":""}]
[{"$f":"IF(C746=0,0,1)","v":0},null,{"$f":"'Other Equipment'!B48","v":0},{"$f":"'Other Equipment'!D48","v":0},null,{"$f":"'Other Equipment'!F48","v":0},null,{"$f":"'Other Equipment'!H48","v":0},{"$f":"'Other Equipment'!I48","v":0},{"$f":"'Other Equipment'!J48","v":0},{"$f":"'Other Equipment'!K48","v":0},{"$f":"'Other Equipment'!L48","v":0}]
[0,null,{"$f":"'Other Equipment'!B49","v":0},{"$f":"'Other Equipment'!D49","v":0},null,{"$f":"'Other Equipment'!F49","v":0},null,{"$f":"'Other Equipment'!H49","v":0},{"$f":"'Other Equipment'!I49","v":0},{"$f":"'Other Equipment'!J49","v":0},{"$f":"'Other Equipment'!K49","v":0},{"$f":"'Other Equipment'!L49","v":0}]
[0,null,{"$f":"'Other Equipment'!B50","v":0},{"$f":"'Other Equipment'!D50","v":0},null,{"$f":"'Other Equipment'!F50","v":0},null,{"$f":"'Other Equipment'!H50","v":0},{"$f":"'Other Equipment'!I50","v":""},{"$f":"'Other Equipment'!J50","v":""},{"$f":"'Other Equipment'!K50","v":""},{"$f":"'Other Equipment'!L50","v":""}]
[0,null,{"$f":"'Other Equipment'!B51","v":0},{"$f":"'Other Equipment'!D51","v":0},null,{"$f":"'Other Equipment'!F51","v":0},null,{"$f":"'Other Equipment'!H51","v":0},{"$f":"'Other Equipment'!I51","v":""},{"$f":"'Other Equipment'!J51","v":""},{"$f":"'Other Equipment'!K51","v":""},{"$f":"'Other Equipment'!L51","v":""}]
[1]
[{"$f":"IF(SUM($A$753:$A$758,$A$760:$A$765)>0,1,0)","v":0},null,"Laundry Equipment"]
[{"$f":"IF(SUM($A$753:$A$758)>0,1,0)","v":0},null,"Common/Commercial Area Laundry","Manufacturer",null,"Model No.","Energy Star?","Qty. of Identical Units"]
[{"$f":"IF(D753=0,0,1)","v":0},null,"Washer (Type 1)",{"$f":"'Other Equipment'!D55","v":0},null,{"$f":"'Other Equipment'!F55","v":0},{"$f":"'Other Equipment'!G55","v":0},{"$f":"'Other Equipment'!H55","v":0}]
[{"$f":"IF(D754=0,0,1)","v":0},null,"Washer (Type 2)",{"$f":"'Other Equipment'!D56","v":0},null,{"$f":"'Other Equipment'!F56","v":0},{"$f":"'Other Equipment'!G56","v":0},{"$f":"'Other Equipment'!H56","v":0}]
[0,null,"Washer (Type 3)",{"$f":"'Other Equipment'!D57","v":0},null,{"$f":"'Other Equipment'!F57","v":0},{"$f":"'Other Equipment'!G57","v":0},{"$f":"'Other Equipment'!H57","v":0}]
[0,null,"Dryer (Type 1)",{"$f":"'Other Equipment'!D58","v":0},null,{"$f":"'Other Equipment'!F58","v":0},"",{"$f":"'Other Equipment'!H58","v":0}]
[0,null,"Dryer (Type 2)",{"$f":"'Other Equipment'!D59","v":0},null,{"$f":"'Other Equipment'!F59","v":0},"",{"$f":"'Other Equipment'!H59","v":""}]
[0,null,"Dryer (Type 3)",{"$f":"'Other Equipment'!D60","v":0},null,{"$f":"'Other Equipment'!F60","v":""},"",{"$f":"'Other Equipment'!H60","v":""}]
[{"$f":"IF(SUM($A$760:$A$765)>0,1,0)","v":0},null,"Tenant/Unit/Apartment Laundry","Manufacturer",null,"Model No.","Energy Star?","Qty. of Identical Units"]
[{"$f":"IF(D760=0,0,1)","v":0},null,"Washer (Type 1)",{"$f":"'Other Equipment'!D62","v":0},null,{"$f":"'Other Equipment'!F62","v":0},{"$f":"'Other Equipment'!G62","v":""},{"$f":"'Other Equipment'!H62","v":0}]
[{"$f":"IF(D761=0,0,1)","v":0},null,"Washer (Type 2)",{"$f":"'Other Equipment'!D63","v":0},null,{"$f":"'Other Equipment'!F63","v":0},{"$f":"'Other Equipment'!G63","v":""},{"$f":"'Other Equipment'!H63","v":0}]
[0,null,"Washer (Type 3)",{"$f":"'Other Equipment'!D64","v":0},null,{"$f":"'Other Equipment'!F64","v":0},{"$f":"'Other Equipment'!G64","v":0},{"$f":"'Other Equipment'!H64","v":0}]
[0,null,"Dryer (Type 1)",{"$f":"'Other Equipment'!D65","v":0},null,{"$f":"'Other Equipment'!F65","v":0},null,{"$f":"'Other Equipment'!H65","v":0}]
[0,null,"Dryer (Type 2)",{"$f":"'Other Equipment'!D66","v":0},null,{"$f":"'Other Equipment'!F66","v":0},null,{"$f":"'Other Equipment'!H66","v":0}]
[0,null,"Dryer (Type 3)",{"$f":"'Other Equipment'!D67","v":0},null,{"$f":"'Other Equipment'!F67","v":0},null,{"$f":"'Other Equipment'!H67","v":0}]
[1]
[{"$f":"IF(SUM($A$769:$A$778)>0,1,0)","v":0},null,"Other Plug Loads"]
[{"$f":"IF(SUM($A$769:$A$778)>0,1,0)","v":0},null,"Name ","System Details/Additional Notes"]
[{"$f":"IF(C769=0,0,1)","v":0},null,{"$f":"'Other Equipment'!B71","v":0},{"$f":"'Other Equipment'!D71:P71","v":0}]
[{"$f":"IF(C770=0,0,1)","v":0},null,{"$f":"'Other Equipment'!B72","v":0},{"$f":"'Other Equipment'!D72:P72","v":0}]
[0,null,{"$f":"'Other Equipment'!B73","v":0},{"$f":"'Other Equipment'!D73:P73","v":0}]
[0,null,{"$f":"'Other Equipment'!B74","v":0},{"$f":"'Other Equipment'!D74:P74","v":0}]
[0,null,{"$f":"'Other Equipment'!B75","v":0},{"$f":"'Other Equipment'!D75:P75","v":0}]
[0,null,{"$f":"'Other Equipment'!B76","v":0},{"$f":"'Other Equipment'!D76:P76","v":0}]
[0,null,{"$f":"'Other Equipment'!B77","v":0},{"$f":"'Other Equipment'!D77:P77","v":0}]
[0,null,{"$f":"'Other Equipment'!B78","v":0},{"$f":"'Other Equipment'!D78:P78","v":0}]
[0,null,{"$f":"'Other Equipment'!B79","v":0},{"$f":"'Other Equipment'!D79:P79","v":0}]
[0,null,{"$f":"'Other Equipment'!B80","v":0},{"$f":"'Other Equipment'!D80:P80","v":0}]

{"sheet":"Support","index":44,"n_rows":48,"n_cols":8,"rows_kept":48,"cut":false,"hidden":true,"merged":[]}
["Sheet Name","Lock","Permissions Level","Hide","SuperHide",null,"Level","Permissions"]
["Introduction & Instructions","Y",1,"N","N",null,1,"No Formatting Permissions"]
["Required Appendices","Y",1,"N","N",null,2,"Row/Column/Cell Formatting/Resizing Allowed"]
["Utility Info","Y",2,"N","N",null,3,"All Permissions Allowed"]
["Electric Totals","Y",2,"N","N"]
["Apt-Elec","Y",2,"Y","N"]
["Gas Totals","Y",2,"Y","N"]
["Apt-Gas","Y",2,"Y","N"]
["Oil","Y",2,"Y","N"]
["Propane","Y",2,"Y","N"]
["Steam","Y",2,"Y","N"]
["Chilled Water","Y",2,"Y","N"]
["Hot Water","Y",2,"Y","N"]
["Other","Y",2,"Y","N"]
["Utility Use Summary","Y",1,"N","N"]
["UDAT Support","Y",1,"Y","Y"]
["General Project Information","Y",2,"N","N"]
["Area Identification","Y",2,"N","N"]
["Area ID Support","Y",1,"Y","Y"]
["Building Types","Y",1,"Y","Y"]
["Occupancy","Y",2,"N","N"]
["Envelope","Y",2,"N","N"]
["Air-sealing","Y",2,"N","N"]
["SG - Component","Y",1,"Y","Y"]
["Mechanical","Y",2,"N","N"]
["Lighting","Y",2,"N","N"]
["Lighting Data","Y",1,"Y","Y"]
["Lighting Sample Size Calculator","Y",2,"N","N"]
["Other Equipment","Y",2,"N","N"]
["Modeling Approach","Y",2,"N","N"]
["Measure Descriptions","Y",2,"N","N"]
["Measure Simulation","Y",2,"N","N"]
["Results from Trace","Y",2,"Y","N"]
["Results from eQUEST","Y",2,"Y","N"]
["Implementation & Financing","Y",2,"N","N"]
["P4Pindices","Y",1,"Y","Y"]
["Project Summary & Incentives","Y",1,"N","N"]
["CBECS Statistics","Y",1,"N","N"]
["Reference","Y",1,"Y","Y"]
["CBECS Buildings","Y",1,"Y","Y"]
["Partner Internal QC","Y",2,"N","N"]
["QC Summary","Y",1,"Y","Y"]
["QC Measure Savings Review","Y",1,"Y","Y"]
["Report Generation","Y",1,"Y","Y"]
["Appendix B Tables","Y",2,"N","N"]
["Support","Y",1,"Y","Y"]
[]
["Password:","trcenergy"]