{"text_format":"1","workbook":"xlsx","n_sheets":5,"sheets":["Worksheet","Measure Code","Other Support","Export","Version Log"],"not_rendered":{"charts":0,"images":2,"macros":1,"external_links":11,"defined_names":657,"comments":0,"pivot_tables":0},"unopened":[],"bounds":{"document_bytes":16777216,"sheet_cells":100000,"rows_first":2000,"rows_last":500,"rows_between":2000,"halvings":0,"cell_chars":16384,"cell_head_chars":4096},"cells_cut":0,"cells_raw":0,"read":"whole","date_system":"1900"}

{"sheet":"Worksheet","index":0,"n_rows":523,"n_cols":43,"rows_kept":523,"cut":false,"hidden":false,"merged":[[19,17,19,21],[20,17,21,21],[20,27,22,27],[20,4,22,4],[17,0,17,3],[20,22,22,22],[20,9,21,10],[20,11,20,14],[20,5,21,6],[21,14,22,14],[21,12,22,12],[21,11,22,11],[20,15,21,16],[20,7,22,7],[20,8,22,8],[21,13,22,13],[20,28,22,28],[20,29,22,29],[20,23,22,23],[20,24,22,24],[20,25,22,25],[20,26,22,26],[15,0,15,3],[20,0,22,0],[20,1,22,1],[20,2,22,2],[20,3,22,3],[4,31,4,34],[20,30,22,30],[20,31,22,31],[20,32,22,32],[20,33,22,33],[20,34,22,34],[5,31,13,34],[2,16,2,17],[3,1,3,5],[4,1,4,5],[5,1,5,2],[8,1,8,5],[20,41,21,42],[20,35,22,35],[20,36,22,36],[4,35,4,38],[5,35,13,38],[20,37,22,37],[20,38,22,38],[20,39,22,39],[20,40,22,40]]}
["FY20","Lighting Controls "]
[]
["Customer Information (NOTE: Name and Address fields must be completed at a minimum in order for any measures to be evaluated for eligibility)"]
["Company Name"]
["Facility Address",null,null,null,null,null,null,null,null,null,null,null,null,null,null,null,null,null,null,null,null,null,null,null,null,null,null,null,null,null,null,"Pre-Inspection Notes",null,null,null,"Post-Inspection Notes"]
["Application Number",null,null,"(OFFICE USE ONLY)"]
[]
["Contractor/Vendor Information"]
["Company Name"]
["Enhanced Incentive Eligibility"]
[false,false,false]
[false,false]
[]
["(NOTE: The following building and HVAC fields must be completed in order for any measures to be evaluated for eligibility)"]
["Building Type ",null,null,null,null,"Building Size"]
[]
["HVAC Type"]
[]
[]
["NOTE: For proper functionality of this workbook, each line item (i.e. row) must be completed from left-to-right, beginning with the \"Measure Code\" input.",null,null,null,null,null,null,null,null,null,null,null,null,null,null,null,null,"Totals",null,null,null,null,{"$f":"SUM(W24:W523)","v":0},{"$f":"SUM(X24:X523)","v":0},null,null,null,null,null,{"$f":"SUM(AD24:AD523)","v":0},0,0,0,0,0,0,0,0,0,0,0]
["Measure Code\n\n(From Application)","New\nor\nReplaced","Device","Type of Control\n\n(Wired or Wireless)","Location\n\n(Building or Room Name)","# of Sensors",null,"Sensor Manufacturer","Sensor Model Number","# of Fixtures Controlled Per Sensor",null,"Controlled Fixture Information",null,null,null,"Total Wattage Controlled Per Sensor",null,"Incentive\n\n(DNQ - Does Not Qualify)",null,null,null,null,"Total Committed Incentives","Total Installed Incentives","Total Committed Watts Controlled","Total Installed Watts Controlled","Energy Savings Factor","Coincidence Factor","EFLH","kW Savings per Unit","kWh Savings per Unit","Peak kW Savings\nCommitted","Peak kW Savings\nInstalled","Annual Energy Savings\nCommitted\n(kWh)","Annual Energy Savings\nInstalled\n(kWh)","Lifetime Energy Savings\nCommitted\n(kWh)","Lifetime Energy Savings Installed (kWh)","Annual Fuel Savings\nCommitted\n(MMBtu)","Annual Fuel Savings\nInstalled\n(MMBtu)","Lifetime Fuel Savings\nCommitted\n(MMBtu)","Lifetime Fuel Savings Installed\n(MMBtu)","Incentive Eligibility Check"]
[null,null,null,null,null,null,null,null,null,null,null,"Controlled Fixture Manufacturer Name","Controlled Fixture Model Number","Dimming LED?","Controlled Fixture Wattage\n(of an individual fixture)"]
[null,null,null,null,null,"Proposed","Installed",null,null,"Proposed","Installed",null,null,null,null,"Proposed","Installed","Proposed","Installed",null,"Enhanced Incentive (Proposed)","Enhanced Incentive (Installed)",null,null,null,null,null,null,null,null,null,null,null,null,null,null,null,null,null,null,null,"Proposed","Installed"]
[null,null,{"$f":"IF(A24=\"\",\"\",VLOOKUP(A24,MeasureCode_Lookup,2,FALSE))","v":""},null,null,null,null,null,null,null,null,null,null,null,null,{"$f":"IF(OR(A24=\"\",F24=\"\",J24=\"\",O24=\"\")=TRUE,0,J24*O24)","v":0},{"$f":"IF(OR(A24=\"\",G24=\"\",K24=\"\",O24=\"\")=TRUE,0,K24*O24)","v":0},{"$f":"IF(AP24=\"\",0,IF(AP24=1,VLOOKUP(A24,MeasureCode_Lookup,3,FALSE),\"DNQ\"))","v":0},{"$f":"IF(AQ24=\"\",0,IF(AQ24=1,VLOOKUP(A24,MeasureCode_Lookup,3,FALSE),\"DNQ\"))","v":0},{"$f":"IF(A24=\"\",\"\",VLOOKUP(A24,MeasureCode_Lookup,4,FALSE))","v":""},{"$f":"IF(OR($A$11=TRUE,$A$12=TRUE,$B$11=TRUE,$B$12=TRUE,$C$11=TRUE)=TRUE,R24,0)","v":0},{"$f":"IF(OR($A$11=TRUE,$A$12=TRUE,$B$11=TRUE,$B$12=TRUE,$C$11=TRUE)=TRUE,S24,0)","v":0},{"$f":"IF(N(R24)=0,0,F24*(R24+U24)*IF(T24=\"per Fixture Controlled\",J24,1))","v":0},{"$f":"IF(N(S24)=0,0,G24*(S24+V24)*IF(T24=\"per Fixture Controlled\",K24,1))","v":0},{"$f":"IF(N(R24)=0,0,F24*P24)","v":0},{"$f":"IF(N(S24)=0,0,G24*Q24)","v":0},{"$f":"IF(A24=\"\",0,VLOOKUP(A24,MeasureCode_Lookup,5,FALSE))","v":0},{"$f":"IF($A$16=\"\",0,VLOOKUP($A$16,BuildingType_Lookup,3,FALSE))","v":0},{"$f":"IF($A$16=\"\",0,VLOOKUP($A$16,BuildingType_Lookup,2,FALSE))","v":0},{"$f":"IF(AND(OR(AP24=\"\",AP24=0)=TRUE,OR(AQ24=\"\",AQ24=0))=TRUE,0,IF(AQ24=\"\",(IF(OR(C24=\"DDC\",C24=\"OHLC\")=TRUE,O24,P24)/1000)*AA24*AB24*(1+VLOOKUP($A$16,BuildingType_Lookup,4,FALSE)),IF(AQ24=0,0,(IF(OR(C24=\"DDC\",C24=\"OHLC\")=TRUE,O24,Q24)/1000)*AA24*AB24*(1+VLOOKUP($A$16,BuildingType_Lookup,4,FALSE)))))","v":0},{"$f":"IF(AND(OR(AP24=\"\",AP24=0)=TRUE,OR(AQ24=\"\",AQ24=0))=TRUE,0,IF(AQ24=\"\",(IF(OR(C24=\"DDC\",C24=\"OHLC\")=TRUE,O24,P24)/1000)*AA24*AC24*(1+VLOOKUP($A$16,BuildingType_Lookup,MATCH($A$18,HVAC,0)+4,FALSE)),IF(AQ24=0,0,(IF(OR(C24=\"DDC\",C24=\"OHLC\")=TRUE,O24,Q24)/1000)*AA24*AC24*(1+VLOOKUP($A$16,BuildingType_Lookup,MATCH($A$18,HVAC,0)+4,FALSE)))))","v":0},{"$f":"IFERROR(IF(OR(C24=\"DDC\",C24=\"OHLC\")=TRUE,F24*J24*AD24,F24*AD24),0)","v":0},{"$f":"IFERROR(IF(OR(C24=\"DDC\",C24=\"OHLC\")=TRUE,G24*K24*AD24,G24*AD24),0)","v":0},{"$f":"IFERROR(IF(OR(C24=\"DDC\",C24=\"OHLC\")=TRUE,F24*J24*AE24,F24*AE24),0)","v":0},{"$f":"IFERROR(IF(OR(C24=\"DDC\",C24=\"OHLC\")=TRUE,G24*K24*AE24,G24*AE24),0)","v":0},{"$f":"AH24*8","v":0},{"$f":"AI24*8","v":0},{"$f":"Y24/1000*AA24*AC24*IF(IFERROR(SEARCH(\"Gas\",$A$18),0)>0,VLOOKUP(\"Gas\",HVACg_Lookup,MATCH($F$16,BuildingSize,0)+1,FALSE),IF(IFERROR(SEARCH(\"Oil\",$A$18),0)>0,VLOOKUP(\"Oil\",HVACg_Lookup,MATCH($F$16,BuildingSize,0)+1,FALSE),IF(IFERROR(SEARCH(\"Propane\",$A$18),0)>0,VLOOKUP(\"Propane\",HVACg_Lookup,MATCH(Worksheet!$F$16,BuildingSize,0)+1,FALSE),0)))","v":0},{"$f":"Z24/1000*AA24*AC24*IF(IFERROR(SEARCH(\"Gas\",$A$18),0)>0,VLOOKUP(\"Gas\",HVACg_Lookup,MATCH($F$16,BuildingSize,0)+1,FALSE),IF(IFERROR(SEARCH(\"Oil\",$A$18),0)>0,VLOOKUP(\"Oil\",HVACg_Lookup,MATCH($F$16,BuildingSize,0)+1,FALSE),IF(IFERROR(SEARCH(\"Propane\",$A$18),0)>0,VLOOKUP(\"Propane\",HVACg_Lookup,MATCH(Worksheet!$F$16,BuildingSize,0)+1,FALSE),0)))","v":0},{"$f":"AL24*8","v":0},{"$f":"AM24*8","v":0},{"$f":"IF(OR($B$4=\"\",$B$5=\"\",$A$16=\"\",$F$16=\"\",$A$18=\"\",A24=\"\",F24=\"\",J24=\"\",O24=\"\",P24=\"\")=TRUE,\"\",IF(C24=\"OSW\",IF(J24>=2,1,0),IF(C24=\"OSR\",IF(AND(J24>=2,P24>60)=TRUE,1,0),IF(C24=\"OSRH\",IF(AND(J24>=1,P24>90)=TRUE,1,0),IF(C24=\"OHLC\",IF(AND(N24=\"Y\",P24>60)=TRUE,1,0),IF(C24=\"DDC\",IF(AND(J24>=4,N24=\"Y\",P24>120)=TRUE,1,0),0))))))","v":""},{"$f":"IF(OR($B$4=\"\",$B$5=\"\",$A$16=\"\",$F$16=\"\",$A$18=\"\",A24=\"\",F24=\"\",K24=\"\",O24=\"\",P24=\"\")=TRUE,\"\",IF(C24=\"OSW\",IF(K24>=2,1,0),IF(C24=\"OSR\",IF(AND(K24>=2,Q24>60)=TRUE,1,0),IF(C24=\"OSRH\",IF(AND(K24>=1,Q24>90)=TRUE,1,0),IF(C24=\"OHLC\",IF(AND(N24=\"Y\",Q24>60)=TRUE,1,0),IF(C24=\"DDC\",IF(AND(K24>=4,N24=\"Y\",Q24>120)=TRUE,1,0),0))))))","v":""}]
[null,null,{"$f":"IF(A25=\"\",\"\",VLOOKUP(A25,MeasureCode_Lookup,2,FALSE))","v":""},null,null,null,null,null,null,null,null,null,null,null,null,{"$f":"IF(OR(A25=\"\",F25=\"\",J25=\"\",O25=\"\")=TRUE,0,J25*O25)","v":0},{"$f":"IF(OR(A25=\"\",G25=\"\",K25=\"\",O25=\"\")=TRUE,0,K25*O25)","v":0},0,0,"",{"$f":"IF(OR($A$11=TRUE,$A$12=TRUE,$B$11=TRUE,$B$12=TRUE,$C$11=TRUE)=TRUE,R25,0)","v":0},{"$f":"IF(OR($A$11=TRUE,$A$12=TRUE,$B$11=TRUE,$B$12=TRUE,$C$11=TRUE)=TRUE,S25,0)","v":0},{"$f":"IF(N(R25)=0,0,F25*(R25+U25)*IF(T25=\"per Fixture Controlled\",J25,1))","v":0},{"$f":"IF(N(S25)=0,0,G25*(S25+V25)*IF(T25=\"per Fixture Controlled\",K25,1))","v":0},0,0,0,0,0,0,0,0,0,0,0,{"$f":"AH25*8","v":0},{"$f":"AI25*8","v":0},{"$f":"Y25/1000*AA25*AC25*IF(IFERROR(SEARCH(\"Gas\",$A$18),0)>0,VLOOKUP(\"Gas\",HVACg_Lookup,MATCH($F$16,BuildingSize,0)+1,FALSE),IF(IFERROR(SEARCH(\"Oil\",$A$18),0)>0,VLOOKUP(\"Oil\",HVACg_Lookup,MATCH($F$16,BuildingSize,0)+1,FALSE),IF(IFERROR(SEARCH(\"Propane\",$A$18),0)>0,VLOOKUP(\"Propane\",HVACg_Lookup,MATCH(Worksheet!$F$16,BuildingSize,0)+1,FALSE),0)))","v":0},{"$f":"Z25/1000*AA25*AC25*IF(IFERROR(SEARCH(\"Gas\",$A$18),0)>0,VLOOKUP(\"Gas\",HVACg_Lookup,MATCH($F$16,BuildingSize,0)+1,FALSE),IF(IFERROR(SEARCH(\"Oil\",$A$18),0)>0,VLOOKUP(\"Oil\",HVACg_Lookup,MATCH($F$16,BuildingSize,0)+1,FALSE),IF(IFERROR(SEARCH(\"Propane\",$A$18),0)>0,VLOOKUP(\"Propane\",HVACg_Lookup,MATCH(Worksheet!$F$16,BuildingSize,0)+1,FALSE),0)))","v":0},{"$f":"AL25*8","v":0},{"$f":"AM25*8","v":0},{"$f":"IF(OR($B$4=\"\",$B$5=\"\",$A$16=\"\",$F$16=\"\",$A$18=\"\",A25=\"\",F25=\"\",J25=\"\",O25=\"\",P25=\"\")=TRUE,\"\",IF(C25=\"OSW\",IF(J25>=2,1,0),IF(C25=\"OSR\",IF(AND(J25>=2,P25>60)=TRUE,1,0),IF(C25=\"OSRH\",IF(AND(J25>=1,P25>90)=TRUE,1,0),IF(C25=\"OHLC\",IF(AND(N25=\"Y\",P25>60)=TRUE,1,0),IF(C25=\"DDC\",IF(AND(J25>=4,N25=\"Y\",P25>120)=TRUE,1,0),0))))))","v":""},{"$f":"IF(OR($B$4=\"\",$B$5=\"\",$A$16=\"\",$F$16=\"\",$A$18=\"\",A25=\"\",F25=\"\",K25=\"\",O25=\"\",P25=\"\")=TRUE,\"\",IF(C25=\"OSW\",IF(K25>=2,1,0),IF(C25=\"OSR\",IF(AND(K25>=2,Q25>60)=TRUE,1,0),IF(C25=\"OSRH\",IF(AND(K25>=1,Q25>90)=TRUE,1,0),IF(C25=\"OHLC\",IF(AND(N25=\"Y\",Q25>60)=TRUE,1,0),IF(C25=\"DDC\",IF(AND(K25>=4,N25=\"Y\",Q25>120)=TRUE,1,0),0))))))","v":""}]
[null,null,"",null,null,null,null,null,null,null,null,null,null,null,null,0,0,0,0,"",0,0,0,0,0,0,0,0,0,0,0,0,0,0,0,0,0,{"$f":"Y26/1000*AA26*AC26*IF(IFERROR(SEARCH(\"Gas\",$A$18),0)>0,VLOOKUP(\"Gas\",HVACg_Lookup,MATCH($F$16,BuildingSize,0)+1,FALSE),IF(IFERROR(SEARCH(\"Oil\",$A$18),0)>0,VLOOKUP(\"Oil\",HVACg_Lookup,MATCH($F$16,BuildingSize,0)+1,FALSE),IF(IFERROR(SEARCH(\"Propane\",$A$18),0)>0,VLOOKUP(\"Propane\",HVACg_Lookup,MATCH(Worksheet!$F$16,BuildingSize,0)+1,FALSE),0)))","v":0},{"$f":"Z26/1000*AA26*AC26*IF(IFERROR(SEARCH(\"Gas\",$A$18),0)>0,VLOOKUP(\"Gas\",HVACg_Lookup,MATCH($F$16,BuildingSize,0)+1,FALSE),IF(IFERROR(SEARCH(\"Oil\",$A$18),0)>0,VLOOKUP(\"Oil\",HVACg_Lookup,MATCH($F$16,BuildingSize,0)+1,FALSE),IF(IFERROR(SEARCH(\"Propane\",$A$18),0)>0,VLOOKUP(\"Propane\",HVACg_Lookup,MATCH(Worksheet!$F$16,BuildingSize,0)+1,FALSE),0)))","v":0},0,0,"",""]
[null,null,"",null,null,null,null,null,null,null,null,null,null,null,null,0,0,0,0,"",0,0,0,0,0,0,0,0,0,0,0,0,0,0,0,0,0,{"$f":"Y27/1000*AA27*AC27*IF(IFERROR(SEARCH(\"Gas\",$A$18),0)>0,VLOOKUP(\"Gas\",HVACg_Lookup,MATCH($F$16,BuildingSize,0)+1,FALSE),IF(IFERROR(SEARCH(\"Oil\",$A$18),0)>0,VLOOKUP(\"Oil\",HVACg_Lookup,MATCH($F$16,BuildingSize,0)+1,FALSE),IF(IFERROR(SEARCH(\"Propane\",$A$18),0)>0,VLOOKUP(\"Propane\",HVACg_Lookup,MATCH(Worksheet!$F$16,BuildingSize,0)+1,FALSE),0)))","v":0},{"$f":"Z27/1000*AA27*AC27*IF(IFERROR(SEARCH(\"Gas\",$A$18),0)>0,VLOOKUP(\"Gas\",HVACg_Lookup,MATCH($F$16,BuildingSize,0)+1,FALSE),IF(IFERROR(SEARCH(\"Oil\",$A$18),0)>0,VLOOKUP(\"Oil\",HVACg_Lookup,MATCH($F$16,BuildingSize,0)+1,FALSE),IF(IFERROR(SEARCH(\"Propane\",$A$18),0)>0,VLOOKUP(\"Propane\",HVACg_Lookup,MATCH(Worksheet!$F$16,BuildingSize,0)+1,FALSE),0)))","v":0},0,0,"",""]
[null,null,"",null,null,null,null,null,null,null,null,null,null,null,null,0,0,0,0,"",0,0,0,0,0,0,0,0,0,0,0,0,0,0,0,0,0,{"$f":"Y28/1000*AA28*AC28*IF(IFERROR(SEARCH(\"Gas\",$A$18),0)>0,VLOOKUP(\"Gas\",HVACg_Lookup,MATCH($F$16,BuildingSize,0)+1,FALSE),IF(IFERROR(SEARCH(\"Oil\",$A$18),0)>0,VLOOKUP(\"Oil\",HVACg_Lookup,MATCH($F$16,BuildingSize,0)+1,FALSE),IF(IFERROR(SEARCH(\"Propane\",$A$18),0)>0,VLOOKUP(\"Propane\",HVACg_Lookup,MATCH(Worksheet!$F$16,BuildingSize,0)+1,FALSE),0)))","v":0},{"$f":"Z28/1000*AA28*AC28*IF(IFERROR(SEARCH(\"Gas\",$A$18),0)>0,VLOOKUP(\"Gas\",HVACg_Lookup,MATCH($F$16,BuildingSize,0)+1,FALSE),IF(IFERROR(SEARCH(\"Oil\",$A$18),0)>0,VLOOKUP(\"Oil\",HVACg_Lookup,MATCH($F$16,BuildingSize,0)+1,FALSE),IF(IFERROR(SEARCH(\"Propane\",$A$18),0)>0,VLOOKUP(\"Propane\",HVACg_Lookup,MATCH(Worksheet!$F$16,BuildingSize,0)+1,FALSE),0)))","v":0},0,0,"",""]
[null,null,"",null,null,null,null,null,null,null,null,null,null,null,null,0,0,0,0,"",0,0,0,0,0,0,0,0,0,0,0,0,0,0,0,0,0,{"$f":"Y29/1000*AA29*AC29*IF(IFERROR(SEARCH(\"Gas\",$A$18),0)>0,VLOOKUP(\"Gas\",HVACg_Lookup,MATCH($F$16,BuildingSize,0)+1,FALSE),IF(IFERROR(SEARCH(\"Oil\",$A$18),0)>0,VLOOKUP(\"Oil\",HVACg_Lookup,MATCH($F$16,BuildingSize,0)+1,FALSE),IF(IFERROR(SEARCH(\"Propane\",$A$18),0)>0,VLOOKUP(\"Propane\",HVACg_Lookup,MATCH(Worksheet!$F$16,BuildingSize,0)+1,FALSE),0)))","v":0},{"$f":"Z29/1000*AA29*AC29*IF(IFERROR(SEARCH(\"Gas\",$A$18),0)>0,VLOOKUP(\"Gas\",HVACg_Lookup,MATCH($F$16,BuildingSize,0)+1,FALSE),IF(IFERROR(SEARCH(\"Oil\",$A$18),0)>0,VLOOKUP(\"Oil\",HVACg_Lookup,MATCH($F$16,BuildingSize,0)+1,FALSE),IF(IFERROR(SEARCH(\"Propane\",$A$18),0)>0,VLOOKUP(\"Propane\",HVACg_Lookup,MATCH(Worksheet!$F$16,BuildingSize,0)+1,FALSE),0)))","v":0},0,0,"",""]
[null,null,"",null,null,null,null,null,null,null,null,null,null,null,null,0,0,0,0,"",0,0,0,0,0,0,0,0,0,0,0,0,0,0,0,0,0,{"$f":"Y30/1000*AA30*AC30*IF(IFERROR(SEARCH(\"Gas\",$A$18),0)>0,VLOOKUP(\"Gas\",HVACg_Lookup,MATCH($F$16,BuildingSize,0)+1,FALSE),IF(IFERROR(SEARCH(\"Oil\",$A$18),0)>0,VLOOKUP(\"Oil\",HVACg_Lookup,MATCH($F$16,BuildingSize,0)+1,FALSE),IF(IFERROR(SEARCH(\"Propane\",$A$18),0)>0,VLOOKUP(\"Propane\",HVACg_Lookup,MATCH(Worksheet!$F$16,BuildingSize,0)+1,FALSE),0)))","v":0},{"$f":"Z30/1000*AA30*AC30*IF(IFERROR(SEARCH(\"Gas\",$A$18),0)>0,VLOOKUP(\"Gas\",HVACg_Lookup,MATCH($F$16,BuildingSize,0)+1,FALSE),IF(IFERROR(SEARCH(\"Oil\",$A$18),0)>0,VLOOKUP(\"Oil\",HVACg_Lookup,MATCH($F$16,BuildingSize,0)+1,FALSE),IF(IFERROR(SEARCH(\"Propane\",$A$18),0)>0,VLOOKUP(\"Propane\",HVACg_Lookup,MATCH(Worksheet!$F$16,BuildingSize,0)+1,FALSE),0)))","v":0},0,0,"",""]
[null,null,"",null,null,null,null,null,null,null,null,null,null,null,null,0,0,0,0,"",0,0,0,0,0,0,0,0,0,0,0,0,0,0,0,0,0,{"$f":"Y31/1000*AA31*AC31*IF(IFERROR(SEARCH(\"Gas\",$A$18),0)>0,VLOOKUP(\"Gas\",HVACg_Lookup,MATCH($F$16,BuildingSize,0)+1,FALSE),IF(IFERROR(SEARCH(\"Oil\",$A$18),0)>0,VLOOKUP(\"Oil\",HVACg_Lookup,MATCH($F$16,BuildingSize,0)+1,FALSE),IF(IFERROR(SEARCH(\"Propane\",$A$18),0)>0,VLOOKUP(\"Propane\",HVACg_Lookup,MATCH(Worksheet!$F$16,BuildingSize,0)+1,FALSE),0)))","v":0},{"$f":"Z31/1000*AA31*AC31*IF(IFERROR(SEARCH(\"Gas\",$A$18),0)>0,VLOOKUP(\"Gas\",HVACg_Lookup,MATCH($F$16,BuildingSize,0)+1,FALSE),IF(IFERROR(SEARCH(\"Oil\",$A$18),0)>0,VLOOKUP(\"Oil\",HVACg_Lookup,MATCH($F$16,BuildingSize,0)+1,FALSE),IF(IFERROR(SEARCH(\"Propane\",$A$18),0)>0,VLOOKUP(\"Propane\",HVACg_Lookup,MATCH(Worksheet!$F$16,BuildingSize,0)+1,FALSE),0)))","v":0},0,0,"",""]
[null,null,"",null,null,null,null,null,null,null,null,null,null,null,null,0,0,0,0,"",0,0,0,0,0,0,0,0,0,0,0,0,0,0,0,0,0,{"$f":"Y32/1000*AA32*AC32*IF(IFERROR(SEARCH(\"Gas\",$A$18),0)>0,VLOOKUP(\"Gas\",HVACg_Lookup,MATCH($F$16,BuildingSize,0)+1,FALSE),IF(IFERROR(SEARCH(\"Oil\",$A$18),0)>0,VLOOKUP(\"Oil\",HVACg_Lookup,MATCH($F$16,BuildingSize,0)+1,FALSE),IF(IFERROR(SEARCH(\"Propane\",$A$18),0)>0,VLOOKUP(\"Propane\",HVACg_Lookup,MATCH(Worksheet!$F$16,BuildingSize,0)+1,FALSE),0)))","v":0},{"$f":"Z32/1000*AA32*AC32*IF(IFERROR(SEARCH(\"Gas\",$A$18),0)>0,VLOOKUP(\"Gas\",HVACg_Lookup,MATCH($F$16,BuildingSize,0)+1,FALSE),IF(IFERROR(SEARCH(\"Oil\",$A$18),0)>0,VLOOKUP(\"Oil\",HVACg_Lookup,MATCH($F$16,BuildingSize,0)+1,FALSE),IF(IFERROR(SEARCH(\"Propane\",$A$18),0)>0,VLOOKUP(\"Propane\",HVACg_Lookup,MATCH(Worksheet!$F$16,BuildingSize,0)+1,FALSE),0)))","v":0},0,0,"",""]
[null,null,"",null,null,null,null,null,null,null,null,null,null,null,null,0,0,0,0,"",0,0,0,0,0,0,0,0,0,0,0,0,0,0,0,0,0,{"$f":"Y33/1000*AA33*AC33*IF(IFERROR(SEARCH(\"Gas\",$A$18),0)>0,VLOOKUP(\"Gas\",HVACg_Lookup,MATCH($F$16,BuildingSize,0)+1,FALSE),IF(IFERROR(SEARCH(\"Oil\",$A$18),0)>0,VLOOKUP(\"Oil\",HVACg_Lookup,MATCH($F$16,BuildingSize,0)+1,FALSE),IF(IFERROR(SEARCH(\"Propane\",$A$18),0)>0,VLOOKUP(\"Propane\",HVACg_Lookup,MATCH(Worksheet!$F$16,BuildingSize,0)+1,FALSE),0)))","v":0},{"$f":"Z33/1000*AA33*AC33*IF(IFERROR(SEARCH(\"Gas\",$A$18),0)>0,VLOOKUP(\"Gas\",HVACg_Lookup,MATCH($F$16,BuildingSize,0)+1,FALSE),IF(IFERROR(SEARCH(\"Oil\",$A$18),0)>0,VLOOKUP(\"Oil\",HVACg_Lookup,MATCH($F$16,BuildingSize,0)+1,FALSE),IF(IFERROR(SEARCH(\"Propane\",$A$18),0)>0,VLOOKUP(\"Propane\",HVACg_Lookup,MATCH(Worksheet!$F$16,BuildingSize,0)+1,FALSE),0)))","v":0},0,0,"",""]
[null,null,"",null,null,null,null,null,null,null,null,null,null,null,null,0,0,0,0,"",0,0,0,0,0,0,0,0,0,0,0,0,0,0,0,0,0,{"$f":"Y34/1000*AA34*AC34*IF(IFERROR(SEARCH(\"Gas\",$A$18),0)>0,VLOOKUP(\"Gas\",HVACg_Lookup,MATCH($F$16,BuildingSize,0)+1,FALSE),IF(IFERROR(SEARCH(\"Oil\",$A$18),0)>0,VLOOKUP(\"Oil\",HVACg_Lookup,MATCH($F$16,BuildingSize,0)+1,FALSE),IF(IFERROR(SEARCH(\"Propane\",$A$18),0)>0,VLOOKUP(\"Propane\",HVACg_Lookup,MATCH(Worksheet!$F$16,BuildingSize,0)+1,FALSE),0)))","v":0},{"$f":"Z34/1000*AA34*AC34*IF(IFERROR(SEARCH(\"Gas\",$A$18),0)>0,VLOOKUP(\"Gas\",HVACg_Lookup,MATCH($F$16,BuildingSize,0)+1,FALSE),IF(IFERROR(SEARCH(\"Oil\",$A$18),0)>0,VLOOKUP(\"Oil\",HVACg_Lookup,MATCH($F$16,BuildingSize,0)+1,FALSE),IF(IFERROR(SEARCH(\"Propane\",$A$18),0)>0,VLOOKUP(\"Propane\",HVACg_Lookup,MATCH(Worksheet!$F$16,BuildingSize,0)+1,FALSE),0)))","v":0},0,0,"",""]
[null,null,"",null,null,null,null,null,null,null,null,null,null,null,null,0,0,0,0,"",0,0,0,0,0,0,0,0,0,0,0,0,0,0,0,0,0,{"$f":"Y35/1000*AA35*AC35*IF(IFERROR(SEARCH(\"Gas\",$A$18),0)>0,VLOOKUP(\"Gas\",HVACg_Lookup,MATCH($F$16,BuildingSize,0)+1,FALSE),IF(IFERROR(SEARCH(\"Oil\",$A$18),0)>0,VLOOKUP(\"Oil\",HVACg_Lookup,MATCH($F$16,BuildingSize,0)+1,FALSE),IF(IFERROR(SEARCH(\"Propane\",$A$18),0)>0,VLOOKUP(\"Propane\",HVACg_Lookup,MATCH(Worksheet!$F$16,BuildingSize,0)+1,FALSE),0)))","v":0},{"$f":"Z35/1000*AA35*AC35*IF(IFERROR(SEARCH(\"Gas\",$A$18),0)>0,VLOOKUP(\"Gas\",HVACg_Lookup,MATCH($F$16,BuildingSize,0)+1,FALSE),IF(IFERROR(SEARCH(\"Oil\",$A$18),0)>0,VLOOKUP(\"Oil\",HVACg_Lookup,MATCH($F$16,BuildingSize,0)+1,FALSE),IF(IFERROR(SEARCH(\"Propane\",$A$18),0)>0,VLOOKUP(\"Propane\",HVACg_Lookup,MATCH(Worksheet!$F$16,BuildingSize,0)+1,FALSE),0)))","v":0},0,0,"",""]
[null,null,"",null,null,null,null,null,null,null,null,null,null,null,null,0,0,0,0,"",0,0,0,0,0,0,0,0,0,0,0,0,0,0,0,0,0,{"$f":"Y36/1000*AA36*AC36*IF(IFERROR(SEARCH(\"Gas\",$A$18),0)>0,VLOOKUP(\"Gas\",HVACg_Lookup,MATCH($F$16,BuildingSize,0)+1,FALSE),IF(IFERROR(SEARCH(\"Oil\",$A$18),0)>0,VLOOKUP(\"Oil\",HVACg_Lookup,MATCH($F$16,BuildingSize,0)+1,FALSE),IF(IFERROR(SEARCH(\"Propane\",$A$18),0)>0,VLOOKUP(\"Propane\",HVACg_Lookup,MATCH(Worksheet!$F$16,BuildingSize,0)+1,FALSE),0)))","v":0},{"$f":"Z36/1000*AA36*AC36*IF(IFERROR(SEARCH(\"Gas\",$A$18),0)>0,VLOOKUP(\"Gas\",HVACg_Lookup,MATCH($F$16,BuildingSize,0)+1,FALSE),IF(IFERROR(SEARCH(\"Oil\",$A$18),0)>0,VLOOKUP(\"Oil\",HVACg_Lookup,MATCH($F$16,BuildingSize,0)+1,FALSE),IF(IFERROR(SEARCH(\"Propane\",$A$18),0)>0,VLOOKUP(\"Propane\",HVACg_Lookup,MATCH(Worksheet!$F$16,BuildingSize,0)+1,FALSE),0)))","v":0},0,0,"",""]
[null,null,"",null,null,null,null,null,null,null,null,null,null,null,null,0,0,0,0,"",0,0,0,0,0,0,0,0,0,0,0,0,0,0,0,0,0,{"$f":"Y37/1000*AA37*AC37*IF(IFERROR(SEARCH(\"Gas\",$A$18),0)>0,VLOOKUP(\"Gas\",HVACg_Lookup,MATCH($F$16,BuildingSize,0)+1,FALSE),IF(IFERROR(SEARCH(\"Oil\",$A$18),0)>0,VLOOKUP(\"Oil\",HVACg_Lookup,MATCH($F$16,BuildingSize,0)+1,FALSE),IF(IFERROR(SEARCH(\"Propane\",$A$18),0)>0,VLOOKUP(\"Propane\",HVACg_Lookup,MATCH(Worksheet!$F$16,BuildingSize,0)+1,FALSE),0)))","v":0},{"$f":"Z37/1000*AA37*AC37*IF(IFERROR(SEARCH(\"Gas\",$A$18),0)>0,VLOOKUP(\"Gas\",HVACg_Lookup,MATCH($F$16,BuildingSize,0)+1,FALSE),IF(IFERROR(SEARCH(\"Oil\",$A$18),0)>0,VLOOKUP(\"Oil\",HVACg_Lookup,MATCH($F$16,BuildingSize,0)+1,FALSE),IF(IFERROR(SEARCH(\"Propane\",$A$18),0)>0,VLOOKUP(\"Propane\",HVACg_Lookup,MATCH(Worksheet!$F$16,BuildingSize,0)+1,FALSE),0)))","v":0},0,0,"",""]
[null,null,"",null,null,null,null,null,null,null,null,null,null,null,null,0,0,0,0,"",0,0,0,0,0,0,0,0,0,0,0,0,0,0,0,0,0,{"$f":"Y38/1000*AA38*AC38*IF(IFERROR(SEARCH(\"Gas\",$A$18),0)>0,VLOOKUP(\"Gas\",HVACg_Lookup,MATCH($F$16,BuildingSize,0)+1,FALSE),IF(IFERROR(SEARCH(\"Oil\",$A$18),0)>0,VLOOKUP(\"Oil\",HVACg_Lookup,MATCH($F$16,BuildingSize,0)+1,FALSE),IF(IFERROR(SEARCH(\"Propane\",$A$18),0)>0,VLOOKUP(\"Propane\",HVACg_Lookup,MATCH(Worksheet!$F$16,BuildingSize,0)+1,FALSE),0)))","v":0},{"$f":"Z38/1000*AA38*AC38*IF(IFERROR(SEARCH(\"Gas\",$A$18),0)>0,VLOOKUP(\"Gas\",HVACg_Lookup,MATCH($F$16,BuildingSize,0)+1,FALSE),IF(IFERROR(SEARCH(\"Oil\",$A$18),0)>0,VLOOKUP(\"Oil\",HVACg_Lookup,MATCH($F$16,BuildingSize,0)+1,FALSE),IF(IFERROR(SEARCH(\"Propane\",$A$18),0)>0,VLOOKUP(\"Propane\",HVACg_Lookup,MATCH(Worksheet!$F$16,BuildingSize,0)+1,FALSE),0)))","v":0},0,0,"",""]
[null,null,"",null,null,null,null,null,null,null,null,null,null,null,null,0,0,0,0,"",0,0,0,0,0,0,0,0,0,0,0,0,0,0,0,0,0,{"$f":"Y39/1000*AA39*AC39*IF(IFERROR(SEARCH(\"Gas\",$A$18),0)>0,VLOOKUP(\"Gas\",HVACg_Lookup,MATCH($F$16,BuildingSize,0)+1,FALSE),IF(IFERROR(SEARCH(\"Oil\",$A$18),0)>0,VLOOKUP(\"Oil\",HVACg_Lookup,MATCH($F$16,BuildingSize,0)+1,FALSE),IF(IFERROR(SEARCH(\"Propane\",$A$18),0)>0,VLOOKUP(\"Propane\",HVACg_Lookup,MATCH(Worksheet!$F$16,BuildingSize,0)+1,FALSE),0)))","v":0},{"$f":"Z39/1000*AA39*AC39*IF(IFERROR(SEARCH(\"Gas\",$A$18),0)>0,VLOOKUP(\"Gas\",HVACg_Lookup,MATCH($F$16,BuildingSize,0)+1,FALSE),IF(IFERROR(SEARCH(\"Oil\",$A$18),0)>0,VLOOKUP(\"Oil\",HVACg_Lookup,MATCH($F$16,BuildingSize,0)+1,FALSE),IF(IFERROR(SEARCH(\"Propane\",$A$18),0)>0,VLOOKUP(\"Propane\",HVACg_Lookup,MATCH(Worksheet!$F$16,BuildingSize,0)+1,FALSE),0)))","v":0},0,0,"",""]
[null,null,"",null,null,null,null,null,null,null,null,null,null,null,null,0,0,0,0,"",0,0,0,0,0,0,0,0,0,0,0,0,0,0,0,0,0,{"$f":"Y40/1000*AA40*AC40*IF(IFERROR(SEARCH(\"Gas\",$A$18),0)>0,VLOOKUP(\"Gas\",HVACg_Lookup,MATCH($F$16,BuildingSize,0)+1,FALSE),IF(IFERROR(SEARCH(\"Oil\",$A$18),0)>0,VLOOKUP(\"Oil\",HVACg_Lookup,MATCH($F$16,BuildingSize,0)+1,FALSE),IF(IFERROR(SEARCH(\"Propane\",$A$18),0)>0,VLOOKUP(\"Propane\",HVACg_Lookup,MATCH(Worksheet!$F$16,BuildingSize,0)+1,FALSE),0)))","v":0},{"$f":"Z40/1000*AA40*AC40*IF(IFERROR(SEARCH(\"Gas\",$A$18),0)>0,VLOOKUP(\"Gas\",HVACg_Lookup,MATCH($F$16,BuildingSize,0)+1,FALSE),IF(IFERROR(SEARCH(\"Oil\",$A$18),0)>0,VLOOKUP(\"Oil\",HVACg_Lookup,MATCH($F$16,BuildingSize,0)+1,FALSE),IF(IFERROR(SEARCH(\"Propane\",$A$18),0)>0,VLOOKUP(\"Propane\",HVACg_Lookup,MATCH(Worksheet!$F$16,BuildingSize,0)+1,FALSE),0)))","v":0},0,0,"",""]
[null,null,"",null,null,null,null,null,null,null,null,null,null,null,null,0,0,0,0,"",0,0,0,0,0,0,0,0,0,0,0,0,0,0,0,0,0,{"$f":"Y41/1000*AA41*AC41*IF(IFERROR(SEARCH(\"Gas\",$A$18),0)>0,VLOOKUP(\"Gas\",HVACg_Lookup,MATCH($F$16,BuildingSize,0)+1,FALSE),IF(IFERROR(SEARCH(\"Oil\",$A$18),0)>0,VLOOKUP(\"Oil\",HVACg_Lookup,MATCH($F$16,BuildingSize,0)+1,FALSE),IF(IFERROR(SEARCH(\"Propane\",$A$18),0)>0,VLOOKUP(\"Propane\",HVACg_Lookup,MATCH(Worksheet!$F$16,BuildingSize,0)+1,FALSE),0)))","v":0},{"$f":"Z41/1000*AA41*AC41*IF(IFERROR(SEARCH(\"Gas\",$A$18),0)>0,VLOOKUP(\"Gas\",HVACg_Lookup,MATCH($F$16,BuildingSize,0)+1,FALSE),IF(IFERROR(SEARCH(\"Oil\",$A$18),0)>0,VLOOKUP(\"Oil\",HVACg_Lookup,MATCH($F$16,BuildingSize,0)+1,FALSE),IF(IFERROR(SEARCH(\"Propane\",$A$18),0)>0,VLOOKUP(\"Propane\",HVACg_Lookup,MATCH(Worksheet!$F$16,BuildingSize,0)+1,FALSE),0)))","v":0},0,0,"",""]
[null,null,"",null,null,null,null,null,null,null,null,null,null,null,null,0,0,0,0,"",0,0,0,0,0,0,0,0,0,0,0,0,0,0,0,0,0,{"$f":"Y42/1000*AA42*AC42*IF(IFERROR(SEARCH(\"Gas\",$A$18),0)>0,VLOOKUP(\"Gas\",HVACg_Lookup,MATCH($F$16,BuildingSize,0)+1,FALSE),IF(IFERROR(SEARCH(\"Oil\",$A$18),0)>0,VLOOKUP(\"Oil\",HVACg_Lookup,MATCH($F$16,BuildingSize,0)+1,FALSE),IF(IFERROR(SEARCH(\"Propane\",$A$18),0)>0,VLOOKUP(\"Propane\",HVACg_Lookup,MATCH(Worksheet!$F$16,BuildingSize,0)+1,FALSE),0)))","v":0},{"$f":"Z42/1000*AA42*AC42*IF(IFERROR(SEARCH(\"Gas\",$A$18),0)>0,VLOOKUP(\"Gas\",HVACg_Lookup,MATCH($F$16,BuildingSize,0)+1,FALSE),IF(IFERROR(SEARCH(\"Oil\",$A$18),0)>0,VLOOKUP(\"Oil\",HVACg_Lookup,MATCH($F$16,BuildingSize,0)+1,FALSE),IF(IFERROR(SEARCH(\"Propane\",$A$18),0)>0,VLOOKUP(\"Propane\",HVACg_Lookup,MATCH(Worksheet!$F$16,BuildingSize,0)+1,FALSE),0)))","v":0},0,0,"",""]
[null,null,"",null,null,null,null,null,null,null,null,null,null,null,null,0,0,0,0,"",0,0,0,0,0,0,0,0,0,0,0,0,0,0,0,0,0,{"$f":"Y43/1000*AA43*AC43*IF(IFERROR(SEARCH(\"Gas\",$A$18),0)>0,VLOOKUP(\"Gas\",HVACg_Lookup,MATCH($F$16,BuildingSize,0)+1,FALSE),IF(IFERROR(SEARCH(\"Oil\",$A$18),0)>0,VLOOKUP(\"Oil\",HVACg_Lookup,MATCH($F$16,BuildingSize,0)+1,FALSE),IF(IFERROR(SEARCH(\"Propane\",$A$18),0)>0,VLOOKUP(\"Propane\",HVACg_Lookup,MATCH(Worksheet!$F$16,BuildingSize,0)+1,FALSE),0)))","v":0},{"$f":"Z43/1000*AA43*AC43*IF(IFERROR(SEARCH(\"Gas\",$A$18),0)>0,VLOOKUP(\"Gas\",HVACg_Lookup,MATCH($F$16,BuildingSize,0)+1,FALSE),IF(IFERROR(SEARCH(\"Oil\",$A$18),0)>0,VLOOKUP(\"Oil\",HVACg_Lookup,MATCH($F$16,BuildingSize,0)+1,FALSE),IF(IFERROR(SEARCH(\"Propane\",$A$18),0)>0,VLOOKUP(\"Propane\",HVACg_Lookup,MATCH(Worksheet!$F$16,BuildingSize,0)+1,FALSE),0)))","v":0},0,0,"",""]
[null,null,"",null,null,null,null,null,null,null,null,null,null,null,null,0,0,0,0,"",0,0,0,0,0,0,0,0,0,0,0,0,0,0,0,0,0,{"$f":"Y44/1000*AA44*AC44*IF(IFERROR(SEARCH(\"Gas\",$A$18),0)>0,VLOOKUP(\"Gas\",HVACg_Lookup,MATCH($F$16,BuildingSize,0)+1,FALSE),IF(IFERROR(SEARCH(\"Oil\",$A$18),0)>0,VLOOKUP(\"Oil\",HVACg_Lookup,MATCH($F$16,BuildingSize,0)+1,FALSE),IF(IFERROR(SEARCH(\"Propane\",$A$18),0)>0,VLOOKUP(\"Propane\",HVACg_Lookup,MATCH(Worksheet!$F$16,BuildingSize,0)+1,FALSE),0)))","v":0},{"$f":"Z44/1000*AA44*AC44*IF(IFERROR(SEARCH(\"Gas\",$A$18),0)>0,VLOOKUP(\"Gas\",HVACg_Lookup,MATCH($F$16,BuildingSize,0)+1,FALSE),IF(IFERROR(SEARCH(\"Oil\",$A$18),0)>0,VLOOKUP(\"Oil\",HVACg_Lookup,MATCH($F$16,BuildingSize,0)+1,FALSE),IF(IFERROR(SEARCH(\"Propane\",$A$18),0)>0,VLOOKUP(\"Propane\",HVACg_Lookup,MATCH(Worksheet!$F$16,BuildingSize,0)+1,FALSE),0)))","v":0},0,0,"",""]
[null,null,"",null,null,null,null,null,null,null,null,null,null,null,null,0,0,0,0,"",0,0,0,0,0,0,0,0,0,0,0,0,0,0,0,0,0,{"$f":"Y45/1000*AA45*AC45*IF(IFERROR(SEARCH(\"Gas\",$A$18),0)>0,VLOOKUP(\"Gas\",HVACg_Lookup,MATCH($F$16,BuildingSize,0)+1,FALSE),IF(IFERROR(SEARCH(\"Oil\",$A$18),0)>0,VLOOKUP(\"Oil\",HVACg_Lookup,MATCH($F$16,BuildingSize,0)+1,FALSE),IF(IFERROR(SEARCH(\"Propane\",$A$18),0)>0,VLOOKUP(\"Propane\",HVACg_Lookup,MATCH(Worksheet!$F$16,BuildingSize,0)+1,FALSE),0)))","v":0},{"$f":"Z45/1000*AA45*AC45*IF(IFERROR(SEARCH(\"Gas\",$A$18),0)>0,VLOOKUP(\"Gas\",HVACg_Lookup,MATCH($F$16,BuildingSize,0)+1,FALSE),IF(IFERROR(SEARCH(\"Oil\",$A$18),0)>0,VLOOKUP(\"Oil\",HVACg_Lookup,MATCH($F$16,BuildingSize,0)+1,FALSE),IF(IFERROR(SEARCH(\"Propane\",$A$18),0)>0,VLOOKUP(\"Propane\",HVACg_Lookup,MATCH(Worksheet!$F$16,BuildingSize,0)+1,FALSE),0)))","v":0},0,0,"",""]
[null,null,"",null,null,null,null,null,null,null,null,null,null,null,null,0,0,0,0,"",0,0,0,0,0,0,0,0,0,0,0,0,0,0,0,0,0,{"$f":"Y46/1000*AA46*AC46*IF(IFERROR(SEARCH(\"Gas\",$A$18),0)>0,VLOOKUP(\"Gas\",HVACg_Lookup,MATCH($F$16,BuildingSize,0)+1,FALSE),IF(IFERROR(SEARCH(\"Oil\",$A$18),0)>0,VLOOKUP(\"Oil\",HVACg_Lookup,MATCH($F$16,BuildingSize,0)+1,FALSE),IF(IFERROR(SEARCH(\"Propane\",$A$18),0)>0,VLOOKUP(\"Propane\",HVACg_Lookup,MATCH(Worksheet!$F$16,BuildingSize,0)+1,FALSE),0)))","v":0},{"$f":"Z46/1000*AA46*AC46*IF(IFERROR(SEARCH(\"Gas\",$A$18),0)>0,VLOOKUP(\"Gas\",HVACg_Lookup,MATCH($F$16,BuildingSize,0)+1,FALSE),IF(IFERROR(SEARCH(\"Oil\",$A$18),0)>0,VLOOKUP(\"Oil\",HVACg_Lookup,MATCH($F$16,BuildingSize,0)+1,FALSE),IF(IFERROR(SEARCH(\"Propane\",$A$18),0)>0,VLOOKUP(\"Propane\",HVACg_Lookup,MATCH(Worksheet!$F$16,BuildingSize,0)+1,FALSE),0)))","v":0},0,0,"",""]
[null,null,"",null,null,null,null,null,null,null,null,null,null,null,null,0,0,0,0,"",0,0,0,0,0,0,0,0,0,0,0,0,0,0,0,0,0,{"$f":"Y47/1000*AA47*AC47*IF(IFERROR(SEARCH(\"Gas\",$A$18),0)>0,VLOOKUP(\"Gas\",HVACg_Lookup,MATCH($F$16,BuildingSize,0)+1,FALSE),IF(IFERROR(SEARCH(\"Oil\",$A$18),0)>0,VLOOKUP(\"Oil\",HVACg_Lookup,MATCH($F$16,BuildingSize,0)+1,FALSE),IF(IFERROR(SEARCH(\"Propane\",$A$18),0)>0,VLOOKUP(\"Propane\",HVACg_Lookup,MATCH(Worksheet!$F$16,BuildingSize,0)+1,FALSE),0)))","v":0},{"$f":"Z47/1000*AA47*AC47*IF(IFERROR(SEARCH(\"Gas\",$A$18),0)>0,VLOOKUP(\"Gas\",HVACg_Lookup,MATCH($F$16,BuildingSize,0)+1,FALSE),IF(IFERROR(SEARCH(\"Oil\",$A$18),0)>0,VLOOKUP(\"Oil\",HVACg_Lookup,MATCH($F$16,BuildingSize,0)+1,FALSE),IF(IFERROR(SEARCH(\"Propane\",$A$18),0)>0,VLOOKUP(\"Propane\",HVACg_Lookup,MATCH(Worksheet!$F$16,BuildingSize,0)+1,FALSE),0)))","v":0},0,0,"",""]
[null,null,"",null,null,null,null,null,null,null,null,null,null,null,null,0,0,0,0,"",0,0,0,0,0,0,0,0,0,0,0,0,0,0,0,0,0,{"$f":"Y48/1000*AA48*AC48*IF(IFERROR(SEARCH(\"Gas\",$A$18),0)>0,VLOOKUP(\"Gas\",HVACg_Lookup,MATCH($F$16,BuildingSize,0)+1,FALSE),IF(IFERROR(SEARCH(\"Oil\",$A$18),0)>0,VLOOKUP(\"Oil\",HVACg_Lookup,MATCH($F$16,BuildingSize,0)+1,FALSE),IF(IFERROR(SEARCH(\"Propane\",$A$18),0)>0,VLOOKUP(\"Propane\",HVACg_Lookup,MATCH(Worksheet!$F$16,BuildingSize,0)+1,FALSE),0)))","v":0},{"$f":"Z48/1000*AA48*AC48*IF(IFERROR(SEARCH(\"Gas\",$A$18),0)>0,VLOOKUP(\"Gas\",HVACg_Lookup,MATCH($F$16,BuildingSize,0)+1,FALSE),IF(IFERROR(SEARCH(\"Oil\",$A$18),0)>0,VLOOKUP(\"Oil\",HVACg_Lookup,MATCH($F$16,BuildingSize,0)+1,FALSE),IF(IFERROR(SEARCH(\"Propane\",$A$18),0)>0,VLOOKUP(\"Propane\",HVACg_Lookup,MATCH(Worksheet!$F$16,BuildingSize,0)+1,FALSE),0)))","v":0},0,0,"",""]
[null,null,"",null,null,null,null,null,null,null,null,null,null,null,null,0,0,0,0,"",0,0,0,0,0,0,0,0,0,0,0,0,0,0,0,0,0,{"$f":"Y49/1000*AA49*AC49*IF(IFERROR(SEARCH(\"Gas\",$A$18),0)>0,VLOOKUP(\"Gas\",HVACg_Lookup,MATCH($F$16,BuildingSize,0)+1,FALSE),IF(IFERROR(SEARCH(\"Oil\",$A$18),0)>0,VLOOKUP(\"Oil\",HVACg_Lookup,MATCH($F$16,BuildingSize,0)+1,FALSE),IF(IFERROR(SEARCH(\"Propane\",$A$18),0)>0,VLOOKUP(\"Propane\",HVACg_Lookup,MATCH(Worksheet!$F$16,BuildingSize,0)+1,FALSE),0)))","v":0},{"$f":"Z49/1000*AA49*AC49*IF(IFERROR(SEARCH(\"Gas\",$A$18),0)>0,VLOOKUP(\"Gas\",HVACg_Lookup,MATCH($F$16,BuildingSize,0)+1,FALSE),IF(IFERROR(SEARCH(\"Oil\",$A$18),0)>0,VLOOKUP(\"Oil\",HVACg_Lookup,MATCH($F$16,BuildingSize,0)+1,FALSE),IF(IFERROR(SEARCH(\"Propane\",$A$18),0)>0,VLOOKUP(\"Propane\",HVACg_Lookup,MATCH(Worksheet!$F$16,BuildingSize,0)+1,FALSE),0)))","v":0},0,0,"",""]
[null,null,"",null,null,null,null,null,null,null,null,null,null,null,null,0,0,0,0,"",0,0,0,0,0,0,0,0,0,0,0,0,0,0,0,0,0,{"$f":"Y50/1000*AA50*AC50*IF(IFERROR(SEARCH(\"Gas\",$A$18),0)>0,VLOOKUP(\"Gas\",HVACg_Lookup,MATCH($F$16,BuildingSize,0)+1,FALSE),IF(IFERROR(SEARCH(\"Oil\",$A$18),0)>0,VLOOKUP(\"Oil\",HVACg_Lookup,MATCH($F$16,BuildingSize,0)+1,FALSE),IF(IFERROR(SEARCH(\"Propane\",$A$18),0)>0,VLOOKUP(\"Propane\",HVACg_Lookup,MATCH(Worksheet!$F$16,BuildingSize,0)+1,FALSE),0)))","v":0},{"$f":"Z50/1000*AA50*AC50*IF(IFERROR(SEARCH(\"Gas\",$A$18),0)>0,VLOOKUP(\"Gas\",HVACg_Lookup,MATCH($F$16,BuildingSize,0)+1,FALSE),IF(IFERROR(SEARCH(\"Oil\",$A$18),0)>0,VLOOKUP(\"Oil\",HVACg_Lookup,MATCH($F$16,BuildingSize,0)+1,FALSE),IF(IFERROR(SEARCH(\"Propane\",$A$18),0)>0,VLOOKUP(\"Propane\",HVACg_Lookup,MATCH(Worksheet!$F$16,BuildingSize,0)+1,FALSE),0)))","v":0},0,0,"",""]
[null,null,"",null,null,null,null,null,null,null,null,null,null,null,null,0,0,0,0,"",0,0,0,0,0,0,0,0,0,0,0,0,0,0,0,0,0,{"$f":"Y51/1000*AA51*AC51*IF(IFERROR(SEARCH(\"Gas\",$A$18),0)>0,VLOOKUP(\"Gas\",HVACg_Lookup,MATCH($F$16,BuildingSize,0)+1,FALSE),IF(IFERROR(SEARCH(\"Oil\",$A$18),0)>0,VLOOKUP(\"Oil\",HVACg_Lookup,MATCH($F$16,BuildingSize,0)+1,FALSE),IF(IFERROR(SEARCH(\"Propane\",$A$18),0)>0,VLOOKUP(\"Propane\",HVACg_Lookup,MATCH(Worksheet!$F$16,BuildingSize,0)+1,FALSE),0)))","v":0},{"$f":"Z51/1000*AA51*AC51*IF(IFERROR(SEARCH(\"Gas\",$A$18),0)>0,VLOOKUP(\"Gas\",HVACg_Lookup,MATCH($F$16,BuildingSize,0)+1,FALSE),IF(IFERROR(SEARCH(\"Oil\",$A$18),0)>0,VLOOKUP(\"Oil\",HVACg_Lookup,MATCH($F$16,BuildingSize,0)+1,FALSE),IF(IFERROR(SEARCH(\"Propane\",$A$18),0)>0,VLOOKUP(\"Propane\",HVACg_Lookup,MATCH(Worksheet!$F$16,BuildingSize,0)+1,FALSE),0)))","v":0},0,0,"",""]
[null,null,"",null,null,null,null,null,null,null,null,null,null,null,null,0,0,0,0,"",0,0,0,0,0,0,0,0,0,0,0,0,0,0,0,0,0,{"$f":"Y52/1000*AA52*AC52*IF(IFERROR(SEARCH(\"Gas\",$A$18),0)>0,VLOOKUP(\"Gas\",HVACg_Lookup,MATCH($F$16,BuildingSize,0)+1,FALSE),IF(IFERROR(SEARCH(\"Oil\",$A$18),0)>0,VLOOKUP(\"Oil\",HVACg_Lookup,MATCH($F$16,BuildingSize,0)+1,FALSE),IF(IFERROR(SEARCH(\"Propane\",$A$18),0)>0,VLOOKUP(\"Propane\",HVACg_Lookup,MATCH(Worksheet!$F$16,BuildingSize,0)+1,FALSE),0)))","v":0},{"$f":"Z52/1000*AA52*AC52*IF(IFERROR(SEARCH(\"Gas\",$A$18),0)>0,VLOOKUP(\"Gas\",HVACg_Lookup,MATCH($F$16,BuildingSize,0)+1,FALSE),IF(IFERROR(SEARCH(\"Oil\",$A$18),0)>0,VLOOKUP(\"Oil\",HVACg_Lookup,MATCH($F$16,BuildingSize,0)+1,FALSE),IF(IFERROR(SEARCH(\"Propane\",$A$18),0)>0,VLOOKUP(\"Propane\",HVACg_Lookup,MATCH(Worksheet!$F$16,BuildingSize,0)+1,FALSE),0)))","v":0},0,0,"",""]
[null,null,"",null,null,null,null,null,null,null,null,null,null,null,null,0,0,0,0,"",0,0,0,0,0,0,0,0,0,0,0,0,0,0,0,0,0,{"$f":"Y53/1000*AA53*AC53*IF(IFERROR(SEARCH(\"Gas\",$A$18),0)>0,VLOOKUP(\"Gas\",HVACg_Lookup,MATCH($F$16,BuildingSize,0)+1,FALSE),IF(IFERROR(SEARCH(\"Oil\",$A$18),0)>0,VLOOKUP(\"Oil\",HVACg_Lookup,MATCH($F$16,BuildingSize,0)+1,FALSE),IF(IFERROR(SEARCH(\"Propane\",$A$18),0)>0,VLOOKUP(\"Propane\",HVACg_Lookup,MATCH(Worksheet!$F$16,BuildingSize,0)+1,FALSE),0)))","v":0},{"$f":"Z53/1000*AA53*AC53*IF(IFERROR(SEARCH(\"Gas\",$A$18),0)>0,VLOOKUP(\"Gas\",HVACg_Lookup,MATCH($F$16,BuildingSize,0)+1,FALSE),IF(IFERROR(SEARCH(\"Oil\",$A$18),0)>0,VLOOKUP(\"Oil\",HVACg_Lookup,MATCH($F$16,BuildingSize,0)+1,FALSE),IF(IFERROR(SEARCH(\"Propane\",$A$18),0)>0,VLOOKUP(\"Propane\",HVACg_Lookup,MATCH(Worksheet!$F$16,BuildingSize,0)+1,FALSE),0)))","v":0},0,0,"",""]
[null,null,"",null,null,null,null,null,null,null,null,null,null,null,null,0,0,0,0,"",0,0,0,0,0,0,0,0,0,0,0,0,0,0,0,0,0,{"$f":"Y54/1000*AA54*AC54*IF(IFERROR(SEARCH(\"Gas\",$A$18),0)>0,VLOOKUP(\"Gas\",HVACg_Lookup,MATCH($F$16,BuildingSize,0)+1,FALSE),IF(IFERROR(SEARCH(\"Oil\",$A$18),0)>0,VLOOKUP(\"Oil\",HVACg_Lookup,MATCH($F$16,BuildingSize,0)+1,FALSE),IF(IFERROR(SEARCH(\"Propane\",$A$18),0)>0,VLOOKUP(\"Propane\",HVACg_Lookup,MATCH(Worksheet!$F$16,BuildingSize,0)+1,FALSE),0)))","v":0},{"$f":"Z54/1000*AA54*AC54*IF(IFERROR(SEARCH(\"Gas\",$A$18),0)>0,VLOOKUP(\"Gas\",HVACg_Lookup,MATCH($F$16,BuildingSize,0)+1,FALSE),IF(IFERROR(SEARCH(\"Oil\",$A$18),0)>0,VLOOKUP(\"Oil\",HVACg_Lookup,MATCH($F$16,BuildingSize,0)+1,FALSE),IF(IFERROR(SEARCH(\"Propane\",$A$18),0)>0,VLOOKUP(\"Propane\",HVACg_Lookup,MATCH(Worksheet!$F$16,BuildingSize,0)+1,FALSE),0)))","v":0},0,0,"",""]
[null,null,"",null,null,null,null,null,null,null,null,null,null,null,null,0,0,0,0,"",0,0,0,0,0,0,0,0,0,0,0,0,0,0,0,0,0,{"$f":"Y55/1000*AA55*AC55*IF(IFERROR(SEARCH(\"Gas\",$A$18),0)>0,VLOOKUP(\"Gas\",HVACg_Lookup,MATCH($F$16,BuildingSize,0)+1,FALSE),IF(IFERROR(SEARCH(\"Oil\",$A$18),0)>0,VLOOKUP(\"Oil\",HVACg_Lookup,MATCH($F$16,BuildingSize,0)+1,FALSE),IF(IFERROR(SEARCH(\"Propane\",$A$18),0)>0,VLOOKUP(\"Propane\",HVACg_Lookup,MATCH(Worksheet!$F$16,BuildingSize,0)+1,FALSE),0)))","v":0},{"$f":"Z55/1000*AA55*AC55*IF(IFERROR(SEARCH(\"Gas\",$A$18),0)>0,VLOOKUP(\"Gas\",HVACg_Lookup,MATCH($F$16,BuildingSize,0)+1,FALSE),IF(IFERROR(SEARCH(\"Oil\",$A$18),0)>0,VLOOKUP(\"Oil\",HVACg_Lookup,MATCH($F$16,BuildingSize,0)+1,FALSE),IF(IFERROR(SEARCH(\"Propane\",$A$18),0)>0,VLOOKUP(\"Propane\",HVACg_Lookup,MATCH(Worksheet!$F$16,BuildingSize,0)+1,FALSE),0)))","v":0},0,0,"",""]
[null,null,"",null,null,null,null,null,null,null,null,null,null,null,null,0,0,0,0,"",0,0,0,0,0,0,0,0,0,0,0,0,0,0,0,0,0,{"$f":"Y56/1000*AA56*AC56*IF(IFERROR(SEARCH(\"Gas\",$A$18),0)>0,VLOOKUP(\"Gas\",HVACg_Lookup,MATCH($F$16,BuildingSize,0)+1,FALSE),IF(IFERROR(SEARCH(\"Oil\",$A$18),0)>0,VLOOKUP(\"Oil\",HVACg_Lookup,MATCH($F$16,BuildingSize,0)+1,FALSE),IF(IFERROR(SEARCH(\"Propane\",$A$18),0)>0,VLOOKUP(\"Propane\",HVACg_Lookup,MATCH(Worksheet!$F$16,BuildingSize,0)+1,FALSE),0)))","v":0},{"$f":"Z56/1000*AA56*AC56*IF(IFERROR(SEARCH(\"Gas\",$A$18),0)>0,VLOOKUP(\"Gas\",HVACg_Lookup,MATCH($F$16,BuildingSize,0)+1,FALSE),IF(IFERROR(SEARCH(\"Oil\",$A$18),0)>0,VLOOKUP(\"Oil\",HVACg_Lookup,MATCH($F$16,BuildingSize,0)+1,FALSE),IF(IFERROR(SEARCH(\"Propane\",$A$18),0)>0,VLOOKUP(\"Propane\",HVACg_Lookup,MATCH(Worksheet!$F$16,BuildingSize,0)+1,FALSE),0)))","v":0},0,0,"",""]
[null,null,"",null,null,null,null,null,null,null,null,null,null,null,null,0,0,0,0,"",0,0,0,0,0,0,0,0,0,0,0,0,0,0,0,0,0,{"$f":"Y57/1000*AA57*AC57*IF(IFERROR(SEARCH(\"Gas\",$A$18),0)>0,VLOOKUP(\"Gas\",HVACg_Lookup,MATCH($F$16,BuildingSize,0)+1,FALSE),IF(IFERROR(SEARCH(\"Oil\",$A$18),0)>0,VLOOKUP(\"Oil\",HVACg_Lookup,MATCH($F$16,BuildingSize,0)+1,FALSE),IF(IFERROR(SEARCH(\"Propane\",$A$18),0)>0,VLOOKUP(\"Propane\",HVACg_Lookup,MATCH(Worksheet!$F$16,BuildingSize,0)+1,FALSE),0)))","v":0},{"$f":"Z57/1000*AA57*AC57*IF(IFERROR(SEARCH(\"Gas\",$A$18),0)>0,VLOOKUP(\"Gas\",HVACg_Lookup,MATCH($F$16,BuildingSize,0)+1,FALSE),IF(IFERROR(SEARCH(\"Oil\",$A$18),0)>0,VLOOKUP(\"Oil\",HVACg_Lookup,MATCH($F$16,BuildingSize,0)+1,FALSE),IF(IFERROR(SEARCH(\"Propane\",$A$18),0)>0,VLOOKUP(\"Propane\",HVACg_Lookup,MATCH(Worksheet!$F$16,BuildingSize,0)+1,FALSE),0)))","v":0},0,0,"",""]
[null,null,"",null,null,null,null,null,null,null,null,null,null,null,null,0,0,0,0,"",0,0,0,0,0,0,0,0,0,0,0,0,0,0,0,0,0,{"$f":"Y58/1000*AA58*AC58*IF(IFERROR(SEARCH(\"Gas\",$A$18),0)>0,VLOOKUP(\"Gas\",HVACg_Lookup,MATCH($F$16,BuildingSize,0)+1,FALSE),IF(IFERROR(SEARCH(\"Oil\",$A$18),0)>0,VLOOKUP(\"Oil\",HVACg_Lookup,MATCH($F$16,BuildingSize,0)+1,FALSE),IF(IFERROR(SEARCH(\"Propane\",$A$18),0)>0,VLOOKUP(\"Propane\",HVACg_Lookup,MATCH(Worksheet!$F$16,BuildingSize,0)+1,FALSE),0)))","v":0},{"$f":"Z58/1000*AA58*AC58*IF(IFERROR(SEARCH(\"Gas\",$A$18),0)>0,VLOOKUP(\"Gas\",HVACg_Lookup,MATCH($F$16,BuildingSize,0)+1,FALSE),IF(IFERROR(SEARCH(\"Oil\",$A$18),0)>0,VLOOKUP(\"Oil\",HVACg_Lookup,MATCH($F$16,BuildingSize,0)+1,FALSE),IF(IFERROR(SEARCH(\"Propane\",$A$18),0)>0,VLOOKUP(\"Propane\",HVACg_Lookup,MATCH(Worksheet!$F$16,BuildingSize,0)+1,FALSE),0)))","v":0},0,0,"",""]
[null,null,"",null,null,null,null,null,null,null,null,null,null,null,null,0,0,0,0,"",0,0,0,0,0,0,0,0,0,0,0,0,0,0,0,0,0,{"$f":"Y59/1000*AA59*AC59*IF(IFERROR(SEARCH(\"Gas\",$A$18),0)>0,VLOOKUP(\"Gas\",HVACg_Lookup,MATCH($F$16,BuildingSize,0)+1,FALSE),IF(IFERROR(SEARCH(\"Oil\",$A$18),0)>0,VLOOKUP(\"Oil\",HVACg_Lookup,MATCH($F$16,BuildingSize,0)+1,FALSE),IF(IFERROR(SEARCH(\"Propane\",$A$18),0)>0,VLOOKUP(\"Propane\",HVACg_Lookup,MATCH(Worksheet!$F$16,BuildingSize,0)+1,FALSE),0)))","v":0},{"$f":"Z59/1000*AA59*AC59*IF(IFERROR(SEARCH(\"Gas\",$A$18),0)>0,VLOOKUP(\"Gas\",HVACg_Lookup,MATCH($F$16,BuildingSize,0)+1,FALSE),IF(IFERROR(SEARCH(\"Oil\",$A$18),0)>0,VLOOKUP(\"Oil\",HVACg_Lookup,MATCH($F$16,BuildingSize,0)+1,FALSE),IF(IFERROR(SEARCH(\"Propane\",$A$18),0)>0,VLOOKUP(\"Propane\",HVACg_Lookup,MATCH(Worksheet!$F$16,BuildingSize,0)+1,FALSE),0)))","v":0},0,0,"",""]
[null,null,"",null,null,null,null,null,null,null,null,null,null,null,null,0,0,0,0,"",0,0,0,0,0,0,0,0,0,0,0,0,0,0,0,0,0,{"$f":"Y60/1000*AA60*AC60*IF(IFERROR(SEARCH(\"Gas\",$A$18),0)>0,VLOOKUP(\"Gas\",HVACg_Lookup,MATCH($F$16,BuildingSize,0)+1,FALSE),IF(IFERROR(SEARCH(\"Oil\",$A$18),0)>0,VLOOKUP(\"Oil\",HVACg_Lookup,MATCH($F$16,BuildingSize,0)+1,FALSE),IF(IFERROR(SEARCH(\"Propane\",$A$18),0)>0,VLOOKUP(\"Propane\",HVACg_Lookup,MATCH(Worksheet!$F$16,BuildingSize,0)+1,FALSE),0)))","v":0},{"$f":"Z60/1000*AA60*AC60*IF(IFERROR(SEARCH(\"Gas\",$A$18),0)>0,VLOOKUP(\"Gas\",HVACg_Lookup,MATCH($F$16,BuildingSize,0)+1,FALSE),IF(IFERROR(SEARCH(\"Oil\",$A$18),0)>0,VLOOKUP(\"Oil\",HVACg_Lookup,MATCH($F$16,BuildingSize,0)+1,FALSE),IF(IFERROR(SEARCH(\"Propane\",$A$18),0)>0,VLOOKUP(\"Propane\",HVACg_Lookup,MATCH(Worksheet!$F$16,BuildingSize,0)+1,FALSE),0)))","v":0},0,0,"",""]
[null,null,"",null,null,null,null,null,null,null,null,null,null,null,null,0,0,0,0,"",0,0,0,0,0,0,0,0,0,0,0,0,0,0,0,0,0,{"$f":"Y61/1000*AA61*AC61*IF(IFERROR(SEARCH(\"Gas\",$A$18),0)>0,VLOOKUP(\"Gas\",HVACg_Lookup,MATCH($F$16,BuildingSize,0)+1,FALSE),IF(IFERROR(SEARCH(\"Oil\",$A$18),0)>0,VLOOKUP(\"Oil\",HVACg_Lookup,MATCH($F$16,BuildingSize,0)+1,FALSE),IF(IFERROR(SEARCH(\"Propane\",$A$18),0)>0,VLOOKUP(\"Propane\",HVACg_Lookup,MATCH(Worksheet!$F$16,BuildingSize,0)+1,FALSE),0)))","v":0},{"$f":"Z61/1000*AA61*AC61*IF(IFERROR(SEARCH(\"Gas\",$A$18),0)>0,VLOOKUP(\"Gas\",HVACg_Lookup,MATCH($F$16,BuildingSize,0)+1,FALSE),IF(IFERROR(SEARCH(\"Oil\",$A$18),0)>0,VLOOKUP(\"Oil\",HVACg_Lookup,MATCH($F$16,BuildingSize,0)+1,FALSE),IF(IFERROR(SEARCH(\"Propane\",$A$18),0)>0,VLOOKUP(\"Propane\",HVACg_Lookup,MATCH(Worksheet!$F$16,BuildingSize,0)+1,FALSE),0)))","v":0},0,0,"",""]
[null,null,"",null,null,null,null,null,null,null,null,null,null,null,null,0,0,0,0,"",0,0,0,0,0,0,0,0,0,0,0,0,0,0,0,0,0,{"$f":"Y62/1000*AA62*AC62*IF(IFERROR(SEARCH(\"Gas\",$A$18),0)>0,VLOOKUP(\"Gas\",HVACg_Lookup,MATCH($F$16,BuildingSize,0)+1,FALSE),IF(IFERROR(SEARCH(\"Oil\",$A$18),0)>0,VLOOKUP(\"Oil\",HVACg_Lookup,MATCH($F$16,BuildingSize,0)+1,FALSE),IF(IFERROR(SEARCH(\"Propane\",$A$18),0)>0,VLOOKUP(\"Propane\",HVACg_Lookup,MATCH(Worksheet!$F$16,BuildingSize,0)+1,FALSE),0)))","v":0},{"$f":"Z62/1000*AA62*AC62*IF(IFERROR(SEARCH(\"Gas\",$A$18),0)>0,VLOOKUP(\"Gas\",HVACg_Lookup,MATCH($F$16,BuildingSize,0)+1,FALSE),IF(IFERROR(SEARCH(\"Oil\",$A$18),0)>0,VLOOKUP(\"Oil\",HVACg_Lookup,MATCH($F$16,BuildingSize,0)+1,FALSE),IF(IFERROR(SEARCH(\"Propane\",$A$18),0)>0,VLOOKUP(\"Propane\",HVACg_Lookup,MATCH(Worksheet!$F$16,BuildingSize,0)+1,FALSE),0)))","v":0},0,0,"",""]
[null,null,"",null,null,null,null,null,null,null,null,null,null,null,null,0,0,0,0,"",0,0,0,0,0,0,0,0,0,0,0,0,0,0,0,0,0,{"$f":"Y63/1000*AA63*AC63*IF(IFERROR(SEARCH(\"Gas\",$A$18),0)>0,VLOOKUP(\"Gas\",HVACg_Lookup,MATCH($F$16,BuildingSize,0)+1,FALSE),IF(IFERROR(SEARCH(\"Oil\",$A$18),0)>0,VLOOKUP(\"Oil\",HVACg_Lookup,MATCH($F$16,BuildingSize,0)+1,FALSE),IF(IFERROR(SEARCH(\"Propane\",$A$18),0)>0,VLOOKUP(\"Propane\",HVACg_Lookup,MATCH(Worksheet!$F$16,BuildingSize,0)+1,FALSE),0)))","v":0},{"$f":"Z63/1000*AA63*AC63*IF(IFERROR(SEARCH(\"Gas\",$A$18),0)>0,VLOOKUP(\"Gas\",HVACg_Lookup,MATCH($F$16,BuildingSize,0)+1,FALSE),IF(IFERROR(SEARCH(\"Oil\",$A$18),0)>0,VLOOKUP(\"Oil\",HVACg_Lookup,MATCH($F$16,BuildingSize,0)+1,FALSE),IF(IFERROR(SEARCH(\"Propane\",$A$18),0)>0,VLOOKUP(\"Propane\",HVACg_Lookup,MATCH(Worksheet!$F$16,BuildingSize,0)+1,FALSE),0)))","v":0},0,0,"",""]
[null,null,"",null,null,null,null,null,null,null,null,null,null,null,null,0,0,0,0,"",0,0,0,0,0,0,0,0,0,0,0,0,0,0,0,0,0,{"$f":"Y64/1000*AA64*AC64*IF(IFERROR(SEARCH(\"Gas\",$A$18),0)>0,VLOOKUP(\"Gas\",HVACg_Lookup,MATCH($F$16,BuildingSize,0)+1,FALSE),IF(IFERROR(SEARCH(\"Oil\",$A$18),0)>0,VLOOKUP(\"Oil\",HVACg_Lookup,MATCH($F$16,BuildingSize,0)+1,FALSE),IF(IFERROR(SEARCH(\"Propane\",$A$18),0)>0,VLOOKUP(\"Propane\",HVACg_Lookup,MATCH(Worksheet!$F$16,BuildingSize,0)+1,FALSE),0)))","v":0},{"$f":"Z64/1000*AA64*AC64*IF(IFERROR(SEARCH(\"Gas\",$A$18),0)>0,VLOOKUP(\"Gas\",HVACg_Lookup,MATCH($F$16,BuildingSize,0)+1,FALSE),IF(IFERROR(SEARCH(\"Oil\",$A$18),0)>0,VLOOKUP(\"Oil\",HVACg_Lookup,MATCH($F$16,BuildingSize,0)+1,FALSE),IF(IFERROR(SEARCH(\"Propane\",$A$18),0)>0,VLOOKUP(\"Propane\",HVACg_Lookup,MATCH(Worksheet!$F$16,BuildingSize,0)+1,FALSE),0)))","v":0},0,0,"",""]
[null,null,"",null,null,null,null,null,null,null,null,null,null,null,null,0,0,0,0,"",0,0,0,0,0,0,0,0,0,0,0,0,0,0,0,0,0,{"$f":"Y65/1000*AA65*AC65*IF(IFERROR(SEARCH(\"Gas\",$A$18),0)>0,VLOOKUP(\"Gas\",HVACg_Lookup,MATCH($F$16,BuildingSize,0)+1,FALSE),IF(IFERROR(SEARCH(\"Oil\",$A$18),0)>0,VLOOKUP(\"Oil\",HVACg_Lookup,MATCH($F$16,BuildingSize,0)+1,FALSE),IF(IFERROR(SEARCH(\"Propane\",$A$18),0)>0,VLOOKUP(\"Propane\",HVACg_Lookup,MATCH(Worksheet!$F$16,BuildingSize,0)+1,FALSE),0)))","v":0},{"$f":"Z65/1000*AA65*AC65*IF(IFERROR(SEARCH(\"Gas\",$A$18),0)>0,VLOOKUP(\"Gas\",HVACg_Lookup,MATCH($F$16,BuildingSize,0)+1,FALSE),IF(IFERROR(SEARCH(\"Oil\",$A$18),0)>0,VLOOKUP(\"Oil\",HVACg_Lookup,MATCH($F$16,BuildingSize,0)+1,FALSE),IF(IFERROR(SEARCH(\"Propane\",$A$18),0)>0,VLOOKUP(\"Propane\",HVACg_Lookup,MATCH(Worksheet!$F$16,BuildingSize,0)+1,FALSE),0)))","v":0},0,0,"",""]
[null,null,"",null,null,null,null,null,null,null,null,null,null,null,null,0,0,0,0,"",0,0,0,0,0,0,0,0,0,0,0,0,0,0,0,0,0,{"$f":"Y66/1000*AA66*AC66*IF(IFERROR(SEARCH(\"Gas\",$A$18),0)>0,VLOOKUP(\"Gas\",HVACg_Lookup,MATCH($F$16,BuildingSize,0)+1,FALSE),IF(IFERROR(SEARCH(\"Oil\",$A$18),0)>0,VLOOKUP(\"Oil\",HVACg_Lookup,MATCH($F$16,BuildingSize,0)+1,FALSE),IF(IFERROR(SEARCH(\"Propane\",$A$18),0)>0,VLOOKUP(\"Propane\",HVACg_Lookup,MATCH(Worksheet!$F$16,BuildingSize,0)+1,FALSE),0)))","v":0},{"$f":"Z66/1000*AA66*AC66*IF(IFERROR(SEARCH(\"Gas\",$A$18),0)>0,VLOOKUP(\"Gas\",HVACg_Lookup,MATCH($F$16,BuildingSize,0)+1,FALSE),IF(IFERROR(SEARCH(\"Oil\",$A$18),0)>0,VLOOKUP(\"Oil\",HVACg_Lookup,MATCH($F$16,BuildingSize,0)+1,FALSE),IF(IFERROR(SEARCH(\"Propane\",$A$18),0)>0,VLOOKUP(\"Propane\",HVACg_Lookup,MATCH(Worksheet!$F$16,BuildingSize,0)+1,FALSE),0)))","v":0},0,0,"",""]
[null,null,"",null,null,null,null,null,null,null,null,null,null,null,null,0,0,0,0,"",0,0,0,0,0,0,0,0,0,0,0,0,0,0,0,0,0,{"$f":"Y67/1000*AA67*AC67*IF(IFERROR(SEARCH(\"Gas\",$A$18),0)>0,VLOOKUP(\"Gas\",HVACg_Lookup,MATCH($F$16,BuildingSize,0)+1,FALSE),IF(IFERROR(SEARCH(\"Oil\",$A$18),0)>0,VLOOKUP(\"Oil\",HVACg_Lookup,MATCH($F$16,BuildingSize,0)+1,FALSE),IF(IFERROR(SEARCH(\"Propane\",$A$18),0)>0,VLOOKUP(\"Propane\",HVACg_Lookup,MATCH(Worksheet!$F$16,BuildingSize,0)+1,FALSE),0)))","v":0},{"$f":"Z67/1000*AA67*AC67*IF(IFERROR(SEARCH(\"Gas\",$A$18),0)>0,VLOOKUP(\"Gas\",HVACg_Lookup,MATCH($F$16,BuildingSize,0)+1,FALSE),IF(IFERROR(SEARCH(\"Oil\",$A$18),0)>0,VLOOKUP(\"Oil\",HVACg_Lookup,MATCH($F$16,BuildingSize,0)+1,FALSE),IF(IFERROR(SEARCH(\"Propane\",$A$18),0)>0,VLOOKUP(\"Propane\",HVACg_Lookup,MATCH(Worksheet!$F$16,BuildingSize,0)+1,FALSE),0)))","v":0},0,0,"",""]
[null,null,"",null,null,null,null,null,null,null,null,null,null,null,null,0,0,0,0,"",0,0,0,0,0,0,0,0,0,0,0,0,0,0,0,0,0,{"$f":"Y68/1000*AA68*AC68*IF(IFERROR(SEARCH(\"Gas\",$A$18),0)>0,VLOOKUP(\"Gas\",HVACg_Lookup,MATCH($F$16,BuildingSize,0)+1,FALSE),IF(IFERROR(SEARCH(\"Oil\",$A$18),0)>0,VLOOKUP(\"Oil\",HVACg_Lookup,MATCH($F$16,BuildingSize,0)+1,FALSE),IF(IFERROR(SEARCH(\"Propane\",$A$18),0)>0,VLOOKUP(\"Propane\",HVACg_Lookup,MATCH(Worksheet!$F$16,BuildingSize,0)+1,FALSE),0)))","v":0},{"$f":"Z68/1000*AA68*AC68*IF(IFERROR(SEARCH(\"Gas\",$A$18),0)>0,VLOOKUP(\"Gas\",HVACg_Lookup,MATCH($F$16,BuildingSize,0)+1,FALSE),IF(IFERROR(SEARCH(\"Oil\",$A$18),0)>0,VLOOKUP(\"Oil\",HVACg_Lookup,MATCH($F$16,BuildingSize,0)+1,FALSE),IF(IFERROR(SEARCH(\"Propane\",$A$18),0)>0,VLOOKUP(\"Propane\",HVACg_Lookup,MATCH(Worksheet!$F$16,BuildingSize,0)+1,FALSE),0)))","v":0},0,0,"",""]
[null,null,"",null,null,null,null,null,null,null,null,null,null,null,null,0,0,0,0,"",0,0,0,0,0,0,0,0,0,0,0,0,0,0,0,0,0,{"$f":"Y69/1000*AA69*AC69*IF(IFERROR(SEARCH(\"Gas\",$A$18),0)>0,VLOOKUP(\"Gas\",HVACg_Lookup,MATCH($F$16,BuildingSize,0)+1,FALSE),IF(IFERROR(SEARCH(\"Oil\",$A$18),0)>0,VLOOKUP(\"Oil\",HVACg_Lookup,MATCH($F$16,BuildingSize,0)+1,FALSE),IF(IFERROR(SEARCH(\"Propane\",$A$18),0)>0,VLOOKUP(\"Propane\",HVACg_Lookup,MATCH(Worksheet!$F$16,BuildingSize,0)+1,FALSE),0)))","v":0},{"$f":"Z69/1000*AA69*AC69*IF(IFERROR(SEARCH(\"Gas\",$A$18),0)>0,VLOOKUP(\"Gas\",HVACg_Lookup,MATCH($F$16,BuildingSize,0)+1,FALSE),IF(IFERROR(SEARCH(\"Oil\",$A$18),0)>0,VLOOKUP(\"Oil\",HVACg_Lookup,MATCH($F$16,BuildingSize,0)+1,FALSE),IF(IFERROR(SEARCH(\"Propane\",$A$18),0)>0,VLOOKUP(\"Propane\",HVACg_Lookup,MATCH(Worksheet!$F$16,BuildingSize,0)+1,FALSE),0)))","v":0},0,0,"",""]
[null,null,"",null,null,null,null,null,null,null,null,null,null,null,null,0,0,0,0,"",0,0,0,0,0,0,0,0,0,0,0,0,0,0,0,0,0,{"$f":"Y70/1000*AA70*AC70*IF(IFERROR(SEARCH(\"Gas\",$A$18),0)>0,VLOOKUP(\"Gas\",HVACg_Lookup,MATCH($F$16,BuildingSize,0)+1,FALSE),IF(IFERROR(SEARCH(\"Oil\",$A$18),0)>0,VLOOKUP(\"Oil\",HVACg_Lookup,MATCH($F$16,BuildingSize,0)+1,FALSE),IF(IFERROR(SEARCH(\"Propane\",$A$18),0)>0,VLOOKUP(\"Propane\",HVACg_Lookup,MATCH(Worksheet!$F$16,BuildingSize,0)+1,FALSE),0)))","v":0},{"$f":"Z70/1000*AA70*AC70*IF(IFERROR(SEARCH(\"Gas\",$A$18),0)>0,VLOOKUP(\"Gas\",HVACg_Lookup,MATCH($F$16,BuildingSize,0)+1,FALSE),IF(IFERROR(SEARCH(\"Oil\",$A$18),0)>0,VLOOKUP(\"Oil\",HVACg_Lookup,MATCH($F$16,BuildingSize,0)+1,FALSE),IF(IFERROR(SEARCH(\"Propane\",$A$18),0)>0,VLOOKUP(\"Propane\",HVACg_Lookup,MATCH(Worksheet!$F$16,BuildingSize,0)+1,FALSE),0)))","v":0},0,0,"",""]
[null,null,"",null,null,null,null,null,null,null,null,null,null,null,null,0,0,0,0,"",0,0,0,0,0,0,0,0,0,0,0,0,0,0,0,0,0,{"$f":"Y71/1000*AA71*AC71*IF(IFERROR(SEARCH(\"Gas\",$A$18),0)>0,VLOOKUP(\"Gas\",HVACg_Lookup,MATCH($F$16,BuildingSize,0)+1,FALSE),IF(IFERROR(SEARCH(\"Oil\",$A$18),0)>0,VLOOKUP(\"Oil\",HVACg_Lookup,MATCH($F$16,BuildingSize,0)+1,FALSE),IF(IFERROR(SEARCH(\"Propane\",$A$18),0)>0,VLOOKUP(\"Propane\",HVACg_Lookup,MATCH(Worksheet!$F$16,BuildingSize,0)+1,FALSE),0)))","v":0},{"$f":"Z71/1000*AA71*AC71*IF(IFERROR(SEARCH(\"Gas\",$A$18),0)>0,VLOOKUP(\"Gas\",HVACg_Lookup,MATCH($F$16,BuildingSize,0)+1,FALSE),IF(IFERROR(SEARCH(\"Oil\",$A$18),0)>0,VLOOKUP(\"Oil\",HVACg_Lookup,MATCH($F$16,BuildingSize,0)+1,FALSE),IF(IFERROR(SEARCH(\"Propane\",$A$18),0)>0,VLOOKUP(\"Propane\",HVACg_Lookup,MATCH(Worksheet!$F$16,BuildingSize,0)+1,FALSE),0)))","v":0},0,0,"",""]
[null,null,"",null,null,null,null,null,null,null,null,null,null,null,null,0,0,0,0,"",0,0,0,0,0,0,0,0,0,0,0,0,0,0,0,0,0,{"$f":"Y72/1000*AA72*AC72*IF(IFERROR(SEARCH(\"Gas\",$A$18),0)>0,VLOOKUP(\"Gas\",HVACg_Lookup,MATCH($F$16,BuildingSize,0)+1,FALSE),IF(IFERROR(SEARCH(\"Oil\",$A$18),0)>0,VLOOKUP(\"Oil\",HVACg_Lookup,MATCH($F$16,BuildingSize,0)+1,FALSE),IF(IFERROR(SEARCH(\"Propane\",$A$18),0)>0,VLOOKUP(\"Propane\",HVACg_Lookup,MATCH(Worksheet!$F$16,BuildingSize,0)+1,FALSE),0)))","v":0},{"$f":"Z72/1000*AA72*AC72*IF(IFERROR(SEARCH(\"Gas\",$A$18),0)>0,VLOOKUP(\"Gas\",HVACg_Lookup,MATCH($F$16,BuildingSize,0)+1,FALSE),IF(IFERROR(SEARCH(\"Oil\",$A$18),0)>0,VLOOKUP(\"Oil\",HVACg_Lookup,MATCH($F$16,BuildingSize,0)+1,FALSE),IF(IFERROR(SEARCH(\"Propane\",$A$18),0)>0,VLOOKUP(\"Propane\",HVACg_Lookup,MATCH(Worksheet!$F$16,BuildingSize,0)+1,FALSE),0)))","v":0},0,0,"",""]
[null,null,"",null,null,null,null,null,null,null,null,null,null,null,null,0,0,0,0,"",0,0,0,0,0,0,0,0,0,0,0,0,0,0,0,0,0,{"$f":"Y73/1000*AA73*AC73*IF(IFERROR(SEARCH(\"Gas\",$A$18),0)>0,VLOOKUP(\"Gas\",HVACg_Lookup,MATCH($F$16,BuildingSize,0)+1,FALSE),IF(IFERROR(SEARCH(\"Oil\",$A$18),0)>0,VLOOKUP(\"Oil\",HVACg_Lookup,MATCH($F$16,BuildingSize,0)+1,FALSE),IF(IFERROR(SEARCH(\"Propane\",$A$18),0)>0,VLOOKUP(\"Propane\",HVACg_Lookup,MATCH(Worksheet!$F$16,BuildingSize,0)+1,FALSE),0)))","v":0},{"$f":"Z73/1000*AA73*AC73*IF(IFERROR(SEARCH(\"Gas\",$A$18),0)>0,VLOOKUP(\"Gas\",HVACg_Lookup,MATCH($F$16,BuildingSize,0)+1,FALSE),IF(IFERROR(SEARCH(\"Oil\",$A$18),0)>0,VLOOKUP(\"Oil\",HVACg_Lookup,MATCH($F$16,BuildingSize,0)+1,FALSE),IF(IFERROR(SEARCH(\"Propane\",$A$18),0)>0,VLOOKUP(\"Propane\",HVACg_Lookup,MATCH(Worksheet!$F$16,BuildingSize,0)+1,FALSE),0)))","v":0},0,0,"",""]
[null,null,"",null,null,null,null,null,null,null,null,null,null,null,null,0,0,0,0,"",0,0,0,0,0,0,0,0,0,0,0,0,0,0,0,0,0,{"$f":"Y74/1000*AA74*AC74*IF(IFERROR(SEARCH(\"Gas\",$A$18),0)>0,VLOOKUP(\"Gas\",HVACg_Lookup,MATCH($F$16,BuildingSize,0)+1,FALSE),IF(IFERROR(SEARCH(\"Oil\",$A$18),0)>0,VLOOKUP(\"Oil\",HVACg_Lookup,MATCH($F$16,BuildingSize,0)+1,FALSE),IF(IFERROR(SEARCH(\"Propane\",$A$18),0)>0,VLOOKUP(\"Propane\",HVACg_Lookup,MATCH(Worksheet!$F$16,BuildingSize,0)+1,FALSE),0)))","v":0},{"$f":"Z74/1000*AA74*AC74*IF(IFERROR(SEARCH(\"Gas\",$A$18),0)>0,VLOOKUP(\"Gas\",HVACg_Lookup,MATCH($F$16,BuildingSize,0)+1,FALSE),IF(IFERROR(SEARCH(\"Oil\",$A$18),0)>0,VLOOKUP(\"Oil\",HVACg_Lookup,MATCH($F$16,BuildingSize,0)+1,FALSE),IF(IFERROR(SEARCH(\"Propane\",$A$18),0)>0,VLOOKUP(\"Propane\",HVACg_Lookup,MATCH(Worksheet!$F$16,BuildingSize,0)+1,FALSE),0)))","v":0},0,0,"",""]
[null,null,"",null,null,null,null,null,null,null,null,null,null,null,null,0,0,0,0,"",0,0,0,0,0,0,0,0,0,0,0,0,0,0,0,0,0,{"$f":"Y75/1000*AA75*AC75*IF(IFERROR(SEARCH(\"Gas\",$A$18),0)>0,VLOOKUP(\"Gas\",HVACg_Lookup,MATCH($F$16,BuildingSize,0)+1,FALSE),IF(IFERROR(SEARCH(\"Oil\",$A$18),0)>0,VLOOKUP(\"Oil\",HVACg_Lookup,MATCH($F$16,BuildingSize,0)+1,FALSE),IF(IFERROR(SEARCH(\"Propane\",$A$18),0)>0,VLOOKUP(\"Propane\",HVACg_Lookup,MATCH(Worksheet!$F$16,BuildingSize,0)+1,FALSE),0)))","v":0},{"$f":"Z75/1000*AA75*AC75*IF(IFERROR(SEARCH(\"Gas\",$A$18),0)>0,VLOOKUP(\"Gas\",HVACg_Lookup,MATCH($F$16,BuildingSize,0)+1,FALSE),IF(IFERROR(SEARCH(\"Oil\",$A$18),0)>0,VLOOKUP(\"Oil\",HVACg_Lookup,MATCH($F$16,BuildingSize,0)+1,FALSE),IF(IFERROR(SEARCH(\"Propane\",$A$18),0)>0,VLOOKUP(\"Propane\",HVACg_Lookup,MATCH(Worksheet!$F$16,BuildingSize,0)+1,FALSE),0)))","v":0},0,0,"",""]
[null,null,"",null,null,null,null,null,null,null,null,null,null,null,null,0,0,0,0,"",0,0,0,0,0,0,0,0,0,0,0,0,0,0,0,0,0,{"$f":"Y76/1000*AA76*AC76*IF(IFERROR(SEARCH(\"Gas\",$A$18),0)>0,VLOOKUP(\"Gas\",HVACg_Lookup,MATCH($F$16,BuildingSize,0)+1,FALSE),IF(IFERROR(SEARCH(\"Oil\",$A$18),0)>0,VLOOKUP(\"Oil\",HVACg_Lookup,MATCH($F$16,BuildingSize,0)+1,FALSE),IF(IFERROR(SEARCH(\"Propane\",$A$18),0)>0,VLOOKUP(\"Propane\",HVACg_Lookup,MATCH(Worksheet!$F$16,BuildingSize,0)+1,FALSE),0)))","v":0},{"$f":"Z76/1000*AA76*AC76*IF(IFERROR(SEARCH(\"Gas\",$A$18),0)>0,VLOOKUP(\"Gas\",HVACg_Lookup,MATCH($F$16,BuildingSize,0)+1,FALSE),IF(IFERROR(SEARCH(\"Oil\",$A$18),0)>0,VLOOKUP(\"Oil\",HVACg_Lookup,MATCH($F$16,BuildingSize,0)+1,FALSE),IF(IFERROR(SEARCH(\"Propane\",$A$18),0)>0,VLOOKUP(\"Propane\",HVACg_Lookup,MATCH(Worksheet!$F$16,BuildingSize,0)+1,FALSE),0)))","v":0},0,0,"",""]
[null,null,"",null,null,null,null,null,null,null,null,null,null,null,null,0,0,0,0,"",0,0,0,0,0,0,0,0,0,0,0,0,0,0,0,0,0,{"$f":"Y77/1000*AA77*AC77*IF(IFERROR(SEARCH(\"Gas\",$A$18),0)>0,VLOOKUP(\"Gas\",HVACg_Lookup,MATCH($F$16,BuildingSize,0)+1,FALSE),IF(IFERROR(SEARCH(\"Oil\",$A$18),0)>0,VLOOKUP(\"Oil\",HVACg_Lookup,MATCH($F$16,BuildingSize,0)+1,FALSE),IF(IFERROR(SEARCH(\"Propane\",$A$18),0)>0,VLOOKUP(\"Propane\",HVACg_Lookup,MATCH(Worksheet!$F$16,BuildingSize,0)+1,FALSE),0)))","v":0},{"$f":"Z77/1000*AA77*AC77*IF(IFERROR(SEARCH(\"Gas\",$A$18),0)>0,VLOOKUP(\"Gas\",HVACg_Lookup,MATCH($F$16,BuildingSize,0)+1,FALSE),IF(IFERROR(SEARCH(\"Oil\",$A$18),0)>0,VLOOKUP(\"Oil\",HVACg_Lookup,MATCH($F$16,BuildingSize,0)+1,FALSE),IF(IFERROR(SEARCH(\"Propane\",$A$18),0)>0,VLOOKUP(\"Propane\",HVACg_Lookup,MATCH(Worksheet!$F$16,BuildingSize,0)+1,FALSE),0)))","v":0},0,0,"",""]
[null,null,"",null,null,null,null,null,null,null,null,null,null,null,null,0,0,0,0,"",0,0,0,0,0,0,0,0,0,0,0,0,0,0,0,0,0,{"$f":"Y78/1000*AA78*AC78*IF(IFERROR(SEARCH(\"Gas\",$A$18),0)>0,VLOOKUP(\"Gas\",HVACg_Lookup,MATCH($F$16,BuildingSize,0)+1,FALSE),IF(IFERROR(SEARCH(\"Oil\",$A$18),0)>0,VLOOKUP(\"Oil\",HVACg_Lookup,MATCH($F$16,BuildingSize,0)+1,FALSE),IF(IFERROR(SEARCH(\"Propane\",$A$18),0)>0,VLOOKUP(\"Propane\",HVACg_Lookup,MATCH(Worksheet!$F$16,BuildingSize,0)+1,FALSE),0)))","v":0},{"$f":"Z78/1000*AA78*AC78*IF(IFERROR(SEARCH(\"Gas\",$A$18),0)>0,VLOOKUP(\"Gas\",HVACg_Lookup,MATCH($F$16,BuildingSize,0)+1,FALSE),IF(IFERROR(SEARCH(\"Oil\",$A$18),0)>0,VLOOKUP(\"Oil\",HVACg_Lookup,MATCH($F$16,BuildingSize,0)+1,FALSE),IF(IFERROR(SEARCH(\"Propane\",$A$18),0)>0,VLOOKUP(\"Propane\",HVACg_Lookup,MATCH(Worksheet!$F$16,BuildingSize,0)+1,FALSE),0)))","v":0},0,0,"",""]
[null,null,"",null,null,null,null,null,null,null,null,null,null,null,null,0,0,0,0,"",0,0,0,0,0,0,0,0,0,0,0,0,0,0,0,0,0,{"$f":"Y79/1000*AA79*AC79*IF(IFERROR(SEARCH(\"Gas\",$A$18),0)>0,VLOOKUP(\"Gas\",HVACg_Lookup,MATCH($F$16,BuildingSize,0)+1,FALSE),IF(IFERROR(SEARCH(\"Oil\",$A$18),0)>0,VLOOKUP(\"Oil\",HVACg_Lookup,MATCH($F$16,BuildingSize,0)+1,FALSE),IF(IFERROR(SEARCH(\"Propane\",$A$18),0)>0,VLOOKUP(\"Propane\",HVACg_Lookup,MATCH(Worksheet!$F$16,BuildingSize,0)+1,FALSE),0)))","v":0},{"$f":"Z79/1000*AA79*AC79*IF(IFERROR(SEARCH(\"Gas\",$A$18),0)>0,VLOOKUP(\"Gas\",HVACg_Lookup,MATCH($F$16,BuildingSize,0)+1,FALSE),IF(IFERROR(SEARCH(\"Oil\",$A$18),0)>0,VLOOKUP(\"Oil\",HVACg_Lookup,MATCH($F$16,BuildingSize,0)+1,FALSE),IF(IFERROR(SEARCH(\"Propane\",$A$18),0)>0,VLOOKUP(\"Propane\",HVACg_Lookup,MATCH(Worksheet!$F$16,BuildingSize,0)+1,FALSE),0)))","v":0},0,0,"",""]
[null,null,"",null,null,null,null,null,null,null,null,null,null,null,null,0,0,0,0,"",0,0,0,0,0,0,0,0,0,0,0,0,0,0,0,0,0,{"$f":"Y80/1000*AA80*AC80*IF(IFERROR(SEARCH(\"Gas\",$A$18),0)>0,VLOOKUP(\"Gas\",HVACg_Lookup,MATCH($F$16,BuildingSize,0)+1,FALSE),IF(IFERROR(SEARCH(\"Oil\",$A$18),0)>0,VLOOKUP(\"Oil\",HVACg_Lookup,MATCH($F$16,BuildingSize,0)+1,FALSE),IF(IFERROR(SEARCH(\"Propane\",$A$18),0)>0,VLOOKUP(\"Propane\",HVACg_Lookup,MATCH(Worksheet!$F$16,BuildingSize,0)+1,FALSE),0)))","v":0},{"$f":"Z80/1000*AA80*AC80*IF(IFERROR(SEARCH(\"Gas\",$A$18),0)>0,VLOOKUP(\"Gas\",HVACg_Lookup,MATCH($F$16,BuildingSize,0)+1,FALSE),IF(IFERROR(SEARCH(\"Oil\",$A$18),0)>0,VLOOKUP(\"Oil\",HVACg_Lookup,MATCH($F$16,BuildingSize,0)+1,FALSE),IF(IFERROR(SEARCH(\"Propane\",$A$18),0)>0,VLOOKUP(\"Propane\",HVACg_Lookup,MATCH(Worksheet!$F$16,BuildingSize,0)+1,FALSE),0)))","v":0},0,0,"",""]
[null,null,"",null,null,null,null,null,null,null,null,null,null,null,null,0,0,0,0,"",0,0,0,0,0,0,0,0,0,0,0,0,0,0,0,0,0,{"$f":"Y81/1000*AA81*AC81*IF(IFERROR(SEARCH(\"Gas\",$A$18),0)>0,VLOOKUP(\"Gas\",HVACg_Lookup,MATCH($F$16,BuildingSize,0)+1,FALSE),IF(IFERROR(SEARCH(\"Oil\",$A$18),0)>0,VLOOKUP(\"Oil\",HVACg_Lookup,MATCH($F$16,BuildingSize,0)+1,FALSE),IF(IFERROR(SEARCH(\"Propane\",$A$18),0)>0,VLOOKUP(\"Propane\",HVACg_Lookup,MATCH(Worksheet!$F$16,BuildingSize,0)+1,FALSE),0)))","v":0},{"$f":"Z81/1000*AA81*AC81*IF(IFERROR(SEARCH(\"Gas\",$A$18),0)>0,VLOOKUP(\"Gas\",HVACg_Lookup,MATCH($F$16,BuildingSize,0)+1,FALSE),IF(IFERROR(SEARCH(\"Oil\",$A$18),0)>0,VLOOKUP(\"Oil\",HVACg_Lookup,MATCH($F$16,BuildingSize,0)+1,FALSE),IF(IFERROR(SEARCH(\"Propane\",$A$18),0)>0,VLOOKUP(\"Propane\",HVACg_Lookup,MATCH(Worksheet!$F$16,BuildingSize,0)+1,FALSE),0)))","v":0},0,0,"",""]
[null,null,"",null,null,null,null,null,null,null,null,null,null,null,null,0,0,0,0,"",0,0,0,0,0,0,0,0,0,0,0,0,0,0,0,0,0,{"$f":"Y82/1000*AA82*AC82*IF(IFERROR(SEARCH(\"Gas\",$A$18),0)>0,VLOOKUP(\"Gas\",HVACg_Lookup,MATCH($F$16,BuildingSize,0)+1,FALSE),IF(IFERROR(SEARCH(\"Oil\",$A$18),0)>0,VLOOKUP(\"Oil\",HVACg_Lookup,MATCH($F$16,BuildingSize,0)+1,FALSE),IF(IFERROR(SEARCH(\"Propane\",$A$18),0)>0,VLOOKUP(\"Propane\",HVACg_Lookup,MATCH(Worksheet!$F$16,BuildingSize,0)+1,FALSE),0)))","v":0},{"$f":"Z82/1000*AA82*AC82*IF(IFERROR(SEARCH(\"Gas\",$A$18),0)>0,VLOOKUP(\"Gas\",HVACg_Lookup,MATCH($F$16,BuildingSize,0)+1,FALSE),IF(IFERROR(SEARCH(\"Oil\",$A$18),0)>0,VLOOKUP(\"Oil\",HVACg_Lookup,MATCH($F$16,BuildingSize,0)+1,FALSE),IF(IFERROR(SEARCH(\"Propane\",$A$18),0)>0,VLOOKUP(\"Propane\",HVACg_Lookup,MATCH(Worksheet!$F$16,BuildingSize,0)+1,FALSE),0)))","v":0},0,0,"",""]
[null,null,"",null,null,null,null,null,null,null,null,null,null,null,null,0,0,0,0,"",0,0,0,0,0,0,0,0,0,0,0,0,0,0,0,0,0,{"$f":"Y83/1000*AA83*AC83*IF(IFERROR(SEARCH(\"Gas\",$A$18),0)>0,VLOOKUP(\"Gas\",HVACg_Lookup,MATCH($F$16,BuildingSize,0)+1,FALSE),IF(IFERROR(SEARCH(\"Oil\",$A$18),0)>0,VLOOKUP(\"Oil\",HVACg_Lookup,MATCH($F$16,BuildingSize,0)+1,FALSE),IF(IFERROR(SEARCH(\"Propane\",$A$18),0)>0,VLOOKUP(\"Propane\",HVACg_Lookup,MATCH(Worksheet!$F$16,BuildingSize,0)+1,FALSE),0)))","v":0},{"$f":"Z83/1000*AA83*AC83*IF(IFERROR(SEARCH(\"Gas\",$A$18),0)>0,VLOOKUP(\"Gas\",HVACg_Lookup,MATCH($F$16,BuildingSize,0)+1,FALSE),IF(IFERROR(SEARCH(\"Oil\",$A$18),0)>0,VLOOKUP(\"Oil\",HVACg_Lookup,MATCH($F$16,BuildingSize,0)+1,FALSE),IF(IFERROR(SEARCH(\"Propane\",$A$18),0)>0,VLOOKUP(\"Propane\",HVACg_Lookup,MATCH(Worksheet!$F$16,BuildingSize,0)+1,FALSE),0)))","v":0},0,0,"",""]
[null,null,"",null,null,null,null,null,null,null,null,null,null,null,null,0,0,0,0,"",0,0,0,0,0,0,0,0,0,0,0,0,0,0,0,0,0,{"$f":"Y84/1000*AA84*AC84*IF(IFERROR(SEARCH(\"Gas\",$A$18),0)>0,VLOOKUP(\"Gas\",HVACg_Lookup,MATCH($F$16,BuildingSize,0)+1,FALSE),IF(IFERROR(SEARCH(\"Oil\",$A$18),0)>0,VLOOKUP(\"Oil\",HVACg_Lookup,MATCH($F$16,BuildingSize,0)+1,FALSE),IF(IFERROR(SEARCH(\"Propane\",$A$18),0)>0,VLOOKUP(\"Propane\",HVACg_Lookup,MATCH(Worksheet!$F$16,BuildingSize,0)+1,FALSE),0)))","v":0},{"$f":"Z84/1000*AA84*AC84*IF(IFERROR(SEARCH(\"Gas\",$A$18),0)>0,VLOOKUP(\"Gas\",HVACg_Lookup,MATCH($F$16,BuildingSize,0)+1,FALSE),IF(IFERROR(SEARCH(\"Oil\",$A$18),0)>0,VLOOKUP(\"Oil\",HVACg_Lookup,MATCH($F$16,BuildingSize,0)+1,FALSE),IF(IFERROR(SEARCH(\"Propane\",$A$18),0)>0,VLOOKUP(\"Propane\",HVACg_Lookup,MATCH(Worksheet!$F$16,BuildingSize,0)+1,FALSE),0)))","v":0},0,0,"",""]
[null,null,"",null,null,null,null,null,null,null,null,null,null,null,null,0,0,0,0,"",0,0,0,0,0,0,0,0,0,0,0,0,0,0,0,0,0,{"$f":"Y85/1000*AA85*AC85*IF(IFERROR(SEARCH(\"Gas\",$A$18),0)>0,VLOOKUP(\"Gas\",HVACg_Lookup,MATCH($F$16,BuildingSize,0)+1,FALSE),IF(IFERROR(SEARCH(\"Oil\",$A$18),0)>0,VLOOKUP(\"Oil\",HVACg_Lookup,MATCH($F$16,BuildingSize,0)+1,FALSE),IF(IFERROR(SEARCH(\"Propane\",$A$18),0)>0,VLOOKUP(\"Propane\",HVACg_Lookup,MATCH(Worksheet!$F$16,BuildingSize,0)+1,FALSE),0)))","v":0},{"$f":"Z85/1000*AA85*AC85*IF(IFERROR(SEARCH(\"Gas\",$A$18),0)>0,VLOOKUP(\"Gas\",HVACg_Lookup,MATCH($F$16,BuildingSize,0)+1,FALSE),IF(IFERROR(SEARCH(\"Oil\",$A$18),0)>0,VLOOKUP(\"Oil\",HVACg_Lookup,MATCH($F$16,BuildingSize,0)+1,FALSE),IF(IFERROR(SEARCH(\"Propane\",$A$18),0)>0,VLOOKUP(\"Propane\",HVACg_Lookup,MATCH(Worksheet!$F$16,BuildingSize,0)+1,FALSE),0)))","v":0},0,0,"",""]
[null,null,"",null,null,null,null,null,null,null,null,null,null,null,null,0,0,0,0,"",0,0,0,0,0,0,0,0,0,0,0,0,0,0,0,0,0,{"$f":"Y86/1000*AA86*AC86*IF(IFERROR(SEARCH(\"Gas\",$A$18),0)>0,VLOOKUP(\"Gas\",HVACg_Lookup,MATCH($F$16,BuildingSize,0)+1,FALSE),IF(IFERROR(SEARCH(\"Oil\",$A$18),0)>0,VLOOKUP(\"Oil\",HVACg_Lookup,MATCH($F$16,BuildingSize,0)+1,FALSE),IF(IFERROR(SEARCH(\"Propane\",$A$18),0)>0,VLOOKUP(\"Propane\",HVACg_Lookup,MATCH(Worksheet!$F$16,BuildingSize,0)+1,FALSE),0)))","v":0},{"$f":"Z86/1000*AA86*AC86*IF(IFERROR(SEARCH(\"Gas\",$A$18),0)>0,VLOOKUP(\"Gas\",HVACg_Lookup,MATCH($F$16,BuildingSize,0)+1,FALSE),IF(IFERROR(SEARCH(\"Oil\",$A$18),0)>0,VLOOKUP(\"Oil\",HVACg_Lookup,MATCH($F$16,BuildingSize,0)+1,FALSE),IF(IFERROR(SEARCH(\"Propane\",$A$18),0)>0,VLOOKUP(\"Propane\",HVACg_Lookup,MATCH(Worksheet!$F$16,BuildingSize,0)+1,FALSE),0)))","v":0},0,0,"",""]
[null,null,"",null,null,null,null,null,null,null,null,null,null,null,null,0,0,0,0,"",0,0,0,0,0,0,0,0,0,0,0,0,0,0,0,0,0,{"$f":"Y87/1000*AA87*AC87*IF(IFERROR(SEARCH(\"Gas\",$A$18),0)>0,VLOOKUP(\"Gas\",HVACg_Lookup,MATCH($F$16,BuildingSize,0)+1,FALSE),IF(IFERROR(SEARCH(\"Oil\",$A$18),0)>0,VLOOKUP(\"Oil\",HVACg_Lookup,MATCH($F$16,BuildingSize,0)+1,FALSE),IF(IFERROR(SEARCH(\"Propane\",$A$18),0)>0,VLOOKUP(\"Propane\",HVACg_Lookup,MATCH(Worksheet!$F$16,BuildingSize,0)+1,FALSE),0)))","v":0},{"$f":"Z87/1000*AA87*AC87*IF(IFERROR(SEARCH(\"Gas\",$A$18),0)>0,VLOOKUP(\"Gas\",HVACg_Lookup,MATCH($F$16,BuildingSize,0)+1,FALSE),IF(IFERROR(SEARCH(\"Oil\",$A$18),0)>0,VLOOKUP(\"Oil\",HVACg_Lookup,MATCH($F$16,BuildingSize,0)+1,FALSE),IF(IFERROR(SEARCH(\"Propane\",$A$18),0)>0,VLOOKUP(\"Propane\",HVACg_Lookup,MATCH(Worksheet!$F$16,BuildingSize,0)+1,FALSE),0)))","v":0},0,0,"",""]
[null,null,"",null,null,null,null,null,null,null,null,null,null,null,null,0,0,{"$f":"IF(AP88=\"\",0,IF(AP88=1,VLOOKUP(A88,MeasureCode_Lookup,3,FALSE),\"DNQ\"))","v":0},{"$f":"IF(AQ88=\"\",0,IF(AQ88=1,VLOOKUP(A88,MeasureCode_Lookup,3,FALSE),\"DNQ\"))","v":0},{"$f":"IF(A88=\"\",\"\",VLOOKUP(A88,MeasureCode_Lookup,4,FALSE))","v":""},0,0,0,0,{"$f":"IF(N(R88)=0,0,F88*P88)","v":0},{"$f":"IF(N(S88)=0,0,G88*Q88)","v":0},{"$f":"IF(A88=\"\",0,VLOOKUP(A88,MeasureCode_Lookup,5,FALSE))","v":0},{"$f":"IF($A$16=\"\",0,VLOOKUP($A$16,BuildingType_Lookup,3,FALSE))","v":0},{"$f":"IF($A$16=\"\",0,VLOOKUP($A$16,BuildingType_Lookup,2,FALSE))","v":0},{"$f":"IF(AND(OR(AP88=\"\",AP88=0)=TRUE,OR(AQ88=\"\",AQ88=0))=TRUE,0,IF(AQ88=\"\",(IF(OR(C88=\"DDC\",C88=\"OHLC\")=TRUE,O88,P88)/1000)*AA88*AB88*(1+VLOOKUP($A$16,BuildingType_Lookup,4,FALSE)),IF(AQ88=0,0,(IF(OR(C88=\"DDC\",C88=\"OHLC\")=TRUE,O88,Q88)/1000)*AA88*AB88*(1+VLOOKUP($A$16,BuildingType_Lookup,4,FALSE)))))","v":0},{"$f":"IF(AND(OR(AP88=\"\",AP88=0)=TRUE,OR(AQ88=\"\",AQ88=0))=TRUE,0,IF(AQ88=\"\",(IF(OR(C88=\"DDC\",C88=\"OHLC\")=TRUE,O88,P88)/1000)*AA88*AC88*(1+VLOOKUP($A$16,BuildingType_Lookup,MATCH($A$18,HVAC,0)+4,FALSE)),IF(AQ88=0,0,(IF(OR(C88=\"DDC\",C88=\"OHLC\")=TRUE,O88,Q88)/1000)*AA88*AC88*(1+VLOOKUP($A$16,BuildingType_Lookup,MATCH($A$18,HVAC,0)+4,FALSE)))))","v":0},{"$f":"IFERROR(IF(OR(C88=\"DDC\",C88=\"OHLC\")=TRUE,F88*J88*AD88,F88*AD88),0)","v":0},{"$f":"IFERROR(IF(OR(C88=\"DDC\",C88=\"OHLC\")=TRUE,G88*K88*AD88,G88*AD88),0)","v":0},{"$f":"IFERROR(IF(OR(C88=\"DDC\",C88=\"OHLC\")=TRUE,F88*J88*AE88,F88*AE88),0)","v":0},{"$f":"IFERROR(IF(OR(C88=\"DDC\",C88=\"OHLC\")=TRUE,G88*K88*AE88,G88*AE88),0)","v":0},0,0,{"$f":"Y88/1000*AA88*AC88*IF(IFERROR(SEARCH(\"Gas\",$A$18),0)>0,VLOOKUP(\"Gas\",HVACg_Lookup,MATCH($F$16,BuildingSize,0)+1,FALSE),IF(IFERROR(SEARCH(\"Oil\",$A$18),0)>0,VLOOKUP(\"Oil\",HVACg_Lookup,MATCH($F$16,BuildingSize,0)+1,FALSE),IF(IFERROR(SEARCH(\"Propane\",$A$18),0)>0,VLOOKUP(\"Propane\",HVACg_Lookup,MATCH(Worksheet!$F$16,BuildingSize,0)+1,FALSE),0)))","v":0},{"$f":"Z88/1000*AA88*AC88*IF(IFERROR(SEARCH(\"Gas\",$A$18),0)>0,VLOOKUP(\"Gas\",HVACg_Lookup,MATCH($F$16,BuildingSize,0)+1,FALSE),IF(IFERROR(SEARCH(\"Oil\",$A$18),0)>0,VLOOKUP(\"Oil\",HVACg_Lookup,MATCH($F$16,BuildingSize,0)+1,FALSE),IF(IFERROR(SEARCH(\"Propane\",$A$18),0)>0,VLOOKUP(\"Propane\",HVACg_Lookup,MATCH(Worksheet!$F$16,BuildingSize,0)+1,FALSE),0)))","v":0},0,0,"",""]
[null,null,{"$f":"IF(A89=\"\",\"\",VLOOKUP(A89,MeasureCode_Lookup,2,FALSE))","v":""},null,null,null,null,null,null,null,null,null,null,null,null,{"$f":"IF(OR(A89=\"\",F89=\"\",J89=\"\",O89=\"\")=TRUE,0,J89*O89)","v":0},{"$f":"IF(OR(A89=\"\",G89=\"\",K89=\"\",O89=\"\")=TRUE,0,K89*O89)","v":0},0,0,"",{"$f":"IF(OR($A$11=TRUE,$A$12=TRUE,$B$11=TRUE,$B$12=TRUE,$C$11=TRUE)=TRUE,R89,0)","v":0},{"$f":"IF(OR($A$11=TRUE,$A$12=TRUE,$B$11=TRUE,$B$12=TRUE,$C$11=TRUE)=TRUE,S89,0)","v":0},{"$f":"IF(N(R89)=0,0,F89*(R89+U89)*IF(T89=\"per Fixture Controlled\",J89,1))","v":0},{"$f":"IF(N(S89)=0,0,G89*(S89+V89)*IF(T89=\"per Fixture Controlled\",K89,1))","v":0},0,0,0,0,0,0,0,0,0,0,0,{"$f":"AH89*8","v":0},{"$f":"AI89*8","v":0},{"$f":"Y89/1000*AA89*AC89*IF(IFERROR(SEARCH(\"Gas\",$A$18),0)>0,VLOOKUP(\"Gas\",HVACg_Lookup,MATCH($F$16,BuildingSize,0)+1,FALSE),IF(IFERROR(SEARCH(\"Oil\",$A$18),0)>0,VLOOKUP(\"Oil\",HVACg_Lookup,MATCH($F$16,BuildingSize,0)+1,FALSE),IF(IFERROR(SEARCH(\"Propane\",$A$18),0)>0,VLOOKUP(\"Propane\",HVACg_Lookup,MATCH(Worksheet!$F$16,BuildingSize,0)+1,FALSE),0)))","v":0},{"$f":"Z89/1000*AA89*AC89*IF(IFERROR(SEARCH(\"Gas\",$A$18),0)>0,VLOOKUP(\"Gas\",HVACg_Lookup,MATCH($F$16,BuildingSize,0)+1,FALSE),IF(IFERROR(SEARCH(\"Oil\",$A$18),0)>0,VLOOKUP(\"Oil\",HVACg_Lookup,MATCH($F$16,BuildingSize,0)+1,FALSE),IF(IFERROR(SEARCH(\"Propane\",$A$18),0)>0,VLOOKUP(\"Propane\",HVACg_Lookup,MATCH(Worksheet!$F$16,BuildingSize,0)+1,FALSE),0)))","v":0},{"$f":"AL89*8","v":0},{"$f":"AM89*8","v":0},{"$f":"IF(OR($B$4=\"\",$B$5=\"\",$A$16=\"\",$F$16=\"\",$A$18=\"\",A89=\"\",F89=\"\",J89=\"\",O89=\"\",P89=\"\")=TRUE,\"\",IF(C89=\"OSW\",IF(J89>=2,1,0),IF(C89=\"OSR\",IF(AND(J89>=2,P89>60)=TRUE,1,0),IF(C89=\"OSRH\",IF(AND(J89>=1,P89>90)=TRUE,1,0),IF(C89=\"OHLC\",IF(AND(N89=\"Y\",P89>60)=TRUE,1,0),IF(C89=\"DDC\",IF(AND(J89>=4,N89=\"Y\",P89>120)=TRUE,1,0),0))))))","v":""},{"$f":"IF(OR($B$4=\"\",$B$5=\"\",$A$16=\"\",$F$16=\"\",$A$18=\"\",A89=\"\",F89=\"\",K89=\"\",O89=\"\",P89=\"\")=TRUE,\"\",IF(C89=\"OSW\",IF(K89>=2,1,0),IF(C89=\"OSR\",IF(AND(K89>=2,Q89>60)=TRUE,1,0),IF(C89=\"OSRH\",IF(AND(K89>=1,Q89>90)=TRUE,1,0),IF(C89=\"OHLC\",IF(AND(N89=\"Y\",Q89>60)=TRUE,1,0),IF(C89=\"DDC\",IF(AND(K89>=4,N89=\"Y\",Q89>120)=TRUE,1,0),0))))))","v":""}]
[null,null,"",null,null,null,null,null,null,null,null,null,null,null,null,0,0,0,0,"",0,0,0,0,0,0,0,0,0,0,0,0,0,0,0,0,0,{"$f":"Y90/1000*AA90*AC90*IF(IFERROR(SEARCH(\"Gas\",$A$18),0)>0,VLOOKUP(\"Gas\",HVACg_Lookup,MATCH($F$16,BuildingSize,0)+1,FALSE),IF(IFERROR(SEARCH(\"Oil\",$A$18),0)>0,VLOOKUP(\"Oil\",HVACg_Lookup,MATCH($F$16,BuildingSize,0)+1,FALSE),IF(IFERROR(SEARCH(\"Propane\",$A$18),0)>0,VLOOKUP(\"Propane\",HVACg_Lookup,MATCH(Worksheet!$F$16,BuildingSize,0)+1,FALSE),0)))","v":0},{"$f":"Z90/1000*AA90*AC90*IF(IFERROR(SEARCH(\"Gas\",$A$18),0)>0,VLOOKUP(\"Gas\",HVACg_Lookup,MATCH($F$16,BuildingSize,0)+1,FALSE),IF(IFERROR(SEARCH(\"Oil\",$A$18),0)>0,VLOOKUP(\"Oil\",HVACg_Lookup,MATCH($F$16,BuildingSize,0)+1,FALSE),IF(IFERROR(SEARCH(\"Propane\",$A$18),0)>0,VLOOKUP(\"Propane\",HVACg_Lookup,MATCH(Worksheet!$F$16,BuildingSize,0)+1,FALSE),0)))","v":0},0,0,"",""]
[null,null,"",null,null,null,null,null,null,null,null,null,null,null,null,0,0,0,0,"",0,0,0,0,0,0,0,0,0,0,0,0,0,0,0,0,0,{"$f":"Y91/1000*AA91*AC91*IF(IFERROR(SEARCH(\"Gas\",$A$18),0)>0,VLOOKUP(\"Gas\",HVACg_Lookup,MATCH($F$16,BuildingSize,0)+1,FALSE),IF(IFERROR(SEARCH(\"Oil\",$A$18),0)>0,VLOOKUP(\"Oil\",HVACg_Lookup,MATCH($F$16,BuildingSize,0)+1,FALSE),IF(IFERROR(SEARCH(\"Propane\",$A$18),0)>0,VLOOKUP(\"Propane\",HVACg_Lookup,MATCH(Worksheet!$F$16,BuildingSize,0)+1,FALSE),0)))","v":0},{"$f":"Z91/1000*AA91*AC91*IF(IFERROR(SEARCH(\"Gas\",$A$18),0)>0,VLOOKUP(\"Gas\",HVACg_Lookup,MATCH($F$16,BuildingSize,0)+1,FALSE),IF(IFERROR(SEARCH(\"Oil\",$A$18),0)>0,VLOOKUP(\"Oil\",HVACg_Lookup,MATCH($F$16,BuildingSize,0)+1,FALSE),IF(IFERROR(SEARCH(\"Propane\",$A$18),0)>0,VLOOKUP(\"Propane\",HVACg_Lookup,MATCH(Worksheet!$F$16,BuildingSize,0)+1,FALSE),0)))","v":0},0,0,"",""]
[null,null,"",null,null,null,null,null,null,null,null,null,null,null,null,0,0,0,0,"",0,0,0,0,0,0,0,0,0,0,0,0,0,0,0,0,0,{"$f":"Y92/1000*AA92*AC92*IF(IFERROR(SEARCH(\"Gas\",$A$18),0)>0,VLOOKUP(\"Gas\",HVACg_Lookup,MATCH($F$16,BuildingSize,0)+1,FALSE),IF(IFERROR(SEARCH(\"Oil\",$A$18),0)>0,VLOOKUP(\"Oil\",HVACg_Lookup,MATCH($F$16,BuildingSize,0)+1,FALSE),IF(IFERROR(SEARCH(\"Propane\",$A$18),0)>0,VLOOKUP(\"Propane\",HVACg_Lookup,MATCH(Worksheet!$F$16,BuildingSize,0)+1,FALSE),0)))","v":0},{"$f":"Z92/1000*AA92*AC92*IF(IFERROR(SEARCH(\"Gas\",$A$18),0)>0,VLOOKUP(\"Gas\",HVACg_Lookup,MATCH($F$16,BuildingSize,0)+1,FALSE),IF(IFERROR(SEARCH(\"Oil\",$A$18),0)>0,VLOOKUP(\"Oil\",HVACg_Lookup,MATCH($F$16,BuildingSize,0)+1,FALSE),IF(IFERROR(SEARCH(\"Propane\",$A$18),0)>0,VLOOKUP(\"Propane\",HVACg_Lookup,MATCH(Worksheet!$F$16,BuildingSize,0)+1,FALSE),0)))","v":0},0,0,"",""]
[null,null,"",null,null,null,null,null,null,null,null,null,null,null,null,0,0,0,0,"",0,0,0,0,0,0,0,0,0,0,0,0,0,0,0,0,0,{"$f":"Y93/1000*AA93*AC93*IF(IFERROR(SEARCH(\"Gas\",$A$18),0)>0,VLOOKUP(\"Gas\",HVACg_Lookup,MATCH($F$16,BuildingSize,0)+1,FALSE),IF(IFERROR(SEARCH(\"Oil\",$A$18),0)>0,VLOOKUP(\"Oil\",HVACg_Lookup,MATCH($F$16,BuildingSize,0)+1,FALSE),IF(IFERROR(SEARCH(\"Propane\",$A$18),0)>0,VLOOKUP(\"Propane\",HVACg_Lookup,MATCH(Worksheet!$F$16,BuildingSize,0)+1,FALSE),0)))","v":0},{"$f":"Z93/1000*AA93*AC93*IF(IFERROR(SEARCH(\"Gas\",$A$18),0)>0,VLOOKUP(\"Gas\",HVACg_Lookup,MATCH($F$16,BuildingSize,0)+1,FALSE),IF(IFERROR(SEARCH(\"Oil\",$A$18),0)>0,VLOOKUP(\"Oil\",HVACg_Lookup,MATCH($F$16,BuildingSize,0)+1,FALSE),IF(IFERROR(SEARCH(\"Propane\",$A$18),0)>0,VLOOKUP(\"Propane\",HVACg_Lookup,MATCH(Worksheet!$F$16,BuildingSize,0)+1,FALSE),0)))","v":0},0,0,"",""]
[null,null,"",null,null,null,null,null,null,null,null,null,null,null,null,0,0,0,0,"",0,0,0,0,0,0,0,0,0,0,0,0,0,0,0,0,0,{"$f":"Y94/1000*AA94*AC94*IF(IFERROR(SEARCH(\"Gas\",$A$18),0)>0,VLOOKUP(\"Gas\",HVACg_Lookup,MATCH($F$16,BuildingSize,0)+1,FALSE),IF(IFERROR(SEARCH(\"Oil\",$A$18),0)>0,VLOOKUP(\"Oil\",HVACg_Lookup,MATCH($F$16,BuildingSize,0)+1,FALSE),IF(IFERROR(SEARCH(\"Propane\",$A$18),0)>0,VLOOKUP(\"Propane\",HVACg_Lookup,MATCH(Worksheet!$F$16,BuildingSize,0)+1,FALSE),0)))","v":0},{"$f":"Z94/1000*AA94*AC94*IF(IFERROR(SEARCH(\"Gas\",$A$18),0)>0,VLOOKUP(\"Gas\",HVACg_Lookup,MATCH($F$16,BuildingSize,0)+1,FALSE),IF(IFERROR(SEARCH(\"Oil\",$A$18),0)>0,VLOOKUP(\"Oil\",HVACg_Lookup,MATCH($F$16,BuildingSize,0)+1,FALSE),IF(IFERROR(SEARCH(\"Propane\",$A$18),0)>0,VLOOKUP(\"Propane\",HVACg_Lookup,MATCH(Worksheet!$F$16,BuildingSize,0)+1,FALSE),0)))","v":0},0,0,"",""]
[null,null,"",null,null,null,null,null,null,null,null,null,null,null,null,0,0,0,0,"",0,0,0,0,0,0,0,0,0,0,0,0,0,0,0,0,0,{"$f":"Y95/1000*AA95*AC95*IF(IFERROR(SEARCH(\"Gas\",$A$18),0)>0,VLOOKUP(\"Gas\",HVACg_Lookup,MATCH($F$16,BuildingSize,0)+1,FALSE),IF(IFERROR(SEARCH(\"Oil\",$A$18),0)>0,VLOOKUP(\"Oil\",HVACg_Lookup,MATCH($F$16,BuildingSize,0)+1,FALSE),IF(IFERROR(SEARCH(\"Propane\",$A$18),0)>0,VLOOKUP(\"Propane\",HVACg_Lookup,MATCH(Worksheet!$F$16,BuildingSize,0)+1,FALSE),0)))","v":0},{"$f":"Z95/1000*AA95*AC95*IF(IFERROR(SEARCH(\"Gas\",$A$18),0)>0,VLOOKUP(\"Gas\",HVACg_Lookup,MATCH($F$16,BuildingSize,0)+1,FALSE),IF(IFERROR(SEARCH(\"Oil\",$A$18),0)>0,VLOOKUP(\"Oil\",HVACg_Lookup,MATCH($F$16,BuildingSize,0)+1,FALSE),IF(IFERROR(SEARCH(\"Propane\",$A$18),0)>0,VLOOKUP(\"Propane\",HVACg_Lookup,MATCH(Worksheet!$F$16,BuildingSize,0)+1,FALSE),0)))","v":0},0,0,"",""]
[null,null,"",null,null,null,null,null,null,null,null,null,null,null,null,0,0,0,0,"",0,0,0,0,0,0,0,0,0,0,0,0,0,0,0,0,0,{"$f":"Y96/1000*AA96*AC96*IF(IFERROR(SEARCH(\"Gas\",$A$18),0)>0,VLOOKUP(\"Gas\",HVACg_Lookup,MATCH($F$16,BuildingSize,0)+1,FALSE),IF(IFERROR(SEARCH(\"Oil\",$A$18),0)>0,VLOOKUP(\"Oil\",HVACg_Lookup,MATCH($F$16,BuildingSize,0)+1,FALSE),IF(IFERROR(SEARCH(\"Propane\",$A$18),0)>0,VLOOKUP(\"Propane\",HVACg_Lookup,MATCH(Worksheet!$F$16,BuildingSize,0)+1,FALSE),0)))","v":0},{"$f":"Z96/1000*AA96*AC96*IF(IFERROR(SEARCH(\"Gas\",$A$18),0)>0,VLOOKUP(\"Gas\",HVACg_Lookup,MATCH($F$16,BuildingSize,0)+1,FALSE),IF(IFERROR(SEARCH(\"Oil\",$A$18),0)>0,VLOOKUP(\"Oil\",HVACg_Lookup,MATCH($F$16,BuildingSize,0)+1,FALSE),IF(IFERROR(SEARCH(\"Propane\",$A$18),0)>0,VLOOKUP(\"Propane\",HVACg_Lookup,MATCH(Worksheet!$F$16,BuildingSize,0)+1,FALSE),0)))","v":0},0,0,"",""]
[null,null,"",null,null,null,null,null,null,null,null,null,null,null,null,0,0,0,0,"",0,0,0,0,0,0,0,0,0,0,0,0,0,0,0,0,0,{"$f":"Y97/1000*AA97*AC97*IF(IFERROR(SEARCH(\"Gas\",$A$18),0)>0,VLOOKUP(\"Gas\",HVACg_Lookup,MATCH($F$16,BuildingSize,0)+1,FALSE),IF(IFERROR(SEARCH(\"Oil\",$A$18),0)>0,VLOOKUP(\"Oil\",HVACg_Lookup,MATCH($F$16,BuildingSize,0)+1,FALSE),IF(IFERROR(SEARCH(\"Propane\",$A$18),0)>0,VLOOKUP(\"Propane\",HVACg_Lookup,MATCH(Worksheet!$F$16,BuildingSize,0)+1,FALSE),0)))","v":0},{"$f":"Z97/1000*AA97*AC97*IF(IFERROR(SEARCH(\"Gas\",$A$18),0)>0,VLOOKUP(\"Gas\",HVACg_Lookup,MATCH($F$16,BuildingSize,0)+1,FALSE),IF(IFERROR(SEARCH(\"Oil\",$A$18),0)>0,VLOOKUP(\"Oil\",HVACg_Lookup,MATCH($F$16,BuildingSize,0)+1,FALSE),IF(IFERROR(SEARCH(\"Propane\",$A$18),0)>0,VLOOKUP(\"Propane\",HVACg_Lookup,MATCH(Worksheet!$F$16,BuildingSize,0)+1,FALSE),0)))","v":0},0,0,"",""]
[null,null,"",null,null,null,null,null,null,null,null,null,null,null,null,0,0,0,0,"",0,0,0,0,0,0,0,0,0,0,0,0,0,0,0,0,0,{"$f":"Y98/1000*AA98*AC98*IF(IFERROR(SEARCH(\"Gas\",$A$18),0)>0,VLOOKUP(\"Gas\",HVACg_Lookup,MATCH($F$16,BuildingSize,0)+1,FALSE),IF(IFERROR(SEARCH(\"Oil\",$A$18),0)>0,VLOOKUP(\"Oil\",HVACg_Lookup,MATCH($F$16,BuildingSize,0)+1,FALSE),IF(IFERROR(SEARCH(\"Propane\",$A$18),0)>0,VLOOKUP(\"Propane\",HVACg_Lookup,MATCH(Worksheet!$F$16,BuildingSize,0)+1,FALSE),0)))","v":0},{"$f":"Z98/1000*AA98*AC98*IF(IFERROR(SEARCH(\"Gas\",$A$18),0)>0,VLOOKUP(\"Gas\",HVACg_Lookup,MATCH($F$16,BuildingSize,0)+1,FALSE),IF(IFERROR(SEARCH(\"Oil\",$A$18),0)>0,VLOOKUP(\"Oil\",HVACg_Lookup,MATCH($F$16,BuildingSize,0)+1,FALSE),IF(IFERROR(SEARCH(\"Propane\",$A$18),0)>0,VLOOKUP(\"Propane\",HVACg_Lookup,MATCH(Worksheet!$F$16,BuildingSize,0)+1,FALSE),0)))","v":0},0,0,"",""]
[null,null,"",null,null,null,null,null,null,null,null,null,null,null,null,0,0,0,0,"",0,0,0,0,0,0,0,0,0,0,0,0,0,0,0,0,0,{"$f":"Y99/1000*AA99*AC99*IF(IFERROR(SEARCH(\"Gas\",$A$18),0)>0,VLOOKUP(\"Gas\",HVACg_Lookup,MATCH($F$16,BuildingSize,0)+1,FALSE),IF(IFERROR(SEARCH(\"Oil\",$A$18),0)>0,VLOOKUP(\"Oil\",HVACg_Lookup,MATCH($F$16,BuildingSize,0)+1,FALSE),IF(IFERROR(SEARCH(\"Propane\",$A$18),0)>0,VLOOKUP(\"Propane\",HVACg_Lookup,MATCH(Worksheet!$F$16,BuildingSize,0)+1,FALSE),0)))","v":0},{"$f":"Z99/1000*AA99*AC99*IF(IFERROR(SEARCH(\"Gas\",$A$18),0)>0,VLOOKUP(\"Gas\",HVACg_Lookup,MATCH($F$16,BuildingSize,0)+1,FALSE),IF(IFERROR(SEARCH(\"Oil\",$A$18),0)>0,VLOOKUP(\"Oil\",HVACg_Lookup,MATCH($F$16,BuildingSize,0)+1,FALSE),IF(IFERROR(SEARCH(\"Propane\",$A$18),0)>0,VLOOKUP(\"Propane\",HVACg_Lookup,MATCH(Worksheet!$F$16,BuildingSize,0)+1,FALSE),0)))","v":0},0,0,"",""]
[null,null,"",null,null,null,null,null,null,null,null,null,null,null,null,0,0,0,0,"",0,0,0,0,0,0,0,0,0,0,0,0,0,0,0,0,0,{"$f":"Y100/1000*AA100*AC100*IF(IFERROR(SEARCH(\"Gas\",$A$18),0)>0,VLOOKUP(\"Gas\",HVACg_Lookup,MATCH($F$16,BuildingSize,0)+1,FALSE),IF(IFERROR(SEARCH(\"Oil\",$A$18),0)>0,VLOOKUP(\"Oil\",HVACg_Lookup,MATCH($F$16,BuildingSize,0)+1,FALSE),IF(IFERROR(SEARCH(\"Propane\",$A$18),0)>0,VLOOKUP(\"Propane\",HVACg_Lookup,MATCH(Worksheet!$F$16,BuildingSize,0)+1,FALSE),0)))","v":0},{"$f":"Z100/1000*AA100*AC100*IF(IFERROR(SEARCH(\"Gas\",$A$18),0)>0,VLOOKUP(\"Gas\",HVACg_Lookup,MATCH($F$16,BuildingSize,0)+1,FALSE),IF(IFERROR(SEARCH(\"Oil\",$A$18),0)>0,VLOOKUP(\"Oil\",HVACg_Lookup,MATCH($F$16,BuildingSize,0)+1,FALSE),IF(IFERROR(SEARCH(\"Propane\",$A$18),0)>0,VLOOKUP(\"Propane\",HVACg_Lookup,MATCH(Worksheet!$F$16,BuildingSize,0)+1,FALSE),0)))","v":0},0,0,"",""]
[null,null,"",null,null,null,null,null,null,null,null,null,null,null,null,0,0,0,0,"",0,0,0,0,0,0,0,0,0,0,0,0,0,0,0,0,0,{"$f":"Y101/1000*AA101*AC101*IF(IFERROR(SEARCH(\"Gas\",$A$18),0)>0,VLOOKUP(\"Gas\",HVACg_Lookup,MATCH($F$16,BuildingSize,0)+1,FALSE),IF(IFERROR(SEARCH(\"Oil\",$A$18),0)>0,VLOOKUP(\"Oil\",HVACg_Lookup,MATCH($F$16,BuildingSize,0)+1,FALSE),IF(IFERROR(SEARCH(\"Propane\",$A$18),0)>0,VLOOKUP(\"Propane\",HVACg_Lookup,MATCH(Worksheet!$F$16,BuildingSize,0)+1,FALSE),0)))","v":0},{"$f":"Z101/1000*AA101*AC101*IF(IFERROR(SEARCH(\"Gas\",$A$18),0)>0,VLOOKUP(\"Gas\",HVACg_Lookup,MATCH($F$16,BuildingSize,0)+1,FALSE),IF(IFERROR(SEARCH(\"Oil\",$A$18),0)>0,VLOOKUP(\"Oil\",HVACg_Lookup,MATCH($F$16,BuildingSize,0)+1,FALSE),IF(IFERROR(SEARCH(\"Propane\",$A$18),0)>0,VLOOKUP(\"Propane\",HVACg_Lookup,MATCH(Worksheet!$F$16,BuildingSize,0)+1,FALSE),0)))","v":0},0,0,"",""]
[null,null,"",null,null,null,null,null,null,null,null,null,null,null,null,0,0,0,0,"",0,0,0,0,0,0,0,0,0,0,0,0,0,0,0,0,0,{"$f":"Y102/1000*AA102*AC102*IF(IFERROR(SEARCH(\"Gas\",$A$18),0)>0,VLOOKUP(\"Gas\",HVACg_Lookup,MATCH($F$16,BuildingSize,0)+1,FALSE),IF(IFERROR(SEARCH(\"Oil\",$A$18),0)>0,VLOOKUP(\"Oil\",HVACg_Lookup,MATCH($F$16,BuildingSize,0)+1,FALSE),IF(IFERROR(SEARCH(\"Propane\",$A$18),0)>0,VLOOKUP(\"Propane\",HVACg_Lookup,MATCH(Worksheet!$F$16,BuildingSize,0)+1,FALSE),0)))","v":0},{"$f":"Z102/1000*AA102*AC102*IF(IFERROR(SEARCH(\"Gas\",$A$18),0)>0,VLOOKUP(\"Gas\",HVACg_Lookup,MATCH($F$16,BuildingSize,0)+1,FALSE),IF(IFERROR(SEARCH(\"Oil\",$A$18),0)>0,VLOOKUP(\"Oil\",HVACg_Lookup,MATCH($F$16,BuildingSize,0)+1,FALSE),IF(IFERROR(SEARCH(\"Propane\",$A$18),0)>0,VLOOKUP(\"Propane\",HVACg_Lookup,MATCH(Worksheet!$F$16,BuildingSize,0)+1,FALSE),0)))","v":0},0,0,"",""]
[null,null,"",null,null,null,null,null,null,null,null,null,null,null,null,0,0,0,0,"",0,0,0,0,0,0,0,0,0,0,0,0,0,0,0,0,0,{"$f":"Y103/1000*AA103*AC103*IF(IFERROR(SEARCH(\"Gas\",$A$18),0)>0,VLOOKUP(\"Gas\",HVACg_Lookup,MATCH($F$16,BuildingSize,0)+1,FALSE),IF(IFERROR(SEARCH(\"Oil\",$A$18),0)>0,VLOOKUP(\"Oil\",HVACg_Lookup,MATCH($F$16,BuildingSize,0)+1,FALSE),IF(IFERROR(SEARCH(\"Propane\",$A$18),0)>0,VLOOKUP(\"Propane\",HVACg_Lookup,MATCH(Worksheet!$F$16,BuildingSize,0)+1,FALSE),0)))","v":0},{"$f":"Z103/1000*AA103*AC103*IF(IFERROR(SEARCH(\"Gas\",$A$18),0)>0,VLOOKUP(\"Gas\",HVACg_Lookup,MATCH($F$16,BuildingSize,0)+1,FALSE),IF(IFERROR(SEARCH(\"Oil\",$A$18),0)>0,VLOOKUP(\"Oil\",HVACg_Lookup,MATCH($F$16,BuildingSize,0)+1,FALSE),IF(IFERROR(SEARCH(\"Propane\",$A$18),0)>0,VLOOKUP(\"Propane\",HVACg_Lookup,MATCH(Worksheet!$F$16,BuildingSize,0)+1,FALSE),0)))","v":0},0,0,"",""]
[null,null,"",null,null,null,null,null,null,null,null,null,null,null,null,0,0,0,0,"",0,0,0,0,0,0,0,0,0,0,0,0,0,0,0,0,0,{"$f":"Y104/1000*AA104*AC104*IF(IFERROR(SEARCH(\"Gas\",$A$18),0)>0,VLOOKUP(\"Gas\",HVACg_Lookup,MATCH($F$16,BuildingSize,0)+1,FALSE),IF(IFERROR(SEARCH(\"Oil\",$A$18),0)>0,VLOOKUP(\"Oil\",HVACg_Lookup,MATCH($F$16,BuildingSize,0)+1,FALSE),IF(IFERROR(SEARCH(\"Propane\",$A$18),0)>0,VLOOKUP(\"Propane\",HVACg_Lookup,MATCH(Worksheet!$F$16,BuildingSize,0)+1,FALSE),0)))","v":0},{"$f":"Z104/1000*AA104*AC104*IF(IFERROR(SEARCH(\"Gas\",$A$18),0)>0,VLOOKUP(\"Gas\",HVACg_Lookup,MATCH($F$16,BuildingSize,0)+1,FALSE),IF(IFERROR(SEARCH(\"Oil\",$A$18),0)>0,VLOOKUP(\"Oil\",HVACg_Lookup,MATCH($F$16,BuildingSize,0)+1,FALSE),IF(IFERROR(SEARCH(\"Propane\",$A$18),0)>0,VLOOKUP(\"Propane\",HVACg_Lookup,MATCH(Worksheet!$F$16,BuildingSize,0)+1,FALSE),0)))","v":0},0,0,"",""]
[null,null,"",null,null,null,null,null,null,null,null,null,null,null,null,0,0,0,0,"",0,0,0,0,0,0,0,0,0,0,0,0,0,0,0,0,0,{"$f":"Y105/1000*AA105*AC105*IF(IFERROR(SEARCH(\"Gas\",$A$18),0)>0,VLOOKUP(\"Gas\",HVACg_Lookup,MATCH($F$16,BuildingSize,0)+1,FALSE),IF(IFERROR(SEARCH(\"Oil\",$A$18),0)>0,VLOOKUP(\"Oil\",HVACg_Lookup,MATCH($F$16,BuildingSize,0)+1,FALSE),IF(IFERROR(SEARCH(\"Propane\",$A$18),0)>0,VLOOKUP(\"Propane\",HVACg_Lookup,MATCH(Worksheet!$F$16,BuildingSize,0)+1,FALSE),0)))","v":0},{"$f":"Z105/1000*AA105*AC105*IF(IFERROR(SEARCH(\"Gas\",$A$18),0)>0,VLOOKUP(\"Gas\",HVACg_Lookup,MATCH($F$16,BuildingSize,0)+1,FALSE),IF(IFERROR(SEARCH(\"Oil\",$A$18),0)>0,VLOOKUP(\"Oil\",HVACg_Lookup,MATCH($F$16,BuildingSize,0)+1,FALSE),IF(IFERROR(SEARCH(\"Propane\",$A$18),0)>0,VLOOKUP(\"Propane\",HVACg_Lookup,MATCH(Worksheet!$F$16,BuildingSize,0)+1,FALSE),0)))","v":0},0,0,"",""]
[null,null,"",null,null,null,null,null,null,null,null,null,null,null,null,0,0,0,0,"",0,0,0,0,0,0,0,0,0,0,0,0,0,0,0,0,0,{"$f":"Y106/1000*AA106*AC106*IF(IFERROR(SEARCH(\"Gas\",$A$18),0)>0,VLOOKUP(\"Gas\",HVACg_Lookup,MATCH($F$16,BuildingSize,0)+1,FALSE),IF(IFERROR(SEARCH(\"Oil\",$A$18),0)>0,VLOOKUP(\"Oil\",HVACg_Lookup,MATCH($F$16,BuildingSize,0)+1,FALSE),IF(IFERROR(SEARCH(\"Propane\",$A$18),0)>0,VLOOKUP(\"Propane\",HVACg_Lookup,MATCH(Worksheet!$F$16,BuildingSize,0)+1,FALSE),0)))","v":0},{"$f":"Z106/1000*AA106*AC106*IF(IFERROR(SEARCH(\"Gas\",$A$18),0)>0,VLOOKUP(\"Gas\",HVACg_Lookup,MATCH($F$16,BuildingSize,0)+1,FALSE),IF(IFERROR(SEARCH(\"Oil\",$A$18),0)>0,VLOOKUP(\"Oil\",HVACg_Lookup,MATCH($F$16,BuildingSize,0)+1,FALSE),IF(IFERROR(SEARCH(\"Propane\",$A$18),0)>0,VLOOKUP(\"Propane\",HVACg_Lookup,MATCH(Worksheet!$F$16,BuildingSize,0)+1,FALSE),0)))","v":0},0,0,"",""]
[null,null,"",null,null,null,null,null,null,null,null,null,null,null,null,0,0,0,0,"",0,0,0,0,0,0,0,0,0,0,0,0,0,0,0,0,0,{"$f":"Y107/1000*AA107*AC107*IF(IFERROR(SEARCH(\"Gas\",$A$18),0)>0,VLOOKUP(\"Gas\",HVACg_Lookup,MATCH($F$16,BuildingSize,0)+1,FALSE),IF(IFERROR(SEARCH(\"Oil\",$A$18),0)>0,VLOOKUP(\"Oil\",HVACg_Lookup,MATCH($F$16,BuildingSize,0)+1,FALSE),IF(IFERROR(SEARCH(\"Propane\",$A$18),0)>0,VLOOKUP(\"Propane\",HVACg_Lookup,MATCH(Worksheet!$F$16,BuildingSize,0)+1,FALSE),0)))","v":0},{"$f":"Z107/1000*AA107*AC107*IF(IFERROR(SEARCH(\"Gas\",$A$18),0)>0,VLOOKUP(\"Gas\",HVACg_Lookup,MATCH($F$16,BuildingSize,0)+1,FALSE),IF(IFERROR(SEARCH(\"Oil\",$A$18),0)>0,VLOOKUP(\"Oil\",HVACg_Lookup,MATCH($F$16,BuildingSize,0)+1,FALSE),IF(IFERROR(SEARCH(\"Propane\",$A$18),0)>0,VLOOKUP(\"Propane\",HVACg_Lookup,MATCH(Worksheet!$F$16,BuildingSize,0)+1,FALSE),0)))","v":0},0,0,"",""]
[null,null,"",null,null,null,null,null,null,null,null,null,null,null,null,0,0,0,0,"",0,0,0,0,0,0,0,0,0,0,0,0,0,0,0,0,0,{"$f":"Y108/1000*AA108*AC108*IF(IFERROR(SEARCH(\"Gas\",$A$18),0)>0,VLOOKUP(\"Gas\",HVACg_Lookup,MATCH($F$16,BuildingSize,0)+1,FALSE),IF(IFERROR(SEARCH(\"Oil\",$A$18),0)>0,VLOOKUP(\"Oil\",HVACg_Lookup,MATCH($F$16,BuildingSize,0)+1,FALSE),IF(IFERROR(SEARCH(\"Propane\",$A$18),0)>0,VLOOKUP(\"Propane\",HVACg_Lookup,MATCH(Worksheet!$F$16,BuildingSize,0)+1,FALSE),0)))","v":0},{"$f":"Z108/1000*AA108*AC108*IF(IFERROR(SEARCH(\"Gas\",$A$18),0)>0,VLOOKUP(\"Gas\",HVACg_Lookup,MATCH($F$16,BuildingSize,0)+1,FALSE),IF(IFERROR(SEARCH(\"Oil\",$A$18),0)>0,VLOOKUP(\"Oil\",HVACg_Lookup,MATCH($F$16,BuildingSize,0)+1,FALSE),IF(IFERROR(SEARCH(\"Propane\",$A$18),0)>0,VLOOKUP(\"Propane\",HVACg_Lookup,MATCH(Worksheet!$F$16,BuildingSize,0)+1,FALSE),0)))","v":0},0,0,"",""]
[null,null,"",null,null,null,null,null,null,null,null,null,null,null,null,0,0,0,0,"",0,0,0,0,0,0,0,0,0,0,0,0,0,0,0,0,0,{"$f":"Y109/1000*AA109*AC109*IF(IFERROR(SEARCH(\"Gas\",$A$18),0)>0,VLOOKUP(\"Gas\",HVACg_Lookup,MATCH($F$16,BuildingSize,0)+1,FALSE),IF(IFERROR(SEARCH(\"Oil\",$A$18),0)>0,VLOOKUP(\"Oil\",HVACg_Lookup,MATCH($F$16,BuildingSize,0)+1,FALSE),IF(IFERROR(SEARCH(\"Propane\",$A$18),0)>0,VLOOKUP(\"Propane\",HVACg_Lookup,MATCH(Worksheet!$F$16,BuildingSize,0)+1,FALSE),0)))","v":0},{"$f":"Z109/1000*AA109*AC109*IF(IFERROR(SEARCH(\"Gas\",$A$18),0)>0,VLOOKUP(\"Gas\",HVACg_Lookup,MATCH($F$16,BuildingSize,0)+1,FALSE),IF(IFERROR(SEARCH(\"Oil\",$A$18),0)>0,VLOOKUP(\"Oil\",HVACg_Lookup,MATCH($F$16,BuildingSize,0)+1,FALSE),IF(IFERROR(SEARCH(\"Propane\",$A$18),0)>0,VLOOKUP(\"Propane\",HVACg_Lookup,MATCH(Worksheet!$F$16,BuildingSize,0)+1,FALSE),0)))","v":0},0,0,"",""]
[null,null,"",null,null,null,null,null,null,null,null,null,null,null,null,0,0,0,0,"",0,0,0,0,0,0,0,0,0,0,0,0,0,0,0,0,0,{"$f":"Y110/1000*AA110*AC110*IF(IFERROR(SEARCH(\"Gas\",$A$18),0)>0,VLOOKUP(\"Gas\",HVACg_Lookup,MATCH($F$16,BuildingSize,0)+1,FALSE),IF(IFERROR(SEARCH(\"Oil\",$A$18),0)>0,VLOOKUP(\"Oil\",HVACg_Lookup,MATCH($F$16,BuildingSize,0)+1,FALSE),IF(IFERROR(SEARCH(\"Propane\",$A$18),0)>0,VLOOKUP(\"Propane\",HVACg_Lookup,MATCH(Worksheet!$F$16,BuildingSize,0)+1,FALSE),0)))","v":0},{"$f":"Z110/1000*AA110*AC110*IF(IFERROR(SEARCH(\"Gas\",$A$18),0)>0,VLOOKUP(\"Gas\",HVACg_Lookup,MATCH($F$16,BuildingSize,0)+1,FALSE),IF(IFERROR(SEARCH(\"Oil\",$A$18),0)>0,VLOOKUP(\"Oil\",HVACg_Lookup,MATCH($F$16,BuildingSize,0)+1,FALSE),IF(IFERROR(SEARCH(\"Propane\",$A$18),0)>0,VLOOKUP(\"Propane\",HVACg_Lookup,MATCH(Worksheet!$F$16,BuildingSize,0)+1,FALSE),0)))","v":0},0,0,"",""]
[null,null,"",null,null,null,null,null,null,null,null,null,null,null,null,0,0,0,0,"",0,0,0,0,0,0,0,0,0,0,0,0,0,0,0,0,0,{"$f":"Y111/1000*AA111*AC111*IF(IFERROR(SEARCH(\"Gas\",$A$18),0)>0,VLOOKUP(\"Gas\",HVACg_Lookup,MATCH($F$16,BuildingSize,0)+1,FALSE),IF(IFERROR(SEARCH(\"Oil\",$A$18),0)>0,VLOOKUP(\"Oil\",HVACg_Lookup,MATCH($F$16,BuildingSize,0)+1,FALSE),IF(IFERROR(SEARCH(\"Propane\",$A$18),0)>0,VLOOKUP(\"Propane\",HVACg_Lookup,MATCH(Worksheet!$F$16,BuildingSize,0)+1,FALSE),0)))","v":0},{"$f":"Z111/1000*AA111*AC111*IF(IFERROR(SEARCH(\"Gas\",$A$18),0)>0,VLOOKUP(\"Gas\",HVACg_Lookup,MATCH($F$16,BuildingSize,0)+1,FALSE),IF(IFERROR(SEARCH(\"Oil\",$A$18),0)>0,VLOOKUP(\"Oil\",HVACg_Lookup,MATCH($F$16,BuildingSize,0)+1,FALSE),IF(IFERROR(SEARCH(\"Propane\",$A$18),0)>0,VLOOKUP(\"Propane\",HVACg_Lookup,MATCH(Worksheet!$F$16,BuildingSize,0)+1,FALSE),0)))","v":0},0,0,"",""]
[null,null,"",null,null,null,null,null,null,null,null,null,null,null,null,0,0,0,0,"",0,0,0,0,0,0,0,0,0,0,0,0,0,0,0,0,0,{"$f":"Y112/1000*AA112*AC112*IF(IFERROR(SEARCH(\"Gas\",$A$18),0)>0,VLOOKUP(\"Gas\",HVACg_Lookup,MATCH($F$16,BuildingSize,0)+1,FALSE),IF(IFERROR(SEARCH(\"Oil\",$A$18),0)>0,VLOOKUP(\"Oil\",HVACg_Lookup,MATCH($F$16,BuildingSize,0)+1,FALSE),IF(IFERROR(SEARCH(\"Propane\",$A$18),0)>0,VLOOKUP(\"Propane\",HVACg_Lookup,MATCH(Worksheet!$F$16,BuildingSize,0)+1,FALSE),0)))","v":0},{"$f":"Z112/1000*AA112*AC112*IF(IFERROR(SEARCH(\"Gas\",$A$18),0)>0,VLOOKUP(\"Gas\",HVACg_Lookup,MATCH($F$16,BuildingSize,0)+1,FALSE),IF(IFERROR(SEARCH(\"Oil\",$A$18),0)>0,VLOOKUP(\"Oil\",HVACg_Lookup,MATCH($F$16,BuildingSize,0)+1,FALSE),IF(IFERROR(SEARCH(\"Propane\",$A$18),0)>0,VLOOKUP(\"Propane\",HVACg_Lookup,MATCH(Worksheet!$F$16,BuildingSize,0)+1,FALSE),0)))","v":0},0,0,"",""]
[null,null,"",null,null,null,null,null,null,null,null,null,null,null,null,0,0,0,0,"",0,0,0,0,0,0,0,0,0,0,0,0,0,0,0,0,0,{"$f":"Y113/1000*AA113*AC113*IF(IFERROR(SEARCH(\"Gas\",$A$18),0)>0,VLOOKUP(\"Gas\",HVACg_Lookup,MATCH($F$16,BuildingSize,0)+1,FALSE),IF(IFERROR(SEARCH(\"Oil\",$A$18),0)>0,VLOOKUP(\"Oil\",HVACg_Lookup,MATCH($F$16,BuildingSize,0)+1,FALSE),IF(IFERROR(SEARCH(\"Propane\",$A$18),0)>0,VLOOKUP(\"Propane\",HVACg_Lookup,MATCH(Worksheet!$F$16,BuildingSize,0)+1,FALSE),0)))","v":0},{"$f":"Z113/1000*AA113*AC113*IF(IFERROR(SEARCH(\"Gas\",$A$18),0)>0,VLOOKUP(\"Gas\",HVACg_Lookup,MATCH($F$16,BuildingSize,0)+1,FALSE),IF(IFERROR(SEARCH(\"Oil\",$A$18),0)>0,VLOOKUP(\"Oil\",HVACg_Lookup,MATCH($F$16,BuildingSize,0)+1,FALSE),IF(IFERROR(SEARCH(\"Propane\",$A$18),0)>0,VLOOKUP(\"Propane\",HVACg_Lookup,MATCH(Worksheet!$F$16,BuildingSize,0)+1,FALSE),0)))","v":0},0,0,"",""]
[null,null,"",null,null,null,null,null,null,null,null,null,null,null,null,0,0,0,0,"",0,0,0,0,0,0,0,0,0,0,0,0,0,0,0,0,0,{"$f":"Y114/1000*AA114*AC114*IF(IFERROR(SEARCH(\"Gas\",$A$18),0)>0,VLOOKUP(\"Gas\",HVACg_Lookup,MATCH($F$16,BuildingSize,0)+1,FALSE),IF(IFERROR(SEARCH(\"Oil\",$A$18),0)>0,VLOOKUP(\"Oil\",HVACg_Lookup,MATCH($F$16,BuildingSize,0)+1,FALSE),IF(IFERROR(SEARCH(\"Propane\",$A$18),0)>0,VLOOKUP(\"Propane\",HVACg_Lookup,MATCH(Worksheet!$F$16,BuildingSize,0)+1,FALSE),0)))","v":0},{"$f":"Z114/1000*AA114*AC114*IF(IFERROR(SEARCH(\"Gas\",$A$18),0)>0,VLOOKUP(\"Gas\",HVACg_Lookup,MATCH($F$16,BuildingSize,0)+1,FALSE),IF(IFERROR(SEARCH(\"Oil\",$A$18),0)>0,VLOOKUP(\"Oil\",HVACg_Lookup,MATCH($F$16,BuildingSize,0)+1,FALSE),IF(IFERROR(SEARCH(\"Propane\",$A$18),0)>0,VLOOKUP(\"Propane\",HVACg_Lookup,MATCH(Worksheet!$F$16,BuildingSize,0)+1,FALSE),0)))","v":0},0,0,"",""]
[null,null,"",null,null,null,null,null,null,null,null,null,null,null,null,0,0,0,0,"",0,0,0,0,0,0,0,0,0,0,0,0,0,0,0,0,0,{"$f":"Y115/1000*AA115*AC115*IF(IFERROR(SEARCH(\"Gas\",$A$18),0)>0,VLOOKUP(\"Gas\",HVACg_Lookup,MATCH($F$16,BuildingSize,0)+1,FALSE),IF(IFERROR(SEARCH(\"Oil\",$A$18),0)>0,VLOOKUP(\"Oil\",HVACg_Lookup,MATCH($F$16,BuildingSize,0)+1,FALSE),IF(IFERROR(SEARCH(\"Propane\",$A$18),0)>0,VLOOKUP(\"Propane\",HVACg_Lookup,MATCH(Worksheet!$F$16,BuildingSize,0)+1,FALSE),0)))","v":0},{"$f":"Z115/1000*AA115*AC115*IF(IFERROR(SEARCH(\"Gas\",$A$18),0)>0,VLOOKUP(\"Gas\",HVACg_Lookup,MATCH($F$16,BuildingSize,0)+1,FALSE),IF(IFERROR(SEARCH(\"Oil\",$A$18),0)>0,VLOOKUP(\"Oil\",HVACg_Lookup,MATCH($F$16,BuildingSize,0)+1,FALSE),IF(IFERROR(SEARCH(\"Propane\",$A$18),0)>0,VLOOKUP(\"Propane\",HVACg_Lookup,MATCH(Worksheet!$F$16,BuildingSize,0)+1,FALSE),0)))","v":0},0,0,"",""]
[null,null,"",null,null,null,null,null,null,null,null,null,null,null,null,0,0,0,0,"",0,0,0,0,0,0,0,0,0,0,0,0,0,0,0,0,0,{"$f":"Y116/1000*AA116*AC116*IF(IFERROR(SEARCH(\"Gas\",$A$18),0)>0,VLOOKUP(\"Gas\",HVACg_Lookup,MATCH($F$16,BuildingSize,0)+1,FALSE),IF(IFERROR(SEARCH(\"Oil\",$A$18),0)>0,VLOOKUP(\"Oil\",HVACg_Lookup,MATCH($F$16,BuildingSize,0)+1,FALSE),IF(IFERROR(SEARCH(\"Propane\",$A$18),0)>0,VLOOKUP(\"Propane\",HVACg_Lookup,MATCH(Worksheet!$F$16,BuildingSize,0)+1,FALSE),0)))","v":0},{"$f":"Z116/1000*AA116*AC116*IF(IFERROR(SEARCH(\"Gas\",$A$18),0)>0,VLOOKUP(\"Gas\",HVACg_Lookup,MATCH($F$16,BuildingSize,0)+1,FALSE),IF(IFERROR(SEARCH(\"Oil\",$A$18),0)>0,VLOOKUP(\"Oil\",HVACg_Lookup,MATCH($F$16,BuildingSize,0)+1,FALSE),IF(IFERROR(SEARCH(\"Propane\",$A$18),0)>0,VLOOKUP(\"Propane\",HVACg_Lookup,MATCH(Worksheet!$F$16,BuildingSize,0)+1,FALSE),0)))","v":0},0,0,"",""]
[null,null,"",null,null,null,null,null,null,null,null,null,null,null,null,0,0,0,0,"",0,0,0,0,0,0,0,0,0,0,0,0,0,0,0,0,0,{"$f":"Y117/1000*AA117*AC117*IF(IFERROR(SEARCH(\"Gas\",$A$18),0)>0,VLOOKUP(\"Gas\",HVACg_Lookup,MATCH($F$16,BuildingSize,0)+1,FALSE),IF(IFERROR(SEARCH(\"Oil\",$A$18),0)>0,VLOOKUP(\"Oil\",HVACg_Lookup,MATCH($F$16,BuildingSize,0)+1,FALSE),IF(IFERROR(SEARCH(\"Propane\",$A$18),0)>0,VLOOKUP(\"Propane\",HVACg_Lookup,MATCH(Worksheet!$F$16,BuildingSize,0)+1,FALSE),0)))","v":0},{"$f":"Z117/1000*AA117*AC117*IF(IFERROR(SEARCH(\"Gas\",$A$18),0)>0,VLOOKUP(\"Gas\",HVACg_Lookup,MATCH($F$16,BuildingSize,0)+1,FALSE),IF(IFERROR(SEARCH(\"Oil\",$A$18),0)>0,VLOOKUP(\"Oil\",HVACg_Lookup,MATCH($F$16,BuildingSize,0)+1,FALSE),IF(IFERROR(SEARCH(\"Propane\",$A$18),0)>0,VLOOKUP(\"Propane\",HVACg_Lookup,MATCH(Worksheet!$F$16,BuildingSize,0)+1,FALSE),0)))","v":0},0,0,"",""]
[null,null,"",null,null,null,null,null,null,null,null,null,null,null,null,0,0,0,0,"",0,0,0,0,0,0,0,0,0,0,0,0,0,0,0,0,0,{"$f":"Y118/1000*AA118*AC118*IF(IFERROR(SEARCH(\"Gas\",$A$18),0)>0,VLOOKUP(\"Gas\",HVACg_Lookup,MATCH($F$16,BuildingSize,0)+1,FALSE),IF(IFERROR(SEARCH(\"Oil\",$A$18),0)>0,VLOOKUP(\"Oil\",HVACg_Lookup,MATCH($F$16,BuildingSize,0)+1,FALSE),IF(IFERROR(SEARCH(\"Propane\",$A$18),0)>0,VLOOKUP(\"Propane\",HVACg_Lookup,MATCH(Worksheet!$F$16,BuildingSize,0)+1,FALSE),0)))","v":0},{"$f":"Z118/1000*AA118*AC118*IF(IFERROR(SEARCH(\"Gas\",$A$18),0)>0,VLOOKUP(\"Gas\",HVACg_Lookup,MATCH($F$16,BuildingSize,0)+1,FALSE),IF(IFERROR(SEARCH(\"Oil\",$A$18),0)>0,VLOOKUP(\"Oil\",HVACg_Lookup,MATCH($F$16,BuildingSize,0)+1,FALSE),IF(IFERROR(SEARCH(\"Propane\",$A$18),0)>0,VLOOKUP(\"Propane\",HVACg_Lookup,MATCH(Worksheet!$F$16,BuildingSize,0)+1,FALSE),0)))","v":0},0,0,"",""]
[null,null,"",null,null,null,null,null,null,null,null,null,null,null,null,0,0,0,0,"",0,0,0,0,0,0,0,0,0,0,0,0,0,0,0,0,0,{"$f":"Y119/1000*AA119*AC119*IF(IFERROR(SEARCH(\"Gas\",$A$18),0)>0,VLOOKUP(\"Gas\",HVACg_Lookup,MATCH($F$16,BuildingSize,0)+1,FALSE),IF(IFERROR(SEARCH(\"Oil\",$A$18),0)>0,VLOOKUP(\"Oil\",HVACg_Lookup,MATCH($F$16,BuildingSize,0)+1,FALSE),IF(IFERROR(SEARCH(\"Propane\",$A$18),0)>0,VLOOKUP(\"Propane\",HVACg_Lookup,MATCH(Worksheet!$F$16,BuildingSize,0)+1,FALSE),0)))","v":0},{"$f":"Z119/1000*AA119*AC119*IF(IFERROR(SEARCH(\"Gas\",$A$18),0)>0,VLOOKUP(\"Gas\",HVACg_Lookup,MATCH($F$16,BuildingSize,0)+1,FALSE),IF(IFERROR(SEARCH(\"Oil\",$A$18),0)>0,VLOOKUP(\"Oil\",HVACg_Lookup,MATCH($F$16,BuildingSize,0)+1,FALSE),IF(IFERROR(SEARCH(\"Propane\",$A$18),0)>0,VLOOKUP(\"Propane\",HVACg_Lookup,MATCH(Worksheet!$F$16,BuildingSize,0)+1,FALSE),0)))","v":0},0,0,"",""]
[null,null,"",null,null,null,null,null,null,null,null,null,null,null,null,0,0,0,0,"",0,0,0,0,0,0,0,0,0,0,0,0,0,0,0,0,0,{"$f":"Y120/1000*AA120*AC120*IF(IFERROR(SEARCH(\"Gas\",$A$18),0)>0,VLOOKUP(\"Gas\",HVACg_Lookup,MATCH($F$16,BuildingSize,0)+1,FALSE),IF(IFERROR(SEARCH(\"Oil\",$A$18),0)>0,VLOOKUP(\"Oil\",HVACg_Lookup,MATCH($F$16,BuildingSize,0)+1,FALSE),IF(IFERROR(SEARCH(\"Propane\",$A$18),0)>0,VLOOKUP(\"Propane\",HVACg_Lookup,MATCH(Worksheet!$F$16,BuildingSize,0)+1,FALSE),0)))","v":0},{"$f":"Z120/1000*AA120*AC120*IF(IFERROR(SEARCH(\"Gas\",$A$18),0)>0,VLOOKUP(\"Gas\",HVACg_Lookup,MATCH($F$16,BuildingSize,0)+1,FALSE),IF(IFERROR(SEARCH(\"Oil\",$A$18),0)>0,VLOOKUP(\"Oil\",HVACg_Lookup,MATCH($F$16,BuildingSize,0)+1,FALSE),IF(IFERROR(SEARCH(\"Propane\",$A$18),0)>0,VLOOKUP(\"Propane\",HVACg_Lookup,MATCH(Worksheet!$F$16,BuildingSize,0)+1,FALSE),0)))","v":0},0,0,"",""]
[null,null,"",null,null,null,null,null,null,null,null,null,null,null,null,0,0,0,0,"",0,0,0,0,0,0,0,0,0,0,0,0,0,0,0,0,0,{"$f":"Y121/1000*AA121*AC121*IF(IFERROR(SEARCH(\"Gas\",$A$18),0)>0,VLOOKUP(\"Gas\",HVACg_Lookup,MATCH($F$16,BuildingSize,0)+1,FALSE),IF(IFERROR(SEARCH(\"Oil\",$A$18),0)>0,VLOOKUP(\"Oil\",HVACg_Lookup,MATCH($F$16,BuildingSize,0)+1,FALSE),IF(IFERROR(SEARCH(\"Propane\",$A$18),0)>0,VLOOKUP(\"Propane\",HVACg_Lookup,MATCH(Worksheet!$F$16,BuildingSize,0)+1,FALSE),0)))","v":0},{"$f":"Z121/1000*AA121*AC121*IF(IFERROR(SEARCH(\"Gas\",$A$18),0)>0,VLOOKUP(\"Gas\",HVACg_Lookup,MATCH($F$16,BuildingSize,0)+1,FALSE),IF(IFERROR(SEARCH(\"Oil\",$A$18),0)>0,VLOOKUP(\"Oil\",HVACg_Lookup,MATCH($F$16,BuildingSize,0)+1,FALSE),IF(IFERROR(SEARCH(\"Propane\",$A$18),0)>0,VLOOKUP(\"Propane\",HVACg_Lookup,MATCH(Worksheet!$F$16,BuildingSize,0)+1,FALSE),0)))","v":0},0,0,"",""]
[null,null,"",null,null,null,null,null,null,null,null,null,null,null,null,0,0,0,0,"",0,0,0,0,0,0,0,0,0,0,0,0,0,0,0,0,0,{"$f":"Y122/1000*AA122*AC122*IF(IFERROR(SEARCH(\"Gas\",$A$18),0)>0,VLOOKUP(\"Gas\",HVACg_Lookup,MATCH($F$16,BuildingSize,0)+1,FALSE),IF(IFERROR(SEARCH(\"Oil\",$A$18),0)>0,VLOOKUP(\"Oil\",HVACg_Lookup,MATCH($F$16,BuildingSize,0)+1,FALSE),IF(IFERROR(SEARCH(\"Propane\",$A$18),0)>0,VLOOKUP(\"Propane\",HVACg_Lookup,MATCH(Worksheet!$F$16,BuildingSize,0)+1,FALSE),0)))","v":0},{"$f":"Z122/1000*AA122*AC122*IF(IFERROR(SEARCH(\"Gas\",$A$18),0)>0,VLOOKUP(\"Gas\",HVACg_Lookup,MATCH($F$16,BuildingSize,0)+1,FALSE),IF(IFERROR(SEARCH(\"Oil\",$A$18),0)>0,VLOOKUP(\"Oil\",HVACg_Lookup,MATCH($F$16,BuildingSize,0)+1,FALSE),IF(IFERROR(SEARCH(\"Propane\",$A$18),0)>0,VLOOKUP(\"Propane\",HVACg_Lookup,MATCH(Worksheet!$F$16,BuildingSize,0)+1,FALSE),0)))","v":0},0,0,"",""]
[null,null,"",null,null,null,null,null,null,null,null,null,null,null,null,0,0,0,0,"",0,0,0,0,0,0,0,0,0,0,0,0,0,0,0,0,0,{"$f":"Y123/1000*AA123*AC123*IF(IFERROR(SEARCH(\"Gas\",$A$18),0)>0,VLOOKUP(\"Gas\",HVACg_Lookup,MATCH($F$16,BuildingSize,0)+1,FALSE),IF(IFERROR(SEARCH(\"Oil\",$A$18),0)>0,VLOOKUP(\"Oil\",HVACg_Lookup,MATCH($F$16,BuildingSize,0)+1,FALSE),IF(IFERROR(SEARCH(\"Propane\",$A$18),0)>0,VLOOKUP(\"Propane\",HVACg_Lookup,MATCH(Worksheet!$F$16,BuildingSize,0)+1,FALSE),0)))","v":0},{"$f":"Z123/1000*AA123*AC123*IF(IFERROR(SEARCH(\"Gas\",$A$18),0)>0,VLOOKUP(\"Gas\",HVACg_Lookup,MATCH($F$16,BuildingSize,0)+1,FALSE),IF(IFERROR(SEARCH(\"Oil\",$A$18),0)>0,VLOOKUP(\"Oil\",HVACg_Lookup,MATCH($F$16,BuildingSize,0)+1,FALSE),IF(IFERROR(SEARCH(\"Propane\",$A$18),0)>0,VLOOKUP(\"Propane\",HVACg_Lookup,MATCH(Worksheet!$F$16,BuildingSize,0)+1,FALSE),0)))","v":0},0,0,"",""]
[null,null,"",null,null,null,null,null,null,null,null,null,null,null,null,0,0,0,0,"",0,0,0,0,0,0,0,0,0,0,0,0,0,0,0,0,0,{"$f":"Y124/1000*AA124*AC124*IF(IFERROR(SEARCH(\"Gas\",$A$18),0)>0,VLOOKUP(\"Gas\",HVACg_Lookup,MATCH($F$16,BuildingSize,0)+1,FALSE),IF(IFERROR(SEARCH(\"Oil\",$A$18),0)>0,VLOOKUP(\"Oil\",HVACg_Lookup,MATCH($F$16,BuildingSize,0)+1,FALSE),IF(IFERROR(SEARCH(\"Propane\",$A$18),0)>0,VLOOKUP(\"Propane\",HVACg_Lookup,MATCH(Worksheet!$F$16,BuildingSize,0)+1,FALSE),0)))","v":0},{"$f":"Z124/1000*AA124*AC124*IF(IFERROR(SEARCH(\"Gas\",$A$18),0)>0,VLOOKUP(\"Gas\",HVACg_Lookup,MATCH($F$16,BuildingSize,0)+1,FALSE),IF(IFERROR(SEARCH(\"Oil\",$A$18),0)>0,VLOOKUP(\"Oil\",HVACg_Lookup,MATCH($F$16,BuildingSize,0)+1,FALSE),IF(IFERROR(SEARCH(\"Propane\",$A$18),0)>0,VLOOKUP(\"Propane\",HVACg_Lookup,MATCH(Worksheet!$F$16,BuildingSize,0)+1,FALSE),0)))","v":0},0,0,"",""]
[null,null,"",null,null,null,null,null,null,null,null,null,null,null,null,0,0,0,0,"",0,0,0,0,0,0,0,0,0,0,0,0,0,0,0,0,0,{"$f":"Y125/1000*AA125*AC125*IF(IFERROR(SEARCH(\"Gas\",$A$18),0)>0,VLOOKUP(\"Gas\",HVACg_Lookup,MATCH($F$16,BuildingSize,0)+1,FALSE),IF(IFERROR(SEARCH(\"Oil\",$A$18),0)>0,VLOOKUP(\"Oil\",HVACg_Lookup,MATCH($F$16,BuildingSize,0)+1,FALSE),IF(IFERROR(SEARCH(\"Propane\",$A$18),0)>0,VLOOKUP(\"Propane\",HVACg_Lookup,MATCH(Worksheet!$F$16,BuildingSize,0)+1,FALSE),0)))","v":0},{"$f":"Z125/1000*AA125*AC125*IF(IFERROR(SEARCH(\"Gas\",$A$18),0)>0,VLOOKUP(\"Gas\",HVACg_Lookup,MATCH($F$16,BuildingSize,0)+1,FALSE),IF(IFERROR(SEARCH(\"Oil\",$A$18),0)>0,VLOOKUP(\"Oil\",HVACg_Lookup,MATCH($F$16,BuildingSize,0)+1,FALSE),IF(IFERROR(SEARCH(\"Propane\",$A$18),0)>0,VLOOKUP(\"Propane\",HVACg_Lookup,MATCH(Worksheet!$F$16,BuildingSize,0)+1,FALSE),0)))","v":0},0,0,"",""]
[null,null,"",null,null,null,null,null,null,null,null,null,null,null,null,0,0,0,0,"",0,0,0,0,0,0,0,0,0,0,0,0,0,0,0,0,0,{"$f":"Y126/1000*AA126*AC126*IF(IFERROR(SEARCH(\"Gas\",$A$18),0)>0,VLOOKUP(\"Gas\",HVACg_Lookup,MATCH($F$16,BuildingSize,0)+1,FALSE),IF(IFERROR(SEARCH(\"Oil\",$A$18),0)>0,VLOOKUP(\"Oil\",HVACg_Lookup,MATCH($F$16,BuildingSize,0)+1,FALSE),IF(IFERROR(SEARCH(\"Propane\",$A$18),0)>0,VLOOKUP(\"Propane\",HVACg_Lookup,MATCH(Worksheet!$F$16,BuildingSize,0)+1,FALSE),0)))","v":0},{"$f":"Z126/1000*AA126*AC126*IF(IFERROR(SEARCH(\"Gas\",$A$18),0)>0,VLOOKUP(\"Gas\",HVACg_Lookup,MATCH($F$16,BuildingSize,0)+1,FALSE),IF(IFERROR(SEARCH(\"Oil\",$A$18),0)>0,VLOOKUP(\"Oil\",HVACg_Lookup,MATCH($F$16,BuildingSize,0)+1,FALSE),IF(IFERROR(SEARCH(\"Propane\",$A$18),0)>0,VLOOKUP(\"Propane\",HVACg_Lookup,MATCH(Worksheet!$F$16,BuildingSize,0)+1,FALSE),0)))","v":0},0,0,"",""]
[null,null,"",null,null,null,null,null,null,null,null,null,null,null,null,0,0,0,0,"",0,0,0,0,0,0,0,0,0,0,0,0,0,0,0,0,0,{"$f":"Y127/1000*AA127*AC127*IF(IFERROR(SEARCH(\"Gas\",$A$18),0)>0,VLOOKUP(\"Gas\",HVACg_Lookup,MATCH($F$16,BuildingSize,0)+1,FALSE),IF(IFERROR(SEARCH(\"Oil\",$A$18),0)>0,VLOOKUP(\"Oil\",HVACg_Lookup,MATCH($F$16,BuildingSize,0)+1,FALSE),IF(IFERROR(SEARCH(\"Propane\",$A$18),0)>0,VLOOKUP(\"Propane\",HVACg_Lookup,MATCH(Worksheet!$F$16,BuildingSize,0)+1,FALSE),0)))","v":0},{"$f":"Z127/1000*AA127*AC127*IF(IFERROR(SEARCH(\"Gas\",$A$18),0)>0,VLOOKUP(\"Gas\",HVACg_Lookup,MATCH($F$16,BuildingSize,0)+1,FALSE),IF(IFERROR(SEARCH(\"Oil\",$A$18),0)>0,VLOOKUP(\"Oil\",HVACg_Lookup,MATCH($F$16,BuildingSize,0)+1,FALSE),IF(IFERROR(SEARCH(\"Propane\",$A$18),0)>0,VLOOKUP(\"Propane\",HVACg_Lookup,MATCH(Worksheet!$F$16,BuildingSize,0)+1,FALSE),0)))","v":0},0,0,"",""]
[null,null,"",null,null,null,null,null,null,null,null,null,null,null,null,0,0,0,0,"",0,0,0,0,0,0,0,0,0,0,0,0,0,0,0,0,0,{"$f":"Y128/1000*AA128*AC128*IF(IFERROR(SEARCH(\"Gas\",$A$18),0)>0,VLOOKUP(\"Gas\",HVACg_Lookup,MATCH($F$16,BuildingSize,0)+1,FALSE),IF(IFERROR(SEARCH(\"Oil\",$A$18),0)>0,VLOOKUP(\"Oil\",HVACg_Lookup,MATCH($F$16,BuildingSize,0)+1,FALSE),IF(IFERROR(SEARCH(\"Propane\",$A$18),0)>0,VLOOKUP(\"Propane\",HVACg_Lookup,MATCH(Worksheet!$F$16,BuildingSize,0)+1,FALSE),0)))","v":0},{"$f":"Z128/1000*AA128*AC128*IF(IFERROR(SEARCH(\"Gas\",$A$18),0)>0,VLOOKUP(\"Gas\",HVACg_Lookup,MATCH($F$16,BuildingSize,0)+1,FALSE),IF(IFERROR(SEARCH(\"Oil\",$A$18),0)>0,VLOOKUP(\"Oil\",HVACg_Lookup,MATCH($F$16,BuildingSize,0)+1,FALSE),IF(IFERROR(SEARCH(\"Propane\",$A$18),0)>0,VLOOKUP(\"Propane\",HVACg_Lookup,MATCH(Worksheet!$F$16,BuildingSize,0)+1,FALSE),0)))","v":0},0,0,"",""]
[null,null,"",null,null,null,null,null,null,null,null,null,null,null,null,0,0,0,0,"",0,0,0,0,0,0,0,0,0,0,0,0,0,0,0,0,0,{"$f":"Y129/1000*AA129*AC129*IF(IFERROR(SEARCH(\"Gas\",$A$18),0)>0,VLOOKUP(\"Gas\",HVACg_Lookup,MATCH($F$16,BuildingSize,0)+1,FALSE),IF(IFERROR(SEARCH(\"Oil\",$A$18),0)>0,VLOOKUP(\"Oil\",HVACg_Lookup,MATCH($F$16,BuildingSize,0)+1,FALSE),IF(IFERROR(SEARCH(\"Propane\",$A$18),0)>0,VLOOKUP(\"Propane\",HVACg_Lookup,MATCH(Worksheet!$F$16,BuildingSize,0)+1,FALSE),0)))","v":0},{"$f":"Z129/1000*AA129*AC129*IF(IFERROR(SEARCH(\"Gas\",$A$18),0)>0,VLOOKUP(\"Gas\",HVACg_Lookup,MATCH($F$16,BuildingSize,0)+1,FALSE),IF(IFERROR(SEARCH(\"Oil\",$A$18),0)>0,VLOOKUP(\"Oil\",HVACg_Lookup,MATCH($F$16,BuildingSize,0)+1,FALSE),IF(IFERROR(SEARCH(\"Propane\",$A$18),0)>0,VLOOKUP(\"Propane\",HVACg_Lookup,MATCH(Worksheet!$F$16,BuildingSize,0)+1,FALSE),0)))","v":0},0,0,"",""]
[null,null,"",null,null,null,null,null,null,null,null,null,null,null,null,0,0,0,0,"",0,0,0,0,0,0,0,0,0,0,0,0,0,0,0,0,0,{"$f":"Y130/1000*AA130*AC130*IF(IFERROR(SEARCH(\"Gas\",$A$18),0)>0,VLOOKUP(\"Gas\",HVACg_Lookup,MATCH($F$16,BuildingSize,0)+1,FALSE),IF(IFERROR(SEARCH(\"Oil\",$A$18),0)>0,VLOOKUP(\"Oil\",HVACg_Lookup,MATCH($F$16,BuildingSize,0)+1,FALSE),IF(IFERROR(SEARCH(\"Propane\",$A$18),0)>0,VLOOKUP(\"Propane\",HVACg_Lookup,MATCH(Worksheet!$F$16,BuildingSize,0)+1,FALSE),0)))","v":0},{"$f":"Z130/1000*AA130*AC130*IF(IFERROR(SEARCH(\"Gas\",$A$18),0)>0,VLOOKUP(\"Gas\",HVACg_Lookup,MATCH($F$16,BuildingSize,0)+1,FALSE),IF(IFERROR(SEARCH(\"Oil\",$A$18),0)>0,VLOOKUP(\"Oil\",HVACg_Lookup,MATCH($F$16,BuildingSize,0)+1,FALSE),IF(IFERROR(SEARCH(\"Propane\",$A$18),0)>0,VLOOKUP(\"Propane\",HVACg_Lookup,MATCH(Worksheet!$F$16,BuildingSize,0)+1,FALSE),0)))","v":0},0,0,"",""]
[null,null,"",null,null,null,null,null,null,null,null,null,null,null,null,0,0,0,0,"",0,0,0,0,0,0,0,0,0,0,0,0,0,0,0,0,0,{"$f":"Y131/1000*AA131*AC131*IF(IFERROR(SEARCH(\"Gas\",$A$18),0)>0,VLOOKUP(\"Gas\",HVACg_Lookup,MATCH($F$16,BuildingSize,0)+1,FALSE),IF(IFERROR(SEARCH(\"Oil\",$A$18),0)>0,VLOOKUP(\"Oil\",HVACg_Lookup,MATCH($F$16,BuildingSize,0)+1,FALSE),IF(IFERROR(SEARCH(\"Propane\",$A$18),0)>0,VLOOKUP(\"Propane\",HVACg_Lookup,MATCH(Worksheet!$F$16,BuildingSize,0)+1,FALSE),0)))","v":0},{"$f":"Z131/1000*AA131*AC131*IF(IFERROR(SEARCH(\"Gas\",$A$18),0)>0,VLOOKUP(\"Gas\",HVACg_Lookup,MATCH($F$16,BuildingSize,0)+1,FALSE),IF(IFERROR(SEARCH(\"Oil\",$A$18),0)>0,VLOOKUP(\"Oil\",HVACg_Lookup,MATCH($F$16,BuildingSize,0)+1,FALSE),IF(IFERROR(SEARCH(\"Propane\",$A$18),0)>0,VLOOKUP(\"Propane\",HVACg_Lookup,MATCH(Worksheet!$F$16,BuildingSize,0)+1,FALSE),0)))","v":0},0,0,"",""]
[null,null,"",null,null,null,null,null,null,null,null,null,null,null,null,0,0,0,0,"",0,0,0,0,0,0,0,0,0,0,0,0,0,0,0,0,0,{"$f":"Y132/1000*AA132*AC132*IF(IFERROR(SEARCH(\"Gas\",$A$18),0)>0,VLOOKUP(\"Gas\",HVACg_Lookup,MATCH($F$16,BuildingSize,0)+1,FALSE),IF(IFERROR(SEARCH(\"Oil\",$A$18),0)>0,VLOOKUP(\"Oil\",HVACg_Lookup,MATCH($F$16,BuildingSize,0)+1,FALSE),IF(IFERROR(SEARCH(\"Propane\",$A$18),0)>0,VLOOKUP(\"Propane\",HVACg_Lookup,MATCH(Worksheet!$F$16,BuildingSize,0)+1,FALSE),0)))","v":0},{"$f":"Z132/1000*AA132*AC132*IF(IFERROR(SEARCH(\"Gas\",$A$18),0)>0,VLOOKUP(\"Gas\",HVACg_Lookup,MATCH($F$16,BuildingSize,0)+1,FALSE),IF(IFERROR(SEARCH(\"Oil\",$A$18),0)>0,VLOOKUP(\"Oil\",HVACg_Lookup,MATCH($F$16,BuildingSize,0)+1,FALSE),IF(IFERROR(SEARCH(\"Propane\",$A$18),0)>0,VLOOKUP(\"Propane\",HVACg_Lookup,MATCH(Worksheet!$F$16,BuildingSize,0)+1,FALSE),0)))","v":0},0,0,"",""]
[null,null,"",null,null,null,null,null,null,null,null,null,null,null,null,0,0,0,0,"",0,0,0,0,0,0,0,0,0,0,0,0,0,0,0,0,0,{"$f":"Y133/1000*AA133*AC133*IF(IFERROR(SEARCH(\"Gas\",$A$18),0)>0,VLOOKUP(\"Gas\",HVACg_Lookup,MATCH($F$16,BuildingSize,0)+1,FALSE),IF(IFERROR(SEARCH(\"Oil\",$A$18),0)>0,VLOOKUP(\"Oil\",HVACg_Lookup,MATCH($F$16,BuildingSize,0)+1,FALSE),IF(IFERROR(SEARCH(\"Propane\",$A$18),0)>0,VLOOKUP(\"Propane\",HVACg_Lookup,MATCH(Worksheet!$F$16,BuildingSize,0)+1,FALSE),0)))","v":0},{"$f":"Z133/1000*AA133*AC133*IF(IFERROR(SEARCH(\"Gas\",$A$18),0)>0,VLOOKUP(\"Gas\",HVACg_Lookup,MATCH($F$16,BuildingSize,0)+1,FALSE),IF(IFERROR(SEARCH(\"Oil\",$A$18),0)>0,VLOOKUP(\"Oil\",HVACg_Lookup,MATCH($F$16,BuildingSize,0)+1,FALSE),IF(IFERROR(SEARCH(\"Propane\",$A$18),0)>0,VLOOKUP(\"Propane\",HVACg_Lookup,MATCH(Worksheet!$F$16,BuildingSize,0)+1,FALSE),0)))","v":0},0,0,"",""]
[null,null,"",null,null,null,null,null,null,null,null,null,null,null,null,0,0,0,0,"",0,0,0,0,0,0,0,0,0,0,0,0,0,0,0,0,0,{"$f":"Y134/1000*AA134*AC134*IF(IFERROR(SEARCH(\"Gas\",$A$18),0)>0,VLOOKUP(\"Gas\",HVACg_Lookup,MATCH($F$16,BuildingSize,0)+1,FALSE),IF(IFERROR(SEARCH(\"Oil\",$A$18),0)>0,VLOOKUP(\"Oil\",HVACg_Lookup,MATCH($F$16,BuildingSize,0)+1,FALSE),IF(IFERROR(SEARCH(\"Propane\",$A$18),0)>0,VLOOKUP(\"Propane\",HVACg_Lookup,MATCH(Worksheet!$F$16,BuildingSize,0)+1,FALSE),0)))","v":0},{"$f":"Z134/1000*AA134*AC134*IF(IFERROR(SEARCH(\"Gas\",$A$18),0)>0,VLOOKUP(\"Gas\",HVACg_Lookup,MATCH($F$16,BuildingSize,0)+1,FALSE),IF(IFERROR(SEARCH(\"Oil\",$A$18),0)>0,VLOOKUP(\"Oil\",HVACg_Lookup,MATCH($F$16,BuildingSize,0)+1,FALSE),IF(IFERROR(SEARCH(\"Propane\",$A$18),0)>0,VLOOKUP(\"Propane\",HVACg_Lookup,MATCH(Worksheet!$F$16,BuildingSize,0)+1,FALSE),0)))","v":0},0,0,"",""]
[null,null,"",null,null,null,null,null,null,null,null,null,null,null,null,0,0,0,0,"",0,0,0,0,0,0,0,0,0,0,0,0,0,0,0,0,0,{"$f":"Y135/1000*AA135*AC135*IF(IFERROR(SEARCH(\"Gas\",$A$18),0)>0,VLOOKUP(\"Gas\",HVACg_Lookup,MATCH($F$16,BuildingSize,0)+1,FALSE),IF(IFERROR(SEARCH(\"Oil\",$A$18),0)>0,VLOOKUP(\"Oil\",HVACg_Lookup,MATCH($F$16,BuildingSize,0)+1,FALSE),IF(IFERROR(SEARCH(\"Propane\",$A$18),0)>0,VLOOKUP(\"Propane\",HVACg_Lookup,MATCH(Worksheet!$F$16,BuildingSize,0)+1,FALSE),0)))","v":0},{"$f":"Z135/1000*AA135*AC135*IF(IFERROR(SEARCH(\"Gas\",$A$18),0)>0,VLOOKUP(\"Gas\",HVACg_Lookup,MATCH($F$16,BuildingSize,0)+1,FALSE),IF(IFERROR(SEARCH(\"Oil\",$A$18),0)>0,VLOOKUP(\"Oil\",HVACg_Lookup,MATCH($F$16,BuildingSize,0)+1,FALSE),IF(IFERROR(SEARCH(\"Propane\",$A$18),0)>0,VLOOKUP(\"Propane\",HVACg_Lookup,MATCH(Worksheet!$F$16,BuildingSize,0)+1,FALSE),0)))","v":0},0,0,"",""]
[null,null,"",null,null,null,null,null,null,null,null,null,null,null,null,0,0,0,0,"",0,0,0,0,0,0,0,0,0,0,0,0,0,0,0,0,0,{"$f":"Y136/1000*AA136*AC136*IF(IFERROR(SEARCH(\"Gas\",$A$18),0)>0,VLOOKUP(\"Gas\",HVACg_Lookup,MATCH($F$16,BuildingSize,0)+1,FALSE),IF(IFERROR(SEARCH(\"Oil\",$A$18),0)>0,VLOOKUP(\"Oil\",HVACg_Lookup,MATCH($F$16,BuildingSize,0)+1,FALSE),IF(IFERROR(SEARCH(\"Propane\",$A$18),0)>0,VLOOKUP(\"Propane\",HVACg_Lookup,MATCH(Worksheet!$F$16,BuildingSize,0)+1,FALSE),0)))","v":0},{"$f":"Z136/1000*AA136*AC136*IF(IFERROR(SEARCH(\"Gas\",$A$18),0)>0,VLOOKUP(\"Gas\",HVACg_Lookup,MATCH($F$16,BuildingSize,0)+1,FALSE),IF(IFERROR(SEARCH(\"Oil\",$A$18),0)>0,VLOOKUP(\"Oil\",HVACg_Lookup,MATCH($F$16,BuildingSize,0)+1,FALSE),IF(IFERROR(SEARCH(\"Propane\",$A$18),0)>0,VLOOKUP(\"Propane\",HVACg_Lookup,MATCH(Worksheet!$F$16,BuildingSize,0)+1,FALSE),0)))","v":0},0,0,"",""]
[null,null,"",null,null,null,null,null,null,null,null,null,null,null,null,0,0,0,0,"",0,0,0,0,0,0,0,0,0,0,0,0,0,0,0,0,0,{"$f":"Y137/1000*AA137*AC137*IF(IFERROR(SEARCH(\"Gas\",$A$18),0)>0,VLOOKUP(\"Gas\",HVACg_Lookup,MATCH($F$16,BuildingSize,0)+1,FALSE),IF(IFERROR(SEARCH(\"Oil\",$A$18),0)>0,VLOOKUP(\"Oil\",HVACg_Lookup,MATCH($F$16,BuildingSize,0)+1,FALSE),IF(IFERROR(SEARCH(\"Propane\",$A$18),0)>0,VLOOKUP(\"Propane\",HVACg_Lookup,MATCH(Worksheet!$F$16,BuildingSize,0)+1,FALSE),0)))","v":0},{"$f":"Z137/1000*AA137*AC137*IF(IFERROR(SEARCH(\"Gas\",$A$18),0)>0,VLOOKUP(\"Gas\",HVACg_Lookup,MATCH($F$16,BuildingSize,0)+1,FALSE),IF(IFERROR(SEARCH(\"Oil\",$A$18),0)>0,VLOOKUP(\"Oil\",HVACg_Lookup,MATCH($F$16,BuildingSize,0)+1,FALSE),IF(IFERROR(SEARCH(\"Propane\",$A$18),0)>0,VLOOKUP(\"Propane\",HVACg_Lookup,MATCH(Worksheet!$F$16,BuildingSize,0)+1,FALSE),0)))","v":0},0,0,"",""]
[null,null,"",null,null,null,null,null,null,null,null,null,null,null,null,0,0,0,0,"",0,0,0,0,0,0,0,0,0,0,0,0,0,0,0,0,0,{"$f":"Y138/1000*AA138*AC138*IF(IFERROR(SEARCH(\"Gas\",$A$18),0)>0,VLOOKUP(\"Gas\",HVACg_Lookup,MATCH($F$16,BuildingSize,0)+1,FALSE),IF(IFERROR(SEARCH(\"Oil\",$A$18),0)>0,VLOOKUP(\"Oil\",HVACg_Lookup,MATCH($F$16,BuildingSize,0)+1,FALSE),IF(IFERROR(SEARCH(\"Propane\",$A$18),0)>0,VLOOKUP(\"Propane\",HVACg_Lookup,MATCH(Worksheet!$F$16,BuildingSize,0)+1,FALSE),0)))","v":0},{"$f":"Z138/1000*AA138*AC138*IF(IFERROR(SEARCH(\"Gas\",$A$18),0)>0,VLOOKUP(\"Gas\",HVACg_Lookup,MATCH($F$16,BuildingSize,0)+1,FALSE),IF(IFERROR(SEARCH(\"Oil\",$A$18),0)>0,VLOOKUP(\"Oil\",HVACg_Lookup,MATCH($F$16,BuildingSize,0)+1,FALSE),IF(IFERROR(SEARCH(\"Propane\",$A$18),0)>0,VLOOKUP(\"Propane\",HVACg_Lookup,MATCH(Worksheet!$F$16,BuildingSize,0)+1,FALSE),0)))","v":0},0,0,"",""]
[null,null,"",null,null,null,null,null,null,null,null,null,null,null,null,0,0,0,0,"",0,0,0,0,0,0,0,0,0,0,0,0,0,0,0,0,0,{"$f":"Y139/1000*AA139*AC139*IF(IFERROR(SEARCH(\"Gas\",$A$18),0)>0,VLOOKUP(\"Gas\",HVACg_Lookup,MATCH($F$16,BuildingSize,0)+1,FALSE),IF(IFERROR(SEARCH(\"Oil\",$A$18),0)>0,VLOOKUP(\"Oil\",HVACg_Lookup,MATCH($F$16,BuildingSize,0)+1,FALSE),IF(IFERROR(SEARCH(\"Propane\",$A$18),0)>0,VLOOKUP(\"Propane\",HVACg_Lookup,MATCH(Worksheet!$F$16,BuildingSize,0)+1,FALSE),0)))","v":0},{"$f":"Z139/1000*AA139*AC139*IF(IFERROR(SEARCH(\"Gas\",$A$18),0)>0,VLOOKUP(\"Gas\",HVACg_Lookup,MATCH($F$16,BuildingSize,0)+1,FALSE),IF(IFERROR(SEARCH(\"Oil\",$A$18),0)>0,VLOOKUP(\"Oil\",HVACg_Lookup,MATCH($F$16,BuildingSize,0)+1,FALSE),IF(IFERROR(SEARCH(\"Propane\",$A$18),0)>0,VLOOKUP(\"Propane\",HVACg_Lookup,MATCH(Worksheet!$F$16,BuildingSize,0)+1,FALSE),0)))","v":0},0,0,"",""]
[null,null,"",null,null,null,null,null,null,null,null,null,null,null,null,0,0,0,0,"",0,0,0,0,0,0,0,0,0,0,0,0,0,0,0,0,0,{"$f":"Y140/1000*AA140*AC140*IF(IFERROR(SEARCH(\"Gas\",$A$18),0)>0,VLOOKUP(\"Gas\",HVACg_Lookup,MATCH($F$16,BuildingSize,0)+1,FALSE),IF(IFERROR(SEARCH(\"Oil\",$A$18),0)>0,VLOOKUP(\"Oil\",HVACg_Lookup,MATCH($F$16,BuildingSize,0)+1,FALSE),IF(IFERROR(SEARCH(\"Propane\",$A$18),0)>0,VLOOKUP(\"Propane\",HVACg_Lookup,MATCH(Worksheet!$F$16,BuildingSize,0)+1,FALSE),0)))","v":0},{"$f":"Z140/1000*AA140*AC140*IF(IFERROR(SEARCH(\"Gas\",$A$18),0)>0,VLOOKUP(\"Gas\",HVACg_Lookup,MATCH($F$16,BuildingSize,0)+1,FALSE),IF(IFERROR(SEARCH(\"Oil\",$A$18),0)>0,VLOOKUP(\"Oil\",HVACg_Lookup,MATCH($F$16,BuildingSize,0)+1,FALSE),IF(IFERROR(SEARCH(\"Propane\",$A$18),0)>0,VLOOKUP(\"Propane\",HVACg_Lookup,MATCH(Worksheet!$F$16,BuildingSize,0)+1,FALSE),0)))","v":0},0,0,"",""]
[null,null,"",null,null,null,null,null,null,null,null,null,null,null,null,0,0,0,0,"",0,0,0,0,0,0,0,0,0,0,0,0,0,0,0,0,0,{"$f":"Y141/1000*AA141*AC141*IF(IFERROR(SEARCH(\"Gas\",$A$18),0)>0,VLOOKUP(\"Gas\",HVACg_Lookup,MATCH($F$16,BuildingSize,0)+1,FALSE),IF(IFERROR(SEARCH(\"Oil\",$A$18),0)>0,VLOOKUP(\"Oil\",HVACg_Lookup,MATCH($F$16,BuildingSize,0)+1,FALSE),IF(IFERROR(SEARCH(\"Propane\",$A$18),0)>0,VLOOKUP(\"Propane\",HVACg_Lookup,MATCH(Worksheet!$F$16,BuildingSize,0)+1,FALSE),0)))","v":0},{"$f":"Z141/1000*AA141*AC141*IF(IFERROR(SEARCH(\"Gas\",$A$18),0)>0,VLOOKUP(\"Gas\",HVACg_Lookup,MATCH($F$16,BuildingSize,0)+1,FALSE),IF(IFERROR(SEARCH(\"Oil\",$A$18),0)>0,VLOOKUP(\"Oil\",HVACg_Lookup,MATCH($F$16,BuildingSize,0)+1,FALSE),IF(IFERROR(SEARCH(\"Propane\",$A$18),0)>0,VLOOKUP(\"Propane\",HVACg_Lookup,MATCH(Worksheet!$F$16,BuildingSize,0)+1,FALSE),0)))","v":0},0,0,"",""]
[null,null,"",null,null,null,null,null,null,null,null,null,null,null,null,0,0,0,0,"",0,0,0,0,0,0,0,0,0,0,0,0,0,0,0,0,0,{"$f":"Y142/1000*AA142*AC142*IF(IFERROR(SEARCH(\"Gas\",$A$18),0)>0,VLOOKUP(\"Gas\",HVACg_Lookup,MATCH($F$16,BuildingSize,0)+1,FALSE),IF(IFERROR(SEARCH(\"Oil\",$A$18),0)>0,VLOOKUP(\"Oil\",HVACg_Lookup,MATCH($F$16,BuildingSize,0)+1,FALSE),IF(IFERROR(SEARCH(\"Propane\",$A$18),0)>0,VLOOKUP(\"Propane\",HVACg_Lookup,MATCH(Worksheet!$F$16,BuildingSize,0)+1,FALSE),0)))","v":0},{"$f":"Z142/1000*AA142*AC142*IF(IFERROR(SEARCH(\"Gas\",$A$18),0)>0,VLOOKUP(\"Gas\",HVACg_Lookup,MATCH($F$16,BuildingSize,0)+1,FALSE),IF(IFERROR(SEARCH(\"Oil\",$A$18),0)>0,VLOOKUP(\"Oil\",HVACg_Lookup,MATCH($F$16,BuildingSize,0)+1,FALSE),IF(IFERROR(SEARCH(\"Propane\",$A$18),0)>0,VLOOKUP(\"Propane\",HVACg_Lookup,MATCH(Worksheet!$F$16,BuildingSize,0)+1,FALSE),0)))","v":0},0,0,"",""]
[null,null,"",null,null,null,null,null,null,null,null,null,null,null,null,0,0,0,0,"",0,0,0,0,0,0,0,0,0,0,0,0,0,0,0,0,0,{"$f":"Y143/1000*AA143*AC143*IF(IFERROR(SEARCH(\"Gas\",$A$18),0)>0,VLOOKUP(\"Gas\",HVACg_Lookup,MATCH($F$16,BuildingSize,0)+1,FALSE),IF(IFERROR(SEARCH(\"Oil\",$A$18),0)>0,VLOOKUP(\"Oil\",HVACg_Lookup,MATCH($F$16,BuildingSize,0)+1,FALSE),IF(IFERROR(SEARCH(\"Propane\",$A$18),0)>0,VLOOKUP(\"Propane\",HVACg_Lookup,MATCH(Worksheet!$F$16,BuildingSize,0)+1,FALSE),0)))","v":0},{"$f":"Z143/1000*AA143*AC143*IF(IFERROR(SEARCH(\"Gas\",$A$18),0)>0,VLOOKUP(\"Gas\",HVACg_Lookup,MATCH($F$16,BuildingSize,0)+1,FALSE),IF(IFERROR(SEARCH(\"Oil\",$A$18),0)>0,VLOOKUP(\"Oil\",HVACg_Lookup,MATCH($F$16,BuildingSize,0)+1,FALSE),IF(IFERROR(SEARCH(\"Propane\",$A$18),0)>0,VLOOKUP(\"Propane\",HVACg_Lookup,MATCH(Worksheet!$F$16,BuildingSize,0)+1,FALSE),0)))","v":0},0,0,"",""]
[null,null,"",null,null,null,null,null,null,null,null,null,null,null,null,0,0,0,0,"",0,0,0,0,0,0,0,0,0,0,0,0,0,0,0,0,0,{"$f":"Y144/1000*AA144*AC144*IF(IFERROR(SEARCH(\"Gas\",$A$18),0)>0,VLOOKUP(\"Gas\",HVACg_Lookup,MATCH($F$16,BuildingSize,0)+1,FALSE),IF(IFERROR(SEARCH(\"Oil\",$A$18),0)>0,VLOOKUP(\"Oil\",HVACg_Lookup,MATCH($F$16,BuildingSize,0)+1,FALSE),IF(IFERROR(SEARCH(\"Propane\",$A$18),0)>0,VLOOKUP(\"Propane\",HVACg_Lookup,MATCH(Worksheet!$F$16,BuildingSize,0)+1,FALSE),0)))","v":0},{"$f":"Z144/1000*AA144*AC144*IF(IFERROR(SEARCH(\"Gas\",$A$18),0)>0,VLOOKUP(\"Gas\",HVACg_Lookup,MATCH($F$16,BuildingSize,0)+1,FALSE),IF(IFERROR(SEARCH(\"Oil\",$A$18),0)>0,VLOOKUP(\"Oil\",HVACg_Lookup,MATCH($F$16,BuildingSize,0)+1,FALSE),IF(IFERROR(SEARCH(\"Propane\",$A$18),0)>0,VLOOKUP(\"Propane\",HVACg_Lookup,MATCH(Worksheet!$F$16,BuildingSize,0)+1,FALSE),0)))","v":0},0,0,"",""]
[null,null,"",null,null,null,null,null,null,null,null,null,null,null,null,0,0,0,0,"",0,0,0,0,0,0,0,0,0,0,0,0,0,0,0,0,0,{"$f":"Y145/1000*AA145*AC145*IF(IFERROR(SEARCH(\"Gas\",$A$18),0)>0,VLOOKUP(\"Gas\",HVACg_Lookup,MATCH($F$16,BuildingSize,0)+1,FALSE),IF(IFERROR(SEARCH(\"Oil\",$A$18),0)>0,VLOOKUP(\"Oil\",HVACg_Lookup,MATCH($F$16,BuildingSize,0)+1,FALSE),IF(IFERROR(SEARCH(\"Propane\",$A$18),0)>0,VLOOKUP(\"Propane\",HVACg_Lookup,MATCH(Worksheet!$F$16,BuildingSize,0)+1,FALSE),0)))","v":0},{"$f":"Z145/1000*AA145*AC145*IF(IFERROR(SEARCH(\"Gas\",$A$18),0)>0,VLOOKUP(\"Gas\",HVACg_Lookup,MATCH($F$16,BuildingSize,0)+1,FALSE),IF(IFERROR(SEARCH(\"Oil\",$A$18),0)>0,VLOOKUP(\"Oil\",HVACg_Lookup,MATCH($F$16,BuildingSize,0)+1,FALSE),IF(IFERROR(SEARCH(\"Propane\",$A$18),0)>0,VLOOKUP(\"Propane\",HVACg_Lookup,MATCH(Worksheet!$F$16,BuildingSize,0)+1,FALSE),0)))","v":0},0,0,"",""]
[null,null,"",null,null,null,null,null,null,null,null,null,null,null,null,0,0,0,0,"",0,0,0,0,0,0,0,0,0,0,0,0,0,0,0,0,0,{"$f":"Y146/1000*AA146*AC146*IF(IFERROR(SEARCH(\"Gas\",$A$18),0)>0,VLOOKUP(\"Gas\",HVACg_Lookup,MATCH($F$16,BuildingSize,0)+1,FALSE),IF(IFERROR(SEARCH(\"Oil\",$A$18),0)>0,VLOOKUP(\"Oil\",HVACg_Lookup,MATCH($F$16,BuildingSize,0)+1,FALSE),IF(IFERROR(SEARCH(\"Propane\",$A$18),0)>0,VLOOKUP(\"Propane\",HVACg_Lookup,MATCH(Worksheet!$F$16,BuildingSize,0)+1,FALSE),0)))","v":0},{"$f":"Z146/1000*AA146*AC146*IF(IFERROR(SEARCH(\"Gas\",$A$18),0)>0,VLOOKUP(\"Gas\",HVACg_Lookup,MATCH($F$16,BuildingSize,0)+1,FALSE),IF(IFERROR(SEARCH(\"Oil\",$A$18),0)>0,VLOOKUP(\"Oil\",HVACg_Lookup,MATCH($F$16,BuildingSize,0)+1,FALSE),IF(IFERROR(SEARCH(\"Propane\",$A$18),0)>0,VLOOKUP(\"Propane\",HVACg_Lookup,MATCH(Worksheet!$F$16,BuildingSize,0)+1,FALSE),0)))","v":0},0,0,"",""]
[null,null,"",null,null,null,null,null,null,null,null,null,null,null,null,0,0,0,0,"",0,0,0,0,0,0,0,0,0,0,0,0,0,0,0,0,0,{"$f":"Y147/1000*AA147*AC147*IF(IFERROR(SEARCH(\"Gas\",$A$18),0)>0,VLOOKUP(\"Gas\",HVACg_Lookup,MATCH($F$16,BuildingSize,0)+1,FALSE),IF(IFERROR(SEARCH(\"Oil\",$A$18),0)>0,VLOOKUP(\"Oil\",HVACg_Lookup,MATCH($F$16,BuildingSize,0)+1,FALSE),IF(IFERROR(SEARCH(\"Propane\",$A$18),0)>0,VLOOKUP(\"Propane\",HVACg_Lookup,MATCH(Worksheet!$F$16,BuildingSize,0)+1,FALSE),0)))","v":0},{"$f":"Z147/1000*AA147*AC147*IF(IFERROR(SEARCH(\"Gas\",$A$18),0)>0,VLOOKUP(\"Gas\",HVACg_Lookup,MATCH($F$16,BuildingSize,0)+1,FALSE),IF(IFERROR(SEARCH(\"Oil\",$A$18),0)>0,VLOOKUP(\"Oil\",HVACg_Lookup,MATCH($F$16,BuildingSize,0)+1,FALSE),IF(IFERROR(SEARCH(\"Propane\",$A$18),0)>0,VLOOKUP(\"Propane\",HVACg_Lookup,MATCH(Worksheet!$F$16,BuildingSize,0)+1,FALSE),0)))","v":0},0,0,"",""]
[null,null,"",null,null,null,null,null,null,null,null,null,null,null,null,0,0,0,0,"",0,0,0,0,0,0,0,0,0,0,0,0,0,0,0,0,0,{"$f":"Y148/1000*AA148*AC148*IF(IFERROR(SEARCH(\"Gas\",$A$18),0)>0,VLOOKUP(\"Gas\",HVACg_Lookup,MATCH($F$16,BuildingSize,0)+1,FALSE),IF(IFERROR(SEARCH(\"Oil\",$A$18),0)>0,VLOOKUP(\"Oil\",HVACg_Lookup,MATCH($F$16,BuildingSize,0)+1,FALSE),IF(IFERROR(SEARCH(\"Propane\",$A$18),0)>0,VLOOKUP(\"Propane\",HVACg_Lookup,MATCH(Worksheet!$F$16,BuildingSize,0)+1,FALSE),0)))","v":0},{"$f":"Z148/1000*AA148*AC148*IF(IFERROR(SEARCH(\"Gas\",$A$18),0)>0,VLOOKUP(\"Gas\",HVACg_Lookup,MATCH($F$16,BuildingSize,0)+1,FALSE),IF(IFERROR(SEARCH(\"Oil\",$A$18),0)>0,VLOOKUP(\"Oil\",HVACg_Lookup,MATCH($F$16,BuildingSize,0)+1,FALSE),IF(IFERROR(SEARCH(\"Propane\",$A$18),0)>0,VLOOKUP(\"Propane\",HVACg_Lookup,MATCH(Worksheet!$F$16,BuildingSize,0)+1,FALSE),0)))","v":0},0,0,"",""]
[null,null,"",null,null,null,null,null,null,null,null,null,null,null,null,0,0,0,0,"",0,0,0,0,0,0,0,0,0,0,0,0,0,0,0,0,0,{"$f":"Y149/1000*AA149*AC149*IF(IFERROR(SEARCH(\"Gas\",$A$18),0)>0,VLOOKUP(\"Gas\",HVACg_Lookup,MATCH($F$16,BuildingSize,0)+1,FALSE),IF(IFERROR(SEARCH(\"Oil\",$A$18),0)>0,VLOOKUP(\"Oil\",HVACg_Lookup,MATCH($F$16,BuildingSize,0)+1,FALSE),IF(IFERROR(SEARCH(\"Propane\",$A$18),0)>0,VLOOKUP(\"Propane\",HVACg_Lookup,MATCH(Worksheet!$F$16,BuildingSize,0)+1,FALSE),0)))","v":0},{"$f":"Z149/1000*AA149*AC149*IF(IFERROR(SEARCH(\"Gas\",$A$18),0)>0,VLOOKUP(\"Gas\",HVACg_Lookup,MATCH($F$16,BuildingSize,0)+1,FALSE),IF(IFERROR(SEARCH(\"Oil\",$A$18),0)>0,VLOOKUP(\"Oil\",HVACg_Lookup,MATCH($F$16,BuildingSize,0)+1,FALSE),IF(IFERROR(SEARCH(\"Propane\",$A$18),0)>0,VLOOKUP(\"Propane\",HVACg_Lookup,MATCH(Worksheet!$F$16,BuildingSize,0)+1,FALSE),0)))","v":0},0,0,"",""]
[null,null,"",null,null,null,null,null,null,null,null,null,null,null,null,0,0,0,0,"",0,0,0,0,0,0,0,0,0,0,0,0,0,0,0,0,0,{"$f":"Y150/1000*AA150*AC150*IF(IFERROR(SEARCH(\"Gas\",$A$18),0)>0,VLOOKUP(\"Gas\",HVACg_Lookup,MATCH($F$16,BuildingSize,0)+1,FALSE),IF(IFERROR(SEARCH(\"Oil\",$A$18),0)>0,VLOOKUP(\"Oil\",HVACg_Lookup,MATCH($F$16,BuildingSize,0)+1,FALSE),IF(IFERROR(SEARCH(\"Propane\",$A$18),0)>0,VLOOKUP(\"Propane\",HVACg_Lookup,MATCH(Worksheet!$F$16,BuildingSize,0)+1,FALSE),0)))","v":0},{"$f":"Z150/1000*AA150*AC150*IF(IFERROR(SEARCH(\"Gas\",$A$18),0)>0,VLOOKUP(\"Gas\",HVACg_Lookup,MATCH($F$16,BuildingSize,0)+1,FALSE),IF(IFERROR(SEARCH(\"Oil\",$A$18),0)>0,VLOOKUP(\"Oil\",HVACg_Lookup,MATCH($F$16,BuildingSize,0)+1,FALSE),IF(IFERROR(SEARCH(\"Propane\",$A$18),0)>0,VLOOKUP(\"Propane\",HVACg_Lookup,MATCH(Worksheet!$F$16,BuildingSize,0)+1,FALSE),0)))","v":0},0,0,"",""]
[null,null,"",null,null,null,null,null,null,null,null,null,null,null,null,0,0,0,0,"",0,0,0,0,0,0,0,0,0,0,0,0,0,0,0,0,0,{"$f":"Y151/1000*AA151*AC151*IF(IFERROR(SEARCH(\"Gas\",$A$18),0)>0,VLOOKUP(\"Gas\",HVACg_Lookup,MATCH($F$16,BuildingSize,0)+1,FALSE),IF(IFERROR(SEARCH(\"Oil\",$A$18),0)>0,VLOOKUP(\"Oil\",HVACg_Lookup,MATCH($F$16,BuildingSize,0)+1,FALSE),IF(IFERROR(SEARCH(\"Propane\",$A$18),0)>0,VLOOKUP(\"Propane\",HVACg_Lookup,MATCH(Worksheet!$F$16,BuildingSize,0)+1,FALSE),0)))","v":0},{"$f":"Z151/1000*AA151*AC151*IF(IFERROR(SEARCH(\"Gas\",$A$18),0)>0,VLOOKUP(\"Gas\",HVACg_Lookup,MATCH($F$16,BuildingSize,0)+1,FALSE),IF(IFERROR(SEARCH(\"Oil\",$A$18),0)>0,VLOOKUP(\"Oil\",HVACg_Lookup,MATCH($F$16,BuildingSize,0)+1,FALSE),IF(IFERROR(SEARCH(\"Propane\",$A$18),0)>0,VLOOKUP(\"Propane\",HVACg_Lookup,MATCH(Worksheet!$F$16,BuildingSize,0)+1,FALSE),0)))","v":0},0,0,"",""]
[null,null,"",null,null,null,null,null,null,null,null,null,null,null,null,0,0,{"$f":"IF(AP152=\"\",0,IF(AP152=1,VLOOKUP(A152,MeasureCode_Lookup,3,FALSE),\"DNQ\"))","v":0},{"$f":"IF(AQ152=\"\",0,IF(AQ152=1,VLOOKUP(A152,MeasureCode_Lookup,3,FALSE),\"DNQ\"))","v":0},{"$f":"IF(A152=\"\",\"\",VLOOKUP(A152,MeasureCode_Lookup,4,FALSE))","v":""},0,0,0,0,{"$f":"IF(N(R152)=0,0,F152*P152)","v":0},{"$f":"IF(N(S152)=0,0,G152*Q152)","v":0},{"$f":"IF(A152=\"\",0,VLOOKUP(A152,MeasureCode_Lookup,5,FALSE))","v":0},{"$f":"IF($A$16=\"\",0,VLOOKUP($A$16,BuildingType_Lookup,3,FALSE))","v":0},{"$f":"IF($A$16=\"\",0,VLOOKUP($A$16,BuildingType_Lookup,2,FALSE))","v":0},{"$f":"IF(AND(OR(AP152=\"\",AP152=0)=TRUE,OR(AQ152=\"\",AQ152=0))=TRUE,0,IF(AQ152=\"\",(IF(OR(C152=\"DDC\",C152=\"OHLC\")=TRUE,O152,P152)/1000)*AA152*AB152*(1+VLOOKUP($A$16,BuildingType_Lookup,4,FALSE)),IF(AQ152=0,0,(IF(OR(C152=\"DDC\",C152=\"OHLC\")=TRUE,O152,Q152)/1000)*AA152*AB152*(1+VLOOKUP($A$16,BuildingType_Lookup,4,FALSE)))))","v":0},{"$f":"IF(AND(OR(AP152=\"\",AP152=0)=TRUE,OR(AQ152=\"\",AQ152=0))=TRUE,0,IF(AQ152=\"\",(IF(OR(C152=\"DDC\",C152=\"OHLC\")=TRUE,O152,P152)/1000)*AA152*AC152*(1+VLOOKUP($A$16,BuildingType_Lookup,MATCH($A$18,HVAC,0)+4,FALSE)),IF(AQ152=0,0,(IF(OR(C152=\"DDC\",C152=\"OHLC\")=TRUE,O152,Q152)/1000)*AA152*AC152*(1+VLOOKUP($A$16,BuildingType_Lookup,MATCH($A$18,HVAC,0)+4,FALSE)))))","v":0},{"$f":"IFERROR(IF(OR(C152=\"DDC\",C152=\"OHLC\")=TRUE,F152*J152*AD152,F152*AD152),0)","v":0},{"$f":"IFERROR(IF(OR(C152=\"DDC\",C152=\"OHLC\")=TRUE,G152*K152*AD152,G152*AD152),0)","v":0},{"$f":"IFERROR(IF(OR(C152=\"DDC\",C152=\"OHLC\")=TRUE,F152*J152*AE152,F152*AE152),0)","v":0},{"$f":"IFERROR(IF(OR(C152=\"DDC\",C152=\"OHLC\")=TRUE,G152*K152*AE152,G152*AE152),0)","v":0},0,0,{"$f":"Y152/1000*AA152*AC152*IF(IFERROR(SEARCH(\"Gas\",$A$18),0)>0,VLOOKUP(\"Gas\",HVACg_Lookup,MATCH($F$16,BuildingSize,0)+1,FALSE),IF(IFERROR(SEARCH(\"Oil\",$A$18),0)>0,VLOOKUP(\"Oil\",HVACg_Lookup,MATCH($F$16,BuildingSize,0)+1,FALSE),IF(IFERROR(SEARCH(\"Propane\",$A$18),0)>0,VLOOKUP(\"Propane\",HVACg_Lookup,MATCH(Worksheet!$F$16,BuildingSize,0)+1,FALSE),0)))","v":0},{"$f":"Z152/1000*AA152*AC152*IF(IFERROR(SEARCH(\"Gas\",$A$18),0)>0,VLOOKUP(\"Gas\",HVACg_Lookup,MATCH($F$16,BuildingSize,0)+1,FALSE),IF(IFERROR(SEARCH(\"Oil\",$A$18),0)>0,VLOOKUP(\"Oil\",HVACg_Lookup,MATCH($F$16,BuildingSize,0)+1,FALSE),IF(IFERROR(SEARCH(\"Propane\",$A$18),0)>0,VLOOKUP(\"Propane\",HVACg_Lookup,MATCH(Worksheet!$F$16,BuildingSize,0)+1,FALSE),0)))","v":0},0,0,"",""]
[null,null,{"$f":"IF(A153=\"\",\"\",VLOOKUP(A153,MeasureCode_Lookup,2,FALSE))","v":""},null,null,null,null,null,null,null,null,null,null,null,null,{"$f":"IF(OR(A153=\"\",F153=\"\",J153=\"\",O153=\"\")=TRUE,0,J153*O153)","v":0},{"$f":"IF(OR(A153=\"\",G153=\"\",K153=\"\",O153=\"\")=TRUE,0,K153*O153)","v":0},0,0,"",{"$f":"IF(OR($A$11=TRUE,$A$12=TRUE,$B$11=TRUE,$B$12=TRUE,$C$11=TRUE)=TRUE,R153,0)","v":0},{"$f":"IF(OR($A$11=TRUE,$A$12=TRUE,$B$11=TRUE,$B$12=TRUE,$C$11=TRUE)=TRUE,S153,0)","v":0},{"$f":"IF(N(R153)=0,0,F153*(R153+U153)*IF(T153=\"per Fixture Controlled\",J153,1))","v":0},{"$f":"IF(N(S153)=0,0,G153*(S153+V153)*IF(T153=\"per Fixture Controlled\",K153,1))","v":0},0,0,0,0,0,0,0,0,0,0,0,{"$f":"AH153*8","v":0},{"$f":"AI153*8","v":0},{"$f":"Y153/1000*AA153*AC153*IF(IFERROR(SEARCH(\"Gas\",$A$18),0)>0,VLOOKUP(\"Gas\",HVACg_Lookup,MATCH($F$16,BuildingSize,0)+1,FALSE),IF(IFERROR(SEARCH(\"Oil\",$A$18),0)>0,VLOOKUP(\"Oil\",HVACg_Lookup,MATCH($F$16,BuildingSize,0)+1,FALSE),IF(IFERROR(SEARCH(\"Propane\",$A$18),0)>0,VLOOKUP(\"Propane\",HVACg_Lookup,MATCH(Worksheet!$F$16,BuildingSize,0)+1,FALSE),0)))","v":0},{"$f":"Z153/1000*AA153*AC153*IF(IFERROR(SEARCH(\"Gas\",$A$18),0)>0,VLOOKUP(\"Gas\",HVACg_Lookup,MATCH($F$16,BuildingSize,0)+1,FALSE),IF(IFERROR(SEARCH(\"Oil\",$A$18),0)>0,VLOOKUP(\"Oil\",HVACg_Lookup,MATCH($F$16,BuildingSize,0)+1,FALSE),IF(IFERROR(SEARCH(\"Propane\",$A$18),0)>0,VLOOKUP(\"Propane\",HVACg_Lookup,MATCH(Worksheet!$F$16,BuildingSize,0)+1,FALSE),0)))","v":0},{"$f":"AL153*8","v":0},{"$f":"AM153*8","v":0},{"$f":"IF(OR($B$4=\"\",$B$5=\"\",$A$16=\"\",$F$16=\"\",$A$18=\"\",A153=\"\",F153=\"\",J153=\"\",O153=\"\",P153=\"\")=TRUE,\"\",IF(C153=\"OSW\",IF(J153>=2,1,0),IF(C153=\"OSR\",IF(AND(J153>=2,P153>60)=TRUE,1,0),IF(C153=\"OSRH\",IF(AND(J153>=1,P153>90)=TRUE,1,0),IF(C153=\"OHLC\",IF(AND(N153=\"Y\",P153>60)=TRUE,1,0),IF(C153=\"DDC\",IF(AND(J153>=4,N153=\"Y\",P153>120)=TRUE,1,0),0))))))","v":""},{"$f":"IF(OR($B$4=\"\",$B$5=\"\",$A$16=\"\",$F$16=\"\",$A$18=\"\",A153=\"\",F153=\"\",K153=\"\",O153=\"\",P153=\"\")=TRUE,\"\",IF(C153=\"OSW\",IF(K153>=2,1,0),IF(C153=\"OSR\",IF(AND(K153>=2,Q153>60)=TRUE,1,0),IF(C153=\"OSRH\",IF(AND(K153>=1,Q153>90)=TRUE,1,0),IF(C153=\"OHLC\",IF(AND(N153=\"Y\",Q153>60)=TRUE,1,0),IF(C153=\"DDC\",IF(AND(K153>=4,N153=\"Y\",Q153>120)=TRUE,1,0),0))))))","v":""}]
[null,null,"",null,null,null,null,null,null,null,null,null,null,null,null,0,0,0,0,"",0,0,0,0,0,0,0,0,0,0,0,0,0,0,0,0,0,{"$f":"Y154/1000*AA154*AC154*IF(IFERROR(SEARCH(\"Gas\",$A$18),0)>0,VLOOKUP(\"Gas\",HVACg_Lookup,MATCH($F$16,BuildingSize,0)+1,FALSE),IF(IFERROR(SEARCH(\"Oil\",$A$18),0)>0,VLOOKUP(\"Oil\",HVACg_Lookup,MATCH($F$16,BuildingSize,0)+1,FALSE),IF(IFERROR(SEARCH(\"Propane\",$A$18),0)>0,VLOOKUP(\"Propane\",HVACg_Lookup,MATCH(Worksheet!$F$16,BuildingSize,0)+1,FALSE),0)))","v":0},{"$f":"Z154/1000*AA154*AC154*IF(IFERROR(SEARCH(\"Gas\",$A$18),0)>0,VLOOKUP(\"Gas\",HVACg_Lookup,MATCH($F$16,BuildingSize,0)+1,FALSE),IF(IFERROR(SEARCH(\"Oil\",$A$18),0)>0,VLOOKUP(\"Oil\",HVACg_Lookup,MATCH($F$16,BuildingSize,0)+1,FALSE),IF(IFERROR(SEARCH(\"Propane\",$A$18),0)>0,VLOOKUP(\"Propane\",HVACg_Lookup,MATCH(Worksheet!$F$16,BuildingSize,0)+1,FALSE),0)))","v":0},0,0,"",""]
[null,null,"",null,null,null,null,null,null,null,null,null,null,null,null,0,0,0,0,"",0,0,0,0,0,0,0,0,0,0,0,0,0,0,0,0,0,{"$f":"Y155/1000*AA155*AC155*IF(IFERROR(SEARCH(\"Gas\",$A$18),0)>0,VLOOKUP(\"Gas\",HVACg_Lookup,MATCH($F$16,BuildingSize,0)+1,FALSE),IF(IFERROR(SEARCH(\"Oil\",$A$18),0)>0,VLOOKUP(\"Oil\",HVACg_Lookup,MATCH($F$16,BuildingSize,0)+1,FALSE),IF(IFERROR(SEARCH(\"Propane\",$A$18),0)>0,VLOOKUP(\"Propane\",HVACg_Lookup,MATCH(Worksheet!$F$16,BuildingSize,0)+1,FALSE),0)))","v":0},{"$f":"Z155/1000*AA155*AC155*IF(IFERROR(SEARCH(\"Gas\",$A$18),0)>0,VLOOKUP(\"Gas\",HVACg_Lookup,MATCH($F$16,BuildingSize,0)+1,FALSE),IF(IFERROR(SEARCH(\"Oil\",$A$18),0)>0,VLOOKUP(\"Oil\",HVACg_Lookup,MATCH($F$16,BuildingSize,0)+1,FALSE),IF(IFERROR(SEARCH(\"Propane\",$A$18),0)>0,VLOOKUP(\"Propane\",HVACg_Lookup,MATCH(Worksheet!$F$16,BuildingSize,0)+1,FALSE),0)))","v":0},0,0,"",""]
[null,null,"",null,null,null,null,null,null,null,null,null,null,null,null,0,0,0,0,"",0,0,0,0,0,0,0,0,0,0,0,0,0,0,0,0,0,{"$f":"Y156/1000*AA156*AC156*IF(IFERROR(SEARCH(\"Gas\",$A$18),0)>0,VLOOKUP(\"Gas\",HVACg_Lookup,MATCH($F$16,BuildingSize,0)+1,FALSE),IF(IFERROR(SEARCH(\"Oil\",$A$18),0)>0,VLOOKUP(\"Oil\",HVACg_Lookup,MATCH($F$16,BuildingSize,0)+1,FALSE),IF(IFERROR(SEARCH(\"Propane\",$A$18),0)>0,VLOOKUP(\"Propane\",HVACg_Lookup,MATCH(Worksheet!$F$16,BuildingSize,0)+1,FALSE),0)))","v":0},{"$f":"Z156/1000*AA156*AC156*IF(IFERROR(SEARCH(\"Gas\",$A$18),0)>0,VLOOKUP(\"Gas\",HVACg_Lookup,MATCH($F$16,BuildingSize,0)+1,FALSE),IF(IFERROR(SEARCH(\"Oil\",$A$18),0)>0,VLOOKUP(\"Oil\",HVACg_Lookup,MATCH($F$16,BuildingSize,0)+1,FALSE),IF(IFERROR(SEARCH(\"Propane\",$A$18),0)>0,VLOOKUP(\"Propane\",HVACg_Lookup,MATCH(Worksheet!$F$16,BuildingSize,0)+1,FALSE),0)))","v":0},0,0,"",""]
[null,null,"",null,null,null,null,null,null,null,null,null,null,null,null,0,0,0,0,"",0,0,0,0,0,0,0,0,0,0,0,0,0,0,0,0,0,{"$f":"Y157/1000*AA157*AC157*IF(IFERROR(SEARCH(\"Gas\",$A$18),0)>0,VLOOKUP(\"Gas\",HVACg_Lookup,MATCH($F$16,BuildingSize,0)+1,FALSE),IF(IFERROR(SEARCH(\"Oil\",$A$18),0)>0,VLOOKUP(\"Oil\",HVACg_Lookup,MATCH($F$16,BuildingSize,0)+1,FALSE),IF(IFERROR(SEARCH(\"Propane\",$A$18),0)>0,VLOOKUP(\"Propane\",HVACg_Lookup,MATCH(Worksheet!$F$16,BuildingSize,0)+1,FALSE),0)))","v":0},{"$f":"Z157/1000*AA157*AC157*IF(IFERROR(SEARCH(\"Gas\",$A$18),0)>0,VLOOKUP(\"Gas\",HVACg_Lookup,MATCH($F$16,BuildingSize,0)+1,FALSE),IF(IFERROR(SEARCH(\"Oil\",$A$18),0)>0,VLOOKUP(\"Oil\",HVACg_Lookup,MATCH($F$16,BuildingSize,0)+1,FALSE),IF(IFERROR(SEARCH(\"Propane\",$A$18),0)>0,VLOOKUP(\"Propane\",HVACg_Lookup,MATCH(Worksheet!$F$16,BuildingSize,0)+1,FALSE),0)))","v":0},0,0,"",""]
[null,null,"",null,null,null,null,null,null,null,null,null,null,null,null,0,0,0,0,"",0,0,0,0,0,0,0,0,0,0,0,0,0,0,0,0,0,{"$f":"Y158/1000*AA158*AC158*IF(IFERROR(SEARCH(\"Gas\",$A$18),0)>0,VLOOKUP(\"Gas\",HVACg_Lookup,MATCH($F$16,BuildingSize,0)+1,FALSE),IF(IFERROR(SEARCH(\"Oil\",$A$18),0)>0,VLOOKUP(\"Oil\",HVACg_Lookup,MATCH($F$16,BuildingSize,0)+1,FALSE),IF(IFERROR(SEARCH(\"Propane\",$A$18),0)>0,VLOOKUP(\"Propane\",HVACg_Lookup,MATCH(Worksheet!$F$16,BuildingSize,0)+1,FALSE),0)))","v":0},{"$f":"Z158/1000*AA158*AC158*IF(IFERROR(SEARCH(\"Gas\",$A$18),0)>0,VLOOKUP(\"Gas\",HVACg_Lookup,MATCH($F$16,BuildingSize,0)+1,FALSE),IF(IFERROR(SEARCH(\"Oil\",$A$18),0)>0,VLOOKUP(\"Oil\",HVACg_Lookup,MATCH($F$16,BuildingSize,0)+1,FALSE),IF(IFERROR(SEARCH(\"Propane\",$A$18),0)>0,VLOOKUP(\"Propane\",HVACg_Lookup,MATCH(Worksheet!$F$16,BuildingSize,0)+1,FALSE),0)))","v":0},0,0,"",""]
[null,null,"",null,null,null,null,null,null,null,null,null,null,null,null,0,0,0,0,"",0,0,0,0,0,0,0,0,0,0,0,0,0,0,0,0,0,{"$f":"Y159/1000*AA159*AC159*IF(IFERROR(SEARCH(\"Gas\",$A$18),0)>0,VLOOKUP(\"Gas\",HVACg_Lookup,MATCH($F$16,BuildingSize,0)+1,FALSE),IF(IFERROR(SEARCH(\"Oil\",$A$18),0)>0,VLOOKUP(\"Oil\",HVACg_Lookup,MATCH($F$16,BuildingSize,0)+1,FALSE),IF(IFERROR(SEARCH(\"Propane\",$A$18),0)>0,VLOOKUP(\"Propane\",HVACg_Lookup,MATCH(Worksheet!$F$16,BuildingSize,0)+1,FALSE),0)))","v":0},{"$f":"Z159/1000*AA159*AC159*IF(IFERROR(SEARCH(\"Gas\",$A$18),0)>0,VLOOKUP(\"Gas\",HVACg_Lookup,MATCH($F$16,BuildingSize,0)+1,FALSE),IF(IFERROR(SEARCH(\"Oil\",$A$18),0)>0,VLOOKUP(\"Oil\",HVACg_Lookup,MATCH($F$16,BuildingSize,0)+1,FALSE),IF(IFERROR(SEARCH(\"Propane\",$A$18),0)>0,VLOOKUP(\"Propane\",HVACg_Lookup,MATCH(Worksheet!$F$16,BuildingSize,0)+1,FALSE),0)))","v":0},0,0,"",""]
[null,null,"",null,null,null,null,null,null,null,null,null,null,null,null,0,0,0,0,"",0,0,0,0,0,0,0,0,0,0,0,0,0,0,0,0,0,{"$f":"Y160/1000*AA160*AC160*IF(IFERROR(SEARCH(\"Gas\",$A$18),0)>0,VLOOKUP(\"Gas\",HVACg_Lookup,MATCH($F$16,BuildingSize,0)+1,FALSE),IF(IFERROR(SEARCH(\"Oil\",$A$18),0)>0,VLOOKUP(\"Oil\",HVACg_Lookup,MATCH($F$16,BuildingSize,0)+1,FALSE),IF(IFERROR(SEARCH(\"Propane\",$A$18),0)>0,VLOOKUP(\"Propane\",HVACg_Lookup,MATCH(Worksheet!$F$16,BuildingSize,0)+1,FALSE),0)))","v":0},{"$f":"Z160/1000*AA160*AC160*IF(IFERROR(SEARCH(\"Gas\",$A$18),0)>0,VLOOKUP(\"Gas\",HVACg_Lookup,MATCH($F$16,BuildingSize,0)+1,FALSE),IF(IFERROR(SEARCH(\"Oil\",$A$18),0)>0,VLOOKUP(\"Oil\",HVACg_Lookup,MATCH($F$16,BuildingSize,0)+1,FALSE),IF(IFERROR(SEARCH(\"Propane\",$A$18),0)>0,VLOOKUP(\"Propane\",HVACg_Lookup,MATCH(Worksheet!$F$16,BuildingSize,0)+1,FALSE),0)))","v":0},0,0,"",""]
[null,null,"",null,null,null,null,null,null,null,null,null,null,null,null,0,0,0,0,"",0,0,0,0,0,0,0,0,0,0,0,0,0,0,0,0,0,{"$f":"Y161/1000*AA161*AC161*IF(IFERROR(SEARCH(\"Gas\",$A$18),0)>0,VLOOKUP(\"Gas\",HVACg_Lookup,MATCH($F$16,BuildingSize,0)+1,FALSE),IF(IFERROR(SEARCH(\"Oil\",$A$18),0)>0,VLOOKUP(\"Oil\",HVACg_Lookup,MATCH($F$16,BuildingSize,0)+1,FALSE),IF(IFERROR(SEARCH(\"Propane\",$A$18),0)>0,VLOOKUP(\"Propane\",HVACg_Lookup,MATCH(Worksheet!$F$16,BuildingSize,0)+1,FALSE),0)))","v":0},{"$f":"Z161/1000*AA161*AC161*IF(IFERROR(SEARCH(\"Gas\",$A$18),0)>0,VLOOKUP(\"Gas\",HVACg_Lookup,MATCH($F$16,BuildingSize,0)+1,FALSE),IF(IFERROR(SEARCH(\"Oil\",$A$18),0)>0,VLOOKUP(\"Oil\",HVACg_Lookup,MATCH($F$16,BuildingSize,0)+1,FALSE),IF(IFERROR(SEARCH(\"Propane\",$A$18),0)>0,VLOOKUP(\"Propane\",HVACg_Lookup,MATCH(Worksheet!$F$16,BuildingSize,0)+1,FALSE),0)))","v":0},0,0,"",""]
[null,null,"",null,null,null,null,null,null,null,null,null,null,null,null,0,0,0,0,"",0,0,0,0,0,0,0,0,0,0,0,0,0,0,0,0,0,{"$f":"Y162/1000*AA162*AC162*IF(IFERROR(SEARCH(\"Gas\",$A$18),0)>0,VLOOKUP(\"Gas\",HVACg_Lookup,MATCH($F$16,BuildingSize,0)+1,FALSE),IF(IFERROR(SEARCH(\"Oil\",$A$18),0)>0,VLOOKUP(\"Oil\",HVACg_Lookup,MATCH($F$16,BuildingSize,0)+1,FALSE),IF(IFERROR(SEARCH(\"Propane\",$A$18),0)>0,VLOOKUP(\"Propane\",HVACg_Lookup,MATCH(Worksheet!$F$16,BuildingSize,0)+1,FALSE),0)))","v":0},{"$f":"Z162/1000*AA162*AC162*IF(IFERROR(SEARCH(\"Gas\",$A$18),0)>0,VLOOKUP(\"Gas\",HVACg_Lookup,MATCH($F$16,BuildingSize,0)+1,FALSE),IF(IFERROR(SEARCH(\"Oil\",$A$18),0)>0,VLOOKUP(\"Oil\",HVACg_Lookup,MATCH($F$16,BuildingSize,0)+1,FALSE),IF(IFERROR(SEARCH(\"Propane\",$A$18),0)>0,VLOOKUP(\"Propane\",HVACg_Lookup,MATCH(Worksheet!$F$16,BuildingSize,0)+1,FALSE),0)))","v":0},0,0,"",""]
[null,null,"",null,null,null,null,null,null,null,null,null,null,null,null,0,0,0,0,"",0,0,0,0,0,0,0,0,0,0,0,0,0,0,0,0,0,{"$f":"Y163/1000*AA163*AC163*IF(IFERROR(SEARCH(\"Gas\",$A$18),0)>0,VLOOKUP(\"Gas\",HVACg_Lookup,MATCH($F$16,BuildingSize,0)+1,FALSE),IF(IFERROR(SEARCH(\"Oil\",$A$18),0)>0,VLOOKUP(\"Oil\",HVACg_Lookup,MATCH($F$16,BuildingSize,0)+1,FALSE),IF(IFERROR(SEARCH(\"Propane\",$A$18),0)>0,VLOOKUP(\"Propane\",HVACg_Lookup,MATCH(Worksheet!$F$16,BuildingSize,0)+1,FALSE),0)))","v":0},{"$f":"Z163/1000*AA163*AC163*IF(IFERROR(SEARCH(\"Gas\",$A$18),0)>0,VLOOKUP(\"Gas\",HVACg_Lookup,MATCH($F$16,BuildingSize,0)+1,FALSE),IF(IFERROR(SEARCH(\"Oil\",$A$18),0)>0,VLOOKUP(\"Oil\",HVACg_Lookup,MATCH($F$16,BuildingSize,0)+1,FALSE),IF(IFERROR(SEARCH(\"Propane\",$A$18),0)>0,VLOOKUP(\"Propane\",HVACg_Lookup,MATCH(Worksheet!$F$16,BuildingSize,0)+1,FALSE),0)))","v":0},0,0,"",""]
[null,null,"",null,null,null,null,null,null,null,null,null,null,null,null,0,0,0,0,"",0,0,0,0,0,0,0,0,0,0,0,0,0,0,0,0,0,{"$f":"Y164/1000*AA164*AC164*IF(IFERROR(SEARCH(\"Gas\",$A$18),0)>0,VLOOKUP(\"Gas\",HVACg_Lookup,MATCH($F$16,BuildingSize,0)+1,FALSE),IF(IFERROR(SEARCH(\"Oil\",$A$18),0)>0,VLOOKUP(\"Oil\",HVACg_Lookup,MATCH($F$16,BuildingSize,0)+1,FALSE),IF(IFERROR(SEARCH(\"Propane\",$A$18),0)>0,VLOOKUP(\"Propane\",HVACg_Lookup,MATCH(Worksheet!$F$16,BuildingSize,0)+1,FALSE),0)))","v":0},{"$f":"Z164/1000*AA164*AC164*IF(IFERROR(SEARCH(\"Gas\",$A$18),0)>0,VLOOKUP(\"Gas\",HVACg_Lookup,MATCH($F$16,BuildingSize,0)+1,FALSE),IF(IFERROR(SEARCH(\"Oil\",$A$18),0)>0,VLOOKUP(\"Oil\",HVACg_Lookup,MATCH($F$16,BuildingSize,0)+1,FALSE),IF(IFERROR(SEARCH(\"Propane\",$A$18),0)>0,VLOOKUP(\"Propane\",HVACg_Lookup,MATCH(Worksheet!$F$16,BuildingSize,0)+1,FALSE),0)))","v":0},0,0,"",""]
[null,null,"",null,null,null,null,null,null,null,null,null,null,null,null,0,0,0,0,"",0,0,0,0,0,0,0,0,0,0,0,0,0,0,0,0,0,{"$f":"Y165/1000*AA165*AC165*IF(IFERROR(SEARCH(\"Gas\",$A$18),0)>0,VLOOKUP(\"Gas\",HVACg_Lookup,MATCH($F$16,BuildingSize,0)+1,FALSE),IF(IFERROR(SEARCH(\"Oil\",$A$18),0)>0,VLOOKUP(\"Oil\",HVACg_Lookup,MATCH($F$16,BuildingSize,0)+1,FALSE),IF(IFERROR(SEARCH(\"Propane\",$A$18),0)>0,VLOOKUP(\"Propane\",HVACg_Lookup,MATCH(Worksheet!$F$16,BuildingSize,0)+1,FALSE),0)))","v":0},{"$f":"Z165/1000*AA165*AC165*IF(IFERROR(SEARCH(\"Gas\",$A$18),0)>0,VLOOKUP(\"Gas\",HVACg_Lookup,MATCH($F$16,BuildingSize,0)+1,FALSE),IF(IFERROR(SEARCH(\"Oil\",$A$18),0)>0,VLOOKUP(\"Oil\",HVACg_Lookup,MATCH($F$16,BuildingSize,0)+1,FALSE),IF(IFERROR(SEARCH(\"Propane\",$A$18),0)>0,VLOOKUP(\"Propane\",HVACg_Lookup,MATCH(Worksheet!$F$16,BuildingSize,0)+1,FALSE),0)))","v":0},0,0,"",""]
[null,null,"",null,null,null,null,null,null,null,null,null,null,null,null,0,0,0,0,"",0,0,0,0,0,0,0,0,0,0,0,0,0,0,0,0,0,{"$f":"Y166/1000*AA166*AC166*IF(IFERROR(SEARCH(\"Gas\",$A$18),0)>0,VLOOKUP(\"Gas\",HVACg_Lookup,MATCH($F$16,BuildingSize,0)+1,FALSE),IF(IFERROR(SEARCH(\"Oil\",$A$18),0)>0,VLOOKUP(\"Oil\",HVACg_Lookup,MATCH($F$16,BuildingSize,0)+1,FALSE),IF(IFERROR(SEARCH(\"Propane\",$A$18),0)>0,VLOOKUP(\"Propane\",HVACg_Lookup,MATCH(Worksheet!$F$16,BuildingSize,0)+1,FALSE),0)))","v":0},{"$f":"Z166/1000*AA166*AC166*IF(IFERROR(SEARCH(\"Gas\",$A$18),0)>0,VLOOKUP(\"Gas\",HVACg_Lookup,MATCH($F$16,BuildingSize,0)+1,FALSE),IF(IFERROR(SEARCH(\"Oil\",$A$18),0)>0,VLOOKUP(\"Oil\",HVACg_Lookup,MATCH($F$16,BuildingSize,0)+1,FALSE),IF(IFERROR(SEARCH(\"Propane\",$A$18),0)>0,VLOOKUP(\"Propane\",HVACg_Lookup,MATCH(Worksheet!$F$16,BuildingSize,0)+1,FALSE),0)))","v":0},0,0,"",""]
[null,null,"",null,null,null,null,null,null,null,null,null,null,null,null,0,0,0,0,"",0,0,0,0,0,0,0,0,0,0,0,0,0,0,0,0,0,{"$f":"Y167/1000*AA167*AC167*IF(IFERROR(SEARCH(\"Gas\",$A$18),0)>0,VLOOKUP(\"Gas\",HVACg_Lookup,MATCH($F$16,BuildingSize,0)+1,FALSE),IF(IFERROR(SEARCH(\"Oil\",$A$18),0)>0,VLOOKUP(\"Oil\",HVACg_Lookup,MATCH($F$16,BuildingSize,0)+1,FALSE),IF(IFERROR(SEARCH(\"Propane\",$A$18),0)>0,VLOOKUP(\"Propane\",HVACg_Lookup,MATCH(Worksheet!$F$16,BuildingSize,0)+1,FALSE),0)))","v":0},{"$f":"Z167/1000*AA167*AC167*IF(IFERROR(SEARCH(\"Gas\",$A$18),0)>0,VLOOKUP(\"Gas\",HVACg_Lookup,MATCH($F$16,BuildingSize,0)+1,FALSE),IF(IFERROR(SEARCH(\"Oil\",$A$18),0)>0,VLOOKUP(\"Oil\",HVACg_Lookup,MATCH($F$16,BuildingSize,0)+1,FALSE),IF(IFERROR(SEARCH(\"Propane\",$A$18),0)>0,VLOOKUP(\"Propane\",HVACg_Lookup,MATCH(Worksheet!$F$16,BuildingSize,0)+1,FALSE),0)))","v":0},0,0,"",""]
[null,null,"",null,null,null,null,null,null,null,null,null,null,null,null,0,0,0,0,"",0,0,0,0,0,0,0,0,0,0,0,0,0,0,0,0,0,{"$f":"Y168/1000*AA168*AC168*IF(IFERROR(SEARCH(\"Gas\",$A$18),0)>0,VLOOKUP(\"Gas\",HVACg_Lookup,MATCH($F$16,BuildingSize,0)+1,FALSE),IF(IFERROR(SEARCH(\"Oil\",$A$18),0)>0,VLOOKUP(\"Oil\",HVACg_Lookup,MATCH($F$16,BuildingSize,0)+1,FALSE),IF(IFERROR(SEARCH(\"Propane\",$A$18),0)>0,VLOOKUP(\"Propane\",HVACg_Lookup,MATCH(Worksheet!$F$16,BuildingSize,0)+1,FALSE),0)))","v":0},{"$f":"Z168/1000*AA168*AC168*IF(IFERROR(SEARCH(\"Gas\",$A$18),0)>0,VLOOKUP(\"Gas\",HVACg_Lookup,MATCH($F$16,BuildingSize,0)+1,FALSE),IF(IFERROR(SEARCH(\"Oil\",$A$18),0)>0,VLOOKUP(\"Oil\",HVACg_Lookup,MATCH($F$16,BuildingSize,0)+1,FALSE),IF(IFERROR(SEARCH(\"Propane\",$A$18),0)>0,VLOOKUP(\"Propane\",HVACg_Lookup,MATCH(Worksheet!$F$16,BuildingSize,0)+1,FALSE),0)))","v":0},0,0,"",""]
[null,null,"",null,null,null,null,null,null,null,null,null,null,null,null,0,0,0,0,"",0,0,0,0,0,0,0,0,0,0,0,0,0,0,0,0,0,{"$f":"Y169/1000*AA169*AC169*IF(IFERROR(SEARCH(\"Gas\",$A$18),0)>0,VLOOKUP(\"Gas\",HVACg_Lookup,MATCH($F$16,BuildingSize,0)+1,FALSE),IF(IFERROR(SEARCH(\"Oil\",$A$18),0)>0,VLOOKUP(\"Oil\",HVACg_Lookup,MATCH($F$16,BuildingSize,0)+1,FALSE),IF(IFERROR(SEARCH(\"Propane\",$A$18),0)>0,VLOOKUP(\"Propane\",HVACg_Lookup,MATCH(Worksheet!$F$16,BuildingSize,0)+1,FALSE),0)))","v":0},{"$f":"Z169/1000*AA169*AC169*IF(IFERROR(SEARCH(\"Gas\",$A$18),0)>0,VLOOKUP(\"Gas\",HVACg_Lookup,MATCH($F$16,BuildingSize,0)+1,FALSE),IF(IFERROR(SEARCH(\"Oil\",$A$18),0)>0,VLOOKUP(\"Oil\",HVACg_Lookup,MATCH($F$16,BuildingSize,0)+1,FALSE),IF(IFERROR(SEARCH(\"Propane\",$A$18),0)>0,VLOOKUP(\"Propane\",HVACg_Lookup,MATCH(Worksheet!$F$16,BuildingSize,0)+1,FALSE),0)))","v":0},0,0,"",""]
[null,null,"",null,null,null,null,null,null,null,null,null,null,null,null,0,0,0,0,"",0,0,0,0,0,0,0,0,0,0,0,0,0,0,0,0,0,{"$f":"Y170/1000*AA170*AC170*IF(IFERROR(SEARCH(\"Gas\",$A$18),0)>0,VLOOKUP(\"Gas\",HVACg_Lookup,MATCH($F$16,BuildingSize,0)+1,FALSE),IF(IFERROR(SEARCH(\"Oil\",$A$18),0)>0,VLOOKUP(\"Oil\",HVACg_Lookup,MATCH($F$16,BuildingSize,0)+1,FALSE),IF(IFERROR(SEARCH(\"Propane\",$A$18),0)>0,VLOOKUP(\"Propane\",HVACg_Lookup,MATCH(Worksheet!$F$16,BuildingSize,0)+1,FALSE),0)))","v":0},{"$f":"Z170/1000*AA170*AC170*IF(IFERROR(SEARCH(\"Gas\",$A$18),0)>0,VLOOKUP(\"Gas\",HVACg_Lookup,MATCH($F$16,BuildingSize,0)+1,FALSE),IF(IFERROR(SEARCH(\"Oil\",$A$18),0)>0,VLOOKUP(\"Oil\",HVACg_Lookup,MATCH($F$16,BuildingSize,0)+1,FALSE),IF(IFERROR(SEARCH(\"Propane\",$A$18),0)>0,VLOOKUP(\"Propane\",HVACg_Lookup,MATCH(Worksheet!$F$16,BuildingSize,0)+1,FALSE),0)))","v":0},0,0,"",""]
[null,null,"",null,null,null,null,null,null,null,null,null,null,null,null,0,0,0,0,"",0,0,0,0,0,0,0,0,0,0,0,0,0,0,0,0,0,{"$f":"Y171/1000*AA171*AC171*IF(IFERROR(SEARCH(\"Gas\",$A$18),0)>0,VLOOKUP(\"Gas\",HVACg_Lookup,MATCH($F$16,BuildingSize,0)+1,FALSE),IF(IFERROR(SEARCH(\"Oil\",$A$18),0)>0,VLOOKUP(\"Oil\",HVACg_Lookup,MATCH($F$16,BuildingSize,0)+1,FALSE),IF(IFERROR(SEARCH(\"Propane\",$A$18),0)>0,VLOOKUP(\"Propane\",HVACg_Lookup,MATCH(Worksheet!$F$16,BuildingSize,0)+1,FALSE),0)))","v":0},{"$f":"Z171/1000*AA171*AC171*IF(IFERROR(SEARCH(\"Gas\",$A$18),0)>0,VLOOKUP(\"Gas\",HVACg_Lookup,MATCH($F$16,BuildingSize,0)+1,FALSE),IF(IFERROR(SEARCH(\"Oil\",$A$18),0)>0,VLOOKUP(\"Oil\",HVACg_Lookup,MATCH($F$16,BuildingSize,0)+1,FALSE),IF(IFERROR(SEARCH(\"Propane\",$A$18),0)>0,VLOOKUP(\"Propane\",HVACg_Lookup,MATCH(Worksheet!$F$16,BuildingSize,0)+1,FALSE),0)))","v":0},0,0,"",""]
[null,null,"",null,null,null,null,null,null,null,null,null,null,null,null,0,0,0,0,"",0,0,0,0,0,0,0,0,0,0,0,0,0,0,0,0,0,{"$f":"Y172/1000*AA172*AC172*IF(IFERROR(SEARCH(\"Gas\",$A$18),0)>0,VLOOKUP(\"Gas\",HVACg_Lookup,MATCH($F$16,BuildingSize,0)+1,FALSE),IF(IFERROR(SEARCH(\"Oil\",$A$18),0)>0,VLOOKUP(\"Oil\",HVACg_Lookup,MATCH($F$16,BuildingSize,0)+1,FALSE),IF(IFERROR(SEARCH(\"Propane\",$A$18),0)>0,VLOOKUP(\"Propane\",HVACg_Lookup,MATCH(Worksheet!$F$16,BuildingSize,0)+1,FALSE),0)))","v":0},{"$f":"Z172/1000*AA172*AC172*IF(IFERROR(SEARCH(\"Gas\",$A$18),0)>0,VLOOKUP(\"Gas\",HVACg_Lookup,MATCH($F$16,BuildingSize,0)+1,FALSE),IF(IFERROR(SEARCH(\"Oil\",$A$18),0)>0,VLOOKUP(\"Oil\",HVACg_Lookup,MATCH($F$16,BuildingSize,0)+1,FALSE),IF(IFERROR(SEARCH(\"Propane\",$A$18),0)>0,VLOOKUP(\"Propane\",HVACg_Lookup,MATCH(Worksheet!$F$16,BuildingSize,0)+1,FALSE),0)))","v":0},0,0,"",""]
[null,null,"",null,null,null,null,null,null,null,null,null,null,null,null,0,0,0,0,"",0,0,0,0,0,0,0,0,0,0,0,0,0,0,0,0,0,{"$f":"Y173/1000*AA173*AC173*IF(IFERROR(SEARCH(\"Gas\",$A$18),0)>0,VLOOKUP(\"Gas\",HVACg_Lookup,MATCH($F$16,BuildingSize,0)+1,FALSE),IF(IFERROR(SEARCH(\"Oil\",$A$18),0)>0,VLOOKUP(\"Oil\",HVACg_Lookup,MATCH($F$16,BuildingSize,0)+1,FALSE),IF(IFERROR(SEARCH(\"Propane\",$A$18),0)>0,VLOOKUP(\"Propane\",HVACg_Lookup,MATCH(Worksheet!$F$16,BuildingSize,0)+1,FALSE),0)))","v":0},{"$f":"Z173/1000*AA173*AC173*IF(IFERROR(SEARCH(\"Gas\",$A$18),0)>0,VLOOKUP(\"Gas\",HVACg_Lookup,MATCH($F$16,BuildingSize,0)+1,FALSE),IF(IFERROR(SEARCH(\"Oil\",$A$18),0)>0,VLOOKUP(\"Oil\",HVACg_Lookup,MATCH($F$16,BuildingSize,0)+1,FALSE),IF(IFERROR(SEARCH(\"Propane\",$A$18),0)>0,VLOOKUP(\"Propane\",HVACg_Lookup,MATCH(Worksheet!$F$16,BuildingSize,0)+1,FALSE),0)))","v":0},0,0,"",""]
[null,null,"",null,null,null,null,null,null,null,null,null,null,null,null,0,0,0,0,"",0,0,0,0,0,0,0,0,0,0,0,0,0,0,0,0,0,{"$f":"Y174/1000*AA174*AC174*IF(IFERROR(SEARCH(\"Gas\",$A$18),0)>0,VLOOKUP(\"Gas\",HVACg_Lookup,MATCH($F$16,BuildingSize,0)+1,FALSE),IF(IFERROR(SEARCH(\"Oil\",$A$18),0)>0,VLOOKUP(\"Oil\",HVACg_Lookup,MATCH($F$16,BuildingSize,0)+1,FALSE),IF(IFERROR(SEARCH(\"Propane\",$A$18),0)>0,VLOOKUP(\"Propane\",HVACg_Lookup,MATCH(Worksheet!$F$16,BuildingSize,0)+1,FALSE),0)))","v":0},{"$f":"Z174/1000*AA174*AC174*IF(IFERROR(SEARCH(\"Gas\",$A$18),0)>0,VLOOKUP(\"Gas\",HVACg_Lookup,MATCH($F$16,BuildingSize,0)+1,FALSE),IF(IFERROR(SEARCH(\"Oil\",$A$18),0)>0,VLOOKUP(\"Oil\",HVACg_Lookup,MATCH($F$16,BuildingSize,0)+1,FALSE),IF(IFERROR(SEARCH(\"Propane\",$A$18),0)>0,VLOOKUP(\"Propane\",HVACg_Lookup,MATCH(Worksheet!$F$16,BuildingSize,0)+1,FALSE),0)))","v":0},0,0,"",""]
[null,null,"",null,null,null,null,null,null,null,null,null,null,null,null,0,0,0,0,"",0,0,0,0,0,0,0,0,0,0,0,0,0,0,0,0,0,{"$f":"Y175/1000*AA175*AC175*IF(IFERROR(SEARCH(\"Gas\",$A$18),0)>0,VLOOKUP(\"Gas\",HVACg_Lookup,MATCH($F$16,BuildingSize,0)+1,FALSE),IF(IFERROR(SEARCH(\"Oil\",$A$18),0)>0,VLOOKUP(\"Oil\",HVACg_Lookup,MATCH($F$16,BuildingSize,0)+1,FALSE),IF(IFERROR(SEARCH(\"Propane\",$A$18),0)>0,VLOOKUP(\"Propane\",HVACg_Lookup,MATCH(Worksheet!$F$16,BuildingSize,0)+1,FALSE),0)))","v":0},{"$f":"Z175/1000*AA175*AC175*IF(IFERROR(SEARCH(\"Gas\",$A$18),0)>0,VLOOKUP(\"Gas\",HVACg_Lookup,MATCH($F$16,BuildingSize,0)+1,FALSE),IF(IFERROR(SEARCH(\"Oil\",$A$18),0)>0,VLOOKUP(\"Oil\",HVACg_Lookup,MATCH($F$16,BuildingSize,0)+1,FALSE),IF(IFERROR(SEARCH(\"Propane\",$A$18),0)>0,VLOOKUP(\"Propane\",HVACg_Lookup,MATCH(Worksheet!$F$16,BuildingSize,0)+1,FALSE),0)))","v":0},0,0,"",""]
[null,null,"",null,null,null,null,null,null,null,null,null,null,null,null,0,0,0,0,"",0,0,0,0,0,0,0,0,0,0,0,0,0,0,0,0,0,{"$f":"Y176/1000*AA176*AC176*IF(IFERROR(SEARCH(\"Gas\",$A$18),0)>0,VLOOKUP(\"Gas\",HVACg_Lookup,MATCH($F$16,BuildingSize,0)+1,FALSE),IF(IFERROR(SEARCH(\"Oil\",$A$18),0)>0,VLOOKUP(\"Oil\",HVACg_Lookup,MATCH($F$16,BuildingSize,0)+1,FALSE),IF(IFERROR(SEARCH(\"Propane\",$A$18),0)>0,VLOOKUP(\"Propane\",HVACg_Lookup,MATCH(Worksheet!$F$16,BuildingSize,0)+1,FALSE),0)))","v":0},{"$f":"Z176/1000*AA176*AC176*IF(IFERROR(SEARCH(\"Gas\",$A$18),0)>0,VLOOKUP(\"Gas\",HVACg_Lookup,MATCH($F$16,BuildingSize,0)+1,FALSE),IF(IFERROR(SEARCH(\"Oil\",$A$18),0)>0,VLOOKUP(\"Oil\",HVACg_Lookup,MATCH($F$16,BuildingSize,0)+1,FALSE),IF(IFERROR(SEARCH(\"Propane\",$A$18),0)>0,VLOOKUP(\"Propane\",HVACg_Lookup,MATCH(Worksheet!$F$16,BuildingSize,0)+1,FALSE),0)))","v":0},0,0,"",""]
[null,null,"",null,null,null,null,null,null,null,null,null,null,null,null,0,0,0,0,"",0,0,0,0,0,0,0,0,0,0,0,0,0,0,0,0,0,{"$f":"Y177/1000*AA177*AC177*IF(IFERROR(SEARCH(\"Gas\",$A$18),0)>0,VLOOKUP(\"Gas\",HVACg_Lookup,MATCH($F$16,BuildingSize,0)+1,FALSE),IF(IFERROR(SEARCH(\"Oil\",$A$18),0)>0,VLOOKUP(\"Oil\",HVACg_Lookup,MATCH($F$16,BuildingSize,0)+1,FALSE),IF(IFERROR(SEARCH(\"Propane\",$A$18),0)>0,VLOOKUP(\"Propane\",HVACg_Lookup,MATCH(Worksheet!$F$16,BuildingSize,0)+1,FALSE),0)))","v":0},{"$f":"Z177/1000*AA177*AC177*IF(IFERROR(SEARCH(\"Gas\",$A$18),0)>0,VLOOKUP(\"Gas\",HVACg_Lookup,MATCH($F$16,BuildingSize,0)+1,FALSE),IF(IFERROR(SEARCH(\"Oil\",$A$18),0)>0,VLOOKUP(\"Oil\",HVACg_Lookup,MATCH($F$16,BuildingSize,0)+1,FALSE),IF(IFERROR(SEARCH(\"Propane\",$A$18),0)>0,VLOOKUP(\"Propane\",HVACg_Lookup,MATCH(Worksheet!$F$16,BuildingSize,0)+1,FALSE),0)))","v":0},0,0,"",""]
[null,null,"",null,null,null,null,null,null,null,null,null,null,null,null,0,0,0,0,"",0,0,0,0,0,0,0,0,0,0,0,0,0,0,0,0,0,{"$f":"Y178/1000*AA178*AC178*IF(IFERROR(SEARCH(\"Gas\",$A$18),0)>0,VLOOKUP(\"Gas\",HVACg_Lookup,MATCH($F$16,BuildingSize,0)+1,FALSE),IF(IFERROR(SEARCH(\"Oil\",$A$18),0)>0,VLOOKUP(\"Oil\",HVACg_Lookup,MATCH($F$16,BuildingSize,0)+1,FALSE),IF(IFERROR(SEARCH(\"Propane\",$A$18),0)>0,VLOOKUP(\"Propane\",HVACg_Lookup,MATCH(Worksheet!$F$16,BuildingSize,0)+1,FALSE),0)))","v":0},{"$f":"Z178/1000*AA178*AC178*IF(IFERROR(SEARCH(\"Gas\",$A$18),0)>0,VLOOKUP(\"Gas\",HVACg_Lookup,MATCH($F$16,BuildingSize,0)+1,FALSE),IF(IFERROR(SEARCH(\"Oil\",$A$18),0)>0,VLOOKUP(\"Oil\",HVACg_Lookup,MATCH($F$16,BuildingSize,0)+1,FALSE),IF(IFERROR(SEARCH(\"Propane\",$A$18),0)>0,VLOOKUP(\"Propane\",HVACg_Lookup,MATCH(Worksheet!$F$16,BuildingSize,0)+1,FALSE),0)))","v":0},0,0,"",""]
[null,null,"",null,null,null,null,null,null,null,null,null,null,null,null,0,0,0,0,"",0,0,0,0,0,0,0,0,0,0,0,0,0,0,0,0,0,{"$f":"Y179/1000*AA179*AC179*IF(IFERROR(SEARCH(\"Gas\",$A$18),0)>0,VLOOKUP(\"Gas\",HVACg_Lookup,MATCH($F$16,BuildingSize,0)+1,FALSE),IF(IFERROR(SEARCH(\"Oil\",$A$18),0)>0,VLOOKUP(\"Oil\",HVACg_Lookup,MATCH($F$16,BuildingSize,0)+1,FALSE),IF(IFERROR(SEARCH(\"Propane\",$A$18),0)>0,VLOOKUP(\"Propane\",HVACg_Lookup,MATCH(Worksheet!$F$16,BuildingSize,0)+1,FALSE),0)))","v":0},{"$f":"Z179/1000*AA179*AC179*IF(IFERROR(SEARCH(\"Gas\",$A$18),0)>0,VLOOKUP(\"Gas\",HVACg_Lookup,MATCH($F$16,BuildingSize,0)+1,FALSE),IF(IFERROR(SEARCH(\"Oil\",$A$18),0)>0,VLOOKUP(\"Oil\",HVACg_Lookup,MATCH($F$16,BuildingSize,0)+1,FALSE),IF(IFERROR(SEARCH(\"Propane\",$A$18),0)>0,VLOOKUP(\"Propane\",HVACg_Lookup,MATCH(Worksheet!$F$16,BuildingSize,0)+1,FALSE),0)))","v":0},0,0,"",""]
[null,null,"",null,null,null,null,null,null,null,null,null,null,null,null,0,0,0,0,"",0,0,0,0,0,0,0,0,0,0,0,0,0,0,0,0,0,{"$f":"Y180/1000*AA180*AC180*IF(IFERROR(SEARCH(\"Gas\",$A$18),0)>0,VLOOKUP(\"Gas\",HVACg_Lookup,MATCH($F$16,BuildingSize,0)+1,FALSE),IF(IFERROR(SEARCH(\"Oil\",$A$18),0)>0,VLOOKUP(\"Oil\",HVACg_Lookup,MATCH($F$16,BuildingSize,0)+1,FALSE),IF(IFERROR(SEARCH(\"Propane\",$A$18),0)>0,VLOOKUP(\"Propane\",HVACg_Lookup,MATCH(Worksheet!$F$16,BuildingSize,0)+1,FALSE),0)))","v":0},{"$f":"Z180/1000*AA180*AC180*IF(IFERROR(SEARCH(\"Gas\",$A$18),0)>0,VLOOKUP(\"Gas\",HVACg_Lookup,MATCH($F$16,BuildingSize,0)+1,FALSE),IF(IFERROR(SEARCH(\"Oil\",$A$18),0)>0,VLOOKUP(\"Oil\",HVACg_Lookup,MATCH($F$16,BuildingSize,0)+1,FALSE),IF(IFERROR(SEARCH(\"Propane\",$A$18),0)>0,VLOOKUP(\"Propane\",HVACg_Lookup,MATCH(Worksheet!$F$16,BuildingSize,0)+1,FALSE),0)))","v":0},0,0,"",""]
[null,null,"",null,null,null,null,null,null,null,null,null,null,null,null,0,0,0,0,"",0,0,0,0,0,0,0,0,0,0,0,0,0,0,0,0,0,{"$f":"Y181/1000*AA181*AC181*IF(IFERROR(SEARCH(\"Gas\",$A$18),0)>0,VLOOKUP(\"Gas\",HVACg_Lookup,MATCH($F$16,BuildingSize,0)+1,FALSE),IF(IFERROR(SEARCH(\"Oil\",$A$18),0)>0,VLOOKUP(\"Oil\",HVACg_Lookup,MATCH($F$16,BuildingSize,0)+1,FALSE),IF(IFERROR(SEARCH(\"Propane\",$A$18),0)>0,VLOOKUP(\"Propane\",HVACg_Lookup,MATCH(Worksheet!$F$16,BuildingSize,0)+1,FALSE),0)))","v":0},{"$f":"Z181/1000*AA181*AC181*IF(IFERROR(SEARCH(\"Gas\",$A$18),0)>0,VLOOKUP(\"Gas\",HVACg_Lookup,MATCH($F$16,BuildingSize,0)+1,FALSE),IF(IFERROR(SEARCH(\"Oil\",$A$18),0)>0,VLOOKUP(\"Oil\",HVACg_Lookup,MATCH($F$16,BuildingSize,0)+1,FALSE),IF(IFERROR(SEARCH(\"Propane\",$A$18),0)>0,VLOOKUP(\"Propane\",HVACg_Lookup,MATCH(Worksheet!$F$16,BuildingSize,0)+1,FALSE),0)))","v":0},0,0,"",""]
[null,null,"",null,null,null,null,null,null,null,null,null,null,null,null,0,0,0,0,"",0,0,0,0,0,0,0,0,0,0,0,0,0,0,0,0,0,{"$f":"Y182/1000*AA182*AC182*IF(IFERROR(SEARCH(\"Gas\",$A$18),0)>0,VLOOKUP(\"Gas\",HVACg_Lookup,MATCH($F$16,BuildingSize,0)+1,FALSE),IF(IFERROR(SEARCH(\"Oil\",$A$18),0)>0,VLOOKUP(\"Oil\",HVACg_Lookup,MATCH($F$16,BuildingSize,0)+1,FALSE),IF(IFERROR(SEARCH(\"Propane\",$A$18),0)>0,VLOOKUP(\"Propane\",HVACg_Lookup,MATCH(Worksheet!$F$16,BuildingSize,0)+1,FALSE),0)))","v":0},{"$f":"Z182/1000*AA182*AC182*IF(IFERROR(SEARCH(\"Gas\",$A$18),0)>0,VLOOKUP(\"Gas\",HVACg_Lookup,MATCH($F$16,BuildingSize,0)+1,FALSE),IF(IFERROR(SEARCH(\"Oil\",$A$18),0)>0,VLOOKUP(\"Oil\",HVACg_Lookup,MATCH($F$16,BuildingSize,0)+1,FALSE),IF(IFERROR(SEARCH(\"Propane\",$A$18),0)>0,VLOOKUP(\"Propane\",HVACg_Lookup,MATCH(Worksheet!$F$16,BuildingSize,0)+1,FALSE),0)))","v":0},0,0,"",""]
[null,null,"",null,null,null,null,null,null,null,null,null,null,null,null,0,0,0,0,"",0,0,0,0,0,0,0,0,0,0,0,0,0,0,0,0,0,{"$f":"Y183/1000*AA183*AC183*IF(IFERROR(SEARCH(\"Gas\",$A$18),0)>0,VLOOKUP(\"Gas\",HVACg_Lookup,MATCH($F$16,BuildingSize,0)+1,FALSE),IF(IFERROR(SEARCH(\"Oil\",$A$18),0)>0,VLOOKUP(\"Oil\",HVACg_Lookup,MATCH($F$16,BuildingSize,0)+1,FALSE),IF(IFERROR(SEARCH(\"Propane\",$A$18),0)>0,VLOOKUP(\"Propane\",HVACg_Lookup,MATCH(Worksheet!$F$16,BuildingSize,0)+1,FALSE),0)))","v":0},{"$f":"Z183/1000*AA183*AC183*IF(IFERROR(SEARCH(\"Gas\",$A$18),0)>0,VLOOKUP(\"Gas\",HVACg_Lookup,MATCH($F$16,BuildingSize,0)+1,FALSE),IF(IFERROR(SEARCH(\"Oil\",$A$18),0)>0,VLOOKUP(\"Oil\",HVACg_Lookup,MATCH($F$16,BuildingSize,0)+1,FALSE),IF(IFERROR(SEARCH(\"Propane\",$A$18),0)>0,VLOOKUP(\"Propane\",HVACg_Lookup,MATCH(Worksheet!$F$16,BuildingSize,0)+1,FALSE),0)))","v":0},0,0,"",""]
[null,null,"",null,null,null,null,null,null,null,null,null,null,null,null,0,0,0,0,"",0,0,0,0,0,0,0,0,0,0,0,0,0,0,0,0,0,{"$f":"Y184/1000*AA184*AC184*IF(IFERROR(SEARCH(\"Gas\",$A$18),0)>0,VLOOKUP(\"Gas\",HVACg_Lookup,MATCH($F$16,BuildingSize,0)+1,FALSE),IF(IFERROR(SEARCH(\"Oil\",$A$18),0)>0,VLOOKUP(\"Oil\",HVACg_Lookup,MATCH($F$16,BuildingSize,0)+1,FALSE),IF(IFERROR(SEARCH(\"Propane\",$A$18),0)>0,VLOOKUP(\"Propane\",HVACg_Lookup,MATCH(Worksheet!$F$16,BuildingSize,0)+1,FALSE),0)))","v":0},{"$f":"Z184/1000*AA184*AC184*IF(IFERROR(SEARCH(\"Gas\",$A$18),0)>0,VLOOKUP(\"Gas\",HVACg_Lookup,MATCH($F$16,BuildingSize,0)+1,FALSE),IF(IFERROR(SEARCH(\"Oil\",$A$18),0)>0,VLOOKUP(\"Oil\",HVACg_Lookup,MATCH($F$16,BuildingSize,0)+1,FALSE),IF(IFERROR(SEARCH(\"Propane\",$A$18),0)>0,VLOOKUP(\"Propane\",HVACg_Lookup,MATCH(Worksheet!$F$16,BuildingSize,0)+1,FALSE),0)))","v":0},0,0,"",""]
[null,null,"",null,null,null,null,null,null,null,null,null,null,null,null,0,0,0,0,"",0,0,0,0,0,0,0,0,0,0,0,0,0,0,0,0,0,{"$f":"Y185/1000*AA185*AC185*IF(IFERROR(SEARCH(\"Gas\",$A$18),0)>0,VLOOKUP(\"Gas\",HVACg_Lookup,MATCH($F$16,BuildingSize,0)+1,FALSE),IF(IFERROR(SEARCH(\"Oil\",$A$18),0)>0,VLOOKUP(\"Oil\",HVACg_Lookup,MATCH($F$16,BuildingSize,0)+1,FALSE),IF(IFERROR(SEARCH(\"Propane\",$A$18),0)>0,VLOOKUP(\"Propane\",HVACg_Lookup,MATCH(Worksheet!$F$16,BuildingSize,0)+1,FALSE),0)))","v":0},{"$f":"Z185/1000*AA185*AC185*IF(IFERROR(SEARCH(\"Gas\",$A$18),0)>0,VLOOKUP(\"Gas\",HVACg_Lookup,MATCH($F$16,BuildingSize,0)+1,FALSE),IF(IFERROR(SEARCH(\"Oil\",$A$18),0)>0,VLOOKUP(\"Oil\",HVACg_Lookup,MATCH($F$16,BuildingSize,0)+1,FALSE),IF(IFERROR(SEARCH(\"Propane\",$A$18),0)>0,VLOOKUP(\"Propane\",HVACg_Lookup,MATCH(Worksheet!$F$16,BuildingSize,0)+1,FALSE),0)))","v":0},0,0,"",""]
[null,null,"",null,null,null,null,null,null,null,null,null,null,null,null,0,0,0,0,"",0,0,0,0,0,0,0,0,0,0,0,0,0,0,0,0,0,{"$f":"Y186/1000*AA186*AC186*IF(IFERROR(SEARCH(\"Gas\",$A$18),0)>0,VLOOKUP(\"Gas\",HVACg_Lookup,MATCH($F$16,BuildingSize,0)+1,FALSE),IF(IFERROR(SEARCH(\"Oil\",$A$18),0)>0,VLOOKUP(\"Oil\",HVACg_Lookup,MATCH($F$16,BuildingSize,0)+1,FALSE),IF(IFERROR(SEARCH(\"Propane\",$A$18),0)>0,VLOOKUP(\"Propane\",HVACg_Lookup,MATCH(Worksheet!$F$16,BuildingSize,0)+1,FALSE),0)))","v":0},{"$f":"Z186/1000*AA186*AC186*IF(IFERROR(SEARCH(\"Gas\",$A$18),0)>0,VLOOKUP(\"Gas\",HVACg_Lookup,MATCH($F$16,BuildingSize,0)+1,FALSE),IF(IFERROR(SEARCH(\"Oil\",$A$18),0)>0,VLOOKUP(\"Oil\",HVACg_Lookup,MATCH($F$16,BuildingSize,0)+1,FALSE),IF(IFERROR(SEARCH(\"Propane\",$A$18),0)>0,VLOOKUP(\"Propane\",HVACg_Lookup,MATCH(Worksheet!$F$16,BuildingSize,0)+1,FALSE),0)))","v":0},0,0,"",""]
[null,null,"",null,null,null,null,null,null,null,null,null,null,null,null,0,0,0,0,"",0,0,0,0,0,0,0,0,0,0,0,0,0,0,0,0,0,{"$f":"Y187/1000*AA187*AC187*IF(IFERROR(SEARCH(\"Gas\",$A$18),0)>0,VLOOKUP(\"Gas\",HVACg_Lookup,MATCH($F$16,BuildingSize,0)+1,FALSE),IF(IFERROR(SEARCH(\"Oil\",$A$18),0)>0,VLOOKUP(\"Oil\",HVACg_Lookup,MATCH($F$16,BuildingSize,0)+1,FALSE),IF(IFERROR(SEARCH(\"Propane\",$A$18),0)>0,VLOOKUP(\"Propane\",HVACg_Lookup,MATCH(Worksheet!$F$16,BuildingSize,0)+1,FALSE),0)))","v":0},{"$f":"Z187/1000*AA187*AC187*IF(IFERROR(SEARCH(\"Gas\",$A$18),0)>0,VLOOKUP(\"Gas\",HVACg_Lookup,MATCH($F$16,BuildingSize,0)+1,FALSE),IF(IFERROR(SEARCH(\"Oil\",$A$18),0)>0,VLOOKUP(\"Oil\",HVACg_Lookup,MATCH($F$16,BuildingSize,0)+1,FALSE),IF(IFERROR(SEARCH(\"Propane\",$A$18),0)>0,VLOOKUP(\"Propane\",HVACg_Lookup,MATCH(Worksheet!$F$16,BuildingSize,0)+1,FALSE),0)))","v":0},0,0,"",""]
[null,null,"",null,null,null,null,null,null,null,null,null,null,null,null,0,0,0,0,"",0,0,0,0,0,0,0,0,0,0,0,0,0,0,0,0,0,{"$f":"Y188/1000*AA188*AC188*IF(IFERROR(SEARCH(\"Gas\",$A$18),0)>0,VLOOKUP(\"Gas\",HVACg_Lookup,MATCH($F$16,BuildingSize,0)+1,FALSE),IF(IFERROR(SEARCH(\"Oil\",$A$18),0)>0,VLOOKUP(\"Oil\",HVACg_Lookup,MATCH($F$16,BuildingSize,0)+1,FALSE),IF(IFERROR(SEARCH(\"Propane\",$A$18),0)>0,VLOOKUP(\"Propane\",HVACg_Lookup,MATCH(Worksheet!$F$16,BuildingSize,0)+1,FALSE),0)))","v":0},{"$f":"Z188/1000*AA188*AC188*IF(IFERROR(SEARCH(\"Gas\",$A$18),0)>0,VLOOKUP(\"Gas\",HVACg_Lookup,MATCH($F$16,BuildingSize,0)+1,FALSE),IF(IFERROR(SEARCH(\"Oil\",$A$18),0)>0,VLOOKUP(\"Oil\",HVACg_Lookup,MATCH($F$16,BuildingSize,0)+1,FALSE),IF(IFERROR(SEARCH(\"Propane\",$A$18),0)>0,VLOOKUP(\"Propane\",HVACg_Lookup,MATCH(Worksheet!$F$16,BuildingSize,0)+1,FALSE),0)))","v":0},0,0,"",""]
[null,null,"",null,null,null,null,null,null,null,null,null,null,null,null,0,0,0,0,"",0,0,0,0,0,0,0,0,0,0,0,0,0,0,0,0,0,{"$f":"Y189/1000*AA189*AC189*IF(IFERROR(SEARCH(\"Gas\",$A$18),0)>0,VLOOKUP(\"Gas\",HVACg_Lookup,MATCH($F$16,BuildingSize,0)+1,FALSE),IF(IFERROR(SEARCH(\"Oil\",$A$18),0)>0,VLOOKUP(\"Oil\",HVACg_Lookup,MATCH($F$16,BuildingSize,0)+1,FALSE),IF(IFERROR(SEARCH(\"Propane\",$A$18),0)>0,VLOOKUP(\"Propane\",HVACg_Lookup,MATCH(Worksheet!$F$16,BuildingSize,0)+1,FALSE),0)))","v":0},{"$f":"Z189/1000*AA189*AC189*IF(IFERROR(SEARCH(\"Gas\",$A$18),0)>0,VLOOKUP(\"Gas\",HVACg_Lookup,MATCH($F$16,BuildingSize,0)+1,FALSE),IF(IFERROR(SEARCH(\"Oil\",$A$18),0)>0,VLOOKUP(\"Oil\",HVACg_Lookup,MATCH($F$16,BuildingSize,0)+1,FALSE),IF(IFERROR(SEARCH(\"Propane\",$A$18),0)>0,VLOOKUP(\"Propane\",HVACg_Lookup,MATCH(Worksheet!$F$16,BuildingSize,0)+1,FALSE),0)))","v":0},0,0,"",""]
[null,null,"",null,null,null,null,null,null,null,null,null,null,null,null,0,0,0,0,"",0,0,0,0,0,0,0,0,0,0,0,0,0,0,0,0,0,{"$f":"Y190/1000*AA190*AC190*IF(IFERROR(SEARCH(\"Gas\",$A$18),0)>0,VLOOKUP(\"Gas\",HVACg_Lookup,MATCH($F$16,BuildingSize,0)+1,FALSE),IF(IFERROR(SEARCH(\"Oil\",$A$18),0)>0,VLOOKUP(\"Oil\",HVACg_Lookup,MATCH($F$16,BuildingSize,0)+1,FALSE),IF(IFERROR(SEARCH(\"Propane\",$A$18),0)>0,VLOOKUP(\"Propane\",HVACg_Lookup,MATCH(Worksheet!$F$16,BuildingSize,0)+1,FALSE),0)))","v":0},{"$f":"Z190/1000*AA190*AC190*IF(IFERROR(SEARCH(\"Gas\",$A$18),0)>0,VLOOKUP(\"Gas\",HVACg_Lookup,MATCH($F$16,BuildingSize,0)+1,FALSE),IF(IFERROR(SEARCH(\"Oil\",$A$18),0)>0,VLOOKUP(\"Oil\",HVACg_Lookup,MATCH($F$16,BuildingSize,0)+1,FALSE),IF(IFERROR(SEARCH(\"Propane\",$A$18),0)>0,VLOOKUP(\"Propane\",HVACg_Lookup,MATCH(Worksheet!$F$16,BuildingSize,0)+1,FALSE),0)))","v":0},0,0,"",""]
[null,null,"",null,null,null,null,null,null,null,null,null,null,null,null,0,0,0,0,"",0,0,0,0,0,0,0,0,0,0,0,0,0,0,0,0,0,{"$f":"Y191/1000*AA191*AC191*IF(IFERROR(SEARCH(\"Gas\",$A$18),0)>0,VLOOKUP(\"Gas\",HVACg_Lookup,MATCH($F$16,BuildingSize,0)+1,FALSE),IF(IFERROR(SEARCH(\"Oil\",$A$18),0)>0,VLOOKUP(\"Oil\",HVACg_Lookup,MATCH($F$16,BuildingSize,0)+1,FALSE),IF(IFERROR(SEARCH(\"Propane\",$A$18),0)>0,VLOOKUP(\"Propane\",HVACg_Lookup,MATCH(Worksheet!$F$16,BuildingSize,0)+1,FALSE),0)))","v":0},{"$f":"Z191/1000*AA191*AC191*IF(IFERROR(SEARCH(\"Gas\",$A$18),0)>0,VLOOKUP(\"Gas\",HVACg_Lookup,MATCH($F$16,BuildingSize,0)+1,FALSE),IF(IFERROR(SEARCH(\"Oil\",$A$18),0)>0,VLOOKUP(\"Oil\",HVACg_Lookup,MATCH($F$16,BuildingSize,0)+1,FALSE),IF(IFERROR(SEARCH(\"Propane\",$A$18),0)>0,VLOOKUP(\"Propane\",HVACg_Lookup,MATCH(Worksheet!$F$16,BuildingSize,0)+1,FALSE),0)))","v":0},0,0,"",""]
[null,null,"",null,null,null,null,null,null,null,null,null,null,null,null,0,0,0,0,"",0,0,0,0,0,0,0,0,0,0,0,0,0,0,0,0,0,{"$f":"Y192/1000*AA192*AC192*IF(IFERROR(SEARCH(\"Gas\",$A$18),0)>0,VLOOKUP(\"Gas\",HVACg_Lookup,MATCH($F$16,BuildingSize,0)+1,FALSE),IF(IFERROR(SEARCH(\"Oil\",$A$18),0)>0,VLOOKUP(\"Oil\",HVACg_Lookup,MATCH($F$16,BuildingSize,0)+1,FALSE),IF(IFERROR(SEARCH(\"Propane\",$A$18),0)>0,VLOOKUP(\"Propane\",HVACg_Lookup,MATCH(Worksheet!$F$16,BuildingSize,0)+1,FALSE),0)))","v":0},{"$f":"Z192/1000*AA192*AC192*IF(IFERROR(SEARCH(\"Gas\",$A$18),0)>0,VLOOKUP(\"Gas\",HVACg_Lookup,MATCH($F$16,BuildingSize,0)+1,FALSE),IF(IFERROR(SEARCH(\"Oil\",$A$18),0)>0,VLOOKUP(\"Oil\",HVACg_Lookup,MATCH($F$16,BuildingSize,0)+1,FALSE),IF(IFERROR(SEARCH(\"Propane\",$A$18),0)>0,VLOOKUP(\"Propane\",HVACg_Lookup,MATCH(Worksheet!$F$16,BuildingSize,0)+1,FALSE),0)))","v":0},0,0,"",""]
[null,null,"",null,null,null,null,null,null,null,null,null,null,null,null,0,0,0,0,"",0,0,0,0,0,0,0,0,0,0,0,0,0,0,0,0,0,{"$f":"Y193/1000*AA193*AC193*IF(IFERROR(SEARCH(\"Gas\",$A$18),0)>0,VLOOKUP(\"Gas\",HVACg_Lookup,MATCH($F$16,BuildingSize,0)+1,FALSE),IF(IFERROR(SEARCH(\"Oil\",$A$18),0)>0,VLOOKUP(\"Oil\",HVACg_Lookup,MATCH($F$16,BuildingSize,0)+1,FALSE),IF(IFERROR(SEARCH(\"Propane\",$A$18),0)>0,VLOOKUP(\"Propane\",HVACg_Lookup,MATCH(Worksheet!$F$16,BuildingSize,0)+1,FALSE),0)))","v":0},{"$f":"Z193/1000*AA193*AC193*IF(IFERROR(SEARCH(\"Gas\",$A$18),0)>0,VLOOKUP(\"Gas\",HVACg_Lookup,MATCH($F$16,BuildingSize,0)+1,FALSE),IF(IFERROR(SEARCH(\"Oil\",$A$18),0)>0,VLOOKUP(\"Oil\",HVACg_Lookup,MATCH($F$16,BuildingSize,0)+1,FALSE),IF(IFERROR(SEARCH(\"Propane\",$A$18),0)>0,VLOOKUP(\"Propane\",HVACg_Lookup,MATCH(Worksheet!$F$16,BuildingSize,0)+1,FALSE),0)))","v":0},0,0,"",""]
[null,null,"",null,null,null,null,null,null,null,null,null,null,null,null,0,0,0,0,"",0,0,0,0,0,0,0,0,0,0,0,0,0,0,0,0,0,{"$f":"Y194/1000*AA194*AC194*IF(IFERROR(SEARCH(\"Gas\",$A$18),0)>0,VLOOKUP(\"Gas\",HVACg_Lookup,MATCH($F$16,BuildingSize,0)+1,FALSE),IF(IFERROR(SEARCH(\"Oil\",$A$18),0)>0,VLOOKUP(\"Oil\",HVACg_Lookup,MATCH($F$16,BuildingSize,0)+1,FALSE),IF(IFERROR(SEARCH(\"Propane\",$A$18),0)>0,VLOOKUP(\"Propane\",HVACg_Lookup,MATCH(Worksheet!$F$16,BuildingSize,0)+1,FALSE),0)))","v":0},{"$f":"Z194/1000*AA194*AC194*IF(IFERROR(SEARCH(\"Gas\",$A$18),0)>0,VLOOKUP(\"Gas\",HVACg_Lookup,MATCH($F$16,BuildingSize,0)+1,FALSE),IF(IFERROR(SEARCH(\"Oil\",$A$18),0)>0,VLOOKUP(\"Oil\",HVACg_Lookup,MATCH($F$16,BuildingSize,0)+1,FALSE),IF(IFERROR(SEARCH(\"Propane\",$A$18),0)>0,VLOOKUP(\"Propane\",HVACg_Lookup,MATCH(Worksheet!$F$16,BuildingSize,0)+1,FALSE),0)))","v":0},0,0,"",""]
[null,null,"",null,null,null,null,null,null,null,null,null,null,null,null,0,0,0,0,"",0,0,0,0,0,0,0,0,0,0,0,0,0,0,0,0,0,{"$f":"Y195/1000*AA195*AC195*IF(IFERROR(SEARCH(\"Gas\",$A$18),0)>0,VLOOKUP(\"Gas\",HVACg_Lookup,MATCH($F$16,BuildingSize,0)+1,FALSE),IF(IFERROR(SEARCH(\"Oil\",$A$18),0)>0,VLOOKUP(\"Oil\",HVACg_Lookup,MATCH($F$16,BuildingSize,0)+1,FALSE),IF(IFERROR(SEARCH(\"Propane\",$A$18),0)>0,VLOOKUP(\"Propane\",HVACg_Lookup,MATCH(Worksheet!$F$16,BuildingSize,0)+1,FALSE),0)))","v":0},{"$f":"Z195/1000*AA195*AC195*IF(IFERROR(SEARCH(\"Gas\",$A$18),0)>0,VLOOKUP(\"Gas\",HVACg_Lookup,MATCH($F$16,BuildingSize,0)+1,FALSE),IF(IFERROR(SEARCH(\"Oil\",$A$18),0)>0,VLOOKUP(\"Oil\",HVACg_Lookup,MATCH($F$16,BuildingSize,0)+1,FALSE),IF(IFERROR(SEARCH(\"Propane\",$A$18),0)>0,VLOOKUP(\"Propane\",HVACg_Lookup,MATCH(Worksheet!$F$16,BuildingSize,0)+1,FALSE),0)))","v":0},0,0,"",""]
[null,null,"",null,null,null,null,null,null,null,null,null,null,null,null,0,0,0,0,"",0,0,0,0,0,0,0,0,0,0,0,0,0,0,0,0,0,{"$f":"Y196/1000*AA196*AC196*IF(IFERROR(SEARCH(\"Gas\",$A$18),0)>0,VLOOKUP(\"Gas\",HVACg_Lookup,MATCH($F$16,BuildingSize,0)+1,FALSE),IF(IFERROR(SEARCH(\"Oil\",$A$18),0)>0,VLOOKUP(\"Oil\",HVACg_Lookup,MATCH($F$16,BuildingSize,0)+1,FALSE),IF(IFERROR(SEARCH(\"Propane\",$A$18),0)>0,VLOOKUP(\"Propane\",HVACg_Lookup,MATCH(Worksheet!$F$16,BuildingSize,0)+1,FALSE),0)))","v":0},{"$f":"Z196/1000*AA196*AC196*IF(IFERROR(SEARCH(\"Gas\",$A$18),0)>0,VLOOKUP(\"Gas\",HVACg_Lookup,MATCH($F$16,BuildingSize,0)+1,FALSE),IF(IFERROR(SEARCH(\"Oil\",$A$18),0)>0,VLOOKUP(\"Oil\",HVACg_Lookup,MATCH($F$16,BuildingSize,0)+1,FALSE),IF(IFERROR(SEARCH(\"Propane\",$A$18),0)>0,VLOOKUP(\"Propane\",HVACg_Lookup,MATCH(Worksheet!$F$16,BuildingSize,0)+1,FALSE),0)))","v":0},0,0,"",""]
[null,null,"",null,null,null,null,null,null,null,null,null,null,null,null,0,0,0,0,"",0,0,0,0,0,0,0,0,0,0,0,0,0,0,0,0,0,{"$f":"Y197/1000*AA197*AC197*IF(IFERROR(SEARCH(\"Gas\",$A$18),0)>0,VLOOKUP(\"Gas\",HVACg_Lookup,MATCH($F$16,BuildingSize,0)+1,FALSE),IF(IFERROR(SEARCH(\"Oil\",$A$18),0)>0,VLOOKUP(\"Oil\",HVACg_Lookup,MATCH($F$16,BuildingSize,0)+1,FALSE),IF(IFERROR(SEARCH(\"Propane\",$A$18),0)>0,VLOOKUP(\"Propane\",HVACg_Lookup,MATCH(Worksheet!$F$16,BuildingSize,0)+1,FALSE),0)))","v":0},{"$f":"Z197/1000*AA197*AC197*IF(IFERROR(SEARCH(\"Gas\",$A$18),0)>0,VLOOKUP(\"Gas\",HVACg_Lookup,MATCH($F$16,BuildingSize,0)+1,FALSE),IF(IFERROR(SEARCH(\"Oil\",$A$18),0)>0,VLOOKUP(\"Oil\",HVACg_Lookup,MATCH($F$16,BuildingSize,0)+1,FALSE),IF(IFERROR(SEARCH(\"Propane\",$A$18),0)>0,VLOOKUP(\"Propane\",HVACg_Lookup,MATCH(Worksheet!$F$16,BuildingSize,0)+1,FALSE),0)))","v":0},0,0,"",""]
[null,null,"",null,null,null,null,null,null,null,null,null,null,null,null,0,0,0,0,"",0,0,0,0,0,0,0,0,0,0,0,0,0,0,0,0,0,{"$f":"Y198/1000*AA198*AC198*IF(IFERROR(SEARCH(\"Gas\",$A$18),0)>0,VLOOKUP(\"Gas\",HVACg_Lookup,MATCH($F$16,BuildingSize,0)+1,FALSE),IF(IFERROR(SEARCH(\"Oil\",$A$18),0)>0,VLOOKUP(\"Oil\",HVACg_Lookup,MATCH($F$16,BuildingSize,0)+1,FALSE),IF(IFERROR(SEARCH(\"Propane\",$A$18),0)>0,VLOOKUP(\"Propane\",HVACg_Lookup,MATCH(Worksheet!$F$16,BuildingSize,0)+1,FALSE),0)))","v":0},{"$f":"Z198/1000*AA198*AC198*IF(IFERROR(SEARCH(\"Gas\",$A$18),0)>0,VLOOKUP(\"Gas\",HVACg_Lookup,MATCH($F$16,BuildingSize,0)+1,FALSE),IF(IFERROR(SEARCH(\"Oil\",$A$18),0)>0,VLOOKUP(\"Oil\",HVACg_Lookup,MATCH($F$16,BuildingSize,0)+1,FALSE),IF(IFERROR(SEARCH(\"Propane\",$A$18),0)>0,VLOOKUP(\"Propane\",HVACg_Lookup,MATCH(Worksheet!$F$16,BuildingSize,0)+1,FALSE),0)))","v":0},0,0,"",""]
[null,null,"",null,null,null,null,null,null,null,null,null,null,null,null,0,0,0,0,"",0,0,0,0,0,0,0,0,0,0,0,0,0,0,0,0,0,{"$f":"Y199/1000*AA199*AC199*IF(IFERROR(SEARCH(\"Gas\",$A$18),0)>0,VLOOKUP(\"Gas\",HVACg_Lookup,MATCH($F$16,BuildingSize,0)+1,FALSE),IF(IFERROR(SEARCH(\"Oil\",$A$18),0)>0,VLOOKUP(\"Oil\",HVACg_Lookup,MATCH($F$16,BuildingSize,0)+1,FALSE),IF(IFERROR(SEARCH(\"Propane\",$A$18),0)>0,VLOOKUP(\"Propane\",HVACg_Lookup,MATCH(Worksheet!$F$16,BuildingSize,0)+1,FALSE),0)))","v":0},{"$f":"Z199/1000*AA199*AC199*IF(IFERROR(SEARCH(\"Gas\",$A$18),0)>0,VLOOKUP(\"Gas\",HVACg_Lookup,MATCH($F$16,BuildingSize,0)+1,FALSE),IF(IFERROR(SEARCH(\"Oil\",$A$18),0)>0,VLOOKUP(\"Oil\",HVACg_Lookup,MATCH($F$16,BuildingSize,0)+1,FALSE),IF(IFERROR(SEARCH(\"Propane\",$A$18),0)>0,VLOOKUP(\"Propane\",HVACg_Lookup,MATCH(Worksheet!$F$16,BuildingSize,0)+1,FALSE),0)))","v":0},0,0,"",""]
[null,null,"",null,null,null,null,null,null,null,null,null,null,null,null,0,0,0,0,"",0,0,0,0,0,0,0,0,0,0,0,0,0,0,0,0,0,{"$f":"Y200/1000*AA200*AC200*IF(IFERROR(SEARCH(\"Gas\",$A$18),0)>0,VLOOKUP(\"Gas\",HVACg_Lookup,MATCH($F$16,BuildingSize,0)+1,FALSE),IF(IFERROR(SEARCH(\"Oil\",$A$18),0)>0,VLOOKUP(\"Oil\",HVACg_Lookup,MATCH($F$16,BuildingSize,0)+1,FALSE),IF(IFERROR(SEARCH(\"Propane\",$A$18),0)>0,VLOOKUP(\"Propane\",HVACg_Lookup,MATCH(Worksheet!$F$16,BuildingSize,0)+1,FALSE),0)))","v":0},{"$f":"Z200/1000*AA200*AC200*IF(IFERROR(SEARCH(\"Gas\",$A$18),0)>0,VLOOKUP(\"Gas\",HVACg_Lookup,MATCH($F$16,BuildingSize,0)+1,FALSE),IF(IFERROR(SEARCH(\"Oil\",$A$18),0)>0,VLOOKUP(\"Oil\",HVACg_Lookup,MATCH($F$16,BuildingSize,0)+1,FALSE),IF(IFERROR(SEARCH(\"Propane\",$A$18),0)>0,VLOOKUP(\"Propane\",HVACg_Lookup,MATCH(Worksheet!$F$16,BuildingSize,0)+1,FALSE),0)))","v":0},0,0,"",""]
[null,null,"",null,null,null,null,null,null,null,null,null,null,null,null,0,0,0,0,"",0,0,0,0,0,0,0,0,0,0,0,0,0,0,0,0,0,{"$f":"Y201/1000*AA201*AC201*IF(IFERROR(SEARCH(\"Gas\",$A$18),0)>0,VLOOKUP(\"Gas\",HVACg_Lookup,MATCH($F$16,BuildingSize,0)+1,FALSE),IF(IFERROR(SEARCH(\"Oil\",$A$18),0)>0,VLOOKUP(\"Oil\",HVACg_Lookup,MATCH($F$16,BuildingSize,0)+1,FALSE),IF(IFERROR(SEARCH(\"Propane\",$A$18),0)>0,VLOOKUP(\"Propane\",HVACg_Lookup,MATCH(Worksheet!$F$16,BuildingSize,0)+1,FALSE),0)))","v":0},{"$f":"Z201/1000*AA201*AC201*IF(IFERROR(SEARCH(\"Gas\",$A$18),0)>0,VLOOKUP(\"Gas\",HVACg_Lookup,MATCH($F$16,BuildingSize,0)+1,FALSE),IF(IFERROR(SEARCH(\"Oil\",$A$18),0)>0,VLOOKUP(\"Oil\",HVACg_Lookup,MATCH($F$16,BuildingSize,0)+1,FALSE),IF(IFERROR(SEARCH(\"Propane\",$A$18),0)>0,VLOOKUP(\"Propane\",HVACg_Lookup,MATCH(Worksheet!$F$16,BuildingSize,0)+1,FALSE),0)))","v":0},0,0,"",""]
[null,null,"",null,null,null,null,null,null,null,null,null,null,null,null,0,0,0,0,"",0,0,0,0,0,0,0,0,0,0,0,0,0,0,0,0,0,{"$f":"Y202/1000*AA202*AC202*IF(IFERROR(SEARCH(\"Gas\",$A$18),0)>0,VLOOKUP(\"Gas\",HVACg_Lookup,MATCH($F$16,BuildingSize,0)+1,FALSE),IF(IFERROR(SEARCH(\"Oil\",$A$18),0)>0,VLOOKUP(\"Oil\",HVACg_Lookup,MATCH($F$16,BuildingSize,0)+1,FALSE),IF(IFERROR(SEARCH(\"Propane\",$A$18),0)>0,VLOOKUP(\"Propane\",HVACg_Lookup,MATCH(Worksheet!$F$16,BuildingSize,0)+1,FALSE),0)))","v":0},{"$f":"Z202/1000*AA202*AC202*IF(IFERROR(SEARCH(\"Gas\",$A$18),0)>0,VLOOKUP(\"Gas\",HVACg_Lookup,MATCH($F$16,BuildingSize,0)+1,FALSE),IF(IFERROR(SEARCH(\"Oil\",$A$18),0)>0,VLOOKUP(\"Oil\",HVACg_Lookup,MATCH($F$16,BuildingSize,0)+1,FALSE),IF(IFERROR(SEARCH(\"Propane\",$A$18),0)>0,VLOOKUP(\"Propane\",HVACg_Lookup,MATCH(Worksheet!$F$16,BuildingSize,0)+1,FALSE),0)))","v":0},0,0,"",""]
[null,null,"",null,null,null,null,null,null,null,null,null,null,null,null,0,0,0,0,"",0,0,0,0,0,0,0,0,0,0,0,0,0,0,0,0,0,{"$f":"Y203/1000*AA203*AC203*IF(IFERROR(SEARCH(\"Gas\",$A$18),0)>0,VLOOKUP(\"Gas\",HVACg_Lookup,MATCH($F$16,BuildingSize,0)+1,FALSE),IF(IFERROR(SEARCH(\"Oil\",$A$18),0)>0,VLOOKUP(\"Oil\",HVACg_Lookup,MATCH($F$16,BuildingSize,0)+1,FALSE),IF(IFERROR(SEARCH(\"Propane\",$A$18),0)>0,VLOOKUP(\"Propane\",HVACg_Lookup,MATCH(Worksheet!$F$16,BuildingSize,0)+1,FALSE),0)))","v":0},{"$f":"Z203/1000*AA203*AC203*IF(IFERROR(SEARCH(\"Gas\",$A$18),0)>0,VLOOKUP(\"Gas\",HVACg_Lookup,MATCH($F$16,BuildingSize,0)+1,FALSE),IF(IFERROR(SEARCH(\"Oil\",$A$18),0)>0,VLOOKUP(\"Oil\",HVACg_Lookup,MATCH($F$16,BuildingSize,0)+1,FALSE),IF(IFERROR(SEARCH(\"Propane\",$A$18),0)>0,VLOOKUP(\"Propane\",HVACg_Lookup,MATCH(Worksheet!$F$16,BuildingSize,0)+1,FALSE),0)))","v":0},0,0,"",""]
[null,null,"",null,null,null,null,null,null,null,null,null,null,null,null,0,0,0,0,"",0,0,0,0,0,0,0,0,0,0,0,0,0,0,0,0,0,{"$f":"Y204/1000*AA204*AC204*IF(IFERROR(SEARCH(\"Gas\",$A$18),0)>0,VLOOKUP(\"Gas\",HVACg_Lookup,MATCH($F$16,BuildingSize,0)+1,FALSE),IF(IFERROR(SEARCH(\"Oil\",$A$18),0)>0,VLOOKUP(\"Oil\",HVACg_Lookup,MATCH($F$16,BuildingSize,0)+1,FALSE),IF(IFERROR(SEARCH(\"Propane\",$A$18),0)>0,VLOOKUP(\"Propane\",HVACg_Lookup,MATCH(Worksheet!$F$16,BuildingSize,0)+1,FALSE),0)))","v":0},{"$f":"Z204/1000*AA204*AC204*IF(IFERROR(SEARCH(\"Gas\",$A$18),0)>0,VLOOKUP(\"Gas\",HVACg_Lookup,MATCH($F$16,BuildingSize,0)+1,FALSE),IF(IFERROR(SEARCH(\"Oil\",$A$18),0)>0,VLOOKUP(\"Oil\",HVACg_Lookup,MATCH($F$16,BuildingSize,0)+1,FALSE),IF(IFERROR(SEARCH(\"Propane\",$A$18),0)>0,VLOOKUP(\"Propane\",HVACg_Lookup,MATCH(Worksheet!$F$16,BuildingSize,0)+1,FALSE),0)))","v":0},0,0,"",""]
[null,null,"",null,null,null,null,null,null,null,null,null,null,null,null,0,0,0,0,"",0,0,0,0,0,0,0,0,0,0,0,0,0,0,0,0,0,{"$f":"Y205/1000*AA205*AC205*IF(IFERROR(SEARCH(\"Gas\",$A$18),0)>0,VLOOKUP(\"Gas\",HVACg_Lookup,MATCH($F$16,BuildingSize,0)+1,FALSE),IF(IFERROR(SEARCH(\"Oil\",$A$18),0)>0,VLOOKUP(\"Oil\",HVACg_Lookup,MATCH($F$16,BuildingSize,0)+1,FALSE),IF(IFERROR(SEARCH(\"Propane\",$A$18),0)>0,VLOOKUP(\"Propane\",HVACg_Lookup,MATCH(Worksheet!$F$16,BuildingSize,0)+1,FALSE),0)))","v":0},{"$f":"Z205/1000*AA205*AC205*IF(IFERROR(SEARCH(\"Gas\",$A$18),0)>0,VLOOKUP(\"Gas\",HVACg_Lookup,MATCH($F$16,BuildingSize,0)+1,FALSE),IF(IFERROR(SEARCH(\"Oil\",$A$18),0)>0,VLOOKUP(\"Oil\",HVACg_Lookup,MATCH($F$16,BuildingSize,0)+1,FALSE),IF(IFERROR(SEARCH(\"Propane\",$A$18),0)>0,VLOOKUP(\"Propane\",HVACg_Lookup,MATCH(Worksheet!$F$16,BuildingSize,0)+1,FALSE),0)))","v":0},0,0,"",""]
[null,null,"",null,null,null,null,null,null,null,null,null,null,null,null,0,0,0,0,"",0,0,0,0,0,0,0,0,0,0,0,0,0,0,0,0,0,{"$f":"Y206/1000*AA206*AC206*IF(IFERROR(SEARCH(\"Gas\",$A$18),0)>0,VLOOKUP(\"Gas\",HVACg_Lookup,MATCH($F$16,BuildingSize,0)+1,FALSE),IF(IFERROR(SEARCH(\"Oil\",$A$18),0)>0,VLOOKUP(\"Oil\",HVACg_Lookup,MATCH($F$16,BuildingSize,0)+1,FALSE),IF(IFERROR(SEARCH(\"Propane\",$A$18),0)>0,VLOOKUP(\"Propane\",HVACg_Lookup,MATCH(Worksheet!$F$16,BuildingSize,0)+1,FALSE),0)))","v":0},{"$f":"Z206/1000*AA206*AC206*IF(IFERROR(SEARCH(\"Gas\",$A$18),0)>0,VLOOKUP(\"Gas\",HVACg_Lookup,MATCH($F$16,BuildingSize,0)+1,FALSE),IF(IFERROR(SEARCH(\"Oil\",$A$18),0)>0,VLOOKUP(\"Oil\",HVACg_Lookup,MATCH($F$16,BuildingSize,0)+1,FALSE),IF(IFERROR(SEARCH(\"Propane\",$A$18),0)>0,VLOOKUP(\"Propane\",HVACg_Lookup,MATCH(Worksheet!$F$16,BuildingSize,0)+1,FALSE),0)))","v":0},0,0,"",""]
[null,null,"",null,null,null,null,null,null,null,null,null,null,null,null,0,0,0,0,"",0,0,0,0,0,0,0,0,0,0,0,0,0,0,0,0,0,{"$f":"Y207/1000*AA207*AC207*IF(IFERROR(SEARCH(\"Gas\",$A$18),0)>0,VLOOKUP(\"Gas\",HVACg_Lookup,MATCH($F$16,BuildingSize,0)+1,FALSE),IF(IFERROR(SEARCH(\"Oil\",$A$18),0)>0,VLOOKUP(\"Oil\",HVACg_Lookup,MATCH($F$16,BuildingSize,0)+1,FALSE),IF(IFERROR(SEARCH(\"Propane\",$A$18),0)>0,VLOOKUP(\"Propane\",HVACg_Lookup,MATCH(Worksheet!$F$16,BuildingSize,0)+1,FALSE),0)))","v":0},{"$f":"Z207/1000*AA207*AC207*IF(IFERROR(SEARCH(\"Gas\",$A$18),0)>0,VLOOKUP(\"Gas\",HVACg_Lookup,MATCH($F$16,BuildingSize,0)+1,FALSE),IF(IFERROR(SEARCH(\"Oil\",$A$18),0)>0,VLOOKUP(\"Oil\",HVACg_Lookup,MATCH($F$16,BuildingSize,0)+1,FALSE),IF(IFERROR(SEARCH(\"Propane\",$A$18),0)>0,VLOOKUP(\"Propane\",HVACg_Lookup,MATCH(Worksheet!$F$16,BuildingSize,0)+1,FALSE),0)))","v":0},0,0,"",""]
[null,null,"",null,null,null,null,null,null,null,null,null,null,null,null,0,0,0,0,"",0,0,0,0,0,0,0,0,0,0,0,0,0,0,0,0,0,{"$f":"Y208/1000*AA208*AC208*IF(IFERROR(SEARCH(\"Gas\",$A$18),0)>0,VLOOKUP(\"Gas\",HVACg_Lookup,MATCH($F$16,BuildingSize,0)+1,FALSE),IF(IFERROR(SEARCH(\"Oil\",$A$18),0)>0,VLOOKUP(\"Oil\",HVACg_Lookup,MATCH($F$16,BuildingSize,0)+1,FALSE),IF(IFERROR(SEARCH(\"Propane\",$A$18),0)>0,VLOOKUP(\"Propane\",HVACg_Lookup,MATCH(Worksheet!$F$16,BuildingSize,0)+1,FALSE),0)))","v":0},{"$f":"Z208/1000*AA208*AC208*IF(IFERROR(SEARCH(\"Gas\",$A$18),0)>0,VLOOKUP(\"Gas\",HVACg_Lookup,MATCH($F$16,BuildingSize,0)+1,FALSE),IF(IFERROR(SEARCH(\"Oil\",$A$18),0)>0,VLOOKUP(\"Oil\",HVACg_Lookup,MATCH($F$16,BuildingSize,0)+1,FALSE),IF(IFERROR(SEARCH(\"Propane\",$A$18),0)>0,VLOOKUP(\"Propane\",HVACg_Lookup,MATCH(Worksheet!$F$16,BuildingSize,0)+1,FALSE),0)))","v":0},0,0,"",""]
[null,null,"",null,null,null,null,null,null,null,null,null,null,null,null,0,0,0,0,"",0,0,0,0,0,0,0,0,0,0,0,0,0,0,0,0,0,{"$f":"Y209/1000*AA209*AC209*IF(IFERROR(SEARCH(\"Gas\",$A$18),0)>0,VLOOKUP(\"Gas\",HVACg_Lookup,MATCH($F$16,BuildingSize,0)+1,FALSE),IF(IFERROR(SEARCH(\"Oil\",$A$18),0)>0,VLOOKUP(\"Oil\",HVACg_Lookup,MATCH($F$16,BuildingSize,0)+1,FALSE),IF(IFERROR(SEARCH(\"Propane\",$A$18),0)>0,VLOOKUP(\"Propane\",HVACg_Lookup,MATCH(Worksheet!$F$16,BuildingSize,0)+1,FALSE),0)))","v":0},{"$f":"Z209/1000*AA209*AC209*IF(IFERROR(SEARCH(\"Gas\",$A$18),0)>0,VLOOKUP(\"Gas\",HVACg_Lookup,MATCH($F$16,BuildingSize,0)+1,FALSE),IF(IFERROR(SEARCH(\"Oil\",$A$18),0)>0,VLOOKUP(\"Oil\",HVACg_Lookup,MATCH($F$16,BuildingSize,0)+1,FALSE),IF(IFERROR(SEARCH(\"Propane\",$A$18),0)>0,VLOOKUP(\"Propane\",HVACg_Lookup,MATCH(Worksheet!$F$16,BuildingSize,0)+1,FALSE),0)))","v":0},0,0,"",""]
[null,null,"",null,null,null,null,null,null,null,null,null,null,null,null,0,0,0,0,"",0,0,0,0,0,0,0,0,0,0,0,0,0,0,0,0,0,{"$f":"Y210/1000*AA210*AC210*IF(IFERROR(SEARCH(\"Gas\",$A$18),0)>0,VLOOKUP(\"Gas\",HVACg_Lookup,MATCH($F$16,BuildingSize,0)+1,FALSE),IF(IFERROR(SEARCH(\"Oil\",$A$18),0)>0,VLOOKUP(\"Oil\",HVACg_Lookup,MATCH($F$16,BuildingSize,0)+1,FALSE),IF(IFERROR(SEARCH(\"Propane\",$A$18),0)>0,VLOOKUP(\"Propane\",HVACg_Lookup,MATCH(Worksheet!$F$16,BuildingSize,0)+1,FALSE),0)))","v":0},{"$f":"Z210/1000*AA210*AC210*IF(IFERROR(SEARCH(\"Gas\",$A$18),0)>0,VLOOKUP(\"Gas\",HVACg_Lookup,MATCH($F$16,BuildingSize,0)+1,FALSE),IF(IFERROR(SEARCH(\"Oil\",$A$18),0)>0,VLOOKUP(\"Oil\",HVACg_Lookup,MATCH($F$16,BuildingSize,0)+1,FALSE),IF(IFERROR(SEARCH(\"Propane\",$A$18),0)>0,VLOOKUP(\"Propane\",HVACg_Lookup,MATCH(Worksheet!$F$16,BuildingSize,0)+1,FALSE),0)))","v":0},0,0,"",""]
[null,null,"",null,null,null,null,null,null,null,null,null,null,null,null,0,0,0,0,"",0,0,0,0,0,0,0,0,0,0,0,0,0,0,0,0,0,{"$f":"Y211/1000*AA211*AC211*IF(IFERROR(SEARCH(\"Gas\",$A$18),0)>0,VLOOKUP(\"Gas\",HVACg_Lookup,MATCH($F$16,BuildingSize,0)+1,FALSE),IF(IFERROR(SEARCH(\"Oil\",$A$18),0)>0,VLOOKUP(\"Oil\",HVACg_Lookup,MATCH($F$16,BuildingSize,0)+1,FALSE),IF(IFERROR(SEARCH(\"Propane\",$A$18),0)>0,VLOOKUP(\"Propane\",HVACg_Lookup,MATCH(Worksheet!$F$16,BuildingSize,0)+1,FALSE),0)))","v":0},{"$f":"Z211/1000*AA211*AC211*IF(IFERROR(SEARCH(\"Gas\",$A$18),0)>0,VLOOKUP(\"Gas\",HVACg_Lookup,MATCH($F$16,BuildingSize,0)+1,FALSE),IF(IFERROR(SEARCH(\"Oil\",$A$18),0)>0,VLOOKUP(\"Oil\",HVACg_Lookup,MATCH($F$16,BuildingSize,0)+1,FALSE),IF(IFERROR(SEARCH(\"Propane\",$A$18),0)>0,VLOOKUP(\"Propane\",HVACg_Lookup,MATCH(Worksheet!$F$16,BuildingSize,0)+1,FALSE),0)))","v":0},0,0,"",""]
[null,null,"",null,null,null,null,null,null,null,null,null,null,null,null,0,0,0,0,"",0,0,0,0,0,0,0,0,0,0,0,0,0,0,0,0,0,{"$f":"Y212/1000*AA212*AC212*IF(IFERROR(SEARCH(\"Gas\",$A$18),0)>0,VLOOKUP(\"Gas\",HVACg_Lookup,MATCH($F$16,BuildingSize,0)+1,FALSE),IF(IFERROR(SEARCH(\"Oil\",$A$18),0)>0,VLOOKUP(\"Oil\",HVACg_Lookup,MATCH($F$16,BuildingSize,0)+1,FALSE),IF(IFERROR(SEARCH(\"Propane\",$A$18),0)>0,VLOOKUP(\"Propane\",HVACg_Lookup,MATCH(Worksheet!$F$16,BuildingSize,0)+1,FALSE),0)))","v":0},{"$f":"Z212/1000*AA212*AC212*IF(IFERROR(SEARCH(\"Gas\",$A$18),0)>0,VLOOKUP(\"Gas\",HVACg_Lookup,MATCH($F$16,BuildingSize,0)+1,FALSE),IF(IFERROR(SEARCH(\"Oil\",$A$18),0)>0,VLOOKUP(\"Oil\",HVACg_Lookup,MATCH($F$16,BuildingSize,0)+1,FALSE),IF(IFERROR(SEARCH(\"Propane\",$A$18),0)>0,VLOOKUP(\"Propane\",HVACg_Lookup,MATCH(Worksheet!$F$16,BuildingSize,0)+1,FALSE),0)))","v":0},0,0,"",""]
[null,null,"",null,null,null,null,null,null,null,null,null,null,null,null,0,0,0,0,"",0,0,0,0,0,0,0,0,0,0,0,0,0,0,0,0,0,{"$f":"Y213/1000*AA213*AC213*IF(IFERROR(SEARCH(\"Gas\",$A$18),0)>0,VLOOKUP(\"Gas\",HVACg_Lookup,MATCH($F$16,BuildingSize,0)+1,FALSE),IF(IFERROR(SEARCH(\"Oil\",$A$18),0)>0,VLOOKUP(\"Oil\",HVACg_Lookup,MATCH($F$16,BuildingSize,0)+1,FALSE),IF(IFERROR(SEARCH(\"Propane\",$A$18),0)>0,VLOOKUP(\"Propane\",HVACg_Lookup,MATCH(Worksheet!$F$16,BuildingSize,0)+1,FALSE),0)))","v":0},{"$f":"Z213/1000*AA213*AC213*IF(IFERROR(SEARCH(\"Gas\",$A$18),0)>0,VLOOKUP(\"Gas\",HVACg_Lookup,MATCH($F$16,BuildingSize,0)+1,FALSE),IF(IFERROR(SEARCH(\"Oil\",$A$18),0)>0,VLOOKUP(\"Oil\",HVACg_Lookup,MATCH($F$16,BuildingSize,0)+1,FALSE),IF(IFERROR(SEARCH(\"Propane\",$A$18),0)>0,VLOOKUP(\"Propane\",HVACg_Lookup,MATCH(Worksheet!$F$16,BuildingSize,0)+1,FALSE),0)))","v":0},0,0,"",""]
[null,null,"",null,null,null,null,null,null,null,null,null,null,null,null,0,0,0,0,"",0,0,0,0,0,0,0,0,0,0,0,0,0,0,0,0,0,{"$f":"Y214/1000*AA214*AC214*IF(IFERROR(SEARCH(\"Gas\",$A$18),0)>0,VLOOKUP(\"Gas\",HVACg_Lookup,MATCH($F$16,BuildingSize,0)+1,FALSE),IF(IFERROR(SEARCH(\"Oil\",$A$18),0)>0,VLOOKUP(\"Oil\",HVACg_Lookup,MATCH($F$16,BuildingSize,0)+1,FALSE),IF(IFERROR(SEARCH(\"Propane\",$A$18),0)>0,VLOOKUP(\"Propane\",HVACg_Lookup,MATCH(Worksheet!$F$16,BuildingSize,0)+1,FALSE),0)))","v":0},{"$f":"Z214/1000*AA214*AC214*IF(IFERROR(SEARCH(\"Gas\",$A$18),0)>0,VLOOKUP(\"Gas\",HVACg_Lookup,MATCH($F$16,BuildingSize,0)+1,FALSE),IF(IFERROR(SEARCH(\"Oil\",$A$18),0)>0,VLOOKUP(\"Oil\",HVACg_Lookup,MATCH($F$16,BuildingSize,0)+1,FALSE),IF(IFERROR(SEARCH(\"Propane\",$A$18),0)>0,VLOOKUP(\"Propane\",HVACg_Lookup,MATCH(Worksheet!$F$16,BuildingSize,0)+1,FALSE),0)))","v":0},0,0,"",""]
[null,null,"",null,null,null,null,null,null,null,null,null,null,null,null,0,0,0,0,"",0,0,0,0,0,0,0,0,0,0,0,0,0,0,0,0,0,{"$f":"Y215/1000*AA215*AC215*IF(IFERROR(SEARCH(\"Gas\",$A$18),0)>0,VLOOKUP(\"Gas\",HVACg_Lookup,MATCH($F$16,BuildingSize,0)+1,FALSE),IF(IFERROR(SEARCH(\"Oil\",$A$18),0)>0,VLOOKUP(\"Oil\",HVACg_Lookup,MATCH($F$16,BuildingSize,0)+1,FALSE),IF(IFERROR(SEARCH(\"Propane\",$A$18),0)>0,VLOOKUP(\"Propane\",HVACg_Lookup,MATCH(Worksheet!$F$16,BuildingSize,0)+1,FALSE),0)))","v":0},{"$f":"Z215/1000*AA215*AC215*IF(IFERROR(SEARCH(\"Gas\",$A$18),0)>0,VLOOKUP(\"Gas\",HVACg_Lookup,MATCH($F$16,BuildingSize,0)+1,FALSE),IF(IFERROR(SEARCH(\"Oil\",$A$18),0)>0,VLOOKUP(\"Oil\",HVACg_Lookup,MATCH($F$16,BuildingSize,0)+1,FALSE),IF(IFERROR(SEARCH(\"Propane\",$A$18),0)>0,VLOOKUP(\"Propane\",HVACg_Lookup,MATCH(Worksheet!$F$16,BuildingSize,0)+1,FALSE),0)))","v":0},0,0,"",""]
[null,null,"",null,null,null,null,null,null,null,null,null,null,null,null,0,0,{"$f":"IF(AP216=\"\",0,IF(AP216=1,VLOOKUP(A216,MeasureCode_Lookup,3,FALSE),\"DNQ\"))","v":0},{"$f":"IF(AQ216=\"\",0,IF(AQ216=1,VLOOKUP(A216,MeasureCode_Lookup,3,FALSE),\"DNQ\"))","v":0},{"$f":"IF(A216=\"\",\"\",VLOOKUP(A216,MeasureCode_Lookup,4,FALSE))","v":""},0,0,0,0,{"$f":"IF(N(R216)=0,0,F216*P216)","v":0},{"$f":"IF(N(S216)=0,0,G216*Q216)","v":0},{"$f":"IF(A216=\"\",0,VLOOKUP(A216,MeasureCode_Lookup,5,FALSE))","v":0},{"$f":"IF($A$16=\"\",0,VLOOKUP($A$16,BuildingType_Lookup,3,FALSE))","v":0},{"$f":"IF($A$16=\"\",0,VLOOKUP($A$16,BuildingType_Lookup,2,FALSE))","v":0},{"$f":"IF(AND(OR(AP216=\"\",AP216=0)=TRUE,OR(AQ216=\"\",AQ216=0))=TRUE,0,IF(AQ216=\"\",(IF(OR(C216=\"DDC\",C216=\"OHLC\")=TRUE,O216,P216)/1000)*AA216*AB216*(1+VLOOKUP($A$16,BuildingType_Lookup,4,FALSE)),IF(AQ216=0,0,(IF(OR(C216=\"DDC\",C216=\"OHLC\")=TRUE,O216,Q216)/1000)*AA216*AB216*(1+VLOOKUP($A$16,BuildingType_Lookup,4,FALSE)))))","v":0},{"$f":"IF(AND(OR(AP216=\"\",AP216=0)=TRUE,OR(AQ216=\"\",AQ216=0))=TRUE,0,IF(AQ216=\"\",(IF(OR(C216=\"DDC\",C216=\"OHLC\")=TRUE,O216,P216)/1000)*AA216*AC216*(1+VLOOKUP($A$16,BuildingType_Lookup,MATCH($A$18,HVAC,0)+4,FALSE)),IF(AQ216=0,0,(IF(OR(C216=\"DDC\",C216=\"OHLC\")=TRUE,O216,Q216)/1000)*AA216*AC216*(1+VLOOKUP($A$16,BuildingType_Lookup,MATCH($A$18,HVAC,0)+4,FALSE)))))","v":0},{"$f":"IFERROR(IF(OR(C216=\"DDC\",C216=\"OHLC\")=TRUE,F216*J216*AD216,F216*AD216),0)","v":0},{"$f":"IFERROR(IF(OR(C216=\"DDC\",C216=\"OHLC\")=TRUE,G216*K216*AD216,G216*AD216),0)","v":0},{"$f":"IFERROR(IF(OR(C216=\"DDC\",C216=\"OHLC\")=TRUE,F216*J216*AE216,F216*AE216),0)","v":0},{"$f":"IFERROR(IF(OR(C216=\"DDC\",C216=\"OHLC\")=TRUE,G216*K216*AE216,G216*AE216),0)","v":0},0,0,{"$f":"Y216/1000*AA216*AC216*IF(IFERROR(SEARCH(\"Gas\",$A$18),0)>0,VLOOKUP(\"Gas\",HVACg_Lookup,MATCH($F$16,BuildingSize,0)+1,FALSE),IF(IFERROR(SEARCH(\"Oil\",$A$18),0)>0,VLOOKUP(\"Oil\",HVACg_Lookup,MATCH($F$16,BuildingSize,0)+1,FALSE),IF(IFERROR(SEARCH(\"Propane\",$A$18),0)>0,VLOOKUP(\"Propane\",HVACg_Lookup,MATCH(Worksheet!$F$16,BuildingSize,0)+1,FALSE),0)))","v":0},{"$f":"Z216/1000*AA216*AC216*IF(IFERROR(SEARCH(\"Gas\",$A$18),0)>0,VLOOKUP(\"Gas\",HVACg_Lookup,MATCH($F$16,BuildingSize,0)+1,FALSE),IF(IFERROR(SEARCH(\"Oil\",$A$18),0)>0,VLOOKUP(\"Oil\",HVACg_Lookup,MATCH($F$16,BuildingSize,0)+1,FALSE),IF(IFERROR(SEARCH(\"Propane\",$A$18),0)>0,VLOOKUP(\"Propane\",HVACg_Lookup,MATCH(Worksheet!$F$16,BuildingSize,0)+1,FALSE),0)))","v":0},0,0,"",""]
[null,null,{"$f":"IF(A217=\"\",\"\",VLOOKUP(A217,MeasureCode_Lookup,2,FALSE))","v":""},null,null,null,null,null,null,null,null,null,null,null,null,{"$f":"IF(OR(A217=\"\",F217=\"\",J217=\"\",O217=\"\")=TRUE,0,J217*O217)","v":0},{"$f":"IF(OR(A217=\"\",G217=\"\",K217=\"\",O217=\"\")=TRUE,0,K217*O217)","v":0},0,0,"",{"$f":"IF(OR($A$11=TRUE,$A$12=TRUE,$B$11=TRUE,$B$12=TRUE,$C$11=TRUE)=TRUE,R217,0)","v":0},{"$f":"IF(OR($A$11=TRUE,$A$12=TRUE,$B$11=TRUE,$B$12=TRUE,$C$11=TRUE)=TRUE,S217,0)","v":0},{"$f":"IF(N(R217)=0,0,F217*(R217+U217)*IF(T217=\"per Fixture Controlled\",J217,1))","v":0},{"$f":"IF(N(S217)=0,0,G217*(S217+V217)*IF(T217=\"per Fixture Controlled\",K217,1))","v":0},0,0,0,0,0,0,0,0,0,0,0,{"$f":"AH217*8","v":0},{"$f":"AI217*8","v":0},{"$f":"Y217/1000*AA217*AC217*IF(IFERROR(SEARCH(\"Gas\",$A$18),0)>0,VLOOKUP(\"Gas\",HVACg_Lookup,MATCH($F$16,BuildingSize,0)+1,FALSE),IF(IFERROR(SEARCH(\"Oil\",$A$18),0)>0,VLOOKUP(\"Oil\",HVACg_Lookup,MATCH($F$16,BuildingSize,0)+1,FALSE),IF(IFERROR(SEARCH(\"Propane\",$A$18),0)>0,VLOOKUP(\"Propane\",HVACg_Lookup,MATCH(Worksheet!$F$16,BuildingSize,0)+1,FALSE),0)))","v":0},{"$f":"Z217/1000*AA217*AC217*IF(IFERROR(SEARCH(\"Gas\",$A$18),0)>0,VLOOKUP(\"Gas\",HVACg_Lookup,MATCH($F$16,BuildingSize,0)+1,FALSE),IF(IFERROR(SEARCH(\"Oil\",$A$18),0)>0,VLOOKUP(\"Oil\",HVACg_Lookup,MATCH($F$16,BuildingSize,0)+1,FALSE),IF(IFERROR(SEARCH(\"Propane\",$A$18),0)>0,VLOOKUP(\"Propane\",HVACg_Lookup,MATCH(Worksheet!$F$16,BuildingSize,0)+1,FALSE),0)))","v":0},{"$f":"AL217*8","v":0},{"$f":"AM217*8","v":0},{"$f":"IF(OR($B$4=\"\",$B$5=\"\",$A$16=\"\",$F$16=\"\",$A$18=\"\",A217=\"\",F217=\"\",J217=\"\",O217=\"\",P217=\"\")=TRUE,\"\",IF(C217=\"OSW\",IF(J217>=2,1,0),IF(C217=\"OSR\",IF(AND(J217>=2,P217>60)=TRUE,1,0),IF(C217=\"OSRH\",IF(AND(J217>=1,P217>90)=TRUE,1,0),IF(C217=\"OHLC\",IF(AND(N217=\"Y\",P217>60)=TRUE,1,0),IF(C217=\"DDC\",IF(AND(J217>=4,N217=\"Y\",P217>120)=TRUE,1,0),0))))))","v":""},{"$f":"IF(OR($B$4=\"\",$B$5=\"\",$A$16=\"\",$F$16=\"\",$A$18=\"\",A217=\"\",F217=\"\",K217=\"\",O217=\"\",P217=\"\")=TRUE,\"\",IF(C217=\"OSW\",IF(K217>=2,1,0),IF(C217=\"OSR\",IF(AND(K217>=2,Q217>60)=TRUE,1,0),IF(C217=\"OSRH\",IF(AND(K217>=1,Q217>90)=TRUE,1,0),IF(C217=\"OHLC\",IF(AND(N217=\"Y\",Q217>60)=TRUE,1,0),IF(C217=\"DDC\",IF(AND(K217>=4,N217=\"Y\",Q217>120)=TRUE,1,0),0))))))","v":""}]
[null,null,"",null,null,null,null,null,null,null,null,null,null,null,null,0,0,0,0,"",0,0,0,0,0,0,0,0,0,0,0,0,0,0,0,0,0,{"$f":"Y218/1000*AA218*AC218*IF(IFERROR(SEARCH(\"Gas\",$A$18),0)>0,VLOOKUP(\"Gas\",HVACg_Lookup,MATCH($F$16,BuildingSize,0)+1,FALSE),IF(IFERROR(SEARCH(\"Oil\",$A$18),0)>0,VLOOKUP(\"Oil\",HVACg_Lookup,MATCH($F$16,BuildingSize,0)+1,FALSE),IF(IFERROR(SEARCH(\"Propane\",$A$18),0)>0,VLOOKUP(\"Propane\",HVACg_Lookup,MATCH(Worksheet!$F$16,BuildingSize,0)+1,FALSE),0)))","v":0},{"$f":"Z218/1000*AA218*AC218*IF(IFERROR(SEARCH(\"Gas\",$A$18),0)>0,VLOOKUP(\"Gas\",HVACg_Lookup,MATCH($F$16,BuildingSize,0)+1,FALSE),IF(IFERROR(SEARCH(\"Oil\",$A$18),0)>0,VLOOKUP(\"Oil\",HVACg_Lookup,MATCH($F$16,BuildingSize,0)+1,FALSE),IF(IFERROR(SEARCH(\"Propane\",$A$18),0)>0,VLOOKUP(\"Propane\",HVACg_Lookup,MATCH(Worksheet!$F$16,BuildingSize,0)+1,FALSE),0)))","v":0},0,0,"",""]
[null,null,"",null,null,null,null,null,null,null,null,null,null,null,null,0,0,0,0,"",0,0,0,0,0,0,0,0,0,0,0,0,0,0,0,0,0,{"$f":"Y219/1000*AA219*AC219*IF(IFERROR(SEARCH(\"Gas\",$A$18),0)>0,VLOOKUP(\"Gas\",HVACg_Lookup,MATCH($F$16,BuildingSize,0)+1,FALSE),IF(IFERROR(SEARCH(\"Oil\",$A$18),0)>0,VLOOKUP(\"Oil\",HVACg_Lookup,MATCH($F$16,BuildingSize,0)+1,FALSE),IF(IFERROR(SEARCH(\"Propane\",$A$18),0)>0,VLOOKUP(\"Propane\",HVACg_Lookup,MATCH(Worksheet!$F$16,BuildingSize,0)+1,FALSE),0)))","v":0},{"$f":"Z219/1000*AA219*AC219*IF(IFERROR(SEARCH(\"Gas\",$A$18),0)>0,VLOOKUP(\"Gas\",HVACg_Lookup,MATCH($F$16,BuildingSize,0)+1,FALSE),IF(IFERROR(SEARCH(\"Oil\",$A$18),0)>0,VLOOKUP(\"Oil\",HVACg_Lookup,MATCH($F$16,BuildingSize,0)+1,FALSE),IF(IFERROR(SEARCH(\"Propane\",$A$18),0)>0,VLOOKUP(\"Propane\",HVACg_Lookup,MATCH(Worksheet!$F$16,BuildingSize,0)+1,FALSE),0)))","v":0},0,0,"",""]
[null,null,"",null,null,null,null,null,null,null,null,null,null,null,null,0,0,0,0,"",0,0,0,0,0,0,0,0,0,0,0,0,0,0,0,0,0,{"$f":"Y220/1000*AA220*AC220*IF(IFERROR(SEARCH(\"Gas\",$A$18),0)>0,VLOOKUP(\"Gas\",HVACg_Lookup,MATCH($F$16,BuildingSize,0)+1,FALSE),IF(IFERROR(SEARCH(\"Oil\",$A$18),0)>0,VLOOKUP(\"Oil\",HVACg_Lookup,MATCH($F$16,BuildingSize,0)+1,FALSE),IF(IFERROR(SEARCH(\"Propane\",$A$18),0)>0,VLOOKUP(\"Propane\",HVACg_Lookup,MATCH(Worksheet!$F$16,BuildingSize,0)+1,FALSE),0)))","v":0},{"$f":"Z220/1000*AA220*AC220*IF(IFERROR(SEARCH(\"Gas\",$A$18),0)>0,VLOOKUP(\"Gas\",HVACg_Lookup,MATCH($F$16,BuildingSize,0)+1,FALSE),IF(IFERROR(SEARCH(\"Oil\",$A$18),0)>0,VLOOKUP(\"Oil\",HVACg_Lookup,MATCH($F$16,BuildingSize,0)+1,FALSE),IF(IFERROR(SEARCH(\"Propane\",$A$18),0)>0,VLOOKUP(\"Propane\",HVACg_Lookup,MATCH(Worksheet!$F$16,BuildingSize,0)+1,FALSE),0)))","v":0},0,0,"",""]
[null,null,"",null,null,null,null,null,null,null,null,null,null,null,null,0,0,0,0,"",0,0,0,0,0,0,0,0,0,0,0,0,0,0,0,0,0,{"$f":"Y221/1000*AA221*AC221*IF(IFERROR(SEARCH(\"Gas\",$A$18),0)>0,VLOOKUP(\"Gas\",HVACg_Lookup,MATCH($F$16,BuildingSize,0)+1,FALSE),IF(IFERROR(SEARCH(\"Oil\",$A$18),0)>0,VLOOKUP(\"Oil\",HVACg_Lookup,MATCH($F$16,BuildingSize,0)+1,FALSE),IF(IFERROR(SEARCH(\"Propane\",$A$18),0)>0,VLOOKUP(\"Propane\",HVACg_Lookup,MATCH(Worksheet!$F$16,BuildingSize,0)+1,FALSE),0)))","v":0},{"$f":"Z221/1000*AA221*AC221*IF(IFERROR(SEARCH(\"Gas\",$A$18),0)>0,VLOOKUP(\"Gas\",HVACg_Lookup,MATCH($F$16,BuildingSize,0)+1,FALSE),IF(IFERROR(SEARCH(\"Oil\",$A$18),0)>0,VLOOKUP(\"Oil\",HVACg_Lookup,MATCH($F$16,BuildingSize,0)+1,FALSE),IF(IFERROR(SEARCH(\"Propane\",$A$18),0)>0,VLOOKUP(\"Propane\",HVACg_Lookup,MATCH(Worksheet!$F$16,BuildingSize,0)+1,FALSE),0)))","v":0},0,0,"",""]
[null,null,"",null,null,null,null,null,null,null,null,null,null,null,null,0,0,0,0,"",0,0,0,0,0,0,0,0,0,0,0,0,0,0,0,0,0,{"$f":"Y222/1000*AA222*AC222*IF(IFERROR(SEARCH(\"Gas\",$A$18),0)>0,VLOOKUP(\"Gas\",HVACg_Lookup,MATCH($F$16,BuildingSize,0)+1,FALSE),IF(IFERROR(SEARCH(\"Oil\",$A$18),0)>0,VLOOKUP(\"Oil\",HVACg_Lookup,MATCH($F$16,BuildingSize,0)+1,FALSE),IF(IFERROR(SEARCH(\"Propane\",$A$18),0)>0,VLOOKUP(\"Propane\",HVACg_Lookup,MATCH(Worksheet!$F$16,BuildingSize,0)+1,FALSE),0)))","v":0},{"$f":"Z222/1000*AA222*AC222*IF(IFERROR(SEARCH(\"Gas\",$A$18),0)>0,VLOOKUP(\"Gas\",HVACg_Lookup,MATCH($F$16,BuildingSize,0)+1,FALSE),IF(IFERROR(SEARCH(\"Oil\",$A$18),0)>0,VLOOKUP(\"Oil\",HVACg_Lookup,MATCH($F$16,BuildingSize,0)+1,FALSE),IF(IFERROR(SEARCH(\"Propane\",$A$18),0)>0,VLOOKUP(\"Propane\",HVACg_Lookup,MATCH(Worksheet!$F$16,BuildingSize,0)+1,FALSE),0)))","v":0},0,0,"",""]
[null,null,"",null,null,null,null,null,null,null,null,null,null,null,null,0,0,0,0,"",0,0,0,0,0,0,0,0,0,0,0,0,0,0,0,0,0,{"$f":"Y223/1000*AA223*AC223*IF(IFERROR(SEARCH(\"Gas\",$A$18),0)>0,VLOOKUP(\"Gas\",HVACg_Lookup,MATCH($F$16,BuildingSize,0)+1,FALSE),IF(IFERROR(SEARCH(\"Oil\",$A$18),0)>0,VLOOKUP(\"Oil\",HVACg_Lookup,MATCH($F$16,BuildingSize,0)+1,FALSE),IF(IFERROR(SEARCH(\"Propane\",$A$18),0)>0,VLOOKUP(\"Propane\",HVACg_Lookup,MATCH(Worksheet!$F$16,BuildingSize,0)+1,FALSE),0)))","v":0},{"$f":"Z223/1000*AA223*AC223*IF(IFERROR(SEARCH(\"Gas\",$A$18),0)>0,VLOOKUP(\"Gas\",HVACg_Lookup,MATCH($F$16,BuildingSize,0)+1,FALSE),IF(IFERROR(SEARCH(\"Oil\",$A$18),0)>0,VLOOKUP(\"Oil\",HVACg_Lookup,MATCH($F$16,BuildingSize,0)+1,FALSE),IF(IFERROR(SEARCH(\"Propane\",$A$18),0)>0,VLOOKUP(\"Propane\",HVACg_Lookup,MATCH(Worksheet!$F$16,BuildingSize,0)+1,FALSE),0)))","v":0},0,0,"",""]
[null,null,"",null,null,null,null,null,null,null,null,null,null,null,null,0,0,0,0,"",0,0,0,0,0,0,0,0,0,0,0,0,0,0,0,0,0,{"$f":"Y224/1000*AA224*AC224*IF(IFERROR(SEARCH(\"Gas\",$A$18),0)>0,VLOOKUP(\"Gas\",HVACg_Lookup,MATCH($F$16,BuildingSize,0)+1,FALSE),IF(IFERROR(SEARCH(\"Oil\",$A$18),0)>0,VLOOKUP(\"Oil\",HVACg_Lookup,MATCH($F$16,BuildingSize,0)+1,FALSE),IF(IFERROR(SEARCH(\"Propane\",$A$18),0)>0,VLOOKUP(\"Propane\",HVACg_Lookup,MATCH(Worksheet!$F$16,BuildingSize,0)+1,FALSE),0)))","v":0},{"$f":"Z224/1000*AA224*AC224*IF(IFERROR(SEARCH(\"Gas\",$A$18),0)>0,VLOOKUP(\"Gas\",HVACg_Lookup,MATCH($F$16,BuildingSize,0)+1,FALSE),IF(IFERROR(SEARCH(\"Oil\",$A$18),0)>0,VLOOKUP(\"Oil\",HVACg_Lookup,MATCH($F$16,BuildingSize,0)+1,FALSE),IF(IFERROR(SEARCH(\"Propane\",$A$18),0)>0,VLOOKUP(\"Propane\",HVACg_Lookup,MATCH(Worksheet!$F$16,BuildingSize,0)+1,FALSE),0)))","v":0},0,0,"",""]
[null,null,"",null,null,null,null,null,null,null,null,null,null,null,null,0,0,0,0,"",0,0,0,0,0,0,0,0,0,0,0,0,0,0,0,0,0,{"$f":"Y225/1000*AA225*AC225*IF(IFERROR(SEARCH(\"Gas\",$A$18),0)>0,VLOOKUP(\"Gas\",HVACg_Lookup,MATCH($F$16,BuildingSize,0)+1,FALSE),IF(IFERROR(SEARCH(\"Oil\",$A$18),0)>0,VLOOKUP(\"Oil\",HVACg_Lookup,MATCH($F$16,BuildingSize,0)+1,FALSE),IF(IFERROR(SEARCH(\"Propane\",$A$18),0)>0,VLOOKUP(\"Propane\",HVACg_Lookup,MATCH(Worksheet!$F$16,BuildingSize,0)+1,FALSE),0)))","v":0},{"$f":"Z225/1000*AA225*AC225*IF(IFERROR(SEARCH(\"Gas\",$A$18),0)>0,VLOOKUP(\"Gas\",HVACg_Lookup,MATCH($F$16,BuildingSize,0)+1,FALSE),IF(IFERROR(SEARCH(\"Oil\",$A$18),0)>0,VLOOKUP(\"Oil\",HVACg_Lookup,MATCH($F$16,BuildingSize,0)+1,FALSE),IF(IFERROR(SEARCH(\"Propane\",$A$18),0)>0,VLOOKUP(\"Propane\",HVACg_Lookup,MATCH(Worksheet!$F$16,BuildingSize,0)+1,FALSE),0)))","v":0},0,0,"",""]
[null,null,"",null,null,null,null,null,null,null,null,null,null,null,null,0,0,0,0,"",0,0,0,0,0,0,0,0,0,0,0,0,0,0,0,0,0,{"$f":"Y226/1000*AA226*AC226*IF(IFERROR(SEARCH(\"Gas\",$A$18),0)>0,VLOOKUP(\"Gas\",HVACg_Lookup,MATCH($F$16,BuildingSize,0)+1,FALSE),IF(IFERROR(SEARCH(\"Oil\",$A$18),0)>0,VLOOKUP(\"Oil\",HVACg_Lookup,MATCH($F$16,BuildingSize,0)+1,FALSE),IF(IFERROR(SEARCH(\"Propane\",$A$18),0)>0,VLOOKUP(\"Propane\",HVACg_Lookup,MATCH(Worksheet!$F$16,BuildingSize,0)+1,FALSE),0)))","v":0},{"$f":"Z226/1000*AA226*AC226*IF(IFERROR(SEARCH(\"Gas\",$A$18),0)>0,VLOOKUP(\"Gas\",HVACg_Lookup,MATCH($F$16,BuildingSize,0)+1,FALSE),IF(IFERROR(SEARCH(\"Oil\",$A$18),0)>0,VLOOKUP(\"Oil\",HVACg_Lookup,MATCH($F$16,BuildingSize,0)+1,FALSE),IF(IFERROR(SEARCH(\"Propane\",$A$18),0)>0,VLOOKUP(\"Propane\",HVACg_Lookup,MATCH(Worksheet!$F$16,BuildingSize,0)+1,FALSE),0)))","v":0},0,0,"",""]
[null,null,"",null,null,null,null,null,null,null,null,null,null,null,null,0,0,0,0,"",0,0,0,0,0,0,0,0,0,0,0,0,0,0,0,0,0,{"$f":"Y227/1000*AA227*AC227*IF(IFERROR(SEARCH(\"Gas\",$A$18),0)>0,VLOOKUP(\"Gas\",HVACg_Lookup,MATCH($F$16,BuildingSize,0)+1,FALSE),IF(IFERROR(SEARCH(\"Oil\",$A$18),0)>0,VLOOKUP(\"Oil\",HVACg_Lookup,MATCH($F$16,BuildingSize,0)+1,FALSE),IF(IFERROR(SEARCH(\"Propane\",$A$18),0)>0,VLOOKUP(\"Propane\",HVACg_Lookup,MATCH(Worksheet!$F$16,BuildingSize,0)+1,FALSE),0)))","v":0},{"$f":"Z227/1000*AA227*AC227*IF(IFERROR(SEARCH(\"Gas\",$A$18),0)>0,VLOOKUP(\"Gas\",HVACg_Lookup,MATCH($F$16,BuildingSize,0)+1,FALSE),IF(IFERROR(SEARCH(\"Oil\",$A$18),0)>0,VLOOKUP(\"Oil\",HVACg_Lookup,MATCH($F$16,BuildingSize,0)+1,FALSE),IF(IFERROR(SEARCH(\"Propane\",$A$18),0)>0,VLOOKUP(\"Propane\",HVACg_Lookup,MATCH(Worksheet!$F$16,BuildingSize,0)+1,FALSE),0)))","v":0},0,0,"",""]
[null,null,"",null,null,null,null,null,null,null,null,null,null,null,null,0,0,0,0,"",0,0,0,0,0,0,0,0,0,0,0,0,0,0,0,0,0,{"$f":"Y228/1000*AA228*AC228*IF(IFERROR(SEARCH(\"Gas\",$A$18),0)>0,VLOOKUP(\"Gas\",HVACg_Lookup,MATCH($F$16,BuildingSize,0)+1,FALSE),IF(IFERROR(SEARCH(\"Oil\",$A$18),0)>0,VLOOKUP(\"Oil\",HVACg_Lookup,MATCH($F$16,BuildingSize,0)+1,FALSE),IF(IFERROR(SEARCH(\"Propane\",$A$18),0)>0,VLOOKUP(\"Propane\",HVACg_Lookup,MATCH(Worksheet!$F$16,BuildingSize,0)+1,FALSE),0)))","v":0},{"$f":"Z228/1000*AA228*AC228*IF(IFERROR(SEARCH(\"Gas\",$A$18),0)>0,VLOOKUP(\"Gas\",HVACg_Lookup,MATCH($F$16,BuildingSize,0)+1,FALSE),IF(IFERROR(SEARCH(\"Oil\",$A$18),0)>0,VLOOKUP(\"Oil\",HVACg_Lookup,MATCH($F$16,BuildingSize,0)+1,FALSE),IF(IFERROR(SEARCH(\"Propane\",$A$18),0)>0,VLOOKUP(\"Propane\",HVACg_Lookup,MATCH(Worksheet!$F$16,BuildingSize,0)+1,FALSE),0)))","v":0},0,0,"",""]
[null,null,"",null,null,null,null,null,null,null,null,null,null,null,null,0,0,0,0,"",0,0,0,0,0,0,0,0,0,0,0,0,0,0,0,0,0,{"$f":"Y229/1000*AA229*AC229*IF(IFERROR(SEARCH(\"Gas\",$A$18),0)>0,VLOOKUP(\"Gas\",HVACg_Lookup,MATCH($F$16,BuildingSize,0)+1,FALSE),IF(IFERROR(SEARCH(\"Oil\",$A$18),0)>0,VLOOKUP(\"Oil\",HVACg_Lookup,MATCH($F$16,BuildingSize,0)+1,FALSE),IF(IFERROR(SEARCH(\"Propane\",$A$18),0)>0,VLOOKUP(\"Propane\",HVACg_Lookup,MATCH(Worksheet!$F$16,BuildingSize,0)+1,FALSE),0)))","v":0},{"$f":"Z229/1000*AA229*AC229*IF(IFERROR(SEARCH(\"Gas\",$A$18),0)>0,VLOOKUP(\"Gas\",HVACg_Lookup,MATCH($F$16,BuildingSize,0)+1,FALSE),IF(IFERROR(SEARCH(\"Oil\",$A$18),0)>0,VLOOKUP(\"Oil\",HVACg_Lookup,MATCH($F$16,BuildingSize,0)+1,FALSE),IF(IFERROR(SEARCH(\"Propane\",$A$18),0)>0,VLOOKUP(\"Propane\",HVACg_Lookup,MATCH(Worksheet!$F$16,BuildingSize,0)+1,FALSE),0)))","v":0},0,0,"",""]
[null,null,"",null,null,null,null,null,null,null,null,null,null,null,null,0,0,0,0,"",0,0,0,0,0,0,0,0,0,0,0,0,0,0,0,0,0,{"$f":"Y230/1000*AA230*AC230*IF(IFERROR(SEARCH(\"Gas\",$A$18),0)>0,VLOOKUP(\"Gas\",HVACg_Lookup,MATCH($F$16,BuildingSize,0)+1,FALSE),IF(IFERROR(SEARCH(\"Oil\",$A$18),0)>0,VLOOKUP(\"Oil\",HVACg_Lookup,MATCH($F$16,BuildingSize,0)+1,FALSE),IF(IFERROR(SEARCH(\"Propane\",$A$18),0)>0,VLOOKUP(\"Propane\",HVACg_Lookup,MATCH(Worksheet!$F$16,BuildingSize,0)+1,FALSE),0)))","v":0},{"$f":"Z230/1000*AA230*AC230*IF(IFERROR(SEARCH(\"Gas\",$A$18),0)>0,VLOOKUP(\"Gas\",HVACg_Lookup,MATCH($F$16,BuildingSize,0)+1,FALSE),IF(IFERROR(SEARCH(\"Oil\",$A$18),0)>0,VLOOKUP(\"Oil\",HVACg_Lookup,MATCH($F$16,BuildingSize,0)+1,FALSE),IF(IFERROR(SEARCH(\"Propane\",$A$18),0)>0,VLOOKUP(\"Propane\",HVACg_Lookup,MATCH(Worksheet!$F$16,BuildingSize,0)+1,FALSE),0)))","v":0},0,0,"",""]
[null,null,"",null,null,null,null,null,null,null,null,null,null,null,null,0,0,0,0,"",0,0,0,0,0,0,0,0,0,0,0,0,0,0,0,0,0,{"$f":"Y231/1000*AA231*AC231*IF(IFERROR(SEARCH(\"Gas\",$A$18),0)>0,VLOOKUP(\"Gas\",HVACg_Lookup,MATCH($F$16,BuildingSize,0)+1,FALSE),IF(IFERROR(SEARCH(\"Oil\",$A$18),0)>0,VLOOKUP(\"Oil\",HVACg_Lookup,MATCH($F$16,BuildingSize,0)+1,FALSE),IF(IFERROR(SEARCH(\"Propane\",$A$18),0)>0,VLOOKUP(\"Propane\",HVACg_Lookup,MATCH(Worksheet!$F$16,BuildingSize,0)+1,FALSE),0)))","v":0},{"$f":"Z231/1000*AA231*AC231*IF(IFERROR(SEARCH(\"Gas\",$A$18),0)>0,VLOOKUP(\"Gas\",HVACg_Lookup,MATCH($F$16,BuildingSize,0)+1,FALSE),IF(IFERROR(SEARCH(\"Oil\",$A$18),0)>0,VLOOKUP(\"Oil\",HVACg_Lookup,MATCH($F$16,BuildingSize,0)+1,FALSE),IF(IFERROR(SEARCH(\"Propane\",$A$18),0)>0,VLOOKUP(\"Propane\",HVACg_Lookup,MATCH(Worksheet!$F$16,BuildingSize,0)+1,FALSE),0)))","v":0},0,0,"",""]
[null,null,"",null,null,null,null,null,null,null,null,null,null,null,null,0,0,0,0,"",0,0,0,0,0,0,0,0,0,0,0,0,0,0,0,0,0,{"$f":"Y232/1000*AA232*AC232*IF(IFERROR(SEARCH(\"Gas\",$A$18),0)>0,VLOOKUP(\"Gas\",HVACg_Lookup,MATCH($F$16,BuildingSize,0)+1,FALSE),IF(IFERROR(SEARCH(\"Oil\",$A$18),0)>0,VLOOKUP(\"Oil\",HVACg_Lookup,MATCH($F$16,BuildingSize,0)+1,FALSE),IF(IFERROR(SEARCH(\"Propane\",$A$18),0)>0,VLOOKUP(\"Propane\",HVACg_Lookup,MATCH(Worksheet!$F$16,BuildingSize,0)+1,FALSE),0)))","v":0},{"$f":"Z232/1000*AA232*AC232*IF(IFERROR(SEARCH(\"Gas\",$A$18),0)>0,VLOOKUP(\"Gas\",HVACg_Lookup,MATCH($F$16,BuildingSize,0)+1,FALSE),IF(IFERROR(SEARCH(\"Oil\",$A$18),0)>0,VLOOKUP(\"Oil\",HVACg_Lookup,MATCH($F$16,BuildingSize,0)+1,FALSE),IF(IFERROR(SEARCH(\"Propane\",$A$18),0)>0,VLOOKUP(\"Propane\",HVACg_Lookup,MATCH(Worksheet!$F$16,BuildingSize,0)+1,FALSE),0)))","v":0},0,0,"",""]
[null,null,"",null,null,null,null,null,null,null,null,null,null,null,null,0,0,0,0,"",0,0,0,0,0,0,0,0,0,0,0,0,0,0,0,0,0,{"$f":"Y233/1000*AA233*AC233*IF(IFERROR(SEARCH(\"Gas\",$A$18),0)>0,VLOOKUP(\"Gas\",HVACg_Lookup,MATCH($F$16,BuildingSize,0)+1,FALSE),IF(IFERROR(SEARCH(\"Oil\",$A$18),0)>0,VLOOKUP(\"Oil\",HVACg_Lookup,MATCH($F$16,BuildingSize,0)+1,FALSE),IF(IFERROR(SEARCH(\"Propane\",$A$18),0)>0,VLOOKUP(\"Propane\",HVACg_Lookup,MATCH(Worksheet!$F$16,BuildingSize,0)+1,FALSE),0)))","v":0},{"$f":"Z233/1000*AA233*AC233*IF(IFERROR(SEARCH(\"Gas\",$A$18),0)>0,VLOOKUP(\"Gas\",HVACg_Lookup,MATCH($F$16,BuildingSize,0)+1,FALSE),IF(IFERROR(SEARCH(\"Oil\",$A$18),0)>0,VLOOKUP(\"Oil\",HVACg_Lookup,MATCH($F$16,BuildingSize,0)+1,FALSE),IF(IFERROR(SEARCH(\"Propane\",$A$18),0)>0,VLOOKUP(\"Propane\",HVACg_Lookup,MATCH(Worksheet!$F$16,BuildingSize,0)+1,FALSE),0)))","v":0},0,0,"",""]
[null,null,"",null,null,null,null,null,null,null,null,null,null,null,null,0,0,0,0,"",0,0,0,0,0,0,0,0,0,0,0,0,0,0,0,0,0,{"$f":"Y234/1000*AA234*AC234*IF(IFERROR(SEARCH(\"Gas\",$A$18),0)>0,VLOOKUP(\"Gas\",HVACg_Lookup,MATCH($F$16,BuildingSize,0)+1,FALSE),IF(IFERROR(SEARCH(\"Oil\",$A$18),0)>0,VLOOKUP(\"Oil\",HVACg_Lookup,MATCH($F$16,BuildingSize,0)+1,FALSE),IF(IFERROR(SEARCH(\"Propane\",$A$18),0)>0,VLOOKUP(\"Propane\",HVACg_Lookup,MATCH(Worksheet!$F$16,BuildingSize,0)+1,FALSE),0)))","v":0},{"$f":"Z234/1000*AA234*AC234*IF(IFERROR(SEARCH(\"Gas\",$A$18),0)>0,VLOOKUP(\"Gas\",HVACg_Lookup,MATCH($F$16,BuildingSize,0)+1,FALSE),IF(IFERROR(SEARCH(\"Oil\",$A$18),0)>0,VLOOKUP(\"Oil\",HVACg_Lookup,MATCH($F$16,BuildingSize,0)+1,FALSE),IF(IFERROR(SEARCH(\"Propane\",$A$18),0)>0,VLOOKUP(\"Propane\",HVACg_Lookup,MATCH(Worksheet!$F$16,BuildingSize,0)+1,FALSE),0)))","v":0},0,0,"",""]
[null,null,"",null,null,null,null,null,null,null,null,null,null,null,null,0,0,0,0,"",0,0,0,0,0,0,0,0,0,0,0,0,0,0,0,0,0,{"$f":"Y235/1000*AA235*AC235*IF(IFERROR(SEARCH(\"Gas\",$A$18),0)>0,VLOOKUP(\"Gas\",HVACg_Lookup,MATCH($F$16,BuildingSize,0)+1,FALSE),IF(IFERROR(SEARCH(\"Oil\",$A$18),0)>0,VLOOKUP(\"Oil\",HVACg_Lookup,MATCH($F$16,BuildingSize,0)+1,FALSE),IF(IFERROR(SEARCH(\"Propane\",$A$18),0)>0,VLOOKUP(\"Propane\",HVACg_Lookup,MATCH(Worksheet!$F$16,BuildingSize,0)+1,FALSE),0)))","v":0},{"$f":"Z235/1000*AA235*AC235*IF(IFERROR(SEARCH(\"Gas\",$A$18),0)>0,VLOOKUP(\"Gas\",HVACg_Lookup,MATCH($F$16,BuildingSize,0)+1,FALSE),IF(IFERROR(SEARCH(\"Oil\",$A$18),0)>0,VLOOKUP(\"Oil\",HVACg_Lookup,MATCH($F$16,BuildingSize,0)+1,FALSE),IF(IFERROR(SEARCH(\"Propane\",$A$18),0)>0,VLOOKUP(\"Propane\",HVACg_Lookup,MATCH(Worksheet!$F$16,BuildingSize,0)+1,FALSE),0)))","v":0},0,0,"",""]
[null,null,"",null,null,null,null,null,null,null,null,null,null,null,null,0,0,0,0,"",0,0,0,0,0,0,0,0,0,0,0,0,0,0,0,0,0,{"$f":"Y236/1000*AA236*AC236*IF(IFERROR(SEARCH(\"Gas\",$A$18),0)>0,VLOOKUP(\"Gas\",HVACg_Lookup,MATCH($F$16,BuildingSize,0)+1,FALSE),IF(IFERROR(SEARCH(\"Oil\",$A$18),0)>0,VLOOKUP(\"Oil\",HVACg_Lookup,MATCH($F$16,BuildingSize,0)+1,FALSE),IF(IFERROR(SEARCH(\"Propane\",$A$18),0)>0,VLOOKUP(\"Propane\",HVACg_Lookup,MATCH(Worksheet!$F$16,BuildingSize,0)+1,FALSE),0)))","v":0},{"$f":"Z236/1000*AA236*AC236*IF(IFERROR(SEARCH(\"Gas\",$A$18),0)>0,VLOOKUP(\"Gas\",HVACg_Lookup,MATCH($F$16,BuildingSize,0)+1,FALSE),IF(IFERROR(SEARCH(\"Oil\",$A$18),0)>0,VLOOKUP(\"Oil\",HVACg_Lookup,MATCH($F$16,BuildingSize,0)+1,FALSE),IF(IFERROR(SEARCH(\"Propane\",$A$18),0)>0,VLOOKUP(\"Propane\",HVACg_Lookup,MATCH(Worksheet!$F$16,BuildingSize,0)+1,FALSE),0)))","v":0},0,0,"",""]
[null,null,"",null,null,null,null,null,null,null,null,null,null,null,null,0,0,0,0,"",0,0,0,0,0,0,0,0,0,0,0,0,0,0,0,0,0,{"$f":"Y237/1000*AA237*AC237*IF(IFERROR(SEARCH(\"Gas\",$A$18),0)>0,VLOOKUP(\"Gas\",HVACg_Lookup,MATCH($F$16,BuildingSize,0)+1,FALSE),IF(IFERROR(SEARCH(\"Oil\",$A$18),0)>0,VLOOKUP(\"Oil\",HVACg_Lookup,MATCH($F$16,BuildingSize,0)+1,FALSE),IF(IFERROR(SEARCH(\"Propane\",$A$18),0)>0,VLOOKUP(\"Propane\",HVACg_Lookup,MATCH(Worksheet!$F$16,BuildingSize,0)+1,FALSE),0)))","v":0},{"$f":"Z237/1000*AA237*AC237*IF(IFERROR(SEARCH(\"Gas\",$A$18),0)>0,VLOOKUP(\"Gas\",HVACg_Lookup,MATCH($F$16,BuildingSize,0)+1,FALSE),IF(IFERROR(SEARCH(\"Oil\",$A$18),0)>0,VLOOKUP(\"Oil\",HVACg_Lookup,MATCH($F$16,BuildingSize,0)+1,FALSE),IF(IFERROR(SEARCH(\"Propane\",$A$18),0)>0,VLOOKUP(\"Propane\",HVACg_Lookup,MATCH(Worksheet!$F$16,BuildingSize,0)+1,FALSE),0)))","v":0},0,0,"",""]
[null,null,"",null,null,null,null,null,null,null,null,null,null,null,null,0,0,0,0,"",0,0,0,0,0,0,0,0,0,0,0,0,0,0,0,0,0,{"$f":"Y238/1000*AA238*AC238*IF(IFERROR(SEARCH(\"Gas\",$A$18),0)>0,VLOOKUP(\"Gas\",HVACg_Lookup,MATCH($F$16,BuildingSize,0)+1,FALSE),IF(IFERROR(SEARCH(\"Oil\",$A$18),0)>0,VLOOKUP(\"Oil\",HVACg_Lookup,MATCH($F$16,BuildingSize,0)+1,FALSE),IF(IFERROR(SEARCH(\"Propane\",$A$18),0)>0,VLOOKUP(\"Propane\",HVACg_Lookup,MATCH(Worksheet!$F$16,BuildingSize,0)+1,FALSE),0)))","v":0},{"$f":"Z238/1000*AA238*AC238*IF(IFERROR(SEARCH(\"Gas\",$A$18),0)>0,VLOOKUP(\"Gas\",HVACg_Lookup,MATCH($F$16,BuildingSize,0)+1,FALSE),IF(IFERROR(SEARCH(\"Oil\",$A$18),0)>0,VLOOKUP(\"Oil\",HVACg_Lookup,MATCH($F$16,BuildingSize,0)+1,FALSE),IF(IFERROR(SEARCH(\"Propane\",$A$18),0)>0,VLOOKUP(\"Propane\",HVACg_Lookup,MATCH(Worksheet!$F$16,BuildingSize,0)+1,FALSE),0)))","v":0},0,0,"",""]
[null,null,"",null,null,null,null,null,null,null,null,null,null,null,null,0,0,0,0,"",0,0,0,0,0,0,0,0,0,0,0,0,0,0,0,0,0,{"$f":"Y239/1000*AA239*AC239*IF(IFERROR(SEARCH(\"Gas\",$A$18),0)>0,VLOOKUP(\"Gas\",HVACg_Lookup,MATCH($F$16,BuildingSize,0)+1,FALSE),IF(IFERROR(SEARCH(\"Oil\",$A$18),0)>0,VLOOKUP(\"Oil\",HVACg_Lookup,MATCH($F$16,BuildingSize,0)+1,FALSE),IF(IFERROR(SEARCH(\"Propane\",$A$18),0)>0,VLOOKUP(\"Propane\",HVACg_Lookup,MATCH(Worksheet!$F$16,BuildingSize,0)+1,FALSE),0)))","v":0},{"$f":"Z239/1000*AA239*AC239*IF(IFERROR(SEARCH(\"Gas\",$A$18),0)>0,VLOOKUP(\"Gas\",HVACg_Lookup,MATCH($F$16,BuildingSize,0)+1,FALSE),IF(IFERROR(SEARCH(\"Oil\",$A$18),0)>0,VLOOKUP(\"Oil\",HVACg_Lookup,MATCH($F$16,BuildingSize,0)+1,FALSE),IF(IFERROR(SEARCH(\"Propane\",$A$18),0)>0,VLOOKUP(\"Propane\",HVACg_Lookup,MATCH(Worksheet!$F$16,BuildingSize,0)+1,FALSE),0)))","v":0},0,0,"",""]
[null,null,"",null,null,null,null,null,null,null,null,null,null,null,null,0,0,0,0,"",0,0,0,0,0,0,0,0,0,0,0,0,0,0,0,0,0,{"$f":"Y240/1000*AA240*AC240*IF(IFERROR(SEARCH(\"Gas\",$A$18),0)>0,VLOOKUP(\"Gas\",HVACg_Lookup,MATCH($F$16,BuildingSize,0)+1,FALSE),IF(IFERROR(SEARCH(\"Oil\",$A$18),0)>0,VLOOKUP(\"Oil\",HVACg_Lookup,MATCH($F$16,BuildingSize,0)+1,FALSE),IF(IFERROR(SEARCH(\"Propane\",$A$18),0)>0,VLOOKUP(\"Propane\",HVACg_Lookup,MATCH(Worksheet!$F$16,BuildingSize,0)+1,FALSE),0)))","v":0},{"$f":"Z240/1000*AA240*AC240*IF(IFERROR(SEARCH(\"Gas\",$A$18),0)>0,VLOOKUP(\"Gas\",HVACg_Lookup,MATCH($F$16,BuildingSize,0)+1,FALSE),IF(IFERROR(SEARCH(\"Oil\",$A$18),0)>0,VLOOKUP(\"Oil\",HVACg_Lookup,MATCH($F$16,BuildingSize,0)+1,FALSE),IF(IFERROR(SEARCH(\"Propane\",$A$18),0)>0,VLOOKUP(\"Propane\",HVACg_Lookup,MATCH(Worksheet!$F$16,BuildingSize,0)+1,FALSE),0)))","v":0},0,0,"",""]
[null,null,"",null,null,null,null,null,null,null,null,null,null,null,null,0,0,0,0,"",0,0,0,0,0,0,0,0,0,0,0,0,0,0,0,0,0,{"$f":"Y241/1000*AA241*AC241*IF(IFERROR(SEARCH(\"Gas\",$A$18),0)>0,VLOOKUP(\"Gas\",HVACg_Lookup,MATCH($F$16,BuildingSize,0)+1,FALSE),IF(IFERROR(SEARCH(\"Oil\",$A$18),0)>0,VLOOKUP(\"Oil\",HVACg_Lookup,MATCH($F$16,BuildingSize,0)+1,FALSE),IF(IFERROR(SEARCH(\"Propane\",$A$18),0)>0,VLOOKUP(\"Propane\",HVACg_Lookup,MATCH(Worksheet!$F$16,BuildingSize,0)+1,FALSE),0)))","v":0},{"$f":"Z241/1000*AA241*AC241*IF(IFERROR(SEARCH(\"Gas\",$A$18),0)>0,VLOOKUP(\"Gas\",HVACg_Lookup,MATCH($F$16,BuildingSize,0)+1,FALSE),IF(IFERROR(SEARCH(\"Oil\",$A$18),0)>0,VLOOKUP(\"Oil\",HVACg_Lookup,MATCH($F$16,BuildingSize,0)+1,FALSE),IF(IFERROR(SEARCH(\"Propane\",$A$18),0)>0,VLOOKUP(\"Propane\",HVACg_Lookup,MATCH(Worksheet!$F$16,BuildingSize,0)+1,FALSE),0)))","v":0},0,0,"",""]
[null,null,"",null,null,null,null,null,null,null,null,null,null,null,null,0,0,0,0,"",0,0,0,0,0,0,0,0,0,0,0,0,0,0,0,0,0,{"$f":"Y242/1000*AA242*AC242*IF(IFERROR(SEARCH(\"Gas\",$A$18),0)>0,VLOOKUP(\"Gas\",HVACg_Lookup,MATCH($F$16,BuildingSize,0)+1,FALSE),IF(IFERROR(SEARCH(\"Oil\",$A$18),0)>0,VLOOKUP(\"Oil\",HVACg_Lookup,MATCH($F$16,BuildingSize,0)+1,FALSE),IF(IFERROR(SEARCH(\"Propane\",$A$18),0)>0,VLOOKUP(\"Propane\",HVACg_Lookup,MATCH(Worksheet!$F$16,BuildingSize,0)+1,FALSE),0)))","v":0},{"$f":"Z242/1000*AA242*AC242*IF(IFERROR(SEARCH(\"Gas\",$A$18),0)>0,VLOOKUP(\"Gas\",HVACg_Lookup,MATCH($F$16,BuildingSize,0)+1,FALSE),IF(IFERROR(SEARCH(\"Oil\",$A$18),0)>0,VLOOKUP(\"Oil\",HVACg_Lookup,MATCH($F$16,BuildingSize,0)+1,FALSE),IF(IFERROR(SEARCH(\"Propane\",$A$18),0)>0,VLOOKUP(\"Propane\",HVACg_Lookup,MATCH(Worksheet!$F$16,BuildingSize,0)+1,FALSE),0)))","v":0},0,0,"",""]
[null,null,"",null,null,null,null,null,null,null,null,null,null,null,null,0,0,0,0,"",0,0,0,0,0,0,0,0,0,0,0,0,0,0,0,0,0,{"$f":"Y243/1000*AA243*AC243*IF(IFERROR(SEARCH(\"Gas\",$A$18),0)>0,VLOOKUP(\"Gas\",HVACg_Lookup,MATCH($F$16,BuildingSize,0)+1,FALSE),IF(IFERROR(SEARCH(\"Oil\",$A$18),0)>0,VLOOKUP(\"Oil\",HVACg_Lookup,MATCH($F$16,BuildingSize,0)+1,FALSE),IF(IFERROR(SEARCH(\"Propane\",$A$18),0)>0,VLOOKUP(\"Propane\",HVACg_Lookup,MATCH(Worksheet!$F$16,BuildingSize,0)+1,FALSE),0)))","v":0},{"$f":"Z243/1000*AA243*AC243*IF(IFERROR(SEARCH(\"Gas\",$A$18),0)>0,VLOOKUP(\"Gas\",HVACg_Lookup,MATCH($F$16,BuildingSize,0)+1,FALSE),IF(IFERROR(SEARCH(\"Oil\",$A$18),0)>0,VLOOKUP(\"Oil\",HVACg_Lookup,MATCH($F$16,BuildingSize,0)+1,FALSE),IF(IFERROR(SEARCH(\"Propane\",$A$18),0)>0,VLOOKUP(\"Propane\",HVACg_Lookup,MATCH(Worksheet!$F$16,BuildingSize,0)+1,FALSE),0)))","v":0},0,0,"",""]
[null,null,"",null,null,null,null,null,null,null,null,null,null,null,null,0,0,0,0,"",0,0,0,0,0,0,0,0,0,0,0,0,0,0,0,0,0,{"$f":"Y244/1000*AA244*AC244*IF(IFERROR(SEARCH(\"Gas\",$A$18),0)>0,VLOOKUP(\"Gas\",HVACg_Lookup,MATCH($F$16,BuildingSize,0)+1,FALSE),IF(IFERROR(SEARCH(\"Oil\",$A$18),0)>0,VLOOKUP(\"Oil\",HVACg_Lookup,MATCH($F$16,BuildingSize,0)+1,FALSE),IF(IFERROR(SEARCH(\"Propane\",$A$18),0)>0,VLOOKUP(\"Propane\",HVACg_Lookup,MATCH(Worksheet!$F$16,BuildingSize,0)+1,FALSE),0)))","v":0},{"$f":"Z244/1000*AA244*AC244*IF(IFERROR(SEARCH(\"Gas\",$A$18),0)>0,VLOOKUP(\"Gas\",HVACg_Lookup,MATCH($F$16,BuildingSize,0)+1,FALSE),IF(IFERROR(SEARCH(\"Oil\",$A$18),0)>0,VLOOKUP(\"Oil\",HVACg_Lookup,MATCH($F$16,BuildingSize,0)+1,FALSE),IF(IFERROR(SEARCH(\"Propane\",$A$18),0)>0,VLOOKUP(\"Propane\",HVACg_Lookup,MATCH(Worksheet!$F$16,BuildingSize,0)+1,FALSE),0)))","v":0},0,0,"",""]
[null,null,"",null,null,null,null,null,null,null,null,null,null,null,null,0,0,0,0,"",0,0,0,0,0,0,0,0,0,0,0,0,0,0,0,0,0,{"$f":"Y245/1000*AA245*AC245*IF(IFERROR(SEARCH(\"Gas\",$A$18),0)>0,VLOOKUP(\"Gas\",HVACg_Lookup,MATCH($F$16,BuildingSize,0)+1,FALSE),IF(IFERROR(SEARCH(\"Oil\",$A$18),0)>0,VLOOKUP(\"Oil\",HVACg_Lookup,MATCH($F$16,BuildingSize,0)+1,FALSE),IF(IFERROR(SEARCH(\"Propane\",$A$18),0)>0,VLOOKUP(\"Propane\",HVACg_Lookup,MATCH(Worksheet!$F$16,BuildingSize,0)+1,FALSE),0)))","v":0},{"$f":"Z245/1000*AA245*AC245*IF(IFERROR(SEARCH(\"Gas\",$A$18),0)>0,VLOOKUP(\"Gas\",HVACg_Lookup,MATCH($F$16,BuildingSize,0)+1,FALSE),IF(IFERROR(SEARCH(\"Oil\",$A$18),0)>0,VLOOKUP(\"Oil\",HVACg_Lookup,MATCH($F$16,BuildingSize,0)+1,FALSE),IF(IFERROR(SEARCH(\"Propane\",$A$18),0)>0,VLOOKUP(\"Propane\",HVACg_Lookup,MATCH(Worksheet!$F$16,BuildingSize,0)+1,FALSE),0)))","v":0},0,0,"",""]
[null,null,"",null,null,null,null,null,null,null,null,null,null,null,null,0,0,0,0,"",0,0,0,0,0,0,0,0,0,0,0,0,0,0,0,0,0,{"$f":"Y246/1000*AA246*AC246*IF(IFERROR(SEARCH(\"Gas\",$A$18),0)>0,VLOOKUP(\"Gas\",HVACg_Lookup,MATCH($F$16,BuildingSize,0)+1,FALSE),IF(IFERROR(SEARCH(\"Oil\",$A$18),0)>0,VLOOKUP(\"Oil\",HVACg_Lookup,MATCH($F$16,BuildingSize,0)+1,FALSE),IF(IFERROR(SEARCH(\"Propane\",$A$18),0)>0,VLOOKUP(\"Propane\",HVACg_Lookup,MATCH(Worksheet!$F$16,BuildingSize,0)+1,FALSE),0)))","v":0},{"$f":"Z246/1000*AA246*AC246*IF(IFERROR(SEARCH(\"Gas\",$A$18),0)>0,VLOOKUP(\"Gas\",HVACg_Lookup,MATCH($F$16,BuildingSize,0)+1,FALSE),IF(IFERROR(SEARCH(\"Oil\",$A$18),0)>0,VLOOKUP(\"Oil\",HVACg_Lookup,MATCH($F$16,BuildingSize,0)+1,FALSE),IF(IFERROR(SEARCH(\"Propane\",$A$18),0)>0,VLOOKUP(\"Propane\",HVACg_Lookup,MATCH(Worksheet!$F$16,BuildingSize,0)+1,FALSE),0)))","v":0},0,0,"",""]
[null,null,"",null,null,null,null,null,null,null,null,null,null,null,null,0,0,0,0,"",0,0,0,0,0,0,0,0,0,0,0,0,0,0,0,0,0,{"$f":"Y247/1000*AA247*AC247*IF(IFERROR(SEARCH(\"Gas\",$A$18),0)>0,VLOOKUP(\"Gas\",HVACg_Lookup,MATCH($F$16,BuildingSize,0)+1,FALSE),IF(IFERROR(SEARCH(\"Oil\",$A$18),0)>0,VLOOKUP(\"Oil\",HVACg_Lookup,MATCH($F$16,BuildingSize,0)+1,FALSE),IF(IFERROR(SEARCH(\"Propane\",$A$18),0)>0,VLOOKUP(\"Propane\",HVACg_Lookup,MATCH(Worksheet!$F$16,BuildingSize,0)+1,FALSE),0)))","v":0},{"$f":"Z247/1000*AA247*AC247*IF(IFERROR(SEARCH(\"Gas\",$A$18),0)>0,VLOOKUP(\"Gas\",HVACg_Lookup,MATCH($F$16,BuildingSize,0)+1,FALSE),IF(IFERROR(SEARCH(\"Oil\",$A$18),0)>0,VLOOKUP(\"Oil\",HVACg_Lookup,MATCH($F$16,BuildingSize,0)+1,FALSE),IF(IFERROR(SEARCH(\"Propane\",$A$18),0)>0,VLOOKUP(\"Propane\",HVACg_Lookup,MATCH(Worksheet!$F$16,BuildingSize,0)+1,FALSE),0)))","v":0},0,0,"",""]
[null,null,"",null,null,null,null,null,null,null,null,null,null,null,null,0,0,0,0,"",0,0,0,0,0,0,0,0,0,0,0,0,0,0,0,0,0,{"$f":"Y248/1000*AA248*AC248*IF(IFERROR(SEARCH(\"Gas\",$A$18),0)>0,VLOOKUP(\"Gas\",HVACg_Lookup,MATCH($F$16,BuildingSize,0)+1,FALSE),IF(IFERROR(SEARCH(\"Oil\",$A$18),0)>0,VLOOKUP(\"Oil\",HVACg_Lookup,MATCH($F$16,BuildingSize,0)+1,FALSE),IF(IFERROR(SEARCH(\"Propane\",$A$18),0)>0,VLOOKUP(\"Propane\",HVACg_Lookup,MATCH(Worksheet!$F$16,BuildingSize,0)+1,FALSE),0)))","v":0},{"$f":"Z248/1000*AA248*AC248*IF(IFERROR(SEARCH(\"Gas\",$A$18),0)>0,VLOOKUP(\"Gas\",HVACg_Lookup,MATCH($F$16,BuildingSize,0)+1,FALSE),IF(IFERROR(SEARCH(\"Oil\",$A$18),0)>0,VLOOKUP(\"Oil\",HVACg_Lookup,MATCH($F$16,BuildingSize,0)+1,FALSE),IF(IFERROR(SEARCH(\"Propane\",$A$18),0)>0,VLOOKUP(\"Propane\",HVACg_Lookup,MATCH(Worksheet!$F$16,BuildingSize,0)+1,FALSE),0)))","v":0},0,0,"",""]
[null,null,"",null,null,null,null,null,null,null,null,null,null,null,null,0,0,0,0,"",0,0,0,0,0,0,0,0,0,0,0,0,0,0,0,0,0,{"$f":"Y249/1000*AA249*AC249*IF(IFERROR(SEARCH(\"Gas\",$A$18),0)>0,VLOOKUP(\"Gas\",HVACg_Lookup,MATCH($F$16,BuildingSize,0)+1,FALSE),IF(IFERROR(SEARCH(\"Oil\",$A$18),0)>0,VLOOKUP(\"Oil\",HVACg_Lookup,MATCH($F$16,BuildingSize,0)+1,FALSE),IF(IFERROR(SEARCH(\"Propane\",$A$18),0)>0,VLOOKUP(\"Propane\",HVACg_Lookup,MATCH(Worksheet!$F$16,BuildingSize,0)+1,FALSE),0)))","v":0},{"$f":"Z249/1000*AA249*AC249*IF(IFERROR(SEARCH(\"Gas\",$A$18),0)>0,VLOOKUP(\"Gas\",HVACg_Lookup,MATCH($F$16,BuildingSize,0)+1,FALSE),IF(IFERROR(SEARCH(\"Oil\",$A$18),0)>0,VLOOKUP(\"Oil\",HVACg_Lookup,MATCH($F$16,BuildingSize,0)+1,FALSE),IF(IFERROR(SEARCH(\"Propane\",$A$18),0)>0,VLOOKUP(\"Propane\",HVACg_Lookup,MATCH(Worksheet!$F$16,BuildingSize,0)+1,FALSE),0)))","v":0},0,0,"",""]
[null,null,"",null,null,null,null,null,null,null,null,null,null,null,null,0,0,0,0,"",0,0,0,0,0,0,0,0,0,0,0,0,0,0,0,0,0,{"$f":"Y250/1000*AA250*AC250*IF(IFERROR(SEARCH(\"Gas\",$A$18),0)>0,VLOOKUP(\"Gas\",HVACg_Lookup,MATCH($F$16,BuildingSize,0)+1,FALSE),IF(IFERROR(SEARCH(\"Oil\",$A$18),0)>0,VLOOKUP(\"Oil\",HVACg_Lookup,MATCH($F$16,BuildingSize,0)+1,FALSE),IF(IFERROR(SEARCH(\"Propane\",$A$18),0)>0,VLOOKUP(\"Propane\",HVACg_Lookup,MATCH(Worksheet!$F$16,BuildingSize,0)+1,FALSE),0)))","v":0},{"$f":"Z250/1000*AA250*AC250*IF(IFERROR(SEARCH(\"Gas\",$A$18),0)>0,VLOOKUP(\"Gas\",HVACg_Lookup,MATCH($F$16,BuildingSize,0)+1,FALSE),IF(IFERROR(SEARCH(\"Oil\",$A$18),0)>0,VLOOKUP(\"Oil\",HVACg_Lookup,MATCH($F$16,BuildingSize,0)+1,FALSE),IF(IFERROR(SEARCH(\"Propane\",$A$18),0)>0,VLOOKUP(\"Propane\",HVACg_Lookup,MATCH(Worksheet!$F$16,BuildingSize,0)+1,FALSE),0)))","v":0},0,0,"",""]
[null,null,"",null,null,null,null,null,null,null,null,null,null,null,null,0,0,0,0,"",0,0,0,0,0,0,0,0,0,0,0,0,0,0,0,0,0,{"$f":"Y251/1000*AA251*AC251*IF(IFERROR(SEARCH(\"Gas\",$A$18),0)>0,VLOOKUP(\"Gas\",HVACg_Lookup,MATCH($F$16,BuildingSize,0)+1,FALSE),IF(IFERROR(SEARCH(\"Oil\",$A$18),0)>0,VLOOKUP(\"Oil\",HVACg_Lookup,MATCH($F$16,BuildingSize,0)+1,FALSE),IF(IFERROR(SEARCH(\"Propane\",$A$18),0)>0,VLOOKUP(\"Propane\",HVACg_Lookup,MATCH(Worksheet!$F$16,BuildingSize,0)+1,FALSE),0)))","v":0},{"$f":"Z251/1000*AA251*AC251*IF(IFERROR(SEARCH(\"Gas\",$A$18),0)>0,VLOOKUP(\"Gas\",HVACg_Lookup,MATCH($F$16,BuildingSize,0)+1,FALSE),IF(IFERROR(SEARCH(\"Oil\",$A$18),0)>0,VLOOKUP(\"Oil\",HVACg_Lookup,MATCH($F$16,BuildingSize,0)+1,FALSE),IF(IFERROR(SEARCH(\"Propane\",$A$18),0)>0,VLOOKUP(\"Propane\",HVACg_Lookup,MATCH(Worksheet!$F$16,BuildingSize,0)+1,FALSE),0)))","v":0},0,0,"",""]
[null,null,"",null,null,null,null,null,null,null,null,null,null,null,null,0,0,0,0,"",0,0,0,0,0,0,0,0,0,0,0,0,0,0,0,0,0,{"$f":"Y252/1000*AA252*AC252*IF(IFERROR(SEARCH(\"Gas\",$A$18),0)>0,VLOOKUP(\"Gas\",HVACg_Lookup,MATCH($F$16,BuildingSize,0)+1,FALSE),IF(IFERROR(SEARCH(\"Oil\",$A$18),0)>0,VLOOKUP(\"Oil\",HVACg_Lookup,MATCH($F$16,BuildingSize,0)+1,FALSE),IF(IFERROR(SEARCH(\"Propane\",$A$18),0)>0,VLOOKUP(\"Propane\",HVACg_Lookup,MATCH(Worksheet!$F$16,BuildingSize,0)+1,FALSE),0)))","v":0},{"$f":"Z252/1000*AA252*AC252*IF(IFERROR(SEARCH(\"Gas\",$A$18),0)>0,VLOOKUP(\"Gas\",HVACg_Lookup,MATCH($F$16,BuildingSize,0)+1,FALSE),IF(IFERROR(SEARCH(\"Oil\",$A$18),0)>0,VLOOKUP(\"Oil\",HVACg_Lookup,MATCH($F$16,BuildingSize,0)+1,FALSE),IF(IFERROR(SEARCH(\"Propane\",$A$18),0)>0,VLOOKUP(\"Propane\",HVACg_Lookup,MATCH(Worksheet!$F$16,BuildingSize,0)+1,FALSE),0)))","v":0},0,0,"",""]
[null,null,"",null,null,null,null,null,null,null,null,null,null,null,null,0,0,0,0,"",0,0,0,0,0,0,0,0,0,0,0,0,0,0,0,0,0,{"$f":"Y253/1000*AA253*AC253*IF(IFERROR(SEARCH(\"Gas\",$A$18),0)>0,VLOOKUP(\"Gas\",HVACg_Lookup,MATCH($F$16,BuildingSize,0)+1,FALSE),IF(IFERROR(SEARCH(\"Oil\",$A$18),0)>0,VLOOKUP(\"Oil\",HVACg_Lookup,MATCH($F$16,BuildingSize,0)+1,FALSE),IF(IFERROR(SEARCH(\"Propane\",$A$18),0)>0,VLOOKUP(\"Propane\",HVACg_Lookup,MATCH(Worksheet!$F$16,BuildingSize,0)+1,FALSE),0)))","v":0},{"$f":"Z253/1000*AA253*AC253*IF(IFERROR(SEARCH(\"Gas\",$A$18),0)>0,VLOOKUP(\"Gas\",HVACg_Lookup,MATCH($F$16,BuildingSize,0)+1,FALSE),IF(IFERROR(SEARCH(\"Oil\",$A$18),0)>0,VLOOKUP(\"Oil\",HVACg_Lookup,MATCH($F$16,BuildingSize,0)+1,FALSE),IF(IFERROR(SEARCH(\"Propane\",$A$18),0)>0,VLOOKUP(\"Propane\",HVACg_Lookup,MATCH(Worksheet!$F$16,BuildingSize,0)+1,FALSE),0)))","v":0},0,0,"",""]
[null,null,"",null,null,null,null,null,null,null,null,null,null,null,null,0,0,0,0,"",0,0,0,0,0,0,0,0,0,0,0,0,0,0,0,0,0,{"$f":"Y254/1000*AA254*AC254*IF(IFERROR(SEARCH(\"Gas\",$A$18),0)>0,VLOOKUP(\"Gas\",HVACg_Lookup,MATCH($F$16,BuildingSize,0)+1,FALSE),IF(IFERROR(SEARCH(\"Oil\",$A$18),0)>0,VLOOKUP(\"Oil\",HVACg_Lookup,MATCH($F$16,BuildingSize,0)+1,FALSE),IF(IFERROR(SEARCH(\"Propane\",$A$18),0)>0,VLOOKUP(\"Propane\",HVACg_Lookup,MATCH(Worksheet!$F$16,BuildingSize,0)+1,FALSE),0)))","v":0},{"$f":"Z254/1000*AA254*AC254*IF(IFERROR(SEARCH(\"Gas\",$A$18),0)>0,VLOOKUP(\"Gas\",HVACg_Lookup,MATCH($F$16,BuildingSize,0)+1,FALSE),IF(IFERROR(SEARCH(\"Oil\",$A$18),0)>0,VLOOKUP(\"Oil\",HVACg_Lookup,MATCH($F$16,BuildingSize,0)+1,FALSE),IF(IFERROR(SEARCH(\"Propane\",$A$18),0)>0,VLOOKUP(\"Propane\",HVACg_Lookup,MATCH(Worksheet!$F$16,BuildingSize,0)+1,FALSE),0)))","v":0},0,0,"",""]
[null,null,"",null,null,null,null,null,null,null,null,null,null,null,null,0,0,0,0,"",0,0,0,0,0,0,0,0,0,0,0,0,0,0,0,0,0,{"$f":"Y255/1000*AA255*AC255*IF(IFERROR(SEARCH(\"Gas\",$A$18),0)>0,VLOOKUP(\"Gas\",HVACg_Lookup,MATCH($F$16,BuildingSize,0)+1,FALSE),IF(IFERROR(SEARCH(\"Oil\",$A$18),0)>0,VLOOKUP(\"Oil\",HVACg_Lookup,MATCH($F$16,BuildingSize,0)+1,FALSE),IF(IFERROR(SEARCH(\"Propane\",$A$18),0)>0,VLOOKUP(\"Propane\",HVACg_Lookup,MATCH(Worksheet!$F$16,BuildingSize,0)+1,FALSE),0)))","v":0},{"$f":"Z255/1000*AA255*AC255*IF(IFERROR(SEARCH(\"Gas\",$A$18),0)>0,VLOOKUP(\"Gas\",HVACg_Lookup,MATCH($F$16,BuildingSize,0)+1,FALSE),IF(IFERROR(SEARCH(\"Oil\",$A$18),0)>0,VLOOKUP(\"Oil\",HVACg_Lookup,MATCH($F$16,BuildingSize,0)+1,FALSE),IF(IFERROR(SEARCH(\"Propane\",$A$18),0)>0,VLOOKUP(\"Propane\",HVACg_Lookup,MATCH(Worksheet!$F$16,BuildingSize,0)+1,FALSE),0)))","v":0},0,0,"",""]
[null,null,"",null,null,null,null,null,null,null,null,null,null,null,null,0,0,0,0,"",0,0,0,0,0,0,0,0,0,0,0,0,0,0,0,0,0,{"$f":"Y256/1000*AA256*AC256*IF(IFERROR(SEARCH(\"Gas\",$A$18),0)>0,VLOOKUP(\"Gas\",HVACg_Lookup,MATCH($F$16,BuildingSize,0)+1,FALSE),IF(IFERROR(SEARCH(\"Oil\",$A$18),0)>0,VLOOKUP(\"Oil\",HVACg_Lookup,MATCH($F$16,BuildingSize,0)+1,FALSE),IF(IFERROR(SEARCH(\"Propane\",$A$18),0)>0,VLOOKUP(\"Propane\",HVACg_Lookup,MATCH(Worksheet!$F$16,BuildingSize,0)+1,FALSE),0)))","v":0},{"$f":"Z256/1000*AA256*AC256*IF(IFERROR(SEARCH(\"Gas\",$A$18),0)>0,VLOOKUP(\"Gas\",HVACg_Lookup,MATCH($F$16,BuildingSize,0)+1,FALSE),IF(IFERROR(SEARCH(\"Oil\",$A$18),0)>0,VLOOKUP(\"Oil\",HVACg_Lookup,MATCH($F$16,BuildingSize,0)+1,FALSE),IF(IFERROR(SEARCH(\"Propane\",$A$18),0)>0,VLOOKUP(\"Propane\",HVACg_Lookup,MATCH(Worksheet!$F$16,BuildingSize,0)+1,FALSE),0)))","v":0},0,0,"",""]
[null,null,"",null,null,null,null,null,null,null,null,null,null,null,null,0,0,0,0,"",0,0,0,0,0,0,0,0,0,0,0,0,0,0,0,0,0,{"$f":"Y257/1000*AA257*AC257*IF(IFERROR(SEARCH(\"Gas\",$A$18),0)>0,VLOOKUP(\"Gas\",HVACg_Lookup,MATCH($F$16,BuildingSize,0)+1,FALSE),IF(IFERROR(SEARCH(\"Oil\",$A$18),0)>0,VLOOKUP(\"Oil\",HVACg_Lookup,MATCH($F$16,BuildingSize,0)+1,FALSE),IF(IFERROR(SEARCH(\"Propane\",$A$18),0)>0,VLOOKUP(\"Propane\",HVACg_Lookup,MATCH(Worksheet!$F$16,BuildingSize,0)+1,FALSE),0)))","v":0},{"$f":"Z257/1000*AA257*AC257*IF(IFERROR(SEARCH(\"Gas\",$A$18),0)>0,VLOOKUP(\"Gas\",HVACg_Lookup,MATCH($F$16,BuildingSize,0)+1,FALSE),IF(IFERROR(SEARCH(\"Oil\",$A$18),0)>0,VLOOKUP(\"Oil\",HVACg_Lookup,MATCH($F$16,BuildingSize,0)+1,FALSE),IF(IFERROR(SEARCH(\"Propane\",$A$18),0)>0,VLOOKUP(\"Propane\",HVACg_Lookup,MATCH(Worksheet!$F$16,BuildingSize,0)+1,FALSE),0)))","v":0},0,0,"",""]
[null,null,"",null,null,null,null,null,null,null,null,null,null,null,null,0,0,0,0,"",0,0,0,0,0,0,0,0,0,0,0,0,0,0,0,0,0,{"$f":"Y258/1000*AA258*AC258*IF(IFERROR(SEARCH(\"Gas\",$A$18),0)>0,VLOOKUP(\"Gas\",HVACg_Lookup,MATCH($F$16,BuildingSize,0)+1,FALSE),IF(IFERROR(SEARCH(\"Oil\",$A$18),0)>0,VLOOKUP(\"Oil\",HVACg_Lookup,MATCH($F$16,BuildingSize,0)+1,FALSE),IF(IFERROR(SEARCH(\"Propane\",$A$18),0)>0,VLOOKUP(\"Propane\",HVACg_Lookup,MATCH(Worksheet!$F$16,BuildingSize,0)+1,FALSE),0)))","v":0},{"$f":"Z258/1000*AA258*AC258*IF(IFERROR(SEARCH(\"Gas\",$A$18),0)>0,VLOOKUP(\"Gas\",HVACg_Lookup,MATCH($F$16,BuildingSize,0)+1,FALSE),IF(IFERROR(SEARCH(\"Oil\",$A$18),0)>0,VLOOKUP(\"Oil\",HVACg_Lookup,MATCH($F$16,BuildingSize,0)+1,FALSE),IF(IFERROR(SEARCH(\"Propane\",$A$18),0)>0,VLOOKUP(\"Propane\",HVACg_Lookup,MATCH(Worksheet!$F$16,BuildingSize,0)+1,FALSE),0)))","v":0},0,0,"",""]
[null,null,"",null,null,null,null,null,null,null,null,null,null,null,null,0,0,0,0,"",0,0,0,0,0,0,0,0,0,0,0,0,0,0,0,0,0,{"$f":"Y259/1000*AA259*AC259*IF(IFERROR(SEARCH(\"Gas\",$A$18),0)>0,VLOOKUP(\"Gas\",HVACg_Lookup,MATCH($F$16,BuildingSize,0)+1,FALSE),IF(IFERROR(SEARCH(\"Oil\",$A$18),0)>0,VLOOKUP(\"Oil\",HVACg_Lookup,MATCH($F$16,BuildingSize,0)+1,FALSE),IF(IFERROR(SEARCH(\"Propane\",$A$18),0)>0,VLOOKUP(\"Propane\",HVACg_Lookup,MATCH(Worksheet!$F$16,BuildingSize,0)+1,FALSE),0)))","v":0},{"$f":"Z259/1000*AA259*AC259*IF(IFERROR(SEARCH(\"Gas\",$A$18),0)>0,VLOOKUP(\"Gas\",HVACg_Lookup,MATCH($F$16,BuildingSize,0)+1,FALSE),IF(IFERROR(SEARCH(\"Oil\",$A$18),0)>0,VLOOKUP(\"Oil\",HVACg_Lookup,MATCH($F$16,BuildingSize,0)+1,FALSE),IF(IFERROR(SEARCH(\"Propane\",$A$18),0)>0,VLOOKUP(\"Propane\",HVACg_Lookup,MATCH(Worksheet!$F$16,BuildingSize,0)+1,FALSE),0)))","v":0},0,0,"",""]
[null,null,"",null,null,null,null,null,null,null,null,null,null,null,null,0,0,0,0,"",0,0,0,0,0,0,0,0,0,0,0,0,0,0,0,0,0,{"$f":"Y260/1000*AA260*AC260*IF(IFERROR(SEARCH(\"Gas\",$A$18),0)>0,VLOOKUP(\"Gas\",HVACg_Lookup,MATCH($F$16,BuildingSize,0)+1,FALSE),IF(IFERROR(SEARCH(\"Oil\",$A$18),0)>0,VLOOKUP(\"Oil\",HVACg_Lookup,MATCH($F$16,BuildingSize,0)+1,FALSE),IF(IFERROR(SEARCH(\"Propane\",$A$18),0)>0,VLOOKUP(\"Propane\",HVACg_Lookup,MATCH(Worksheet!$F$16,BuildingSize,0)+1,FALSE),0)))","v":0},{"$f":"Z260/1000*AA260*AC260*IF(IFERROR(SEARCH(\"Gas\",$A$18),0)>0,VLOOKUP(\"Gas\",HVACg_Lookup,MATCH($F$16,BuildingSize,0)+1,FALSE),IF(IFERROR(SEARCH(\"Oil\",$A$18),0)>0,VLOOKUP(\"Oil\",HVACg_Lookup,MATCH($F$16,BuildingSize,0)+1,FALSE),IF(IFERROR(SEARCH(\"Propane\",$A$18),0)>0,VLOOKUP(\"Propane\",HVACg_Lookup,MATCH(Worksheet!$F$16,BuildingSize,0)+1,FALSE),0)))","v":0},0,0,"",""]
[null,null,"",null,null,null,null,null,null,null,null,null,null,null,null,0,0,0,0,"",0,0,0,0,0,0,0,0,0,0,0,0,0,0,0,0,0,{"$f":"Y261/1000*AA261*AC261*IF(IFERROR(SEARCH(\"Gas\",$A$18),0)>0,VLOOKUP(\"Gas\",HVACg_Lookup,MATCH($F$16,BuildingSize,0)+1,FALSE),IF(IFERROR(SEARCH(\"Oil\",$A$18),0)>0,VLOOKUP(\"Oil\",HVACg_Lookup,MATCH($F$16,BuildingSize,0)+1,FALSE),IF(IFERROR(SEARCH(\"Propane\",$A$18),0)>0,VLOOKUP(\"Propane\",HVACg_Lookup,MATCH(Worksheet!$F$16,BuildingSize,0)+1,FALSE),0)))","v":0},{"$f":"Z261/1000*AA261*AC261*IF(IFERROR(SEARCH(\"Gas\",$A$18),0)>0,VLOOKUP(\"Gas\",HVACg_Lookup,MATCH($F$16,BuildingSize,0)+1,FALSE),IF(IFERROR(SEARCH(\"Oil\",$A$18),0)>0,VLOOKUP(\"Oil\",HVACg_Lookup,MATCH($F$16,BuildingSize,0)+1,FALSE),IF(IFERROR(SEARCH(\"Propane\",$A$18),0)>0,VLOOKUP(\"Propane\",HVACg_Lookup,MATCH(Worksheet!$F$16,BuildingSize,0)+1,FALSE),0)))","v":0},0,0,"",""]
[null,null,"",null,null,null,null,null,null,null,null,null,null,null,null,0,0,0,0,"",0,0,0,0,0,0,0,0,0,0,0,0,0,0,0,0,0,{"$f":"Y262/1000*AA262*AC262*IF(IFERROR(SEARCH(\"Gas\",$A$18),0)>0,VLOOKUP(\"Gas\",HVACg_Lookup,MATCH($F$16,BuildingSize,0)+1,FALSE),IF(IFERROR(SEARCH(\"Oil\",$A$18),0)>0,VLOOKUP(\"Oil\",HVACg_Lookup,MATCH($F$16,BuildingSize,0)+1,FALSE),IF(IFERROR(SEARCH(\"Propane\",$A$18),0)>0,VLOOKUP(\"Propane\",HVACg_Lookup,MATCH(Worksheet!$F$16,BuildingSize,0)+1,FALSE),0)))","v":0},{"$f":"Z262/1000*AA262*AC262*IF(IFERROR(SEARCH(\"Gas\",$A$18),0)>0,VLOOKUP(\"Gas\",HVACg_Lookup,MATCH($F$16,BuildingSize,0)+1,FALSE),IF(IFERROR(SEARCH(\"Oil\",$A$18),0)>0,VLOOKUP(\"Oil\",HVACg_Lookup,MATCH($F$16,BuildingSize,0)+1,FALSE),IF(IFERROR(SEARCH(\"Propane\",$A$18),0)>0,VLOOKUP(\"Propane\",HVACg_Lookup,MATCH(Worksheet!$F$16,BuildingSize,0)+1,FALSE),0)))","v":0},0,0,"",""]
[null,null,"",null,null,null,null,null,null,null,null,null,null,null,null,0,0,0,0,"",0,0,0,0,0,0,0,0,0,0,0,0,0,0,0,0,0,{"$f":"Y263/1000*AA263*AC263*IF(IFERROR(SEARCH(\"Gas\",$A$18),0)>0,VLOOKUP(\"Gas\",HVACg_Lookup,MATCH($F$16,BuildingSize,0)+1,FALSE),IF(IFERROR(SEARCH(\"Oil\",$A$18),0)>0,VLOOKUP(\"Oil\",HVACg_Lookup,MATCH($F$16,BuildingSize,0)+1,FALSE),IF(IFERROR(SEARCH(\"Propane\",$A$18),0)>0,VLOOKUP(\"Propane\",HVACg_Lookup,MATCH(Worksheet!$F$16,BuildingSize,0)+1,FALSE),0)))","v":0},{"$f":"Z263/1000*AA263*AC263*IF(IFERROR(SEARCH(\"Gas\",$A$18),0)>0,VLOOKUP(\"Gas\",HVACg_Lookup,MATCH($F$16,BuildingSize,0)+1,FALSE),IF(IFERROR(SEARCH(\"Oil\",$A$18),0)>0,VLOOKUP(\"Oil\",HVACg_Lookup,MATCH($F$16,BuildingSize,0)+1,FALSE),IF(IFERROR(SEARCH(\"Propane\",$A$18),0)>0,VLOOKUP(\"Propane\",HVACg_Lookup,MATCH(Worksheet!$F$16,BuildingSize,0)+1,FALSE),0)))","v":0},0,0,"",""]
[null,null,"",null,null,null,null,null,null,null,null,null,null,null,null,0,0,0,0,"",0,0,0,0,0,0,0,0,0,0,0,0,0,0,0,0,0,{"$f":"Y264/1000*AA264*AC264*IF(IFERROR(SEARCH(\"Gas\",$A$18),0)>0,VLOOKUP(\"Gas\",HVACg_Lookup,MATCH($F$16,BuildingSize,0)+1,FALSE),IF(IFERROR(SEARCH(\"Oil\",$A$18),0)>0,VLOOKUP(\"Oil\",HVACg_Lookup,MATCH($F$16,BuildingSize,0)+1,FALSE),IF(IFERROR(SEARCH(\"Propane\",$A$18),0)>0,VLOOKUP(\"Propane\",HVACg_Lookup,MATCH(Worksheet!$F$16,BuildingSize,0)+1,FALSE),0)))","v":0},{"$f":"Z264/1000*AA264*AC264*IF(IFERROR(SEARCH(\"Gas\",$A$18),0)>0,VLOOKUP(\"Gas\",HVACg_Lookup,MATCH($F$16,BuildingSize,0)+1,FALSE),IF(IFERROR(SEARCH(\"Oil\",$A$18),0)>0,VLOOKUP(\"Oil\",HVACg_Lookup,MATCH($F$16,BuildingSize,0)+1,FALSE),IF(IFERROR(SEARCH(\"Propane\",$A$18),0)>0,VLOOKUP(\"Propane\",HVACg_Lookup,MATCH(Worksheet!$F$16,BuildingSize,0)+1,FALSE),0)))","v":0},0,0,"",""]
[null,null,"",null,null,null,null,null,null,null,null,null,null,null,null,0,0,0,0,"",0,0,0,0,0,0,0,0,0,0,0,0,0,0,0,0,0,{"$f":"Y265/1000*AA265*AC265*IF(IFERROR(SEARCH(\"Gas\",$A$18),0)>0,VLOOKUP(\"Gas\",HVACg_Lookup,MATCH($F$16,BuildingSize,0)+1,FALSE),IF(IFERROR(SEARCH(\"Oil\",$A$18),0)>0,VLOOKUP(\"Oil\",HVACg_Lookup,MATCH($F$16,BuildingSize,0)+1,FALSE),IF(IFERROR(SEARCH(\"Propane\",$A$18),0)>0,VLOOKUP(\"Propane\",HVACg_Lookup,MATCH(Worksheet!$F$16,BuildingSize,0)+1,FALSE),0)))","v":0},{"$f":"Z265/1000*AA265*AC265*IF(IFERROR(SEARCH(\"Gas\",$A$18),0)>0,VLOOKUP(\"Gas\",HVACg_Lookup,MATCH($F$16,BuildingSize,0)+1,FALSE),IF(IFERROR(SEARCH(\"Oil\",$A$18),0)>0,VLOOKUP(\"Oil\",HVACg_Lookup,MATCH($F$16,BuildingSize,0)+1,FALSE),IF(IFERROR(SEARCH(\"Propane\",$A$18),0)>0,VLOOKUP(\"Propane\",HVACg_Lookup,MATCH(Worksheet!$F$16,BuildingSize,0)+1,FALSE),0)))","v":0},0,0,"",""]
[null,null,"",null,null,null,null,null,null,null,null,null,null,null,null,0,0,0,0,"",0,0,0,0,0,0,0,0,0,0,0,0,0,0,0,0,0,{"$f":"Y266/1000*AA266*AC266*IF(IFERROR(SEARCH(\"Gas\",$A$18),0)>0,VLOOKUP(\"Gas\",HVACg_Lookup,MATCH($F$16,BuildingSize,0)+1,FALSE),IF(IFERROR(SEARCH(\"Oil\",$A$18),0)>0,VLOOKUP(\"Oil\",HVACg_Lookup,MATCH($F$16,BuildingSize,0)+1,FALSE),IF(IFERROR(SEARCH(\"Propane\",$A$18),0)>0,VLOOKUP(\"Propane\",HVACg_Lookup,MATCH(Worksheet!$F$16,BuildingSize,0)+1,FALSE),0)))","v":0},{"$f":"Z266/1000*AA266*AC266*IF(IFERROR(SEARCH(\"Gas\",$A$18),0)>0,VLOOKUP(\"Gas\",HVACg_Lookup,MATCH($F$16,BuildingSize,0)+1,FALSE),IF(IFERROR(SEARCH(\"Oil\",$A$18),0)>0,VLOOKUP(\"Oil\",HVACg_Lookup,MATCH($F$16,BuildingSize,0)+1,FALSE),IF(IFERROR(SEARCH(\"Propane\",$A$18),0)>0,VLOOKUP(\"Propane\",HVACg_Lookup,MATCH(Worksheet!$F$16,BuildingSize,0)+1,FALSE),0)))","v":0},0,0,"",""]
[null,null,"",null,null,null,null,null,null,null,null,null,null,null,null,0,0,0,0,"",0,0,0,0,0,0,0,0,0,0,0,0,0,0,0,0,0,{"$f":"Y267/1000*AA267*AC267*IF(IFERROR(SEARCH(\"Gas\",$A$18),0)>0,VLOOKUP(\"Gas\",HVACg_Lookup,MATCH($F$16,BuildingSize,0)+1,FALSE),IF(IFERROR(SEARCH(\"Oil\",$A$18),0)>0,VLOOKUP(\"Oil\",HVACg_Lookup,MATCH($F$16,BuildingSize,0)+1,FALSE),IF(IFERROR(SEARCH(\"Propane\",$A$18),0)>0,VLOOKUP(\"Propane\",HVACg_Lookup,MATCH(Worksheet!$F$16,BuildingSize,0)+1,FALSE),0)))","v":0},{"$f":"Z267/1000*AA267*AC267*IF(IFERROR(SEARCH(\"Gas\",$A$18),0)>0,VLOOKUP(\"Gas\",HVACg_Lookup,MATCH($F$16,BuildingSize,0)+1,FALSE),IF(IFERROR(SEARCH(\"Oil\",$A$18),0)>0,VLOOKUP(\"Oil\",HVACg_Lookup,MATCH($F$16,BuildingSize,0)+1,FALSE),IF(IFERROR(SEARCH(\"Propane\",$A$18),0)>0,VLOOKUP(\"Propane\",HVACg_Lookup,MATCH(Worksheet!$F$16,BuildingSize,0)+1,FALSE),0)))","v":0},0,0,"",""]
[null,null,"",null,null,null,null,null,null,null,null,null,null,null,null,0,0,0,0,"",0,0,0,0,0,0,0,0,0,0,0,0,0,0,0,0,0,{"$f":"Y268/1000*AA268*AC268*IF(IFERROR(SEARCH(\"Gas\",$A$18),0)>0,VLOOKUP(\"Gas\",HVACg_Lookup,MATCH($F$16,BuildingSize,0)+1,FALSE),IF(IFERROR(SEARCH(\"Oil\",$A$18),0)>0,VLOOKUP(\"Oil\",HVACg_Lookup,MATCH($F$16,BuildingSize,0)+1,FALSE),IF(IFERROR(SEARCH(\"Propane\",$A$18),0)>0,VLOOKUP(\"Propane\",HVACg_Lookup,MATCH(Worksheet!$F$16,BuildingSize,0)+1,FALSE),0)))","v":0},{"$f":"Z268/1000*AA268*AC268*IF(IFERROR(SEARCH(\"Gas\",$A$18),0)>0,VLOOKUP(\"Gas\",HVACg_Lookup,MATCH($F$16,BuildingSize,0)+1,FALSE),IF(IFERROR(SEARCH(\"Oil\",$A$18),0)>0,VLOOKUP(\"Oil\",HVACg_Lookup,MATCH($F$16,BuildingSize,0)+1,FALSE),IF(IFERROR(SEARCH(\"Propane\",$A$18),0)>0,VLOOKUP(\"Propane\",HVACg_Lookup,MATCH(Worksheet!$F$16,BuildingSize,0)+1,FALSE),0)))","v":0},0,0,"",""]
[null,null,"",null,null,null,null,null,null,null,null,null,null,null,null,0,0,0,0,"",0,0,0,0,0,0,0,0,0,0,0,0,0,0,0,0,0,{"$f":"Y269/1000*AA269*AC269*IF(IFERROR(SEARCH(\"Gas\",$A$18),0)>0,VLOOKUP(\"Gas\",HVACg_Lookup,MATCH($F$16,BuildingSize,0)+1,FALSE),IF(IFERROR(SEARCH(\"Oil\",$A$18),0)>0,VLOOKUP(\"Oil\",HVACg_Lookup,MATCH($F$16,BuildingSize,0)+1,FALSE),IF(IFERROR(SEARCH(\"Propane\",$A$18),0)>0,VLOOKUP(\"Propane\",HVACg_Lookup,MATCH(Worksheet!$F$16,BuildingSize,0)+1,FALSE),0)))","v":0},{"$f":"Z269/1000*AA269*AC269*IF(IFERROR(SEARCH(\"Gas\",$A$18),0)>0,VLOOKUP(\"Gas\",HVACg_Lookup,MATCH($F$16,BuildingSize,0)+1,FALSE),IF(IFERROR(SEARCH(\"Oil\",$A$18),0)>0,VLOOKUP(\"Oil\",HVACg_Lookup,MATCH($F$16,BuildingSize,0)+1,FALSE),IF(IFERROR(SEARCH(\"Propane\",$A$18),0)>0,VLOOKUP(\"Propane\",HVACg_Lookup,MATCH(Worksheet!$F$16,BuildingSize,0)+1,FALSE),0)))","v":0},0,0,"",""]
[null,null,"",null,null,null,null,null,null,null,null,null,null,null,null,0,0,0,0,"",0,0,0,0,0,0,0,0,0,0,0,0,0,0,0,0,0,{"$f":"Y270/1000*AA270*AC270*IF(IFERROR(SEARCH(\"Gas\",$A$18),0)>0,VLOOKUP(\"Gas\",HVACg_Lookup,MATCH($F$16,BuildingSize,0)+1,FALSE),IF(IFERROR(SEARCH(\"Oil\",$A$18),0)>0,VLOOKUP(\"Oil\",HVACg_Lookup,MATCH($F$16,BuildingSize,0)+1,FALSE),IF(IFERROR(SEARCH(\"Propane\",$A$18),0)>0,VLOOKUP(\"Propane\",HVACg_Lookup,MATCH(Worksheet!$F$16,BuildingSize,0)+1,FALSE),0)))","v":0},{"$f":"Z270/1000*AA270*AC270*IF(IFERROR(SEARCH(\"Gas\",$A$18),0)>0,VLOOKUP(\"Gas\",HVACg_Lookup,MATCH($F$16,BuildingSize,0)+1,FALSE),IF(IFERROR(SEARCH(\"Oil\",$A$18),0)>0,VLOOKUP(\"Oil\",HVACg_Lookup,MATCH($F$16,BuildingSize,0)+1,FALSE),IF(IFERROR(SEARCH(\"Propane\",$A$18),0)>0,VLOOKUP(\"Propane\",HVACg_Lookup,MATCH(Worksheet!$F$16,BuildingSize,0)+1,FALSE),0)))","v":0},0,0,"",""]
[null,null,"",null,null,null,null,null,null,null,null,null,null,null,null,0,0,0,0,"",0,0,0,0,0,0,0,0,0,0,0,0,0,0,0,0,0,{"$f":"Y271/1000*AA271*AC271*IF(IFERROR(SEARCH(\"Gas\",$A$18),0)>0,VLOOKUP(\"Gas\",HVACg_Lookup,MATCH($F$16,BuildingSize,0)+1,FALSE),IF(IFERROR(SEARCH(\"Oil\",$A$18),0)>0,VLOOKUP(\"Oil\",HVACg_Lookup,MATCH($F$16,BuildingSize,0)+1,FALSE),IF(IFERROR(SEARCH(\"Propane\",$A$18),0)>0,VLOOKUP(\"Propane\",HVACg_Lookup,MATCH(Worksheet!$F$16,BuildingSize,0)+1,FALSE),0)))","v":0},{"$f":"Z271/1000*AA271*AC271*IF(IFERROR(SEARCH(\"Gas\",$A$18),0)>0,VLOOKUP(\"Gas\",HVACg_Lookup,MATCH($F$16,BuildingSize,0)+1,FALSE),IF(IFERROR(SEARCH(\"Oil\",$A$18),0)>0,VLOOKUP(\"Oil\",HVACg_Lookup,MATCH($F$16,BuildingSize,0)+1,FALSE),IF(IFERROR(SEARCH(\"Propane\",$A$18),0)>0,VLOOKUP(\"Propane\",HVACg_Lookup,MATCH(Worksheet!$F$16,BuildingSize,0)+1,FALSE),0)))","v":0},0,0,"",""]
[null,null,"",null,null,null,null,null,null,null,null,null,null,null,null,0,0,0,0,"",0,0,0,0,0,0,0,0,0,0,0,0,0,0,0,0,0,{"$f":"Y272/1000*AA272*AC272*IF(IFERROR(SEARCH(\"Gas\",$A$18),0)>0,VLOOKUP(\"Gas\",HVACg_Lookup,MATCH($F$16,BuildingSize,0)+1,FALSE),IF(IFERROR(SEARCH(\"Oil\",$A$18),0)>0,VLOOKUP(\"Oil\",HVACg_Lookup,MATCH($F$16,BuildingSize,0)+1,FALSE),IF(IFERROR(SEARCH(\"Propane\",$A$18),0)>0,VLOOKUP(\"Propane\",HVACg_Lookup,MATCH(Worksheet!$F$16,BuildingSize,0)+1,FALSE),0)))","v":0},{"$f":"Z272/1000*AA272*AC272*IF(IFERROR(SEARCH(\"Gas\",$A$18),0)>0,VLOOKUP(\"Gas\",HVACg_Lookup,MATCH($F$16,BuildingSize,0)+1,FALSE),IF(IFERROR(SEARCH(\"Oil\",$A$18),0)>0,VLOOKUP(\"Oil\",HVACg_Lookup,MATCH($F$16,BuildingSize,0)+1,FALSE),IF(IFERROR(SEARCH(\"Propane\",$A$18),0)>0,VLOOKUP(\"Propane\",HVACg_Lookup,MATCH(Worksheet!$F$16,BuildingSize,0)+1,FALSE),0)))","v":0},0,0,"",""]
[null,null,"",null,null,null,null,null,null,null,null,null,null,null,null,0,0,0,0,"",0,0,0,0,0,0,0,0,0,0,0,0,0,0,0,0,0,{"$f":"Y273/1000*AA273*AC273*IF(IFERROR(SEARCH(\"Gas\",$A$18),0)>0,VLOOKUP(\"Gas\",HVACg_Lookup,MATCH($F$16,BuildingSize,0)+1,FALSE),IF(IFERROR(SEARCH(\"Oil\",$A$18),0)>0,VLOOKUP(\"Oil\",HVACg_Lookup,MATCH($F$16,BuildingSize,0)+1,FALSE),IF(IFERROR(SEARCH(\"Propane\",$A$18),0)>0,VLOOKUP(\"Propane\",HVACg_Lookup,MATCH(Worksheet!$F$16,BuildingSize,0)+1,FALSE),0)))","v":0},{"$f":"Z273/1000*AA273*AC273*IF(IFERROR(SEARCH(\"Gas\",$A$18),0)>0,VLOOKUP(\"Gas\",HVACg_Lookup,MATCH($F$16,BuildingSize,0)+1,FALSE),IF(IFERROR(SEARCH(\"Oil\",$A$18),0)>0,VLOOKUP(\"Oil\",HVACg_Lookup,MATCH($F$16,BuildingSize,0)+1,FALSE),IF(IFERROR(SEARCH(\"Propane\",$A$18),0)>0,VLOOKUP(\"Propane\",HVACg_Lookup,MATCH(Worksheet!$F$16,BuildingSize,0)+1,FALSE),0)))","v":0},0,0,"",""]
[null,null,"",null,null,null,null,null,null,null,null,null,null,null,null,0,0,0,0,"",0,0,0,0,0,0,0,0,0,0,0,0,0,0,0,0,0,{"$f":"Y274/1000*AA274*AC274*IF(IFERROR(SEARCH(\"Gas\",$A$18),0)>0,VLOOKUP(\"Gas\",HVACg_Lookup,MATCH($F$16,BuildingSize,0)+1,FALSE),IF(IFERROR(SEARCH(\"Oil\",$A$18),0)>0,VLOOKUP(\"Oil\",HVACg_Lookup,MATCH($F$16,BuildingSize,0)+1,FALSE),IF(IFERROR(SEARCH(\"Propane\",$A$18),0)>0,VLOOKUP(\"Propane\",HVACg_Lookup,MATCH(Worksheet!$F$16,BuildingSize,0)+1,FALSE),0)))","v":0},{"$f":"Z274/1000*AA274*AC274*IF(IFERROR(SEARCH(\"Gas\",$A$18),0)>0,VLOOKUP(\"Gas\",HVACg_Lookup,MATCH($F$16,BuildingSize,0)+1,FALSE),IF(IFERROR(SEARCH(\"Oil\",$A$18),0)>0,VLOOKUP(\"Oil\",HVACg_Lookup,MATCH($F$16,BuildingSize,0)+1,FALSE),IF(IFERROR(SEARCH(\"Propane\",$A$18),0)>0,VLOOKUP(\"Propane\",HVACg_Lookup,MATCH(Worksheet!$F$16,BuildingSize,0)+1,FALSE),0)))","v":0},0,0,"",""]
[null,null,"",null,null,null,null,null,null,null,null,null,null,null,null,0,0,0,0,"",0,0,0,0,0,0,0,0,0,0,0,0,0,0,0,0,0,{"$f":"Y275/1000*AA275*AC275*IF(IFERROR(SEARCH(\"Gas\",$A$18),0)>0,VLOOKUP(\"Gas\",HVACg_Lookup,MATCH($F$16,BuildingSize,0)+1,FALSE),IF(IFERROR(SEARCH(\"Oil\",$A$18),0)>0,VLOOKUP(\"Oil\",HVACg_Lookup,MATCH($F$16,BuildingSize,0)+1,FALSE),IF(IFERROR(SEARCH(\"Propane\",$A$18),0)>0,VLOOKUP(\"Propane\",HVACg_Lookup,MATCH(Worksheet!$F$16,BuildingSize,0)+1,FALSE),0)))","v":0},{"$f":"Z275/1000*AA275*AC275*IF(IFERROR(SEARCH(\"Gas\",$A$18),0)>0,VLOOKUP(\"Gas\",HVACg_Lookup,MATCH($F$16,BuildingSize,0)+1,FALSE),IF(IFERROR(SEARCH(\"Oil\",$A$18),0)>0,VLOOKUP(\"Oil\",HVACg_Lookup,MATCH($F$16,BuildingSize,0)+1,FALSE),IF(IFERROR(SEARCH(\"Propane\",$A$18),0)>0,VLOOKUP(\"Propane\",HVACg_Lookup,MATCH(Worksheet!$F$16,BuildingSize,0)+1,FALSE),0)))","v":0},0,0,"",""]
[null,null,"",null,null,null,null,null,null,null,null,null,null,null,null,0,0,0,0,"",0,0,0,0,0,0,0,0,0,0,0,0,0,0,0,0,0,{"$f":"Y276/1000*AA276*AC276*IF(IFERROR(SEARCH(\"Gas\",$A$18),0)>0,VLOOKUP(\"Gas\",HVACg_Lookup,MATCH($F$16,BuildingSize,0)+1,FALSE),IF(IFERROR(SEARCH(\"Oil\",$A$18),0)>0,VLOOKUP(\"Oil\",HVACg_Lookup,MATCH($F$16,BuildingSize,0)+1,FALSE),IF(IFERROR(SEARCH(\"Propane\",$A$18),0)>0,VLOOKUP(\"Propane\",HVACg_Lookup,MATCH(Worksheet!$F$16,BuildingSize,0)+1,FALSE),0)))","v":0},{"$f":"Z276/1000*AA276*AC276*IF(IFERROR(SEARCH(\"Gas\",$A$18),0)>0,VLOOKUP(\"Gas\",HVACg_Lookup,MATCH($F$16,BuildingSize,0)+1,FALSE),IF(IFERROR(SEARCH(\"Oil\",$A$18),0)>0,VLOOKUP(\"Oil\",HVACg_Lookup,MATCH($F$16,BuildingSize,0)+1,FALSE),IF(IFERROR(SEARCH(\"Propane\",$A$18),0)>0,VLOOKUP(\"Propane\",HVACg_Lookup,MATCH(Worksheet!$F$16,BuildingSize,0)+1,FALSE),0)))","v":0},0,0,"",""]
[null,null,"",null,null,null,null,null,null,null,null,null,null,null,null,0,0,0,0,"",0,0,0,0,0,0,0,0,0,0,0,0,0,0,0,0,0,{"$f":"Y277/1000*AA277*AC277*IF(IFERROR(SEARCH(\"Gas\",$A$18),0)>0,VLOOKUP(\"Gas\",HVACg_Lookup,MATCH($F$16,BuildingSize,0)+1,FALSE),IF(IFERROR(SEARCH(\"Oil\",$A$18),0)>0,VLOOKUP(\"Oil\",HVACg_Lookup,MATCH($F$16,BuildingSize,0)+1,FALSE),IF(IFERROR(SEARCH(\"Propane\",$A$18),0)>0,VLOOKUP(\"Propane\",HVACg_Lookup,MATCH(Worksheet!$F$16,BuildingSize,0)+1,FALSE),0)))","v":0},{"$f":"Z277/1000*AA277*AC277*IF(IFERROR(SEARCH(\"Gas\",$A$18),0)>0,VLOOKUP(\"Gas\",HVACg_Lookup,MATCH($F$16,BuildingSize,0)+1,FALSE),IF(IFERROR(SEARCH(\"Oil\",$A$18),0)>0,VLOOKUP(\"Oil\",HVACg_Lookup,MATCH($F$16,BuildingSize,0)+1,FALSE),IF(IFERROR(SEARCH(\"Propane\",$A$18),0)>0,VLOOKUP(\"Propane\",HVACg_Lookup,MATCH(Worksheet!$F$16,BuildingSize,0)+1,FALSE),0)))","v":0},0,0,"",""]
[null,null,"",null,null,null,null,null,null,null,null,null,null,null,null,0,0,0,0,"",0,0,0,0,0,0,0,0,0,0,0,0,0,0,0,0,0,{"$f":"Y278/1000*AA278*AC278*IF(IFERROR(SEARCH(\"Gas\",$A$18),0)>0,VLOOKUP(\"Gas\",HVACg_Lookup,MATCH($F$16,BuildingSize,0)+1,FALSE),IF(IFERROR(SEARCH(\"Oil\",$A$18),0)>0,VLOOKUP(\"Oil\",HVACg_Lookup,MATCH($F$16,BuildingSize,0)+1,FALSE),IF(IFERROR(SEARCH(\"Propane\",$A$18),0)>0,VLOOKUP(\"Propane\",HVACg_Lookup,MATCH(Worksheet!$F$16,BuildingSize,0)+1,FALSE),0)))","v":0},{"$f":"Z278/1000*AA278*AC278*IF(IFERROR(SEARCH(\"Gas\",$A$18),0)>0,VLOOKUP(\"Gas\",HVACg_Lookup,MATCH($F$16,BuildingSize,0)+1,FALSE),IF(IFERROR(SEARCH(\"Oil\",$A$18),0)>0,VLOOKUP(\"Oil\",HVACg_Lookup,MATCH($F$16,BuildingSize,0)+1,FALSE),IF(IFERROR(SEARCH(\"Propane\",$A$18),0)>0,VLOOKUP(\"Propane\",HVACg_Lookup,MATCH(Worksheet!$F$16,BuildingSize,0)+1,FALSE),0)))","v":0},0,0,"",""]
[null,null,"",null,null,null,null,null,null,null,null,null,null,null,null,0,0,0,0,"",0,0,0,0,0,0,0,0,0,0,0,0,0,0,0,0,0,{"$f":"Y279/1000*AA279*AC279*IF(IFERROR(SEARCH(\"Gas\",$A$18),0)>0,VLOOKUP(\"Gas\",HVACg_Lookup,MATCH($F$16,BuildingSize,0)+1,FALSE),IF(IFERROR(SEARCH(\"Oil\",$A$18),0)>0,VLOOKUP(\"Oil\",HVACg_Lookup,MATCH($F$16,BuildingSize,0)+1,FALSE),IF(IFERROR(SEARCH(\"Propane\",$A$18),0)>0,VLOOKUP(\"Propane\",HVACg_Lookup,MATCH(Worksheet!$F$16,BuildingSize,0)+1,FALSE),0)))","v":0},{"$f":"Z279/1000*AA279*AC279*IF(IFERROR(SEARCH(\"Gas\",$A$18),0)>0,VLOOKUP(\"Gas\",HVACg_Lookup,MATCH($F$16,BuildingSize,0)+1,FALSE),IF(IFERROR(SEARCH(\"Oil\",$A$18),0)>0,VLOOKUP(\"Oil\",HVACg_Lookup,MATCH($F$16,BuildingSize,0)+1,FALSE),IF(IFERROR(SEARCH(\"Propane\",$A$18),0)>0,VLOOKUP(\"Propane\",HVACg_Lookup,MATCH(Worksheet!$F$16,BuildingSize,0)+1,FALSE),0)))","v":0},0,0,"",""]
[null,null,"",null,null,null,null,null,null,null,null,null,null,null,null,0,0,{"$f":"IF(AP280=\"\",0,IF(AP280=1,VLOOKUP(A280,MeasureCode_Lookup,3,FALSE),\"DNQ\"))","v":0},{"$f":"IF(AQ280=\"\",0,IF(AQ280=1,VLOOKUP(A280,MeasureCode_Lookup,3,FALSE),\"DNQ\"))","v":0},{"$f":"IF(A280=\"\",\"\",VLOOKUP(A280,MeasureCode_Lookup,4,FALSE))","v":""},0,0,0,0,{"$f":"IF(N(R280)=0,0,F280*P280)","v":0},{"$f":"IF(N(S280)=0,0,G280*Q280)","v":0},{"$f":"IF(A280=\"\",0,VLOOKUP(A280,MeasureCode_Lookup,5,FALSE))","v":0},{"$f":"IF($A$16=\"\",0,VLOOKUP($A$16,BuildingType_Lookup,3,FALSE))","v":0},{"$f":"IF($A$16=\"\",0,VLOOKUP($A$16,BuildingType_Lookup,2,FALSE))","v":0},{"$f":"IF(AND(OR(AP280=\"\",AP280=0)=TRUE,OR(AQ280=\"\",AQ280=0))=TRUE,0,IF(AQ280=\"\",(IF(OR(C280=\"DDC\",C280=\"OHLC\")=TRUE,O280,P280)/1000)*AA280*AB280*(1+VLOOKUP($A$16,BuildingType_Lookup,4,FALSE)),IF(AQ280=0,0,(IF(OR(C280=\"DDC\",C280=\"OHLC\")=TRUE,O280,Q280)/1000)*AA280*AB280*(1+VLOOKUP($A$16,BuildingType_Lookup,4,FALSE)))))","v":0},{"$f":"IF(AND(OR(AP280=\"\",AP280=0)=TRUE,OR(AQ280=\"\",AQ280=0))=TRUE,0,IF(AQ280=\"\",(IF(OR(C280=\"DDC\",C280=\"OHLC\")=TRUE,O280,P280)/1000)*AA280*AC280*(1+VLOOKUP($A$16,BuildingType_Lookup,MATCH($A$18,HVAC,0)+4,FALSE)),IF(AQ280=0,0,(IF(OR(C280=\"DDC\",C280=\"OHLC\")=TRUE,O280,Q280)/1000)*AA280*AC280*(1+VLOOKUP($A$16,BuildingType_Lookup,MATCH($A$18,HVAC,0)+4,FALSE)))))","v":0},{"$f":"IFERROR(IF(OR(C280=\"DDC\",C280=\"OHLC\")=TRUE,F280*J280*AD280,F280*AD280),0)","v":0},{"$f":"IFERROR(IF(OR(C280=\"DDC\",C280=\"OHLC\")=TRUE,G280*K280*AD280,G280*AD280),0)","v":0},{"$f":"IFERROR(IF(OR(C280=\"DDC\",C280=\"OHLC\")=TRUE,F280*J280*AE280,F280*AE280),0)","v":0},{"$f":"IFERROR(IF(OR(C280=\"DDC\",C280=\"OHLC\")=TRUE,G280*K280*AE280,G280*AE280),0)","v":0},0,0,{"$f":"Y280/1000*AA280*AC280*IF(IFERROR(SEARCH(\"Gas\",$A$18),0)>0,VLOOKUP(\"Gas\",HVACg_Lookup,MATCH($F$16,BuildingSize,0)+1,FALSE),IF(IFERROR(SEARCH(\"Oil\",$A$18),0)>0,VLOOKUP(\"Oil\",HVACg_Lookup,MATCH($F$16,BuildingSize,0)+1,FALSE),IF(IFERROR(SEARCH(\"Propane\",$A$18),0)>0,VLOOKUP(\"Propane\",HVACg_Lookup,MATCH(Worksheet!$F$16,BuildingSize,0)+1,FALSE),0)))","v":0},{"$f":"Z280/1000*AA280*AC280*IF(IFERROR(SEARCH(\"Gas\",$A$18),0)>0,VLOOKUP(\"Gas\",HVACg_Lookup,MATCH($F$16,BuildingSize,0)+1,FALSE),IF(IFERROR(SEARCH(\"Oil\",$A$18),0)>0,VLOOKUP(\"Oil\",HVACg_Lookup,MATCH($F$16,BuildingSize,0)+1,FALSE),IF(IFERROR(SEARCH(\"Propane\",$A$18),0)>0,VLOOKUP(\"Propane\",HVACg_Lookup,MATCH(Worksheet!$F$16,BuildingSize,0)+1,FALSE),0)))","v":0},0,0,"",""]
[null,null,{"$f":"IF(A281=\"\",\"\",VLOOKUP(A281,MeasureCode_Lookup,2,FALSE))","v":""},null,null,null,null,null,null,null,null,null,null,null,null,{"$f":"IF(OR(A281=\"\",F281=\"\",J281=\"\",O281=\"\")=TRUE,0,J281*O281)","v":0},{"$f":"IF(OR(A281=\"\",G281=\"\",K281=\"\",O281=\"\")=TRUE,0,K281*O281)","v":0},0,0,"",{"$f":"IF(OR($A$11=TRUE,$A$12=TRUE,$B$11=TRUE,$B$12=TRUE,$C$11=TRUE)=TRUE,R281,0)","v":0},{"$f":"IF(OR($A$11=TRUE,$A$12=TRUE,$B$11=TRUE,$B$12=TRUE,$C$11=TRUE)=TRUE,S281,0)","v":0},{"$f":"IF(N(R281)=0,0,F281*(R281+U281)*IF(T281=\"per Fixture Controlled\",J281,1))","v":0},{"$f":"IF(N(S281)=0,0,G281*(S281+V281)*IF(T281=\"per Fixture Controlled\",K281,1))","v":0},0,0,0,0,0,0,0,0,0,0,0,{"$f":"AH281*8","v":0},{"$f":"AI281*8","v":0},{"$f":"Y281/1000*AA281*AC281*IF(IFERROR(SEARCH(\"Gas\",$A$18),0)>0,VLOOKUP(\"Gas\",HVACg_Lookup,MATCH($F$16,BuildingSize,0)+1,FALSE),IF(IFERROR(SEARCH(\"Oil\",$A$18),0)>0,VLOOKUP(\"Oil\",HVACg_Lookup,MATCH($F$16,BuildingSize,0)+1,FALSE),IF(IFERROR(SEARCH(\"Propane\",$A$18),0)>0,VLOOKUP(\"Propane\",HVACg_Lookup,MATCH(Worksheet!$F$16,BuildingSize,0)+1,FALSE),0)))","v":0},{"$f":"Z281/1000*AA281*AC281*IF(IFERROR(SEARCH(\"Gas\",$A$18),0)>0,VLOOKUP(\"Gas\",HVACg_Lookup,MATCH($F$16,BuildingSize,0)+1,FALSE),IF(IFERROR(SEARCH(\"Oil\",$A$18),0)>0,VLOOKUP(\"Oil\",HVACg_Lookup,MATCH($F$16,BuildingSize,0)+1,FALSE),IF(IFERROR(SEARCH(\"Propane\",$A$18),0)>0,VLOOKUP(\"Propane\",HVACg_Lookup,MATCH(Worksheet!$F$16,BuildingSize,0)+1,FALSE),0)))","v":0},{"$f":"AL281*8","v":0},{"$f":"AM281*8","v":0},{"$f":"IF(OR($B$4=\"\",$B$5=\"\",$A$16=\"\",$F$16=\"\",$A$18=\"\",A281=\"\",F281=\"\",J281=\"\",O281=\"\",P281=\"\")=TRUE,\"\",IF(C281=\"OSW\",IF(J281>=2,1,0),IF(C281=\"OSR\",IF(AND(J281>=2,P281>60)=TRUE,1,0),IF(C281=\"OSRH\",IF(AND(J281>=1,P281>90)=TRUE,1,0),IF(C281=\"OHLC\",IF(AND(N281=\"Y\",P281>60)=TRUE,1,0),IF(C281=\"DDC\",IF(AND(J281>=4,N281=\"Y\",P281>120)=TRUE,1,0),0))))))","v":""},{"$f":"IF(OR($B$4=\"\",$B$5=\"\",$A$16=\"\",$F$16=\"\",$A$18=\"\",A281=\"\",F281=\"\",K281=\"\",O281=\"\",P281=\"\")=TRUE,\"\",IF(C281=\"OSW\",IF(K281>=2,1,0),IF(C281=\"OSR\",IF(AND(K281>=2,Q281>60)=TRUE,1,0),IF(C281=\"OSRH\",IF(AND(K281>=1,Q281>90)=TRUE,1,0),IF(C281=\"OHLC\",IF(AND(N281=\"Y\",Q281>60)=TRUE,1,0),IF(C281=\"DDC\",IF(AND(K281>=4,N281=\"Y\",Q281>120)=TRUE,1,0),0))))))","v":""}]
[null,null,"",null,null,null,null,null,null,null,null,null,null,null,null,0,0,0,0,"",0,0,0,0,0,0,0,0,0,0,0,0,0,0,0,0,0,{"$f":"Y282/1000*AA282*AC282*IF(IFERROR(SEARCH(\"Gas\",$A$18),0)>0,VLOOKUP(\"Gas\",HVACg_Lookup,MATCH($F$16,BuildingSize,0)+1,FALSE),IF(IFERROR(SEARCH(\"Oil\",$A$18),0)>0,VLOOKUP(\"Oil\",HVACg_Lookup,MATCH($F$16,BuildingSize,0)+1,FALSE),IF(IFERROR(SEARCH(\"Propane\",$A$18),0)>0,VLOOKUP(\"Propane\",HVACg_Lookup,MATCH(Worksheet!$F$16,BuildingSize,0)+1,FALSE),0)))","v":0},{"$f":"Z282/1000*AA282*AC282*IF(IFERROR(SEARCH(\"Gas\",$A$18),0)>0,VLOOKUP(\"Gas\",HVACg_Lookup,MATCH($F$16,BuildingSize,0)+1,FALSE),IF(IFERROR(SEARCH(\"Oil\",$A$18),0)>0,VLOOKUP(\"Oil\",HVACg_Lookup,MATCH($F$16,BuildingSize,0)+1,FALSE),IF(IFERROR(SEARCH(\"Propane\",$A$18),0)>0,VLOOKUP(\"Propane\",HVACg_Lookup,MATCH(Worksheet!$F$16,BuildingSize,0)+1,FALSE),0)))","v":0},0,0,"",""]
[null,null,"",null,null,null,null,null,null,null,null,null,null,null,null,0,0,0,0,"",0,0,0,0,0,0,0,0,0,0,0,0,0,0,0,0,0,{"$f":"Y283/1000*AA283*AC283*IF(IFERROR(SEARCH(\"Gas\",$A$18),0)>0,VLOOKUP(\"Gas\",HVACg_Lookup,MATCH($F$16,BuildingSize,0)+1,FALSE),IF(IFERROR(SEARCH(\"Oil\",$A$18),0)>0,VLOOKUP(\"Oil\",HVACg_Lookup,MATCH($F$16,BuildingSize,0)+1,FALSE),IF(IFERROR(SEARCH(\"Propane\",$A$18),0)>0,VLOOKUP(\"Propane\",HVACg_Lookup,MATCH(Worksheet!$F$16,BuildingSize,0)+1,FALSE),0)))","v":0},{"$f":"Z283/1000*AA283*AC283*IF(IFERROR(SEARCH(\"Gas\",$A$18),0)>0,VLOOKUP(\"Gas\",HVACg_Lookup,MATCH($F$16,BuildingSize,0)+1,FALSE),IF(IFERROR(SEARCH(\"Oil\",$A$18),0)>0,VLOOKUP(\"Oil\",HVACg_Lookup,MATCH($F$16,BuildingSize,0)+1,FALSE),IF(IFERROR(SEARCH(\"Propane\",$A$18),0)>0,VLOOKUP(\"Propane\",HVACg_Lookup,MATCH(Worksheet!$F$16,BuildingSize,0)+1,FALSE),0)))","v":0},0,0,"",""]
[null,null,"",null,null,null,null,null,null,null,null,null,null,null,null,0,0,0,0,"",0,0,0,0,0,0,0,0,0,0,0,0,0,0,0,0,0,{"$f":"Y284/1000*AA284*AC284*IF(IFERROR(SEARCH(\"Gas\",$A$18),0)>0,VLOOKUP(\"Gas\",HVACg_Lookup,MATCH($F$16,BuildingSize,0)+1,FALSE),IF(IFERROR(SEARCH(\"Oil\",$A$18),0)>0,VLOOKUP(\"Oil\",HVACg_Lookup,MATCH($F$16,BuildingSize,0)+1,FALSE),IF(IFERROR(SEARCH(\"Propane\",$A$18),0)>0,VLOOKUP(\"Propane\",HVACg_Lookup,MATCH(Worksheet!$F$16,BuildingSize,0)+1,FALSE),0)))","v":0},{"$f":"Z284/1000*AA284*AC284*IF(IFERROR(SEARCH(\"Gas\",$A$18),0)>0,VLOOKUP(\"Gas\",HVACg_Lookup,MATCH($F$16,BuildingSize,0)+1,FALSE),IF(IFERROR(SEARCH(\"Oil\",$A$18),0)>0,VLOOKUP(\"Oil\",HVACg_Lookup,MATCH($F$16,BuildingSize,0)+1,FALSE),IF(IFERROR(SEARCH(\"Propane\",$A$18),0)>0,VLOOKUP(\"Propane\",HVACg_Lookup,MATCH(Worksheet!$F$16,BuildingSize,0)+1,FALSE),0)))","v":0},0,0,"",""]
[null,null,"",null,null,null,null,null,null,null,null,null,null,null,null,0,0,0,0,"",0,0,0,0,0,0,0,0,0,0,0,0,0,0,0,0,0,{"$f":"Y285/1000*AA285*AC285*IF(IFERROR(SEARCH(\"Gas\",$A$18),0)>0,VLOOKUP(\"Gas\",HVACg_Lookup,MATCH($F$16,BuildingSize,0)+1,FALSE),IF(IFERROR(SEARCH(\"Oil\",$A$18),0)>0,VLOOKUP(\"Oil\",HVACg_Lookup,MATCH($F$16,BuildingSize,0)+1,FALSE),IF(IFERROR(SEARCH(\"Propane\",$A$18),0)>0,VLOOKUP(\"Propane\",HVACg_Lookup,MATCH(Worksheet!$F$16,BuildingSize,0)+1,FALSE),0)))","v":0},{"$f":"Z285/1000*AA285*AC285*IF(IFERROR(SEARCH(\"Gas\",$A$18),0)>0,VLOOKUP(\"Gas\",HVACg_Lookup,MATCH($F$16,BuildingSize,0)+1,FALSE),IF(IFERROR(SEARCH(\"Oil\",$A$18),0)>0,VLOOKUP(\"Oil\",HVACg_Lookup,MATCH($F$16,BuildingSize,0)+1,FALSE),IF(IFERROR(SEARCH(\"Propane\",$A$18),0)>0,VLOOKUP(\"Propane\",HVACg_Lookup,MATCH(Worksheet!$F$16,BuildingSize,0)+1,FALSE),0)))","v":0},0,0,"",""]
[null,null,"",null,null,null,null,null,null,null,null,null,null,null,null,0,0,0,0,"",0,0,0,0,0,0,0,0,0,0,0,0,0,0,0,0,0,{"$f":"Y286/1000*AA286*AC286*IF(IFERROR(SEARCH(\"Gas\",$A$18),0)>0,VLOOKUP(\"Gas\",HVACg_Lookup,MATCH($F$16,BuildingSize,0)+1,FALSE),IF(IFERROR(SEARCH(\"Oil\",$A$18),0)>0,VLOOKUP(\"Oil\",HVACg_Lookup,MATCH($F$16,BuildingSize,0)+1,FALSE),IF(IFERROR(SEARCH(\"Propane\",$A$18),0)>0,VLOOKUP(\"Propane\",HVACg_Lookup,MATCH(Worksheet!$F$16,BuildingSize,0)+1,FALSE),0)))","v":0},{"$f":"Z286/1000*AA286*AC286*IF(IFERROR(SEARCH(\"Gas\",$A$18),0)>0,VLOOKUP(\"Gas\",HVACg_Lookup,MATCH($F$16,BuildingSize,0)+1,FALSE),IF(IFERROR(SEARCH(\"Oil\",$A$18),0)>0,VLOOKUP(\"Oil\",HVACg_Lookup,MATCH($F$16,BuildingSize,0)+1,FALSE),IF(IFERROR(SEARCH(\"Propane\",$A$18),0)>0,VLOOKUP(\"Propane\",HVACg_Lookup,MATCH(Worksheet!$F$16,BuildingSize,0)+1,FALSE),0)))","v":0},0,0,"",""]
[null,null,"",null,null,null,null,null,null,null,null,null,null,null,null,0,0,0,0,"",0,0,0,0,0,0,0,0,0,0,0,0,0,0,0,0,0,{"$f":"Y287/1000*AA287*AC287*IF(IFERROR(SEARCH(\"Gas\",$A$18),0)>0,VLOOKUP(\"Gas\",HVACg_Lookup,MATCH($F$16,BuildingSize,0)+1,FALSE),IF(IFERROR(SEARCH(\"Oil\",$A$18),0)>0,VLOOKUP(\"Oil\",HVACg_Lookup,MATCH($F$16,BuildingSize,0)+1,FALSE),IF(IFERROR(SEARCH(\"Propane\",$A$18),0)>0,VLOOKUP(\"Propane\",HVACg_Lookup,MATCH(Worksheet!$F$16,BuildingSize,0)+1,FALSE),0)))","v":0},{"$f":"Z287/1000*AA287*AC287*IF(IFERROR(SEARCH(\"Gas\",$A$18),0)>0,VLOOKUP(\"Gas\",HVACg_Lookup,MATCH($F$16,BuildingSize,0)+1,FALSE),IF(IFERROR(SEARCH(\"Oil\",$A$18),0)>0,VLOOKUP(\"Oil\",HVACg_Lookup,MATCH($F$16,BuildingSize,0)+1,FALSE),IF(IFERROR(SEARCH(\"Propane\",$A$18),0)>0,VLOOKUP(\"Propane\",HVACg_Lookup,MATCH(Worksheet!$F$16,BuildingSize,0)+1,FALSE),0)))","v":0},0,0,"",""]
[null,null,"",null,null,null,null,null,null,null,null,null,null,null,null,0,0,0,0,"",0,0,0,0,0,0,0,0,0,0,0,0,0,0,0,0,0,{"$f":"Y288/1000*AA288*AC288*IF(IFERROR(SEARCH(\"Gas\",$A$18),0)>0,VLOOKUP(\"Gas\",HVACg_Lookup,MATCH($F$16,BuildingSize,0)+1,FALSE),IF(IFERROR(SEARCH(\"Oil\",$A$18),0)>0,VLOOKUP(\"Oil\",HVACg_Lookup,MATCH($F$16,BuildingSize,0)+1,FALSE),IF(IFERROR(SEARCH(\"Propane\",$A$18),0)>0,VLOOKUP(\"Propane\",HVACg_Lookup,MATCH(Worksheet!$F$16,BuildingSize,0)+1,FALSE),0)))","v":0},{"$f":"Z288/1000*AA288*AC288*IF(IFERROR(SEARCH(\"Gas\",$A$18),0)>0,VLOOKUP(\"Gas\",HVACg_Lookup,MATCH($F$16,BuildingSize,0)+1,FALSE),IF(IFERROR(SEARCH(\"Oil\",$A$18),0)>0,VLOOKUP(\"Oil\",HVACg_Lookup,MATCH($F$16,BuildingSize,0)+1,FALSE),IF(IFERROR(SEARCH(\"Propane\",$A$18),0)>0,VLOOKUP(\"Propane\",HVACg_Lookup,MATCH(Worksheet!$F$16,BuildingSize,0)+1,FALSE),0)))","v":0},0,0,"",""]
[null,null,"",null,null,null,null,null,null,null,null,null,null,null,null,0,0,0,0,"",0,0,0,0,0,0,0,0,0,0,0,0,0,0,0,0,0,{"$f":"Y289/1000*AA289*AC289*IF(IFERROR(SEARCH(\"Gas\",$A$18),0)>0,VLOOKUP(\"Gas\",HVACg_Lookup,MATCH($F$16,BuildingSize,0)+1,FALSE),IF(IFERROR(SEARCH(\"Oil\",$A$18),0)>0,VLOOKUP(\"Oil\",HVACg_Lookup,MATCH($F$16,BuildingSize,0)+1,FALSE),IF(IFERROR(SEARCH(\"Propane\",$A$18),0)>0,VLOOKUP(\"Propane\",HVACg_Lookup,MATCH(Worksheet!$F$16,BuildingSize,0)+1,FALSE),0)))","v":0},{"$f":"Z289/1000*AA289*AC289*IF(IFERROR(SEARCH(\"Gas\",$A$18),0)>0,VLOOKUP(\"Gas\",HVACg_Lookup,MATCH($F$16,BuildingSize,0)+1,FALSE),IF(IFERROR(SEARCH(\"Oil\",$A$18),0)>0,VLOOKUP(\"Oil\",HVACg_Lookup,MATCH($F$16,BuildingSize,0)+1,FALSE),IF(IFERROR(SEARCH(\"Propane\",$A$18),0)>0,VLOOKUP(\"Propane\",HVACg_Lookup,MATCH(Worksheet!$F$16,BuildingSize,0)+1,FALSE),0)))","v":0},0,0,"",""]
[null,null,"",null,null,null,null,null,null,null,null,null,null,null,null,0,0,0,0,"",0,0,0,0,0,0,0,0,0,0,0,0,0,0,0,0,0,{"$f":"Y290/1000*AA290*AC290*IF(IFERROR(SEARCH(\"Gas\",$A$18),0)>0,VLOOKUP(\"Gas\",HVACg_Lookup,MATCH($F$16,BuildingSize,0)+1,FALSE),IF(IFERROR(SEARCH(\"Oil\",$A$18),0)>0,VLOOKUP(\"Oil\",HVACg_Lookup,MATCH($F$16,BuildingSize,0)+1,FALSE),IF(IFERROR(SEARCH(\"Propane\",$A$18),0)>0,VLOOKUP(\"Propane\",HVACg_Lookup,MATCH(Worksheet!$F$16,BuildingSize,0)+1,FALSE),0)))","v":0},{"$f":"Z290/1000*AA290*AC290*IF(IFERROR(SEARCH(\"Gas\",$A$18),0)>0,VLOOKUP(\"Gas\",HVACg_Lookup,MATCH($F$16,BuildingSize,0)+1,FALSE),IF(IFERROR(SEARCH(\"Oil\",$A$18),0)>0,VLOOKUP(\"Oil\",HVACg_Lookup,MATCH($F$16,BuildingSize,0)+1,FALSE),IF(IFERROR(SEARCH(\"Propane\",$A$18),0)>0,VLOOKUP(\"Propane\",HVACg_Lookup,MATCH(Worksheet!$F$16,BuildingSize,0)+1,FALSE),0)))","v":0},0,0,"",""]
[null,null,"",null,null,null,null,null,null,null,null,null,null,null,null,0,0,0,0,"",0,0,0,0,0,0,0,0,0,0,0,0,0,0,0,0,0,{"$f":"Y291/1000*AA291*AC291*IF(IFERROR(SEARCH(\"Gas\",$A$18),0)>0,VLOOKUP(\"Gas\",HVACg_Lookup,MATCH($F$16,BuildingSize,0)+1,FALSE),IF(IFERROR(SEARCH(\"Oil\",$A$18),0)>0,VLOOKUP(\"Oil\",HVACg_Lookup,MATCH($F$16,BuildingSize,0)+1,FALSE),IF(IFERROR(SEARCH(\"Propane\",$A$18),0)>0,VLOOKUP(\"Propane\",HVACg_Lookup,MATCH(Worksheet!$F$16,BuildingSize,0)+1,FALSE),0)))","v":0},{"$f":"Z291/1000*AA291*AC291*IF(IFERROR(SEARCH(\"Gas\",$A$18),0)>0,VLOOKUP(\"Gas\",HVACg_Lookup,MATCH($F$16,BuildingSize,0)+1,FALSE),IF(IFERROR(SEARCH(\"Oil\",$A$18),0)>0,VLOOKUP(\"Oil\",HVACg_Lookup,MATCH($F$16,BuildingSize,0)+1,FALSE),IF(IFERROR(SEARCH(\"Propane\",$A$18),0)>0,VLOOKUP(\"Propane\",HVACg_Lookup,MATCH(Worksheet!$F$16,BuildingSize,0)+1,FALSE),0)))","v":0},0,0,"",""]
[null,null,"",null,null,null,null,null,null,null,null,null,null,null,null,0,0,0,0,"",0,0,0,0,0,0,0,0,0,0,0,0,0,0,0,0,0,{"$f":"Y292/1000*AA292*AC292*IF(IFERROR(SEARCH(\"Gas\",$A$18),0)>0,VLOOKUP(\"Gas\",HVACg_Lookup,MATCH($F$16,BuildingSize,0)+1,FALSE),IF(IFERROR(SEARCH(\"Oil\",$A$18),0)>0,VLOOKUP(\"Oil\",HVACg_Lookup,MATCH($F$16,BuildingSize,0)+1,FALSE),IF(IFERROR(SEARCH(\"Propane\",$A$18),0)>0,VLOOKUP(\"Propane\",HVACg_Lookup,MATCH(Worksheet!$F$16,BuildingSize,0)+1,FALSE),0)))","v":0},{"$f":"Z292/1000*AA292*AC292*IF(IFERROR(SEARCH(\"Gas\",$A$18),0)>0,VLOOKUP(\"Gas\",HVACg_Lookup,MATCH($F$16,BuildingSize,0)+1,FALSE),IF(IFERROR(SEARCH(\"Oil\",$A$18),0)>0,VLOOKUP(\"Oil\",HVACg_Lookup,MATCH($F$16,BuildingSize,0)+1,FALSE),IF(IFERROR(SEARCH(\"Propane\",$A$18),0)>0,VLOOKUP(\"Propane\",HVACg_Lookup,MATCH(Worksheet!$F$16,BuildingSize,0)+1,FALSE),0)))","v":0},0,0,"",""]
[null,null,"",null,null,null,null,null,null,null,null,null,null,null,null,0,0,0,0,"",0,0,0,0,0,0,0,0,0,0,0,0,0,0,0,0,0,{"$f":"Y293/1000*AA293*AC293*IF(IFERROR(SEARCH(\"Gas\",$A$18),0)>0,VLOOKUP(\"Gas\",HVACg_Lookup,MATCH($F$16,BuildingSize,0)+1,FALSE),IF(IFERROR(SEARCH(\"Oil\",$A$18),0)>0,VLOOKUP(\"Oil\",HVACg_Lookup,MATCH($F$16,BuildingSize,0)+1,FALSE),IF(IFERROR(SEARCH(\"Propane\",$A$18),0)>0,VLOOKUP(\"Propane\",HVACg_Lookup,MATCH(Worksheet!$F$16,BuildingSize,0)+1,FALSE),0)))","v":0},{"$f":"Z293/1000*AA293*AC293*IF(IFERROR(SEARCH(\"Gas\",$A$18),0)>0,VLOOKUP(\"Gas\",HVACg_Lookup,MATCH($F$16,BuildingSize,0)+1,FALSE),IF(IFERROR(SEARCH(\"Oil\",$A$18),0)>0,VLOOKUP(\"Oil\",HVACg_Lookup,MATCH($F$16,BuildingSize,0)+1,FALSE),IF(IFERROR(SEARCH(\"Propane\",$A$18),0)>0,VLOOKUP(\"Propane\",HVACg_Lookup,MATCH(Worksheet!$F$16,BuildingSize,0)+1,FALSE),0)))","v":0},0,0,"",""]
[null,null,"",null,null,null,null,null,null,null,null,null,null,null,null,0,0,0,0,"",0,0,0,0,0,0,0,0,0,0,0,0,0,0,0,0,0,{"$f":"Y294/1000*AA294*AC294*IF(IFERROR(SEARCH(\"Gas\",$A$18),0)>0,VLOOKUP(\"Gas\",HVACg_Lookup,MATCH($F$16,BuildingSize,0)+1,FALSE),IF(IFERROR(SEARCH(\"Oil\",$A$18),0)>0,VLOOKUP(\"Oil\",HVACg_Lookup,MATCH($F$16,BuildingSize,0)+1,FALSE),IF(IFERROR(SEARCH(\"Propane\",$A$18),0)>0,VLOOKUP(\"Propane\",HVACg_Lookup,MATCH(Worksheet!$F$16,BuildingSize,0)+1,FALSE),0)))","v":0},{"$f":"Z294/1000*AA294*AC294*IF(IFERROR(SEARCH(\"Gas\",$A$18),0)>0,VLOOKUP(\"Gas\",HVACg_Lookup,MATCH($F$16,BuildingSize,0)+1,FALSE),IF(IFERROR(SEARCH(\"Oil\",$A$18),0)>0,VLOOKUP(\"Oil\",HVACg_Lookup,MATCH($F$16,BuildingSize,0)+1,FALSE),IF(IFERROR(SEARCH(\"Propane\",$A$18),0)>0,VLOOKUP(\"Propane\",HVACg_Lookup,MATCH(Worksheet!$F$16,BuildingSize,0)+1,FALSE),0)))","v":0},0,0,"",""]
[null,null,"",null,null,null,null,null,null,null,null,null,null,null,null,0,0,0,0,"",0,0,0,0,0,0,0,0,0,0,0,0,0,0,0,0,0,{"$f":"Y295/1000*AA295*AC295*IF(IFERROR(SEARCH(\"Gas\",$A$18),0)>0,VLOOKUP(\"Gas\",HVACg_Lookup,MATCH($F$16,BuildingSize,0)+1,FALSE),IF(IFERROR(SEARCH(\"Oil\",$A$18),0)>0,VLOOKUP(\"Oil\",HVACg_Lookup,MATCH($F$16,BuildingSize,0)+1,FALSE),IF(IFERROR(SEARCH(\"Propane\",$A$18),0)>0,VLOOKUP(\"Propane\",HVACg_Lookup,MATCH(Worksheet!$F$16,BuildingSize,0)+1,FALSE),0)))","v":0},{"$f":"Z295/1000*AA295*AC295*IF(IFERROR(SEARCH(\"Gas\",$A$18),0)>0,VLOOKUP(\"Gas\",HVACg_Lookup,MATCH($F$16,BuildingSize,0)+1,FALSE),IF(IFERROR(SEARCH(\"Oil\",$A$18),0)>0,VLOOKUP(\"Oil\",HVACg_Lookup,MATCH($F$16,BuildingSize,0)+1,FALSE),IF(IFERROR(SEARCH(\"Propane\",$A$18),0)>0,VLOOKUP(\"Propane\",HVACg_Lookup,MATCH(Worksheet!$F$16,BuildingSize,0)+1,FALSE),0)))","v":0},0,0,"",""]
[null,null,"",null,null,null,null,null,null,null,null,null,null,null,null,0,0,0,0,"",0,0,0,0,0,0,0,0,0,0,0,0,0,0,0,0,0,{"$f":"Y296/1000*AA296*AC296*IF(IFERROR(SEARCH(\"Gas\",$A$18),0)>0,VLOOKUP(\"Gas\",HVACg_Lookup,MATCH($F$16,BuildingSize,0)+1,FALSE),IF(IFERROR(SEARCH(\"Oil\",$A$18),0)>0,VLOOKUP(\"Oil\",HVACg_Lookup,MATCH($F$16,BuildingSize,0)+1,FALSE),IF(IFERROR(SEARCH(\"Propane\",$A$18),0)>0,VLOOKUP(\"Propane\",HVACg_Lookup,MATCH(Worksheet!$F$16,BuildingSize,0)+1,FALSE),0)))","v":0},{"$f":"Z296/1000*AA296*AC296*IF(IFERROR(SEARCH(\"Gas\",$A$18),0)>0,VLOOKUP(\"Gas\",HVACg_Lookup,MATCH($F$16,BuildingSize,0)+1,FALSE),IF(IFERROR(SEARCH(\"Oil\",$A$18),0)>0,VLOOKUP(\"Oil\",HVACg_Lookup,MATCH($F$16,BuildingSize,0)+1,FALSE),IF(IFERROR(SEARCH(\"Propane\",$A$18),0)>0,VLOOKUP(\"Propane\",HVACg_Lookup,MATCH(Worksheet!$F$16,BuildingSize,0)+1,FALSE),0)))","v":0},0,0,"",""]
[null,null,"",null,null,null,null,null,null,null,null,null,null,null,null,0,0,0,0,"",0,0,0,0,0,0,0,0,0,0,0,0,0,0,0,0,0,{"$f":"Y297/1000*AA297*AC297*IF(IFERROR(SEARCH(\"Gas\",$A$18),0)>0,VLOOKUP(\"Gas\",HVACg_Lookup,MATCH($F$16,BuildingSize,0)+1,FALSE),IF(IFERROR(SEARCH(\"Oil\",$A$18),0)>0,VLOOKUP(\"Oil\",HVACg_Lookup,MATCH($F$16,BuildingSize,0)+1,FALSE),IF(IFERROR(SEARCH(\"Propane\",$A$18),0)>0,VLOOKUP(\"Propane\",HVACg_Lookup,MATCH(Worksheet!$F$16,BuildingSize,0)+1,FALSE),0)))","v":0},{"$f":"Z297/1000*AA297*AC297*IF(IFERROR(SEARCH(\"Gas\",$A$18),0)>0,VLOOKUP(\"Gas\",HVACg_Lookup,MATCH($F$16,BuildingSize,0)+1,FALSE),IF(IFERROR(SEARCH(\"Oil\",$A$18),0)>0,VLOOKUP(\"Oil\",HVACg_Lookup,MATCH($F$16,BuildingSize,0)+1,FALSE),IF(IFERROR(SEARCH(\"Propane\",$A$18),0)>0,VLOOKUP(\"Propane\",HVACg_Lookup,MATCH(Worksheet!$F$16,BuildingSize,0)+1,FALSE),0)))","v":0},0,0,"",""]
[null,null,"",null,null,null,null,null,null,null,null,null,null,null,null,0,0,0,0,"",0,0,0,0,0,0,0,0,0,0,0,0,0,0,0,0,0,{"$f":"Y298/1000*AA298*AC298*IF(IFERROR(SEARCH(\"Gas\",$A$18),0)>0,VLOOKUP(\"Gas\",HVACg_Lookup,MATCH($F$16,BuildingSize,0)+1,FALSE),IF(IFERROR(SEARCH(\"Oil\",$A$18),0)>0,VLOOKUP(\"Oil\",HVACg_Lookup,MATCH($F$16,BuildingSize,0)+1,FALSE),IF(IFERROR(SEARCH(\"Propane\",$A$18),0)>0,VLOOKUP(\"Propane\",HVACg_Lookup,MATCH(Worksheet!$F$16,BuildingSize,0)+1,FALSE),0)))","v":0},{"$f":"Z298/1000*AA298*AC298*IF(IFERROR(SEARCH(\"Gas\",$A$18),0)>0,VLOOKUP(\"Gas\",HVACg_Lookup,MATCH($F$16,BuildingSize,0)+1,FALSE),IF(IFERROR(SEARCH(\"Oil\",$A$18),0)>0,VLOOKUP(\"Oil\",HVACg_Lookup,MATCH($F$16,BuildingSize,0)+1,FALSE),IF(IFERROR(SEARCH(\"Propane\",$A$18),0)>0,VLOOKUP(\"Propane\",HVACg_Lookup,MATCH(Worksheet!$F$16,BuildingSize,0)+1,FALSE),0)))","v":0},0,0,"",""]
[null,null,"",null,null,null,null,null,null,null,null,null,null,null,null,0,0,0,0,"",0,0,0,0,0,0,0,0,0,0,0,0,0,0,0,0,0,{"$f":"Y299/1000*AA299*AC299*IF(IFERROR(SEARCH(\"Gas\",$A$18),0)>0,VLOOKUP(\"Gas\",HVACg_Lookup,MATCH($F$16,BuildingSize,0)+1,FALSE),IF(IFERROR(SEARCH(\"Oil\",$A$18),0)>0,VLOOKUP(\"Oil\",HVACg_Lookup,MATCH($F$16,BuildingSize,0)+1,FALSE),IF(IFERROR(SEARCH(\"Propane\",$A$18),0)>0,VLOOKUP(\"Propane\",HVACg_Lookup,MATCH(Worksheet!$F$16,BuildingSize,0)+1,FALSE),0)))","v":0},{"$f":"Z299/1000*AA299*AC299*IF(IFERROR(SEARCH(\"Gas\",$A$18),0)>0,VLOOKUP(\"Gas\",HVACg_Lookup,MATCH($F$16,BuildingSize,0)+1,FALSE),IF(IFERROR(SEARCH(\"Oil\",$A$18),0)>0,VLOOKUP(\"Oil\",HVACg_Lookup,MATCH($F$16,BuildingSize,0)+1,FALSE),IF(IFERROR(SEARCH(\"Propane\",$A$18),0)>0,VLOOKUP(\"Propane\",HVACg_Lookup,MATCH(Worksheet!$F$16,BuildingSize,0)+1,FALSE),0)))","v":0},0,0,"",""]
[null,null,"",null,null,null,null,null,null,null,null,null,null,null,null,0,0,0,0,"",0,0,0,0,0,0,0,0,0,0,0,0,0,0,0,0,0,{"$f":"Y300/1000*AA300*AC300*IF(IFERROR(SEARCH(\"Gas\",$A$18),0)>0,VLOOKUP(\"Gas\",HVACg_Lookup,MATCH($F$16,BuildingSize,0)+1,FALSE),IF(IFERROR(SEARCH(\"Oil\",$A$18),0)>0,VLOOKUP(\"Oil\",HVACg_Lookup,MATCH($F$16,BuildingSize,0)+1,FALSE),IF(IFERROR(SEARCH(\"Propane\",$A$18),0)>0,VLOOKUP(\"Propane\",HVACg_Lookup,MATCH(Worksheet!$F$16,BuildingSize,0)+1,FALSE),0)))","v":0},{"$f":"Z300/1000*AA300*AC300*IF(IFERROR(SEARCH(\"Gas\",$A$18),0)>0,VLOOKUP(\"Gas\",HVACg_Lookup,MATCH($F$16,BuildingSize,0)+1,FALSE),IF(IFERROR(SEARCH(\"Oil\",$A$18),0)>0,VLOOKUP(\"Oil\",HVACg_Lookup,MATCH($F$16,BuildingSize,0)+1,FALSE),IF(IFERROR(SEARCH(\"Propane\",$A$18),0)>0,VLOOKUP(\"Propane\",HVACg_Lookup,MATCH(Worksheet!$F$16,BuildingSize,0)+1,FALSE),0)))","v":0},0,0,"",""]
[null,null,"",null,null,null,null,null,null,null,null,null,null,null,null,0,0,0,0,"",0,0,0,0,0,0,0,0,0,0,0,0,0,0,0,0,0,{"$f":"Y301/1000*AA301*AC301*IF(IFERROR(SEARCH(\"Gas\",$A$18),0)>0,VLOOKUP(\"Gas\",HVACg_Lookup,MATCH($F$16,BuildingSize,0)+1,FALSE),IF(IFERROR(SEARCH(\"Oil\",$A$18),0)>0,VLOOKUP(\"Oil\",HVACg_Lookup,MATCH($F$16,BuildingSize,0)+1,FALSE),IF(IFERROR(SEARCH(\"Propane\",$A$18),0)>0,VLOOKUP(\"Propane\",HVACg_Lookup,MATCH(Worksheet!$F$16,BuildingSize,0)+1,FALSE),0)))","v":0},{"$f":"Z301/1000*AA301*AC301*IF(IFERROR(SEARCH(\"Gas\",$A$18),0)>0,VLOOKUP(\"Gas\",HVACg_Lookup,MATCH($F$16,BuildingSize,0)+1,FALSE),IF(IFERROR(SEARCH(\"Oil\",$A$18),0)>0,VLOOKUP(\"Oil\",HVACg_Lookup,MATCH($F$16,BuildingSize,0)+1,FALSE),IF(IFERROR(SEARCH(\"Propane\",$A$18),0)>0,VLOOKUP(\"Propane\",HVACg_Lookup,MATCH(Worksheet!$F$16,BuildingSize,0)+1,FALSE),0)))","v":0},0,0,"",""]
[null,null,"",null,null,null,null,null,null,null,null,null,null,null,null,0,0,0,0,"",0,0,0,0,0,0,0,0,0,0,0,0,0,0,0,0,0,{"$f":"Y302/1000*AA302*AC302*IF(IFERROR(SEARCH(\"Gas\",$A$18),0)>0,VLOOKUP(\"Gas\",HVACg_Lookup,MATCH($F$16,BuildingSize,0)+1,FALSE),IF(IFERROR(SEARCH(\"Oil\",$A$18),0)>0,VLOOKUP(\"Oil\",HVACg_Lookup,MATCH($F$16,BuildingSize,0)+1,FALSE),IF(IFERROR(SEARCH(\"Propane\",$A$18),0)>0,VLOOKUP(\"Propane\",HVACg_Lookup,MATCH(Worksheet!$F$16,BuildingSize,0)+1,FALSE),0)))","v":0},{"$f":"Z302/1000*AA302*AC302*IF(IFERROR(SEARCH(\"Gas\",$A$18),0)>0,VLOOKUP(\"Gas\",HVACg_Lookup,MATCH($F$16,BuildingSize,0)+1,FALSE),IF(IFERROR(SEARCH(\"Oil\",$A$18),0)>0,VLOOKUP(\"Oil\",HVACg_Lookup,MATCH($F$16,BuildingSize,0)+1,FALSE),IF(IFERROR(SEARCH(\"Propane\",$A$18),0)>0,VLOOKUP(\"Propane\",HVACg_Lookup,MATCH(Worksheet!$F$16,BuildingSize,0)+1,FALSE),0)))","v":0},0,0,"",""]
[null,null,"",null,null,null,null,null,null,null,null,null,null,null,null,0,0,0,0,"",0,0,0,0,0,0,0,0,0,0,0,0,0,0,0,0,0,{"$f":"Y303/1000*AA303*AC303*IF(IFERROR(SEARCH(\"Gas\",$A$18),0)>0,VLOOKUP(\"Gas\",HVACg_Lookup,MATCH($F$16,BuildingSize,0)+1,FALSE),IF(IFERROR(SEARCH(\"Oil\",$A$18),0)>0,VLOOKUP(\"Oil\",HVACg_Lookup,MATCH($F$16,BuildingSize,0)+1,FALSE),IF(IFERROR(SEARCH(\"Propane\",$A$18),0)>0,VLOOKUP(\"Propane\",HVACg_Lookup,MATCH(Worksheet!$F$16,BuildingSize,0)+1,FALSE),0)))","v":0},{"$f":"Z303/1000*AA303*AC303*IF(IFERROR(SEARCH(\"Gas\",$A$18),0)>0,VLOOKUP(\"Gas\",HVACg_Lookup,MATCH($F$16,BuildingSize,0)+1,FALSE),IF(IFERROR(SEARCH(\"Oil\",$A$18),0)>0,VLOOKUP(\"Oil\",HVACg_Lookup,MATCH($F$16,BuildingSize,0)+1,FALSE),IF(IFERROR(SEARCH(\"Propane\",$A$18),0)>0,VLOOKUP(\"Propane\",HVACg_Lookup,MATCH(Worksheet!$F$16,BuildingSize,0)+1,FALSE),0)))","v":0},0,0,"",""]
[null,null,"",null,null,null,null,null,null,null,null,null,null,null,null,0,0,0,0,"",0,0,0,0,0,0,0,0,0,0,0,0,0,0,0,0,0,{"$f":"Y304/1000*AA304*AC304*IF(IFERROR(SEARCH(\"Gas\",$A$18),0)>0,VLOOKUP(\"Gas\",HVACg_Lookup,MATCH($F$16,BuildingSize,0)+1,FALSE),IF(IFERROR(SEARCH(\"Oil\",$A$18),0)>0,VLOOKUP(\"Oil\",HVACg_Lookup,MATCH($F$16,BuildingSize,0)+1,FALSE),IF(IFERROR(SEARCH(\"Propane\",$A$18),0)>0,VLOOKUP(\"Propane\",HVACg_Lookup,MATCH(Worksheet!$F$16,BuildingSize,0)+1,FALSE),0)))","v":0},{"$f":"Z304/1000*AA304*AC304*IF(IFERROR(SEARCH(\"Gas\",$A$18),0)>0,VLOOKUP(\"Gas\",HVACg_Lookup,MATCH($F$16,BuildingSize,0)+1,FALSE),IF(IFERROR(SEARCH(\"Oil\",$A$18),0)>0,VLOOKUP(\"Oil\",HVACg_Lookup,MATCH($F$16,BuildingSize,0)+1,FALSE),IF(IFERROR(SEARCH(\"Propane\",$A$18),0)>0,VLOOKUP(\"Propane\",HVACg_Lookup,MATCH(Worksheet!$F$16,BuildingSize,0)+1,FALSE),0)))","v":0},0,0,"",""]
[null,null,"",null,null,null,null,null,null,null,null,null,null,null,null,0,0,0,0,"",0,0,0,0,0,0,0,0,0,0,0,0,0,0,0,0,0,{"$f":"Y305/1000*AA305*AC305*IF(IFERROR(SEARCH(\"Gas\",$A$18),0)>0,VLOOKUP(\"Gas\",HVACg_Lookup,MATCH($F$16,BuildingSize,0)+1,FALSE),IF(IFERROR(SEARCH(\"Oil\",$A$18),0)>0,VLOOKUP(\"Oil\",HVACg_Lookup,MATCH($F$16,BuildingSize,0)+1,FALSE),IF(IFERROR(SEARCH(\"Propane\",$A$18),0)>0,VLOOKUP(\"Propane\",HVACg_Lookup,MATCH(Worksheet!$F$16,BuildingSize,0)+1,FALSE),0)))","v":0},{"$f":"Z305/1000*AA305*AC305*IF(IFERROR(SEARCH(\"Gas\",$A$18),0)>0,VLOOKUP(\"Gas\",HVACg_Lookup,MATCH($F$16,BuildingSize,0)+1,FALSE),IF(IFERROR(SEARCH(\"Oil\",$A$18),0)>0,VLOOKUP(\"Oil\",HVACg_Lookup,MATCH($F$16,BuildingSize,0)+1,FALSE),IF(IFERROR(SEARCH(\"Propane\",$A$18),0)>0,VLOOKUP(\"Propane\",HVACg_Lookup,MATCH(Worksheet!$F$16,BuildingSize,0)+1,FALSE),0)))","v":0},0,0,"",""]
[null,null,"",null,null,null,null,null,null,null,null,null,null,null,null,0,0,0,0,"",0,0,0,0,0,0,0,0,0,0,0,0,0,0,0,0,0,{"$f":"Y306/1000*AA306*AC306*IF(IFERROR(SEARCH(\"Gas\",$A$18),0)>0,VLOOKUP(\"Gas\",HVACg_Lookup,MATCH($F$16,BuildingSize,0)+1,FALSE),IF(IFERROR(SEARCH(\"Oil\",$A$18),0)>0,VLOOKUP(\"Oil\",HVACg_Lookup,MATCH($F$16,BuildingSize,0)+1,FALSE),IF(IFERROR(SEARCH(\"Propane\",$A$18),0)>0,VLOOKUP(\"Propane\",HVACg_Lookup,MATCH(Worksheet!$F$16,BuildingSize,0)+1,FALSE),0)))","v":0},{"$f":"Z306/1000*AA306*AC306*IF(IFERROR(SEARCH(\"Gas\",$A$18),0)>0,VLOOKUP(\"Gas\",HVACg_Lookup,MATCH($F$16,BuildingSize,0)+1,FALSE),IF(IFERROR(SEARCH(\"Oil\",$A$18),0)>0,VLOOKUP(\"Oil\",HVACg_Lookup,MATCH($F$16,BuildingSize,0)+1,FALSE),IF(IFERROR(SEARCH(\"Propane\",$A$18),0)>0,VLOOKUP(\"Propane\",HVACg_Lookup,MATCH(Worksheet!$F$16,BuildingSize,0)+1,FALSE),0)))","v":0},0,0,"",""]
[null,null,"",null,null,null,null,null,null,null,null,null,null,null,null,0,0,0,0,"",0,0,0,0,0,0,0,0,0,0,0,0,0,0,0,0,0,{"$f":"Y307/1000*AA307*AC307*IF(IFERROR(SEARCH(\"Gas\",$A$18),0)>0,VLOOKUP(\"Gas\",HVACg_Lookup,MATCH($F$16,BuildingSize,0)+1,FALSE),IF(IFERROR(SEARCH(\"Oil\",$A$18),0)>0,VLOOKUP(\"Oil\",HVACg_Lookup,MATCH($F$16,BuildingSize,0)+1,FALSE),IF(IFERROR(SEARCH(\"Propane\",$A$18),0)>0,VLOOKUP(\"Propane\",HVACg_Lookup,MATCH(Worksheet!$F$16,BuildingSize,0)+1,FALSE),0)))","v":0},{"$f":"Z307/1000*AA307*AC307*IF(IFERROR(SEARCH(\"Gas\",$A$18),0)>0,VLOOKUP(\"Gas\",HVACg_Lookup,MATCH($F$16,BuildingSize,0)+1,FALSE),IF(IFERROR(SEARCH(\"Oil\",$A$18),0)>0,VLOOKUP(\"Oil\",HVACg_Lookup,MATCH($F$16,BuildingSize,0)+1,FALSE),IF(IFERROR(SEARCH(\"Propane\",$A$18),0)>0,VLOOKUP(\"Propane\",HVACg_Lookup,MATCH(Worksheet!$F$16,BuildingSize,0)+1,FALSE),0)))","v":0},0,0,"",""]
[null,null,"",null,null,null,null,null,null,null,null,null,null,null,null,0,0,0,0,"",0,0,0,0,0,0,0,0,0,0,0,0,0,0,0,0,0,{"$f":"Y308/1000*AA308*AC308*IF(IFERROR(SEARCH(\"Gas\",$A$18),0)>0,VLOOKUP(\"Gas\",HVACg_Lookup,MATCH($F$16,BuildingSize,0)+1,FALSE),IF(IFERROR(SEARCH(\"Oil\",$A$18),0)>0,VLOOKUP(\"Oil\",HVACg_Lookup,MATCH($F$16,BuildingSize,0)+1,FALSE),IF(IFERROR(SEARCH(\"Propane\",$A$18),0)>0,VLOOKUP(\"Propane\",HVACg_Lookup,MATCH(Worksheet!$F$16,BuildingSize,0)+1,FALSE),0)))","v":0},{"$f":"Z308/1000*AA308*AC308*IF(IFERROR(SEARCH(\"Gas\",$A$18),0)>0,VLOOKUP(\"Gas\",HVACg_Lookup,MATCH($F$16,BuildingSize,0)+1,FALSE),IF(IFERROR(SEARCH(\"Oil\",$A$18),0)>0,VLOOKUP(\"Oil\",HVACg_Lookup,MATCH($F$16,BuildingSize,0)+1,FALSE),IF(IFERROR(SEARCH(\"Propane\",$A$18),0)>0,VLOOKUP(\"Propane\",HVACg_Lookup,MATCH(Worksheet!$F$16,BuildingSize,0)+1,FALSE),0)))","v":0},0,0,"",""]
[null,null,"",null,null,null,null,null,null,null,null,null,null,null,null,0,0,0,0,"",0,0,0,0,0,0,0,0,0,0,0,0,0,0,0,0,0,{"$f":"Y309/1000*AA309*AC309*IF(IFERROR(SEARCH(\"Gas\",$A$18),0)>0,VLOOKUP(\"Gas\",HVACg_Lookup,MATCH($F$16,BuildingSize,0)+1,FALSE),IF(IFERROR(SEARCH(\"Oil\",$A$18),0)>0,VLOOKUP(\"Oil\",HVACg_Lookup,MATCH($F$16,BuildingSize,0)+1,FALSE),IF(IFERROR(SEARCH(\"Propane\",$A$18),0)>0,VLOOKUP(\"Propane\",HVACg_Lookup,MATCH(Worksheet!$F$16,BuildingSize,0)+1,FALSE),0)))","v":0},{"$f":"Z309/1000*AA309*AC309*IF(IFERROR(SEARCH(\"Gas\",$A$18),0)>0,VLOOKUP(\"Gas\",HVACg_Lookup,MATCH($F$16,BuildingSize,0)+1,FALSE),IF(IFERROR(SEARCH(\"Oil\",$A$18),0)>0,VLOOKUP(\"Oil\",HVACg_Lookup,MATCH($F$16,BuildingSize,0)+1,FALSE),IF(IFERROR(SEARCH(\"Propane\",$A$18),0)>0,VLOOKUP(\"Propane\",HVACg_Lookup,MATCH(Worksheet!$F$16,BuildingSize,0)+1,FALSE),0)))","v":0},0,0,"",""]
[null,null,"",null,null,null,null,null,null,null,null,null,null,null,null,0,0,0,0,"",0,0,0,0,0,0,0,0,0,0,0,0,0,0,0,0,0,{"$f":"Y310/1000*AA310*AC310*IF(IFERROR(SEARCH(\"Gas\",$A$18),0)>0,VLOOKUP(\"Gas\",HVACg_Lookup,MATCH($F$16,BuildingSize,0)+1,FALSE),IF(IFERROR(SEARCH(\"Oil\",$A$18),0)>0,VLOOKUP(\"Oil\",HVACg_Lookup,MATCH($F$16,BuildingSize,0)+1,FALSE),IF(IFERROR(SEARCH(\"Propane\",$A$18),0)>0,VLOOKUP(\"Propane\",HVACg_Lookup,MATCH(Worksheet!$F$16,BuildingSize,0)+1,FALSE),0)))","v":0},{"$f":"Z310/1000*AA310*AC310*IF(IFERROR(SEARCH(\"Gas\",$A$18),0)>0,VLOOKUP(\"Gas\",HVACg_Lookup,MATCH($F$16,BuildingSize,0)+1,FALSE),IF(IFERROR(SEARCH(\"Oil\",$A$18),0)>0,VLOOKUP(\"Oil\",HVACg_Lookup,MATCH($F$16,BuildingSize,0)+1,FALSE),IF(IFERROR(SEARCH(\"Propane\",$A$18),0)>0,VLOOKUP(\"Propane\",HVACg_Lookup,MATCH(Worksheet!$F$16,BuildingSize,0)+1,FALSE),0)))","v":0},0,0,"",""]
[null,null,"",null,null,null,null,null,null,null,null,null,null,null,null,0,0,0,0,"",0,0,0,0,0,0,0,0,0,0,0,0,0,0,0,0,0,{"$f":"Y311/1000*AA311*AC311*IF(IFERROR(SEARCH(\"Gas\",$A$18),0)>0,VLOOKUP(\"Gas\",HVACg_Lookup,MATCH($F$16,BuildingSize,0)+1,FALSE),IF(IFERROR(SEARCH(\"Oil\",$A$18),0)>0,VLOOKUP(\"Oil\",HVACg_Lookup,MATCH($F$16,BuildingSize,0)+1,FALSE),IF(IFERROR(SEARCH(\"Propane\",$A$18),0)>0,VLOOKUP(\"Propane\",HVACg_Lookup,MATCH(Worksheet!$F$16,BuildingSize,0)+1,FALSE),0)))","v":0},{"$f":"Z311/1000*AA311*AC311*IF(IFERROR(SEARCH(\"Gas\",$A$18),0)>0,VLOOKUP(\"Gas\",HVACg_Lookup,MATCH($F$16,BuildingSize,0)+1,FALSE),IF(IFERROR(SEARCH(\"Oil\",$A$18),0)>0,VLOOKUP(\"Oil\",HVACg_Lookup,MATCH($F$16,BuildingSize,0)+1,FALSE),IF(IFERROR(SEARCH(\"Propane\",$A$18),0)>0,VLOOKUP(\"Propane\",HVACg_Lookup,MATCH(Worksheet!$F$16,BuildingSize,0)+1,FALSE),0)))","v":0},0,0,"",""]
[null,null,"",null,null,null,null,null,null,null,null,null,null,null,null,0,0,0,0,"",0,0,0,0,0,0,0,0,0,0,0,0,0,0,0,0,0,{"$f":"Y312/1000*AA312*AC312*IF(IFERROR(SEARCH(\"Gas\",$A$18),0)>0,VLOOKUP(\"Gas\",HVACg_Lookup,MATCH($F$16,BuildingSize,0)+1,FALSE),IF(IFERROR(SEARCH(\"Oil\",$A$18),0)>0,VLOOKUP(\"Oil\",HVACg_Lookup,MATCH($F$16,BuildingSize,0)+1,FALSE),IF(IFERROR(SEARCH(\"Propane\",$A$18),0)>0,VLOOKUP(\"Propane\",HVACg_Lookup,MATCH(Worksheet!$F$16,BuildingSize,0)+1,FALSE),0)))","v":0},{"$f":"Z312/1000*AA312*AC312*IF(IFERROR(SEARCH(\"Gas\",$A$18),0)>0,VLOOKUP(\"Gas\",HVACg_Lookup,MATCH($F$16,BuildingSize,0)+1,FALSE),IF(IFERROR(SEARCH(\"Oil\",$A$18),0)>0,VLOOKUP(\"Oil\",HVACg_Lookup,MATCH($F$16,BuildingSize,0)+1,FALSE),IF(IFERROR(SEARCH(\"Propane\",$A$18),0)>0,VLOOKUP(\"Propane\",HVACg_Lookup,MATCH(Worksheet!$F$16,BuildingSize,0)+1,FALSE),0)))","v":0},0,0,"",""]
[null,null,"",null,null,null,null,null,null,null,null,null,null,null,null,0,0,0,0,"",0,0,0,0,0,0,0,0,0,0,0,0,0,0,0,0,0,{"$f":"Y313/1000*AA313*AC313*IF(IFERROR(SEARCH(\"Gas\",$A$18),0)>0,VLOOKUP(\"Gas\",HVACg_Lookup,MATCH($F$16,BuildingSize,0)+1,FALSE),IF(IFERROR(SEARCH(\"Oil\",$A$18),0)>0,VLOOKUP(\"Oil\",HVACg_Lookup,MATCH($F$16,BuildingSize,0)+1,FALSE),IF(IFERROR(SEARCH(\"Propane\",$A$18),0)>0,VLOOKUP(\"Propane\",HVACg_Lookup,MATCH(Worksheet!$F$16,BuildingSize,0)+1,FALSE),0)))","v":0},{"$f":"Z313/1000*AA313*AC313*IF(IFERROR(SEARCH(\"Gas\",$A$18),0)>0,VLOOKUP(\"Gas\",HVACg_Lookup,MATCH($F$16,BuildingSize,0)+1,FALSE),IF(IFERROR(SEARCH(\"Oil\",$A$18),0)>0,VLOOKUP(\"Oil\",HVACg_Lookup,MATCH($F$16,BuildingSize,0)+1,FALSE),IF(IFERROR(SEARCH(\"Propane\",$A$18),0)>0,VLOOKUP(\"Propane\",HVACg_Lookup,MATCH(Worksheet!$F$16,BuildingSize,0)+1,FALSE),0)))","v":0},0,0,"",""]
[null,null,"",null,null,null,null,null,null,null,null,null,null,null,null,0,0,0,0,"",0,0,0,0,0,0,0,0,0,0,0,0,0,0,0,0,0,{"$f":"Y314/1000*AA314*AC314*IF(IFERROR(SEARCH(\"Gas\",$A$18),0)>0,VLOOKUP(\"Gas\",HVACg_Lookup,MATCH($F$16,BuildingSize,0)+1,FALSE),IF(IFERROR(SEARCH(\"Oil\",$A$18),0)>0,VLOOKUP(\"Oil\",HVACg_Lookup,MATCH($F$16,BuildingSize,0)+1,FALSE),IF(IFERROR(SEARCH(\"Propane\",$A$18),0)>0,VLOOKUP(\"Propane\",HVACg_Lookup,MATCH(Worksheet!$F$16,BuildingSize,0)+1,FALSE),0)))","v":0},{"$f":"Z314/1000*AA314*AC314*IF(IFERROR(SEARCH(\"Gas\",$A$18),0)>0,VLOOKUP(\"Gas\",HVACg_Lookup,MATCH($F$16,BuildingSize,0)+1,FALSE),IF(IFERROR(SEARCH(\"Oil\",$A$18),0)>0,VLOOKUP(\"Oil\",HVACg_Lookup,MATCH($F$16,BuildingSize,0)+1,FALSE),IF(IFERROR(SEARCH(\"Propane\",$A$18),0)>0,VLOOKUP(\"Propane\",HVACg_Lookup,MATCH(Worksheet!$F$16,BuildingSize,0)+1,FALSE),0)))","v":0},0,0,"",""]
[null,null,"",null,null,null,null,null,null,null,null,null,null,null,null,0,0,0,0,"",0,0,0,0,0,0,0,0,0,0,0,0,0,0,0,0,0,{"$f":"Y315/1000*AA315*AC315*IF(IFERROR(SEARCH(\"Gas\",$A$18),0)>0,VLOOKUP(\"Gas\",HVACg_Lookup,MATCH($F$16,BuildingSize,0)+1,FALSE),IF(IFERROR(SEARCH(\"Oil\",$A$18),0)>0,VLOOKUP(\"Oil\",HVACg_Lookup,MATCH($F$16,BuildingSize,0)+1,FALSE),IF(IFERROR(SEARCH(\"Propane\",$A$18),0)>0,VLOOKUP(\"Propane\",HVACg_Lookup,MATCH(Worksheet!$F$16,BuildingSize,0)+1,FALSE),0)))","v":0},{"$f":"Z315/1000*AA315*AC315*IF(IFERROR(SEARCH(\"Gas\",$A$18),0)>0,VLOOKUP(\"Gas\",HVACg_Lookup,MATCH($F$16,BuildingSize,0)+1,FALSE),IF(IFERROR(SEARCH(\"Oil\",$A$18),0)>0,VLOOKUP(\"Oil\",HVACg_Lookup,MATCH($F$16,BuildingSize,0)+1,FALSE),IF(IFERROR(SEARCH(\"Propane\",$A$18),0)>0,VLOOKUP(\"Propane\",HVACg_Lookup,MATCH(Worksheet!$F$16,BuildingSize,0)+1,FALSE),0)))","v":0},0,0,"",""]
[null,null,"",null,null,null,null,null,null,null,null,null,null,null,null,0,0,0,0,"",0,0,0,0,0,0,0,0,0,0,0,0,0,0,0,0,0,{"$f":"Y316/1000*AA316*AC316*IF(IFERROR(SEARCH(\"Gas\",$A$18),0)>0,VLOOKUP(\"Gas\",HVACg_Lookup,MATCH($F$16,BuildingSize,0)+1,FALSE),IF(IFERROR(SEARCH(\"Oil\",$A$18),0)>0,VLOOKUP(\"Oil\",HVACg_Lookup,MATCH($F$16,BuildingSize,0)+1,FALSE),IF(IFERROR(SEARCH(\"Propane\",$A$18),0)>0,VLOOKUP(\"Propane\",HVACg_Lookup,MATCH(Worksheet!$F$16,BuildingSize,0)+1,FALSE),0)))","v":0},{"$f":"Z316/1000*AA316*AC316*IF(IFERROR(SEARCH(\"Gas\",$A$18),0)>0,VLOOKUP(\"Gas\",HVACg_Lookup,MATCH($F$16,BuildingSize,0)+1,FALSE),IF(IFERROR(SEARCH(\"Oil\",$A$18),0)>0,VLOOKUP(\"Oil\",HVACg_Lookup,MATCH($F$16,BuildingSize,0)+1,FALSE),IF(IFERROR(SEARCH(\"Propane\",$A$18),0)>0,VLOOKUP(\"Propane\",HVACg_Lookup,MATCH(Worksheet!$F$16,BuildingSize,0)+1,FALSE),0)))","v":0},0,0,"",""]
[null,null,"",null,null,null,null,null,null,null,null,null,null,null,null,0,0,0,0,"",0,0,0,0,0,0,0,0,0,0,0,0,0,0,0,0,0,{"$f":"Y317/1000*AA317*AC317*IF(IFERROR(SEARCH(\"Gas\",$A$18),0)>0,VLOOKUP(\"Gas\",HVACg_Lookup,MATCH($F$16,BuildingSize,0)+1,FALSE),IF(IFERROR(SEARCH(\"Oil\",$A$18),0)>0,VLOOKUP(\"Oil\",HVACg_Lookup,MATCH($F$16,BuildingSize,0)+1,FALSE),IF(IFERROR(SEARCH(\"Propane\",$A$18),0)>0,VLOOKUP(\"Propane\",HVACg_Lookup,MATCH(Worksheet!$F$16,BuildingSize,0)+1,FALSE),0)))","v":0},{"$f":"Z317/1000*AA317*AC317*IF(IFERROR(SEARCH(\"Gas\",$A$18),0)>0,VLOOKUP(\"Gas\",HVACg_Lookup,MATCH($F$16,BuildingSize,0)+1,FALSE),IF(IFERROR(SEARCH(\"Oil\",$A$18),0)>0,VLOOKUP(\"Oil\",HVACg_Lookup,MATCH($F$16,BuildingSize,0)+1,FALSE),IF(IFERROR(SEARCH(\"Propane\",$A$18),0)>0,VLOOKUP(\"Propane\",HVACg_Lookup,MATCH(Worksheet!$F$16,BuildingSize,0)+1,FALSE),0)))","v":0},0,0,"",""]
[null,null,"",null,null,null,null,null,null,null,null,null,null,null,null,0,0,0,0,"",0,0,0,0,0,0,0,0,0,0,0,0,0,0,0,0,0,{"$f":"Y318/1000*AA318*AC318*IF(IFERROR(SEARCH(\"Gas\",$A$18),0)>0,VLOOKUP(\"Gas\",HVACg_Lookup,MATCH($F$16,BuildingSize,0)+1,FALSE),IF(IFERROR(SEARCH(\"Oil\",$A$18),0)>0,VLOOKUP(\"Oil\",HVACg_Lookup,MATCH($F$16,BuildingSize,0)+1,FALSE),IF(IFERROR(SEARCH(\"Propane\",$A$18),0)>0,VLOOKUP(\"Propane\",HVACg_Lookup,MATCH(Worksheet!$F$16,BuildingSize,0)+1,FALSE),0)))","v":0},{"$f":"Z318/1000*AA318*AC318*IF(IFERROR(SEARCH(\"Gas\",$A$18),0)>0,VLOOKUP(\"Gas\",HVACg_Lookup,MATCH($F$16,BuildingSize,0)+1,FALSE),IF(IFERROR(SEARCH(\"Oil\",$A$18),0)>0,VLOOKUP(\"Oil\",HVACg_Lookup,MATCH($F$16,BuildingSize,0)+1,FALSE),IF(IFERROR(SEARCH(\"Propane\",$A$18),0)>0,VLOOKUP(\"Propane\",HVACg_Lookup,MATCH(Worksheet!$F$16,BuildingSize,0)+1,FALSE),0)))","v":0},0,0,"",""]
[null,null,"",null,null,null,null,null,null,null,null,null,null,null,null,0,0,0,0,"",0,0,0,0,0,0,0,0,0,0,0,0,0,0,0,0,0,{"$f":"Y319/1000*AA319*AC319*IF(IFERROR(SEARCH(\"Gas\",$A$18),0)>0,VLOOKUP(\"Gas\",HVACg_Lookup,MATCH($F$16,BuildingSize,0)+1,FALSE),IF(IFERROR(SEARCH(\"Oil\",$A$18),0)>0,VLOOKUP(\"Oil\",HVACg_Lookup,MATCH($F$16,BuildingSize,0)+1,FALSE),IF(IFERROR(SEARCH(\"Propane\",$A$18),0)>0,VLOOKUP(\"Propane\",HVACg_Lookup,MATCH(Worksheet!$F$16,BuildingSize,0)+1,FALSE),0)))","v":0},{"$f":"Z319/1000*AA319*AC319*IF(IFERROR(SEARCH(\"Gas\",$A$18),0)>0,VLOOKUP(\"Gas\",HVACg_Lookup,MATCH($F$16,BuildingSize,0)+1,FALSE),IF(IFERROR(SEARCH(\"Oil\",$A$18),0)>0,VLOOKUP(\"Oil\",HVACg_Lookup,MATCH($F$16,BuildingSize,0)+1,FALSE),IF(IFERROR(SEARCH(\"Propane\",$A$18),0)>0,VLOOKUP(\"Propane\",HVACg_Lookup,MATCH(Worksheet!$F$16,BuildingSize,0)+1,FALSE),0)))","v":0},0,0,"",""]
[null,null,"",null,null,null,null,null,null,null,null,null,null,null,null,0,0,0,0,"",0,0,0,0,0,0,0,0,0,0,0,0,0,0,0,0,0,{"$f":"Y320/1000*AA320*AC320*IF(IFERROR(SEARCH(\"Gas\",$A$18),0)>0,VLOOKUP(\"Gas\",HVACg_Lookup,MATCH($F$16,BuildingSize,0)+1,FALSE),IF(IFERROR(SEARCH(\"Oil\",$A$18),0)>0,VLOOKUP(\"Oil\",HVACg_Lookup,MATCH($F$16,BuildingSize,0)+1,FALSE),IF(IFERROR(SEARCH(\"Propane\",$A$18),0)>0,VLOOKUP(\"Propane\",HVACg_Lookup,MATCH(Worksheet!$F$16,BuildingSize,0)+1,FALSE),0)))","v":0},{"$f":"Z320/1000*AA320*AC320*IF(IFERROR(SEARCH(\"Gas\",$A$18),0)>0,VLOOKUP(\"Gas\",HVACg_Lookup,MATCH($F$16,BuildingSize,0)+1,FALSE),IF(IFERROR(SEARCH(\"Oil\",$A$18),0)>0,VLOOKUP(\"Oil\",HVACg_Lookup,MATCH($F$16,BuildingSize,0)+1,FALSE),IF(IFERROR(SEARCH(\"Propane\",$A$18),0)>0,VLOOKUP(\"Propane\",HVACg_Lookup,MATCH(Worksheet!$F$16,BuildingSize,0)+1,FALSE),0)))","v":0},0,0,"",""]
[null,null,"",null,null,null,null,null,null,null,null,null,null,null,null,0,0,0,0,"",0,0,0,0,0,0,0,0,0,0,0,0,0,0,0,0,0,{"$f":"Y321/1000*AA321*AC321*IF(IFERROR(SEARCH(\"Gas\",$A$18),0)>0,VLOOKUP(\"Gas\",HVACg_Lookup,MATCH($F$16,BuildingSize,0)+1,FALSE),IF(IFERROR(SEARCH(\"Oil\",$A$18),0)>0,VLOOKUP(\"Oil\",HVACg_Lookup,MATCH($F$16,BuildingSize,0)+1,FALSE),IF(IFERROR(SEARCH(\"Propane\",$A$18),0)>0,VLOOKUP(\"Propane\",HVACg_Lookup,MATCH(Worksheet!$F$16,BuildingSize,0)+1,FALSE),0)))","v":0},{"$f":"Z321/1000*AA321*AC321*IF(IFERROR(SEARCH(\"Gas\",$A$18),0)>0,VLOOKUP(\"Gas\",HVACg_Lookup,MATCH($F$16,BuildingSize,0)+1,FALSE),IF(IFERROR(SEARCH(\"Oil\",$A$18),0)>0,VLOOKUP(\"Oil\",HVACg_Lookup,MATCH($F$16,BuildingSize,0)+1,FALSE),IF(IFERROR(SEARCH(\"Propane\",$A$18),0)>0,VLOOKUP(\"Propane\",HVACg_Lookup,MATCH(Worksheet!$F$16,BuildingSize,0)+1,FALSE),0)))","v":0},0,0,"",""]
[null,null,"",null,null,null,null,null,null,null,null,null,null,null,null,0,0,0,0,"",0,0,0,0,0,0,0,0,0,0,0,0,0,0,0,0,0,{"$f":"Y322/1000*AA322*AC322*IF(IFERROR(SEARCH(\"Gas\",$A$18),0)>0,VLOOKUP(\"Gas\",HVACg_Lookup,MATCH($F$16,BuildingSize,0)+1,FALSE),IF(IFERROR(SEARCH(\"Oil\",$A$18),0)>0,VLOOKUP(\"Oil\",HVACg_Lookup,MATCH($F$16,BuildingSize,0)+1,FALSE),IF(IFERROR(SEARCH(\"Propane\",$A$18),0)>0,VLOOKUP(\"Propane\",HVACg_Lookup,MATCH(Worksheet!$F$16,BuildingSize,0)+1,FALSE),0)))","v":0},{"$f":"Z322/1000*AA322*AC322*IF(IFERROR(SEARCH(\"Gas\",$A$18),0)>0,VLOOKUP(\"Gas\",HVACg_Lookup,MATCH($F$16,BuildingSize,0)+1,FALSE),IF(IFERROR(SEARCH(\"Oil\",$A$18),0)>0,VLOOKUP(\"Oil\",HVACg_Lookup,MATCH($F$16,BuildingSize,0)+1,FALSE),IF(IFERROR(SEARCH(\"Propane\",$A$18),0)>0,VLOOKUP(\"Propane\",HVACg_Lookup,MATCH(Worksheet!$F$16,BuildingSize,0)+1,FALSE),0)))","v":0},0,0,"",""]
[null,null,"",null,null,null,null,null,null,null,null,null,null,null,null,0,0,0,0,"",0,0,0,0,0,0,0,0,0,0,0,0,0,0,0,0,0,{"$f":"Y323/1000*AA323*AC323*IF(IFERROR(SEARCH(\"Gas\",$A$18),0)>0,VLOOKUP(\"Gas\",HVACg_Lookup,MATCH($F$16,BuildingSize,0)+1,FALSE),IF(IFERROR(SEARCH(\"Oil\",$A$18),0)>0,VLOOKUP(\"Oil\",HVACg_Lookup,MATCH($F$16,BuildingSize,0)+1,FALSE),IF(IFERROR(SEARCH(\"Propane\",$A$18),0)>0,VLOOKUP(\"Propane\",HVACg_Lookup,MATCH(Worksheet!$F$16,BuildingSize,0)+1,FALSE),0)))","v":0},{"$f":"Z323/1000*AA323*AC323*IF(IFERROR(SEARCH(\"Gas\",$A$18),0)>0,VLOOKUP(\"Gas\",HVACg_Lookup,MATCH($F$16,BuildingSize,0)+1,FALSE),IF(IFERROR(SEARCH(\"Oil\",$A$18),0)>0,VLOOKUP(\"Oil\",HVACg_Lookup,MATCH($F$16,BuildingSize,0)+1,FALSE),IF(IFERROR(SEARCH(\"Propane\",$A$18),0)>0,VLOOKUP(\"Propane\",HVACg_Lookup,MATCH(Worksheet!$F$16,BuildingSize,0)+1,FALSE),0)))","v":0},0,0,"",""]
[null,null,"",null,null,null,null,null,null,null,null,null,null,null,null,0,0,0,0,"",0,0,0,0,0,0,0,0,0,0,0,0,0,0,0,0,0,{"$f":"Y324/1000*AA324*AC324*IF(IFERROR(SEARCH(\"Gas\",$A$18),0)>0,VLOOKUP(\"Gas\",HVACg_Lookup,MATCH($F$16,BuildingSize,0)+1,FALSE),IF(IFERROR(SEARCH(\"Oil\",$A$18),0)>0,VLOOKUP(\"Oil\",HVACg_Lookup,MATCH($F$16,BuildingSize,0)+1,FALSE),IF(IFERROR(SEARCH(\"Propane\",$A$18),0)>0,VLOOKUP(\"Propane\",HVACg_Lookup,MATCH(Worksheet!$F$16,BuildingSize,0)+1,FALSE),0)))","v":0},{"$f":"Z324/1000*AA324*AC324*IF(IFERROR(SEARCH(\"Gas\",$A$18),0)>0,VLOOKUP(\"Gas\",HVACg_Lookup,MATCH($F$16,BuildingSize,0)+1,FALSE),IF(IFERROR(SEARCH(\"Oil\",$A$18),0)>0,VLOOKUP(\"Oil\",HVACg_Lookup,MATCH($F$16,BuildingSize,0)+1,FALSE),IF(IFERROR(SEARCH(\"Propane\",$A$18),0)>0,VLOOKUP(\"Propane\",HVACg_Lookup,MATCH(Worksheet!$F$16,BuildingSize,0)+1,FALSE),0)))","v":0},0,0,"",""]
[null,null,"",null,null,null,null,null,null,null,null,null,null,null,null,0,0,0,0,"",0,0,0,0,0,0,0,0,0,0,0,0,0,0,0,0,0,{"$f":"Y325/1000*AA325*AC325*IF(IFERROR(SEARCH(\"Gas\",$A$18),0)>0,VLOOKUP(\"Gas\",HVACg_Lookup,MATCH($F$16,BuildingSize,0)+1,FALSE),IF(IFERROR(SEARCH(\"Oil\",$A$18),0)>0,VLOOKUP(\"Oil\",HVACg_Lookup,MATCH($F$16,BuildingSize,0)+1,FALSE),IF(IFERROR(SEARCH(\"Propane\",$A$18),0)>0,VLOOKUP(\"Propane\",HVACg_Lookup,MATCH(Worksheet!$F$16,BuildingSize,0)+1,FALSE),0)))","v":0},{"$f":"Z325/1000*AA325*AC325*IF(IFERROR(SEARCH(\"Gas\",$A$18),0)>0,VLOOKUP(\"Gas\",HVACg_Lookup,MATCH($F$16,BuildingSize,0)+1,FALSE),IF(IFERROR(SEARCH(\"Oil\",$A$18),0)>0,VLOOKUP(\"Oil\",HVACg_Lookup,MATCH($F$16,BuildingSize,0)+1,FALSE),IF(IFERROR(SEARCH(\"Propane\",$A$18),0)>0,VLOOKUP(\"Propane\",HVACg_Lookup,MATCH(Worksheet!$F$16,BuildingSize,0)+1,FALSE),0)))","v":0},0,0,"",""]
[null,null,"",null,null,null,null,null,null,null,null,null,null,null,null,0,0,0,0,"",0,0,0,0,0,0,0,0,0,0,0,0,0,0,0,0,0,{"$f":"Y326/1000*AA326*AC326*IF(IFERROR(SEARCH(\"Gas\",$A$18),0)>0,VLOOKUP(\"Gas\",HVACg_Lookup,MATCH($F$16,BuildingSize,0)+1,FALSE),IF(IFERROR(SEARCH(\"Oil\",$A$18),0)>0,VLOOKUP(\"Oil\",HVACg_Lookup,MATCH($F$16,BuildingSize,0)+1,FALSE),IF(IFERROR(SEARCH(\"Propane\",$A$18),0)>0,VLOOKUP(\"Propane\",HVACg_Lookup,MATCH(Worksheet!$F$16,BuildingSize,0)+1,FALSE),0)))","v":0},{"$f":"Z326/1000*AA326*AC326*IF(IFERROR(SEARCH(\"Gas\",$A$18),0)>0,VLOOKUP(\"Gas\",HVACg_Lookup,MATCH($F$16,BuildingSize,0)+1,FALSE),IF(IFERROR(SEARCH(\"Oil\",$A$18),0)>0,VLOOKUP(\"Oil\",HVACg_Lookup,MATCH($F$16,BuildingSize,0)+1,FALSE),IF(IFERROR(SEARCH(\"Propane\",$A$18),0)>0,VLOOKUP(\"Propane\",HVACg_Lookup,MATCH(Worksheet!$F$16,BuildingSize,0)+1,FALSE),0)))","v":0},0,0,"",""]
[null,null,"",null,null,null,null,null,null,null,null,null,null,null,null,0,0,0,0,"",0,0,0,0,0,0,0,0,0,0,0,0,0,0,0,0,0,{"$f":"Y327/1000*AA327*AC327*IF(IFERROR(SEARCH(\"Gas\",$A$18),0)>0,VLOOKUP(\"Gas\",HVACg_Lookup,MATCH($F$16,BuildingSize,0)+1,FALSE),IF(IFERROR(SEARCH(\"Oil\",$A$18),0)>0,VLOOKUP(\"Oil\",HVACg_Lookup,MATCH($F$16,BuildingSize,0)+1,FALSE),IF(IFERROR(SEARCH(\"Propane\",$A$18),0)>0,VLOOKUP(\"Propane\",HVACg_Lookup,MATCH(Worksheet!$F$16,BuildingSize,0)+1,FALSE),0)))","v":0},{"$f":"Z327/1000*AA327*AC327*IF(IFERROR(SEARCH(\"Gas\",$A$18),0)>0,VLOOKUP(\"Gas\",HVACg_Lookup,MATCH($F$16,BuildingSize,0)+1,FALSE),IF(IFERROR(SEARCH(\"Oil\",$A$18),0)>0,VLOOKUP(\"Oil\",HVACg_Lookup,MATCH($F$16,BuildingSize,0)+1,FALSE),IF(IFERROR(SEARCH(\"Propane\",$A$18),0)>0,VLOOKUP(\"Propane\",HVACg_Lookup,MATCH(Worksheet!$F$16,BuildingSize,0)+1,FALSE),0)))","v":0},0,0,"",""]
[null,null,"",null,null,null,null,null,null,null,null,null,null,null,null,0,0,0,0,"",0,0,0,0,0,0,0,0,0,0,0,0,0,0,0,0,0,{"$f":"Y328/1000*AA328*AC328*IF(IFERROR(SEARCH(\"Gas\",$A$18),0)>0,VLOOKUP(\"Gas\",HVACg_Lookup,MATCH($F$16,BuildingSize,0)+1,FALSE),IF(IFERROR(SEARCH(\"Oil\",$A$18),0)>0,VLOOKUP(\"Oil\",HVACg_Lookup,MATCH($F$16,BuildingSize,0)+1,FALSE),IF(IFERROR(SEARCH(\"Propane\",$A$18),0)>0,VLOOKUP(\"Propane\",HVACg_Lookup,MATCH(Worksheet!$F$16,BuildingSize,0)+1,FALSE),0)))","v":0},{"$f":"Z328/1000*AA328*AC328*IF(IFERROR(SEARCH(\"Gas\",$A$18),0)>0,VLOOKUP(\"Gas\",HVACg_Lookup,MATCH($F$16,BuildingSize,0)+1,FALSE),IF(IFERROR(SEARCH(\"Oil\",$A$18),0)>0,VLOOKUP(\"Oil\",HVACg_Lookup,MATCH($F$16,BuildingSize,0)+1,FALSE),IF(IFERROR(SEARCH(\"Propane\",$A$18),0)>0,VLOOKUP(\"Propane\",HVACg_Lookup,MATCH(Worksheet!$F$16,BuildingSize,0)+1,FALSE),0)))","v":0},0,0,"",""]
[null,null,"",null,null,null,null,null,null,null,null,null,null,null,null,0,0,0,0,"",0,0,0,0,0,0,0,0,0,0,0,0,0,0,0,0,0,{"$f":"Y329/1000*AA329*AC329*IF(IFERROR(SEARCH(\"Gas\",$A$18),0)>0,VLOOKUP(\"Gas\",HVACg_Lookup,MATCH($F$16,BuildingSize,0)+1,FALSE),IF(IFERROR(SEARCH(\"Oil\",$A$18),0)>0,VLOOKUP(\"Oil\",HVACg_Lookup,MATCH($F$16,BuildingSize,0)+1,FALSE),IF(IFERROR(SEARCH(\"Propane\",$A$18),0)>0,VLOOKUP(\"Propane\",HVACg_Lookup,MATCH(Worksheet!$F$16,BuildingSize,0)+1,FALSE),0)))","v":0},{"$f":"Z329/1000*AA329*AC329*IF(IFERROR(SEARCH(\"Gas\",$A$18),0)>0,VLOOKUP(\"Gas\",HVACg_Lookup,MATCH($F$16,BuildingSize,0)+1,FALSE),IF(IFERROR(SEARCH(\"Oil\",$A$18),0)>0,VLOOKUP(\"Oil\",HVACg_Lookup,MATCH($F$16,BuildingSize,0)+1,FALSE),IF(IFERROR(SEARCH(\"Propane\",$A$18),0)>0,VLOOKUP(\"Propane\",HVACg_Lookup,MATCH(Worksheet!$F$16,BuildingSize,0)+1,FALSE),0)))","v":0},0,0,"",""]
[null,null,"",null,null,null,null,null,null,null,null,null,null,null,null,0,0,0,0,"",0,0,0,0,0,0,0,0,0,0,0,0,0,0,0,0,0,{"$f":"Y330/1000*AA330*AC330*IF(IFERROR(SEARCH(\"Gas\",$A$18),0)>0,VLOOKUP(\"Gas\",HVACg_Lookup,MATCH($F$16,BuildingSize,0)+1,FALSE),IF(IFERROR(SEARCH(\"Oil\",$A$18),0)>0,VLOOKUP(\"Oil\",HVACg_Lookup,MATCH($F$16,BuildingSize,0)+1,FALSE),IF(IFERROR(SEARCH(\"Propane\",$A$18),0)>0,VLOOKUP(\"Propane\",HVACg_Lookup,MATCH(Worksheet!$F$16,BuildingSize,0)+1,FALSE),0)))","v":0},{"$f":"Z330/1000*AA330*AC330*IF(IFERROR(SEARCH(\"Gas\",$A$18),0)>0,VLOOKUP(\"Gas\",HVACg_Lookup,MATCH($F$16,BuildingSize,0)+1,FALSE),IF(IFERROR(SEARCH(\"Oil\",$A$18),0)>0,VLOOKUP(\"Oil\",HVACg_Lookup,MATCH($F$16,BuildingSize,0)+1,FALSE),IF(IFERROR(SEARCH(\"Propane\",$A$18),0)>0,VLOOKUP(\"Propane\",HVACg_Lookup,MATCH(Worksheet!$F$16,BuildingSize,0)+1,FALSE),0)))","v":0},0,0,"",""]
[null,null,"",null,null,null,null,null,null,null,null,null,null,null,null,0,0,0,0,"",0,0,0,0,0,0,0,0,0,0,0,0,0,0,0,0,0,{"$f":"Y331/1000*AA331*AC331*IF(IFERROR(SEARCH(\"Gas\",$A$18),0)>0,VLOOKUP(\"Gas\",HVACg_Lookup,MATCH($F$16,BuildingSize,0)+1,FALSE),IF(IFERROR(SEARCH(\"Oil\",$A$18),0)>0,VLOOKUP(\"Oil\",HVACg_Lookup,MATCH($F$16,BuildingSize,0)+1,FALSE),IF(IFERROR(SEARCH(\"Propane\",$A$18),0)>0,VLOOKUP(\"Propane\",HVACg_Lookup,MATCH(Worksheet!$F$16,BuildingSize,0)+1,FALSE),0)))","v":0},{"$f":"Z331/1000*AA331*AC331*IF(IFERROR(SEARCH(\"Gas\",$A$18),0)>0,VLOOKUP(\"Gas\",HVACg_Lookup,MATCH($F$16,BuildingSize,0)+1,FALSE),IF(IFERROR(SEARCH(\"Oil\",$A$18),0)>0,VLOOKUP(\"Oil\",HVACg_Lookup,MATCH($F$16,BuildingSize,0)+1,FALSE),IF(IFERROR(SEARCH(\"Propane\",$A$18),0)>0,VLOOKUP(\"Propane\",HVACg_Lookup,MATCH(Worksheet!$F$16,BuildingSize,0)+1,FALSE),0)))","v":0},0,0,"",""]
[null,null,"",null,null,null,null,null,null,null,null,null,null,null,null,0,0,0,0,"",0,0,0,0,0,0,0,0,0,0,0,0,0,0,0,0,0,{"$f":"Y332/1000*AA332*AC332*IF(IFERROR(SEARCH(\"Gas\",$A$18),0)>0,VLOOKUP(\"Gas\",HVACg_Lookup,MATCH($F$16,BuildingSize,0)+1,FALSE),IF(IFERROR(SEARCH(\"Oil\",$A$18),0)>0,VLOOKUP(\"Oil\",HVACg_Lookup,MATCH($F$16,BuildingSize,0)+1,FALSE),IF(IFERROR(SEARCH(\"Propane\",$A$18),0)>0,VLOOKUP(\"Propane\",HVACg_Lookup,MATCH(Worksheet!$F$16,BuildingSize,0)+1,FALSE),0)))","v":0},{"$f":"Z332/1000*AA332*AC332*IF(IFERROR(SEARCH(\"Gas\",$A$18),0)>0,VLOOKUP(\"Gas\",HVACg_Lookup,MATCH($F$16,BuildingSize,0)+1,FALSE),IF(IFERROR(SEARCH(\"Oil\",$A$18),0)>0,VLOOKUP(\"Oil\",HVACg_Lookup,MATCH($F$16,BuildingSize,0)+1,FALSE),IF(IFERROR(SEARCH(\"Propane\",$A$18),0)>0,VLOOKUP(\"Propane\",HVACg_Lookup,MATCH(Worksheet!$F$16,BuildingSize,0)+1,FALSE),0)))","v":0},0,0,"",""]
[null,null,"",null,null,null,null,null,null,null,null,null,null,null,null,0,0,0,0,"",0,0,0,0,0,0,0,0,0,0,0,0,0,0,0,0,0,{"$f":"Y333/1000*AA333*AC333*IF(IFERROR(SEARCH(\"Gas\",$A$18),0)>0,VLOOKUP(\"Gas\",HVACg_Lookup,MATCH($F$16,BuildingSize,0)+1,FALSE),IF(IFERROR(SEARCH(\"Oil\",$A$18),0)>0,VLOOKUP(\"Oil\",HVACg_Lookup,MATCH($F$16,BuildingSize,0)+1,FALSE),IF(IFERROR(SEARCH(\"Propane\",$A$18),0)>0,VLOOKUP(\"Propane\",HVACg_Lookup,MATCH(Worksheet!$F$16,BuildingSize,0)+1,FALSE),0)))","v":0},{"$f":"Z333/1000*AA333*AC333*IF(IFERROR(SEARCH(\"Gas\",$A$18),0)>0,VLOOKUP(\"Gas\",HVACg_Lookup,MATCH($F$16,BuildingSize,0)+1,FALSE),IF(IFERROR(SEARCH(\"Oil\",$A$18),0)>0,VLOOKUP(\"Oil\",HVACg_Lookup,MATCH($F$16,BuildingSize,0)+1,FALSE),IF(IFERROR(SEARCH(\"Propane\",$A$18),0)>0,VLOOKUP(\"Propane\",HVACg_Lookup,MATCH(Worksheet!$F$16,BuildingSize,0)+1,FALSE),0)))","v":0},0,0,"",""]
[null,null,"",null,null,null,null,null,null,null,null,null,null,null,null,0,0,0,0,"",0,0,0,0,0,0,0,0,0,0,0,0,0,0,0,0,0,{"$f":"Y334/1000*AA334*AC334*IF(IFERROR(SEARCH(\"Gas\",$A$18),0)>0,VLOOKUP(\"Gas\",HVACg_Lookup,MATCH($F$16,BuildingSize,0)+1,FALSE),IF(IFERROR(SEARCH(\"Oil\",$A$18),0)>0,VLOOKUP(\"Oil\",HVACg_Lookup,MATCH($F$16,BuildingSize,0)+1,FALSE),IF(IFERROR(SEARCH(\"Propane\",$A$18),0)>0,VLOOKUP(\"Propane\",HVACg_Lookup,MATCH(Worksheet!$F$16,BuildingSize,0)+1,FALSE),0)))","v":0},{"$f":"Z334/1000*AA334*AC334*IF(IFERROR(SEARCH(\"Gas\",$A$18),0)>0,VLOOKUP(\"Gas\",HVACg_Lookup,MATCH($F$16,BuildingSize,0)+1,FALSE),IF(IFERROR(SEARCH(\"Oil\",$A$18),0)>0,VLOOKUP(\"Oil\",HVACg_Lookup,MATCH($F$16,BuildingSize,0)+1,FALSE),IF(IFERROR(SEARCH(\"Propane\",$A$18),0)>0,VLOOKUP(\"Propane\",HVACg_Lookup,MATCH(Worksheet!$F$16,BuildingSize,0)+1,FALSE),0)))","v":0},0,0,"",""]
[null,null,"",null,null,null,null,null,null,null,null,null,null,null,null,0,0,0,0,"",0,0,0,0,0,0,0,0,0,0,0,0,0,0,0,0,0,{"$f":"Y335/1000*AA335*AC335*IF(IFERROR(SEARCH(\"Gas\",$A$18),0)>0,VLOOKUP(\"Gas\",HVACg_Lookup,MATCH($F$16,BuildingSize,0)+1,FALSE),IF(IFERROR(SEARCH(\"Oil\",$A$18),0)>0,VLOOKUP(\"Oil\",HVACg_Lookup,MATCH($F$16,BuildingSize,0)+1,FALSE),IF(IFERROR(SEARCH(\"Propane\",$A$18),0)>0,VLOOKUP(\"Propane\",HVACg_Lookup,MATCH(Worksheet!$F$16,BuildingSize,0)+1,FALSE),0)))","v":0},{"$f":"Z335/1000*AA335*AC335*IF(IFERROR(SEARCH(\"Gas\",$A$18),0)>0,VLOOKUP(\"Gas\",HVACg_Lookup,MATCH($F$16,BuildingSize,0)+1,FALSE),IF(IFERROR(SEARCH(\"Oil\",$A$18),0)>0,VLOOKUP(\"Oil\",HVACg_Lookup,MATCH($F$16,BuildingSize,0)+1,FALSE),IF(IFERROR(SEARCH(\"Propane\",$A$18),0)>0,VLOOKUP(\"Propane\",HVACg_Lookup,MATCH(Worksheet!$F$16,BuildingSize,0)+1,FALSE),0)))","v":0},0,0,"",""]
[null,null,"",null,null,null,null,null,null,null,null,null,null,null,null,0,0,0,0,"",0,0,0,0,0,0,0,0,0,0,0,0,0,0,0,0,0,{"$f":"Y336/1000*AA336*AC336*IF(IFERROR(SEARCH(\"Gas\",$A$18),0)>0,VLOOKUP(\"Gas\",HVACg_Lookup,MATCH($F$16,BuildingSize,0)+1,FALSE),IF(IFERROR(SEARCH(\"Oil\",$A$18),0)>0,VLOOKUP(\"Oil\",HVACg_Lookup,MATCH($F$16,BuildingSize,0)+1,FALSE),IF(IFERROR(SEARCH(\"Propane\",$A$18),0)>0,VLOOKUP(\"Propane\",HVACg_Lookup,MATCH(Worksheet!$F$16,BuildingSize,0)+1,FALSE),0)))","v":0},{"$f":"Z336/1000*AA336*AC336*IF(IFERROR(SEARCH(\"Gas\",$A$18),0)>0,VLOOKUP(\"Gas\",HVACg_Lookup,MATCH($F$16,BuildingSize,0)+1,FALSE),IF(IFERROR(SEARCH(\"Oil\",$A$18),0)>0,VLOOKUP(\"Oil\",HVACg_Lookup,MATCH($F$16,BuildingSize,0)+1,FALSE),IF(IFERROR(SEARCH(\"Propane\",$A$18),0)>0,VLOOKUP(\"Propane\",HVACg_Lookup,MATCH(Worksheet!$F$16,BuildingSize,0)+1,FALSE),0)))","v":0},0,0,"",""]
[null,null,"",null,null,null,null,null,null,null,null,null,null,null,null,0,0,0,0,"",0,0,0,0,0,0,0,0,0,0,0,0,0,0,0,0,0,{"$f":"Y337/1000*AA337*AC337*IF(IFERROR(SEARCH(\"Gas\",$A$18),0)>0,VLOOKUP(\"Gas\",HVACg_Lookup,MATCH($F$16,BuildingSize,0)+1,FALSE),IF(IFERROR(SEARCH(\"Oil\",$A$18),0)>0,VLOOKUP(\"Oil\",HVACg_Lookup,MATCH($F$16,BuildingSize,0)+1,FALSE),IF(IFERROR(SEARCH(\"Propane\",$A$18),0)>0,VLOOKUP(\"Propane\",HVACg_Lookup,MATCH(Worksheet!$F$16,BuildingSize,0)+1,FALSE),0)))","v":0},{"$f":"Z337/1000*AA337*AC337*IF(IFERROR(SEARCH(\"Gas\",$A$18),0)>0,VLOOKUP(\"Gas\",HVACg_Lookup,MATCH($F$16,BuildingSize,0)+1,FALSE),IF(IFERROR(SEARCH(\"Oil\",$A$18),0)>0,VLOOKUP(\"Oil\",HVACg_Lookup,MATCH($F$16,BuildingSize,0)+1,FALSE),IF(IFERROR(SEARCH(\"Propane\",$A$18),0)>0,VLOOKUP(\"Propane\",HVACg_Lookup,MATCH(Worksheet!$F$16,BuildingSize,0)+1,FALSE),0)))","v":0},0,0,"",""]
[null,null,"",null,null,null,null,null,null,null,null,null,null,null,null,0,0,0,0,"",0,0,0,0,0,0,0,0,0,0,0,0,0,0,0,0,0,{"$f":"Y338/1000*AA338*AC338*IF(IFERROR(SEARCH(\"Gas\",$A$18),0)>0,VLOOKUP(\"Gas\",HVACg_Lookup,MATCH($F$16,BuildingSize,0)+1,FALSE),IF(IFERROR(SEARCH(\"Oil\",$A$18),0)>0,VLOOKUP(\"Oil\",HVACg_Lookup,MATCH($F$16,BuildingSize,0)+1,FALSE),IF(IFERROR(SEARCH(\"Propane\",$A$18),0)>0,VLOOKUP(\"Propane\",HVACg_Lookup,MATCH(Worksheet!$F$16,BuildingSize,0)+1,FALSE),0)))","v":0},{"$f":"Z338/1000*AA338*AC338*IF(IFERROR(SEARCH(\"Gas\",$A$18),0)>0,VLOOKUP(\"Gas\",HVACg_Lookup,MATCH($F$16,BuildingSize,0)+1,FALSE),IF(IFERROR(SEARCH(\"Oil\",$A$18),0)>0,VLOOKUP(\"Oil\",HVACg_Lookup,MATCH($F$16,BuildingSize,0)+1,FALSE),IF(IFERROR(SEARCH(\"Propane\",$A$18),0)>0,VLOOKUP(\"Propane\",HVACg_Lookup,MATCH(Worksheet!$F$16,BuildingSize,0)+1,FALSE),0)))","v":0},0,0,"",""]
[null,null,"",null,null,null,null,null,null,null,null,null,null,null,null,0,0,0,0,"",0,0,0,0,0,0,0,0,0,0,0,0,0,0,0,0,0,{"$f":"Y339/1000*AA339*AC339*IF(IFERROR(SEARCH(\"Gas\",$A$18),0)>0,VLOOKUP(\"Gas\",HVACg_Lookup,MATCH($F$16,BuildingSize,0)+1,FALSE),IF(IFERROR(SEARCH(\"Oil\",$A$18),0)>0,VLOOKUP(\"Oil\",HVACg_Lookup,MATCH($F$16,BuildingSize,0)+1,FALSE),IF(IFERROR(SEARCH(\"Propane\",$A$18),0)>0,VLOOKUP(\"Propane\",HVACg_Lookup,MATCH(Worksheet!$F$16,BuildingSize,0)+1,FALSE),0)))","v":0},{"$f":"Z339/1000*AA339*AC339*IF(IFERROR(SEARCH(\"Gas\",$A$18),0)>0,VLOOKUP(\"Gas\",HVACg_Lookup,MATCH($F$16,BuildingSize,0)+1,FALSE),IF(IFERROR(SEARCH(\"Oil\",$A$18),0)>0,VLOOKUP(\"Oil\",HVACg_Lookup,MATCH($F$16,BuildingSize,0)+1,FALSE),IF(IFERROR(SEARCH(\"Propane\",$A$18),0)>0,VLOOKUP(\"Propane\",HVACg_Lookup,MATCH(Worksheet!$F$16,BuildingSize,0)+1,FALSE),0)))","v":0},0,0,"",""]
[null,null,"",null,null,null,null,null,null,null,null,null,null,null,null,0,0,0,0,"",0,0,0,0,0,0,0,0,0,0,0,0,0,0,0,0,0,{"$f":"Y340/1000*AA340*AC340*IF(IFERROR(SEARCH(\"Gas\",$A$18),0)>0,VLOOKUP(\"Gas\",HVACg_Lookup,MATCH($F$16,BuildingSize,0)+1,FALSE),IF(IFERROR(SEARCH(\"Oil\",$A$18),0)>0,VLOOKUP(\"Oil\",HVACg_Lookup,MATCH($F$16,BuildingSize,0)+1,FALSE),IF(IFERROR(SEARCH(\"Propane\",$A$18),0)>0,VLOOKUP(\"Propane\",HVACg_Lookup,MATCH(Worksheet!$F$16,BuildingSize,0)+1,FALSE),0)))","v":0},{"$f":"Z340/1000*AA340*AC340*IF(IFERROR(SEARCH(\"Gas\",$A$18),0)>0,VLOOKUP(\"Gas\",HVACg_Lookup,MATCH($F$16,BuildingSize,0)+1,FALSE),IF(IFERROR(SEARCH(\"Oil\",$A$18),0)>0,VLOOKUP(\"Oil\",HVACg_Lookup,MATCH($F$16,BuildingSize,0)+1,FALSE),IF(IFERROR(SEARCH(\"Propane\",$A$18),0)>0,VLOOKUP(\"Propane\",HVACg_Lookup,MATCH(Worksheet!$F$16,BuildingSize,0)+1,FALSE),0)))","v":0},0,0,"",""]
[null,null,"",null,null,null,null,null,null,null,null,null,null,null,null,0,0,0,0,"",0,0,0,0,0,0,0,0,0,0,0,0,0,0,0,0,0,{"$f":"Y341/1000*AA341*AC341*IF(IFERROR(SEARCH(\"Gas\",$A$18),0)>0,VLOOKUP(\"Gas\",HVACg_Lookup,MATCH($F$16,BuildingSize,0)+1,FALSE),IF(IFERROR(SEARCH(\"Oil\",$A$18),0)>0,VLOOKUP(\"Oil\",HVACg_Lookup,MATCH($F$16,BuildingSize,0)+1,FALSE),IF(IFERROR(SEARCH(\"Propane\",$A$18),0)>0,VLOOKUP(\"Propane\",HVACg_Lookup,MATCH(Worksheet!$F$16,BuildingSize,0)+1,FALSE),0)))","v":0},{"$f":"Z341/1000*AA341*AC341*IF(IFERROR(SEARCH(\"Gas\",$A$18),0)>0,VLOOKUP(\"Gas\",HVACg_Lookup,MATCH($F$16,BuildingSize,0)+1,FALSE),IF(IFERROR(SEARCH(\"Oil\",$A$18),0)>0,VLOOKUP(\"Oil\",HVACg_Lookup,MATCH($F$16,BuildingSize,0)+1,FALSE),IF(IFERROR(SEARCH(\"Propane\",$A$18),0)>0,VLOOKUP(\"Propane\",HVACg_Lookup,MATCH(Worksheet!$F$16,BuildingSize,0)+1,FALSE),0)))","v":0},0,0,"",""]
[null,null,"",null,null,null,null,null,null,null,null,null,null,null,null,0,0,0,0,"",0,0,0,0,0,0,0,0,0,0,0,0,0,0,0,0,0,{"$f":"Y342/1000*AA342*AC342*IF(IFERROR(SEARCH(\"Gas\",$A$18),0)>0,VLOOKUP(\"Gas\",HVACg_Lookup,MATCH($F$16,BuildingSize,0)+1,FALSE),IF(IFERROR(SEARCH(\"Oil\",$A$18),0)>0,VLOOKUP(\"Oil\",HVACg_Lookup,MATCH($F$16,BuildingSize,0)+1,FALSE),IF(IFERROR(SEARCH(\"Propane\",$A$18),0)>0,VLOOKUP(\"Propane\",HVACg_Lookup,MATCH(Worksheet!$F$16,BuildingSize,0)+1,FALSE),0)))","v":0},{"$f":"Z342/1000*AA342*AC342*IF(IFERROR(SEARCH(\"Gas\",$A$18),0)>0,VLOOKUP(\"Gas\",HVACg_Lookup,MATCH($F$16,BuildingSize,0)+1,FALSE),IF(IFERROR(SEARCH(\"Oil\",$A$18),0)>0,VLOOKUP(\"Oil\",HVACg_Lookup,MATCH($F$16,BuildingSize,0)+1,FALSE),IF(IFERROR(SEARCH(\"Propane\",$A$18),0)>0,VLOOKUP(\"Propane\",HVACg_Lookup,MATCH(Worksheet!$F$16,BuildingSize,0)+1,FALSE),0)))","v":0},0,0,"",""]
[null,null,"",null,null,null,null,null,null,null,null,null,null,null,null,0,0,0,0,"",0,0,0,0,0,0,0,0,0,0,0,0,0,0,0,0,0,{"$f":"Y343/1000*AA343*AC343*IF(IFERROR(SEARCH(\"Gas\",$A$18),0)>0,VLOOKUP(\"Gas\",HVACg_Lookup,MATCH($F$16,BuildingSize,0)+1,FALSE),IF(IFERROR(SEARCH(\"Oil\",$A$18),0)>0,VLOOKUP(\"Oil\",HVACg_Lookup,MATCH($F$16,BuildingSize,0)+1,FALSE),IF(IFERROR(SEARCH(\"Propane\",$A$18),0)>0,VLOOKUP(\"Propane\",HVACg_Lookup,MATCH(Worksheet!$F$16,BuildingSize,0)+1,FALSE),0)))","v":0},{"$f":"Z343/1000*AA343*AC343*IF(IFERROR(SEARCH(\"Gas\",$A$18),0)>0,VLOOKUP(\"Gas\",HVACg_Lookup,MATCH($F$16,BuildingSize,0)+1,FALSE),IF(IFERROR(SEARCH(\"Oil\",$A$18),0)>0,VLOOKUP(\"Oil\",HVACg_Lookup,MATCH($F$16,BuildingSize,0)+1,FALSE),IF(IFERROR(SEARCH(\"Propane\",$A$18),0)>0,VLOOKUP(\"Propane\",HVACg_Lookup,MATCH(Worksheet!$F$16,BuildingSize,0)+1,FALSE),0)))","v":0},0,0,"",""]
[null,null,"",null,null,null,null,null,null,null,null,null,null,null,null,0,0,{"$f":"IF(AP344=\"\",0,IF(AP344=1,VLOOKUP(A344,MeasureCode_Lookup,3,FALSE),\"DNQ\"))","v":0},{"$f":"IF(AQ344=\"\",0,IF(AQ344=1,VLOOKUP(A344,MeasureCode_Lookup,3,FALSE),\"DNQ\"))","v":0},{"$f":"IF(A344=\"\",\"\",VLOOKUP(A344,MeasureCode_Lookup,4,FALSE))","v":""},0,0,0,0,{"$f":"IF(N(R344)=0,0,F344*P344)","v":0},{"$f":"IF(N(S344)=0,0,G344*Q344)","v":0},{"$f":"IF(A344=\"\",0,VLOOKUP(A344,MeasureCode_Lookup,5,FALSE))","v":0},{"$f":"IF($A$16=\"\",0,VLOOKUP($A$16,BuildingType_Lookup,3,FALSE))","v":0},{"$f":"IF($A$16=\"\",0,VLOOKUP($A$16,BuildingType_Lookup,2,FALSE))","v":0},{"$f":"IF(AND(OR(AP344=\"\",AP344=0)=TRUE,OR(AQ344=\"\",AQ344=0))=TRUE,0,IF(AQ344=\"\",(IF(OR(C344=\"DDC\",C344=\"OHLC\")=TRUE,O344,P344)/1000)*AA344*AB344*(1+VLOOKUP($A$16,BuildingType_Lookup,4,FALSE)),IF(AQ344=0,0,(IF(OR(C344=\"DDC\",C344=\"OHLC\")=TRUE,O344,Q344)/1000)*AA344*AB344*(1+VLOOKUP($A$16,BuildingType_Lookup,4,FALSE)))))","v":0},{"$f":"IF(AND(OR(AP344=\"\",AP344=0)=TRUE,OR(AQ344=\"\",AQ344=0))=TRUE,0,IF(AQ344=\"\",(IF(OR(C344=\"DDC\",C344=\"OHLC\")=TRUE,O344,P344)/1000)*AA344*AC344*(1+VLOOKUP($A$16,BuildingType_Lookup,MATCH($A$18,HVAC,0)+4,FALSE)),IF(AQ344=0,0,(IF(OR(C344=\"DDC\",C344=\"OHLC\")=TRUE,O344,Q344)/1000)*AA344*AC344*(1+VLOOKUP($A$16,BuildingType_Lookup,MATCH($A$18,HVAC,0)+4,FALSE)))))","v":0},{"$f":"IFERROR(IF(OR(C344=\"DDC\",C344=\"OHLC\")=TRUE,F344*J344*AD344,F344*AD344),0)","v":0},{"$f":"IFERROR(IF(OR(C344=\"DDC\",C344=\"OHLC\")=TRUE,G344*K344*AD344,G344*AD344),0)","v":0},{"$f":"IFERROR(IF(OR(C344=\"DDC\",C344=\"OHLC\")=TRUE,F344*J344*AE344,F344*AE344),0)","v":0},{"$f":"IFERROR(IF(OR(C344=\"DDC\",C344=\"OHLC\")=TRUE,G344*K344*AE344,G344*AE344),0)","v":0},0,0,{"$f":"Y344/1000*AA344*AC344*IF(IFERROR(SEARCH(\"Gas\",$A$18),0)>0,VLOOKUP(\"Gas\",HVACg_Lookup,MATCH($F$16,BuildingSize,0)+1,FALSE),IF(IFERROR(SEARCH(\"Oil\",$A$18),0)>0,VLOOKUP(\"Oil\",HVACg_Lookup,MATCH($F$16,BuildingSize,0)+1,FALSE),IF(IFERROR(SEARCH(\"Propane\",$A$18),0)>0,VLOOKUP(\"Propane\",HVACg_Lookup,MATCH(Worksheet!$F$16,BuildingSize,0)+1,FALSE),0)))","v":0},{"$f":"Z344/1000*AA344*AC344*IF(IFERROR(SEARCH(\"Gas\",$A$18),0)>0,VLOOKUP(\"Gas\",HVACg_Lookup,MATCH($F$16,BuildingSize,0)+1,FALSE),IF(IFERROR(SEARCH(\"Oil\",$A$18),0)>0,VLOOKUP(\"Oil\",HVACg_Lookup,MATCH($F$16,BuildingSize,0)+1,FALSE),IF(IFERROR(SEARCH(\"Propane\",$A$18),0)>0,VLOOKUP(\"Propane\",HVACg_Lookup,MATCH(Worksheet!$F$16,BuildingSize,0)+1,FALSE),0)))","v":0},0,0,"",""]
[null,null,{"$f":"IF(A345=\"\",\"\",VLOOKUP(A345,MeasureCode_Lookup,2,FALSE))","v":""},null,null,null,null,null,null,null,null,null,null,null,null,{"$f":"IF(OR(A345=\"\",F345=\"\",J345=\"\",O345=\"\")=TRUE,0,J345*O345)","v":0},{"$f":"IF(OR(A345=\"\",G345=\"\",K345=\"\",O345=\"\")=TRUE,0,K345*O345)","v":0},0,0,"",{"$f":"IF(OR($A$11=TRUE,$A$12=TRUE,$B$11=TRUE,$B$12=TRUE,$C$11=TRUE)=TRUE,R345,0)","v":0},{"$f":"IF(OR($A$11=TRUE,$A$12=TRUE,$B$11=TRUE,$B$12=TRUE,$C$11=TRUE)=TRUE,S345,0)","v":0},{"$f":"IF(N(R345)=0,0,F345*(R345+U345)*IF(T345=\"per Fixture Controlled\",J345,1))","v":0},{"$f":"IF(N(S345)=0,0,G345*(S345+V345)*IF(T345=\"per Fixture Controlled\",K345,1))","v":0},0,0,0,0,0,0,0,0,0,0,0,{"$f":"AH345*8","v":0},{"$f":"AI345*8","v":0},{"$f":"Y345/1000*AA345*AC345*IF(IFERROR(SEARCH(\"Gas\",$A$18),0)>0,VLOOKUP(\"Gas\",HVACg_Lookup,MATCH($F$16,BuildingSize,0)+1,FALSE),IF(IFERROR(SEARCH(\"Oil\",$A$18),0)>0,VLOOKUP(\"Oil\",HVACg_Lookup,MATCH($F$16,BuildingSize,0)+1,FALSE),IF(IFERROR(SEARCH(\"Propane\",$A$18),0)>0,VLOOKUP(\"Propane\",HVACg_Lookup,MATCH(Worksheet!$F$16,BuildingSize,0)+1,FALSE),0)))","v":0},{"$f":"Z345/1000*AA345*AC345*IF(IFERROR(SEARCH(\"Gas\",$A$18),0)>0,VLOOKUP(\"Gas\",HVACg_Lookup,MATCH($F$16,BuildingSize,0)+1,FALSE),IF(IFERROR(SEARCH(\"Oil\",$A$18),0)>0,VLOOKUP(\"Oil\",HVACg_Lookup,MATCH($F$16,BuildingSize,0)+1,FALSE),IF(IFERROR(SEARCH(\"Propane\",$A$18),0)>0,VLOOKUP(\"Propane\",HVACg_Lookup,MATCH(Worksheet!$F$16,BuildingSize,0)+1,FALSE),0)))","v":0},{"$f":"AL345*8","v":0},{"$f":"AM345*8","v":0},{"$f":"IF(OR($B$4=\"\",$B$5=\"\",$A$16=\"\",$F$16=\"\",$A$18=\"\",A345=\"\",F345=\"\",J345=\"\",O345=\"\",P345=\"\")=TRUE,\"\",IF(C345=\"OSW\",IF(J345>=2,1,0),IF(C345=\"OSR\",IF(AND(J345>=2,P345>60)=TRUE,1,0),IF(C345=\"OSRH\",IF(AND(J345>=1,P345>90)=TRUE,1,0),IF(C345=\"OHLC\",IF(AND(N345=\"Y\",P345>60)=TRUE,1,0),IF(C345=\"DDC\",IF(AND(J345>=4,N345=\"Y\",P345>120)=TRUE,1,0),0))))))","v":""},{"$f":"IF(OR($B$4=\"\",$B$5=\"\",$A$16=\"\",$F$16=\"\",$A$18=\"\",A345=\"\",F345=\"\",K345=\"\",O345=\"\",P345=\"\")=TRUE,\"\",IF(C345=\"OSW\",IF(K345>=2,1,0),IF(C345=\"OSR\",IF(AND(K345>=2,Q345>60)=TRUE,1,0),IF(C345=\"OSRH\",IF(AND(K345>=1,Q345>90)=TRUE,1,0),IF(C345=\"OHLC\",IF(AND(N345=\"Y\",Q345>60)=TRUE,1,0),IF(C345=\"DDC\",IF(AND(K345>=4,N345=\"Y\",Q345>120)=TRUE,1,0),0))))))","v":""}]
[null,null,"",null,null,null,null,null,null,null,null,null,null,null,null,0,0,0,0,"",0,0,0,0,0,0,0,0,0,0,0,0,0,0,0,0,0,{"$f":"Y346/1000*AA346*AC346*IF(IFERROR(SEARCH(\"Gas\",$A$18),0)>0,VLOOKUP(\"Gas\",HVACg_Lookup,MATCH($F$16,BuildingSize,0)+1,FALSE),IF(IFERROR(SEARCH(\"Oil\",$A$18),0)>0,VLOOKUP(\"Oil\",HVACg_Lookup,MATCH($F$16,BuildingSize,0)+1,FALSE),IF(IFERROR(SEARCH(\"Propane\",$A$18),0)>0,VLOOKUP(\"Propane\",HVACg_Lookup,MATCH(Worksheet!$F$16,BuildingSize,0)+1,FALSE),0)))","v":0},{"$f":"Z346/1000*AA346*AC346*IF(IFERROR(SEARCH(\"Gas\",$A$18),0)>0,VLOOKUP(\"Gas\",HVACg_Lookup,MATCH($F$16,BuildingSize,0)+1,FALSE),IF(IFERROR(SEARCH(\"Oil\",$A$18),0)>0,VLOOKUP(\"Oil\",HVACg_Lookup,MATCH($F$16,BuildingSize,0)+1,FALSE),IF(IFERROR(SEARCH(\"Propane\",$A$18),0)>0,VLOOKUP(\"Propane\",HVACg_Lookup,MATCH(Worksheet!$F$16,BuildingSize,0)+1,FALSE),0)))","v":0},0,0,"",""]
[null,null,"",null,null,null,null,null,null,null,null,null,null,null,null,0,0,0,0,"",0,0,0,0,0,0,0,0,0,0,0,0,0,0,0,0,0,{"$f":"Y347/1000*AA347*AC347*IF(IFERROR(SEARCH(\"Gas\",$A$18),0)>0,VLOOKUP(\"Gas\",HVACg_Lookup,MATCH($F$16,BuildingSize,0)+1,FALSE),IF(IFERROR(SEARCH(\"Oil\",$A$18),0)>0,VLOOKUP(\"Oil\",HVACg_Lookup,MATCH($F$16,BuildingSize,0)+1,FALSE),IF(IFERROR(SEARCH(\"Propane\",$A$18),0)>0,VLOOKUP(\"Propane\",HVACg_Lookup,MATCH(Worksheet!$F$16,BuildingSize,0)+1,FALSE),0)))","v":0},{"$f":"Z347/1000*AA347*AC347*IF(IFERROR(SEARCH(\"Gas\",$A$18),0)>0,VLOOKUP(\"Gas\",HVACg_Lookup,MATCH($F$16,BuildingSize,0)+1,FALSE),IF(IFERROR(SEARCH(\"Oil\",$A$18),0)>0,VLOOKUP(\"Oil\",HVACg_Lookup,MATCH($F$16,BuildingSize,0)+1,FALSE),IF(IFERROR(SEARCH(\"Propane\",$A$18),0)>0,VLOOKUP(\"Propane\",HVACg_Lookup,MATCH(Worksheet!$F$16,BuildingSize,0)+1,FALSE),0)))","v":0},0,0,"",""]
[null,null,"",null,null,null,null,null,null,null,null,null,null,null,null,0,0,0,0,"",0,0,0,0,0,0,0,0,0,0,0,0,0,0,0,0,0,{"$f":"Y348/1000*AA348*AC348*IF(IFERROR(SEARCH(\"Gas\",$A$18),0)>0,VLOOKUP(\"Gas\",HVACg_Lookup,MATCH($F$16,BuildingSize,0)+1,FALSE),IF(IFERROR(SEARCH(\"Oil\",$A$18),0)>0,VLOOKUP(\"Oil\",HVACg_Lookup,MATCH($F$16,BuildingSize,0)+1,FALSE),IF(IFERROR(SEARCH(\"Propane\",$A$18),0)>0,VLOOKUP(\"Propane\",HVACg_Lookup,MATCH(Worksheet!$F$16,BuildingSize,0)+1,FALSE),0)))","v":0},{"$f":"Z348/1000*AA348*AC348*IF(IFERROR(SEARCH(\"Gas\",$A$18),0)>0,VLOOKUP(\"Gas\",HVACg_Lookup,MATCH($F$16,BuildingSize,0)+1,FALSE),IF(IFERROR(SEARCH(\"Oil\",$A$18),0)>0,VLOOKUP(\"Oil\",HVACg_Lookup,MATCH($F$16,BuildingSize,0)+1,FALSE),IF(IFERROR(SEARCH(\"Propane\",$A$18),0)>0,VLOOKUP(\"Propane\",HVACg_Lookup,MATCH(Worksheet!$F$16,BuildingSize,0)+1,FALSE),0)))","v":0},0,0,"",""]
[null,null,"",null,null,null,null,null,null,null,null,null,null,null,null,0,0,0,0,"",0,0,0,0,0,0,0,0,0,0,0,0,0,0,0,0,0,{"$f":"Y349/1000*AA349*AC349*IF(IFERROR(SEARCH(\"Gas\",$A$18),0)>0,VLOOKUP(\"Gas\",HVACg_Lookup,MATCH($F$16,BuildingSize,0)+1,FALSE),IF(IFERROR(SEARCH(\"Oil\",$A$18),0)>0,VLOOKUP(\"Oil\",HVACg_Lookup,MATCH($F$16,BuildingSize,0)+1,FALSE),IF(IFERROR(SEARCH(\"Propane\",$A$18),0)>0,VLOOKUP(\"Propane\",HVACg_Lookup,MATCH(Worksheet!$F$16,BuildingSize,0)+1,FALSE),0)))","v":0},{"$f":"Z349/1000*AA349*AC349*IF(IFERROR(SEARCH(\"Gas\",$A$18),0)>0,VLOOKUP(\"Gas\",HVACg_Lookup,MATCH($F$16,BuildingSize,0)+1,FALSE),IF(IFERROR(SEARCH(\"Oil\",$A$18),0)>0,VLOOKUP(\"Oil\",HVACg_Lookup,MATCH($F$16,BuildingSize,0)+1,FALSE),IF(IFERROR(SEARCH(\"Propane\",$A$18),0)>0,VLOOKUP(\"Propane\",HVACg_Lookup,MATCH(Worksheet!$F$16,BuildingSize,0)+1,FALSE),0)))","v":0},0,0,"",""]
[null,null,"",null,null,null,null,null,null,null,null,null,null,null,null,0,0,0,0,"",0,0,0,0,0,0,0,0,0,0,0,0,0,0,0,0,0,{"$f":"Y350/1000*AA350*AC350*IF(IFERROR(SEARCH(\"Gas\",$A$18),0)>0,VLOOKUP(\"Gas\",HVACg_Lookup,MATCH($F$16,BuildingSize,0)+1,FALSE),IF(IFERROR(SEARCH(\"Oil\",$A$18),0)>0,VLOOKUP(\"Oil\",HVACg_Lookup,MATCH($F$16,BuildingSize,0)+1,FALSE),IF(IFERROR(SEARCH(\"Propane\",$A$18),0)>0,VLOOKUP(\"Propane\",HVACg_Lookup,MATCH(Worksheet!$F$16,BuildingSize,0)+1,FALSE),0)))","v":0},{"$f":"Z350/1000*AA350*AC350*IF(IFERROR(SEARCH(\"Gas\",$A$18),0)>0,VLOOKUP(\"Gas\",HVACg_Lookup,MATCH($F$16,BuildingSize,0)+1,FALSE),IF(IFERROR(SEARCH(\"Oil\",$A$18),0)>0,VLOOKUP(\"Oil\",HVACg_Lookup,MATCH($F$16,BuildingSize,0)+1,FALSE),IF(IFERROR(SEARCH(\"Propane\",$A$18),0)>0,VLOOKUP(\"Propane\",HVACg_Lookup,MATCH(Worksheet!$F$16,BuildingSize,0)+1,FALSE),0)))","v":0},0,0,"",""]
[null,null,"",null,null,null,null,null,null,null,null,null,null,null,null,0,0,0,0,"",0,0,0,0,0,0,0,0,0,0,0,0,0,0,0,0,0,{"$f":"Y351/1000*AA351*AC351*IF(IFERROR(SEARCH(\"Gas\",$A$18),0)>0,VLOOKUP(\"Gas\",HVACg_Lookup,MATCH($F$16,BuildingSize,0)+1,FALSE),IF(IFERROR(SEARCH(\"Oil\",$A$18),0)>0,VLOOKUP(\"Oil\",HVACg_Lookup,MATCH($F$16,BuildingSize,0)+1,FALSE),IF(IFERROR(SEARCH(\"Propane\",$A$18),0)>0,VLOOKUP(\"Propane\",HVACg_Lookup,MATCH(Worksheet!$F$16,BuildingSize,0)+1,FALSE),0)))","v":0},{"$f":"Z351/1000*AA351*AC351*IF(IFERROR(SEARCH(\"Gas\",$A$18),0)>0,VLOOKUP(\"Gas\",HVACg_Lookup,MATCH($F$16,BuildingSize,0)+1,FALSE),IF(IFERROR(SEARCH(\"Oil\",$A$18),0)>0,VLOOKUP(\"Oil\",HVACg_Lookup,MATCH($F$16,BuildingSize,0)+1,FALSE),IF(IFERROR(SEARCH(\"Propane\",$A$18),0)>0,VLOOKUP(\"Propane\",HVACg_Lookup,MATCH(Worksheet!$F$16,BuildingSize,0)+1,FALSE),0)))","v":0},0,0,"",""]
[null,null,"",null,null,null,null,null,null,null,null,null,null,null,null,0,0,0,0,"",0,0,0,0,0,0,0,0,0,0,0,0,0,0,0,0,0,{"$f":"Y352/1000*AA352*AC352*IF(IFERROR(SEARCH(\"Gas\",$A$18),0)>0,VLOOKUP(\"Gas\",HVACg_Lookup,MATCH($F$16,BuildingSize,0)+1,FALSE),IF(IFERROR(SEARCH(\"Oil\",$A$18),0)>0,VLOOKUP(\"Oil\",HVACg_Lookup,MATCH($F$16,BuildingSize,0)+1,FALSE),IF(IFERROR(SEARCH(\"Propane\",$A$18),0)>0,VLOOKUP(\"Propane\",HVACg_Lookup,MATCH(Worksheet!$F$16,BuildingSize,0)+1,FALSE),0)))","v":0},{"$f":"Z352/1000*AA352*AC352*IF(IFERROR(SEARCH(\"Gas\",$A$18),0)>0,VLOOKUP(\"Gas\",HVACg_Lookup,MATCH($F$16,BuildingSize,0)+1,FALSE),IF(IFERROR(SEARCH(\"Oil\",$A$18),0)>0,VLOOKUP(\"Oil\",HVACg_Lookup,MATCH($F$16,BuildingSize,0)+1,FALSE),IF(IFERROR(SEARCH(\"Propane\",$A$18),0)>0,VLOOKUP(\"Propane\",HVACg_Lookup,MATCH(Worksheet!$F$16,BuildingSize,0)+1,FALSE),0)))","v":0},0,0,"",""]
[null,null,"",null,null,null,null,null,null,null,null,null,null,null,null,0,0,0,0,"",0,0,0,0,0,0,0,0,0,0,0,0,0,0,0,0,0,{"$f":"Y353/1000*AA353*AC353*IF(IFERROR(SEARCH(\"Gas\",$A$18),0)>0,VLOOKUP(\"Gas\",HVACg_Lookup,MATCH($F$16,BuildingSize,0)+1,FALSE),IF(IFERROR(SEARCH(\"Oil\",$A$18),0)>0,VLOOKUP(\"Oil\",HVACg_Lookup,MATCH($F$16,BuildingSize,0)+1,FALSE),IF(IFERROR(SEARCH(\"Propane\",$A$18),0)>0,VLOOKUP(\"Propane\",HVACg_Lookup,MATCH(Worksheet!$F$16,BuildingSize,0)+1,FALSE),0)))","v":0},{"$f":"Z353/1000*AA353*AC353*IF(IFERROR(SEARCH(\"Gas\",$A$18),0)>0,VLOOKUP(\"Gas\",HVACg_Lookup,MATCH($F$16,BuildingSize,0)+1,FALSE),IF(IFERROR(SEARCH(\"Oil\",$A$18),0)>0,VLOOKUP(\"Oil\",HVACg_Lookup,MATCH($F$16,BuildingSize,0)+1,FALSE),IF(IFERROR(SEARCH(\"Propane\",$A$18),0)>0,VLOOKUP(\"Propane\",HVACg_Lookup,MATCH(Worksheet!$F$16,BuildingSize,0)+1,FALSE),0)))","v":0},0,0,"",""]
[null,null,"",null,null,null,null,null,null,null,null,null,null,null,null,0,0,0,0,"",0,0,0,0,0,0,0,0,0,0,0,0,0,0,0,0,0,{"$f":"Y354/1000*AA354*AC354*IF(IFERROR(SEARCH(\"Gas\",$A$18),0)>0,VLOOKUP(\"Gas\",HVACg_Lookup,MATCH($F$16,BuildingSize,0)+1,FALSE),IF(IFERROR(SEARCH(\"Oil\",$A$18),0)>0,VLOOKUP(\"Oil\",HVACg_Lookup,MATCH($F$16,BuildingSize,0)+1,FALSE),IF(IFERROR(SEARCH(\"Propane\",$A$18),0)>0,VLOOKUP(\"Propane\",HVACg_Lookup,MATCH(Worksheet!$F$16,BuildingSize,0)+1,FALSE),0)))","v":0},{"$f":"Z354/1000*AA354*AC354*IF(IFERROR(SEARCH(\"Gas\",$A$18),0)>0,VLOOKUP(\"Gas\",HVACg_Lookup,MATCH($F$16,BuildingSize,0)+1,FALSE),IF(IFERROR(SEARCH(\"Oil\",$A$18),0)>0,VLOOKUP(\"Oil\",HVACg_Lookup,MATCH($F$16,BuildingSize,0)+1,FALSE),IF(IFERROR(SEARCH(\"Propane\",$A$18),0)>0,VLOOKUP(\"Propane\",HVACg_Lookup,MATCH(Worksheet!$F$16,BuildingSize,0)+1,FALSE),0)))","v":0},0,0,"",""]
[null,null,"",null,null,null,null,null,null,null,null,null,null,null,null,0,0,0,0,"",0,0,0,0,0,0,0,0,0,0,0,0,0,0,0,0,0,{"$f":"Y355/1000*AA355*AC355*IF(IFERROR(SEARCH(\"Gas\",$A$18),0)>0,VLOOKUP(\"Gas\",HVACg_Lookup,MATCH($F$16,BuildingSize,0)+1,FALSE),IF(IFERROR(SEARCH(\"Oil\",$A$18),0)>0,VLOOKUP(\"Oil\",HVACg_Lookup,MATCH($F$16,BuildingSize,0)+1,FALSE),IF(IFERROR(SEARCH(\"Propane\",$A$18),0)>0,VLOOKUP(\"Propane\",HVACg_Lookup,MATCH(Worksheet!$F$16,BuildingSize,0)+1,FALSE),0)))","v":0},{"$f":"Z355/1000*AA355*AC355*IF(IFERROR(SEARCH(\"Gas\",$A$18),0)>0,VLOOKUP(\"Gas\",HVACg_Lookup,MATCH($F$16,BuildingSize,0)+1,FALSE),IF(IFERROR(SEARCH(\"Oil\",$A$18),0)>0,VLOOKUP(\"Oil\",HVACg_Lookup,MATCH($F$16,BuildingSize,0)+1,FALSE),IF(IFERROR(SEARCH(\"Propane\",$A$18),0)>0,VLOOKUP(\"Propane\",HVACg_Lookup,MATCH(Worksheet!$F$16,BuildingSize,0)+1,FALSE),0)))","v":0},0,0,"",""]
[null,null,"",null,null,null,null,null,null,null,null,null,null,null,null,0,0,0,0,"",0,0,0,0,0,0,0,0,0,0,0,0,0,0,0,0,0,{"$f":"Y356/1000*AA356*AC356*IF(IFERROR(SEARCH(\"Gas\",$A$18),0)>0,VLOOKUP(\"Gas\",HVACg_Lookup,MATCH($F$16,BuildingSize,0)+1,FALSE),IF(IFERROR(SEARCH(\"Oil\",$A$18),0)>0,VLOOKUP(\"Oil\",HVACg_Lookup,MATCH($F$16,BuildingSize,0)+1,FALSE),IF(IFERROR(SEARCH(\"Propane\",$A$18),0)>0,VLOOKUP(\"Propane\",HVACg_Lookup,MATCH(Worksheet!$F$16,BuildingSize,0)+1,FALSE),0)))","v":0},{"$f":"Z356/1000*AA356*AC356*IF(IFERROR(SEARCH(\"Gas\",$A$18),0)>0,VLOOKUP(\"Gas\",HVACg_Lookup,MATCH($F$16,BuildingSize,0)+1,FALSE),IF(IFERROR(SEARCH(\"Oil\",$A$18),0)>0,VLOOKUP(\"Oil\",HVACg_Lookup,MATCH($F$16,BuildingSize,0)+1,FALSE),IF(IFERROR(SEARCH(\"Propane\",$A$18),0)>0,VLOOKUP(\"Propane\",HVACg_Lookup,MATCH(Worksheet!$F$16,BuildingSize,0)+1,FALSE),0)))","v":0},0,0,"",""]
[null,null,"",null,null,null,null,null,null,null,null,null,null,null,null,0,0,0,0,"",0,0,0,0,0,0,0,0,0,0,0,0,0,0,0,0,0,{"$f":"Y357/1000*AA357*AC357*IF(IFERROR(SEARCH(\"Gas\",$A$18),0)>0,VLOOKUP(\"Gas\",HVACg_Lookup,MATCH($F$16,BuildingSize,0)+1,FALSE),IF(IFERROR(SEARCH(\"Oil\",$A$18),0)>0,VLOOKUP(\"Oil\",HVACg_Lookup,MATCH($F$16,BuildingSize,0)+1,FALSE),IF(IFERROR(SEARCH(\"Propane\",$A$18),0)>0,VLOOKUP(\"Propane\",HVACg_Lookup,MATCH(Worksheet!$F$16,BuildingSize,0)+1,FALSE),0)))","v":0},{"$f":"Z357/1000*AA357*AC357*IF(IFERROR(SEARCH(\"Gas\",$A$18),0)>0,VLOOKUP(\"Gas\",HVACg_Lookup,MATCH($F$16,BuildingSize,0)+1,FALSE),IF(IFERROR(SEARCH(\"Oil\",$A$18),0)>0,VLOOKUP(\"Oil\",HVACg_Lookup,MATCH($F$16,BuildingSize,0)+1,FALSE),IF(IFERROR(SEARCH(\"Propane\",$A$18),0)>0,VLOOKUP(\"Propane\",HVACg_Lookup,MATCH(Worksheet!$F$16,BuildingSize,0)+1,FALSE),0)))","v":0},0,0,"",""]
[null,null,"",null,null,null,null,null,null,null,null,null,null,null,null,0,0,0,0,"",0,0,0,0,0,0,0,0,0,0,0,0,0,0,0,0,0,{"$f":"Y358/1000*AA358*AC358*IF(IFERROR(SEARCH(\"Gas\",$A$18),0)>0,VLOOKUP(\"Gas\",HVACg_Lookup,MATCH($F$16,BuildingSize,0)+1,FALSE),IF(IFERROR(SEARCH(\"Oil\",$A$18),0)>0,VLOOKUP(\"Oil\",HVACg_Lookup,MATCH($F$16,BuildingSize,0)+1,FALSE),IF(IFERROR(SEARCH(\"Propane\",$A$18),0)>0,VLOOKUP(\"Propane\",HVACg_Lookup,MATCH(Worksheet!$F$16,BuildingSize,0)+1,FALSE),0)))","v":0},{"$f":"Z358/1000*AA358*AC358*IF(IFERROR(SEARCH(\"Gas\",$A$18),0)>0,VLOOKUP(\"Gas\",HVACg_Lookup,MATCH($F$16,BuildingSize,0)+1,FALSE),IF(IFERROR(SEARCH(\"Oil\",$A$18),0)>0,VLOOKUP(\"Oil\",HVACg_Lookup,MATCH($F$16,BuildingSize,0)+1,FALSE),IF(IFERROR(SEARCH(\"Propane\",$A$18),0)>0,VLOOKUP(\"Propane\",HVACg_Lookup,MATCH(Worksheet!$F$16,BuildingSize,0)+1,FALSE),0)))","v":0},0,0,"",""]
[null,null,"",null,null,null,null,null,null,null,null,null,null,null,null,0,0,0,0,"",0,0,0,0,0,0,0,0,0,0,0,0,0,0,0,0,0,{"$f":"Y359/1000*AA359*AC359*IF(IFERROR(SEARCH(\"Gas\",$A$18),0)>0,VLOOKUP(\"Gas\",HVACg_Lookup,MATCH($F$16,BuildingSize,0)+1,FALSE),IF(IFERROR(SEARCH(\"Oil\",$A$18),0)>0,VLOOKUP(\"Oil\",HVACg_Lookup,MATCH($F$16,BuildingSize,0)+1,FALSE),IF(IFERROR(SEARCH(\"Propane\",$A$18),0)>0,VLOOKUP(\"Propane\",HVACg_Lookup,MATCH(Worksheet!$F$16,BuildingSize,0)+1,FALSE),0)))","v":0},{"$f":"Z359/1000*AA359*AC359*IF(IFERROR(SEARCH(\"Gas\",$A$18),0)>0,VLOOKUP(\"Gas\",HVACg_Lookup,MATCH($F$16,BuildingSize,0)+1,FALSE),IF(IFERROR(SEARCH(\"Oil\",$A$18),0)>0,VLOOKUP(\"Oil\",HVACg_Lookup,MATCH($F$16,BuildingSize,0)+1,FALSE),IF(IFERROR(SEARCH(\"Propane\",$A$18),0)>0,VLOOKUP(\"Propane\",HVACg_Lookup,MATCH(Worksheet!$F$16,BuildingSize,0)+1,FALSE),0)))","v":0},0,0,"",""]
[null,null,"",null,null,null,null,null,null,null,null,null,null,null,null,0,0,0,0,"",0,0,0,0,0,0,0,0,0,0,0,0,0,0,0,0,0,{"$f":"Y360/1000*AA360*AC360*IF(IFERROR(SEARCH(\"Gas\",$A$18),0)>0,VLOOKUP(\"Gas\",HVACg_Lookup,MATCH($F$16,BuildingSize,0)+1,FALSE),IF(IFERROR(SEARCH(\"Oil\",$A$18),0)>0,VLOOKUP(\"Oil\",HVACg_Lookup,MATCH($F$16,BuildingSize,0)+1,FALSE),IF(IFERROR(SEARCH(\"Propane\",$A$18),0)>0,VLOOKUP(\"Propane\",HVACg_Lookup,MATCH(Worksheet!$F$16,BuildingSize,0)+1,FALSE),0)))","v":0},{"$f":"Z360/1000*AA360*AC360*IF(IFERROR(SEARCH(\"Gas\",$A$18),0)>0,VLOOKUP(\"Gas\",HVACg_Lookup,MATCH($F$16,BuildingSize,0)+1,FALSE),IF(IFERROR(SEARCH(\"Oil\",$A$18),0)>0,VLOOKUP(\"Oil\",HVACg_Lookup,MATCH($F$16,BuildingSize,0)+1,FALSE),IF(IFERROR(SEARCH(\"Propane\",$A$18),0)>0,VLOOKUP(\"Propane\",HVACg_Lookup,MATCH(Worksheet!$F$16,BuildingSize,0)+1,FALSE),0)))","v":0},0,0,"",""]
[null,null,"",null,null,null,null,null,null,null,null,null,null,null,null,0,0,0,0,"",0,0,0,0,0,0,0,0,0,0,0,0,0,0,0,0,0,{"$f":"Y361/1000*AA361*AC361*IF(IFERROR(SEARCH(\"Gas\",$A$18),0)>0,VLOOKUP(\"Gas\",HVACg_Lookup,MATCH($F$16,BuildingSize,0)+1,FALSE),IF(IFERROR(SEARCH(\"Oil\",$A$18),0)>0,VLOOKUP(\"Oil\",HVACg_Lookup,MATCH($F$16,BuildingSize,0)+1,FALSE),IF(IFERROR(SEARCH(\"Propane\",$A$18),0)>0,VLOOKUP(\"Propane\",HVACg_Lookup,MATCH(Worksheet!$F$16,BuildingSize,0)+1,FALSE),0)))","v":0},{"$f":"Z361/1000*AA361*AC361*IF(IFERROR(SEARCH(\"Gas\",$A$18),0)>0,VLOOKUP(\"Gas\",HVACg_Lookup,MATCH($F$16,BuildingSize,0)+1,FALSE),IF(IFERROR(SEARCH(\"Oil\",$A$18),0)>0,VLOOKUP(\"Oil\",HVACg_Lookup,MATCH($F$16,BuildingSize,0)+1,FALSE),IF(IFERROR(SEARCH(\"Propane\",$A$18),0)>0,VLOOKUP(\"Propane\",HVACg_Lookup,MATCH(Worksheet!$F$16,BuildingSize,0)+1,FALSE),0)))","v":0},0,0,"",""]
[null,null,"",null,null,null,null,null,null,null,null,null,null,null,null,0,0,0,0,"",0,0,0,0,0,0,0,0,0,0,0,0,0,0,0,0,0,{"$f":"Y362/1000*AA362*AC362*IF(IFERROR(SEARCH(\"Gas\",$A$18),0)>0,VLOOKUP(\"Gas\",HVACg_Lookup,MATCH($F$16,BuildingSize,0)+1,FALSE),IF(IFERROR(SEARCH(\"Oil\",$A$18),0)>0,VLOOKUP(\"Oil\",HVACg_Lookup,MATCH($F$16,BuildingSize,0)+1,FALSE),IF(IFERROR(SEARCH(\"Propane\",$A$18),0)>0,VLOOKUP(\"Propane\",HVACg_Lookup,MATCH(Worksheet!$F$16,BuildingSize,0)+1,FALSE),0)))","v":0},{"$f":"Z362/1000*AA362*AC362*IF(IFERROR(SEARCH(\"Gas\",$A$18),0)>0,VLOOKUP(\"Gas\",HVACg_Lookup,MATCH($F$16,BuildingSize,0)+1,FALSE),IF(IFERROR(SEARCH(\"Oil\",$A$18),0)>0,VLOOKUP(\"Oil\",HVACg_Lookup,MATCH($F$16,BuildingSize,0)+1,FALSE),IF(IFERROR(SEARCH(\"Propane\",$A$18),0)>0,VLOOKUP(\"Propane\",HVACg_Lookup,MATCH(Worksheet!$F$16,BuildingSize,0)+1,FALSE),0)))","v":0},0,0,"",""]
[null,null,"",null,null,null,null,null,null,null,null,null,null,null,null,0,0,0,0,"",0,0,0,0,0,0,0,0,0,0,0,0,0,0,0,0,0,{"$f":"Y363/1000*AA363*AC363*IF(IFERROR(SEARCH(\"Gas\",$A$18),0)>0,VLOOKUP(\"Gas\",HVACg_Lookup,MATCH($F$16,BuildingSize,0)+1,FALSE),IF(IFERROR(SEARCH(\"Oil\",$A$18),0)>0,VLOOKUP(\"Oil\",HVACg_Lookup,MATCH($F$16,BuildingSize,0)+1,FALSE),IF(IFERROR(SEARCH(\"Propane\",$A$18),0)>0,VLOOKUP(\"Propane\",HVACg_Lookup,MATCH(Worksheet!$F$16,BuildingSize,0)+1,FALSE),0)))","v":0},{"$f":"Z363/1000*AA363*AC363*IF(IFERROR(SEARCH(\"Gas\",$A$18),0)>0,VLOOKUP(\"Gas\",HVACg_Lookup,MATCH($F$16,BuildingSize,0)+1,FALSE),IF(IFERROR(SEARCH(\"Oil\",$A$18),0)>0,VLOOKUP(\"Oil\",HVACg_Lookup,MATCH($F$16,BuildingSize,0)+1,FALSE),IF(IFERROR(SEARCH(\"Propane\",$A$18),0)>0,VLOOKUP(\"Propane\",HVACg_Lookup,MATCH(Worksheet!$F$16,BuildingSize,0)+1,FALSE),0)))","v":0},0,0,"",""]
[null,null,"",null,null,null,null,null,null,null,null,null,null,null,null,0,0,0,0,"",0,0,0,0,0,0,0,0,0,0,0,0,0,0,0,0,0,{"$f":"Y364/1000*AA364*AC364*IF(IFERROR(SEARCH(\"Gas\",$A$18),0)>0,VLOOKUP(\"Gas\",HVACg_Lookup,MATCH($F$16,BuildingSize,0)+1,FALSE),IF(IFERROR(SEARCH(\"Oil\",$A$18),0)>0,VLOOKUP(\"Oil\",HVACg_Lookup,MATCH($F$16,BuildingSize,0)+1,FALSE),IF(IFERROR(SEARCH(\"Propane\",$A$18),0)>0,VLOOKUP(\"Propane\",HVACg_Lookup,MATCH(Worksheet!$F$16,BuildingSize,0)+1,FALSE),0)))","v":0},{"$f":"Z364/1000*AA364*AC364*IF(IFERROR(SEARCH(\"Gas\",$A$18),0)>0,VLOOKUP(\"Gas\",HVACg_Lookup,MATCH($F$16,BuildingSize,0)+1,FALSE),IF(IFERROR(SEARCH(\"Oil\",$A$18),0)>0,VLOOKUP(\"Oil\",HVACg_Lookup,MATCH($F$16,BuildingSize,0)+1,FALSE),IF(IFERROR(SEARCH(\"Propane\",$A$18),0)>0,VLOOKUP(\"Propane\",HVACg_Lookup,MATCH(Worksheet!$F$16,BuildingSize,0)+1,FALSE),0)))","v":0},0,0,"",""]
[null,null,"",null,null,null,null,null,null,null,null,null,null,null,null,0,0,0,0,"",0,0,0,0,0,0,0,0,0,0,0,0,0,0,0,0,0,{"$f":"Y365/1000*AA365*AC365*IF(IFERROR(SEARCH(\"Gas\",$A$18),0)>0,VLOOKUP(\"Gas\",HVACg_Lookup,MATCH($F$16,BuildingSize,0)+1,FALSE),IF(IFERROR(SEARCH(\"Oil\",$A$18),0)>0,VLOOKUP(\"Oil\",HVACg_Lookup,MATCH($F$16,BuildingSize,0)+1,FALSE),IF(IFERROR(SEARCH(\"Propane\",$A$18),0)>0,VLOOKUP(\"Propane\",HVACg_Lookup,MATCH(Worksheet!$F$16,BuildingSize,0)+1,FALSE),0)))","v":0},{"$f":"Z365/1000*AA365*AC365*IF(IFERROR(SEARCH(\"Gas\",$A$18),0)>0,VLOOKUP(\"Gas\",HVACg_Lookup,MATCH($F$16,BuildingSize,0)+1,FALSE),IF(IFERROR(SEARCH(\"Oil\",$A$18),0)>0,VLOOKUP(\"Oil\",HVACg_Lookup,MATCH($F$16,BuildingSize,0)+1,FALSE),IF(IFERROR(SEARCH(\"Propane\",$A$18),0)>0,VLOOKUP(\"Propane\",HVACg_Lookup,MATCH(Worksheet!$F$16,BuildingSize,0)+1,FALSE),0)))","v":0},0,0,"",""]
[null,null,"",null,null,null,null,null,null,null,null,null,null,null,null,0,0,0,0,"",0,0,0,0,0,0,0,0,0,0,0,0,0,0,0,0,0,{"$f":"Y366/1000*AA366*AC366*IF(IFERROR(SEARCH(\"Gas\",$A$18),0)>0,VLOOKUP(\"Gas\",HVACg_Lookup,MATCH($F$16,BuildingSize,0)+1,FALSE),IF(IFERROR(SEARCH(\"Oil\",$A$18),0)>0,VLOOKUP(\"Oil\",HVACg_Lookup,MATCH($F$16,BuildingSize,0)+1,FALSE),IF(IFERROR(SEARCH(\"Propane\",$A$18),0)>0,VLOOKUP(\"Propane\",HVACg_Lookup,MATCH(Worksheet!$F$16,BuildingSize,0)+1,FALSE),0)))","v":0},{"$f":"Z366/1000*AA366*AC366*IF(IFERROR(SEARCH(\"Gas\",$A$18),0)>0,VLOOKUP(\"Gas\",HVACg_Lookup,MATCH($F$16,BuildingSize,0)+1,FALSE),IF(IFERROR(SEARCH(\"Oil\",$A$18),0)>0,VLOOKUP(\"Oil\",HVACg_Lookup,MATCH($F$16,BuildingSize,0)+1,FALSE),IF(IFERROR(SEARCH(\"Propane\",$A$18),0)>0,VLOOKUP(\"Propane\",HVACg_Lookup,MATCH(Worksheet!$F$16,BuildingSize,0)+1,FALSE),0)))","v":0},0,0,"",""]
[null,null,"",null,null,null,null,null,null,null,null,null,null,null,null,0,0,0,0,"",0,0,0,0,0,0,0,0,0,0,0,0,0,0,0,0,0,{"$f":"Y367/1000*AA367*AC367*IF(IFERROR(SEARCH(\"Gas\",$A$18),0)>0,VLOOKUP(\"Gas\",HVACg_Lookup,MATCH($F$16,BuildingSize,0)+1,FALSE),IF(IFERROR(SEARCH(\"Oil\",$A$18),0)>0,VLOOKUP(\"Oil\",HVACg_Lookup,MATCH($F$16,BuildingSize,0)+1,FALSE),IF(IFERROR(SEARCH(\"Propane\",$A$18),0)>0,VLOOKUP(\"Propane\",HVACg_Lookup,MATCH(Worksheet!$F$16,BuildingSize,0)+1,FALSE),0)))","v":0},{"$f":"Z367/1000*AA367*AC367*IF(IFERROR(SEARCH(\"Gas\",$A$18),0)>0,VLOOKUP(\"Gas\",HVACg_Lookup,MATCH($F$16,BuildingSize,0)+1,FALSE),IF(IFERROR(SEARCH(\"Oil\",$A$18),0)>0,VLOOKUP(\"Oil\",HVACg_Lookup,MATCH($F$16,BuildingSize,0)+1,FALSE),IF(IFERROR(SEARCH(\"Propane\",$A$18),0)>0,VLOOKUP(\"Propane\",HVACg_Lookup,MATCH(Worksheet!$F$16,BuildingSize,0)+1,FALSE),0)))","v":0},0,0,"",""]
[null,null,"",null,null,null,null,null,null,null,null,null,null,null,null,0,0,0,0,"",0,0,0,0,0,0,0,0,0,0,0,0,0,0,0,0,0,{"$f":"Y368/1000*AA368*AC368*IF(IFERROR(SEARCH(\"Gas\",$A$18),0)>0,VLOOKUP(\"Gas\",HVACg_Lookup,MATCH($F$16,BuildingSize,0)+1,FALSE),IF(IFERROR(SEARCH(\"Oil\",$A$18),0)>0,VLOOKUP(\"Oil\",HVACg_Lookup,MATCH($F$16,BuildingSize,0)+1,FALSE),IF(IFERROR(SEARCH(\"Propane\",$A$18),0)>0,VLOOKUP(\"Propane\",HVACg_Lookup,MATCH(Worksheet!$F$16,BuildingSize,0)+1,FALSE),0)))","v":0},{"$f":"Z368/1000*AA368*AC368*IF(IFERROR(SEARCH(\"Gas\",$A$18),0)>0,VLOOKUP(\"Gas\",HVACg_Lookup,MATCH($F$16,BuildingSize,0)+1,FALSE),IF(IFERROR(SEARCH(\"Oil\",$A$18),0)>0,VLOOKUP(\"Oil\",HVACg_Lookup,MATCH($F$16,BuildingSize,0)+1,FALSE),IF(IFERROR(SEARCH(\"Propane\",$A$18),0)>0,VLOOKUP(\"Propane\",HVACg_Lookup,MATCH(Worksheet!$F$16,BuildingSize,0)+1,FALSE),0)))","v":0},0,0,"",""]
[null,null,"",null,null,null,null,null,null,null,null,null,null,null,null,0,0,0,0,"",0,0,0,0,0,0,0,0,0,0,0,0,0,0,0,0,0,{"$f":"Y369/1000*AA369*AC369*IF(IFERROR(SEARCH(\"Gas\",$A$18),0)>0,VLOOKUP(\"Gas\",HVACg_Lookup,MATCH($F$16,BuildingSize,0)+1,FALSE),IF(IFERROR(SEARCH(\"Oil\",$A$18),0)>0,VLOOKUP(\"Oil\",HVACg_Lookup,MATCH($F$16,BuildingSize,0)+1,FALSE),IF(IFERROR(SEARCH(\"Propane\",$A$18),0)>0,VLOOKUP(\"Propane\",HVACg_Lookup,MATCH(Worksheet!$F$16,BuildingSize,0)+1,FALSE),0)))","v":0},{"$f":"Z369/1000*AA369*AC369*IF(IFERROR(SEARCH(\"Gas\",$A$18),0)>0,VLOOKUP(\"Gas\",HVACg_Lookup,MATCH($F$16,BuildingSize,0)+1,FALSE),IF(IFERROR(SEARCH(\"Oil\",$A$18),0)>0,VLOOKUP(\"Oil\",HVACg_Lookup,MATCH($F$16,BuildingSize,0)+1,FALSE),IF(IFERROR(SEARCH(\"Propane\",$A$18),0)>0,VLOOKUP(\"Propane\",HVACg_Lookup,MATCH(Worksheet!$F$16,BuildingSize,0)+1,FALSE),0)))","v":0},0,0,"",""]
[null,null,"",null,null,null,null,null,null,null,null,null,null,null,null,0,0,0,0,"",0,0,0,0,0,0,0,0,0,0,0,0,0,0,0,0,0,{"$f":"Y370/1000*AA370*AC370*IF(IFERROR(SEARCH(\"Gas\",$A$18),0)>0,VLOOKUP(\"Gas\",HVACg_Lookup,MATCH($F$16,BuildingSize,0)+1,FALSE),IF(IFERROR(SEARCH(\"Oil\",$A$18),0)>0,VLOOKUP(\"Oil\",HVACg_Lookup,MATCH($F$16,BuildingSize,0)+1,FALSE),IF(IFERROR(SEARCH(\"Propane\",$A$18),0)>0,VLOOKUP(\"Propane\",HVACg_Lookup,MATCH(Worksheet!$F$16,BuildingSize,0)+1,FALSE),0)))","v":0},{"$f":"Z370/1000*AA370*AC370*IF(IFERROR(SEARCH(\"Gas\",$A$18),0)>0,VLOOKUP(\"Gas\",HVACg_Lookup,MATCH($F$16,BuildingSize,0)+1,FALSE),IF(IFERROR(SEARCH(\"Oil\",$A$18),0)>0,VLOOKUP(\"Oil\",HVACg_Lookup,MATCH($F$16,BuildingSize,0)+1,FALSE),IF(IFERROR(SEARCH(\"Propane\",$A$18),0)>0,VLOOKUP(\"Propane\",HVACg_Lookup,MATCH(Worksheet!$F$16,BuildingSize,0)+1,FALSE),0)))","v":0},0,0,"",""]
[null,null,"",null,null,null,null,null,null,null,null,null,null,null,null,0,0,0,0,"",0,0,0,0,0,0,0,0,0,0,0,0,0,0,0,0,0,{"$f":"Y371/1000*AA371*AC371*IF(IFERROR(SEARCH(\"Gas\",$A$18),0)>0,VLOOKUP(\"Gas\",HVACg_Lookup,MATCH($F$16,BuildingSize,0)+1,FALSE),IF(IFERROR(SEARCH(\"Oil\",$A$18),0)>0,VLOOKUP(\"Oil\",HVACg_Lookup,MATCH($F$16,BuildingSize,0)+1,FALSE),IF(IFERROR(SEARCH(\"Propane\",$A$18),0)>0,VLOOKUP(\"Propane\",HVACg_Lookup,MATCH(Worksheet!$F$16,BuildingSize,0)+1,FALSE),0)))","v":0},{"$f":"Z371/1000*AA371*AC371*IF(IFERROR(SEARCH(\"Gas\",$A$18),0)>0,VLOOKUP(\"Gas\",HVACg_Lookup,MATCH($F$16,BuildingSize,0)+1,FALSE),IF(IFERROR(SEARCH(\"Oil\",$A$18),0)>0,VLOOKUP(\"Oil\",HVACg_Lookup,MATCH($F$16,BuildingSize,0)+1,FALSE),IF(IFERROR(SEARCH(\"Propane\",$A$18),0)>0,VLOOKUP(\"Propane\",HVACg_Lookup,MATCH(Worksheet!$F$16,BuildingSize,0)+1,FALSE),0)))","v":0},0,0,"",""]
[null,null,"",null,null,null,null,null,null,null,null,null,null,null,null,0,0,0,0,"",0,0,0,0,0,0,0,0,0,0,0,0,0,0,0,0,0,{"$f":"Y372/1000*AA372*AC372*IF(IFERROR(SEARCH(\"Gas\",$A$18),0)>0,VLOOKUP(\"Gas\",HVACg_Lookup,MATCH($F$16,BuildingSize,0)+1,FALSE),IF(IFERROR(SEARCH(\"Oil\",$A$18),0)>0,VLOOKUP(\"Oil\",HVACg_Lookup,MATCH($F$16,BuildingSize,0)+1,FALSE),IF(IFERROR(SEARCH(\"Propane\",$A$18),0)>0,VLOOKUP(\"Propane\",HVACg_Lookup,MATCH(Worksheet!$F$16,BuildingSize,0)+1,FALSE),0)))","v":0},{"$f":"Z372/1000*AA372*AC372*IF(IFERROR(SEARCH(\"Gas\",$A$18),0)>0,VLOOKUP(\"Gas\",HVACg_Lookup,MATCH($F$16,BuildingSize,0)+1,FALSE),IF(IFERROR(SEARCH(\"Oil\",$A$18),0)>0,VLOOKUP(\"Oil\",HVACg_Lookup,MATCH($F$16,BuildingSize,0)+1,FALSE),IF(IFERROR(SEARCH(\"Propane\",$A$18),0)>0,VLOOKUP(\"Propane\",HVACg_Lookup,MATCH(Worksheet!$F$16,BuildingSize,0)+1,FALSE),0)))","v":0},0,0,"",""]
[null,null,"",null,null,null,null,null,null,null,null,null,null,null,null,0,0,0,0,"",0,0,0,0,0,0,0,0,0,0,0,0,0,0,0,0,0,{"$f":"Y373/1000*AA373*AC373*IF(IFERROR(SEARCH(\"Gas\",$A$18),0)>0,VLOOKUP(\"Gas\",HVACg_Lookup,MATCH($F$16,BuildingSize,0)+1,FALSE),IF(IFERROR(SEARCH(\"Oil\",$A$18),0)>0,VLOOKUP(\"Oil\",HVACg_Lookup,MATCH($F$16,BuildingSize,0)+1,FALSE),IF(IFERROR(SEARCH(\"Propane\",$A$18),0)>0,VLOOKUP(\"Propane\",HVACg_Lookup,MATCH(Worksheet!$F$16,BuildingSize,0)+1,FALSE),0)))","v":0},{"$f":"Z373/1000*AA373*AC373*IF(IFERROR(SEARCH(\"Gas\",$A$18),0)>0,VLOOKUP(\"Gas\",HVACg_Lookup,MATCH($F$16,BuildingSize,0)+1,FALSE),IF(IFERROR(SEARCH(\"Oil\",$A$18),0)>0,VLOOKUP(\"Oil\",HVACg_Lookup,MATCH($F$16,BuildingSize,0)+1,FALSE),IF(IFERROR(SEARCH(\"Propane\",$A$18),0)>0,VLOOKUP(\"Propane\",HVACg_Lookup,MATCH(Worksheet!$F$16,BuildingSize,0)+1,FALSE),0)))","v":0},0,0,"",""]
[null,null,"",null,null,null,null,null,null,null,null,null,null,null,null,0,0,0,0,"",0,0,0,0,0,0,0,0,0,0,0,0,0,0,0,0,0,{"$f":"Y374/1000*AA374*AC374*IF(IFERROR(SEARCH(\"Gas\",$A$18),0)>0,VLOOKUP(\"Gas\",HVACg_Lookup,MATCH($F$16,BuildingSize,0)+1,FALSE),IF(IFERROR(SEARCH(\"Oil\",$A$18),0)>0,VLOOKUP(\"Oil\",HVACg_Lookup,MATCH($F$16,BuildingSize,0)+1,FALSE),IF(IFERROR(SEARCH(\"Propane\",$A$18),0)>0,VLOOKUP(\"Propane\",HVACg_Lookup,MATCH(Worksheet!$F$16,BuildingSize,0)+1,FALSE),0)))","v":0},{"$f":"Z374/1000*AA374*AC374*IF(IFERROR(SEARCH(\"Gas\",$A$18),0)>0,VLOOKUP(\"Gas\",HVACg_Lookup,MATCH($F$16,BuildingSize,0)+1,FALSE),IF(IFERROR(SEARCH(\"Oil\",$A$18),0)>0,VLOOKUP(\"Oil\",HVACg_Lookup,MATCH($F$16,BuildingSize,0)+1,FALSE),IF(IFERROR(SEARCH(\"Propane\",$A$18),0)>0,VLOOKUP(\"Propane\",HVACg_Lookup,MATCH(Worksheet!$F$16,BuildingSize,0)+1,FALSE),0)))","v":0},0,0,"",""]
[null,null,"",null,null,null,null,null,null,null,null,null,null,null,null,0,0,0,0,"",0,0,0,0,0,0,0,0,0,0,0,0,0,0,0,0,0,{"$f":"Y375/1000*AA375*AC375*IF(IFERROR(SEARCH(\"Gas\",$A$18),0)>0,VLOOKUP(\"Gas\",HVACg_Lookup,MATCH($F$16,BuildingSize,0)+1,FALSE),IF(IFERROR(SEARCH(\"Oil\",$A$18),0)>0,VLOOKUP(\"Oil\",HVACg_Lookup,MATCH($F$16,BuildingSize,0)+1,FALSE),IF(IFERROR(SEARCH(\"Propane\",$A$18),0)>0,VLOOKUP(\"Propane\",HVACg_Lookup,MATCH(Worksheet!$F$16,BuildingSize,0)+1,FALSE),0)))","v":0},{"$f":"Z375/1000*AA375*AC375*IF(IFERROR(SEARCH(\"Gas\",$A$18),0)>0,VLOOKUP(\"Gas\",HVACg_Lookup,MATCH($F$16,BuildingSize,0)+1,FALSE),IF(IFERROR(SEARCH(\"Oil\",$A$18),0)>0,VLOOKUP(\"Oil\",HVACg_Lookup,MATCH($F$16,BuildingSize,0)+1,FALSE),IF(IFERROR(SEARCH(\"Propane\",$A$18),0)>0,VLOOKUP(\"Propane\",HVACg_Lookup,MATCH(Worksheet!$F$16,BuildingSize,0)+1,FALSE),0)))","v":0},0,0,"",""]
[null,null,"",null,null,null,null,null,null,null,null,null,null,null,null,0,0,0,0,"",0,0,0,0,0,0,0,0,0,0,0,0,0,0,0,0,0,{"$f":"Y376/1000*AA376*AC376*IF(IFERROR(SEARCH(\"Gas\",$A$18),0)>0,VLOOKUP(\"Gas\",HVACg_Lookup,MATCH($F$16,BuildingSize,0)+1,FALSE),IF(IFERROR(SEARCH(\"Oil\",$A$18),0)>0,VLOOKUP(\"Oil\",HVACg_Lookup,MATCH($F$16,BuildingSize,0)+1,FALSE),IF(IFERROR(SEARCH(\"Propane\",$A$18),0)>0,VLOOKUP(\"Propane\",HVACg_Lookup,MATCH(Worksheet!$F$16,BuildingSize,0)+1,FALSE),0)))","v":0},{"$f":"Z376/1000*AA376*AC376*IF(IFERROR(SEARCH(\"Gas\",$A$18),0)>0,VLOOKUP(\"Gas\",HVACg_Lookup,MATCH($F$16,BuildingSize,0)+1,FALSE),IF(IFERROR(SEARCH(\"Oil\",$A$18),0)>0,VLOOKUP(\"Oil\",HVACg_Lookup,MATCH($F$16,BuildingSize,0)+1,FALSE),IF(IFERROR(SEARCH(\"Propane\",$A$18),0)>0,VLOOKUP(\"Propane\",HVACg_Lookup,MATCH(Worksheet!$F$16,BuildingSize,0)+1,FALSE),0)))","v":0},0,0,"",""]
[null,null,"",null,null,null,null,null,null,null,null,null,null,null,null,0,0,0,0,"",0,0,0,0,0,0,0,0,0,0,0,0,0,0,0,0,0,{"$f":"Y377/1000*AA377*AC377*IF(IFERROR(SEARCH(\"Gas\",$A$18),0)>0,VLOOKUP(\"Gas\",HVACg_Lookup,MATCH($F$16,BuildingSize,0)+1,FALSE),IF(IFERROR(SEARCH(\"Oil\",$A$18),0)>0,VLOOKUP(\"Oil\",HVACg_Lookup,MATCH($F$16,BuildingSize,0)+1,FALSE),IF(IFERROR(SEARCH(\"Propane\",$A$18),0)>0,VLOOKUP(\"Propane\",HVACg_Lookup,MATCH(Worksheet!$F$16,BuildingSize,0)+1,FALSE),0)))","v":0},{"$f":"Z377/1000*AA377*AC377*IF(IFERROR(SEARCH(\"Gas\",$A$18),0)>0,VLOOKUP(\"Gas\",HVACg_Lookup,MATCH($F$16,BuildingSize,0)+1,FALSE),IF(IFERROR(SEARCH(\"Oil\",$A$18),0)>0,VLOOKUP(\"Oil\",HVACg_Lookup,MATCH($F$16,BuildingSize,0)+1,FALSE),IF(IFERROR(SEARCH(\"Propane\",$A$18),0)>0,VLOOKUP(\"Propane\",HVACg_Lookup,MATCH(Worksheet!$F$16,BuildingSize,0)+1,FALSE),0)))","v":0},0,0,"",""]
[null,null,"",null,null,null,null,null,null,null,null,null,null,null,null,0,0,0,0,"",0,0,0,0,0,0,0,0,0,0,0,0,0,0,0,0,0,{"$f":"Y378/1000*AA378*AC378*IF(IFERROR(SEARCH(\"Gas\",$A$18),0)>0,VLOOKUP(\"Gas\",HVACg_Lookup,MATCH($F$16,BuildingSize,0)+1,FALSE),IF(IFERROR(SEARCH(\"Oil\",$A$18),0)>0,VLOOKUP(\"Oil\",HVACg_Lookup,MATCH($F$16,BuildingSize,0)+1,FALSE),IF(IFERROR(SEARCH(\"Propane\",$A$18),0)>0,VLOOKUP(\"Propane\",HVACg_Lookup,MATCH(Worksheet!$F$16,BuildingSize,0)+1,FALSE),0)))","v":0},{"$f":"Z378/1000*AA378*AC378*IF(IFERROR(SEARCH(\"Gas\",$A$18),0)>0,VLOOKUP(\"Gas\",HVACg_Lookup,MATCH($F$16,BuildingSize,0)+1,FALSE),IF(IFERROR(SEARCH(\"Oil\",$A$18),0)>0,VLOOKUP(\"Oil\",HVACg_Lookup,MATCH($F$16,BuildingSize,0)+1,FALSE),IF(IFERROR(SEARCH(\"Propane\",$A$18),0)>0,VLOOKUP(\"Propane\",HVACg_Lookup,MATCH(Worksheet!$F$16,BuildingSize,0)+1,FALSE),0)))","v":0},0,0,"",""]
[null,null,"",null,null,null,null,null,null,null,null,null,null,null,null,0,0,0,0,"",0,0,0,0,0,0,0,0,0,0,0,0,0,0,0,0,0,{"$f":"Y379/1000*AA379*AC379*IF(IFERROR(SEARCH(\"Gas\",$A$18),0)>0,VLOOKUP(\"Gas\",HVACg_Lookup,MATCH($F$16,BuildingSize,0)+1,FALSE),IF(IFERROR(SEARCH(\"Oil\",$A$18),0)>0,VLOOKUP(\"Oil\",HVACg_Lookup,MATCH($F$16,BuildingSize,0)+1,FALSE),IF(IFERROR(SEARCH(\"Propane\",$A$18),0)>0,VLOOKUP(\"Propane\",HVACg_Lookup,MATCH(Worksheet!$F$16,BuildingSize,0)+1,FALSE),0)))","v":0},{"$f":"Z379/1000*AA379*AC379*IF(IFERROR(SEARCH(\"Gas\",$A$18),0)>0,VLOOKUP(\"Gas\",HVACg_Lookup,MATCH($F$16,BuildingSize,0)+1,FALSE),IF(IFERROR(SEARCH(\"Oil\",$A$18),0)>0,VLOOKUP(\"Oil\",HVACg_Lookup,MATCH($F$16,BuildingSize,0)+1,FALSE),IF(IFERROR(SEARCH(\"Propane\",$A$18),0)>0,VLOOKUP(\"Propane\",HVACg_Lookup,MATCH(Worksheet!$F$16,BuildingSize,0)+1,FALSE),0)))","v":0},0,0,"",""]
[null,null,"",null,null,null,null,null,null,null,null,null,null,null,null,0,0,0,0,"",0,0,0,0,0,0,0,0,0,0,0,0,0,0,0,0,0,{"$f":"Y380/1000*AA380*AC380*IF(IFERROR(SEARCH(\"Gas\",$A$18),0)>0,VLOOKUP(\"Gas\",HVACg_Lookup,MATCH($F$16,BuildingSize,0)+1,FALSE),IF(IFERROR(SEARCH(\"Oil\",$A$18),0)>0,VLOOKUP(\"Oil\",HVACg_Lookup,MATCH($F$16,BuildingSize,0)+1,FALSE),IF(IFERROR(SEARCH(\"Propane\",$A$18),0)>0,VLOOKUP(\"Propane\",HVACg_Lookup,MATCH(Worksheet!$F$16,BuildingSize,0)+1,FALSE),0)))","v":0},{"$f":"Z380/1000*AA380*AC380*IF(IFERROR(SEARCH(\"Gas\",$A$18),0)>0,VLOOKUP(\"Gas\",HVACg_Lookup,MATCH($F$16,BuildingSize,0)+1,FALSE),IF(IFERROR(SEARCH(\"Oil\",$A$18),0)>0,VLOOKUP(\"Oil\",HVACg_Lookup,MATCH($F$16,BuildingSize,0)+1,FALSE),IF(IFERROR(SEARCH(\"Propane\",$A$18),0)>0,VLOOKUP(\"Propane\",HVACg_Lookup,MATCH(Worksheet!$F$16,BuildingSize,0)+1,FALSE),0)))","v":0},0,0,"",""]
[null,null,"",null,null,null,null,null,null,null,null,null,null,null,null,0,0,0,0,"",0,0,0,0,0,0,0,0,0,0,0,0,0,0,0,0,0,{"$f":"Y381/1000*AA381*AC381*IF(IFERROR(SEARCH(\"Gas\",$A$18),0)>0,VLOOKUP(\"Gas\",HVACg_Lookup,MATCH($F$16,BuildingSize,0)+1,FALSE),IF(IFERROR(SEARCH(\"Oil\",$A$18),0)>0,VLOOKUP(\"Oil\",HVACg_Lookup,MATCH($F$16,BuildingSize,0)+1,FALSE),IF(IFERROR(SEARCH(\"Propane\",$A$18),0)>0,VLOOKUP(\"Propane\",HVACg_Lookup,MATCH(Worksheet!$F$16,BuildingSize,0)+1,FALSE),0)))","v":0},{"$f":"Z381/1000*AA381*AC381*IF(IFERROR(SEARCH(\"Gas\",$A$18),0)>0,VLOOKUP(\"Gas\",HVACg_Lookup,MATCH($F$16,BuildingSize,0)+1,FALSE),IF(IFERROR(SEARCH(\"Oil\",$A$18),0)>0,VLOOKUP(\"Oil\",HVACg_Lookup,MATCH($F$16,BuildingSize,0)+1,FALSE),IF(IFERROR(SEARCH(\"Propane\",$A$18),0)>0,VLOOKUP(\"Propane\",HVACg_Lookup,MATCH(Worksheet!$F$16,BuildingSize,0)+1,FALSE),0)))","v":0},0,0,"",""]
[null,null,"",null,null,null,null,null,null,null,null,null,null,null,null,0,0,0,0,"",0,0,0,0,0,0,0,0,0,0,0,0,0,0,0,0,0,{"$f":"Y382/1000*AA382*AC382*IF(IFERROR(SEARCH(\"Gas\",$A$18),0)>0,VLOOKUP(\"Gas\",HVACg_Lookup,MATCH($F$16,BuildingSize,0)+1,FALSE),IF(IFERROR(SEARCH(\"Oil\",$A$18),0)>0,VLOOKUP(\"Oil\",HVACg_Lookup,MATCH($F$16,BuildingSize,0)+1,FALSE),IF(IFERROR(SEARCH(\"Propane\",$A$18),0)>0,VLOOKUP(\"Propane\",HVACg_Lookup,MATCH(Worksheet!$F$16,BuildingSize,0)+1,FALSE),0)))","v":0},{"$f":"Z382/1000*AA382*AC382*IF(IFERROR(SEARCH(\"Gas\",$A$18),0)>0,VLOOKUP(\"Gas\",HVACg_Lookup,MATCH($F$16,BuildingSize,0)+1,FALSE),IF(IFERROR(SEARCH(\"Oil\",$A$18),0)>0,VLOOKUP(\"Oil\",HVACg_Lookup,MATCH($F$16,BuildingSize,0)+1,FALSE),IF(IFERROR(SEARCH(\"Propane\",$A$18),0)>0,VLOOKUP(\"Propane\",HVACg_Lookup,MATCH(Worksheet!$F$16,BuildingSize,0)+1,FALSE),0)))","v":0},0,0,"",""]
[null,null,"",null,null,null,null,null,null,null,null,null,null,null,null,0,0,0,0,"",0,0,0,0,0,0,0,0,0,0,0,0,0,0,0,0,0,{"$f":"Y383/1000*AA383*AC383*IF(IFERROR(SEARCH(\"Gas\",$A$18),0)>0,VLOOKUP(\"Gas\",HVACg_Lookup,MATCH($F$16,BuildingSize,0)+1,FALSE),IF(IFERROR(SEARCH(\"Oil\",$A$18),0)>0,VLOOKUP(\"Oil\",HVACg_Lookup,MATCH($F$16,BuildingSize,0)+1,FALSE),IF(IFERROR(SEARCH(\"Propane\",$A$18),0)>0,VLOOKUP(\"Propane\",HVACg_Lookup,MATCH(Worksheet!$F$16,BuildingSize,0)+1,FALSE),0)))","v":0},{"$f":"Z383/1000*AA383*AC383*IF(IFERROR(SEARCH(\"Gas\",$A$18),0)>0,VLOOKUP(\"Gas\",HVACg_Lookup,MATCH($F$16,BuildingSize,0)+1,FALSE),IF(IFERROR(SEARCH(\"Oil\",$A$18),0)>0,VLOOKUP(\"Oil\",HVACg_Lookup,MATCH($F$16,BuildingSize,0)+1,FALSE),IF(IFERROR(SEARCH(\"Propane\",$A$18),0)>0,VLOOKUP(\"Propane\",HVACg_Lookup,MATCH(Worksheet!$F$16,BuildingSize,0)+1,FALSE),0)))","v":0},0,0,"",""]
[null,null,"",null,null,null,null,null,null,null,null,null,null,null,null,0,0,0,0,"",0,0,0,0,0,0,0,0,0,0,0,0,0,0,0,0,0,{"$f":"Y384/1000*AA384*AC384*IF(IFERROR(SEARCH(\"Gas\",$A$18),0)>0,VLOOKUP(\"Gas\",HVACg_Lookup,MATCH($F$16,BuildingSize,0)+1,FALSE),IF(IFERROR(SEARCH(\"Oil\",$A$18),0)>0,VLOOKUP(\"Oil\",HVACg_Lookup,MATCH($F$16,BuildingSize,0)+1,FALSE),IF(IFERROR(SEARCH(\"Propane\",$A$18),0)>0,VLOOKUP(\"Propane\",HVACg_Lookup,MATCH(Worksheet!$F$16,BuildingSize,0)+1,FALSE),0)))","v":0},{"$f":"Z384/1000*AA384*AC384*IF(IFERROR(SEARCH(\"Gas\",$A$18),0)>0,VLOOKUP(\"Gas\",HVACg_Lookup,MATCH($F$16,BuildingSize,0)+1,FALSE),IF(IFERROR(SEARCH(\"Oil\",$A$18),0)>0,VLOOKUP(\"Oil\",HVACg_Lookup,MATCH($F$16,BuildingSize,0)+1,FALSE),IF(IFERROR(SEARCH(\"Propane\",$A$18),0)>0,VLOOKUP(\"Propane\",HVACg_Lookup,MATCH(Worksheet!$F$16,BuildingSize,0)+1,FALSE),0)))","v":0},0,0,"",""]
[null,null,"",null,null,null,null,null,null,null,null,null,null,null,null,0,0,0,0,"",0,0,0,0,0,0,0,0,0,0,0,0,0,0,0,0,0,{"$f":"Y385/1000*AA385*AC385*IF(IFERROR(SEARCH(\"Gas\",$A$18),0)>0,VLOOKUP(\"Gas\",HVACg_Lookup,MATCH($F$16,BuildingSize,0)+1,FALSE),IF(IFERROR(SEARCH(\"Oil\",$A$18),0)>0,VLOOKUP(\"Oil\",HVACg_Lookup,MATCH($F$16,BuildingSize,0)+1,FALSE),IF(IFERROR(SEARCH(\"Propane\",$A$18),0)>0,VLOOKUP(\"Propane\",HVACg_Lookup,MATCH(Worksheet!$F$16,BuildingSize,0)+1,FALSE),0)))","v":0},{"$f":"Z385/1000*AA385*AC385*IF(IFERROR(SEARCH(\"Gas\",$A$18),0)>0,VLOOKUP(\"Gas\",HVACg_Lookup,MATCH($F$16,BuildingSize,0)+1,FALSE),IF(IFERROR(SEARCH(\"Oil\",$A$18),0)>0,VLOOKUP(\"Oil\",HVACg_Lookup,MATCH($F$16,BuildingSize,0)+1,FALSE),IF(IFERROR(SEARCH(\"Propane\",$A$18),0)>0,VLOOKUP(\"Propane\",HVACg_Lookup,MATCH(Worksheet!$F$16,BuildingSize,0)+1,FALSE),0)))","v":0},0,0,"",""]
[null,null,"",null,null,null,null,null,null,null,null,null,null,null,null,0,0,0,0,"",0,0,0,0,0,0,0,0,0,0,0,0,0,0,0,0,0,{"$f":"Y386/1000*AA386*AC386*IF(IFERROR(SEARCH(\"Gas\",$A$18),0)>0,VLOOKUP(\"Gas\",HVACg_Lookup,MATCH($F$16,BuildingSize,0)+1,FALSE),IF(IFERROR(SEARCH(\"Oil\",$A$18),0)>0,VLOOKUP(\"Oil\",HVACg_Lookup,MATCH($F$16,BuildingSize,0)+1,FALSE),IF(IFERROR(SEARCH(\"Propane\",$A$18),0)>0,VLOOKUP(\"Propane\",HVACg_Lookup,MATCH(Worksheet!$F$16,BuildingSize,0)+1,FALSE),0)))","v":0},{"$f":"Z386/1000*AA386*AC386*IF(IFERROR(SEARCH(\"Gas\",$A$18),0)>0,VLOOKUP(\"Gas\",HVACg_Lookup,MATCH($F$16,BuildingSize,0)+1,FALSE),IF(IFERROR(SEARCH(\"Oil\",$A$18),0)>0,VLOOKUP(\"Oil\",HVACg_Lookup,MATCH($F$16,BuildingSize,0)+1,FALSE),IF(IFERROR(SEARCH(\"Propane\",$A$18),0)>0,VLOOKUP(\"Propane\",HVACg_Lookup,MATCH(Worksheet!$F$16,BuildingSize,0)+1,FALSE),0)))","v":0},0,0,"",""]
[null,null,"",null,null,null,null,null,null,null,null,null,null,null,null,0,0,0,0,"",0,0,0,0,0,0,0,0,0,0,0,0,0,0,0,0,0,{"$f":"Y387/1000*AA387*AC387*IF(IFERROR(SEARCH(\"Gas\",$A$18),0)>0,VLOOKUP(\"Gas\",HVACg_Lookup,MATCH($F$16,BuildingSize,0)+1,FALSE),IF(IFERROR(SEARCH(\"Oil\",$A$18),0)>0,VLOOKUP(\"Oil\",HVACg_Lookup,MATCH($F$16,BuildingSize,0)+1,FALSE),IF(IFERROR(SEARCH(\"Propane\",$A$18),0)>0,VLOOKUP(\"Propane\",HVACg_Lookup,MATCH(Worksheet!$F$16,BuildingSize,0)+1,FALSE),0)))","v":0},{"$f":"Z387/1000*AA387*AC387*IF(IFERROR(SEARCH(\"Gas\",$A$18),0)>0,VLOOKUP(\"Gas\",HVACg_Lookup,MATCH($F$16,BuildingSize,0)+1,FALSE),IF(IFERROR(SEARCH(\"Oil\",$A$18),0)>0,VLOOKUP(\"Oil\",HVACg_Lookup,MATCH($F$16,BuildingSize,0)+1,FALSE),IF(IFERROR(SEARCH(\"Propane\",$A$18),0)>0,VLOOKUP(\"Propane\",HVACg_Lookup,MATCH(Worksheet!$F$16,BuildingSize,0)+1,FALSE),0)))","v":0},0,0,"",""]
[null,null,"",null,null,null,null,null,null,null,null,null,null,null,null,0,0,0,0,"",0,0,0,0,0,0,0,0,0,0,0,0,0,0,0,0,0,{"$f":"Y388/1000*AA388*AC388*IF(IFERROR(SEARCH(\"Gas\",$A$18),0)>0,VLOOKUP(\"Gas\",HVACg_Lookup,MATCH($F$16,BuildingSize,0)+1,FALSE),IF(IFERROR(SEARCH(\"Oil\",$A$18),0)>0,VLOOKUP(\"Oil\",HVACg_Lookup,MATCH($F$16,BuildingSize,0)+1,FALSE),IF(IFERROR(SEARCH(\"Propane\",$A$18),0)>0,VLOOKUP(\"Propane\",HVACg_Lookup,MATCH(Worksheet!$F$16,BuildingSize,0)+1,FALSE),0)))","v":0},{"$f":"Z388/1000*AA388*AC388*IF(IFERROR(SEARCH(\"Gas\",$A$18),0)>0,VLOOKUP(\"Gas\",HVACg_Lookup,MATCH($F$16,BuildingSize,0)+1,FALSE),IF(IFERROR(SEARCH(\"Oil\",$A$18),0)>0,VLOOKUP(\"Oil\",HVACg_Lookup,MATCH($F$16,BuildingSize,0)+1,FALSE),IF(IFERROR(SEARCH(\"Propane\",$A$18),0)>0,VLOOKUP(\"Propane\",HVACg_Lookup,MATCH(Worksheet!$F$16,BuildingSize,0)+1,FALSE),0)))","v":0},0,0,"",""]
[null,null,"",null,null,null,null,null,null,null,null,null,null,null,null,0,0,0,0,"",0,0,0,0,0,0,0,0,0,0,0,0,0,0,0,0,0,{"$f":"Y389/1000*AA389*AC389*IF(IFERROR(SEARCH(\"Gas\",$A$18),0)>0,VLOOKUP(\"Gas\",HVACg_Lookup,MATCH($F$16,BuildingSize,0)+1,FALSE),IF(IFERROR(SEARCH(\"Oil\",$A$18),0)>0,VLOOKUP(\"Oil\",HVACg_Lookup,MATCH($F$16,BuildingSize,0)+1,FALSE),IF(IFERROR(SEARCH(\"Propane\",$A$18),0)>0,VLOOKUP(\"Propane\",HVACg_Lookup,MATCH(Worksheet!$F$16,BuildingSize,0)+1,FALSE),0)))","v":0},{"$f":"Z389/1000*AA389*AC389*IF(IFERROR(SEARCH(\"Gas\",$A$18),0)>0,VLOOKUP(\"Gas\",HVACg_Lookup,MATCH($F$16,BuildingSize,0)+1,FALSE),IF(IFERROR(SEARCH(\"Oil\",$A$18),0)>0,VLOOKUP(\"Oil\",HVACg_Lookup,MATCH($F$16,BuildingSize,0)+1,FALSE),IF(IFERROR(SEARCH(\"Propane\",$A$18),0)>0,VLOOKUP(\"Propane\",HVACg_Lookup,MATCH(Worksheet!$F$16,BuildingSize,0)+1,FALSE),0)))","v":0},0,0,"",""]
[null,null,"",null,null,null,null,null,null,null,null,null,null,null,null,0,0,0,0,"",0,0,0,0,0,0,0,0,0,0,0,0,0,0,0,0,0,{"$f":"Y390/1000*AA390*AC390*IF(IFERROR(SEARCH(\"Gas\",$A$18),0)>0,VLOOKUP(\"Gas\",HVACg_Lookup,MATCH($F$16,BuildingSize,0)+1,FALSE),IF(IFERROR(SEARCH(\"Oil\",$A$18),0)>0,VLOOKUP(\"Oil\",HVACg_Lookup,MATCH($F$16,BuildingSize,0)+1,FALSE),IF(IFERROR(SEARCH(\"Propane\",$A$18),0)>0,VLOOKUP(\"Propane\",HVACg_Lookup,MATCH(Worksheet!$F$16,BuildingSize,0)+1,FALSE),0)))","v":0},{"$f":"Z390/1000*AA390*AC390*IF(IFERROR(SEARCH(\"Gas\",$A$18),0)>0,VLOOKUP(\"Gas\",HVACg_Lookup,MATCH($F$16,BuildingSize,0)+1,FALSE),IF(IFERROR(SEARCH(\"Oil\",$A$18),0)>0,VLOOKUP(\"Oil\",HVACg_Lookup,MATCH($F$16,BuildingSize,0)+1,FALSE),IF(IFERROR(SEARCH(\"Propane\",$A$18),0)>0,VLOOKUP(\"Propane\",HVACg_Lookup,MATCH(Worksheet!$F$16,BuildingSize,0)+1,FALSE),0)))","v":0},0,0,"",""]
[null,null,"",null,null,null,null,null,null,null,null,null,null,null,null,0,0,0,0,"",0,0,0,0,0,0,0,0,0,0,0,0,0,0,0,0,0,{"$f":"Y391/1000*AA391*AC391*IF(IFERROR(SEARCH(\"Gas\",$A$18),0)>0,VLOOKUP(\"Gas\",HVACg_Lookup,MATCH($F$16,BuildingSize,0)+1,FALSE),IF(IFERROR(SEARCH(\"Oil\",$A$18),0)>0,VLOOKUP(\"Oil\",HVACg_Lookup,MATCH($F$16,BuildingSize,0)+1,FALSE),IF(IFERROR(SEARCH(\"Propane\",$A$18),0)>0,VLOOKUP(\"Propane\",HVACg_Lookup,MATCH(Worksheet!$F$16,BuildingSize,0)+1,FALSE),0)))","v":0},{"$f":"Z391/1000*AA391*AC391*IF(IFERROR(SEARCH(\"Gas\",$A$18),0)>0,VLOOKUP(\"Gas\",HVACg_Lookup,MATCH($F$16,BuildingSize,0)+1,FALSE),IF(IFERROR(SEARCH(\"Oil\",$A$18),0)>0,VLOOKUP(\"Oil\",HVACg_Lookup,MATCH($F$16,BuildingSize,0)+1,FALSE),IF(IFERROR(SEARCH(\"Propane\",$A$18),0)>0,VLOOKUP(\"Propane\",HVACg_Lookup,MATCH(Worksheet!$F$16,BuildingSize,0)+1,FALSE),0)))","v":0},0,0,"",""]
[null,null,"",null,null,null,null,null,null,null,null,null,null,null,null,0,0,0,0,"",0,0,0,0,0,0,0,0,0,0,0,0,0,0,0,0,0,{"$f":"Y392/1000*AA392*AC392*IF(IFERROR(SEARCH(\"Gas\",$A$18),0)>0,VLOOKUP(\"Gas\",HVACg_Lookup,MATCH($F$16,BuildingSize,0)+1,FALSE),IF(IFERROR(SEARCH(\"Oil\",$A$18),0)>0,VLOOKUP(\"Oil\",HVACg_Lookup,MATCH($F$16,BuildingSize,0)+1,FALSE),IF(IFERROR(SEARCH(\"Propane\",$A$18),0)>0,VLOOKUP(\"Propane\",HVACg_Lookup,MATCH(Worksheet!$F$16,BuildingSize,0)+1,FALSE),0)))","v":0},{"$f":"Z392/1000*AA392*AC392*IF(IFERROR(SEARCH(\"Gas\",$A$18),0)>0,VLOOKUP(\"Gas\",HVACg_Lookup,MATCH($F$16,BuildingSize,0)+1,FALSE),IF(IFERROR(SEARCH(\"Oil\",$A$18),0)>0,VLOOKUP(\"Oil\",HVACg_Lookup,MATCH($F$16,BuildingSize,0)+1,FALSE),IF(IFERROR(SEARCH(\"Propane\",$A$18),0)>0,VLOOKUP(\"Propane\",HVACg_Lookup,MATCH(Worksheet!$F$16,BuildingSize,0)+1,FALSE),0)))","v":0},0,0,"",""]
[null,null,"",null,null,null,null,null,null,null,null,null,null,null,null,0,0,0,0,"",0,0,0,0,0,0,0,0,0,0,0,0,0,0,0,0,0,{"$f":"Y393/1000*AA393*AC393*IF(IFERROR(SEARCH(\"Gas\",$A$18),0)>0,VLOOKUP(\"Gas\",HVACg_Lookup,MATCH($F$16,BuildingSize,0)+1,FALSE),IF(IFERROR(SEARCH(\"Oil\",$A$18),0)>0,VLOOKUP(\"Oil\",HVACg_Lookup,MATCH($F$16,BuildingSize,0)+1,FALSE),IF(IFERROR(SEARCH(\"Propane\",$A$18),0)>0,VLOOKUP(\"Propane\",HVACg_Lookup,MATCH(Worksheet!$F$16,BuildingSize,0)+1,FALSE),0)))","v":0},{"$f":"Z393/1000*AA393*AC393*IF(IFERROR(SEARCH(\"Gas\",$A$18),0)>0,VLOOKUP(\"Gas\",HVACg_Lookup,MATCH($F$16,BuildingSize,0)+1,FALSE),IF(IFERROR(SEARCH(\"Oil\",$A$18),0)>0,VLOOKUP(\"Oil\",HVACg_Lookup,MATCH($F$16,BuildingSize,0)+1,FALSE),IF(IFERROR(SEARCH(\"Propane\",$A$18),0)>0,VLOOKUP(\"Propane\",HVACg_Lookup,MATCH(Worksheet!$F$16,BuildingSize,0)+1,FALSE),0)))","v":0},0,0,"",""]
[null,null,"",null,null,null,null,null,null,null,null,null,null,null,null,0,0,0,0,"",0,0,0,0,0,0,0,0,0,0,0,0,0,0,0,0,0,{"$f":"Y394/1000*AA394*AC394*IF(IFERROR(SEARCH(\"Gas\",$A$18),0)>0,VLOOKUP(\"Gas\",HVACg_Lookup,MATCH($F$16,BuildingSize,0)+1,FALSE),IF(IFERROR(SEARCH(\"Oil\",$A$18),0)>0,VLOOKUP(\"Oil\",HVACg_Lookup,MATCH($F$16,BuildingSize,0)+1,FALSE),IF(IFERROR(SEARCH(\"Propane\",$A$18),0)>0,VLOOKUP(\"Propane\",HVACg_Lookup,MATCH(Worksheet!$F$16,BuildingSize,0)+1,FALSE),0)))","v":0},{"$f":"Z394/1000*AA394*AC394*IF(IFERROR(SEARCH(\"Gas\",$A$18),0)>0,VLOOKUP(\"Gas\",HVACg_Lookup,MATCH($F$16,BuildingSize,0)+1,FALSE),IF(IFERROR(SEARCH(\"Oil\",$A$18),0)>0,VLOOKUP(\"Oil\",HVACg_Lookup,MATCH($F$16,BuildingSize,0)+1,FALSE),IF(IFERROR(SEARCH(\"Propane\",$A$18),0)>0,VLOOKUP(\"Propane\",HVACg_Lookup,MATCH(Worksheet!$F$16,BuildingSize,0)+1,FALSE),0)))","v":0},0,0,"",""]
[null,null,"",null,null,null,null,null,null,null,null,null,null,null,null,0,0,0,0,"",0,0,0,0,0,0,0,0,0,0,0,0,0,0,0,0,0,{"$f":"Y395/1000*AA395*AC395*IF(IFERROR(SEARCH(\"Gas\",$A$18),0)>0,VLOOKUP(\"Gas\",HVACg_Lookup,MATCH($F$16,BuildingSize,0)+1,FALSE),IF(IFERROR(SEARCH(\"Oil\",$A$18),0)>0,VLOOKUP(\"Oil\",HVACg_Lookup,MATCH($F$16,BuildingSize,0)+1,FALSE),IF(IFERROR(SEARCH(\"Propane\",$A$18),0)>0,VLOOKUP(\"Propane\",HVACg_Lookup,MATCH(Worksheet!$F$16,BuildingSize,0)+1,FALSE),0)))","v":0},{"$f":"Z395/1000*AA395*AC395*IF(IFERROR(SEARCH(\"Gas\",$A$18),0)>0,VLOOKUP(\"Gas\",HVACg_Lookup,MATCH($F$16,BuildingSize,0)+1,FALSE),IF(IFERROR(SEARCH(\"Oil\",$A$18),0)>0,VLOOKUP(\"Oil\",HVACg_Lookup,MATCH($F$16,BuildingSize,0)+1,FALSE),IF(IFERROR(SEARCH(\"Propane\",$A$18),0)>0,VLOOKUP(\"Propane\",HVACg_Lookup,MATCH(Worksheet!$F$16,BuildingSize,0)+1,FALSE),0)))","v":0},0,0,"",""]
[null,null,"",null,null,null,null,null,null,null,null,null,null,null,null,0,0,0,0,"",0,0,0,0,0,0,0,0,0,0,0,0,0,0,0,0,0,{"$f":"Y396/1000*AA396*AC396*IF(IFERROR(SEARCH(\"Gas\",$A$18),0)>0,VLOOKUP(\"Gas\",HVACg_Lookup,MATCH($F$16,BuildingSize,0)+1,FALSE),IF(IFERROR(SEARCH(\"Oil\",$A$18),0)>0,VLOOKUP(\"Oil\",HVACg_Lookup,MATCH($F$16,BuildingSize,0)+1,FALSE),IF(IFERROR(SEARCH(\"Propane\",$A$18),0)>0,VLOOKUP(\"Propane\",HVACg_Lookup,MATCH(Worksheet!$F$16,BuildingSize,0)+1,FALSE),0)))","v":0},{"$f":"Z396/1000*AA396*AC396*IF(IFERROR(SEARCH(\"Gas\",$A$18),0)>0,VLOOKUP(\"Gas\",HVACg_Lookup,MATCH($F$16,BuildingSize,0)+1,FALSE),IF(IFERROR(SEARCH(\"Oil\",$A$18),0)>0,VLOOKUP(\"Oil\",HVACg_Lookup,MATCH($F$16,BuildingSize,0)+1,FALSE),IF(IFERROR(SEARCH(\"Propane\",$A$18),0)>0,VLOOKUP(\"Propane\",HVACg_Lookup,MATCH(Worksheet!$F$16,BuildingSize,0)+1,FALSE),0)))","v":0},0,0,"",""]
[null,null,"",null,null,null,null,null,null,null,null,null,null,null,null,0,0,0,0,"",0,0,0,0,0,0,0,0,0,0,0,0,0,0,0,0,0,{"$f":"Y397/1000*AA397*AC397*IF(IFERROR(SEARCH(\"Gas\",$A$18),0)>0,VLOOKUP(\"Gas\",HVACg_Lookup,MATCH($F$16,BuildingSize,0)+1,FALSE),IF(IFERROR(SEARCH(\"Oil\",$A$18),0)>0,VLOOKUP(\"Oil\",HVACg_Lookup,MATCH($F$16,BuildingSize,0)+1,FALSE),IF(IFERROR(SEARCH(\"Propane\",$A$18),0)>0,VLOOKUP(\"Propane\",HVACg_Lookup,MATCH(Worksheet!$F$16,BuildingSize,0)+1,FALSE),0)))","v":0},{"$f":"Z397/1000*AA397*AC397*IF(IFERROR(SEARCH(\"Gas\",$A$18),0)>0,VLOOKUP(\"Gas\",HVACg_Lookup,MATCH($F$16,BuildingSize,0)+1,FALSE),IF(IFERROR(SEARCH(\"Oil\",$A$18),0)>0,VLOOKUP(\"Oil\",HVACg_Lookup,MATCH($F$16,BuildingSize,0)+1,FALSE),IF(IFERROR(SEARCH(\"Propane\",$A$18),0)>0,VLOOKUP(\"Propane\",HVACg_Lookup,MATCH(Worksheet!$F$16,BuildingSize,0)+1,FALSE),0)))","v":0},0,0,"",""]
[null,null,"",null,null,null,null,null,null,null,null,null,null,null,null,0,0,0,0,"",0,0,0,0,0,0,0,0,0,0,0,0,0,0,0,0,0,{"$f":"Y398/1000*AA398*AC398*IF(IFERROR(SEARCH(\"Gas\",$A$18),0)>0,VLOOKUP(\"Gas\",HVACg_Lookup,MATCH($F$16,BuildingSize,0)+1,FALSE),IF(IFERROR(SEARCH(\"Oil\",$A$18),0)>0,VLOOKUP(\"Oil\",HVACg_Lookup,MATCH($F$16,BuildingSize,0)+1,FALSE),IF(IFERROR(SEARCH(\"Propane\",$A$18),0)>0,VLOOKUP(\"Propane\",HVACg_Lookup,MATCH(Worksheet!$F$16,BuildingSize,0)+1,FALSE),0)))","v":0},{"$f":"Z398/1000*AA398*AC398*IF(IFERROR(SEARCH(\"Gas\",$A$18),0)>0,VLOOKUP(\"Gas\",HVACg_Lookup,MATCH($F$16,BuildingSize,0)+1,FALSE),IF(IFERROR(SEARCH(\"Oil\",$A$18),0)>0,VLOOKUP(\"Oil\",HVACg_Lookup,MATCH($F$16,BuildingSize,0)+1,FALSE),IF(IFERROR(SEARCH(\"Propane\",$A$18),0)>0,VLOOKUP(\"Propane\",HVACg_Lookup,MATCH(Worksheet!$F$16,BuildingSize,0)+1,FALSE),0)))","v":0},0,0,"",""]
[null,null,"",null,null,null,null,null,null,null,null,null,null,null,null,0,0,0,0,"",0,0,0,0,0,0,0,0,0,0,0,0,0,0,0,0,0,{"$f":"Y399/1000*AA399*AC399*IF(IFERROR(SEARCH(\"Gas\",$A$18),0)>0,VLOOKUP(\"Gas\",HVACg_Lookup,MATCH($F$16,BuildingSize,0)+1,FALSE),IF(IFERROR(SEARCH(\"Oil\",$A$18),0)>0,VLOOKUP(\"Oil\",HVACg_Lookup,MATCH($F$16,BuildingSize,0)+1,FALSE),IF(IFERROR(SEARCH(\"Propane\",$A$18),0)>0,VLOOKUP(\"Propane\",HVACg_Lookup,MATCH(Worksheet!$F$16,BuildingSize,0)+1,FALSE),0)))","v":0},{"$f":"Z399/1000*AA399*AC399*IF(IFERROR(SEARCH(\"Gas\",$A$18),0)>0,VLOOKUP(\"Gas\",HVACg_Lookup,MATCH($F$16,BuildingSize,0)+1,FALSE),IF(IFERROR(SEARCH(\"Oil\",$A$18),0)>0,VLOOKUP(\"Oil\",HVACg_Lookup,MATCH($F$16,BuildingSize,0)+1,FALSE),IF(IFERROR(SEARCH(\"Propane\",$A$18),0)>0,VLOOKUP(\"Propane\",HVACg_Lookup,MATCH(Worksheet!$F$16,BuildingSize,0)+1,FALSE),0)))","v":0},0,0,"",""]
[null,null,"",null,null,null,null,null,null,null,null,null,null,null,null,0,0,0,0,"",0,0,0,0,0,0,0,0,0,0,0,0,0,0,0,0,0,{"$f":"Y400/1000*AA400*AC400*IF(IFERROR(SEARCH(\"Gas\",$A$18),0)>0,VLOOKUP(\"Gas\",HVACg_Lookup,MATCH($F$16,BuildingSize,0)+1,FALSE),IF(IFERROR(SEARCH(\"Oil\",$A$18),0)>0,VLOOKUP(\"Oil\",HVACg_Lookup,MATCH($F$16,BuildingSize,0)+1,FALSE),IF(IFERROR(SEARCH(\"Propane\",$A$18),0)>0,VLOOKUP(\"Propane\",HVACg_Lookup,MATCH(Worksheet!$F$16,BuildingSize,0)+1,FALSE),0)))","v":0},{"$f":"Z400/1000*AA400*AC400*IF(IFERROR(SEARCH(\"Gas\",$A$18),0)>0,VLOOKUP(\"Gas\",HVACg_Lookup,MATCH($F$16,BuildingSize,0)+1,FALSE),IF(IFERROR(SEARCH(\"Oil\",$A$18),0)>0,VLOOKUP(\"Oil\",HVACg_Lookup,MATCH($F$16,BuildingSize,0)+1,FALSE),IF(IFERROR(SEARCH(\"Propane\",$A$18),0)>0,VLOOKUP(\"Propane\",HVACg_Lookup,MATCH(Worksheet!$F$16,BuildingSize,0)+1,FALSE),0)))","v":0},0,0,"",""]
[null,null,"",null,null,null,null,null,null,null,null,null,null,null,null,0,0,0,0,"",0,0,0,0,0,0,0,0,0,0,0,0,0,0,0,0,0,{"$f":"Y401/1000*AA401*AC401*IF(IFERROR(SEARCH(\"Gas\",$A$18),0)>0,VLOOKUP(\"Gas\",HVACg_Lookup,MATCH($F$16,BuildingSize,0)+1,FALSE),IF(IFERROR(SEARCH(\"Oil\",$A$18),0)>0,VLOOKUP(\"Oil\",HVACg_Lookup,MATCH($F$16,BuildingSize,0)+1,FALSE),IF(IFERROR(SEARCH(\"Propane\",$A$18),0)>0,VLOOKUP(\"Propane\",HVACg_Lookup,MATCH(Worksheet!$F$16,BuildingSize,0)+1,FALSE),0)))","v":0},{"$f":"Z401/1000*AA401*AC401*IF(IFERROR(SEARCH(\"Gas\",$A$18),0)>0,VLOOKUP(\"Gas\",HVACg_Lookup,MATCH($F$16,BuildingSize,0)+1,FALSE),IF(IFERROR(SEARCH(\"Oil\",$A$18),0)>0,VLOOKUP(\"Oil\",HVACg_Lookup,MATCH($F$16,BuildingSize,0)+1,FALSE),IF(IFERROR(SEARCH(\"Propane\",$A$18),0)>0,VLOOKUP(\"Propane\",HVACg_Lookup,MATCH(Worksheet!$F$16,BuildingSize,0)+1,FALSE),0)))","v":0},0,0,"",""]
[null,null,"",null,null,null,null,null,null,null,null,null,null,null,null,0,0,0,0,"",0,0,0,0,0,0,0,0,0,0,0,0,0,0,0,0,0,{"$f":"Y402/1000*AA402*AC402*IF(IFERROR(SEARCH(\"Gas\",$A$18),0)>0,VLOOKUP(\"Gas\",HVACg_Lookup,MATCH($F$16,BuildingSize,0)+1,FALSE),IF(IFERROR(SEARCH(\"Oil\",$A$18),0)>0,VLOOKUP(\"Oil\",HVACg_Lookup,MATCH($F$16,BuildingSize,0)+1,FALSE),IF(IFERROR(SEARCH(\"Propane\",$A$18),0)>0,VLOOKUP(\"Propane\",HVACg_Lookup,MATCH(Worksheet!$F$16,BuildingSize,0)+1,FALSE),0)))","v":0},{"$f":"Z402/1000*AA402*AC402*IF(IFERROR(SEARCH(\"Gas\",$A$18),0)>0,VLOOKUP(\"Gas\",HVACg_Lookup,MATCH($F$16,BuildingSize,0)+1,FALSE),IF(IFERROR(SEARCH(\"Oil\",$A$18),0)>0,VLOOKUP(\"Oil\",HVACg_Lookup,MATCH($F$16,BuildingSize,0)+1,FALSE),IF(IFERROR(SEARCH(\"Propane\",$A$18),0)>0,VLOOKUP(\"Propane\",HVACg_Lookup,MATCH(Worksheet!$F$16,BuildingSize,0)+1,FALSE),0)))","v":0},0,0,"",""]
[null,null,"",null,null,null,null,null,null,null,null,null,null,null,null,0,0,0,0,"",0,0,0,0,0,0,0,0,0,0,0,0,0,0,0,0,0,{"$f":"Y403/1000*AA403*AC403*IF(IFERROR(SEARCH(\"Gas\",$A$18),0)>0,VLOOKUP(\"Gas\",HVACg_Lookup,MATCH($F$16,BuildingSize,0)+1,FALSE),IF(IFERROR(SEARCH(\"Oil\",$A$18),0)>0,VLOOKUP(\"Oil\",HVACg_Lookup,MATCH($F$16,BuildingSize,0)+1,FALSE),IF(IFERROR(SEARCH(\"Propane\",$A$18),0)>0,VLOOKUP(\"Propane\",HVACg_Lookup,MATCH(Worksheet!$F$16,BuildingSize,0)+1,FALSE),0)))","v":0},{"$f":"Z403/1000*AA403*AC403*IF(IFERROR(SEARCH(\"Gas\",$A$18),0)>0,VLOOKUP(\"Gas\",HVACg_Lookup,MATCH($F$16,BuildingSize,0)+1,FALSE),IF(IFERROR(SEARCH(\"Oil\",$A$18),0)>0,VLOOKUP(\"Oil\",HVACg_Lookup,MATCH($F$16,BuildingSize,0)+1,FALSE),IF(IFERROR(SEARCH(\"Propane\",$A$18),0)>0,VLOOKUP(\"Propane\",HVACg_Lookup,MATCH(Worksheet!$F$16,BuildingSize,0)+1,FALSE),0)))","v":0},0,0,"",""]
[null,null,"",null,null,null,null,null,null,null,null,null,null,null,null,0,0,0,0,"",0,0,0,0,0,0,0,0,0,0,0,0,0,0,0,0,0,{"$f":"Y404/1000*AA404*AC404*IF(IFERROR(SEARCH(\"Gas\",$A$18),0)>0,VLOOKUP(\"Gas\",HVACg_Lookup,MATCH($F$16,BuildingSize,0)+1,FALSE),IF(IFERROR(SEARCH(\"Oil\",$A$18),0)>0,VLOOKUP(\"Oil\",HVACg_Lookup,MATCH($F$16,BuildingSize,0)+1,FALSE),IF(IFERROR(SEARCH(\"Propane\",$A$18),0)>0,VLOOKUP(\"Propane\",HVACg_Lookup,MATCH(Worksheet!$F$16,BuildingSize,0)+1,FALSE),0)))","v":0},{"$f":"Z404/1000*AA404*AC404*IF(IFERROR(SEARCH(\"Gas\",$A$18),0)>0,VLOOKUP(\"Gas\",HVACg_Lookup,MATCH($F$16,BuildingSize,0)+1,FALSE),IF(IFERROR(SEARCH(\"Oil\",$A$18),0)>0,VLOOKUP(\"Oil\",HVACg_Lookup,MATCH($F$16,BuildingSize,0)+1,FALSE),IF(IFERROR(SEARCH(\"Propane\",$A$18),0)>0,VLOOKUP(\"Propane\",HVACg_Lookup,MATCH(Worksheet!$F$16,BuildingSize,0)+1,FALSE),0)))","v":0},0,0,"",""]
[null,null,"",null,null,null,null,null,null,null,null,null,null,null,null,0,0,0,0,"",0,0,0,0,0,0,0,0,0,0,0,0,0,0,0,0,0,{"$f":"Y405/1000*AA405*AC405*IF(IFERROR(SEARCH(\"Gas\",$A$18),0)>0,VLOOKUP(\"Gas\",HVACg_Lookup,MATCH($F$16,BuildingSize,0)+1,FALSE),IF(IFERROR(SEARCH(\"Oil\",$A$18),0)>0,VLOOKUP(\"Oil\",HVACg_Lookup,MATCH($F$16,BuildingSize,0)+1,FALSE),IF(IFERROR(SEARCH(\"Propane\",$A$18),0)>0,VLOOKUP(\"Propane\",HVACg_Lookup,MATCH(Worksheet!$F$16,BuildingSize,0)+1,FALSE),0)))","v":0},{"$f":"Z405/1000*AA405*AC405*IF(IFERROR(SEARCH(\"Gas\",$A$18),0)>0,VLOOKUP(\"Gas\",HVACg_Lookup,MATCH($F$16,BuildingSize,0)+1,FALSE),IF(IFERROR(SEARCH(\"Oil\",$A$18),0)>0,VLOOKUP(\"Oil\",HVACg_Lookup,MATCH($F$16,BuildingSize,0)+1,FALSE),IF(IFERROR(SEARCH(\"Propane\",$A$18),0)>0,VLOOKUP(\"Propane\",HVACg_Lookup,MATCH(Worksheet!$F$16,BuildingSize,0)+1,FALSE),0)))","v":0},0,0,"",""]
[null,null,"",null,null,null,null,null,null,null,null,null,null,null,null,0,0,0,0,"",0,0,0,0,0,0,0,0,0,0,0,0,0,0,0,0,0,{"$f":"Y406/1000*AA406*AC406*IF(IFERROR(SEARCH(\"Gas\",$A$18),0)>0,VLOOKUP(\"Gas\",HVACg_Lookup,MATCH($F$16,BuildingSize,0)+1,FALSE),IF(IFERROR(SEARCH(\"Oil\",$A$18),0)>0,VLOOKUP(\"Oil\",HVACg_Lookup,MATCH($F$16,BuildingSize,0)+1,FALSE),IF(IFERROR(SEARCH(\"Propane\",$A$18),0)>0,VLOOKUP(\"Propane\",HVACg_Lookup,MATCH(Worksheet!$F$16,BuildingSize,0)+1,FALSE),0)))","v":0},{"$f":"Z406/1000*AA406*AC406*IF(IFERROR(SEARCH(\"Gas\",$A$18),0)>0,VLOOKUP(\"Gas\",HVACg_Lookup,MATCH($F$16,BuildingSize,0)+1,FALSE),IF(IFERROR(SEARCH(\"Oil\",$A$18),0)>0,VLOOKUP(\"Oil\",HVACg_Lookup,MATCH($F$16,BuildingSize,0)+1,FALSE),IF(IFERROR(SEARCH(\"Propane\",$A$18),0)>0,VLOOKUP(\"Propane\",HVACg_Lookup,MATCH(Worksheet!$F$16,BuildingSize,0)+1,FALSE),0)))","v":0},0,0,"",""]
[null,null,"",null,null,null,null,null,null,null,null,null,null,null,null,0,0,0,0,"",0,0,0,0,0,0,0,0,0,0,0,0,0,0,0,0,0,{"$f":"Y407/1000*AA407*AC407*IF(IFERROR(SEARCH(\"Gas\",$A$18),0)>0,VLOOKUP(\"Gas\",HVACg_Lookup,MATCH($F$16,BuildingSize,0)+1,FALSE),IF(IFERROR(SEARCH(\"Oil\",$A$18),0)>0,VLOOKUP(\"Oil\",HVACg_Lookup,MATCH($F$16,BuildingSize,0)+1,FALSE),IF(IFERROR(SEARCH(\"Propane\",$A$18),0)>0,VLOOKUP(\"Propane\",HVACg_Lookup,MATCH(Worksheet!$F$16,BuildingSize,0)+1,FALSE),0)))","v":0},{"$f":"Z407/1000*AA407*AC407*IF(IFERROR(SEARCH(\"Gas\",$A$18),0)>0,VLOOKUP(\"Gas\",HVACg_Lookup,MATCH($F$16,BuildingSize,0)+1,FALSE),IF(IFERROR(SEARCH(\"Oil\",$A$18),0)>0,VLOOKUP(\"Oil\",HVACg_Lookup,MATCH($F$16,BuildingSize,0)+1,FALSE),IF(IFERROR(SEARCH(\"Propane\",$A$18),0)>0,VLOOKUP(\"Propane\",HVACg_Lookup,MATCH(Worksheet!$F$16,BuildingSize,0)+1,FALSE),0)))","v":0},0,0,"",""]
[null,null,"",null,null,null,null,null,null,null,null,null,null,null,null,0,0,{"$f":"IF(AP408=\"\",0,IF(AP408=1,VLOOKUP(A408,MeasureCode_Lookup,3,FALSE),\"DNQ\"))","v":0},{"$f":"IF(AQ408=\"\",0,IF(AQ408=1,VLOOKUP(A408,MeasureCode_Lookup,3,FALSE),\"DNQ\"))","v":0},{"$f":"IF(A408=\"\",\"\",VLOOKUP(A408,MeasureCode_Lookup,4,FALSE))","v":""},0,0,0,0,{"$f":"IF(N(R408)=0,0,F408*P408)","v":0},{"$f":"IF(N(S408)=0,0,G408*Q408)","v":0},{"$f":"IF(A408=\"\",0,VLOOKUP(A408,MeasureCode_Lookup,5,FALSE))","v":0},{"$f":"IF($A$16=\"\",0,VLOOKUP($A$16,BuildingType_Lookup,3,FALSE))","v":0},{"$f":"IF($A$16=\"\",0,VLOOKUP($A$16,BuildingType_Lookup,2,FALSE))","v":0},{"$f":"IF(AND(OR(AP408=\"\",AP408=0)=TRUE,OR(AQ408=\"\",AQ408=0))=TRUE,0,IF(AQ408=\"\",(IF(OR(C408=\"DDC\",C408=\"OHLC\")=TRUE,O408,P408)/1000)*AA408*AB408*(1+VLOOKUP($A$16,BuildingType_Lookup,4,FALSE)),IF(AQ408=0,0,(IF(OR(C408=\"DDC\",C408=\"OHLC\")=TRUE,O408,Q408)/1000)*AA408*AB408*(1+VLOOKUP($A$16,BuildingType_Lookup,4,FALSE)))))","v":0},{"$f":"IF(AND(OR(AP408=\"\",AP408=0)=TRUE,OR(AQ408=\"\",AQ408=0))=TRUE,0,IF(AQ408=\"\",(IF(OR(C408=\"DDC\",C408=\"OHLC\")=TRUE,O408,P408)/1000)*AA408*AC408*(1+VLOOKUP($A$16,BuildingType_Lookup,MATCH($A$18,HVAC,0)+4,FALSE)),IF(AQ408=0,0,(IF(OR(C408=\"DDC\",C408=\"OHLC\")=TRUE,O408,Q408)/1000)*AA408*AC408*(1+VLOOKUP($A$16,BuildingType_Lookup,MATCH($A$18,HVAC,0)+4,FALSE)))))","v":0},{"$f":"IFERROR(IF(OR(C408=\"DDC\",C408=\"OHLC\")=TRUE,F408*J408*AD408,F408*AD408),0)","v":0},{"$f":"IFERROR(IF(OR(C408=\"DDC\",C408=\"OHLC\")=TRUE,G408*K408*AD408,G408*AD408),0)","v":0},{"$f":"IFERROR(IF(OR(C408=\"DDC\",C408=\"OHLC\")=TRUE,F408*J408*AE408,F408*AE408),0)","v":0},{"$f":"IFERROR(IF(OR(C408=\"DDC\",C408=\"OHLC\")=TRUE,G408*K408*AE408,G408*AE408),0)","v":0},0,0,{"$f":"Y408/1000*AA408*AC408*IF(IFERROR(SEARCH(\"Gas\",$A$18),0)>0,VLOOKUP(\"Gas\",HVACg_Lookup,MATCH($F$16,BuildingSize,0)+1,FALSE),IF(IFERROR(SEARCH(\"Oil\",$A$18),0)>0,VLOOKUP(\"Oil\",HVACg_Lookup,MATCH($F$16,BuildingSize,0)+1,FALSE),IF(IFERROR(SEARCH(\"Propane\",$A$18),0)>0,VLOOKUP(\"Propane\",HVACg_Lookup,MATCH(Worksheet!$F$16,BuildingSize,0)+1,FALSE),0)))","v":0},{"$f":"Z408/1000*AA408*AC408*IF(IFERROR(SEARCH(\"Gas\",$A$18),0)>0,VLOOKUP(\"Gas\",HVACg_Lookup,MATCH($F$16,BuildingSize,0)+1,FALSE),IF(IFERROR(SEARCH(\"Oil\",$A$18),0)>0,VLOOKUP(\"Oil\",HVACg_Lookup,MATCH($F$16,BuildingSize,0)+1,FALSE),IF(IFERROR(SEARCH(\"Propane\",$A$18),0)>0,VLOOKUP(\"Propane\",HVACg_Lookup,MATCH(Worksheet!$F$16,BuildingSize,0)+1,FALSE),0)))","v":0},0,0,"",""]
[null,null,{"$f":"IF(A409=\"\",\"\",VLOOKUP(A409,MeasureCode_Lookup,2,FALSE))","v":""},null,null,null,null,null,null,null,null,null,null,null,null,{"$f":"IF(OR(A409=\"\",F409=\"\",J409=\"\",O409=\"\")=TRUE,0,J409*O409)","v":0},{"$f":"IF(OR(A409=\"\",G409=\"\",K409=\"\",O409=\"\")=TRUE,0,K409*O409)","v":0},0,0,"",{"$f":"IF(OR($A$11=TRUE,$A$12=TRUE,$B$11=TRUE,$B$12=TRUE,$C$11=TRUE)=TRUE,R409,0)","v":0},{"$f":"IF(OR($A$11=TRUE,$A$12=TRUE,$B$11=TRUE,$B$12=TRUE,$C$11=TRUE)=TRUE,S409,0)","v":0},{"$f":"IF(N(R409)=0,0,F409*(R409+U409)*IF(T409=\"per Fixture Controlled\",J409,1))","v":0},{"$f":"IF(N(S409)=0,0,G409*(S409+V409)*IF(T409=\"per Fixture Controlled\",K409,1))","v":0},0,0,0,0,0,0,0,0,0,0,0,{"$f":"AH409*8","v":0},{"$f":"AI409*8","v":0},{"$f":"Y409/1000*AA409*AC409*IF(IFERROR(SEARCH(\"Gas\",$A$18),0)>0,VLOOKUP(\"Gas\",HVACg_Lookup,MATCH($F$16,BuildingSize,0)+1,FALSE),IF(IFERROR(SEARCH(\"Oil\",$A$18),0)>0,VLOOKUP(\"Oil\",HVACg_Lookup,MATCH($F$16,BuildingSize,0)+1,FALSE),IF(IFERROR(SEARCH(\"Propane\",$A$18),0)>0,VLOOKUP(\"Propane\",HVACg_Lookup,MATCH(Worksheet!$F$16,BuildingSize,0)+1,FALSE),0)))","v":0},{"$f":"Z409/1000*AA409*AC409*IF(IFERROR(SEARCH(\"Gas\",$A$18),0)>0,VLOOKUP(\"Gas\",HVACg_Lookup,MATCH($F$16,BuildingSize,0)+1,FALSE),IF(IFERROR(SEARCH(\"Oil\",$A$18),0)>0,VLOOKUP(\"Oil\",HVACg_Lookup,MATCH($F$16,BuildingSize,0)+1,FALSE),IF(IFERROR(SEARCH(\"Propane\",$A$18),0)>0,VLOOKUP(\"Propane\",HVACg_Lookup,MATCH(Worksheet!$F$16,BuildingSize,0)+1,FALSE),0)))","v":0},{"$f":"AL409*8","v":0},{"$f":"AM409*8","v":0},{"$f":"IF(OR($B$4=\"\",$B$5=\"\",$A$16=\"\",$F$16=\"\",$A$18=\"\",A409=\"\",F409=\"\",J409=\"\",O409=\"\",P409=\"\")=TRUE,\"\",IF(C409=\"OSW\",IF(J409>=2,1,0),IF(C409=\"OSR\",IF(AND(J409>=2,P409>60)=TRUE,1,0),IF(C409=\"OSRH\",IF(AND(J409>=1,P409>90)=TRUE,1,0),IF(C409=\"OHLC\",IF(AND(N409=\"Y\",P409>60)=TRUE,1,0),IF(C409=\"DDC\",IF(AND(J409>=4,N409=\"Y\",P409>120)=TRUE,1,0),0))))))","v":""},{"$f":"IF(OR($B$4=\"\",$B$5=\"\",$A$16=\"\",$F$16=\"\",$A$18=\"\",A409=\"\",F409=\"\",K409=\"\",O409=\"\",P409=\"\")=TRUE,\"\",IF(C409=\"OSW\",IF(K409>=2,1,0),IF(C409=\"OSR\",IF(AND(K409>=2,Q409>60)=TRUE,1,0),IF(C409=\"OSRH\",IF(AND(K409>=1,Q409>90)=TRUE,1,0),IF(C409=\"OHLC\",IF(AND(N409=\"Y\",Q409>60)=TRUE,1,0),IF(C409=\"DDC\",IF(AND(K409>=4,N409=\"Y\",Q409>120)=TRUE,1,0),0))))))","v":""}]
[null,null,"",null,null,null,null,null,null,null,null,null,null,null,null,0,0,0,0,"",0,0,0,0,0,0,0,0,0,0,0,0,0,0,0,0,0,{"$f":"Y410/1000*AA410*AC410*IF(IFERROR(SEARCH(\"Gas\",$A$18),0)>0,VLOOKUP(\"Gas\",HVACg_Lookup,MATCH($F$16,BuildingSize,0)+1,FALSE),IF(IFERROR(SEARCH(\"Oil\",$A$18),0)>0,VLOOKUP(\"Oil\",HVACg_Lookup,MATCH($F$16,BuildingSize,0)+1,FALSE),IF(IFERROR(SEARCH(\"Propane\",$A$18),0)>0,VLOOKUP(\"Propane\",HVACg_Lookup,MATCH(Worksheet!$F$16,BuildingSize,0)+1,FALSE),0)))","v":0},{"$f":"Z410/1000*AA410*AC410*IF(IFERROR(SEARCH(\"Gas\",$A$18),0)>0,VLOOKUP(\"Gas\",HVACg_Lookup,MATCH($F$16,BuildingSize,0)+1,FALSE),IF(IFERROR(SEARCH(\"Oil\",$A$18),0)>0,VLOOKUP(\"Oil\",HVACg_Lookup,MATCH($F$16,BuildingSize,0)+1,FALSE),IF(IFERROR(SEARCH(\"Propane\",$A$18),0)>0,VLOOKUP(\"Propane\",HVACg_Lookup,MATCH(Worksheet!$F$16,BuildingSize,0)+1,FALSE),0)))","v":0},0,0,"",""]
[null,null,"",null,null,null,null,null,null,null,null,null,null,null,null,0,0,0,0,"",0,0,0,0,0,0,0,0,0,0,0,0,0,0,0,0,0,{"$f":"Y411/1000*AA411*AC411*IF(IFERROR(SEARCH(\"Gas\",$A$18),0)>0,VLOOKUP(\"Gas\",HVACg_Lookup,MATCH($F$16,BuildingSize,0)+1,FALSE),IF(IFERROR(SEARCH(\"Oil\",$A$18),0)>0,VLOOKUP(\"Oil\",HVACg_Lookup,MATCH($F$16,BuildingSize,0)+1,FALSE),IF(IFERROR(SEARCH(\"Propane\",$A$18),0)>0,VLOOKUP(\"Propane\",HVACg_Lookup,MATCH(Worksheet!$F$16,BuildingSize,0)+1,FALSE),0)))","v":0},{"$f":"Z411/1000*AA411*AC411*IF(IFERROR(SEARCH(\"Gas\",$A$18),0)>0,VLOOKUP(\"Gas\",HVACg_Lookup,MATCH($F$16,BuildingSize,0)+1,FALSE),IF(IFERROR(SEARCH(\"Oil\",$A$18),0)>0,VLOOKUP(\"Oil\",HVACg_Lookup,MATCH($F$16,BuildingSize,0)+1,FALSE),IF(IFERROR(SEARCH(\"Propane\",$A$18),0)>0,VLOOKUP(\"Propane\",HVACg_Lookup,MATCH(Worksheet!$F$16,BuildingSize,0)+1,FALSE),0)))","v":0},0,0,"",""]
[null,null,"",null,null,null,null,null,null,null,null,null,null,null,null,0,0,0,0,"",0,0,0,0,0,0,0,0,0,0,0,0,0,0,0,0,0,{"$f":"Y412/1000*AA412*AC412*IF(IFERROR(SEARCH(\"Gas\",$A$18),0)>0,VLOOKUP(\"Gas\",HVACg_Lookup,MATCH($F$16,BuildingSize,0)+1,FALSE),IF(IFERROR(SEARCH(\"Oil\",$A$18),0)>0,VLOOKUP(\"Oil\",HVACg_Lookup,MATCH($F$16,BuildingSize,0)+1,FALSE),IF(IFERROR(SEARCH(\"Propane\",$A$18),0)>0,VLOOKUP(\"Propane\",HVACg_Lookup,MATCH(Worksheet!$F$16,BuildingSize,0)+1,FALSE),0)))","v":0},{"$f":"Z412/1000*AA412*AC412*IF(IFERROR(SEARCH(\"Gas\",$A$18),0)>0,VLOOKUP(\"Gas\",HVACg_Lookup,MATCH($F$16,BuildingSize,0)+1,FALSE),IF(IFERROR(SEARCH(\"Oil\",$A$18),0)>0,VLOOKUP(\"Oil\",HVACg_Lookup,MATCH($F$16,BuildingSize,0)+1,FALSE),IF(IFERROR(SEARCH(\"Propane\",$A$18),0)>0,VLOOKUP(\"Propane\",HVACg_Lookup,MATCH(Worksheet!$F$16,BuildingSize,0)+1,FALSE),0)))","v":0},0,0,"",""]
[null,null,"",null,null,null,null,null,null,null,null,null,null,null,null,0,0,0,0,"",0,0,0,0,0,0,0,0,0,0,0,0,0,0,0,0,0,{"$f":"Y413/1000*AA413*AC413*IF(IFERROR(SEARCH(\"Gas\",$A$18),0)>0,VLOOKUP(\"Gas\",HVACg_Lookup,MATCH($F$16,BuildingSize,0)+1,FALSE),IF(IFERROR(SEARCH(\"Oil\",$A$18),0)>0,VLOOKUP(\"Oil\",HVACg_Lookup,MATCH($F$16,BuildingSize,0)+1,FALSE),IF(IFERROR(SEARCH(\"Propane\",$A$18),0)>0,VLOOKUP(\"Propane\",HVACg_Lookup,MATCH(Worksheet!$F$16,BuildingSize,0)+1,FALSE),0)))","v":0},{"$f":"Z413/1000*AA413*AC413*IF(IFERROR(SEARCH(\"Gas\",$A$18),0)>0,VLOOKUP(\"Gas\",HVACg_Lookup,MATCH($F$16,BuildingSize,0)+1,FALSE),IF(IFERROR(SEARCH(\"Oil\",$A$18),0)>0,VLOOKUP(\"Oil\",HVACg_Lookup,MATCH($F$16,BuildingSize,0)+1,FALSE),IF(IFERROR(SEARCH(\"Propane\",$A$18),0)>0,VLOOKUP(\"Propane\",HVACg_Lookup,MATCH(Worksheet!$F$16,BuildingSize,0)+1,FALSE),0)))","v":0},0,0,"",""]
[null,null,"",null,null,null,null,null,null,null,null,null,null,null,null,0,0,0,0,"",0,0,0,0,0,0,0,0,0,0,0,0,0,0,0,0,0,{"$f":"Y414/1000*AA414*AC414*IF(IFERROR(SEARCH(\"Gas\",$A$18),0)>0,VLOOKUP(\"Gas\",HVACg_Lookup,MATCH($F$16,BuildingSize,0)+1,FALSE),IF(IFERROR(SEARCH(\"Oil\",$A$18),0)>0,VLOOKUP(\"Oil\",HVACg_Lookup,MATCH($F$16,BuildingSize,0)+1,FALSE),IF(IFERROR(SEARCH(\"Propane\",$A$18),0)>0,VLOOKUP(\"Propane\",HVACg_Lookup,MATCH(Worksheet!$F$16,BuildingSize,0)+1,FALSE),0)))","v":0},{"$f":"Z414/1000*AA414*AC414*IF(IFERROR(SEARCH(\"Gas\",$A$18),0)>0,VLOOKUP(\"Gas\",HVACg_Lookup,MATCH($F$16,BuildingSize,0)+1,FALSE),IF(IFERROR(SEARCH(\"Oil\",$A$18),0)>0,VLOOKUP(\"Oil\",HVACg_Lookup,MATCH($F$16,BuildingSize,0)+1,FALSE),IF(IFERROR(SEARCH(\"Propane\",$A$18),0)>0,VLOOKUP(\"Propane\",HVACg_Lookup,MATCH(Worksheet!$F$16,BuildingSize,0)+1,FALSE),0)))","v":0},0,0,"",""]
[null,null,"",null,null,null,null,null,null,null,null,null,null,null,null,0,0,0,0,"",0,0,0,0,0,0,0,0,0,0,0,0,0,0,0,0,0,{"$f":"Y415/1000*AA415*AC415*IF(IFERROR(SEARCH(\"Gas\",$A$18),0)>0,VLOOKUP(\"Gas\",HVACg_Lookup,MATCH($F$16,BuildingSize,0)+1,FALSE),IF(IFERROR(SEARCH(\"Oil\",$A$18),0)>0,VLOOKUP(\"Oil\",HVACg_Lookup,MATCH($F$16,BuildingSize,0)+1,FALSE),IF(IFERROR(SEARCH(\"Propane\",$A$18),0)>0,VLOOKUP(\"Propane\",HVACg_Lookup,MATCH(Worksheet!$F$16,BuildingSize,0)+1,FALSE),0)))","v":0},{"$f":"Z415/1000*AA415*AC415*IF(IFERROR(SEARCH(\"Gas\",$A$18),0)>0,VLOOKUP(\"Gas\",HVACg_Lookup,MATCH($F$16,BuildingSize,0)+1,FALSE),IF(IFERROR(SEARCH(\"Oil\",$A$18),0)>0,VLOOKUP(\"Oil\",HVACg_Lookup,MATCH($F$16,BuildingSize,0)+1,FALSE),IF(IFERROR(SEARCH(\"Propane\",$A$18),0)>0,VLOOKUP(\"Propane\",HVACg_Lookup,MATCH(Worksheet!$F$16,BuildingSize,0)+1,FALSE),0)))","v":0},0,0,"",""]
[null,null,"",null,null,null,null,null,null,null,null,null,null,null,null,0,0,0,0,"",0,0,0,0,0,0,0,0,0,0,0,0,0,0,0,0,0,{"$f":"Y416/1000*AA416*AC416*IF(IFERROR(SEARCH(\"Gas\",$A$18),0)>0,VLOOKUP(\"Gas\",HVACg_Lookup,MATCH($F$16,BuildingSize,0)+1,FALSE),IF(IFERROR(SEARCH(\"Oil\",$A$18),0)>0,VLOOKUP(\"Oil\",HVACg_Lookup,MATCH($F$16,BuildingSize,0)+1,FALSE),IF(IFERROR(SEARCH(\"Propane\",$A$18),0)>0,VLOOKUP(\"Propane\",HVACg_Lookup,MATCH(Worksheet!$F$16,BuildingSize,0)+1,FALSE),0)))","v":0},{"$f":"Z416/1000*AA416*AC416*IF(IFERROR(SEARCH(\"Gas\",$A$18),0)>0,VLOOKUP(\"Gas\",HVACg_Lookup,MATCH($F$16,BuildingSize,0)+1,FALSE),IF(IFERROR(SEARCH(\"Oil\",$A$18),0)>0,VLOOKUP(\"Oil\",HVACg_Lookup,MATCH($F$16,BuildingSize,0)+1,FALSE),IF(IFERROR(SEARCH(\"Propane\",$A$18),0)>0,VLOOKUP(\"Propane\",HVACg_Lookup,MATCH(Worksheet!$F$16,BuildingSize,0)+1,FALSE),0)))","v":0},0,0,"",""]
[null,null,"",null,null,null,null,null,null,null,null,null,null,null,null,0,0,0,0,"",0,0,0,0,0,0,0,0,0,0,0,0,0,0,0,0,0,{"$f":"Y417/1000*AA417*AC417*IF(IFERROR(SEARCH(\"Gas\",$A$18),0)>0,VLOOKUP(\"Gas\",HVACg_Lookup,MATCH($F$16,BuildingSize,0)+1,FALSE),IF(IFERROR(SEARCH(\"Oil\",$A$18),0)>0,VLOOKUP(\"Oil\",HVACg_Lookup,MATCH($F$16,BuildingSize,0)+1,FALSE),IF(IFERROR(SEARCH(\"Propane\",$A$18),0)>0,VLOOKUP(\"Propane\",HVACg_Lookup,MATCH(Worksheet!$F$16,BuildingSize,0)+1,FALSE),0)))","v":0},{"$f":"Z417/1000*AA417*AC417*IF(IFERROR(SEARCH(\"Gas\",$A$18),0)>0,VLOOKUP(\"Gas\",HVACg_Lookup,MATCH($F$16,BuildingSize,0)+1,FALSE),IF(IFERROR(SEARCH(\"Oil\",$A$18),0)>0,VLOOKUP(\"Oil\",HVACg_Lookup,MATCH($F$16,BuildingSize,0)+1,FALSE),IF(IFERROR(SEARCH(\"Propane\",$A$18),0)>0,VLOOKUP(\"Propane\",HVACg_Lookup,MATCH(Worksheet!$F$16,BuildingSize,0)+1,FALSE),0)))","v":0},0,0,"",""]
[null,null,"",null,null,null,null,null,null,null,null,null,null,null,null,0,0,0,0,"",0,0,0,0,0,0,0,0,0,0,0,0,0,0,0,0,0,{"$f":"Y418/1000*AA418*AC418*IF(IFERROR(SEARCH(\"Gas\",$A$18),0)>0,VLOOKUP(\"Gas\",HVACg_Lookup,MATCH($F$16,BuildingSize,0)+1,FALSE),IF(IFERROR(SEARCH(\"Oil\",$A$18),0)>0,VLOOKUP(\"Oil\",HVACg_Lookup,MATCH($F$16,BuildingSize,0)+1,FALSE),IF(IFERROR(SEARCH(\"Propane\",$A$18),0)>0,VLOOKUP(\"Propane\",HVACg_Lookup,MATCH(Worksheet!$F$16,BuildingSize,0)+1,FALSE),0)))","v":0},{"$f":"Z418/1000*AA418*AC418*IF(IFERROR(SEARCH(\"Gas\",$A$18),0)>0,VLOOKUP(\"Gas\",HVACg_Lookup,MATCH($F$16,BuildingSize,0)+1,FALSE),IF(IFERROR(SEARCH(\"Oil\",$A$18),0)>0,VLOOKUP(\"Oil\",HVACg_Lookup,MATCH($F$16,BuildingSize,0)+1,FALSE),IF(IFERROR(SEARCH(\"Propane\",$A$18),0)>0,VLOOKUP(\"Propane\",HVACg_Lookup,MATCH(Worksheet!$F$16,BuildingSize,0)+1,FALSE),0)))","v":0},0,0,"",""]
[null,null,"",null,null,null,null,null,null,null,null,null,null,null,null,0,0,0,0,"",0,0,0,0,0,0,0,0,0,0,0,0,0,0,0,0,0,{"$f":"Y419/1000*AA419*AC419*IF(IFERROR(SEARCH(\"Gas\",$A$18),0)>0,VLOOKUP(\"Gas\",HVACg_Lookup,MATCH($F$16,BuildingSize,0)+1,FALSE),IF(IFERROR(SEARCH(\"Oil\",$A$18),0)>0,VLOOKUP(\"Oil\",HVACg_Lookup,MATCH($F$16,BuildingSize,0)+1,FALSE),IF(IFERROR(SEARCH(\"Propane\",$A$18),0)>0,VLOOKUP(\"Propane\",HVACg_Lookup,MATCH(Worksheet!$F$16,BuildingSize,0)+1,FALSE),0)))","v":0},{"$f":"Z419/1000*AA419*AC419*IF(IFERROR(SEARCH(\"Gas\",$A$18),0)>0,VLOOKUP(\"Gas\",HVACg_Lookup,MATCH($F$16,BuildingSize,0)+1,FALSE),IF(IFERROR(SEARCH(\"Oil\",$A$18),0)>0,VLOOKUP(\"Oil\",HVACg_Lookup,MATCH($F$16,BuildingSize,0)+1,FALSE),IF(IFERROR(SEARCH(\"Propane\",$A$18),0)>0,VLOOKUP(\"Propane\",HVACg_Lookup,MATCH(Worksheet!$F$16,BuildingSize,0)+1,FALSE),0)))","v":0},0,0,"",""]
[null,null,"",null,null,null,null,null,null,null,null,null,null,null,null,0,0,0,0,"",0,0,0,0,0,0,0,0,0,0,0,0,0,0,0,0,0,{"$f":"Y420/1000*AA420*AC420*IF(IFERROR(SEARCH(\"Gas\",$A$18),0)>0,VLOOKUP(\"Gas\",HVACg_Lookup,MATCH($F$16,BuildingSize,0)+1,FALSE),IF(IFERROR(SEARCH(\"Oil\",$A$18),0)>0,VLOOKUP(\"Oil\",HVACg_Lookup,MATCH($F$16,BuildingSize,0)+1,FALSE),IF(IFERROR(SEARCH(\"Propane\",$A$18),0)>0,VLOOKUP(\"Propane\",HVACg_Lookup,MATCH(Worksheet!$F$16,BuildingSize,0)+1,FALSE),0)))","v":0},{"$f":"Z420/1000*AA420*AC420*IF(IFERROR(SEARCH(\"Gas\",$A$18),0)>0,VLOOKUP(\"Gas\",HVACg_Lookup,MATCH($F$16,BuildingSize,0)+1,FALSE),IF(IFERROR(SEARCH(\"Oil\",$A$18),0)>0,VLOOKUP(\"Oil\",HVACg_Lookup,MATCH($F$16,BuildingSize,0)+1,FALSE),IF(IFERROR(SEARCH(\"Propane\",$A$18),0)>0,VLOOKUP(\"Propane\",HVACg_Lookup,MATCH(Worksheet!$F$16,BuildingSize,0)+1,FALSE),0)))","v":0},0,0,"",""]
[null,null,"",null,null,null,null,null,null,null,null,null,null,null,null,0,0,0,0,"",0,0,0,0,0,0,0,0,0,0,0,0,0,0,0,0,0,{"$f":"Y421/1000*AA421*AC421*IF(IFERROR(SEARCH(\"Gas\",$A$18),0)>0,VLOOKUP(\"Gas\",HVACg_Lookup,MATCH($F$16,BuildingSize,0)+1,FALSE),IF(IFERROR(SEARCH(\"Oil\",$A$18),0)>0,VLOOKUP(\"Oil\",HVACg_Lookup,MATCH($F$16,BuildingSize,0)+1,FALSE),IF(IFERROR(SEARCH(\"Propane\",$A$18),0)>0,VLOOKUP(\"Propane\",HVACg_Lookup,MATCH(Worksheet!$F$16,BuildingSize,0)+1,FALSE),0)))","v":0},{"$f":"Z421/1000*AA421*AC421*IF(IFERROR(SEARCH(\"Gas\",$A$18),0)>0,VLOOKUP(\"Gas\",HVACg_Lookup,MATCH($F$16,BuildingSize,0)+1,FALSE),IF(IFERROR(SEARCH(\"Oil\",$A$18),0)>0,VLOOKUP(\"Oil\",HVACg_Lookup,MATCH($F$16,BuildingSize,0)+1,FALSE),IF(IFERROR(SEARCH(\"Propane\",$A$18),0)>0,VLOOKUP(\"Propane\",HVACg_Lookup,MATCH(Worksheet!$F$16,BuildingSize,0)+1,FALSE),0)))","v":0},0,0,"",""]
[null,null,"",null,null,null,null,null,null,null,null,null,null,null,null,0,0,0,0,"",0,0,0,0,0,0,0,0,0,0,0,0,0,0,0,0,0,{"$f":"Y422/1000*AA422*AC422*IF(IFERROR(SEARCH(\"Gas\",$A$18),0)>0,VLOOKUP(\"Gas\",HVACg_Lookup,MATCH($F$16,BuildingSize,0)+1,FALSE),IF(IFERROR(SEARCH(\"Oil\",$A$18),0)>0,VLOOKUP(\"Oil\",HVACg_Lookup,MATCH($F$16,BuildingSize,0)+1,FALSE),IF(IFERROR(SEARCH(\"Propane\",$A$18),0)>0,VLOOKUP(\"Propane\",HVACg_Lookup,MATCH(Worksheet!$F$16,BuildingSize,0)+1,FALSE),0)))","v":0},{"$f":"Z422/1000*AA422*AC422*IF(IFERROR(SEARCH(\"Gas\",$A$18),0)>0,VLOOKUP(\"Gas\",HVACg_Lookup,MATCH($F$16,BuildingSize,0)+1,FALSE),IF(IFERROR(SEARCH(\"Oil\",$A$18),0)>0,VLOOKUP(\"Oil\",HVACg_Lookup,MATCH($F$16,BuildingSize,0)+1,FALSE),IF(IFERROR(SEARCH(\"Propane\",$A$18),0)>0,VLOOKUP(\"Propane\",HVACg_Lookup,MATCH(Worksheet!$F$16,BuildingSize,0)+1,FALSE),0)))","v":0},0,0,"",""]
[null,null,"",null,null,null,null,null,null,null,null,null,null,null,null,0,0,0,0,"",0,0,0,0,0,0,0,0,0,0,0,0,0,0,0,0,0,{"$f":"Y423/1000*AA423*AC423*IF(IFERROR(SEARCH(\"Gas\",$A$18),0)>0,VLOOKUP(\"Gas\",HVACg_Lookup,MATCH($F$16,BuildingSize,0)+1,FALSE),IF(IFERROR(SEARCH(\"Oil\",$A$18),0)>0,VLOOKUP(\"Oil\",HVACg_Lookup,MATCH($F$16,BuildingSize,0)+1,FALSE),IF(IFERROR(SEARCH(\"Propane\",$A$18),0)>0,VLOOKUP(\"Propane\",HVACg_Lookup,MATCH(Worksheet!$F$16,BuildingSize,0)+1,FALSE),0)))","v":0},{"$f":"Z423/1000*AA423*AC423*IF(IFERROR(SEARCH(\"Gas\",$A$18),0)>0,VLOOKUP(\"Gas\",HVACg_Lookup,MATCH($F$16,BuildingSize,0)+1,FALSE),IF(IFERROR(SEARCH(\"Oil\",$A$18),0)>0,VLOOKUP(\"Oil\",HVACg_Lookup,MATCH($F$16,BuildingSize,0)+1,FALSE),IF(IFERROR(SEARCH(\"Propane\",$A$18),0)>0,VLOOKUP(\"Propane\",HVACg_Lookup,MATCH(Worksheet!$F$16,BuildingSize,0)+1,FALSE),0)))","v":0},0,0,"",""]
[null,null,"",null,null,null,null,null,null,null,null,null,null,null,null,0,0,0,0,"",0,0,0,0,0,0,0,0,0,0,0,0,0,0,0,0,0,{"$f":"Y424/1000*AA424*AC424*IF(IFERROR(SEARCH(\"Gas\",$A$18),0)>0,VLOOKUP(\"Gas\",HVACg_Lookup,MATCH($F$16,BuildingSize,0)+1,FALSE),IF(IFERROR(SEARCH(\"Oil\",$A$18),0)>0,VLOOKUP(\"Oil\",HVACg_Lookup,MATCH($F$16,BuildingSize,0)+1,FALSE),IF(IFERROR(SEARCH(\"Propane\",$A$18),0)>0,VLOOKUP(\"Propane\",HVACg_Lookup,MATCH(Worksheet!$F$16,BuildingSize,0)+1,FALSE),0)))","v":0},{"$f":"Z424/1000*AA424*AC424*IF(IFERROR(SEARCH(\"Gas\",$A$18),0)>0,VLOOKUP(\"Gas\",HVACg_Lookup,MATCH($F$16,BuildingSize,0)+1,FALSE),IF(IFERROR(SEARCH(\"Oil\",$A$18),0)>0,VLOOKUP(\"Oil\",HVACg_Lookup,MATCH($F$16,BuildingSize,0)+1,FALSE),IF(IFERROR(SEARCH(\"Propane\",$A$18),0)>0,VLOOKUP(\"Propane\",HVACg_Lookup,MATCH(Worksheet!$F$16,BuildingSize,0)+1,FALSE),0)))","v":0},0,0,"",""]
[null,null,"",null,null,null,null,null,null,null,null,null,null,null,null,0,0,0,0,"",0,0,0,0,0,0,0,0,0,0,0,0,0,0,0,0,0,{"$f":"Y425/1000*AA425*AC425*IF(IFERROR(SEARCH(\"Gas\",$A$18),0)>0,VLOOKUP(\"Gas\",HVACg_Lookup,MATCH($F$16,BuildingSize,0)+1,FALSE),IF(IFERROR(SEARCH(\"Oil\",$A$18),0)>0,VLOOKUP(\"Oil\",HVACg_Lookup,MATCH($F$16,BuildingSize,0)+1,FALSE),IF(IFERROR(SEARCH(\"Propane\",$A$18),0)>0,VLOOKUP(\"Propane\",HVACg_Lookup,MATCH(Worksheet!$F$16,BuildingSize,0)+1,FALSE),0)))","v":0},{"$f":"Z425/1000*AA425*AC425*IF(IFERROR(SEARCH(\"Gas\",$A$18),0)>0,VLOOKUP(\"Gas\",HVACg_Lookup,MATCH($F$16,BuildingSize,0)+1,FALSE),IF(IFERROR(SEARCH(\"Oil\",$A$18),0)>0,VLOOKUP(\"Oil\",HVACg_Lookup,MATCH($F$16,BuildingSize,0)+1,FALSE),IF(IFERROR(SEARCH(\"Propane\",$A$18),0)>0,VLOOKUP(\"Propane\",HVACg_Lookup,MATCH(Worksheet!$F$16,BuildingSize,0)+1,FALSE),0)))","v":0},0,0,"",""]
[null,null,"",null,null,null,null,null,null,null,null,null,null,null,null,0,0,0,0,"",0,0,0,0,0,0,0,0,0,0,0,0,0,0,0,0,0,{"$f":"Y426/1000*AA426*AC426*IF(IFERROR(SEARCH(\"Gas\",$A$18),0)>0,VLOOKUP(\"Gas\",HVACg_Lookup,MATCH($F$16,BuildingSize,0)+1,FALSE),IF(IFERROR(SEARCH(\"Oil\",$A$18),0)>0,VLOOKUP(\"Oil\",HVACg_Lookup,MATCH($F$16,BuildingSize,0)+1,FALSE),IF(IFERROR(SEARCH(\"Propane\",$A$18),0)>0,VLOOKUP(\"Propane\",HVACg_Lookup,MATCH(Worksheet!$F$16,BuildingSize,0)+1,FALSE),0)))","v":0},{"$f":"Z426/1000*AA426*AC426*IF(IFERROR(SEARCH(\"Gas\",$A$18),0)>0,VLOOKUP(\"Gas\",HVACg_Lookup,MATCH($F$16,BuildingSize,0)+1,FALSE),IF(IFERROR(SEARCH(\"Oil\",$A$18),0)>0,VLOOKUP(\"Oil\",HVACg_Lookup,MATCH($F$16,BuildingSize,0)+1,FALSE),IF(IFERROR(SEARCH(\"Propane\",$A$18),0)>0,VLOOKUP(\"Propane\",HVACg_Lookup,MATCH(Worksheet!$F$16,BuildingSize,0)+1,FALSE),0)))","v":0},0,0,"",""]
[null,null,"",null,null,null,null,null,null,null,null,null,null,null,null,0,0,0,0,"",0,0,0,0,0,0,0,0,0,0,0,0,0,0,0,0,0,{"$f":"Y427/1000*AA427*AC427*IF(IFERROR(SEARCH(\"Gas\",$A$18),0)>0,VLOOKUP(\"Gas\",HVACg_Lookup,MATCH($F$16,BuildingSize,0)+1,FALSE),IF(IFERROR(SEARCH(\"Oil\",$A$18),0)>0,VLOOKUP(\"Oil\",HVACg_Lookup,MATCH($F$16,BuildingSize,0)+1,FALSE),IF(IFERROR(SEARCH(\"Propane\",$A$18),0)>0,VLOOKUP(\"Propane\",HVACg_Lookup,MATCH(Worksheet!$F$16,BuildingSize,0)+1,FALSE),0)))","v":0},{"$f":"Z427/1000*AA427*AC427*IF(IFERROR(SEARCH(\"Gas\",$A$18),0)>0,VLOOKUP(\"Gas\",HVACg_Lookup,MATCH($F$16,BuildingSize,0)+1,FALSE),IF(IFERROR(SEARCH(\"Oil\",$A$18),0)>0,VLOOKUP(\"Oil\",HVACg_Lookup,MATCH($F$16,BuildingSize,0)+1,FALSE),IF(IFERROR(SEARCH(\"Propane\",$A$18),0)>0,VLOOKUP(\"Propane\",HVACg_Lookup,MATCH(Worksheet!$F$16,BuildingSize,0)+1,FALSE),0)))","v":0},0,0,"",""]
[null,null,"",null,null,null,null,null,null,null,null,null,null,null,null,0,0,0,0,"",0,0,0,0,0,0,0,0,0,0,0,0,0,0,0,0,0,{"$f":"Y428/1000*AA428*AC428*IF(IFERROR(SEARCH(\"Gas\",$A$18),0)>0,VLOOKUP(\"Gas\",HVACg_Lookup,MATCH($F$16,BuildingSize,0)+1,FALSE),IF(IFERROR(SEARCH(\"Oil\",$A$18),0)>0,VLOOKUP(\"Oil\",HVACg_Lookup,MATCH($F$16,BuildingSize,0)+1,FALSE),IF(IFERROR(SEARCH(\"Propane\",$A$18),0)>0,VLOOKUP(\"Propane\",HVACg_Lookup,MATCH(Worksheet!$F$16,BuildingSize,0)+1,FALSE),0)))","v":0},{"$f":"Z428/1000*AA428*AC428*IF(IFERROR(SEARCH(\"Gas\",$A$18),0)>0,VLOOKUP(\"Gas\",HVACg_Lookup,MATCH($F$16,BuildingSize,0)+1,FALSE),IF(IFERROR(SEARCH(\"Oil\",$A$18),0)>0,VLOOKUP(\"Oil\",HVACg_Lookup,MATCH($F$16,BuildingSize,0)+1,FALSE),IF(IFERROR(SEARCH(\"Propane\",$A$18),0)>0,VLOOKUP(\"Propane\",HVACg_Lookup,MATCH(Worksheet!$F$16,BuildingSize,0)+1,FALSE),0)))","v":0},0,0,"",""]
[null,null,"",null,null,null,null,null,null,null,null,null,null,null,null,0,0,0,0,"",0,0,0,0,0,0,0,0,0,0,0,0,0,0,0,0,0,{"$f":"Y429/1000*AA429*AC429*IF(IFERROR(SEARCH(\"Gas\",$A$18),0)>0,VLOOKUP(\"Gas\",HVACg_Lookup,MATCH($F$16,BuildingSize,0)+1,FALSE),IF(IFERROR(SEARCH(\"Oil\",$A$18),0)>0,VLOOKUP(\"Oil\",HVACg_Lookup,MATCH($F$16,BuildingSize,0)+1,FALSE),IF(IFERROR(SEARCH(\"Propane\",$A$18),0)>0,VLOOKUP(\"Propane\",HVACg_Lookup,MATCH(Worksheet!$F$16,BuildingSize,0)+1,FALSE),0)))","v":0},{"$f":"Z429/1000*AA429*AC429*IF(IFERROR(SEARCH(\"Gas\",$A$18),0)>0,VLOOKUP(\"Gas\",HVACg_Lookup,MATCH($F$16,BuildingSize,0)+1,FALSE),IF(IFERROR(SEARCH(\"Oil\",$A$18),0)>0,VLOOKUP(\"Oil\",HVACg_Lookup,MATCH($F$16,BuildingSize,0)+1,FALSE),IF(IFERROR(SEARCH(\"Propane\",$A$18),0)>0,VLOOKUP(\"Propane\",HVACg_Lookup,MATCH(Worksheet!$F$16,BuildingSize,0)+1,FALSE),0)))","v":0},0,0,"",""]
[null,null,"",null,null,null,null,null,null,null,null,null,null,null,null,0,0,0,0,"",0,0,0,0,0,0,0,0,0,0,0,0,0,0,0,0,0,{"$f":"Y430/1000*AA430*AC430*IF(IFERROR(SEARCH(\"Gas\",$A$18),0)>0,VLOOKUP(\"Gas\",HVACg_Lookup,MATCH($F$16,BuildingSize,0)+1,FALSE),IF(IFERROR(SEARCH(\"Oil\",$A$18),0)>0,VLOOKUP(\"Oil\",HVACg_Lookup,MATCH($F$16,BuildingSize,0)+1,FALSE),IF(IFERROR(SEARCH(\"Propane\",$A$18),0)>0,VLOOKUP(\"Propane\",HVACg_Lookup,MATCH(Worksheet!$F$16,BuildingSize,0)+1,FALSE),0)))","v":0},{"$f":"Z430/1000*AA430*AC430*IF(IFERROR(SEARCH(\"Gas\",$A$18),0)>0,VLOOKUP(\"Gas\",HVACg_Lookup,MATCH($F$16,BuildingSize,0)+1,FALSE),IF(IFERROR(SEARCH(\"Oil\",$A$18),0)>0,VLOOKUP(\"Oil\",HVACg_Lookup,MATCH($F$16,BuildingSize,0)+1,FALSE),IF(IFERROR(SEARCH(\"Propane\",$A$18),0)>0,VLOOKUP(\"Propane\",HVACg_Lookup,MATCH(Worksheet!$F$16,BuildingSize,0)+1,FALSE),0)))","v":0},0,0,"",""]
[null,null,"",null,null,null,null,null,null,null,null,null,null,null,null,0,0,0,0,"",0,0,0,0,0,0,0,0,0,0,0,0,0,0,0,0,0,{"$f":"Y431/1000*AA431*AC431*IF(IFERROR(SEARCH(\"Gas\",$A$18),0)>0,VLOOKUP(\"Gas\",HVACg_Lookup,MATCH($F$16,BuildingSize,0)+1,FALSE),IF(IFERROR(SEARCH(\"Oil\",$A$18),0)>0,VLOOKUP(\"Oil\",HVACg_Lookup,MATCH($F$16,BuildingSize,0)+1,FALSE),IF(IFERROR(SEARCH(\"Propane\",$A$18),0)>0,VLOOKUP(\"Propane\",HVACg_Lookup,MATCH(Worksheet!$F$16,BuildingSize,0)+1,FALSE),0)))","v":0},{"$f":"Z431/1000*AA431*AC431*IF(IFERROR(SEARCH(\"Gas\",$A$18),0)>0,VLOOKUP(\"Gas\",HVACg_Lookup,MATCH($F$16,BuildingSize,0)+1,FALSE),IF(IFERROR(SEARCH(\"Oil\",$A$18),0)>0,VLOOKUP(\"Oil\",HVACg_Lookup,MATCH($F$16,BuildingSize,0)+1,FALSE),IF(IFERROR(SEARCH(\"Propane\",$A$18),0)>0,VLOOKUP(\"Propane\",HVACg_Lookup,MATCH(Worksheet!$F$16,BuildingSize,0)+1,FALSE),0)))","v":0},0,0,"",""]
[null,null,"",null,null,null,null,null,null,null,null,null,null,null,null,0,0,0,0,"",0,0,0,0,0,0,0,0,0,0,0,0,0,0,0,0,0,{"$f":"Y432/1000*AA432*AC432*IF(IFERROR(SEARCH(\"Gas\",$A$18),0)>0,VLOOKUP(\"Gas\",HVACg_Lookup,MATCH($F$16,BuildingSize,0)+1,FALSE),IF(IFERROR(SEARCH(\"Oil\",$A$18),0)>0,VLOOKUP(\"Oil\",HVACg_Lookup,MATCH($F$16,BuildingSize,0)+1,FALSE),IF(IFERROR(SEARCH(\"Propane\",$A$18),0)>0,VLOOKUP(\"Propane\",HVACg_Lookup,MATCH(Worksheet!$F$16,BuildingSize,0)+1,FALSE),0)))","v":0},{"$f":"Z432/1000*AA432*AC432*IF(IFERROR(SEARCH(\"Gas\",$A$18),0)>0,VLOOKUP(\"Gas\",HVACg_Lookup,MATCH($F$16,BuildingSize,0)+1,FALSE),IF(IFERROR(SEARCH(\"Oil\",$A$18),0)>0,VLOOKUP(\"Oil\",HVACg_Lookup,MATCH($F$16,BuildingSize,0)+1,FALSE),IF(IFERROR(SEARCH(\"Propane\",$A$18),0)>0,VLOOKUP(\"Propane\",HVACg_Lookup,MATCH(Worksheet!$F$16,BuildingSize,0)+1,FALSE),0)))","v":0},0,0,"",""]
[null,null,"",null,null,null,null,null,null,null,null,null,null,null,null,0,0,0,0,"",0,0,0,0,0,0,0,0,0,0,0,0,0,0,0,0,0,{"$f":"Y433/1000*AA433*AC433*IF(IFERROR(SEARCH(\"Gas\",$A$18),0)>0,VLOOKUP(\"Gas\",HVACg_Lookup,MATCH($F$16,BuildingSize,0)+1,FALSE),IF(IFERROR(SEARCH(\"Oil\",$A$18),0)>0,VLOOKUP(\"Oil\",HVACg_Lookup,MATCH($F$16,BuildingSize,0)+1,FALSE),IF(IFERROR(SEARCH(\"Propane\",$A$18),0)>0,VLOOKUP(\"Propane\",HVACg_Lookup,MATCH(Worksheet!$F$16,BuildingSize,0)+1,FALSE),0)))","v":0},{"$f":"Z433/1000*AA433*AC433*IF(IFERROR(SEARCH(\"Gas\",$A$18),0)>0,VLOOKUP(\"Gas\",HVACg_Lookup,MATCH($F$16,BuildingSize,0)+1,FALSE),IF(IFERROR(SEARCH(\"Oil\",$A$18),0)>0,VLOOKUP(\"Oil\",HVACg_Lookup,MATCH($F$16,BuildingSize,0)+1,FALSE),IF(IFERROR(SEARCH(\"Propane\",$A$18),0)>0,VLOOKUP(\"Propane\",HVACg_Lookup,MATCH(Worksheet!$F$16,BuildingSize,0)+1,FALSE),0)))","v":0},0,0,"",""]
[null,null,"",null,null,null,null,null,null,null,null,null,null,null,null,0,0,0,0,"",0,0,0,0,0,0,0,0,0,0,0,0,0,0,0,0,0,{"$f":"Y434/1000*AA434*AC434*IF(IFERROR(SEARCH(\"Gas\",$A$18),0)>0,VLOOKUP(\"Gas\",HVACg_Lookup,MATCH($F$16,BuildingSize,0)+1,FALSE),IF(IFERROR(SEARCH(\"Oil\",$A$18),0)>0,VLOOKUP(\"Oil\",HVACg_Lookup,MATCH($F$16,BuildingSize,0)+1,FALSE),IF(IFERROR(SEARCH(\"Propane\",$A$18),0)>0,VLOOKUP(\"Propane\",HVACg_Lookup,MATCH(Worksheet!$F$16,BuildingSize,0)+1,FALSE),0)))","v":0},{"$f":"Z434/1000*AA434*AC434*IF(IFERROR(SEARCH(\"Gas\",$A$18),0)>0,VLOOKUP(\"Gas\",HVACg_Lookup,MATCH($F$16,BuildingSize,0)+1,FALSE),IF(IFERROR(SEARCH(\"Oil\",$A$18),0)>0,VLOOKUP(\"Oil\",HVACg_Lookup,MATCH($F$16,BuildingSize,0)+1,FALSE),IF(IFERROR(SEARCH(\"Propane\",$A$18),0)>0,VLOOKUP(\"Propane\",HVACg_Lookup,MATCH(Worksheet!$F$16,BuildingSize,0)+1,FALSE),0)))","v":0},0,0,"",""]
[null,null,"",null,null,null,null,null,null,null,null,null,null,null,null,0,0,0,0,"",0,0,0,0,0,0,0,0,0,0,0,0,0,0,0,0,0,{"$f":"Y435/1000*AA435*AC435*IF(IFERROR(SEARCH(\"Gas\",$A$18),0)>0,VLOOKUP(\"Gas\",HVACg_Lookup,MATCH($F$16,BuildingSize,0)+1,FALSE),IF(IFERROR(SEARCH(\"Oil\",$A$18),0)>0,VLOOKUP(\"Oil\",HVACg_Lookup,MATCH($F$16,BuildingSize,0)+1,FALSE),IF(IFERROR(SEARCH(\"Propane\",$A$18),0)>0,VLOOKUP(\"Propane\",HVACg_Lookup,MATCH(Worksheet!$F$16,BuildingSize,0)+1,FALSE),0)))","v":0},{"$f":"Z435/1000*AA435*AC435*IF(IFERROR(SEARCH(\"Gas\",$A$18),0)>0,VLOOKUP(\"Gas\",HVACg_Lookup,MATCH($F$16,BuildingSize,0)+1,FALSE),IF(IFERROR(SEARCH(\"Oil\",$A$18),0)>0,VLOOKUP(\"Oil\",HVACg_Lookup,MATCH($F$16,BuildingSize,0)+1,FALSE),IF(IFERROR(SEARCH(\"Propane\",$A$18),0)>0,VLOOKUP(\"Propane\",HVACg_Lookup,MATCH(Worksheet!$F$16,BuildingSize,0)+1,FALSE),0)))","v":0},0,0,"",""]
[null,null,"",null,null,null,null,null,null,null,null,null,null,null,null,0,0,0,0,"",0,0,0,0,0,0,0,0,0,0,0,0,0,0,0,0,0,{"$f":"Y436/1000*AA436*AC436*IF(IFERROR(SEARCH(\"Gas\",$A$18),0)>0,VLOOKUP(\"Gas\",HVACg_Lookup,MATCH($F$16,BuildingSize,0)+1,FALSE),IF(IFERROR(SEARCH(\"Oil\",$A$18),0)>0,VLOOKUP(\"Oil\",HVACg_Lookup,MATCH($F$16,BuildingSize,0)+1,FALSE),IF(IFERROR(SEARCH(\"Propane\",$A$18),0)>0,VLOOKUP(\"Propane\",HVACg_Lookup,MATCH(Worksheet!$F$16,BuildingSize,0)+1,FALSE),0)))","v":0},{"$f":"Z436/1000*AA436*AC436*IF(IFERROR(SEARCH(\"Gas\",$A$18),0)>0,VLOOKUP(\"Gas\",HVACg_Lookup,MATCH($F$16,BuildingSize,0)+1,FALSE),IF(IFERROR(SEARCH(\"Oil\",$A$18),0)>0,VLOOKUP(\"Oil\",HVACg_Lookup,MATCH($F$16,BuildingSize,0)+1,FALSE),IF(IFERROR(SEARCH(\"Propane\",$A$18),0)>0,VLOOKUP(\"Propane\",HVACg_Lookup,MATCH(Worksheet!$F$16,BuildingSize,0)+1,FALSE),0)))","v":0},0,0,"",""]
[null,null,"",null,null,null,null,null,null,null,null,null,null,null,null,0,0,0,0,"",0,0,0,0,0,0,0,0,0,0,0,0,0,0,0,0,0,{"$f":"Y437/1000*AA437*AC437*IF(IFERROR(SEARCH(\"Gas\",$A$18),0)>0,VLOOKUP(\"Gas\",HVACg_Lookup,MATCH($F$16,BuildingSize,0)+1,FALSE),IF(IFERROR(SEARCH(\"Oil\",$A$18),0)>0,VLOOKUP(\"Oil\",HVACg_Lookup,MATCH($F$16,BuildingSize,0)+1,FALSE),IF(IFERROR(SEARCH(\"Propane\",$A$18),0)>0,VLOOKUP(\"Propane\",HVACg_Lookup,MATCH(Worksheet!$F$16,BuildingSize,0)+1,FALSE),0)))","v":0},{"$f":"Z437/1000*AA437*AC437*IF(IFERROR(SEARCH(\"Gas\",$A$18),0)>0,VLOOKUP(\"Gas\",HVACg_Lookup,MATCH($F$16,BuildingSize,0)+1,FALSE),IF(IFERROR(SEARCH(\"Oil\",$A$18),0)>0,VLOOKUP(\"Oil\",HVACg_Lookup,MATCH($F$16,BuildingSize,0)+1,FALSE),IF(IFERROR(SEARCH(\"Propane\",$A$18),0)>0,VLOOKUP(\"Propane\",HVACg_Lookup,MATCH(Worksheet!$F$16,BuildingSize,0)+1,FALSE),0)))","v":0},0,0,"",""]
[null,null,"",null,null,null,null,null,null,null,null,null,null,null,null,0,0,0,0,"",0,0,0,0,0,0,0,0,0,0,0,0,0,0,0,0,0,{"$f":"Y438/1000*AA438*AC438*IF(IFERROR(SEARCH(\"Gas\",$A$18),0)>0,VLOOKUP(\"Gas\",HVACg_Lookup,MATCH($F$16,BuildingSize,0)+1,FALSE),IF(IFERROR(SEARCH(\"Oil\",$A$18),0)>0,VLOOKUP(\"Oil\",HVACg_Lookup,MATCH($F$16,BuildingSize,0)+1,FALSE),IF(IFERROR(SEARCH(\"Propane\",$A$18),0)>0,VLOOKUP(\"Propane\",HVACg_Lookup,MATCH(Worksheet!$F$16,BuildingSize,0)+1,FALSE),0)))","v":0},{"$f":"Z438/1000*AA438*AC438*IF(IFERROR(SEARCH(\"Gas\",$A$18),0)>0,VLOOKUP(\"Gas\",HVACg_Lookup,MATCH($F$16,BuildingSize,0)+1,FALSE),IF(IFERROR(SEARCH(\"Oil\",$A$18),0)>0,VLOOKUP(\"Oil\",HVACg_Lookup,MATCH($F$16,BuildingSize,0)+1,FALSE),IF(IFERROR(SEARCH(\"Propane\",$A$18),0)>0,VLOOKUP(\"Propane\",HVACg_Lookup,MATCH(Worksheet!$F$16,BuildingSize,0)+1,FALSE),0)))","v":0},0,0,"",""]
[null,null,"",null,null,null,null,null,null,null,null,null,null,null,null,0,0,0,0,"",0,0,0,0,0,0,0,0,0,0,0,0,0,0,0,0,0,{"$f":"Y439/1000*AA439*AC439*IF(IFERROR(SEARCH(\"Gas\",$A$18),0)>0,VLOOKUP(\"Gas\",HVACg_Lookup,MATCH($F$16,BuildingSize,0)+1,FALSE),IF(IFERROR(SEARCH(\"Oil\",$A$18),0)>0,VLOOKUP(\"Oil\",HVACg_Lookup,MATCH($F$16,BuildingSize,0)+1,FALSE),IF(IFERROR(SEARCH(\"Propane\",$A$18),0)>0,VLOOKUP(\"Propane\",HVACg_Lookup,MATCH(Worksheet!$F$16,BuildingSize,0)+1,FALSE),0)))","v":0},{"$f":"Z439/1000*AA439*AC439*IF(IFERROR(SEARCH(\"Gas\",$A$18),0)>0,VLOOKUP(\"Gas\",HVACg_Lookup,MATCH($F$16,BuildingSize,0)+1,FALSE),IF(IFERROR(SEARCH(\"Oil\",$A$18),0)>0,VLOOKUP(\"Oil\",HVACg_Lookup,MATCH($F$16,BuildingSize,0)+1,FALSE),IF(IFERROR(SEARCH(\"Propane\",$A$18),0)>0,VLOOKUP(\"Propane\",HVACg_Lookup,MATCH(Worksheet!$F$16,BuildingSize,0)+1,FALSE),0)))","v":0},0,0,"",""]
[null,null,"",null,null,null,null,null,null,null,null,null,null,null,null,0,0,0,0,"",0,0,0,0,0,0,0,0,0,0,0,0,0,0,0,0,0,{"$f":"Y440/1000*AA440*AC440*IF(IFERROR(SEARCH(\"Gas\",$A$18),0)>0,VLOOKUP(\"Gas\",HVACg_Lookup,MATCH($F$16,BuildingSize,0)+1,FALSE),IF(IFERROR(SEARCH(\"Oil\",$A$18),0)>0,VLOOKUP(\"Oil\",HVACg_Lookup,MATCH($F$16,BuildingSize,0)+1,FALSE),IF(IFERROR(SEARCH(\"Propane\",$A$18),0)>0,VLOOKUP(\"Propane\",HVACg_Lookup,MATCH(Worksheet!$F$16,BuildingSize,0)+1,FALSE),0)))","v":0},{"$f":"Z440/1000*AA440*AC440*IF(IFERROR(SEARCH(\"Gas\",$A$18),0)>0,VLOOKUP(\"Gas\",HVACg_Lookup,MATCH($F$16,BuildingSize,0)+1,FALSE),IF(IFERROR(SEARCH(\"Oil\",$A$18),0)>0,VLOOKUP(\"Oil\",HVACg_Lookup,MATCH($F$16,BuildingSize,0)+1,FALSE),IF(IFERROR(SEARCH(\"Propane\",$A$18),0)>0,VLOOKUP(\"Propane\",HVACg_Lookup,MATCH(Worksheet!$F$16,BuildingSize,0)+1,FALSE),0)))","v":0},0,0,"",""]
[null,null,"",null,null,null,null,null,null,null,null,null,null,null,null,0,0,0,0,"",0,0,0,0,0,0,0,0,0,0,0,0,0,0,0,0,0,{"$f":"Y441/1000*AA441*AC441*IF(IFERROR(SEARCH(\"Gas\",$A$18),0)>0,VLOOKUP(\"Gas\",HVACg_Lookup,MATCH($F$16,BuildingSize,0)+1,FALSE),IF(IFERROR(SEARCH(\"Oil\",$A$18),0)>0,VLOOKUP(\"Oil\",HVACg_Lookup,MATCH($F$16,BuildingSize,0)+1,FALSE),IF(IFERROR(SEARCH(\"Propane\",$A$18),0)>0,VLOOKUP(\"Propane\",HVACg_Lookup,MATCH(Worksheet!$F$16,BuildingSize,0)+1,FALSE),0)))","v":0},{"$f":"Z441/1000*AA441*AC441*IF(IFERROR(SEARCH(\"Gas\",$A$18),0)>0,VLOOKUP(\"Gas\",HVACg_Lookup,MATCH($F$16,BuildingSize,0)+1,FALSE),IF(IFERROR(SEARCH(\"Oil\",$A$18),0)>0,VLOOKUP(\"Oil\",HVACg_Lookup,MATCH($F$16,BuildingSize,0)+1,FALSE),IF(IFERROR(SEARCH(\"Propane\",$A$18),0)>0,VLOOKUP(\"Propane\",HVACg_Lookup,MATCH(Worksheet!$F$16,BuildingSize,0)+1,FALSE),0)))","v":0},0,0,"",""]
[null,null,"",null,null,null,null,null,null,null,null,null,null,null,null,0,0,0,0,"",0,0,0,0,0,0,0,0,0,0,0,0,0,0,0,0,0,{"$f":"Y442/1000*AA442*AC442*IF(IFERROR(SEARCH(\"Gas\",$A$18),0)>0,VLOOKUP(\"Gas\",HVACg_Lookup,MATCH($F$16,BuildingSize,0)+1,FALSE),IF(IFERROR(SEARCH(\"Oil\",$A$18),0)>0,VLOOKUP(\"Oil\",HVACg_Lookup,MATCH($F$16,BuildingSize,0)+1,FALSE),IF(IFERROR(SEARCH(\"Propane\",$A$18),0)>0,VLOOKUP(\"Propane\",HVACg_Lookup,MATCH(Worksheet!$F$16,BuildingSize,0)+1,FALSE),0)))","v":0},{"$f":"Z442/1000*AA442*AC442*IF(IFERROR(SEARCH(\"Gas\",$A$18),0)>0,VLOOKUP(\"Gas\",HVACg_Lookup,MATCH($F$16,BuildingSize,0)+1,FALSE),IF(IFERROR(SEARCH(\"Oil\",$A$18),0)>0,VLOOKUP(\"Oil\",HVACg_Lookup,MATCH($F$16,BuildingSize,0)+1,FALSE),IF(IFERROR(SEARCH(\"Propane\",$A$18),0)>0,VLOOKUP(\"Propane\",HVACg_Lookup,MATCH(Worksheet!$F$16,BuildingSize,0)+1,FALSE),0)))","v":0},0,0,"",""]
[null,null,"",null,null,null,null,null,null,null,null,null,null,null,null,0,0,0,0,"",0,0,0,0,0,0,0,0,0,0,0,0,0,0,0,0,0,{"$f":"Y443/1000*AA443*AC443*IF(IFERROR(SEARCH(\"Gas\",$A$18),0)>0,VLOOKUP(\"Gas\",HVACg_Lookup,MATCH($F$16,BuildingSize,0)+1,FALSE),IF(IFERROR(SEARCH(\"Oil\",$A$18),0)>0,VLOOKUP(\"Oil\",HVACg_Lookup,MATCH($F$16,BuildingSize,0)+1,FALSE),IF(IFERROR(SEARCH(\"Propane\",$A$18),0)>0,VLOOKUP(\"Propane\",HVACg_Lookup,MATCH(Worksheet!$F$16,BuildingSize,0)+1,FALSE),0)))","v":0},{"$f":"Z443/1000*AA443*AC443*IF(IFERROR(SEARCH(\"Gas\",$A$18),0)>0,VLOOKUP(\"Gas\",HVACg_Lookup,MATCH($F$16,BuildingSize,0)+1,FALSE),IF(IFERROR(SEARCH(\"Oil\",$A$18),0)>0,VLOOKUP(\"Oil\",HVACg_Lookup,MATCH($F$16,BuildingSize,0)+1,FALSE),IF(IFERROR(SEARCH(\"Propane\",$A$18),0)>0,VLOOKUP(\"Propane\",HVACg_Lookup,MATCH(Worksheet!$F$16,BuildingSize,0)+1,FALSE),0)))","v":0},0,0,"",""]
[null,null,"",null,null,null,null,null,null,null,null,null,null,null,null,0,0,0,0,"",0,0,0,0,0,0,0,0,0,0,0,0,0,0,0,0,0,{"$f":"Y444/1000*AA444*AC444*IF(IFERROR(SEARCH(\"Gas\",$A$18),0)>0,VLOOKUP(\"Gas\",HVACg_Lookup,MATCH($F$16,BuildingSize,0)+1,FALSE),IF(IFERROR(SEARCH(\"Oil\",$A$18),0)>0,VLOOKUP(\"Oil\",HVACg_Lookup,MATCH($F$16,BuildingSize,0)+1,FALSE),IF(IFERROR(SEARCH(\"Propane\",$A$18),0)>0,VLOOKUP(\"Propane\",HVACg_Lookup,MATCH(Worksheet!$F$16,BuildingSize,0)+1,FALSE),0)))","v":0},{"$f":"Z444/1000*AA444*AC444*IF(IFERROR(SEARCH(\"Gas\",$A$18),0)>0,VLOOKUP(\"Gas\",HVACg_Lookup,MATCH($F$16,BuildingSize,0)+1,FALSE),IF(IFERROR(SEARCH(\"Oil\",$A$18),0)>0,VLOOKUP(\"Oil\",HVACg_Lookup,MATCH($F$16,BuildingSize,0)+1,FALSE),IF(IFERROR(SEARCH(\"Propane\",$A$18),0)>0,VLOOKUP(\"Propane\",HVACg_Lookup,MATCH(Worksheet!$F$16,BuildingSize,0)+1,FALSE),0)))","v":0},0,0,"",""]
[null,null,"",null,null,null,null,null,null,null,null,null,null,null,null,0,0,0,0,"",0,0,0,0,0,0,0,0,0,0,0,0,0,0,0,0,0,{"$f":"Y445/1000*AA445*AC445*IF(IFERROR(SEARCH(\"Gas\",$A$18),0)>0,VLOOKUP(\"Gas\",HVACg_Lookup,MATCH($F$16,BuildingSize,0)+1,FALSE),IF(IFERROR(SEARCH(\"Oil\",$A$18),0)>0,VLOOKUP(\"Oil\",HVACg_Lookup,MATCH($F$16,BuildingSize,0)+1,FALSE),IF(IFERROR(SEARCH(\"Propane\",$A$18),0)>0,VLOOKUP(\"Propane\",HVACg_Lookup,MATCH(Worksheet!$F$16,BuildingSize,0)+1,FALSE),0)))","v":0},{"$f":"Z445/1000*AA445*AC445*IF(IFERROR(SEARCH(\"Gas\",$A$18),0)>0,VLOOKUP(\"Gas\",HVACg_Lookup,MATCH($F$16,BuildingSize,0)+1,FALSE),IF(IFERROR(SEARCH(\"Oil\",$A$18),0)>0,VLOOKUP(\"Oil\",HVACg_Lookup,MATCH($F$16,BuildingSize,0)+1,FALSE),IF(IFERROR(SEARCH(\"Propane\",$A$18),0)>0,VLOOKUP(\"Propane\",HVACg_Lookup,MATCH(Worksheet!$F$16,BuildingSize,0)+1,FALSE),0)))","v":0},0,0,"",""]
[null,null,"",null,null,null,null,null,null,null,null,null,null,null,null,0,0,0,0,"",0,0,0,0,0,0,0,0,0,0,0,0,0,0,0,0,0,{"$f":"Y446/1000*AA446*AC446*IF(IFERROR(SEARCH(\"Gas\",$A$18),0)>0,VLOOKUP(\"Gas\",HVACg_Lookup,MATCH($F$16,BuildingSize,0)+1,FALSE),IF(IFERROR(SEARCH(\"Oil\",$A$18),0)>0,VLOOKUP(\"Oil\",HVACg_Lookup,MATCH($F$16,BuildingSize,0)+1,FALSE),IF(IFERROR(SEARCH(\"Propane\",$A$18),0)>0,VLOOKUP(\"Propane\",HVACg_Lookup,MATCH(Worksheet!$F$16,BuildingSize,0)+1,FALSE),0)))","v":0},{"$f":"Z446/1000*AA446*AC446*IF(IFERROR(SEARCH(\"Gas\",$A$18),0)>0,VLOOKUP(\"Gas\",HVACg_Lookup,MATCH($F$16,BuildingSize,0)+1,FALSE),IF(IFERROR(SEARCH(\"Oil\",$A$18),0)>0,VLOOKUP(\"Oil\",HVACg_Lookup,MATCH($F$16,BuildingSize,0)+1,FALSE),IF(IFERROR(SEARCH(\"Propane\",$A$18),0)>0,VLOOKUP(\"Propane\",HVACg_Lookup,MATCH(Worksheet!$F$16,BuildingSize,0)+1,FALSE),0)))","v":0},0,0,"",""]
[null,null,"",null,null,null,null,null,null,null,null,null,null,null,null,0,0,0,0,"",0,0,0,0,0,0,0,0,0,0,0,0,0,0,0,0,0,{"$f":"Y447/1000*AA447*AC447*IF(IFERROR(SEARCH(\"Gas\",$A$18),0)>0,VLOOKUP(\"Gas\",HVACg_Lookup,MATCH($F$16,BuildingSize,0)+1,FALSE),IF(IFERROR(SEARCH(\"Oil\",$A$18),0)>0,VLOOKUP(\"Oil\",HVACg_Lookup,MATCH($F$16,BuildingSize,0)+1,FALSE),IF(IFERROR(SEARCH(\"Propane\",$A$18),0)>0,VLOOKUP(\"Propane\",HVACg_Lookup,MATCH(Worksheet!$F$16,BuildingSize,0)+1,FALSE),0)))","v":0},{"$f":"Z447/1000*AA447*AC447*IF(IFERROR(SEARCH(\"Gas\",$A$18),0)>0,VLOOKUP(\"Gas\",HVACg_Lookup,MATCH($F$16,BuildingSize,0)+1,FALSE),IF(IFERROR(SEARCH(\"Oil\",$A$18),0)>0,VLOOKUP(\"Oil\",HVACg_Lookup,MATCH($F$16,BuildingSize,0)+1,FALSE),IF(IFERROR(SEARCH(\"Propane\",$A$18),0)>0,VLOOKUP(\"Propane\",HVACg_Lookup,MATCH(Worksheet!$F$16,BuildingSize,0)+1,FALSE),0)))","v":0},0,0,"",""]
[null,null,"",null,null,null,null,null,null,null,null,null,null,null,null,0,0,0,0,"",0,0,0,0,0,0,0,0,0,0,0,0,0,0,0,0,0,{"$f":"Y448/1000*AA448*AC448*IF(IFERROR(SEARCH(\"Gas\",$A$18),0)>0,VLOOKUP(\"Gas\",HVACg_Lookup,MATCH($F$16,BuildingSize,0)+1,FALSE),IF(IFERROR(SEARCH(\"Oil\",$A$18),0)>0,VLOOKUP(\"Oil\",HVACg_Lookup,MATCH($F$16,BuildingSize,0)+1,FALSE),IF(IFERROR(SEARCH(\"Propane\",$A$18),0)>0,VLOOKUP(\"Propane\",HVACg_Lookup,MATCH(Worksheet!$F$16,BuildingSize,0)+1,FALSE),0)))","v":0},{"$f":"Z448/1000*AA448*AC448*IF(IFERROR(SEARCH(\"Gas\",$A$18),0)>0,VLOOKUP(\"Gas\",HVACg_Lookup,MATCH($F$16,BuildingSize,0)+1,FALSE),IF(IFERROR(SEARCH(\"Oil\",$A$18),0)>0,VLOOKUP(\"Oil\",HVACg_Lookup,MATCH($F$16,BuildingSize,0)+1,FALSE),IF(IFERROR(SEARCH(\"Propane\",$A$18),0)>0,VLOOKUP(\"Propane\",HVACg_Lookup,MATCH(Worksheet!$F$16,BuildingSize,0)+1,FALSE),0)))","v":0},0,0,"",""]
[null,null,"",null,null,null,null,null,null,null,null,null,null,null,null,0,0,0,0,"",0,0,0,0,0,0,0,0,0,0,0,0,0,0,0,0,0,{"$f":"Y449/1000*AA449*AC449*IF(IFERROR(SEARCH(\"Gas\",$A$18),0)>0,VLOOKUP(\"Gas\",HVACg_Lookup,MATCH($F$16,BuildingSize,0)+1,FALSE),IF(IFERROR(SEARCH(\"Oil\",$A$18),0)>0,VLOOKUP(\"Oil\",HVACg_Lookup,MATCH($F$16,BuildingSize,0)+1,FALSE),IF(IFERROR(SEARCH(\"Propane\",$A$18),0)>0,VLOOKUP(\"Propane\",HVACg_Lookup,MATCH(Worksheet!$F$16,BuildingSize,0)+1,FALSE),0)))","v":0},{"$f":"Z449/1000*AA449*AC449*IF(IFERROR(SEARCH(\"Gas\",$A$18),0)>0,VLOOKUP(\"Gas\",HVACg_Lookup,MATCH($F$16,BuildingSize,0)+1,FALSE),IF(IFERROR(SEARCH(\"Oil\",$A$18),0)>0,VLOOKUP(\"Oil\",HVACg_Lookup,MATCH($F$16,BuildingSize,0)+1,FALSE),IF(IFERROR(SEARCH(\"Propane\",$A$18),0)>0,VLOOKUP(\"Propane\",HVACg_Lookup,MATCH(Worksheet!$F$16,BuildingSize,0)+1,FALSE),0)))","v":0},0,0,"",""]
[null,null,"",null,null,null,null,null,null,null,null,null,null,null,null,0,0,0,0,"",0,0,0,0,0,0,0,0,0,0,0,0,0,0,0,0,0,{"$f":"Y450/1000*AA450*AC450*IF(IFERROR(SEARCH(\"Gas\",$A$18),0)>0,VLOOKUP(\"Gas\",HVACg_Lookup,MATCH($F$16,BuildingSize,0)+1,FALSE),IF(IFERROR(SEARCH(\"Oil\",$A$18),0)>0,VLOOKUP(\"Oil\",HVACg_Lookup,MATCH($F$16,BuildingSize,0)+1,FALSE),IF(IFERROR(SEARCH(\"Propane\",$A$18),0)>0,VLOOKUP(\"Propane\",HVACg_Lookup,MATCH(Worksheet!$F$16,BuildingSize,0)+1,FALSE),0)))","v":0},{"$f":"Z450/1000*AA450*AC450*IF(IFERROR(SEARCH(\"Gas\",$A$18),0)>0,VLOOKUP(\"Gas\",HVACg_Lookup,MATCH($F$16,BuildingSize,0)+1,FALSE),IF(IFERROR(SEARCH(\"Oil\",$A$18),0)>0,VLOOKUP(\"Oil\",HVACg_Lookup,MATCH($F$16,BuildingSize,0)+1,FALSE),IF(IFERROR(SEARCH(\"Propane\",$A$18),0)>0,VLOOKUP(\"Propane\",HVACg_Lookup,MATCH(Worksheet!$F$16,BuildingSize,0)+1,FALSE),0)))","v":0},0,0,"",""]
[null,null,"",null,null,null,null,null,null,null,null,null,null,null,null,0,0,0,0,"",0,0,0,0,0,0,0,0,0,0,0,0,0,0,0,0,0,{"$f":"Y451/1000*AA451*AC451*IF(IFERROR(SEARCH(\"Gas\",$A$18),0)>0,VLOOKUP(\"Gas\",HVACg_Lookup,MATCH($F$16,BuildingSize,0)+1,FALSE),IF(IFERROR(SEARCH(\"Oil\",$A$18),0)>0,VLOOKUP(\"Oil\",HVACg_Lookup,MATCH($F$16,BuildingSize,0)+1,FALSE),IF(IFERROR(SEARCH(\"Propane\",$A$18),0)>0,VLOOKUP(\"Propane\",HVACg_Lookup,MATCH(Worksheet!$F$16,BuildingSize,0)+1,FALSE),0)))","v":0},{"$f":"Z451/1000*AA451*AC451*IF(IFERROR(SEARCH(\"Gas\",$A$18),0)>0,VLOOKUP(\"Gas\",HVACg_Lookup,MATCH($F$16,BuildingSize,0)+1,FALSE),IF(IFERROR(SEARCH(\"Oil\",$A$18),0)>0,VLOOKUP(\"Oil\",HVACg_Lookup,MATCH($F$16,BuildingSize,0)+1,FALSE),IF(IFERROR(SEARCH(\"Propane\",$A$18),0)>0,VLOOKUP(\"Propane\",HVACg_Lookup,MATCH(Worksheet!$F$16,BuildingSize,0)+1,FALSE),0)))","v":0},0,0,"",""]
[null,null,"",null,null,null,null,null,null,null,null,null,null,null,null,0,0,0,0,"",0,0,0,0,0,0,0,0,0,0,0,0,0,0,0,0,0,{"$f":"Y452/1000*AA452*AC452*IF(IFERROR(SEARCH(\"Gas\",$A$18),0)>0,VLOOKUP(\"Gas\",HVACg_Lookup,MATCH($F$16,BuildingSize,0)+1,FALSE),IF(IFERROR(SEARCH(\"Oil\",$A$18),0)>0,VLOOKUP(\"Oil\",HVACg_Lookup,MATCH($F$16,BuildingSize,0)+1,FALSE),IF(IFERROR(SEARCH(\"Propane\",$A$18),0)>0,VLOOKUP(\"Propane\",HVACg_Lookup,MATCH(Worksheet!$F$16,BuildingSize,0)+1,FALSE),0)))","v":0},{"$f":"Z452/1000*AA452*AC452*IF(IFERROR(SEARCH(\"Gas\",$A$18),0)>0,VLOOKUP(\"Gas\",HVACg_Lookup,MATCH($F$16,BuildingSize,0)+1,FALSE),IF(IFERROR(SEARCH(\"Oil\",$A$18),0)>0,VLOOKUP(\"Oil\",HVACg_Lookup,MATCH($F$16,BuildingSize,0)+1,FALSE),IF(IFERROR(SEARCH(\"Propane\",$A$18),0)>0,VLOOKUP(\"Propane\",HVACg_Lookup,MATCH(Worksheet!$F$16,BuildingSize,0)+1,FALSE),0)))","v":0},0,0,"",""]
[null,null,"",null,null,null,null,null,null,null,null,null,null,null,null,0,0,0,0,"",0,0,0,0,0,0,0,0,0,0,0,0,0,0,0,0,0,{"$f":"Y453/1000*AA453*AC453*IF(IFERROR(SEARCH(\"Gas\",$A$18),0)>0,VLOOKUP(\"Gas\",HVACg_Lookup,MATCH($F$16,BuildingSize,0)+1,FALSE),IF(IFERROR(SEARCH(\"Oil\",$A$18),0)>0,VLOOKUP(\"Oil\",HVACg_Lookup,MATCH($F$16,BuildingSize,0)+1,FALSE),IF(IFERROR(SEARCH(\"Propane\",$A$18),0)>0,VLOOKUP(\"Propane\",HVACg_Lookup,MATCH(Worksheet!$F$16,BuildingSize,0)+1,FALSE),0)))","v":0},{"$f":"Z453/1000*AA453*AC453*IF(IFERROR(SEARCH(\"Gas\",$A$18),0)>0,VLOOKUP(\"Gas\",HVACg_Lookup,MATCH($F$16,BuildingSize,0)+1,FALSE),IF(IFERROR(SEARCH(\"Oil\",$A$18),0)>0,VLOOKUP(\"Oil\",HVACg_Lookup,MATCH($F$16,BuildingSize,0)+1,FALSE),IF(IFERROR(SEARCH(\"Propane\",$A$18),0)>0,VLOOKUP(\"Propane\",HVACg_Lookup,MATCH(Worksheet!$F$16,BuildingSize,0)+1,FALSE),0)))","v":0},0,0,"",""]
[null,null,"",null,null,null,null,null,null,null,null,null,null,null,null,0,0,0,0,"",0,0,0,0,0,0,0,0,0,0,0,0,0,0,0,0,0,{"$f":"Y454/1000*AA454*AC454*IF(IFERROR(SEARCH(\"Gas\",$A$18),0)>0,VLOOKUP(\"Gas\",HVACg_Lookup,MATCH($F$16,BuildingSize,0)+1,FALSE),IF(IFERROR(SEARCH(\"Oil\",$A$18),0)>0,VLOOKUP(\"Oil\",HVACg_Lookup,MATCH($F$16,BuildingSize,0)+1,FALSE),IF(IFERROR(SEARCH(\"Propane\",$A$18),0)>0,VLOOKUP(\"Propane\",HVACg_Lookup,MATCH(Worksheet!$F$16,BuildingSize,0)+1,FALSE),0)))","v":0},{"$f":"Z454/1000*AA454*AC454*IF(IFERROR(SEARCH(\"Gas\",$A$18),0)>0,VLOOKUP(\"Gas\",HVACg_Lookup,MATCH($F$16,BuildingSize,0)+1,FALSE),IF(IFERROR(SEARCH(\"Oil\",$A$18),0)>0,VLOOKUP(\"Oil\",HVACg_Lookup,MATCH($F$16,BuildingSize,0)+1,FALSE),IF(IFERROR(SEARCH(\"Propane\",$A$18),0)>0,VLOOKUP(\"Propane\",HVACg_Lookup,MATCH(Worksheet!$F$16,BuildingSize,0)+1,FALSE),0)))","v":0},0,0,"",""]
[null,null,"",null,null,null,null,null,null,null,null,null,null,null,null,0,0,0,0,"",0,0,0,0,0,0,0,0,0,0,0,0,0,0,0,0,0,{"$f":"Y455/1000*AA455*AC455*IF(IFERROR(SEARCH(\"Gas\",$A$18),0)>0,VLOOKUP(\"Gas\",HVACg_Lookup,MATCH($F$16,BuildingSize,0)+1,FALSE),IF(IFERROR(SEARCH(\"Oil\",$A$18),0)>0,VLOOKUP(\"Oil\",HVACg_Lookup,MATCH($F$16,BuildingSize,0)+1,FALSE),IF(IFERROR(SEARCH(\"Propane\",$A$18),0)>0,VLOOKUP(\"Propane\",HVACg_Lookup,MATCH(Worksheet!$F$16,BuildingSize,0)+1,FALSE),0)))","v":0},{"$f":"Z455/1000*AA455*AC455*IF(IFERROR(SEARCH(\"Gas\",$A$18),0)>0,VLOOKUP(\"Gas\",HVACg_Lookup,MATCH($F$16,BuildingSize,0)+1,FALSE),IF(IFERROR(SEARCH(\"Oil\",$A$18),0)>0,VLOOKUP(\"Oil\",HVACg_Lookup,MATCH($F$16,BuildingSize,0)+1,FALSE),IF(IFERROR(SEARCH(\"Propane\",$A$18),0)>0,VLOOKUP(\"Propane\",HVACg_Lookup,MATCH(Worksheet!$F$16,BuildingSize,0)+1,FALSE),0)))","v":0},0,0,"",""]
[null,null,"",null,null,null,null,null,null,null,null,null,null,null,null,0,0,0,0,"",0,0,0,0,0,0,0,0,0,0,0,0,0,0,0,0,0,{"$f":"Y456/1000*AA456*AC456*IF(IFERROR(SEARCH(\"Gas\",$A$18),0)>0,VLOOKUP(\"Gas\",HVACg_Lookup,MATCH($F$16,BuildingSize,0)+1,FALSE),IF(IFERROR(SEARCH(\"Oil\",$A$18),0)>0,VLOOKUP(\"Oil\",HVACg_Lookup,MATCH($F$16,BuildingSize,0)+1,FALSE),IF(IFERROR(SEARCH(\"Propane\",$A$18),0)>0,VLOOKUP(\"Propane\",HVACg_Lookup,MATCH(Worksheet!$F$16,BuildingSize,0)+1,FALSE),0)))","v":0},{"$f":"Z456/1000*AA456*AC456*IF(IFERROR(SEARCH(\"Gas\",$A$18),0)>0,VLOOKUP(\"Gas\",HVACg_Lookup,MATCH($F$16,BuildingSize,0)+1,FALSE),IF(IFERROR(SEARCH(\"Oil\",$A$18),0)>0,VLOOKUP(\"Oil\",HVACg_Lookup,MATCH($F$16,BuildingSize,0)+1,FALSE),IF(IFERROR(SEARCH(\"Propane\",$A$18),0)>0,VLOOKUP(\"Propane\",HVACg_Lookup,MATCH(Worksheet!$F$16,BuildingSize,0)+1,FALSE),0)))","v":0},0,0,"",""]
[null,null,"",null,null,null,null,null,null,null,null,null,null,null,null,0,0,0,0,"",0,0,0,0,0,0,0,0,0,0,0,0,0,0,0,0,0,{"$f":"Y457/1000*AA457*AC457*IF(IFERROR(SEARCH(\"Gas\",$A$18),0)>0,VLOOKUP(\"Gas\",HVACg_Lookup,MATCH($F$16,BuildingSize,0)+1,FALSE),IF(IFERROR(SEARCH(\"Oil\",$A$18),0)>0,VLOOKUP(\"Oil\",HVACg_Lookup,MATCH($F$16,BuildingSize,0)+1,FALSE),IF(IFERROR(SEARCH(\"Propane\",$A$18),0)>0,VLOOKUP(\"Propane\",HVACg_Lookup,MATCH(Worksheet!$F$16,BuildingSize,0)+1,FALSE),0)))","v":0},{"$f":"Z457/1000*AA457*AC457*IF(IFERROR(SEARCH(\"Gas\",$A$18),0)>0,VLOOKUP(\"Gas\",HVACg_Lookup,MATCH($F$16,BuildingSize,0)+1,FALSE),IF(IFERROR(SEARCH(\"Oil\",$A$18),0)>0,VLOOKUP(\"Oil\",HVACg_Lookup,MATCH($F$16,BuildingSize,0)+1,FALSE),IF(IFERROR(SEARCH(\"Propane\",$A$18),0)>0,VLOOKUP(\"Propane\",HVACg_Lookup,MATCH(Worksheet!$F$16,BuildingSize,0)+1,FALSE),0)))","v":0},0,0,"",""]
[null,null,"",null,null,null,null,null,null,null,null,null,null,null,null,0,0,0,0,"",0,0,0,0,0,0,0,0,0,0,0,0,0,0,0,0,0,{"$f":"Y458/1000*AA458*AC458*IF(IFERROR(SEARCH(\"Gas\",$A$18),0)>0,VLOOKUP(\"Gas\",HVACg_Lookup,MATCH($F$16,BuildingSize,0)+1,FALSE),IF(IFERROR(SEARCH(\"Oil\",$A$18),0)>0,VLOOKUP(\"Oil\",HVACg_Lookup,MATCH($F$16,BuildingSize,0)+1,FALSE),IF(IFERROR(SEARCH(\"Propane\",$A$18),0)>0,VLOOKUP(\"Propane\",HVACg_Lookup,MATCH(Worksheet!$F$16,BuildingSize,0)+1,FALSE),0)))","v":0},{"$f":"Z458/1000*AA458*AC458*IF(IFERROR(SEARCH(\"Gas\",$A$18),0)>0,VLOOKUP(\"Gas\",HVACg_Lookup,MATCH($F$16,BuildingSize,0)+1,FALSE),IF(IFERROR(SEARCH(\"Oil\",$A$18),0)>0,VLOOKUP(\"Oil\",HVACg_Lookup,MATCH($F$16,BuildingSize,0)+1,FALSE),IF(IFERROR(SEARCH(\"Propane\",$A$18),0)>0,VLOOKUP(\"Propane\",HVACg_Lookup,MATCH(Worksheet!$F$16,BuildingSize,0)+1,FALSE),0)))","v":0},0,0,"",""]
[null,null,"",null,null,null,null,null,null,null,null,null,null,null,null,0,0,0,0,"",0,0,0,0,0,0,0,0,0,0,0,0,0,0,0,0,0,{"$f":"Y459/1000*AA459*AC459*IF(IFERROR(SEARCH(\"Gas\",$A$18),0)>0,VLOOKUP(\"Gas\",HVACg_Lookup,MATCH($F$16,BuildingSize,0)+1,FALSE),IF(IFERROR(SEARCH(\"Oil\",$A$18),0)>0,VLOOKUP(\"Oil\",HVACg_Lookup,MATCH($F$16,BuildingSize,0)+1,FALSE),IF(IFERROR(SEARCH(\"Propane\",$A$18),0)>0,VLOOKUP(\"Propane\",HVACg_Lookup,MATCH(Worksheet!$F$16,BuildingSize,0)+1,FALSE),0)))","v":0},{"$f":"Z459/1000*AA459*AC459*IF(IFERROR(SEARCH(\"Gas\",$A$18),0)>0,VLOOKUP(\"Gas\",HVACg_Lookup,MATCH($F$16,BuildingSize,0)+1,FALSE),IF(IFERROR(SEARCH(\"Oil\",$A$18),0)>0,VLOOKUP(\"Oil\",HVACg_Lookup,MATCH($F$16,BuildingSize,0)+1,FALSE),IF(IFERROR(SEARCH(\"Propane\",$A$18),0)>0,VLOOKUP(\"Propane\",HVACg_Lookup,MATCH(Worksheet!$F$16,BuildingSize,0)+1,FALSE),0)))","v":0},0,0,"",""]
[null,null,"",null,null,null,null,null,null,null,null,null,null,null,null,0,0,0,0,"",0,0,0,0,0,0,0,0,0,0,0,0,0,0,0,0,0,{"$f":"Y460/1000*AA460*AC460*IF(IFERROR(SEARCH(\"Gas\",$A$18),0)>0,VLOOKUP(\"Gas\",HVACg_Lookup,MATCH($F$16,BuildingSize,0)+1,FALSE),IF(IFERROR(SEARCH(\"Oil\",$A$18),0)>0,VLOOKUP(\"Oil\",HVACg_Lookup,MATCH($F$16,BuildingSize,0)+1,FALSE),IF(IFERROR(SEARCH(\"Propane\",$A$18),0)>0,VLOOKUP(\"Propane\",HVACg_Lookup,MATCH(Worksheet!$F$16,BuildingSize,0)+1,FALSE),0)))","v":0},{"$f":"Z460/1000*AA460*AC460*IF(IFERROR(SEARCH(\"Gas\",$A$18),0)>0,VLOOKUP(\"Gas\",HVACg_Lookup,MATCH($F$16,BuildingSize,0)+1,FALSE),IF(IFERROR(SEARCH(\"Oil\",$A$18),0)>0,VLOOKUP(\"Oil\",HVACg_Lookup,MATCH($F$16,BuildingSize,0)+1,FALSE),IF(IFERROR(SEARCH(\"Propane\",$A$18),0)>0,VLOOKUP(\"Propane\",HVACg_Lookup,MATCH(Worksheet!$F$16,BuildingSize,0)+1,FALSE),0)))","v":0},0,0,"",""]
[null,null,"",null,null,null,null,null,null,null,null,null,null,null,null,0,0,0,0,"",0,0,0,0,0,0,0,0,0,0,0,0,0,0,0,0,0,{"$f":"Y461/1000*AA461*AC461*IF(IFERROR(SEARCH(\"Gas\",$A$18),0)>0,VLOOKUP(\"Gas\",HVACg_Lookup,MATCH($F$16,BuildingSize,0)+1,FALSE),IF(IFERROR(SEARCH(\"Oil\",$A$18),0)>0,VLOOKUP(\"Oil\",HVACg_Lookup,MATCH($F$16,BuildingSize,0)+1,FALSE),IF(IFERROR(SEARCH(\"Propane\",$A$18),0)>0,VLOOKUP(\"Propane\",HVACg_Lookup,MATCH(Worksheet!$F$16,BuildingSize,0)+1,FALSE),0)))","v":0},{"$f":"Z461/1000*AA461*AC461*IF(IFERROR(SEARCH(\"Gas\",$A$18),0)>0,VLOOKUP(\"Gas\",HVACg_Lookup,MATCH($F$16,BuildingSize,0)+1,FALSE),IF(IFERROR(SEARCH(\"Oil\",$A$18),0)>0,VLOOKUP(\"Oil\",HVACg_Lookup,MATCH($F$16,BuildingSize,0)+1,FALSE),IF(IFERROR(SEARCH(\"Propane\",$A$18),0)>0,VLOOKUP(\"Propane\",HVACg_Lookup,MATCH(Worksheet!$F$16,BuildingSize,0)+1,FALSE),0)))","v":0},0,0,"",""]
[null,null,"",null,null,null,null,null,null,null,null,null,null,null,null,0,0,0,0,"",0,0,0,0,0,0,0,0,0,0,0,0,0,0,0,0,0,{"$f":"Y462/1000*AA462*AC462*IF(IFERROR(SEARCH(\"Gas\",$A$18),0)>0,VLOOKUP(\"Gas\",HVACg_Lookup,MATCH($F$16,BuildingSize,0)+1,FALSE),IF(IFERROR(SEARCH(\"Oil\",$A$18),0)>0,VLOOKUP(\"Oil\",HVACg_Lookup,MATCH($F$16,BuildingSize,0)+1,FALSE),IF(IFERROR(SEARCH(\"Propane\",$A$18),0)>0,VLOOKUP(\"Propane\",HVACg_Lookup,MATCH(Worksheet!$F$16,BuildingSize,0)+1,FALSE),0)))","v":0},{"$f":"Z462/1000*AA462*AC462*IF(IFERROR(SEARCH(\"Gas\",$A$18),0)>0,VLOOKUP(\"Gas\",HVACg_Lookup,MATCH($F$16,BuildingSize,0)+1,FALSE),IF(IFERROR(SEARCH(\"Oil\",$A$18),0)>0,VLOOKUP(\"Oil\",HVACg_Lookup,MATCH($F$16,BuildingSize,0)+1,FALSE),IF(IFERROR(SEARCH(\"Propane\",$A$18),0)>0,VLOOKUP(\"Propane\",HVACg_Lookup,MATCH(Worksheet!$F$16,BuildingSize,0)+1,FALSE),0)))","v":0},0,0,"",""]
[null,null,"",null,null,null,null,null,null,null,null,null,null,null,null,0,0,0,0,"",0,0,0,0,0,0,0,0,0,0,0,0,0,0,0,0,0,{"$f":"Y463/1000*AA463*AC463*IF(IFERROR(SEARCH(\"Gas\",$A$18),0)>0,VLOOKUP(\"Gas\",HVACg_Lookup,MATCH($F$16,BuildingSize,0)+1,FALSE),IF(IFERROR(SEARCH(\"Oil\",$A$18),0)>0,VLOOKUP(\"Oil\",HVACg_Lookup,MATCH($F$16,BuildingSize,0)+1,FALSE),IF(IFERROR(SEARCH(\"Propane\",$A$18),0)>0,VLOOKUP(\"Propane\",HVACg_Lookup,MATCH(Worksheet!$F$16,BuildingSize,0)+1,FALSE),0)))","v":0},{"$f":"Z463/1000*AA463*AC463*IF(IFERROR(SEARCH(\"Gas\",$A$18),0)>0,VLOOKUP(\"Gas\",HVACg_Lookup,MATCH($F$16,BuildingSize,0)+1,FALSE),IF(IFERROR(SEARCH(\"Oil\",$A$18),0)>0,VLOOKUP(\"Oil\",HVACg_Lookup,MATCH($F$16,BuildingSize,0)+1,FALSE),IF(IFERROR(SEARCH(\"Propane\",$A$18),0)>0,VLOOKUP(\"Propane\",HVACg_Lookup,MATCH(Worksheet!$F$16,BuildingSize,0)+1,FALSE),0)))","v":0},0,0,"",""]
[null,null,"",null,null,null,null,null,null,null,null,null,null,null,null,0,0,0,0,"",0,0,0,0,0,0,0,0,0,0,0,0,0,0,0,0,0,{"$f":"Y464/1000*AA464*AC464*IF(IFERROR(SEARCH(\"Gas\",$A$18),0)>0,VLOOKUP(\"Gas\",HVACg_Lookup,MATCH($F$16,BuildingSize,0)+1,FALSE),IF(IFERROR(SEARCH(\"Oil\",$A$18),0)>0,VLOOKUP(\"Oil\",HVACg_Lookup,MATCH($F$16,BuildingSize,0)+1,FALSE),IF(IFERROR(SEARCH(\"Propane\",$A$18),0)>0,VLOOKUP(\"Propane\",HVACg_Lookup,MATCH(Worksheet!$F$16,BuildingSize,0)+1,FALSE),0)))","v":0},{"$f":"Z464/1000*AA464*AC464*IF(IFERROR(SEARCH(\"Gas\",$A$18),0)>0,VLOOKUP(\"Gas\",HVACg_Lookup,MATCH($F$16,BuildingSize,0)+1,FALSE),IF(IFERROR(SEARCH(\"Oil\",$A$18),0)>0,VLOOKUP(\"Oil\",HVACg_Lookup,MATCH($F$16,BuildingSize,0)+1,FALSE),IF(IFERROR(SEARCH(\"Propane\",$A$18),0)>0,VLOOKUP(\"Propane\",HVACg_Lookup,MATCH(Worksheet!$F$16,BuildingSize,0)+1,FALSE),0)))","v":0},0,0,"",""]
[null,null,"",null,null,null,null,null,null,null,null,null,null,null,null,0,0,0,0,"",0,0,0,0,0,0,0,0,0,0,0,0,0,0,0,0,0,{"$f":"Y465/1000*AA465*AC465*IF(IFERROR(SEARCH(\"Gas\",$A$18),0)>0,VLOOKUP(\"Gas\",HVACg_Lookup,MATCH($F$16,BuildingSize,0)+1,FALSE),IF(IFERROR(SEARCH(\"Oil\",$A$18),0)>0,VLOOKUP(\"Oil\",HVACg_Lookup,MATCH($F$16,BuildingSize,0)+1,FALSE),IF(IFERROR(SEARCH(\"Propane\",$A$18),0)>0,VLOOKUP(\"Propane\",HVACg_Lookup,MATCH(Worksheet!$F$16,BuildingSize,0)+1,FALSE),0)))","v":0},{"$f":"Z465/1000*AA465*AC465*IF(IFERROR(SEARCH(\"Gas\",$A$18),0)>0,VLOOKUP(\"Gas\",HVACg_Lookup,MATCH($F$16,BuildingSize,0)+1,FALSE),IF(IFERROR(SEARCH(\"Oil\",$A$18),0)>0,VLOOKUP(\"Oil\",HVACg_Lookup,MATCH($F$16,BuildingSize,0)+1,FALSE),IF(IFERROR(SEARCH(\"Propane\",$A$18),0)>0,VLOOKUP(\"Propane\",HVACg_Lookup,MATCH(Worksheet!$F$16,BuildingSize,0)+1,FALSE),0)))","v":0},0,0,"",""]
[null,null,"",null,null,null,null,null,null,null,null,null,null,null,null,0,0,0,0,"",0,0,0,0,0,0,0,0,0,0,0,0,0,0,0,0,0,{"$f":"Y466/1000*AA466*AC466*IF(IFERROR(SEARCH(\"Gas\",$A$18),0)>0,VLOOKUP(\"Gas\",HVACg_Lookup,MATCH($F$16,BuildingSize,0)+1,FALSE),IF(IFERROR(SEARCH(\"Oil\",$A$18),0)>0,VLOOKUP(\"Oil\",HVACg_Lookup,MATCH($F$16,BuildingSize,0)+1,FALSE),IF(IFERROR(SEARCH(\"Propane\",$A$18),0)>0,VLOOKUP(\"Propane\",HVACg_Lookup,MATCH(Worksheet!$F$16,BuildingSize,0)+1,FALSE),0)))","v":0},{"$f":"Z466/1000*AA466*AC466*IF(IFERROR(SEARCH(\"Gas\",$A$18),0)>0,VLOOKUP(\"Gas\",HVACg_Lookup,MATCH($F$16,BuildingSize,0)+1,FALSE),IF(IFERROR(SEARCH(\"Oil\",$A$18),0)>0,VLOOKUP(\"Oil\",HVACg_Lookup,MATCH($F$16,BuildingSize,0)+1,FALSE),IF(IFERROR(SEARCH(\"Propane\",$A$18),0)>0,VLOOKUP(\"Propane\",HVACg_Lookup,MATCH(Worksheet!$F$16,BuildingSize,0)+1,FALSE),0)))","v":0},0,0,"",""]
[null,null,"",null,null,null,null,null,null,null,null,null,null,null,null,0,0,0,0,"",0,0,0,0,0,0,0,0,0,0,0,0,0,0,0,0,0,{"$f":"Y467/1000*AA467*AC467*IF(IFERROR(SEARCH(\"Gas\",$A$18),0)>0,VLOOKUP(\"Gas\",HVACg_Lookup,MATCH($F$16,BuildingSize,0)+1,FALSE),IF(IFERROR(SEARCH(\"Oil\",$A$18),0)>0,VLOOKUP(\"Oil\",HVACg_Lookup,MATCH($F$16,BuildingSize,0)+1,FALSE),IF(IFERROR(SEARCH(\"Propane\",$A$18),0)>0,VLOOKUP(\"Propane\",HVACg_Lookup,MATCH(Worksheet!$F$16,BuildingSize,0)+1,FALSE),0)))","v":0},{"$f":"Z467/1000*AA467*AC467*IF(IFERROR(SEARCH(\"Gas\",$A$18),0)>0,VLOOKUP(\"Gas\",HVACg_Lookup,MATCH($F$16,BuildingSize,0)+1,FALSE),IF(IFERROR(SEARCH(\"Oil\",$A$18),0)>0,VLOOKUP(\"Oil\",HVACg_Lookup,MATCH($F$16,BuildingSize,0)+1,FALSE),IF(IFERROR(SEARCH(\"Propane\",$A$18),0)>0,VLOOKUP(\"Propane\",HVACg_Lookup,MATCH(Worksheet!$F$16,BuildingSize,0)+1,FALSE),0)))","v":0},0,0,"",""]
[null,null,"",null,null,null,null,null,null,null,null,null,null,null,null,0,0,0,0,"",0,0,0,0,0,0,0,0,0,0,0,0,0,0,0,0,0,{"$f":"Y468/1000*AA468*AC468*IF(IFERROR(SEARCH(\"Gas\",$A$18),0)>0,VLOOKUP(\"Gas\",HVACg_Lookup,MATCH($F$16,BuildingSize,0)+1,FALSE),IF(IFERROR(SEARCH(\"Oil\",$A$18),0)>0,VLOOKUP(\"Oil\",HVACg_Lookup,MATCH($F$16,BuildingSize,0)+1,FALSE),IF(IFERROR(SEARCH(\"Propane\",$A$18),0)>0,VLOOKUP(\"Propane\",HVACg_Lookup,MATCH(Worksheet!$F$16,BuildingSize,0)+1,FALSE),0)))","v":0},{"$f":"Z468/1000*AA468*AC468*IF(IFERROR(SEARCH(\"Gas\",$A$18),0)>0,VLOOKUP(\"Gas\",HVACg_Lookup,MATCH($F$16,BuildingSize,0)+1,FALSE),IF(IFERROR(SEARCH(\"Oil\",$A$18),0)>0,VLOOKUP(\"Oil\",HVACg_Lookup,MATCH($F$16,BuildingSize,0)+1,FALSE),IF(IFERROR(SEARCH(\"Propane\",$A$18),0)>0,VLOOKUP(\"Propane\",HVACg_Lookup,MATCH(Worksheet!$F$16,BuildingSize,0)+1,FALSE),0)))","v":0},0,0,"",""]
[null,null,"",null,null,null,null,null,null,null,null,null,null,null,null,0,0,0,0,"",0,0,0,0,0,0,0,0,0,0,0,0,0,0,0,0,0,{"$f":"Y469/1000*AA469*AC469*IF(IFERROR(SEARCH(\"Gas\",$A$18),0)>0,VLOOKUP(\"Gas\",HVACg_Lookup,MATCH($F$16,BuildingSize,0)+1,FALSE),IF(IFERROR(SEARCH(\"Oil\",$A$18),0)>0,VLOOKUP(\"Oil\",HVACg_Lookup,MATCH($F$16,BuildingSize,0)+1,FALSE),IF(IFERROR(SEARCH(\"Propane\",$A$18),0)>0,VLOOKUP(\"Propane\",HVACg_Lookup,MATCH(Worksheet!$F$16,BuildingSize,0)+1,FALSE),0)))","v":0},{"$f":"Z469/1000*AA469*AC469*IF(IFERROR(SEARCH(\"Gas\",$A$18),0)>0,VLOOKUP(\"Gas\",HVACg_Lookup,MATCH($F$16,BuildingSize,0)+1,FALSE),IF(IFERROR(SEARCH(\"Oil\",$A$18),0)>0,VLOOKUP(\"Oil\",HVACg_Lookup,MATCH($F$16,BuildingSize,0)+1,FALSE),IF(IFERROR(SEARCH(\"Propane\",$A$18),0)>0,VLOOKUP(\"Propane\",HVACg_Lookup,MATCH(Worksheet!$F$16,BuildingSize,0)+1,FALSE),0)))","v":0},0,0,"",""]
[null,null,"",null,null,null,null,null,null,null,null,null,null,null,null,0,0,0,0,"",0,0,0,0,0,0,0,0,0,0,0,0,0,0,0,0,0,{"$f":"Y470/1000*AA470*AC470*IF(IFERROR(SEARCH(\"Gas\",$A$18),0)>0,VLOOKUP(\"Gas\",HVACg_Lookup,MATCH($F$16,BuildingSize,0)+1,FALSE),IF(IFERROR(SEARCH(\"Oil\",$A$18),0)>0,VLOOKUP(\"Oil\",HVACg_Lookup,MATCH($F$16,BuildingSize,0)+1,FALSE),IF(IFERROR(SEARCH(\"Propane\",$A$18),0)>0,VLOOKUP(\"Propane\",HVACg_Lookup,MATCH(Worksheet!$F$16,BuildingSize,0)+1,FALSE),0)))","v":0},{"$f":"Z470/1000*AA470*AC470*IF(IFERROR(SEARCH(\"Gas\",$A$18),0)>0,VLOOKUP(\"Gas\",HVACg_Lookup,MATCH($F$16,BuildingSize,0)+1,FALSE),IF(IFERROR(SEARCH(\"Oil\",$A$18),0)>0,VLOOKUP(\"Oil\",HVACg_Lookup,MATCH($F$16,BuildingSize,0)+1,FALSE),IF(IFERROR(SEARCH(\"Propane\",$A$18),0)>0,VLOOKUP(\"Propane\",HVACg_Lookup,MATCH(Worksheet!$F$16,BuildingSize,0)+1,FALSE),0)))","v":0},0,0,"",""]
[null,null,"",null,null,null,null,null,null,null,null,null,null,null,null,0,0,0,0,"",0,0,0,0,0,0,0,0,0,0,0,0,0,0,0,0,0,{"$f":"Y471/1000*AA471*AC471*IF(IFERROR(SEARCH(\"Gas\",$A$18),0)>0,VLOOKUP(\"Gas\",HVACg_Lookup,MATCH($F$16,BuildingSize,0)+1,FALSE),IF(IFERROR(SEARCH(\"Oil\",$A$18),0)>0,VLOOKUP(\"Oil\",HVACg_Lookup,MATCH($F$16,BuildingSize,0)+1,FALSE),IF(IFERROR(SEARCH(\"Propane\",$A$18),0)>0,VLOOKUP(\"Propane\",HVACg_Lookup,MATCH(Worksheet!$F$16,BuildingSize,0)+1,FALSE),0)))","v":0},{"$f":"Z471/1000*AA471*AC471*IF(IFERROR(SEARCH(\"Gas\",$A$18),0)>0,VLOOKUP(\"Gas\",HVACg_Lookup,MATCH($F$16,BuildingSize,0)+1,FALSE),IF(IFERROR(SEARCH(\"Oil\",$A$18),0)>0,VLOOKUP(\"Oil\",HVACg_Lookup,MATCH($F$16,BuildingSize,0)+1,FALSE),IF(IFERROR(SEARCH(\"Propane\",$A$18),0)>0,VLOOKUP(\"Propane\",HVACg_Lookup,MATCH(Worksheet!$F$16,BuildingSize,0)+1,FALSE),0)))","v":0},0,0,"",""]
[null,null,"",null,null,null,null,null,null,null,null,null,null,null,null,0,0,{"$f":"IF(AP472=\"\",0,IF(AP472=1,VLOOKUP(A472,MeasureCode_Lookup,3,FALSE),\"DNQ\"))","v":0},{"$f":"IF(AQ472=\"\",0,IF(AQ472=1,VLOOKUP(A472,MeasureCode_Lookup,3,FALSE),\"DNQ\"))","v":0},{"$f":"IF(A472=\"\",\"\",VLOOKUP(A472,MeasureCode_Lookup,4,FALSE))","v":""},0,0,0,0,{"$f":"IF(N(R472)=0,0,F472*P472)","v":0},{"$f":"IF(N(S472)=0,0,G472*Q472)","v":0},{"$f":"IF(A472=\"\",0,VLOOKUP(A472,MeasureCode_Lookup,5,FALSE))","v":0},{"$f":"IF($A$16=\"\",0,VLOOKUP($A$16,BuildingType_Lookup,3,FALSE))","v":0},{"$f":"IF($A$16=\"\",0,VLOOKUP($A$16,BuildingType_Lookup,2,FALSE))","v":0},{"$f":"IF(AND(OR(AP472=\"\",AP472=0)=TRUE,OR(AQ472=\"\",AQ472=0))=TRUE,0,IF(AQ472=\"\",(IF(OR(C472=\"DDC\",C472=\"OHLC\")=TRUE,O472,P472)/1000)*AA472*AB472*(1+VLOOKUP($A$16,BuildingType_Lookup,4,FALSE)),IF(AQ472=0,0,(IF(OR(C472=\"DDC\",C472=\"OHLC\")=TRUE,O472,Q472)/1000)*AA472*AB472*(1+VLOOKUP($A$16,BuildingType_Lookup,4,FALSE)))))","v":0},{"$f":"IF(AND(OR(AP472=\"\",AP472=0)=TRUE,OR(AQ472=\"\",AQ472=0))=TRUE,0,IF(AQ472=\"\",(IF(OR(C472=\"DDC\",C472=\"OHLC\")=TRUE,O472,P472)/1000)*AA472*AC472*(1+VLOOKUP($A$16,BuildingType_Lookup,MATCH($A$18,HVAC,0)+4,FALSE)),IF(AQ472=0,0,(IF(OR(C472=\"DDC\",C472=\"OHLC\")=TRUE,O472,Q472)/1000)*AA472*AC472*(1+VLOOKUP($A$16,BuildingType_Lookup,MATCH($A$18,HVAC,0)+4,FALSE)))))","v":0},{"$f":"IFERROR(IF(OR(C472=\"DDC\",C472=\"OHLC\")=TRUE,F472*J472*AD472,F472*AD472),0)","v":0},{"$f":"IFERROR(IF(OR(C472=\"DDC\",C472=\"OHLC\")=TRUE,G472*K472*AD472,G472*AD472),0)","v":0},{"$f":"IFERROR(IF(OR(C472=\"DDC\",C472=\"OHLC\")=TRUE,F472*J472*AE472,F472*AE472),0)","v":0},{"$f":"IFERROR(IF(OR(C472=\"DDC\",C472=\"OHLC\")=TRUE,G472*K472*AE472,G472*AE472),0)","v":0},0,0,{"$f":"Y472/1000*AA472*AC472*IF(IFERROR(SEARCH(\"Gas\",$A$18),0)>0,VLOOKUP(\"Gas\",HVACg_Lookup,MATCH($F$16,BuildingSize,0)+1,FALSE),IF(IFERROR(SEARCH(\"Oil\",$A$18),0)>0,VLOOKUP(\"Oil\",HVACg_Lookup,MATCH($F$16,BuildingSize,0)+1,FALSE),IF(IFERROR(SEARCH(\"Propane\",$A$18),0)>0,VLOOKUP(\"Propane\",HVACg_Lookup,MATCH(Worksheet!$F$16,BuildingSize,0)+1,FALSE),0)))","v":0},{"$f":"Z472/1000*AA472*AC472*IF(IFERROR(SEARCH(\"Gas\",$A$18),0)>0,VLOOKUP(\"Gas\",HVACg_Lookup,MATCH($F$16,BuildingSize,0)+1,FALSE),IF(IFERROR(SEARCH(\"Oil\",$A$18),0)>0,VLOOKUP(\"Oil\",HVACg_Lookup,MATCH($F$16,BuildingSize,0)+1,FALSE),IF(IFERROR(SEARCH(\"Propane\",$A$18),0)>0,VLOOKUP(\"Propane\",HVACg_Lookup,MATCH(Worksheet!$F$16,BuildingSize,0)+1,FALSE),0)))","v":0},0,0,"",""]
[null,null,{"$f":"IF(A473=\"\",\"\",VLOOKUP(A473,MeasureCode_Lookup,2,FALSE))","v":""},null,null,null,null,null,null,null,null,null,null,null,null,{"$f":"IF(OR(A473=\"\",F473=\"\",J473=\"\",O473=\"\")=TRUE,0,J473*O473)","v":0},{"$f":"IF(OR(A473=\"\",G473=\"\",K473=\"\",O473=\"\")=TRUE,0,K473*O473)","v":0},0,0,"",{"$f":"IF(OR($A$11=TRUE,$A$12=TRUE,$B$11=TRUE,$B$12=TRUE,$C$11=TRUE)=TRUE,R473,0)","v":0},{"$f":"IF(OR($A$11=TRUE,$A$12=TRUE,$B$11=TRUE,$B$12=TRUE,$C$11=TRUE)=TRUE,S473,0)","v":0},{"$f":"IF(N(R473)=0,0,F473*(R473+U473)*IF(T473=\"per Fixture Controlled\",J473,1))","v":0},{"$f":"IF(N(S473)=0,0,G473*(S473+V473)*IF(T473=\"per Fixture Controlled\",K473,1))","v":0},0,0,0,0,0,0,0,0,0,0,0,{"$f":"AH473*8","v":0},{"$f":"AI473*8","v":0},{"$f":"Y473/1000*AA473*AC473*IF(IFERROR(SEARCH(\"Gas\",$A$18),0)>0,VLOOKUP(\"Gas\",HVACg_Lookup,MATCH($F$16,BuildingSize,0)+1,FALSE),IF(IFERROR(SEARCH(\"Oil\",$A$18),0)>0,VLOOKUP(\"Oil\",HVACg_Lookup,MATCH($F$16,BuildingSize,0)+1,FALSE),IF(IFERROR(SEARCH(\"Propane\",$A$18),0)>0,VLOOKUP(\"Propane\",HVACg_Lookup,MATCH(Worksheet!$F$16,BuildingSize,0)+1,FALSE),0)))","v":0},{"$f":"Z473/1000*AA473*AC473*IF(IFERROR(SEARCH(\"Gas\",$A$18),0)>0,VLOOKUP(\"Gas\",HVACg_Lookup,MATCH($F$16,BuildingSize,0)+1,FALSE),IF(IFERROR(SEARCH(\"Oil\",$A$18),0)>0,VLOOKUP(\"Oil\",HVACg_Lookup,MATCH($F$16,BuildingSize,0)+1,FALSE),IF(IFERROR(SEARCH(\"Propane\",$A$18),0)>0,VLOOKUP(\"Propane\",HVACg_Lookup,MATCH(Worksheet!$F$16,BuildingSize,0)+1,FALSE),0)))","v":0},{"$f":"AL473*8","v":0},{"$f":"AM473*8","v":0},{"$f":"IF(OR($B$4=\"\",$B$5=\"\",$A$16=\"\",$F$16=\"\",$A$18=\"\",A473=\"\",F473=\"\",J473=\"\",O473=\"\",P473=\"\")=TRUE,\"\",IF(C473=\"OSW\",IF(J473>=2,1,0),IF(C473=\"OSR\",IF(AND(J473>=2,P473>60)=TRUE,1,0),IF(C473=\"OSRH\",IF(AND(J473>=1,P473>90)=TRUE,1,0),IF(C473=\"OHLC\",IF(AND(N473=\"Y\",P473>60)=TRUE,1,0),IF(C473=\"DDC\",IF(AND(J473>=4,N473=\"Y\",P473>120)=TRUE,1,0),0))))))","v":""},{"$f":"IF(OR($B$4=\"\",$B$5=\"\",$A$16=\"\",$F$16=\"\",$A$18=\"\",A473=\"\",F473=\"\",K473=\"\",O473=\"\",P473=\"\")=TRUE,\"\",IF(C473=\"OSW\",IF(K473>=2,1,0),IF(C473=\"OSR\",IF(AND(K473>=2,Q473>60)=TRUE,1,0),IF(C473=\"OSRH\",IF(AND(K473>=1,Q473>90)=TRUE,1,0),IF(C473=\"OHLC\",IF(AND(N473=\"Y\",Q473>60)=TRUE,1,0),IF(C473=\"DDC\",IF(AND(K473>=4,N473=\"Y\",Q473>120)=TRUE,1,0),0))))))","v":""}]
[null,null,"",null,null,null,null,null,null,null,null,null,null,null,null,0,0,0,0,"",0,0,0,0,0,0,0,0,0,0,0,0,0,0,0,0,0,{"$f":"Y474/1000*AA474*AC474*IF(IFERROR(SEARCH(\"Gas\",$A$18),0)>0,VLOOKUP(\"Gas\",HVACg_Lookup,MATCH($F$16,BuildingSize,0)+1,FALSE),IF(IFERROR(SEARCH(\"Oil\",$A$18),0)>0,VLOOKUP(\"Oil\",HVACg_Lookup,MATCH($F$16,BuildingSize,0)+1,FALSE),IF(IFERROR(SEARCH(\"Propane\",$A$18),0)>0,VLOOKUP(\"Propane\",HVACg_Lookup,MATCH(Worksheet!$F$16,BuildingSize,0)+1,FALSE),0)))","v":0},{"$f":"Z474/1000*AA474*AC474*IF(IFERROR(SEARCH(\"Gas\",$A$18),0)>0,VLOOKUP(\"Gas\",HVACg_Lookup,MATCH($F$16,BuildingSize,0)+1,FALSE),IF(IFERROR(SEARCH(\"Oil\",$A$18),0)>0,VLOOKUP(\"Oil\",HVACg_Lookup,MATCH($F$16,BuildingSize,0)+1,FALSE),IF(IFERROR(SEARCH(\"Propane\",$A$18),0)>0,VLOOKUP(\"Propane\",HVACg_Lookup,MATCH(Worksheet!$F$16,BuildingSize,0)+1,FALSE),0)))","v":0},0,0,"",""]
[null,null,"",null,null,null,null,null,null,null,null,null,null,null,null,0,0,0,0,"",0,0,0,0,0,0,0,0,0,0,0,0,0,0,0,0,0,{"$f":"Y475/1000*AA475*AC475*IF(IFERROR(SEARCH(\"Gas\",$A$18),0)>0,VLOOKUP(\"Gas\",HVACg_Lookup,MATCH($F$16,BuildingSize,0)+1,FALSE),IF(IFERROR(SEARCH(\"Oil\",$A$18),0)>0,VLOOKUP(\"Oil\",HVACg_Lookup,MATCH($F$16,BuildingSize,0)+1,FALSE),IF(IFERROR(SEARCH(\"Propane\",$A$18),0)>0,VLOOKUP(\"Propane\",HVACg_Lookup,MATCH(Worksheet!$F$16,BuildingSize,0)+1,FALSE),0)))","v":0},{"$f":"Z475/1000*AA475*AC475*IF(IFERROR(SEARCH(\"Gas\",$A$18),0)>0,VLOOKUP(\"Gas\",HVACg_Lookup,MATCH($F$16,BuildingSize,0)+1,FALSE),IF(IFERROR(SEARCH(\"Oil\",$A$18),0)>0,VLOOKUP(\"Oil\",HVACg_Lookup,MATCH($F$16,BuildingSize,0)+1,FALSE),IF(IFERROR(SEARCH(\"Propane\",$A$18),0)>0,VLOOKUP(\"Propane\",HVACg_Lookup,MATCH(Worksheet!$F$16,BuildingSize,0)+1,FALSE),0)))","v":0},0,0,"",""]
[null,null,"",null,null,null,null,null,null,null,null,null,null,null,null,0,0,0,0,"",0,0,0,0,0,0,0,0,0,0,0,0,0,0,0,0,0,{"$f":"Y476/1000*AA476*AC476*IF(IFERROR(SEARCH(\"Gas\",$A$18),0)>0,VLOOKUP(\"Gas\",HVACg_Lookup,MATCH($F$16,BuildingSize,0)+1,FALSE),IF(IFERROR(SEARCH(\"Oil\",$A$18),0)>0,VLOOKUP(\"Oil\",HVACg_Lookup,MATCH($F$16,BuildingSize,0)+1,FALSE),IF(IFERROR(SEARCH(\"Propane\",$A$18),0)>0,VLOOKUP(\"Propane\",HVACg_Lookup,MATCH(Worksheet!$F$16,BuildingSize,0)+1,FALSE),0)))","v":0},{"$f":"Z476/1000*AA476*AC476*IF(IFERROR(SEARCH(\"Gas\",$A$18),0)>0,VLOOKUP(\"Gas\",HVACg_Lookup,MATCH($F$16,BuildingSize,0)+1,FALSE),IF(IFERROR(SEARCH(\"Oil\",$A$18),0)>0,VLOOKUP(\"Oil\",HVACg_Lookup,MATCH($F$16,BuildingSize,0)+1,FALSE),IF(IFERROR(SEARCH(\"Propane\",$A$18),0)>0,VLOOKUP(\"Propane\",HVACg_Lookup,MATCH(Worksheet!$F$16,BuildingSize,0)+1,FALSE),0)))","v":0},0,0,"",""]
[null,null,"",null,null,null,null,null,null,null,null,null,null,null,null,0,0,0,0,"",0,0,0,0,0,0,0,0,0,0,0,0,0,0,0,0,0,{"$f":"Y477/1000*AA477*AC477*IF(IFERROR(SEARCH(\"Gas\",$A$18),0)>0,VLOOKUP(\"Gas\",HVACg_Lookup,MATCH($F$16,BuildingSize,0)+1,FALSE),IF(IFERROR(SEARCH(\"Oil\",$A$18),0)>0,VLOOKUP(\"Oil\",HVACg_Lookup,MATCH($F$16,BuildingSize,0)+1,FALSE),IF(IFERROR(SEARCH(\"Propane\",$A$18),0)>0,VLOOKUP(\"Propane\",HVACg_Lookup,MATCH(Worksheet!$F$16,BuildingSize,0)+1,FALSE),0)))","v":0},{"$f":"Z477/1000*AA477*AC477*IF(IFERROR(SEARCH(\"Gas\",$A$18),0)>0,VLOOKUP(\"Gas\",HVACg_Lookup,MATCH($F$16,BuildingSize,0)+1,FALSE),IF(IFERROR(SEARCH(\"Oil\",$A$18),0)>0,VLOOKUP(\"Oil\",HVACg_Lookup,MATCH($F$16,BuildingSize,0)+1,FALSE),IF(IFERROR(SEARCH(\"Propane\",$A$18),0)>0,VLOOKUP(\"Propane\",HVACg_Lookup,MATCH(Worksheet!$F$16,BuildingSize,0)+1,FALSE),0)))","v":0},0,0,"",""]
[null,null,"",null,null,null,null,null,null,null,null,null,null,null,null,0,0,0,0,"",0,0,0,0,0,0,0,0,0,0,0,0,0,0,0,0,0,{"$f":"Y478/1000*AA478*AC478*IF(IFERROR(SEARCH(\"Gas\",$A$18),0)>0,VLOOKUP(\"Gas\",HVACg_Lookup,MATCH($F$16,BuildingSize,0)+1,FALSE),IF(IFERROR(SEARCH(\"Oil\",$A$18),0)>0,VLOOKUP(\"Oil\",HVACg_Lookup,MATCH($F$16,BuildingSize,0)+1,FALSE),IF(IFERROR(SEARCH(\"Propane\",$A$18),0)>0,VLOOKUP(\"Propane\",HVACg_Lookup,MATCH(Worksheet!$F$16,BuildingSize,0)+1,FALSE),0)))","v":0},{"$f":"Z478/1000*AA478*AC478*IF(IFERROR(SEARCH(\"Gas\",$A$18),0)>0,VLOOKUP(\"Gas\",HVACg_Lookup,MATCH($F$16,BuildingSize,0)+1,FALSE),IF(IFERROR(SEARCH(\"Oil\",$A$18),0)>0,VLOOKUP(\"Oil\",HVACg_Lookup,MATCH($F$16,BuildingSize,0)+1,FALSE),IF(IFERROR(SEARCH(\"Propane\",$A$18),0)>0,VLOOKUP(\"Propane\",HVACg_Lookup,MATCH(Worksheet!$F$16,BuildingSize,0)+1,FALSE),0)))","v":0},0,0,"",""]
[null,null,"",null,null,null,null,null,null,null,null,null,null,null,null,0,0,0,0,"",0,0,0,0,0,0,0,0,0,0,0,0,0,0,0,0,0,{"$f":"Y479/1000*AA479*AC479*IF(IFERROR(SEARCH(\"Gas\",$A$18),0)>0,VLOOKUP(\"Gas\",HVACg_Lookup,MATCH($F$16,BuildingSize,0)+1,FALSE),IF(IFERROR(SEARCH(\"Oil\",$A$18),0)>0,VLOOKUP(\"Oil\",HVACg_Lookup,MATCH($F$16,BuildingSize,0)+1,FALSE),IF(IFERROR(SEARCH(\"Propane\",$A$18),0)>0,VLOOKUP(\"Propane\",HVACg_Lookup,MATCH(Worksheet!$F$16,BuildingSize,0)+1,FALSE),0)))","v":0},{"$f":"Z479/1000*AA479*AC479*IF(IFERROR(SEARCH(\"Gas\",$A$18),0)>0,VLOOKUP(\"Gas\",HVACg_Lookup,MATCH($F$16,BuildingSize,0)+1,FALSE),IF(IFERROR(SEARCH(\"Oil\",$A$18),0)>0,VLOOKUP(\"Oil\",HVACg_Lookup,MATCH($F$16,BuildingSize,0)+1,FALSE),IF(IFERROR(SEARCH(\"Propane\",$A$18),0)>0,VLOOKUP(\"Propane\",HVACg_Lookup,MATCH(Worksheet!$F$16,BuildingSize,0)+1,FALSE),0)))","v":0},0,0,"",""]
[null,null,"",null,null,null,null,null,null,null,null,null,null,null,null,0,0,0,0,"",0,0,0,0,0,0,0,0,0,0,0,0,0,0,0,0,0,{"$f":"Y480/1000*AA480*AC480*IF(IFERROR(SEARCH(\"Gas\",$A$18),0)>0,VLOOKUP(\"Gas\",HVACg_Lookup,MATCH($F$16,BuildingSize,0)+1,FALSE),IF(IFERROR(SEARCH(\"Oil\",$A$18),0)>0,VLOOKUP(\"Oil\",HVACg_Lookup,MATCH($F$16,BuildingSize,0)+1,FALSE),IF(IFERROR(SEARCH(\"Propane\",$A$18),0)>0,VLOOKUP(\"Propane\",HVACg_Lookup,MATCH(Worksheet!$F$16,BuildingSize,0)+1,FALSE),0)))","v":0},{"$f":"Z480/1000*AA480*AC480*IF(IFERROR(SEARCH(\"Gas\",$A$18),0)>0,VLOOKUP(\"Gas\",HVACg_Lookup,MATCH($F$16,BuildingSize,0)+1,FALSE),IF(IFERROR(SEARCH(\"Oil\",$A$18),0)>0,VLOOKUP(\"Oil\",HVACg_Lookup,MATCH($F$16,BuildingSize,0)+1,FALSE),IF(IFERROR(SEARCH(\"Propane\",$A$18),0)>0,VLOOKUP(\"Propane\",HVACg_Lookup,MATCH(Worksheet!$F$16,BuildingSize,0)+1,FALSE),0)))","v":0},0,0,"",""]
[null,null,"",null,null,null,null,null,null,null,null,null,null,null,null,0,0,0,0,"",0,0,0,0,0,0,0,0,0,0,0,0,0,0,0,0,0,{"$f":"Y481/1000*AA481*AC481*IF(IFERROR(SEARCH(\"Gas\",$A$18),0)>0,VLOOKUP(\"Gas\",HVACg_Lookup,MATCH($F$16,BuildingSize,0)+1,FALSE),IF(IFERROR(SEARCH(\"Oil\",$A$18),0)>0,VLOOKUP(\"Oil\",HVACg_Lookup,MATCH($F$16,BuildingSize,0)+1,FALSE),IF(IFERROR(SEARCH(\"Propane\",$A$18),0)>0,VLOOKUP(\"Propane\",HVACg_Lookup,MATCH(Worksheet!$F$16,BuildingSize,0)+1,FALSE),0)))","v":0},{"$f":"Z481/1000*AA481*AC481*IF(IFERROR(SEARCH(\"Gas\",$A$18),0)>0,VLOOKUP(\"Gas\",HVACg_Lookup,MATCH($F$16,BuildingSize,0)+1,FALSE),IF(IFERROR(SEARCH(\"Oil\",$A$18),0)>0,VLOOKUP(\"Oil\",HVACg_Lookup,MATCH($F$16,BuildingSize,0)+1,FALSE),IF(IFERROR(SEARCH(\"Propane\",$A$18),0)>0,VLOOKUP(\"Propane\",HVACg_Lookup,MATCH(Worksheet!$F$16,BuildingSize,0)+1,FALSE),0)))","v":0},0,0,"",""]
[null,null,"",null,null,null,null,null,null,null,null,null,null,null,null,0,0,0,0,"",0,0,0,0,0,0,0,0,0,0,0,0,0,0,0,0,0,{"$f":"Y482/1000*AA482*AC482*IF(IFERROR(SEARCH(\"Gas\",$A$18),0)>0,VLOOKUP(\"Gas\",HVACg_Lookup,MATCH($F$16,BuildingSize,0)+1,FALSE),IF(IFERROR(SEARCH(\"Oil\",$A$18),0)>0,VLOOKUP(\"Oil\",HVACg_Lookup,MATCH($F$16,BuildingSize,0)+1,FALSE),IF(IFERROR(SEARCH(\"Propane\",$A$18),0)>0,VLOOKUP(\"Propane\",HVACg_Lookup,MATCH(Worksheet!$F$16,BuildingSize,0)+1,FALSE),0)))","v":0},{"$f":"Z482/1000*AA482*AC482*IF(IFERROR(SEARCH(\"Gas\",$A$18),0)>0,VLOOKUP(\"Gas\",HVACg_Lookup,MATCH($F$16,BuildingSize,0)+1,FALSE),IF(IFERROR(SEARCH(\"Oil\",$A$18),0)>0,VLOOKUP(\"Oil\",HVACg_Lookup,MATCH($F$16,BuildingSize,0)+1,FALSE),IF(IFERROR(SEARCH(\"Propane\",$A$18),0)>0,VLOOKUP(\"Propane\",HVACg_Lookup,MATCH(Worksheet!$F$16,BuildingSize,0)+1,FALSE),0)))","v":0},0,0,"",""]
[null,null,"",null,null,null,null,null,null,null,null,null,null,null,null,0,0,0,0,"",0,0,0,0,0,0,0,0,0,0,0,0,0,0,0,0,0,{"$f":"Y483/1000*AA483*AC483*IF(IFERROR(SEARCH(\"Gas\",$A$18),0)>0,VLOOKUP(\"Gas\",HVACg_Lookup,MATCH($F$16,BuildingSize,0)+1,FALSE),IF(IFERROR(SEARCH(\"Oil\",$A$18),0)>0,VLOOKUP(\"Oil\",HVACg_Lookup,MATCH($F$16,BuildingSize,0)+1,FALSE),IF(IFERROR(SEARCH(\"Propane\",$A$18),0)>0,VLOOKUP(\"Propane\",HVACg_Lookup,MATCH(Worksheet!$F$16,BuildingSize,0)+1,FALSE),0)))","v":0},{"$f":"Z483/1000*AA483*AC483*IF(IFERROR(SEARCH(\"Gas\",$A$18),0)>0,VLOOKUP(\"Gas\",HVACg_Lookup,MATCH($F$16,BuildingSize,0)+1,FALSE),IF(IFERROR(SEARCH(\"Oil\",$A$18),0)>0,VLOOKUP(\"Oil\",HVACg_Lookup,MATCH($F$16,BuildingSize,0)+1,FALSE),IF(IFERROR(SEARCH(\"Propane\",$A$18),0)>0,VLOOKUP(\"Propane\",HVACg_Lookup,MATCH(Worksheet!$F$16,BuildingSize,0)+1,FALSE),0)))","v":0},0,0,"",""]
[null,null,"",null,null,null,null,null,null,null,null,null,null,null,null,0,0,0,0,"",0,0,0,0,0,0,0,0,0,0,0,0,0,0,0,0,0,{"$f":"Y484/1000*AA484*AC484*IF(IFERROR(SEARCH(\"Gas\",$A$18),0)>0,VLOOKUP(\"Gas\",HVACg_Lookup,MATCH($F$16,BuildingSize,0)+1,FALSE),IF(IFERROR(SEARCH(\"Oil\",$A$18),0)>0,VLOOKUP(\"Oil\",HVACg_Lookup,MATCH($F$16,BuildingSize,0)+1,FALSE),IF(IFERROR(SEARCH(\"Propane\",$A$18),0)>0,VLOOKUP(\"Propane\",HVACg_Lookup,MATCH(Worksheet!$F$16,BuildingSize,0)+1,FALSE),0)))","v":0},{"$f":"Z484/1000*AA484*AC484*IF(IFERROR(SEARCH(\"Gas\",$A$18),0)>0,VLOOKUP(\"Gas\",HVACg_Lookup,MATCH($F$16,BuildingSize,0)+1,FALSE),IF(IFERROR(SEARCH(\"Oil\",$A$18),0)>0,VLOOKUP(\"Oil\",HVACg_Lookup,MATCH($F$16,BuildingSize,0)+1,FALSE),IF(IFERROR(SEARCH(\"Propane\",$A$18),0)>0,VLOOKUP(\"Propane\",HVACg_Lookup,MATCH(Worksheet!$F$16,BuildingSize,0)+1,FALSE),0)))","v":0},0,0,"",""]
[null,null,"",null,null,null,null,null,null,null,null,null,null,null,null,0,0,0,0,"",0,0,0,0,0,0,0,0,0,0,0,0,0,0,0,0,0,{"$f":"Y485/1000*AA485*AC485*IF(IFERROR(SEARCH(\"Gas\",$A$18),0)>0,VLOOKUP(\"Gas\",HVACg_Lookup,MATCH($F$16,BuildingSize,0)+1,FALSE),IF(IFERROR(SEARCH(\"Oil\",$A$18),0)>0,VLOOKUP(\"Oil\",HVACg_Lookup,MATCH($F$16,BuildingSize,0)+1,FALSE),IF(IFERROR(SEARCH(\"Propane\",$A$18),0)>0,VLOOKUP(\"Propane\",HVACg_Lookup,MATCH(Worksheet!$F$16,BuildingSize,0)+1,FALSE),0)))","v":0},{"$f":"Z485/1000*AA485*AC485*IF(IFERROR(SEARCH(\"Gas\",$A$18),0)>0,VLOOKUP(\"Gas\",HVACg_Lookup,MATCH($F$16,BuildingSize,0)+1,FALSE),IF(IFERROR(SEARCH(\"Oil\",$A$18),0)>0,VLOOKUP(\"Oil\",HVACg_Lookup,MATCH($F$16,BuildingSize,0)+1,FALSE),IF(IFERROR(SEARCH(\"Propane\",$A$18),0)>0,VLOOKUP(\"Propane\",HVACg_Lookup,MATCH(Worksheet!$F$16,BuildingSize,0)+1,FALSE),0)))","v":0},0,0,"",""]
[null,null,"",null,null,null,null,null,null,null,null,null,null,null,null,0,0,0,0,"",0,0,0,0,0,0,0,0,0,0,0,0,0,0,0,0,0,{"$f":"Y486/1000*AA486*AC486*IF(IFERROR(SEARCH(\"Gas\",$A$18),0)>0,VLOOKUP(\"Gas\",HVACg_Lookup,MATCH($F$16,BuildingSize,0)+1,FALSE),IF(IFERROR(SEARCH(\"Oil\",$A$18),0)>0,VLOOKUP(\"Oil\",HVACg_Lookup,MATCH($F$16,BuildingSize,0)+1,FALSE),IF(IFERROR(SEARCH(\"Propane\",$A$18),0)>0,VLOOKUP(\"Propane\",HVACg_Lookup,MATCH(Worksheet!$F$16,BuildingSize,0)+1,FALSE),0)))","v":0},{"$f":"Z486/1000*AA486*AC486*IF(IFERROR(SEARCH(\"Gas\",$A$18),0)>0,VLOOKUP(\"Gas\",HVACg_Lookup,MATCH($F$16,BuildingSize,0)+1,FALSE),IF(IFERROR(SEARCH(\"Oil\",$A$18),0)>0,VLOOKUP(\"Oil\",HVACg_Lookup,MATCH($F$16,BuildingSize,0)+1,FALSE),IF(IFERROR(SEARCH(\"Propane\",$A$18),0)>0,VLOOKUP(\"Propane\",HVACg_Lookup,MATCH(Worksheet!$F$16,BuildingSize,0)+1,FALSE),0)))","v":0},0,0,"",""]
[null,null,"",null,null,null,null,null,null,null,null,null,null,null,null,0,0,0,0,"",0,0,0,0,0,0,0,0,0,0,0,0,0,0,0,0,0,{"$f":"Y487/1000*AA487*AC487*IF(IFERROR(SEARCH(\"Gas\",$A$18),0)>0,VLOOKUP(\"Gas\",HVACg_Lookup,MATCH($F$16,BuildingSize,0)+1,FALSE),IF(IFERROR(SEARCH(\"Oil\",$A$18),0)>0,VLOOKUP(\"Oil\",HVACg_Lookup,MATCH($F$16,BuildingSize,0)+1,FALSE),IF(IFERROR(SEARCH(\"Propane\",$A$18),0)>0,VLOOKUP(\"Propane\",HVACg_Lookup,MATCH(Worksheet!$F$16,BuildingSize,0)+1,FALSE),0)))","v":0},{"$f":"Z487/1000*AA487*AC487*IF(IFERROR(SEARCH(\"Gas\",$A$18),0)>0,VLOOKUP(\"Gas\",HVACg_Lookup,MATCH($F$16,BuildingSize,0)+1,FALSE),IF(IFERROR(SEARCH(\"Oil\",$A$18),0)>0,VLOOKUP(\"Oil\",HVACg_Lookup,MATCH($F$16,BuildingSize,0)+1,FALSE),IF(IFERROR(SEARCH(\"Propane\",$A$18),0)>0,VLOOKUP(\"Propane\",HVACg_Lookup,MATCH(Worksheet!$F$16,BuildingSize,0)+1,FALSE),0)))","v":0},0,0,"",""]
[null,null,"",null,null,null,null,null,null,null,null,null,null,null,null,0,0,0,0,"",0,0,0,0,0,0,0,0,0,0,0,0,0,0,0,0,0,{"$f":"Y488/1000*AA488*AC488*IF(IFERROR(SEARCH(\"Gas\",$A$18),0)>0,VLOOKUP(\"Gas\",HVACg_Lookup,MATCH($F$16,BuildingSize,0)+1,FALSE),IF(IFERROR(SEARCH(\"Oil\",$A$18),0)>0,VLOOKUP(\"Oil\",HVACg_Lookup,MATCH($F$16,BuildingSize,0)+1,FALSE),IF(IFERROR(SEARCH(\"Propane\",$A$18),0)>0,VLOOKUP(\"Propane\",HVACg_Lookup,MATCH(Worksheet!$F$16,BuildingSize,0)+1,FALSE),0)))","v":0},{"$f":"Z488/1000*AA488*AC488*IF(IFERROR(SEARCH(\"Gas\",$A$18),0)>0,VLOOKUP(\"Gas\",HVACg_Lookup,MATCH($F$16,BuildingSize,0)+1,FALSE),IF(IFERROR(SEARCH(\"Oil\",$A$18),0)>0,VLOOKUP(\"Oil\",HVACg_Lookup,MATCH($F$16,BuildingSize,0)+1,FALSE),IF(IFERROR(SEARCH(\"Propane\",$A$18),0)>0,VLOOKUP(\"Propane\",HVACg_Lookup,MATCH(Worksheet!$F$16,BuildingSize,0)+1,FALSE),0)))","v":0},0,0,"",""]
[null,null,"",null,null,null,null,null,null,null,null,null,null,null,null,0,0,0,0,"",0,0,0,0,0,0,0,0,0,0,0,0,0,0,0,0,0,{"$f":"Y489/1000*AA489*AC489*IF(IFERROR(SEARCH(\"Gas\",$A$18),0)>0,VLOOKUP(\"Gas\",HVACg_Lookup,MATCH($F$16,BuildingSize,0)+1,FALSE),IF(IFERROR(SEARCH(\"Oil\",$A$18),0)>0,VLOOKUP(\"Oil\",HVACg_Lookup,MATCH($F$16,BuildingSize,0)+1,FALSE),IF(IFERROR(SEARCH(\"Propane\",$A$18),0)>0,VLOOKUP(\"Propane\",HVACg_Lookup,MATCH(Worksheet!$F$16,BuildingSize,0)+1,FALSE),0)))","v":0},{"$f":"Z489/1000*AA489*AC489*IF(IFERROR(SEARCH(\"Gas\",$A$18),0)>0,VLOOKUP(\"Gas\",HVACg_Lookup,MATCH($F$16,BuildingSize,0)+1,FALSE),IF(IFERROR(SEARCH(\"Oil\",$A$18),0)>0,VLOOKUP(\"Oil\",HVACg_Lookup,MATCH($F$16,BuildingSize,0)+1,FALSE),IF(IFERROR(SEARCH(\"Propane\",$A$18),0)>0,VLOOKUP(\"Propane\",HVACg_Lookup,MATCH(Worksheet!$F$16,BuildingSize,0)+1,FALSE),0)))","v":0},0,0,"",""]
[null,null,"",null,null,null,null,null,null,null,null,null,null,null,null,0,0,0,0,"",0,0,0,0,0,0,0,0,0,0,0,0,0,0,0,0,0,{"$f":"Y490/1000*AA490*AC490*IF(IFERROR(SEARCH(\"Gas\",$A$18),0)>0,VLOOKUP(\"Gas\",HVACg_Lookup,MATCH($F$16,BuildingSize,0)+1,FALSE),IF(IFERROR(SEARCH(\"Oil\",$A$18),0)>0,VLOOKUP(\"Oil\",HVACg_Lookup,MATCH($F$16,BuildingSize,0)+1,FALSE),IF(IFERROR(SEARCH(\"Propane\",$A$18),0)>0,VLOOKUP(\"Propane\",HVACg_Lookup,MATCH(Worksheet!$F$16,BuildingSize,0)+1,FALSE),0)))","v":0},{"$f":"Z490/1000*AA490*AC490*IF(IFERROR(SEARCH(\"Gas\",$A$18),0)>0,VLOOKUP(\"Gas\",HVACg_Lookup,MATCH($F$16,BuildingSize,0)+1,FALSE),IF(IFERROR(SEARCH(\"Oil\",$A$18),0)>0,VLOOKUP(\"Oil\",HVACg_Lookup,MATCH($F$16,BuildingSize,0)+1,FALSE),IF(IFERROR(SEARCH(\"Propane\",$A$18),0)>0,VLOOKUP(\"Propane\",HVACg_Lookup,MATCH(Worksheet!$F$16,BuildingSize,0)+1,FALSE),0)))","v":0},0,0,"",""]
[null,null,"",null,null,null,null,null,null,null,null,null,null,null,null,0,0,0,0,"",0,0,0,0,0,0,0,0,0,0,0,0,0,0,0,0,0,{"$f":"Y491/1000*AA491*AC491*IF(IFERROR(SEARCH(\"Gas\",$A$18),0)>0,VLOOKUP(\"Gas\",HVACg_Lookup,MATCH($F$16,BuildingSize,0)+1,FALSE),IF(IFERROR(SEARCH(\"Oil\",$A$18),0)>0,VLOOKUP(\"Oil\",HVACg_Lookup,MATCH($F$16,BuildingSize,0)+1,FALSE),IF(IFERROR(SEARCH(\"Propane\",$A$18),0)>0,VLOOKUP(\"Propane\",HVACg_Lookup,MATCH(Worksheet!$F$16,BuildingSize,0)+1,FALSE),0)))","v":0},{"$f":"Z491/1000*AA491*AC491*IF(IFERROR(SEARCH(\"Gas\",$A$18),0)>0,VLOOKUP(\"Gas\",HVACg_Lookup,MATCH($F$16,BuildingSize,0)+1,FALSE),IF(IFERROR(SEARCH(\"Oil\",$A$18),0)>0,VLOOKUP(\"Oil\",HVACg_Lookup,MATCH($F$16,BuildingSize,0)+1,FALSE),IF(IFERROR(SEARCH(\"Propane\",$A$18),0)>0,VLOOKUP(\"Propane\",HVACg_Lookup,MATCH(Worksheet!$F$16,BuildingSize,0)+1,FALSE),0)))","v":0},0,0,"",""]
[null,null,"",null,null,null,null,null,null,null,null,null,null,null,null,0,0,0,0,"",0,0,0,0,0,0,0,0,0,0,0,0,0,0,0,0,0,{"$f":"Y492/1000*AA492*AC492*IF(IFERROR(SEARCH(\"Gas\",$A$18),0)>0,VLOOKUP(\"Gas\",HVACg_Lookup,MATCH($F$16,BuildingSize,0)+1,FALSE),IF(IFERROR(SEARCH(\"Oil\",$A$18),0)>0,VLOOKUP(\"Oil\",HVACg_Lookup,MATCH($F$16,BuildingSize,0)+1,FALSE),IF(IFERROR(SEARCH(\"Propane\",$A$18),0)>0,VLOOKUP(\"Propane\",HVACg_Lookup,MATCH(Worksheet!$F$16,BuildingSize,0)+1,FALSE),0)))","v":0},{"$f":"Z492/1000*AA492*AC492*IF(IFERROR(SEARCH(\"Gas\",$A$18),0)>0,VLOOKUP(\"Gas\",HVACg_Lookup,MATCH($F$16,BuildingSize,0)+1,FALSE),IF(IFERROR(SEARCH(\"Oil\",$A$18),0)>0,VLOOKUP(\"Oil\",HVACg_Lookup,MATCH($F$16,BuildingSize,0)+1,FALSE),IF(IFERROR(SEARCH(\"Propane\",$A$18),0)>0,VLOOKUP(\"Propane\",HVACg_Lookup,MATCH(Worksheet!$F$16,BuildingSize,0)+1,FALSE),0)))","v":0},0,0,"",""]
[null,null,"",null,null,null,null,null,null,null,null,null,null,null,null,0,0,0,0,"",0,0,0,0,0,0,0,0,0,0,0,0,0,0,0,0,0,{"$f":"Y493/1000*AA493*AC493*IF(IFERROR(SEARCH(\"Gas\",$A$18),0)>0,VLOOKUP(\"Gas\",HVACg_Lookup,MATCH($F$16,BuildingSize,0)+1,FALSE),IF(IFERROR(SEARCH(\"Oil\",$A$18),0)>0,VLOOKUP(\"Oil\",HVACg_Lookup,MATCH($F$16,BuildingSize,0)+1,FALSE),IF(IFERROR(SEARCH(\"Propane\",$A$18),0)>0,VLOOKUP(\"Propane\",HVACg_Lookup,MATCH(Worksheet!$F$16,BuildingSize,0)+1,FALSE),0)))","v":0},{"$f":"Z493/1000*AA493*AC493*IF(IFERROR(SEARCH(\"Gas\",$A$18),0)>0,VLOOKUP(\"Gas\",HVACg_Lookup,MATCH($F$16,BuildingSize,0)+1,FALSE),IF(IFERROR(SEARCH(\"Oil\",$A$18),0)>0,VLOOKUP(\"Oil\",HVACg_Lookup,MATCH($F$16,BuildingSize,0)+1,FALSE),IF(IFERROR(SEARCH(\"Propane\",$A$18),0)>0,VLOOKUP(\"Propane\",HVACg_Lookup,MATCH(Worksheet!$F$16,BuildingSize,0)+1,FALSE),0)))","v":0},0,0,"",""]
[null,null,"",null,null,null,null,null,null,null,null,null,null,null,null,0,0,0,0,"",0,0,0,0,0,0,0,0,0,0,0,0,0,0,0,0,0,{"$f":"Y494/1000*AA494*AC494*IF(IFERROR(SEARCH(\"Gas\",$A$18),0)>0,VLOOKUP(\"Gas\",HVACg_Lookup,MATCH($F$16,BuildingSize,0)+1,FALSE),IF(IFERROR(SEARCH(\"Oil\",$A$18),0)>0,VLOOKUP(\"Oil\",HVACg_Lookup,MATCH($F$16,BuildingSize,0)+1,FALSE),IF(IFERROR(SEARCH(\"Propane\",$A$18),0)>0,VLOOKUP(\"Propane\",HVACg_Lookup,MATCH(Worksheet!$F$16,BuildingSize,0)+1,FALSE),0)))","v":0},{"$f":"Z494/1000*AA494*AC494*IF(IFERROR(SEARCH(\"Gas\",$A$18),0)>0,VLOOKUP(\"Gas\",HVACg_Lookup,MATCH($F$16,BuildingSize,0)+1,FALSE),IF(IFERROR(SEARCH(\"Oil\",$A$18),0)>0,VLOOKUP(\"Oil\",HVACg_Lookup,MATCH($F$16,BuildingSize,0)+1,FALSE),IF(IFERROR(SEARCH(\"Propane\",$A$18),0)>0,VLOOKUP(\"Propane\",HVACg_Lookup,MATCH(Worksheet!$F$16,BuildingSize,0)+1,FALSE),0)))","v":0},0,0,"",""]
[null,null,"",null,null,null,null,null,null,null,null,null,null,null,null,0,0,0,0,"",0,0,0,0,0,0,0,0,0,0,0,0,0,0,0,0,0,{"$f":"Y495/1000*AA495*AC495*IF(IFERROR(SEARCH(\"Gas\",$A$18),0)>0,VLOOKUP(\"Gas\",HVACg_Lookup,MATCH($F$16,BuildingSize,0)+1,FALSE),IF(IFERROR(SEARCH(\"Oil\",$A$18),0)>0,VLOOKUP(\"Oil\",HVACg_Lookup,MATCH($F$16,BuildingSize,0)+1,FALSE),IF(IFERROR(SEARCH(\"Propane\",$A$18),0)>0,VLOOKUP(\"Propane\",HVACg_Lookup,MATCH(Worksheet!$F$16,BuildingSize,0)+1,FALSE),0)))","v":0},{"$f":"Z495/1000*AA495*AC495*IF(IFERROR(SEARCH(\"Gas\",$A$18),0)>0,VLOOKUP(\"Gas\",HVACg_Lookup,MATCH($F$16,BuildingSize,0)+1,FALSE),IF(IFERROR(SEARCH(\"Oil\",$A$18),0)>0,VLOOKUP(\"Oil\",HVACg_Lookup,MATCH($F$16,BuildingSize,0)+1,FALSE),IF(IFERROR(SEARCH(\"Propane\",$A$18),0)>0,VLOOKUP(\"Propane\",HVACg_Lookup,MATCH(Worksheet!$F$16,BuildingSize,0)+1,FALSE),0)))","v":0},0,0,"",""]
[null,null,"",null,null,null,null,null,null,null,null,null,null,null,null,0,0,0,0,"",0,0,0,0,0,0,0,0,0,0,0,0,0,0,0,0,0,{"$f":"Y496/1000*AA496*AC496*IF(IFERROR(SEARCH(\"Gas\",$A$18),0)>0,VLOOKUP(\"Gas\",HVACg_Lookup,MATCH($F$16,BuildingSize,0)+1,FALSE),IF(IFERROR(SEARCH(\"Oil\",$A$18),0)>0,VLOOKUP(\"Oil\",HVACg_Lookup,MATCH($F$16,BuildingSize,0)+1,FALSE),IF(IFERROR(SEARCH(\"Propane\",$A$18),0)>0,VLOOKUP(\"Propane\",HVACg_Lookup,MATCH(Worksheet!$F$16,BuildingSize,0)+1,FALSE),0)))","v":0},{"$f":"Z496/1000*AA496*AC496*IF(IFERROR(SEARCH(\"Gas\",$A$18),0)>0,VLOOKUP(\"Gas\",HVACg_Lookup,MATCH($F$16,BuildingSize,0)+1,FALSE),IF(IFERROR(SEARCH(\"Oil\",$A$18),0)>0,VLOOKUP(\"Oil\",HVACg_Lookup,MATCH($F$16,BuildingSize,0)+1,FALSE),IF(IFERROR(SEARCH(\"Propane\",$A$18),0)>0,VLOOKUP(\"Propane\",HVACg_Lookup,MATCH(Worksheet!$F$16,BuildingSize,0)+1,FALSE),0)))","v":0},0,0,"",""]
[null,null,"",null,null,null,null,null,null,null,null,null,null,null,null,0,0,0,0,"",0,0,0,0,0,0,0,0,0,0,0,0,0,0,0,0,0,{"$f":"Y497/1000*AA497*AC497*IF(IFERROR(SEARCH(\"Gas\",$A$18),0)>0,VLOOKUP(\"Gas\",HVACg_Lookup,MATCH($F$16,BuildingSize,0)+1,FALSE),IF(IFERROR(SEARCH(\"Oil\",$A$18),0)>0,VLOOKUP(\"Oil\",HVACg_Lookup,MATCH($F$16,BuildingSize,0)+1,FALSE),IF(IFERROR(SEARCH(\"Propane\",$A$18),0)>0,VLOOKUP(\"Propane\",HVACg_Lookup,MATCH(Worksheet!$F$16,BuildingSize,0)+1,FALSE),0)))","v":0},{"$f":"Z497/1000*AA497*AC497*IF(IFERROR(SEARCH(\"Gas\",$A$18),0)>0,VLOOKUP(\"Gas\",HVACg_Lookup,MATCH($F$16,BuildingSize,0)+1,FALSE),IF(IFERROR(SEARCH(\"Oil\",$A$18),0)>0,VLOOKUP(\"Oil\",HVACg_Lookup,MATCH($F$16,BuildingSize,0)+1,FALSE),IF(IFERROR(SEARCH(\"Propane\",$A$18),0)>0,VLOOKUP(\"Propane\",HVACg_Lookup,MATCH(Worksheet!$F$16,BuildingSize,0)+1,FALSE),0)))","v":0},0,0,"",""]
[null,null,"",null,null,null,null,null,null,null,null,null,null,null,null,0,0,0,0,"",0,0,0,0,0,0,0,0,0,0,0,0,0,0,0,0,0,{"$f":"Y498/1000*AA498*AC498*IF(IFERROR(SEARCH(\"Gas\",$A$18),0)>0,VLOOKUP(\"Gas\",HVACg_Lookup,MATCH($F$16,BuildingSize,0)+1,FALSE),IF(IFERROR(SEARCH(\"Oil\",$A$18),0)>0,VLOOKUP(\"Oil\",HVACg_Lookup,MATCH($F$16,BuildingSize,0)+1,FALSE),IF(IFERROR(SEARCH(\"Propane\",$A$18),0)>0,VLOOKUP(\"Propane\",HVACg_Lookup,MATCH(Worksheet!$F$16,BuildingSize,0)+1,FALSE),0)))","v":0},{"$f":"Z498/1000*AA498*AC498*IF(IFERROR(SEARCH(\"Gas\",$A$18),0)>0,VLOOKUP(\"Gas\",HVACg_Lookup,MATCH($F$16,BuildingSize,0)+1,FALSE),IF(IFERROR(SEARCH(\"Oil\",$A$18),0)>0,VLOOKUP(\"Oil\",HVACg_Lookup,MATCH($F$16,BuildingSize,0)+1,FALSE),IF(IFERROR(SEARCH(\"Propane\",$A$18),0)>0,VLOOKUP(\"Propane\",HVACg_Lookup,MATCH(Worksheet!$F$16,BuildingSize,0)+1,FALSE),0)))","v":0},0,0,"",""]
[null,null,"",null,null,null,null,null,null,null,null,null,null,null,null,0,0,0,0,"",0,0,0,0,0,0,0,0,0,0,0,0,0,0,0,0,0,{"$f":"Y499/1000*AA499*AC499*IF(IFERROR(SEARCH(\"Gas\",$A$18),0)>0,VLOOKUP(\"Gas\",HVACg_Lookup,MATCH($F$16,BuildingSize,0)+1,FALSE),IF(IFERROR(SEARCH(\"Oil\",$A$18),0)>0,VLOOKUP(\"Oil\",HVACg_Lookup,MATCH($F$16,BuildingSize,0)+1,FALSE),IF(IFERROR(SEARCH(\"Propane\",$A$18),0)>0,VLOOKUP(\"Propane\",HVACg_Lookup,MATCH(Worksheet!$F$16,BuildingSize,0)+1,FALSE),0)))","v":0},{"$f":"Z499/1000*AA499*AC499*IF(IFERROR(SEARCH(\"Gas\",$A$18),0)>0,VLOOKUP(\"Gas\",HVACg_Lookup,MATCH($F$16,BuildingSize,0)+1,FALSE),IF(IFERROR(SEARCH(\"Oil\",$A$18),0)>0,VLOOKUP(\"Oil\",HVACg_Lookup,MATCH($F$16,BuildingSize,0)+1,FALSE),IF(IFERROR(SEARCH(\"Propane\",$A$18),0)>0,VLOOKUP(\"Propane\",HVACg_Lookup,MATCH(Worksheet!$F$16,BuildingSize,0)+1,FALSE),0)))","v":0},0,0,"",""]
[null,null,"",null,null,null,null,null,null,null,null,null,null,null,null,0,0,0,0,"",0,0,0,0,0,0,0,0,0,0,0,0,0,0,0,0,0,{"$f":"Y500/1000*AA500*AC500*IF(IFERROR(SEARCH(\"Gas\",$A$18),0)>0,VLOOKUP(\"Gas\",HVACg_Lookup,MATCH($F$16,BuildingSize,0)+1,FALSE),IF(IFERROR(SEARCH(\"Oil\",$A$18),0)>0,VLOOKUP(\"Oil\",HVACg_Lookup,MATCH($F$16,BuildingSize,0)+1,FALSE),IF(IFERROR(SEARCH(\"Propane\",$A$18),0)>0,VLOOKUP(\"Propane\",HVACg_Lookup,MATCH(Worksheet!$F$16,BuildingSize,0)+1,FALSE),0)))","v":0},{"$f":"Z500/1000*AA500*AC500*IF(IFERROR(SEARCH(\"Gas\",$A$18),0)>0,VLOOKUP(\"Gas\",HVACg_Lookup,MATCH($F$16,BuildingSize,0)+1,FALSE),IF(IFERROR(SEARCH(\"Oil\",$A$18),0)>0,VLOOKUP(\"Oil\",HVACg_Lookup,MATCH($F$16,BuildingSize,0)+1,FALSE),IF(IFERROR(SEARCH(\"Propane\",$A$18),0)>0,VLOOKUP(\"Propane\",HVACg_Lookup,MATCH(Worksheet!$F$16,BuildingSize,0)+1,FALSE),0)))","v":0},0,0,"",""]
[null,null,"",null,null,null,null,null,null,null,null,null,null,null,null,0,0,0,0,"",0,0,0,0,0,0,0,0,0,0,0,0,0,0,0,0,0,{"$f":"Y501/1000*AA501*AC501*IF(IFERROR(SEARCH(\"Gas\",$A$18),0)>0,VLOOKUP(\"Gas\",HVACg_Lookup,MATCH($F$16,BuildingSize,0)+1,FALSE),IF(IFERROR(SEARCH(\"Oil\",$A$18),0)>0,VLOOKUP(\"Oil\",HVACg_Lookup,MATCH($F$16,BuildingSize,0)+1,FALSE),IF(IFERROR(SEARCH(\"Propane\",$A$18),0)>0,VLOOKUP(\"Propane\",HVACg_Lookup,MATCH(Worksheet!$F$16,BuildingSize,0)+1,FALSE),0)))","v":0},{"$f":"Z501/1000*AA501*AC501*IF(IFERROR(SEARCH(\"Gas\",$A$18),0)>0,VLOOKUP(\"Gas\",HVACg_Lookup,MATCH($F$16,BuildingSize,0)+1,FALSE),IF(IFERROR(SEARCH(\"Oil\",$A$18),0)>0,VLOOKUP(\"Oil\",HVACg_Lookup,MATCH($F$16,BuildingSize,0)+1,FALSE),IF(IFERROR(SEARCH(\"Propane\",$A$18),0)>0,VLOOKUP(\"Propane\",HVACg_Lookup,MATCH(Worksheet!$F$16,BuildingSize,0)+1,FALSE),0)))","v":0},0,0,"",""]
[null,null,"",null,null,null,null,null,null,null,null,null,null,null,null,0,0,0,0,"",0,0,0,0,0,0,0,0,0,0,0,0,0,0,0,0,0,{"$f":"Y502/1000*AA502*AC502*IF(IFERROR(SEARCH(\"Gas\",$A$18),0)>0,VLOOKUP(\"Gas\",HVACg_Lookup,MATCH($F$16,BuildingSize,0)+1,FALSE),IF(IFERROR(SEARCH(\"Oil\",$A$18),0)>0,VLOOKUP(\"Oil\",HVACg_Lookup,MATCH($F$16,BuildingSize,0)+1,FALSE),IF(IFERROR(SEARCH(\"Propane\",$A$18),0)>0,VLOOKUP(\"Propane\",HVACg_Lookup,MATCH(Worksheet!$F$16,BuildingSize,0)+1,FALSE),0)))","v":0},{"$f":"Z502/1000*AA502*AC502*IF(IFERROR(SEARCH(\"Gas\",$A$18),0)>0,VLOOKUP(\"Gas\",HVACg_Lookup,MATCH($F$16,BuildingSize,0)+1,FALSE),IF(IFERROR(SEARCH(\"Oil\",$A$18),0)>0,VLOOKUP(\"Oil\",HVACg_Lookup,MATCH($F$16,BuildingSize,0)+1,FALSE),IF(IFERROR(SEARCH(\"Propane\",$A$18),0)>0,VLOOKUP(\"Propane\",HVACg_Lookup,MATCH(Worksheet!$F$16,BuildingSize,0)+1,FALSE),0)))","v":0},0,0,"",""]
[null,null,"",null,null,null,null,null,null,null,null,null,null,null,null,0,0,0,0,"",0,0,0,0,0,0,0,0,0,0,0,0,0,0,0,0,0,{"$f":"Y503/1000*AA503*AC503*IF(IFERROR(SEARCH(\"Gas\",$A$18),0)>0,VLOOKUP(\"Gas\",HVACg_Lookup,MATCH($F$16,BuildingSize,0)+1,FALSE),IF(IFERROR(SEARCH(\"Oil\",$A$18),0)>0,VLOOKUP(\"Oil\",HVACg_Lookup,MATCH($F$16,BuildingSize,0)+1,FALSE),IF(IFERROR(SEARCH(\"Propane\",$A$18),0)>0,VLOOKUP(\"Propane\",HVACg_Lookup,MATCH(Worksheet!$F$16,BuildingSize,0)+1,FALSE),0)))","v":0},{"$f":"Z503/1000*AA503*AC503*IF(IFERROR(SEARCH(\"Gas\",$A$18),0)>0,VLOOKUP(\"Gas\",HVACg_Lookup,MATCH($F$16,BuildingSize,0)+1,FALSE),IF(IFERROR(SEARCH(\"Oil\",$A$18),0)>0,VLOOKUP(\"Oil\",HVACg_Lookup,MATCH($F$16,BuildingSize,0)+1,FALSE),IF(IFERROR(SEARCH(\"Propane\",$A$18),0)>0,VLOOKUP(\"Propane\",HVACg_Lookup,MATCH(Worksheet!$F$16,BuildingSize,0)+1,FALSE),0)))","v":0},0,0,"",""]
[null,null,"",null,null,null,null,null,null,null,null,null,null,null,null,0,0,0,0,"",0,0,0,0,0,0,0,0,0,0,0,0,0,0,0,0,0,{"$f":"Y504/1000*AA504*AC504*IF(IFERROR(SEARCH(\"Gas\",$A$18),0)>0,VLOOKUP(\"Gas\",HVACg_Lookup,MATCH($F$16,BuildingSize,0)+1,FALSE),IF(IFERROR(SEARCH(\"Oil\",$A$18),0)>0,VLOOKUP(\"Oil\",HVACg_Lookup,MATCH($F$16,BuildingSize,0)+1,FALSE),IF(IFERROR(SEARCH(\"Propane\",$A$18),0)>0,VLOOKUP(\"Propane\",HVACg_Lookup,MATCH(Worksheet!$F$16,BuildingSize,0)+1,FALSE),0)))","v":0},{"$f":"Z504/1000*AA504*AC504*IF(IFERROR(SEARCH(\"Gas\",$A$18),0)>0,VLOOKUP(\"Gas\",HVACg_Lookup,MATCH($F$16,BuildingSize,0)+1,FALSE),IF(IFERROR(SEARCH(\"Oil\",$A$18),0)>0,VLOOKUP(\"Oil\",HVACg_Lookup,MATCH($F$16,BuildingSize,0)+1,FALSE),IF(IFERROR(SEARCH(\"Propane\",$A$18),0)>0,VLOOKUP(\"Propane\",HVACg_Lookup,MATCH(Worksheet!$F$16,BuildingSize,0)+1,FALSE),0)))","v":0},0,0,"",""]
[null,null,"",null,null,null,null,null,null,null,null,null,null,null,null,0,0,0,0,"",0,0,0,0,0,0,0,0,0,0,0,0,0,0,0,0,0,{"$f":"Y505/1000*AA505*AC505*IF(IFERROR(SEARCH(\"Gas\",$A$18),0)>0,VLOOKUP(\"Gas\",HVACg_Lookup,MATCH($F$16,BuildingSize,0)+1,FALSE),IF(IFERROR(SEARCH(\"Oil\",$A$18),0)>0,VLOOKUP(\"Oil\",HVACg_Lookup,MATCH($F$16,BuildingSize,0)+1,FALSE),IF(IFERROR(SEARCH(\"Propane\",$A$18),0)>0,VLOOKUP(\"Propane\",HVACg_Lookup,MATCH(Worksheet!$F$16,BuildingSize,0)+1,FALSE),0)))","v":0},{"$f":"Z505/1000*AA505*AC505*IF(IFERROR(SEARCH(\"Gas\",$A$18),0)>0,VLOOKUP(\"Gas\",HVACg_Lookup,MATCH($F$16,BuildingSize,0)+1,FALSE),IF(IFERROR(SEARCH(\"Oil\",$A$18),0)>0,VLOOKUP(\"Oil\",HVACg_Lookup,MATCH($F$16,BuildingSize,0)+1,FALSE),IF(IFERROR(SEARCH(\"Propane\",$A$18),0)>0,VLOOKUP(\"Propane\",HVACg_Lookup,MATCH(Worksheet!$F$16,BuildingSize,0)+1,FALSE),0)))","v":0},0,0,"",""]
[null,null,"",null,null,null,null,null,null,null,null,null,null,null,null,0,0,0,0,"",0,0,0,0,0,0,0,0,0,0,0,0,0,0,0,0,0,{"$f":"Y506/1000*AA506*AC506*IF(IFERROR(SEARCH(\"Gas\",$A$18),0)>0,VLOOKUP(\"Gas\",HVACg_Lookup,MATCH($F$16,BuildingSize,0)+1,FALSE),IF(IFERROR(SEARCH(\"Oil\",$A$18),0)>0,VLOOKUP(\"Oil\",HVACg_Lookup,MATCH($F$16,BuildingSize,0)+1,FALSE),IF(IFERROR(SEARCH(\"Propane\",$A$18),0)>0,VLOOKUP(\"Propane\",HVACg_Lookup,MATCH(Worksheet!$F$16,BuildingSize,0)+1,FALSE),0)))","v":0},{"$f":"Z506/1000*AA506*AC506*IF(IFERROR(SEARCH(\"Gas\",$A$18),0)>0,VLOOKUP(\"Gas\",HVACg_Lookup,MATCH($F$16,BuildingSize,0)+1,FALSE),IF(IFERROR(SEARCH(\"Oil\",$A$18),0)>0,VLOOKUP(\"Oil\",HVACg_Lookup,MATCH($F$16,BuildingSize,0)+1,FALSE),IF(IFERROR(SEARCH(\"Propane\",$A$18),0)>0,VLOOKUP(\"Propane\",HVACg_Lookup,MATCH(Worksheet!$F$16,BuildingSize,0)+1,FALSE),0)))","v":0},0,0,"",""]
[null,null,"",null,null,null,null,null,null,null,null,null,null,null,null,0,0,0,0,"",0,0,0,0,0,0,0,0,0,0,0,0,0,0,0,0,0,{"$f":"Y507/1000*AA507*AC507*IF(IFERROR(SEARCH(\"Gas\",$A$18),0)>0,VLOOKUP(\"Gas\",HVACg_Lookup,MATCH($F$16,BuildingSize,0)+1,FALSE),IF(IFERROR(SEARCH(\"Oil\",$A$18),0)>0,VLOOKUP(\"Oil\",HVACg_Lookup,MATCH($F$16,BuildingSize,0)+1,FALSE),IF(IFERROR(SEARCH(\"Propane\",$A$18),0)>0,VLOOKUP(\"Propane\",HVACg_Lookup,MATCH(Worksheet!$F$16,BuildingSize,0)+1,FALSE),0)))","v":0},{"$f":"Z507/1000*AA507*AC507*IF(IFERROR(SEARCH(\"Gas\",$A$18),0)>0,VLOOKUP(\"Gas\",HVACg_Lookup,MATCH($F$16,BuildingSize,0)+1,FALSE),IF(IFERROR(SEARCH(\"Oil\",$A$18),0)>0,VLOOKUP(\"Oil\",HVACg_Lookup,MATCH($F$16,BuildingSize,0)+1,FALSE),IF(IFERROR(SEARCH(\"Propane\",$A$18),0)>0,VLOOKUP(\"Propane\",HVACg_Lookup,MATCH(Worksheet!$F$16,BuildingSize,0)+1,FALSE),0)))","v":0},0,0,"",""]
[null,null,"",null,null,null,null,null,null,null,null,null,null,null,null,0,0,0,0,"",0,0,0,0,0,0,0,0,0,0,0,0,0,0,0,0,0,{"$f":"Y508/1000*AA508*AC508*IF(IFERROR(SEARCH(\"Gas\",$A$18),0)>0,VLOOKUP(\"Gas\",HVACg_Lookup,MATCH($F$16,BuildingSize,0)+1,FALSE),IF(IFERROR(SEARCH(\"Oil\",$A$18),0)>0,VLOOKUP(\"Oil\",HVACg_Lookup,MATCH($F$16,BuildingSize,0)+1,FALSE),IF(IFERROR(SEARCH(\"Propane\",$A$18),0)>0,VLOOKUP(\"Propane\",HVACg_Lookup,MATCH(Worksheet!$F$16,BuildingSize,0)+1,FALSE),0)))","v":0},{"$f":"Z508/1000*AA508*AC508*IF(IFERROR(SEARCH(\"Gas\",$A$18),0)>0,VLOOKUP(\"Gas\",HVACg_Lookup,MATCH($F$16,BuildingSize,0)+1,FALSE),IF(IFERROR(SEARCH(\"Oil\",$A$18),0)>0,VLOOKUP(\"Oil\",HVACg_Lookup,MATCH($F$16,BuildingSize,0)+1,FALSE),IF(IFERROR(SEARCH(\"Propane\",$A$18),0)>0,VLOOKUP(\"Propane\",HVACg_Lookup,MATCH(Worksheet!$F$16,BuildingSize,0)+1,FALSE),0)))","v":0},0,0,"",""]
[null,null,"",null,null,null,null,null,null,null,null,null,null,null,null,0,0,0,0,"",0,0,0,0,0,0,0,0,0,0,0,0,0,0,0,0,0,{"$f":"Y509/1000*AA509*AC509*IF(IFERROR(SEARCH(\"Gas\",$A$18),0)>0,VLOOKUP(\"Gas\",HVACg_Lookup,MATCH($F$16,BuildingSize,0)+1,FALSE),IF(IFERROR(SEARCH(\"Oil\",$A$18),0)>0,VLOOKUP(\"Oil\",HVACg_Lookup,MATCH($F$16,BuildingSize,0)+1,FALSE),IF(IFERROR(SEARCH(\"Propane\",$A$18),0)>0,VLOOKUP(\"Propane\",HVACg_Lookup,MATCH(Worksheet!$F$16,BuildingSize,0)+1,FALSE),0)))","v":0},{"$f":"Z509/1000*AA509*AC509*IF(IFERROR(SEARCH(\"Gas\",$A$18),0)>0,VLOOKUP(\"Gas\",HVACg_Lookup,MATCH($F$16,BuildingSize,0)+1,FALSE),IF(IFERROR(SEARCH(\"Oil\",$A$18),0)>0,VLOOKUP(\"Oil\",HVACg_Lookup,MATCH($F$16,BuildingSize,0)+1,FALSE),IF(IFERROR(SEARCH(\"Propane\",$A$18),0)>0,VLOOKUP(\"Propane\",HVACg_Lookup,MATCH(Worksheet!$F$16,BuildingSize,0)+1,FALSE),0)))","v":0},0,0,"",""]
[null,null,"",null,null,null,null,null,null,null,null,null,null,null,null,0,0,0,0,"",0,0,0,0,0,0,0,0,0,0,0,0,0,0,0,0,0,{"$f":"Y510/1000*AA510*AC510*IF(IFERROR(SEARCH(\"Gas\",$A$18),0)>0,VLOOKUP(\"Gas\",HVACg_Lookup,MATCH($F$16,BuildingSize,0)+1,FALSE),IF(IFERROR(SEARCH(\"Oil\",$A$18),0)>0,VLOOKUP(\"Oil\",HVACg_Lookup,MATCH($F$16,BuildingSize,0)+1,FALSE),IF(IFERROR(SEARCH(\"Propane\",$A$18),0)>0,VLOOKUP(\"Propane\",HVACg_Lookup,MATCH(Worksheet!$F$16,BuildingSize,0)+1,FALSE),0)))","v":0},{"$f":"Z510/1000*AA510*AC510*IF(IFERROR(SEARCH(\"Gas\",$A$18),0)>0,VLOOKUP(\"Gas\",HVACg_Lookup,MATCH($F$16,BuildingSize,0)+1,FALSE),IF(IFERROR(SEARCH(\"Oil\",$A$18),0)>0,VLOOKUP(\"Oil\",HVACg_Lookup,MATCH($F$16,BuildingSize,0)+1,FALSE),IF(IFERROR(SEARCH(\"Propane\",$A$18),0)>0,VLOOKUP(\"Propane\",HVACg_Lookup,MATCH(Worksheet!$F$16,BuildingSize,0)+1,FALSE),0)))","v":0},0,0,"",""]
[null,null,"",null,null,null,null,null,null,null,null,null,null,null,null,0,0,0,0,"",0,0,0,0,0,0,0,0,0,0,0,0,0,0,0,0,0,{"$f":"Y511/1000*AA511*AC511*IF(IFERROR(SEARCH(\"Gas\",$A$18),0)>0,VLOOKUP(\"Gas\",HVACg_Lookup,MATCH($F$16,BuildingSize,0)+1,FALSE),IF(IFERROR(SEARCH(\"Oil\",$A$18),0)>0,VLOOKUP(\"Oil\",HVACg_Lookup,MATCH($F$16,BuildingSize,0)+1,FALSE),IF(IFERROR(SEARCH(\"Propane\",$A$18),0)>0,VLOOKUP(\"Propane\",HVACg_Lookup,MATCH(Worksheet!$F$16,BuildingSize,0)+1,FALSE),0)))","v":0},{"$f":"Z511/1000*AA511*AC511*IF(IFERROR(SEARCH(\"Gas\",$A$18),0)>0,VLOOKUP(\"Gas\",HVACg_Lookup,MATCH($F$16,BuildingSize,0)+1,FALSE),IF(IFERROR(SEARCH(\"Oil\",$A$18),0)>0,VLOOKUP(\"Oil\",HVACg_Lookup,MATCH($F$16,BuildingSize,0)+1,FALSE),IF(IFERROR(SEARCH(\"Propane\",$A$18),0)>0,VLOOKUP(\"Propane\",HVACg_Lookup,MATCH(Worksheet!$F$16,BuildingSize,0)+1,FALSE),0)))","v":0},0,0,"",""]
[null,null,"",null,null,null,null,null,null,null,null,null,null,null,null,0,0,0,0,"",0,0,0,0,0,0,0,0,0,0,0,0,0,0,0,0,0,{"$f":"Y512/1000*AA512*AC512*IF(IFERROR(SEARCH(\"Gas\",$A$18),0)>0,VLOOKUP(\"Gas\",HVACg_Lookup,MATCH($F$16,BuildingSize,0)+1,FALSE),IF(IFERROR(SEARCH(\"Oil\",$A$18),0)>0,VLOOKUP(\"Oil\",HVACg_Lookup,MATCH($F$16,BuildingSize,0)+1,FALSE),IF(IFERROR(SEARCH(\"Propane\",$A$18),0)>0,VLOOKUP(\"Propane\",HVACg_Lookup,MATCH(Worksheet!$F$16,BuildingSize,0)+1,FALSE),0)))","v":0},{"$f":"Z512/1000*AA512*AC512*IF(IFERROR(SEARCH(\"Gas\",$A$18),0)>0,VLOOKUP(\"Gas\",HVACg_Lookup,MATCH($F$16,BuildingSize,0)+1,FALSE),IF(IFERROR(SEARCH(\"Oil\",$A$18),0)>0,VLOOKUP(\"Oil\",HVACg_Lookup,MATCH($F$16,BuildingSize,0)+1,FALSE),IF(IFERROR(SEARCH(\"Propane\",$A$18),0)>0,VLOOKUP(\"Propane\",HVACg_Lookup,MATCH(Worksheet!$F$16,BuildingSize,0)+1,FALSE),0)))","v":0},0,0,"",""]
[null,null,"",null,null,null,null,null,null,null,null,null,null,null,null,0,0,0,0,"",0,0,0,0,0,0,0,0,0,0,0,0,0,0,0,0,0,{"$f":"Y513/1000*AA513*AC513*IF(IFERROR(SEARCH(\"Gas\",$A$18),0)>0,VLOOKUP(\"Gas\",HVACg_Lookup,MATCH($F$16,BuildingSize,0)+1,FALSE),IF(IFERROR(SEARCH(\"Oil\",$A$18),0)>0,VLOOKUP(\"Oil\",HVACg_Lookup,MATCH($F$16,BuildingSize,0)+1,FALSE),IF(IFERROR(SEARCH(\"Propane\",$A$18),0)>0,VLOOKUP(\"Propane\",HVACg_Lookup,MATCH(Worksheet!$F$16,BuildingSize,0)+1,FALSE),0)))","v":0},{"$f":"Z513/1000*AA513*AC513*IF(IFERROR(SEARCH(\"Gas\",$A$18),0)>0,VLOOKUP(\"Gas\",HVACg_Lookup,MATCH($F$16,BuildingSize,0)+1,FALSE),IF(IFERROR(SEARCH(\"Oil\",$A$18),0)>0,VLOOKUP(\"Oil\",HVACg_Lookup,MATCH($F$16,BuildingSize,0)+1,FALSE),IF(IFERROR(SEARCH(\"Propane\",$A$18),0)>0,VLOOKUP(\"Propane\",HVACg_Lookup,MATCH(Worksheet!$F$16,BuildingSize,0)+1,FALSE),0)))","v":0},0,0,"",""]
[null,null,"",null,null,null,null,null,null,null,null,null,null,null,null,0,0,0,0,"",0,0,0,0,0,0,0,0,0,0,0,0,0,0,0,0,0,{"$f":"Y514/1000*AA514*AC514*IF(IFERROR(SEARCH(\"Gas\",$A$18),0)>0,VLOOKUP(\"Gas\",HVACg_Lookup,MATCH($F$16,BuildingSize,0)+1,FALSE),IF(IFERROR(SEARCH(\"Oil\",$A$18),0)>0,VLOOKUP(\"Oil\",HVACg_Lookup,MATCH($F$16,BuildingSize,0)+1,FALSE),IF(IFERROR(SEARCH(\"Propane\",$A$18),0)>0,VLOOKUP(\"Propane\",HVACg_Lookup,MATCH(Worksheet!$F$16,BuildingSize,0)+1,FALSE),0)))","v":0},{"$f":"Z514/1000*AA514*AC514*IF(IFERROR(SEARCH(\"Gas\",$A$18),0)>0,VLOOKUP(\"Gas\",HVACg_Lookup,MATCH($F$16,BuildingSize,0)+1,FALSE),IF(IFERROR(SEARCH(\"Oil\",$A$18),0)>0,VLOOKUP(\"Oil\",HVACg_Lookup,MATCH($F$16,BuildingSize,0)+1,FALSE),IF(IFERROR(SEARCH(\"Propane\",$A$18),0)>0,VLOOKUP(\"Propane\",HVACg_Lookup,MATCH(Worksheet!$F$16,BuildingSize,0)+1,FALSE),0)))","v":0},0,0,"",""]
[null,null,"",null,null,null,null,null,null,null,null,null,null,null,null,0,0,0,0,"",0,0,0,0,0,0,0,0,0,0,0,0,0,0,0,0,0,{"$f":"Y515/1000*AA515*AC515*IF(IFERROR(SEARCH(\"Gas\",$A$18),0)>0,VLOOKUP(\"Gas\",HVACg_Lookup,MATCH($F$16,BuildingSize,0)+1,FALSE),IF(IFERROR(SEARCH(\"Oil\",$A$18),0)>0,VLOOKUP(\"Oil\",HVACg_Lookup,MATCH($F$16,BuildingSize,0)+1,FALSE),IF(IFERROR(SEARCH(\"Propane\",$A$18),0)>0,VLOOKUP(\"Propane\",HVACg_Lookup,MATCH(Worksheet!$F$16,BuildingSize,0)+1,FALSE),0)))","v":0},{"$f":"Z515/1000*AA515*AC515*IF(IFERROR(SEARCH(\"Gas\",$A$18),0)>0,VLOOKUP(\"Gas\",HVACg_Lookup,MATCH($F$16,BuildingSize,0)+1,FALSE),IF(IFERROR(SEARCH(\"Oil\",$A$18),0)>0,VLOOKUP(\"Oil\",HVACg_Lookup,MATCH($F$16,BuildingSize,0)+1,FALSE),IF(IFERROR(SEARCH(\"Propane\",$A$18),0)>0,VLOOKUP(\"Propane\",HVACg_Lookup,MATCH(Worksheet!$F$16,BuildingSize,0)+1,FALSE),0)))","v":0},0,0,"",""]
[null,null,"",null,null,null,null,null,null,null,null,null,null,null,null,0,0,0,0,"",0,0,0,0,0,0,0,0,0,0,0,0,0,0,0,0,0,{"$f":"Y516/1000*AA516*AC516*IF(IFERROR(SEARCH(\"Gas\",$A$18),0)>0,VLOOKUP(\"Gas\",HVACg_Lookup,MATCH($F$16,BuildingSize,0)+1,FALSE),IF(IFERROR(SEARCH(\"Oil\",$A$18),0)>0,VLOOKUP(\"Oil\",HVACg_Lookup,MATCH($F$16,BuildingSize,0)+1,FALSE),IF(IFERROR(SEARCH(\"Propane\",$A$18),0)>0,VLOOKUP(\"Propane\",HVACg_Lookup,MATCH(Worksheet!$F$16,BuildingSize,0)+1,FALSE),0)))","v":0},{"$f":"Z516/1000*AA516*AC516*IF(IFERROR(SEARCH(\"Gas\",$A$18),0)>0,VLOOKUP(\"Gas\",HVACg_Lookup,MATCH($F$16,BuildingSize,0)+1,FALSE),IF(IFERROR(SEARCH(\"Oil\",$A$18),0)>0,VLOOKUP(\"Oil\",HVACg_Lookup,MATCH($F$16,BuildingSize,0)+1,FALSE),IF(IFERROR(SEARCH(\"Propane\",$A$18),0)>0,VLOOKUP(\"Propane\",HVACg_Lookup,MATCH(Worksheet!$F$16,BuildingSize,0)+1,FALSE),0)))","v":0},0,0,"",""]
[null,null,"",null,null,null,null,null,null,null,null,null,null,null,null,0,0,0,0,"",0,0,0,0,0,0,0,0,0,0,0,0,0,0,0,0,0,{"$f":"Y517/1000*AA517*AC517*IF(IFERROR(SEARCH(\"Gas\",$A$18),0)>0,VLOOKUP(\"Gas\",HVACg_Lookup,MATCH($F$16,BuildingSize,0)+1,FALSE),IF(IFERROR(SEARCH(\"Oil\",$A$18),0)>0,VLOOKUP(\"Oil\",HVACg_Lookup,MATCH($F$16,BuildingSize,0)+1,FALSE),IF(IFERROR(SEARCH(\"Propane\",$A$18),0)>0,VLOOKUP(\"Propane\",HVACg_Lookup,MATCH(Worksheet!$F$16,BuildingSize,0)+1,FALSE),0)))","v":0},{"$f":"Z517/1000*AA517*AC517*IF(IFERROR(SEARCH(\"Gas\",$A$18),0)>0,VLOOKUP(\"Gas\",HVACg_Lookup,MATCH($F$16,BuildingSize,0)+1,FALSE),IF(IFERROR(SEARCH(\"Oil\",$A$18),0)>0,VLOOKUP(\"Oil\",HVACg_Lookup,MATCH($F$16,BuildingSize,0)+1,FALSE),IF(IFERROR(SEARCH(\"Propane\",$A$18),0)>0,VLOOKUP(\"Propane\",HVACg_Lookup,MATCH(Worksheet!$F$16,BuildingSize,0)+1,FALSE),0)))","v":0},0,0,"",""]
[null,null,"",null,null,null,null,null,null,null,null,null,null,null,null,0,0,0,0,"",0,0,0,0,0,0,0,0,0,0,0,0,0,0,0,0,0,{"$f":"Y518/1000*AA518*AC518*IF(IFERROR(SEARCH(\"Gas\",$A$18),0)>0,VLOOKUP(\"Gas\",HVACg_Lookup,MATCH($F$16,BuildingSize,0)+1,FALSE),IF(IFERROR(SEARCH(\"Oil\",$A$18),0)>0,VLOOKUP(\"Oil\",HVACg_Lookup,MATCH($F$16,BuildingSize,0)+1,FALSE),IF(IFERROR(SEARCH(\"Propane\",$A$18),0)>0,VLOOKUP(\"Propane\",HVACg_Lookup,MATCH(Worksheet!$F$16,BuildingSize,0)+1,FALSE),0)))","v":0},{"$f":"Z518/1000*AA518*AC518*IF(IFERROR(SEARCH(\"Gas\",$A$18),0)>0,VLOOKUP(\"Gas\",HVACg_Lookup,MATCH($F$16,BuildingSize,0)+1,FALSE),IF(IFERROR(SEARCH(\"Oil\",$A$18),0)>0,VLOOKUP(\"Oil\",HVACg_Lookup,MATCH($F$16,BuildingSize,0)+1,FALSE),IF(IFERROR(SEARCH(\"Propane\",$A$18),0)>0,VLOOKUP(\"Propane\",HVACg_Lookup,MATCH(Worksheet!$F$16,BuildingSize,0)+1,FALSE),0)))","v":0},0,0,"",""]
[null,null,"",null,null,null,null,null,null,null,null,null,null,null,null,0,0,0,0,"",0,0,0,0,0,0,0,0,0,0,0,0,0,0,0,0,0,{"$f":"Y519/1000*AA519*AC519*IF(IFERROR(SEARCH(\"Gas\",$A$18),0)>0,VLOOKUP(\"Gas\",HVACg_Lookup,MATCH($F$16,BuildingSize,0)+1,FALSE),IF(IFERROR(SEARCH(\"Oil\",$A$18),0)>0,VLOOKUP(\"Oil\",HVACg_Lookup,MATCH($F$16,BuildingSize,0)+1,FALSE),IF(IFERROR(SEARCH(\"Propane\",$A$18),0)>0,VLOOKUP(\"Propane\",HVACg_Lookup,MATCH(Worksheet!$F$16,BuildingSize,0)+1,FALSE),0)))","v":0},{"$f":"Z519/1000*AA519*AC519*IF(IFERROR(SEARCH(\"Gas\",$A$18),0)>0,VLOOKUP(\"Gas\",HVACg_Lookup,MATCH($F$16,BuildingSize,0)+1,FALSE),IF(IFERROR(SEARCH(\"Oil\",$A$18),0)>0,VLOOKUP(\"Oil\",HVACg_Lookup,MATCH($F$16,BuildingSize,0)+1,FALSE),IF(IFERROR(SEARCH(\"Propane\",$A$18),0)>0,VLOOKUP(\"Propane\",HVACg_Lookup,MATCH(Worksheet!$F$16,BuildingSize,0)+1,FALSE),0)))","v":0},0,0,"",""]
[null,null,"",null,null,null,null,null,null,null,null,null,null,null,null,0,0,0,0,"",0,0,0,0,0,0,0,0,0,0,0,0,0,0,0,0,0,{"$f":"Y520/1000*AA520*AC520*IF(IFERROR(SEARCH(\"Gas\",$A$18),0)>0,VLOOKUP(\"Gas\",HVACg_Lookup,MATCH($F$16,BuildingSize,0)+1,FALSE),IF(IFERROR(SEARCH(\"Oil\",$A$18),0)>0,VLOOKUP(\"Oil\",HVACg_Lookup,MATCH($F$16,BuildingSize,0)+1,FALSE),IF(IFERROR(SEARCH(\"Propane\",$A$18),0)>0,VLOOKUP(\"Propane\",HVACg_Lookup,MATCH(Worksheet!$F$16,BuildingSize,0)+1,FALSE),0)))","v":0},{"$f":"Z520/1000*AA520*AC520*IF(IFERROR(SEARCH(\"Gas\",$A$18),0)>0,VLOOKUP(\"Gas\",HVACg_Lookup,MATCH($F$16,BuildingSize,0)+1,FALSE),IF(IFERROR(SEARCH(\"Oil\",$A$18),0)>0,VLOOKUP(\"Oil\",HVACg_Lookup,MATCH($F$16,BuildingSize,0)+1,FALSE),IF(IFERROR(SEARCH(\"Propane\",$A$18),0)>0,VLOOKUP(\"Propane\",HVACg_Lookup,MATCH(Worksheet!$F$16,BuildingSize,0)+1,FALSE),0)))","v":0},0,0,"",""]
[null,null,"",null,null,null,null,null,null,null,null,null,null,null,null,0,0,0,0,"",0,0,0,0,0,0,0,0,0,0,0,0,0,0,0,0,0,{"$f":"Y521/1000*AA521*AC521*IF(IFERROR(SEARCH(\"Gas\",$A$18),0)>0,VLOOKUP(\"Gas\",HVACg_Lookup,MATCH($F$16,BuildingSize,0)+1,FALSE),IF(IFERROR(SEARCH(\"Oil\",$A$18),0)>0,VLOOKUP(\"Oil\",HVACg_Lookup,MATCH($F$16,BuildingSize,0)+1,FALSE),IF(IFERROR(SEARCH(\"Propane\",$A$18),0)>0,VLOOKUP(\"Propane\",HVACg_Lookup,MATCH(Worksheet!$F$16,BuildingSize,0)+1,FALSE),0)))","v":0},{"$f":"Z521/1000*AA521*AC521*IF(IFERROR(SEARCH(\"Gas\",$A$18),0)>0,VLOOKUP(\"Gas\",HVACg_Lookup,MATCH($F$16,BuildingSize,0)+1,FALSE),IF(IFERROR(SEARCH(\"Oil\",$A$18),0)>0,VLOOKUP(\"Oil\",HVACg_Lookup,MATCH($F$16,BuildingSize,0)+1,FALSE),IF(IFERROR(SEARCH(\"Propane\",$A$18),0)>0,VLOOKUP(\"Propane\",HVACg_Lookup,MATCH(Worksheet!$F$16,BuildingSize,0)+1,FALSE),0)))","v":0},0,0,"",""]
[null,null,"",null,null,null,null,null,null,null,null,null,null,null,null,0,0,0,0,"",0,0,0,0,0,0,0,0,0,0,0,0,0,0,0,0,0,{"$f":"Y522/1000*AA522*AC522*IF(IFERROR(SEARCH(\"Gas\",$A$18),0)>0,VLOOKUP(\"Gas\",HVACg_Lookup,MATCH($F$16,BuildingSize,0)+1,FALSE),IF(IFERROR(SEARCH(\"Oil\",$A$18),0)>0,VLOOKUP(\"Oil\",HVACg_Lookup,MATCH($F$16,BuildingSize,0)+1,FALSE),IF(IFERROR(SEARCH(\"Propane\",$A$18),0)>0,VLOOKUP(\"Propane\",HVACg_Lookup,MATCH(Worksheet!$F$16,BuildingSize,0)+1,FALSE),0)))","v":0},{"$f":"Z522/1000*AA522*AC522*IF(IFERROR(SEARCH(\"Gas\",$A$18),0)>0,VLOOKUP(\"Gas\",HVACg_Lookup,MATCH($F$16,BuildingSize,0)+1,FALSE),IF(IFERROR(SEARCH(\"Oil\",$A$18),0)>0,VLOOKUP(\"Oil\",HVACg_Lookup,MATCH($F$16,BuildingSize,0)+1,FALSE),IF(IFERROR(SEARCH(\"Propane\",$A$18),0)>0,VLOOKUP(\"Propane\",HVACg_Lookup,MATCH(Worksheet!$F$16,BuildingSize,0)+1,FALSE),0)))","v":0},0,0,"",""]
[null,null,"",null,null,null,null,null,null,null,null,null,null,null,null,0,0,0,0,"",0,0,0,0,0,0,0,0,0,0,0,0,0,0,0,0,0,{"$f":"Y523/1000*AA523*AC523*IF(IFERROR(SEARCH(\"Gas\",$A$18),0)>0,VLOOKUP(\"Gas\",HVACg_Lookup,MATCH($F$16,BuildingSize,0)+1,FALSE),IF(IFERROR(SEARCH(\"Oil\",$A$18),0)>0,VLOOKUP(\"Oil\",HVACg_Lookup,MATCH($F$16,BuildingSize,0)+1,FALSE),IF(IFERROR(SEARCH(\"Propane\",$A$18),0)>0,VLOOKUP(\"Propane\",HVACg_Lookup,MATCH(Worksheet!$F$16,BuildingSize,0)+1,FALSE),0)))","v":0},{"$f":"Z523/1000*AA523*AC523*IF(IFERROR(SEARCH(\"Gas\",$A$18),0)>0,VLOOKUP(\"Gas\",HVACg_Lookup,MATCH($F$16,BuildingSize,0)+1,FALSE),IF(IFERROR(SEARCH(\"Oil\",$A$18),0)>0,VLOOKUP(\"Oil\",HVACg_Lookup,MATCH($F$16,BuildingSize,0)+1,FALSE),IF(IFERROR(SEARCH(\"Propane\",$A$18),0)>0,VLOOKUP(\"Propane\",HVACg_Lookup,MATCH(Worksheet!$F$16,BuildingSize,0)+1,FALSE),0)))","v":0},0,0,"",""]

{"sheet":"Measure Code","index":1,"n_rows":6,"n_cols":6,"rows_kept":6,"cut":false,"hidden":true,"merged":[]}
["Measure Code","Description","Incentive per Unit","Incentive Unit","Energy Savings Factor","Measure Type"]
["LC1","OSW",20,"per Control",0.31,97]
["LC2","OSR",35,"per Control",0.31,98]
["LC3","DDC",45,"per Fixture Controlled",0.4,9002]
["LC4","OHLC",35,"per Fixture Controlled",0.31,9001]
["LC5","OSRH",35,"per Control",0.31,98]

{"sheet":"Other Support","index":2,"n_rows":23,"n_cols":18,"rows_kept":23,"cut":false,"hidden":true,"merged":[[0,4,0,9],[0,12,0,13]]}
[null,null,null,"HVAC_d","HVAC_e",null,null,null,null,null,null,null,"HVAC_g"]
["Building Type","EFLH","CF","AC","Electric Cooling & Gas Heat","Electric Cooling & Oil Heat","Electric Cooling & Propane Heat","Electric Cooling & Resistance Heat","Heat Pump","No Electric Cooling (Electric Resistance Heat Only)",null,"Fuel Type","Large Commercial","Small Commercial",null,null,null,"HVAC Options"]
["Education – Primary School",2575,0.5,0.44,0.1,0.1,0.1,-0.19,-0.04,-0.28999999999999998,null,"Gas",-2.3000000000000001E-4,-1.075E-3,null,null,null,"Electric Cooling & Gas Heat"]
["Education – Secondary School",2575,0.5,0.44,0.1,0.1,0.1,-0.19,-0.04,-0.28999999999999998,null,"Oil",-4.6000000000000001E-4,-1.2E-4,null,null,null,"Electric Cooling & Oil Heat"]
["Education – Community College",2575,0.5,0.44,0.1,0.1,0.1,-0.19,-0.04,-0.28999999999999998,null,"Propane",-4.6000000000000001E-4,-1.2E-4,null,null,null,"Electric Cooling & Propane Heat"]
["Education – University",2575,0.5,0.44,0.1,0.1,0.1,-0.19,-0.04,-0.28999999999999998,null,null,null,null,null,null,null,"Electric Cooling & Resistance Heat"]
["Grocery",7134,0.96,0.27,0.06,0.06,0.06,-0.17,-0.05,-0.23,null,null,null,null,null,null,null,"No Electric Cooling (Electric Resistance Heat Only)"]
["Medical – Hospital ",8760,0.8,0.34,0.08,0.08,0.08,-0.18,-7.0000000000000007E-2,-0.26,null,null,null,null,null,null,null,"No Electric Cooling (Gas Heat Only)"]
["Medical – Clinic",3909,0.8,0.34,0.08,0.08,0.08,-0.18,-7.0000000000000007E-2,-0.26,null,null,null,null,null,null,null,"No Electric Cooling (Oil Heat Only)"]
["Lodging Hotel (Guest Rooms)",4573,0.66,0.34,0.08,0.08,0.08,-0.18,-7.0000000000000007E-2,-0.26,null,null,null,null,null,null,null,"No Electric Cooling (Propane Heat Only)"]
["Lodging Motel",4573,0.66,0.34,0.08,0.08,0.08,-0.18,-7.0000000000000007E-2,-0.26,null,null,null,null,null,null,null,"Heat Pump"]
["Manufacturing – Light Industrial",4116,0.7,0.34,0.08,0.08,0.08,-0.18,-7.0000000000000007E-2,-0.26]
["Office - Large",2969,0.7,0.35,0.1,0.1,0.1,-0.15,-0.06,-0.25]
["Office - Small",2950,0.67,0.35,0.1,0.1,0.1,-0.15,-0.06,-0.25]
["Restaurant – Sit-Down",4573,0.66,0.34,0.08,0.08,0.08,-0.18,-7.0000000000000007E-2,-0.26]
["Restaurant – Fast-Food",4573,0.66,0.34,0.08,0.08,0.08,-0.18,-7.0000000000000007E-2,-0.26]
["Retail – 3-Story Large",4920,0.96,0.27,0.06,0.06,0.06,-0.17,-0.05,-0.23]
["Retail – Single-Story Large",4920,0.96,0.27,0.06,0.06,0.06,-0.17,-0.05,-0.23]
["Retail – Small",4926,0.86,0.27,0.06,0.06,0.06,-0.17,-0.05,-0.23]
["Storage Conditioned ",4116,0.7,0.22,0.02,0.02,0.02,-0.25,-0.11,-0.27]
["Storage Unconditioned",4116,0.7,0,0,0,0,0,0,0]
["Warehouse",4116,0.7,0.22,0.02,0.02,0.02,-0.25,-0.11,-0.27]
["Average = Miscellaneous",4573,0.66,0.34,0.08,0.08,0.08,-0.18,-7.0000000000000007E-2,-0.26]

{"sheet":"Export","index":3,"n_rows":501,"n_cols":27,"rows_kept":501,"cut":false,"hidden":true,"merged":[]}
["Measure Type","Manufacturer","Model","Capacity/Size","Capacity/Size Units","EER Efficiency","SEER Efficiency","Incentive Per Unit","Quantity Committed","Annual Electricity Savings","Peak Demand Reduction","Lifetime Electricity Savings","Annual Gas Savings","Lifetime Gas Savings","Efficiency- other","Efficiency- other-type","Measure ID removed","Quantity Installed","Location","Reason (New or Replaced)","Type of Control (Wired/Wireless)","Project in UEZ","Project in OZ","Municipality","K-12 School","County","Enhanced Incentive per Unit"]
[{"$f":"IF(ISBLANK(Worksheet!F24)=FALSE,VLOOKUP(Worksheet!A24,MeasureCode_Lookup,6,FALSE),\"\")","v":""},{"$f":"Worksheet!H24","v":0},{"$f":"Worksheet!I24","v":0},{"$f":"IFERROR(IF(Worksheet!Z24=0,Worksheet!Y24/I2,Worksheet!Z24/R2),0)","v":0},"W Controlled",null,null,{"$f":"IF(N(Worksheet!S24)=0,N(Worksheet!R24),N(Worksheet!S24))","v":0},{"$f":"IFERROR(Worksheet!W24/(Worksheet!R24+Worksheet!U24),0)","v":0},{"$f":"Worksheet!AE24","v":0},{"$f":"Worksheet!AD24","v":0},{"$f":"J2*8","v":0},{"$f":"IF(Worksheet!AL24=0,0,Worksheet!AL24/I2)","v":0},{"$f":"M2*8","v":0},null,null,null,{"$f":"IFERROR(Worksheet!X24/(Worksheet!S24+Worksheet!V24),0)","v":0},{"$f":"IF(Worksheet!E24=\"\",\"\",Worksheet!E24)","v":""},{"$f":"IF(Worksheet!B24=\"\",\"\",Worksheet!B24)","v":""},{"$f":"IF(Worksheet!D24=\"\",\"\",Worksheet!D24)","v":""},{"$f":"IF(Worksheet!$A$11=TRUE,\"Y\",\"N\")","v":"N"},{"$f":"IF(Worksheet!$A$12=TRUE,\"Y\",\"N\")","v":"N"},{"$f":"IF(Worksheet!$B$11=TRUE,\"Y\",\"N\")","v":"N"},{"$f":"IF(Worksheet!$B$12=TRUE,\"Y\",\"N\")","v":"N"},{"$f":"IF(Worksheet!$C$11=TRUE,\"Y\",\"N\")","v":"N"},{"$f":"IFERROR(IF(N(Worksheet!V24)=0,Worksheet!U24,Worksheet!V24),\"\")","v":0}]
[{"$f":"IF(ISBLANK(Worksheet!F25)=FALSE,VLOOKUP(Worksheet!A25,MeasureCode_Lookup,6,FALSE),\"\")","v":""},{"$f":"Worksheet!H25","v":0},{"$f":"Worksheet!I25","v":0},{"$f":"IFERROR(IF(Worksheet!Z25=0,Worksheet!Y25/I3,Worksheet!Z25/R3),0)","v":0},"W Controlled",null,null,{"$f":"IF(N(Worksheet!S25)=0,N(Worksheet!R25),N(Worksheet!S25))","v":0},{"$f":"IFERROR(Worksheet!W25/(Worksheet!R25+Worksheet!U25),0)","v":0},{"$f":"Worksheet!AE25","v":0},{"$f":"Worksheet!AD25","v":0},{"$f":"J3*8","v":0},{"$f":"IF(Worksheet!AL25=0,0,Worksheet!AL25/I3)","v":0},{"$f":"M3*8","v":0},null,null,null,{"$f":"IFERROR(Worksheet!X25/(Worksheet!S25+Worksheet!V25),0)","v":0},{"$f":"IF(Worksheet!E25=\"\",\"\",Worksheet!E25)","v":""},{"$f":"IF(Worksheet!B25=\"\",\"\",Worksheet!B25)","v":""},{"$f":"IF(Worksheet!D25=\"\",\"\",Worksheet!D25)","v":""},{"$f":"IF(Worksheet!$A$11=TRUE,\"Y\",\"N\")","v":"N"},{"$f":"IF(Worksheet!$A$12=TRUE,\"Y\",\"N\")","v":"N"},{"$f":"IF(Worksheet!$B$11=TRUE,\"Y\",\"N\")","v":"N"},{"$f":"IF(Worksheet!$B$12=TRUE,\"Y\",\"N\")","v":"N"},{"$f":"IF(Worksheet!$C$11=TRUE,\"Y\",\"N\")","v":"N"},{"$f":"IFERROR(IF(N(Worksheet!V25)=0,Worksheet!U25,Worksheet!V25),\"\")","v":0}]
[{"$f":"IF(ISBLANK(Worksheet!F26)=FALSE,VLOOKUP(Worksheet!A26,MeasureCode_Lookup,6,FALSE),\"\")","v":""},{"$f":"Worksheet!H26","v":0},{"$f":"Worksheet!I26","v":0},{"$f":"IFERROR(IF(Worksheet!Z26=0,Worksheet!Y26/I4,Worksheet!Z26/R4),0)","v":0},"W Controlled",null,null,{"$f":"IF(N(Worksheet!S26)=0,N(Worksheet!R26),N(Worksheet!S26))","v":0},{"$f":"IFERROR(Worksheet!W26/(Worksheet!R26+Worksheet!U26),0)","v":0},{"$f":"Worksheet!AE26","v":0},{"$f":"Worksheet!AD26","v":0},0,{"$f":"IF(Worksheet!AL26=0,0,Worksheet!AL26/I4)","v":0},0,null,null,null,{"$f":"IFERROR(Worksheet!X26/(Worksheet!S26+Worksheet!V26),0)","v":0},{"$f":"IF(Worksheet!E26=\"\",\"\",Worksheet!E26)","v":""},{"$f":"IF(Worksheet!B26=\"\",\"\",Worksheet!B26)","v":""},{"$f":"IF(Worksheet!D26=\"\",\"\",Worksheet!D26)","v":""},{"$f":"IF(Worksheet!$A$11=TRUE,\"Y\",\"N\")","v":"N"},{"$f":"IF(Worksheet!$A$12=TRUE,\"Y\",\"N\")","v":"N"},{"$f":"IF(Worksheet!$B$11=TRUE,\"Y\",\"N\")","v":"N"},{"$f":"IF(Worksheet!$B$12=TRUE,\"Y\",\"N\")","v":"N"},{"$f":"IF(Worksheet!$C$11=TRUE,\"Y\",\"N\")","v":"N"},{"$f":"IFERROR(IF(N(Worksheet!V26)=0,Worksheet!U26,Worksheet!V26),\"\")","v":0}]
[{"$f":"IF(ISBLANK(Worksheet!F27)=FALSE,VLOOKUP(Worksheet!A27,MeasureCode_Lookup,6,FALSE),\"\")","v":""},{"$f":"Worksheet!H27","v":0},{"$f":"Worksheet!I27","v":0},{"$f":"IFERROR(IF(Worksheet!Z27=0,Worksheet!Y27/I5,Worksheet!Z27/R5),0)","v":0},"W Controlled",null,null,{"$f":"IF(N(Worksheet!S27)=0,N(Worksheet!R27),N(Worksheet!S27))","v":0},{"$f":"IFERROR(Worksheet!W27/(Worksheet!R27+Worksheet!U27),0)","v":0},{"$f":"Worksheet!AE27","v":0},{"$f":"Worksheet!AD27","v":0},0,{"$f":"IF(Worksheet!AL27=0,0,Worksheet!AL27/I5)","v":0},0,null,null,null,{"$f":"IFERROR(Worksheet!X27/(Worksheet!S27+Worksheet!V27),0)","v":0},{"$f":"IF(Worksheet!E27=\"\",\"\",Worksheet!E27)","v":""},{"$f":"IF(Worksheet!B27=\"\",\"\",Worksheet!B27)","v":""},{"$f":"IF(Worksheet!D27=\"\",\"\",Worksheet!D27)","v":""},{"$f":"IF(Worksheet!$A$11=TRUE,\"Y\",\"N\")","v":"N"},{"$f":"IF(Worksheet!$A$12=TRUE,\"Y\",\"N\")","v":"N"},{"$f":"IF(Worksheet!$B$11=TRUE,\"Y\",\"N\")","v":"N"},{"$f":"IF(Worksheet!$B$12=TRUE,\"Y\",\"N\")","v":"N"},{"$f":"IF(Worksheet!$C$11=TRUE,\"Y\",\"N\")","v":"N"},{"$f":"IFERROR(IF(N(Worksheet!V27)=0,Worksheet!U27,Worksheet!V27),\"\")","v":0}]
[{"$f":"IF(ISBLANK(Worksheet!F28)=FALSE,VLOOKUP(Worksheet!A28,MeasureCode_Lookup,6,FALSE),\"\")","v":""},{"$f":"Worksheet!H28","v":0},{"$f":"Worksheet!I28","v":0},{"$f":"IFERROR(IF(Worksheet!Z28=0,Worksheet!Y28/I6,Worksheet!Z28/R6),0)","v":0},"W Controlled",null,null,{"$f":"IF(N(Worksheet!S28)=0,N(Worksheet!R28),N(Worksheet!S28))","v":0},{"$f":"IFERROR(Worksheet!W28/(Worksheet!R28+Worksheet!U28),0)","v":0},{"$f":"Worksheet!AE28","v":0},{"$f":"Worksheet!AD28","v":0},0,{"$f":"IF(Worksheet!AL28=0,0,Worksheet!AL28/I6)","v":0},0,null,null,null,{"$f":"IFERROR(Worksheet!X28/(Worksheet!S28+Worksheet!V28),0)","v":0},{"$f":"IF(Worksheet!E28=\"\",\"\",Worksheet!E28)","v":""},{"$f":"IF(Worksheet!B28=\"\",\"\",Worksheet!B28)","v":""},{"$f":"IF(Worksheet!D28=\"\",\"\",Worksheet!D28)","v":""},{"$f":"IF(Worksheet!$A$11=TRUE,\"Y\",\"N\")","v":"N"},{"$f":"IF(Worksheet!$A$12=TRUE,\"Y\",\"N\")","v":"N"},{"$f":"IF(Worksheet!$B$11=TRUE,\"Y\",\"N\")","v":"N"},{"$f":"IF(Worksheet!$B$12=TRUE,\"Y\",\"N\")","v":"N"},{"$f":"IF(Worksheet!$C$11=TRUE,\"Y\",\"N\")","v":"N"},{"$f":"IFERROR(IF(N(Worksheet!V28)=0,Worksheet!U28,Worksheet!V28),\"\")","v":0}]
[{"$f":"IF(ISBLANK(Worksheet!F29)=FALSE,VLOOKUP(Worksheet!A29,MeasureCode_Lookup,6,FALSE),\"\")","v":""},{"$f":"Worksheet!H29","v":0},{"$f":"Worksheet!I29","v":0},{"$f":"IFERROR(IF(Worksheet!Z29=0,Worksheet!Y29/I7,Worksheet!Z29/R7),0)","v":0},"W Controlled",null,null,{"$f":"IF(N(Worksheet!S29)=0,N(Worksheet!R29),N(Worksheet!S29))","v":0},{"$f":"IFERROR(Worksheet!W29/(Worksheet!R29+Worksheet!U29),0)","v":0},{"$f":"Worksheet!AE29","v":0},{"$f":"Worksheet!AD29","v":0},0,{"$f":"IF(Worksheet!AL29=0,0,Worksheet!AL29/I7)","v":0},0,null,null,null,{"$f":"IFERROR(Worksheet!X29/(Worksheet!S29+Worksheet!V29),0)","v":0},{"$f":"IF(Worksheet!E29=\"\",\"\",Worksheet!E29)","v":""},{"$f":"IF(Worksheet!B29=\"\",\"\",Worksheet!B29)","v":""},{"$f":"IF(Worksheet!D29=\"\",\"\",Worksheet!D29)","v":""},{"$f":"IF(Worksheet!$A$11=TRUE,\"Y\",\"N\")","v":"N"},{"$f":"IF(Worksheet!$A$12=TRUE,\"Y\",\"N\")","v":"N"},{"$f":"IF(Worksheet!$B$11=TRUE,\"Y\",\"N\")","v":"N"},{"$f":"IF(Worksheet!$B$12=TRUE,\"Y\",\"N\")","v":"N"},{"$f":"IF(Worksheet!$C$11=TRUE,\"Y\",\"N\")","v":"N"},{"$f":"IFERROR(IF(N(Worksheet!V29)=0,Worksheet!U29,Worksheet!V29),\"\")","v":0}]
[{"$f":"IF(ISBLANK(Worksheet!F30)=FALSE,VLOOKUP(Worksheet!A30,MeasureCode_Lookup,6,FALSE),\"\")","v":""},{"$f":"Worksheet!H30","v":0},{"$f":"Worksheet!I30","v":0},{"$f":"IFERROR(IF(Worksheet!Z30=0,Worksheet!Y30/I8,Worksheet!Z30/R8),0)","v":0},"W Controlled",null,null,{"$f":"IF(N(Worksheet!S30)=0,N(Worksheet!R30),N(Worksheet!S30))","v":0},{"$f":"IFERROR(Worksheet!W30/(Worksheet!R30+Worksheet!U30),0)","v":0},{"$f":"Worksheet!AE30","v":0},{"$f":"Worksheet!AD30","v":0},0,{"$f":"IF(Worksheet!AL30=0,0,Worksheet!AL30/I8)","v":0},0,null,null,null,{"$f":"IFERROR(Worksheet!X30/(Worksheet!S30+Worksheet!V30),0)","v":0},{"$f":"IF(Worksheet!E30=\"\",\"\",Worksheet!E30)","v":""},{"$f":"IF(Worksheet!B30=\"\",\"\",Worksheet!B30)","v":""},{"$f":"IF(Worksheet!D30=\"\",\"\",Worksheet!D30)","v":""},{"$f":"IF(Worksheet!$A$11=TRUE,\"Y\",\"N\")","v":"N"},{"$f":"IF(Worksheet!$A$12=TRUE,\"Y\",\"N\")","v":"N"},{"$f":"IF(Worksheet!$B$11=TRUE,\"Y\",\"N\")","v":"N"},{"$f":"IF(Worksheet!$B$12=TRUE,\"Y\",\"N\")","v":"N"},{"$f":"IF(Worksheet!$C$11=TRUE,\"Y\",\"N\")","v":"N"},{"$f":"IFERROR(IF(N(Worksheet!V30)=0,Worksheet!U30,Worksheet!V30),\"\")","v":0}]
[{"$f":"IF(ISBLANK(Worksheet!F31)=FALSE,VLOOKUP(Worksheet!A31,MeasureCode_Lookup,6,FALSE),\"\")","v":""},{"$f":"Worksheet!H31","v":0},{"$f":"Worksheet!I31","v":0},{"$f":"IFERROR(IF(Worksheet!Z31=0,Worksheet!Y31/I9,Worksheet!Z31/R9),0)","v":0},"W Controlled",null,null,{"$f":"IF(N(Worksheet!S31)=0,N(Worksheet!R31),N(Worksheet!S31))","v":0},{"$f":"IFERROR(Worksheet!W31/(Worksheet!R31+Worksheet!U31),0)","v":0},{"$f":"Worksheet!AE31","v":0},{"$f":"Worksheet!AD31","v":0},0,{"$f":"IF(Worksheet!AL31=0,0,Worksheet!AL31/I9)","v":0},0,null,null,null,{"$f":"IFERROR(Worksheet!X31/(Worksheet!S31+Worksheet!V31),0)","v":0},{"$f":"IF(Worksheet!E31=\"\",\"\",Worksheet!E31)","v":""},{"$f":"IF(Worksheet!B31=\"\",\"\",Worksheet!B31)","v":""},{"$f":"IF(Worksheet!D31=\"\",\"\",Worksheet!D31)","v":""},{"$f":"IF(Worksheet!$A$11=TRUE,\"Y\",\"N\")","v":"N"},{"$f":"IF(Worksheet!$A$12=TRUE,\"Y\",\"N\")","v":"N"},{"$f":"IF(Worksheet!$B$11=TRUE,\"Y\",\"N\")","v":"N"},{"$f":"IF(Worksheet!$B$12=TRUE,\"Y\",\"N\")","v":"N"},{"$f":"IF(Worksheet!$C$11=TRUE,\"Y\",\"N\")","v":"N"},{"$f":"IFERROR(IF(N(Worksheet!V31)=0,Worksheet!U31,Worksheet!V31),\"\")","v":0}]
[{"$f":"IF(ISBLANK(Worksheet!F32)=FALSE,VLOOKUP(Worksheet!A32,MeasureCode_Lookup,6,FALSE),\"\")","v":""},{"$f":"Worksheet!H32","v":0},{"$f":"Worksheet!I32","v":0},{"$f":"IFERROR(IF(Worksheet!Z32=0,Worksheet!Y32/I10,Worksheet!Z32/R10),0)","v":0},"W Controlled",null,null,{"$f":"IF(N(Worksheet!S32)=0,N(Worksheet!R32),N(Worksheet!S32))","v":0},{"$f":"IFERROR(Worksheet!W32/(Worksheet!R32+Worksheet!U32),0)","v":0},{"$f":"Worksheet!AE32","v":0},{"$f":"Worksheet!AD32","v":0},0,{"$f":"IF(Worksheet!AL32=0,0,Worksheet!AL32/I10)","v":0},0,null,null,null,{"$f":"IFERROR(Worksheet!X32/(Worksheet!S32+Worksheet!V32),0)","v":0},{"$f":"IF(Worksheet!E32=\"\",\"\",Worksheet!E32)","v":""},{"$f":"IF(Worksheet!B32=\"\",\"\",Worksheet!B32)","v":""},{"$f":"IF(Worksheet!D32=\"\",\"\",Worksheet!D32)","v":""},{"$f":"IF(Worksheet!$A$11=TRUE,\"Y\",\"N\")","v":"N"},{"$f":"IF(Worksheet!$A$12=TRUE,\"Y\",\"N\")","v":"N"},{"$f":"IF(Worksheet!$B$11=TRUE,\"Y\",\"N\")","v":"N"},{"$f":"IF(Worksheet!$B$12=TRUE,\"Y\",\"N\")","v":"N"},{"$f":"IF(Worksheet!$C$11=TRUE,\"Y\",\"N\")","v":"N"},{"$f":"IFERROR(IF(N(Worksheet!V32)=0,Worksheet!U32,Worksheet!V32),\"\")","v":0}]
[{"$f":"IF(ISBLANK(Worksheet!F33)=FALSE,VLOOKUP(Worksheet!A33,MeasureCode_Lookup,6,FALSE),\"\")","v":""},{"$f":"Worksheet!H33","v":0},{"$f":"Worksheet!I33","v":0},{"$f":"IFERROR(IF(Worksheet!Z33=0,Worksheet!Y33/I11,Worksheet!Z33/R11),0)","v":0},"W Controlled",null,null,{"$f":"IF(N(Worksheet!S33)=0,N(Worksheet!R33),N(Worksheet!S33))","v":0},{"$f":"IFERROR(Worksheet!W33/(Worksheet!R33+Worksheet!U33),0)","v":0},{"$f":"Worksheet!AE33","v":0},{"$f":"Worksheet!AD33","v":0},0,{"$f":"IF(Worksheet!AL33=0,0,Worksheet!AL33/I11)","v":0},0,null,null,null,{"$f":"IFERROR(Worksheet!X33/(Worksheet!S33+Worksheet!V33),0)","v":0},{"$f":"IF(Worksheet!E33=\"\",\"\",Worksheet!E33)","v":""},{"$f":"IF(Worksheet!B33=\"\",\"\",Worksheet!B33)","v":""},{"$f":"IF(Worksheet!D33=\"\",\"\",Worksheet!D33)","v":""},{"$f":"IF(Worksheet!$A$11=TRUE,\"Y\",\"N\")","v":"N"},{"$f":"IF(Worksheet!$A$12=TRUE,\"Y\",\"N\")","v":"N"},{"$f":"IF(Worksheet!$B$11=TRUE,\"Y\",\"N\")","v":"N"},{"$f":"IF(Worksheet!$B$12=TRUE,\"Y\",\"N\")","v":"N"},{"$f":"IF(Worksheet!$C$11=TRUE,\"Y\",\"N\")","v":"N"},{"$f":"IFERROR(IF(N(Worksheet!V33)=0,Worksheet!U33,Worksheet!V33),\"\")","v":0}]
[{"$f":"IF(ISBLANK(Worksheet!F34)=FALSE,VLOOKUP(Worksheet!A34,MeasureCode_Lookup,6,FALSE),\"\")","v":""},{"$f":"Worksheet!H34","v":0},{"$f":"Worksheet!I34","v":0},{"$f":"IFERROR(IF(Worksheet!Z34=0,Worksheet!Y34/I12,Worksheet!Z34/R12),0)","v":0},"W Controlled",null,null,{"$f":"IF(N(Worksheet!S34)=0,N(Worksheet!R34),N(Worksheet!S34))","v":0},{"$f":"IFERROR(Worksheet!W34/(Worksheet!R34+Worksheet!U34),0)","v":0},{"$f":"Worksheet!AE34","v":0},{"$f":"Worksheet!AD34","v":0},0,{"$f":"IF(Worksheet!AL34=0,0,Worksheet!AL34/I12)","v":0},0,null,null,null,{"$f":"IFERROR(Worksheet!X34/(Worksheet!S34+Worksheet!V34),0)","v":0},{"$f":"IF(Worksheet!E34=\"\",\"\",Worksheet!E34)","v":""},{"$f":"IF(Worksheet!B34=\"\",\"\",Worksheet!B34)","v":""},{"$f":"IF(Worksheet!D34=\"\",\"\",Worksheet!D34)","v":""},{"$f":"IF(Worksheet!$A$11=TRUE,\"Y\",\"N\")","v":"N"},{"$f":"IF(Worksheet!$A$12=TRUE,\"Y\",\"N\")","v":"N"},{"$f":"IF(Worksheet!$B$11=TRUE,\"Y\",\"N\")","v":"N"},{"$f":"IF(Worksheet!$B$12=TRUE,\"Y\",\"N\")","v":"N"},{"$f":"IF(Worksheet!$C$11=TRUE,\"Y\",\"N\")","v":"N"},{"$f":"IFERROR(IF(N(Worksheet!V34)=0,Worksheet!U34,Worksheet!V34),\"\")","v":0}]
[{"$f":"IF(ISBLANK(Worksheet!F35)=FALSE,VLOOKUP(Worksheet!A35,MeasureCode_Lookup,6,FALSE),\"\")","v":""},{"$f":"Worksheet!H35","v":0},{"$f":"Worksheet!I35","v":0},{"$f":"IFERROR(IF(Worksheet!Z35=0,Worksheet!Y35/I13,Worksheet!Z35/R13),0)","v":0},"W Controlled",null,null,{"$f":"IF(N(Worksheet!S35)=0,N(Worksheet!R35),N(Worksheet!S35))","v":0},{"$f":"IFERROR(Worksheet!W35/(Worksheet!R35+Worksheet!U35),0)","v":0},{"$f":"Worksheet!AE35","v":0},{"$f":"Worksheet!AD35","v":0},0,{"$f":"IF(Worksheet!AL35=0,0,Worksheet!AL35/I13)","v":0},0,null,null,null,{"$f":"IFERROR(Worksheet!X35/(Worksheet!S35+Worksheet!V35),0)","v":0},{"$f":"IF(Worksheet!E35=\"\",\"\",Worksheet!E35)","v":""},{"$f":"IF(Worksheet!B35=\"\",\"\",Worksheet!B35)","v":""},{"$f":"IF(Worksheet!D35=\"\",\"\",Worksheet!D35)","v":""},{"$f":"IF(Worksheet!$A$11=TRUE,\"Y\",\"N\")","v":"N"},{"$f":"IF(Worksheet!$A$12=TRUE,\"Y\",\"N\")","v":"N"},{"$f":"IF(Worksheet!$B$11=TRUE,\"Y\",\"N\")","v":"N"},{"$f":"IF(Worksheet!$B$12=TRUE,\"Y\",\"N\")","v":"N"},{"$f":"IF(Worksheet!$C$11=TRUE,\"Y\",\"N\")","v":"N"},{"$f":"IFERROR(IF(N(Worksheet!V35)=0,Worksheet!U35,Worksheet!V35),\"\")","v":0}]
[{"$f":"IF(ISBLANK(Worksheet!F36)=FALSE,VLOOKUP(Worksheet!A36,MeasureCode_Lookup,6,FALSE),\"\")","v":""},{"$f":"Worksheet!H36","v":0},{"$f":"Worksheet!I36","v":0},{"$f":"IFERROR(IF(Worksheet!Z36=0,Worksheet!Y36/I14,Worksheet!Z36/R14),0)","v":0},"W Controlled",null,null,{"$f":"IF(N(Worksheet!S36)=0,N(Worksheet!R36),N(Worksheet!S36))","v":0},{"$f":"IFERROR(Worksheet!W36/(Worksheet!R36+Worksheet!U36),0)","v":0},{"$f":"Worksheet!AE36","v":0},{"$f":"Worksheet!AD36","v":0},0,{"$f":"IF(Worksheet!AL36=0,0,Worksheet!AL36/I14)","v":0},0,null,null,null,{"$f":"IFERROR(Worksheet!X36/(Worksheet!S36+Worksheet!V36),0)","v":0},{"$f":"IF(Worksheet!E36=\"\",\"\",Worksheet!E36)","v":""},{"$f":"IF(Worksheet!B36=\"\",\"\",Worksheet!B36)","v":""},{"$f":"IF(Worksheet!D36=\"\",\"\",Worksheet!D36)","v":""},{"$f":"IF(Worksheet!$A$11=TRUE,\"Y\",\"N\")","v":"N"},{"$f":"IF(Worksheet!$A$12=TRUE,\"Y\",\"N\")","v":"N"},{"$f":"IF(Worksheet!$B$11=TRUE,\"Y\",\"N\")","v":"N"},{"$f":"IF(Worksheet!$B$12=TRUE,\"Y\",\"N\")","v":"N"},{"$f":"IF(Worksheet!$C$11=TRUE,\"Y\",\"N\")","v":"N"},{"$f":"IFERROR(IF(N(Worksheet!V36)=0,Worksheet!U36,Worksheet!V36),\"\")","v":0}]
[{"$f":"IF(ISBLANK(Worksheet!F37)=FALSE,VLOOKUP(Worksheet!A37,MeasureCode_Lookup,6,FALSE),\"\")","v":""},{"$f":"Worksheet!H37","v":0},{"$f":"Worksheet!I37","v":0},{"$f":"IFERROR(IF(Worksheet!Z37=0,Worksheet!Y37/I15,Worksheet!Z37/R15),0)","v":0},"W Controlled",null,null,{"$f":"IF(N(Worksheet!S37)=0,N(Worksheet!R37),N(Worksheet!S37))","v":0},{"$f":"IFERROR(Worksheet!W37/(Worksheet!R37+Worksheet!U37),0)","v":0},{"$f":"Worksheet!AE37","v":0},{"$f":"Worksheet!AD37","v":0},0,{"$f":"IF(Worksheet!AL37=0,0,Worksheet!AL37/I15)","v":0},0,null,null,null,{"$f":"IFERROR(Worksheet!X37/(Worksheet!S37+Worksheet!V37),0)","v":0},{"$f":"IF(Worksheet!E37=\"\",\"\",Worksheet!E37)","v":""},{"$f":"IF(Worksheet!B37=\"\",\"\",Worksheet!B37)","v":""},{"$f":"IF(Worksheet!D37=\"\",\"\",Worksheet!D37)","v":""},{"$f":"IF(Worksheet!$A$11=TRUE,\"Y\",\"N\")","v":"N"},{"$f":"IF(Worksheet!$A$12=TRUE,\"Y\",\"N\")","v":"N"},{"$f":"IF(Worksheet!$B$11=TRUE,\"Y\",\"N\")","v":"N"},{"$f":"IF(Worksheet!$B$12=TRUE,\"Y\",\"N\")","v":"N"},{"$f":"IF(Worksheet!$C$11=TRUE,\"Y\",\"N\")","v":"N"},{"$f":"IFERROR(IF(N(Worksheet!V37)=0,Worksheet!U37,Worksheet!V37),\"\")","v":0}]
[{"$f":"IF(ISBLANK(Worksheet!F38)=FALSE,VLOOKUP(Worksheet!A38,MeasureCode_Lookup,6,FALSE),\"\")","v":""},{"$f":"Worksheet!H38","v":0},{"$f":"Worksheet!I38","v":0},{"$f":"IFERROR(IF(Worksheet!Z38=0,Worksheet!Y38/I16,Worksheet!Z38/R16),0)","v":0},"W Controlled",null,null,{"$f":"IF(N(Worksheet!S38)=0,N(Worksheet!R38),N(Worksheet!S38))","v":0},{"$f":"IFERROR(Worksheet!W38/(Worksheet!R38+Worksheet!U38),0)","v":0},{"$f":"Worksheet!AE38","v":0},{"$f":"Worksheet!AD38","v":0},0,{"$f":"IF(Worksheet!AL38=0,0,Worksheet!AL38/I16)","v":0},0,null,null,null,{"$f":"IFERROR(Worksheet!X38/(Worksheet!S38+Worksheet!V38),0)","v":0},{"$f":"IF(Worksheet!E38=\"\",\"\",Worksheet!E38)","v":""},{"$f":"IF(Worksheet!B38=\"\",\"\",Worksheet!B38)","v":""},{"$f":"IF(Worksheet!D38=\"\",\"\",Worksheet!D38)","v":""},{"$f":"IF(Worksheet!$A$11=TRUE,\"Y\",\"N\")","v":"N"},{"$f":"IF(Worksheet!$A$12=TRUE,\"Y\",\"N\")","v":"N"},{"$f":"IF(Worksheet!$B$11=TRUE,\"Y\",\"N\")","v":"N"},{"$f":"IF(Worksheet!$B$12=TRUE,\"Y\",\"N\")","v":"N"},{"$f":"IF(Worksheet!$C$11=TRUE,\"Y\",\"N\")","v":"N"},{"$f":"IFERROR(IF(N(Worksheet!V38)=0,Worksheet!U38,Worksheet!V38),\"\")","v":0}]
[{"$f":"IF(ISBLANK(Worksheet!F39)=FALSE,VLOOKUP(Worksheet!A39,MeasureCode_Lookup,6,FALSE),\"\")","v":""},{"$f":"Worksheet!H39","v":0},{"$f":"Worksheet!I39","v":0},{"$f":"IFERROR(IF(Worksheet!Z39=0,Worksheet!Y39/I17,Worksheet!Z39/R17),0)","v":0},"W Controlled",null,null,{"$f":"IF(N(Worksheet!S39)=0,N(Worksheet!R39),N(Worksheet!S39))","v":0},{"$f":"IFERROR(Worksheet!W39/(Worksheet!R39+Worksheet!U39),0)","v":0},{"$f":"Worksheet!AE39","v":0},{"$f":"Worksheet!AD39","v":0},0,{"$f":"IF(Worksheet!AL39=0,0,Worksheet!AL39/I17)","v":0},0,null,null,null,{"$f":"IFERROR(Worksheet!X39/(Worksheet!S39+Worksheet!V39),0)","v":0},{"$f":"IF(Worksheet!E39=\"\",\"\",Worksheet!E39)","v":""},{"$f":"IF(Worksheet!B39=\"\",\"\",Worksheet!B39)","v":""},{"$f":"IF(Worksheet!D39=\"\",\"\",Worksheet!D39)","v":""},{"$f":"IF(Worksheet!$A$11=TRUE,\"Y\",\"N\")","v":"N"},{"$f":"IF(Worksheet!$A$12=TRUE,\"Y\",\"N\")","v":"N"},{"$f":"IF(Worksheet!$B$11=TRUE,\"Y\",\"N\")","v":"N"},{"$f":"IF(Worksheet!$B$12=TRUE,\"Y\",\"N\")","v":"N"},{"$f":"IF(Worksheet!$C$11=TRUE,\"Y\",\"N\")","v":"N"},{"$f":"IFERROR(IF(N(Worksheet!V39)=0,Worksheet!U39,Worksheet!V39),\"\")","v":0}]
[{"$f":"IF(ISBLANK(Worksheet!F40)=FALSE,VLOOKUP(Worksheet!A40,MeasureCode_Lookup,6,FALSE),\"\")","v":""},{"$f":"Worksheet!H40","v":0},{"$f":"Worksheet!I40","v":0},{"$f":"IFERROR(IF(Worksheet!Z40=0,Worksheet!Y40/I18,Worksheet!Z40/R18),0)","v":0},"W Controlled",null,null,{"$f":"IF(N(Worksheet!S40)=0,N(Worksheet!R40),N(Worksheet!S40))","v":0},{"$f":"IFERROR(Worksheet!W40/(Worksheet!R40+Worksheet!U40),0)","v":0},{"$f":"Worksheet!AE40","v":0},{"$f":"Worksheet!AD40","v":0},0,{"$f":"IF(Worksheet!AL40=0,0,Worksheet!AL40/I18)","v":0},0,null,null,null,{"$f":"IFERROR(Worksheet!X40/(Worksheet!S40+Worksheet!V40),0)","v":0},{"$f":"IF(Worksheet!E40=\"\",\"\",Worksheet!E40)","v":""},{"$f":"IF(Worksheet!B40=\"\",\"\",Worksheet!B40)","v":""},{"$f":"IF(Worksheet!D40=\"\",\"\",Worksheet!D40)","v":""},{"$f":"IF(Worksheet!$A$11=TRUE,\"Y\",\"N\")","v":"N"},{"$f":"IF(Worksheet!$A$12=TRUE,\"Y\",\"N\")","v":"N"},{"$f":"IF(Worksheet!$B$11=TRUE,\"Y\",\"N\")","v":"N"},{"$f":"IF(Worksheet!$B$12=TRUE,\"Y\",\"N\")","v":"N"},{"$f":"IF(Worksheet!$C$11=TRUE,\"Y\",\"N\")","v":"N"},{"$f":"IFERROR(IF(N(Worksheet!V40)=0,Worksheet!U40,Worksheet!V40),\"\")","v":0}]
[{"$f":"IF(ISBLANK(Worksheet!F41)=FALSE,VLOOKUP(Worksheet!A41,MeasureCode_Lookup,6,FALSE),\"\")","v":""},{"$f":"Worksheet!H41","v":0},{"$f":"Worksheet!I41","v":0},{"$f":"IFERROR(IF(Worksheet!Z41=0,Worksheet!Y41/I19,Worksheet!Z41/R19),0)","v":0},"W Controlled",null,null,{"$f":"IF(N(Worksheet!S41)=0,N(Worksheet!R41),N(Worksheet!S41))","v":0},{"$f":"IFERROR(Worksheet!W41/(Worksheet!R41+Worksheet!U41),0)","v":0},{"$f":"Worksheet!AE41","v":0},{"$f":"Worksheet!AD41","v":0},0,{"$f":"IF(Worksheet!AL41=0,0,Worksheet!AL41/I19)","v":0},0,null,null,null,{"$f":"IFERROR(Worksheet!X41/(Worksheet!S41+Worksheet!V41),0)","v":0},{"$f":"IF(Worksheet!E41=\"\",\"\",Worksheet!E41)","v":""},{"$f":"IF(Worksheet!B41=\"\",\"\",Worksheet!B41)","v":""},{"$f":"IF(Worksheet!D41=\"\",\"\",Worksheet!D41)","v":""},{"$f":"IF(Worksheet!$A$11=TRUE,\"Y\",\"N\")","v":"N"},{"$f":"IF(Worksheet!$A$12=TRUE,\"Y\",\"N\")","v":"N"},{"$f":"IF(Worksheet!$B$11=TRUE,\"Y\",\"N\")","v":"N"},{"$f":"IF(Worksheet!$B$12=TRUE,\"Y\",\"N\")","v":"N"},{"$f":"IF(Worksheet!$C$11=TRUE,\"Y\",\"N\")","v":"N"},{"$f":"IFERROR(IF(N(Worksheet!V41)=0,Worksheet!U41,Worksheet!V41),\"\")","v":0}]
[{"$f":"IF(ISBLANK(Worksheet!F42)=FALSE,VLOOKUP(Worksheet!A42,MeasureCode_Lookup,6,FALSE),\"\")","v":""},{"$f":"Worksheet!H42","v":0},{"$f":"Worksheet!I42","v":0},{"$f":"IFERROR(IF(Worksheet!Z42=0,Worksheet!Y42/I20,Worksheet!Z42/R20),0)","v":0},"W Controlled",null,null,{"$f":"IF(N(Worksheet!S42)=0,N(Worksheet!R42),N(Worksheet!S42))","v":0},{"$f":"IFERROR(Worksheet!W42/(Worksheet!R42+Worksheet!U42),0)","v":0},{"$f":"Worksheet!AE42","v":0},{"$f":"Worksheet!AD42","v":0},0,{"$f":"IF(Worksheet!AL42=0,0,Worksheet!AL42/I20)","v":0},0,null,null,null,{"$f":"IFERROR(Worksheet!X42/(Worksheet!S42+Worksheet!V42),0)","v":0},{"$f":"IF(Worksheet!E42=\"\",\"\",Worksheet!E42)","v":""},{"$f":"IF(Worksheet!B42=\"\",\"\",Worksheet!B42)","v":""},{"$f":"IF(Worksheet!D42=\"\",\"\",Worksheet!D42)","v":""},{"$f":"IF(Worksheet!$A$11=TRUE,\"Y\",\"N\")","v":"N"},{"$f":"IF(Worksheet!$A$12=TRUE,\"Y\",\"N\")","v":"N"},{"$f":"IF(Worksheet!$B$11=TRUE,\"Y\",\"N\")","v":"N"},{"$f":"IF(Worksheet!$B$12=TRUE,\"Y\",\"N\")","v":"N"},{"$f":"IF(Worksheet!$C$11=TRUE,\"Y\",\"N\")","v":"N"},{"$f":"IFERROR(IF(N(Worksheet!V42)=0,Worksheet!U42,Worksheet!V42),\"\")","v":0}]
[{"$f":"IF(ISBLANK(Worksheet!F43)=FALSE,VLOOKUP(Worksheet!A43,MeasureCode_Lookup,6,FALSE),\"\")","v":""},{"$f":"Worksheet!H43","v":0},{"$f":"Worksheet!I43","v":0},{"$f":"IFERROR(IF(Worksheet!Z43=0,Worksheet!Y43/I21,Worksheet!Z43/R21),0)","v":0},"W Controlled",null,null,{"$f":"IF(N(Worksheet!S43)=0,N(Worksheet!R43),N(Worksheet!S43))","v":0},{"$f":"IFERROR(Worksheet!W43/(Worksheet!R43+Worksheet!U43),0)","v":0},{"$f":"Worksheet!AE43","v":0},{"$f":"Worksheet!AD43","v":0},0,{"$f":"IF(Worksheet!AL43=0,0,Worksheet!AL43/I21)","v":0},0,null,null,null,{"$f":"IFERROR(Worksheet!X43/(Worksheet!S43+Worksheet!V43),0)","v":0},{"$f":"IF(Worksheet!E43=\"\",\"\",Worksheet!E43)","v":""},{"$f":"IF(Worksheet!B43=\"\",\"\",Worksheet!B43)","v":""},{"$f":"IF(Worksheet!D43=\"\",\"\",Worksheet!D43)","v":""},{"$f":"IF(Worksheet!$A$11=TRUE,\"Y\",\"N\")","v":"N"},{"$f":"IF(Worksheet!$A$12=TRUE,\"Y\",\"N\")","v":"N"},{"$f":"IF(Worksheet!$B$11=TRUE,\"Y\",\"N\")","v":"N"},{"$f":"IF(Worksheet!$B$12=TRUE,\"Y\",\"N\")","v":"N"},{"$f":"IF(Worksheet!$C$11=TRUE,\"Y\",\"N\")","v":"N"},{"$f":"IFERROR(IF(N(Worksheet!V43)=0,Worksheet!U43,Worksheet!V43),\"\")","v":0}]
[{"$f":"IF(ISBLANK(Worksheet!F44)=FALSE,VLOOKUP(Worksheet!A44,MeasureCode_Lookup,6,FALSE),\"\")","v":""},{"$f":"Worksheet!H44","v":0},{"$f":"Worksheet!I44","v":0},{"$f":"IFERROR(IF(Worksheet!Z44=0,Worksheet!Y44/I22,Worksheet!Z44/R22),0)","v":0},"W Controlled",null,null,{"$f":"IF(N(Worksheet!S44)=0,N(Worksheet!R44),N(Worksheet!S44))","v":0},{"$f":"IFERROR(Worksheet!W44/(Worksheet!R44+Worksheet!U44),0)","v":0},{"$f":"Worksheet!AE44","v":0},{"$f":"Worksheet!AD44","v":0},0,{"$f":"IF(Worksheet!AL44=0,0,Worksheet!AL44/I22)","v":0},0,null,null,null,{"$f":"IFERROR(Worksheet!X44/(Worksheet!S44+Worksheet!V44),0)","v":0},{"$f":"IF(Worksheet!E44=\"\",\"\",Worksheet!E44)","v":""},{"$f":"IF(Worksheet!B44=\"\",\"\",Worksheet!B44)","v":""},{"$f":"IF(Worksheet!D44=\"\",\"\",Worksheet!D44)","v":""},{"$f":"IF(Worksheet!$A$11=TRUE,\"Y\",\"N\")","v":"N"},{"$f":"IF(Worksheet!$A$12=TRUE,\"Y\",\"N\")","v":"N"},{"$f":"IF(Worksheet!$B$11=TRUE,\"Y\",\"N\")","v":"N"},{"$f":"IF(Worksheet!$B$12=TRUE,\"Y\",\"N\")","v":"N"},{"$f":"IF(Worksheet!$C$11=TRUE,\"Y\",\"N\")","v":"N"},{"$f":"IFERROR(IF(N(Worksheet!V44)=0,Worksheet!U44,Worksheet!V44),\"\")","v":0}]
[{"$f":"IF(ISBLANK(Worksheet!F45)=FALSE,VLOOKUP(Worksheet!A45,MeasureCode_Lookup,6,FALSE),\"\")","v":""},{"$f":"Worksheet!H45","v":0},{"$f":"Worksheet!I45","v":0},{"$f":"IFERROR(IF(Worksheet!Z45=0,Worksheet!Y45/I23,Worksheet!Z45/R23),0)","v":0},"W Controlled",null,null,{"$f":"IF(N(Worksheet!S45)=0,N(Worksheet!R45),N(Worksheet!S45))","v":0},{"$f":"IFERROR(Worksheet!W45/(Worksheet!R45+Worksheet!U45),0)","v":0},{"$f":"Worksheet!AE45","v":0},{"$f":"Worksheet!AD45","v":0},0,{"$f":"IF(Worksheet!AL45=0,0,Worksheet!AL45/I23)","v":0},0,null,null,null,{"$f":"IFERROR(Worksheet!X45/(Worksheet!S45+Worksheet!V45),0)","v":0},{"$f":"IF(Worksheet!E45=\"\",\"\",Worksheet!E45)","v":""},{"$f":"IF(Worksheet!B45=\"\",\"\",Worksheet!B45)","v":""},{"$f":"IF(Worksheet!D45=\"\",\"\",Worksheet!D45)","v":""},{"$f":"IF(Worksheet!$A$11=TRUE,\"Y\",\"N\")","v":"N"},{"$f":"IF(Worksheet!$A$12=TRUE,\"Y\",\"N\")","v":"N"},{"$f":"IF(Worksheet!$B$11=TRUE,\"Y\",\"N\")","v":"N"},{"$f":"IF(Worksheet!$B$12=TRUE,\"Y\",\"N\")","v":"N"},{"$f":"IF(Worksheet!$C$11=TRUE,\"Y\",\"N\")","v":"N"},{"$f":"IFERROR(IF(N(Worksheet!V45)=0,Worksheet!U45,Worksheet!V45),\"\")","v":0}]
[{"$f":"IF(ISBLANK(Worksheet!F46)=FALSE,VLOOKUP(Worksheet!A46,MeasureCode_Lookup,6,FALSE),\"\")","v":""},{"$f":"Worksheet!H46","v":0},{"$f":"Worksheet!I46","v":0},{"$f":"IFERROR(IF(Worksheet!Z46=0,Worksheet!Y46/I24,Worksheet!Z46/R24),0)","v":0},"W Controlled",null,null,{"$f":"IF(N(Worksheet!S46)=0,N(Worksheet!R46),N(Worksheet!S46))","v":0},{"$f":"IFERROR(Worksheet!W46/(Worksheet!R46+Worksheet!U46),0)","v":0},{"$f":"Worksheet!AE46","v":0},{"$f":"Worksheet!AD46","v":0},0,{"$f":"IF(Worksheet!AL46=0,0,Worksheet!AL46/I24)","v":0},0,null,null,null,{"$f":"IFERROR(Worksheet!X46/(Worksheet!S46+Worksheet!V46),0)","v":0},{"$f":"IF(Worksheet!E46=\"\",\"\",Worksheet!E46)","v":""},{"$f":"IF(Worksheet!B46=\"\",\"\",Worksheet!B46)","v":""},{"$f":"IF(Worksheet!D46=\"\",\"\",Worksheet!D46)","v":""},{"$f":"IF(Worksheet!$A$11=TRUE,\"Y\",\"N\")","v":"N"},{"$f":"IF(Worksheet!$A$12=TRUE,\"Y\",\"N\")","v":"N"},{"$f":"IF(Worksheet!$B$11=TRUE,\"Y\",\"N\")","v":"N"},{"$f":"IF(Worksheet!$B$12=TRUE,\"Y\",\"N\")","v":"N"},{"$f":"IF(Worksheet!$C$11=TRUE,\"Y\",\"N\")","v":"N"},{"$f":"IFERROR(IF(N(Worksheet!V46)=0,Worksheet!U46,Worksheet!V46),\"\")","v":0}]
[{"$f":"IF(ISBLANK(Worksheet!F47)=FALSE,VLOOKUP(Worksheet!A47,MeasureCode_Lookup,6,FALSE),\"\")","v":""},{"$f":"Worksheet!H47","v":0},{"$f":"Worksheet!I47","v":0},{"$f":"IFERROR(IF(Worksheet!Z47=0,Worksheet!Y47/I25,Worksheet!Z47/R25),0)","v":0},"W Controlled",null,null,{"$f":"IF(N(Worksheet!S47)=0,N(Worksheet!R47),N(Worksheet!S47))","v":0},{"$f":"IFERROR(Worksheet!W47/(Worksheet!R47+Worksheet!U47),0)","v":0},{"$f":"Worksheet!AE47","v":0},{"$f":"Worksheet!AD47","v":0},0,{"$f":"IF(Worksheet!AL47=0,0,Worksheet!AL47/I25)","v":0},0,null,null,null,{"$f":"IFERROR(Worksheet!X47/(Worksheet!S47+Worksheet!V47),0)","v":0},{"$f":"IF(Worksheet!E47=\"\",\"\",Worksheet!E47)","v":""},{"$f":"IF(Worksheet!B47=\"\",\"\",Worksheet!B47)","v":""},{"$f":"IF(Worksheet!D47=\"\",\"\",Worksheet!D47)","v":""},{"$f":"IF(Worksheet!$A$11=TRUE,\"Y\",\"N\")","v":"N"},{"$f":"IF(Worksheet!$A$12=TRUE,\"Y\",\"N\")","v":"N"},{"$f":"IF(Worksheet!$B$11=TRUE,\"Y\",\"N\")","v":"N"},{"$f":"IF(Worksheet!$B$12=TRUE,\"Y\",\"N\")","v":"N"},{"$f":"IF(Worksheet!$C$11=TRUE,\"Y\",\"N\")","v":"N"},{"$f":"IFERROR(IF(N(Worksheet!V47)=0,Worksheet!U47,Worksheet!V47),\"\")","v":0}]
[{"$f":"IF(ISBLANK(Worksheet!F48)=FALSE,VLOOKUP(Worksheet!A48,MeasureCode_Lookup,6,FALSE),\"\")","v":""},{"$f":"Worksheet!H48","v":0},{"$f":"Worksheet!I48","v":0},{"$f":"IFERROR(IF(Worksheet!Z48=0,Worksheet!Y48/I26,Worksheet!Z48/R26),0)","v":0},"W Controlled",null,null,{"$f":"IF(N(Worksheet!S48)=0,N(Worksheet!R48),N(Worksheet!S48))","v":0},{"$f":"IFERROR(Worksheet!W48/(Worksheet!R48+Worksheet!U48),0)","v":0},{"$f":"Worksheet!AE48","v":0},{"$f":"Worksheet!AD48","v":0},0,{"$f":"IF(Worksheet!AL48=0,0,Worksheet!AL48/I26)","v":0},0,null,null,null,{"$f":"IFERROR(Worksheet!X48/(Worksheet!S48+Worksheet!V48),0)","v":0},{"$f":"IF(Worksheet!E48=\"\",\"\",Worksheet!E48)","v":""},{"$f":"IF(Worksheet!B48=\"\",\"\",Worksheet!B48)","v":""},{"$f":"IF(Worksheet!D48=\"\",\"\",Worksheet!D48)","v":""},{"$f":"IF(Worksheet!$A$11=TRUE,\"Y\",\"N\")","v":"N"},{"$f":"IF(Worksheet!$A$12=TRUE,\"Y\",\"N\")","v":"N"},{"$f":"IF(Worksheet!$B$11=TRUE,\"Y\",\"N\")","v":"N"},{"$f":"IF(Worksheet!$B$12=TRUE,\"Y\",\"N\")","v":"N"},{"$f":"IF(Worksheet!$C$11=TRUE,\"Y\",\"N\")","v":"N"},{"$f":"IFERROR(IF(N(Worksheet!V48)=0,Worksheet!U48,Worksheet!V48),\"\")","v":0}]
[{"$f":"IF(ISBLANK(Worksheet!F49)=FALSE,VLOOKUP(Worksheet!A49,MeasureCode_Lookup,6,FALSE),\"\")","v":""},{"$f":"Worksheet!H49","v":0},{"$f":"Worksheet!I49","v":0},{"$f":"IFERROR(IF(Worksheet!Z49=0,Worksheet!Y49/I27,Worksheet!Z49/R27),0)","v":0},"W Controlled",null,null,{"$f":"IF(N(Worksheet!S49)=0,N(Worksheet!R49),N(Worksheet!S49))","v":0},{"$f":"IFERROR(Worksheet!W49/(Worksheet!R49+Worksheet!U49),0)","v":0},{"$f":"Worksheet!AE49","v":0},{"$f":"Worksheet!AD49","v":0},0,{"$f":"IF(Worksheet!AL49=0,0,Worksheet!AL49/I27)","v":0},0,null,null,null,{"$f":"IFERROR(Worksheet!X49/(Worksheet!S49+Worksheet!V49),0)","v":0},{"$f":"IF(Worksheet!E49=\"\",\"\",Worksheet!E49)","v":""},{"$f":"IF(Worksheet!B49=\"\",\"\",Worksheet!B49)","v":""},{"$f":"IF(Worksheet!D49=\"\",\"\",Worksheet!D49)","v":""},{"$f":"IF(Worksheet!$A$11=TRUE,\"Y\",\"N\")","v":"N"},{"$f":"IF(Worksheet!$A$12=TRUE,\"Y\",\"N\")","v":"N"},{"$f":"IF(Worksheet!$B$11=TRUE,\"Y\",\"N\")","v":"N"},{"$f":"IF(Worksheet!$B$12=TRUE,\"Y\",\"N\")","v":"N"},{"$f":"IF(Worksheet!$C$11=TRUE,\"Y\",\"N\")","v":"N"},{"$f":"IFERROR(IF(N(Worksheet!V49)=0,Worksheet!U49,Worksheet!V49),\"\")","v":0}]
[{"$f":"IF(ISBLANK(Worksheet!F50)=FALSE,VLOOKUP(Worksheet!A50,MeasureCode_Lookup,6,FALSE),\"\")","v":""},{"$f":"Worksheet!H50","v":0},{"$f":"Worksheet!I50","v":0},{"$f":"IFERROR(IF(Worksheet!Z50=0,Worksheet!Y50/I28,Worksheet!Z50/R28),0)","v":0},"W Controlled",null,null,{"$f":"IF(N(Worksheet!S50)=0,N(Worksheet!R50),N(Worksheet!S50))","v":0},{"$f":"IFERROR(Worksheet!W50/(Worksheet!R50+Worksheet!U50),0)","v":0},{"$f":"Worksheet!AE50","v":0},{"$f":"Worksheet!AD50","v":0},0,{"$f":"IF(Worksheet!AL50=0,0,Worksheet!AL50/I28)","v":0},0,null,null,null,{"$f":"IFERROR(Worksheet!X50/(Worksheet!S50+Worksheet!V50),0)","v":0},{"$f":"IF(Worksheet!E50=\"\",\"\",Worksheet!E50)","v":""},{"$f":"IF(Worksheet!B50=\"\",\"\",Worksheet!B50)","v":""},{"$f":"IF(Worksheet!D50=\"\",\"\",Worksheet!D50)","v":""},{"$f":"IF(Worksheet!$A$11=TRUE,\"Y\",\"N\")","v":"N"},{"$f":"IF(Worksheet!$A$12=TRUE,\"Y\",\"N\")","v":"N"},{"$f":"IF(Worksheet!$B$11=TRUE,\"Y\",\"N\")","v":"N"},{"$f":"IF(Worksheet!$B$12=TRUE,\"Y\",\"N\")","v":"N"},{"$f":"IF(Worksheet!$C$11=TRUE,\"Y\",\"N\")","v":"N"},{"$f":"IFERROR(IF(N(Worksheet!V50)=0,Worksheet!U50,Worksheet!V50),\"\")","v":0}]
[{"$f":"IF(ISBLANK(Worksheet!F51)=FALSE,VLOOKUP(Worksheet!A51,MeasureCode_Lookup,6,FALSE),\"\")","v":""},{"$f":"Worksheet!H51","v":0},{"$f":"Worksheet!I51","v":0},{"$f":"IFERROR(IF(Worksheet!Z51=0,Worksheet!Y51/I29,Worksheet!Z51/R29),0)","v":0},"W Controlled",null,null,{"$f":"IF(N(Worksheet!S51)=0,N(Worksheet!R51),N(Worksheet!S51))","v":0},{"$f":"IFERROR(Worksheet!W51/(Worksheet!R51+Worksheet!U51),0)","v":0},{"$f":"Worksheet!AE51","v":0},{"$f":"Worksheet!AD51","v":0},0,{"$f":"IF(Worksheet!AL51=0,0,Worksheet!AL51/I29)","v":0},0,null,null,null,{"$f":"IFERROR(Worksheet!X51/(Worksheet!S51+Worksheet!V51),0)","v":0},{"$f":"IF(Worksheet!E51=\"\",\"\",Worksheet!E51)","v":""},{"$f":"IF(Worksheet!B51=\"\",\"\",Worksheet!B51)","v":""},{"$f":"IF(Worksheet!D51=\"\",\"\",Worksheet!D51)","v":""},{"$f":"IF(Worksheet!$A$11=TRUE,\"Y\",\"N\")","v":"N"},{"$f":"IF(Worksheet!$A$12=TRUE,\"Y\",\"N\")","v":"N"},{"$f":"IF(Worksheet!$B$11=TRUE,\"Y\",\"N\")","v":"N"},{"$f":"IF(Worksheet!$B$12=TRUE,\"Y\",\"N\")","v":"N"},{"$f":"IF(Worksheet!$C$11=TRUE,\"Y\",\"N\")","v":"N"},{"$f":"IFERROR(IF(N(Worksheet!V51)=0,Worksheet!U51,Worksheet!V51),\"\")","v":0}]
[{"$f":"IF(ISBLANK(Worksheet!F52)=FALSE,VLOOKUP(Worksheet!A52,MeasureCode_Lookup,6,FALSE),\"\")","v":""},{"$f":"Worksheet!H52","v":0},{"$f":"Worksheet!I52","v":0},{"$f":"IFERROR(IF(Worksheet!Z52=0,Worksheet!Y52/I30,Worksheet!Z52/R30),0)","v":0},"W Controlled",null,null,{"$f":"IF(N(Worksheet!S52)=0,N(Worksheet!R52),N(Worksheet!S52))","v":0},{"$f":"IFERROR(Worksheet!W52/(Worksheet!R52+Worksheet!U52),0)","v":0},{"$f":"Worksheet!AE52","v":0},{"$f":"Worksheet!AD52","v":0},0,{"$f":"IF(Worksheet!AL52=0,0,Worksheet!AL52/I30)","v":0},0,null,null,null,{"$f":"IFERROR(Worksheet!X52/(Worksheet!S52+Worksheet!V52),0)","v":0},{"$f":"IF(Worksheet!E52=\"\",\"\",Worksheet!E52)","v":""},{"$f":"IF(Worksheet!B52=\"\",\"\",Worksheet!B52)","v":""},{"$f":"IF(Worksheet!D52=\"\",\"\",Worksheet!D52)","v":""},{"$f":"IF(Worksheet!$A$11=TRUE,\"Y\",\"N\")","v":"N"},{"$f":"IF(Worksheet!$A$12=TRUE,\"Y\",\"N\")","v":"N"},{"$f":"IF(Worksheet!$B$11=TRUE,\"Y\",\"N\")","v":"N"},{"$f":"IF(Worksheet!$B$12=TRUE,\"Y\",\"N\")","v":"N"},{"$f":"IF(Worksheet!$C$11=TRUE,\"Y\",\"N\")","v":"N"},{"$f":"IFERROR(IF(N(Worksheet!V52)=0,Worksheet!U52,Worksheet!V52),\"\")","v":0}]
[{"$f":"IF(ISBLANK(Worksheet!F53)=FALSE,VLOOKUP(Worksheet!A53,MeasureCode_Lookup,6,FALSE),\"\")","v":""},{"$f":"Worksheet!H53","v":0},{"$f":"Worksheet!I53","v":0},{"$f":"IFERROR(IF(Worksheet!Z53=0,Worksheet!Y53/I31,Worksheet!Z53/R31),0)","v":0},"W Controlled",null,null,{"$f":"IF(N(Worksheet!S53)=0,N(Worksheet!R53),N(Worksheet!S53))","v":0},{"$f":"IFERROR(Worksheet!W53/(Worksheet!R53+Worksheet!U53),0)","v":0},{"$f":"Worksheet!AE53","v":0},{"$f":"Worksheet!AD53","v":0},0,{"$f":"IF(Worksheet!AL53=0,0,Worksheet!AL53/I31)","v":0},0,null,null,null,{"$f":"IFERROR(Worksheet!X53/(Worksheet!S53+Worksheet!V53),0)","v":0},{"$f":"IF(Worksheet!E53=\"\",\"\",Worksheet!E53)","v":""},{"$f":"IF(Worksheet!B53=\"\",\"\",Worksheet!B53)","v":""},{"$f":"IF(Worksheet!D53=\"\",\"\",Worksheet!D53)","v":""},{"$f":"IF(Worksheet!$A$11=TRUE,\"Y\",\"N\")","v":"N"},{"$f":"IF(Worksheet!$A$12=TRUE,\"Y\",\"N\")","v":"N"},{"$f":"IF(Worksheet!$B$11=TRUE,\"Y\",\"N\")","v":"N"},{"$f":"IF(Worksheet!$B$12=TRUE,\"Y\",\"N\")","v":"N"},{"$f":"IF(Worksheet!$C$11=TRUE,\"Y\",\"N\")","v":"N"},{"$f":"IFERROR(IF(N(Worksheet!V53)=0,Worksheet!U53,Worksheet!V53),\"\")","v":0}]
[{"$f":"IF(ISBLANK(Worksheet!F54)=FALSE,VLOOKUP(Worksheet!A54,MeasureCode_Lookup,6,FALSE),\"\")","v":""},{"$f":"Worksheet!H54","v":0},{"$f":"Worksheet!I54","v":0},{"$f":"IFERROR(IF(Worksheet!Z54=0,Worksheet!Y54/I32,Worksheet!Z54/R32),0)","v":0},"W Controlled",null,null,{"$f":"IF(N(Worksheet!S54)=0,N(Worksheet!R54),N(Worksheet!S54))","v":0},{"$f":"IFERROR(Worksheet!W54/(Worksheet!R54+Worksheet!U54),0)","v":0},{"$f":"Worksheet!AE54","v":0},{"$f":"Worksheet!AD54","v":0},0,{"$f":"IF(Worksheet!AL54=0,0,Worksheet!AL54/I32)","v":0},0,null,null,null,{"$f":"IFERROR(Worksheet!X54/(Worksheet!S54+Worksheet!V54),0)","v":0},{"$f":"IF(Worksheet!E54=\"\",\"\",Worksheet!E54)","v":""},{"$f":"IF(Worksheet!B54=\"\",\"\",Worksheet!B54)","v":""},{"$f":"IF(Worksheet!D54=\"\",\"\",Worksheet!D54)","v":""},{"$f":"IF(Worksheet!$A$11=TRUE,\"Y\",\"N\")","v":"N"},{"$f":"IF(Worksheet!$A$12=TRUE,\"Y\",\"N\")","v":"N"},{"$f":"IF(Worksheet!$B$11=TRUE,\"Y\",\"N\")","v":"N"},{"$f":"IF(Worksheet!$B$12=TRUE,\"Y\",\"N\")","v":"N"},{"$f":"IF(Worksheet!$C$11=TRUE,\"Y\",\"N\")","v":"N"},{"$f":"IFERROR(IF(N(Worksheet!V54)=0,Worksheet!U54,Worksheet!V54),\"\")","v":0}]
[{"$f":"IF(ISBLANK(Worksheet!F55)=FALSE,VLOOKUP(Worksheet!A55,MeasureCode_Lookup,6,FALSE),\"\")","v":""},{"$f":"Worksheet!H55","v":0},{"$f":"Worksheet!I55","v":0},{"$f":"IFERROR(IF(Worksheet!Z55=0,Worksheet!Y55/I33,Worksheet!Z55/R33),0)","v":0},"W Controlled",null,null,{"$f":"IF(N(Worksheet!S55)=0,N(Worksheet!R55),N(Worksheet!S55))","v":0},{"$f":"IFERROR(Worksheet!W55/(Worksheet!R55+Worksheet!U55),0)","v":0},{"$f":"Worksheet!AE55","v":0},{"$f":"Worksheet!AD55","v":0},0,{"$f":"IF(Worksheet!AL55=0,0,Worksheet!AL55/I33)","v":0},0,null,null,null,{"$f":"IFERROR(Worksheet!X55/(Worksheet!S55+Worksheet!V55),0)","v":0},{"$f":"IF(Worksheet!E55=\"\",\"\",Worksheet!E55)","v":""},{"$f":"IF(Worksheet!B55=\"\",\"\",Worksheet!B55)","v":""},{"$f":"IF(Worksheet!D55=\"\",\"\",Worksheet!D55)","v":""},{"$f":"IF(Worksheet!$A$11=TRUE,\"Y\",\"N\")","v":"N"},{"$f":"IF(Worksheet!$A$12=TRUE,\"Y\",\"N\")","v":"N"},{"$f":"IF(Worksheet!$B$11=TRUE,\"Y\",\"N\")","v":"N"},{"$f":"IF(Worksheet!$B$12=TRUE,\"Y\",\"N\")","v":"N"},{"$f":"IF(Worksheet!$C$11=TRUE,\"Y\",\"N\")","v":"N"},{"$f":"IFERROR(IF(N(Worksheet!V55)=0,Worksheet!U55,Worksheet!V55),\"\")","v":0}]
[{"$f":"IF(ISBLANK(Worksheet!F56)=FALSE,VLOOKUP(Worksheet!A56,MeasureCode_Lookup,6,FALSE),\"\")","v":""},{"$f":"Worksheet!H56","v":0},{"$f":"Worksheet!I56","v":0},{"$f":"IFERROR(IF(Worksheet!Z56=0,Worksheet!Y56/I34,Worksheet!Z56/R34),0)","v":0},"W Controlled",null,null,{"$f":"IF(N(Worksheet!S56)=0,N(Worksheet!R56),N(Worksheet!S56))","v":0},{"$f":"IFERROR(Worksheet!W56/(Worksheet!R56+Worksheet!U56),0)","v":0},{"$f":"Worksheet!AE56","v":0},{"$f":"Worksheet!AD56","v":0},0,{"$f":"IF(Worksheet!AL56=0,0,Worksheet!AL56/I34)","v":0},0,null,null,null,{"$f":"IFERROR(Worksheet!X56/(Worksheet!S56+Worksheet!V56),0)","v":0},{"$f":"IF(Worksheet!E56=\"\",\"\",Worksheet!E56)","v":""},{"$f":"IF(Worksheet!B56=\"\",\"\",Worksheet!B56)","v":""},{"$f":"IF(Worksheet!D56=\"\",\"\",Worksheet!D56)","v":""},{"$f":"IF(Worksheet!$A$11=TRUE,\"Y\",\"N\")","v":"N"},{"$f":"IF(Worksheet!$A$12=TRUE,\"Y\",\"N\")","v":"N"},{"$f":"IF(Worksheet!$B$11=TRUE,\"Y\",\"N\")","v":"N"},{"$f":"IF(Worksheet!$B$12=TRUE,\"Y\",\"N\")","v":"N"},{"$f":"IF(Worksheet!$C$11=TRUE,\"Y\",\"N\")","v":"N"},{"$f":"IFERROR(IF(N(Worksheet!V56)=0,Worksheet!U56,Worksheet!V56),\"\")","v":0}]
[{"$f":"IF(ISBLANK(Worksheet!F57)=FALSE,VLOOKUP(Worksheet!A57,MeasureCode_Lookup,6,FALSE),\"\")","v":""},{"$f":"Worksheet!H57","v":0},{"$f":"Worksheet!I57","v":0},{"$f":"IFERROR(IF(Worksheet!Z57=0,Worksheet!Y57/I35,Worksheet!Z57/R35),0)","v":0},"W Controlled",null,null,{"$f":"IF(N(Worksheet!S57)=0,N(Worksheet!R57),N(Worksheet!S57))","v":0},{"$f":"IFERROR(Worksheet!W57/(Worksheet!R57+Worksheet!U57),0)","v":0},{"$f":"Worksheet!AE57","v":0},{"$f":"Worksheet!AD57","v":0},0,{"$f":"IF(Worksheet!AL57=0,0,Worksheet!AL57/I35)","v":0},0,null,null,null,{"$f":"IFERROR(Worksheet!X57/(Worksheet!S57+Worksheet!V57),0)","v":0},{"$f":"IF(Worksheet!E57=\"\",\"\",Worksheet!E57)","v":""},{"$f":"IF(Worksheet!B57=\"\",\"\",Worksheet!B57)","v":""},{"$f":"IF(Worksheet!D57=\"\",\"\",Worksheet!D57)","v":""},{"$f":"IF(Worksheet!$A$11=TRUE,\"Y\",\"N\")","v":"N"},{"$f":"IF(Worksheet!$A$12=TRUE,\"Y\",\"N\")","v":"N"},{"$f":"IF(Worksheet!$B$11=TRUE,\"Y\",\"N\")","v":"N"},{"$f":"IF(Worksheet!$B$12=TRUE,\"Y\",\"N\")","v":"N"},{"$f":"IF(Worksheet!$C$11=TRUE,\"Y\",\"N\")","v":"N"},{"$f":"IFERROR(IF(N(Worksheet!V57)=0,Worksheet!U57,Worksheet!V57),\"\")","v":0}]
[{"$f":"IF(ISBLANK(Worksheet!F58)=FALSE,VLOOKUP(Worksheet!A58,MeasureCode_Lookup,6,FALSE),\"\")","v":""},{"$f":"Worksheet!H58","v":0},{"$f":"Worksheet!I58","v":0},{"$f":"IFERROR(IF(Worksheet!Z58=0,Worksheet!Y58/I36,Worksheet!Z58/R36),0)","v":0},"W Controlled",null,null,{"$f":"IF(N(Worksheet!S58)=0,N(Worksheet!R58),N(Worksheet!S58))","v":0},{"$f":"IFERROR(Worksheet!W58/(Worksheet!R58+Worksheet!U58),0)","v":0},{"$f":"Worksheet!AE58","v":0},{"$f":"Worksheet!AD58","v":0},0,{"$f":"IF(Worksheet!AL58=0,0,Worksheet!AL58/I36)","v":0},0,null,null,null,{"$f":"IFERROR(Worksheet!X58/(Worksheet!S58+Worksheet!V58),0)","v":0},{"$f":"IF(Worksheet!E58=\"\",\"\",Worksheet!E58)","v":""},{"$f":"IF(Worksheet!B58=\"\",\"\",Worksheet!B58)","v":""},{"$f":"IF(Worksheet!D58=\"\",\"\",Worksheet!D58)","v":""},{"$f":"IF(Worksheet!$A$11=TRUE,\"Y\",\"N\")","v":"N"},{"$f":"IF(Worksheet!$A$12=TRUE,\"Y\",\"N\")","v":"N"},{"$f":"IF(Worksheet!$B$11=TRUE,\"Y\",\"N\")","v":"N"},{"$f":"IF(Worksheet!$B$12=TRUE,\"Y\",\"N\")","v":"N"},{"$f":"IF(Worksheet!$C$11=TRUE,\"Y\",\"N\")","v":"N"},{"$f":"IFERROR(IF(N(Worksheet!V58)=0,Worksheet!U58,Worksheet!V58),\"\")","v":0}]
[{"$f":"IF(ISBLANK(Worksheet!F59)=FALSE,VLOOKUP(Worksheet!A59,MeasureCode_Lookup,6,FALSE),\"\")","v":""},{"$f":"Worksheet!H59","v":0},{"$f":"Worksheet!I59","v":0},{"$f":"IFERROR(IF(Worksheet!Z59=0,Worksheet!Y59/I37,Worksheet!Z59/R37),0)","v":0},"W Controlled",null,null,{"$f":"IF(N(Worksheet!S59)=0,N(Worksheet!R59),N(Worksheet!S59))","v":0},{"$f":"IFERROR(Worksheet!W59/(Worksheet!R59+Worksheet!U59),0)","v":0},{"$f":"Worksheet!AE59","v":0},{"$f":"Worksheet!AD59","v":0},0,{"$f":"IF(Worksheet!AL59=0,0,Worksheet!AL59/I37)","v":0},0,null,null,null,{"$f":"IFERROR(Worksheet!X59/(Worksheet!S59+Worksheet!V59),0)","v":0},{"$f":"IF(Worksheet!E59=\"\",\"\",Worksheet!E59)","v":""},{"$f":"IF(Worksheet!B59=\"\",\"\",Worksheet!B59)","v":""},{"$f":"IF(Worksheet!D59=\"\",\"\",Worksheet!D59)","v":""},{"$f":"IF(Worksheet!$A$11=TRUE,\"Y\",\"N\")","v":"N"},{"$f":"IF(Worksheet!$A$12=TRUE,\"Y\",\"N\")","v":"N"},{"$f":"IF(Worksheet!$B$11=TRUE,\"Y\",\"N\")","v":"N"},{"$f":"IF(Worksheet!$B$12=TRUE,\"Y\",\"N\")","v":"N"},{"$f":"IF(Worksheet!$C$11=TRUE,\"Y\",\"N\")","v":"N"},{"$f":"IFERROR(IF(N(Worksheet!V59)=0,Worksheet!U59,Worksheet!V59),\"\")","v":0}]
[{"$f":"IF(ISBLANK(Worksheet!F60)=FALSE,VLOOKUP(Worksheet!A60,MeasureCode_Lookup,6,FALSE),\"\")","v":""},{"$f":"Worksheet!H60","v":0},{"$f":"Worksheet!I60","v":0},{"$f":"IFERROR(IF(Worksheet!Z60=0,Worksheet!Y60/I38,Worksheet!Z60/R38),0)","v":0},"W Controlled",null,null,{"$f":"IF(N(Worksheet!S60)=0,N(Worksheet!R60),N(Worksheet!S60))","v":0},{"$f":"IFERROR(Worksheet!W60/(Worksheet!R60+Worksheet!U60),0)","v":0},{"$f":"Worksheet!AE60","v":0},{"$f":"Worksheet!AD60","v":0},0,{"$f":"IF(Worksheet!AL60=0,0,Worksheet!AL60/I38)","v":0},0,null,null,null,{"$f":"IFERROR(Worksheet!X60/(Worksheet!S60+Worksheet!V60),0)","v":0},{"$f":"IF(Worksheet!E60=\"\",\"\",Worksheet!E60)","v":""},{"$f":"IF(Worksheet!B60=\"\",\"\",Worksheet!B60)","v":""},{"$f":"IF(Worksheet!D60=\"\",\"\",Worksheet!D60)","v":""},{"$f":"IF(Worksheet!$A$11=TRUE,\"Y\",\"N\")","v":"N"},{"$f":"IF(Worksheet!$A$12=TRUE,\"Y\",\"N\")","v":"N"},{"$f":"IF(Worksheet!$B$11=TRUE,\"Y\",\"N\")","v":"N"},{"$f":"IF(Worksheet!$B$12=TRUE,\"Y\",\"N\")","v":"N"},{"$f":"IF(Worksheet!$C$11=TRUE,\"Y\",\"N\")","v":"N"},{"$f":"IFERROR(IF(N(Worksheet!V60)=0,Worksheet!U60,Worksheet!V60),\"\")","v":0}]
[{"$f":"IF(ISBLANK(Worksheet!F61)=FALSE,VLOOKUP(Worksheet!A61,MeasureCode_Lookup,6,FALSE),\"\")","v":""},{"$f":"Worksheet!H61","v":0},{"$f":"Worksheet!I61","v":0},{"$f":"IFERROR(IF(Worksheet!Z61=0,Worksheet!Y61/I39,Worksheet!Z61/R39),0)","v":0},"W Controlled",null,null,{"$f":"IF(N(Worksheet!S61)=0,N(Worksheet!R61),N(Worksheet!S61))","v":0},{"$f":"IFERROR(Worksheet!W61/(Worksheet!R61+Worksheet!U61),0)","v":0},{"$f":"Worksheet!AE61","v":0},{"$f":"Worksheet!AD61","v":0},0,{"$f":"IF(Worksheet!AL61=0,0,Worksheet!AL61/I39)","v":0},0,null,null,null,{"$f":"IFERROR(Worksheet!X61/(Worksheet!S61+Worksheet!V61),0)","v":0},{"$f":"IF(Worksheet!E61=\"\",\"\",Worksheet!E61)","v":""},{"$f":"IF(Worksheet!B61=\"\",\"\",Worksheet!B61)","v":""},{"$f":"IF(Worksheet!D61=\"\",\"\",Worksheet!D61)","v":""},{"$f":"IF(Worksheet!$A$11=TRUE,\"Y\",\"N\")","v":"N"},{"$f":"IF(Worksheet!$A$12=TRUE,\"Y\",\"N\")","v":"N"},{"$f":"IF(Worksheet!$B$11=TRUE,\"Y\",\"N\")","v":"N"},{"$f":"IF(Worksheet!$B$12=TRUE,\"Y\",\"N\")","v":"N"},{"$f":"IF(Worksheet!$C$11=TRUE,\"Y\",\"N\")","v":"N"},{"$f":"IFERROR(IF(N(Worksheet!V61)=0,Worksheet!U61,Worksheet!V61),\"\")","v":0}]
[{"$f":"IF(ISBLANK(Worksheet!F62)=FALSE,VLOOKUP(Worksheet!A62,MeasureCode_Lookup,6,FALSE),\"\")","v":""},{"$f":"Worksheet!H62","v":0},{"$f":"Worksheet!I62","v":0},{"$f":"IFERROR(IF(Worksheet!Z62=0,Worksheet!Y62/I40,Worksheet!Z62/R40),0)","v":0},"W Controlled",null,null,{"$f":"IF(N(Worksheet!S62)=0,N(Worksheet!R62),N(Worksheet!S62))","v":0},{"$f":"IFERROR(Worksheet!W62/(Worksheet!R62+Worksheet!U62),0)","v":0},{"$f":"Worksheet!AE62","v":0},{"$f":"Worksheet!AD62","v":0},0,{"$f":"IF(Worksheet!AL62=0,0,Worksheet!AL62/I40)","v":0},0,null,null,null,{"$f":"IFERROR(Worksheet!X62/(Worksheet!S62+Worksheet!V62),0)","v":0},{"$f":"IF(Worksheet!E62=\"\",\"\",Worksheet!E62)","v":""},{"$f":"IF(Worksheet!B62=\"\",\"\",Worksheet!B62)","v":""},{"$f":"IF(Worksheet!D62=\"\",\"\",Worksheet!D62)","v":""},{"$f":"IF(Worksheet!$A$11=TRUE,\"Y\",\"N\")","v":"N"},{"$f":"IF(Worksheet!$A$12=TRUE,\"Y\",\"N\")","v":"N"},{"$f":"IF(Worksheet!$B$11=TRUE,\"Y\",\"N\")","v":"N"},{"$f":"IF(Worksheet!$B$12=TRUE,\"Y\",\"N\")","v":"N"},{"$f":"IF(Worksheet!$C$11=TRUE,\"Y\",\"N\")","v":"N"},{"$f":"IFERROR(IF(N(Worksheet!V62)=0,Worksheet!U62,Worksheet!V62),\"\")","v":0}]
[{"$f":"IF(ISBLANK(Worksheet!F63)=FALSE,VLOOKUP(Worksheet!A63,MeasureCode_Lookup,6,FALSE),\"\")","v":""},{"$f":"Worksheet!H63","v":0},{"$f":"Worksheet!I63","v":0},{"$f":"IFERROR(IF(Worksheet!Z63=0,Worksheet!Y63/I41,Worksheet!Z63/R41),0)","v":0},"W Controlled",null,null,{"$f":"IF(N(Worksheet!S63)=0,N(Worksheet!R63),N(Worksheet!S63))","v":0},{"$f":"IFERROR(Worksheet!W63/(Worksheet!R63+Worksheet!U63),0)","v":0},{"$f":"Worksheet!AE63","v":0},{"$f":"Worksheet!AD63","v":0},0,{"$f":"IF(Worksheet!AL63=0,0,Worksheet!AL63/I41)","v":0},0,null,null,null,{"$f":"IFERROR(Worksheet!X63/(Worksheet!S63+Worksheet!V63),0)","v":0},{"$f":"IF(Worksheet!E63=\"\",\"\",Worksheet!E63)","v":""},{"$f":"IF(Worksheet!B63=\"\",\"\",Worksheet!B63)","v":""},{"$f":"IF(Worksheet!D63=\"\",\"\",Worksheet!D63)","v":""},{"$f":"IF(Worksheet!$A$11=TRUE,\"Y\",\"N\")","v":"N"},{"$f":"IF(Worksheet!$A$12=TRUE,\"Y\",\"N\")","v":"N"},{"$f":"IF(Worksheet!$B$11=TRUE,\"Y\",\"N\")","v":"N"},{"$f":"IF(Worksheet!$B$12=TRUE,\"Y\",\"N\")","v":"N"},{"$f":"IF(Worksheet!$C$11=TRUE,\"Y\",\"N\")","v":"N"},{"$f":"IFERROR(IF(N(Worksheet!V63)=0,Worksheet!U63,Worksheet!V63),\"\")","v":0}]
[{"$f":"IF(ISBLANK(Worksheet!F64)=FALSE,VLOOKUP(Worksheet!A64,MeasureCode_Lookup,6,FALSE),\"\")","v":""},{"$f":"Worksheet!H64","v":0},{"$f":"Worksheet!I64","v":0},{"$f":"IFERROR(IF(Worksheet!Z64=0,Worksheet!Y64/I42,Worksheet!Z64/R42),0)","v":0},"W Controlled",null,null,{"$f":"IF(N(Worksheet!S64)=0,N(Worksheet!R64),N(Worksheet!S64))","v":0},{"$f":"IFERROR(Worksheet!W64/(Worksheet!R64+Worksheet!U64),0)","v":0},{"$f":"Worksheet!AE64","v":0},{"$f":"Worksheet!AD64","v":0},0,{"$f":"IF(Worksheet!AL64=0,0,Worksheet!AL64/I42)","v":0},0,null,null,null,{"$f":"IFERROR(Worksheet!X64/(Worksheet!S64+Worksheet!V64),0)","v":0},{"$f":"IF(Worksheet!E64=\"\",\"\",Worksheet!E64)","v":""},{"$f":"IF(Worksheet!B64=\"\",\"\",Worksheet!B64)","v":""},{"$f":"IF(Worksheet!D64=\"\",\"\",Worksheet!D64)","v":""},{"$f":"IF(Worksheet!$A$11=TRUE,\"Y\",\"N\")","v":"N"},{"$f":"IF(Worksheet!$A$12=TRUE,\"Y\",\"N\")","v":"N"},{"$f":"IF(Worksheet!$B$11=TRUE,\"Y\",\"N\")","v":"N"},{"$f":"IF(Worksheet!$B$12=TRUE,\"Y\",\"N\")","v":"N"},{"$f":"IF(Worksheet!$C$11=TRUE,\"Y\",\"N\")","v":"N"},{"$f":"IFERROR(IF(N(Worksheet!V64)=0,Worksheet!U64,Worksheet!V64),\"\")","v":0}]
[{"$f":"IF(ISBLANK(Worksheet!F65)=FALSE,VLOOKUP(Worksheet!A65,MeasureCode_Lookup,6,FALSE),\"\")","v":""},{"$f":"Worksheet!H65","v":0},{"$f":"Worksheet!I65","v":0},{"$f":"IFERROR(IF(Worksheet!Z65=0,Worksheet!Y65/I43,Worksheet!Z65/R43),0)","v":0},"W Controlled",null,null,{"$f":"IF(N(Worksheet!S65)=0,N(Worksheet!R65),N(Worksheet!S65))","v":0},{"$f":"IFERROR(Worksheet!W65/(Worksheet!R65+Worksheet!U65),0)","v":0},{"$f":"Worksheet!AE65","v":0},{"$f":"Worksheet!AD65","v":0},0,{"$f":"IF(Worksheet!AL65=0,0,Worksheet!AL65/I43)","v":0},0,null,null,null,{"$f":"IFERROR(Worksheet!X65/(Worksheet!S65+Worksheet!V65),0)","v":0},{"$f":"IF(Worksheet!E65=\"\",\"\",Worksheet!E65)","v":""},{"$f":"IF(Worksheet!B65=\"\",\"\",Worksheet!B65)","v":""},{"$f":"IF(Worksheet!D65=\"\",\"\",Worksheet!D65)","v":""},{"$f":"IF(Worksheet!$A$11=TRUE,\"Y\",\"N\")","v":"N"},{"$f":"IF(Worksheet!$A$12=TRUE,\"Y\",\"N\")","v":"N"},{"$f":"IF(Worksheet!$B$11=TRUE,\"Y\",\"N\")","v":"N"},{"$f":"IF(Worksheet!$B$12=TRUE,\"Y\",\"N\")","v":"N"},{"$f":"IF(Worksheet!$C$11=TRUE,\"Y\",\"N\")","v":"N"},{"$f":"IFERROR(IF(N(Worksheet!V65)=0,Worksheet!U65,Worksheet!V65),\"\")","v":0}]
[{"$f":"IF(ISBLANK(Worksheet!F66)=FALSE,VLOOKUP(Worksheet!A66,MeasureCode_Lookup,6,FALSE),\"\")","v":""},{"$f":"Worksheet!H66","v":0},{"$f":"Worksheet!I66","v":0},{"$f":"IFERROR(IF(Worksheet!Z66=0,Worksheet!Y66/I44,Worksheet!Z66/R44),0)","v":0},"W Controlled",null,null,{"$f":"IF(N(Worksheet!S66)=0,N(Worksheet!R66),N(Worksheet!S66))","v":0},{"$f":"IFERROR(Worksheet!W66/(Worksheet!R66+Worksheet!U66),0)","v":0},{"$f":"Worksheet!AE66","v":0},{"$f":"Worksheet!AD66","v":0},0,{"$f":"IF(Worksheet!AL66=0,0,Worksheet!AL66/I44)","v":0},0,null,null,null,{"$f":"IFERROR(Worksheet!X66/(Worksheet!S66+Worksheet!V66),0)","v":0},{"$f":"IF(Worksheet!E66=\"\",\"\",Worksheet!E66)","v":""},{"$f":"IF(Worksheet!B66=\"\",\"\",Worksheet!B66)","v":""},{"$f":"IF(Worksheet!D66=\"\",\"\",Worksheet!D66)","v":""},{"$f":"IF(Worksheet!$A$11=TRUE,\"Y\",\"N\")","v":"N"},{"$f":"IF(Worksheet!$A$12=TRUE,\"Y\",\"N\")","v":"N"},{"$f":"IF(Worksheet!$B$11=TRUE,\"Y\",\"N\")","v":"N"},{"$f":"IF(Worksheet!$B$12=TRUE,\"Y\",\"N\")","v":"N"},{"$f":"IF(Worksheet!$C$11=TRUE,\"Y\",\"N\")","v":"N"},{"$f":"IFERROR(IF(N(Worksheet!V66)=0,Worksheet!U66,Worksheet!V66),\"\")","v":0}]
[{"$f":"IF(ISBLANK(Worksheet!F67)=FALSE,VLOOKUP(Worksheet!A67,MeasureCode_Lookup,6,FALSE),\"\")","v":""},{"$f":"Worksheet!H67","v":0},{"$f":"Worksheet!I67","v":0},{"$f":"IFERROR(IF(Worksheet!Z67=0,Worksheet!Y67/I45,Worksheet!Z67/R45),0)","v":0},"W Controlled",null,null,{"$f":"IF(N(Worksheet!S67)=0,N(Worksheet!R67),N(Worksheet!S67))","v":0},{"$f":"IFERROR(Worksheet!W67/(Worksheet!R67+Worksheet!U67),0)","v":0},{"$f":"Worksheet!AE67","v":0},{"$f":"Worksheet!AD67","v":0},0,{"$f":"IF(Worksheet!AL67=0,0,Worksheet!AL67/I45)","v":0},0,null,null,null,{"$f":"IFERROR(Worksheet!X67/(Worksheet!S67+Worksheet!V67),0)","v":0},{"$f":"IF(Worksheet!E67=\"\",\"\",Worksheet!E67)","v":""},{"$f":"IF(Worksheet!B67=\"\",\"\",Worksheet!B67)","v":""},{"$f":"IF(Worksheet!D67=\"\",\"\",Worksheet!D67)","v":""},{"$f":"IF(Worksheet!$A$11=TRUE,\"Y\",\"N\")","v":"N"},{"$f":"IF(Worksheet!$A$12=TRUE,\"Y\",\"N\")","v":"N"},{"$f":"IF(Worksheet!$B$11=TRUE,\"Y\",\"N\")","v":"N"},{"$f":"IF(Worksheet!$B$12=TRUE,\"Y\",\"N\")","v":"N"},{"$f":"IF(Worksheet!$C$11=TRUE,\"Y\",\"N\")","v":"N"},{"$f":"IFERROR(IF(N(Worksheet!V67)=0,Worksheet!U67,Worksheet!V67),\"\")","v":0}]
[{"$f":"IF(ISBLANK(Worksheet!F68)=FALSE,VLOOKUP(Worksheet!A68,MeasureCode_Lookup,6,FALSE),\"\")","v":""},{"$f":"Worksheet!H68","v":0},{"$f":"Worksheet!I68","v":0},{"$f":"IFERROR(IF(Worksheet!Z68=0,Worksheet!Y68/I46,Worksheet!Z68/R46),0)","v":0},"W Controlled",null,null,{"$f":"IF(N(Worksheet!S68)=0,N(Worksheet!R68),N(Worksheet!S68))","v":0},{"$f":"IFERROR(Worksheet!W68/(Worksheet!R68+Worksheet!U68),0)","v":0},{"$f":"Worksheet!AE68","v":0},{"$f":"Worksheet!AD68","v":0},0,{"$f":"IF(Worksheet!AL68=0,0,Worksheet!AL68/I46)","v":0},0,null,null,null,{"$f":"IFERROR(Worksheet!X68/(Worksheet!S68+Worksheet!V68),0)","v":0},{"$f":"IF(Worksheet!E68=\"\",\"\",Worksheet!E68)","v":""},{"$f":"IF(Worksheet!B68=\"\",\"\",Worksheet!B68)","v":""},{"$f":"IF(Worksheet!D68=\"\",\"\",Worksheet!D68)","v":""},{"$f":"IF(Worksheet!$A$11=TRUE,\"Y\",\"N\")","v":"N"},{"$f":"IF(Worksheet!$A$12=TRUE,\"Y\",\"N\")","v":"N"},{"$f":"IF(Worksheet!$B$11=TRUE,\"Y\",\"N\")","v":"N"},{"$f":"IF(Worksheet!$B$12=TRUE,\"Y\",\"N\")","v":"N"},{"$f":"IF(Worksheet!$C$11=TRUE,\"Y\",\"N\")","v":"N"},{"$f":"IFERROR(IF(N(Worksheet!V68)=0,Worksheet!U68,Worksheet!V68),\"\")","v":0}]
[{"$f":"IF(ISBLANK(Worksheet!F69)=FALSE,VLOOKUP(Worksheet!A69,MeasureCode_Lookup,6,FALSE),\"\")","v":""},{"$f":"Worksheet!H69","v":0},{"$f":"Worksheet!I69","v":0},{"$f":"IFERROR(IF(Worksheet!Z69=0,Worksheet!Y69/I47,Worksheet!Z69/R47),0)","v":0},"W Controlled",null,null,{"$f":"IF(N(Worksheet!S69)=0,N(Worksheet!R69),N(Worksheet!S69))","v":0},{"$f":"IFERROR(Worksheet!W69/(Worksheet!R69+Worksheet!U69),0)","v":0},{"$f":"Worksheet!AE69","v":0},{"$f":"Worksheet!AD69","v":0},0,{"$f":"IF(Worksheet!AL69=0,0,Worksheet!AL69/I47)","v":0},0,null,null,null,{"$f":"IFERROR(Worksheet!X69/(Worksheet!S69+Worksheet!V69),0)","v":0},{"$f":"IF(Worksheet!E69=\"\",\"\",Worksheet!E69)","v":""},{"$f":"IF(Worksheet!B69=\"\",\"\",Worksheet!B69)","v":""},{"$f":"IF(Worksheet!D69=\"\",\"\",Worksheet!D69)","v":""},{"$f":"IF(Worksheet!$A$11=TRUE,\"Y\",\"N\")","v":"N"},{"$f":"IF(Worksheet!$A$12=TRUE,\"Y\",\"N\")","v":"N"},{"$f":"IF(Worksheet!$B$11=TRUE,\"Y\",\"N\")","v":"N"},{"$f":"IF(Worksheet!$B$12=TRUE,\"Y\",\"N\")","v":"N"},{"$f":"IF(Worksheet!$C$11=TRUE,\"Y\",\"N\")","v":"N"},{"$f":"IFERROR(IF(N(Worksheet!V69)=0,Worksheet!U69,Worksheet!V69),\"\")","v":0}]
[{"$f":"IF(ISBLANK(Worksheet!F70)=FALSE,VLOOKUP(Worksheet!A70,MeasureCode_Lookup,6,FALSE),\"\")","v":""},{"$f":"Worksheet!H70","v":0},{"$f":"Worksheet!I70","v":0},{"$f":"IFERROR(IF(Worksheet!Z70=0,Worksheet!Y70/I48,Worksheet!Z70/R48),0)","v":0},"W Controlled",null,null,{"$f":"IF(N(Worksheet!S70)=0,N(Worksheet!R70),N(Worksheet!S70))","v":0},{"$f":"IFERROR(Worksheet!W70/(Worksheet!R70+Worksheet!U70),0)","v":0},{"$f":"Worksheet!AE70","v":0},{"$f":"Worksheet!AD70","v":0},0,{"$f":"IF(Worksheet!AL70=0,0,Worksheet!AL70/I48)","v":0},0,null,null,null,{"$f":"IFERROR(Worksheet!X70/(Worksheet!S70+Worksheet!V70),0)","v":0},{"$f":"IF(Worksheet!E70=\"\",\"\",Worksheet!E70)","v":""},{"$f":"IF(Worksheet!B70=\"\",\"\",Worksheet!B70)","v":""},{"$f":"IF(Worksheet!D70=\"\",\"\",Worksheet!D70)","v":""},{"$f":"IF(Worksheet!$A$11=TRUE,\"Y\",\"N\")","v":"N"},{"$f":"IF(Worksheet!$A$12=TRUE,\"Y\",\"N\")","v":"N"},{"$f":"IF(Worksheet!$B$11=TRUE,\"Y\",\"N\")","v":"N"},{"$f":"IF(Worksheet!$B$12=TRUE,\"Y\",\"N\")","v":"N"},{"$f":"IF(Worksheet!$C$11=TRUE,\"Y\",\"N\")","v":"N"},{"$f":"IFERROR(IF(N(Worksheet!V70)=0,Worksheet!U70,Worksheet!V70),\"\")","v":0}]
[{"$f":"IF(ISBLANK(Worksheet!F71)=FALSE,VLOOKUP(Worksheet!A71,MeasureCode_Lookup,6,FALSE),\"\")","v":""},{"$f":"Worksheet!H71","v":0},{"$f":"Worksheet!I71","v":0},{"$f":"IFERROR(IF(Worksheet!Z71=0,Worksheet!Y71/I49,Worksheet!Z71/R49),0)","v":0},"W Controlled",null,null,{"$f":"IF(N(Worksheet!S71)=0,N(Worksheet!R71),N(Worksheet!S71))","v":0},{"$f":"IFERROR(Worksheet!W71/(Worksheet!R71+Worksheet!U71),0)","v":0},{"$f":"Worksheet!AE71","v":0},{"$f":"Worksheet!AD71","v":0},0,{"$f":"IF(Worksheet!AL71=0,0,Worksheet!AL71/I49)","v":0},0,null,null,null,{"$f":"IFERROR(Worksheet!X71/(Worksheet!S71+Worksheet!V71),0)","v":0},{"$f":"IF(Worksheet!E71=\"\",\"\",Worksheet!E71)","v":""},{"$f":"IF(Worksheet!B71=\"\",\"\",Worksheet!B71)","v":""},{"$f":"IF(Worksheet!D71=\"\",\"\",Worksheet!D71)","v":""},{"$f":"IF(Worksheet!$A$11=TRUE,\"Y\",\"N\")","v":"N"},{"$f":"IF(Worksheet!$A$12=TRUE,\"Y\",\"N\")","v":"N"},{"$f":"IF(Worksheet!$B$11=TRUE,\"Y\",\"N\")","v":"N"},{"$f":"IF(Worksheet!$B$12=TRUE,\"Y\",\"N\")","v":"N"},{"$f":"IF(Worksheet!$C$11=TRUE,\"Y\",\"N\")","v":"N"},{"$f":"IFERROR(IF(N(Worksheet!V71)=0,Worksheet!U71,Worksheet!V71),\"\")","v":0}]
[{"$f":"IF(ISBLANK(Worksheet!F72)=FALSE,VLOOKUP(Worksheet!A72,MeasureCode_Lookup,6,FALSE),\"\")","v":""},{"$f":"Worksheet!H72","v":0},{"$f":"Worksheet!I72","v":0},{"$f":"IFERROR(IF(Worksheet!Z72=0,Worksheet!Y72/I50,Worksheet!Z72/R50),0)","v":0},"W Controlled",null,null,{"$f":"IF(N(Worksheet!S72)=0,N(Worksheet!R72),N(Worksheet!S72))","v":0},{"$f":"IFERROR(Worksheet!W72/(Worksheet!R72+Worksheet!U72),0)","v":0},{"$f":"Worksheet!AE72","v":0},{"$f":"Worksheet!AD72","v":0},0,{"$f":"IF(Worksheet!AL72=0,0,Worksheet!AL72/I50)","v":0},0,null,null,null,{"$f":"IFERROR(Worksheet!X72/(Worksheet!S72+Worksheet!V72),0)","v":0},{"$f":"IF(Worksheet!E72=\"\",\"\",Worksheet!E72)","v":""},{"$f":"IF(Worksheet!B72=\"\",\"\",Worksheet!B72)","v":""},{"$f":"IF(Worksheet!D72=\"\",\"\",Worksheet!D72)","v":""},{"$f":"IF(Worksheet!$A$11=TRUE,\"Y\",\"N\")","v":"N"},{"$f":"IF(Worksheet!$A$12=TRUE,\"Y\",\"N\")","v":"N"},{"$f":"IF(Worksheet!$B$11=TRUE,\"Y\",\"N\")","v":"N"},{"$f":"IF(Worksheet!$B$12=TRUE,\"Y\",\"N\")","v":"N"},{"$f":"IF(Worksheet!$C$11=TRUE,\"Y\",\"N\")","v":"N"},{"$f":"IFERROR(IF(N(Worksheet!V72)=0,Worksheet!U72,Worksheet!V72),\"\")","v":0}]
[{"$f":"IF(ISBLANK(Worksheet!F73)=FALSE,VLOOKUP(Worksheet!A73,MeasureCode_Lookup,6,FALSE),\"\")","v":""},{"$f":"Worksheet!H73","v":0},{"$f":"Worksheet!I73","v":0},{"$f":"IFERROR(IF(Worksheet!Z73=0,Worksheet!Y73/I51,Worksheet!Z73/R51),0)","v":0},"W Controlled",null,null,{"$f":"IF(N(Worksheet!S73)=0,N(Worksheet!R73),N(Worksheet!S73))","v":0},{"$f":"IFERROR(Worksheet!W73/(Worksheet!R73+Worksheet!U73),0)","v":0},{"$f":"Worksheet!AE73","v":0},{"$f":"Worksheet!AD73","v":0},0,{"$f":"IF(Worksheet!AL73=0,0,Worksheet!AL73/I51)","v":0},0,null,null,null,{"$f":"IFERROR(Worksheet!X73/(Worksheet!S73+Worksheet!V73),0)","v":0},{"$f":"IF(Worksheet!E73=\"\",\"\",Worksheet!E73)","v":""},{"$f":"IF(Worksheet!B73=\"\",\"\",Worksheet!B73)","v":""},{"$f":"IF(Worksheet!D73=\"\",\"\",Worksheet!D73)","v":""},{"$f":"IF(Worksheet!$A$11=TRUE,\"Y\",\"N\")","v":"N"},{"$f":"IF(Worksheet!$A$12=TRUE,\"Y\",\"N\")","v":"N"},{"$f":"IF(Worksheet!$B$11=TRUE,\"Y\",\"N\")","v":"N"},{"$f":"IF(Worksheet!$B$12=TRUE,\"Y\",\"N\")","v":"N"},{"$f":"IF(Worksheet!$C$11=TRUE,\"Y\",\"N\")","v":"N"},{"$f":"IFERROR(IF(N(Worksheet!V73)=0,Worksheet!U73,Worksheet!V73),\"\")","v":0}]
[{"$f":"IF(ISBLANK(Worksheet!F74)=FALSE,VLOOKUP(Worksheet!A74,MeasureCode_Lookup,6,FALSE),\"\")","v":""},{"$f":"Worksheet!H74","v":0},{"$f":"Worksheet!I74","v":0},{"$f":"IFERROR(IF(Worksheet!Z74=0,Worksheet!Y74/I52,Worksheet!Z74/R52),0)","v":0},"W Controlled",null,null,{"$f":"IF(N(Worksheet!S74)=0,N(Worksheet!R74),N(Worksheet!S74))","v":0},{"$f":"IFERROR(Worksheet!W74/(Worksheet!R74+Worksheet!U74),0)","v":0},{"$f":"Worksheet!AE74","v":0},{"$f":"Worksheet!AD74","v":0},0,{"$f":"IF(Worksheet!AL74=0,0,Worksheet!AL74/I52)","v":0},0,null,null,null,{"$f":"IFERROR(Worksheet!X74/(Worksheet!S74+Worksheet!V74),0)","v":0},{"$f":"IF(Worksheet!E74=\"\",\"\",Worksheet!E74)","v":""},{"$f":"IF(Worksheet!B74=\"\",\"\",Worksheet!B74)","v":""},{"$f":"IF(Worksheet!D74=\"\",\"\",Worksheet!D74)","v":""},{"$f":"IF(Worksheet!$A$11=TRUE,\"Y\",\"N\")","v":"N"},{"$f":"IF(Worksheet!$A$12=TRUE,\"Y\",\"N\")","v":"N"},{"$f":"IF(Worksheet!$B$11=TRUE,\"Y\",\"N\")","v":"N"},{"$f":"IF(Worksheet!$B$12=TRUE,\"Y\",\"N\")","v":"N"},{"$f":"IF(Worksheet!$C$11=TRUE,\"Y\",\"N\")","v":"N"},{"$f":"IFERROR(IF(N(Worksheet!V74)=0,Worksheet!U74,Worksheet!V74),\"\")","v":0}]
[{"$f":"IF(ISBLANK(Worksheet!F75)=FALSE,VLOOKUP(Worksheet!A75,MeasureCode_Lookup,6,FALSE),\"\")","v":""},{"$f":"Worksheet!H75","v":0},{"$f":"Worksheet!I75","v":0},{"$f":"IFERROR(IF(Worksheet!Z75=0,Worksheet!Y75/I53,Worksheet!Z75/R53),0)","v":0},"W Controlled",null,null,{"$f":"IF(N(Worksheet!S75)=0,N(Worksheet!R75),N(Worksheet!S75))","v":0},{"$f":"IFERROR(Worksheet!W75/(Worksheet!R75+Worksheet!U75),0)","v":0},{"$f":"Worksheet!AE75","v":0},{"$f":"Worksheet!AD75","v":0},0,{"$f":"IF(Worksheet!AL75=0,0,Worksheet!AL75/I53)","v":0},0,null,null,null,{"$f":"IFERROR(Worksheet!X75/(Worksheet!S75+Worksheet!V75),0)","v":0},{"$f":"IF(Worksheet!E75=\"\",\"\",Worksheet!E75)","v":""},{"$f":"IF(Worksheet!B75=\"\",\"\",Worksheet!B75)","v":""},{"$f":"IF(Worksheet!D75=\"\",\"\",Worksheet!D75)","v":""},{"$f":"IF(Worksheet!$A$11=TRUE,\"Y\",\"N\")","v":"N"},{"$f":"IF(Worksheet!$A$12=TRUE,\"Y\",\"N\")","v":"N"},{"$f":"IF(Worksheet!$B$11=TRUE,\"Y\",\"N\")","v":"N"},{"$f":"IF(Worksheet!$B$12=TRUE,\"Y\",\"N\")","v":"N"},{"$f":"IF(Worksheet!$C$11=TRUE,\"Y\",\"N\")","v":"N"},{"$f":"IFERROR(IF(N(Worksheet!V75)=0,Worksheet!U75,Worksheet!V75),\"\")","v":0}]
[{"$f":"IF(ISBLANK(Worksheet!F76)=FALSE,VLOOKUP(Worksheet!A76,MeasureCode_Lookup,6,FALSE),\"\")","v":""},{"$f":"Worksheet!H76","v":0},{"$f":"Worksheet!I76","v":0},{"$f":"IFERROR(IF(Worksheet!Z76=0,Worksheet!Y76/I54,Worksheet!Z76/R54),0)","v":0},"W Controlled",null,null,{"$f":"IF(N(Worksheet!S76)=0,N(Worksheet!R76),N(Worksheet!S76))","v":0},{"$f":"IFERROR(Worksheet!W76/(Worksheet!R76+Worksheet!U76),0)","v":0},{"$f":"Worksheet!AE76","v":0},{"$f":"Worksheet!AD76","v":0},0,{"$f":"IF(Worksheet!AL76=0,0,Worksheet!AL76/I54)","v":0},0,null,null,null,{"$f":"IFERROR(Worksheet!X76/(Worksheet!S76+Worksheet!V76),0)","v":0},{"$f":"IF(Worksheet!E76=\"\",\"\",Worksheet!E76)","v":""},{"$f":"IF(Worksheet!B76=\"\",\"\",Worksheet!B76)","v":""},{"$f":"IF(Worksheet!D76=\"\",\"\",Worksheet!D76)","v":""},{"$f":"IF(Worksheet!$A$11=TRUE,\"Y\",\"N\")","v":"N"},{"$f":"IF(Worksheet!$A$12=TRUE,\"Y\",\"N\")","v":"N"},{"$f":"IF(Worksheet!$B$11=TRUE,\"Y\",\"N\")","v":"N"},{"$f":"IF(Worksheet!$B$12=TRUE,\"Y\",\"N\")","v":"N"},{"$f":"IF(Worksheet!$C$11=TRUE,\"Y\",\"N\")","v":"N"},{"$f":"IFERROR(IF(N(Worksheet!V76)=0,Worksheet!U76,Worksheet!V76),\"\")","v":0}]
[{"$f":"IF(ISBLANK(Worksheet!F77)=FALSE,VLOOKUP(Worksheet!A77,MeasureCode_Lookup,6,FALSE),\"\")","v":""},{"$f":"Worksheet!H77","v":0},{"$f":"Worksheet!I77","v":0},{"$f":"IFERROR(IF(Worksheet!Z77=0,Worksheet!Y77/I55,Worksheet!Z77/R55),0)","v":0},"W Controlled",null,null,{"$f":"IF(N(Worksheet!S77)=0,N(Worksheet!R77),N(Worksheet!S77))","v":0},{"$f":"IFERROR(Worksheet!W77/(Worksheet!R77+Worksheet!U77),0)","v":0},{"$f":"Worksheet!AE77","v":0},{"$f":"Worksheet!AD77","v":0},0,{"$f":"IF(Worksheet!AL77=0,0,Worksheet!AL77/I55)","v":0},0,null,null,null,{"$f":"IFERROR(Worksheet!X77/(Worksheet!S77+Worksheet!V77),0)","v":0},{"$f":"IF(Worksheet!E77=\"\",\"\",Worksheet!E77)","v":""},{"$f":"IF(Worksheet!B77=\"\",\"\",Worksheet!B77)","v":""},{"$f":"IF(Worksheet!D77=\"\",\"\",Worksheet!D77)","v":""},{"$f":"IF(Worksheet!$A$11=TRUE,\"Y\",\"N\")","v":"N"},{"$f":"IF(Worksheet!$A$12=TRUE,\"Y\",\"N\")","v":"N"},{"$f":"IF(Worksheet!$B$11=TRUE,\"Y\",\"N\")","v":"N"},{"$f":"IF(Worksheet!$B$12=TRUE,\"Y\",\"N\")","v":"N"},{"$f":"IF(Worksheet!$C$11=TRUE,\"Y\",\"N\")","v":"N"},{"$f":"IFERROR(IF(N(Worksheet!V77)=0,Worksheet!U77,Worksheet!V77),\"\")","v":0}]
[{"$f":"IF(ISBLANK(Worksheet!F78)=FALSE,VLOOKUP(Worksheet!A78,MeasureCode_Lookup,6,FALSE),\"\")","v":""},{"$f":"Worksheet!H78","v":0},{"$f":"Worksheet!I78","v":0},{"$f":"IFERROR(IF(Worksheet!Z78=0,Worksheet!Y78/I56,Worksheet!Z78/R56),0)","v":0},"W Controlled",null,null,{"$f":"IF(N(Worksheet!S78)=0,N(Worksheet!R78),N(Worksheet!S78))","v":0},{"$f":"IFERROR(Worksheet!W78/(Worksheet!R78+Worksheet!U78),0)","v":0},{"$f":"Worksheet!AE78","v":0},{"$f":"Worksheet!AD78","v":0},0,{"$f":"IF(Worksheet!AL78=0,0,Worksheet!AL78/I56)","v":0},0,null,null,null,{"$f":"IFERROR(Worksheet!X78/(Worksheet!S78+Worksheet!V78),0)","v":0},{"$f":"IF(Worksheet!E78=\"\",\"\",Worksheet!E78)","v":""},{"$f":"IF(Worksheet!B78=\"\",\"\",Worksheet!B78)","v":""},{"$f":"IF(Worksheet!D78=\"\",\"\",Worksheet!D78)","v":""},{"$f":"IF(Worksheet!$A$11=TRUE,\"Y\",\"N\")","v":"N"},{"$f":"IF(Worksheet!$A$12=TRUE,\"Y\",\"N\")","v":"N"},{"$f":"IF(Worksheet!$B$11=TRUE,\"Y\",\"N\")","v":"N"},{"$f":"IF(Worksheet!$B$12=TRUE,\"Y\",\"N\")","v":"N"},{"$f":"IF(Worksheet!$C$11=TRUE,\"Y\",\"N\")","v":"N"},{"$f":"IFERROR(IF(N(Worksheet!V78)=0,Worksheet!U78,Worksheet!V78),\"\")","v":0}]
[{"$f":"IF(ISBLANK(Worksheet!F79)=FALSE,VLOOKUP(Worksheet!A79,MeasureCode_Lookup,6,FALSE),\"\")","v":""},{"$f":"Worksheet!H79","v":0},{"$f":"Worksheet!I79","v":0},{"$f":"IFERROR(IF(Worksheet!Z79=0,Worksheet!Y79/I57,Worksheet!Z79/R57),0)","v":0},"W Controlled",null,null,{"$f":"IF(N(Worksheet!S79)=0,N(Worksheet!R79),N(Worksheet!S79))","v":0},{"$f":"IFERROR(Worksheet!W79/(Worksheet!R79+Worksheet!U79),0)","v":0},{"$f":"Worksheet!AE79","v":0},{"$f":"Worksheet!AD79","v":0},0,{"$f":"IF(Worksheet!AL79=0,0,Worksheet!AL79/I57)","v":0},0,null,null,null,{"$f":"IFERROR(Worksheet!X79/(Worksheet!S79+Worksheet!V79),0)","v":0},{"$f":"IF(Worksheet!E79=\"\",\"\",Worksheet!E79)","v":""},{"$f":"IF(Worksheet!B79=\"\",\"\",Worksheet!B79)","v":""},{"$f":"IF(Worksheet!D79=\"\",\"\",Worksheet!D79)","v":""},{"$f":"IF(Worksheet!$A$11=TRUE,\"Y\",\"N\")","v":"N"},{"$f":"IF(Worksheet!$A$12=TRUE,\"Y\",\"N\")","v":"N"},{"$f":"IF(Worksheet!$B$11=TRUE,\"Y\",\"N\")","v":"N"},{"$f":"IF(Worksheet!$B$12=TRUE,\"Y\",\"N\")","v":"N"},{"$f":"IF(Worksheet!$C$11=TRUE,\"Y\",\"N\")","v":"N"},{"$f":"IFERROR(IF(N(Worksheet!V79)=0,Worksheet!U79,Worksheet!V79),\"\")","v":0}]
[{"$f":"IF(ISBLANK(Worksheet!F80)=FALSE,VLOOKUP(Worksheet!A80,MeasureCode_Lookup,6,FALSE),\"\")","v":""},{"$f":"Worksheet!H80","v":0},{"$f":"Worksheet!I80","v":0},{"$f":"IFERROR(IF(Worksheet!Z80=0,Worksheet!Y80/I58,Worksheet!Z80/R58),0)","v":0},"W Controlled",null,null,{"$f":"IF(N(Worksheet!S80)=0,N(Worksheet!R80),N(Worksheet!S80))","v":0},{"$f":"IFERROR(Worksheet!W80/(Worksheet!R80+Worksheet!U80),0)","v":0},{"$f":"Worksheet!AE80","v":0},{"$f":"Worksheet!AD80","v":0},0,{"$f":"IF(Worksheet!AL80=0,0,Worksheet!AL80/I58)","v":0},0,null,null,null,{"$f":"IFERROR(Worksheet!X80/(Worksheet!S80+Worksheet!V80),0)","v":0},{"$f":"IF(Worksheet!E80=\"\",\"\",Worksheet!E80)","v":""},{"$f":"IF(Worksheet!B80=\"\",\"\",Worksheet!B80)","v":""},{"$f":"IF(Worksheet!D80=\"\",\"\",Worksheet!D80)","v":""},{"$f":"IF(Worksheet!$A$11=TRUE,\"Y\",\"N\")","v":"N"},{"$f":"IF(Worksheet!$A$12=TRUE,\"Y\",\"N\")","v":"N"},{"$f":"IF(Worksheet!$B$11=TRUE,\"Y\",\"N\")","v":"N"},{"$f":"IF(Worksheet!$B$12=TRUE,\"Y\",\"N\")","v":"N"},{"$f":"IF(Worksheet!$C$11=TRUE,\"Y\",\"N\")","v":"N"},{"$f":"IFERROR(IF(N(Worksheet!V80)=0,Worksheet!U80,Worksheet!V80),\"\")","v":0}]
[{"$f":"IF(ISBLANK(Worksheet!F81)=FALSE,VLOOKUP(Worksheet!A81,MeasureCode_Lookup,6,FALSE),\"\")","v":""},{"$f":"Worksheet!H81","v":0},{"$f":"Worksheet!I81","v":0},{"$f":"IFERROR(IF(Worksheet!Z81=0,Worksheet!Y81/I59,Worksheet!Z81/R59),0)","v":0},"W Controlled",null,null,{"$f":"IF(N(Worksheet!S81)=0,N(Worksheet!R81),N(Worksheet!S81))","v":0},{"$f":"IFERROR(Worksheet!W81/(Worksheet!R81+Worksheet!U81),0)","v":0},{"$f":"Worksheet!AE81","v":0},{"$f":"Worksheet!AD81","v":0},0,{"$f":"IF(Worksheet!AL81=0,0,Worksheet!AL81/I59)","v":0},0,null,null,null,{"$f":"IFERROR(Worksheet!X81/(Worksheet!S81+Worksheet!V81),0)","v":0},{"$f":"IF(Worksheet!E81=\"\",\"\",Worksheet!E81)","v":""},{"$f":"IF(Worksheet!B81=\"\",\"\",Worksheet!B81)","v":""},{"$f":"IF(Worksheet!D81=\"\",\"\",Worksheet!D81)","v":""},{"$f":"IF(Worksheet!$A$11=TRUE,\"Y\",\"N\")","v":"N"},{"$f":"IF(Worksheet!$A$12=TRUE,\"Y\",\"N\")","v":"N"},{"$f":"IF(Worksheet!$B$11=TRUE,\"Y\",\"N\")","v":"N"},{"$f":"IF(Worksheet!$B$12=TRUE,\"Y\",\"N\")","v":"N"},{"$f":"IF(Worksheet!$C$11=TRUE,\"Y\",\"N\")","v":"N"},{"$f":"IFERROR(IF(N(Worksheet!V81)=0,Worksheet!U81,Worksheet!V81),\"\")","v":0}]
[{"$f":"IF(ISBLANK(Worksheet!F82)=FALSE,VLOOKUP(Worksheet!A82,MeasureCode_Lookup,6,FALSE),\"\")","v":""},{"$f":"Worksheet!H82","v":0},{"$f":"Worksheet!I82","v":0},{"$f":"IFERROR(IF(Worksheet!Z82=0,Worksheet!Y82/I60,Worksheet!Z82/R60),0)","v":0},"W Controlled",null,null,{"$f":"IF(N(Worksheet!S82)=0,N(Worksheet!R82),N(Worksheet!S82))","v":0},{"$f":"IFERROR(Worksheet!W82/(Worksheet!R82+Worksheet!U82),0)","v":0},{"$f":"Worksheet!AE82","v":0},{"$f":"Worksheet!AD82","v":0},0,{"$f":"IF(Worksheet!AL82=0,0,Worksheet!AL82/I60)","v":0},0,null,null,null,{"$f":"IFERROR(Worksheet!X82/(Worksheet!S82+Worksheet!V82),0)","v":0},{"$f":"IF(Worksheet!E82=\"\",\"\",Worksheet!E82)","v":""},{"$f":"IF(Worksheet!B82=\"\",\"\",Worksheet!B82)","v":""},{"$f":"IF(Worksheet!D82=\"\",\"\",Worksheet!D82)","v":""},{"$f":"IF(Worksheet!$A$11=TRUE,\"Y\",\"N\")","v":"N"},{"$f":"IF(Worksheet!$A$12=TRUE,\"Y\",\"N\")","v":"N"},{"$f":"IF(Worksheet!$B$11=TRUE,\"Y\",\"N\")","v":"N"},{"$f":"IF(Worksheet!$B$12=TRUE,\"Y\",\"N\")","v":"N"},{"$f":"IF(Worksheet!$C$11=TRUE,\"Y\",\"N\")","v":"N"},{"$f":"IFERROR(IF(N(Worksheet!V82)=0,Worksheet!U82,Worksheet!V82),\"\")","v":0}]
[{"$f":"IF(ISBLANK(Worksheet!F83)=FALSE,VLOOKUP(Worksheet!A83,MeasureCode_Lookup,6,FALSE),\"\")","v":""},{"$f":"Worksheet!H83","v":0},{"$f":"Worksheet!I83","v":0},{"$f":"IFERROR(IF(Worksheet!Z83=0,Worksheet!Y83/I61,Worksheet!Z83/R61),0)","v":0},"W Controlled",null,null,{"$f":"IF(N(Worksheet!S83)=0,N(Worksheet!R83),N(Worksheet!S83))","v":0},{"$f":"IFERROR(Worksheet!W83/(Worksheet!R83+Worksheet!U83),0)","v":0},{"$f":"Worksheet!AE83","v":0},{"$f":"Worksheet!AD83","v":0},0,{"$f":"IF(Worksheet!AL83=0,0,Worksheet!AL83/I61)","v":0},0,null,null,null,{"$f":"IFERROR(Worksheet!X83/(Worksheet!S83+Worksheet!V83),0)","v":0},{"$f":"IF(Worksheet!E83=\"\",\"\",Worksheet!E83)","v":""},{"$f":"IF(Worksheet!B83=\"\",\"\",Worksheet!B83)","v":""},{"$f":"IF(Worksheet!D83=\"\",\"\",Worksheet!D83)","v":""},{"$f":"IF(Worksheet!$A$11=TRUE,\"Y\",\"N\")","v":"N"},{"$f":"IF(Worksheet!$A$12=TRUE,\"Y\",\"N\")","v":"N"},{"$f":"IF(Worksheet!$B$11=TRUE,\"Y\",\"N\")","v":"N"},{"$f":"IF(Worksheet!$B$12=TRUE,\"Y\",\"N\")","v":"N"},{"$f":"IF(Worksheet!$C$11=TRUE,\"Y\",\"N\")","v":"N"},{"$f":"IFERROR(IF(N(Worksheet!V83)=0,Worksheet!U83,Worksheet!V83),\"\")","v":0}]
[{"$f":"IF(ISBLANK(Worksheet!F84)=FALSE,VLOOKUP(Worksheet!A84,MeasureCode_Lookup,6,FALSE),\"\")","v":""},{"$f":"Worksheet!H84","v":0},{"$f":"Worksheet!I84","v":0},{"$f":"IFERROR(IF(Worksheet!Z84=0,Worksheet!Y84/I62,Worksheet!Z84/R62),0)","v":0},"W Controlled",null,null,{"$f":"IF(N(Worksheet!S84)=0,N(Worksheet!R84),N(Worksheet!S84))","v":0},{"$f":"IFERROR(Worksheet!W84/(Worksheet!R84+Worksheet!U84),0)","v":0},{"$f":"Worksheet!AE84","v":0},{"$f":"Worksheet!AD84","v":0},0,{"$f":"IF(Worksheet!AL84=0,0,Worksheet!AL84/I62)","v":0},0,null,null,null,{"$f":"IFERROR(Worksheet!X84/(Worksheet!S84+Worksheet!V84),0)","v":0},{"$f":"IF(Worksheet!E84=\"\",\"\",Worksheet!E84)","v":""},{"$f":"IF(Worksheet!B84=\"\",\"\",Worksheet!B84)","v":""},{"$f":"IF(Worksheet!D84=\"\",\"\",Worksheet!D84)","v":""},{"$f":"IF(Worksheet!$A$11=TRUE,\"Y\",\"N\")","v":"N"},{"$f":"IF(Worksheet!$A$12=TRUE,\"Y\",\"N\")","v":"N"},{"$f":"IF(Worksheet!$B$11=TRUE,\"Y\",\"N\")","v":"N"},{"$f":"IF(Worksheet!$B$12=TRUE,\"Y\",\"N\")","v":"N"},{"$f":"IF(Worksheet!$C$11=TRUE,\"Y\",\"N\")","v":"N"},{"$f":"IFERROR(IF(N(Worksheet!V84)=0,Worksheet!U84,Worksheet!V84),\"\")","v":0}]
[{"$f":"IF(ISBLANK(Worksheet!F85)=FALSE,VLOOKUP(Worksheet!A85,MeasureCode_Lookup,6,FALSE),\"\")","v":""},{"$f":"Worksheet!H85","v":0},{"$f":"Worksheet!I85","v":0},{"$f":"IFERROR(IF(Worksheet!Z85=0,Worksheet!Y85/I63,Worksheet!Z85/R63),0)","v":0},"W Controlled",null,null,{"$f":"IF(N(Worksheet!S85)=0,N(Worksheet!R85),N(Worksheet!S85))","v":0},{"$f":"IFERROR(Worksheet!W85/(Worksheet!R85+Worksheet!U85),0)","v":0},{"$f":"Worksheet!AE85","v":0},{"$f":"Worksheet!AD85","v":0},0,{"$f":"IF(Worksheet!AL85=0,0,Worksheet!AL85/I63)","v":0},0,null,null,null,{"$f":"IFERROR(Worksheet!X85/(Worksheet!S85+Worksheet!V85),0)","v":0},{"$f":"IF(Worksheet!E85=\"\",\"\",Worksheet!E85)","v":""},{"$f":"IF(Worksheet!B85=\"\",\"\",Worksheet!B85)","v":""},{"$f":"IF(Worksheet!D85=\"\",\"\",Worksheet!D85)","v":""},{"$f":"IF(Worksheet!$A$11=TRUE,\"Y\",\"N\")","v":"N"},{"$f":"IF(Worksheet!$A$12=TRUE,\"Y\",\"N\")","v":"N"},{"$f":"IF(Worksheet!$B$11=TRUE,\"Y\",\"N\")","v":"N"},{"$f":"IF(Worksheet!$B$12=TRUE,\"Y\",\"N\")","v":"N"},{"$f":"IF(Worksheet!$C$11=TRUE,\"Y\",\"N\")","v":"N"},{"$f":"IFERROR(IF(N(Worksheet!V85)=0,Worksheet!U85,Worksheet!V85),\"\")","v":0}]
[{"$f":"IF(ISBLANK(Worksheet!F86)=FALSE,VLOOKUP(Worksheet!A86,MeasureCode_Lookup,6,FALSE),\"\")","v":""},{"$f":"Worksheet!H86","v":0},{"$f":"Worksheet!I86","v":0},{"$f":"IFERROR(IF(Worksheet!Z86=0,Worksheet!Y86/I64,Worksheet!Z86/R64),0)","v":0},"W Controlled",null,null,{"$f":"IF(N(Worksheet!S86)=0,N(Worksheet!R86),N(Worksheet!S86))","v":0},{"$f":"IFERROR(Worksheet!W86/(Worksheet!R86+Worksheet!U86),0)","v":0},{"$f":"Worksheet!AE86","v":0},{"$f":"Worksheet!AD86","v":0},0,{"$f":"IF(Worksheet!AL86=0,0,Worksheet!AL86/I64)","v":0},0,null,null,null,{"$f":"IFERROR(Worksheet!X86/(Worksheet!S86+Worksheet!V86),0)","v":0},{"$f":"IF(Worksheet!E86=\"\",\"\",Worksheet!E86)","v":""},{"$f":"IF(Worksheet!B86=\"\",\"\",Worksheet!B86)","v":""},{"$f":"IF(Worksheet!D86=\"\",\"\",Worksheet!D86)","v":""},{"$f":"IF(Worksheet!$A$11=TRUE,\"Y\",\"N\")","v":"N"},{"$f":"IF(Worksheet!$A$12=TRUE,\"Y\",\"N\")","v":"N"},{"$f":"IF(Worksheet!$B$11=TRUE,\"Y\",\"N\")","v":"N"},{"$f":"IF(Worksheet!$B$12=TRUE,\"Y\",\"N\")","v":"N"},{"$f":"IF(Worksheet!$C$11=TRUE,\"Y\",\"N\")","v":"N"},{"$f":"IFERROR(IF(N(Worksheet!V86)=0,Worksheet!U86,Worksheet!V86),\"\")","v":0}]
[{"$f":"IF(ISBLANK(Worksheet!F87)=FALSE,VLOOKUP(Worksheet!A87,MeasureCode_Lookup,6,FALSE),\"\")","v":""},{"$f":"Worksheet!H87","v":0},{"$f":"Worksheet!I87","v":0},{"$f":"IFERROR(IF(Worksheet!Z87=0,Worksheet!Y87/I65,Worksheet!Z87/R65),0)","v":0},"W Controlled",null,null,{"$f":"IF(N(Worksheet!S87)=0,N(Worksheet!R87),N(Worksheet!S87))","v":0},{"$f":"IFERROR(Worksheet!W87/(Worksheet!R87+Worksheet!U87),0)","v":0},{"$f":"Worksheet!AE87","v":0},{"$f":"Worksheet!AD87","v":0},0,{"$f":"IF(Worksheet!AL87=0,0,Worksheet!AL87/I65)","v":0},0,null,null,null,{"$f":"IFERROR(Worksheet!X87/(Worksheet!S87+Worksheet!V87),0)","v":0},{"$f":"IF(Worksheet!E87=\"\",\"\",Worksheet!E87)","v":""},{"$f":"IF(Worksheet!B87=\"\",\"\",Worksheet!B87)","v":""},{"$f":"IF(Worksheet!D87=\"\",\"\",Worksheet!D87)","v":""},{"$f":"IF(Worksheet!$A$11=TRUE,\"Y\",\"N\")","v":"N"},{"$f":"IF(Worksheet!$A$12=TRUE,\"Y\",\"N\")","v":"N"},{"$f":"IF(Worksheet!$B$11=TRUE,\"Y\",\"N\")","v":"N"},{"$f":"IF(Worksheet!$B$12=TRUE,\"Y\",\"N\")","v":"N"},{"$f":"IF(Worksheet!$C$11=TRUE,\"Y\",\"N\")","v":"N"},{"$f":"IFERROR(IF(N(Worksheet!V87)=0,Worksheet!U87,Worksheet!V87),\"\")","v":0}]
[{"$f":"IF(ISBLANK(Worksheet!F88)=FALSE,VLOOKUP(Worksheet!A88,MeasureCode_Lookup,6,FALSE),\"\")","v":""},{"$f":"Worksheet!H88","v":0},{"$f":"Worksheet!I88","v":0},{"$f":"IFERROR(IF(Worksheet!Z88=0,Worksheet!Y88/I66,Worksheet!Z88/R66),0)","v":0},"W Controlled",null,null,{"$f":"IF(N(Worksheet!S88)=0,N(Worksheet!R88),N(Worksheet!S88))","v":0},{"$f":"IFERROR(Worksheet!W88/(Worksheet!R88+Worksheet!U88),0)","v":0},{"$f":"Worksheet!AE88","v":0},{"$f":"Worksheet!AD88","v":0},0,{"$f":"IF(Worksheet!AL88=0,0,Worksheet!AL88/I66)","v":0},0,null,null,null,{"$f":"IFERROR(Worksheet!X88/(Worksheet!S88+Worksheet!V88),0)","v":0},{"$f":"IF(Worksheet!E88=\"\",\"\",Worksheet!E88)","v":""},{"$f":"IF(Worksheet!B88=\"\",\"\",Worksheet!B88)","v":""},{"$f":"IF(Worksheet!D88=\"\",\"\",Worksheet!D88)","v":""},{"$f":"IF(Worksheet!$A$11=TRUE,\"Y\",\"N\")","v":"N"},{"$f":"IF(Worksheet!$A$12=TRUE,\"Y\",\"N\")","v":"N"},{"$f":"IF(Worksheet!$B$11=TRUE,\"Y\",\"N\")","v":"N"},{"$f":"IF(Worksheet!$B$12=TRUE,\"Y\",\"N\")","v":"N"},{"$f":"IF(Worksheet!$C$11=TRUE,\"Y\",\"N\")","v":"N"},{"$f":"IFERROR(IF(N(Worksheet!V88)=0,Worksheet!U88,Worksheet!V88),\"\")","v":0}]
[{"$f":"IF(ISBLANK(Worksheet!F89)=FALSE,VLOOKUP(Worksheet!A89,MeasureCode_Lookup,6,FALSE),\"\")","v":""},{"$f":"Worksheet!H89","v":0},{"$f":"Worksheet!I89","v":0},{"$f":"IFERROR(IF(Worksheet!Z89=0,Worksheet!Y89/I67,Worksheet!Z89/R67),0)","v":0},"W Controlled",null,null,{"$f":"IF(N(Worksheet!S89)=0,N(Worksheet!R89),N(Worksheet!S89))","v":0},{"$f":"IFERROR(Worksheet!W89/(Worksheet!R89+Worksheet!U89),0)","v":0},{"$f":"Worksheet!AE89","v":0},{"$f":"Worksheet!AD89","v":0},{"$f":"J67*8","v":0},{"$f":"IF(Worksheet!AL89=0,0,Worksheet!AL89/I67)","v":0},{"$f":"M67*8","v":0},null,null,null,{"$f":"IFERROR(Worksheet!X89/(Worksheet!S89+Worksheet!V89),0)","v":0},{"$f":"IF(Worksheet!E89=\"\",\"\",Worksheet!E89)","v":""},{"$f":"IF(Worksheet!B89=\"\",\"\",Worksheet!B89)","v":""},{"$f":"IF(Worksheet!D89=\"\",\"\",Worksheet!D89)","v":""},{"$f":"IF(Worksheet!$A$11=TRUE,\"Y\",\"N\")","v":"N"},{"$f":"IF(Worksheet!$A$12=TRUE,\"Y\",\"N\")","v":"N"},{"$f":"IF(Worksheet!$B$11=TRUE,\"Y\",\"N\")","v":"N"},{"$f":"IF(Worksheet!$B$12=TRUE,\"Y\",\"N\")","v":"N"},{"$f":"IF(Worksheet!$C$11=TRUE,\"Y\",\"N\")","v":"N"},{"$f":"IFERROR(IF(N(Worksheet!V89)=0,Worksheet!U89,Worksheet!V89),\"\")","v":0}]
[{"$f":"IF(ISBLANK(Worksheet!F90)=FALSE,VLOOKUP(Worksheet!A90,MeasureCode_Lookup,6,FALSE),\"\")","v":""},{"$f":"Worksheet!H90","v":0},{"$f":"Worksheet!I90","v":0},{"$f":"IFERROR(IF(Worksheet!Z90=0,Worksheet!Y90/I68,Worksheet!Z90/R68),0)","v":0},"W Controlled",null,null,{"$f":"IF(N(Worksheet!S90)=0,N(Worksheet!R90),N(Worksheet!S90))","v":0},{"$f":"IFERROR(Worksheet!W90/(Worksheet!R90+Worksheet!U90),0)","v":0},{"$f":"Worksheet!AE90","v":0},{"$f":"Worksheet!AD90","v":0},0,{"$f":"IF(Worksheet!AL90=0,0,Worksheet!AL90/I68)","v":0},0,null,null,null,{"$f":"IFERROR(Worksheet!X90/(Worksheet!S90+Worksheet!V90),0)","v":0},{"$f":"IF(Worksheet!E90=\"\",\"\",Worksheet!E90)","v":""},{"$f":"IF(Worksheet!B90=\"\",\"\",Worksheet!B90)","v":""},{"$f":"IF(Worksheet!D90=\"\",\"\",Worksheet!D90)","v":""},{"$f":"IF(Worksheet!$A$11=TRUE,\"Y\",\"N\")","v":"N"},{"$f":"IF(Worksheet!$A$12=TRUE,\"Y\",\"N\")","v":"N"},{"$f":"IF(Worksheet!$B$11=TRUE,\"Y\",\"N\")","v":"N"},{"$f":"IF(Worksheet!$B$12=TRUE,\"Y\",\"N\")","v":"N"},{"$f":"IF(Worksheet!$C$11=TRUE,\"Y\",\"N\")","v":"N"},{"$f":"IFERROR(IF(N(Worksheet!V90)=0,Worksheet!U90,Worksheet!V90),\"\")","v":0}]
[{"$f":"IF(ISBLANK(Worksheet!F91)=FALSE,VLOOKUP(Worksheet!A91,MeasureCode_Lookup,6,FALSE),\"\")","v":""},{"$f":"Worksheet!H91","v":0},{"$f":"Worksheet!I91","v":0},{"$f":"IFERROR(IF(Worksheet!Z91=0,Worksheet!Y91/I69,Worksheet!Z91/R69),0)","v":0},"W Controlled",null,null,{"$f":"IF(N(Worksheet!S91)=0,N(Worksheet!R91),N(Worksheet!S91))","v":0},{"$f":"IFERROR(Worksheet!W91/(Worksheet!R91+Worksheet!U91),0)","v":0},{"$f":"Worksheet!AE91","v":0},{"$f":"Worksheet!AD91","v":0},0,{"$f":"IF(Worksheet!AL91=0,0,Worksheet!AL91/I69)","v":0},0,null,null,null,{"$f":"IFERROR(Worksheet!X91/(Worksheet!S91+Worksheet!V91),0)","v":0},{"$f":"IF(Worksheet!E91=\"\",\"\",Worksheet!E91)","v":""},{"$f":"IF(Worksheet!B91=\"\",\"\",Worksheet!B91)","v":""},{"$f":"IF(Worksheet!D91=\"\",\"\",Worksheet!D91)","v":""},{"$f":"IF(Worksheet!$A$11=TRUE,\"Y\",\"N\")","v":"N"},{"$f":"IF(Worksheet!$A$12=TRUE,\"Y\",\"N\")","v":"N"},{"$f":"IF(Worksheet!$B$11=TRUE,\"Y\",\"N\")","v":"N"},{"$f":"IF(Worksheet!$B$12=TRUE,\"Y\",\"N\")","v":"N"},{"$f":"IF(Worksheet!$C$11=TRUE,\"Y\",\"N\")","v":"N"},{"$f":"IFERROR(IF(N(Worksheet!V91)=0,Worksheet!U91,Worksheet!V91),\"\")","v":0}]
[{"$f":"IF(ISBLANK(Worksheet!F92)=FALSE,VLOOKUP(Worksheet!A92,MeasureCode_Lookup,6,FALSE),\"\")","v":""},{"$f":"Worksheet!H92","v":0},{"$f":"Worksheet!I92","v":0},{"$f":"IFERROR(IF(Worksheet!Z92=0,Worksheet!Y92/I70,Worksheet!Z92/R70),0)","v":0},"W Controlled",null,null,{"$f":"IF(N(Worksheet!S92)=0,N(Worksheet!R92),N(Worksheet!S92))","v":0},{"$f":"IFERROR(Worksheet!W92/(Worksheet!R92+Worksheet!U92),0)","v":0},{"$f":"Worksheet!AE92","v":0},{"$f":"Worksheet!AD92","v":0},0,{"$f":"IF(Worksheet!AL92=0,0,Worksheet!AL92/I70)","v":0},0,null,null,null,{"$f":"IFERROR(Worksheet!X92/(Worksheet!S92+Worksheet!V92),0)","v":0},{"$f":"IF(Worksheet!E92=\"\",\"\",Worksheet!E92)","v":""},{"$f":"IF(Worksheet!B92=\"\",\"\",Worksheet!B92)","v":""},{"$f":"IF(Worksheet!D92=\"\",\"\",Worksheet!D92)","v":""},{"$f":"IF(Worksheet!$A$11=TRUE,\"Y\",\"N\")","v":"N"},{"$f":"IF(Worksheet!$A$12=TRUE,\"Y\",\"N\")","v":"N"},{"$f":"IF(Worksheet!$B$11=TRUE,\"Y\",\"N\")","v":"N"},{"$f":"IF(Worksheet!$B$12=TRUE,\"Y\",\"N\")","v":"N"},{"$f":"IF(Worksheet!$C$11=TRUE,\"Y\",\"N\")","v":"N"},{"$f":"IFERROR(IF(N(Worksheet!V92)=0,Worksheet!U92,Worksheet!V92),\"\")","v":0}]
[{"$f":"IF(ISBLANK(Worksheet!F93)=FALSE,VLOOKUP(Worksheet!A93,MeasureCode_Lookup,6,FALSE),\"\")","v":""},{"$f":"Worksheet!H93","v":0},{"$f":"Worksheet!I93","v":0},{"$f":"IFERROR(IF(Worksheet!Z93=0,Worksheet!Y93/I71,Worksheet!Z93/R71),0)","v":0},"W Controlled",null,null,{"$f":"IF(N(Worksheet!S93)=0,N(Worksheet!R93),N(Worksheet!S93))","v":0},{"$f":"IFERROR(Worksheet!W93/(Worksheet!R93+Worksheet!U93),0)","v":0},{"$f":"Worksheet!AE93","v":0},{"$f":"Worksheet!AD93","v":0},0,{"$f":"IF(Worksheet!AL93=0,0,Worksheet!AL93/I71)","v":0},0,null,null,null,{"$f":"IFERROR(Worksheet!X93/(Worksheet!S93+Worksheet!V93),0)","v":0},{"$f":"IF(Worksheet!E93=\"\",\"\",Worksheet!E93)","v":""},{"$f":"IF(Worksheet!B93=\"\",\"\",Worksheet!B93)","v":""},{"$f":"IF(Worksheet!D93=\"\",\"\",Worksheet!D93)","v":""},{"$f":"IF(Worksheet!$A$11=TRUE,\"Y\",\"N\")","v":"N"},{"$f":"IF(Worksheet!$A$12=TRUE,\"Y\",\"N\")","v":"N"},{"$f":"IF(Worksheet!$B$11=TRUE,\"Y\",\"N\")","v":"N"},{"$f":"IF(Worksheet!$B$12=TRUE,\"Y\",\"N\")","v":"N"},{"$f":"IF(Worksheet!$C$11=TRUE,\"Y\",\"N\")","v":"N"},{"$f":"IFERROR(IF(N(Worksheet!V93)=0,Worksheet!U93,Worksheet!V93),\"\")","v":0}]
[{"$f":"IF(ISBLANK(Worksheet!F94)=FALSE,VLOOKUP(Worksheet!A94,MeasureCode_Lookup,6,FALSE),\"\")","v":""},{"$f":"Worksheet!H94","v":0},{"$f":"Worksheet!I94","v":0},{"$f":"IFERROR(IF(Worksheet!Z94=0,Worksheet!Y94/I72,Worksheet!Z94/R72),0)","v":0},"W Controlled",null,null,{"$f":"IF(N(Worksheet!S94)=0,N(Worksheet!R94),N(Worksheet!S94))","v":0},{"$f":"IFERROR(Worksheet!W94/(Worksheet!R94+Worksheet!U94),0)","v":0},{"$f":"Worksheet!AE94","v":0},{"$f":"Worksheet!AD94","v":0},0,{"$f":"IF(Worksheet!AL94=0,0,Worksheet!AL94/I72)","v":0},0,null,null,null,{"$f":"IFERROR(Worksheet!X94/(Worksheet!S94+Worksheet!V94),0)","v":0},{"$f":"IF(Worksheet!E94=\"\",\"\",Worksheet!E94)","v":""},{"$f":"IF(Worksheet!B94=\"\",\"\",Worksheet!B94)","v":""},{"$f":"IF(Worksheet!D94=\"\",\"\",Worksheet!D94)","v":""},{"$f":"IF(Worksheet!$A$11=TRUE,\"Y\",\"N\")","v":"N"},{"$f":"IF(Worksheet!$A$12=TRUE,\"Y\",\"N\")","v":"N"},{"$f":"IF(Worksheet!$B$11=TRUE,\"Y\",\"N\")","v":"N"},{"$f":"IF(Worksheet!$B$12=TRUE,\"Y\",\"N\")","v":"N"},{"$f":"IF(Worksheet!$C$11=TRUE,\"Y\",\"N\")","v":"N"},{"$f":"IFERROR(IF(N(Worksheet!V94)=0,Worksheet!U94,Worksheet!V94),\"\")","v":0}]
[{"$f":"IF(ISBLANK(Worksheet!F95)=FALSE,VLOOKUP(Worksheet!A95,MeasureCode_Lookup,6,FALSE),\"\")","v":""},{"$f":"Worksheet!H95","v":0},{"$f":"Worksheet!I95","v":0},{"$f":"IFERROR(IF(Worksheet!Z95=0,Worksheet!Y95/I73,Worksheet!Z95/R73),0)","v":0},"W Controlled",null,null,{"$f":"IF(N(Worksheet!S95)=0,N(Worksheet!R95),N(Worksheet!S95))","v":0},{"$f":"IFERROR(Worksheet!W95/(Worksheet!R95+Worksheet!U95),0)","v":0},{"$f":"Worksheet!AE95","v":0},{"$f":"Worksheet!AD95","v":0},0,{"$f":"IF(Worksheet!AL95=0,0,Worksheet!AL95/I73)","v":0},0,null,null,null,{"$f":"IFERROR(Worksheet!X95/(Worksheet!S95+Worksheet!V95),0)","v":0},{"$f":"IF(Worksheet!E95=\"\",\"\",Worksheet!E95)","v":""},{"$f":"IF(Worksheet!B95=\"\",\"\",Worksheet!B95)","v":""},{"$f":"IF(Worksheet!D95=\"\",\"\",Worksheet!D95)","v":""},{"$f":"IF(Worksheet!$A$11=TRUE,\"Y\",\"N\")","v":"N"},{"$f":"IF(Worksheet!$A$12=TRUE,\"Y\",\"N\")","v":"N"},{"$f":"IF(Worksheet!$B$11=TRUE,\"Y\",\"N\")","v":"N"},{"$f":"IF(Worksheet!$B$12=TRUE,\"Y\",\"N\")","v":"N"},{"$f":"IF(Worksheet!$C$11=TRUE,\"Y\",\"N\")","v":"N"},{"$f":"IFERROR(IF(N(Worksheet!V95)=0,Worksheet!U95,Worksheet!V95),\"\")","v":0}]
[{"$f":"IF(ISBLANK(Worksheet!F96)=FALSE,VLOOKUP(Worksheet!A96,MeasureCode_Lookup,6,FALSE),\"\")","v":""},{"$f":"Worksheet!H96","v":0},{"$f":"Worksheet!I96","v":0},{"$f":"IFERROR(IF(Worksheet!Z96=0,Worksheet!Y96/I74,Worksheet!Z96/R74),0)","v":0},"W Controlled",null,null,{"$f":"IF(N(Worksheet!S96)=0,N(Worksheet!R96),N(Worksheet!S96))","v":0},{"$f":"IFERROR(Worksheet!W96/(Worksheet!R96+Worksheet!U96),0)","v":0},{"$f":"Worksheet!AE96","v":0},{"$f":"Worksheet!AD96","v":0},0,{"$f":"IF(Worksheet!AL96=0,0,Worksheet!AL96/I74)","v":0},0,null,null,null,{"$f":"IFERROR(Worksheet!X96/(Worksheet!S96+Worksheet!V96),0)","v":0},{"$f":"IF(Worksheet!E96=\"\",\"\",Worksheet!E96)","v":""},{"$f":"IF(Worksheet!B96=\"\",\"\",Worksheet!B96)","v":""},{"$f":"IF(Worksheet!D96=\"\",\"\",Worksheet!D96)","v":""},{"$f":"IF(Worksheet!$A$11=TRUE,\"Y\",\"N\")","v":"N"},{"$f":"IF(Worksheet!$A$12=TRUE,\"Y\",\"N\")","v":"N"},{"$f":"IF(Worksheet!$B$11=TRUE,\"Y\",\"N\")","v":"N"},{"$f":"IF(Worksheet!$B$12=TRUE,\"Y\",\"N\")","v":"N"},{"$f":"IF(Worksheet!$C$11=TRUE,\"Y\",\"N\")","v":"N"},{"$f":"IFERROR(IF(N(Worksheet!V96)=0,Worksheet!U96,Worksheet!V96),\"\")","v":0}]
[{"$f":"IF(ISBLANK(Worksheet!F97)=FALSE,VLOOKUP(Worksheet!A97,MeasureCode_Lookup,6,FALSE),\"\")","v":""},{"$f":"Worksheet!H97","v":0},{"$f":"Worksheet!I97","v":0},{"$f":"IFERROR(IF(Worksheet!Z97=0,Worksheet!Y97/I75,Worksheet!Z97/R75),0)","v":0},"W Controlled",null,null,{"$f":"IF(N(Worksheet!S97)=0,N(Worksheet!R97),N(Worksheet!S97))","v":0},{"$f":"IFERROR(Worksheet!W97/(Worksheet!R97+Worksheet!U97),0)","v":0},{"$f":"Worksheet!AE97","v":0},{"$f":"Worksheet!AD97","v":0},0,{"$f":"IF(Worksheet!AL97=0,0,Worksheet!AL97/I75)","v":0},0,null,null,null,{"$f":"IFERROR(Worksheet!X97/(Worksheet!S97+Worksheet!V97),0)","v":0},{"$f":"IF(Worksheet!E97=\"\",\"\",Worksheet!E97)","v":""},{"$f":"IF(Worksheet!B97=\"\",\"\",Worksheet!B97)","v":""},{"$f":"IF(Worksheet!D97=\"\",\"\",Worksheet!D97)","v":""},{"$f":"IF(Worksheet!$A$11=TRUE,\"Y\",\"N\")","v":"N"},{"$f":"IF(Worksheet!$A$12=TRUE,\"Y\",\"N\")","v":"N"},{"$f":"IF(Worksheet!$B$11=TRUE,\"Y\",\"N\")","v":"N"},{"$f":"IF(Worksheet!$B$12=TRUE,\"Y\",\"N\")","v":"N"},{"$f":"IF(Worksheet!$C$11=TRUE,\"Y\",\"N\")","v":"N"},{"$f":"IFERROR(IF(N(Worksheet!V97)=0,Worksheet!U97,Worksheet!V97),\"\")","v":0}]
[{"$f":"IF(ISBLANK(Worksheet!F98)=FALSE,VLOOKUP(Worksheet!A98,MeasureCode_Lookup,6,FALSE),\"\")","v":""},{"$f":"Worksheet!H98","v":0},{"$f":"Worksheet!I98","v":0},{"$f":"IFERROR(IF(Worksheet!Z98=0,Worksheet!Y98/I76,Worksheet!Z98/R76),0)","v":0},"W Controlled",null,null,{"$f":"IF(N(Worksheet!S98)=0,N(Worksheet!R98),N(Worksheet!S98))","v":0},{"$f":"IFERROR(Worksheet!W98/(Worksheet!R98+Worksheet!U98),0)","v":0},{"$f":"Worksheet!AE98","v":0},{"$f":"Worksheet!AD98","v":0},0,{"$f":"IF(Worksheet!AL98=0,0,Worksheet!AL98/I76)","v":0},0,null,null,null,{"$f":"IFERROR(Worksheet!X98/(Worksheet!S98+Worksheet!V98),0)","v":0},{"$f":"IF(Worksheet!E98=\"\",\"\",Worksheet!E98)","v":""},{"$f":"IF(Worksheet!B98=\"\",\"\",Worksheet!B98)","v":""},{"$f":"IF(Worksheet!D98=\"\",\"\",Worksheet!D98)","v":""},{"$f":"IF(Worksheet!$A$11=TRUE,\"Y\",\"N\")","v":"N"},{"$f":"IF(Worksheet!$A$12=TRUE,\"Y\",\"N\")","v":"N"},{"$f":"IF(Worksheet!$B$11=TRUE,\"Y\",\"N\")","v":"N"},{"$f":"IF(Worksheet!$B$12=TRUE,\"Y\",\"N\")","v":"N"},{"$f":"IF(Worksheet!$C$11=TRUE,\"Y\",\"N\")","v":"N"},{"$f":"IFERROR(IF(N(Worksheet!V98)=0,Worksheet!U98,Worksheet!V98),\"\")","v":0}]
[{"$f":"IF(ISBLANK(Worksheet!F99)=FALSE,VLOOKUP(Worksheet!A99,MeasureCode_Lookup,6,FALSE),\"\")","v":""},{"$f":"Worksheet!H99","v":0},{"$f":"Worksheet!I99","v":0},{"$f":"IFERROR(IF(Worksheet!Z99=0,Worksheet!Y99/I77,Worksheet!Z99/R77),0)","v":0},"W Controlled",null,null,{"$f":"IF(N(Worksheet!S99)=0,N(Worksheet!R99),N(Worksheet!S99))","v":0},{"$f":"IFERROR(Worksheet!W99/(Worksheet!R99+Worksheet!U99),0)","v":0},{"$f":"Worksheet!AE99","v":0},{"$f":"Worksheet!AD99","v":0},0,{"$f":"IF(Worksheet!AL99=0,0,Worksheet!AL99/I77)","v":0},0,null,null,null,{"$f":"IFERROR(Worksheet!X99/(Worksheet!S99+Worksheet!V99),0)","v":0},{"$f":"IF(Worksheet!E99=\"\",\"\",Worksheet!E99)","v":""},{"$f":"IF(Worksheet!B99=\"\",\"\",Worksheet!B99)","v":""},{"$f":"IF(Worksheet!D99=\"\",\"\",Worksheet!D99)","v":""},{"$f":"IF(Worksheet!$A$11=TRUE,\"Y\",\"N\")","v":"N"},{"$f":"IF(Worksheet!$A$12=TRUE,\"Y\",\"N\")","v":"N"},{"$f":"IF(Worksheet!$B$11=TRUE,\"Y\",\"N\")","v":"N"},{"$f":"IF(Worksheet!$B$12=TRUE,\"Y\",\"N\")","v":"N"},{"$f":"IF(Worksheet!$C$11=TRUE,\"Y\",\"N\")","v":"N"},{"$f":"IFERROR(IF(N(Worksheet!V99)=0,Worksheet!U99,Worksheet!V99),\"\")","v":0}]
[{"$f":"IF(ISBLANK(Worksheet!F100)=FALSE,VLOOKUP(Worksheet!A100,MeasureCode_Lookup,6,FALSE),\"\")","v":""},{"$f":"Worksheet!H100","v":0},{"$f":"Worksheet!I100","v":0},{"$f":"IFERROR(IF(Worksheet!Z100=0,Worksheet!Y100/I78,Worksheet!Z100/R78),0)","v":0},"W Controlled",null,null,{"$f":"IF(N(Worksheet!S100)=0,N(Worksheet!R100),N(Worksheet!S100))","v":0},{"$f":"IFERROR(Worksheet!W100/(Worksheet!R100+Worksheet!U100),0)","v":0},{"$f":"Worksheet!AE100","v":0},{"$f":"Worksheet!AD100","v":0},0,{"$f":"IF(Worksheet!AL100=0,0,Worksheet!AL100/I78)","v":0},0,null,null,null,{"$f":"IFERROR(Worksheet!X100/(Worksheet!S100+Worksheet!V100),0)","v":0},{"$f":"IF(Worksheet!E100=\"\",\"\",Worksheet!E100)","v":""},{"$f":"IF(Worksheet!B100=\"\",\"\",Worksheet!B100)","v":""},{"$f":"IF(Worksheet!D100=\"\",\"\",Worksheet!D100)","v":""},{"$f":"IF(Worksheet!$A$11=TRUE,\"Y\",\"N\")","v":"N"},{"$f":"IF(Worksheet!$A$12=TRUE,\"Y\",\"N\")","v":"N"},{"$f":"IF(Worksheet!$B$11=TRUE,\"Y\",\"N\")","v":"N"},{"$f":"IF(Worksheet!$B$12=TRUE,\"Y\",\"N\")","v":"N"},{"$f":"IF(Worksheet!$C$11=TRUE,\"Y\",\"N\")","v":"N"},{"$f":"IFERROR(IF(N(Worksheet!V100)=0,Worksheet!U100,Worksheet!V100),\"\")","v":0}]
[{"$f":"IF(ISBLANK(Worksheet!F101)=FALSE,VLOOKUP(Worksheet!A101,MeasureCode_Lookup,6,FALSE),\"\")","v":""},{"$f":"Worksheet!H101","v":0},{"$f":"Worksheet!I101","v":0},{"$f":"IFERROR(IF(Worksheet!Z101=0,Worksheet!Y101/I79,Worksheet!Z101/R79),0)","v":0},"W Controlled",null,null,{"$f":"IF(N(Worksheet!S101)=0,N(Worksheet!R101),N(Worksheet!S101))","v":0},{"$f":"IFERROR(Worksheet!W101/(Worksheet!R101+Worksheet!U101),0)","v":0},{"$f":"Worksheet!AE101","v":0},{"$f":"Worksheet!AD101","v":0},0,{"$f":"IF(Worksheet!AL101=0,0,Worksheet!AL101/I79)","v":0},0,null,null,null,{"$f":"IFERROR(Worksheet!X101/(Worksheet!S101+Worksheet!V101),0)","v":0},{"$f":"IF(Worksheet!E101=\"\",\"\",Worksheet!E101)","v":""},{"$f":"IF(Worksheet!B101=\"\",\"\",Worksheet!B101)","v":""},{"$f":"IF(Worksheet!D101=\"\",\"\",Worksheet!D101)","v":""},{"$f":"IF(Worksheet!$A$11=TRUE,\"Y\",\"N\")","v":"N"},{"$f":"IF(Worksheet!$A$12=TRUE,\"Y\",\"N\")","v":"N"},{"$f":"IF(Worksheet!$B$11=TRUE,\"Y\",\"N\")","v":"N"},{"$f":"IF(Worksheet!$B$12=TRUE,\"Y\",\"N\")","v":"N"},{"$f":"IF(Worksheet!$C$11=TRUE,\"Y\",\"N\")","v":"N"},{"$f":"IFERROR(IF(N(Worksheet!V101)=0,Worksheet!U101,Worksheet!V101),\"\")","v":0}]
[{"$f":"IF(ISBLANK(Worksheet!F102)=FALSE,VLOOKUP(Worksheet!A102,MeasureCode_Lookup,6,FALSE),\"\")","v":""},{"$f":"Worksheet!H102","v":0},{"$f":"Worksheet!I102","v":0},{"$f":"IFERROR(IF(Worksheet!Z102=0,Worksheet!Y102/I80,Worksheet!Z102/R80),0)","v":0},"W Controlled",null,null,{"$f":"IF(N(Worksheet!S102)=0,N(Worksheet!R102),N(Worksheet!S102))","v":0},{"$f":"IFERROR(Worksheet!W102/(Worksheet!R102+Worksheet!U102),0)","v":0},{"$f":"Worksheet!AE102","v":0},{"$f":"Worksheet!AD102","v":0},0,{"$f":"IF(Worksheet!AL102=0,0,Worksheet!AL102/I80)","v":0},0,null,null,null,{"$f":"IFERROR(Worksheet!X102/(Worksheet!S102+Worksheet!V102),0)","v":0},{"$f":"IF(Worksheet!E102=\"\",\"\",Worksheet!E102)","v":""},{"$f":"IF(Worksheet!B102=\"\",\"\",Worksheet!B102)","v":""},{"$f":"IF(Worksheet!D102=\"\",\"\",Worksheet!D102)","v":""},{"$f":"IF(Worksheet!$A$11=TRUE,\"Y\",\"N\")","v":"N"},{"$f":"IF(Worksheet!$A$12=TRUE,\"Y\",\"N\")","v":"N"},{"$f":"IF(Worksheet!$B$11=TRUE,\"Y\",\"N\")","v":"N"},{"$f":"IF(Worksheet!$B$12=TRUE,\"Y\",\"N\")","v":"N"},{"$f":"IF(Worksheet!$C$11=TRUE,\"Y\",\"N\")","v":"N"},{"$f":"IFERROR(IF(N(Worksheet!V102)=0,Worksheet!U102,Worksheet!V102),\"\")","v":0}]
[{"$f":"IF(ISBLANK(Worksheet!F103)=FALSE,VLOOKUP(Worksheet!A103,MeasureCode_Lookup,6,FALSE),\"\")","v":""},{"$f":"Worksheet!H103","v":0},{"$f":"Worksheet!I103","v":0},{"$f":"IFERROR(IF(Worksheet!Z103=0,Worksheet!Y103/I81,Worksheet!Z103/R81),0)","v":0},"W Controlled",null,null,{"$f":"IF(N(Worksheet!S103)=0,N(Worksheet!R103),N(Worksheet!S103))","v":0},{"$f":"IFERROR(Worksheet!W103/(Worksheet!R103+Worksheet!U103),0)","v":0},{"$f":"Worksheet!AE103","v":0},{"$f":"Worksheet!AD103","v":0},0,{"$f":"IF(Worksheet!AL103=0,0,Worksheet!AL103/I81)","v":0},0,null,null,null,{"$f":"IFERROR(Worksheet!X103/(Worksheet!S103+Worksheet!V103),0)","v":0},{"$f":"IF(Worksheet!E103=\"\",\"\",Worksheet!E103)","v":""},{"$f":"IF(Worksheet!B103=\"\",\"\",Worksheet!B103)","v":""},{"$f":"IF(Worksheet!D103=\"\",\"\",Worksheet!D103)","v":""},{"$f":"IF(Worksheet!$A$11=TRUE,\"Y\",\"N\")","v":"N"},{"$f":"IF(Worksheet!$A$12=TRUE,\"Y\",\"N\")","v":"N"},{"$f":"IF(Worksheet!$B$11=TRUE,\"Y\",\"N\")","v":"N"},{"$f":"IF(Worksheet!$B$12=TRUE,\"Y\",\"N\")","v":"N"},{"$f":"IF(Worksheet!$C$11=TRUE,\"Y\",\"N\")","v":"N"},{"$f":"IFERROR(IF(N(Worksheet!V103)=0,Worksheet!U103,Worksheet!V103),\"\")","v":0}]
[{"$f":"IF(ISBLANK(Worksheet!F104)=FALSE,VLOOKUP(Worksheet!A104,MeasureCode_Lookup,6,FALSE),\"\")","v":""},{"$f":"Worksheet!H104","v":0},{"$f":"Worksheet!I104","v":0},{"$f":"IFERROR(IF(Worksheet!Z104=0,Worksheet!Y104/I82,Worksheet!Z104/R82),0)","v":0},"W Controlled",null,null,{"$f":"IF(N(Worksheet!S104)=0,N(Worksheet!R104),N(Worksheet!S104))","v":0},{"$f":"IFERROR(Worksheet!W104/(Worksheet!R104+Worksheet!U104),0)","v":0},{"$f":"Worksheet!AE104","v":0},{"$f":"Worksheet!AD104","v":0},0,{"$f":"IF(Worksheet!AL104=0,0,Worksheet!AL104/I82)","v":0},0,null,null,null,{"$f":"IFERROR(Worksheet!X104/(Worksheet!S104+Worksheet!V104),0)","v":0},{"$f":"IF(Worksheet!E104=\"\",\"\",Worksheet!E104)","v":""},{"$f":"IF(Worksheet!B104=\"\",\"\",Worksheet!B104)","v":""},{"$f":"IF(Worksheet!D104=\"\",\"\",Worksheet!D104)","v":""},{"$f":"IF(Worksheet!$A$11=TRUE,\"Y\",\"N\")","v":"N"},{"$f":"IF(Worksheet!$A$12=TRUE,\"Y\",\"N\")","v":"N"},{"$f":"IF(Worksheet!$B$11=TRUE,\"Y\",\"N\")","v":"N"},{"$f":"IF(Worksheet!$B$12=TRUE,\"Y\",\"N\")","v":"N"},{"$f":"IF(Worksheet!$C$11=TRUE,\"Y\",\"N\")","v":"N"},{"$f":"IFERROR(IF(N(Worksheet!V104)=0,Worksheet!U104,Worksheet!V104),\"\")","v":0}]
[{"$f":"IF(ISBLANK(Worksheet!F105)=FALSE,VLOOKUP(Worksheet!A105,MeasureCode_Lookup,6,FALSE),\"\")","v":""},{"$f":"Worksheet!H105","v":0},{"$f":"Worksheet!I105","v":0},{"$f":"IFERROR(IF(Worksheet!Z105=0,Worksheet!Y105/I83,Worksheet!Z105/R83),0)","v":0},"W Controlled",null,null,{"$f":"IF(N(Worksheet!S105)=0,N(Worksheet!R105),N(Worksheet!S105))","v":0},{"$f":"IFERROR(Worksheet!W105/(Worksheet!R105+Worksheet!U105),0)","v":0},{"$f":"Worksheet!AE105","v":0},{"$f":"Worksheet!AD105","v":0},0,{"$f":"IF(Worksheet!AL105=0,0,Worksheet!AL105/I83)","v":0},0,null,null,null,{"$f":"IFERROR(Worksheet!X105/(Worksheet!S105+Worksheet!V105),0)","v":0},{"$f":"IF(Worksheet!E105=\"\",\"\",Worksheet!E105)","v":""},{"$f":"IF(Worksheet!B105=\"\",\"\",Worksheet!B105)","v":""},{"$f":"IF(Worksheet!D105=\"\",\"\",Worksheet!D105)","v":""},{"$f":"IF(Worksheet!$A$11=TRUE,\"Y\",\"N\")","v":"N"},{"$f":"IF(Worksheet!$A$12=TRUE,\"Y\",\"N\")","v":"N"},{"$f":"IF(Worksheet!$B$11=TRUE,\"Y\",\"N\")","v":"N"},{"$f":"IF(Worksheet!$B$12=TRUE,\"Y\",\"N\")","v":"N"},{"$f":"IF(Worksheet!$C$11=TRUE,\"Y\",\"N\")","v":"N"},{"$f":"IFERROR(IF(N(Worksheet!V105)=0,Worksheet!U105,Worksheet!V105),\"\")","v":0}]
[{"$f":"IF(ISBLANK(Worksheet!F106)=FALSE,VLOOKUP(Worksheet!A106,MeasureCode_Lookup,6,FALSE),\"\")","v":""},{"$f":"Worksheet!H106","v":0},{"$f":"Worksheet!I106","v":0},{"$f":"IFERROR(IF(Worksheet!Z106=0,Worksheet!Y106/I84,Worksheet!Z106/R84),0)","v":0},"W Controlled",null,null,{"$f":"IF(N(Worksheet!S106)=0,N(Worksheet!R106),N(Worksheet!S106))","v":0},{"$f":"IFERROR(Worksheet!W106/(Worksheet!R106+Worksheet!U106),0)","v":0},{"$f":"Worksheet!AE106","v":0},{"$f":"Worksheet!AD106","v":0},0,{"$f":"IF(Worksheet!AL106=0,0,Worksheet!AL106/I84)","v":0},0,null,null,null,{"$f":"IFERROR(Worksheet!X106/(Worksheet!S106+Worksheet!V106),0)","v":0},{"$f":"IF(Worksheet!E106=\"\",\"\",Worksheet!E106)","v":""},{"$f":"IF(Worksheet!B106=\"\",\"\",Worksheet!B106)","v":""},{"$f":"IF(Worksheet!D106=\"\",\"\",Worksheet!D106)","v":""},{"$f":"IF(Worksheet!$A$11=TRUE,\"Y\",\"N\")","v":"N"},{"$f":"IF(Worksheet!$A$12=TRUE,\"Y\",\"N\")","v":"N"},{"$f":"IF(Worksheet!$B$11=TRUE,\"Y\",\"N\")","v":"N"},{"$f":"IF(Worksheet!$B$12=TRUE,\"Y\",\"N\")","v":"N"},{"$f":"IF(Worksheet!$C$11=TRUE,\"Y\",\"N\")","v":"N"},{"$f":"IFERROR(IF(N(Worksheet!V106)=0,Worksheet!U106,Worksheet!V106),\"\")","v":0}]
[{"$f":"IF(ISBLANK(Worksheet!F107)=FALSE,VLOOKUP(Worksheet!A107,MeasureCode_Lookup,6,FALSE),\"\")","v":""},{"$f":"Worksheet!H107","v":0},{"$f":"Worksheet!I107","v":0},{"$f":"IFERROR(IF(Worksheet!Z107=0,Worksheet!Y107/I85,Worksheet!Z107/R85),0)","v":0},"W Controlled",null,null,{"$f":"IF(N(Worksheet!S107)=0,N(Worksheet!R107),N(Worksheet!S107))","v":0},{"$f":"IFERROR(Worksheet!W107/(Worksheet!R107+Worksheet!U107),0)","v":0},{"$f":"Worksheet!AE107","v":0},{"$f":"Worksheet!AD107","v":0},0,{"$f":"IF(Worksheet!AL107=0,0,Worksheet!AL107/I85)","v":0},0,null,null,null,{"$f":"IFERROR(Worksheet!X107/(Worksheet!S107+Worksheet!V107),0)","v":0},{"$f":"IF(Worksheet!E107=\"\",\"\",Worksheet!E107)","v":""},{"$f":"IF(Worksheet!B107=\"\",\"\",Worksheet!B107)","v":""},{"$f":"IF(Worksheet!D107=\"\",\"\",Worksheet!D107)","v":""},{"$f":"IF(Worksheet!$A$11=TRUE,\"Y\",\"N\")","v":"N"},{"$f":"IF(Worksheet!$A$12=TRUE,\"Y\",\"N\")","v":"N"},{"$f":"IF(Worksheet!$B$11=TRUE,\"Y\",\"N\")","v":"N"},{"$f":"IF(Worksheet!$B$12=TRUE,\"Y\",\"N\")","v":"N"},{"$f":"IF(Worksheet!$C$11=TRUE,\"Y\",\"N\")","v":"N"},{"$f":"IFERROR(IF(N(Worksheet!V107)=0,Worksheet!U107,Worksheet!V107),\"\")","v":0}]
[{"$f":"IF(ISBLANK(Worksheet!F108)=FALSE,VLOOKUP(Worksheet!A108,MeasureCode_Lookup,6,FALSE),\"\")","v":""},{"$f":"Worksheet!H108","v":0},{"$f":"Worksheet!I108","v":0},{"$f":"IFERROR(IF(Worksheet!Z108=0,Worksheet!Y108/I86,Worksheet!Z108/R86),0)","v":0},"W Controlled",null,null,{"$f":"IF(N(Worksheet!S108)=0,N(Worksheet!R108),N(Worksheet!S108))","v":0},{"$f":"IFERROR(Worksheet!W108/(Worksheet!R108+Worksheet!U108),0)","v":0},{"$f":"Worksheet!AE108","v":0},{"$f":"Worksheet!AD108","v":0},0,{"$f":"IF(Worksheet!AL108=0,0,Worksheet!AL108/I86)","v":0},0,null,null,null,{"$f":"IFERROR(Worksheet!X108/(Worksheet!S108+Worksheet!V108),0)","v":0},{"$f":"IF(Worksheet!E108=\"\",\"\",Worksheet!E108)","v":""},{"$f":"IF(Worksheet!B108=\"\",\"\",Worksheet!B108)","v":""},{"$f":"IF(Worksheet!D108=\"\",\"\",Worksheet!D108)","v":""},{"$f":"IF(Worksheet!$A$11=TRUE,\"Y\",\"N\")","v":"N"},{"$f":"IF(Worksheet!$A$12=TRUE,\"Y\",\"N\")","v":"N"},{"$f":"IF(Worksheet!$B$11=TRUE,\"Y\",\"N\")","v":"N"},{"$f":"IF(Worksheet!$B$12=TRUE,\"Y\",\"N\")","v":"N"},{"$f":"IF(Worksheet!$C$11=TRUE,\"Y\",\"N\")","v":"N"},{"$f":"IFERROR(IF(N(Worksheet!V108)=0,Worksheet!U108,Worksheet!V108),\"\")","v":0}]
[{"$f":"IF(ISBLANK(Worksheet!F109)=FALSE,VLOOKUP(Worksheet!A109,MeasureCode_Lookup,6,FALSE),\"\")","v":""},{"$f":"Worksheet!H109","v":0},{"$f":"Worksheet!I109","v":0},{"$f":"IFERROR(IF(Worksheet!Z109=0,Worksheet!Y109/I87,Worksheet!Z109/R87),0)","v":0},"W Controlled",null,null,{"$f":"IF(N(Worksheet!S109)=0,N(Worksheet!R109),N(Worksheet!S109))","v":0},{"$f":"IFERROR(Worksheet!W109/(Worksheet!R109+Worksheet!U109),0)","v":0},{"$f":"Worksheet!AE109","v":0},{"$f":"Worksheet!AD109","v":0},0,{"$f":"IF(Worksheet!AL109=0,0,Worksheet!AL109/I87)","v":0},0,null,null,null,{"$f":"IFERROR(Worksheet!X109/(Worksheet!S109+Worksheet!V109),0)","v":0},{"$f":"IF(Worksheet!E109=\"\",\"\",Worksheet!E109)","v":""},{"$f":"IF(Worksheet!B109=\"\",\"\",Worksheet!B109)","v":""},{"$f":"IF(Worksheet!D109=\"\",\"\",Worksheet!D109)","v":""},{"$f":"IF(Worksheet!$A$11=TRUE,\"Y\",\"N\")","v":"N"},{"$f":"IF(Worksheet!$A$12=TRUE,\"Y\",\"N\")","v":"N"},{"$f":"IF(Worksheet!$B$11=TRUE,\"Y\",\"N\")","v":"N"},{"$f":"IF(Worksheet!$B$12=TRUE,\"Y\",\"N\")","v":"N"},{"$f":"IF(Worksheet!$C$11=TRUE,\"Y\",\"N\")","v":"N"},{"$f":"IFERROR(IF(N(Worksheet!V109)=0,Worksheet!U109,Worksheet!V109),\"\")","v":0}]
[{"$f":"IF(ISBLANK(Worksheet!F110)=FALSE,VLOOKUP(Worksheet!A110,MeasureCode_Lookup,6,FALSE),\"\")","v":""},{"$f":"Worksheet!H110","v":0},{"$f":"Worksheet!I110","v":0},{"$f":"IFERROR(IF(Worksheet!Z110=0,Worksheet!Y110/I88,Worksheet!Z110/R88),0)","v":0},"W Controlled",null,null,{"$f":"IF(N(Worksheet!S110)=0,N(Worksheet!R110),N(Worksheet!S110))","v":0},{"$f":"IFERROR(Worksheet!W110/(Worksheet!R110+Worksheet!U110),0)","v":0},{"$f":"Worksheet!AE110","v":0},{"$f":"Worksheet!AD110","v":0},0,{"$f":"IF(Worksheet!AL110=0,0,Worksheet!AL110/I88)","v":0},0,null,null,null,{"$f":"IFERROR(Worksheet!X110/(Worksheet!S110+Worksheet!V110),0)","v":0},{"$f":"IF(Worksheet!E110=\"\",\"\",Worksheet!E110)","v":""},{"$f":"IF(Worksheet!B110=\"\",\"\",Worksheet!B110)","v":""},{"$f":"IF(Worksheet!D110=\"\",\"\",Worksheet!D110)","v":""},{"$f":"IF(Worksheet!$A$11=TRUE,\"Y\",\"N\")","v":"N"},{"$f":"IF(Worksheet!$A$12=TRUE,\"Y\",\"N\")","v":"N"},{"$f":"IF(Worksheet!$B$11=TRUE,\"Y\",\"N\")","v":"N"},{"$f":"IF(Worksheet!$B$12=TRUE,\"Y\",\"N\")","v":"N"},{"$f":"IF(Worksheet!$C$11=TRUE,\"Y\",\"N\")","v":"N"},{"$f":"IFERROR(IF(N(Worksheet!V110)=0,Worksheet!U110,Worksheet!V110),\"\")","v":0}]
[{"$f":"IF(ISBLANK(Worksheet!F111)=FALSE,VLOOKUP(Worksheet!A111,MeasureCode_Lookup,6,FALSE),\"\")","v":""},{"$f":"Worksheet!H111","v":0},{"$f":"Worksheet!I111","v":0},{"$f":"IFERROR(IF(Worksheet!Z111=0,Worksheet!Y111/I89,Worksheet!Z111/R89),0)","v":0},"W Controlled",null,null,{"$f":"IF(N(Worksheet!S111)=0,N(Worksheet!R111),N(Worksheet!S111))","v":0},{"$f":"IFERROR(Worksheet!W111/(Worksheet!R111+Worksheet!U111),0)","v":0},{"$f":"Worksheet!AE111","v":0},{"$f":"Worksheet!AD111","v":0},0,{"$f":"IF(Worksheet!AL111=0,0,Worksheet!AL111/I89)","v":0},0,null,null,null,{"$f":"IFERROR(Worksheet!X111/(Worksheet!S111+Worksheet!V111),0)","v":0},{"$f":"IF(Worksheet!E111=\"\",\"\",Worksheet!E111)","v":""},{"$f":"IF(Worksheet!B111=\"\",\"\",Worksheet!B111)","v":""},{"$f":"IF(Worksheet!D111=\"\",\"\",Worksheet!D111)","v":""},{"$f":"IF(Worksheet!$A$11=TRUE,\"Y\",\"N\")","v":"N"},{"$f":"IF(Worksheet!$A$12=TRUE,\"Y\",\"N\")","v":"N"},{"$f":"IF(Worksheet!$B$11=TRUE,\"Y\",\"N\")","v":"N"},{"$f":"IF(Worksheet!$B$12=TRUE,\"Y\",\"N\")","v":"N"},{"$f":"IF(Worksheet!$C$11=TRUE,\"Y\",\"N\")","v":"N"},{"$f":"IFERROR(IF(N(Worksheet!V111)=0,Worksheet!U111,Worksheet!V111),\"\")","v":0}]
[{"$f":"IF(ISBLANK(Worksheet!F112)=FALSE,VLOOKUP(Worksheet!A112,MeasureCode_Lookup,6,FALSE),\"\")","v":""},{"$f":"Worksheet!H112","v":0},{"$f":"Worksheet!I112","v":0},{"$f":"IFERROR(IF(Worksheet!Z112=0,Worksheet!Y112/I90,Worksheet!Z112/R90),0)","v":0},"W Controlled",null,null,{"$f":"IF(N(Worksheet!S112)=0,N(Worksheet!R112),N(Worksheet!S112))","v":0},{"$f":"IFERROR(Worksheet!W112/(Worksheet!R112+Worksheet!U112),0)","v":0},{"$f":"Worksheet!AE112","v":0},{"$f":"Worksheet!AD112","v":0},0,{"$f":"IF(Worksheet!AL112=0,0,Worksheet!AL112/I90)","v":0},0,null,null,null,{"$f":"IFERROR(Worksheet!X112/(Worksheet!S112+Worksheet!V112),0)","v":0},{"$f":"IF(Worksheet!E112=\"\",\"\",Worksheet!E112)","v":""},{"$f":"IF(Worksheet!B112=\"\",\"\",Worksheet!B112)","v":""},{"$f":"IF(Worksheet!D112=\"\",\"\",Worksheet!D112)","v":""},{"$f":"IF(Worksheet!$A$11=TRUE,\"Y\",\"N\")","v":"N"},{"$f":"IF(Worksheet!$A$12=TRUE,\"Y\",\"N\")","v":"N"},{"$f":"IF(Worksheet!$B$11=TRUE,\"Y\",\"N\")","v":"N"},{"$f":"IF(Worksheet!$B$12=TRUE,\"Y\",\"N\")","v":"N"},{"$f":"IF(Worksheet!$C$11=TRUE,\"Y\",\"N\")","v":"N"},{"$f":"IFERROR(IF(N(Worksheet!V112)=0,Worksheet!U112,Worksheet!V112),\"\")","v":0}]
[{"$f":"IF(ISBLANK(Worksheet!F113)=FALSE,VLOOKUP(Worksheet!A113,MeasureCode_Lookup,6,FALSE),\"\")","v":""},{"$f":"Worksheet!H113","v":0},{"$f":"Worksheet!I113","v":0},{"$f":"IFERROR(IF(Worksheet!Z113=0,Worksheet!Y113/I91,Worksheet!Z113/R91),0)","v":0},"W Controlled",null,null,{"$f":"IF(N(Worksheet!S113)=0,N(Worksheet!R113),N(Worksheet!S113))","v":0},{"$f":"IFERROR(Worksheet!W113/(Worksheet!R113+Worksheet!U113),0)","v":0},{"$f":"Worksheet!AE113","v":0},{"$f":"Worksheet!AD113","v":0},0,{"$f":"IF(Worksheet!AL113=0,0,Worksheet!AL113/I91)","v":0},0,null,null,null,{"$f":"IFERROR(Worksheet!X113/(Worksheet!S113+Worksheet!V113),0)","v":0},{"$f":"IF(Worksheet!E113=\"\",\"\",Worksheet!E113)","v":""},{"$f":"IF(Worksheet!B113=\"\",\"\",Worksheet!B113)","v":""},{"$f":"IF(Worksheet!D113=\"\",\"\",Worksheet!D113)","v":""},{"$f":"IF(Worksheet!$A$11=TRUE,\"Y\",\"N\")","v":"N"},{"$f":"IF(Worksheet!$A$12=TRUE,\"Y\",\"N\")","v":"N"},{"$f":"IF(Worksheet!$B$11=TRUE,\"Y\",\"N\")","v":"N"},{"$f":"IF(Worksheet!$B$12=TRUE,\"Y\",\"N\")","v":"N"},{"$f":"IF(Worksheet!$C$11=TRUE,\"Y\",\"N\")","v":"N"},{"$f":"IFERROR(IF(N(Worksheet!V113)=0,Worksheet!U113,Worksheet!V113),\"\")","v":0}]
[{"$f":"IF(ISBLANK(Worksheet!F114)=FALSE,VLOOKUP(Worksheet!A114,MeasureCode_Lookup,6,FALSE),\"\")","v":""},{"$f":"Worksheet!H114","v":0},{"$f":"Worksheet!I114","v":0},{"$f":"IFERROR(IF(Worksheet!Z114=0,Worksheet!Y114/I92,Worksheet!Z114/R92),0)","v":0},"W Controlled",null,null,{"$f":"IF(N(Worksheet!S114)=0,N(Worksheet!R114),N(Worksheet!S114))","v":0},{"$f":"IFERROR(Worksheet!W114/(Worksheet!R114+Worksheet!U114),0)","v":0},{"$f":"Worksheet!AE114","v":0},{"$f":"Worksheet!AD114","v":0},0,{"$f":"IF(Worksheet!AL114=0,0,Worksheet!AL114/I92)","v":0},0,null,null,null,{"$f":"IFERROR(Worksheet!X114/(Worksheet!S114+Worksheet!V114),0)","v":0},{"$f":"IF(Worksheet!E114=\"\",\"\",Worksheet!E114)","v":""},{"$f":"IF(Worksheet!B114=\"\",\"\",Worksheet!B114)","v":""},{"$f":"IF(Worksheet!D114=\"\",\"\",Worksheet!D114)","v":""},{"$f":"IF(Worksheet!$A$11=TRUE,\"Y\",\"N\")","v":"N"},{"$f":"IF(Worksheet!$A$12=TRUE,\"Y\",\"N\")","v":"N"},{"$f":"IF(Worksheet!$B$11=TRUE,\"Y\",\"N\")","v":"N"},{"$f":"IF(Worksheet!$B$12=TRUE,\"Y\",\"N\")","v":"N"},{"$f":"IF(Worksheet!$C$11=TRUE,\"Y\",\"N\")","v":"N"},{"$f":"IFERROR(IF(N(Worksheet!V114)=0,Worksheet!U114,Worksheet!V114),\"\")","v":0}]
[{"$f":"IF(ISBLANK(Worksheet!F115)=FALSE,VLOOKUP(Worksheet!A115,MeasureCode_Lookup,6,FALSE),\"\")","v":""},{"$f":"Worksheet!H115","v":0},{"$f":"Worksheet!I115","v":0},{"$f":"IFERROR(IF(Worksheet!Z115=0,Worksheet!Y115/I93,Worksheet!Z115/R93),0)","v":0},"W Controlled",null,null,{"$f":"IF(N(Worksheet!S115)=0,N(Worksheet!R115),N(Worksheet!S115))","v":0},{"$f":"IFERROR(Worksheet!W115/(Worksheet!R115+Worksheet!U115),0)","v":0},{"$f":"Worksheet!AE115","v":0},{"$f":"Worksheet!AD115","v":0},0,{"$f":"IF(Worksheet!AL115=0,0,Worksheet!AL115/I93)","v":0},0,null,null,null,{"$f":"IFERROR(Worksheet!X115/(Worksheet!S115+Worksheet!V115),0)","v":0},{"$f":"IF(Worksheet!E115=\"\",\"\",Worksheet!E115)","v":""},{"$f":"IF(Worksheet!B115=\"\",\"\",Worksheet!B115)","v":""},{"$f":"IF(Worksheet!D115=\"\",\"\",Worksheet!D115)","v":""},{"$f":"IF(Worksheet!$A$11=TRUE,\"Y\",\"N\")","v":"N"},{"$f":"IF(Worksheet!$A$12=TRUE,\"Y\",\"N\")","v":"N"},{"$f":"IF(Worksheet!$B$11=TRUE,\"Y\",\"N\")","v":"N"},{"$f":"IF(Worksheet!$B$12=TRUE,\"Y\",\"N\")","v":"N"},{"$f":"IF(Worksheet!$C$11=TRUE,\"Y\",\"N\")","v":"N"},{"$f":"IFERROR(IF(N(Worksheet!V115)=0,Worksheet!U115,Worksheet!V115),\"\")","v":0}]
[{"$f":"IF(ISBLANK(Worksheet!F116)=FALSE,VLOOKUP(Worksheet!A116,MeasureCode_Lookup,6,FALSE),\"\")","v":""},{"$f":"Worksheet!H116","v":0},{"$f":"Worksheet!I116","v":0},{"$f":"IFERROR(IF(Worksheet!Z116=0,Worksheet!Y116/I94,Worksheet!Z116/R94),0)","v":0},"W Controlled",null,null,{"$f":"IF(N(Worksheet!S116)=0,N(Worksheet!R116),N(Worksheet!S116))","v":0},{"$f":"IFERROR(Worksheet!W116/(Worksheet!R116+Worksheet!U116),0)","v":0},{"$f":"Worksheet!AE116","v":0},{"$f":"Worksheet!AD116","v":0},0,{"$f":"IF(Worksheet!AL116=0,0,Worksheet!AL116/I94)","v":0},0,null,null,null,{"$f":"IFERROR(Worksheet!X116/(Worksheet!S116+Worksheet!V116),0)","v":0},{"$f":"IF(Worksheet!E116=\"\",\"\",Worksheet!E116)","v":""},{"$f":"IF(Worksheet!B116=\"\",\"\",Worksheet!B116)","v":""},{"$f":"IF(Worksheet!D116=\"\",\"\",Worksheet!D116)","v":""},{"$f":"IF(Worksheet!$A$11=TRUE,\"Y\",\"N\")","v":"N"},{"$f":"IF(Worksheet!$A$12=TRUE,\"Y\",\"N\")","v":"N"},{"$f":"IF(Worksheet!$B$11=TRUE,\"Y\",\"N\")","v":"N"},{"$f":"IF(Worksheet!$B$12=TRUE,\"Y\",\"N\")","v":"N"},{"$f":"IF(Worksheet!$C$11=TRUE,\"Y\",\"N\")","v":"N"},{"$f":"IFERROR(IF(N(Worksheet!V116)=0,Worksheet!U116,Worksheet!V116),\"\")","v":0}]
[{"$f":"IF(ISBLANK(Worksheet!F117)=FALSE,VLOOKUP(Worksheet!A117,MeasureCode_Lookup,6,FALSE),\"\")","v":""},{"$f":"Worksheet!H117","v":0},{"$f":"Worksheet!I117","v":0},{"$f":"IFERROR(IF(Worksheet!Z117=0,Worksheet!Y117/I95,Worksheet!Z117/R95),0)","v":0},"W Controlled",null,null,{"$f":"IF(N(Worksheet!S117)=0,N(Worksheet!R117),N(Worksheet!S117))","v":0},{"$f":"IFERROR(Worksheet!W117/(Worksheet!R117+Worksheet!U117),0)","v":0},{"$f":"Worksheet!AE117","v":0},{"$f":"Worksheet!AD117","v":0},0,{"$f":"IF(Worksheet!AL117=0,0,Worksheet!AL117/I95)","v":0},0,null,null,null,{"$f":"IFERROR(Worksheet!X117/(Worksheet!S117+Worksheet!V117),0)","v":0},{"$f":"IF(Worksheet!E117=\"\",\"\",Worksheet!E117)","v":""},{"$f":"IF(Worksheet!B117=\"\",\"\",Worksheet!B117)","v":""},{"$f":"IF(Worksheet!D117=\"\",\"\",Worksheet!D117)","v":""},{"$f":"IF(Worksheet!$A$11=TRUE,\"Y\",\"N\")","v":"N"},{"$f":"IF(Worksheet!$A$12=TRUE,\"Y\",\"N\")","v":"N"},{"$f":"IF(Worksheet!$B$11=TRUE,\"Y\",\"N\")","v":"N"},{"$f":"IF(Worksheet!$B$12=TRUE,\"Y\",\"N\")","v":"N"},{"$f":"IF(Worksheet!$C$11=TRUE,\"Y\",\"N\")","v":"N"},{"$f":"IFERROR(IF(N(Worksheet!V117)=0,Worksheet!U117,Worksheet!V117),\"\")","v":0}]
[{"$f":"IF(ISBLANK(Worksheet!F118)=FALSE,VLOOKUP(Worksheet!A118,MeasureCode_Lookup,6,FALSE),\"\")","v":""},{"$f":"Worksheet!H118","v":0},{"$f":"Worksheet!I118","v":0},{"$f":"IFERROR(IF(Worksheet!Z118=0,Worksheet!Y118/I96,Worksheet!Z118/R96),0)","v":0},"W Controlled",null,null,{"$f":"IF(N(Worksheet!S118)=0,N(Worksheet!R118),N(Worksheet!S118))","v":0},{"$f":"IFERROR(Worksheet!W118/(Worksheet!R118+Worksheet!U118),0)","v":0},{"$f":"Worksheet!AE118","v":0},{"$f":"Worksheet!AD118","v":0},0,{"$f":"IF(Worksheet!AL118=0,0,Worksheet!AL118/I96)","v":0},0,null,null,null,{"$f":"IFERROR(Worksheet!X118/(Worksheet!S118+Worksheet!V118),0)","v":0},{"$f":"IF(Worksheet!E118=\"\",\"\",Worksheet!E118)","v":""},{"$f":"IF(Worksheet!B118=\"\",\"\",Worksheet!B118)","v":""},{"$f":"IF(Worksheet!D118=\"\",\"\",Worksheet!D118)","v":""},{"$f":"IF(Worksheet!$A$11=TRUE,\"Y\",\"N\")","v":"N"},{"$f":"IF(Worksheet!$A$12=TRUE,\"Y\",\"N\")","v":"N"},{"$f":"IF(Worksheet!$B$11=TRUE,\"Y\",\"N\")","v":"N"},{"$f":"IF(Worksheet!$B$12=TRUE,\"Y\",\"N\")","v":"N"},{"$f":"IF(Worksheet!$C$11=TRUE,\"Y\",\"N\")","v":"N"},{"$f":"IFERROR(IF(N(Worksheet!V118)=0,Worksheet!U118,Worksheet!V118),\"\")","v":0}]
[{"$f":"IF(ISBLANK(Worksheet!F119)=FALSE,VLOOKUP(Worksheet!A119,MeasureCode_Lookup,6,FALSE),\"\")","v":""},{"$f":"Worksheet!H119","v":0},{"$f":"Worksheet!I119","v":0},{"$f":"IFERROR(IF(Worksheet!Z119=0,Worksheet!Y119/I97,Worksheet!Z119/R97),0)","v":0},"W Controlled",null,null,{"$f":"IF(N(Worksheet!S119)=0,N(Worksheet!R119),N(Worksheet!S119))","v":0},{"$f":"IFERROR(Worksheet!W119/(Worksheet!R119+Worksheet!U119),0)","v":0},{"$f":"Worksheet!AE119","v":0},{"$f":"Worksheet!AD119","v":0},0,{"$f":"IF(Worksheet!AL119=0,0,Worksheet!AL119/I97)","v":0},0,null,null,null,{"$f":"IFERROR(Worksheet!X119/(Worksheet!S119+Worksheet!V119),0)","v":0},{"$f":"IF(Worksheet!E119=\"\",\"\",Worksheet!E119)","v":""},{"$f":"IF(Worksheet!B119=\"\",\"\",Worksheet!B119)","v":""},{"$f":"IF(Worksheet!D119=\"\",\"\",Worksheet!D119)","v":""},{"$f":"IF(Worksheet!$A$11=TRUE,\"Y\",\"N\")","v":"N"},{"$f":"IF(Worksheet!$A$12=TRUE,\"Y\",\"N\")","v":"N"},{"$f":"IF(Worksheet!$B$11=TRUE,\"Y\",\"N\")","v":"N"},{"$f":"IF(Worksheet!$B$12=TRUE,\"Y\",\"N\")","v":"N"},{"$f":"IF(Worksheet!$C$11=TRUE,\"Y\",\"N\")","v":"N"},{"$f":"IFERROR(IF(N(Worksheet!V119)=0,Worksheet!U119,Worksheet!V119),\"\")","v":0}]
[{"$f":"IF(ISBLANK(Worksheet!F120)=FALSE,VLOOKUP(Worksheet!A120,MeasureCode_Lookup,6,FALSE),\"\")","v":""},{"$f":"Worksheet!H120","v":0},{"$f":"Worksheet!I120","v":0},{"$f":"IFERROR(IF(Worksheet!Z120=0,Worksheet!Y120/I98,Worksheet!Z120/R98),0)","v":0},"W Controlled",null,null,{"$f":"IF(N(Worksheet!S120)=0,N(Worksheet!R120),N(Worksheet!S120))","v":0},{"$f":"IFERROR(Worksheet!W120/(Worksheet!R120+Worksheet!U120),0)","v":0},{"$f":"Worksheet!AE120","v":0},{"$f":"Worksheet!AD120","v":0},0,{"$f":"IF(Worksheet!AL120=0,0,Worksheet!AL120/I98)","v":0},0,null,null,null,{"$f":"IFERROR(Worksheet!X120/(Worksheet!S120+Worksheet!V120),0)","v":0},{"$f":"IF(Worksheet!E120=\"\",\"\",Worksheet!E120)","v":""},{"$f":"IF(Worksheet!B120=\"\",\"\",Worksheet!B120)","v":""},{"$f":"IF(Worksheet!D120=\"\",\"\",Worksheet!D120)","v":""},{"$f":"IF(Worksheet!$A$11=TRUE,\"Y\",\"N\")","v":"N"},{"$f":"IF(Worksheet!$A$12=TRUE,\"Y\",\"N\")","v":"N"},{"$f":"IF(Worksheet!$B$11=TRUE,\"Y\",\"N\")","v":"N"},{"$f":"IF(Worksheet!$B$12=TRUE,\"Y\",\"N\")","v":"N"},{"$f":"IF(Worksheet!$C$11=TRUE,\"Y\",\"N\")","v":"N"},{"$f":"IFERROR(IF(N(Worksheet!V120)=0,Worksheet!U120,Worksheet!V120),\"\")","v":0}]
[{"$f":"IF(ISBLANK(Worksheet!F121)=FALSE,VLOOKUP(Worksheet!A121,MeasureCode_Lookup,6,FALSE),\"\")","v":""},{"$f":"Worksheet!H121","v":0},{"$f":"Worksheet!I121","v":0},{"$f":"IFERROR(IF(Worksheet!Z121=0,Worksheet!Y121/I99,Worksheet!Z121/R99),0)","v":0},"W Controlled",null,null,{"$f":"IF(N(Worksheet!S121)=0,N(Worksheet!R121),N(Worksheet!S121))","v":0},{"$f":"IFERROR(Worksheet!W121/(Worksheet!R121+Worksheet!U121),0)","v":0},{"$f":"Worksheet!AE121","v":0},{"$f":"Worksheet!AD121","v":0},0,{"$f":"IF(Worksheet!AL121=0,0,Worksheet!AL121/I99)","v":0},0,null,null,null,{"$f":"IFERROR(Worksheet!X121/(Worksheet!S121+Worksheet!V121),0)","v":0},{"$f":"IF(Worksheet!E121=\"\",\"\",Worksheet!E121)","v":""},{"$f":"IF(Worksheet!B121=\"\",\"\",Worksheet!B121)","v":""},{"$f":"IF(Worksheet!D121=\"\",\"\",Worksheet!D121)","v":""},{"$f":"IF(Worksheet!$A$11=TRUE,\"Y\",\"N\")","v":"N"},{"$f":"IF(Worksheet!$A$12=TRUE,\"Y\",\"N\")","v":"N"},{"$f":"IF(Worksheet!$B$11=TRUE,\"Y\",\"N\")","v":"N"},{"$f":"IF(Worksheet!$B$12=TRUE,\"Y\",\"N\")","v":"N"},{"$f":"IF(Worksheet!$C$11=TRUE,\"Y\",\"N\")","v":"N"},{"$f":"IFERROR(IF(N(Worksheet!V121)=0,Worksheet!U121,Worksheet!V121),\"\")","v":0}]
[{"$f":"IF(ISBLANK(Worksheet!F122)=FALSE,VLOOKUP(Worksheet!A122,MeasureCode_Lookup,6,FALSE),\"\")","v":""},{"$f":"Worksheet!H122","v":0},{"$f":"Worksheet!I122","v":0},{"$f":"IFERROR(IF(Worksheet!Z122=0,Worksheet!Y122/I100,Worksheet!Z122/R100),0)","v":0},"W Controlled",null,null,{"$f":"IF(N(Worksheet!S122)=0,N(Worksheet!R122),N(Worksheet!S122))","v":0},{"$f":"IFERROR(Worksheet!W122/(Worksheet!R122+Worksheet!U122),0)","v":0},{"$f":"Worksheet!AE122","v":0},{"$f":"Worksheet!AD122","v":0},0,{"$f":"IF(Worksheet!AL122=0,0,Worksheet!AL122/I100)","v":0},0,null,null,null,{"$f":"IFERROR(Worksheet!X122/(Worksheet!S122+Worksheet!V122),0)","v":0},{"$f":"IF(Worksheet!E122=\"\",\"\",Worksheet!E122)","v":""},{"$f":"IF(Worksheet!B122=\"\",\"\",Worksheet!B122)","v":""},{"$f":"IF(Worksheet!D122=\"\",\"\",Worksheet!D122)","v":""},{"$f":"IF(Worksheet!$A$11=TRUE,\"Y\",\"N\")","v":"N"},{"$f":"IF(Worksheet!$A$12=TRUE,\"Y\",\"N\")","v":"N"},{"$f":"IF(Worksheet!$B$11=TRUE,\"Y\",\"N\")","v":"N"},{"$f":"IF(Worksheet!$B$12=TRUE,\"Y\",\"N\")","v":"N"},{"$f":"IF(Worksheet!$C$11=TRUE,\"Y\",\"N\")","v":"N"},{"$f":"IFERROR(IF(N(Worksheet!V122)=0,Worksheet!U122,Worksheet!V122),\"\")","v":0}]
[{"$f":"IF(ISBLANK(Worksheet!F123)=FALSE,VLOOKUP(Worksheet!A123,MeasureCode_Lookup,6,FALSE),\"\")","v":""},{"$f":"Worksheet!H123","v":0},{"$f":"Worksheet!I123","v":0},{"$f":"IFERROR(IF(Worksheet!Z123=0,Worksheet!Y123/I101,Worksheet!Z123/R101),0)","v":0},"W Controlled",null,null,{"$f":"IF(N(Worksheet!S123)=0,N(Worksheet!R123),N(Worksheet!S123))","v":0},{"$f":"IFERROR(Worksheet!W123/(Worksheet!R123+Worksheet!U123),0)","v":0},{"$f":"Worksheet!AE123","v":0},{"$f":"Worksheet!AD123","v":0},0,{"$f":"IF(Worksheet!AL123=0,0,Worksheet!AL123/I101)","v":0},0,null,null,null,{"$f":"IFERROR(Worksheet!X123/(Worksheet!S123+Worksheet!V123),0)","v":0},{"$f":"IF(Worksheet!E123=\"\",\"\",Worksheet!E123)","v":""},{"$f":"IF(Worksheet!B123=\"\",\"\",Worksheet!B123)","v":""},{"$f":"IF(Worksheet!D123=\"\",\"\",Worksheet!D123)","v":""},{"$f":"IF(Worksheet!$A$11=TRUE,\"Y\",\"N\")","v":"N"},{"$f":"IF(Worksheet!$A$12=TRUE,\"Y\",\"N\")","v":"N"},{"$f":"IF(Worksheet!$B$11=TRUE,\"Y\",\"N\")","v":"N"},{"$f":"IF(Worksheet!$B$12=TRUE,\"Y\",\"N\")","v":"N"},{"$f":"IF(Worksheet!$C$11=TRUE,\"Y\",\"N\")","v":"N"},{"$f":"IFERROR(IF(N(Worksheet!V123)=0,Worksheet!U123,Worksheet!V123),\"\")","v":0}]
[{"$f":"IF(ISBLANK(Worksheet!F124)=FALSE,VLOOKUP(Worksheet!A124,MeasureCode_Lookup,6,FALSE),\"\")","v":""},{"$f":"Worksheet!H124","v":0},{"$f":"Worksheet!I124","v":0},{"$f":"IFERROR(IF(Worksheet!Z124=0,Worksheet!Y124/I102,Worksheet!Z124/R102),0)","v":0},"W Controlled",null,null,{"$f":"IF(N(Worksheet!S124)=0,N(Worksheet!R124),N(Worksheet!S124))","v":0},{"$f":"IFERROR(Worksheet!W124/(Worksheet!R124+Worksheet!U124),0)","v":0},{"$f":"Worksheet!AE124","v":0},{"$f":"Worksheet!AD124","v":0},0,{"$f":"IF(Worksheet!AL124=0,0,Worksheet!AL124/I102)","v":0},0,null,null,null,{"$f":"IFERROR(Worksheet!X124/(Worksheet!S124+Worksheet!V124),0)","v":0},{"$f":"IF(Worksheet!E124=\"\",\"\",Worksheet!E124)","v":""},{"$f":"IF(Worksheet!B124=\"\",\"\",Worksheet!B124)","v":""},{"$f":"IF(Worksheet!D124=\"\",\"\",Worksheet!D124)","v":""},{"$f":"IF(Worksheet!$A$11=TRUE,\"Y\",\"N\")","v":"N"},{"$f":"IF(Worksheet!$A$12=TRUE,\"Y\",\"N\")","v":"N"},{"$f":"IF(Worksheet!$B$11=TRUE,\"Y\",\"N\")","v":"N"},{"$f":"IF(Worksheet!$B$12=TRUE,\"Y\",\"N\")","v":"N"},{"$f":"IF(Worksheet!$C$11=TRUE,\"Y\",\"N\")","v":"N"},{"$f":"IFERROR(IF(N(Worksheet!V124)=0,Worksheet!U124,Worksheet!V124),\"\")","v":0}]
[{"$f":"IF(ISBLANK(Worksheet!F125)=FALSE,VLOOKUP(Worksheet!A125,MeasureCode_Lookup,6,FALSE),\"\")","v":""},{"$f":"Worksheet!H125","v":0},{"$f":"Worksheet!I125","v":0},{"$f":"IFERROR(IF(Worksheet!Z125=0,Worksheet!Y125/I103,Worksheet!Z125/R103),0)","v":0},"W Controlled",null,null,{"$f":"IF(N(Worksheet!S125)=0,N(Worksheet!R125),N(Worksheet!S125))","v":0},{"$f":"IFERROR(Worksheet!W125/(Worksheet!R125+Worksheet!U125),0)","v":0},{"$f":"Worksheet!AE125","v":0},{"$f":"Worksheet!AD125","v":0},0,{"$f":"IF(Worksheet!AL125=0,0,Worksheet!AL125/I103)","v":0},0,null,null,null,{"$f":"IFERROR(Worksheet!X125/(Worksheet!S125+Worksheet!V125),0)","v":0},{"$f":"IF(Worksheet!E125=\"\",\"\",Worksheet!E125)","v":""},{"$f":"IF(Worksheet!B125=\"\",\"\",Worksheet!B125)","v":""},{"$f":"IF(Worksheet!D125=\"\",\"\",Worksheet!D125)","v":""},{"$f":"IF(Worksheet!$A$11=TRUE,\"Y\",\"N\")","v":"N"},{"$f":"IF(Worksheet!$A$12=TRUE,\"Y\",\"N\")","v":"N"},{"$f":"IF(Worksheet!$B$11=TRUE,\"Y\",\"N\")","v":"N"},{"$f":"IF(Worksheet!$B$12=TRUE,\"Y\",\"N\")","v":"N"},{"$f":"IF(Worksheet!$C$11=TRUE,\"Y\",\"N\")","v":"N"},{"$f":"IFERROR(IF(N(Worksheet!V125)=0,Worksheet!U125,Worksheet!V125),\"\")","v":0}]
[{"$f":"IF(ISBLANK(Worksheet!F126)=FALSE,VLOOKUP(Worksheet!A126,MeasureCode_Lookup,6,FALSE),\"\")","v":""},{"$f":"Worksheet!H126","v":0},{"$f":"Worksheet!I126","v":0},{"$f":"IFERROR(IF(Worksheet!Z126=0,Worksheet!Y126/I104,Worksheet!Z126/R104),0)","v":0},"W Controlled",null,null,{"$f":"IF(N(Worksheet!S126)=0,N(Worksheet!R126),N(Worksheet!S126))","v":0},{"$f":"IFERROR(Worksheet!W126/(Worksheet!R126+Worksheet!U126),0)","v":0},{"$f":"Worksheet!AE126","v":0},{"$f":"Worksheet!AD126","v":0},0,{"$f":"IF(Worksheet!AL126=0,0,Worksheet!AL126/I104)","v":0},0,null,null,null,{"$f":"IFERROR(Worksheet!X126/(Worksheet!S126+Worksheet!V126),0)","v":0},{"$f":"IF(Worksheet!E126=\"\",\"\",Worksheet!E126)","v":""},{"$f":"IF(Worksheet!B126=\"\",\"\",Worksheet!B126)","v":""},{"$f":"IF(Worksheet!D126=\"\",\"\",Worksheet!D126)","v":""},{"$f":"IF(Worksheet!$A$11=TRUE,\"Y\",\"N\")","v":"N"},{"$f":"IF(Worksheet!$A$12=TRUE,\"Y\",\"N\")","v":"N"},{"$f":"IF(Worksheet!$B$11=TRUE,\"Y\",\"N\")","v":"N"},{"$f":"IF(Worksheet!$B$12=TRUE,\"Y\",\"N\")","v":"N"},{"$f":"IF(Worksheet!$C$11=TRUE,\"Y\",\"N\")","v":"N"},{"$f":"IFERROR(IF(N(Worksheet!V126)=0,Worksheet!U126,Worksheet!V126),\"\")","v":0}]
[{"$f":"IF(ISBLANK(Worksheet!F127)=FALSE,VLOOKUP(Worksheet!A127,MeasureCode_Lookup,6,FALSE),\"\")","v":""},{"$f":"Worksheet!H127","v":0},{"$f":"Worksheet!I127","v":0},{"$f":"IFERROR(IF(Worksheet!Z127=0,Worksheet!Y127/I105,Worksheet!Z127/R105),0)","v":0},"W Controlled",null,null,{"$f":"IF(N(Worksheet!S127)=0,N(Worksheet!R127),N(Worksheet!S127))","v":0},{"$f":"IFERROR(Worksheet!W127/(Worksheet!R127+Worksheet!U127),0)","v":0},{"$f":"Worksheet!AE127","v":0},{"$f":"Worksheet!AD127","v":0},0,{"$f":"IF(Worksheet!AL127=0,0,Worksheet!AL127/I105)","v":0},0,null,null,null,{"$f":"IFERROR(Worksheet!X127/(Worksheet!S127+Worksheet!V127),0)","v":0},{"$f":"IF(Worksheet!E127=\"\",\"\",Worksheet!E127)","v":""},{"$f":"IF(Worksheet!B127=\"\",\"\",Worksheet!B127)","v":""},{"$f":"IF(Worksheet!D127=\"\",\"\",Worksheet!D127)","v":""},{"$f":"IF(Worksheet!$A$11=TRUE,\"Y\",\"N\")","v":"N"},{"$f":"IF(Worksheet!$A$12=TRUE,\"Y\",\"N\")","v":"N"},{"$f":"IF(Worksheet!$B$11=TRUE,\"Y\",\"N\")","v":"N"},{"$f":"IF(Worksheet!$B$12=TRUE,\"Y\",\"N\")","v":"N"},{"$f":"IF(Worksheet!$C$11=TRUE,\"Y\",\"N\")","v":"N"},{"$f":"IFERROR(IF(N(Worksheet!V127)=0,Worksheet!U127,Worksheet!V127),\"\")","v":0}]
[{"$f":"IF(ISBLANK(Worksheet!F128)=FALSE,VLOOKUP(Worksheet!A128,MeasureCode_Lookup,6,FALSE),\"\")","v":""},{"$f":"Worksheet!H128","v":0},{"$f":"Worksheet!I128","v":0},{"$f":"IFERROR(IF(Worksheet!Z128=0,Worksheet!Y128/I106,Worksheet!Z128/R106),0)","v":0},"W Controlled",null,null,{"$f":"IF(N(Worksheet!S128)=0,N(Worksheet!R128),N(Worksheet!S128))","v":0},{"$f":"IFERROR(Worksheet!W128/(Worksheet!R128+Worksheet!U128),0)","v":0},{"$f":"Worksheet!AE128","v":0},{"$f":"Worksheet!AD128","v":0},0,{"$f":"IF(Worksheet!AL128=0,0,Worksheet!AL128/I106)","v":0},0,null,null,null,{"$f":"IFERROR(Worksheet!X128/(Worksheet!S128+Worksheet!V128),0)","v":0},{"$f":"IF(Worksheet!E128=\"\",\"\",Worksheet!E128)","v":""},{"$f":"IF(Worksheet!B128=\"\",\"\",Worksheet!B128)","v":""},{"$f":"IF(Worksheet!D128=\"\",\"\",Worksheet!D128)","v":""},{"$f":"IF(Worksheet!$A$11=TRUE,\"Y\",\"N\")","v":"N"},{"$f":"IF(Worksheet!$A$12=TRUE,\"Y\",\"N\")","v":"N"},{"$f":"IF(Worksheet!$B$11=TRUE,\"Y\",\"N\")","v":"N"},{"$f":"IF(Worksheet!$B$12=TRUE,\"Y\",\"N\")","v":"N"},{"$f":"IF(Worksheet!$C$11=TRUE,\"Y\",\"N\")","v":"N"},{"$f":"IFERROR(IF(N(Worksheet!V128)=0,Worksheet!U128,Worksheet!V128),\"\")","v":0}]
[{"$f":"IF(ISBLANK(Worksheet!F129)=FALSE,VLOOKUP(Worksheet!A129,MeasureCode_Lookup,6,FALSE),\"\")","v":""},{"$f":"Worksheet!H129","v":0},{"$f":"Worksheet!I129","v":0},{"$f":"IFERROR(IF(Worksheet!Z129=0,Worksheet!Y129/I107,Worksheet!Z129/R107),0)","v":0},"W Controlled",null,null,{"$f":"IF(N(Worksheet!S129)=0,N(Worksheet!R129),N(Worksheet!S129))","v":0},{"$f":"IFERROR(Worksheet!W129/(Worksheet!R129+Worksheet!U129),0)","v":0},{"$f":"Worksheet!AE129","v":0},{"$f":"Worksheet!AD129","v":0},0,{"$f":"IF(Worksheet!AL129=0,0,Worksheet!AL129/I107)","v":0},0,null,null,null,{"$f":"IFERROR(Worksheet!X129/(Worksheet!S129+Worksheet!V129),0)","v":0},{"$f":"IF(Worksheet!E129=\"\",\"\",Worksheet!E129)","v":""},{"$f":"IF(Worksheet!B129=\"\",\"\",Worksheet!B129)","v":""},{"$f":"IF(Worksheet!D129=\"\",\"\",Worksheet!D129)","v":""},{"$f":"IF(Worksheet!$A$11=TRUE,\"Y\",\"N\")","v":"N"},{"$f":"IF(Worksheet!$A$12=TRUE,\"Y\",\"N\")","v":"N"},{"$f":"IF(Worksheet!$B$11=TRUE,\"Y\",\"N\")","v":"N"},{"$f":"IF(Worksheet!$B$12=TRUE,\"Y\",\"N\")","v":"N"},{"$f":"IF(Worksheet!$C$11=TRUE,\"Y\",\"N\")","v":"N"},{"$f":"IFERROR(IF(N(Worksheet!V129)=0,Worksheet!U129,Worksheet!V129),\"\")","v":0}]
[{"$f":"IF(ISBLANK(Worksheet!F130)=FALSE,VLOOKUP(Worksheet!A130,MeasureCode_Lookup,6,FALSE),\"\")","v":""},{"$f":"Worksheet!H130","v":0},{"$f":"Worksheet!I130","v":0},{"$f":"IFERROR(IF(Worksheet!Z130=0,Worksheet!Y130/I108,Worksheet!Z130/R108),0)","v":0},"W Controlled",null,null,{"$f":"IF(N(Worksheet!S130)=0,N(Worksheet!R130),N(Worksheet!S130))","v":0},{"$f":"IFERROR(Worksheet!W130/(Worksheet!R130+Worksheet!U130),0)","v":0},{"$f":"Worksheet!AE130","v":0},{"$f":"Worksheet!AD130","v":0},0,{"$f":"IF(Worksheet!AL130=0,0,Worksheet!AL130/I108)","v":0},0,null,null,null,{"$f":"IFERROR(Worksheet!X130/(Worksheet!S130+Worksheet!V130),0)","v":0},{"$f":"IF(Worksheet!E130=\"\",\"\",Worksheet!E130)","v":""},{"$f":"IF(Worksheet!B130=\"\",\"\",Worksheet!B130)","v":""},{"$f":"IF(Worksheet!D130=\"\",\"\",Worksheet!D130)","v":""},{"$f":"IF(Worksheet!$A$11=TRUE,\"Y\",\"N\")","v":"N"},{"$f":"IF(Worksheet!$A$12=TRUE,\"Y\",\"N\")","v":"N"},{"$f":"IF(Worksheet!$B$11=TRUE,\"Y\",\"N\")","v":"N"},{"$f":"IF(Worksheet!$B$12=TRUE,\"Y\",\"N\")","v":"N"},{"$f":"IF(Worksheet!$C$11=TRUE,\"Y\",\"N\")","v":"N"},{"$f":"IFERROR(IF(N(Worksheet!V130)=0,Worksheet!U130,Worksheet!V130),\"\")","v":0}]
[{"$f":"IF(ISBLANK(Worksheet!F131)=FALSE,VLOOKUP(Worksheet!A131,MeasureCode_Lookup,6,FALSE),\"\")","v":""},{"$f":"Worksheet!H131","v":0},{"$f":"Worksheet!I131","v":0},{"$f":"IFERROR(IF(Worksheet!Z131=0,Worksheet!Y131/I109,Worksheet!Z131/R109),0)","v":0},"W Controlled",null,null,{"$f":"IF(N(Worksheet!S131)=0,N(Worksheet!R131),N(Worksheet!S131))","v":0},{"$f":"IFERROR(Worksheet!W131/(Worksheet!R131+Worksheet!U131),0)","v":0},{"$f":"Worksheet!AE131","v":0},{"$f":"Worksheet!AD131","v":0},0,{"$f":"IF(Worksheet!AL131=0,0,Worksheet!AL131/I109)","v":0},0,null,null,null,{"$f":"IFERROR(Worksheet!X131/(Worksheet!S131+Worksheet!V131),0)","v":0},{"$f":"IF(Worksheet!E131=\"\",\"\",Worksheet!E131)","v":""},{"$f":"IF(Worksheet!B131=\"\",\"\",Worksheet!B131)","v":""},{"$f":"IF(Worksheet!D131=\"\",\"\",Worksheet!D131)","v":""},{"$f":"IF(Worksheet!$A$11=TRUE,\"Y\",\"N\")","v":"N"},{"$f":"IF(Worksheet!$A$12=TRUE,\"Y\",\"N\")","v":"N"},{"$f":"IF(Worksheet!$B$11=TRUE,\"Y\",\"N\")","v":"N"},{"$f":"IF(Worksheet!$B$12=TRUE,\"Y\",\"N\")","v":"N"},{"$f":"IF(Worksheet!$C$11=TRUE,\"Y\",\"N\")","v":"N"},{"$f":"IFERROR(IF(N(Worksheet!V131)=0,Worksheet!U131,Worksheet!V131),\"\")","v":0}]
[{"$f":"IF(ISBLANK(Worksheet!F132)=FALSE,VLOOKUP(Worksheet!A132,MeasureCode_Lookup,6,FALSE),\"\")","v":""},{"$f":"Worksheet!H132","v":0},{"$f":"Worksheet!I132","v":0},{"$f":"IFERROR(IF(Worksheet!Z132=0,Worksheet!Y132/I110,Worksheet!Z132/R110),0)","v":0},"W Controlled",null,null,{"$f":"IF(N(Worksheet!S132)=0,N(Worksheet!R132),N(Worksheet!S132))","v":0},{"$f":"IFERROR(Worksheet!W132/(Worksheet!R132+Worksheet!U132),0)","v":0},{"$f":"Worksheet!AE132","v":0},{"$f":"Worksheet!AD132","v":0},0,{"$f":"IF(Worksheet!AL132=0,0,Worksheet!AL132/I110)","v":0},0,null,null,null,{"$f":"IFERROR(Worksheet!X132/(Worksheet!S132+Worksheet!V132),0)","v":0},{"$f":"IF(Worksheet!E132=\"\",\"\",Worksheet!E132)","v":""},{"$f":"IF(Worksheet!B132=\"\",\"\",Worksheet!B132)","v":""},{"$f":"IF(Worksheet!D132=\"\",\"\",Worksheet!D132)","v":""},{"$f":"IF(Worksheet!$A$11=TRUE,\"Y\",\"N\")","v":"N"},{"$f":"IF(Worksheet!$A$12=TRUE,\"Y\",\"N\")","v":"N"},{"$f":"IF(Worksheet!$B$11=TRUE,\"Y\",\"N\")","v":"N"},{"$f":"IF(Worksheet!$B$12=TRUE,\"Y\",\"N\")","v":"N"},{"$f":"IF(Worksheet!$C$11=TRUE,\"Y\",\"N\")","v":"N"},{"$f":"IFERROR(IF(N(Worksheet!V132)=0,Worksheet!U132,Worksheet!V132),\"\")","v":0}]
[{"$f":"IF(ISBLANK(Worksheet!F133)=FALSE,VLOOKUP(Worksheet!A133,MeasureCode_Lookup,6,FALSE),\"\")","v":""},{"$f":"Worksheet!H133","v":0},{"$f":"Worksheet!I133","v":0},{"$f":"IFERROR(IF(Worksheet!Z133=0,Worksheet!Y133/I111,Worksheet!Z133/R111),0)","v":0},"W Controlled",null,null,{"$f":"IF(N(Worksheet!S133)=0,N(Worksheet!R133),N(Worksheet!S133))","v":0},{"$f":"IFERROR(Worksheet!W133/(Worksheet!R133+Worksheet!U133),0)","v":0},{"$f":"Worksheet!AE133","v":0},{"$f":"Worksheet!AD133","v":0},0,{"$f":"IF(Worksheet!AL133=0,0,Worksheet!AL133/I111)","v":0},0,null,null,null,{"$f":"IFERROR(Worksheet!X133/(Worksheet!S133+Worksheet!V133),0)","v":0},{"$f":"IF(Worksheet!E133=\"\",\"\",Worksheet!E133)","v":""},{"$f":"IF(Worksheet!B133=\"\",\"\",Worksheet!B133)","v":""},{"$f":"IF(Worksheet!D133=\"\",\"\",Worksheet!D133)","v":""},{"$f":"IF(Worksheet!$A$11=TRUE,\"Y\",\"N\")","v":"N"},{"$f":"IF(Worksheet!$A$12=TRUE,\"Y\",\"N\")","v":"N"},{"$f":"IF(Worksheet!$B$11=TRUE,\"Y\",\"N\")","v":"N"},{"$f":"IF(Worksheet!$B$12=TRUE,\"Y\",\"N\")","v":"N"},{"$f":"IF(Worksheet!$C$11=TRUE,\"Y\",\"N\")","v":"N"},{"$f":"IFERROR(IF(N(Worksheet!V133)=0,Worksheet!U133,Worksheet!V133),\"\")","v":0}]
[{"$f":"IF(ISBLANK(Worksheet!F134)=FALSE,VLOOKUP(Worksheet!A134,MeasureCode_Lookup,6,FALSE),\"\")","v":""},{"$f":"Worksheet!H134","v":0},{"$f":"Worksheet!I134","v":0},{"$f":"IFERROR(IF(Worksheet!Z134=0,Worksheet!Y134/I112,Worksheet!Z134/R112),0)","v":0},"W Controlled",null,null,{"$f":"IF(N(Worksheet!S134)=0,N(Worksheet!R134),N(Worksheet!S134))","v":0},{"$f":"IFERROR(Worksheet!W134/(Worksheet!R134+Worksheet!U134),0)","v":0},{"$f":"Worksheet!AE134","v":0},{"$f":"Worksheet!AD134","v":0},0,{"$f":"IF(Worksheet!AL134=0,0,Worksheet!AL134/I112)","v":0},0,null,null,null,{"$f":"IFERROR(Worksheet!X134/(Worksheet!S134+Worksheet!V134),0)","v":0},{"$f":"IF(Worksheet!E134=\"\",\"\",Worksheet!E134)","v":""},{"$f":"IF(Worksheet!B134=\"\",\"\",Worksheet!B134)","v":""},{"$f":"IF(Worksheet!D134=\"\",\"\",Worksheet!D134)","v":""},{"$f":"IF(Worksheet!$A$11=TRUE,\"Y\",\"N\")","v":"N"},{"$f":"IF(Worksheet!$A$12=TRUE,\"Y\",\"N\")","v":"N"},{"$f":"IF(Worksheet!$B$11=TRUE,\"Y\",\"N\")","v":"N"},{"$f":"IF(Worksheet!$B$12=TRUE,\"Y\",\"N\")","v":"N"},{"$f":"IF(Worksheet!$C$11=TRUE,\"Y\",\"N\")","v":"N"},{"$f":"IFERROR(IF(N(Worksheet!V134)=0,Worksheet!U134,Worksheet!V134),\"\")","v":0}]
[{"$f":"IF(ISBLANK(Worksheet!F135)=FALSE,VLOOKUP(Worksheet!A135,MeasureCode_Lookup,6,FALSE),\"\")","v":""},{"$f":"Worksheet!H135","v":0},{"$f":"Worksheet!I135","v":0},{"$f":"IFERROR(IF(Worksheet!Z135=0,Worksheet!Y135/I113,Worksheet!Z135/R113),0)","v":0},"W Controlled",null,null,{"$f":"IF(N(Worksheet!S135)=0,N(Worksheet!R135),N(Worksheet!S135))","v":0},{"$f":"IFERROR(Worksheet!W135/(Worksheet!R135+Worksheet!U135),0)","v":0},{"$f":"Worksheet!AE135","v":0},{"$f":"Worksheet!AD135","v":0},0,{"$f":"IF(Worksheet!AL135=0,0,Worksheet!AL135/I113)","v":0},0,null,null,null,{"$f":"IFERROR(Worksheet!X135/(Worksheet!S135+Worksheet!V135),0)","v":0},{"$f":"IF(Worksheet!E135=\"\",\"\",Worksheet!E135)","v":""},{"$f":"IF(Worksheet!B135=\"\",\"\",Worksheet!B135)","v":""},{"$f":"IF(Worksheet!D135=\"\",\"\",Worksheet!D135)","v":""},{"$f":"IF(Worksheet!$A$11=TRUE,\"Y\",\"N\")","v":"N"},{"$f":"IF(Worksheet!$A$12=TRUE,\"Y\",\"N\")","v":"N"},{"$f":"IF(Worksheet!$B$11=TRUE,\"Y\",\"N\")","v":"N"},{"$f":"IF(Worksheet!$B$12=TRUE,\"Y\",\"N\")","v":"N"},{"$f":"IF(Worksheet!$C$11=TRUE,\"Y\",\"N\")","v":"N"},{"$f":"IFERROR(IF(N(Worksheet!V135)=0,Worksheet!U135,Worksheet!V135),\"\")","v":0}]
[{"$f":"IF(ISBLANK(Worksheet!F136)=FALSE,VLOOKUP(Worksheet!A136,MeasureCode_Lookup,6,FALSE),\"\")","v":""},{"$f":"Worksheet!H136","v":0},{"$f":"Worksheet!I136","v":0},{"$f":"IFERROR(IF(Worksheet!Z136=0,Worksheet!Y136/I114,Worksheet!Z136/R114),0)","v":0},"W Controlled",null,null,{"$f":"IF(N(Worksheet!S136)=0,N(Worksheet!R136),N(Worksheet!S136))","v":0},{"$f":"IFERROR(Worksheet!W136/(Worksheet!R136+Worksheet!U136),0)","v":0},{"$f":"Worksheet!AE136","v":0},{"$f":"Worksheet!AD136","v":0},0,{"$f":"IF(Worksheet!AL136=0,0,Worksheet!AL136/I114)","v":0},0,null,null,null,{"$f":"IFERROR(Worksheet!X136/(Worksheet!S136+Worksheet!V136),0)","v":0},{"$f":"IF(Worksheet!E136=\"\",\"\",Worksheet!E136)","v":""},{"$f":"IF(Worksheet!B136=\"\",\"\",Worksheet!B136)","v":""},{"$f":"IF(Worksheet!D136=\"\",\"\",Worksheet!D136)","v":""},{"$f":"IF(Worksheet!$A$11=TRUE,\"Y\",\"N\")","v":"N"},{"$f":"IF(Worksheet!$A$12=TRUE,\"Y\",\"N\")","v":"N"},{"$f":"IF(Worksheet!$B$11=TRUE,\"Y\",\"N\")","v":"N"},{"$f":"IF(Worksheet!$B$12=TRUE,\"Y\",\"N\")","v":"N"},{"$f":"IF(Worksheet!$C$11=TRUE,\"Y\",\"N\")","v":"N"},{"$f":"IFERROR(IF(N(Worksheet!V136)=0,Worksheet!U136,Worksheet!V136),\"\")","v":0}]
[{"$f":"IF(ISBLANK(Worksheet!F137)=FALSE,VLOOKUP(Worksheet!A137,MeasureCode_Lookup,6,FALSE),\"\")","v":""},{"$f":"Worksheet!H137","v":0},{"$f":"Worksheet!I137","v":0},{"$f":"IFERROR(IF(Worksheet!Z137=0,Worksheet!Y137/I115,Worksheet!Z137/R115),0)","v":0},"W Controlled",null,null,{"$f":"IF(N(Worksheet!S137)=0,N(Worksheet!R137),N(Worksheet!S137))","v":0},{"$f":"IFERROR(Worksheet!W137/(Worksheet!R137+Worksheet!U137),0)","v":0},{"$f":"Worksheet!AE137","v":0},{"$f":"Worksheet!AD137","v":0},0,{"$f":"IF(Worksheet!AL137=0,0,Worksheet!AL137/I115)","v":0},0,null,null,null,{"$f":"IFERROR(Worksheet!X137/(Worksheet!S137+Worksheet!V137),0)","v":0},{"$f":"IF(Worksheet!E137=\"\",\"\",Worksheet!E137)","v":""},{"$f":"IF(Worksheet!B137=\"\",\"\",Worksheet!B137)","v":""},{"$f":"IF(Worksheet!D137=\"\",\"\",Worksheet!D137)","v":""},{"$f":"IF(Worksheet!$A$11=TRUE,\"Y\",\"N\")","v":"N"},{"$f":"IF(Worksheet!$A$12=TRUE,\"Y\",\"N\")","v":"N"},{"$f":"IF(Worksheet!$B$11=TRUE,\"Y\",\"N\")","v":"N"},{"$f":"IF(Worksheet!$B$12=TRUE,\"Y\",\"N\")","v":"N"},{"$f":"IF(Worksheet!$C$11=TRUE,\"Y\",\"N\")","v":"N"},{"$f":"IFERROR(IF(N(Worksheet!V137)=0,Worksheet!U137,Worksheet!V137),\"\")","v":0}]
[{"$f":"IF(ISBLANK(Worksheet!F138)=FALSE,VLOOKUP(Worksheet!A138,MeasureCode_Lookup,6,FALSE),\"\")","v":""},{"$f":"Worksheet!H138","v":0},{"$f":"Worksheet!I138","v":0},{"$f":"IFERROR(IF(Worksheet!Z138=0,Worksheet!Y138/I116,Worksheet!Z138/R116),0)","v":0},"W Controlled",null,null,{"$f":"IF(N(Worksheet!S138)=0,N(Worksheet!R138),N(Worksheet!S138))","v":0},{"$f":"IFERROR(Worksheet!W138/(Worksheet!R138+Worksheet!U138),0)","v":0},{"$f":"Worksheet!AE138","v":0},{"$f":"Worksheet!AD138","v":0},0,{"$f":"IF(Worksheet!AL138=0,0,Worksheet!AL138/I116)","v":0},0,null,null,null,{"$f":"IFERROR(Worksheet!X138/(Worksheet!S138+Worksheet!V138),0)","v":0},{"$f":"IF(Worksheet!E138=\"\",\"\",Worksheet!E138)","v":""},{"$f":"IF(Worksheet!B138=\"\",\"\",Worksheet!B138)","v":""},{"$f":"IF(Worksheet!D138=\"\",\"\",Worksheet!D138)","v":""},{"$f":"IF(Worksheet!$A$11=TRUE,\"Y\",\"N\")","v":"N"},{"$f":"IF(Worksheet!$A$12=TRUE,\"Y\",\"N\")","v":"N"},{"$f":"IF(Worksheet!$B$11=TRUE,\"Y\",\"N\")","v":"N"},{"$f":"IF(Worksheet!$B$12=TRUE,\"Y\",\"N\")","v":"N"},{"$f":"IF(Worksheet!$C$11=TRUE,\"Y\",\"N\")","v":"N"},{"$f":"IFERROR(IF(N(Worksheet!V138)=0,Worksheet!U138,Worksheet!V138),\"\")","v":0}]
[{"$f":"IF(ISBLANK(Worksheet!F139)=FALSE,VLOOKUP(Worksheet!A139,MeasureCode_Lookup,6,FALSE),\"\")","v":""},{"$f":"Worksheet!H139","v":0},{"$f":"Worksheet!I139","v":0},{"$f":"IFERROR(IF(Worksheet!Z139=0,Worksheet!Y139/I117,Worksheet!Z139/R117),0)","v":0},"W Controlled",null,null,{"$f":"IF(N(Worksheet!S139)=0,N(Worksheet!R139),N(Worksheet!S139))","v":0},{"$f":"IFERROR(Worksheet!W139/(Worksheet!R139+Worksheet!U139),0)","v":0},{"$f":"Worksheet!AE139","v":0},{"$f":"Worksheet!AD139","v":0},0,{"$f":"IF(Worksheet!AL139=0,0,Worksheet!AL139/I117)","v":0},0,null,null,null,{"$f":"IFERROR(Worksheet!X139/(Worksheet!S139+Worksheet!V139),0)","v":0},{"$f":"IF(Worksheet!E139=\"\",\"\",Worksheet!E139)","v":""},{"$f":"IF(Worksheet!B139=\"\",\"\",Worksheet!B139)","v":""},{"$f":"IF(Worksheet!D139=\"\",\"\",Worksheet!D139)","v":""},{"$f":"IF(Worksheet!$A$11=TRUE,\"Y\",\"N\")","v":"N"},{"$f":"IF(Worksheet!$A$12=TRUE,\"Y\",\"N\")","v":"N"},{"$f":"IF(Worksheet!$B$11=TRUE,\"Y\",\"N\")","v":"N"},{"$f":"IF(Worksheet!$B$12=TRUE,\"Y\",\"N\")","v":"N"},{"$f":"IF(Worksheet!$C$11=TRUE,\"Y\",\"N\")","v":"N"},{"$f":"IFERROR(IF(N(Worksheet!V139)=0,Worksheet!U139,Worksheet!V139),\"\")","v":0}]
[{"$f":"IF(ISBLANK(Worksheet!F140)=FALSE,VLOOKUP(Worksheet!A140,MeasureCode_Lookup,6,FALSE),\"\")","v":""},{"$f":"Worksheet!H140","v":0},{"$f":"Worksheet!I140","v":0},{"$f":"IFERROR(IF(Worksheet!Z140=0,Worksheet!Y140/I118,Worksheet!Z140/R118),0)","v":0},"W Controlled",null,null,{"$f":"IF(N(Worksheet!S140)=0,N(Worksheet!R140),N(Worksheet!S140))","v":0},{"$f":"IFERROR(Worksheet!W140/(Worksheet!R140+Worksheet!U140),0)","v":0},{"$f":"Worksheet!AE140","v":0},{"$f":"Worksheet!AD140","v":0},0,{"$f":"IF(Worksheet!AL140=0,0,Worksheet!AL140/I118)","v":0},0,null,null,null,{"$f":"IFERROR(Worksheet!X140/(Worksheet!S140+Worksheet!V140),0)","v":0},{"$f":"IF(Worksheet!E140=\"\",\"\",Worksheet!E140)","v":""},{"$f":"IF(Worksheet!B140=\"\",\"\",Worksheet!B140)","v":""},{"$f":"IF(Worksheet!D140=\"\",\"\",Worksheet!D140)","v":""},{"$f":"IF(Worksheet!$A$11=TRUE,\"Y\",\"N\")","v":"N"},{"$f":"IF(Worksheet!$A$12=TRUE,\"Y\",\"N\")","v":"N"},{"$f":"IF(Worksheet!$B$11=TRUE,\"Y\",\"N\")","v":"N"},{"$f":"IF(Worksheet!$B$12=TRUE,\"Y\",\"N\")","v":"N"},{"$f":"IF(Worksheet!$C$11=TRUE,\"Y\",\"N\")","v":"N"},{"$f":"IFERROR(IF(N(Worksheet!V140)=0,Worksheet!U140,Worksheet!V140),\"\")","v":0}]
[{"$f":"IF(ISBLANK(Worksheet!F141)=FALSE,VLOOKUP(Worksheet!A141,MeasureCode_Lookup,6,FALSE),\"\")","v":""},{"$f":"Worksheet!H141","v":0},{"$f":"Worksheet!I141","v":0},{"$f":"IFERROR(IF(Worksheet!Z141=0,Worksheet!Y141/I119,Worksheet!Z141/R119),0)","v":0},"W Controlled",null,null,{"$f":"IF(N(Worksheet!S141)=0,N(Worksheet!R141),N(Worksheet!S141))","v":0},{"$f":"IFERROR(Worksheet!W141/(Worksheet!R141+Worksheet!U141),0)","v":0},{"$f":"Worksheet!AE141","v":0},{"$f":"Worksheet!AD141","v":0},0,{"$f":"IF(Worksheet!AL141=0,0,Worksheet!AL141/I119)","v":0},0,null,null,null,{"$f":"IFERROR(Worksheet!X141/(Worksheet!S141+Worksheet!V141),0)","v":0},{"$f":"IF(Worksheet!E141=\"\",\"\",Worksheet!E141)","v":""},{"$f":"IF(Worksheet!B141=\"\",\"\",Worksheet!B141)","v":""},{"$f":"IF(Worksheet!D141=\"\",\"\",Worksheet!D141)","v":""},{"$f":"IF(Worksheet!$A$11=TRUE,\"Y\",\"N\")","v":"N"},{"$f":"IF(Worksheet!$A$12=TRUE,\"Y\",\"N\")","v":"N"},{"$f":"IF(Worksheet!$B$11=TRUE,\"Y\",\"N\")","v":"N"},{"$f":"IF(Worksheet!$B$12=TRUE,\"Y\",\"N\")","v":"N"},{"$f":"IF(Worksheet!$C$11=TRUE,\"Y\",\"N\")","v":"N"},{"$f":"IFERROR(IF(N(Worksheet!V141)=0,Worksheet!U141,Worksheet!V141),\"\")","v":0}]
[{"$f":"IF(ISBLANK(Worksheet!F142)=FALSE,VLOOKUP(Worksheet!A142,MeasureCode_Lookup,6,FALSE),\"\")","v":""},{"$f":"Worksheet!H142","v":0},{"$f":"Worksheet!I142","v":0},{"$f":"IFERROR(IF(Worksheet!Z142=0,Worksheet!Y142/I120,Worksheet!Z142/R120),0)","v":0},"W Controlled",null,null,{"$f":"IF(N(Worksheet!S142)=0,N(Worksheet!R142),N(Worksheet!S142))","v":0},{"$f":"IFERROR(Worksheet!W142/(Worksheet!R142+Worksheet!U142),0)","v":0},{"$f":"Worksheet!AE142","v":0},{"$f":"Worksheet!AD142","v":0},0,{"$f":"IF(Worksheet!AL142=0,0,Worksheet!AL142/I120)","v":0},0,null,null,null,{"$f":"IFERROR(Worksheet!X142/(Worksheet!S142+Worksheet!V142),0)","v":0},{"$f":"IF(Worksheet!E142=\"\",\"\",Worksheet!E142)","v":""},{"$f":"IF(Worksheet!B142=\"\",\"\",Worksheet!B142)","v":""},{"$f":"IF(Worksheet!D142=\"\",\"\",Worksheet!D142)","v":""},{"$f":"IF(Worksheet!$A$11=TRUE,\"Y\",\"N\")","v":"N"},{"$f":"IF(Worksheet!$A$12=TRUE,\"Y\",\"N\")","v":"N"},{"$f":"IF(Worksheet!$B$11=TRUE,\"Y\",\"N\")","v":"N"},{"$f":"IF(Worksheet!$B$12=TRUE,\"Y\",\"N\")","v":"N"},{"$f":"IF(Worksheet!$C$11=TRUE,\"Y\",\"N\")","v":"N"},{"$f":"IFERROR(IF(N(Worksheet!V142)=0,Worksheet!U142,Worksheet!V142),\"\")","v":0}]
[{"$f":"IF(ISBLANK(Worksheet!F143)=FALSE,VLOOKUP(Worksheet!A143,MeasureCode_Lookup,6,FALSE),\"\")","v":""},{"$f":"Worksheet!H143","v":0},{"$f":"Worksheet!I143","v":0},{"$f":"IFERROR(IF(Worksheet!Z143=0,Worksheet!Y143/I121,Worksheet!Z143/R121),0)","v":0},"W Controlled",null,null,{"$f":"IF(N(Worksheet!S143)=0,N(Worksheet!R143),N(Worksheet!S143))","v":0},{"$f":"IFERROR(Worksheet!W143/(Worksheet!R143+Worksheet!U143),0)","v":0},{"$f":"Worksheet!AE143","v":0},{"$f":"Worksheet!AD143","v":0},0,{"$f":"IF(Worksheet!AL143=0,0,Worksheet!AL143/I121)","v":0},0,null,null,null,{"$f":"IFERROR(Worksheet!X143/(Worksheet!S143+Worksheet!V143),0)","v":0},{"$f":"IF(Worksheet!E143=\"\",\"\",Worksheet!E143)","v":""},{"$f":"IF(Worksheet!B143=\"\",\"\",Worksheet!B143)","v":""},{"$f":"IF(Worksheet!D143=\"\",\"\",Worksheet!D143)","v":""},{"$f":"IF(Worksheet!$A$11=TRUE,\"Y\",\"N\")","v":"N"},{"$f":"IF(Worksheet!$A$12=TRUE,\"Y\",\"N\")","v":"N"},{"$f":"IF(Worksheet!$B$11=TRUE,\"Y\",\"N\")","v":"N"},{"$f":"IF(Worksheet!$B$12=TRUE,\"Y\",\"N\")","v":"N"},{"$f":"IF(Worksheet!$C$11=TRUE,\"Y\",\"N\")","v":"N"},{"$f":"IFERROR(IF(N(Worksheet!V143)=0,Worksheet!U143,Worksheet!V143),\"\")","v":0}]
[{"$f":"IF(ISBLANK(Worksheet!F144)=FALSE,VLOOKUP(Worksheet!A144,MeasureCode_Lookup,6,FALSE),\"\")","v":""},{"$f":"Worksheet!H144","v":0},{"$f":"Worksheet!I144","v":0},{"$f":"IFERROR(IF(Worksheet!Z144=0,Worksheet!Y144/I122,Worksheet!Z144/R122),0)","v":0},"W Controlled",null,null,{"$f":"IF(N(Worksheet!S144)=0,N(Worksheet!R144),N(Worksheet!S144))","v":0},{"$f":"IFERROR(Worksheet!W144/(Worksheet!R144+Worksheet!U144),0)","v":0},{"$f":"Worksheet!AE144","v":0},{"$f":"Worksheet!AD144","v":0},0,{"$f":"IF(Worksheet!AL144=0,0,Worksheet!AL144/I122)","v":0},0,null,null,null,{"$f":"IFERROR(Worksheet!X144/(Worksheet!S144+Worksheet!V144),0)","v":0},{"$f":"IF(Worksheet!E144=\"\",\"\",Worksheet!E144)","v":""},{"$f":"IF(Worksheet!B144=\"\",\"\",Worksheet!B144)","v":""},{"$f":"IF(Worksheet!D144=\"\",\"\",Worksheet!D144)","v":""},{"$f":"IF(Worksheet!$A$11=TRUE,\"Y\",\"N\")","v":"N"},{"$f":"IF(Worksheet!$A$12=TRUE,\"Y\",\"N\")","v":"N"},{"$f":"IF(Worksheet!$B$11=TRUE,\"Y\",\"N\")","v":"N"},{"$f":"IF(Worksheet!$B$12=TRUE,\"Y\",\"N\")","v":"N"},{"$f":"IF(Worksheet!$C$11=TRUE,\"Y\",\"N\")","v":"N"},{"$f":"IFERROR(IF(N(Worksheet!V144)=0,Worksheet!U144,Worksheet!V144),\"\")","v":0}]
[{"$f":"IF(ISBLANK(Worksheet!F145)=FALSE,VLOOKUP(Worksheet!A145,MeasureCode_Lookup,6,FALSE),\"\")","v":""},{"$f":"Worksheet!H145","v":0},{"$f":"Worksheet!I145","v":0},{"$f":"IFERROR(IF(Worksheet!Z145=0,Worksheet!Y145/I123,Worksheet!Z145/R123),0)","v":0},"W Controlled",null,null,{"$f":"IF(N(Worksheet!S145)=0,N(Worksheet!R145),N(Worksheet!S145))","v":0},{"$f":"IFERROR(Worksheet!W145/(Worksheet!R145+Worksheet!U145),0)","v":0},{"$f":"Worksheet!AE145","v":0},{"$f":"Worksheet!AD145","v":0},0,{"$f":"IF(Worksheet!AL145=0,0,Worksheet!AL145/I123)","v":0},0,null,null,null,{"$f":"IFERROR(Worksheet!X145/(Worksheet!S145+Worksheet!V145),0)","v":0},{"$f":"IF(Worksheet!E145=\"\",\"\",Worksheet!E145)","v":""},{"$f":"IF(Worksheet!B145=\"\",\"\",Worksheet!B145)","v":""},{"$f":"IF(Worksheet!D145=\"\",\"\",Worksheet!D145)","v":""},{"$f":"IF(Worksheet!$A$11=TRUE,\"Y\",\"N\")","v":"N"},{"$f":"IF(Worksheet!$A$12=TRUE,\"Y\",\"N\")","v":"N"},{"$f":"IF(Worksheet!$B$11=TRUE,\"Y\",\"N\")","v":"N"},{"$f":"IF(Worksheet!$B$12=TRUE,\"Y\",\"N\")","v":"N"},{"$f":"IF(Worksheet!$C$11=TRUE,\"Y\",\"N\")","v":"N"},{"$f":"IFERROR(IF(N(Worksheet!V145)=0,Worksheet!U145,Worksheet!V145),\"\")","v":0}]
[{"$f":"IF(ISBLANK(Worksheet!F146)=FALSE,VLOOKUP(Worksheet!A146,MeasureCode_Lookup,6,FALSE),\"\")","v":""},{"$f":"Worksheet!H146","v":0},{"$f":"Worksheet!I146","v":0},{"$f":"IFERROR(IF(Worksheet!Z146=0,Worksheet!Y146/I124,Worksheet!Z146/R124),0)","v":0},"W Controlled",null,null,{"$f":"IF(N(Worksheet!S146)=0,N(Worksheet!R146),N(Worksheet!S146))","v":0},{"$f":"IFERROR(Worksheet!W146/(Worksheet!R146+Worksheet!U146),0)","v":0},{"$f":"Worksheet!AE146","v":0},{"$f":"Worksheet!AD146","v":0},0,{"$f":"IF(Worksheet!AL146=0,0,Worksheet!AL146/I124)","v":0},0,null,null,null,{"$f":"IFERROR(Worksheet!X146/(Worksheet!S146+Worksheet!V146),0)","v":0},{"$f":"IF(Worksheet!E146=\"\",\"\",Worksheet!E146)","v":""},{"$f":"IF(Worksheet!B146=\"\",\"\",Worksheet!B146)","v":""},{"$f":"IF(Worksheet!D146=\"\",\"\",Worksheet!D146)","v":""},{"$f":"IF(Worksheet!$A$11=TRUE,\"Y\",\"N\")","v":"N"},{"$f":"IF(Worksheet!$A$12=TRUE,\"Y\",\"N\")","v":"N"},{"$f":"IF(Worksheet!$B$11=TRUE,\"Y\",\"N\")","v":"N"},{"$f":"IF(Worksheet!$B$12=TRUE,\"Y\",\"N\")","v":"N"},{"$f":"IF(Worksheet!$C$11=TRUE,\"Y\",\"N\")","v":"N"},{"$f":"IFERROR(IF(N(Worksheet!V146)=0,Worksheet!U146,Worksheet!V146),\"\")","v":0}]
[{"$f":"IF(ISBLANK(Worksheet!F147)=FALSE,VLOOKUP(Worksheet!A147,MeasureCode_Lookup,6,FALSE),\"\")","v":""},{"$f":"Worksheet!H147","v":0},{"$f":"Worksheet!I147","v":0},{"$f":"IFERROR(IF(Worksheet!Z147=0,Worksheet!Y147/I125,Worksheet!Z147/R125),0)","v":0},"W Controlled",null,null,{"$f":"IF(N(Worksheet!S147)=0,N(Worksheet!R147),N(Worksheet!S147))","v":0},{"$f":"IFERROR(Worksheet!W147/(Worksheet!R147+Worksheet!U147),0)","v":0},{"$f":"Worksheet!AE147","v":0},{"$f":"Worksheet!AD147","v":0},0,{"$f":"IF(Worksheet!AL147=0,0,Worksheet!AL147/I125)","v":0},0,null,null,null,{"$f":"IFERROR(Worksheet!X147/(Worksheet!S147+Worksheet!V147),0)","v":0},{"$f":"IF(Worksheet!E147=\"\",\"\",Worksheet!E147)","v":""},{"$f":"IF(Worksheet!B147=\"\",\"\",Worksheet!B147)","v":""},{"$f":"IF(Worksheet!D147=\"\",\"\",Worksheet!D147)","v":""},{"$f":"IF(Worksheet!$A$11=TRUE,\"Y\",\"N\")","v":"N"},{"$f":"IF(Worksheet!$A$12=TRUE,\"Y\",\"N\")","v":"N"},{"$f":"IF(Worksheet!$B$11=TRUE,\"Y\",\"N\")","v":"N"},{"$f":"IF(Worksheet!$B$12=TRUE,\"Y\",\"N\")","v":"N"},{"$f":"IF(Worksheet!$C$11=TRUE,\"Y\",\"N\")","v":"N"},{"$f":"IFERROR(IF(N(Worksheet!V147)=0,Worksheet!U147,Worksheet!V147),\"\")","v":0}]
[{"$f":"IF(ISBLANK(Worksheet!F148)=FALSE,VLOOKUP(Worksheet!A148,MeasureCode_Lookup,6,FALSE),\"\")","v":""},{"$f":"Worksheet!H148","v":0},{"$f":"Worksheet!I148","v":0},{"$f":"IFERROR(IF(Worksheet!Z148=0,Worksheet!Y148/I126,Worksheet!Z148/R126),0)","v":0},"W Controlled",null,null,{"$f":"IF(N(Worksheet!S148)=0,N(Worksheet!R148),N(Worksheet!S148))","v":0},{"$f":"IFERROR(Worksheet!W148/(Worksheet!R148+Worksheet!U148),0)","v":0},{"$f":"Worksheet!AE148","v":0},{"$f":"Worksheet!AD148","v":0},0,{"$f":"IF(Worksheet!AL148=0,0,Worksheet!AL148/I126)","v":0},0,null,null,null,{"$f":"IFERROR(Worksheet!X148/(Worksheet!S148+Worksheet!V148),0)","v":0},{"$f":"IF(Worksheet!E148=\"\",\"\",Worksheet!E148)","v":""},{"$f":"IF(Worksheet!B148=\"\",\"\",Worksheet!B148)","v":""},{"$f":"IF(Worksheet!D148=\"\",\"\",Worksheet!D148)","v":""},{"$f":"IF(Worksheet!$A$11=TRUE,\"Y\",\"N\")","v":"N"},{"$f":"IF(Worksheet!$A$12=TRUE,\"Y\",\"N\")","v":"N"},{"$f":"IF(Worksheet!$B$11=TRUE,\"Y\",\"N\")","v":"N"},{"$f":"IF(Worksheet!$B$12=TRUE,\"Y\",\"N\")","v":"N"},{"$f":"IF(Worksheet!$C$11=TRUE,\"Y\",\"N\")","v":"N"},{"$f":"IFERROR(IF(N(Worksheet!V148)=0,Worksheet!U148,Worksheet!V148),\"\")","v":0}]
[{"$f":"IF(ISBLANK(Worksheet!F149)=FALSE,VLOOKUP(Worksheet!A149,MeasureCode_Lookup,6,FALSE),\"\")","v":""},{"$f":"Worksheet!H149","v":0},{"$f":"Worksheet!I149","v":0},{"$f":"IFERROR(IF(Worksheet!Z149=0,Worksheet!Y149/I127,Worksheet!Z149/R127),0)","v":0},"W Controlled",null,null,{"$f":"IF(N(Worksheet!S149)=0,N(Worksheet!R149),N(Worksheet!S149))","v":0},{"$f":"IFERROR(Worksheet!W149/(Worksheet!R149+Worksheet!U149),0)","v":0},{"$f":"Worksheet!AE149","v":0},{"$f":"Worksheet!AD149","v":0},0,{"$f":"IF(Worksheet!AL149=0,0,Worksheet!AL149/I127)","v":0},0,null,null,null,{"$f":"IFERROR(Worksheet!X149/(Worksheet!S149+Worksheet!V149),0)","v":0},{"$f":"IF(Worksheet!E149=\"\",\"\",Worksheet!E149)","v":""},{"$f":"IF(Worksheet!B149=\"\",\"\",Worksheet!B149)","v":""},{"$f":"IF(Worksheet!D149=\"\",\"\",Worksheet!D149)","v":""},{"$f":"IF(Worksheet!$A$11=TRUE,\"Y\",\"N\")","v":"N"},{"$f":"IF(Worksheet!$A$12=TRUE,\"Y\",\"N\")","v":"N"},{"$f":"IF(Worksheet!$B$11=TRUE,\"Y\",\"N\")","v":"N"},{"$f":"IF(Worksheet!$B$12=TRUE,\"Y\",\"N\")","v":"N"},{"$f":"IF(Worksheet!$C$11=TRUE,\"Y\",\"N\")","v":"N"},{"$f":"IFERROR(IF(N(Worksheet!V149)=0,Worksheet!U149,Worksheet!V149),\"\")","v":0}]
[{"$f":"IF(ISBLANK(Worksheet!F150)=FALSE,VLOOKUP(Worksheet!A150,MeasureCode_Lookup,6,FALSE),\"\")","v":""},{"$f":"Worksheet!H150","v":0},{"$f":"Worksheet!I150","v":0},{"$f":"IFERROR(IF(Worksheet!Z150=0,Worksheet!Y150/I128,Worksheet!Z150/R128),0)","v":0},"W Controlled",null,null,{"$f":"IF(N(Worksheet!S150)=0,N(Worksheet!R150),N(Worksheet!S150))","v":0},{"$f":"IFERROR(Worksheet!W150/(Worksheet!R150+Worksheet!U150),0)","v":0},{"$f":"Worksheet!AE150","v":0},{"$f":"Worksheet!AD150","v":0},0,{"$f":"IF(Worksheet!AL150=0,0,Worksheet!AL150/I128)","v":0},0,null,null,null,{"$f":"IFERROR(Worksheet!X150/(Worksheet!S150+Worksheet!V150),0)","v":0},{"$f":"IF(Worksheet!E150=\"\",\"\",Worksheet!E150)","v":""},{"$f":"IF(Worksheet!B150=\"\",\"\",Worksheet!B150)","v":""},{"$f":"IF(Worksheet!D150=\"\",\"\",Worksheet!D150)","v":""},{"$f":"IF(Worksheet!$A$11=TRUE,\"Y\",\"N\")","v":"N"},{"$f":"IF(Worksheet!$A$12=TRUE,\"Y\",\"N\")","v":"N"},{"$f":"IF(Worksheet!$B$11=TRUE,\"Y\",\"N\")","v":"N"},{"$f":"IF(Worksheet!$B$12=TRUE,\"Y\",\"N\")","v":"N"},{"$f":"IF(Worksheet!$C$11=TRUE,\"Y\",\"N\")","v":"N"},{"$f":"IFERROR(IF(N(Worksheet!V150)=0,Worksheet!U150,Worksheet!V150),\"\")","v":0}]
[{"$f":"IF(ISBLANK(Worksheet!F151)=FALSE,VLOOKUP(Worksheet!A151,MeasureCode_Lookup,6,FALSE),\"\")","v":""},{"$f":"Worksheet!H151","v":0},{"$f":"Worksheet!I151","v":0},{"$f":"IFERROR(IF(Worksheet!Z151=0,Worksheet!Y151/I129,Worksheet!Z151/R129),0)","v":0},"W Controlled",null,null,{"$f":"IF(N(Worksheet!S151)=0,N(Worksheet!R151),N(Worksheet!S151))","v":0},{"$f":"IFERROR(Worksheet!W151/(Worksheet!R151+Worksheet!U151),0)","v":0},{"$f":"Worksheet!AE151","v":0},{"$f":"Worksheet!AD151","v":0},0,{"$f":"IF(Worksheet!AL151=0,0,Worksheet!AL151/I129)","v":0},0,null,null,null,{"$f":"IFERROR(Worksheet!X151/(Worksheet!S151+Worksheet!V151),0)","v":0},{"$f":"IF(Worksheet!E151=\"\",\"\",Worksheet!E151)","v":""},{"$f":"IF(Worksheet!B151=\"\",\"\",Worksheet!B151)","v":""},{"$f":"IF(Worksheet!D151=\"\",\"\",Worksheet!D151)","v":""},{"$f":"IF(Worksheet!$A$11=TRUE,\"Y\",\"N\")","v":"N"},{"$f":"IF(Worksheet!$A$12=TRUE,\"Y\",\"N\")","v":"N"},{"$f":"IF(Worksheet!$B$11=TRUE,\"Y\",\"N\")","v":"N"},{"$f":"IF(Worksheet!$B$12=TRUE,\"Y\",\"N\")","v":"N"},{"$f":"IF(Worksheet!$C$11=TRUE,\"Y\",\"N\")","v":"N"},{"$f":"IFERROR(IF(N(Worksheet!V151)=0,Worksheet!U151,Worksheet!V151),\"\")","v":0}]
[{"$f":"IF(ISBLANK(Worksheet!F152)=FALSE,VLOOKUP(Worksheet!A152,MeasureCode_Lookup,6,FALSE),\"\")","v":""},{"$f":"Worksheet!H152","v":0},{"$f":"Worksheet!I152","v":0},{"$f":"IFERROR(IF(Worksheet!Z152=0,Worksheet!Y152/I130,Worksheet!Z152/R130),0)","v":0},"W Controlled",null,null,{"$f":"IF(N(Worksheet!S152)=0,N(Worksheet!R152),N(Worksheet!S152))","v":0},{"$f":"IFERROR(Worksheet!W152/(Worksheet!R152+Worksheet!U152),0)","v":0},{"$f":"Worksheet!AE152","v":0},{"$f":"Worksheet!AD152","v":0},0,{"$f":"IF(Worksheet!AL152=0,0,Worksheet!AL152/I130)","v":0},0,null,null,null,{"$f":"IFERROR(Worksheet!X152/(Worksheet!S152+Worksheet!V152),0)","v":0},{"$f":"IF(Worksheet!E152=\"\",\"\",Worksheet!E152)","v":""},{"$f":"IF(Worksheet!B152=\"\",\"\",Worksheet!B152)","v":""},{"$f":"IF(Worksheet!D152=\"\",\"\",Worksheet!D152)","v":""},{"$f":"IF(Worksheet!$A$11=TRUE,\"Y\",\"N\")","v":"N"},{"$f":"IF(Worksheet!$A$12=TRUE,\"Y\",\"N\")","v":"N"},{"$f":"IF(Worksheet!$B$11=TRUE,\"Y\",\"N\")","v":"N"},{"$f":"IF(Worksheet!$B$12=TRUE,\"Y\",\"N\")","v":"N"},{"$f":"IF(Worksheet!$C$11=TRUE,\"Y\",\"N\")","v":"N"},{"$f":"IFERROR(IF(N(Worksheet!V152)=0,Worksheet!U152,Worksheet!V152),\"\")","v":0}]
[{"$f":"IF(ISBLANK(Worksheet!F153)=FALSE,VLOOKUP(Worksheet!A153,MeasureCode_Lookup,6,FALSE),\"\")","v":""},{"$f":"Worksheet!H153","v":0},{"$f":"Worksheet!I153","v":0},{"$f":"IFERROR(IF(Worksheet!Z153=0,Worksheet!Y153/I131,Worksheet!Z153/R131),0)","v":0},"W Controlled",null,null,{"$f":"IF(N(Worksheet!S153)=0,N(Worksheet!R153),N(Worksheet!S153))","v":0},{"$f":"IFERROR(Worksheet!W153/(Worksheet!R153+Worksheet!U153),0)","v":0},{"$f":"Worksheet!AE153","v":0},{"$f":"Worksheet!AD153","v":0},{"$f":"J131*8","v":0},{"$f":"IF(Worksheet!AL153=0,0,Worksheet!AL153/I131)","v":0},{"$f":"M131*8","v":0},null,null,null,{"$f":"IFERROR(Worksheet!X153/(Worksheet!S153+Worksheet!V153),0)","v":0},{"$f":"IF(Worksheet!E153=\"\",\"\",Worksheet!E153)","v":""},{"$f":"IF(Worksheet!B153=\"\",\"\",Worksheet!B153)","v":""},{"$f":"IF(Worksheet!D153=\"\",\"\",Worksheet!D153)","v":""},{"$f":"IF(Worksheet!$A$11=TRUE,\"Y\",\"N\")","v":"N"},{"$f":"IF(Worksheet!$A$12=TRUE,\"Y\",\"N\")","v":"N"},{"$f":"IF(Worksheet!$B$11=TRUE,\"Y\",\"N\")","v":"N"},{"$f":"IF(Worksheet!$B$12=TRUE,\"Y\",\"N\")","v":"N"},{"$f":"IF(Worksheet!$C$11=TRUE,\"Y\",\"N\")","v":"N"},{"$f":"IFERROR(IF(N(Worksheet!V153)=0,Worksheet!U153,Worksheet!V153),\"\")","v":0}]
[{"$f":"IF(ISBLANK(Worksheet!F154)=FALSE,VLOOKUP(Worksheet!A154,MeasureCode_Lookup,6,FALSE),\"\")","v":""},{"$f":"Worksheet!H154","v":0},{"$f":"Worksheet!I154","v":0},{"$f":"IFERROR(IF(Worksheet!Z154=0,Worksheet!Y154/I132,Worksheet!Z154/R132),0)","v":0},"W Controlled",null,null,{"$f":"IF(N(Worksheet!S154)=0,N(Worksheet!R154),N(Worksheet!S154))","v":0},{"$f":"IFERROR(Worksheet!W154/(Worksheet!R154+Worksheet!U154),0)","v":0},{"$f":"Worksheet!AE154","v":0},{"$f":"Worksheet!AD154","v":0},0,{"$f":"IF(Worksheet!AL154=0,0,Worksheet!AL154/I132)","v":0},0,null,null,null,{"$f":"IFERROR(Worksheet!X154/(Worksheet!S154+Worksheet!V154),0)","v":0},{"$f":"IF(Worksheet!E154=\"\",\"\",Worksheet!E154)","v":""},{"$f":"IF(Worksheet!B154=\"\",\"\",Worksheet!B154)","v":""},{"$f":"IF(Worksheet!D154=\"\",\"\",Worksheet!D154)","v":""},{"$f":"IF(Worksheet!$A$11=TRUE,\"Y\",\"N\")","v":"N"},{"$f":"IF(Worksheet!$A$12=TRUE,\"Y\",\"N\")","v":"N"},{"$f":"IF(Worksheet!$B$11=TRUE,\"Y\",\"N\")","v":"N"},{"$f":"IF(Worksheet!$B$12=TRUE,\"Y\",\"N\")","v":"N"},{"$f":"IF(Worksheet!$C$11=TRUE,\"Y\",\"N\")","v":"N"},{"$f":"IFERROR(IF(N(Worksheet!V154)=0,Worksheet!U154,Worksheet!V154),\"\")","v":0}]
[{"$f":"IF(ISBLANK(Worksheet!F155)=FALSE,VLOOKUP(Worksheet!A155,MeasureCode_Lookup,6,FALSE),\"\")","v":""},{"$f":"Worksheet!H155","v":0},{"$f":"Worksheet!I155","v":0},{"$f":"IFERROR(IF(Worksheet!Z155=0,Worksheet!Y155/I133,Worksheet!Z155/R133),0)","v":0},"W Controlled",null,null,{"$f":"IF(N(Worksheet!S155)=0,N(Worksheet!R155),N(Worksheet!S155))","v":0},{"$f":"IFERROR(Worksheet!W155/(Worksheet!R155+Worksheet!U155),0)","v":0},{"$f":"Worksheet!AE155","v":0},{"$f":"Worksheet!AD155","v":0},0,{"$f":"IF(Worksheet!AL155=0,0,Worksheet!AL155/I133)","v":0},0,null,null,null,{"$f":"IFERROR(Worksheet!X155/(Worksheet!S155+Worksheet!V155),0)","v":0},{"$f":"IF(Worksheet!E155=\"\",\"\",Worksheet!E155)","v":""},{"$f":"IF(Worksheet!B155=\"\",\"\",Worksheet!B155)","v":""},{"$f":"IF(Worksheet!D155=\"\",\"\",Worksheet!D155)","v":""},{"$f":"IF(Worksheet!$A$11=TRUE,\"Y\",\"N\")","v":"N"},{"$f":"IF(Worksheet!$A$12=TRUE,\"Y\",\"N\")","v":"N"},{"$f":"IF(Worksheet!$B$11=TRUE,\"Y\",\"N\")","v":"N"},{"$f":"IF(Worksheet!$B$12=TRUE,\"Y\",\"N\")","v":"N"},{"$f":"IF(Worksheet!$C$11=TRUE,\"Y\",\"N\")","v":"N"},{"$f":"IFERROR(IF(N(Worksheet!V155)=0,Worksheet!U155,Worksheet!V155),\"\")","v":0}]
[{"$f":"IF(ISBLANK(Worksheet!F156)=FALSE,VLOOKUP(Worksheet!A156,MeasureCode_Lookup,6,FALSE),\"\")","v":""},{"$f":"Worksheet!H156","v":0},{"$f":"Worksheet!I156","v":0},{"$f":"IFERROR(IF(Worksheet!Z156=0,Worksheet!Y156/I134,Worksheet!Z156/R134),0)","v":0},"W Controlled",null,null,{"$f":"IF(N(Worksheet!S156)=0,N(Worksheet!R156),N(Worksheet!S156))","v":0},{"$f":"IFERROR(Worksheet!W156/(Worksheet!R156+Worksheet!U156),0)","v":0},{"$f":"Worksheet!AE156","v":0},{"$f":"Worksheet!AD156","v":0},0,{"$f":"IF(Worksheet!AL156=0,0,Worksheet!AL156/I134)","v":0},0,null,null,null,{"$f":"IFERROR(Worksheet!X156/(Worksheet!S156+Worksheet!V156),0)","v":0},{"$f":"IF(Worksheet!E156=\"\",\"\",Worksheet!E156)","v":""},{"$f":"IF(Worksheet!B156=\"\",\"\",Worksheet!B156)","v":""},{"$f":"IF(Worksheet!D156=\"\",\"\",Worksheet!D156)","v":""},{"$f":"IF(Worksheet!$A$11=TRUE,\"Y\",\"N\")","v":"N"},{"$f":"IF(Worksheet!$A$12=TRUE,\"Y\",\"N\")","v":"N"},{"$f":"IF(Worksheet!$B$11=TRUE,\"Y\",\"N\")","v":"N"},{"$f":"IF(Worksheet!$B$12=TRUE,\"Y\",\"N\")","v":"N"},{"$f":"IF(Worksheet!$C$11=TRUE,\"Y\",\"N\")","v":"N"},{"$f":"IFERROR(IF(N(Worksheet!V156)=0,Worksheet!U156,Worksheet!V156),\"\")","v":0}]
[{"$f":"IF(ISBLANK(Worksheet!F157)=FALSE,VLOOKUP(Worksheet!A157,MeasureCode_Lookup,6,FALSE),\"\")","v":""},{"$f":"Worksheet!H157","v":0},{"$f":"Worksheet!I157","v":0},{"$f":"IFERROR(IF(Worksheet!Z157=0,Worksheet!Y157/I135,Worksheet!Z157/R135),0)","v":0},"W Controlled",null,null,{"$f":"IF(N(Worksheet!S157)=0,N(Worksheet!R157),N(Worksheet!S157))","v":0},{"$f":"IFERROR(Worksheet!W157/(Worksheet!R157+Worksheet!U157),0)","v":0},{"$f":"Worksheet!AE157","v":0},{"$f":"Worksheet!AD157","v":0},0,{"$f":"IF(Worksheet!AL157=0,0,Worksheet!AL157/I135)","v":0},0,null,null,null,{"$f":"IFERROR(Worksheet!X157/(Worksheet!S157+Worksheet!V157),0)","v":0},{"$f":"IF(Worksheet!E157=\"\",\"\",Worksheet!E157)","v":""},{"$f":"IF(Worksheet!B157=\"\",\"\",Worksheet!B157)","v":""},{"$f":"IF(Worksheet!D157=\"\",\"\",Worksheet!D157)","v":""},{"$f":"IF(Worksheet!$A$11=TRUE,\"Y\",\"N\")","v":"N"},{"$f":"IF(Worksheet!$A$12=TRUE,\"Y\",\"N\")","v":"N"},{"$f":"IF(Worksheet!$B$11=TRUE,\"Y\",\"N\")","v":"N"},{"$f":"IF(Worksheet!$B$12=TRUE,\"Y\",\"N\")","v":"N"},{"$f":"IF(Worksheet!$C$11=TRUE,\"Y\",\"N\")","v":"N"},{"$f":"IFERROR(IF(N(Worksheet!V157)=0,Worksheet!U157,Worksheet!V157),\"\")","v":0}]
[{"$f":"IF(ISBLANK(Worksheet!F158)=FALSE,VLOOKUP(Worksheet!A158,MeasureCode_Lookup,6,FALSE),\"\")","v":""},{"$f":"Worksheet!H158","v":0},{"$f":"Worksheet!I158","v":0},{"$f":"IFERROR(IF(Worksheet!Z158=0,Worksheet!Y158/I136,Worksheet!Z158/R136),0)","v":0},"W Controlled",null,null,{"$f":"IF(N(Worksheet!S158)=0,N(Worksheet!R158),N(Worksheet!S158))","v":0},{"$f":"IFERROR(Worksheet!W158/(Worksheet!R158+Worksheet!U158),0)","v":0},{"$f":"Worksheet!AE158","v":0},{"$f":"Worksheet!AD158","v":0},0,{"$f":"IF(Worksheet!AL158=0,0,Worksheet!AL158/I136)","v":0},0,null,null,null,{"$f":"IFERROR(Worksheet!X158/(Worksheet!S158+Worksheet!V158),0)","v":0},{"$f":"IF(Worksheet!E158=\"\",\"\",Worksheet!E158)","v":""},{"$f":"IF(Worksheet!B158=\"\",\"\",Worksheet!B158)","v":""},{"$f":"IF(Worksheet!D158=\"\",\"\",Worksheet!D158)","v":""},{"$f":"IF(Worksheet!$A$11=TRUE,\"Y\",\"N\")","v":"N"},{"$f":"IF(Worksheet!$A$12=TRUE,\"Y\",\"N\")","v":"N"},{"$f":"IF(Worksheet!$B$11=TRUE,\"Y\",\"N\")","v":"N"},{"$f":"IF(Worksheet!$B$12=TRUE,\"Y\",\"N\")","v":"N"},{"$f":"IF(Worksheet!$C$11=TRUE,\"Y\",\"N\")","v":"N"},{"$f":"IFERROR(IF(N(Worksheet!V158)=0,Worksheet!U158,Worksheet!V158),\"\")","v":0}]
[{"$f":"IF(ISBLANK(Worksheet!F159)=FALSE,VLOOKUP(Worksheet!A159,MeasureCode_Lookup,6,FALSE),\"\")","v":""},{"$f":"Worksheet!H159","v":0},{"$f":"Worksheet!I159","v":0},{"$f":"IFERROR(IF(Worksheet!Z159=0,Worksheet!Y159/I137,Worksheet!Z159/R137),0)","v":0},"W Controlled",null,null,{"$f":"IF(N(Worksheet!S159)=0,N(Worksheet!R159),N(Worksheet!S159))","v":0},{"$f":"IFERROR(Worksheet!W159/(Worksheet!R159+Worksheet!U159),0)","v":0},{"$f":"Worksheet!AE159","v":0},{"$f":"Worksheet!AD159","v":0},0,{"$f":"IF(Worksheet!AL159=0,0,Worksheet!AL159/I137)","v":0},0,null,null,null,{"$f":"IFERROR(Worksheet!X159/(Worksheet!S159+Worksheet!V159),0)","v":0},{"$f":"IF(Worksheet!E159=\"\",\"\",Worksheet!E159)","v":""},{"$f":"IF(Worksheet!B159=\"\",\"\",Worksheet!B159)","v":""},{"$f":"IF(Worksheet!D159=\"\",\"\",Worksheet!D159)","v":""},{"$f":"IF(Worksheet!$A$11=TRUE,\"Y\",\"N\")","v":"N"},{"$f":"IF(Worksheet!$A$12=TRUE,\"Y\",\"N\")","v":"N"},{"$f":"IF(Worksheet!$B$11=TRUE,\"Y\",\"N\")","v":"N"},{"$f":"IF(Worksheet!$B$12=TRUE,\"Y\",\"N\")","v":"N"},{"$f":"IF(Worksheet!$C$11=TRUE,\"Y\",\"N\")","v":"N"},{"$f":"IFERROR(IF(N(Worksheet!V159)=0,Worksheet!U159,Worksheet!V159),\"\")","v":0}]
[{"$f":"IF(ISBLANK(Worksheet!F160)=FALSE,VLOOKUP(Worksheet!A160,MeasureCode_Lookup,6,FALSE),\"\")","v":""},{"$f":"Worksheet!H160","v":0},{"$f":"Worksheet!I160","v":0},{"$f":"IFERROR(IF(Worksheet!Z160=0,Worksheet!Y160/I138,Worksheet!Z160/R138),0)","v":0},"W Controlled",null,null,{"$f":"IF(N(Worksheet!S160)=0,N(Worksheet!R160),N(Worksheet!S160))","v":0},{"$f":"IFERROR(Worksheet!W160/(Worksheet!R160+Worksheet!U160),0)","v":0},{"$f":"Worksheet!AE160","v":0},{"$f":"Worksheet!AD160","v":0},0,{"$f":"IF(Worksheet!AL160=0,0,Worksheet!AL160/I138)","v":0},0,null,null,null,{"$f":"IFERROR(Worksheet!X160/(Worksheet!S160+Worksheet!V160),0)","v":0},{"$f":"IF(Worksheet!E160=\"\",\"\",Worksheet!E160)","v":""},{"$f":"IF(Worksheet!B160=\"\",\"\",Worksheet!B160)","v":""},{"$f":"IF(Worksheet!D160=\"\",\"\",Worksheet!D160)","v":""},{"$f":"IF(Worksheet!$A$11=TRUE,\"Y\",\"N\")","v":"N"},{"$f":"IF(Worksheet!$A$12=TRUE,\"Y\",\"N\")","v":"N"},{"$f":"IF(Worksheet!$B$11=TRUE,\"Y\",\"N\")","v":"N"},{"$f":"IF(Worksheet!$B$12=TRUE,\"Y\",\"N\")","v":"N"},{"$f":"IF(Worksheet!$C$11=TRUE,\"Y\",\"N\")","v":"N"},{"$f":"IFERROR(IF(N(Worksheet!V160)=0,Worksheet!U160,Worksheet!V160),\"\")","v":0}]
[{"$f":"IF(ISBLANK(Worksheet!F161)=FALSE,VLOOKUP(Worksheet!A161,MeasureCode_Lookup,6,FALSE),\"\")","v":""},{"$f":"Worksheet!H161","v":0},{"$f":"Worksheet!I161","v":0},{"$f":"IFERROR(IF(Worksheet!Z161=0,Worksheet!Y161/I139,Worksheet!Z161/R139),0)","v":0},"W Controlled",null,null,{"$f":"IF(N(Worksheet!S161)=0,N(Worksheet!R161),N(Worksheet!S161))","v":0},{"$f":"IFERROR(Worksheet!W161/(Worksheet!R161+Worksheet!U161),0)","v":0},{"$f":"Worksheet!AE161","v":0},{"$f":"Worksheet!AD161","v":0},0,{"$f":"IF(Worksheet!AL161=0,0,Worksheet!AL161/I139)","v":0},0,null,null,null,{"$f":"IFERROR(Worksheet!X161/(Worksheet!S161+Worksheet!V161),0)","v":0},{"$f":"IF(Worksheet!E161=\"\",\"\",Worksheet!E161)","v":""},{"$f":"IF(Worksheet!B161=\"\",\"\",Worksheet!B161)","v":""},{"$f":"IF(Worksheet!D161=\"\",\"\",Worksheet!D161)","v":""},{"$f":"IF(Worksheet!$A$11=TRUE,\"Y\",\"N\")","v":"N"},{"$f":"IF(Worksheet!$A$12=TRUE,\"Y\",\"N\")","v":"N"},{"$f":"IF(Worksheet!$B$11=TRUE,\"Y\",\"N\")","v":"N"},{"$f":"IF(Worksheet!$B$12=TRUE,\"Y\",\"N\")","v":"N"},{"$f":"IF(Worksheet!$C$11=TRUE,\"Y\",\"N\")","v":"N"},{"$f":"IFERROR(IF(N(Worksheet!V161)=0,Worksheet!U161,Worksheet!V161),\"\")","v":0}]
[{"$f":"IF(ISBLANK(Worksheet!F162)=FALSE,VLOOKUP(Worksheet!A162,MeasureCode_Lookup,6,FALSE),\"\")","v":""},{"$f":"Worksheet!H162","v":0},{"$f":"Worksheet!I162","v":0},{"$f":"IFERROR(IF(Worksheet!Z162=0,Worksheet!Y162/I140,Worksheet!Z162/R140),0)","v":0},"W Controlled",null,null,{"$f":"IF(N(Worksheet!S162)=0,N(Worksheet!R162),N(Worksheet!S162))","v":0},{"$f":"IFERROR(Worksheet!W162/(Worksheet!R162+Worksheet!U162),0)","v":0},{"$f":"Worksheet!AE162","v":0},{"$f":"Worksheet!AD162","v":0},0,{"$f":"IF(Worksheet!AL162=0,0,Worksheet!AL162/I140)","v":0},0,null,null,null,{"$f":"IFERROR(Worksheet!X162/(Worksheet!S162+Worksheet!V162),0)","v":0},{"$f":"IF(Worksheet!E162=\"\",\"\",Worksheet!E162)","v":""},{"$f":"IF(Worksheet!B162=\"\",\"\",Worksheet!B162)","v":""},{"$f":"IF(Worksheet!D162=\"\",\"\",Worksheet!D162)","v":""},{"$f":"IF(Worksheet!$A$11=TRUE,\"Y\",\"N\")","v":"N"},{"$f":"IF(Worksheet!$A$12=TRUE,\"Y\",\"N\")","v":"N"},{"$f":"IF(Worksheet!$B$11=TRUE,\"Y\",\"N\")","v":"N"},{"$f":"IF(Worksheet!$B$12=TRUE,\"Y\",\"N\")","v":"N"},{"$f":"IF(Worksheet!$C$11=TRUE,\"Y\",\"N\")","v":"N"},{"$f":"IFERROR(IF(N(Worksheet!V162)=0,Worksheet!U162,Worksheet!V162),\"\")","v":0}]
[{"$f":"IF(ISBLANK(Worksheet!F163)=FALSE,VLOOKUP(Worksheet!A163,MeasureCode_Lookup,6,FALSE),\"\")","v":""},{"$f":"Worksheet!H163","v":0},{"$f":"Worksheet!I163","v":0},{"$f":"IFERROR(IF(Worksheet!Z163=0,Worksheet!Y163/I141,Worksheet!Z163/R141),0)","v":0},"W Controlled",null,null,{"$f":"IF(N(Worksheet!S163)=0,N(Worksheet!R163),N(Worksheet!S163))","v":0},{"$f":"IFERROR(Worksheet!W163/(Worksheet!R163+Worksheet!U163),0)","v":0},{"$f":"Worksheet!AE163","v":0},{"$f":"Worksheet!AD163","v":0},0,{"$f":"IF(Worksheet!AL163=0,0,Worksheet!AL163/I141)","v":0},0,null,null,null,{"$f":"IFERROR(Worksheet!X163/(Worksheet!S163+Worksheet!V163),0)","v":0},{"$f":"IF(Worksheet!E163=\"\",\"\",Worksheet!E163)","v":""},{"$f":"IF(Worksheet!B163=\"\",\"\",Worksheet!B163)","v":""},{"$f":"IF(Worksheet!D163=\"\",\"\",Worksheet!D163)","v":""},{"$f":"IF(Worksheet!$A$11=TRUE,\"Y\",\"N\")","v":"N"},{"$f":"IF(Worksheet!$A$12=TRUE,\"Y\",\"N\")","v":"N"},{"$f":"IF(Worksheet!$B$11=TRUE,\"Y\",\"N\")","v":"N"},{"$f":"IF(Worksheet!$B$12=TRUE,\"Y\",\"N\")","v":"N"},{"$f":"IF(Worksheet!$C$11=TRUE,\"Y\",\"N\")","v":"N"},{"$f":"IFERROR(IF(N(Worksheet!V163)=0,Worksheet!U163,Worksheet!V163),\"\")","v":0}]
[{"$f":"IF(ISBLANK(Worksheet!F164)=FALSE,VLOOKUP(Worksheet!A164,MeasureCode_Lookup,6,FALSE),\"\")","v":""},{"$f":"Worksheet!H164","v":0},{"$f":"Worksheet!I164","v":0},{"$f":"IFERROR(IF(Worksheet!Z164=0,Worksheet!Y164/I142,Worksheet!Z164/R142),0)","v":0},"W Controlled",null,null,{"$f":"IF(N(Worksheet!S164)=0,N(Worksheet!R164),N(Worksheet!S164))","v":0},{"$f":"IFERROR(Worksheet!W164/(Worksheet!R164+Worksheet!U164),0)","v":0},{"$f":"Worksheet!AE164","v":0},{"$f":"Worksheet!AD164","v":0},0,{"$f":"IF(Worksheet!AL164=0,0,Worksheet!AL164/I142)","v":0},0,null,null,null,{"$f":"IFERROR(Worksheet!X164/(Worksheet!S164+Worksheet!V164),0)","v":0},{"$f":"IF(Worksheet!E164=\"\",\"\",Worksheet!E164)","v":""},{"$f":"IF(Worksheet!B164=\"\",\"\",Worksheet!B164)","v":""},{"$f":"IF(Worksheet!D164=\"\",\"\",Worksheet!D164)","v":""},{"$f":"IF(Worksheet!$A$11=TRUE,\"Y\",\"N\")","v":"N"},{"$f":"IF(Worksheet!$A$12=TRUE,\"Y\",\"N\")","v":"N"},{"$f":"IF(Worksheet!$B$11=TRUE,\"Y\",\"N\")","v":"N"},{"$f":"IF(Worksheet!$B$12=TRUE,\"Y\",\"N\")","v":"N"},{"$f":"IF(Worksheet!$C$11=TRUE,\"Y\",\"N\")","v":"N"},{"$f":"IFERROR(IF(N(Worksheet!V164)=0,Worksheet!U164,Worksheet!V164),\"\")","v":0}]
[{"$f":"IF(ISBLANK(Worksheet!F165)=FALSE,VLOOKUP(Worksheet!A165,MeasureCode_Lookup,6,FALSE),\"\")","v":""},{"$f":"Worksheet!H165","v":0},{"$f":"Worksheet!I165","v":0},{"$f":"IFERROR(IF(Worksheet!Z165=0,Worksheet!Y165/I143,Worksheet!Z165/R143),0)","v":0},"W Controlled",null,null,{"$f":"IF(N(Worksheet!S165)=0,N(Worksheet!R165),N(Worksheet!S165))","v":0},{"$f":"IFERROR(Worksheet!W165/(Worksheet!R165+Worksheet!U165),0)","v":0},{"$f":"Worksheet!AE165","v":0},{"$f":"Worksheet!AD165","v":0},0,{"$f":"IF(Worksheet!AL165=0,0,Worksheet!AL165/I143)","v":0},0,null,null,null,{"$f":"IFERROR(Worksheet!X165/(Worksheet!S165+Worksheet!V165),0)","v":0},{"$f":"IF(Worksheet!E165=\"\",\"\",Worksheet!E165)","v":""},{"$f":"IF(Worksheet!B165=\"\",\"\",Worksheet!B165)","v":""},{"$f":"IF(Worksheet!D165=\"\",\"\",Worksheet!D165)","v":""},{"$f":"IF(Worksheet!$A$11=TRUE,\"Y\",\"N\")","v":"N"},{"$f":"IF(Worksheet!$A$12=TRUE,\"Y\",\"N\")","v":"N"},{"$f":"IF(Worksheet!$B$11=TRUE,\"Y\",\"N\")","v":"N"},{"$f":"IF(Worksheet!$B$12=TRUE,\"Y\",\"N\")","v":"N"},{"$f":"IF(Worksheet!$C$11=TRUE,\"Y\",\"N\")","v":"N"},{"$f":"IFERROR(IF(N(Worksheet!V165)=0,Worksheet!U165,Worksheet!V165),\"\")","v":0}]
[{"$f":"IF(ISBLANK(Worksheet!F166)=FALSE,VLOOKUP(Worksheet!A166,MeasureCode_Lookup,6,FALSE),\"\")","v":""},{"$f":"Worksheet!H166","v":0},{"$f":"Worksheet!I166","v":0},{"$f":"IFERROR(IF(Worksheet!Z166=0,Worksheet!Y166/I144,Worksheet!Z166/R144),0)","v":0},"W Controlled",null,null,{"$f":"IF(N(Worksheet!S166)=0,N(Worksheet!R166),N(Worksheet!S166))","v":0},{"$f":"IFERROR(Worksheet!W166/(Worksheet!R166+Worksheet!U166),0)","v":0},{"$f":"Worksheet!AE166","v":0},{"$f":"Worksheet!AD166","v":0},0,{"$f":"IF(Worksheet!AL166=0,0,Worksheet!AL166/I144)","v":0},0,null,null,null,{"$f":"IFERROR(Worksheet!X166/(Worksheet!S166+Worksheet!V166),0)","v":0},{"$f":"IF(Worksheet!E166=\"\",\"\",Worksheet!E166)","v":""},{"$f":"IF(Worksheet!B166=\"\",\"\",Worksheet!B166)","v":""},{"$f":"IF(Worksheet!D166=\"\",\"\",Worksheet!D166)","v":""},{"$f":"IF(Worksheet!$A$11=TRUE,\"Y\",\"N\")","v":"N"},{"$f":"IF(Worksheet!$A$12=TRUE,\"Y\",\"N\")","v":"N"},{"$f":"IF(Worksheet!$B$11=TRUE,\"Y\",\"N\")","v":"N"},{"$f":"IF(Worksheet!$B$12=TRUE,\"Y\",\"N\")","v":"N"},{"$f":"IF(Worksheet!$C$11=TRUE,\"Y\",\"N\")","v":"N"},{"$f":"IFERROR(IF(N(Worksheet!V166)=0,Worksheet!U166,Worksheet!V166),\"\")","v":0}]
[{"$f":"IF(ISBLANK(Worksheet!F167)=FALSE,VLOOKUP(Worksheet!A167,MeasureCode_Lookup,6,FALSE),\"\")","v":""},{"$f":"Worksheet!H167","v":0},{"$f":"Worksheet!I167","v":0},{"$f":"IFERROR(IF(Worksheet!Z167=0,Worksheet!Y167/I145,Worksheet!Z167/R145),0)","v":0},"W Controlled",null,null,{"$f":"IF(N(Worksheet!S167)=0,N(Worksheet!R167),N(Worksheet!S167))","v":0},{"$f":"IFERROR(Worksheet!W167/(Worksheet!R167+Worksheet!U167),0)","v":0},{"$f":"Worksheet!AE167","v":0},{"$f":"Worksheet!AD167","v":0},0,{"$f":"IF(Worksheet!AL167=0,0,Worksheet!AL167/I145)","v":0},0,null,null,null,{"$f":"IFERROR(Worksheet!X167/(Worksheet!S167+Worksheet!V167),0)","v":0},{"$f":"IF(Worksheet!E167=\"\",\"\",Worksheet!E167)","v":""},{"$f":"IF(Worksheet!B167=\"\",\"\",Worksheet!B167)","v":""},{"$f":"IF(Worksheet!D167=\"\",\"\",Worksheet!D167)","v":""},{"$f":"IF(Worksheet!$A$11=TRUE,\"Y\",\"N\")","v":"N"},{"$f":"IF(Worksheet!$A$12=TRUE,\"Y\",\"N\")","v":"N"},{"$f":"IF(Worksheet!$B$11=TRUE,\"Y\",\"N\")","v":"N"},{"$f":"IF(Worksheet!$B$12=TRUE,\"Y\",\"N\")","v":"N"},{"$f":"IF(Worksheet!$C$11=TRUE,\"Y\",\"N\")","v":"N"},{"$f":"IFERROR(IF(N(Worksheet!V167)=0,Worksheet!U167,Worksheet!V167),\"\")","v":0}]
[{"$f":"IF(ISBLANK(Worksheet!F168)=FALSE,VLOOKUP(Worksheet!A168,MeasureCode_Lookup,6,FALSE),\"\")","v":""},{"$f":"Worksheet!H168","v":0},{"$f":"Worksheet!I168","v":0},{"$f":"IFERROR(IF(Worksheet!Z168=0,Worksheet!Y168/I146,Worksheet!Z168/R146),0)","v":0},"W Controlled",null,null,{"$f":"IF(N(Worksheet!S168)=0,N(Worksheet!R168),N(Worksheet!S168))","v":0},{"$f":"IFERROR(Worksheet!W168/(Worksheet!R168+Worksheet!U168),0)","v":0},{"$f":"Worksheet!AE168","v":0},{"$f":"Worksheet!AD168","v":0},0,{"$f":"IF(Worksheet!AL168=0,0,Worksheet!AL168/I146)","v":0},0,null,null,null,{"$f":"IFERROR(Worksheet!X168/(Worksheet!S168+Worksheet!V168),0)","v":0},{"$f":"IF(Worksheet!E168=\"\",\"\",Worksheet!E168)","v":""},{"$f":"IF(Worksheet!B168=\"\",\"\",Worksheet!B168)","v":""},{"$f":"IF(Worksheet!D168=\"\",\"\",Worksheet!D168)","v":""},{"$f":"IF(Worksheet!$A$11=TRUE,\"Y\",\"N\")","v":"N"},{"$f":"IF(Worksheet!$A$12=TRUE,\"Y\",\"N\")","v":"N"},{"$f":"IF(Worksheet!$B$11=TRUE,\"Y\",\"N\")","v":"N"},{"$f":"IF(Worksheet!$B$12=TRUE,\"Y\",\"N\")","v":"N"},{"$f":"IF(Worksheet!$C$11=TRUE,\"Y\",\"N\")","v":"N"},{"$f":"IFERROR(IF(N(Worksheet!V168)=0,Worksheet!U168,Worksheet!V168),\"\")","v":0}]
[{"$f":"IF(ISBLANK(Worksheet!F169)=FALSE,VLOOKUP(Worksheet!A169,MeasureCode_Lookup,6,FALSE),\"\")","v":""},{"$f":"Worksheet!H169","v":0},{"$f":"Worksheet!I169","v":0},{"$f":"IFERROR(IF(Worksheet!Z169=0,Worksheet!Y169/I147,Worksheet!Z169/R147),0)","v":0},"W Controlled",null,null,{"$f":"IF(N(Worksheet!S169)=0,N(Worksheet!R169),N(Worksheet!S169))","v":0},{"$f":"IFERROR(Worksheet!W169/(Worksheet!R169+Worksheet!U169),0)","v":0},{"$f":"Worksheet!AE169","v":0},{"$f":"Worksheet!AD169","v":0},0,{"$f":"IF(Worksheet!AL169=0,0,Worksheet!AL169/I147)","v":0},0,null,null,null,{"$f":"IFERROR(Worksheet!X169/(Worksheet!S169+Worksheet!V169),0)","v":0},{"$f":"IF(Worksheet!E169=\"\",\"\",Worksheet!E169)","v":""},{"$f":"IF(Worksheet!B169=\"\",\"\",Worksheet!B169)","v":""},{"$f":"IF(Worksheet!D169=\"\",\"\",Worksheet!D169)","v":""},{"$f":"IF(Worksheet!$A$11=TRUE,\"Y\",\"N\")","v":"N"},{"$f":"IF(Worksheet!$A$12=TRUE,\"Y\",\"N\")","v":"N"},{"$f":"IF(Worksheet!$B$11=TRUE,\"Y\",\"N\")","v":"N"},{"$f":"IF(Worksheet!$B$12=TRUE,\"Y\",\"N\")","v":"N"},{"$f":"IF(Worksheet!$C$11=TRUE,\"Y\",\"N\")","v":"N"},{"$f":"IFERROR(IF(N(Worksheet!V169)=0,Worksheet!U169,Worksheet!V169),\"\")","v":0}]
[{"$f":"IF(ISBLANK(Worksheet!F170)=FALSE,VLOOKUP(Worksheet!A170,MeasureCode_Lookup,6,FALSE),\"\")","v":""},{"$f":"Worksheet!H170","v":0},{"$f":"Worksheet!I170","v":0},{"$f":"IFERROR(IF(Worksheet!Z170=0,Worksheet!Y170/I148,Worksheet!Z170/R148),0)","v":0},"W Controlled",null,null,{"$f":"IF(N(Worksheet!S170)=0,N(Worksheet!R170),N(Worksheet!S170))","v":0},{"$f":"IFERROR(Worksheet!W170/(Worksheet!R170+Worksheet!U170),0)","v":0},{"$f":"Worksheet!AE170","v":0},{"$f":"Worksheet!AD170","v":0},0,{"$f":"IF(Worksheet!AL170=0,0,Worksheet!AL170/I148)","v":0},0,null,null,null,{"$f":"IFERROR(Worksheet!X170/(Worksheet!S170+Worksheet!V170),0)","v":0},{"$f":"IF(Worksheet!E170=\"\",\"\",Worksheet!E170)","v":""},{"$f":"IF(Worksheet!B170=\"\",\"\",Worksheet!B170)","v":""},{"$f":"IF(Worksheet!D170=\"\",\"\",Worksheet!D170)","v":""},{"$f":"IF(Worksheet!$A$11=TRUE,\"Y\",\"N\")","v":"N"},{"$f":"IF(Worksheet!$A$12=TRUE,\"Y\",\"N\")","v":"N"},{"$f":"IF(Worksheet!$B$11=TRUE,\"Y\",\"N\")","v":"N"},{"$f":"IF(Worksheet!$B$12=TRUE,\"Y\",\"N\")","v":"N"},{"$f":"IF(Worksheet!$C$11=TRUE,\"Y\",\"N\")","v":"N"},{"$f":"IFERROR(IF(N(Worksheet!V170)=0,Worksheet!U170,Worksheet!V170),\"\")","v":0}]
[{"$f":"IF(ISBLANK(Worksheet!F171)=FALSE,VLOOKUP(Worksheet!A171,MeasureCode_Lookup,6,FALSE),\"\")","v":""},{"$f":"Worksheet!H171","v":0},{"$f":"Worksheet!I171","v":0},{"$f":"IFERROR(IF(Worksheet!Z171=0,Worksheet!Y171/I149,Worksheet!Z171/R149),0)","v":0},"W Controlled",null,null,{"$f":"IF(N(Worksheet!S171)=0,N(Worksheet!R171),N(Worksheet!S171))","v":0},{"$f":"IFERROR(Worksheet!W171/(Worksheet!R171+Worksheet!U171),0)","v":0},{"$f":"Worksheet!AE171","v":0},{"$f":"Worksheet!AD171","v":0},0,{"$f":"IF(Worksheet!AL171=0,0,Worksheet!AL171/I149)","v":0},0,null,null,null,{"$f":"IFERROR(Worksheet!X171/(Worksheet!S171+Worksheet!V171),0)","v":0},{"$f":"IF(Worksheet!E171=\"\",\"\",Worksheet!E171)","v":""},{"$f":"IF(Worksheet!B171=\"\",\"\",Worksheet!B171)","v":""},{"$f":"IF(Worksheet!D171=\"\",\"\",Worksheet!D171)","v":""},{"$f":"IF(Worksheet!$A$11=TRUE,\"Y\",\"N\")","v":"N"},{"$f":"IF(Worksheet!$A$12=TRUE,\"Y\",\"N\")","v":"N"},{"$f":"IF(Worksheet!$B$11=TRUE,\"Y\",\"N\")","v":"N"},{"$f":"IF(Worksheet!$B$12=TRUE,\"Y\",\"N\")","v":"N"},{"$f":"IF(Worksheet!$C$11=TRUE,\"Y\",\"N\")","v":"N"},{"$f":"IFERROR(IF(N(Worksheet!V171)=0,Worksheet!U171,Worksheet!V171),\"\")","v":0}]
[{"$f":"IF(ISBLANK(Worksheet!F172)=FALSE,VLOOKUP(Worksheet!A172,MeasureCode_Lookup,6,FALSE),\"\")","v":""},{"$f":"Worksheet!H172","v":0},{"$f":"Worksheet!I172","v":0},{"$f":"IFERROR(IF(Worksheet!Z172=0,Worksheet!Y172/I150,Worksheet!Z172/R150),0)","v":0},"W Controlled",null,null,{"$f":"IF(N(Worksheet!S172)=0,N(Worksheet!R172),N(Worksheet!S172))","v":0},{"$f":"IFERROR(Worksheet!W172/(Worksheet!R172+Worksheet!U172),0)","v":0},{"$f":"Worksheet!AE172","v":0},{"$f":"Worksheet!AD172","v":0},0,{"$f":"IF(Worksheet!AL172=0,0,Worksheet!AL172/I150)","v":0},0,null,null,null,{"$f":"IFERROR(Worksheet!X172/(Worksheet!S172+Worksheet!V172),0)","v":0},{"$f":"IF(Worksheet!E172=\"\",\"\",Worksheet!E172)","v":""},{"$f":"IF(Worksheet!B172=\"\",\"\",Worksheet!B172)","v":""},{"$f":"IF(Worksheet!D172=\"\",\"\",Worksheet!D172)","v":""},{"$f":"IF(Worksheet!$A$11=TRUE,\"Y\",\"N\")","v":"N"},{"$f":"IF(Worksheet!$A$12=TRUE,\"Y\",\"N\")","v":"N"},{"$f":"IF(Worksheet!$B$11=TRUE,\"Y\",\"N\")","v":"N"},{"$f":"IF(Worksheet!$B$12=TRUE,\"Y\",\"N\")","v":"N"},{"$f":"IF(Worksheet!$C$11=TRUE,\"Y\",\"N\")","v":"N"},{"$f":"IFERROR(IF(N(Worksheet!V172)=0,Worksheet!U172,Worksheet!V172),\"\")","v":0}]
[{"$f":"IF(ISBLANK(Worksheet!F173)=FALSE,VLOOKUP(Worksheet!A173,MeasureCode_Lookup,6,FALSE),\"\")","v":""},{"$f":"Worksheet!H173","v":0},{"$f":"Worksheet!I173","v":0},{"$f":"IFERROR(IF(Worksheet!Z173=0,Worksheet!Y173/I151,Worksheet!Z173/R151),0)","v":0},"W Controlled",null,null,{"$f":"IF(N(Worksheet!S173)=0,N(Worksheet!R173),N(Worksheet!S173))","v":0},{"$f":"IFERROR(Worksheet!W173/(Worksheet!R173+Worksheet!U173),0)","v":0},{"$f":"Worksheet!AE173","v":0},{"$f":"Worksheet!AD173","v":0},0,{"$f":"IF(Worksheet!AL173=0,0,Worksheet!AL173/I151)","v":0},0,null,null,null,{"$f":"IFERROR(Worksheet!X173/(Worksheet!S173+Worksheet!V173),0)","v":0},{"$f":"IF(Worksheet!E173=\"\",\"\",Worksheet!E173)","v":""},{"$f":"IF(Worksheet!B173=\"\",\"\",Worksheet!B173)","v":""},{"$f":"IF(Worksheet!D173=\"\",\"\",Worksheet!D173)","v":""},{"$f":"IF(Worksheet!$A$11=TRUE,\"Y\",\"N\")","v":"N"},{"$f":"IF(Worksheet!$A$12=TRUE,\"Y\",\"N\")","v":"N"},{"$f":"IF(Worksheet!$B$11=TRUE,\"Y\",\"N\")","v":"N"},{"$f":"IF(Worksheet!$B$12=TRUE,\"Y\",\"N\")","v":"N"},{"$f":"IF(Worksheet!$C$11=TRUE,\"Y\",\"N\")","v":"N"},{"$f":"IFERROR(IF(N(Worksheet!V173)=0,Worksheet!U173,Worksheet!V173),\"\")","v":0}]
[{"$f":"IF(ISBLANK(Worksheet!F174)=FALSE,VLOOKUP(Worksheet!A174,MeasureCode_Lookup,6,FALSE),\"\")","v":""},{"$f":"Worksheet!H174","v":0},{"$f":"Worksheet!I174","v":0},{"$f":"IFERROR(IF(Worksheet!Z174=0,Worksheet!Y174/I152,Worksheet!Z174/R152),0)","v":0},"W Controlled",null,null,{"$f":"IF(N(Worksheet!S174)=0,N(Worksheet!R174),N(Worksheet!S174))","v":0},{"$f":"IFERROR(Worksheet!W174/(Worksheet!R174+Worksheet!U174),0)","v":0},{"$f":"Worksheet!AE174","v":0},{"$f":"Worksheet!AD174","v":0},0,{"$f":"IF(Worksheet!AL174=0,0,Worksheet!AL174/I152)","v":0},0,null,null,null,{"$f":"IFERROR(Worksheet!X174/(Worksheet!S174+Worksheet!V174),0)","v":0},{"$f":"IF(Worksheet!E174=\"\",\"\",Worksheet!E174)","v":""},{"$f":"IF(Worksheet!B174=\"\",\"\",Worksheet!B174)","v":""},{"$f":"IF(Worksheet!D174=\"\",\"\",Worksheet!D174)","v":""},{"$f":"IF(Worksheet!$A$11=TRUE,\"Y\",\"N\")","v":"N"},{"$f":"IF(Worksheet!$A$12=TRUE,\"Y\",\"N\")","v":"N"},{"$f":"IF(Worksheet!$B$11=TRUE,\"Y\",\"N\")","v":"N"},{"$f":"IF(Worksheet!$B$12=TRUE,\"Y\",\"N\")","v":"N"},{"$f":"IF(Worksheet!$C$11=TRUE,\"Y\",\"N\")","v":"N"},{"$f":"IFERROR(IF(N(Worksheet!V174)=0,Worksheet!U174,Worksheet!V174),\"\")","v":0}]
[{"$f":"IF(ISBLANK(Worksheet!F175)=FALSE,VLOOKUP(Worksheet!A175,MeasureCode_Lookup,6,FALSE),\"\")","v":""},{"$f":"Worksheet!H175","v":0},{"$f":"Worksheet!I175","v":0},{"$f":"IFERROR(IF(Worksheet!Z175=0,Worksheet!Y175/I153,Worksheet!Z175/R153),0)","v":0},"W Controlled",null,null,{"$f":"IF(N(Worksheet!S175)=0,N(Worksheet!R175),N(Worksheet!S175))","v":0},{"$f":"IFERROR(Worksheet!W175/(Worksheet!R175+Worksheet!U175),0)","v":0},{"$f":"Worksheet!AE175","v":0},{"$f":"Worksheet!AD175","v":0},0,{"$f":"IF(Worksheet!AL175=0,0,Worksheet!AL175/I153)","v":0},0,null,null,null,{"$f":"IFERROR(Worksheet!X175/(Worksheet!S175+Worksheet!V175),0)","v":0},{"$f":"IF(Worksheet!E175=\"\",\"\",Worksheet!E175)","v":""},{"$f":"IF(Worksheet!B175=\"\",\"\",Worksheet!B175)","v":""},{"$f":"IF(Worksheet!D175=\"\",\"\",Worksheet!D175)","v":""},{"$f":"IF(Worksheet!$A$11=TRUE,\"Y\",\"N\")","v":"N"},{"$f":"IF(Worksheet!$A$12=TRUE,\"Y\",\"N\")","v":"N"},{"$f":"IF(Worksheet!$B$11=TRUE,\"Y\",\"N\")","v":"N"},{"$f":"IF(Worksheet!$B$12=TRUE,\"Y\",\"N\")","v":"N"},{"$f":"IF(Worksheet!$C$11=TRUE,\"Y\",\"N\")","v":"N"},{"$f":"IFERROR(IF(N(Worksheet!V175)=0,Worksheet!U175,Worksheet!V175),\"\")","v":0}]
[{"$f":"IF(ISBLANK(Worksheet!F176)=FALSE,VLOOKUP(Worksheet!A176,MeasureCode_Lookup,6,FALSE),\"\")","v":""},{"$f":"Worksheet!H176","v":0},{"$f":"Worksheet!I176","v":0},{"$f":"IFERROR(IF(Worksheet!Z176=0,Worksheet!Y176/I154,Worksheet!Z176/R154),0)","v":0},"W Controlled",null,null,{"$f":"IF(N(Worksheet!S176)=0,N(Worksheet!R176),N(Worksheet!S176))","v":0},{"$f":"IFERROR(Worksheet!W176/(Worksheet!R176+Worksheet!U176),0)","v":0},{"$f":"Worksheet!AE176","v":0},{"$f":"Worksheet!AD176","v":0},0,{"$f":"IF(Worksheet!AL176=0,0,Worksheet!AL176/I154)","v":0},0,null,null,null,{"$f":"IFERROR(Worksheet!X176/(Worksheet!S176+Worksheet!V176),0)","v":0},{"$f":"IF(Worksheet!E176=\"\",\"\",Worksheet!E176)","v":""},{"$f":"IF(Worksheet!B176=\"\",\"\",Worksheet!B176)","v":""},{"$f":"IF(Worksheet!D176=\"\",\"\",Worksheet!D176)","v":""},{"$f":"IF(Worksheet!$A$11=TRUE,\"Y\",\"N\")","v":"N"},{"$f":"IF(Worksheet!$A$12=TRUE,\"Y\",\"N\")","v":"N"},{"$f":"IF(Worksheet!$B$11=TRUE,\"Y\",\"N\")","v":"N"},{"$f":"IF(Worksheet!$B$12=TRUE,\"Y\",\"N\")","v":"N"},{"$f":"IF(Worksheet!$C$11=TRUE,\"Y\",\"N\")","v":"N"},{"$f":"IFERROR(IF(N(Worksheet!V176)=0,Worksheet!U176,Worksheet!V176),\"\")","v":0}]
[{"$f":"IF(ISBLANK(Worksheet!F177)=FALSE,VLOOKUP(Worksheet!A177,MeasureCode_Lookup,6,FALSE),\"\")","v":""},{"$f":"Worksheet!H177","v":0},{"$f":"Worksheet!I177","v":0},{"$f":"IFERROR(IF(Worksheet!Z177=0,Worksheet!Y177/I155,Worksheet!Z177/R155),0)","v":0},"W Controlled",null,null,{"$f":"IF(N(Worksheet!S177)=0,N(Worksheet!R177),N(Worksheet!S177))","v":0},{"$f":"IFERROR(Worksheet!W177/(Worksheet!R177+Worksheet!U177),0)","v":0},{"$f":"Worksheet!AE177","v":0},{"$f":"Worksheet!AD177","v":0},0,{"$f":"IF(Worksheet!AL177=0,0,Worksheet!AL177/I155)","v":0},0,null,null,null,{"$f":"IFERROR(Worksheet!X177/(Worksheet!S177+Worksheet!V177),0)","v":0},{"$f":"IF(Worksheet!E177=\"\",\"\",Worksheet!E177)","v":""},{"$f":"IF(Worksheet!B177=\"\",\"\",Worksheet!B177)","v":""},{"$f":"IF(Worksheet!D177=\"\",\"\",Worksheet!D177)","v":""},{"$f":"IF(Worksheet!$A$11=TRUE,\"Y\",\"N\")","v":"N"},{"$f":"IF(Worksheet!$A$12=TRUE,\"Y\",\"N\")","v":"N"},{"$f":"IF(Worksheet!$B$11=TRUE,\"Y\",\"N\")","v":"N"},{"$f":"IF(Worksheet!$B$12=TRUE,\"Y\",\"N\")","v":"N"},{"$f":"IF(Worksheet!$C$11=TRUE,\"Y\",\"N\")","v":"N"},{"$f":"IFERROR(IF(N(Worksheet!V177)=0,Worksheet!U177,Worksheet!V177),\"\")","v":0}]
[{"$f":"IF(ISBLANK(Worksheet!F178)=FALSE,VLOOKUP(Worksheet!A178,MeasureCode_Lookup,6,FALSE),\"\")","v":""},{"$f":"Worksheet!H178","v":0},{"$f":"Worksheet!I178","v":0},{"$f":"IFERROR(IF(Worksheet!Z178=0,Worksheet!Y178/I156,Worksheet!Z178/R156),0)","v":0},"W Controlled",null,null,{"$f":"IF(N(Worksheet!S178)=0,N(Worksheet!R178),N(Worksheet!S178))","v":0},{"$f":"IFERROR(Worksheet!W178/(Worksheet!R178+Worksheet!U178),0)","v":0},{"$f":"Worksheet!AE178","v":0},{"$f":"Worksheet!AD178","v":0},0,{"$f":"IF(Worksheet!AL178=0,0,Worksheet!AL178/I156)","v":0},0,null,null,null,{"$f":"IFERROR(Worksheet!X178/(Worksheet!S178+Worksheet!V178),0)","v":0},{"$f":"IF(Worksheet!E178=\"\",\"\",Worksheet!E178)","v":""},{"$f":"IF(Worksheet!B178=\"\",\"\",Worksheet!B178)","v":""},{"$f":"IF(Worksheet!D178=\"\",\"\",Worksheet!D178)","v":""},{"$f":"IF(Worksheet!$A$11=TRUE,\"Y\",\"N\")","v":"N"},{"$f":"IF(Worksheet!$A$12=TRUE,\"Y\",\"N\")","v":"N"},{"$f":"IF(Worksheet!$B$11=TRUE,\"Y\",\"N\")","v":"N"},{"$f":"IF(Worksheet!$B$12=TRUE,\"Y\",\"N\")","v":"N"},{"$f":"IF(Worksheet!$C$11=TRUE,\"Y\",\"N\")","v":"N"},{"$f":"IFERROR(IF(N(Worksheet!V178)=0,Worksheet!U178,Worksheet!V178),\"\")","v":0}]
[{"$f":"IF(ISBLANK(Worksheet!F179)=FALSE,VLOOKUP(Worksheet!A179,MeasureCode_Lookup,6,FALSE),\"\")","v":""},{"$f":"Worksheet!H179","v":0},{"$f":"Worksheet!I179","v":0},{"$f":"IFERROR(IF(Worksheet!Z179=0,Worksheet!Y179/I157,Worksheet!Z179/R157),0)","v":0},"W Controlled",null,null,{"$f":"IF(N(Worksheet!S179)=0,N(Worksheet!R179),N(Worksheet!S179))","v":0},{"$f":"IFERROR(Worksheet!W179/(Worksheet!R179+Worksheet!U179),0)","v":0},{"$f":"Worksheet!AE179","v":0},{"$f":"Worksheet!AD179","v":0},0,{"$f":"IF(Worksheet!AL179=0,0,Worksheet!AL179/I157)","v":0},0,null,null,null,{"$f":"IFERROR(Worksheet!X179/(Worksheet!S179+Worksheet!V179),0)","v":0},{"$f":"IF(Worksheet!E179=\"\",\"\",Worksheet!E179)","v":""},{"$f":"IF(Worksheet!B179=\"\",\"\",Worksheet!B179)","v":""},{"$f":"IF(Worksheet!D179=\"\",\"\",Worksheet!D179)","v":""},{"$f":"IF(Worksheet!$A$11=TRUE,\"Y\",\"N\")","v":"N"},{"$f":"IF(Worksheet!$A$12=TRUE,\"Y\",\"N\")","v":"N"},{"$f":"IF(Worksheet!$B$11=TRUE,\"Y\",\"N\")","v":"N"},{"$f":"IF(Worksheet!$B$12=TRUE,\"Y\",\"N\")","v":"N"},{"$f":"IF(Worksheet!$C$11=TRUE,\"Y\",\"N\")","v":"N"},{"$f":"IFERROR(IF(N(Worksheet!V179)=0,Worksheet!U179,Worksheet!V179),\"\")","v":0}]
[{"$f":"IF(ISBLANK(Worksheet!F180)=FALSE,VLOOKUP(Worksheet!A180,MeasureCode_Lookup,6,FALSE),\"\")","v":""},{"$f":"Worksheet!H180","v":0},{"$f":"Worksheet!I180","v":0},{"$f":"IFERROR(IF(Worksheet!Z180=0,Worksheet!Y180/I158,Worksheet!Z180/R158),0)","v":0},"W Controlled",null,null,{"$f":"IF(N(Worksheet!S180)=0,N(Worksheet!R180),N(Worksheet!S180))","v":0},{"$f":"IFERROR(Worksheet!W180/(Worksheet!R180+Worksheet!U180),0)","v":0},{"$f":"Worksheet!AE180","v":0},{"$f":"Worksheet!AD180","v":0},0,{"$f":"IF(Worksheet!AL180=0,0,Worksheet!AL180/I158)","v":0},0,null,null,null,{"$f":"IFERROR(Worksheet!X180/(Worksheet!S180+Worksheet!V180),0)","v":0},{"$f":"IF(Worksheet!E180=\"\",\"\",Worksheet!E180)","v":""},{"$f":"IF(Worksheet!B180=\"\",\"\",Worksheet!B180)","v":""},{"$f":"IF(Worksheet!D180=\"\",\"\",Worksheet!D180)","v":""},{"$f":"IF(Worksheet!$A$11=TRUE,\"Y\",\"N\")","v":"N"},{"$f":"IF(Worksheet!$A$12=TRUE,\"Y\",\"N\")","v":"N"},{"$f":"IF(Worksheet!$B$11=TRUE,\"Y\",\"N\")","v":"N"},{"$f":"IF(Worksheet!$B$12=TRUE,\"Y\",\"N\")","v":"N"},{"$f":"IF(Worksheet!$C$11=TRUE,\"Y\",\"N\")","v":"N"},{"$f":"IFERROR(IF(N(Worksheet!V180)=0,Worksheet!U180,Worksheet!V180),\"\")","v":0}]
[{"$f":"IF(ISBLANK(Worksheet!F181)=FALSE,VLOOKUP(Worksheet!A181,MeasureCode_Lookup,6,FALSE),\"\")","v":""},{"$f":"Worksheet!H181","v":0},{"$f":"Worksheet!I181","v":0},{"$f":"IFERROR(IF(Worksheet!Z181=0,Worksheet!Y181/I159,Worksheet!Z181/R159),0)","v":0},"W Controlled",null,null,{"$f":"IF(N(Worksheet!S181)=0,N(Worksheet!R181),N(Worksheet!S181))","v":0},{"$f":"IFERROR(Worksheet!W181/(Worksheet!R181+Worksheet!U181),0)","v":0},{"$f":"Worksheet!AE181","v":0},{"$f":"Worksheet!AD181","v":0},0,{"$f":"IF(Worksheet!AL181=0,0,Worksheet!AL181/I159)","v":0},0,null,null,null,{"$f":"IFERROR(Worksheet!X181/(Worksheet!S181+Worksheet!V181),0)","v":0},{"$f":"IF(Worksheet!E181=\"\",\"\",Worksheet!E181)","v":""},{"$f":"IF(Worksheet!B181=\"\",\"\",Worksheet!B181)","v":""},{"$f":"IF(Worksheet!D181=\"\",\"\",Worksheet!D181)","v":""},{"$f":"IF(Worksheet!$A$11=TRUE,\"Y\",\"N\")","v":"N"},{"$f":"IF(Worksheet!$A$12=TRUE,\"Y\",\"N\")","v":"N"},{"$f":"IF(Worksheet!$B$11=TRUE,\"Y\",\"N\")","v":"N"},{"$f":"IF(Worksheet!$B$12=TRUE,\"Y\",\"N\")","v":"N"},{"$f":"IF(Worksheet!$C$11=TRUE,\"Y\",\"N\")","v":"N"},{"$f":"IFERROR(IF(N(Worksheet!V181)=0,Worksheet!U181,Worksheet!V181),\"\")","v":0}]
[{"$f":"IF(ISBLANK(Worksheet!F182)=FALSE,VLOOKUP(Worksheet!A182,MeasureCode_Lookup,6,FALSE),\"\")","v":""},{"$f":"Worksheet!H182","v":0},{"$f":"Worksheet!I182","v":0},{"$f":"IFERROR(IF(Worksheet!Z182=0,Worksheet!Y182/I160,Worksheet!Z182/R160),0)","v":0},"W Controlled",null,null,{"$f":"IF(N(Worksheet!S182)=0,N(Worksheet!R182),N(Worksheet!S182))","v":0},{"$f":"IFERROR(Worksheet!W182/(Worksheet!R182+Worksheet!U182),0)","v":0},{"$f":"Worksheet!AE182","v":0},{"$f":"Worksheet!AD182","v":0},0,{"$f":"IF(Worksheet!AL182=0,0,Worksheet!AL182/I160)","v":0},0,null,null,null,{"$f":"IFERROR(Worksheet!X182/(Worksheet!S182+Worksheet!V182),0)","v":0},{"$f":"IF(Worksheet!E182=\"\",\"\",Worksheet!E182)","v":""},{"$f":"IF(Worksheet!B182=\"\",\"\",Worksheet!B182)","v":""},{"$f":"IF(Worksheet!D182=\"\",\"\",Worksheet!D182)","v":""},{"$f":"IF(Worksheet!$A$11=TRUE,\"Y\",\"N\")","v":"N"},{"$f":"IF(Worksheet!$A$12=TRUE,\"Y\",\"N\")","v":"N"},{"$f":"IF(Worksheet!$B$11=TRUE,\"Y\",\"N\")","v":"N"},{"$f":"IF(Worksheet!$B$12=TRUE,\"Y\",\"N\")","v":"N"},{"$f":"IF(Worksheet!$C$11=TRUE,\"Y\",\"N\")","v":"N"},{"$f":"IFERROR(IF(N(Worksheet!V182)=0,Worksheet!U182,Worksheet!V182),\"\")","v":0}]
[{"$f":"IF(ISBLANK(Worksheet!F183)=FALSE,VLOOKUP(Worksheet!A183,MeasureCode_Lookup,6,FALSE),\"\")","v":""},{"$f":"Worksheet!H183","v":0},{"$f":"Worksheet!I183","v":0},{"$f":"IFERROR(IF(Worksheet!Z183=0,Worksheet!Y183/I161,Worksheet!Z183/R161),0)","v":0},"W Controlled",null,null,{"$f":"IF(N(Worksheet!S183)=0,N(Worksheet!R183),N(Worksheet!S183))","v":0},{"$f":"IFERROR(Worksheet!W183/(Worksheet!R183+Worksheet!U183),0)","v":0},{"$f":"Worksheet!AE183","v":0},{"$f":"Worksheet!AD183","v":0},0,{"$f":"IF(Worksheet!AL183=0,0,Worksheet!AL183/I161)","v":0},0,null,null,null,{"$f":"IFERROR(Worksheet!X183/(Worksheet!S183+Worksheet!V183),0)","v":0},{"$f":"IF(Worksheet!E183=\"\",\"\",Worksheet!E183)","v":""},{"$f":"IF(Worksheet!B183=\"\",\"\",Worksheet!B183)","v":""},{"$f":"IF(Worksheet!D183=\"\",\"\",Worksheet!D183)","v":""},{"$f":"IF(Worksheet!$A$11=TRUE,\"Y\",\"N\")","v":"N"},{"$f":"IF(Worksheet!$A$12=TRUE,\"Y\",\"N\")","v":"N"},{"$f":"IF(Worksheet!$B$11=TRUE,\"Y\",\"N\")","v":"N"},{"$f":"IF(Worksheet!$B$12=TRUE,\"Y\",\"N\")","v":"N"},{"$f":"IF(Worksheet!$C$11=TRUE,\"Y\",\"N\")","v":"N"},{"$f":"IFERROR(IF(N(Worksheet!V183)=0,Worksheet!U183,Worksheet!V183),\"\")","v":0}]
[{"$f":"IF(ISBLANK(Worksheet!F184)=FALSE,VLOOKUP(Worksheet!A184,MeasureCode_Lookup,6,FALSE),\"\")","v":""},{"$f":"Worksheet!H184","v":0},{"$f":"Worksheet!I184","v":0},{"$f":"IFERROR(IF(Worksheet!Z184=0,Worksheet!Y184/I162,Worksheet!Z184/R162),0)","v":0},"W Controlled",null,null,{"$f":"IF(N(Worksheet!S184)=0,N(Worksheet!R184),N(Worksheet!S184))","v":0},{"$f":"IFERROR(Worksheet!W184/(Worksheet!R184+Worksheet!U184),0)","v":0},{"$f":"Worksheet!AE184","v":0},{"$f":"Worksheet!AD184","v":0},0,{"$f":"IF(Worksheet!AL184=0,0,Worksheet!AL184/I162)","v":0},0,null,null,null,{"$f":"IFERROR(Worksheet!X184/(Worksheet!S184+Worksheet!V184),0)","v":0},{"$f":"IF(Worksheet!E184=\"\",\"\",Worksheet!E184)","v":""},{"$f":"IF(Worksheet!B184=\"\",\"\",Worksheet!B184)","v":""},{"$f":"IF(Worksheet!D184=\"\",\"\",Worksheet!D184)","v":""},{"$f":"IF(Worksheet!$A$11=TRUE,\"Y\",\"N\")","v":"N"},{"$f":"IF(Worksheet!$A$12=TRUE,\"Y\",\"N\")","v":"N"},{"$f":"IF(Worksheet!$B$11=TRUE,\"Y\",\"N\")","v":"N"},{"$f":"IF(Worksheet!$B$12=TRUE,\"Y\",\"N\")","v":"N"},{"$f":"IF(Worksheet!$C$11=TRUE,\"Y\",\"N\")","v":"N"},{"$f":"IFERROR(IF(N(Worksheet!V184)=0,Worksheet!U184,Worksheet!V184),\"\")","v":0}]
[{"$f":"IF(ISBLANK(Worksheet!F185)=FALSE,VLOOKUP(Worksheet!A185,MeasureCode_Lookup,6,FALSE),\"\")","v":""},{"$f":"Worksheet!H185","v":0},{"$f":"Worksheet!I185","v":0},{"$f":"IFERROR(IF(Worksheet!Z185=0,Worksheet!Y185/I163,Worksheet!Z185/R163),0)","v":0},"W Controlled",null,null,{"$f":"IF(N(Worksheet!S185)=0,N(Worksheet!R185),N(Worksheet!S185))","v":0},{"$f":"IFERROR(Worksheet!W185/(Worksheet!R185+Worksheet!U185),0)","v":0},{"$f":"Worksheet!AE185","v":0},{"$f":"Worksheet!AD185","v":0},0,{"$f":"IF(Worksheet!AL185=0,0,Worksheet!AL185/I163)","v":0},0,null,null,null,{"$f":"IFERROR(Worksheet!X185/(Worksheet!S185+Worksheet!V185),0)","v":0},{"$f":"IF(Worksheet!E185=\"\",\"\",Worksheet!E185)","v":""},{"$f":"IF(Worksheet!B185=\"\",\"\",Worksheet!B185)","v":""},{"$f":"IF(Worksheet!D185=\"\",\"\",Worksheet!D185)","v":""},{"$f":"IF(Worksheet!$A$11=TRUE,\"Y\",\"N\")","v":"N"},{"$f":"IF(Worksheet!$A$12=TRUE,\"Y\",\"N\")","v":"N"},{"$f":"IF(Worksheet!$B$11=TRUE,\"Y\",\"N\")","v":"N"},{"$f":"IF(Worksheet!$B$12=TRUE,\"Y\",\"N\")","v":"N"},{"$f":"IF(Worksheet!$C$11=TRUE,\"Y\",\"N\")","v":"N"},{"$f":"IFERROR(IF(N(Worksheet!V185)=0,Worksheet!U185,Worksheet!V185),\"\")","v":0}]
[{"$f":"IF(ISBLANK(Worksheet!F186)=FALSE,VLOOKUP(Worksheet!A186,MeasureCode_Lookup,6,FALSE),\"\")","v":""},{"$f":"Worksheet!H186","v":0},{"$f":"Worksheet!I186","v":0},{"$f":"IFERROR(IF(Worksheet!Z186=0,Worksheet!Y186/I164,Worksheet!Z186/R164),0)","v":0},"W Controlled",null,null,{"$f":"IF(N(Worksheet!S186)=0,N(Worksheet!R186),N(Worksheet!S186))","v":0},{"$f":"IFERROR(Worksheet!W186/(Worksheet!R186+Worksheet!U186),0)","v":0},{"$f":"Worksheet!AE186","v":0},{"$f":"Worksheet!AD186","v":0},0,{"$f":"IF(Worksheet!AL186=0,0,Worksheet!AL186/I164)","v":0},0,null,null,null,{"$f":"IFERROR(Worksheet!X186/(Worksheet!S186+Worksheet!V186),0)","v":0},{"$f":"IF(Worksheet!E186=\"\",\"\",Worksheet!E186)","v":""},{"$f":"IF(Worksheet!B186=\"\",\"\",Worksheet!B186)","v":""},{"$f":"IF(Worksheet!D186=\"\",\"\",Worksheet!D186)","v":""},{"$f":"IF(Worksheet!$A$11=TRUE,\"Y\",\"N\")","v":"N"},{"$f":"IF(Worksheet!$A$12=TRUE,\"Y\",\"N\")","v":"N"},{"$f":"IF(Worksheet!$B$11=TRUE,\"Y\",\"N\")","v":"N"},{"$f":"IF(Worksheet!$B$12=TRUE,\"Y\",\"N\")","v":"N"},{"$f":"IF(Worksheet!$C$11=TRUE,\"Y\",\"N\")","v":"N"},{"$f":"IFERROR(IF(N(Worksheet!V186)=0,Worksheet!U186,Worksheet!V186),\"\")","v":0}]
[{"$f":"IF(ISBLANK(Worksheet!F187)=FALSE,VLOOKUP(Worksheet!A187,MeasureCode_Lookup,6,FALSE),\"\")","v":""},{"$f":"Worksheet!H187","v":0},{"$f":"Worksheet!I187","v":0},{"$f":"IFERROR(IF(Worksheet!Z187=0,Worksheet!Y187/I165,Worksheet!Z187/R165),0)","v":0},"W Controlled",null,null,{"$f":"IF(N(Worksheet!S187)=0,N(Worksheet!R187),N(Worksheet!S187))","v":0},{"$f":"IFERROR(Worksheet!W187/(Worksheet!R187+Worksheet!U187),0)","v":0},{"$f":"Worksheet!AE187","v":0},{"$f":"Worksheet!AD187","v":0},0,{"$f":"IF(Worksheet!AL187=0,0,Worksheet!AL187/I165)","v":0},0,null,null,null,{"$f":"IFERROR(Worksheet!X187/(Worksheet!S187+Worksheet!V187),0)","v":0},{"$f":"IF(Worksheet!E187=\"\",\"\",Worksheet!E187)","v":""},{"$f":"IF(Worksheet!B187=\"\",\"\",Worksheet!B187)","v":""},{"$f":"IF(Worksheet!D187=\"\",\"\",Worksheet!D187)","v":""},{"$f":"IF(Worksheet!$A$11=TRUE,\"Y\",\"N\")","v":"N"},{"$f":"IF(Worksheet!$A$12=TRUE,\"Y\",\"N\")","v":"N"},{"$f":"IF(Worksheet!$B$11=TRUE,\"Y\",\"N\")","v":"N"},{"$f":"IF(Worksheet!$B$12=TRUE,\"Y\",\"N\")","v":"N"},{"$f":"IF(Worksheet!$C$11=TRUE,\"Y\",\"N\")","v":"N"},{"$f":"IFERROR(IF(N(Worksheet!V187)=0,Worksheet!U187,Worksheet!V187),\"\")","v":0}]
[{"$f":"IF(ISBLANK(Worksheet!F188)=FALSE,VLOOKUP(Worksheet!A188,MeasureCode_Lookup,6,FALSE),\"\")","v":""},{"$f":"Worksheet!H188","v":0},{"$f":"Worksheet!I188","v":0},{"$f":"IFERROR(IF(Worksheet!Z188=0,Worksheet!Y188/I166,Worksheet!Z188/R166),0)","v":0},"W Controlled",null,null,{"$f":"IF(N(Worksheet!S188)=0,N(Worksheet!R188),N(Worksheet!S188))","v":0},{"$f":"IFERROR(Worksheet!W188/(Worksheet!R188+Worksheet!U188),0)","v":0},{"$f":"Worksheet!AE188","v":0},{"$f":"Worksheet!AD188","v":0},0,{"$f":"IF(Worksheet!AL188=0,0,Worksheet!AL188/I166)","v":0},0,null,null,null,{"$f":"IFERROR(Worksheet!X188/(Worksheet!S188+Worksheet!V188),0)","v":0},{"$f":"IF(Worksheet!E188=\"\",\"\",Worksheet!E188)","v":""},{"$f":"IF(Worksheet!B188=\"\",\"\",Worksheet!B188)","v":""},{"$f":"IF(Worksheet!D188=\"\",\"\",Worksheet!D188)","v":""},{"$f":"IF(Worksheet!$A$11=TRUE,\"Y\",\"N\")","v":"N"},{"$f":"IF(Worksheet!$A$12=TRUE,\"Y\",\"N\")","v":"N"},{"$f":"IF(Worksheet!$B$11=TRUE,\"Y\",\"N\")","v":"N"},{"$f":"IF(Worksheet!$B$12=TRUE,\"Y\",\"N\")","v":"N"},{"$f":"IF(Worksheet!$C$11=TRUE,\"Y\",\"N\")","v":"N"},{"$f":"IFERROR(IF(N(Worksheet!V188)=0,Worksheet!U188,Worksheet!V188),\"\")","v":0}]
[{"$f":"IF(ISBLANK(Worksheet!F189)=FALSE,VLOOKUP(Worksheet!A189,MeasureCode_Lookup,6,FALSE),\"\")","v":""},{"$f":"Worksheet!H189","v":0},{"$f":"Worksheet!I189","v":0},{"$f":"IFERROR(IF(Worksheet!Z189=0,Worksheet!Y189/I167,Worksheet!Z189/R167),0)","v":0},"W Controlled",null,null,{"$f":"IF(N(Worksheet!S189)=0,N(Worksheet!R189),N(Worksheet!S189))","v":0},{"$f":"IFERROR(Worksheet!W189/(Worksheet!R189+Worksheet!U189),0)","v":0},{"$f":"Worksheet!AE189","v":0},{"$f":"Worksheet!AD189","v":0},0,{"$f":"IF(Worksheet!AL189=0,0,Worksheet!AL189/I167)","v":0},0,null,null,null,{"$f":"IFERROR(Worksheet!X189/(Worksheet!S189+Worksheet!V189),0)","v":0},{"$f":"IF(Worksheet!E189=\"\",\"\",Worksheet!E189)","v":""},{"$f":"IF(Worksheet!B189=\"\",\"\",Worksheet!B189)","v":""},{"$f":"IF(Worksheet!D189=\"\",\"\",Worksheet!D189)","v":""},{"$f":"IF(Worksheet!$A$11=TRUE,\"Y\",\"N\")","v":"N"},{"$f":"IF(Worksheet!$A$12=TRUE,\"Y\",\"N\")","v":"N"},{"$f":"IF(Worksheet!$B$11=TRUE,\"Y\",\"N\")","v":"N"},{"$f":"IF(Worksheet!$B$12=TRUE,\"Y\",\"N\")","v":"N"},{"$f":"IF(Worksheet!$C$11=TRUE,\"Y\",\"N\")","v":"N"},{"$f":"IFERROR(IF(N(Worksheet!V189)=0,Worksheet!U189,Worksheet!V189),\"\")","v":0}]
[{"$f":"IF(ISBLANK(Worksheet!F190)=FALSE,VLOOKUP(Worksheet!A190,MeasureCode_Lookup,6,FALSE),\"\")","v":""},{"$f":"Worksheet!H190","v":0},{"$f":"Worksheet!I190","v":0},{"$f":"IFERROR(IF(Worksheet!Z190=0,Worksheet!Y190/I168,Worksheet!Z190/R168),0)","v":0},"W Controlled",null,null,{"$f":"IF(N(Worksheet!S190)=0,N(Worksheet!R190),N(Worksheet!S190))","v":0},{"$f":"IFERROR(Worksheet!W190/(Worksheet!R190+Worksheet!U190),0)","v":0},{"$f":"Worksheet!AE190","v":0},{"$f":"Worksheet!AD190","v":0},0,{"$f":"IF(Worksheet!AL190=0,0,Worksheet!AL190/I168)","v":0},0,null,null,null,{"$f":"IFERROR(Worksheet!X190/(Worksheet!S190+Worksheet!V190),0)","v":0},{"$f":"IF(Worksheet!E190=\"\",\"\",Worksheet!E190)","v":""},{"$f":"IF(Worksheet!B190=\"\",\"\",Worksheet!B190)","v":""},{"$f":"IF(Worksheet!D190=\"\",\"\",Worksheet!D190)","v":""},{"$f":"IF(Worksheet!$A$11=TRUE,\"Y\",\"N\")","v":"N"},{"$f":"IF(Worksheet!$A$12=TRUE,\"Y\",\"N\")","v":"N"},{"$f":"IF(Worksheet!$B$11=TRUE,\"Y\",\"N\")","v":"N"},{"$f":"IF(Worksheet!$B$12=TRUE,\"Y\",\"N\")","v":"N"},{"$f":"IF(Worksheet!$C$11=TRUE,\"Y\",\"N\")","v":"N"},{"$f":"IFERROR(IF(N(Worksheet!V190)=0,Worksheet!U190,Worksheet!V190),\"\")","v":0}]
[{"$f":"IF(ISBLANK(Worksheet!F191)=FALSE,VLOOKUP(Worksheet!A191,MeasureCode_Lookup,6,FALSE),\"\")","v":""},{"$f":"Worksheet!H191","v":0},{"$f":"Worksheet!I191","v":0},{"$f":"IFERROR(IF(Worksheet!Z191=0,Worksheet!Y191/I169,Worksheet!Z191/R169),0)","v":0},"W Controlled",null,null,{"$f":"IF(N(Worksheet!S191)=0,N(Worksheet!R191),N(Worksheet!S191))","v":0},{"$f":"IFERROR(Worksheet!W191/(Worksheet!R191+Worksheet!U191),0)","v":0},{"$f":"Worksheet!AE191","v":0},{"$f":"Worksheet!AD191","v":0},0,{"$f":"IF(Worksheet!AL191=0,0,Worksheet!AL191/I169)","v":0},0,null,null,null,{"$f":"IFERROR(Worksheet!X191/(Worksheet!S191+Worksheet!V191),0)","v":0},{"$f":"IF(Worksheet!E191=\"\",\"\",Worksheet!E191)","v":""},{"$f":"IF(Worksheet!B191=\"\",\"\",Worksheet!B191)","v":""},{"$f":"IF(Worksheet!D191=\"\",\"\",Worksheet!D191)","v":""},{"$f":"IF(Worksheet!$A$11=TRUE,\"Y\",\"N\")","v":"N"},{"$f":"IF(Worksheet!$A$12=TRUE,\"Y\",\"N\")","v":"N"},{"$f":"IF(Worksheet!$B$11=TRUE,\"Y\",\"N\")","v":"N"},{"$f":"IF(Worksheet!$B$12=TRUE,\"Y\",\"N\")","v":"N"},{"$f":"IF(Worksheet!$C$11=TRUE,\"Y\",\"N\")","v":"N"},{"$f":"IFERROR(IF(N(Worksheet!V191)=0,Worksheet!U191,Worksheet!V191),\"\")","v":0}]
[{"$f":"IF(ISBLANK(Worksheet!F192)=FALSE,VLOOKUP(Worksheet!A192,MeasureCode_Lookup,6,FALSE),\"\")","v":""},{"$f":"Worksheet!H192","v":0},{"$f":"Worksheet!I192","v":0},{"$f":"IFERROR(IF(Worksheet!Z192=0,Worksheet!Y192/I170,Worksheet!Z192/R170),0)","v":0},"W Controlled",null,null,{"$f":"IF(N(Worksheet!S192)=0,N(Worksheet!R192),N(Worksheet!S192))","v":0},{"$f":"IFERROR(Worksheet!W192/(Worksheet!R192+Worksheet!U192),0)","v":0},{"$f":"Worksheet!AE192","v":0},{"$f":"Worksheet!AD192","v":0},0,{"$f":"IF(Worksheet!AL192=0,0,Worksheet!AL192/I170)","v":0},0,null,null,null,{"$f":"IFERROR(Worksheet!X192/(Worksheet!S192+Worksheet!V192),0)","v":0},{"$f":"IF(Worksheet!E192=\"\",\"\",Worksheet!E192)","v":""},{"$f":"IF(Worksheet!B192=\"\",\"\",Worksheet!B192)","v":""},{"$f":"IF(Worksheet!D192=\"\",\"\",Worksheet!D192)","v":""},{"$f":"IF(Worksheet!$A$11=TRUE,\"Y\",\"N\")","v":"N"},{"$f":"IF(Worksheet!$A$12=TRUE,\"Y\",\"N\")","v":"N"},{"$f":"IF(Worksheet!$B$11=TRUE,\"Y\",\"N\")","v":"N"},{"$f":"IF(Worksheet!$B$12=TRUE,\"Y\",\"N\")","v":"N"},{"$f":"IF(Worksheet!$C$11=TRUE,\"Y\",\"N\")","v":"N"},{"$f":"IFERROR(IF(N(Worksheet!V192)=0,Worksheet!U192,Worksheet!V192),\"\")","v":0}]
[{"$f":"IF(ISBLANK(Worksheet!F193)=FALSE,VLOOKUP(Worksheet!A193,MeasureCode_Lookup,6,FALSE),\"\")","v":""},{"$f":"Worksheet!H193","v":0},{"$f":"Worksheet!I193","v":0},{"$f":"IFERROR(IF(Worksheet!Z193=0,Worksheet!Y193/I171,Worksheet!Z193/R171),0)","v":0},"W Controlled",null,null,{"$f":"IF(N(Worksheet!S193)=0,N(Worksheet!R193),N(Worksheet!S193))","v":0},{"$f":"IFERROR(Worksheet!W193/(Worksheet!R193+Worksheet!U193),0)","v":0},{"$f":"Worksheet!AE193","v":0},{"$f":"Worksheet!AD193","v":0},0,{"$f":"IF(Worksheet!AL193=0,0,Worksheet!AL193/I171)","v":0},0,null,null,null,{"$f":"IFERROR(Worksheet!X193/(Worksheet!S193+Worksheet!V193),0)","v":0},{"$f":"IF(Worksheet!E193=\"\",\"\",Worksheet!E193)","v":""},{"$f":"IF(Worksheet!B193=\"\",\"\",Worksheet!B193)","v":""},{"$f":"IF(Worksheet!D193=\"\",\"\",Worksheet!D193)","v":""},{"$f":"IF(Worksheet!$A$11=TRUE,\"Y\",\"N\")","v":"N"},{"$f":"IF(Worksheet!$A$12=TRUE,\"Y\",\"N\")","v":"N"},{"$f":"IF(Worksheet!$B$11=TRUE,\"Y\",\"N\")","v":"N"},{"$f":"IF(Worksheet!$B$12=TRUE,\"Y\",\"N\")","v":"N"},{"$f":"IF(Worksheet!$C$11=TRUE,\"Y\",\"N\")","v":"N"},{"$f":"IFERROR(IF(N(Worksheet!V193)=0,Worksheet!U193,Worksheet!V193),\"\")","v":0}]
[{"$f":"IF(ISBLANK(Worksheet!F194)=FALSE,VLOOKUP(Worksheet!A194,MeasureCode_Lookup,6,FALSE),\"\")","v":""},{"$f":"Worksheet!H194","v":0},{"$f":"Worksheet!I194","v":0},{"$f":"IFERROR(IF(Worksheet!Z194=0,Worksheet!Y194/I172,Worksheet!Z194/R172),0)","v":0},"W Controlled",null,null,{"$f":"IF(N(Worksheet!S194)=0,N(Worksheet!R194),N(Worksheet!S194))","v":0},{"$f":"IFERROR(Worksheet!W194/(Worksheet!R194+Worksheet!U194),0)","v":0},{"$f":"Worksheet!AE194","v":0},{"$f":"Worksheet!AD194","v":0},0,{"$f":"IF(Worksheet!AL194=0,0,Worksheet!AL194/I172)","v":0},0,null,null,null,{"$f":"IFERROR(Worksheet!X194/(Worksheet!S194+Worksheet!V194),0)","v":0},{"$f":"IF(Worksheet!E194=\"\",\"\",Worksheet!E194)","v":""},{"$f":"IF(Worksheet!B194=\"\",\"\",Worksheet!B194)","v":""},{"$f":"IF(Worksheet!D194=\"\",\"\",Worksheet!D194)","v":""},{"$f":"IF(Worksheet!$A$11=TRUE,\"Y\",\"N\")","v":"N"},{"$f":"IF(Worksheet!$A$12=TRUE,\"Y\",\"N\")","v":"N"},{"$f":"IF(Worksheet!$B$11=TRUE,\"Y\",\"N\")","v":"N"},{"$f":"IF(Worksheet!$B$12=TRUE,\"Y\",\"N\")","v":"N"},{"$f":"IF(Worksheet!$C$11=TRUE,\"Y\",\"N\")","v":"N"},{"$f":"IFERROR(IF(N(Worksheet!V194)=0,Worksheet!U194,Worksheet!V194),\"\")","v":0}]
[{"$f":"IF(ISBLANK(Worksheet!F195)=FALSE,VLOOKUP(Worksheet!A195,MeasureCode_Lookup,6,FALSE),\"\")","v":""},{"$f":"Worksheet!H195","v":0},{"$f":"Worksheet!I195","v":0},{"$f":"IFERROR(IF(Worksheet!Z195=0,Worksheet!Y195/I173,Worksheet!Z195/R173),0)","v":0},"W Controlled",null,null,{"$f":"IF(N(Worksheet!S195)=0,N(Worksheet!R195),N(Worksheet!S195))","v":0},{"$f":"IFERROR(Worksheet!W195/(Worksheet!R195+Worksheet!U195),0)","v":0},{"$f":"Worksheet!AE195","v":0},{"$f":"Worksheet!AD195","v":0},0,{"$f":"IF(Worksheet!AL195=0,0,Worksheet!AL195/I173)","v":0},0,null,null,null,{"$f":"IFERROR(Worksheet!X195/(Worksheet!S195+Worksheet!V195),0)","v":0},{"$f":"IF(Worksheet!E195=\"\",\"\",Worksheet!E195)","v":""},{"$f":"IF(Worksheet!B195=\"\",\"\",Worksheet!B195)","v":""},{"$f":"IF(Worksheet!D195=\"\",\"\",Worksheet!D195)","v":""},{"$f":"IF(Worksheet!$A$11=TRUE,\"Y\",\"N\")","v":"N"},{"$f":"IF(Worksheet!$A$12=TRUE,\"Y\",\"N\")","v":"N"},{"$f":"IF(Worksheet!$B$11=TRUE,\"Y\",\"N\")","v":"N"},{"$f":"IF(Worksheet!$B$12=TRUE,\"Y\",\"N\")","v":"N"},{"$f":"IF(Worksheet!$C$11=TRUE,\"Y\",\"N\")","v":"N"},{"$f":"IFERROR(IF(N(Worksheet!V195)=0,Worksheet!U195,Worksheet!V195),\"\")","v":0}]
[{"$f":"IF(ISBLANK(Worksheet!F196)=FALSE,VLOOKUP(Worksheet!A196,MeasureCode_Lookup,6,FALSE),\"\")","v":""},{"$f":"Worksheet!H196","v":0},{"$f":"Worksheet!I196","v":0},{"$f":"IFERROR(IF(Worksheet!Z196=0,Worksheet!Y196/I174,Worksheet!Z196/R174),0)","v":0},"W Controlled",null,null,{"$f":"IF(N(Worksheet!S196)=0,N(Worksheet!R196),N(Worksheet!S196))","v":0},{"$f":"IFERROR(Worksheet!W196/(Worksheet!R196+Worksheet!U196),0)","v":0},{"$f":"Worksheet!AE196","v":0},{"$f":"Worksheet!AD196","v":0},0,{"$f":"IF(Worksheet!AL196=0,0,Worksheet!AL196/I174)","v":0},0,null,null,null,{"$f":"IFERROR(Worksheet!X196/(Worksheet!S196+Worksheet!V196),0)","v":0},{"$f":"IF(Worksheet!E196=\"\",\"\",Worksheet!E196)","v":""},{"$f":"IF(Worksheet!B196=\"\",\"\",Worksheet!B196)","v":""},{"$f":"IF(Worksheet!D196=\"\",\"\",Worksheet!D196)","v":""},{"$f":"IF(Worksheet!$A$11=TRUE,\"Y\",\"N\")","v":"N"},{"$f":"IF(Worksheet!$A$12=TRUE,\"Y\",\"N\")","v":"N"},{"$f":"IF(Worksheet!$B$11=TRUE,\"Y\",\"N\")","v":"N"},{"$f":"IF(Worksheet!$B$12=TRUE,\"Y\",\"N\")","v":"N"},{"$f":"IF(Worksheet!$C$11=TRUE,\"Y\",\"N\")","v":"N"},{"$f":"IFERROR(IF(N(Worksheet!V196)=0,Worksheet!U196,Worksheet!V196),\"\")","v":0}]
[{"$f":"IF(ISBLANK(Worksheet!F197)=FALSE,VLOOKUP(Worksheet!A197,MeasureCode_Lookup,6,FALSE),\"\")","v":""},{"$f":"Worksheet!H197","v":0},{"$f":"Worksheet!I197","v":0},{"$f":"IFERROR(IF(Worksheet!Z197=0,Worksheet!Y197/I175,Worksheet!Z197/R175),0)","v":0},"W Controlled",null,null,{"$f":"IF(N(Worksheet!S197)=0,N(Worksheet!R197),N(Worksheet!S197))","v":0},{"$f":"IFERROR(Worksheet!W197/(Worksheet!R197+Worksheet!U197),0)","v":0},{"$f":"Worksheet!AE197","v":0},{"$f":"Worksheet!AD197","v":0},0,{"$f":"IF(Worksheet!AL197=0,0,Worksheet!AL197/I175)","v":0},0,null,null,null,{"$f":"IFERROR(Worksheet!X197/(Worksheet!S197+Worksheet!V197),0)","v":0},{"$f":"IF(Worksheet!E197=\"\",\"\",Worksheet!E197)","v":""},{"$f":"IF(Worksheet!B197=\"\",\"\",Worksheet!B197)","v":""},{"$f":"IF(Worksheet!D197=\"\",\"\",Worksheet!D197)","v":""},{"$f":"IF(Worksheet!$A$11=TRUE,\"Y\",\"N\")","v":"N"},{"$f":"IF(Worksheet!$A$12=TRUE,\"Y\",\"N\")","v":"N"},{"$f":"IF(Worksheet!$B$11=TRUE,\"Y\",\"N\")","v":"N"},{"$f":"IF(Worksheet!$B$12=TRUE,\"Y\",\"N\")","v":"N"},{"$f":"IF(Worksheet!$C$11=TRUE,\"Y\",\"N\")","v":"N"},{"$f":"IFERROR(IF(N(Worksheet!V197)=0,Worksheet!U197,Worksheet!V197),\"\")","v":0}]
[{"$f":"IF(ISBLANK(Worksheet!F198)=FALSE,VLOOKUP(Worksheet!A198,MeasureCode_Lookup,6,FALSE),\"\")","v":""},{"$f":"Worksheet!H198","v":0},{"$f":"Worksheet!I198","v":0},{"$f":"IFERROR(IF(Worksheet!Z198=0,Worksheet!Y198/I176,Worksheet!Z198/R176),0)","v":0},"W Controlled",null,null,{"$f":"IF(N(Worksheet!S198)=0,N(Worksheet!R198),N(Worksheet!S198))","v":0},{"$f":"IFERROR(Worksheet!W198/(Worksheet!R198+Worksheet!U198),0)","v":0},{"$f":"Worksheet!AE198","v":0},{"$f":"Worksheet!AD198","v":0},0,{"$f":"IF(Worksheet!AL198=0,0,Worksheet!AL198/I176)","v":0},0,null,null,null,{"$f":"IFERROR(Worksheet!X198/(Worksheet!S198+Worksheet!V198),0)","v":0},{"$f":"IF(Worksheet!E198=\"\",\"\",Worksheet!E198)","v":""},{"$f":"IF(Worksheet!B198=\"\",\"\",Worksheet!B198)","v":""},{"$f":"IF(Worksheet!D198=\"\",\"\",Worksheet!D198)","v":""},{"$f":"IF(Worksheet!$A$11=TRUE,\"Y\",\"N\")","v":"N"},{"$f":"IF(Worksheet!$A$12=TRUE,\"Y\",\"N\")","v":"N"},{"$f":"IF(Worksheet!$B$11=TRUE,\"Y\",\"N\")","v":"N"},{"$f":"IF(Worksheet!$B$12=TRUE,\"Y\",\"N\")","v":"N"},{"$f":"IF(Worksheet!$C$11=TRUE,\"Y\",\"N\")","v":"N"},{"$f":"IFERROR(IF(N(Worksheet!V198)=0,Worksheet!U198,Worksheet!V198),\"\")","v":0}]
[{"$f":"IF(ISBLANK(Worksheet!F199)=FALSE,VLOOKUP(Worksheet!A199,MeasureCode_Lookup,6,FALSE),\"\")","v":""},{"$f":"Worksheet!H199","v":0},{"$f":"Worksheet!I199","v":0},{"$f":"IFERROR(IF(Worksheet!Z199=0,Worksheet!Y199/I177,Worksheet!Z199/R177),0)","v":0},"W Controlled",null,null,{"$f":"IF(N(Worksheet!S199)=0,N(Worksheet!R199),N(Worksheet!S199))","v":0},{"$f":"IFERROR(Worksheet!W199/(Worksheet!R199+Worksheet!U199),0)","v":0},{"$f":"Worksheet!AE199","v":0},{"$f":"Worksheet!AD199","v":0},0,{"$f":"IF(Worksheet!AL199=0,0,Worksheet!AL199/I177)","v":0},0,null,null,null,{"$f":"IFERROR(Worksheet!X199/(Worksheet!S199+Worksheet!V199),0)","v":0},{"$f":"IF(Worksheet!E199=\"\",\"\",Worksheet!E199)","v":""},{"$f":"IF(Worksheet!B199=\"\",\"\",Worksheet!B199)","v":""},{"$f":"IF(Worksheet!D199=\"\",\"\",Worksheet!D199)","v":""},{"$f":"IF(Worksheet!$A$11=TRUE,\"Y\",\"N\")","v":"N"},{"$f":"IF(Worksheet!$A$12=TRUE,\"Y\",\"N\")","v":"N"},{"$f":"IF(Worksheet!$B$11=TRUE,\"Y\",\"N\")","v":"N"},{"$f":"IF(Worksheet!$B$12=TRUE,\"Y\",\"N\")","v":"N"},{"$f":"IF(Worksheet!$C$11=TRUE,\"Y\",\"N\")","v":"N"},{"$f":"IFERROR(IF(N(Worksheet!V199)=0,Worksheet!U199,Worksheet!V199),\"\")","v":0}]
[{"$f":"IF(ISBLANK(Worksheet!F200)=FALSE,VLOOKUP(Worksheet!A200,MeasureCode_Lookup,6,FALSE),\"\")","v":""},{"$f":"Worksheet!H200","v":0},{"$f":"Worksheet!I200","v":0},{"$f":"IFERROR(IF(Worksheet!Z200=0,Worksheet!Y200/I178,Worksheet!Z200/R178),0)","v":0},"W Controlled",null,null,{"$f":"IF(N(Worksheet!S200)=0,N(Worksheet!R200),N(Worksheet!S200))","v":0},{"$f":"IFERROR(Worksheet!W200/(Worksheet!R200+Worksheet!U200),0)","v":0},{"$f":"Worksheet!AE200","v":0},{"$f":"Worksheet!AD200","v":0},0,{"$f":"IF(Worksheet!AL200=0,0,Worksheet!AL200/I178)","v":0},0,null,null,null,{"$f":"IFERROR(Worksheet!X200/(Worksheet!S200+Worksheet!V200),0)","v":0},{"$f":"IF(Worksheet!E200=\"\",\"\",Worksheet!E200)","v":""},{"$f":"IF(Worksheet!B200=\"\",\"\",Worksheet!B200)","v":""},{"$f":"IF(Worksheet!D200=\"\",\"\",Worksheet!D200)","v":""},{"$f":"IF(Worksheet!$A$11=TRUE,\"Y\",\"N\")","v":"N"},{"$f":"IF(Worksheet!$A$12=TRUE,\"Y\",\"N\")","v":"N"},{"$f":"IF(Worksheet!$B$11=TRUE,\"Y\",\"N\")","v":"N"},{"$f":"IF(Worksheet!$B$12=TRUE,\"Y\",\"N\")","v":"N"},{"$f":"IF(Worksheet!$C$11=TRUE,\"Y\",\"N\")","v":"N"},{"$f":"IFERROR(IF(N(Worksheet!V200)=0,Worksheet!U200,Worksheet!V200),\"\")","v":0}]
[{"$f":"IF(ISBLANK(Worksheet!F201)=FALSE,VLOOKUP(Worksheet!A201,MeasureCode_Lookup,6,FALSE),\"\")","v":""},{"$f":"Worksheet!H201","v":0},{"$f":"Worksheet!I201","v":0},{"$f":"IFERROR(IF(Worksheet!Z201=0,Worksheet!Y201/I179,Worksheet!Z201/R179),0)","v":0},"W Controlled",null,null,{"$f":"IF(N(Worksheet!S201)=0,N(Worksheet!R201),N(Worksheet!S201))","v":0},{"$f":"IFERROR(Worksheet!W201/(Worksheet!R201+Worksheet!U201),0)","v":0},{"$f":"Worksheet!AE201","v":0},{"$f":"Worksheet!AD201","v":0},0,{"$f":"IF(Worksheet!AL201=0,0,Worksheet!AL201/I179)","v":0},0,null,null,null,{"$f":"IFERROR(Worksheet!X201/(Worksheet!S201+Worksheet!V201),0)","v":0},{"$f":"IF(Worksheet!E201=\"\",\"\",Worksheet!E201)","v":""},{"$f":"IF(Worksheet!B201=\"\",\"\",Worksheet!B201)","v":""},{"$f":"IF(Worksheet!D201=\"\",\"\",Worksheet!D201)","v":""},{"$f":"IF(Worksheet!$A$11=TRUE,\"Y\",\"N\")","v":"N"},{"$f":"IF(Worksheet!$A$12=TRUE,\"Y\",\"N\")","v":"N"},{"$f":"IF(Worksheet!$B$11=TRUE,\"Y\",\"N\")","v":"N"},{"$f":"IF(Worksheet!$B$12=TRUE,\"Y\",\"N\")","v":"N"},{"$f":"IF(Worksheet!$C$11=TRUE,\"Y\",\"N\")","v":"N"},{"$f":"IFERROR(IF(N(Worksheet!V201)=0,Worksheet!U201,Worksheet!V201),\"\")","v":0}]
[{"$f":"IF(ISBLANK(Worksheet!F202)=FALSE,VLOOKUP(Worksheet!A202,MeasureCode_Lookup,6,FALSE),\"\")","v":""},{"$f":"Worksheet!H202","v":0},{"$f":"Worksheet!I202","v":0},{"$f":"IFERROR(IF(Worksheet!Z202=0,Worksheet!Y202/I180,Worksheet!Z202/R180),0)","v":0},"W Controlled",null,null,{"$f":"IF(N(Worksheet!S202)=0,N(Worksheet!R202),N(Worksheet!S202))","v":0},{"$f":"IFERROR(Worksheet!W202/(Worksheet!R202+Worksheet!U202),0)","v":0},{"$f":"Worksheet!AE202","v":0},{"$f":"Worksheet!AD202","v":0},0,{"$f":"IF(Worksheet!AL202=0,0,Worksheet!AL202/I180)","v":0},0,null,null,null,{"$f":"IFERROR(Worksheet!X202/(Worksheet!S202+Worksheet!V202),0)","v":0},{"$f":"IF(Worksheet!E202=\"\",\"\",Worksheet!E202)","v":""},{"$f":"IF(Worksheet!B202=\"\",\"\",Worksheet!B202)","v":""},{"$f":"IF(Worksheet!D202=\"\",\"\",Worksheet!D202)","v":""},{"$f":"IF(Worksheet!$A$11=TRUE,\"Y\",\"N\")","v":"N"},{"$f":"IF(Worksheet!$A$12=TRUE,\"Y\",\"N\")","v":"N"},{"$f":"IF(Worksheet!$B$11=TRUE,\"Y\",\"N\")","v":"N"},{"$f":"IF(Worksheet!$B$12=TRUE,\"Y\",\"N\")","v":"N"},{"$f":"IF(Worksheet!$C$11=TRUE,\"Y\",\"N\")","v":"N"},{"$f":"IFERROR(IF(N(Worksheet!V202)=0,Worksheet!U202,Worksheet!V202),\"\")","v":0}]
[{"$f":"IF(ISBLANK(Worksheet!F203)=FALSE,VLOOKUP(Worksheet!A203,MeasureCode_Lookup,6,FALSE),\"\")","v":""},{"$f":"Worksheet!H203","v":0},{"$f":"Worksheet!I203","v":0},{"$f":"IFERROR(IF(Worksheet!Z203=0,Worksheet!Y203/I181,Worksheet!Z203/R181),0)","v":0},"W Controlled",null,null,{"$f":"IF(N(Worksheet!S203)=0,N(Worksheet!R203),N(Worksheet!S203))","v":0},{"$f":"IFERROR(Worksheet!W203/(Worksheet!R203+Worksheet!U203),0)","v":0},{"$f":"Worksheet!AE203","v":0},{"$f":"Worksheet!AD203","v":0},0,{"$f":"IF(Worksheet!AL203=0,0,Worksheet!AL203/I181)","v":0},0,null,null,null,{"$f":"IFERROR(Worksheet!X203/(Worksheet!S203+Worksheet!V203),0)","v":0},{"$f":"IF(Worksheet!E203=\"\",\"\",Worksheet!E203)","v":""},{"$f":"IF(Worksheet!B203=\"\",\"\",Worksheet!B203)","v":""},{"$f":"IF(Worksheet!D203=\"\",\"\",Worksheet!D203)","v":""},{"$f":"IF(Worksheet!$A$11=TRUE,\"Y\",\"N\")","v":"N"},{"$f":"IF(Worksheet!$A$12=TRUE,\"Y\",\"N\")","v":"N"},{"$f":"IF(Worksheet!$B$11=TRUE,\"Y\",\"N\")","v":"N"},{"$f":"IF(Worksheet!$B$12=TRUE,\"Y\",\"N\")","v":"N"},{"$f":"IF(Worksheet!$C$11=TRUE,\"Y\",\"N\")","v":"N"},{"$f":"IFERROR(IF(N(Worksheet!V203)=0,Worksheet!U203,Worksheet!V203),\"\")","v":0}]
[{"$f":"IF(ISBLANK(Worksheet!F204)=FALSE,VLOOKUP(Worksheet!A204,MeasureCode_Lookup,6,FALSE),\"\")","v":""},{"$f":"Worksheet!H204","v":0},{"$f":"Worksheet!I204","v":0},{"$f":"IFERROR(IF(Worksheet!Z204=0,Worksheet!Y204/I182,Worksheet!Z204/R182),0)","v":0},"W Controlled",null,null,{"$f":"IF(N(Worksheet!S204)=0,N(Worksheet!R204),N(Worksheet!S204))","v":0},{"$f":"IFERROR(Worksheet!W204/(Worksheet!R204+Worksheet!U204),0)","v":0},{"$f":"Worksheet!AE204","v":0},{"$f":"Worksheet!AD204","v":0},0,{"$f":"IF(Worksheet!AL204=0,0,Worksheet!AL204/I182)","v":0},0,null,null,null,{"$f":"IFERROR(Worksheet!X204/(Worksheet!S204+Worksheet!V204),0)","v":0},{"$f":"IF(Worksheet!E204=\"\",\"\",Worksheet!E204)","v":""},{"$f":"IF(Worksheet!B204=\"\",\"\",Worksheet!B204)","v":""},{"$f":"IF(Worksheet!D204=\"\",\"\",Worksheet!D204)","v":""},{"$f":"IF(Worksheet!$A$11=TRUE,\"Y\",\"N\")","v":"N"},{"$f":"IF(Worksheet!$A$12=TRUE,\"Y\",\"N\")","v":"N"},{"$f":"IF(Worksheet!$B$11=TRUE,\"Y\",\"N\")","v":"N"},{"$f":"IF(Worksheet!$B$12=TRUE,\"Y\",\"N\")","v":"N"},{"$f":"IF(Worksheet!$C$11=TRUE,\"Y\",\"N\")","v":"N"},{"$f":"IFERROR(IF(N(Worksheet!V204)=0,Worksheet!U204,Worksheet!V204),\"\")","v":0}]
[{"$f":"IF(ISBLANK(Worksheet!F205)=FALSE,VLOOKUP(Worksheet!A205,MeasureCode_Lookup,6,FALSE),\"\")","v":""},{"$f":"Worksheet!H205","v":0},{"$f":"Worksheet!I205","v":0},{"$f":"IFERROR(IF(Worksheet!Z205=0,Worksheet!Y205/I183,Worksheet!Z205/R183),0)","v":0},"W Controlled",null,null,{"$f":"IF(N(Worksheet!S205)=0,N(Worksheet!R205),N(Worksheet!S205))","v":0},{"$f":"IFERROR(Worksheet!W205/(Worksheet!R205+Worksheet!U205),0)","v":0},{"$f":"Worksheet!AE205","v":0},{"$f":"Worksheet!AD205","v":0},0,{"$f":"IF(Worksheet!AL205=0,0,Worksheet!AL205/I183)","v":0},0,null,null,null,{"$f":"IFERROR(Worksheet!X205/(Worksheet!S205+Worksheet!V205),0)","v":0},{"$f":"IF(Worksheet!E205=\"\",\"\",Worksheet!E205)","v":""},{"$f":"IF(Worksheet!B205=\"\",\"\",Worksheet!B205)","v":""},{"$f":"IF(Worksheet!D205=\"\",\"\",Worksheet!D205)","v":""},{"$f":"IF(Worksheet!$A$11=TRUE,\"Y\",\"N\")","v":"N"},{"$f":"IF(Worksheet!$A$12=TRUE,\"Y\",\"N\")","v":"N"},{"$f":"IF(Worksheet!$B$11=TRUE,\"Y\",\"N\")","v":"N"},{"$f":"IF(Worksheet!$B$12=TRUE,\"Y\",\"N\")","v":"N"},{"$f":"IF(Worksheet!$C$11=TRUE,\"Y\",\"N\")","v":"N"},{"$f":"IFERROR(IF(N(Worksheet!V205)=0,Worksheet!U205,Worksheet!V205),\"\")","v":0}]
[{"$f":"IF(ISBLANK(Worksheet!F206)=FALSE,VLOOKUP(Worksheet!A206,MeasureCode_Lookup,6,FALSE),\"\")","v":""},{"$f":"Worksheet!H206","v":0},{"$f":"Worksheet!I206","v":0},{"$f":"IFERROR(IF(Worksheet!Z206=0,Worksheet!Y206/I184,Worksheet!Z206/R184),0)","v":0},"W Controlled",null,null,{"$f":"IF(N(Worksheet!S206)=0,N(Worksheet!R206),N(Worksheet!S206))","v":0},{"$f":"IFERROR(Worksheet!W206/(Worksheet!R206+Worksheet!U206),0)","v":0},{"$f":"Worksheet!AE206","v":0},{"$f":"Worksheet!AD206","v":0},0,{"$f":"IF(Worksheet!AL206=0,0,Worksheet!AL206/I184)","v":0},0,null,null,null,{"$f":"IFERROR(Worksheet!X206/(Worksheet!S206+Worksheet!V206),0)","v":0},{"$f":"IF(Worksheet!E206=\"\",\"\",Worksheet!E206)","v":""},{"$f":"IF(Worksheet!B206=\"\",\"\",Worksheet!B206)","v":""},{"$f":"IF(Worksheet!D206=\"\",\"\",Worksheet!D206)","v":""},{"$f":"IF(Worksheet!$A$11=TRUE,\"Y\",\"N\")","v":"N"},{"$f":"IF(Worksheet!$A$12=TRUE,\"Y\",\"N\")","v":"N"},{"$f":"IF(Worksheet!$B$11=TRUE,\"Y\",\"N\")","v":"N"},{"$f":"IF(Worksheet!$B$12=TRUE,\"Y\",\"N\")","v":"N"},{"$f":"IF(Worksheet!$C$11=TRUE,\"Y\",\"N\")","v":"N"},{"$f":"IFERROR(IF(N(Worksheet!V206)=0,Worksheet!U206,Worksheet!V206),\"\")","v":0}]
[{"$f":"IF(ISBLANK(Worksheet!F207)=FALSE,VLOOKUP(Worksheet!A207,MeasureCode_Lookup,6,FALSE),\"\")","v":""},{"$f":"Worksheet!H207","v":0},{"$f":"Worksheet!I207","v":0},{"$f":"IFERROR(IF(Worksheet!Z207=0,Worksheet!Y207/I185,Worksheet!Z207/R185),0)","v":0},"W Controlled",null,null,{"$f":"IF(N(Worksheet!S207)=0,N(Worksheet!R207),N(Worksheet!S207))","v":0},{"$f":"IFERROR(Worksheet!W207/(Worksheet!R207+Worksheet!U207),0)","v":0},{"$f":"Worksheet!AE207","v":0},{"$f":"Worksheet!AD207","v":0},0,{"$f":"IF(Worksheet!AL207=0,0,Worksheet!AL207/I185)","v":0},0,null,null,null,{"$f":"IFERROR(Worksheet!X207/(Worksheet!S207+Worksheet!V207),0)","v":0},{"$f":"IF(Worksheet!E207=\"\",\"\",Worksheet!E207)","v":""},{"$f":"IF(Worksheet!B207=\"\",\"\",Worksheet!B207)","v":""},{"$f":"IF(Worksheet!D207=\"\",\"\",Worksheet!D207)","v":""},{"$f":"IF(Worksheet!$A$11=TRUE,\"Y\",\"N\")","v":"N"},{"$f":"IF(Worksheet!$A$12=TRUE,\"Y\",\"N\")","v":"N"},{"$f":"IF(Worksheet!$B$11=TRUE,\"Y\",\"N\")","v":"N"},{"$f":"IF(Worksheet!$B$12=TRUE,\"Y\",\"N\")","v":"N"},{"$f":"IF(Worksheet!$C$11=TRUE,\"Y\",\"N\")","v":"N"},{"$f":"IFERROR(IF(N(Worksheet!V207)=0,Worksheet!U207,Worksheet!V207),\"\")","v":0}]
[{"$f":"IF(ISBLANK(Worksheet!F208)=FALSE,VLOOKUP(Worksheet!A208,MeasureCode_Lookup,6,FALSE),\"\")","v":""},{"$f":"Worksheet!H208","v":0},{"$f":"Worksheet!I208","v":0},{"$f":"IFERROR(IF(Worksheet!Z208=0,Worksheet!Y208/I186,Worksheet!Z208/R186),0)","v":0},"W Controlled",null,null,{"$f":"IF(N(Worksheet!S208)=0,N(Worksheet!R208),N(Worksheet!S208))","v":0},{"$f":"IFERROR(Worksheet!W208/(Worksheet!R208+Worksheet!U208),0)","v":0},{"$f":"Worksheet!AE208","v":0},{"$f":"Worksheet!AD208","v":0},0,{"$f":"IF(Worksheet!AL208=0,0,Worksheet!AL208/I186)","v":0},0,null,null,null,{"$f":"IFERROR(Worksheet!X208/(Worksheet!S208+Worksheet!V208),0)","v":0},{"$f":"IF(Worksheet!E208=\"\",\"\",Worksheet!E208)","v":""},{"$f":"IF(Worksheet!B208=\"\",\"\",Worksheet!B208)","v":""},{"$f":"IF(Worksheet!D208=\"\",\"\",Worksheet!D208)","v":""},{"$f":"IF(Worksheet!$A$11=TRUE,\"Y\",\"N\")","v":"N"},{"$f":"IF(Worksheet!$A$12=TRUE,\"Y\",\"N\")","v":"N"},{"$f":"IF(Worksheet!$B$11=TRUE,\"Y\",\"N\")","v":"N"},{"$f":"IF(Worksheet!$B$12=TRUE,\"Y\",\"N\")","v":"N"},{"$f":"IF(Worksheet!$C$11=TRUE,\"Y\",\"N\")","v":"N"},{"$f":"IFERROR(IF(N(Worksheet!V208)=0,Worksheet!U208,Worksheet!V208),\"\")","v":0}]
[{"$f":"IF(ISBLANK(Worksheet!F209)=FALSE,VLOOKUP(Worksheet!A209,MeasureCode_Lookup,6,FALSE),\"\")","v":""},{"$f":"Worksheet!H209","v":0},{"$f":"Worksheet!I209","v":0},{"$f":"IFERROR(IF(Worksheet!Z209=0,Worksheet!Y209/I187,Worksheet!Z209/R187),0)","v":0},"W Controlled",null,null,{"$f":"IF(N(Worksheet!S209)=0,N(Worksheet!R209),N(Worksheet!S209))","v":0},{"$f":"IFERROR(Worksheet!W209/(Worksheet!R209+Worksheet!U209),0)","v":0},{"$f":"Worksheet!AE209","v":0},{"$f":"Worksheet!AD209","v":0},0,{"$f":"IF(Worksheet!AL209=0,0,Worksheet!AL209/I187)","v":0},0,null,null,null,{"$f":"IFERROR(Worksheet!X209/(Worksheet!S209+Worksheet!V209),0)","v":0},{"$f":"IF(Worksheet!E209=\"\",\"\",Worksheet!E209)","v":""},{"$f":"IF(Worksheet!B209=\"\",\"\",Worksheet!B209)","v":""},{"$f":"IF(Worksheet!D209=\"\",\"\",Worksheet!D209)","v":""},{"$f":"IF(Worksheet!$A$11=TRUE,\"Y\",\"N\")","v":"N"},{"$f":"IF(Worksheet!$A$12=TRUE,\"Y\",\"N\")","v":"N"},{"$f":"IF(Worksheet!$B$11=TRUE,\"Y\",\"N\")","v":"N"},{"$f":"IF(Worksheet!$B$12=TRUE,\"Y\",\"N\")","v":"N"},{"$f":"IF(Worksheet!$C$11=TRUE,\"Y\",\"N\")","v":"N"},{"$f":"IFERROR(IF(N(Worksheet!V209)=0,Worksheet!U209,Worksheet!V209),\"\")","v":0}]
[{"$f":"IF(ISBLANK(Worksheet!F210)=FALSE,VLOOKUP(Worksheet!A210,MeasureCode_Lookup,6,FALSE),\"\")","v":""},{"$f":"Worksheet!H210","v":0},{"$f":"Worksheet!I210","v":0},{"$f":"IFERROR(IF(Worksheet!Z210=0,Worksheet!Y210/I188,Worksheet!Z210/R188),0)","v":0},"W Controlled",null,null,{"$f":"IF(N(Worksheet!S210)=0,N(Worksheet!R210),N(Worksheet!S210))","v":0},{"$f":"IFERROR(Worksheet!W210/(Worksheet!R210+Worksheet!U210),0)","v":0},{"$f":"Worksheet!AE210","v":0},{"$f":"Worksheet!AD210","v":0},0,{"$f":"IF(Worksheet!AL210=0,0,Worksheet!AL210/I188)","v":0},0,null,null,null,{"$f":"IFERROR(Worksheet!X210/(Worksheet!S210+Worksheet!V210),0)","v":0},{"$f":"IF(Worksheet!E210=\"\",\"\",Worksheet!E210)","v":""},{"$f":"IF(Worksheet!B210=\"\",\"\",Worksheet!B210)","v":""},{"$f":"IF(Worksheet!D210=\"\",\"\",Worksheet!D210)","v":""},{"$f":"IF(Worksheet!$A$11=TRUE,\"Y\",\"N\")","v":"N"},{"$f":"IF(Worksheet!$A$12=TRUE,\"Y\",\"N\")","v":"N"},{"$f":"IF(Worksheet!$B$11=TRUE,\"Y\",\"N\")","v":"N"},{"$f":"IF(Worksheet!$B$12=TRUE,\"Y\",\"N\")","v":"N"},{"$f":"IF(Worksheet!$C$11=TRUE,\"Y\",\"N\")","v":"N"},{"$f":"IFERROR(IF(N(Worksheet!V210)=0,Worksheet!U210,Worksheet!V210),\"\")","v":0}]
[{"$f":"IF(ISBLANK(Worksheet!F211)=FALSE,VLOOKUP(Worksheet!A211,MeasureCode_Lookup,6,FALSE),\"\")","v":""},{"$f":"Worksheet!H211","v":0},{"$f":"Worksheet!I211","v":0},{"$f":"IFERROR(IF(Worksheet!Z211=0,Worksheet!Y211/I189,Worksheet!Z211/R189),0)","v":0},"W Controlled",null,null,{"$f":"IF(N(Worksheet!S211)=0,N(Worksheet!R211),N(Worksheet!S211))","v":0},{"$f":"IFERROR(Worksheet!W211/(Worksheet!R211+Worksheet!U211),0)","v":0},{"$f":"Worksheet!AE211","v":0},{"$f":"Worksheet!AD211","v":0},0,{"$f":"IF(Worksheet!AL211=0,0,Worksheet!AL211/I189)","v":0},0,null,null,null,{"$f":"IFERROR(Worksheet!X211/(Worksheet!S211+Worksheet!V211),0)","v":0},{"$f":"IF(Worksheet!E211=\"\",\"\",Worksheet!E211)","v":""},{"$f":"IF(Worksheet!B211=\"\",\"\",Worksheet!B211)","v":""},{"$f":"IF(Worksheet!D211=\"\",\"\",Worksheet!D211)","v":""},{"$f":"IF(Worksheet!$A$11=TRUE,\"Y\",\"N\")","v":"N"},{"$f":"IF(Worksheet!$A$12=TRUE,\"Y\",\"N\")","v":"N"},{"$f":"IF(Worksheet!$B$11=TRUE,\"Y\",\"N\")","v":"N"},{"$f":"IF(Worksheet!$B$12=TRUE,\"Y\",\"N\")","v":"N"},{"$f":"IF(Worksheet!$C$11=TRUE,\"Y\",\"N\")","v":"N"},{"$f":"IFERROR(IF(N(Worksheet!V211)=0,Worksheet!U211,Worksheet!V211),\"\")","v":0}]
[{"$f":"IF(ISBLANK(Worksheet!F212)=FALSE,VLOOKUP(Worksheet!A212,MeasureCode_Lookup,6,FALSE),\"\")","v":""},{"$f":"Worksheet!H212","v":0},{"$f":"Worksheet!I212","v":0},{"$f":"IFERROR(IF(Worksheet!Z212=0,Worksheet!Y212/I190,Worksheet!Z212/R190),0)","v":0},"W Controlled",null,null,{"$f":"IF(N(Worksheet!S212)=0,N(Worksheet!R212),N(Worksheet!S212))","v":0},{"$f":"IFERROR(Worksheet!W212/(Worksheet!R212+Worksheet!U212),0)","v":0},{"$f":"Worksheet!AE212","v":0},{"$f":"Worksheet!AD212","v":0},0,{"$f":"IF(Worksheet!AL212=0,0,Worksheet!AL212/I190)","v":0},0,null,null,null,{"$f":"IFERROR(Worksheet!X212/(Worksheet!S212+Worksheet!V212),0)","v":0},{"$f":"IF(Worksheet!E212=\"\",\"\",Worksheet!E212)","v":""},{"$f":"IF(Worksheet!B212=\"\",\"\",Worksheet!B212)","v":""},{"$f":"IF(Worksheet!D212=\"\",\"\",Worksheet!D212)","v":""},{"$f":"IF(Worksheet!$A$11=TRUE,\"Y\",\"N\")","v":"N"},{"$f":"IF(Worksheet!$A$12=TRUE,\"Y\",\"N\")","v":"N"},{"$f":"IF(Worksheet!$B$11=TRUE,\"Y\",\"N\")","v":"N"},{"$f":"IF(Worksheet!$B$12=TRUE,\"Y\",\"N\")","v":"N"},{"$f":"IF(Worksheet!$C$11=TRUE,\"Y\",\"N\")","v":"N"},{"$f":"IFERROR(IF(N(Worksheet!V212)=0,Worksheet!U212,Worksheet!V212),\"\")","v":0}]
[{"$f":"IF(ISBLANK(Worksheet!F213)=FALSE,VLOOKUP(Worksheet!A213,MeasureCode_Lookup,6,FALSE),\"\")","v":""},{"$f":"Worksheet!H213","v":0},{"$f":"Worksheet!I213","v":0},{"$f":"IFERROR(IF(Worksheet!Z213=0,Worksheet!Y213/I191,Worksheet!Z213/R191),0)","v":0},"W Controlled",null,null,{"$f":"IF(N(Worksheet!S213)=0,N(Worksheet!R213),N(Worksheet!S213))","v":0},{"$f":"IFERROR(Worksheet!W213/(Worksheet!R213+Worksheet!U213),0)","v":0},{"$f":"Worksheet!AE213","v":0},{"$f":"Worksheet!AD213","v":0},0,{"$f":"IF(Worksheet!AL213=0,0,Worksheet!AL213/I191)","v":0},0,null,null,null,{"$f":"IFERROR(Worksheet!X213/(Worksheet!S213+Worksheet!V213),0)","v":0},{"$f":"IF(Worksheet!E213=\"\",\"\",Worksheet!E213)","v":""},{"$f":"IF(Worksheet!B213=\"\",\"\",Worksheet!B213)","v":""},{"$f":"IF(Worksheet!D213=\"\",\"\",Worksheet!D213)","v":""},{"$f":"IF(Worksheet!$A$11=TRUE,\"Y\",\"N\")","v":"N"},{"$f":"IF(Worksheet!$A$12=TRUE,\"Y\",\"N\")","v":"N"},{"$f":"IF(Worksheet!$B$11=TRUE,\"Y\",\"N\")","v":"N"},{"$f":"IF(Worksheet!$B$12=TRUE,\"Y\",\"N\")","v":"N"},{"$f":"IF(Worksheet!$C$11=TRUE,\"Y\",\"N\")","v":"N"},{"$f":"IFERROR(IF(N(Worksheet!V213)=0,Worksheet!U213,Worksheet!V213),\"\")","v":0}]
[{"$f":"IF(ISBLANK(Worksheet!F214)=FALSE,VLOOKUP(Worksheet!A214,MeasureCode_Lookup,6,FALSE),\"\")","v":""},{"$f":"Worksheet!H214","v":0},{"$f":"Worksheet!I214","v":0},{"$f":"IFERROR(IF(Worksheet!Z214=0,Worksheet!Y214/I192,Worksheet!Z214/R192),0)","v":0},"W Controlled",null,null,{"$f":"IF(N(Worksheet!S214)=0,N(Worksheet!R214),N(Worksheet!S214))","v":0},{"$f":"IFERROR(Worksheet!W214/(Worksheet!R214+Worksheet!U214),0)","v":0},{"$f":"Worksheet!AE214","v":0},{"$f":"Worksheet!AD214","v":0},0,{"$f":"IF(Worksheet!AL214=0,0,Worksheet!AL214/I192)","v":0},0,null,null,null,{"$f":"IFERROR(Worksheet!X214/(Worksheet!S214+Worksheet!V214),0)","v":0},{"$f":"IF(Worksheet!E214=\"\",\"\",Worksheet!E214)","v":""},{"$f":"IF(Worksheet!B214=\"\",\"\",Worksheet!B214)","v":""},{"$f":"IF(Worksheet!D214=\"\",\"\",Worksheet!D214)","v":""},{"$f":"IF(Worksheet!$A$11=TRUE,\"Y\",\"N\")","v":"N"},{"$f":"IF(Worksheet!$A$12=TRUE,\"Y\",\"N\")","v":"N"},{"$f":"IF(Worksheet!$B$11=TRUE,\"Y\",\"N\")","v":"N"},{"$f":"IF(Worksheet!$B$12=TRUE,\"Y\",\"N\")","v":"N"},{"$f":"IF(Worksheet!$C$11=TRUE,\"Y\",\"N\")","v":"N"},{"$f":"IFERROR(IF(N(Worksheet!V214)=0,Worksheet!U214,Worksheet!V214),\"\")","v":0}]
[{"$f":"IF(ISBLANK(Worksheet!F215)=FALSE,VLOOKUP(Worksheet!A215,MeasureCode_Lookup,6,FALSE),\"\")","v":""},{"$f":"Worksheet!H215","v":0},{"$f":"Worksheet!I215","v":0},{"$f":"IFERROR(IF(Worksheet!Z215=0,Worksheet!Y215/I193,Worksheet!Z215/R193),0)","v":0},"W Controlled",null,null,{"$f":"IF(N(Worksheet!S215)=0,N(Worksheet!R215),N(Worksheet!S215))","v":0},{"$f":"IFERROR(Worksheet!W215/(Worksheet!R215+Worksheet!U215),0)","v":0},{"$f":"Worksheet!AE215","v":0},{"$f":"Worksheet!AD215","v":0},0,{"$f":"IF(Worksheet!AL215=0,0,Worksheet!AL215/I193)","v":0},0,null,null,null,{"$f":"IFERROR(Worksheet!X215/(Worksheet!S215+Worksheet!V215),0)","v":0},{"$f":"IF(Worksheet!E215=\"\",\"\",Worksheet!E215)","v":""},{"$f":"IF(Worksheet!B215=\"\",\"\",Worksheet!B215)","v":""},{"$f":"IF(Worksheet!D215=\"\",\"\",Worksheet!D215)","v":""},{"$f":"IF(Worksheet!$A$11=TRUE,\"Y\",\"N\")","v":"N"},{"$f":"IF(Worksheet!$A$12=TRUE,\"Y\",\"N\")","v":"N"},{"$f":"IF(Worksheet!$B$11=TRUE,\"Y\",\"N\")","v":"N"},{"$f":"IF(Worksheet!$B$12=TRUE,\"Y\",\"N\")","v":"N"},{"$f":"IF(Worksheet!$C$11=TRUE,\"Y\",\"N\")","v":"N"},{"$f":"IFERROR(IF(N(Worksheet!V215)=0,Worksheet!U215,Worksheet!V215),\"\")","v":0}]
[{"$f":"IF(ISBLANK(Worksheet!F216)=FALSE,VLOOKUP(Worksheet!A216,MeasureCode_Lookup,6,FALSE),\"\")","v":""},{"$f":"Worksheet!H216","v":0},{"$f":"Worksheet!I216","v":0},{"$f":"IFERROR(IF(Worksheet!Z216=0,Worksheet!Y216/I194,Worksheet!Z216/R194),0)","v":0},"W Controlled",null,null,{"$f":"IF(N(Worksheet!S216)=0,N(Worksheet!R216),N(Worksheet!S216))","v":0},{"$f":"IFERROR(Worksheet!W216/(Worksheet!R216+Worksheet!U216),0)","v":0},{"$f":"Worksheet!AE216","v":0},{"$f":"Worksheet!AD216","v":0},0,{"$f":"IF(Worksheet!AL216=0,0,Worksheet!AL216/I194)","v":0},0,null,null,null,{"$f":"IFERROR(Worksheet!X216/(Worksheet!S216+Worksheet!V216),0)","v":0},{"$f":"IF(Worksheet!E216=\"\",\"\",Worksheet!E216)","v":""},{"$f":"IF(Worksheet!B216=\"\",\"\",Worksheet!B216)","v":""},{"$f":"IF(Worksheet!D216=\"\",\"\",Worksheet!D216)","v":""},{"$f":"IF(Worksheet!$A$11=TRUE,\"Y\",\"N\")","v":"N"},{"$f":"IF(Worksheet!$A$12=TRUE,\"Y\",\"N\")","v":"N"},{"$f":"IF(Worksheet!$B$11=TRUE,\"Y\",\"N\")","v":"N"},{"$f":"IF(Worksheet!$B$12=TRUE,\"Y\",\"N\")","v":"N"},{"$f":"IF(Worksheet!$C$11=TRUE,\"Y\",\"N\")","v":"N"},{"$f":"IFERROR(IF(N(Worksheet!V216)=0,Worksheet!U216,Worksheet!V216),\"\")","v":0}]
[{"$f":"IF(ISBLANK(Worksheet!F217)=FALSE,VLOOKUP(Worksheet!A217,MeasureCode_Lookup,6,FALSE),\"\")","v":""},{"$f":"Worksheet!H217","v":0},{"$f":"Worksheet!I217","v":0},{"$f":"IFERROR(IF(Worksheet!Z217=0,Worksheet!Y217/I195,Worksheet!Z217/R195),0)","v":0},"W Controlled",null,null,{"$f":"IF(N(Worksheet!S217)=0,N(Worksheet!R217),N(Worksheet!S217))","v":0},{"$f":"IFERROR(Worksheet!W217/(Worksheet!R217+Worksheet!U217),0)","v":0},{"$f":"Worksheet!AE217","v":0},{"$f":"Worksheet!AD217","v":0},{"$f":"J195*8","v":0},{"$f":"IF(Worksheet!AL217=0,0,Worksheet!AL217/I195)","v":0},{"$f":"M195*8","v":0},null,null,null,{"$f":"IFERROR(Worksheet!X217/(Worksheet!S217+Worksheet!V217),0)","v":0},{"$f":"IF(Worksheet!E217=\"\",\"\",Worksheet!E217)","v":""},{"$f":"IF(Worksheet!B217=\"\",\"\",Worksheet!B217)","v":""},{"$f":"IF(Worksheet!D217=\"\",\"\",Worksheet!D217)","v":""},{"$f":"IF(Worksheet!$A$11=TRUE,\"Y\",\"N\")","v":"N"},{"$f":"IF(Worksheet!$A$12=TRUE,\"Y\",\"N\")","v":"N"},{"$f":"IF(Worksheet!$B$11=TRUE,\"Y\",\"N\")","v":"N"},{"$f":"IF(Worksheet!$B$12=TRUE,\"Y\",\"N\")","v":"N"},{"$f":"IF(Worksheet!$C$11=TRUE,\"Y\",\"N\")","v":"N"},{"$f":"IFERROR(IF(N(Worksheet!V217)=0,Worksheet!U217,Worksheet!V217),\"\")","v":0}]
[{"$f":"IF(ISBLANK(Worksheet!F218)=FALSE,VLOOKUP(Worksheet!A218,MeasureCode_Lookup,6,FALSE),\"\")","v":""},{"$f":"Worksheet!H218","v":0},{"$f":"Worksheet!I218","v":0},{"$f":"IFERROR(IF(Worksheet!Z218=0,Worksheet!Y218/I196,Worksheet!Z218/R196),0)","v":0},"W Controlled",null,null,{"$f":"IF(N(Worksheet!S218)=0,N(Worksheet!R218),N(Worksheet!S218))","v":0},{"$f":"IFERROR(Worksheet!W218/(Worksheet!R218+Worksheet!U218),0)","v":0},{"$f":"Worksheet!AE218","v":0},{"$f":"Worksheet!AD218","v":0},0,{"$f":"IF(Worksheet!AL218=0,0,Worksheet!AL218/I196)","v":0},0,null,null,null,{"$f":"IFERROR(Worksheet!X218/(Worksheet!S218+Worksheet!V218),0)","v":0},{"$f":"IF(Worksheet!E218=\"\",\"\",Worksheet!E218)","v":""},{"$f":"IF(Worksheet!B218=\"\",\"\",Worksheet!B218)","v":""},{"$f":"IF(Worksheet!D218=\"\",\"\",Worksheet!D218)","v":""},{"$f":"IF(Worksheet!$A$11=TRUE,\"Y\",\"N\")","v":"N"},{"$f":"IF(Worksheet!$A$12=TRUE,\"Y\",\"N\")","v":"N"},{"$f":"IF(Worksheet!$B$11=TRUE,\"Y\",\"N\")","v":"N"},{"$f":"IF(Worksheet!$B$12=TRUE,\"Y\",\"N\")","v":"N"},{"$f":"IF(Worksheet!$C$11=TRUE,\"Y\",\"N\")","v":"N"},{"$f":"IFERROR(IF(N(Worksheet!V218)=0,Worksheet!U218,Worksheet!V218),\"\")","v":0}]
[{"$f":"IF(ISBLANK(Worksheet!F219)=FALSE,VLOOKUP(Worksheet!A219,MeasureCode_Lookup,6,FALSE),\"\")","v":""},{"$f":"Worksheet!H219","v":0},{"$f":"Worksheet!I219","v":0},{"$f":"IFERROR(IF(Worksheet!Z219=0,Worksheet!Y219/I197,Worksheet!Z219/R197),0)","v":0},"W Controlled",null,null,{"$f":"IF(N(Worksheet!S219)=0,N(Worksheet!R219),N(Worksheet!S219))","v":0},{"$f":"IFERROR(Worksheet!W219/(Worksheet!R219+Worksheet!U219),0)","v":0},{"$f":"Worksheet!AE219","v":0},{"$f":"Worksheet!AD219","v":0},0,{"$f":"IF(Worksheet!AL219=0,0,Worksheet!AL219/I197)","v":0},0,null,null,null,{"$f":"IFERROR(Worksheet!X219/(Worksheet!S219+Worksheet!V219),0)","v":0},{"$f":"IF(Worksheet!E219=\"\",\"\",Worksheet!E219)","v":""},{"$f":"IF(Worksheet!B219=\"\",\"\",Worksheet!B219)","v":""},{"$f":"IF(Worksheet!D219=\"\",\"\",Worksheet!D219)","v":""},{"$f":"IF(Worksheet!$A$11=TRUE,\"Y\",\"N\")","v":"N"},{"$f":"IF(Worksheet!$A$12=TRUE,\"Y\",\"N\")","v":"N"},{"$f":"IF(Worksheet!$B$11=TRUE,\"Y\",\"N\")","v":"N"},{"$f":"IF(Worksheet!$B$12=TRUE,\"Y\",\"N\")","v":"N"},{"$f":"IF(Worksheet!$C$11=TRUE,\"Y\",\"N\")","v":"N"},{"$f":"IFERROR(IF(N(Worksheet!V219)=0,Worksheet!U219,Worksheet!V219),\"\")","v":0}]
[{"$f":"IF(ISBLANK(Worksheet!F220)=FALSE,VLOOKUP(Worksheet!A220,MeasureCode_Lookup,6,FALSE),\"\")","v":""},{"$f":"Worksheet!H220","v":0},{"$f":"Worksheet!I220","v":0},{"$f":"IFERROR(IF(Worksheet!Z220=0,Worksheet!Y220/I198,Worksheet!Z220/R198),0)","v":0},"W Controlled",null,null,{"$f":"IF(N(Worksheet!S220)=0,N(Worksheet!R220),N(Worksheet!S220))","v":0},{"$f":"IFERROR(Worksheet!W220/(Worksheet!R220+Worksheet!U220),0)","v":0},{"$f":"Worksheet!AE220","v":0},{"$f":"Worksheet!AD220","v":0},0,{"$f":"IF(Worksheet!AL220=0,0,Worksheet!AL220/I198)","v":0},0,null,null,null,{"$f":"IFERROR(Worksheet!X220/(Worksheet!S220+Worksheet!V220),0)","v":0},{"$f":"IF(Worksheet!E220=\"\",\"\",Worksheet!E220)","v":""},{"$f":"IF(Worksheet!B220=\"\",\"\",Worksheet!B220)","v":""},{"$f":"IF(Worksheet!D220=\"\",\"\",Worksheet!D220)","v":""},{"$f":"IF(Worksheet!$A$11=TRUE,\"Y\",\"N\")","v":"N"},{"$f":"IF(Worksheet!$A$12=TRUE,\"Y\",\"N\")","v":"N"},{"$f":"IF(Worksheet!$B$11=TRUE,\"Y\",\"N\")","v":"N"},{"$f":"IF(Worksheet!$B$12=TRUE,\"Y\",\"N\")","v":"N"},{"$f":"IF(Worksheet!$C$11=TRUE,\"Y\",\"N\")","v":"N"},{"$f":"IFERROR(IF(N(Worksheet!V220)=0,Worksheet!U220,Worksheet!V220),\"\")","v":0}]
[{"$f":"IF(ISBLANK(Worksheet!F221)=FALSE,VLOOKUP(Worksheet!A221,MeasureCode_Lookup,6,FALSE),\"\")","v":""},{"$f":"Worksheet!H221","v":0},{"$f":"Worksheet!I221","v":0},{"$f":"IFERROR(IF(Worksheet!Z221=0,Worksheet!Y221/I199,Worksheet!Z221/R199),0)","v":0},"W Controlled",null,null,{"$f":"IF(N(Worksheet!S221)=0,N(Worksheet!R221),N(Worksheet!S221))","v":0},{"$f":"IFERROR(Worksheet!W221/(Worksheet!R221+Worksheet!U221),0)","v":0},{"$f":"Worksheet!AE221","v":0},{"$f":"Worksheet!AD221","v":0},0,{"$f":"IF(Worksheet!AL221=0,0,Worksheet!AL221/I199)","v":0},0,null,null,null,{"$f":"IFERROR(Worksheet!X221/(Worksheet!S221+Worksheet!V221),0)","v":0},{"$f":"IF(Worksheet!E221=\"\",\"\",Worksheet!E221)","v":""},{"$f":"IF(Worksheet!B221=\"\",\"\",Worksheet!B221)","v":""},{"$f":"IF(Worksheet!D221=\"\",\"\",Worksheet!D221)","v":""},{"$f":"IF(Worksheet!$A$11=TRUE,\"Y\",\"N\")","v":"N"},{"$f":"IF(Worksheet!$A$12=TRUE,\"Y\",\"N\")","v":"N"},{"$f":"IF(Worksheet!$B$11=TRUE,\"Y\",\"N\")","v":"N"},{"$f":"IF(Worksheet!$B$12=TRUE,\"Y\",\"N\")","v":"N"},{"$f":"IF(Worksheet!$C$11=TRUE,\"Y\",\"N\")","v":"N"},{"$f":"IFERROR(IF(N(Worksheet!V221)=0,Worksheet!U221,Worksheet!V221),\"\")","v":0}]
[{"$f":"IF(ISBLANK(Worksheet!F222)=FALSE,VLOOKUP(Worksheet!A222,MeasureCode_Lookup,6,FALSE),\"\")","v":""},{"$f":"Worksheet!H222","v":0},{"$f":"Worksheet!I222","v":0},{"$f":"IFERROR(IF(Worksheet!Z222=0,Worksheet!Y222/I200,Worksheet!Z222/R200),0)","v":0},"W Controlled",null,null,{"$f":"IF(N(Worksheet!S222)=0,N(Worksheet!R222),N(Worksheet!S222))","v":0},{"$f":"IFERROR(Worksheet!W222/(Worksheet!R222+Worksheet!U222),0)","v":0},{"$f":"Worksheet!AE222","v":0},{"$f":"Worksheet!AD222","v":0},0,{"$f":"IF(Worksheet!AL222=0,0,Worksheet!AL222/I200)","v":0},0,null,null,null,{"$f":"IFERROR(Worksheet!X222/(Worksheet!S222+Worksheet!V222),0)","v":0},{"$f":"IF(Worksheet!E222=\"\",\"\",Worksheet!E222)","v":""},{"$f":"IF(Worksheet!B222=\"\",\"\",Worksheet!B222)","v":""},{"$f":"IF(Worksheet!D222=\"\",\"\",Worksheet!D222)","v":""},{"$f":"IF(Worksheet!$A$11=TRUE,\"Y\",\"N\")","v":"N"},{"$f":"IF(Worksheet!$A$12=TRUE,\"Y\",\"N\")","v":"N"},{"$f":"IF(Worksheet!$B$11=TRUE,\"Y\",\"N\")","v":"N"},{"$f":"IF(Worksheet!$B$12=TRUE,\"Y\",\"N\")","v":"N"},{"$f":"IF(Worksheet!$C$11=TRUE,\"Y\",\"N\")","v":"N"},{"$f":"IFERROR(IF(N(Worksheet!V222)=0,Worksheet!U222,Worksheet!V222),\"\")","v":0}]
[{"$f":"IF(ISBLANK(Worksheet!F223)=FALSE,VLOOKUP(Worksheet!A223,MeasureCode_Lookup,6,FALSE),\"\")","v":""},{"$f":"Worksheet!H223","v":0},{"$f":"Worksheet!I223","v":0},{"$f":"IFERROR(IF(Worksheet!Z223=0,Worksheet!Y223/I201,Worksheet!Z223/R201),0)","v":0},"W Controlled",null,null,{"$f":"IF(N(Worksheet!S223)=0,N(Worksheet!R223),N(Worksheet!S223))","v":0},{"$f":"IFERROR(Worksheet!W223/(Worksheet!R223+Worksheet!U223),0)","v":0},{"$f":"Worksheet!AE223","v":0},{"$f":"Worksheet!AD223","v":0},0,{"$f":"IF(Worksheet!AL223=0,0,Worksheet!AL223/I201)","v":0},0,null,null,null,{"$f":"IFERROR(Worksheet!X223/(Worksheet!S223+Worksheet!V223),0)","v":0},{"$f":"IF(Worksheet!E223=\"\",\"\",Worksheet!E223)","v":""},{"$f":"IF(Worksheet!B223=\"\",\"\",Worksheet!B223)","v":""},{"$f":"IF(Worksheet!D223=\"\",\"\",Worksheet!D223)","v":""},{"$f":"IF(Worksheet!$A$11=TRUE,\"Y\",\"N\")","v":"N"},{"$f":"IF(Worksheet!$A$12=TRUE,\"Y\",\"N\")","v":"N"},{"$f":"IF(Worksheet!$B$11=TRUE,\"Y\",\"N\")","v":"N"},{"$f":"IF(Worksheet!$B$12=TRUE,\"Y\",\"N\")","v":"N"},{"$f":"IF(Worksheet!$C$11=TRUE,\"Y\",\"N\")","v":"N"},{"$f":"IFERROR(IF(N(Worksheet!V223)=0,Worksheet!U223,Worksheet!V223),\"\")","v":0}]
[{"$f":"IF(ISBLANK(Worksheet!F224)=FALSE,VLOOKUP(Worksheet!A224,MeasureCode_Lookup,6,FALSE),\"\")","v":""},{"$f":"Worksheet!H224","v":0},{"$f":"Worksheet!I224","v":0},{"$f":"IFERROR(IF(Worksheet!Z224=0,Worksheet!Y224/I202,Worksheet!Z224/R202),0)","v":0},"W Controlled",null,null,{"$f":"IF(N(Worksheet!S224)=0,N(Worksheet!R224),N(Worksheet!S224))","v":0},{"$f":"IFERROR(Worksheet!W224/(Worksheet!R224+Worksheet!U224),0)","v":0},{"$f":"Worksheet!AE224","v":0},{"$f":"Worksheet!AD224","v":0},0,{"$f":"IF(Worksheet!AL224=0,0,Worksheet!AL224/I202)","v":0},0,null,null,null,{"$f":"IFERROR(Worksheet!X224/(Worksheet!S224+Worksheet!V224),0)","v":0},{"$f":"IF(Worksheet!E224=\"\",\"\",Worksheet!E224)","v":""},{"$f":"IF(Worksheet!B224=\"\",\"\",Worksheet!B224)","v":""},{"$f":"IF(Worksheet!D224=\"\",\"\",Worksheet!D224)","v":""},{"$f":"IF(Worksheet!$A$11=TRUE,\"Y\",\"N\")","v":"N"},{"$f":"IF(Worksheet!$A$12=TRUE,\"Y\",\"N\")","v":"N"},{"$f":"IF(Worksheet!$B$11=TRUE,\"Y\",\"N\")","v":"N"},{"$f":"IF(Worksheet!$B$12=TRUE,\"Y\",\"N\")","v":"N"},{"$f":"IF(Worksheet!$C$11=TRUE,\"Y\",\"N\")","v":"N"},{"$f":"IFERROR(IF(N(Worksheet!V224)=0,Worksheet!U224,Worksheet!V224),\"\")","v":0}]
[{"$f":"IF(ISBLANK(Worksheet!F225)=FALSE,VLOOKUP(Worksheet!A225,MeasureCode_Lookup,6,FALSE),\"\")","v":""},{"$f":"Worksheet!H225","v":0},{"$f":"Worksheet!I225","v":0},{"$f":"IFERROR(IF(Worksheet!Z225=0,Worksheet!Y225/I203,Worksheet!Z225/R203),0)","v":0},"W Controlled",null,null,{"$f":"IF(N(Worksheet!S225)=0,N(Worksheet!R225),N(Worksheet!S225))","v":0},{"$f":"IFERROR(Worksheet!W225/(Worksheet!R225+Worksheet!U225),0)","v":0},{"$f":"Worksheet!AE225","v":0},{"$f":"Worksheet!AD225","v":0},0,{"$f":"IF(Worksheet!AL225=0,0,Worksheet!AL225/I203)","v":0},0,null,null,null,{"$f":"IFERROR(Worksheet!X225/(Worksheet!S225+Worksheet!V225),0)","v":0},{"$f":"IF(Worksheet!E225=\"\",\"\",Worksheet!E225)","v":""},{"$f":"IF(Worksheet!B225=\"\",\"\",Worksheet!B225)","v":""},{"$f":"IF(Worksheet!D225=\"\",\"\",Worksheet!D225)","v":""},{"$f":"IF(Worksheet!$A$11=TRUE,\"Y\",\"N\")","v":"N"},{"$f":"IF(Worksheet!$A$12=TRUE,\"Y\",\"N\")","v":"N"},{"$f":"IF(Worksheet!$B$11=TRUE,\"Y\",\"N\")","v":"N"},{"$f":"IF(Worksheet!$B$12=TRUE,\"Y\",\"N\")","v":"N"},{"$f":"IF(Worksheet!$C$11=TRUE,\"Y\",\"N\")","v":"N"},{"$f":"IFERROR(IF(N(Worksheet!V225)=0,Worksheet!U225,Worksheet!V225),\"\")","v":0}]
[{"$f":"IF(ISBLANK(Worksheet!F226)=FALSE,VLOOKUP(Worksheet!A226,MeasureCode_Lookup,6,FALSE),\"\")","v":""},{"$f":"Worksheet!H226","v":0},{"$f":"Worksheet!I226","v":0},{"$f":"IFERROR(IF(Worksheet!Z226=0,Worksheet!Y226/I204,Worksheet!Z226/R204),0)","v":0},"W Controlled",null,null,{"$f":"IF(N(Worksheet!S226)=0,N(Worksheet!R226),N(Worksheet!S226))","v":0},{"$f":"IFERROR(Worksheet!W226/(Worksheet!R226+Worksheet!U226),0)","v":0},{"$f":"Worksheet!AE226","v":0},{"$f":"Worksheet!AD226","v":0},0,{"$f":"IF(Worksheet!AL226=0,0,Worksheet!AL226/I204)","v":0},0,null,null,null,{"$f":"IFERROR(Worksheet!X226/(Worksheet!S226+Worksheet!V226),0)","v":0},{"$f":"IF(Worksheet!E226=\"\",\"\",Worksheet!E226)","v":""},{"$f":"IF(Worksheet!B226=\"\",\"\",Worksheet!B226)","v":""},{"$f":"IF(Worksheet!D226=\"\",\"\",Worksheet!D226)","v":""},{"$f":"IF(Worksheet!$A$11=TRUE,\"Y\",\"N\")","v":"N"},{"$f":"IF(Worksheet!$A$12=TRUE,\"Y\",\"N\")","v":"N"},{"$f":"IF(Worksheet!$B$11=TRUE,\"Y\",\"N\")","v":"N"},{"$f":"IF(Worksheet!$B$12=TRUE,\"Y\",\"N\")","v":"N"},{"$f":"IF(Worksheet!$C$11=TRUE,\"Y\",\"N\")","v":"N"},{"$f":"IFERROR(IF(N(Worksheet!V226)=0,Worksheet!U226,Worksheet!V226),\"\")","v":0}]
[{"$f":"IF(ISBLANK(Worksheet!F227)=FALSE,VLOOKUP(Worksheet!A227,MeasureCode_Lookup,6,FALSE),\"\")","v":""},{"$f":"Worksheet!H227","v":0},{"$f":"Worksheet!I227","v":0},{"$f":"IFERROR(IF(Worksheet!Z227=0,Worksheet!Y227/I205,Worksheet!Z227/R205),0)","v":0},"W Controlled",null,null,{"$f":"IF(N(Worksheet!S227)=0,N(Worksheet!R227),N(Worksheet!S227))","v":0},{"$f":"IFERROR(Worksheet!W227/(Worksheet!R227+Worksheet!U227),0)","v":0},{"$f":"Worksheet!AE227","v":0},{"$f":"Worksheet!AD227","v":0},0,{"$f":"IF(Worksheet!AL227=0,0,Worksheet!AL227/I205)","v":0},0,null,null,null,{"$f":"IFERROR(Worksheet!X227/(Worksheet!S227+Worksheet!V227),0)","v":0},{"$f":"IF(Worksheet!E227=\"\",\"\",Worksheet!E227)","v":""},{"$f":"IF(Worksheet!B227=\"\",\"\",Worksheet!B227)","v":""},{"$f":"IF(Worksheet!D227=\"\",\"\",Worksheet!D227)","v":""},{"$f":"IF(Worksheet!$A$11=TRUE,\"Y\",\"N\")","v":"N"},{"$f":"IF(Worksheet!$A$12=TRUE,\"Y\",\"N\")","v":"N"},{"$f":"IF(Worksheet!$B$11=TRUE,\"Y\",\"N\")","v":"N"},{"$f":"IF(Worksheet!$B$12=TRUE,\"Y\",\"N\")","v":"N"},{"$f":"IF(Worksheet!$C$11=TRUE,\"Y\",\"N\")","v":"N"},{"$f":"IFERROR(IF(N(Worksheet!V227)=0,Worksheet!U227,Worksheet!V227),\"\")","v":0}]
[{"$f":"IF(ISBLANK(Worksheet!F228)=FALSE,VLOOKUP(Worksheet!A228,MeasureCode_Lookup,6,FALSE),\"\")","v":""},{"$f":"Worksheet!H228","v":0},{"$f":"Worksheet!I228","v":0},{"$f":"IFERROR(IF(Worksheet!Z228=0,Worksheet!Y228/I206,Worksheet!Z228/R206),0)","v":0},"W Controlled",null,null,{"$f":"IF(N(Worksheet!S228)=0,N(Worksheet!R228),N(Worksheet!S228))","v":0},{"$f":"IFERROR(Worksheet!W228/(Worksheet!R228+Worksheet!U228),0)","v":0},{"$f":"Worksheet!AE228","v":0},{"$f":"Worksheet!AD228","v":0},0,{"$f":"IF(Worksheet!AL228=0,0,Worksheet!AL228/I206)","v":0},0,null,null,null,{"$f":"IFERROR(Worksheet!X228/(Worksheet!S228+Worksheet!V228),0)","v":0},{"$f":"IF(Worksheet!E228=\"\",\"\",Worksheet!E228)","v":""},{"$f":"IF(Worksheet!B228=\"\",\"\",Worksheet!B228)","v":""},{"$f":"IF(Worksheet!D228=\"\",\"\",Worksheet!D228)","v":""},{"$f":"IF(Worksheet!$A$11=TRUE,\"Y\",\"N\")","v":"N"},{"$f":"IF(Worksheet!$A$12=TRUE,\"Y\",\"N\")","v":"N"},{"$f":"IF(Worksheet!$B$11=TRUE,\"Y\",\"N\")","v":"N"},{"$f":"IF(Worksheet!$B$12=TRUE,\"Y\",\"N\")","v":"N"},{"$f":"IF(Worksheet!$C$11=TRUE,\"Y\",\"N\")","v":"N"},{"$f":"IFERROR(IF(N(Worksheet!V228)=0,Worksheet!U228,Worksheet!V228),\"\")","v":0}]
[{"$f":"IF(ISBLANK(Worksheet!F229)=FALSE,VLOOKUP(Worksheet!A229,MeasureCode_Lookup,6,FALSE),\"\")","v":""},{"$f":"Worksheet!H229","v":0},{"$f":"Worksheet!I229","v":0},{"$f":"IFERROR(IF(Worksheet!Z229=0,Worksheet!Y229/I207,Worksheet!Z229/R207),0)","v":0},"W Controlled",null,null,{"$f":"IF(N(Worksheet!S229)=0,N(Worksheet!R229),N(Worksheet!S229))","v":0},{"$f":"IFERROR(Worksheet!W229/(Worksheet!R229+Worksheet!U229),0)","v":0},{"$f":"Worksheet!AE229","v":0},{"$f":"Worksheet!AD229","v":0},0,{"$f":"IF(Worksheet!AL229=0,0,Worksheet!AL229/I207)","v":0},0,null,null,null,{"$f":"IFERROR(Worksheet!X229/(Worksheet!S229+Worksheet!V229),0)","v":0},{"$f":"IF(Worksheet!E229=\"\",\"\",Worksheet!E229)","v":""},{"$f":"IF(Worksheet!B229=\"\",\"\",Worksheet!B229)","v":""},{"$f":"IF(Worksheet!D229=\"\",\"\",Worksheet!D229)","v":""},{"$f":"IF(Worksheet!$A$11=TRUE,\"Y\",\"N\")","v":"N"},{"$f":"IF(Worksheet!$A$12=TRUE,\"Y\",\"N\")","v":"N"},{"$f":"IF(Worksheet!$B$11=TRUE,\"Y\",\"N\")","v":"N"},{"$f":"IF(Worksheet!$B$12=TRUE,\"Y\",\"N\")","v":"N"},{"$f":"IF(Worksheet!$C$11=TRUE,\"Y\",\"N\")","v":"N"},{"$f":"IFERROR(IF(N(Worksheet!V229)=0,Worksheet!U229,Worksheet!V229),\"\")","v":0}]
[{"$f":"IF(ISBLANK(Worksheet!F230)=FALSE,VLOOKUP(Worksheet!A230,MeasureCode_Lookup,6,FALSE),\"\")","v":""},{"$f":"Worksheet!H230","v":0},{"$f":"Worksheet!I230","v":0},{"$f":"IFERROR(IF(Worksheet!Z230=0,Worksheet!Y230/I208,Worksheet!Z230/R208),0)","v":0},"W Controlled",null,null,{"$f":"IF(N(Worksheet!S230)=0,N(Worksheet!R230),N(Worksheet!S230))","v":0},{"$f":"IFERROR(Worksheet!W230/(Worksheet!R230+Worksheet!U230),0)","v":0},{"$f":"Worksheet!AE230","v":0},{"$f":"Worksheet!AD230","v":0},0,{"$f":"IF(Worksheet!AL230=0,0,Worksheet!AL230/I208)","v":0},0,null,null,null,{"$f":"IFERROR(Worksheet!X230/(Worksheet!S230+Worksheet!V230),0)","v":0},{"$f":"IF(Worksheet!E230=\"\",\"\",Worksheet!E230)","v":""},{"$f":"IF(Worksheet!B230=\"\",\"\",Worksheet!B230)","v":""},{"$f":"IF(Worksheet!D230=\"\",\"\",Worksheet!D230)","v":""},{"$f":"IF(Worksheet!$A$11=TRUE,\"Y\",\"N\")","v":"N"},{"$f":"IF(Worksheet!$A$12=TRUE,\"Y\",\"N\")","v":"N"},{"$f":"IF(Worksheet!$B$11=TRUE,\"Y\",\"N\")","v":"N"},{"$f":"IF(Worksheet!$B$12=TRUE,\"Y\",\"N\")","v":"N"},{"$f":"IF(Worksheet!$C$11=TRUE,\"Y\",\"N\")","v":"N"},{"$f":"IFERROR(IF(N(Worksheet!V230)=0,Worksheet!U230,Worksheet!V230),\"\")","v":0}]
[{"$f":"IF(ISBLANK(Worksheet!F231)=FALSE,VLOOKUP(Worksheet!A231,MeasureCode_Lookup,6,FALSE),\"\")","v":""},{"$f":"Worksheet!H231","v":0},{"$f":"Worksheet!I231","v":0},{"$f":"IFERROR(IF(Worksheet!Z231=0,Worksheet!Y231/I209,Worksheet!Z231/R209),0)","v":0},"W Controlled",null,null,{"$f":"IF(N(Worksheet!S231)=0,N(Worksheet!R231),N(Worksheet!S231))","v":0},{"$f":"IFERROR(Worksheet!W231/(Worksheet!R231+Worksheet!U231),0)","v":0},{"$f":"Worksheet!AE231","v":0},{"$f":"Worksheet!AD231","v":0},0,{"$f":"IF(Worksheet!AL231=0,0,Worksheet!AL231/I209)","v":0},0,null,null,null,{"$f":"IFERROR(Worksheet!X231/(Worksheet!S231+Worksheet!V231),0)","v":0},{"$f":"IF(Worksheet!E231=\"\",\"\",Worksheet!E231)","v":""},{"$f":"IF(Worksheet!B231=\"\",\"\",Worksheet!B231)","v":""},{"$f":"IF(Worksheet!D231=\"\",\"\",Worksheet!D231)","v":""},{"$f":"IF(Worksheet!$A$11=TRUE,\"Y\",\"N\")","v":"N"},{"$f":"IF(Worksheet!$A$12=TRUE,\"Y\",\"N\")","v":"N"},{"$f":"IF(Worksheet!$B$11=TRUE,\"Y\",\"N\")","v":"N"},{"$f":"IF(Worksheet!$B$12=TRUE,\"Y\",\"N\")","v":"N"},{"$f":"IF(Worksheet!$C$11=TRUE,\"Y\",\"N\")","v":"N"},{"$f":"IFERROR(IF(N(Worksheet!V231)=0,Worksheet!U231,Worksheet!V231),\"\")","v":0}]
[{"$f":"IF(ISBLANK(Worksheet!F232)=FALSE,VLOOKUP(Worksheet!A232,MeasureCode_Lookup,6,FALSE),\"\")","v":""},{"$f":"Worksheet!H232","v":0},{"$f":"Worksheet!I232","v":0},{"$f":"IFERROR(IF(Worksheet!Z232=0,Worksheet!Y232/I210,Worksheet!Z232/R210),0)","v":0},"W Controlled",null,null,{"$f":"IF(N(Worksheet!S232)=0,N(Worksheet!R232),N(Worksheet!S232))","v":0},{"$f":"IFERROR(Worksheet!W232/(Worksheet!R232+Worksheet!U232),0)","v":0},{"$f":"Worksheet!AE232","v":0},{"$f":"Worksheet!AD232","v":0},0,{"$f":"IF(Worksheet!AL232=0,0,Worksheet!AL232/I210)","v":0},0,null,null,null,{"$f":"IFERROR(Worksheet!X232/(Worksheet!S232+Worksheet!V232),0)","v":0},{"$f":"IF(Worksheet!E232=\"\",\"\",Worksheet!E232)","v":""},{"$f":"IF(Worksheet!B232=\"\",\"\",Worksheet!B232)","v":""},{"$f":"IF(Worksheet!D232=\"\",\"\",Worksheet!D232)","v":""},{"$f":"IF(Worksheet!$A$11=TRUE,\"Y\",\"N\")","v":"N"},{"$f":"IF(Worksheet!$A$12=TRUE,\"Y\",\"N\")","v":"N"},{"$f":"IF(Worksheet!$B$11=TRUE,\"Y\",\"N\")","v":"N"},{"$f":"IF(Worksheet!$B$12=TRUE,\"Y\",\"N\")","v":"N"},{"$f":"IF(Worksheet!$C$11=TRUE,\"Y\",\"N\")","v":"N"},{"$f":"IFERROR(IF(N(Worksheet!V232)=0,Worksheet!U232,Worksheet!V232),\"\")","v":0}]
[{"$f":"IF(ISBLANK(Worksheet!F233)=FALSE,VLOOKUP(Worksheet!A233,MeasureCode_Lookup,6,FALSE),\"\")","v":""},{"$f":"Worksheet!H233","v":0},{"$f":"Worksheet!I233","v":0},{"$f":"IFERROR(IF(Worksheet!Z233=0,Worksheet!Y233/I211,Worksheet!Z233/R211),0)","v":0},"W Controlled",null,null,{"$f":"IF(N(Worksheet!S233)=0,N(Worksheet!R233),N(Worksheet!S233))","v":0},{"$f":"IFERROR(Worksheet!W233/(Worksheet!R233+Worksheet!U233),0)","v":0},{"$f":"Worksheet!AE233","v":0},{"$f":"Worksheet!AD233","v":0},0,{"$f":"IF(Worksheet!AL233=0,0,Worksheet!AL233/I211)","v":0},0,null,null,null,{"$f":"IFERROR(Worksheet!X233/(Worksheet!S233+Worksheet!V233),0)","v":0},{"$f":"IF(Worksheet!E233=\"\",\"\",Worksheet!E233)","v":""},{"$f":"IF(Worksheet!B233=\"\",\"\",Worksheet!B233)","v":""},{"$f":"IF(Worksheet!D233=\"\",\"\",Worksheet!D233)","v":""},{"$f":"IF(Worksheet!$A$11=TRUE,\"Y\",\"N\")","v":"N"},{"$f":"IF(Worksheet!$A$12=TRUE,\"Y\",\"N\")","v":"N"},{"$f":"IF(Worksheet!$B$11=TRUE,\"Y\",\"N\")","v":"N"},{"$f":"IF(Worksheet!$B$12=TRUE,\"Y\",\"N\")","v":"N"},{"$f":"IF(Worksheet!$C$11=TRUE,\"Y\",\"N\")","v":"N"},{"$f":"IFERROR(IF(N(Worksheet!V233)=0,Worksheet!U233,Worksheet!V233),\"\")","v":0}]
[{"$f":"IF(ISBLANK(Worksheet!F234)=FALSE,VLOOKUP(Worksheet!A234,MeasureCode_Lookup,6,FALSE),\"\")","v":""},{"$f":"Worksheet!H234","v":0},{"$f":"Worksheet!I234","v":0},{"$f":"IFERROR(IF(Worksheet!Z234=0,Worksheet!Y234/I212,Worksheet!Z234/R212),0)","v":0},"W Controlled",null,null,{"$f":"IF(N(Worksheet!S234)=0,N(Worksheet!R234),N(Worksheet!S234))","v":0},{"$f":"IFERROR(Worksheet!W234/(Worksheet!R234+Worksheet!U234),0)","v":0},{"$f":"Worksheet!AE234","v":0},{"$f":"Worksheet!AD234","v":0},0,{"$f":"IF(Worksheet!AL234=0,0,Worksheet!AL234/I212)","v":0},0,null,null,null,{"$f":"IFERROR(Worksheet!X234/(Worksheet!S234+Worksheet!V234),0)","v":0},{"$f":"IF(Worksheet!E234=\"\",\"\",Worksheet!E234)","v":""},{"$f":"IF(Worksheet!B234=\"\",\"\",Worksheet!B234)","v":""},{"$f":"IF(Worksheet!D234=\"\",\"\",Worksheet!D234)","v":""},{"$f":"IF(Worksheet!$A$11=TRUE,\"Y\",\"N\")","v":"N"},{"$f":"IF(Worksheet!$A$12=TRUE,\"Y\",\"N\")","v":"N"},{"$f":"IF(Worksheet!$B$11=TRUE,\"Y\",\"N\")","v":"N"},{"$f":"IF(Worksheet!$B$12=TRUE,\"Y\",\"N\")","v":"N"},{"$f":"IF(Worksheet!$C$11=TRUE,\"Y\",\"N\")","v":"N"},{"$f":"IFERROR(IF(N(Worksheet!V234)=0,Worksheet!U234,Worksheet!V234),\"\")","v":0}]
[{"$f":"IF(ISBLANK(Worksheet!F235)=FALSE,VLOOKUP(Worksheet!A235,MeasureCode_Lookup,6,FALSE),\"\")","v":""},{"$f":"Worksheet!H235","v":0},{"$f":"Worksheet!I235","v":0},{"$f":"IFERROR(IF(Worksheet!Z235=0,Worksheet!Y235/I213,Worksheet!Z235/R213),0)","v":0},"W Controlled",null,null,{"$f":"IF(N(Worksheet!S235)=0,N(Worksheet!R235),N(Worksheet!S235))","v":0},{"$f":"IFERROR(Worksheet!W235/(Worksheet!R235+Worksheet!U235),0)","v":0},{"$f":"Worksheet!AE235","v":0},{"$f":"Worksheet!AD235","v":0},0,{"$f":"IF(Worksheet!AL235=0,0,Worksheet!AL235/I213)","v":0},0,null,null,null,{"$f":"IFERROR(Worksheet!X235/(Worksheet!S235+Worksheet!V235),0)","v":0},{"$f":"IF(Worksheet!E235=\"\",\"\",Worksheet!E235)","v":""},{"$f":"IF(Worksheet!B235=\"\",\"\",Worksheet!B235)","v":""},{"$f":"IF(Worksheet!D235=\"\",\"\",Worksheet!D235)","v":""},{"$f":"IF(Worksheet!$A$11=TRUE,\"Y\",\"N\")","v":"N"},{"$f":"IF(Worksheet!$A$12=TRUE,\"Y\",\"N\")","v":"N"},{"$f":"IF(Worksheet!$B$11=TRUE,\"Y\",\"N\")","v":"N"},{"$f":"IF(Worksheet!$B$12=TRUE,\"Y\",\"N\")","v":"N"},{"$f":"IF(Worksheet!$C$11=TRUE,\"Y\",\"N\")","v":"N"},{"$f":"IFERROR(IF(N(Worksheet!V235)=0,Worksheet!U235,Worksheet!V235),\"\")","v":0}]
[{"$f":"IF(ISBLANK(Worksheet!F236)=FALSE,VLOOKUP(Worksheet!A236,MeasureCode_Lookup,6,FALSE),\"\")","v":""},{"$f":"Worksheet!H236","v":0},{"$f":"Worksheet!I236","v":0},{"$f":"IFERROR(IF(Worksheet!Z236=0,Worksheet!Y236/I214,Worksheet!Z236/R214),0)","v":0},"W Controlled",null,null,{"$f":"IF(N(Worksheet!S236)=0,N(Worksheet!R236),N(Worksheet!S236))","v":0},{"$f":"IFERROR(Worksheet!W236/(Worksheet!R236+Worksheet!U236),0)","v":0},{"$f":"Worksheet!AE236","v":0},{"$f":"Worksheet!AD236","v":0},0,{"$f":"IF(Worksheet!AL236=0,0,Worksheet!AL236/I214)","v":0},0,null,null,null,{"$f":"IFERROR(Worksheet!X236/(Worksheet!S236+Worksheet!V236),0)","v":0},{"$f":"IF(Worksheet!E236=\"\",\"\",Worksheet!E236)","v":""},{"$f":"IF(Worksheet!B236=\"\",\"\",Worksheet!B236)","v":""},{"$f":"IF(Worksheet!D236=\"\",\"\",Worksheet!D236)","v":""},{"$f":"IF(Worksheet!$A$11=TRUE,\"Y\",\"N\")","v":"N"},{"$f":"IF(Worksheet!$A$12=TRUE,\"Y\",\"N\")","v":"N"},{"$f":"IF(Worksheet!$B$11=TRUE,\"Y\",\"N\")","v":"N"},{"$f":"IF(Worksheet!$B$12=TRUE,\"Y\",\"N\")","v":"N"},{"$f":"IF(Worksheet!$C$11=TRUE,\"Y\",\"N\")","v":"N"},{"$f":"IFERROR(IF(N(Worksheet!V236)=0,Worksheet!U236,Worksheet!V236),\"\")","v":0}]
[{"$f":"IF(ISBLANK(Worksheet!F237)=FALSE,VLOOKUP(Worksheet!A237,MeasureCode_Lookup,6,FALSE),\"\")","v":""},{"$f":"Worksheet!H237","v":0},{"$f":"Worksheet!I237","v":0},{"$f":"IFERROR(IF(Worksheet!Z237=0,Worksheet!Y237/I215,Worksheet!Z237/R215),0)","v":0},"W Controlled",null,null,{"$f":"IF(N(Worksheet!S237)=0,N(Worksheet!R237),N(Worksheet!S237))","v":0},{"$f":"IFERROR(Worksheet!W237/(Worksheet!R237+Worksheet!U237),0)","v":0},{"$f":"Worksheet!AE237","v":0},{"$f":"Worksheet!AD237","v":0},0,{"$f":"IF(Worksheet!AL237=0,0,Worksheet!AL237/I215)","v":0},0,null,null,null,{"$f":"IFERROR(Worksheet!X237/(Worksheet!S237+Worksheet!V237),0)","v":0},{"$f":"IF(Worksheet!E237=\"\",\"\",Worksheet!E237)","v":""},{"$f":"IF(Worksheet!B237=\"\",\"\",Worksheet!B237)","v":""},{"$f":"IF(Worksheet!D237=\"\",\"\",Worksheet!D237)","v":""},{"$f":"IF(Worksheet!$A$11=TRUE,\"Y\",\"N\")","v":"N"},{"$f":"IF(Worksheet!$A$12=TRUE,\"Y\",\"N\")","v":"N"},{"$f":"IF(Worksheet!$B$11=TRUE,\"Y\",\"N\")","v":"N"},{"$f":"IF(Worksheet!$B$12=TRUE,\"Y\",\"N\")","v":"N"},{"$f":"IF(Worksheet!$C$11=TRUE,\"Y\",\"N\")","v":"N"},{"$f":"IFERROR(IF(N(Worksheet!V237)=0,Worksheet!U237,Worksheet!V237),\"\")","v":0}]
[{"$f":"IF(ISBLANK(Worksheet!F238)=FALSE,VLOOKUP(Worksheet!A238,MeasureCode_Lookup,6,FALSE),\"\")","v":""},{"$f":"Worksheet!H238","v":0},{"$f":"Worksheet!I238","v":0},{"$f":"IFERROR(IF(Worksheet!Z238=0,Worksheet!Y238/I216,Worksheet!Z238/R216),0)","v":0},"W Controlled",null,null,{"$f":"IF(N(Worksheet!S238)=0,N(Worksheet!R238),N(Worksheet!S238))","v":0},{"$f":"IFERROR(Worksheet!W238/(Worksheet!R238+Worksheet!U238),0)","v":0},{"$f":"Worksheet!AE238","v":0},{"$f":"Worksheet!AD238","v":0},0,{"$f":"IF(Worksheet!AL238=0,0,Worksheet!AL238/I216)","v":0},0,null,null,null,{"$f":"IFERROR(Worksheet!X238/(Worksheet!S238+Worksheet!V238),0)","v":0},{"$f":"IF(Worksheet!E238=\"\",\"\",Worksheet!E238)","v":""},{"$f":"IF(Worksheet!B238=\"\",\"\",Worksheet!B238)","v":""},{"$f":"IF(Worksheet!D238=\"\",\"\",Worksheet!D238)","v":""},{"$f":"IF(Worksheet!$A$11=TRUE,\"Y\",\"N\")","v":"N"},{"$f":"IF(Worksheet!$A$12=TRUE,\"Y\",\"N\")","v":"N"},{"$f":"IF(Worksheet!$B$11=TRUE,\"Y\",\"N\")","v":"N"},{"$f":"IF(Worksheet!$B$12=TRUE,\"Y\",\"N\")","v":"N"},{"$f":"IF(Worksheet!$C$11=TRUE,\"Y\",\"N\")","v":"N"},{"$f":"IFERROR(IF(N(Worksheet!V238)=0,Worksheet!U238,Worksheet!V238),\"\")","v":0}]
[{"$f":"IF(ISBLANK(Worksheet!F239)=FALSE,VLOOKUP(Worksheet!A239,MeasureCode_Lookup,6,FALSE),\"\")","v":""},{"$f":"Worksheet!H239","v":0},{"$f":"Worksheet!I239","v":0},{"$f":"IFERROR(IF(Worksheet!Z239=0,Worksheet!Y239/I217,Worksheet!Z239/R217),0)","v":0},"W Controlled",null,null,{"$f":"IF(N(Worksheet!S239)=0,N(Worksheet!R239),N(Worksheet!S239))","v":0},{"$f":"IFERROR(Worksheet!W239/(Worksheet!R239+Worksheet!U239),0)","v":0},{"$f":"Worksheet!AE239","v":0},{"$f":"Worksheet!AD239","v":0},0,{"$f":"IF(Worksheet!AL239=0,0,Worksheet!AL239/I217)","v":0},0,null,null,null,{"$f":"IFERROR(Worksheet!X239/(Worksheet!S239+Worksheet!V239),0)","v":0},{"$f":"IF(Worksheet!E239=\"\",\"\",Worksheet!E239)","v":""},{"$f":"IF(Worksheet!B239=\"\",\"\",Worksheet!B239)","v":""},{"$f":"IF(Worksheet!D239=\"\",\"\",Worksheet!D239)","v":""},{"$f":"IF(Worksheet!$A$11=TRUE,\"Y\",\"N\")","v":"N"},{"$f":"IF(Worksheet!$A$12=TRUE,\"Y\",\"N\")","v":"N"},{"$f":"IF(Worksheet!$B$11=TRUE,\"Y\",\"N\")","v":"N"},{"$f":"IF(Worksheet!$B$12=TRUE,\"Y\",\"N\")","v":"N"},{"$f":"IF(Worksheet!$C$11=TRUE,\"Y\",\"N\")","v":"N"},{"$f":"IFERROR(IF(N(Worksheet!V239)=0,Worksheet!U239,Worksheet!V239),\"\")","v":0}]
[{"$f":"IF(ISBLANK(Worksheet!F240)=FALSE,VLOOKUP(Worksheet!A240,MeasureCode_Lookup,6,FALSE),\"\")","v":""},{"$f":"Worksheet!H240","v":0},{"$f":"Worksheet!I240","v":0},{"$f":"IFERROR(IF(Worksheet!Z240=0,Worksheet!Y240/I218,Worksheet!Z240/R218),0)","v":0},"W Controlled",null,null,{"$f":"IF(N(Worksheet!S240)=0,N(Worksheet!R240),N(Worksheet!S240))","v":0},{"$f":"IFERROR(Worksheet!W240/(Worksheet!R240+Worksheet!U240),0)","v":0},{"$f":"Worksheet!AE240","v":0},{"$f":"Worksheet!AD240","v":0},0,{"$f":"IF(Worksheet!AL240=0,0,Worksheet!AL240/I218)","v":0},0,null,null,null,{"$f":"IFERROR(Worksheet!X240/(Worksheet!S240+Worksheet!V240),0)","v":0},{"$f":"IF(Worksheet!E240=\"\",\"\",Worksheet!E240)","v":""},{"$f":"IF(Worksheet!B240=\"\",\"\",Worksheet!B240)","v":""},{"$f":"IF(Worksheet!D240=\"\",\"\",Worksheet!D240)","v":""},{"$f":"IF(Worksheet!$A$11=TRUE,\"Y\",\"N\")","v":"N"},{"$f":"IF(Worksheet!$A$12=TRUE,\"Y\",\"N\")","v":"N"},{"$f":"IF(Worksheet!$B$11=TRUE,\"Y\",\"N\")","v":"N"},{"$f":"IF(Worksheet!$B$12=TRUE,\"Y\",\"N\")","v":"N"},{"$f":"IF(Worksheet!$C$11=TRUE,\"Y\",\"N\")","v":"N"},{"$f":"IFERROR(IF(N(Worksheet!V240)=0,Worksheet!U240,Worksheet!V240),\"\")","v":0}]
[{"$f":"IF(ISBLANK(Worksheet!F241)=FALSE,VLOOKUP(Worksheet!A241,MeasureCode_Lookup,6,FALSE),\"\")","v":""},{"$f":"Worksheet!H241","v":0},{"$f":"Worksheet!I241","v":0},{"$f":"IFERROR(IF(Worksheet!Z241=0,Worksheet!Y241/I219,Worksheet!Z241/R219),0)","v":0},"W Controlled",null,null,{"$f":"IF(N(Worksheet!S241)=0,N(Worksheet!R241),N(Worksheet!S241))","v":0},{"$f":"IFERROR(Worksheet!W241/(Worksheet!R241+Worksheet!U241),0)","v":0},{"$f":"Worksheet!AE241","v":0},{"$f":"Worksheet!AD241","v":0},0,{"$f":"IF(Worksheet!AL241=0,0,Worksheet!AL241/I219)","v":0},0,null,null,null,{"$f":"IFERROR(Worksheet!X241/(Worksheet!S241+Worksheet!V241),0)","v":0},{"$f":"IF(Worksheet!E241=\"\",\"\",Worksheet!E241)","v":""},{"$f":"IF(Worksheet!B241=\"\",\"\",Worksheet!B241)","v":""},{"$f":"IF(Worksheet!D241=\"\",\"\",Worksheet!D241)","v":""},{"$f":"IF(Worksheet!$A$11=TRUE,\"Y\",\"N\")","v":"N"},{"$f":"IF(Worksheet!$A$12=TRUE,\"Y\",\"N\")","v":"N"},{"$f":"IF(Worksheet!$B$11=TRUE,\"Y\",\"N\")","v":"N"},{"$f":"IF(Worksheet!$B$12=TRUE,\"Y\",\"N\")","v":"N"},{"$f":"IF(Worksheet!$C$11=TRUE,\"Y\",\"N\")","v":"N"},{"$f":"IFERROR(IF(N(Worksheet!V241)=0,Worksheet!U241,Worksheet!V241),\"\")","v":0}]
[{"$f":"IF(ISBLANK(Worksheet!F242)=FALSE,VLOOKUP(Worksheet!A242,MeasureCode_Lookup,6,FALSE),\"\")","v":""},{"$f":"Worksheet!H242","v":0},{"$f":"Worksheet!I242","v":0},{"$f":"IFERROR(IF(Worksheet!Z242=0,Worksheet!Y242/I220,Worksheet!Z242/R220),0)","v":0},"W Controlled",null,null,{"$f":"IF(N(Worksheet!S242)=0,N(Worksheet!R242),N(Worksheet!S242))","v":0},{"$f":"IFERROR(Worksheet!W242/(Worksheet!R242+Worksheet!U242),0)","v":0},{"$f":"Worksheet!AE242","v":0},{"$f":"Worksheet!AD242","v":0},0,{"$f":"IF(Worksheet!AL242=0,0,Worksheet!AL242/I220)","v":0},0,null,null,null,{"$f":"IFERROR(Worksheet!X242/(Worksheet!S242+Worksheet!V242),0)","v":0},{"$f":"IF(Worksheet!E242=\"\",\"\",Worksheet!E242)","v":""},{"$f":"IF(Worksheet!B242=\"\",\"\",Worksheet!B242)","v":""},{"$f":"IF(Worksheet!D242=\"\",\"\",Worksheet!D242)","v":""},{"$f":"IF(Worksheet!$A$11=TRUE,\"Y\",\"N\")","v":"N"},{"$f":"IF(Worksheet!$A$12=TRUE,\"Y\",\"N\")","v":"N"},{"$f":"IF(Worksheet!$B$11=TRUE,\"Y\",\"N\")","v":"N"},{"$f":"IF(Worksheet!$B$12=TRUE,\"Y\",\"N\")","v":"N"},{"$f":"IF(Worksheet!$C$11=TRUE,\"Y\",\"N\")","v":"N"},{"$f":"IFERROR(IF(N(Worksheet!V242)=0,Worksheet!U242,Worksheet!V242),\"\")","v":0}]
[{"$f":"IF(ISBLANK(Worksheet!F243)=FALSE,VLOOKUP(Worksheet!A243,MeasureCode_Lookup,6,FALSE),\"\")","v":""},{"$f":"Worksheet!H243","v":0},{"$f":"Worksheet!I243","v":0},{"$f":"IFERROR(IF(Worksheet!Z243=0,Worksheet!Y243/I221,Worksheet!Z243/R221),0)","v":0},"W Controlled",null,null,{"$f":"IF(N(Worksheet!S243)=0,N(Worksheet!R243),N(Worksheet!S243))","v":0},{"$f":"IFERROR(Worksheet!W243/(Worksheet!R243+Worksheet!U243),0)","v":0},{"$f":"Worksheet!AE243","v":0},{"$f":"Worksheet!AD243","v":0},0,{"$f":"IF(Worksheet!AL243=0,0,Worksheet!AL243/I221)","v":0},0,null,null,null,{"$f":"IFERROR(Worksheet!X243/(Worksheet!S243+Worksheet!V243),0)","v":0},{"$f":"IF(Worksheet!E243=\"\",\"\",Worksheet!E243)","v":""},{"$f":"IF(Worksheet!B243=\"\",\"\",Worksheet!B243)","v":""},{"$f":"IF(Worksheet!D243=\"\",\"\",Worksheet!D243)","v":""},{"$f":"IF(Worksheet!$A$11=TRUE,\"Y\",\"N\")","v":"N"},{"$f":"IF(Worksheet!$A$12=TRUE,\"Y\",\"N\")","v":"N"},{"$f":"IF(Worksheet!$B$11=TRUE,\"Y\",\"N\")","v":"N"},{"$f":"IF(Worksheet!$B$12=TRUE,\"Y\",\"N\")","v":"N"},{"$f":"IF(Worksheet!$C$11=TRUE,\"Y\",\"N\")","v":"N"},{"$f":"IFERROR(IF(N(Worksheet!V243)=0,Worksheet!U243,Worksheet!V243),\"\")","v":0}]
[{"$f":"IF(ISBLANK(Worksheet!F244)=FALSE,VLOOKUP(Worksheet!A244,MeasureCode_Lookup,6,FALSE),\"\")","v":""},{"$f":"Worksheet!H244","v":0},{"$f":"Worksheet!I244","v":0},{"$f":"IFERROR(IF(Worksheet!Z244=0,Worksheet!Y244/I222,Worksheet!Z244/R222),0)","v":0},"W Controlled",null,null,{"$f":"IF(N(Worksheet!S244)=0,N(Worksheet!R244),N(Worksheet!S244))","v":0},{"$f":"IFERROR(Worksheet!W244/(Worksheet!R244+Worksheet!U244),0)","v":0},{"$f":"Worksheet!AE244","v":0},{"$f":"Worksheet!AD244","v":0},0,{"$f":"IF(Worksheet!AL244=0,0,Worksheet!AL244/I222)","v":0},0,null,null,null,{"$f":"IFERROR(Worksheet!X244/(Worksheet!S244+Worksheet!V244),0)","v":0},{"$f":"IF(Worksheet!E244=\"\",\"\",Worksheet!E244)","v":""},{"$f":"IF(Worksheet!B244=\"\",\"\",Worksheet!B244)","v":""},{"$f":"IF(Worksheet!D244=\"\",\"\",Worksheet!D244)","v":""},{"$f":"IF(Worksheet!$A$11=TRUE,\"Y\",\"N\")","v":"N"},{"$f":"IF(Worksheet!$A$12=TRUE,\"Y\",\"N\")","v":"N"},{"$f":"IF(Worksheet!$B$11=TRUE,\"Y\",\"N\")","v":"N"},{"$f":"IF(Worksheet!$B$12=TRUE,\"Y\",\"N\")","v":"N"},{"$f":"IF(Worksheet!$C$11=TRUE,\"Y\",\"N\")","v":"N"},{"$f":"IFERROR(IF(N(Worksheet!V244)=0,Worksheet!U244,Worksheet!V244),\"\")","v":0}]
[{"$f":"IF(ISBLANK(Worksheet!F245)=FALSE,VLOOKUP(Worksheet!A245,MeasureCode_Lookup,6,FALSE),\"\")","v":""},{"$f":"Worksheet!H245","v":0},{"$f":"Worksheet!I245","v":0},{"$f":"IFERROR(IF(Worksheet!Z245=0,Worksheet!Y245/I223,Worksheet!Z245/R223),0)","v":0},"W Controlled",null,null,{"$f":"IF(N(Worksheet!S245)=0,N(Worksheet!R245),N(Worksheet!S245))","v":0},{"$f":"IFERROR(Worksheet!W245/(Worksheet!R245+Worksheet!U245),0)","v":0},{"$f":"Worksheet!AE245","v":0},{"$f":"Worksheet!AD245","v":0},0,{"$f":"IF(Worksheet!AL245=0,0,Worksheet!AL245/I223)","v":0},0,null,null,null,{"$f":"IFERROR(Worksheet!X245/(Worksheet!S245+Worksheet!V245),0)","v":0},{"$f":"IF(Worksheet!E245=\"\",\"\",Worksheet!E245)","v":""},{"$f":"IF(Worksheet!B245=\"\",\"\",Worksheet!B245)","v":""},{"$f":"IF(Worksheet!D245=\"\",\"\",Worksheet!D245)","v":""},{"$f":"IF(Worksheet!$A$11=TRUE,\"Y\",\"N\")","v":"N"},{"$f":"IF(Worksheet!$A$12=TRUE,\"Y\",\"N\")","v":"N"},{"$f":"IF(Worksheet!$B$11=TRUE,\"Y\",\"N\")","v":"N"},{"$f":"IF(Worksheet!$B$12=TRUE,\"Y\",\"N\")","v":"N"},{"$f":"IF(Worksheet!$C$11=TRUE,\"Y\",\"N\")","v":"N"},{"$f":"IFERROR(IF(N(Worksheet!V245)=0,Worksheet!U245,Worksheet!V245),\"\")","v":0}]
[{"$f":"IF(ISBLANK(Worksheet!F246)=FALSE,VLOOKUP(Worksheet!A246,MeasureCode_Lookup,6,FALSE),\"\")","v":""},{"$f":"Worksheet!H246","v":0},{"$f":"Worksheet!I246","v":0},{"$f":"IFERROR(IF(Worksheet!Z246=0,Worksheet!Y246/I224,Worksheet!Z246/R224),0)","v":0},"W Controlled",null,null,{"$f":"IF(N(Worksheet!S246)=0,N(Worksheet!R246),N(Worksheet!S246))","v":0},{"$f":"IFERROR(Worksheet!W246/(Worksheet!R246+Worksheet!U246),0)","v":0},{"$f":"Worksheet!AE246","v":0},{"$f":"Worksheet!AD246","v":0},0,{"$f":"IF(Worksheet!AL246=0,0,Worksheet!AL246/I224)","v":0},0,null,null,null,{"$f":"IFERROR(Worksheet!X246/(Worksheet!S246+Worksheet!V246),0)","v":0},{"$f":"IF(Worksheet!E246=\"\",\"\",Worksheet!E246)","v":""},{"$f":"IF(Worksheet!B246=\"\",\"\",Worksheet!B246)","v":""},{"$f":"IF(Worksheet!D246=\"\",\"\",Worksheet!D246)","v":""},{"$f":"IF(Worksheet!$A$11=TRUE,\"Y\",\"N\")","v":"N"},{"$f":"IF(Worksheet!$A$12=TRUE,\"Y\",\"N\")","v":"N"},{"$f":"IF(Worksheet!$B$11=TRUE,\"Y\",\"N\")","v":"N"},{"$f":"IF(Worksheet!$B$12=TRUE,\"Y\",\"N\")","v":"N"},{"$f":"IF(Worksheet!$C$11=TRUE,\"Y\",\"N\")","v":"N"},{"$f":"IFERROR(IF(N(Worksheet!V246)=0,Worksheet!U246,Worksheet!V246),\"\")","v":0}]
[{"$f":"IF(ISBLANK(Worksheet!F247)=FALSE,VLOOKUP(Worksheet!A247,MeasureCode_Lookup,6,FALSE),\"\")","v":""},{"$f":"Worksheet!H247","v":0},{"$f":"Worksheet!I247","v":0},{"$f":"IFERROR(IF(Worksheet!Z247=0,Worksheet!Y247/I225,Worksheet!Z247/R225),0)","v":0},"W Controlled",null,null,{"$f":"IF(N(Worksheet!S247)=0,N(Worksheet!R247),N(Worksheet!S247))","v":0},{"$f":"IFERROR(Worksheet!W247/(Worksheet!R247+Worksheet!U247),0)","v":0},{"$f":"Worksheet!AE247","v":0},{"$f":"Worksheet!AD247","v":0},0,{"$f":"IF(Worksheet!AL247=0,0,Worksheet!AL247/I225)","v":0},0,null,null,null,{"$f":"IFERROR(Worksheet!X247/(Worksheet!S247+Worksheet!V247),0)","v":0},{"$f":"IF(Worksheet!E247=\"\",\"\",Worksheet!E247)","v":""},{"$f":"IF(Worksheet!B247=\"\",\"\",Worksheet!B247)","v":""},{"$f":"IF(Worksheet!D247=\"\",\"\",Worksheet!D247)","v":""},{"$f":"IF(Worksheet!$A$11=TRUE,\"Y\",\"N\")","v":"N"},{"$f":"IF(Worksheet!$A$12=TRUE,\"Y\",\"N\")","v":"N"},{"$f":"IF(Worksheet!$B$11=TRUE,\"Y\",\"N\")","v":"N"},{"$f":"IF(Worksheet!$B$12=TRUE,\"Y\",\"N\")","v":"N"},{"$f":"IF(Worksheet!$C$11=TRUE,\"Y\",\"N\")","v":"N"},{"$f":"IFERROR(IF(N(Worksheet!V247)=0,Worksheet!U247,Worksheet!V247),\"\")","v":0}]
[{"$f":"IF(ISBLANK(Worksheet!F248)=FALSE,VLOOKUP(Worksheet!A248,MeasureCode_Lookup,6,FALSE),\"\")","v":""},{"$f":"Worksheet!H248","v":0},{"$f":"Worksheet!I248","v":0},{"$f":"IFERROR(IF(Worksheet!Z248=0,Worksheet!Y248/I226,Worksheet!Z248/R226),0)","v":0},"W Controlled",null,null,{"$f":"IF(N(Worksheet!S248)=0,N(Worksheet!R248),N(Worksheet!S248))","v":0},{"$f":"IFERROR(Worksheet!W248/(Worksheet!R248+Worksheet!U248),0)","v":0},{"$f":"Worksheet!AE248","v":0},{"$f":"Worksheet!AD248","v":0},0,{"$f":"IF(Worksheet!AL248=0,0,Worksheet!AL248/I226)","v":0},0,null,null,null,{"$f":"IFERROR(Worksheet!X248/(Worksheet!S248+Worksheet!V248),0)","v":0},{"$f":"IF(Worksheet!E248=\"\",\"\",Worksheet!E248)","v":""},{"$f":"IF(Worksheet!B248=\"\",\"\",Worksheet!B248)","v":""},{"$f":"IF(Worksheet!D248=\"\",\"\",Worksheet!D248)","v":""},{"$f":"IF(Worksheet!$A$11=TRUE,\"Y\",\"N\")","v":"N"},{"$f":"IF(Worksheet!$A$12=TRUE,\"Y\",\"N\")","v":"N"},{"$f":"IF(Worksheet!$B$11=TRUE,\"Y\",\"N\")","v":"N"},{"$f":"IF(Worksheet!$B$12=TRUE,\"Y\",\"N\")","v":"N"},{"$f":"IF(Worksheet!$C$11=TRUE,\"Y\",\"N\")","v":"N"},{"$f":"IFERROR(IF(N(Worksheet!V248)=0,Worksheet!U248,Worksheet!V248),\"\")","v":0}]
[{"$f":"IF(ISBLANK(Worksheet!F249)=FALSE,VLOOKUP(Worksheet!A249,MeasureCode_Lookup,6,FALSE),\"\")","v":""},{"$f":"Worksheet!H249","v":0},{"$f":"Worksheet!I249","v":0},{"$f":"IFERROR(IF(Worksheet!Z249=0,Worksheet!Y249/I227,Worksheet!Z249/R227),0)","v":0},"W Controlled",null,null,{"$f":"IF(N(Worksheet!S249)=0,N(Worksheet!R249),N(Worksheet!S249))","v":0},{"$f":"IFERROR(Worksheet!W249/(Worksheet!R249+Worksheet!U249),0)","v":0},{"$f":"Worksheet!AE249","v":0},{"$f":"Worksheet!AD249","v":0},0,{"$f":"IF(Worksheet!AL249=0,0,Worksheet!AL249/I227)","v":0},0,null,null,null,{"$f":"IFERROR(Worksheet!X249/(Worksheet!S249+Worksheet!V249),0)","v":0},{"$f":"IF(Worksheet!E249=\"\",\"\",Worksheet!E249)","v":""},{"$f":"IF(Worksheet!B249=\"\",\"\",Worksheet!B249)","v":""},{"$f":"IF(Worksheet!D249=\"\",\"\",Worksheet!D249)","v":""},{"$f":"IF(Worksheet!$A$11=TRUE,\"Y\",\"N\")","v":"N"},{"$f":"IF(Worksheet!$A$12=TRUE,\"Y\",\"N\")","v":"N"},{"$f":"IF(Worksheet!$B$11=TRUE,\"Y\",\"N\")","v":"N"},{"$f":"IF(Worksheet!$B$12=TRUE,\"Y\",\"N\")","v":"N"},{"$f":"IF(Worksheet!$C$11=TRUE,\"Y\",\"N\")","v":"N"},{"$f":"IFERROR(IF(N(Worksheet!V249)=0,Worksheet!U249,Worksheet!V249),\"\")","v":0}]
[{"$f":"IF(ISBLANK(Worksheet!F250)=FALSE,VLOOKUP(Worksheet!A250,MeasureCode_Lookup,6,FALSE),\"\")","v":""},{"$f":"Worksheet!H250","v":0},{"$f":"Worksheet!I250","v":0},{"$f":"IFERROR(IF(Worksheet!Z250=0,Worksheet!Y250/I228,Worksheet!Z250/R228),0)","v":0},"W Controlled",null,null,{"$f":"IF(N(Worksheet!S250)=0,N(Worksheet!R250),N(Worksheet!S250))","v":0},{"$f":"IFERROR(Worksheet!W250/(Worksheet!R250+Worksheet!U250),0)","v":0},{"$f":"Worksheet!AE250","v":0},{"$f":"Worksheet!AD250","v":0},0,{"$f":"IF(Worksheet!AL250=0,0,Worksheet!AL250/I228)","v":0},0,null,null,null,{"$f":"IFERROR(Worksheet!X250/(Worksheet!S250+Worksheet!V250),0)","v":0},{"$f":"IF(Worksheet!E250=\"\",\"\",Worksheet!E250)","v":""},{"$f":"IF(Worksheet!B250=\"\",\"\",Worksheet!B250)","v":""},{"$f":"IF(Worksheet!D250=\"\",\"\",Worksheet!D250)","v":""},{"$f":"IF(Worksheet!$A$11=TRUE,\"Y\",\"N\")","v":"N"},{"$f":"IF(Worksheet!$A$12=TRUE,\"Y\",\"N\")","v":"N"},{"$f":"IF(Worksheet!$B$11=TRUE,\"Y\",\"N\")","v":"N"},{"$f":"IF(Worksheet!$B$12=TRUE,\"Y\",\"N\")","v":"N"},{"$f":"IF(Worksheet!$C$11=TRUE,\"Y\",\"N\")","v":"N"},{"$f":"IFERROR(IF(N(Worksheet!V250)=0,Worksheet!U250,Worksheet!V250),\"\")","v":0}]
[{"$f":"IF(ISBLANK(Worksheet!F251)=FALSE,VLOOKUP(Worksheet!A251,MeasureCode_Lookup,6,FALSE),\"\")","v":""},{"$f":"Worksheet!H251","v":0},{"$f":"Worksheet!I251","v":0},{"$f":"IFERROR(IF(Worksheet!Z251=0,Worksheet!Y251/I229,Worksheet!Z251/R229),0)","v":0},"W Controlled",null,null,{"$f":"IF(N(Worksheet!S251)=0,N(Worksheet!R251),N(Worksheet!S251))","v":0},{"$f":"IFERROR(Worksheet!W251/(Worksheet!R251+Worksheet!U251),0)","v":0},{"$f":"Worksheet!AE251","v":0},{"$f":"Worksheet!AD251","v":0},0,{"$f":"IF(Worksheet!AL251=0,0,Worksheet!AL251/I229)","v":0},0,null,null,null,{"$f":"IFERROR(Worksheet!X251/(Worksheet!S251+Worksheet!V251),0)","v":0},{"$f":"IF(Worksheet!E251=\"\",\"\",Worksheet!E251)","v":""},{"$f":"IF(Worksheet!B251=\"\",\"\",Worksheet!B251)","v":""},{"$f":"IF(Worksheet!D251=\"\",\"\",Worksheet!D251)","v":""},{"$f":"IF(Worksheet!$A$11=TRUE,\"Y\",\"N\")","v":"N"},{"$f":"IF(Worksheet!$A$12=TRUE,\"Y\",\"N\")","v":"N"},{"$f":"IF(Worksheet!$B$11=TRUE,\"Y\",\"N\")","v":"N"},{"$f":"IF(Worksheet!$B$12=TRUE,\"Y\",\"N\")","v":"N"},{"$f":"IF(Worksheet!$C$11=TRUE,\"Y\",\"N\")","v":"N"},{"$f":"IFERROR(IF(N(Worksheet!V251)=0,Worksheet!U251,Worksheet!V251),\"\")","v":0}]
[{"$f":"IF(ISBLANK(Worksheet!F252)=FALSE,VLOOKUP(Worksheet!A252,MeasureCode_Lookup,6,FALSE),\"\")","v":""},{"$f":"Worksheet!H252","v":0},{"$f":"Worksheet!I252","v":0},{"$f":"IFERROR(IF(Worksheet!Z252=0,Worksheet!Y252/I230,Worksheet!Z252/R230),0)","v":0},"W Controlled",null,null,{"$f":"IF(N(Worksheet!S252)=0,N(Worksheet!R252),N(Worksheet!S252))","v":0},{"$f":"IFERROR(Worksheet!W252/(Worksheet!R252+Worksheet!U252),0)","v":0},{"$f":"Worksheet!AE252","v":0},{"$f":"Worksheet!AD252","v":0},0,{"$f":"IF(Worksheet!AL252=0,0,Worksheet!AL252/I230)","v":0},0,null,null,null,{"$f":"IFERROR(Worksheet!X252/(Worksheet!S252+Worksheet!V252),0)","v":0},{"$f":"IF(Worksheet!E252=\"\",\"\",Worksheet!E252)","v":""},{"$f":"IF(Worksheet!B252=\"\",\"\",Worksheet!B252)","v":""},{"$f":"IF(Worksheet!D252=\"\",\"\",Worksheet!D252)","v":""},{"$f":"IF(Worksheet!$A$11=TRUE,\"Y\",\"N\")","v":"N"},{"$f":"IF(Worksheet!$A$12=TRUE,\"Y\",\"N\")","v":"N"},{"$f":"IF(Worksheet!$B$11=TRUE,\"Y\",\"N\")","v":"N"},{"$f":"IF(Worksheet!$B$12=TRUE,\"Y\",\"N\")","v":"N"},{"$f":"IF(Worksheet!$C$11=TRUE,\"Y\",\"N\")","v":"N"},{"$f":"IFERROR(IF(N(Worksheet!V252)=0,Worksheet!U252,Worksheet!V252),\"\")","v":0}]
[{"$f":"IF(ISBLANK(Worksheet!F253)=FALSE,VLOOKUP(Worksheet!A253,MeasureCode_Lookup,6,FALSE),\"\")","v":""},{"$f":"Worksheet!H253","v":0},{"$f":"Worksheet!I253","v":0},{"$f":"IFERROR(IF(Worksheet!Z253=0,Worksheet!Y253/I231,Worksheet!Z253/R231),0)","v":0},"W Controlled",null,null,{"$f":"IF(N(Worksheet!S253)=0,N(Worksheet!R253),N(Worksheet!S253))","v":0},{"$f":"IFERROR(Worksheet!W253/(Worksheet!R253+Worksheet!U253),0)","v":0},{"$f":"Worksheet!AE253","v":0},{"$f":"Worksheet!AD253","v":0},0,{"$f":"IF(Worksheet!AL253=0,0,Worksheet!AL253/I231)","v":0},0,null,null,null,{"$f":"IFERROR(Worksheet!X253/(Worksheet!S253+Worksheet!V253),0)","v":0},{"$f":"IF(Worksheet!E253=\"\",\"\",Worksheet!E253)","v":""},{"$f":"IF(Worksheet!B253=\"\",\"\",Worksheet!B253)","v":""},{"$f":"IF(Worksheet!D253=\"\",\"\",Worksheet!D253)","v":""},{"$f":"IF(Worksheet!$A$11=TRUE,\"Y\",\"N\")","v":"N"},{"$f":"IF(Worksheet!$A$12=TRUE,\"Y\",\"N\")","v":"N"},{"$f":"IF(Worksheet!$B$11=TRUE,\"Y\",\"N\")","v":"N"},{"$f":"IF(Worksheet!$B$12=TRUE,\"Y\",\"N\")","v":"N"},{"$f":"IF(Worksheet!$C$11=TRUE,\"Y\",\"N\")","v":"N"},{"$f":"IFERROR(IF(N(Worksheet!V253)=0,Worksheet!U253,Worksheet!V253),\"\")","v":0}]
[{"$f":"IF(ISBLANK(Worksheet!F254)=FALSE,VLOOKUP(Worksheet!A254,MeasureCode_Lookup,6,FALSE),\"\")","v":""},{"$f":"Worksheet!H254","v":0},{"$f":"Worksheet!I254","v":0},{"$f":"IFERROR(IF(Worksheet!Z254=0,Worksheet!Y254/I232,Worksheet!Z254/R232),0)","v":0},"W Controlled",null,null,{"$f":"IF(N(Worksheet!S254)=0,N(Worksheet!R254),N(Worksheet!S254))","v":0},{"$f":"IFERROR(Worksheet!W254/(Worksheet!R254+Worksheet!U254),0)","v":0},{"$f":"Worksheet!AE254","v":0},{"$f":"Worksheet!AD254","v":0},0,{"$f":"IF(Worksheet!AL254=0,0,Worksheet!AL254/I232)","v":0},0,null,null,null,{"$f":"IFERROR(Worksheet!X254/(Worksheet!S254+Worksheet!V254),0)","v":0},{"$f":"IF(Worksheet!E254=\"\",\"\",Worksheet!E254)","v":""},{"$f":"IF(Worksheet!B254=\"\",\"\",Worksheet!B254)","v":""},{"$f":"IF(Worksheet!D254=\"\",\"\",Worksheet!D254)","v":""},{"$f":"IF(Worksheet!$A$11=TRUE,\"Y\",\"N\")","v":"N"},{"$f":"IF(Worksheet!$A$12=TRUE,\"Y\",\"N\")","v":"N"},{"$f":"IF(Worksheet!$B$11=TRUE,\"Y\",\"N\")","v":"N"},{"$f":"IF(Worksheet!$B$12=TRUE,\"Y\",\"N\")","v":"N"},{"$f":"IF(Worksheet!$C$11=TRUE,\"Y\",\"N\")","v":"N"},{"$f":"IFERROR(IF(N(Worksheet!V254)=0,Worksheet!U254,Worksheet!V254),\"\")","v":0}]
[{"$f":"IF(ISBLANK(Worksheet!F255)=FALSE,VLOOKUP(Worksheet!A255,MeasureCode_Lookup,6,FALSE),\"\")","v":""},{"$f":"Worksheet!H255","v":0},{"$f":"Worksheet!I255","v":0},{"$f":"IFERROR(IF(Worksheet!Z255=0,Worksheet!Y255/I233,Worksheet!Z255/R233),0)","v":0},"W Controlled",null,null,{"$f":"IF(N(Worksheet!S255)=0,N(Worksheet!R255),N(Worksheet!S255))","v":0},{"$f":"IFERROR(Worksheet!W255/(Worksheet!R255+Worksheet!U255),0)","v":0},{"$f":"Worksheet!AE255","v":0},{"$f":"Worksheet!AD255","v":0},0,{"$f":"IF(Worksheet!AL255=0,0,Worksheet!AL255/I233)","v":0},0,null,null,null,{"$f":"IFERROR(Worksheet!X255/(Worksheet!S255+Worksheet!V255),0)","v":0},{"$f":"IF(Worksheet!E255=\"\",\"\",Worksheet!E255)","v":""},{"$f":"IF(Worksheet!B255=\"\",\"\",Worksheet!B255)","v":""},{"$f":"IF(Worksheet!D255=\"\",\"\",Worksheet!D255)","v":""},{"$f":"IF(Worksheet!$A$11=TRUE,\"Y\",\"N\")","v":"N"},{"$f":"IF(Worksheet!$A$12=TRUE,\"Y\",\"N\")","v":"N"},{"$f":"IF(Worksheet!$B$11=TRUE,\"Y\",\"N\")","v":"N"},{"$f":"IF(Worksheet!$B$12=TRUE,\"Y\",\"N\")","v":"N"},{"$f":"IF(Worksheet!$C$11=TRUE,\"Y\",\"N\")","v":"N"},{"$f":"IFERROR(IF(N(Worksheet!V255)=0,Worksheet!U255,Worksheet!V255),\"\")","v":0}]
[{"$f":"IF(ISBLANK(Worksheet!F256)=FALSE,VLOOKUP(Worksheet!A256,MeasureCode_Lookup,6,FALSE),\"\")","v":""},{"$f":"Worksheet!H256","v":0},{"$f":"Worksheet!I256","v":0},{"$f":"IFERROR(IF(Worksheet!Z256=0,Worksheet!Y256/I234,Worksheet!Z256/R234),0)","v":0},"W Controlled",null,null,{"$f":"IF(N(Worksheet!S256)=0,N(Worksheet!R256),N(Worksheet!S256))","v":0},{"$f":"IFERROR(Worksheet!W256/(Worksheet!R256+Worksheet!U256),0)","v":0},{"$f":"Worksheet!AE256","v":0},{"$f":"Worksheet!AD256","v":0},0,{"$f":"IF(Worksheet!AL256=0,0,Worksheet!AL256/I234)","v":0},0,null,null,null,{"$f":"IFERROR(Worksheet!X256/(Worksheet!S256+Worksheet!V256),0)","v":0},{"$f":"IF(Worksheet!E256=\"\",\"\",Worksheet!E256)","v":""},{"$f":"IF(Worksheet!B256=\"\",\"\",Worksheet!B256)","v":""},{"$f":"IF(Worksheet!D256=\"\",\"\",Worksheet!D256)","v":""},{"$f":"IF(Worksheet!$A$11=TRUE,\"Y\",\"N\")","v":"N"},{"$f":"IF(Worksheet!$A$12=TRUE,\"Y\",\"N\")","v":"N"},{"$f":"IF(Worksheet!$B$11=TRUE,\"Y\",\"N\")","v":"N"},{"$f":"IF(Worksheet!$B$12=TRUE,\"Y\",\"N\")","v":"N"},{"$f":"IF(Worksheet!$C$11=TRUE,\"Y\",\"N\")","v":"N"},{"$f":"IFERROR(IF(N(Worksheet!V256)=0,Worksheet!U256,Worksheet!V256),\"\")","v":0}]
[{"$f":"IF(ISBLANK(Worksheet!F257)=FALSE,VLOOKUP(Worksheet!A257,MeasureCode_Lookup,6,FALSE),\"\")","v":""},{"$f":"Worksheet!H257","v":0},{"$f":"Worksheet!I257","v":0},{"$f":"IFERROR(IF(Worksheet!Z257=0,Worksheet!Y257/I235,Worksheet!Z257/R235),0)","v":0},"W Controlled",null,null,{"$f":"IF(N(Worksheet!S257)=0,N(Worksheet!R257),N(Worksheet!S257))","v":0},{"$f":"IFERROR(Worksheet!W257/(Worksheet!R257+Worksheet!U257),0)","v":0},{"$f":"Worksheet!AE257","v":0},{"$f":"Worksheet!AD257","v":0},0,{"$f":"IF(Worksheet!AL257=0,0,Worksheet!AL257/I235)","v":0},0,null,null,null,{"$f":"IFERROR(Worksheet!X257/(Worksheet!S257+Worksheet!V257),0)","v":0},{"$f":"IF(Worksheet!E257=\"\",\"\",Worksheet!E257)","v":""},{"$f":"IF(Worksheet!B257=\"\",\"\",Worksheet!B257)","v":""},{"$f":"IF(Worksheet!D257=\"\",\"\",Worksheet!D257)","v":""},{"$f":"IF(Worksheet!$A$11=TRUE,\"Y\",\"N\")","v":"N"},{"$f":"IF(Worksheet!$A$12=TRUE,\"Y\",\"N\")","v":"N"},{"$f":"IF(Worksheet!$B$11=TRUE,\"Y\",\"N\")","v":"N"},{"$f":"IF(Worksheet!$B$12=TRUE,\"Y\",\"N\")","v":"N"},{"$f":"IF(Worksheet!$C$11=TRUE,\"Y\",\"N\")","v":"N"},{"$f":"IFERROR(IF(N(Worksheet!V257)=0,Worksheet!U257,Worksheet!V257),\"\")","v":0}]
[{"$f":"IF(ISBLANK(Worksheet!F258)=FALSE,VLOOKUP(Worksheet!A258,MeasureCode_Lookup,6,FALSE),\"\")","v":""},{"$f":"Worksheet!H258","v":0},{"$f":"Worksheet!I258","v":0},{"$f":"IFERROR(IF(Worksheet!Z258=0,Worksheet!Y258/I236,Worksheet!Z258/R236),0)","v":0},"W Controlled",null,null,{"$f":"IF(N(Worksheet!S258)=0,N(Worksheet!R258),N(Worksheet!S258))","v":0},{"$f":"IFERROR(Worksheet!W258/(Worksheet!R258+Worksheet!U258),0)","v":0},{"$f":"Worksheet!AE258","v":0},{"$f":"Worksheet!AD258","v":0},0,{"$f":"IF(Worksheet!AL258=0,0,Worksheet!AL258/I236)","v":0},0,null,null,null,{"$f":"IFERROR(Worksheet!X258/(Worksheet!S258+Worksheet!V258),0)","v":0},{"$f":"IF(Worksheet!E258=\"\",\"\",Worksheet!E258)","v":""},{"$f":"IF(Worksheet!B258=\"\",\"\",Worksheet!B258)","v":""},{"$f":"IF(Worksheet!D258=\"\",\"\",Worksheet!D258)","v":""},{"$f":"IF(Worksheet!$A$11=TRUE,\"Y\",\"N\")","v":"N"},{"$f":"IF(Worksheet!$A$12=TRUE,\"Y\",\"N\")","v":"N"},{"$f":"IF(Worksheet!$B$11=TRUE,\"Y\",\"N\")","v":"N"},{"$f":"IF(Worksheet!$B$12=TRUE,\"Y\",\"N\")","v":"N"},{"$f":"IF(Worksheet!$C$11=TRUE,\"Y\",\"N\")","v":"N"},{"$f":"IFERROR(IF(N(Worksheet!V258)=0,Worksheet!U258,Worksheet!V258),\"\")","v":0}]
[{"$f":"IF(ISBLANK(Worksheet!F259)=FALSE,VLOOKUP(Worksheet!A259,MeasureCode_Lookup,6,FALSE),\"\")","v":""},{"$f":"Worksheet!H259","v":0},{"$f":"Worksheet!I259","v":0},{"$f":"IFERROR(IF(Worksheet!Z259=0,Worksheet!Y259/I237,Worksheet!Z259/R237),0)","v":0},"W Controlled",null,null,{"$f":"IF(N(Worksheet!S259)=0,N(Worksheet!R259),N(Worksheet!S259))","v":0},{"$f":"IFERROR(Worksheet!W259/(Worksheet!R259+Worksheet!U259),0)","v":0},{"$f":"Worksheet!AE259","v":0},{"$f":"Worksheet!AD259","v":0},0,{"$f":"IF(Worksheet!AL259=0,0,Worksheet!AL259/I237)","v":0},0,null,null,null,{"$f":"IFERROR(Worksheet!X259/(Worksheet!S259+Worksheet!V259),0)","v":0},{"$f":"IF(Worksheet!E259=\"\",\"\",Worksheet!E259)","v":""},{"$f":"IF(Worksheet!B259=\"\",\"\",Worksheet!B259)","v":""},{"$f":"IF(Worksheet!D259=\"\",\"\",Worksheet!D259)","v":""},{"$f":"IF(Worksheet!$A$11=TRUE,\"Y\",\"N\")","v":"N"},{"$f":"IF(Worksheet!$A$12=TRUE,\"Y\",\"N\")","v":"N"},{"$f":"IF(Worksheet!$B$11=TRUE,\"Y\",\"N\")","v":"N"},{"$f":"IF(Worksheet!$B$12=TRUE,\"Y\",\"N\")","v":"N"},{"$f":"IF(Worksheet!$C$11=TRUE,\"Y\",\"N\")","v":"N"},{"$f":"IFERROR(IF(N(Worksheet!V259)=0,Worksheet!U259,Worksheet!V259),\"\")","v":0}]
[{"$f":"IF(ISBLANK(Worksheet!F260)=FALSE,VLOOKUP(Worksheet!A260,MeasureCode_Lookup,6,FALSE),\"\")","v":""},{"$f":"Worksheet!H260","v":0},{"$f":"Worksheet!I260","v":0},{"$f":"IFERROR(IF(Worksheet!Z260=0,Worksheet!Y260/I238,Worksheet!Z260/R238),0)","v":0},"W Controlled",null,null,{"$f":"IF(N(Worksheet!S260)=0,N(Worksheet!R260),N(Worksheet!S260))","v":0},{"$f":"IFERROR(Worksheet!W260/(Worksheet!R260+Worksheet!U260),0)","v":0},{"$f":"Worksheet!AE260","v":0},{"$f":"Worksheet!AD260","v":0},0,{"$f":"IF(Worksheet!AL260=0,0,Worksheet!AL260/I238)","v":0},0,null,null,null,{"$f":"IFERROR(Worksheet!X260/(Worksheet!S260+Worksheet!V260),0)","v":0},{"$f":"IF(Worksheet!E260=\"\",\"\",Worksheet!E260)","v":""},{"$f":"IF(Worksheet!B260=\"\",\"\",Worksheet!B260)","v":""},{"$f":"IF(Worksheet!D260=\"\",\"\",Worksheet!D260)","v":""},{"$f":"IF(Worksheet!$A$11=TRUE,\"Y\",\"N\")","v":"N"},{"$f":"IF(Worksheet!$A$12=TRUE,\"Y\",\"N\")","v":"N"},{"$f":"IF(Worksheet!$B$11=TRUE,\"Y\",\"N\")","v":"N"},{"$f":"IF(Worksheet!$B$12=TRUE,\"Y\",\"N\")","v":"N"},{"$f":"IF(Worksheet!$C$11=TRUE,\"Y\",\"N\")","v":"N"},{"$f":"IFERROR(IF(N(Worksheet!V260)=0,Worksheet!U260,Worksheet!V260),\"\")","v":0}]
[{"$f":"IF(ISBLANK(Worksheet!F261)=FALSE,VLOOKUP(Worksheet!A261,MeasureCode_Lookup,6,FALSE),\"\")","v":""},{"$f":"Worksheet!H261","v":0},{"$f":"Worksheet!I261","v":0},{"$f":"IFERROR(IF(Worksheet!Z261=0,Worksheet!Y261/I239,Worksheet!Z261/R239),0)","v":0},"W Controlled",null,null,{"$f":"IF(N(Worksheet!S261)=0,N(Worksheet!R261),N(Worksheet!S261))","v":0},{"$f":"IFERROR(Worksheet!W261/(Worksheet!R261+Worksheet!U261),0)","v":0},{"$f":"Worksheet!AE261","v":0},{"$f":"Worksheet!AD261","v":0},0,{"$f":"IF(Worksheet!AL261=0,0,Worksheet!AL261/I239)","v":0},0,null,null,null,{"$f":"IFERROR(Worksheet!X261/(Worksheet!S261+Worksheet!V261),0)","v":0},{"$f":"IF(Worksheet!E261=\"\",\"\",Worksheet!E261)","v":""},{"$f":"IF(Worksheet!B261=\"\",\"\",Worksheet!B261)","v":""},{"$f":"IF(Worksheet!D261=\"\",\"\",Worksheet!D261)","v":""},{"$f":"IF(Worksheet!$A$11=TRUE,\"Y\",\"N\")","v":"N"},{"$f":"IF(Worksheet!$A$12=TRUE,\"Y\",\"N\")","v":"N"},{"$f":"IF(Worksheet!$B$11=TRUE,\"Y\",\"N\")","v":"N"},{"$f":"IF(Worksheet!$B$12=TRUE,\"Y\",\"N\")","v":"N"},{"$f":"IF(Worksheet!$C$11=TRUE,\"Y\",\"N\")","v":"N"},{"$f":"IFERROR(IF(N(Worksheet!V261)=0,Worksheet!U261,Worksheet!V261),\"\")","v":0}]
[{"$f":"IF(ISBLANK(Worksheet!F262)=FALSE,VLOOKUP(Worksheet!A262,MeasureCode_Lookup,6,FALSE),\"\")","v":""},{"$f":"Worksheet!H262","v":0},{"$f":"Worksheet!I262","v":0},{"$f":"IFERROR(IF(Worksheet!Z262=0,Worksheet!Y262/I240,Worksheet!Z262/R240),0)","v":0},"W Controlled",null,null,{"$f":"IF(N(Worksheet!S262)=0,N(Worksheet!R262),N(Worksheet!S262))","v":0},{"$f":"IFERROR(Worksheet!W262/(Worksheet!R262+Worksheet!U262),0)","v":0},{"$f":"Worksheet!AE262","v":0},{"$f":"Worksheet!AD262","v":0},0,{"$f":"IF(Worksheet!AL262=0,0,Worksheet!AL262/I240)","v":0},0,null,null,null,{"$f":"IFERROR(Worksheet!X262/(Worksheet!S262+Worksheet!V262),0)","v":0},{"$f":"IF(Worksheet!E262=\"\",\"\",Worksheet!E262)","v":""},{"$f":"IF(Worksheet!B262=\"\",\"\",Worksheet!B262)","v":""},{"$f":"IF(Worksheet!D262=\"\",\"\",Worksheet!D262)","v":""},{"$f":"IF(Worksheet!$A$11=TRUE,\"Y\",\"N\")","v":"N"},{"$f":"IF(Worksheet!$A$12=TRUE,\"Y\",\"N\")","v":"N"},{"$f":"IF(Worksheet!$B$11=TRUE,\"Y\",\"N\")","v":"N"},{"$f":"IF(Worksheet!$B$12=TRUE,\"Y\",\"N\")","v":"N"},{"$f":"IF(Worksheet!$C$11=TRUE,\"Y\",\"N\")","v":"N"},{"$f":"IFERROR(IF(N(Worksheet!V262)=0,Worksheet!U262,Worksheet!V262),\"\")","v":0}]
[{"$f":"IF(ISBLANK(Worksheet!F263)=FALSE,VLOOKUP(Worksheet!A263,MeasureCode_Lookup,6,FALSE),\"\")","v":""},{"$f":"Worksheet!H263","v":0},{"$f":"Worksheet!I263","v":0},{"$f":"IFERROR(IF(Worksheet!Z263=0,Worksheet!Y263/I241,Worksheet!Z263/R241),0)","v":0},"W Controlled",null,null,{"$f":"IF(N(Worksheet!S263)=0,N(Worksheet!R263),N(Worksheet!S263))","v":0},{"$f":"IFERROR(Worksheet!W263/(Worksheet!R263+Worksheet!U263),0)","v":0},{"$f":"Worksheet!AE263","v":0},{"$f":"Worksheet!AD263","v":0},0,{"$f":"IF(Worksheet!AL263=0,0,Worksheet!AL263/I241)","v":0},0,null,null,null,{"$f":"IFERROR(Worksheet!X263/(Worksheet!S263+Worksheet!V263),0)","v":0},{"$f":"IF(Worksheet!E263=\"\",\"\",Worksheet!E263)","v":""},{"$f":"IF(Worksheet!B263=\"\",\"\",Worksheet!B263)","v":""},{"$f":"IF(Worksheet!D263=\"\",\"\",Worksheet!D263)","v":""},{"$f":"IF(Worksheet!$A$11=TRUE,\"Y\",\"N\")","v":"N"},{"$f":"IF(Worksheet!$A$12=TRUE,\"Y\",\"N\")","v":"N"},{"$f":"IF(Worksheet!$B$11=TRUE,\"Y\",\"N\")","v":"N"},{"$f":"IF(Worksheet!$B$12=TRUE,\"Y\",\"N\")","v":"N"},{"$f":"IF(Worksheet!$C$11=TRUE,\"Y\",\"N\")","v":"N"},{"$f":"IFERROR(IF(N(Worksheet!V263)=0,Worksheet!U263,Worksheet!V263),\"\")","v":0}]
[{"$f":"IF(ISBLANK(Worksheet!F264)=FALSE,VLOOKUP(Worksheet!A264,MeasureCode_Lookup,6,FALSE),\"\")","v":""},{"$f":"Worksheet!H264","v":0},{"$f":"Worksheet!I264","v":0},{"$f":"IFERROR(IF(Worksheet!Z264=0,Worksheet!Y264/I242,Worksheet!Z264/R242),0)","v":0},"W Controlled",null,null,{"$f":"IF(N(Worksheet!S264)=0,N(Worksheet!R264),N(Worksheet!S264))","v":0},{"$f":"IFERROR(Worksheet!W264/(Worksheet!R264+Worksheet!U264),0)","v":0},{"$f":"Worksheet!AE264","v":0},{"$f":"Worksheet!AD264","v":0},0,{"$f":"IF(Worksheet!AL264=0,0,Worksheet!AL264/I242)","v":0},0,null,null,null,{"$f":"IFERROR(Worksheet!X264/(Worksheet!S264+Worksheet!V264),0)","v":0},{"$f":"IF(Worksheet!E264=\"\",\"\",Worksheet!E264)","v":""},{"$f":"IF(Worksheet!B264=\"\",\"\",Worksheet!B264)","v":""},{"$f":"IF(Worksheet!D264=\"\",\"\",Worksheet!D264)","v":""},{"$f":"IF(Worksheet!$A$11=TRUE,\"Y\",\"N\")","v":"N"},{"$f":"IF(Worksheet!$A$12=TRUE,\"Y\",\"N\")","v":"N"},{"$f":"IF(Worksheet!$B$11=TRUE,\"Y\",\"N\")","v":"N"},{"$f":"IF(Worksheet!$B$12=TRUE,\"Y\",\"N\")","v":"N"},{"$f":"IF(Worksheet!$C$11=TRUE,\"Y\",\"N\")","v":"N"},{"$f":"IFERROR(IF(N(Worksheet!V264)=0,Worksheet!U264,Worksheet!V264),\"\")","v":0}]
[{"$f":"IF(ISBLANK(Worksheet!F265)=FALSE,VLOOKUP(Worksheet!A265,MeasureCode_Lookup,6,FALSE),\"\")","v":""},{"$f":"Worksheet!H265","v":0},{"$f":"Worksheet!I265","v":0},{"$f":"IFERROR(IF(Worksheet!Z265=0,Worksheet!Y265/I243,Worksheet!Z265/R243),0)","v":0},"W Controlled",null,null,{"$f":"IF(N(Worksheet!S265)=0,N(Worksheet!R265),N(Worksheet!S265))","v":0},{"$f":"IFERROR(Worksheet!W265/(Worksheet!R265+Worksheet!U265),0)","v":0},{"$f":"Worksheet!AE265","v":0},{"$f":"Worksheet!AD265","v":0},0,{"$f":"IF(Worksheet!AL265=0,0,Worksheet!AL265/I243)","v":0},0,null,null,null,{"$f":"IFERROR(Worksheet!X265/(Worksheet!S265+Worksheet!V265),0)","v":0},{"$f":"IF(Worksheet!E265=\"\",\"\",Worksheet!E265)","v":""},{"$f":"IF(Worksheet!B265=\"\",\"\",Worksheet!B265)","v":""},{"$f":"IF(Worksheet!D265=\"\",\"\",Worksheet!D265)","v":""},{"$f":"IF(Worksheet!$A$11=TRUE,\"Y\",\"N\")","v":"N"},{"$f":"IF(Worksheet!$A$12=TRUE,\"Y\",\"N\")","v":"N"},{"$f":"IF(Worksheet!$B$11=TRUE,\"Y\",\"N\")","v":"N"},{"$f":"IF(Worksheet!$B$12=TRUE,\"Y\",\"N\")","v":"N"},{"$f":"IF(Worksheet!$C$11=TRUE,\"Y\",\"N\")","v":"N"},{"$f":"IFERROR(IF(N(Worksheet!V265)=0,Worksheet!U265,Worksheet!V265),\"\")","v":0}]
[{"$f":"IF(ISBLANK(Worksheet!F266)=FALSE,VLOOKUP(Worksheet!A266,MeasureCode_Lookup,6,FALSE),\"\")","v":""},{"$f":"Worksheet!H266","v":0},{"$f":"Worksheet!I266","v":0},{"$f":"IFERROR(IF(Worksheet!Z266=0,Worksheet!Y266/I244,Worksheet!Z266/R244),0)","v":0},"W Controlled",null,null,{"$f":"IF(N(Worksheet!S266)=0,N(Worksheet!R266),N(Worksheet!S266))","v":0},{"$f":"IFERROR(Worksheet!W266/(Worksheet!R266+Worksheet!U266),0)","v":0},{"$f":"Worksheet!AE266","v":0},{"$f":"Worksheet!AD266","v":0},0,{"$f":"IF(Worksheet!AL266=0,0,Worksheet!AL266/I244)","v":0},0,null,null,null,{"$f":"IFERROR(Worksheet!X266/(Worksheet!S266+Worksheet!V266),0)","v":0},{"$f":"IF(Worksheet!E266=\"\",\"\",Worksheet!E266)","v":""},{"$f":"IF(Worksheet!B266=\"\",\"\",Worksheet!B266)","v":""},{"$f":"IF(Worksheet!D266=\"\",\"\",Worksheet!D266)","v":""},{"$f":"IF(Worksheet!$A$11=TRUE,\"Y\",\"N\")","v":"N"},{"$f":"IF(Worksheet!$A$12=TRUE,\"Y\",\"N\")","v":"N"},{"$f":"IF(Worksheet!$B$11=TRUE,\"Y\",\"N\")","v":"N"},{"$f":"IF(Worksheet!$B$12=TRUE,\"Y\",\"N\")","v":"N"},{"$f":"IF(Worksheet!$C$11=TRUE,\"Y\",\"N\")","v":"N"},{"$f":"IFERROR(IF(N(Worksheet!V266)=0,Worksheet!U266,Worksheet!V266),\"\")","v":0}]
[{"$f":"IF(ISBLANK(Worksheet!F267)=FALSE,VLOOKUP(Worksheet!A267,MeasureCode_Lookup,6,FALSE),\"\")","v":""},{"$f":"Worksheet!H267","v":0},{"$f":"Worksheet!I267","v":0},{"$f":"IFERROR(IF(Worksheet!Z267=0,Worksheet!Y267/I245,Worksheet!Z267/R245),0)","v":0},"W Controlled",null,null,{"$f":"IF(N(Worksheet!S267)=0,N(Worksheet!R267),N(Worksheet!S267))","v":0},{"$f":"IFERROR(Worksheet!W267/(Worksheet!R267+Worksheet!U267),0)","v":0},{"$f":"Worksheet!AE267","v":0},{"$f":"Worksheet!AD267","v":0},0,{"$f":"IF(Worksheet!AL267=0,0,Worksheet!AL267/I245)","v":0},0,null,null,null,{"$f":"IFERROR(Worksheet!X267/(Worksheet!S267+Worksheet!V267),0)","v":0},{"$f":"IF(Worksheet!E267=\"\",\"\",Worksheet!E267)","v":""},{"$f":"IF(Worksheet!B267=\"\",\"\",Worksheet!B267)","v":""},{"$f":"IF(Worksheet!D267=\"\",\"\",Worksheet!D267)","v":""},{"$f":"IF(Worksheet!$A$11=TRUE,\"Y\",\"N\")","v":"N"},{"$f":"IF(Worksheet!$A$12=TRUE,\"Y\",\"N\")","v":"N"},{"$f":"IF(Worksheet!$B$11=TRUE,\"Y\",\"N\")","v":"N"},{"$f":"IF(Worksheet!$B$12=TRUE,\"Y\",\"N\")","v":"N"},{"$f":"IF(Worksheet!$C$11=TRUE,\"Y\",\"N\")","v":"N"},{"$f":"IFERROR(IF(N(Worksheet!V267)=0,Worksheet!U267,Worksheet!V267),\"\")","v":0}]
[{"$f":"IF(ISBLANK(Worksheet!F268)=FALSE,VLOOKUP(Worksheet!A268,MeasureCode_Lookup,6,FALSE),\"\")","v":""},{"$f":"Worksheet!H268","v":0},{"$f":"Worksheet!I268","v":0},{"$f":"IFERROR(IF(Worksheet!Z268=0,Worksheet!Y268/I246,Worksheet!Z268/R246),0)","v":0},"W Controlled",null,null,{"$f":"IF(N(Worksheet!S268)=0,N(Worksheet!R268),N(Worksheet!S268))","v":0},{"$f":"IFERROR(Worksheet!W268/(Worksheet!R268+Worksheet!U268),0)","v":0},{"$f":"Worksheet!AE268","v":0},{"$f":"Worksheet!AD268","v":0},0,{"$f":"IF(Worksheet!AL268=0,0,Worksheet!AL268/I246)","v":0},0,null,null,null,{"$f":"IFERROR(Worksheet!X268/(Worksheet!S268+Worksheet!V268),0)","v":0},{"$f":"IF(Worksheet!E268=\"\",\"\",Worksheet!E268)","v":""},{"$f":"IF(Worksheet!B268=\"\",\"\",Worksheet!B268)","v":""},{"$f":"IF(Worksheet!D268=\"\",\"\",Worksheet!D268)","v":""},{"$f":"IF(Worksheet!$A$11=TRUE,\"Y\",\"N\")","v":"N"},{"$f":"IF(Worksheet!$A$12=TRUE,\"Y\",\"N\")","v":"N"},{"$f":"IF(Worksheet!$B$11=TRUE,\"Y\",\"N\")","v":"N"},{"$f":"IF(Worksheet!$B$12=TRUE,\"Y\",\"N\")","v":"N"},{"$f":"IF(Worksheet!$C$11=TRUE,\"Y\",\"N\")","v":"N"},{"$f":"IFERROR(IF(N(Worksheet!V268)=0,Worksheet!U268,Worksheet!V268),\"\")","v":0}]
[{"$f":"IF(ISBLANK(Worksheet!F269)=FALSE,VLOOKUP(Worksheet!A269,MeasureCode_Lookup,6,FALSE),\"\")","v":""},{"$f":"Worksheet!H269","v":0},{"$f":"Worksheet!I269","v":0},{"$f":"IFERROR(IF(Worksheet!Z269=0,Worksheet!Y269/I247,Worksheet!Z269/R247),0)","v":0},"W Controlled",null,null,{"$f":"IF(N(Worksheet!S269)=0,N(Worksheet!R269),N(Worksheet!S269))","v":0},{"$f":"IFERROR(Worksheet!W269/(Worksheet!R269+Worksheet!U269),0)","v":0},{"$f":"Worksheet!AE269","v":0},{"$f":"Worksheet!AD269","v":0},0,{"$f":"IF(Worksheet!AL269=0,0,Worksheet!AL269/I247)","v":0},0,null,null,null,{"$f":"IFERROR(Worksheet!X269/(Worksheet!S269+Worksheet!V269),0)","v":0},{"$f":"IF(Worksheet!E269=\"\",\"\",Worksheet!E269)","v":""},{"$f":"IF(Worksheet!B269=\"\",\"\",Worksheet!B269)","v":""},{"$f":"IF(Worksheet!D269=\"\",\"\",Worksheet!D269)","v":""},{"$f":"IF(Worksheet!$A$11=TRUE,\"Y\",\"N\")","v":"N"},{"$f":"IF(Worksheet!$A$12=TRUE,\"Y\",\"N\")","v":"N"},{"$f":"IF(Worksheet!$B$11=TRUE,\"Y\",\"N\")","v":"N"},{"$f":"IF(Worksheet!$B$12=TRUE,\"Y\",\"N\")","v":"N"},{"$f":"IF(Worksheet!$C$11=TRUE,\"Y\",\"N\")","v":"N"},{"$f":"IFERROR(IF(N(Worksheet!V269)=0,Worksheet!U269,Worksheet!V269),\"\")","v":0}]
[{"$f":"IF(ISBLANK(Worksheet!F270)=FALSE,VLOOKUP(Worksheet!A270,MeasureCode_Lookup,6,FALSE),\"\")","v":""},{"$f":"Worksheet!H270","v":0},{"$f":"Worksheet!I270","v":0},{"$f":"IFERROR(IF(Worksheet!Z270=0,Worksheet!Y270/I248,Worksheet!Z270/R248),0)","v":0},"W Controlled",null,null,{"$f":"IF(N(Worksheet!S270)=0,N(Worksheet!R270),N(Worksheet!S270))","v":0},{"$f":"IFERROR(Worksheet!W270/(Worksheet!R270+Worksheet!U270),0)","v":0},{"$f":"Worksheet!AE270","v":0},{"$f":"Worksheet!AD270","v":0},0,{"$f":"IF(Worksheet!AL270=0,0,Worksheet!AL270/I248)","v":0},0,null,null,null,{"$f":"IFERROR(Worksheet!X270/(Worksheet!S270+Worksheet!V270),0)","v":0},{"$f":"IF(Worksheet!E270=\"\",\"\",Worksheet!E270)","v":""},{"$f":"IF(Worksheet!B270=\"\",\"\",Worksheet!B270)","v":""},{"$f":"IF(Worksheet!D270=\"\",\"\",Worksheet!D270)","v":""},{"$f":"IF(Worksheet!$A$11=TRUE,\"Y\",\"N\")","v":"N"},{"$f":"IF(Worksheet!$A$12=TRUE,\"Y\",\"N\")","v":"N"},{"$f":"IF(Worksheet!$B$11=TRUE,\"Y\",\"N\")","v":"N"},{"$f":"IF(Worksheet!$B$12=TRUE,\"Y\",\"N\")","v":"N"},{"$f":"IF(Worksheet!$C$11=TRUE,\"Y\",\"N\")","v":"N"},{"$f":"IFERROR(IF(N(Worksheet!V270)=0,Worksheet!U270,Worksheet!V270),\"\")","v":0}]
[{"$f":"IF(ISBLANK(Worksheet!F271)=FALSE,VLOOKUP(Worksheet!A271,MeasureCode_Lookup,6,FALSE),\"\")","v":""},{"$f":"Worksheet!H271","v":0},{"$f":"Worksheet!I271","v":0},{"$f":"IFERROR(IF(Worksheet!Z271=0,Worksheet!Y271/I249,Worksheet!Z271/R249),0)","v":0},"W Controlled",null,null,{"$f":"IF(N(Worksheet!S271)=0,N(Worksheet!R271),N(Worksheet!S271))","v":0},{"$f":"IFERROR(Worksheet!W271/(Worksheet!R271+Worksheet!U271),0)","v":0},{"$f":"Worksheet!AE271","v":0},{"$f":"Worksheet!AD271","v":0},0,{"$f":"IF(Worksheet!AL271=0,0,Worksheet!AL271/I249)","v":0},0,null,null,null,{"$f":"IFERROR(Worksheet!X271/(Worksheet!S271+Worksheet!V271),0)","v":0},{"$f":"IF(Worksheet!E271=\"\",\"\",Worksheet!E271)","v":""},{"$f":"IF(Worksheet!B271=\"\",\"\",Worksheet!B271)","v":""},{"$f":"IF(Worksheet!D271=\"\",\"\",Worksheet!D271)","v":""},{"$f":"IF(Worksheet!$A$11=TRUE,\"Y\",\"N\")","v":"N"},{"$f":"IF(Worksheet!$A$12=TRUE,\"Y\",\"N\")","v":"N"},{"$f":"IF(Worksheet!$B$11=TRUE,\"Y\",\"N\")","v":"N"},{"$f":"IF(Worksheet!$B$12=TRUE,\"Y\",\"N\")","v":"N"},{"$f":"IF(Worksheet!$C$11=TRUE,\"Y\",\"N\")","v":"N"},{"$f":"IFERROR(IF(N(Worksheet!V271)=0,Worksheet!U271,Worksheet!V271),\"\")","v":0}]
[{"$f":"IF(ISBLANK(Worksheet!F272)=FALSE,VLOOKUP(Worksheet!A272,MeasureCode_Lookup,6,FALSE),\"\")","v":""},{"$f":"Worksheet!H272","v":0},{"$f":"Worksheet!I272","v":0},{"$f":"IFERROR(IF(Worksheet!Z272=0,Worksheet!Y272/I250,Worksheet!Z272/R250),0)","v":0},"W Controlled",null,null,{"$f":"IF(N(Worksheet!S272)=0,N(Worksheet!R272),N(Worksheet!S272))","v":0},{"$f":"IFERROR(Worksheet!W272/(Worksheet!R272+Worksheet!U272),0)","v":0},{"$f":"Worksheet!AE272","v":0},{"$f":"Worksheet!AD272","v":0},0,{"$f":"IF(Worksheet!AL272=0,0,Worksheet!AL272/I250)","v":0},0,null,null,null,{"$f":"IFERROR(Worksheet!X272/(Worksheet!S272+Worksheet!V272),0)","v":0},{"$f":"IF(Worksheet!E272=\"\",\"\",Worksheet!E272)","v":""},{"$f":"IF(Worksheet!B272=\"\",\"\",Worksheet!B272)","v":""},{"$f":"IF(Worksheet!D272=\"\",\"\",Worksheet!D272)","v":""},{"$f":"IF(Worksheet!$A$11=TRUE,\"Y\",\"N\")","v":"N"},{"$f":"IF(Worksheet!$A$12=TRUE,\"Y\",\"N\")","v":"N"},{"$f":"IF(Worksheet!$B$11=TRUE,\"Y\",\"N\")","v":"N"},{"$f":"IF(Worksheet!$B$12=TRUE,\"Y\",\"N\")","v":"N"},{"$f":"IF(Worksheet!$C$11=TRUE,\"Y\",\"N\")","v":"N"},{"$f":"IFERROR(IF(N(Worksheet!V272)=0,Worksheet!U272,Worksheet!V272),\"\")","v":0}]
[{"$f":"IF(ISBLANK(Worksheet!F273)=FALSE,VLOOKUP(Worksheet!A273,MeasureCode_Lookup,6,FALSE),\"\")","v":""},{"$f":"Worksheet!H273","v":0},{"$f":"Worksheet!I273","v":0},{"$f":"IFERROR(IF(Worksheet!Z273=0,Worksheet!Y273/I251,Worksheet!Z273/R251),0)","v":0},"W Controlled",null,null,{"$f":"IF(N(Worksheet!S273)=0,N(Worksheet!R273),N(Worksheet!S273))","v":0},{"$f":"IFERROR(Worksheet!W273/(Worksheet!R273+Worksheet!U273),0)","v":0},{"$f":"Worksheet!AE273","v":0},{"$f":"Worksheet!AD273","v":0},0,{"$f":"IF(Worksheet!AL273=0,0,Worksheet!AL273/I251)","v":0},0,null,null,null,{"$f":"IFERROR(Worksheet!X273/(Worksheet!S273+Worksheet!V273),0)","v":0},{"$f":"IF(Worksheet!E273=\"\",\"\",Worksheet!E273)","v":""},{"$f":"IF(Worksheet!B273=\"\",\"\",Worksheet!B273)","v":""},{"$f":"IF(Worksheet!D273=\"\",\"\",Worksheet!D273)","v":""},{"$f":"IF(Worksheet!$A$11=TRUE,\"Y\",\"N\")","v":"N"},{"$f":"IF(Worksheet!$A$12=TRUE,\"Y\",\"N\")","v":"N"},{"$f":"IF(Worksheet!$B$11=TRUE,\"Y\",\"N\")","v":"N"},{"$f":"IF(Worksheet!$B$12=TRUE,\"Y\",\"N\")","v":"N"},{"$f":"IF(Worksheet!$C$11=TRUE,\"Y\",\"N\")","v":"N"},{"$f":"IFERROR(IF(N(Worksheet!V273)=0,Worksheet!U273,Worksheet!V273),\"\")","v":0}]
[{"$f":"IF(ISBLANK(Worksheet!F274)=FALSE,VLOOKUP(Worksheet!A274,MeasureCode_Lookup,6,FALSE),\"\")","v":""},{"$f":"Worksheet!H274","v":0},{"$f":"Worksheet!I274","v":0},{"$f":"IFERROR(IF(Worksheet!Z274=0,Worksheet!Y274/I252,Worksheet!Z274/R252),0)","v":0},"W Controlled",null,null,{"$f":"IF(N(Worksheet!S274)=0,N(Worksheet!R274),N(Worksheet!S274))","v":0},{"$f":"IFERROR(Worksheet!W274/(Worksheet!R274+Worksheet!U274),0)","v":0},{"$f":"Worksheet!AE274","v":0},{"$f":"Worksheet!AD274","v":0},0,{"$f":"IF(Worksheet!AL274=0,0,Worksheet!AL274/I252)","v":0},0,null,null,null,{"$f":"IFERROR(Worksheet!X274/(Worksheet!S274+Worksheet!V274),0)","v":0},{"$f":"IF(Worksheet!E274=\"\",\"\",Worksheet!E274)","v":""},{"$f":"IF(Worksheet!B274=\"\",\"\",Worksheet!B274)","v":""},{"$f":"IF(Worksheet!D274=\"\",\"\",Worksheet!D274)","v":""},{"$f":"IF(Worksheet!$A$11=TRUE,\"Y\",\"N\")","v":"N"},{"$f":"IF(Worksheet!$A$12=TRUE,\"Y\",\"N\")","v":"N"},{"$f":"IF(Worksheet!$B$11=TRUE,\"Y\",\"N\")","v":"N"},{"$f":"IF(Worksheet!$B$12=TRUE,\"Y\",\"N\")","v":"N"},{"$f":"IF(Worksheet!$C$11=TRUE,\"Y\",\"N\")","v":"N"},{"$f":"IFERROR(IF(N(Worksheet!V274)=0,Worksheet!U274,Worksheet!V274),\"\")","v":0}]
[{"$f":"IF(ISBLANK(Worksheet!F275)=FALSE,VLOOKUP(Worksheet!A275,MeasureCode_Lookup,6,FALSE),\"\")","v":""},{"$f":"Worksheet!H275","v":0},{"$f":"Worksheet!I275","v":0},{"$f":"IFERROR(IF(Worksheet!Z275=0,Worksheet!Y275/I253,Worksheet!Z275/R253),0)","v":0},"W Controlled",null,null,{"$f":"IF(N(Worksheet!S275)=0,N(Worksheet!R275),N(Worksheet!S275))","v":0},{"$f":"IFERROR(Worksheet!W275/(Worksheet!R275+Worksheet!U275),0)","v":0},{"$f":"Worksheet!AE275","v":0},{"$f":"Worksheet!AD275","v":0},0,{"$f":"IF(Worksheet!AL275=0,0,Worksheet!AL275/I253)","v":0},0,null,null,null,{"$f":"IFERROR(Worksheet!X275/(Worksheet!S275+Worksheet!V275),0)","v":0},{"$f":"IF(Worksheet!E275=\"\",\"\",Worksheet!E275)","v":""},{"$f":"IF(Worksheet!B275=\"\",\"\",Worksheet!B275)","v":""},{"$f":"IF(Worksheet!D275=\"\",\"\",Worksheet!D275)","v":""},{"$f":"IF(Worksheet!$A$11=TRUE,\"Y\",\"N\")","v":"N"},{"$f":"IF(Worksheet!$A$12=TRUE,\"Y\",\"N\")","v":"N"},{"$f":"IF(Worksheet!$B$11=TRUE,\"Y\",\"N\")","v":"N"},{"$f":"IF(Worksheet!$B$12=TRUE,\"Y\",\"N\")","v":"N"},{"$f":"IF(Worksheet!$C$11=TRUE,\"Y\",\"N\")","v":"N"},{"$f":"IFERROR(IF(N(Worksheet!V275)=0,Worksheet!U275,Worksheet!V275),\"\")","v":0}]
[{"$f":"IF(ISBLANK(Worksheet!F276)=FALSE,VLOOKUP(Worksheet!A276,MeasureCode_Lookup,6,FALSE),\"\")","v":""},{"$f":"Worksheet!H276","v":0},{"$f":"Worksheet!I276","v":0},{"$f":"IFERROR(IF(Worksheet!Z276=0,Worksheet!Y276/I254,Worksheet!Z276/R254),0)","v":0},"W Controlled",null,null,{"$f":"IF(N(Worksheet!S276)=0,N(Worksheet!R276),N(Worksheet!S276))","v":0},{"$f":"IFERROR(Worksheet!W276/(Worksheet!R276+Worksheet!U276),0)","v":0},{"$f":"Worksheet!AE276","v":0},{"$f":"Worksheet!AD276","v":0},0,{"$f":"IF(Worksheet!AL276=0,0,Worksheet!AL276/I254)","v":0},0,null,null,null,{"$f":"IFERROR(Worksheet!X276/(Worksheet!S276+Worksheet!V276),0)","v":0},{"$f":"IF(Worksheet!E276=\"\",\"\",Worksheet!E276)","v":""},{"$f":"IF(Worksheet!B276=\"\",\"\",Worksheet!B276)","v":""},{"$f":"IF(Worksheet!D276=\"\",\"\",Worksheet!D276)","v":""},{"$f":"IF(Worksheet!$A$11=TRUE,\"Y\",\"N\")","v":"N"},{"$f":"IF(Worksheet!$A$12=TRUE,\"Y\",\"N\")","v":"N"},{"$f":"IF(Worksheet!$B$11=TRUE,\"Y\",\"N\")","v":"N"},{"$f":"IF(Worksheet!$B$12=TRUE,\"Y\",\"N\")","v":"N"},{"$f":"IF(Worksheet!$C$11=TRUE,\"Y\",\"N\")","v":"N"},{"$f":"IFERROR(IF(N(Worksheet!V276)=0,Worksheet!U276,Worksheet!V276),\"\")","v":0}]
[{"$f":"IF(ISBLANK(Worksheet!F277)=FALSE,VLOOKUP(Worksheet!A277,MeasureCode_Lookup,6,FALSE),\"\")","v":""},{"$f":"Worksheet!H277","v":0},{"$f":"Worksheet!I277","v":0},{"$f":"IFERROR(IF(Worksheet!Z277=0,Worksheet!Y277/I255,Worksheet!Z277/R255),0)","v":0},"W Controlled",null,null,{"$f":"IF(N(Worksheet!S277)=0,N(Worksheet!R277),N(Worksheet!S277))","v":0},{"$f":"IFERROR(Worksheet!W277/(Worksheet!R277+Worksheet!U277),0)","v":0},{"$f":"Worksheet!AE277","v":0},{"$f":"Worksheet!AD277","v":0},0,{"$f":"IF(Worksheet!AL277=0,0,Worksheet!AL277/I255)","v":0},0,null,null,null,{"$f":"IFERROR(Worksheet!X277/(Worksheet!S277+Worksheet!V277),0)","v":0},{"$f":"IF(Worksheet!E277=\"\",\"\",Worksheet!E277)","v":""},{"$f":"IF(Worksheet!B277=\"\",\"\",Worksheet!B277)","v":""},{"$f":"IF(Worksheet!D277=\"\",\"\",Worksheet!D277)","v":""},{"$f":"IF(Worksheet!$A$11=TRUE,\"Y\",\"N\")","v":"N"},{"$f":"IF(Worksheet!$A$12=TRUE,\"Y\",\"N\")","v":"N"},{"$f":"IF(Worksheet!$B$11=TRUE,\"Y\",\"N\")","v":"N"},{"$f":"IF(Worksheet!$B$12=TRUE,\"Y\",\"N\")","v":"N"},{"$f":"IF(Worksheet!$C$11=TRUE,\"Y\",\"N\")","v":"N"},{"$f":"IFERROR(IF(N(Worksheet!V277)=0,Worksheet!U277,Worksheet!V277),\"\")","v":0}]
[{"$f":"IF(ISBLANK(Worksheet!F278)=FALSE,VLOOKUP(Worksheet!A278,MeasureCode_Lookup,6,FALSE),\"\")","v":""},{"$f":"Worksheet!H278","v":0},{"$f":"Worksheet!I278","v":0},{"$f":"IFERROR(IF(Worksheet!Z278=0,Worksheet!Y278/I256,Worksheet!Z278/R256),0)","v":0},"W Controlled",null,null,{"$f":"IF(N(Worksheet!S278)=0,N(Worksheet!R278),N(Worksheet!S278))","v":0},{"$f":"IFERROR(Worksheet!W278/(Worksheet!R278+Worksheet!U278),0)","v":0},{"$f":"Worksheet!AE278","v":0},{"$f":"Worksheet!AD278","v":0},0,{"$f":"IF(Worksheet!AL278=0,0,Worksheet!AL278/I256)","v":0},0,null,null,null,{"$f":"IFERROR(Worksheet!X278/(Worksheet!S278+Worksheet!V278),0)","v":0},{"$f":"IF(Worksheet!E278=\"\",\"\",Worksheet!E278)","v":""},{"$f":"IF(Worksheet!B278=\"\",\"\",Worksheet!B278)","v":""},{"$f":"IF(Worksheet!D278=\"\",\"\",Worksheet!D278)","v":""},{"$f":"IF(Worksheet!$A$11=TRUE,\"Y\",\"N\")","v":"N"},{"$f":"IF(Worksheet!$A$12=TRUE,\"Y\",\"N\")","v":"N"},{"$f":"IF(Worksheet!$B$11=TRUE,\"Y\",\"N\")","v":"N"},{"$f":"IF(Worksheet!$B$12=TRUE,\"Y\",\"N\")","v":"N"},{"$f":"IF(Worksheet!$C$11=TRUE,\"Y\",\"N\")","v":"N"},{"$f":"IFERROR(IF(N(Worksheet!V278)=0,Worksheet!U278,Worksheet!V278),\"\")","v":0}]
[{"$f":"IF(ISBLANK(Worksheet!F279)=FALSE,VLOOKUP(Worksheet!A279,MeasureCode_Lookup,6,FALSE),\"\")","v":""},{"$f":"Worksheet!H279","v":0},{"$f":"Worksheet!I279","v":0},{"$f":"IFERROR(IF(Worksheet!Z279=0,Worksheet!Y279/I257,Worksheet!Z279/R257),0)","v":0},"W Controlled",null,null,{"$f":"IF(N(Worksheet!S279)=0,N(Worksheet!R279),N(Worksheet!S279))","v":0},{"$f":"IFERROR(Worksheet!W279/(Worksheet!R279+Worksheet!U279),0)","v":0},{"$f":"Worksheet!AE279","v":0},{"$f":"Worksheet!AD279","v":0},0,{"$f":"IF(Worksheet!AL279=0,0,Worksheet!AL279/I257)","v":0},0,null,null,null,{"$f":"IFERROR(Worksheet!X279/(Worksheet!S279+Worksheet!V279),0)","v":0},{"$f":"IF(Worksheet!E279=\"\",\"\",Worksheet!E279)","v":""},{"$f":"IF(Worksheet!B279=\"\",\"\",Worksheet!B279)","v":""},{"$f":"IF(Worksheet!D279=\"\",\"\",Worksheet!D279)","v":""},{"$f":"IF(Worksheet!$A$11=TRUE,\"Y\",\"N\")","v":"N"},{"$f":"IF(Worksheet!$A$12=TRUE,\"Y\",\"N\")","v":"N"},{"$f":"IF(Worksheet!$B$11=TRUE,\"Y\",\"N\")","v":"N"},{"$f":"IF(Worksheet!$B$12=TRUE,\"Y\",\"N\")","v":"N"},{"$f":"IF(Worksheet!$C$11=TRUE,\"Y\",\"N\")","v":"N"},{"$f":"IFERROR(IF(N(Worksheet!V279)=0,Worksheet!U279,Worksheet!V279),\"\")","v":0}]
[{"$f":"IF(ISBLANK(Worksheet!F280)=FALSE,VLOOKUP(Worksheet!A280,MeasureCode_Lookup,6,FALSE),\"\")","v":""},{"$f":"Worksheet!H280","v":0},{"$f":"Worksheet!I280","v":0},{"$f":"IFERROR(IF(Worksheet!Z280=0,Worksheet!Y280/I258,Worksheet!Z280/R258),0)","v":0},"W Controlled",null,null,{"$f":"IF(N(Worksheet!S280)=0,N(Worksheet!R280),N(Worksheet!S280))","v":0},{"$f":"IFERROR(Worksheet!W280/(Worksheet!R280+Worksheet!U280),0)","v":0},{"$f":"Worksheet!AE280","v":0},{"$f":"Worksheet!AD280","v":0},0,{"$f":"IF(Worksheet!AL280=0,0,Worksheet!AL280/I258)","v":0},0,null,null,null,{"$f":"IFERROR(Worksheet!X280/(Worksheet!S280+Worksheet!V280),0)","v":0},{"$f":"IF(Worksheet!E280=\"\",\"\",Worksheet!E280)","v":""},{"$f":"IF(Worksheet!B280=\"\",\"\",Worksheet!B280)","v":""},{"$f":"IF(Worksheet!D280=\"\",\"\",Worksheet!D280)","v":""},{"$f":"IF(Worksheet!$A$11=TRUE,\"Y\",\"N\")","v":"N"},{"$f":"IF(Worksheet!$A$12=TRUE,\"Y\",\"N\")","v":"N"},{"$f":"IF(Worksheet!$B$11=TRUE,\"Y\",\"N\")","v":"N"},{"$f":"IF(Worksheet!$B$12=TRUE,\"Y\",\"N\")","v":"N"},{"$f":"IF(Worksheet!$C$11=TRUE,\"Y\",\"N\")","v":"N"},{"$f":"IFERROR(IF(N(Worksheet!V280)=0,Worksheet!U280,Worksheet!V280),\"\")","v":0}]
[{"$f":"IF(ISBLANK(Worksheet!F281)=FALSE,VLOOKUP(Worksheet!A281,MeasureCode_Lookup,6,FALSE),\"\")","v":""},{"$f":"Worksheet!H281","v":0},{"$f":"Worksheet!I281","v":0},{"$f":"IFERROR(IF(Worksheet!Z281=0,Worksheet!Y281/I259,Worksheet!Z281/R259),0)","v":0},"W Controlled",null,null,{"$f":"IF(N(Worksheet!S281)=0,N(Worksheet!R281),N(Worksheet!S281))","v":0},{"$f":"IFERROR(Worksheet!W281/(Worksheet!R281+Worksheet!U281),0)","v":0},{"$f":"Worksheet!AE281","v":0},{"$f":"Worksheet!AD281","v":0},{"$f":"J259*8","v":0},{"$f":"IF(Worksheet!AL281=0,0,Worksheet!AL281/I259)","v":0},{"$f":"M259*8","v":0},null,null,null,{"$f":"IFERROR(Worksheet!X281/(Worksheet!S281+Worksheet!V281),0)","v":0},{"$f":"IF(Worksheet!E281=\"\",\"\",Worksheet!E281)","v":""},{"$f":"IF(Worksheet!B281=\"\",\"\",Worksheet!B281)","v":""},{"$f":"IF(Worksheet!D281=\"\",\"\",Worksheet!D281)","v":""},{"$f":"IF(Worksheet!$A$11=TRUE,\"Y\",\"N\")","v":"N"},{"$f":"IF(Worksheet!$A$12=TRUE,\"Y\",\"N\")","v":"N"},{"$f":"IF(Worksheet!$B$11=TRUE,\"Y\",\"N\")","v":"N"},{"$f":"IF(Worksheet!$B$12=TRUE,\"Y\",\"N\")","v":"N"},{"$f":"IF(Worksheet!$C$11=TRUE,\"Y\",\"N\")","v":"N"},{"$f":"IFERROR(IF(N(Worksheet!V281)=0,Worksheet!U281,Worksheet!V281),\"\")","v":0}]
[{"$f":"IF(ISBLANK(Worksheet!F282)=FALSE,VLOOKUP(Worksheet!A282,MeasureCode_Lookup,6,FALSE),\"\")","v":""},{"$f":"Worksheet!H282","v":0},{"$f":"Worksheet!I282","v":0},{"$f":"IFERROR(IF(Worksheet!Z282=0,Worksheet!Y282/I260,Worksheet!Z282/R260),0)","v":0},"W Controlled",null,null,{"$f":"IF(N(Worksheet!S282)=0,N(Worksheet!R282),N(Worksheet!S282))","v":0},{"$f":"IFERROR(Worksheet!W282/(Worksheet!R282+Worksheet!U282),0)","v":0},{"$f":"Worksheet!AE282","v":0},{"$f":"Worksheet!AD282","v":0},0,{"$f":"IF(Worksheet!AL282=0,0,Worksheet!AL282/I260)","v":0},0,null,null,null,{"$f":"IFERROR(Worksheet!X282/(Worksheet!S282+Worksheet!V282),0)","v":0},{"$f":"IF(Worksheet!E282=\"\",\"\",Worksheet!E282)","v":""},{"$f":"IF(Worksheet!B282=\"\",\"\",Worksheet!B282)","v":""},{"$f":"IF(Worksheet!D282=\"\",\"\",Worksheet!D282)","v":""},{"$f":"IF(Worksheet!$A$11=TRUE,\"Y\",\"N\")","v":"N"},{"$f":"IF(Worksheet!$A$12=TRUE,\"Y\",\"N\")","v":"N"},{"$f":"IF(Worksheet!$B$11=TRUE,\"Y\",\"N\")","v":"N"},{"$f":"IF(Worksheet!$B$12=TRUE,\"Y\",\"N\")","v":"N"},{"$f":"IF(Worksheet!$C$11=TRUE,\"Y\",\"N\")","v":"N"},{"$f":"IFERROR(IF(N(Worksheet!V282)=0,Worksheet!U282,Worksheet!V282),\"\")","v":0}]
[{"$f":"IF(ISBLANK(Worksheet!F283)=FALSE,VLOOKUP(Worksheet!A283,MeasureCode_Lookup,6,FALSE),\"\")","v":""},{"$f":"Worksheet!H283","v":0},{"$f":"Worksheet!I283","v":0},{"$f":"IFERROR(IF(Worksheet!Z283=0,Worksheet!Y283/I261,Worksheet!Z283/R261),0)","v":0},"W Controlled",null,null,{"$f":"IF(N(Worksheet!S283)=0,N(Worksheet!R283),N(Worksheet!S283))","v":0},{"$f":"IFERROR(Worksheet!W283/(Worksheet!R283+Worksheet!U283),0)","v":0},{"$f":"Worksheet!AE283","v":0},{"$f":"Worksheet!AD283","v":0},0,{"$f":"IF(Worksheet!AL283=0,0,Worksheet!AL283/I261)","v":0},0,null,null,null,{"$f":"IFERROR(Worksheet!X283/(Worksheet!S283+Worksheet!V283),0)","v":0},{"$f":"IF(Worksheet!E283=\"\",\"\",Worksheet!E283)","v":""},{"$f":"IF(Worksheet!B283=\"\",\"\",Worksheet!B283)","v":""},{"$f":"IF(Worksheet!D283=\"\",\"\",Worksheet!D283)","v":""},{"$f":"IF(Worksheet!$A$11=TRUE,\"Y\",\"N\")","v":"N"},{"$f":"IF(Worksheet!$A$12=TRUE,\"Y\",\"N\")","v":"N"},{"$f":"IF(Worksheet!$B$11=TRUE,\"Y\",\"N\")","v":"N"},{"$f":"IF(Worksheet!$B$12=TRUE,\"Y\",\"N\")","v":"N"},{"$f":"IF(Worksheet!$C$11=TRUE,\"Y\",\"N\")","v":"N"},{"$f":"IFERROR(IF(N(Worksheet!V283)=0,Worksheet!U283,Worksheet!V283),\"\")","v":0}]
[{"$f":"IF(ISBLANK(Worksheet!F284)=FALSE,VLOOKUP(Worksheet!A284,MeasureCode_Lookup,6,FALSE),\"\")","v":""},{"$f":"Worksheet!H284","v":0},{"$f":"Worksheet!I284","v":0},{"$f":"IFERROR(IF(Worksheet!Z284=0,Worksheet!Y284/I262,Worksheet!Z284/R262),0)","v":0},"W Controlled",null,null,{"$f":"IF(N(Worksheet!S284)=0,N(Worksheet!R284),N(Worksheet!S284))","v":0},{"$f":"IFERROR(Worksheet!W284/(Worksheet!R284+Worksheet!U284),0)","v":0},{"$f":"Worksheet!AE284","v":0},{"$f":"Worksheet!AD284","v":0},0,{"$f":"IF(Worksheet!AL284=0,0,Worksheet!AL284/I262)","v":0},0,null,null,null,{"$f":"IFERROR(Worksheet!X284/(Worksheet!S284+Worksheet!V284),0)","v":0},{"$f":"IF(Worksheet!E284=\"\",\"\",Worksheet!E284)","v":""},{"$f":"IF(Worksheet!B284=\"\",\"\",Worksheet!B284)","v":""},{"$f":"IF(Worksheet!D284=\"\",\"\",Worksheet!D284)","v":""},{"$f":"IF(Worksheet!$A$11=TRUE,\"Y\",\"N\")","v":"N"},{"$f":"IF(Worksheet!$A$12=TRUE,\"Y\",\"N\")","v":"N"},{"$f":"IF(Worksheet!$B$11=TRUE,\"Y\",\"N\")","v":"N"},{"$f":"IF(Worksheet!$B$12=TRUE,\"Y\",\"N\")","v":"N"},{"$f":"IF(Worksheet!$C$11=TRUE,\"Y\",\"N\")","v":"N"},{"$f":"IFERROR(IF(N(Worksheet!V284)=0,Worksheet!U284,Worksheet!V284),\"\")","v":0}]
[{"$f":"IF(ISBLANK(Worksheet!F285)=FALSE,VLOOKUP(Worksheet!A285,MeasureCode_Lookup,6,FALSE),\"\")","v":""},{"$f":"Worksheet!H285","v":0},{"$f":"Worksheet!I285","v":0},{"$f":"IFERROR(IF(Worksheet!Z285=0,Worksheet!Y285/I263,Worksheet!Z285/R263),0)","v":0},"W Controlled",null,null,{"$f":"IF(N(Worksheet!S285)=0,N(Worksheet!R285),N(Worksheet!S285))","v":0},{"$f":"IFERROR(Worksheet!W285/(Worksheet!R285+Worksheet!U285),0)","v":0},{"$f":"Worksheet!AE285","v":0},{"$f":"Worksheet!AD285","v":0},0,{"$f":"IF(Worksheet!AL285=0,0,Worksheet!AL285/I263)","v":0},0,null,null,null,{"$f":"IFERROR(Worksheet!X285/(Worksheet!S285+Worksheet!V285),0)","v":0},{"$f":"IF(Worksheet!E285=\"\",\"\",Worksheet!E285)","v":""},{"$f":"IF(Worksheet!B285=\"\",\"\",Worksheet!B285)","v":""},{"$f":"IF(Worksheet!D285=\"\",\"\",Worksheet!D285)","v":""},{"$f":"IF(Worksheet!$A$11=TRUE,\"Y\",\"N\")","v":"N"},{"$f":"IF(Worksheet!$A$12=TRUE,\"Y\",\"N\")","v":"N"},{"$f":"IF(Worksheet!$B$11=TRUE,\"Y\",\"N\")","v":"N"},{"$f":"IF(Worksheet!$B$12=TRUE,\"Y\",\"N\")","v":"N"},{"$f":"IF(Worksheet!$C$11=TRUE,\"Y\",\"N\")","v":"N"},{"$f":"IFERROR(IF(N(Worksheet!V285)=0,Worksheet!U285,Worksheet!V285),\"\")","v":0}]
[{"$f":"IF(ISBLANK(Worksheet!F286)=FALSE,VLOOKUP(Worksheet!A286,MeasureCode_Lookup,6,FALSE),\"\")","v":""},{"$f":"Worksheet!H286","v":0},{"$f":"Worksheet!I286","v":0},{"$f":"IFERROR(IF(Worksheet!Z286=0,Worksheet!Y286/I264,Worksheet!Z286/R264),0)","v":0},"W Controlled",null,null,{"$f":"IF(N(Worksheet!S286)=0,N(Worksheet!R286),N(Worksheet!S286))","v":0},{"$f":"IFERROR(Worksheet!W286/(Worksheet!R286+Worksheet!U286),0)","v":0},{"$f":"Worksheet!AE286","v":0},{"$f":"Worksheet!AD286","v":0},0,{"$f":"IF(Worksheet!AL286=0,0,Worksheet!AL286/I264)","v":0},0,null,null,null,{"$f":"IFERROR(Worksheet!X286/(Worksheet!S286+Worksheet!V286),0)","v":0},{"$f":"IF(Worksheet!E286=\"\",\"\",Worksheet!E286)","v":""},{"$f":"IF(Worksheet!B286=\"\",\"\",Worksheet!B286)","v":""},{"$f":"IF(Worksheet!D286=\"\",\"\",Worksheet!D286)","v":""},{"$f":"IF(Worksheet!$A$11=TRUE,\"Y\",\"N\")","v":"N"},{"$f":"IF(Worksheet!$A$12=TRUE,\"Y\",\"N\")","v":"N"},{"$f":"IF(Worksheet!$B$11=TRUE,\"Y\",\"N\")","v":"N"},{"$f":"IF(Worksheet!$B$12=TRUE,\"Y\",\"N\")","v":"N"},{"$f":"IF(Worksheet!$C$11=TRUE,\"Y\",\"N\")","v":"N"},{"$f":"IFERROR(IF(N(Worksheet!V286)=0,Worksheet!U286,Worksheet!V286),\"\")","v":0}]
[{"$f":"IF(ISBLANK(Worksheet!F287)=FALSE,VLOOKUP(Worksheet!A287,MeasureCode_Lookup,6,FALSE),\"\")","v":""},{"$f":"Worksheet!H287","v":0},{"$f":"Worksheet!I287","v":0},{"$f":"IFERROR(IF(Worksheet!Z287=0,Worksheet!Y287/I265,Worksheet!Z287/R265),0)","v":0},"W Controlled",null,null,{"$f":"IF(N(Worksheet!S287)=0,N(Worksheet!R287),N(Worksheet!S287))","v":0},{"$f":"IFERROR(Worksheet!W287/(Worksheet!R287+Worksheet!U287),0)","v":0},{"$f":"Worksheet!AE287","v":0},{"$f":"Worksheet!AD287","v":0},0,{"$f":"IF(Worksheet!AL287=0,0,Worksheet!AL287/I265)","v":0},0,null,null,null,{"$f":"IFERROR(Worksheet!X287/(Worksheet!S287+Worksheet!V287),0)","v":0},{"$f":"IF(Worksheet!E287=\"\",\"\",Worksheet!E287)","v":""},{"$f":"IF(Worksheet!B287=\"\",\"\",Worksheet!B287)","v":""},{"$f":"IF(Worksheet!D287=\"\",\"\",Worksheet!D287)","v":""},{"$f":"IF(Worksheet!$A$11=TRUE,\"Y\",\"N\")","v":"N"},{"$f":"IF(Worksheet!$A$12=TRUE,\"Y\",\"N\")","v":"N"},{"$f":"IF(Worksheet!$B$11=TRUE,\"Y\",\"N\")","v":"N"},{"$f":"IF(Worksheet!$B$12=TRUE,\"Y\",\"N\")","v":"N"},{"$f":"IF(Worksheet!$C$11=TRUE,\"Y\",\"N\")","v":"N"},{"$f":"IFERROR(IF(N(Worksheet!V287)=0,Worksheet!U287,Worksheet!V287),\"\")","v":0}]
[{"$f":"IF(ISBLANK(Worksheet!F288)=FALSE,VLOOKUP(Worksheet!A288,MeasureCode_Lookup,6,FALSE),\"\")","v":""},{"$f":"Worksheet!H288","v":0},{"$f":"Worksheet!I288","v":0},{"$f":"IFERROR(IF(Worksheet!Z288=0,Worksheet!Y288/I266,Worksheet!Z288/R266),0)","v":0},"W Controlled",null,null,{"$f":"IF(N(Worksheet!S288)=0,N(Worksheet!R288),N(Worksheet!S288))","v":0},{"$f":"IFERROR(Worksheet!W288/(Worksheet!R288+Worksheet!U288),0)","v":0},{"$f":"Worksheet!AE288","v":0},{"$f":"Worksheet!AD288","v":0},0,{"$f":"IF(Worksheet!AL288=0,0,Worksheet!AL288/I266)","v":0},0,null,null,null,{"$f":"IFERROR(Worksheet!X288/(Worksheet!S288+Worksheet!V288),0)","v":0},{"$f":"IF(Worksheet!E288=\"\",\"\",Worksheet!E288)","v":""},{"$f":"IF(Worksheet!B288=\"\",\"\",Worksheet!B288)","v":""},{"$f":"IF(Worksheet!D288=\"\",\"\",Worksheet!D288)","v":""},{"$f":"IF(Worksheet!$A$11=TRUE,\"Y\",\"N\")","v":"N"},{"$f":"IF(Worksheet!$A$12=TRUE,\"Y\",\"N\")","v":"N"},{"$f":"IF(Worksheet!$B$11=TRUE,\"Y\",\"N\")","v":"N"},{"$f":"IF(Worksheet!$B$12=TRUE,\"Y\",\"N\")","v":"N"},{"$f":"IF(Worksheet!$C$11=TRUE,\"Y\",\"N\")","v":"N"},{"$f":"IFERROR(IF(N(Worksheet!V288)=0,Worksheet!U288,Worksheet!V288),\"\")","v":0}]
[{"$f":"IF(ISBLANK(Worksheet!F289)=FALSE,VLOOKUP(Worksheet!A289,MeasureCode_Lookup,6,FALSE),\"\")","v":""},{"$f":"Worksheet!H289","v":0},{"$f":"Worksheet!I289","v":0},{"$f":"IFERROR(IF(Worksheet!Z289=0,Worksheet!Y289/I267,Worksheet!Z289/R267),0)","v":0},"W Controlled",null,null,{"$f":"IF(N(Worksheet!S289)=0,N(Worksheet!R289),N(Worksheet!S289))","v":0},{"$f":"IFERROR(Worksheet!W289/(Worksheet!R289+Worksheet!U289),0)","v":0},{"$f":"Worksheet!AE289","v":0},{"$f":"Worksheet!AD289","v":0},0,{"$f":"IF(Worksheet!AL289=0,0,Worksheet!AL289/I267)","v":0},0,null,null,null,{"$f":"IFERROR(Worksheet!X289/(Worksheet!S289+Worksheet!V289),0)","v":0},{"$f":"IF(Worksheet!E289=\"\",\"\",Worksheet!E289)","v":""},{"$f":"IF(Worksheet!B289=\"\",\"\",Worksheet!B289)","v":""},{"$f":"IF(Worksheet!D289=\"\",\"\",Worksheet!D289)","v":""},{"$f":"IF(Worksheet!$A$11=TRUE,\"Y\",\"N\")","v":"N"},{"$f":"IF(Worksheet!$A$12=TRUE,\"Y\",\"N\")","v":"N"},{"$f":"IF(Worksheet!$B$11=TRUE,\"Y\",\"N\")","v":"N"},{"$f":"IF(Worksheet!$B$12=TRUE,\"Y\",\"N\")","v":"N"},{"$f":"IF(Worksheet!$C$11=TRUE,\"Y\",\"N\")","v":"N"},{"$f":"IFERROR(IF(N(Worksheet!V289)=0,Worksheet!U289,Worksheet!V289),\"\")","v":0}]
[{"$f":"IF(ISBLANK(Worksheet!F290)=FALSE,VLOOKUP(Worksheet!A290,MeasureCode_Lookup,6,FALSE),\"\")","v":""},{"$f":"Worksheet!H290","v":0},{"$f":"Worksheet!I290","v":0},{"$f":"IFERROR(IF(Worksheet!Z290=0,Worksheet!Y290/I268,Worksheet!Z290/R268),0)","v":0},"W Controlled",null,null,{"$f":"IF(N(Worksheet!S290)=0,N(Worksheet!R290),N(Worksheet!S290))","v":0},{"$f":"IFERROR(Worksheet!W290/(Worksheet!R290+Worksheet!U290),0)","v":0},{"$f":"Worksheet!AE290","v":0},{"$f":"Worksheet!AD290","v":0},0,{"$f":"IF(Worksheet!AL290=0,0,Worksheet!AL290/I268)","v":0},0,null,null,null,{"$f":"IFERROR(Worksheet!X290/(Worksheet!S290+Worksheet!V290),0)","v":0},{"$f":"IF(Worksheet!E290=\"\",\"\",Worksheet!E290)","v":""},{"$f":"IF(Worksheet!B290=\"\",\"\",Worksheet!B290)","v":""},{"$f":"IF(Worksheet!D290=\"\",\"\",Worksheet!D290)","v":""},{"$f":"IF(Worksheet!$A$11=TRUE,\"Y\",\"N\")","v":"N"},{"$f":"IF(Worksheet!$A$12=TRUE,\"Y\",\"N\")","v":"N"},{"$f":"IF(Worksheet!$B$11=TRUE,\"Y\",\"N\")","v":"N"},{"$f":"IF(Worksheet!$B$12=TRUE,\"Y\",\"N\")","v":"N"},{"$f":"IF(Worksheet!$C$11=TRUE,\"Y\",\"N\")","v":"N"},{"$f":"IFERROR(IF(N(Worksheet!V290)=0,Worksheet!U290,Worksheet!V290),\"\")","v":0}]
[{"$f":"IF(ISBLANK(Worksheet!F291)=FALSE,VLOOKUP(Worksheet!A291,MeasureCode_Lookup,6,FALSE),\"\")","v":""},{"$f":"Worksheet!H291","v":0},{"$f":"Worksheet!I291","v":0},{"$f":"IFERROR(IF(Worksheet!Z291=0,Worksheet!Y291/I269,Worksheet!Z291/R269),0)","v":0},"W Controlled",null,null,{"$f":"IF(N(Worksheet!S291)=0,N(Worksheet!R291),N(Worksheet!S291))","v":0},{"$f":"IFERROR(Worksheet!W291/(Worksheet!R291+Worksheet!U291),0)","v":0},{"$f":"Worksheet!AE291","v":0},{"$f":"Worksheet!AD291","v":0},0,{"$f":"IF(Worksheet!AL291=0,0,Worksheet!AL291/I269)","v":0},0,null,null,null,{"$f":"IFERROR(Worksheet!X291/(Worksheet!S291+Worksheet!V291),0)","v":0},{"$f":"IF(Worksheet!E291=\"\",\"\",Worksheet!E291)","v":""},{"$f":"IF(Worksheet!B291=\"\",\"\",Worksheet!B291)","v":""},{"$f":"IF(Worksheet!D291=\"\",\"\",Worksheet!D291)","v":""},{"$f":"IF(Worksheet!$A$11=TRUE,\"Y\",\"N\")","v":"N"},{"$f":"IF(Worksheet!$A$12=TRUE,\"Y\",\"N\")","v":"N"},{"$f":"IF(Worksheet!$B$11=TRUE,\"Y\",\"N\")","v":"N"},{"$f":"IF(Worksheet!$B$12=TRUE,\"Y\",\"N\")","v":"N"},{"$f":"IF(Worksheet!$C$11=TRUE,\"Y\",\"N\")","v":"N"},{"$f":"IFERROR(IF(N(Worksheet!V291)=0,Worksheet!U291,Worksheet!V291),\"\")","v":0}]
[{"$f":"IF(ISBLANK(Worksheet!F292)=FALSE,VLOOKUP(Worksheet!A292,MeasureCode_Lookup,6,FALSE),\"\")","v":""},{"$f":"Worksheet!H292","v":0},{"$f":"Worksheet!I292","v":0},{"$f":"IFERROR(IF(Worksheet!Z292=0,Worksheet!Y292/I270,Worksheet!Z292/R270),0)","v":0},"W Controlled",null,null,{"$f":"IF(N(Worksheet!S292)=0,N(Worksheet!R292),N(Worksheet!S292))","v":0},{"$f":"IFERROR(Worksheet!W292/(Worksheet!R292+Worksheet!U292),0)","v":0},{"$f":"Worksheet!AE292","v":0},{"$f":"Worksheet!AD292","v":0},0,{"$f":"IF(Worksheet!AL292=0,0,Worksheet!AL292/I270)","v":0},0,null,null,null,{"$f":"IFERROR(Worksheet!X292/(Worksheet!S292+Worksheet!V292),0)","v":0},{"$f":"IF(Worksheet!E292=\"\",\"\",Worksheet!E292)","v":""},{"$f":"IF(Worksheet!B292=\"\",\"\",Worksheet!B292)","v":""},{"$f":"IF(Worksheet!D292=\"\",\"\",Worksheet!D292)","v":""},{"$f":"IF(Worksheet!$A$11=TRUE,\"Y\",\"N\")","v":"N"},{"$f":"IF(Worksheet!$A$12=TRUE,\"Y\",\"N\")","v":"N"},{"$f":"IF(Worksheet!$B$11=TRUE,\"Y\",\"N\")","v":"N"},{"$f":"IF(Worksheet!$B$12=TRUE,\"Y\",\"N\")","v":"N"},{"$f":"IF(Worksheet!$C$11=TRUE,\"Y\",\"N\")","v":"N"},{"$f":"IFERROR(IF(N(Worksheet!V292)=0,Worksheet!U292,Worksheet!V292),\"\")","v":0}]
[{"$f":"IF(ISBLANK(Worksheet!F293)=FALSE,VLOOKUP(Worksheet!A293,MeasureCode_Lookup,6,FALSE),\"\")","v":""},{"$f":"Worksheet!H293","v":0},{"$f":"Worksheet!I293","v":0},{"$f":"IFERROR(IF(Worksheet!Z293=0,Worksheet!Y293/I271,Worksheet!Z293/R271),0)","v":0},"W Controlled",null,null,{"$f":"IF(N(Worksheet!S293)=0,N(Worksheet!R293),N(Worksheet!S293))","v":0},{"$f":"IFERROR(Worksheet!W293/(Worksheet!R293+Worksheet!U293),0)","v":0},{"$f":"Worksheet!AE293","v":0},{"$f":"Worksheet!AD293","v":0},0,{"$f":"IF(Worksheet!AL293=0,0,Worksheet!AL293/I271)","v":0},0,null,null,null,{"$f":"IFERROR(Worksheet!X293/(Worksheet!S293+Worksheet!V293),0)","v":0},{"$f":"IF(Worksheet!E293=\"\",\"\",Worksheet!E293)","v":""},{"$f":"IF(Worksheet!B293=\"\",\"\",Worksheet!B293)","v":""},{"$f":"IF(Worksheet!D293=\"\",\"\",Worksheet!D293)","v":""},{"$f":"IF(Worksheet!$A$11=TRUE,\"Y\",\"N\")","v":"N"},{"$f":"IF(Worksheet!$A$12=TRUE,\"Y\",\"N\")","v":"N"},{"$f":"IF(Worksheet!$B$11=TRUE,\"Y\",\"N\")","v":"N"},{"$f":"IF(Worksheet!$B$12=TRUE,\"Y\",\"N\")","v":"N"},{"$f":"IF(Worksheet!$C$11=TRUE,\"Y\",\"N\")","v":"N"},{"$f":"IFERROR(IF(N(Worksheet!V293)=0,Worksheet!U293,Worksheet!V293),\"\")","v":0}]
[{"$f":"IF(ISBLANK(Worksheet!F294)=FALSE,VLOOKUP(Worksheet!A294,MeasureCode_Lookup,6,FALSE),\"\")","v":""},{"$f":"Worksheet!H294","v":0},{"$f":"Worksheet!I294","v":0},{"$f":"IFERROR(IF(Worksheet!Z294=0,Worksheet!Y294/I272,Worksheet!Z294/R272),0)","v":0},"W Controlled",null,null,{"$f":"IF(N(Worksheet!S294)=0,N(Worksheet!R294),N(Worksheet!S294))","v":0},{"$f":"IFERROR(Worksheet!W294/(Worksheet!R294+Worksheet!U294),0)","v":0},{"$f":"Worksheet!AE294","v":0},{"$f":"Worksheet!AD294","v":0},0,{"$f":"IF(Worksheet!AL294=0,0,Worksheet!AL294/I272)","v":0},0,null,null,null,{"$f":"IFERROR(Worksheet!X294/(Worksheet!S294+Worksheet!V294),0)","v":0},{"$f":"IF(Worksheet!E294=\"\",\"\",Worksheet!E294)","v":""},{"$f":"IF(Worksheet!B294=\"\",\"\",Worksheet!B294)","v":""},{"$f":"IF(Worksheet!D294=\"\",\"\",Worksheet!D294)","v":""},{"$f":"IF(Worksheet!$A$11=TRUE,\"Y\",\"N\")","v":"N"},{"$f":"IF(Worksheet!$A$12=TRUE,\"Y\",\"N\")","v":"N"},{"$f":"IF(Worksheet!$B$11=TRUE,\"Y\",\"N\")","v":"N"},{"$f":"IF(Worksheet!$B$12=TRUE,\"Y\",\"N\")","v":"N"},{"$f":"IF(Worksheet!$C$11=TRUE,\"Y\",\"N\")","v":"N"},{"$f":"IFERROR(IF(N(Worksheet!V294)=0,Worksheet!U294,Worksheet!V294),\"\")","v":0}]
[{"$f":"IF(ISBLANK(Worksheet!F295)=FALSE,VLOOKUP(Worksheet!A295,MeasureCode_Lookup,6,FALSE),\"\")","v":""},{"$f":"Worksheet!H295","v":0},{"$f":"Worksheet!I295","v":0},{"$f":"IFERROR(IF(Worksheet!Z295=0,Worksheet!Y295/I273,Worksheet!Z295/R273),0)","v":0},"W Controlled",null,null,{"$f":"IF(N(Worksheet!S295)=0,N(Worksheet!R295),N(Worksheet!S295))","v":0},{"$f":"IFERROR(Worksheet!W295/(Worksheet!R295+Worksheet!U295),0)","v":0},{"$f":"Worksheet!AE295","v":0},{"$f":"Worksheet!AD295","v":0},0,{"$f":"IF(Worksheet!AL295=0,0,Worksheet!AL295/I273)","v":0},0,null,null,null,{"$f":"IFERROR(Worksheet!X295/(Worksheet!S295+Worksheet!V295),0)","v":0},{"$f":"IF(Worksheet!E295=\"\",\"\",Worksheet!E295)","v":""},{"$f":"IF(Worksheet!B295=\"\",\"\",Worksheet!B295)","v":""},{"$f":"IF(Worksheet!D295=\"\",\"\",Worksheet!D295)","v":""},{"$f":"IF(Worksheet!$A$11=TRUE,\"Y\",\"N\")","v":"N"},{"$f":"IF(Worksheet!$A$12=TRUE,\"Y\",\"N\")","v":"N"},{"$f":"IF(Worksheet!$B$11=TRUE,\"Y\",\"N\")","v":"N"},{"$f":"IF(Worksheet!$B$12=TRUE,\"Y\",\"N\")","v":"N"},{"$f":"IF(Worksheet!$C$11=TRUE,\"Y\",\"N\")","v":"N"},{"$f":"IFERROR(IF(N(Worksheet!V295)=0,Worksheet!U295,Worksheet!V295),\"\")","v":0}]
[{"$f":"IF(ISBLANK(Worksheet!F296)=FALSE,VLOOKUP(Worksheet!A296,MeasureCode_Lookup,6,FALSE),\"\")","v":""},{"$f":"Worksheet!H296","v":0},{"$f":"Worksheet!I296","v":0},{"$f":"IFERROR(IF(Worksheet!Z296=0,Worksheet!Y296/I274,Worksheet!Z296/R274),0)","v":0},"W Controlled",null,null,{"$f":"IF(N(Worksheet!S296)=0,N(Worksheet!R296),N(Worksheet!S296))","v":0},{"$f":"IFERROR(Worksheet!W296/(Worksheet!R296+Worksheet!U296),0)","v":0},{"$f":"Worksheet!AE296","v":0},{"$f":"Worksheet!AD296","v":0},0,{"$f":"IF(Worksheet!AL296=0,0,Worksheet!AL296/I274)","v":0},0,null,null,null,{"$f":"IFERROR(Worksheet!X296/(Worksheet!S296+Worksheet!V296),0)","v":0},{"$f":"IF(Worksheet!E296=\"\",\"\",Worksheet!E296)","v":""},{"$f":"IF(Worksheet!B296=\"\",\"\",Worksheet!B296)","v":""},{"$f":"IF(Worksheet!D296=\"\",\"\",Worksheet!D296)","v":""},{"$f":"IF(Worksheet!$A$11=TRUE,\"Y\",\"N\")","v":"N"},{"$f":"IF(Worksheet!$A$12=TRUE,\"Y\",\"N\")","v":"N"},{"$f":"IF(Worksheet!$B$11=TRUE,\"Y\",\"N\")","v":"N"},{"$f":"IF(Worksheet!$B$12=TRUE,\"Y\",\"N\")","v":"N"},{"$f":"IF(Worksheet!$C$11=TRUE,\"Y\",\"N\")","v":"N"},{"$f":"IFERROR(IF(N(Worksheet!V296)=0,Worksheet!U296,Worksheet!V296),\"\")","v":0}]
[{"$f":"IF(ISBLANK(Worksheet!F297)=FALSE,VLOOKUP(Worksheet!A297,MeasureCode_Lookup,6,FALSE),\"\")","v":""},{"$f":"Worksheet!H297","v":0},{"$f":"Worksheet!I297","v":0},{"$f":"IFERROR(IF(Worksheet!Z297=0,Worksheet!Y297/I275,Worksheet!Z297/R275),0)","v":0},"W Controlled",null,null,{"$f":"IF(N(Worksheet!S297)=0,N(Worksheet!R297),N(Worksheet!S297))","v":0},{"$f":"IFERROR(Worksheet!W297/(Worksheet!R297+Worksheet!U297),0)","v":0},{"$f":"Worksheet!AE297","v":0},{"$f":"Worksheet!AD297","v":0},0,{"$f":"IF(Worksheet!AL297=0,0,Worksheet!AL297/I275)","v":0},0,null,null,null,{"$f":"IFERROR(Worksheet!X297/(Worksheet!S297+Worksheet!V297),0)","v":0},{"$f":"IF(Worksheet!E297=\"\",\"\",Worksheet!E297)","v":""},{"$f":"IF(Worksheet!B297=\"\",\"\",Worksheet!B297)","v":""},{"$f":"IF(Worksheet!D297=\"\",\"\",Worksheet!D297)","v":""},{"$f":"IF(Worksheet!$A$11=TRUE,\"Y\",\"N\")","v":"N"},{"$f":"IF(Worksheet!$A$12=TRUE,\"Y\",\"N\")","v":"N"},{"$f":"IF(Worksheet!$B$11=TRUE,\"Y\",\"N\")","v":"N"},{"$f":"IF(Worksheet!$B$12=TRUE,\"Y\",\"N\")","v":"N"},{"$f":"IF(Worksheet!$C$11=TRUE,\"Y\",\"N\")","v":"N"},{"$f":"IFERROR(IF(N(Worksheet!V297)=0,Worksheet!U297,Worksheet!V297),\"\")","v":0}]
[{"$f":"IF(ISBLANK(Worksheet!F298)=FALSE,VLOOKUP(Worksheet!A298,MeasureCode_Lookup,6,FALSE),\"\")","v":""},{"$f":"Worksheet!H298","v":0},{"$f":"Worksheet!I298","v":0},{"$f":"IFERROR(IF(Worksheet!Z298=0,Worksheet!Y298/I276,Worksheet!Z298/R276),0)","v":0},"W Controlled",null,null,{"$f":"IF(N(Worksheet!S298)=0,N(Worksheet!R298),N(Worksheet!S298))","v":0},{"$f":"IFERROR(Worksheet!W298/(Worksheet!R298+Worksheet!U298),0)","v":0},{"$f":"Worksheet!AE298","v":0},{"$f":"Worksheet!AD298","v":0},0,{"$f":"IF(Worksheet!AL298=0,0,Worksheet!AL298/I276)","v":0},0,null,null,null,{"$f":"IFERROR(Worksheet!X298/(Worksheet!S298+Worksheet!V298),0)","v":0},{"$f":"IF(Worksheet!E298=\"\",\"\",Worksheet!E298)","v":""},{"$f":"IF(Worksheet!B298=\"\",\"\",Worksheet!B298)","v":""},{"$f":"IF(Worksheet!D298=\"\",\"\",Worksheet!D298)","v":""},{"$f":"IF(Worksheet!$A$11=TRUE,\"Y\",\"N\")","v":"N"},{"$f":"IF(Worksheet!$A$12=TRUE,\"Y\",\"N\")","v":"N"},{"$f":"IF(Worksheet!$B$11=TRUE,\"Y\",\"N\")","v":"N"},{"$f":"IF(Worksheet!$B$12=TRUE,\"Y\",\"N\")","v":"N"},{"$f":"IF(Worksheet!$C$11=TRUE,\"Y\",\"N\")","v":"N"},{"$f":"IFERROR(IF(N(Worksheet!V298)=0,Worksheet!U298,Worksheet!V298),\"\")","v":0}]
[{"$f":"IF(ISBLANK(Worksheet!F299)=FALSE,VLOOKUP(Worksheet!A299,MeasureCode_Lookup,6,FALSE),\"\")","v":""},{"$f":"Worksheet!H299","v":0},{"$f":"Worksheet!I299","v":0},{"$f":"IFERROR(IF(Worksheet!Z299=0,Worksheet!Y299/I277,Worksheet!Z299/R277),0)","v":0},"W Controlled",null,null,{"$f":"IF(N(Worksheet!S299)=0,N(Worksheet!R299),N(Worksheet!S299))","v":0},{"$f":"IFERROR(Worksheet!W299/(Worksheet!R299+Worksheet!U299),0)","v":0},{"$f":"Worksheet!AE299","v":0},{"$f":"Worksheet!AD299","v":0},0,{"$f":"IF(Worksheet!AL299=0,0,Worksheet!AL299/I277)","v":0},0,null,null,null,{"$f":"IFERROR(Worksheet!X299/(Worksheet!S299+Worksheet!V299),0)","v":0},{"$f":"IF(Worksheet!E299=\"\",\"\",Worksheet!E299)","v":""},{"$f":"IF(Worksheet!B299=\"\",\"\",Worksheet!B299)","v":""},{"$f":"IF(Worksheet!D299=\"\",\"\",Worksheet!D299)","v":""},{"$f":"IF(Worksheet!$A$11=TRUE,\"Y\",\"N\")","v":"N"},{"$f":"IF(Worksheet!$A$12=TRUE,\"Y\",\"N\")","v":"N"},{"$f":"IF(Worksheet!$B$11=TRUE,\"Y\",\"N\")","v":"N"},{"$f":"IF(Worksheet!$B$12=TRUE,\"Y\",\"N\")","v":"N"},{"$f":"IF(Worksheet!$C$11=TRUE,\"Y\",\"N\")","v":"N"},{"$f":"IFERROR(IF(N(Worksheet!V299)=0,Worksheet!U299,Worksheet!V299),\"\")","v":0}]
[{"$f":"IF(ISBLANK(Worksheet!F300)=FALSE,VLOOKUP(Worksheet!A300,MeasureCode_Lookup,6,FALSE),\"\")","v":""},{"$f":"Worksheet!H300","v":0},{"$f":"Worksheet!I300","v":0},{"$f":"IFERROR(IF(Worksheet!Z300=0,Worksheet!Y300/I278,Worksheet!Z300/R278),0)","v":0},"W Controlled",null,null,{"$f":"IF(N(Worksheet!S300)=0,N(Worksheet!R300),N(Worksheet!S300))","v":0},{"$f":"IFERROR(Worksheet!W300/(Worksheet!R300+Worksheet!U300),0)","v":0},{"$f":"Worksheet!AE300","v":0},{"$f":"Worksheet!AD300","v":0},0,{"$f":"IF(Worksheet!AL300=0,0,Worksheet!AL300/I278)","v":0},0,null,null,null,{"$f":"IFERROR(Worksheet!X300/(Worksheet!S300+Worksheet!V300),0)","v":0},{"$f":"IF(Worksheet!E300=\"\",\"\",Worksheet!E300)","v":""},{"$f":"IF(Worksheet!B300=\"\",\"\",Worksheet!B300)","v":""},{"$f":"IF(Worksheet!D300=\"\",\"\",Worksheet!D300)","v":""},{"$f":"IF(Worksheet!$A$11=TRUE,\"Y\",\"N\")","v":"N"},{"$f":"IF(Worksheet!$A$12=TRUE,\"Y\",\"N\")","v":"N"},{"$f":"IF(Worksheet!$B$11=TRUE,\"Y\",\"N\")","v":"N"},{"$f":"IF(Worksheet!$B$12=TRUE,\"Y\",\"N\")","v":"N"},{"$f":"IF(Worksheet!$C$11=TRUE,\"Y\",\"N\")","v":"N"},{"$f":"IFERROR(IF(N(Worksheet!V300)=0,Worksheet!U300,Worksheet!V300),\"\")","v":0}]
[{"$f":"IF(ISBLANK(Worksheet!F301)=FALSE,VLOOKUP(Worksheet!A301,MeasureCode_Lookup,6,FALSE),\"\")","v":""},{"$f":"Worksheet!H301","v":0},{"$f":"Worksheet!I301","v":0},{"$f":"IFERROR(IF(Worksheet!Z301=0,Worksheet!Y301/I279,Worksheet!Z301/R279),0)","v":0},"W Controlled",null,null,{"$f":"IF(N(Worksheet!S301)=0,N(Worksheet!R301),N(Worksheet!S301))","v":0},{"$f":"IFERROR(Worksheet!W301/(Worksheet!R301+Worksheet!U301),0)","v":0},{"$f":"Worksheet!AE301","v":0},{"$f":"Worksheet!AD301","v":0},0,{"$f":"IF(Worksheet!AL301=0,0,Worksheet!AL301/I279)","v":0},0,null,null,null,{"$f":"IFERROR(Worksheet!X301/(Worksheet!S301+Worksheet!V301),0)","v":0},{"$f":"IF(Worksheet!E301=\"\",\"\",Worksheet!E301)","v":""},{"$f":"IF(Worksheet!B301=\"\",\"\",Worksheet!B301)","v":""},{"$f":"IF(Worksheet!D301=\"\",\"\",Worksheet!D301)","v":""},{"$f":"IF(Worksheet!$A$11=TRUE,\"Y\",\"N\")","v":"N"},{"$f":"IF(Worksheet!$A$12=TRUE,\"Y\",\"N\")","v":"N"},{"$f":"IF(Worksheet!$B$11=TRUE,\"Y\",\"N\")","v":"N"},{"$f":"IF(Worksheet!$B$12=TRUE,\"Y\",\"N\")","v":"N"},{"$f":"IF(Worksheet!$C$11=TRUE,\"Y\",\"N\")","v":"N"},{"$f":"IFERROR(IF(N(Worksheet!V301)=0,Worksheet!U301,Worksheet!V301),\"\")","v":0}]
[{"$f":"IF(ISBLANK(Worksheet!F302)=FALSE,VLOOKUP(Worksheet!A302,MeasureCode_Lookup,6,FALSE),\"\")","v":""},{"$f":"Worksheet!H302","v":0},{"$f":"Worksheet!I302","v":0},{"$f":"IFERROR(IF(Worksheet!Z302=0,Worksheet!Y302/I280,Worksheet!Z302/R280),0)","v":0},"W Controlled",null,null,{"$f":"IF(N(Worksheet!S302)=0,N(Worksheet!R302),N(Worksheet!S302))","v":0},{"$f":"IFERROR(Worksheet!W302/(Worksheet!R302+Worksheet!U302),0)","v":0},{"$f":"Worksheet!AE302","v":0},{"$f":"Worksheet!AD302","v":0},0,{"$f":"IF(Worksheet!AL302=0,0,Worksheet!AL302/I280)","v":0},0,null,null,null,{"$f":"IFERROR(Worksheet!X302/(Worksheet!S302+Worksheet!V302),0)","v":0},{"$f":"IF(Worksheet!E302=\"\",\"\",Worksheet!E302)","v":""},{"$f":"IF(Worksheet!B302=\"\",\"\",Worksheet!B302)","v":""},{"$f":"IF(Worksheet!D302=\"\",\"\",Worksheet!D302)","v":""},{"$f":"IF(Worksheet!$A$11=TRUE,\"Y\",\"N\")","v":"N"},{"$f":"IF(Worksheet!$A$12=TRUE,\"Y\",\"N\")","v":"N"},{"$f":"IF(Worksheet!$B$11=TRUE,\"Y\",\"N\")","v":"N"},{"$f":"IF(Worksheet!$B$12=TRUE,\"Y\",\"N\")","v":"N"},{"$f":"IF(Worksheet!$C$11=TRUE,\"Y\",\"N\")","v":"N"},{"$f":"IFERROR(IF(N(Worksheet!V302)=0,Worksheet!U302,Worksheet!V302),\"\")","v":0}]
[{"$f":"IF(ISBLANK(Worksheet!F303)=FALSE,VLOOKUP(Worksheet!A303,MeasureCode_Lookup,6,FALSE),\"\")","v":""},{"$f":"Worksheet!H303","v":0},{"$f":"Worksheet!I303","v":0},{"$f":"IFERROR(IF(Worksheet!Z303=0,Worksheet!Y303/I281,Worksheet!Z303/R281),0)","v":0},"W Controlled",null,null,{"$f":"IF(N(Worksheet!S303)=0,N(Worksheet!R303),N(Worksheet!S303))","v":0},{"$f":"IFERROR(Worksheet!W303/(Worksheet!R303+Worksheet!U303),0)","v":0},{"$f":"Worksheet!AE303","v":0},{"$f":"Worksheet!AD303","v":0},0,{"$f":"IF(Worksheet!AL303=0,0,Worksheet!AL303/I281)","v":0},0,null,null,null,{"$f":"IFERROR(Worksheet!X303/(Worksheet!S303+Worksheet!V303),0)","v":0},{"$f":"IF(Worksheet!E303=\"\",\"\",Worksheet!E303)","v":""},{"$f":"IF(Worksheet!B303=\"\",\"\",Worksheet!B303)","v":""},{"$f":"IF(Worksheet!D303=\"\",\"\",Worksheet!D303)","v":""},{"$f":"IF(Worksheet!$A$11=TRUE,\"Y\",\"N\")","v":"N"},{"$f":"IF(Worksheet!$A$12=TRUE,\"Y\",\"N\")","v":"N"},{"$f":"IF(Worksheet!$B$11=TRUE,\"Y\",\"N\")","v":"N"},{"$f":"IF(Worksheet!$B$12=TRUE,\"Y\",\"N\")","v":"N"},{"$f":"IF(Worksheet!$C$11=TRUE,\"Y\",\"N\")","v":"N"},{"$f":"IFERROR(IF(N(Worksheet!V303)=0,Worksheet!U303,Worksheet!V303),\"\")","v":0}]
[{"$f":"IF(ISBLANK(Worksheet!F304)=FALSE,VLOOKUP(Worksheet!A304,MeasureCode_Lookup,6,FALSE),\"\")","v":""},{"$f":"Worksheet!H304","v":0},{"$f":"Worksheet!I304","v":0},{"$f":"IFERROR(IF(Worksheet!Z304=0,Worksheet!Y304/I282,Worksheet!Z304/R282),0)","v":0},"W Controlled",null,null,{"$f":"IF(N(Worksheet!S304)=0,N(Worksheet!R304),N(Worksheet!S304))","v":0},{"$f":"IFERROR(Worksheet!W304/(Worksheet!R304+Worksheet!U304),0)","v":0},{"$f":"Worksheet!AE304","v":0},{"$f":"Worksheet!AD304","v":0},0,{"$f":"IF(Worksheet!AL304=0,0,Worksheet!AL304/I282)","v":0},0,null,null,null,{"$f":"IFERROR(Worksheet!X304/(Worksheet!S304+Worksheet!V304),0)","v":0},{"$f":"IF(Worksheet!E304=\"\",\"\",Worksheet!E304)","v":""},{"$f":"IF(Worksheet!B304=\"\",\"\",Worksheet!B304)","v":""},{"$f":"IF(Worksheet!D304=\"\",\"\",Worksheet!D304)","v":""},{"$f":"IF(Worksheet!$A$11=TRUE,\"Y\",\"N\")","v":"N"},{"$f":"IF(Worksheet!$A$12=TRUE,\"Y\",\"N\")","v":"N"},{"$f":"IF(Worksheet!$B$11=TRUE,\"Y\",\"N\")","v":"N"},{"$f":"IF(Worksheet!$B$12=TRUE,\"Y\",\"N\")","v":"N"},{"$f":"IF(Worksheet!$C$11=TRUE,\"Y\",\"N\")","v":"N"},{"$f":"IFERROR(IF(N(Worksheet!V304)=0,Worksheet!U304,Worksheet!V304),\"\")","v":0}]
[{"$f":"IF(ISBLANK(Worksheet!F305)=FALSE,VLOOKUP(Worksheet!A305,MeasureCode_Lookup,6,FALSE),\"\")","v":""},{"$f":"Worksheet!H305","v":0},{"$f":"Worksheet!I305","v":0},{"$f":"IFERROR(IF(Worksheet!Z305=0,Worksheet!Y305/I283,Worksheet!Z305/R283),0)","v":0},"W Controlled",null,null,{"$f":"IF(N(Worksheet!S305)=0,N(Worksheet!R305),N(Worksheet!S305))","v":0},{"$f":"IFERROR(Worksheet!W305/(Worksheet!R305+Worksheet!U305),0)","v":0},{"$f":"Worksheet!AE305","v":0},{"$f":"Worksheet!AD305","v":0},0,{"$f":"IF(Worksheet!AL305=0,0,Worksheet!AL305/I283)","v":0},0,null,null,null,{"$f":"IFERROR(Worksheet!X305/(Worksheet!S305+Worksheet!V305),0)","v":0},{"$f":"IF(Worksheet!E305=\"\",\"\",Worksheet!E305)","v":""},{"$f":"IF(Worksheet!B305=\"\",\"\",Worksheet!B305)","v":""},{"$f":"IF(Worksheet!D305=\"\",\"\",Worksheet!D305)","v":""},{"$f":"IF(Worksheet!$A$11=TRUE,\"Y\",\"N\")","v":"N"},{"$f":"IF(Worksheet!$A$12=TRUE,\"Y\",\"N\")","v":"N"},{"$f":"IF(Worksheet!$B$11=TRUE,\"Y\",\"N\")","v":"N"},{"$f":"IF(Worksheet!$B$12=TRUE,\"Y\",\"N\")","v":"N"},{"$f":"IF(Worksheet!$C$11=TRUE,\"Y\",\"N\")","v":"N"},{"$f":"IFERROR(IF(N(Worksheet!V305)=0,Worksheet!U305,Worksheet!V305),\"\")","v":0}]
[{"$f":"IF(ISBLANK(Worksheet!F306)=FALSE,VLOOKUP(Worksheet!A306,MeasureCode_Lookup,6,FALSE),\"\")","v":""},{"$f":"Worksheet!H306","v":0},{"$f":"Worksheet!I306","v":0},{"$f":"IFERROR(IF(Worksheet!Z306=0,Worksheet!Y306/I284,Worksheet!Z306/R284),0)","v":0},"W Controlled",null,null,{"$f":"IF(N(Worksheet!S306)=0,N(Worksheet!R306),N(Worksheet!S306))","v":0},{"$f":"IFERROR(Worksheet!W306/(Worksheet!R306+Worksheet!U306),0)","v":0},{"$f":"Worksheet!AE306","v":0},{"$f":"Worksheet!AD306","v":0},0,{"$f":"IF(Worksheet!AL306=0,0,Worksheet!AL306/I284)","v":0},0,null,null,null,{"$f":"IFERROR(Worksheet!X306/(Worksheet!S306+Worksheet!V306),0)","v":0},{"$f":"IF(Worksheet!E306=\"\",\"\",Worksheet!E306)","v":""},{"$f":"IF(Worksheet!B306=\"\",\"\",Worksheet!B306)","v":""},{"$f":"IF(Worksheet!D306=\"\",\"\",Worksheet!D306)","v":""},{"$f":"IF(Worksheet!$A$11=TRUE,\"Y\",\"N\")","v":"N"},{"$f":"IF(Worksheet!$A$12=TRUE,\"Y\",\"N\")","v":"N"},{"$f":"IF(Worksheet!$B$11=TRUE,\"Y\",\"N\")","v":"N"},{"$f":"IF(Worksheet!$B$12=TRUE,\"Y\",\"N\")","v":"N"},{"$f":"IF(Worksheet!$C$11=TRUE,\"Y\",\"N\")","v":"N"},{"$f":"IFERROR(IF(N(Worksheet!V306)=0,Worksheet!U306,Worksheet!V306),\"\")","v":0}]
[{"$f":"IF(ISBLANK(Worksheet!F307)=FALSE,VLOOKUP(Worksheet!A307,MeasureCode_Lookup,6,FALSE),\"\")","v":""},{"$f":"Worksheet!H307","v":0},{"$f":"Worksheet!I307","v":0},{"$f":"IFERROR(IF(Worksheet!Z307=0,Worksheet!Y307/I285,Worksheet!Z307/R285),0)","v":0},"W Controlled",null,null,{"$f":"IF(N(Worksheet!S307)=0,N(Worksheet!R307),N(Worksheet!S307))","v":0},{"$f":"IFERROR(Worksheet!W307/(Worksheet!R307+Worksheet!U307),0)","v":0},{"$f":"Worksheet!AE307","v":0},{"$f":"Worksheet!AD307","v":0},0,{"$f":"IF(Worksheet!AL307=0,0,Worksheet!AL307/I285)","v":0},0,null,null,null,{"$f":"IFERROR(Worksheet!X307/(Worksheet!S307+Worksheet!V307),0)","v":0},{"$f":"IF(Worksheet!E307=\"\",\"\",Worksheet!E307)","v":""},{"$f":"IF(Worksheet!B307=\"\",\"\",Worksheet!B307)","v":""},{"$f":"IF(Worksheet!D307=\"\",\"\",Worksheet!D307)","v":""},{"$f":"IF(Worksheet!$A$11=TRUE,\"Y\",\"N\")","v":"N"},{"$f":"IF(Worksheet!$A$12=TRUE,\"Y\",\"N\")","v":"N"},{"$f":"IF(Worksheet!$B$11=TRUE,\"Y\",\"N\")","v":"N"},{"$f":"IF(Worksheet!$B$12=TRUE,\"Y\",\"N\")","v":"N"},{"$f":"IF(Worksheet!$C$11=TRUE,\"Y\",\"N\")","v":"N"},{"$f":"IFERROR(IF(N(Worksheet!V307)=0,Worksheet!U307,Worksheet!V307),\"\")","v":0}]
[{"$f":"IF(ISBLANK(Worksheet!F308)=FALSE,VLOOKUP(Worksheet!A308,MeasureCode_Lookup,6,FALSE),\"\")","v":""},{"$f":"Worksheet!H308","v":0},{"$f":"Worksheet!I308","v":0},{"$f":"IFERROR(IF(Worksheet!Z308=0,Worksheet!Y308/I286,Worksheet!Z308/R286),0)","v":0},"W Controlled",null,null,{"$f":"IF(N(Worksheet!S308)=0,N(Worksheet!R308),N(Worksheet!S308))","v":0},{"$f":"IFERROR(Worksheet!W308/(Worksheet!R308+Worksheet!U308),0)","v":0},{"$f":"Worksheet!AE308","v":0},{"$f":"Worksheet!AD308","v":0},0,{"$f":"IF(Worksheet!AL308=0,0,Worksheet!AL308/I286)","v":0},0,null,null,null,{"$f":"IFERROR(Worksheet!X308/(Worksheet!S308+Worksheet!V308),0)","v":0},{"$f":"IF(Worksheet!E308=\"\",\"\",Worksheet!E308)","v":""},{"$f":"IF(Worksheet!B308=\"\",\"\",Worksheet!B308)","v":""},{"$f":"IF(Worksheet!D308=\"\",\"\",Worksheet!D308)","v":""},{"$f":"IF(Worksheet!$A$11=TRUE,\"Y\",\"N\")","v":"N"},{"$f":"IF(Worksheet!$A$12=TRUE,\"Y\",\"N\")","v":"N"},{"$f":"IF(Worksheet!$B$11=TRUE,\"Y\",\"N\")","v":"N"},{"$f":"IF(Worksheet!$B$12=TRUE,\"Y\",\"N\")","v":"N"},{"$f":"IF(Worksheet!$C$11=TRUE,\"Y\",\"N\")","v":"N"},{"$f":"IFERROR(IF(N(Worksheet!V308)=0,Worksheet!U308,Worksheet!V308),\"\")","v":0}]
[{"$f":"IF(ISBLANK(Worksheet!F309)=FALSE,VLOOKUP(Worksheet!A309,MeasureCode_Lookup,6,FALSE),\"\")","v":""},{"$f":"Worksheet!H309","v":0},{"$f":"Worksheet!I309","v":0},{"$f":"IFERROR(IF(Worksheet!Z309=0,Worksheet!Y309/I287,Worksheet!Z309/R287),0)","v":0},"W Controlled",null,null,{"$f":"IF(N(Worksheet!S309)=0,N(Worksheet!R309),N(Worksheet!S309))","v":0},{"$f":"IFERROR(Worksheet!W309/(Worksheet!R309+Worksheet!U309),0)","v":0},{"$f":"Worksheet!AE309","v":0},{"$f":"Worksheet!AD309","v":0},0,{"$f":"IF(Worksheet!AL309=0,0,Worksheet!AL309/I287)","v":0},0,null,null,null,{"$f":"IFERROR(Worksheet!X309/(Worksheet!S309+Worksheet!V309),0)","v":0},{"$f":"IF(Worksheet!E309=\"\",\"\",Worksheet!E309)","v":""},{"$f":"IF(Worksheet!B309=\"\",\"\",Worksheet!B309)","v":""},{"$f":"IF(Worksheet!D309=\"\",\"\",Worksheet!D309)","v":""},{"$f":"IF(Worksheet!$A$11=TRUE,\"Y\",\"N\")","v":"N"},{"$f":"IF(Worksheet!$A$12=TRUE,\"Y\",\"N\")","v":"N"},{"$f":"IF(Worksheet!$B$11=TRUE,\"Y\",\"N\")","v":"N"},{"$f":"IF(Worksheet!$B$12=TRUE,\"Y\",\"N\")","v":"N"},{"$f":"IF(Worksheet!$C$11=TRUE,\"Y\",\"N\")","v":"N"},{"$f":"IFERROR(IF(N(Worksheet!V309)=0,Worksheet!U309,Worksheet!V309),\"\")","v":0}]
[{"$f":"IF(ISBLANK(Worksheet!F310)=FALSE,VLOOKUP(Worksheet!A310,MeasureCode_Lookup,6,FALSE),\"\")","v":""},{"$f":"Worksheet!H310","v":0},{"$f":"Worksheet!I310","v":0},{"$f":"IFERROR(IF(Worksheet!Z310=0,Worksheet!Y310/I288,Worksheet!Z310/R288),0)","v":0},"W Controlled",null,null,{"$f":"IF(N(Worksheet!S310)=0,N(Worksheet!R310),N(Worksheet!S310))","v":0},{"$f":"IFERROR(Worksheet!W310/(Worksheet!R310+Worksheet!U310),0)","v":0},{"$f":"Worksheet!AE310","v":0},{"$f":"Worksheet!AD310","v":0},0,{"$f":"IF(Worksheet!AL310=0,0,Worksheet!AL310/I288)","v":0},0,null,null,null,{"$f":"IFERROR(Worksheet!X310/(Worksheet!S310+Worksheet!V310),0)","v":0},{"$f":"IF(Worksheet!E310=\"\",\"\",Worksheet!E310)","v":""},{"$f":"IF(Worksheet!B310=\"\",\"\",Worksheet!B310)","v":""},{"$f":"IF(Worksheet!D310=\"\",\"\",Worksheet!D310)","v":""},{"$f":"IF(Worksheet!$A$11=TRUE,\"Y\",\"N\")","v":"N"},{"$f":"IF(Worksheet!$A$12=TRUE,\"Y\",\"N\")","v":"N"},{"$f":"IF(Worksheet!$B$11=TRUE,\"Y\",\"N\")","v":"N"},{"$f":"IF(Worksheet!$B$12=TRUE,\"Y\",\"N\")","v":"N"},{"$f":"IF(Worksheet!$C$11=TRUE,\"Y\",\"N\")","v":"N"},{"$f":"IFERROR(IF(N(Worksheet!V310)=0,Worksheet!U310,Worksheet!V310),\"\")","v":0}]
[{"$f":"IF(ISBLANK(Worksheet!F311)=FALSE,VLOOKUP(Worksheet!A311,MeasureCode_Lookup,6,FALSE),\"\")","v":""},{"$f":"Worksheet!H311","v":0},{"$f":"Worksheet!I311","v":0},{"$f":"IFERROR(IF(Worksheet!Z311=0,Worksheet!Y311/I289,Worksheet!Z311/R289),0)","v":0},"W Controlled",null,null,{"$f":"IF(N(Worksheet!S311)=0,N(Worksheet!R311),N(Worksheet!S311))","v":0},{"$f":"IFERROR(Worksheet!W311/(Worksheet!R311+Worksheet!U311),0)","v":0},{"$f":"Worksheet!AE311","v":0},{"$f":"Worksheet!AD311","v":0},0,{"$f":"IF(Worksheet!AL311=0,0,Worksheet!AL311/I289)","v":0},0,null,null,null,{"$f":"IFERROR(Worksheet!X311/(Worksheet!S311+Worksheet!V311),0)","v":0},{"$f":"IF(Worksheet!E311=\"\",\"\",Worksheet!E311)","v":""},{"$f":"IF(Worksheet!B311=\"\",\"\",Worksheet!B311)","v":""},{"$f":"IF(Worksheet!D311=\"\",\"\",Worksheet!D311)","v":""},{"$f":"IF(Worksheet!$A$11=TRUE,\"Y\",\"N\")","v":"N"},{"$f":"IF(Worksheet!$A$12=TRUE,\"Y\",\"N\")","v":"N"},{"$f":"IF(Worksheet!$B$11=TRUE,\"Y\",\"N\")","v":"N"},{"$f":"IF(Worksheet!$B$12=TRUE,\"Y\",\"N\")","v":"N"},{"$f":"IF(Worksheet!$C$11=TRUE,\"Y\",\"N\")","v":"N"},{"$f":"IFERROR(IF(N(Worksheet!V311)=0,Worksheet!U311,Worksheet!V311),\"\")","v":0}]
[{"$f":"IF(ISBLANK(Worksheet!F312)=FALSE,VLOOKUP(Worksheet!A312,MeasureCode_Lookup,6,FALSE),\"\")","v":""},{"$f":"Worksheet!H312","v":0},{"$f":"Worksheet!I312","v":0},{"$f":"IFERROR(IF(Worksheet!Z312=0,Worksheet!Y312/I290,Worksheet!Z312/R290),0)","v":0},"W Controlled",null,null,{"$f":"IF(N(Worksheet!S312)=0,N(Worksheet!R312),N(Worksheet!S312))","v":0},{"$f":"IFERROR(Worksheet!W312/(Worksheet!R312+Worksheet!U312),0)","v":0},{"$f":"Worksheet!AE312","v":0},{"$f":"Worksheet!AD312","v":0},0,{"$f":"IF(Worksheet!AL312=0,0,Worksheet!AL312/I290)","v":0},0,null,null,null,{"$f":"IFERROR(Worksheet!X312/(Worksheet!S312+Worksheet!V312),0)","v":0},{"$f":"IF(Worksheet!E312=\"\",\"\",Worksheet!E312)","v":""},{"$f":"IF(Worksheet!B312=\"\",\"\",Worksheet!B312)","v":""},{"$f":"IF(Worksheet!D312=\"\",\"\",Worksheet!D312)","v":""},{"$f":"IF(Worksheet!$A$11=TRUE,\"Y\",\"N\")","v":"N"},{"$f":"IF(Worksheet!$A$12=TRUE,\"Y\",\"N\")","v":"N"},{"$f":"IF(Worksheet!$B$11=TRUE,\"Y\",\"N\")","v":"N"},{"$f":"IF(Worksheet!$B$12=TRUE,\"Y\",\"N\")","v":"N"},{"$f":"IF(Worksheet!$C$11=TRUE,\"Y\",\"N\")","v":"N"},{"$f":"IFERROR(IF(N(Worksheet!V312)=0,Worksheet!U312,Worksheet!V312),\"\")","v":0}]
[{"$f":"IF(ISBLANK(Worksheet!F313)=FALSE,VLOOKUP(Worksheet!A313,MeasureCode_Lookup,6,FALSE),\"\")","v":""},{"$f":"Worksheet!H313","v":0},{"$f":"Worksheet!I313","v":0},{"$f":"IFERROR(IF(Worksheet!Z313=0,Worksheet!Y313/I291,Worksheet!Z313/R291),0)","v":0},"W Controlled",null,null,{"$f":"IF(N(Worksheet!S313)=0,N(Worksheet!R313),N(Worksheet!S313))","v":0},{"$f":"IFERROR(Worksheet!W313/(Worksheet!R313+Worksheet!U313),0)","v":0},{"$f":"Worksheet!AE313","v":0},{"$f":"Worksheet!AD313","v":0},0,{"$f":"IF(Worksheet!AL313=0,0,Worksheet!AL313/I291)","v":0},0,null,null,null,{"$f":"IFERROR(Worksheet!X313/(Worksheet!S313+Worksheet!V313),0)","v":0},{"$f":"IF(Worksheet!E313=\"\",\"\",Worksheet!E313)","v":""},{"$f":"IF(Worksheet!B313=\"\",\"\",Worksheet!B313)","v":""},{"$f":"IF(Worksheet!D313=\"\",\"\",Worksheet!D313)","v":""},{"$f":"IF(Worksheet!$A$11=TRUE,\"Y\",\"N\")","v":"N"},{"$f":"IF(Worksheet!$A$12=TRUE,\"Y\",\"N\")","v":"N"},{"$f":"IF(Worksheet!$B$11=TRUE,\"Y\",\"N\")","v":"N"},{"$f":"IF(Worksheet!$B$12=TRUE,\"Y\",\"N\")","v":"N"},{"$f":"IF(Worksheet!$C$11=TRUE,\"Y\",\"N\")","v":"N"},{"$f":"IFERROR(IF(N(Worksheet!V313)=0,Worksheet!U313,Worksheet!V313),\"\")","v":0}]
[{"$f":"IF(ISBLANK(Worksheet!F314)=FALSE,VLOOKUP(Worksheet!A314,MeasureCode_Lookup,6,FALSE),\"\")","v":""},{"$f":"Worksheet!H314","v":0},{"$f":"Worksheet!I314","v":0},{"$f":"IFERROR(IF(Worksheet!Z314=0,Worksheet!Y314/I292,Worksheet!Z314/R292),0)","v":0},"W Controlled",null,null,{"$f":"IF(N(Worksheet!S314)=0,N(Worksheet!R314),N(Worksheet!S314))","v":0},{"$f":"IFERROR(Worksheet!W314/(Worksheet!R314+Worksheet!U314),0)","v":0},{"$f":"Worksheet!AE314","v":0},{"$f":"Worksheet!AD314","v":0},0,{"$f":"IF(Worksheet!AL314=0,0,Worksheet!AL314/I292)","v":0},0,null,null,null,{"$f":"IFERROR(Worksheet!X314/(Worksheet!S314+Worksheet!V314),0)","v":0},{"$f":"IF(Worksheet!E314=\"\",\"\",Worksheet!E314)","v":""},{"$f":"IF(Worksheet!B314=\"\",\"\",Worksheet!B314)","v":""},{"$f":"IF(Worksheet!D314=\"\",\"\",Worksheet!D314)","v":""},{"$f":"IF(Worksheet!$A$11=TRUE,\"Y\",\"N\")","v":"N"},{"$f":"IF(Worksheet!$A$12=TRUE,\"Y\",\"N\")","v":"N"},{"$f":"IF(Worksheet!$B$11=TRUE,\"Y\",\"N\")","v":"N"},{"$f":"IF(Worksheet!$B$12=TRUE,\"Y\",\"N\")","v":"N"},{"$f":"IF(Worksheet!$C$11=TRUE,\"Y\",\"N\")","v":"N"},{"$f":"IFERROR(IF(N(Worksheet!V314)=0,Worksheet!U314,Worksheet!V314),\"\")","v":0}]
[{"$f":"IF(ISBLANK(Worksheet!F315)=FALSE,VLOOKUP(Worksheet!A315,MeasureCode_Lookup,6,FALSE),\"\")","v":""},{"$f":"Worksheet!H315","v":0},{"$f":"Worksheet!I315","v":0},{"$f":"IFERROR(IF(Worksheet!Z315=0,Worksheet!Y315/I293,Worksheet!Z315/R293),0)","v":0},"W Controlled",null,null,{"$f":"IF(N(Worksheet!S315)=0,N(Worksheet!R315),N(Worksheet!S315))","v":0},{"$f":"IFERROR(Worksheet!W315/(Worksheet!R315+Worksheet!U315),0)","v":0},{"$f":"Worksheet!AE315","v":0},{"$f":"Worksheet!AD315","v":0},0,{"$f":"IF(Worksheet!AL315=0,0,Worksheet!AL315/I293)","v":0},0,null,null,null,{"$f":"IFERROR(Worksheet!X315/(Worksheet!S315+Worksheet!V315),0)","v":0},{"$f":"IF(Worksheet!E315=\"\",\"\",Worksheet!E315)","v":""},{"$f":"IF(Worksheet!B315=\"\",\"\",Worksheet!B315)","v":""},{"$f":"IF(Worksheet!D315=\"\",\"\",Worksheet!D315)","v":""},{"$f":"IF(Worksheet!$A$11=TRUE,\"Y\",\"N\")","v":"N"},{"$f":"IF(Worksheet!$A$12=TRUE,\"Y\",\"N\")","v":"N"},{"$f":"IF(Worksheet!$B$11=TRUE,\"Y\",\"N\")","v":"N"},{"$f":"IF(Worksheet!$B$12=TRUE,\"Y\",\"N\")","v":"N"},{"$f":"IF(Worksheet!$C$11=TRUE,\"Y\",\"N\")","v":"N"},{"$f":"IFERROR(IF(N(Worksheet!V315)=0,Worksheet!U315,Worksheet!V315),\"\")","v":0}]
[{"$f":"IF(ISBLANK(Worksheet!F316)=FALSE,VLOOKUP(Worksheet!A316,MeasureCode_Lookup,6,FALSE),\"\")","v":""},{"$f":"Worksheet!H316","v":0},{"$f":"Worksheet!I316","v":0},{"$f":"IFERROR(IF(Worksheet!Z316=0,Worksheet!Y316/I294,Worksheet!Z316/R294),0)","v":0},"W Controlled",null,null,{"$f":"IF(N(Worksheet!S316)=0,N(Worksheet!R316),N(Worksheet!S316))","v":0},{"$f":"IFERROR(Worksheet!W316/(Worksheet!R316+Worksheet!U316),0)","v":0},{"$f":"Worksheet!AE316","v":0},{"$f":"Worksheet!AD316","v":0},0,{"$f":"IF(Worksheet!AL316=0,0,Worksheet!AL316/I294)","v":0},0,null,null,null,{"$f":"IFERROR(Worksheet!X316/(Worksheet!S316+Worksheet!V316),0)","v":0},{"$f":"IF(Worksheet!E316=\"\",\"\",Worksheet!E316)","v":""},{"$f":"IF(Worksheet!B316=\"\",\"\",Worksheet!B316)","v":""},{"$f":"IF(Worksheet!D316=\"\",\"\",Worksheet!D316)","v":""},{"$f":"IF(Worksheet!$A$11=TRUE,\"Y\",\"N\")","v":"N"},{"$f":"IF(Worksheet!$A$12=TRUE,\"Y\",\"N\")","v":"N"},{"$f":"IF(Worksheet!$B$11=TRUE,\"Y\",\"N\")","v":"N"},{"$f":"IF(Worksheet!$B$12=TRUE,\"Y\",\"N\")","v":"N"},{"$f":"IF(Worksheet!$C$11=TRUE,\"Y\",\"N\")","v":"N"},{"$f":"IFERROR(IF(N(Worksheet!V316)=0,Worksheet!U316,Worksheet!V316),\"\")","v":0}]
[{"$f":"IF(ISBLANK(Worksheet!F317)=FALSE,VLOOKUP(Worksheet!A317,MeasureCode_Lookup,6,FALSE),\"\")","v":""},{"$f":"Worksheet!H317","v":0},{"$f":"Worksheet!I317","v":0},{"$f":"IFERROR(IF(Worksheet!Z317=0,Worksheet!Y317/I295,Worksheet!Z317/R295),0)","v":0},"W Controlled",null,null,{"$f":"IF(N(Worksheet!S317)=0,N(Worksheet!R317),N(Worksheet!S317))","v":0},{"$f":"IFERROR(Worksheet!W317/(Worksheet!R317+Worksheet!U317),0)","v":0},{"$f":"Worksheet!AE317","v":0},{"$f":"Worksheet!AD317","v":0},0,{"$f":"IF(Worksheet!AL317=0,0,Worksheet!AL317/I295)","v":0},0,null,null,null,{"$f":"IFERROR(Worksheet!X317/(Worksheet!S317+Worksheet!V317),0)","v":0},{"$f":"IF(Worksheet!E317=\"\",\"\",Worksheet!E317)","v":""},{"$f":"IF(Worksheet!B317=\"\",\"\",Worksheet!B317)","v":""},{"$f":"IF(Worksheet!D317=\"\",\"\",Worksheet!D317)","v":""},{"$f":"IF(Worksheet!$A$11=TRUE,\"Y\",\"N\")","v":"N"},{"$f":"IF(Worksheet!$A$12=TRUE,\"Y\",\"N\")","v":"N"},{"$f":"IF(Worksheet!$B$11=TRUE,\"Y\",\"N\")","v":"N"},{"$f":"IF(Worksheet!$B$12=TRUE,\"Y\",\"N\")","v":"N"},{"$f":"IF(Worksheet!$C$11=TRUE,\"Y\",\"N\")","v":"N"},{"$f":"IFERROR(IF(N(Worksheet!V317)=0,Worksheet!U317,Worksheet!V317),\"\")","v":0}]
[{"$f":"IF(ISBLANK(Worksheet!F318)=FALSE,VLOOKUP(Worksheet!A318,MeasureCode_Lookup,6,FALSE),\"\")","v":""},{"$f":"Worksheet!H318","v":0},{"$f":"Worksheet!I318","v":0},{"$f":"IFERROR(IF(Worksheet!Z318=0,Worksheet!Y318/I296,Worksheet!Z318/R296),0)","v":0},"W Controlled",null,null,{"$f":"IF(N(Worksheet!S318)=0,N(Worksheet!R318),N(Worksheet!S318))","v":0},{"$f":"IFERROR(Worksheet!W318/(Worksheet!R318+Worksheet!U318),0)","v":0},{"$f":"Worksheet!AE318","v":0},{"$f":"Worksheet!AD318","v":0},0,{"$f":"IF(Worksheet!AL318=0,0,Worksheet!AL318/I296)","v":0},0,null,null,null,{"$f":"IFERROR(Worksheet!X318/(Worksheet!S318+Worksheet!V318),0)","v":0},{"$f":"IF(Worksheet!E318=\"\",\"\",Worksheet!E318)","v":""},{"$f":"IF(Worksheet!B318=\"\",\"\",Worksheet!B318)","v":""},{"$f":"IF(Worksheet!D318=\"\",\"\",Worksheet!D318)","v":""},{"$f":"IF(Worksheet!$A$11=TRUE,\"Y\",\"N\")","v":"N"},{"$f":"IF(Worksheet!$A$12=TRUE,\"Y\",\"N\")","v":"N"},{"$f":"IF(Worksheet!$B$11=TRUE,\"Y\",\"N\")","v":"N"},{"$f":"IF(Worksheet!$B$12=TRUE,\"Y\",\"N\")","v":"N"},{"$f":"IF(Worksheet!$C$11=TRUE,\"Y\",\"N\")","v":"N"},{"$f":"IFERROR(IF(N(Worksheet!V318)=0,Worksheet!U318,Worksheet!V318),\"\")","v":0}]
[{"$f":"IF(ISBLANK(Worksheet!F319)=FALSE,VLOOKUP(Worksheet!A319,MeasureCode_Lookup,6,FALSE),\"\")","v":""},{"$f":"Worksheet!H319","v":0},{"$f":"Worksheet!I319","v":0},{"$f":"IFERROR(IF(Worksheet!Z319=0,Worksheet!Y319/I297,Worksheet!Z319/R297),0)","v":0},"W Controlled",null,null,{"$f":"IF(N(Worksheet!S319)=0,N(Worksheet!R319),N(Worksheet!S319))","v":0},{"$f":"IFERROR(Worksheet!W319/(Worksheet!R319+Worksheet!U319),0)","v":0},{"$f":"Worksheet!AE319","v":0},{"$f":"Worksheet!AD319","v":0},0,{"$f":"IF(Worksheet!AL319=0,0,Worksheet!AL319/I297)","v":0},0,null,null,null,{"$f":"IFERROR(Worksheet!X319/(Worksheet!S319+Worksheet!V319),0)","v":0},{"$f":"IF(Worksheet!E319=\"\",\"\",Worksheet!E319)","v":""},{"$f":"IF(Worksheet!B319=\"\",\"\",Worksheet!B319)","v":""},{"$f":"IF(Worksheet!D319=\"\",\"\",Worksheet!D319)","v":""},{"$f":"IF(Worksheet!$A$11=TRUE,\"Y\",\"N\")","v":"N"},{"$f":"IF(Worksheet!$A$12=TRUE,\"Y\",\"N\")","v":"N"},{"$f":"IF(Worksheet!$B$11=TRUE,\"Y\",\"N\")","v":"N"},{"$f":"IF(Worksheet!$B$12=TRUE,\"Y\",\"N\")","v":"N"},{"$f":"IF(Worksheet!$C$11=TRUE,\"Y\",\"N\")","v":"N"},{"$f":"IFERROR(IF(N(Worksheet!V319)=0,Worksheet!U319,Worksheet!V319),\"\")","v":0}]
[{"$f":"IF(ISBLANK(Worksheet!F320)=FALSE,VLOOKUP(Worksheet!A320,MeasureCode_Lookup,6,FALSE),\"\")","v":""},{"$f":"Worksheet!H320","v":0},{"$f":"Worksheet!I320","v":0},{"$f":"IFERROR(IF(Worksheet!Z320=0,Worksheet!Y320/I298,Worksheet!Z320/R298),0)","v":0},"W Controlled",null,null,{"$f":"IF(N(Worksheet!S320)=0,N(Worksheet!R320),N(Worksheet!S320))","v":0},{"$f":"IFERROR(Worksheet!W320/(Worksheet!R320+Worksheet!U320),0)","v":0},{"$f":"Worksheet!AE320","v":0},{"$f":"Worksheet!AD320","v":0},0,{"$f":"IF(Worksheet!AL320=0,0,Worksheet!AL320/I298)","v":0},0,null,null,null,{"$f":"IFERROR(Worksheet!X320/(Worksheet!S320+Worksheet!V320),0)","v":0},{"$f":"IF(Worksheet!E320=\"\",\"\",Worksheet!E320)","v":""},{"$f":"IF(Worksheet!B320=\"\",\"\",Worksheet!B320)","v":""},{"$f":"IF(Worksheet!D320=\"\",\"\",Worksheet!D320)","v":""},{"$f":"IF(Worksheet!$A$11=TRUE,\"Y\",\"N\")","v":"N"},{"$f":"IF(Worksheet!$A$12=TRUE,\"Y\",\"N\")","v":"N"},{"$f":"IF(Worksheet!$B$11=TRUE,\"Y\",\"N\")","v":"N"},{"$f":"IF(Worksheet!$B$12=TRUE,\"Y\",\"N\")","v":"N"},{"$f":"IF(Worksheet!$C$11=TRUE,\"Y\",\"N\")","v":"N"},{"$f":"IFERROR(IF(N(Worksheet!V320)=0,Worksheet!U320,Worksheet!V320),\"\")","v":0}]
[{"$f":"IF(ISBLANK(Worksheet!F321)=FALSE,VLOOKUP(Worksheet!A321,MeasureCode_Lookup,6,FALSE),\"\")","v":""},{"$f":"Worksheet!H321","v":0},{"$f":"Worksheet!I321","v":0},{"$f":"IFERROR(IF(Worksheet!Z321=0,Worksheet!Y321/I299,Worksheet!Z321/R299),0)","v":0},"W Controlled",null,null,{"$f":"IF(N(Worksheet!S321)=0,N(Worksheet!R321),N(Worksheet!S321))","v":0},{"$f":"IFERROR(Worksheet!W321/(Worksheet!R321+Worksheet!U321),0)","v":0},{"$f":"Worksheet!AE321","v":0},{"$f":"Worksheet!AD321","v":0},0,{"$f":"IF(Worksheet!AL321=0,0,Worksheet!AL321/I299)","v":0},0,null,null,null,{"$f":"IFERROR(Worksheet!X321/(Worksheet!S321+Worksheet!V321),0)","v":0},{"$f":"IF(Worksheet!E321=\"\",\"\",Worksheet!E321)","v":""},{"$f":"IF(Worksheet!B321=\"\",\"\",Worksheet!B321)","v":""},{"$f":"IF(Worksheet!D321=\"\",\"\",Worksheet!D321)","v":""},{"$f":"IF(Worksheet!$A$11=TRUE,\"Y\",\"N\")","v":"N"},{"$f":"IF(Worksheet!$A$12=TRUE,\"Y\",\"N\")","v":"N"},{"$f":"IF(Worksheet!$B$11=TRUE,\"Y\",\"N\")","v":"N"},{"$f":"IF(Worksheet!$B$12=TRUE,\"Y\",\"N\")","v":"N"},{"$f":"IF(Worksheet!$C$11=TRUE,\"Y\",\"N\")","v":"N"},{"$f":"IFERROR(IF(N(Worksheet!V321)=0,Worksheet!U321,Worksheet!V321),\"\")","v":0}]
[{"$f":"IF(ISBLANK(Worksheet!F322)=FALSE,VLOOKUP(Worksheet!A322,MeasureCode_Lookup,6,FALSE),\"\")","v":""},{"$f":"Worksheet!H322","v":0},{"$f":"Worksheet!I322","v":0},{"$f":"IFERROR(IF(Worksheet!Z322=0,Worksheet!Y322/I300,Worksheet!Z322/R300),0)","v":0},"W Controlled",null,null,{"$f":"IF(N(Worksheet!S322)=0,N(Worksheet!R322),N(Worksheet!S322))","v":0},{"$f":"IFERROR(Worksheet!W322/(Worksheet!R322+Worksheet!U322),0)","v":0},{"$f":"Worksheet!AE322","v":0},{"$f":"Worksheet!AD322","v":0},0,{"$f":"IF(Worksheet!AL322=0,0,Worksheet!AL322/I300)","v":0},0,null,null,null,{"$f":"IFERROR(Worksheet!X322/(Worksheet!S322+Worksheet!V322),0)","v":0},{"$f":"IF(Worksheet!E322=\"\",\"\",Worksheet!E322)","v":""},{"$f":"IF(Worksheet!B322=\"\",\"\",Worksheet!B322)","v":""},{"$f":"IF(Worksheet!D322=\"\",\"\",Worksheet!D322)","v":""},{"$f":"IF(Worksheet!$A$11=TRUE,\"Y\",\"N\")","v":"N"},{"$f":"IF(Worksheet!$A$12=TRUE,\"Y\",\"N\")","v":"N"},{"$f":"IF(Worksheet!$B$11=TRUE,\"Y\",\"N\")","v":"N"},{"$f":"IF(Worksheet!$B$12=TRUE,\"Y\",\"N\")","v":"N"},{"$f":"IF(Worksheet!$C$11=TRUE,\"Y\",\"N\")","v":"N"},{"$f":"IFERROR(IF(N(Worksheet!V322)=0,Worksheet!U322,Worksheet!V322),\"\")","v":0}]
[{"$f":"IF(ISBLANK(Worksheet!F323)=FALSE,VLOOKUP(Worksheet!A323,MeasureCode_Lookup,6,FALSE),\"\")","v":""},{"$f":"Worksheet!H323","v":0},{"$f":"Worksheet!I323","v":0},{"$f":"IFERROR(IF(Worksheet!Z323=0,Worksheet!Y323/I301,Worksheet!Z323/R301),0)","v":0},"W Controlled",null,null,{"$f":"IF(N(Worksheet!S323)=0,N(Worksheet!R323),N(Worksheet!S323))","v":0},{"$f":"IFERROR(Worksheet!W323/(Worksheet!R323+Worksheet!U323),0)","v":0},{"$f":"Worksheet!AE323","v":0},{"$f":"Worksheet!AD323","v":0},0,{"$f":"IF(Worksheet!AL323=0,0,Worksheet!AL323/I301)","v":0},0,null,null,null,{"$f":"IFERROR(Worksheet!X323/(Worksheet!S323+Worksheet!V323),0)","v":0},{"$f":"IF(Worksheet!E323=\"\",\"\",Worksheet!E323)","v":""},{"$f":"IF(Worksheet!B323=\"\",\"\",Worksheet!B323)","v":""},{"$f":"IF(Worksheet!D323=\"\",\"\",Worksheet!D323)","v":""},{"$f":"IF(Worksheet!$A$11=TRUE,\"Y\",\"N\")","v":"N"},{"$f":"IF(Worksheet!$A$12=TRUE,\"Y\",\"N\")","v":"N"},{"$f":"IF(Worksheet!$B$11=TRUE,\"Y\",\"N\")","v":"N"},{"$f":"IF(Worksheet!$B$12=TRUE,\"Y\",\"N\")","v":"N"},{"$f":"IF(Worksheet!$C$11=TRUE,\"Y\",\"N\")","v":"N"},{"$f":"IFERROR(IF(N(Worksheet!V323)=0,Worksheet!U323,Worksheet!V323),\"\")","v":0}]
[{"$f":"IF(ISBLANK(Worksheet!F324)=FALSE,VLOOKUP(Worksheet!A324,MeasureCode_Lookup,6,FALSE),\"\")","v":""},{"$f":"Worksheet!H324","v":0},{"$f":"Worksheet!I324","v":0},{"$f":"IFERROR(IF(Worksheet!Z324=0,Worksheet!Y324/I302,Worksheet!Z324/R302),0)","v":0},"W Controlled",null,null,{"$f":"IF(N(Worksheet!S324)=0,N(Worksheet!R324),N(Worksheet!S324))","v":0},{"$f":"IFERROR(Worksheet!W324/(Worksheet!R324+Worksheet!U324),0)","v":0},{"$f":"Worksheet!AE324","v":0},{"$f":"Worksheet!AD324","v":0},0,{"$f":"IF(Worksheet!AL324=0,0,Worksheet!AL324/I302)","v":0},0,null,null,null,{"$f":"IFERROR(Worksheet!X324/(Worksheet!S324+Worksheet!V324),0)","v":0},{"$f":"IF(Worksheet!E324=\"\",\"\",Worksheet!E324)","v":""},{"$f":"IF(Worksheet!B324=\"\",\"\",Worksheet!B324)","v":""},{"$f":"IF(Worksheet!D324=\"\",\"\",Worksheet!D324)","v":""},{"$f":"IF(Worksheet!$A$11=TRUE,\"Y\",\"N\")","v":"N"},{"$f":"IF(Worksheet!$A$12=TRUE,\"Y\",\"N\")","v":"N"},{"$f":"IF(Worksheet!$B$11=TRUE,\"Y\",\"N\")","v":"N"},{"$f":"IF(Worksheet!$B$12=TRUE,\"Y\",\"N\")","v":"N"},{"$f":"IF(Worksheet!$C$11=TRUE,\"Y\",\"N\")","v":"N"},{"$f":"IFERROR(IF(N(Worksheet!V324)=0,Worksheet!U324,Worksheet!V324),\"\")","v":0}]
[{"$f":"IF(ISBLANK(Worksheet!F325)=FALSE,VLOOKUP(Worksheet!A325,MeasureCode_Lookup,6,FALSE),\"\")","v":""},{"$f":"Worksheet!H325","v":0},{"$f":"Worksheet!I325","v":0},{"$f":"IFERROR(IF(Worksheet!Z325=0,Worksheet!Y325/I303,Worksheet!Z325/R303),0)","v":0},"W Controlled",null,null,{"$f":"IF(N(Worksheet!S325)=0,N(Worksheet!R325),N(Worksheet!S325))","v":0},{"$f":"IFERROR(Worksheet!W325/(Worksheet!R325+Worksheet!U325),0)","v":0},{"$f":"Worksheet!AE325","v":0},{"$f":"Worksheet!AD325","v":0},0,{"$f":"IF(Worksheet!AL325=0,0,Worksheet!AL325/I303)","v":0},0,null,null,null,{"$f":"IFERROR(Worksheet!X325/(Worksheet!S325+Worksheet!V325),0)","v":0},{"$f":"IF(Worksheet!E325=\"\",\"\",Worksheet!E325)","v":""},{"$f":"IF(Worksheet!B325=\"\",\"\",Worksheet!B325)","v":""},{"$f":"IF(Worksheet!D325=\"\",\"\",Worksheet!D325)","v":""},{"$f":"IF(Worksheet!$A$11=TRUE,\"Y\",\"N\")","v":"N"},{"$f":"IF(Worksheet!$A$12=TRUE,\"Y\",\"N\")","v":"N"},{"$f":"IF(Worksheet!$B$11=TRUE,\"Y\",\"N\")","v":"N"},{"$f":"IF(Worksheet!$B$12=TRUE,\"Y\",\"N\")","v":"N"},{"$f":"IF(Worksheet!$C$11=TRUE,\"Y\",\"N\")","v":"N"},{"$f":"IFERROR(IF(N(Worksheet!V325)=0,Worksheet!U325,Worksheet!V325),\"\")","v":0}]
[{"$f":"IF(ISBLANK(Worksheet!F326)=FALSE,VLOOKUP(Worksheet!A326,MeasureCode_Lookup,6,FALSE),\"\")","v":""},{"$f":"Worksheet!H326","v":0},{"$f":"Worksheet!I326","v":0},{"$f":"IFERROR(IF(Worksheet!Z326=0,Worksheet!Y326/I304,Worksheet!Z326/R304),0)","v":0},"W Controlled",null,null,{"$f":"IF(N(Worksheet!S326)=0,N(Worksheet!R326),N(Worksheet!S326))","v":0},{"$f":"IFERROR(Worksheet!W326/(Worksheet!R326+Worksheet!U326),0)","v":0},{"$f":"Worksheet!AE326","v":0},{"$f":"Worksheet!AD326","v":0},0,{"$f":"IF(Worksheet!AL326=0,0,Worksheet!AL326/I304)","v":0},0,null,null,null,{"$f":"IFERROR(Worksheet!X326/(Worksheet!S326+Worksheet!V326),0)","v":0},{"$f":"IF(Worksheet!E326=\"\",\"\",Worksheet!E326)","v":""},{"$f":"IF(Worksheet!B326=\"\",\"\",Worksheet!B326)","v":""},{"$f":"IF(Worksheet!D326=\"\",\"\",Worksheet!D326)","v":""},{"$f":"IF(Worksheet!$A$11=TRUE,\"Y\",\"N\")","v":"N"},{"$f":"IF(Worksheet!$A$12=TRUE,\"Y\",\"N\")","v":"N"},{"$f":"IF(Worksheet!$B$11=TRUE,\"Y\",\"N\")","v":"N"},{"$f":"IF(Worksheet!$B$12=TRUE,\"Y\",\"N\")","v":"N"},{"$f":"IF(Worksheet!$C$11=TRUE,\"Y\",\"N\")","v":"N"},{"$f":"IFERROR(IF(N(Worksheet!V326)=0,Worksheet!U326,Worksheet!V326),\"\")","v":0}]
[{"$f":"IF(ISBLANK(Worksheet!F327)=FALSE,VLOOKUP(Worksheet!A327,MeasureCode_Lookup,6,FALSE),\"\")","v":""},{"$f":"Worksheet!H327","v":0},{"$f":"Worksheet!I327","v":0},{"$f":"IFERROR(IF(Worksheet!Z327=0,Worksheet!Y327/I305,Worksheet!Z327/R305),0)","v":0},"W Controlled",null,null,{"$f":"IF(N(Worksheet!S327)=0,N(Worksheet!R327),N(Worksheet!S327))","v":0},{"$f":"IFERROR(Worksheet!W327/(Worksheet!R327+Worksheet!U327),0)","v":0},{"$f":"Worksheet!AE327","v":0},{"$f":"Worksheet!AD327","v":0},0,{"$f":"IF(Worksheet!AL327=0,0,Worksheet!AL327/I305)","v":0},0,null,null,null,{"$f":"IFERROR(Worksheet!X327/(Worksheet!S327+Worksheet!V327),0)","v":0},{"$f":"IF(Worksheet!E327=\"\",\"\",Worksheet!E327)","v":""},{"$f":"IF(Worksheet!B327=\"\",\"\",Worksheet!B327)","v":""},{"$f":"IF(Worksheet!D327=\"\",\"\",Worksheet!D327)","v":""},{"$f":"IF(Worksheet!$A$11=TRUE,\"Y\",\"N\")","v":"N"},{"$f":"IF(Worksheet!$A$12=TRUE,\"Y\",\"N\")","v":"N"},{"$f":"IF(Worksheet!$B$11=TRUE,\"Y\",\"N\")","v":"N"},{"$f":"IF(Worksheet!$B$12=TRUE,\"Y\",\"N\")","v":"N"},{"$f":"IF(Worksheet!$C$11=TRUE,\"Y\",\"N\")","v":"N"},{"$f":"IFERROR(IF(N(Worksheet!V327)=0,Worksheet!U327,Worksheet!V327),\"\")","v":0}]
[{"$f":"IF(ISBLANK(Worksheet!F328)=FALSE,VLOOKUP(Worksheet!A328,MeasureCode_Lookup,6,FALSE),\"\")","v":""},{"$f":"Worksheet!H328","v":0},{"$f":"Worksheet!I328","v":0},{"$f":"IFERROR(IF(Worksheet!Z328=0,Worksheet!Y328/I306,Worksheet!Z328/R306),0)","v":0},"W Controlled",null,null,{"$f":"IF(N(Worksheet!S328)=0,N(Worksheet!R328),N(Worksheet!S328))","v":0},{"$f":"IFERROR(Worksheet!W328/(Worksheet!R328+Worksheet!U328),0)","v":0},{"$f":"Worksheet!AE328","v":0},{"$f":"Worksheet!AD328","v":0},0,{"$f":"IF(Worksheet!AL328=0,0,Worksheet!AL328/I306)","v":0},0,null,null,null,{"$f":"IFERROR(Worksheet!X328/(Worksheet!S328+Worksheet!V328),0)","v":0},{"$f":"IF(Worksheet!E328=\"\",\"\",Worksheet!E328)","v":""},{"$f":"IF(Worksheet!B328=\"\",\"\",Worksheet!B328)","v":""},{"$f":"IF(Worksheet!D328=\"\",\"\",Worksheet!D328)","v":""},{"$f":"IF(Worksheet!$A$11=TRUE,\"Y\",\"N\")","v":"N"},{"$f":"IF(Worksheet!$A$12=TRUE,\"Y\",\"N\")","v":"N"},{"$f":"IF(Worksheet!$B$11=TRUE,\"Y\",\"N\")","v":"N"},{"$f":"IF(Worksheet!$B$12=TRUE,\"Y\",\"N\")","v":"N"},{"$f":"IF(Worksheet!$C$11=TRUE,\"Y\",\"N\")","v":"N"},{"$f":"IFERROR(IF(N(Worksheet!V328)=0,Worksheet!U328,Worksheet!V328),\"\")","v":0}]
[{"$f":"IF(ISBLANK(Worksheet!F329)=FALSE,VLOOKUP(Worksheet!A329,MeasureCode_Lookup,6,FALSE),\"\")","v":""},{"$f":"Worksheet!H329","v":0},{"$f":"Worksheet!I329","v":0},{"$f":"IFERROR(IF(Worksheet!Z329=0,Worksheet!Y329/I307,Worksheet!Z329/R307),0)","v":0},"W Controlled",null,null,{"$f":"IF(N(Worksheet!S329)=0,N(Worksheet!R329),N(Worksheet!S329))","v":0},{"$f":"IFERROR(Worksheet!W329/(Worksheet!R329+Worksheet!U329),0)","v":0},{"$f":"Worksheet!AE329","v":0},{"$f":"Worksheet!AD329","v":0},0,{"$f":"IF(Worksheet!AL329=0,0,Worksheet!AL329/I307)","v":0},0,null,null,null,{"$f":"IFERROR(Worksheet!X329/(Worksheet!S329+Worksheet!V329),0)","v":0},{"$f":"IF(Worksheet!E329=\"\",\"\",Worksheet!E329)","v":""},{"$f":"IF(Worksheet!B329=\"\",\"\",Worksheet!B329)","v":""},{"$f":"IF(Worksheet!D329=\"\",\"\",Worksheet!D329)","v":""},{"$f":"IF(Worksheet!$A$11=TRUE,\"Y\",\"N\")","v":"N"},{"$f":"IF(Worksheet!$A$12=TRUE,\"Y\",\"N\")","v":"N"},{"$f":"IF(Worksheet!$B$11=TRUE,\"Y\",\"N\")","v":"N"},{"$f":"IF(Worksheet!$B$12=TRUE,\"Y\",\"N\")","v":"N"},{"$f":"IF(Worksheet!$C$11=TRUE,\"Y\",\"N\")","v":"N"},{"$f":"IFERROR(IF(N(Worksheet!V329)=0,Worksheet!U329,Worksheet!V329),\"\")","v":0}]
[{"$f":"IF(ISBLANK(Worksheet!F330)=FALSE,VLOOKUP(Worksheet!A330,MeasureCode_Lookup,6,FALSE),\"\")","v":""},{"$f":"Worksheet!H330","v":0},{"$f":"Worksheet!I330","v":0},{"$f":"IFERROR(IF(Worksheet!Z330=0,Worksheet!Y330/I308,Worksheet!Z330/R308),0)","v":0},"W Controlled",null,null,{"$f":"IF(N(Worksheet!S330)=0,N(Worksheet!R330),N(Worksheet!S330))","v":0},{"$f":"IFERROR(Worksheet!W330/(Worksheet!R330+Worksheet!U330),0)","v":0},{"$f":"Worksheet!AE330","v":0},{"$f":"Worksheet!AD330","v":0},0,{"$f":"IF(Worksheet!AL330=0,0,Worksheet!AL330/I308)","v":0},0,null,null,null,{"$f":"IFERROR(Worksheet!X330/(Worksheet!S330+Worksheet!V330),0)","v":0},{"$f":"IF(Worksheet!E330=\"\",\"\",Worksheet!E330)","v":""},{"$f":"IF(Worksheet!B330=\"\",\"\",Worksheet!B330)","v":""},{"$f":"IF(Worksheet!D330=\"\",\"\",Worksheet!D330)","v":""},{"$f":"IF(Worksheet!$A$11=TRUE,\"Y\",\"N\")","v":"N"},{"$f":"IF(Worksheet!$A$12=TRUE,\"Y\",\"N\")","v":"N"},{"$f":"IF(Worksheet!$B$11=TRUE,\"Y\",\"N\")","v":"N"},{"$f":"IF(Worksheet!$B$12=TRUE,\"Y\",\"N\")","v":"N"},{"$f":"IF(Worksheet!$C$11=TRUE,\"Y\",\"N\")","v":"N"},{"$f":"IFERROR(IF(N(Worksheet!V330)=0,Worksheet!U330,Worksheet!V330),\"\")","v":0}]
[{"$f":"IF(ISBLANK(Worksheet!F331)=FALSE,VLOOKUP(Worksheet!A331,MeasureCode_Lookup,6,FALSE),\"\")","v":""},{"$f":"Worksheet!H331","v":0},{"$f":"Worksheet!I331","v":0},{"$f":"IFERROR(IF(Worksheet!Z331=0,Worksheet!Y331/I309,Worksheet!Z331/R309),0)","v":0},"W Controlled",null,null,{"$f":"IF(N(Worksheet!S331)=0,N(Worksheet!R331),N(Worksheet!S331))","v":0},{"$f":"IFERROR(Worksheet!W331/(Worksheet!R331+Worksheet!U331),0)","v":0},{"$f":"Worksheet!AE331","v":0},{"$f":"Worksheet!AD331","v":0},0,{"$f":"IF(Worksheet!AL331=0,0,Worksheet!AL331/I309)","v":0},0,null,null,null,{"$f":"IFERROR(Worksheet!X331/(Worksheet!S331+Worksheet!V331),0)","v":0},{"$f":"IF(Worksheet!E331=\"\",\"\",Worksheet!E331)","v":""},{"$f":"IF(Worksheet!B331=\"\",\"\",Worksheet!B331)","v":""},{"$f":"IF(Worksheet!D331=\"\",\"\",Worksheet!D331)","v":""},{"$f":"IF(Worksheet!$A$11=TRUE,\"Y\",\"N\")","v":"N"},{"$f":"IF(Worksheet!$A$12=TRUE,\"Y\",\"N\")","v":"N"},{"$f":"IF(Worksheet!$B$11=TRUE,\"Y\",\"N\")","v":"N"},{"$f":"IF(Worksheet!$B$12=TRUE,\"Y\",\"N\")","v":"N"},{"$f":"IF(Worksheet!$C$11=TRUE,\"Y\",\"N\")","v":"N"},{"$f":"IFERROR(IF(N(Worksheet!V331)=0,Worksheet!U331,Worksheet!V331),\"\")","v":0}]
[{"$f":"IF(ISBLANK(Worksheet!F332)=FALSE,VLOOKUP(Worksheet!A332,MeasureCode_Lookup,6,FALSE),\"\")","v":""},{"$f":"Worksheet!H332","v":0},{"$f":"Worksheet!I332","v":0},{"$f":"IFERROR(IF(Worksheet!Z332=0,Worksheet!Y332/I310,Worksheet!Z332/R310),0)","v":0},"W Controlled",null,null,{"$f":"IF(N(Worksheet!S332)=0,N(Worksheet!R332),N(Worksheet!S332))","v":0},{"$f":"IFERROR(Worksheet!W332/(Worksheet!R332+Worksheet!U332),0)","v":0},{"$f":"Worksheet!AE332","v":0},{"$f":"Worksheet!AD332","v":0},0,{"$f":"IF(Worksheet!AL332=0,0,Worksheet!AL332/I310)","v":0},0,null,null,null,{"$f":"IFERROR(Worksheet!X332/(Worksheet!S332+Worksheet!V332),0)","v":0},{"$f":"IF(Worksheet!E332=\"\",\"\",Worksheet!E332)","v":""},{"$f":"IF(Worksheet!B332=\"\",\"\",Worksheet!B332)","v":""},{"$f":"IF(Worksheet!D332=\"\",\"\",Worksheet!D332)","v":""},{"$f":"IF(Worksheet!$A$11=TRUE,\"Y\",\"N\")","v":"N"},{"$f":"IF(Worksheet!$A$12=TRUE,\"Y\",\"N\")","v":"N"},{"$f":"IF(Worksheet!$B$11=TRUE,\"Y\",\"N\")","v":"N"},{"$f":"IF(Worksheet!$B$12=TRUE,\"Y\",\"N\")","v":"N"},{"$f":"IF(Worksheet!$C$11=TRUE,\"Y\",\"N\")","v":"N"},{"$f":"IFERROR(IF(N(Worksheet!V332)=0,Worksheet!U332,Worksheet!V332),\"\")","v":0}]
[{"$f":"IF(ISBLANK(Worksheet!F333)=FALSE,VLOOKUP(Worksheet!A333,MeasureCode_Lookup,6,FALSE),\"\")","v":""},{"$f":"Worksheet!H333","v":0},{"$f":"Worksheet!I333","v":0},{"$f":"IFERROR(IF(Worksheet!Z333=0,Worksheet!Y333/I311,Worksheet!Z333/R311),0)","v":0},"W Controlled",null,null,{"$f":"IF(N(Worksheet!S333)=0,N(Worksheet!R333),N(Worksheet!S333))","v":0},{"$f":"IFERROR(Worksheet!W333/(Worksheet!R333+Worksheet!U333),0)","v":0},{"$f":"Worksheet!AE333","v":0},{"$f":"Worksheet!AD333","v":0},0,{"$f":"IF(Worksheet!AL333=0,0,Worksheet!AL333/I311)","v":0},0,null,null,null,{"$f":"IFERROR(Worksheet!X333/(Worksheet!S333+Worksheet!V333),0)","v":0},{"$f":"IF(Worksheet!E333=\"\",\"\",Worksheet!E333)","v":""},{"$f":"IF(Worksheet!B333=\"\",\"\",Worksheet!B333)","v":""},{"$f":"IF(Worksheet!D333=\"\",\"\",Worksheet!D333)","v":""},{"$f":"IF(Worksheet!$A$11=TRUE,\"Y\",\"N\")","v":"N"},{"$f":"IF(Worksheet!$A$12=TRUE,\"Y\",\"N\")","v":"N"},{"$f":"IF(Worksheet!$B$11=TRUE,\"Y\",\"N\")","v":"N"},{"$f":"IF(Worksheet!$B$12=TRUE,\"Y\",\"N\")","v":"N"},{"$f":"IF(Worksheet!$C$11=TRUE,\"Y\",\"N\")","v":"N"},{"$f":"IFERROR(IF(N(Worksheet!V333)=0,Worksheet!U333,Worksheet!V333),\"\")","v":0}]
[{"$f":"IF(ISBLANK(Worksheet!F334)=FALSE,VLOOKUP(Worksheet!A334,MeasureCode_Lookup,6,FALSE),\"\")","v":""},{"$f":"Worksheet!H334","v":0},{"$f":"Worksheet!I334","v":0},{"$f":"IFERROR(IF(Worksheet!Z334=0,Worksheet!Y334/I312,Worksheet!Z334/R312),0)","v":0},"W Controlled",null,null,{"$f":"IF(N(Worksheet!S334)=0,N(Worksheet!R334),N(Worksheet!S334))","v":0},{"$f":"IFERROR(Worksheet!W334/(Worksheet!R334+Worksheet!U334),0)","v":0},{"$f":"Worksheet!AE334","v":0},{"$f":"Worksheet!AD334","v":0},0,{"$f":"IF(Worksheet!AL334=0,0,Worksheet!AL334/I312)","v":0},0,null,null,null,{"$f":"IFERROR(Worksheet!X334/(Worksheet!S334+Worksheet!V334),0)","v":0},{"$f":"IF(Worksheet!E334=\"\",\"\",Worksheet!E334)","v":""},{"$f":"IF(Worksheet!B334=\"\",\"\",Worksheet!B334)","v":""},{"$f":"IF(Worksheet!D334=\"\",\"\",Worksheet!D334)","v":""},{"$f":"IF(Worksheet!$A$11=TRUE,\"Y\",\"N\")","v":"N"},{"$f":"IF(Worksheet!$A$12=TRUE,\"Y\",\"N\")","v":"N"},{"$f":"IF(Worksheet!$B$11=TRUE,\"Y\",\"N\")","v":"N"},{"$f":"IF(Worksheet!$B$12=TRUE,\"Y\",\"N\")","v":"N"},{"$f":"IF(Worksheet!$C$11=TRUE,\"Y\",\"N\")","v":"N"},{"$f":"IFERROR(IF(N(Worksheet!V334)=0,Worksheet!U334,Worksheet!V334),\"\")","v":0}]
[{"$f":"IF(ISBLANK(Worksheet!F335)=FALSE,VLOOKUP(Worksheet!A335,MeasureCode_Lookup,6,FALSE),\"\")","v":""},{"$f":"Worksheet!H335","v":0},{"$f":"Worksheet!I335","v":0},{"$f":"IFERROR(IF(Worksheet!Z335=0,Worksheet!Y335/I313,Worksheet!Z335/R313),0)","v":0},"W Controlled",null,null,{"$f":"IF(N(Worksheet!S335)=0,N(Worksheet!R335),N(Worksheet!S335))","v":0},{"$f":"IFERROR(Worksheet!W335/(Worksheet!R335+Worksheet!U335),0)","v":0},{"$f":"Worksheet!AE335","v":0},{"$f":"Worksheet!AD335","v":0},0,{"$f":"IF(Worksheet!AL335=0,0,Worksheet!AL335/I313)","v":0},0,null,null,null,{"$f":"IFERROR(Worksheet!X335/(Worksheet!S335+Worksheet!V335),0)","v":0},{"$f":"IF(Worksheet!E335=\"\",\"\",Worksheet!E335)","v":""},{"$f":"IF(Worksheet!B335=\"\",\"\",Worksheet!B335)","v":""},{"$f":"IF(Worksheet!D335=\"\",\"\",Worksheet!D335)","v":""},{"$f":"IF(Worksheet!$A$11=TRUE,\"Y\",\"N\")","v":"N"},{"$f":"IF(Worksheet!$A$12=TRUE,\"Y\",\"N\")","v":"N"},{"$f":"IF(Worksheet!$B$11=TRUE,\"Y\",\"N\")","v":"N"},{"$f":"IF(Worksheet!$B$12=TRUE,\"Y\",\"N\")","v":"N"},{"$f":"IF(Worksheet!$C$11=TRUE,\"Y\",\"N\")","v":"N"},{"$f":"IFERROR(IF(N(Worksheet!V335)=0,Worksheet!U335,Worksheet!V335),\"\")","v":0}]
[{"$f":"IF(ISBLANK(Worksheet!F336)=FALSE,VLOOKUP(Worksheet!A336,MeasureCode_Lookup,6,FALSE),\"\")","v":""},{"$f":"Worksheet!H336","v":0},{"$f":"Worksheet!I336","v":0},{"$f":"IFERROR(IF(Worksheet!Z336=0,Worksheet!Y336/I314,Worksheet!Z336/R314),0)","v":0},"W Controlled",null,null,{"$f":"IF(N(Worksheet!S336)=0,N(Worksheet!R336),N(Worksheet!S336))","v":0},{"$f":"IFERROR(Worksheet!W336/(Worksheet!R336+Worksheet!U336),0)","v":0},{"$f":"Worksheet!AE336","v":0},{"$f":"Worksheet!AD336","v":0},0,{"$f":"IF(Worksheet!AL336=0,0,Worksheet!AL336/I314)","v":0},0,null,null,null,{"$f":"IFERROR(Worksheet!X336/(Worksheet!S336+Worksheet!V336),0)","v":0},{"$f":"IF(Worksheet!E336=\"\",\"\",Worksheet!E336)","v":""},{"$f":"IF(Worksheet!B336=\"\",\"\",Worksheet!B336)","v":""},{"$f":"IF(Worksheet!D336=\"\",\"\",Worksheet!D336)","v":""},{"$f":"IF(Worksheet!$A$11=TRUE,\"Y\",\"N\")","v":"N"},{"$f":"IF(Worksheet!$A$12=TRUE,\"Y\",\"N\")","v":"N"},{"$f":"IF(Worksheet!$B$11=TRUE,\"Y\",\"N\")","v":"N"},{"$f":"IF(Worksheet!$B$12=TRUE,\"Y\",\"N\")","v":"N"},{"$f":"IF(Worksheet!$C$11=TRUE,\"Y\",\"N\")","v":"N"},{"$f":"IFERROR(IF(N(Worksheet!V336)=0,Worksheet!U336,Worksheet!V336),\"\")","v":0}]
[{"$f":"IF(ISBLANK(Worksheet!F337)=FALSE,VLOOKUP(Worksheet!A337,MeasureCode_Lookup,6,FALSE),\"\")","v":""},{"$f":"Worksheet!H337","v":0},{"$f":"Worksheet!I337","v":0},{"$f":"IFERROR(IF(Worksheet!Z337=0,Worksheet!Y337/I315,Worksheet!Z337/R315),0)","v":0},"W Controlled",null,null,{"$f":"IF(N(Worksheet!S337)=0,N(Worksheet!R337),N(Worksheet!S337))","v":0},{"$f":"IFERROR(Worksheet!W337/(Worksheet!R337+Worksheet!U337),0)","v":0},{"$f":"Worksheet!AE337","v":0},{"$f":"Worksheet!AD337","v":0},0,{"$f":"IF(Worksheet!AL337=0,0,Worksheet!AL337/I315)","v":0},0,null,null,null,{"$f":"IFERROR(Worksheet!X337/(Worksheet!S337+Worksheet!V337),0)","v":0},{"$f":"IF(Worksheet!E337=\"\",\"\",Worksheet!E337)","v":""},{"$f":"IF(Worksheet!B337=\"\",\"\",Worksheet!B337)","v":""},{"$f":"IF(Worksheet!D337=\"\",\"\",Worksheet!D337)","v":""},{"$f":"IF(Worksheet!$A$11=TRUE,\"Y\",\"N\")","v":"N"},{"$f":"IF(Worksheet!$A$12=TRUE,\"Y\",\"N\")","v":"N"},{"$f":"IF(Worksheet!$B$11=TRUE,\"Y\",\"N\")","v":"N"},{"$f":"IF(Worksheet!$B$12=TRUE,\"Y\",\"N\")","v":"N"},{"$f":"IF(Worksheet!$C$11=TRUE,\"Y\",\"N\")","v":"N"},{"$f":"IFERROR(IF(N(Worksheet!V337)=0,Worksheet!U337,Worksheet!V337),\"\")","v":0}]
[{"$f":"IF(ISBLANK(Worksheet!F338)=FALSE,VLOOKUP(Worksheet!A338,MeasureCode_Lookup,6,FALSE),\"\")","v":""},{"$f":"Worksheet!H338","v":0},{"$f":"Worksheet!I338","v":0},{"$f":"IFERROR(IF(Worksheet!Z338=0,Worksheet!Y338/I316,Worksheet!Z338/R316),0)","v":0},"W Controlled",null,null,{"$f":"IF(N(Worksheet!S338)=0,N(Worksheet!R338),N(Worksheet!S338))","v":0},{"$f":"IFERROR(Worksheet!W338/(Worksheet!R338+Worksheet!U338),0)","v":0},{"$f":"Worksheet!AE338","v":0},{"$f":"Worksheet!AD338","v":0},0,{"$f":"IF(Worksheet!AL338=0,0,Worksheet!AL338/I316)","v":0},0,null,null,null,{"$f":"IFERROR(Worksheet!X338/(Worksheet!S338+Worksheet!V338),0)","v":0},{"$f":"IF(Worksheet!E338=\"\",\"\",Worksheet!E338)","v":""},{"$f":"IF(Worksheet!B338=\"\",\"\",Worksheet!B338)","v":""},{"$f":"IF(Worksheet!D338=\"\",\"\",Worksheet!D338)","v":""},{"$f":"IF(Worksheet!$A$11=TRUE,\"Y\",\"N\")","v":"N"},{"$f":"IF(Worksheet!$A$12=TRUE,\"Y\",\"N\")","v":"N"},{"$f":"IF(Worksheet!$B$11=TRUE,\"Y\",\"N\")","v":"N"},{"$f":"IF(Worksheet!$B$12=TRUE,\"Y\",\"N\")","v":"N"},{"$f":"IF(Worksheet!$C$11=TRUE,\"Y\",\"N\")","v":"N"},{"$f":"IFERROR(IF(N(Worksheet!V338)=0,Worksheet!U338,Worksheet!V338),\"\")","v":0}]
[{"$f":"IF(ISBLANK(Worksheet!F339)=FALSE,VLOOKUP(Worksheet!A339,MeasureCode_Lookup,6,FALSE),\"\")","v":""},{"$f":"Worksheet!H339","v":0},{"$f":"Worksheet!I339","v":0},{"$f":"IFERROR(IF(Worksheet!Z339=0,Worksheet!Y339/I317,Worksheet!Z339/R317),0)","v":0},"W Controlled",null,null,{"$f":"IF(N(Worksheet!S339)=0,N(Worksheet!R339),N(Worksheet!S339))","v":0},{"$f":"IFERROR(Worksheet!W339/(Worksheet!R339+Worksheet!U339),0)","v":0},{"$f":"Worksheet!AE339","v":0},{"$f":"Worksheet!AD339","v":0},0,{"$f":"IF(Worksheet!AL339=0,0,Worksheet!AL339/I317)","v":0},0,null,null,null,{"$f":"IFERROR(Worksheet!X339/(Worksheet!S339+Worksheet!V339),0)","v":0},{"$f":"IF(Worksheet!E339=\"\",\"\",Worksheet!E339)","v":""},{"$f":"IF(Worksheet!B339=\"\",\"\",Worksheet!B339)","v":""},{"$f":"IF(Worksheet!D339=\"\",\"\",Worksheet!D339)","v":""},{"$f":"IF(Worksheet!$A$11=TRUE,\"Y\",\"N\")","v":"N"},{"$f":"IF(Worksheet!$A$12=TRUE,\"Y\",\"N\")","v":"N"},{"$f":"IF(Worksheet!$B$11=TRUE,\"Y\",\"N\")","v":"N"},{"$f":"IF(Worksheet!$B$12=TRUE,\"Y\",\"N\")","v":"N"},{"$f":"IF(Worksheet!$C$11=TRUE,\"Y\",\"N\")","v":"N"},{"$f":"IFERROR(IF(N(Worksheet!V339)=0,Worksheet!U339,Worksheet!V339),\"\")","v":0}]
[{"$f":"IF(ISBLANK(Worksheet!F340)=FALSE,VLOOKUP(Worksheet!A340,MeasureCode_Lookup,6,FALSE),\"\")","v":""},{"$f":"Worksheet!H340","v":0},{"$f":"Worksheet!I340","v":0},{"$f":"IFERROR(IF(Worksheet!Z340=0,Worksheet!Y340/I318,Worksheet!Z340/R318),0)","v":0},"W Controlled",null,null,{"$f":"IF(N(Worksheet!S340)=0,N(Worksheet!R340),N(Worksheet!S340))","v":0},{"$f":"IFERROR(Worksheet!W340/(Worksheet!R340+Worksheet!U340),0)","v":0},{"$f":"Worksheet!AE340","v":0},{"$f":"Worksheet!AD340","v":0},0,{"$f":"IF(Worksheet!AL340=0,0,Worksheet!AL340/I318)","v":0},0,null,null,null,{"$f":"IFERROR(Worksheet!X340/(Worksheet!S340+Worksheet!V340),0)","v":0},{"$f":"IF(Worksheet!E340=\"\",\"\",Worksheet!E340)","v":""},{"$f":"IF(Worksheet!B340=\"\",\"\",Worksheet!B340)","v":""},{"$f":"IF(Worksheet!D340=\"\",\"\",Worksheet!D340)","v":""},{"$f":"IF(Worksheet!$A$11=TRUE,\"Y\",\"N\")","v":"N"},{"$f":"IF(Worksheet!$A$12=TRUE,\"Y\",\"N\")","v":"N"},{"$f":"IF(Worksheet!$B$11=TRUE,\"Y\",\"N\")","v":"N"},{"$f":"IF(Worksheet!$B$12=TRUE,\"Y\",\"N\")","v":"N"},{"$f":"IF(Worksheet!$C$11=TRUE,\"Y\",\"N\")","v":"N"},{"$f":"IFERROR(IF(N(Worksheet!V340)=0,Worksheet!U340,Worksheet!V340),\"\")","v":0}]
[{"$f":"IF(ISBLANK(Worksheet!F341)=FALSE,VLOOKUP(Worksheet!A341,MeasureCode_Lookup,6,FALSE),\"\")","v":""},{"$f":"Worksheet!H341","v":0},{"$f":"Worksheet!I341","v":0},{"$f":"IFERROR(IF(Worksheet!Z341=0,Worksheet!Y341/I319,Worksheet!Z341/R319),0)","v":0},"W Controlled",null,null,{"$f":"IF(N(Worksheet!S341)=0,N(Worksheet!R341),N(Worksheet!S341))","v":0},{"$f":"IFERROR(Worksheet!W341/(Worksheet!R341+Worksheet!U341),0)","v":0},{"$f":"Worksheet!AE341","v":0},{"$f":"Worksheet!AD341","v":0},0,{"$f":"IF(Worksheet!AL341=0,0,Worksheet!AL341/I319)","v":0},0,null,null,null,{"$f":"IFERROR(Worksheet!X341/(Worksheet!S341+Worksheet!V341),0)","v":0},{"$f":"IF(Worksheet!E341=\"\",\"\",Worksheet!E341)","v":""},{"$f":"IF(Worksheet!B341=\"\",\"\",Worksheet!B341)","v":""},{"$f":"IF(Worksheet!D341=\"\",\"\",Worksheet!D341)","v":""},{"$f":"IF(Worksheet!$A$11=TRUE,\"Y\",\"N\")","v":"N"},{"$f":"IF(Worksheet!$A$12=TRUE,\"Y\",\"N\")","v":"N"},{"$f":"IF(Worksheet!$B$11=TRUE,\"Y\",\"N\")","v":"N"},{"$f":"IF(Worksheet!$B$12=TRUE,\"Y\",\"N\")","v":"N"},{"$f":"IF(Worksheet!$C$11=TRUE,\"Y\",\"N\")","v":"N"},{"$f":"IFERROR(IF(N(Worksheet!V341)=0,Worksheet!U341,Worksheet!V341),\"\")","v":0}]
[{"$f":"IF(ISBLANK(Worksheet!F342)=FALSE,VLOOKUP(Worksheet!A342,MeasureCode_Lookup,6,FALSE),\"\")","v":""},{"$f":"Worksheet!H342","v":0},{"$f":"Worksheet!I342","v":0},{"$f":"IFERROR(IF(Worksheet!Z342=0,Worksheet!Y342/I320,Worksheet!Z342/R320),0)","v":0},"W Controlled",null,null,{"$f":"IF(N(Worksheet!S342)=0,N(Worksheet!R342),N(Worksheet!S342))","v":0},{"$f":"IFERROR(Worksheet!W342/(Worksheet!R342+Worksheet!U342),0)","v":0},{"$f":"Worksheet!AE342","v":0},{"$f":"Worksheet!AD342","v":0},0,{"$f":"IF(Worksheet!AL342=0,0,Worksheet!AL342/I320)","v":0},0,null,null,null,{"$f":"IFERROR(Worksheet!X342/(Worksheet!S342+Worksheet!V342),0)","v":0},{"$f":"IF(Worksheet!E342=\"\",\"\",Worksheet!E342)","v":""},{"$f":"IF(Worksheet!B342=\"\",\"\",Worksheet!B342)","v":""},{"$f":"IF(Worksheet!D342=\"\",\"\",Worksheet!D342)","v":""},{"$f":"IF(Worksheet!$A$11=TRUE,\"Y\",\"N\")","v":"N"},{"$f":"IF(Worksheet!$A$12=TRUE,\"Y\",\"N\")","v":"N"},{"$f":"IF(Worksheet!$B$11=TRUE,\"Y\",\"N\")","v":"N"},{"$f":"IF(Worksheet!$B$12=TRUE,\"Y\",\"N\")","v":"N"},{"$f":"IF(Worksheet!$C$11=TRUE,\"Y\",\"N\")","v":"N"},{"$f":"IFERROR(IF(N(Worksheet!V342)=0,Worksheet!U342,Worksheet!V342),\"\")","v":0}]
[{"$f":"IF(ISBLANK(Worksheet!F343)=FALSE,VLOOKUP(Worksheet!A343,MeasureCode_Lookup,6,FALSE),\"\")","v":""},{"$f":"Worksheet!H343","v":0},{"$f":"Worksheet!I343","v":0},{"$f":"IFERROR(IF(Worksheet!Z343=0,Worksheet!Y343/I321,Worksheet!Z343/R321),0)","v":0},"W Controlled",null,null,{"$f":"IF(N(Worksheet!S343)=0,N(Worksheet!R343),N(Worksheet!S343))","v":0},{"$f":"IFERROR(Worksheet!W343/(Worksheet!R343+Worksheet!U343),0)","v":0},{"$f":"Worksheet!AE343","v":0},{"$f":"Worksheet!AD343","v":0},0,{"$f":"IF(Worksheet!AL343=0,0,Worksheet!AL343/I321)","v":0},0,null,null,null,{"$f":"IFERROR(Worksheet!X343/(Worksheet!S343+Worksheet!V343),0)","v":0},{"$f":"IF(Worksheet!E343=\"\",\"\",Worksheet!E343)","v":""},{"$f":"IF(Worksheet!B343=\"\",\"\",Worksheet!B343)","v":""},{"$f":"IF(Worksheet!D343=\"\",\"\",Worksheet!D343)","v":""},{"$f":"IF(Worksheet!$A$11=TRUE,\"Y\",\"N\")","v":"N"},{"$f":"IF(Worksheet!$A$12=TRUE,\"Y\",\"N\")","v":"N"},{"$f":"IF(Worksheet!$B$11=TRUE,\"Y\",\"N\")","v":"N"},{"$f":"IF(Worksheet!$B$12=TRUE,\"Y\",\"N\")","v":"N"},{"$f":"IF(Worksheet!$C$11=TRUE,\"Y\",\"N\")","v":"N"},{"$f":"IFERROR(IF(N(Worksheet!V343)=0,Worksheet!U343,Worksheet!V343),\"\")","v":0}]
[{"$f":"IF(ISBLANK(Worksheet!F344)=FALSE,VLOOKUP(Worksheet!A344,MeasureCode_Lookup,6,FALSE),\"\")","v":""},{"$f":"Worksheet!H344","v":0},{"$f":"Worksheet!I344","v":0},{"$f":"IFERROR(IF(Worksheet!Z344=0,Worksheet!Y344/I322,Worksheet!Z344/R322),0)","v":0},"W Controlled",null,null,{"$f":"IF(N(Worksheet!S344)=0,N(Worksheet!R344),N(Worksheet!S344))","v":0},{"$f":"IFERROR(Worksheet!W344/(Worksheet!R344+Worksheet!U344),0)","v":0},{"$f":"Worksheet!AE344","v":0},{"$f":"Worksheet!AD344","v":0},0,{"$f":"IF(Worksheet!AL344=0,0,Worksheet!AL344/I322)","v":0},0,null,null,null,{"$f":"IFERROR(Worksheet!X344/(Worksheet!S344+Worksheet!V344),0)","v":0},{"$f":"IF(Worksheet!E344=\"\",\"\",Worksheet!E344)","v":""},{"$f":"IF(Worksheet!B344=\"\",\"\",Worksheet!B344)","v":""},{"$f":"IF(Worksheet!D344=\"\",\"\",Worksheet!D344)","v":""},{"$f":"IF(Worksheet!$A$11=TRUE,\"Y\",\"N\")","v":"N"},{"$f":"IF(Worksheet!$A$12=TRUE,\"Y\",\"N\")","v":"N"},{"$f":"IF(Worksheet!$B$11=TRUE,\"Y\",\"N\")","v":"N"},{"$f":"IF(Worksheet!$B$12=TRUE,\"Y\",\"N\")","v":"N"},{"$f":"IF(Worksheet!$C$11=TRUE,\"Y\",\"N\")","v":"N"},{"$f":"IFERROR(IF(N(Worksheet!V344)=0,Worksheet!U344,Worksheet!V344),\"\")","v":0}]
[{"$f":"IF(ISBLANK(Worksheet!F345)=FALSE,VLOOKUP(Worksheet!A345,MeasureCode_Lookup,6,FALSE),\"\")","v":""},{"$f":"Worksheet!H345","v":0},{"$f":"Worksheet!I345","v":0},{"$f":"IFERROR(IF(Worksheet!Z345=0,Worksheet!Y345/I323,Worksheet!Z345/R323),0)","v":0},"W Controlled",null,null,{"$f":"IF(N(Worksheet!S345)=0,N(Worksheet!R345),N(Worksheet!S345))","v":0},{"$f":"IFERROR(Worksheet!W345/(Worksheet!R345+Worksheet!U345),0)","v":0},{"$f":"Worksheet!AE345","v":0},{"$f":"Worksheet!AD345","v":0},{"$f":"J323*8","v":0},{"$f":"IF(Worksheet!AL345=0,0,Worksheet!AL345/I323)","v":0},{"$f":"M323*8","v":0},null,null,null,{"$f":"IFERROR(Worksheet!X345/(Worksheet!S345+Worksheet!V345),0)","v":0},{"$f":"IF(Worksheet!E345=\"\",\"\",Worksheet!E345)","v":""},{"$f":"IF(Worksheet!B345=\"\",\"\",Worksheet!B345)","v":""},{"$f":"IF(Worksheet!D345=\"\",\"\",Worksheet!D345)","v":""},{"$f":"IF(Worksheet!$A$11=TRUE,\"Y\",\"N\")","v":"N"},{"$f":"IF(Worksheet!$A$12=TRUE,\"Y\",\"N\")","v":"N"},{"$f":"IF(Worksheet!$B$11=TRUE,\"Y\",\"N\")","v":"N"},{"$f":"IF(Worksheet!$B$12=TRUE,\"Y\",\"N\")","v":"N"},{"$f":"IF(Worksheet!$C$11=TRUE,\"Y\",\"N\")","v":"N"},{"$f":"IFERROR(IF(N(Worksheet!V345)=0,Worksheet!U345,Worksheet!V345),\"\")","v":0}]
[{"$f":"IF(ISBLANK(Worksheet!F346)=FALSE,VLOOKUP(Worksheet!A346,MeasureCode_Lookup,6,FALSE),\"\")","v":""},{"$f":"Worksheet!H346","v":0},{"$f":"Worksheet!I346","v":0},{"$f":"IFERROR(IF(Worksheet!Z346=0,Worksheet!Y346/I324,Worksheet!Z346/R324),0)","v":0},"W Controlled",null,null,{"$f":"IF(N(Worksheet!S346)=0,N(Worksheet!R346),N(Worksheet!S346))","v":0},{"$f":"IFERROR(Worksheet!W346/(Worksheet!R346+Worksheet!U346),0)","v":0},{"$f":"Worksheet!AE346","v":0},{"$f":"Worksheet!AD346","v":0},0,{"$f":"IF(Worksheet!AL346=0,0,Worksheet!AL346/I324)","v":0},0,null,null,null,{"$f":"IFERROR(Worksheet!X346/(Worksheet!S346+Worksheet!V346),0)","v":0},{"$f":"IF(Worksheet!E346=\"\",\"\",Worksheet!E346)","v":""},{"$f":"IF(Worksheet!B346=\"\",\"\",Worksheet!B346)","v":""},{"$f":"IF(Worksheet!D346=\"\",\"\",Worksheet!D346)","v":""},{"$f":"IF(Worksheet!$A$11=TRUE,\"Y\",\"N\")","v":"N"},{"$f":"IF(Worksheet!$A$12=TRUE,\"Y\",\"N\")","v":"N"},{"$f":"IF(Worksheet!$B$11=TRUE,\"Y\",\"N\")","v":"N"},{"$f":"IF(Worksheet!$B$12=TRUE,\"Y\",\"N\")","v":"N"},{"$f":"IF(Worksheet!$C$11=TRUE,\"Y\",\"N\")","v":"N"},{"$f":"IFERROR(IF(N(Worksheet!V346)=0,Worksheet!U346,Worksheet!V346),\"\")","v":0}]
[{"$f":"IF(ISBLANK(Worksheet!F347)=FALSE,VLOOKUP(Worksheet!A347,MeasureCode_Lookup,6,FALSE),\"\")","v":""},{"$f":"Worksheet!H347","v":0},{"$f":"Worksheet!I347","v":0},{"$f":"IFERROR(IF(Worksheet!Z347=0,Worksheet!Y347/I325,Worksheet!Z347/R325),0)","v":0},"W Controlled",null,null,{"$f":"IF(N(Worksheet!S347)=0,N(Worksheet!R347),N(Worksheet!S347))","v":0},{"$f":"IFERROR(Worksheet!W347/(Worksheet!R347+Worksheet!U347),0)","v":0},{"$f":"Worksheet!AE347","v":0},{"$f":"Worksheet!AD347","v":0},0,{"$f":"IF(Worksheet!AL347=0,0,Worksheet!AL347/I325)","v":0},0,null,null,null,{"$f":"IFERROR(Worksheet!X347/(Worksheet!S347+Worksheet!V347),0)","v":0},{"$f":"IF(Worksheet!E347=\"\",\"\",Worksheet!E347)","v":""},{"$f":"IF(Worksheet!B347=\"\",\"\",Worksheet!B347)","v":""},{"$f":"IF(Worksheet!D347=\"\",\"\",Worksheet!D347)","v":""},{"$f":"IF(Worksheet!$A$11=TRUE,\"Y\",\"N\")","v":"N"},{"$f":"IF(Worksheet!$A$12=TRUE,\"Y\",\"N\")","v":"N"},{"$f":"IF(Worksheet!$B$11=TRUE,\"Y\",\"N\")","v":"N"},{"$f":"IF(Worksheet!$B$12=TRUE,\"Y\",\"N\")","v":"N"},{"$f":"IF(Worksheet!$C$11=TRUE,\"Y\",\"N\")","v":"N"},{"$f":"IFERROR(IF(N(Worksheet!V347)=0,Worksheet!U347,Worksheet!V347),\"\")","v":0}]
[{"$f":"IF(ISBLANK(Worksheet!F348)=FALSE,VLOOKUP(Worksheet!A348,MeasureCode_Lookup,6,FALSE),\"\")","v":""},{"$f":"Worksheet!H348","v":0},{"$f":"Worksheet!I348","v":0},{"$f":"IFERROR(IF(Worksheet!Z348=0,Worksheet!Y348/I326,Worksheet!Z348/R326),0)","v":0},"W Controlled",null,null,{"$f":"IF(N(Worksheet!S348)=0,N(Worksheet!R348),N(Worksheet!S348))","v":0},{"$f":"IFERROR(Worksheet!W348/(Worksheet!R348+Worksheet!U348),0)","v":0},{"$f":"Worksheet!AE348","v":0},{"$f":"Worksheet!AD348","v":0},0,{"$f":"IF(Worksheet!AL348=0,0,Worksheet!AL348/I326)","v":0},0,null,null,null,{"$f":"IFERROR(Worksheet!X348/(Worksheet!S348+Worksheet!V348),0)","v":0},{"$f":"IF(Worksheet!E348=\"\",\"\",Worksheet!E348)","v":""},{"$f":"IF(Worksheet!B348=\"\",\"\",Worksheet!B348)","v":""},{"$f":"IF(Worksheet!D348=\"\",\"\",Worksheet!D348)","v":""},{"$f":"IF(Worksheet!$A$11=TRUE,\"Y\",\"N\")","v":"N"},{"$f":"IF(Worksheet!$A$12=TRUE,\"Y\",\"N\")","v":"N"},{"$f":"IF(Worksheet!$B$11=TRUE,\"Y\",\"N\")","v":"N"},{"$f":"IF(Worksheet!$B$12=TRUE,\"Y\",\"N\")","v":"N"},{"$f":"IF(Worksheet!$C$11=TRUE,\"Y\",\"N\")","v":"N"},{"$f":"IFERROR(IF(N(Worksheet!V348)=0,Worksheet!U348,Worksheet!V348),\"\")","v":0}]
[{"$f":"IF(ISBLANK(Worksheet!F349)=FALSE,VLOOKUP(Worksheet!A349,MeasureCode_Lookup,6,FALSE),\"\")","v":""},{"$f":"Worksheet!H349","v":0},{"$f":"Worksheet!I349","v":0},{"$f":"IFERROR(IF(Worksheet!Z349=0,Worksheet!Y349/I327,Worksheet!Z349/R327),0)","v":0},"W Controlled",null,null,{"$f":"IF(N(Worksheet!S349)=0,N(Worksheet!R349),N(Worksheet!S349))","v":0},{"$f":"IFERROR(Worksheet!W349/(Worksheet!R349+Worksheet!U349),0)","v":0},{"$f":"Worksheet!AE349","v":0},{"$f":"Worksheet!AD349","v":0},0,{"$f":"IF(Worksheet!AL349=0,0,Worksheet!AL349/I327)","v":0},0,null,null,null,{"$f":"IFERROR(Worksheet!X349/(Worksheet!S349+Worksheet!V349),0)","v":0},{"$f":"IF(Worksheet!E349=\"\",\"\",Worksheet!E349)","v":""},{"$f":"IF(Worksheet!B349=\"\",\"\",Worksheet!B349)","v":""},{"$f":"IF(Worksheet!D349=\"\",\"\",Worksheet!D349)","v":""},{"$f":"IF(Worksheet!$A$11=TRUE,\"Y\",\"N\")","v":"N"},{"$f":"IF(Worksheet!$A$12=TRUE,\"Y\",\"N\")","v":"N"},{"$f":"IF(Worksheet!$B$11=TRUE,\"Y\",\"N\")","v":"N"},{"$f":"IF(Worksheet!$B$12=TRUE,\"Y\",\"N\")","v":"N"},{"$f":"IF(Worksheet!$C$11=TRUE,\"Y\",\"N\")","v":"N"},{"$f":"IFERROR(IF(N(Worksheet!V349)=0,Worksheet!U349,Worksheet!V349),\"\")","v":0}]
[{"$f":"IF(ISBLANK(Worksheet!F350)=FALSE,VLOOKUP(Worksheet!A350,MeasureCode_Lookup,6,FALSE),\"\")","v":""},{"$f":"Worksheet!H350","v":0},{"$f":"Worksheet!I350","v":0},{"$f":"IFERROR(IF(Worksheet!Z350=0,Worksheet!Y350/I328,Worksheet!Z350/R328),0)","v":0},"W Controlled",null,null,{"$f":"IF(N(Worksheet!S350)=0,N(Worksheet!R350),N(Worksheet!S350))","v":0},{"$f":"IFERROR(Worksheet!W350/(Worksheet!R350+Worksheet!U350),0)","v":0},{"$f":"Worksheet!AE350","v":0},{"$f":"Worksheet!AD350","v":0},0,{"$f":"IF(Worksheet!AL350=0,0,Worksheet!AL350/I328)","v":0},0,null,null,null,{"$f":"IFERROR(Worksheet!X350/(Worksheet!S350+Worksheet!V350),0)","v":0},{"$f":"IF(Worksheet!E350=\"\",\"\",Worksheet!E350)","v":""},{"$f":"IF(Worksheet!B350=\"\",\"\",Worksheet!B350)","v":""},{"$f":"IF(Worksheet!D350=\"\",\"\",Worksheet!D350)","v":""},{"$f":"IF(Worksheet!$A$11=TRUE,\"Y\",\"N\")","v":"N"},{"$f":"IF(Worksheet!$A$12=TRUE,\"Y\",\"N\")","v":"N"},{"$f":"IF(Worksheet!$B$11=TRUE,\"Y\",\"N\")","v":"N"},{"$f":"IF(Worksheet!$B$12=TRUE,\"Y\",\"N\")","v":"N"},{"$f":"IF(Worksheet!$C$11=TRUE,\"Y\",\"N\")","v":"N"},{"$f":"IFERROR(IF(N(Worksheet!V350)=0,Worksheet!U350,Worksheet!V350),\"\")","v":0}]
[{"$f":"IF(ISBLANK(Worksheet!F351)=FALSE,VLOOKUP(Worksheet!A351,MeasureCode_Lookup,6,FALSE),\"\")","v":""},{"$f":"Worksheet!H351","v":0},{"$f":"Worksheet!I351","v":0},{"$f":"IFERROR(IF(Worksheet!Z351=0,Worksheet!Y351/I329,Worksheet!Z351/R329),0)","v":0},"W Controlled",null,null,{"$f":"IF(N(Worksheet!S351)=0,N(Worksheet!R351),N(Worksheet!S351))","v":0},{"$f":"IFERROR(Worksheet!W351/(Worksheet!R351+Worksheet!U351),0)","v":0},{"$f":"Worksheet!AE351","v":0},{"$f":"Worksheet!AD351","v":0},0,{"$f":"IF(Worksheet!AL351=0,0,Worksheet!AL351/I329)","v":0},0,null,null,null,{"$f":"IFERROR(Worksheet!X351/(Worksheet!S351+Worksheet!V351),0)","v":0},{"$f":"IF(Worksheet!E351=\"\",\"\",Worksheet!E351)","v":""},{"$f":"IF(Worksheet!B351=\"\",\"\",Worksheet!B351)","v":""},{"$f":"IF(Worksheet!D351=\"\",\"\",Worksheet!D351)","v":""},{"$f":"IF(Worksheet!$A$11=TRUE,\"Y\",\"N\")","v":"N"},{"$f":"IF(Worksheet!$A$12=TRUE,\"Y\",\"N\")","v":"N"},{"$f":"IF(Worksheet!$B$11=TRUE,\"Y\",\"N\")","v":"N"},{"$f":"IF(Worksheet!$B$12=TRUE,\"Y\",\"N\")","v":"N"},{"$f":"IF(Worksheet!$C$11=TRUE,\"Y\",\"N\")","v":"N"},{"$f":"IFERROR(IF(N(Worksheet!V351)=0,Worksheet!U351,Worksheet!V351),\"\")","v":0}]
[{"$f":"IF(ISBLANK(Worksheet!F352)=FALSE,VLOOKUP(Worksheet!A352,MeasureCode_Lookup,6,FALSE),\"\")","v":""},{"$f":"Worksheet!H352","v":0},{"$f":"Worksheet!I352","v":0},{"$f":"IFERROR(IF(Worksheet!Z352=0,Worksheet!Y352/I330,Worksheet!Z352/R330),0)","v":0},"W Controlled",null,null,{"$f":"IF(N(Worksheet!S352)=0,N(Worksheet!R352),N(Worksheet!S352))","v":0},{"$f":"IFERROR(Worksheet!W352/(Worksheet!R352+Worksheet!U352),0)","v":0},{"$f":"Worksheet!AE352","v":0},{"$f":"Worksheet!AD352","v":0},0,{"$f":"IF(Worksheet!AL352=0,0,Worksheet!AL352/I330)","v":0},0,null,null,null,{"$f":"IFERROR(Worksheet!X352/(Worksheet!S352+Worksheet!V352),0)","v":0},{"$f":"IF(Worksheet!E352=\"\",\"\",Worksheet!E352)","v":""},{"$f":"IF(Worksheet!B352=\"\",\"\",Worksheet!B352)","v":""},{"$f":"IF(Worksheet!D352=\"\",\"\",Worksheet!D352)","v":""},{"$f":"IF(Worksheet!$A$11=TRUE,\"Y\",\"N\")","v":"N"},{"$f":"IF(Worksheet!$A$12=TRUE,\"Y\",\"N\")","v":"N"},{"$f":"IF(Worksheet!$B$11=TRUE,\"Y\",\"N\")","v":"N"},{"$f":"IF(Worksheet!$B$12=TRUE,\"Y\",\"N\")","v":"N"},{"$f":"IF(Worksheet!$C$11=TRUE,\"Y\",\"N\")","v":"N"},{"$f":"IFERROR(IF(N(Worksheet!V352)=0,Worksheet!U352,Worksheet!V352),\"\")","v":0}]
[{"$f":"IF(ISBLANK(Worksheet!F353)=FALSE,VLOOKUP(Worksheet!A353,MeasureCode_Lookup,6,FALSE),\"\")","v":""},{"$f":"Worksheet!H353","v":0},{"$f":"Worksheet!I353","v":0},{"$f":"IFERROR(IF(Worksheet!Z353=0,Worksheet!Y353/I331,Worksheet!Z353/R331),0)","v":0},"W Controlled",null,null,{"$f":"IF(N(Worksheet!S353)=0,N(Worksheet!R353),N(Worksheet!S353))","v":0},{"$f":"IFERROR(Worksheet!W353/(Worksheet!R353+Worksheet!U353),0)","v":0},{"$f":"Worksheet!AE353","v":0},{"$f":"Worksheet!AD353","v":0},0,{"$f":"IF(Worksheet!AL353=0,0,Worksheet!AL353/I331)","v":0},0,null,null,null,{"$f":"IFERROR(Worksheet!X353/(Worksheet!S353+Worksheet!V353),0)","v":0},{"$f":"IF(Worksheet!E353=\"\",\"\",Worksheet!E353)","v":""},{"$f":"IF(Worksheet!B353=\"\",\"\",Worksheet!B353)","v":""},{"$f":"IF(Worksheet!D353=\"\",\"\",Worksheet!D353)","v":""},{"$f":"IF(Worksheet!$A$11=TRUE,\"Y\",\"N\")","v":"N"},{"$f":"IF(Worksheet!$A$12=TRUE,\"Y\",\"N\")","v":"N"},{"$f":"IF(Worksheet!$B$11=TRUE,\"Y\",\"N\")","v":"N"},{"$f":"IF(Worksheet!$B$12=TRUE,\"Y\",\"N\")","v":"N"},{"$f":"IF(Worksheet!$C$11=TRUE,\"Y\",\"N\")","v":"N"},{"$f":"IFERROR(IF(N(Worksheet!V353)=0,Worksheet!U353,Worksheet!V353),\"\")","v":0}]
[{"$f":"IF(ISBLANK(Worksheet!F354)=FALSE,VLOOKUP(Worksheet!A354,MeasureCode_Lookup,6,FALSE),\"\")","v":""},{"$f":"Worksheet!H354","v":0},{"$f":"Worksheet!I354","v":0},{"$f":"IFERROR(IF(Worksheet!Z354=0,Worksheet!Y354/I332,Worksheet!Z354/R332),0)","v":0},"W Controlled",null,null,{"$f":"IF(N(Worksheet!S354)=0,N(Worksheet!R354),N(Worksheet!S354))","v":0},{"$f":"IFERROR(Worksheet!W354/(Worksheet!R354+Worksheet!U354),0)","v":0},{"$f":"Worksheet!AE354","v":0},{"$f":"Worksheet!AD354","v":0},0,{"$f":"IF(Worksheet!AL354=0,0,Worksheet!AL354/I332)","v":0},0,null,null,null,{"$f":"IFERROR(Worksheet!X354/(Worksheet!S354+Worksheet!V354),0)","v":0},{"$f":"IF(Worksheet!E354=\"\",\"\",Worksheet!E354)","v":""},{"$f":"IF(Worksheet!B354=\"\",\"\",Worksheet!B354)","v":""},{"$f":"IF(Worksheet!D354=\"\",\"\",Worksheet!D354)","v":""},{"$f":"IF(Worksheet!$A$11=TRUE,\"Y\",\"N\")","v":"N"},{"$f":"IF(Worksheet!$A$12=TRUE,\"Y\",\"N\")","v":"N"},{"$f":"IF(Worksheet!$B$11=TRUE,\"Y\",\"N\")","v":"N"},{"$f":"IF(Worksheet!$B$12=TRUE,\"Y\",\"N\")","v":"N"},{"$f":"IF(Worksheet!$C$11=TRUE,\"Y\",\"N\")","v":"N"},{"$f":"IFERROR(IF(N(Worksheet!V354)=0,Worksheet!U354,Worksheet!V354),\"\")","v":0}]
[{"$f":"IF(ISBLANK(Worksheet!F355)=FALSE,VLOOKUP(Worksheet!A355,MeasureCode_Lookup,6,FALSE),\"\")","v":""},{"$f":"Worksheet!H355","v":0},{"$f":"Worksheet!I355","v":0},{"$f":"IFERROR(IF(Worksheet!Z355=0,Worksheet!Y355/I333,Worksheet!Z355/R333),0)","v":0},"W Controlled",null,null,{"$f":"IF(N(Worksheet!S355)=0,N(Worksheet!R355),N(Worksheet!S355))","v":0},{"$f":"IFERROR(Worksheet!W355/(Worksheet!R355+Worksheet!U355),0)","v":0},{"$f":"Worksheet!AE355","v":0},{"$f":"Worksheet!AD355","v":0},0,{"$f":"IF(Worksheet!AL355=0,0,Worksheet!AL355/I333)","v":0},0,null,null,null,{"$f":"IFERROR(Worksheet!X355/(Worksheet!S355+Worksheet!V355),0)","v":0},{"$f":"IF(Worksheet!E355=\"\",\"\",Worksheet!E355)","v":""},{"$f":"IF(Worksheet!B355=\"\",\"\",Worksheet!B355)","v":""},{"$f":"IF(Worksheet!D355=\"\",\"\",Worksheet!D355)","v":""},{"$f":"IF(Worksheet!$A$11=TRUE,\"Y\",\"N\")","v":"N"},{"$f":"IF(Worksheet!$A$12=TRUE,\"Y\",\"N\")","v":"N"},{"$f":"IF(Worksheet!$B$11=TRUE,\"Y\",\"N\")","v":"N"},{"$f":"IF(Worksheet!$B$12=TRUE,\"Y\",\"N\")","v":"N"},{"$f":"IF(Worksheet!$C$11=TRUE,\"Y\",\"N\")","v":"N"},{"$f":"IFERROR(IF(N(Worksheet!V355)=0,Worksheet!U355,Worksheet!V355),\"\")","v":0}]
[{"$f":"IF(ISBLANK(Worksheet!F356)=FALSE,VLOOKUP(Worksheet!A356,MeasureCode_Lookup,6,FALSE),\"\")","v":""},{"$f":"Worksheet!H356","v":0},{"$f":"Worksheet!I356","v":0},{"$f":"IFERROR(IF(Worksheet!Z356=0,Worksheet!Y356/I334,Worksheet!Z356/R334),0)","v":0},"W Controlled",null,null,{"$f":"IF(N(Worksheet!S356)=0,N(Worksheet!R356),N(Worksheet!S356))","v":0},{"$f":"IFERROR(Worksheet!W356/(Worksheet!R356+Worksheet!U356),0)","v":0},{"$f":"Worksheet!AE356","v":0},{"$f":"Worksheet!AD356","v":0},0,{"$f":"IF(Worksheet!AL356=0,0,Worksheet!AL356/I334)","v":0},0,null,null,null,{"$f":"IFERROR(Worksheet!X356/(Worksheet!S356+Worksheet!V356),0)","v":0},{"$f":"IF(Worksheet!E356=\"\",\"\",Worksheet!E356)","v":""},{"$f":"IF(Worksheet!B356=\"\",\"\",Worksheet!B356)","v":""},{"$f":"IF(Worksheet!D356=\"\",\"\",Worksheet!D356)","v":""},{"$f":"IF(Worksheet!$A$11=TRUE,\"Y\",\"N\")","v":"N"},{"$f":"IF(Worksheet!$A$12=TRUE,\"Y\",\"N\")","v":"N"},{"$f":"IF(Worksheet!$B$11=TRUE,\"Y\",\"N\")","v":"N"},{"$f":"IF(Worksheet!$B$12=TRUE,\"Y\",\"N\")","v":"N"},{"$f":"IF(Worksheet!$C$11=TRUE,\"Y\",\"N\")","v":"N"},{"$f":"IFERROR(IF(N(Worksheet!V356)=0,Worksheet!U356,Worksheet!V356),\"\")","v":0}]
[{"$f":"IF(ISBLANK(Worksheet!F357)=FALSE,VLOOKUP(Worksheet!A357,MeasureCode_Lookup,6,FALSE),\"\")","v":""},{"$f":"Worksheet!H357","v":0},{"$f":"Worksheet!I357","v":0},{"$f":"IFERROR(IF(Worksheet!Z357=0,Worksheet!Y357/I335,Worksheet!Z357/R335),0)","v":0},"W Controlled",null,null,{"$f":"IF(N(Worksheet!S357)=0,N(Worksheet!R357),N(Worksheet!S357))","v":0},{"$f":"IFERROR(Worksheet!W357/(Worksheet!R357+Worksheet!U357),0)","v":0},{"$f":"Worksheet!AE357","v":0},{"$f":"Worksheet!AD357","v":0},0,{"$f":"IF(Worksheet!AL357=0,0,Worksheet!AL357/I335)","v":0},0,null,null,null,{"$f":"IFERROR(Worksheet!X357/(Worksheet!S357+Worksheet!V357),0)","v":0},{"$f":"IF(Worksheet!E357=\"\",\"\",Worksheet!E357)","v":""},{"$f":"IF(Worksheet!B357=\"\",\"\",Worksheet!B357)","v":""},{"$f":"IF(Worksheet!D357=\"\",\"\",Worksheet!D357)","v":""},{"$f":"IF(Worksheet!$A$11=TRUE,\"Y\",\"N\")","v":"N"},{"$f":"IF(Worksheet!$A$12=TRUE,\"Y\",\"N\")","v":"N"},{"$f":"IF(Worksheet!$B$11=TRUE,\"Y\",\"N\")","v":"N"},{"$f":"IF(Worksheet!$B$12=TRUE,\"Y\",\"N\")","v":"N"},{"$f":"IF(Worksheet!$C$11=TRUE,\"Y\",\"N\")","v":"N"},{"$f":"IFERROR(IF(N(Worksheet!V357)=0,Worksheet!U357,Worksheet!V357),\"\")","v":0}]
[{"$f":"IF(ISBLANK(Worksheet!F358)=FALSE,VLOOKUP(Worksheet!A358,MeasureCode_Lookup,6,FALSE),\"\")","v":""},{"$f":"Worksheet!H358","v":0},{"$f":"Worksheet!I358","v":0},{"$f":"IFERROR(IF(Worksheet!Z358=0,Worksheet!Y358/I336,Worksheet!Z358/R336),0)","v":0},"W Controlled",null,null,{"$f":"IF(N(Worksheet!S358)=0,N(Worksheet!R358),N(Worksheet!S358))","v":0},{"$f":"IFERROR(Worksheet!W358/(Worksheet!R358+Worksheet!U358),0)","v":0},{"$f":"Worksheet!AE358","v":0},{"$f":"Worksheet!AD358","v":0},0,{"$f":"IF(Worksheet!AL358=0,0,Worksheet!AL358/I336)","v":0},0,null,null,null,{"$f":"IFERROR(Worksheet!X358/(Worksheet!S358+Worksheet!V358),0)","v":0},{"$f":"IF(Worksheet!E358=\"\",\"\",Worksheet!E358)","v":""},{"$f":"IF(Worksheet!B358=\"\",\"\",Worksheet!B358)","v":""},{"$f":"IF(Worksheet!D358=\"\",\"\",Worksheet!D358)","v":""},{"$f":"IF(Worksheet!$A$11=TRUE,\"Y\",\"N\")","v":"N"},{"$f":"IF(Worksheet!$A$12=TRUE,\"Y\",\"N\")","v":"N"},{"$f":"IF(Worksheet!$B$11=TRUE,\"Y\",\"N\")","v":"N"},{"$f":"IF(Worksheet!$B$12=TRUE,\"Y\",\"N\")","v":"N"},{"$f":"IF(Worksheet!$C$11=TRUE,\"Y\",\"N\")","v":"N"},{"$f":"IFERROR(IF(N(Worksheet!V358)=0,Worksheet!U358,Worksheet!V358),\"\")","v":0}]
[{"$f":"IF(ISBLANK(Worksheet!F359)=FALSE,VLOOKUP(Worksheet!A359,MeasureCode_Lookup,6,FALSE),\"\")","v":""},{"$f":"Worksheet!H359","v":0},{"$f":"Worksheet!I359","v":0},{"$f":"IFERROR(IF(Worksheet!Z359=0,Worksheet!Y359/I337,Worksheet!Z359/R337),0)","v":0},"W Controlled",null,null,{"$f":"IF(N(Worksheet!S359)=0,N(Worksheet!R359),N(Worksheet!S359))","v":0},{"$f":"IFERROR(Worksheet!W359/(Worksheet!R359+Worksheet!U359),0)","v":0},{"$f":"Worksheet!AE359","v":0},{"$f":"Worksheet!AD359","v":0},0,{"$f":"IF(Worksheet!AL359=0,0,Worksheet!AL359/I337)","v":0},0,null,null,null,{"$f":"IFERROR(Worksheet!X359/(Worksheet!S359+Worksheet!V359),0)","v":0},{"$f":"IF(Worksheet!E359=\"\",\"\",Worksheet!E359)","v":""},{"$f":"IF(Worksheet!B359=\"\",\"\",Worksheet!B359)","v":""},{"$f":"IF(Worksheet!D359=\"\",\"\",Worksheet!D359)","v":""},{"$f":"IF(Worksheet!$A$11=TRUE,\"Y\",\"N\")","v":"N"},{"$f":"IF(Worksheet!$A$12=TRUE,\"Y\",\"N\")","v":"N"},{"$f":"IF(Worksheet!$B$11=TRUE,\"Y\",\"N\")","v":"N"},{"$f":"IF(Worksheet!$B$12=TRUE,\"Y\",\"N\")","v":"N"},{"$f":"IF(Worksheet!$C$11=TRUE,\"Y\",\"N\")","v":"N"},{"$f":"IFERROR(IF(N(Worksheet!V359)=0,Worksheet!U359,Worksheet!V359),\"\")","v":0}]
[{"$f":"IF(ISBLANK(Worksheet!F360)=FALSE,VLOOKUP(Worksheet!A360,MeasureCode_Lookup,6,FALSE),\"\")","v":""},{"$f":"Worksheet!H360","v":0},{"$f":"Worksheet!I360","v":0},{"$f":"IFERROR(IF(Worksheet!Z360=0,Worksheet!Y360/I338,Worksheet!Z360/R338),0)","v":0},"W Controlled",null,null,{"$f":"IF(N(Worksheet!S360)=0,N(Worksheet!R360),N(Worksheet!S360))","v":0},{"$f":"IFERROR(Worksheet!W360/(Worksheet!R360+Worksheet!U360),0)","v":0},{"$f":"Worksheet!AE360","v":0},{"$f":"Worksheet!AD360","v":0},0,{"$f":"IF(Worksheet!AL360=0,0,Worksheet!AL360/I338)","v":0},0,null,null,null,{"$f":"IFERROR(Worksheet!X360/(Worksheet!S360+Worksheet!V360),0)","v":0},{"$f":"IF(Worksheet!E360=\"\",\"\",Worksheet!E360)","v":""},{"$f":"IF(Worksheet!B360=\"\",\"\",Worksheet!B360)","v":""},{"$f":"IF(Worksheet!D360=\"\",\"\",Worksheet!D360)","v":""},{"$f":"IF(Worksheet!$A$11=TRUE,\"Y\",\"N\")","v":"N"},{"$f":"IF(Worksheet!$A$12=TRUE,\"Y\",\"N\")","v":"N"},{"$f":"IF(Worksheet!$B$11=TRUE,\"Y\",\"N\")","v":"N"},{"$f":"IF(Worksheet!$B$12=TRUE,\"Y\",\"N\")","v":"N"},{"$f":"IF(Worksheet!$C$11=TRUE,\"Y\",\"N\")","v":"N"},{"$f":"IFERROR(IF(N(Worksheet!V360)=0,Worksheet!U360,Worksheet!V360),\"\")","v":0}]
[{"$f":"IF(ISBLANK(Worksheet!F361)=FALSE,VLOOKUP(Worksheet!A361,MeasureCode_Lookup,6,FALSE),\"\")","v":""},{"$f":"Worksheet!H361","v":0},{"$f":"Worksheet!I361","v":0},{"$f":"IFERROR(IF(Worksheet!Z361=0,Worksheet!Y361/I339,Worksheet!Z361/R339),0)","v":0},"W Controlled",null,null,{"$f":"IF(N(Worksheet!S361)=0,N(Worksheet!R361),N(Worksheet!S361))","v":0},{"$f":"IFERROR(Worksheet!W361/(Worksheet!R361+Worksheet!U361),0)","v":0},{"$f":"Worksheet!AE361","v":0},{"$f":"Worksheet!AD361","v":0},0,{"$f":"IF(Worksheet!AL361=0,0,Worksheet!AL361/I339)","v":0},0,null,null,null,{"$f":"IFERROR(Worksheet!X361/(Worksheet!S361+Worksheet!V361),0)","v":0},{"$f":"IF(Worksheet!E361=\"\",\"\",Worksheet!E361)","v":""},{"$f":"IF(Worksheet!B361=\"\",\"\",Worksheet!B361)","v":""},{"$f":"IF(Worksheet!D361=\"\",\"\",Worksheet!D361)","v":""},{"$f":"IF(Worksheet!$A$11=TRUE,\"Y\",\"N\")","v":"N"},{"$f":"IF(Worksheet!$A$12=TRUE,\"Y\",\"N\")","v":"N"},{"$f":"IF(Worksheet!$B$11=TRUE,\"Y\",\"N\")","v":"N"},{"$f":"IF(Worksheet!$B$12=TRUE,\"Y\",\"N\")","v":"N"},{"$f":"IF(Worksheet!$C$11=TRUE,\"Y\",\"N\")","v":"N"},{"$f":"IFERROR(IF(N(Worksheet!V361)=0,Worksheet!U361,Worksheet!V361),\"\")","v":0}]
[{"$f":"IF(ISBLANK(Worksheet!F362)=FALSE,VLOOKUP(Worksheet!A362,MeasureCode_Lookup,6,FALSE),\"\")","v":""},{"$f":"Worksheet!H362","v":0},{"$f":"Worksheet!I362","v":0},{"$f":"IFERROR(IF(Worksheet!Z362=0,Worksheet!Y362/I340,Worksheet!Z362/R340),0)","v":0},"W Controlled",null,null,{"$f":"IF(N(Worksheet!S362)=0,N(Worksheet!R362),N(Worksheet!S362))","v":0},{"$f":"IFERROR(Worksheet!W362/(Worksheet!R362+Worksheet!U362),0)","v":0},{"$f":"Worksheet!AE362","v":0},{"$f":"Worksheet!AD362","v":0},0,{"$f":"IF(Worksheet!AL362=0,0,Worksheet!AL362/I340)","v":0},0,null,null,null,{"$f":"IFERROR(Worksheet!X362/(Worksheet!S362+Worksheet!V362),0)","v":0},{"$f":"IF(Worksheet!E362=\"\",\"\",Worksheet!E362)","v":""},{"$f":"IF(Worksheet!B362=\"\",\"\",Worksheet!B362)","v":""},{"$f":"IF(Worksheet!D362=\"\",\"\",Worksheet!D362)","v":""},{"$f":"IF(Worksheet!$A$11=TRUE,\"Y\",\"N\")","v":"N"},{"$f":"IF(Worksheet!$A$12=TRUE,\"Y\",\"N\")","v":"N"},{"$f":"IF(Worksheet!$B$11=TRUE,\"Y\",\"N\")","v":"N"},{"$f":"IF(Worksheet!$B$12=TRUE,\"Y\",\"N\")","v":"N"},{"$f":"IF(Worksheet!$C$11=TRUE,\"Y\",\"N\")","v":"N"},{"$f":"IFERROR(IF(N(Worksheet!V362)=0,Worksheet!U362,Worksheet!V362),\"\")","v":0}]
[{"$f":"IF(ISBLANK(Worksheet!F363)=FALSE,VLOOKUP(Worksheet!A363,MeasureCode_Lookup,6,FALSE),\"\")","v":""},{"$f":"Worksheet!H363","v":0},{"$f":"Worksheet!I363","v":0},{"$f":"IFERROR(IF(Worksheet!Z363=0,Worksheet!Y363/I341,Worksheet!Z363/R341),0)","v":0},"W Controlled",null,null,{"$f":"IF(N(Worksheet!S363)=0,N(Worksheet!R363),N(Worksheet!S363))","v":0},{"$f":"IFERROR(Worksheet!W363/(Worksheet!R363+Worksheet!U363),0)","v":0},{"$f":"Worksheet!AE363","v":0},{"$f":"Worksheet!AD363","v":0},0,{"$f":"IF(Worksheet!AL363=0,0,Worksheet!AL363/I341)","v":0},0,null,null,null,{"$f":"IFERROR(Worksheet!X363/(Worksheet!S363+Worksheet!V363),0)","v":0},{"$f":"IF(Worksheet!E363=\"\",\"\",Worksheet!E363)","v":""},{"$f":"IF(Worksheet!B363=\"\",\"\",Worksheet!B363)","v":""},{"$f":"IF(Worksheet!D363=\"\",\"\",Worksheet!D363)","v":""},{"$f":"IF(Worksheet!$A$11=TRUE,\"Y\",\"N\")","v":"N"},{"$f":"IF(Worksheet!$A$12=TRUE,\"Y\",\"N\")","v":"N"},{"$f":"IF(Worksheet!$B$11=TRUE,\"Y\",\"N\")","v":"N"},{"$f":"IF(Worksheet!$B$12=TRUE,\"Y\",\"N\")","v":"N"},{"$f":"IF(Worksheet!$C$11=TRUE,\"Y\",\"N\")","v":"N"},{"$f":"IFERROR(IF(N(Worksheet!V363)=0,Worksheet!U363,Worksheet!V363),\"\")","v":0}]
[{"$f":"IF(ISBLANK(Worksheet!F364)=FALSE,VLOOKUP(Worksheet!A364,MeasureCode_Lookup,6,FALSE),\"\")","v":""},{"$f":"Worksheet!H364","v":0},{"$f":"Worksheet!I364","v":0},{"$f":"IFERROR(IF(Worksheet!Z364=0,Worksheet!Y364/I342,Worksheet!Z364/R342),0)","v":0},"W Controlled",null,null,{"$f":"IF(N(Worksheet!S364)=0,N(Worksheet!R364),N(Worksheet!S364))","v":0},{"$f":"IFERROR(Worksheet!W364/(Worksheet!R364+Worksheet!U364),0)","v":0},{"$f":"Worksheet!AE364","v":0},{"$f":"Worksheet!AD364","v":0},0,{"$f":"IF(Worksheet!AL364=0,0,Worksheet!AL364/I342)","v":0},0,null,null,null,{"$f":"IFERROR(Worksheet!X364/(Worksheet!S364+Worksheet!V364),0)","v":0},{"$f":"IF(Worksheet!E364=\"\",\"\",Worksheet!E364)","v":""},{"$f":"IF(Worksheet!B364=\"\",\"\",Worksheet!B364)","v":""},{"$f":"IF(Worksheet!D364=\"\",\"\",Worksheet!D364)","v":""},{"$f":"IF(Worksheet!$A$11=TRUE,\"Y\",\"N\")","v":"N"},{"$f":"IF(Worksheet!$A$12=TRUE,\"Y\",\"N\")","v":"N"},{"$f":"IF(Worksheet!$B$11=TRUE,\"Y\",\"N\")","v":"N"},{"$f":"IF(Worksheet!$B$12=TRUE,\"Y\",\"N\")","v":"N"},{"$f":"IF(Worksheet!$C$11=TRUE,\"Y\",\"N\")","v":"N"},{"$f":"IFERROR(IF(N(Worksheet!V364)=0,Worksheet!U364,Worksheet!V364),\"\")","v":0}]
[{"$f":"IF(ISBLANK(Worksheet!F365)=FALSE,VLOOKUP(Worksheet!A365,MeasureCode_Lookup,6,FALSE),\"\")","v":""},{"$f":"Worksheet!H365","v":0},{"$f":"Worksheet!I365","v":0},{"$f":"IFERROR(IF(Worksheet!Z365=0,Worksheet!Y365/I343,Worksheet!Z365/R343),0)","v":0},"W Controlled",null,null,{"$f":"IF(N(Worksheet!S365)=0,N(Worksheet!R365),N(Worksheet!S365))","v":0},{"$f":"IFERROR(Worksheet!W365/(Worksheet!R365+Worksheet!U365),0)","v":0},{"$f":"Worksheet!AE365","v":0},{"$f":"Worksheet!AD365","v":0},0,{"$f":"IF(Worksheet!AL365=0,0,Worksheet!AL365/I343)","v":0},0,null,null,null,{"$f":"IFERROR(Worksheet!X365/(Worksheet!S365+Worksheet!V365),0)","v":0},{"$f":"IF(Worksheet!E365=\"\",\"\",Worksheet!E365)","v":""},{"$f":"IF(Worksheet!B365=\"\",\"\",Worksheet!B365)","v":""},{"$f":"IF(Worksheet!D365=\"\",\"\",Worksheet!D365)","v":""},{"$f":"IF(Worksheet!$A$11=TRUE,\"Y\",\"N\")","v":"N"},{"$f":"IF(Worksheet!$A$12=TRUE,\"Y\",\"N\")","v":"N"},{"$f":"IF(Worksheet!$B$11=TRUE,\"Y\",\"N\")","v":"N"},{"$f":"IF(Worksheet!$B$12=TRUE,\"Y\",\"N\")","v":"N"},{"$f":"IF(Worksheet!$C$11=TRUE,\"Y\",\"N\")","v":"N"},{"$f":"IFERROR(IF(N(Worksheet!V365)=0,Worksheet!U365,Worksheet!V365),\"\")","v":0}]
[{"$f":"IF(ISBLANK(Worksheet!F366)=FALSE,VLOOKUP(Worksheet!A366,MeasureCode_Lookup,6,FALSE),\"\")","v":""},{"$f":"Worksheet!H366","v":0},{"$f":"Worksheet!I366","v":0},{"$f":"IFERROR(IF(Worksheet!Z366=0,Worksheet!Y366/I344,Worksheet!Z366/R344),0)","v":0},"W Controlled",null,null,{"$f":"IF(N(Worksheet!S366)=0,N(Worksheet!R366),N(Worksheet!S366))","v":0},{"$f":"IFERROR(Worksheet!W366/(Worksheet!R366+Worksheet!U366),0)","v":0},{"$f":"Worksheet!AE366","v":0},{"$f":"Worksheet!AD366","v":0},0,{"$f":"IF(Worksheet!AL366=0,0,Worksheet!AL366/I344)","v":0},0,null,null,null,{"$f":"IFERROR(Worksheet!X366/(Worksheet!S366+Worksheet!V366),0)","v":0},{"$f":"IF(Worksheet!E366=\"\",\"\",Worksheet!E366)","v":""},{"$f":"IF(Worksheet!B366=\"\",\"\",Worksheet!B366)","v":""},{"$f":"IF(Worksheet!D366=\"\",\"\",Worksheet!D366)","v":""},{"$f":"IF(Worksheet!$A$11=TRUE,\"Y\",\"N\")","v":"N"},{"$f":"IF(Worksheet!$A$12=TRUE,\"Y\",\"N\")","v":"N"},{"$f":"IF(Worksheet!$B$11=TRUE,\"Y\",\"N\")","v":"N"},{"$f":"IF(Worksheet!$B$12=TRUE,\"Y\",\"N\")","v":"N"},{"$f":"IF(Worksheet!$C$11=TRUE,\"Y\",\"N\")","v":"N"},{"$f":"IFERROR(IF(N(Worksheet!V366)=0,Worksheet!U366,Worksheet!V366),\"\")","v":0}]
[{"$f":"IF(ISBLANK(Worksheet!F367)=FALSE,VLOOKUP(Worksheet!A367,MeasureCode_Lookup,6,FALSE),\"\")","v":""},{"$f":"Worksheet!H367","v":0},{"$f":"Worksheet!I367","v":0},{"$f":"IFERROR(IF(Worksheet!Z367=0,Worksheet!Y367/I345,Worksheet!Z367/R345),0)","v":0},"W Controlled",null,null,{"$f":"IF(N(Worksheet!S367)=0,N(Worksheet!R367),N(Worksheet!S367))","v":0},{"$f":"IFERROR(Worksheet!W367/(Worksheet!R367+Worksheet!U367),0)","v":0},{"$f":"Worksheet!AE367","v":0},{"$f":"Worksheet!AD367","v":0},0,{"$f":"IF(Worksheet!AL367=0,0,Worksheet!AL367/I345)","v":0},0,null,null,null,{"$f":"IFERROR(Worksheet!X367/(Worksheet!S367+Worksheet!V367),0)","v":0},{"$f":"IF(Worksheet!E367=\"\",\"\",Worksheet!E367)","v":""},{"$f":"IF(Worksheet!B367=\"\",\"\",Worksheet!B367)","v":""},{"$f":"IF(Worksheet!D367=\"\",\"\",Worksheet!D367)","v":""},{"$f":"IF(Worksheet!$A$11=TRUE,\"Y\",\"N\")","v":"N"},{"$f":"IF(Worksheet!$A$12=TRUE,\"Y\",\"N\")","v":"N"},{"$f":"IF(Worksheet!$B$11=TRUE,\"Y\",\"N\")","v":"N"},{"$f":"IF(Worksheet!$B$12=TRUE,\"Y\",\"N\")","v":"N"},{"$f":"IF(Worksheet!$C$11=TRUE,\"Y\",\"N\")","v":"N"},{"$f":"IFERROR(IF(N(Worksheet!V367)=0,Worksheet!U367,Worksheet!V367),\"\")","v":0}]
[{"$f":"IF(ISBLANK(Worksheet!F368)=FALSE,VLOOKUP(Worksheet!A368,MeasureCode_Lookup,6,FALSE),\"\")","v":""},{"$f":"Worksheet!H368","v":0},{"$f":"Worksheet!I368","v":0},{"$f":"IFERROR(IF(Worksheet!Z368=0,Worksheet!Y368/I346,Worksheet!Z368/R346),0)","v":0},"W Controlled",null,null,{"$f":"IF(N(Worksheet!S368)=0,N(Worksheet!R368),N(Worksheet!S368))","v":0},{"$f":"IFERROR(Worksheet!W368/(Worksheet!R368+Worksheet!U368),0)","v":0},{"$f":"Worksheet!AE368","v":0},{"$f":"Worksheet!AD368","v":0},0,{"$f":"IF(Worksheet!AL368=0,0,Worksheet!AL368/I346)","v":0},0,null,null,null,{"$f":"IFERROR(Worksheet!X368/(Worksheet!S368+Worksheet!V368),0)","v":0},{"$f":"IF(Worksheet!E368=\"\",\"\",Worksheet!E368)","v":""},{"$f":"IF(Worksheet!B368=\"\",\"\",Worksheet!B368)","v":""},{"$f":"IF(Worksheet!D368=\"\",\"\",Worksheet!D368)","v":""},{"$f":"IF(Worksheet!$A$11=TRUE,\"Y\",\"N\")","v":"N"},{"$f":"IF(Worksheet!$A$12=TRUE,\"Y\",\"N\")","v":"N"},{"$f":"IF(Worksheet!$B$11=TRUE,\"Y\",\"N\")","v":"N"},{"$f":"IF(Worksheet!$B$12=TRUE,\"Y\",\"N\")","v":"N"},{"$f":"IF(Worksheet!$C$11=TRUE,\"Y\",\"N\")","v":"N"},{"$f":"IFERROR(IF(N(Worksheet!V368)=0,Worksheet!U368,Worksheet!V368),\"\")","v":0}]
[{"$f":"IF(ISBLANK(Worksheet!F369)=FALSE,VLOOKUP(Worksheet!A369,MeasureCode_Lookup,6,FALSE),\"\")","v":""},{"$f":"Worksheet!H369","v":0},{"$f":"Worksheet!I369","v":0},{"$f":"IFERROR(IF(Worksheet!Z369=0,Worksheet!Y369/I347,Worksheet!Z369/R347),0)","v":0},"W Controlled",null,null,{"$f":"IF(N(Worksheet!S369)=0,N(Worksheet!R369),N(Worksheet!S369))","v":0},{"$f":"IFERROR(Worksheet!W369/(Worksheet!R369+Worksheet!U369),0)","v":0},{"$f":"Worksheet!AE369","v":0},{"$f":"Worksheet!AD369","v":0},0,{"$f":"IF(Worksheet!AL369=0,0,Worksheet!AL369/I347)","v":0},0,null,null,null,{"$f":"IFERROR(Worksheet!X369/(Worksheet!S369+Worksheet!V369),0)","v":0},{"$f":"IF(Worksheet!E369=\"\",\"\",Worksheet!E369)","v":""},{"$f":"IF(Worksheet!B369=\"\",\"\",Worksheet!B369)","v":""},{"$f":"IF(Worksheet!D369=\"\",\"\",Worksheet!D369)","v":""},{"$f":"IF(Worksheet!$A$11=TRUE,\"Y\",\"N\")","v":"N"},{"$f":"IF(Worksheet!$A$12=TRUE,\"Y\",\"N\")","v":"N"},{"$f":"IF(Worksheet!$B$11=TRUE,\"Y\",\"N\")","v":"N"},{"$f":"IF(Worksheet!$B$12=TRUE,\"Y\",\"N\")","v":"N"},{"$f":"IF(Worksheet!$C$11=TRUE,\"Y\",\"N\")","v":"N"},{"$f":"IFERROR(IF(N(Worksheet!V369)=0,Worksheet!U369,Worksheet!V369),\"\")","v":0}]
[{"$f":"IF(ISBLANK(Worksheet!F370)=FALSE,VLOOKUP(Worksheet!A370,MeasureCode_Lookup,6,FALSE),\"\")","v":""},{"$f":"Worksheet!H370","v":0},{"$f":"Worksheet!I370","v":0},{"$f":"IFERROR(IF(Worksheet!Z370=0,Worksheet!Y370/I348,Worksheet!Z370/R348),0)","v":0},"W Controlled",null,null,{"$f":"IF(N(Worksheet!S370)=0,N(Worksheet!R370),N(Worksheet!S370))","v":0},{"$f":"IFERROR(Worksheet!W370/(Worksheet!R370+Worksheet!U370),0)","v":0},{"$f":"Worksheet!AE370","v":0},{"$f":"Worksheet!AD370","v":0},0,{"$f":"IF(Worksheet!AL370=0,0,Worksheet!AL370/I348)","v":0},0,null,null,null,{"$f":"IFERROR(Worksheet!X370/(Worksheet!S370+Worksheet!V370),0)","v":0},{"$f":"IF(Worksheet!E370=\"\",\"\",Worksheet!E370)","v":""},{"$f":"IF(Worksheet!B370=\"\",\"\",Worksheet!B370)","v":""},{"$f":"IF(Worksheet!D370=\"\",\"\",Worksheet!D370)","v":""},{"$f":"IF(Worksheet!$A$11=TRUE,\"Y\",\"N\")","v":"N"},{"$f":"IF(Worksheet!$A$12=TRUE,\"Y\",\"N\")","v":"N"},{"$f":"IF(Worksheet!$B$11=TRUE,\"Y\",\"N\")","v":"N"},{"$f":"IF(Worksheet!$B$12=TRUE,\"Y\",\"N\")","v":"N"},{"$f":"IF(Worksheet!$C$11=TRUE,\"Y\",\"N\")","v":"N"},{"$f":"IFERROR(IF(N(Worksheet!V370)=0,Worksheet!U370,Worksheet!V370),\"\")","v":0}]
[{"$f":"IF(ISBLANK(Worksheet!F371)=FALSE,VLOOKUP(Worksheet!A371,MeasureCode_Lookup,6,FALSE),\"\")","v":""},{"$f":"Worksheet!H371","v":0},{"$f":"Worksheet!I371","v":0},{"$f":"IFERROR(IF(Worksheet!Z371=0,Worksheet!Y371/I349,Worksheet!Z371/R349),0)","v":0},"W Controlled",null,null,{"$f":"IF(N(Worksheet!S371)=0,N(Worksheet!R371),N(Worksheet!S371))","v":0},{"$f":"IFERROR(Worksheet!W371/(Worksheet!R371+Worksheet!U371),0)","v":0},{"$f":"Worksheet!AE371","v":0},{"$f":"Worksheet!AD371","v":0},0,{"$f":"IF(Worksheet!AL371=0,0,Worksheet!AL371/I349)","v":0},0,null,null,null,{"$f":"IFERROR(Worksheet!X371/(Worksheet!S371+Worksheet!V371),0)","v":0},{"$f":"IF(Worksheet!E371=\"\",\"\",Worksheet!E371)","v":""},{"$f":"IF(Worksheet!B371=\"\",\"\",Worksheet!B371)","v":""},{"$f":"IF(Worksheet!D371=\"\",\"\",Worksheet!D371)","v":""},{"$f":"IF(Worksheet!$A$11=TRUE,\"Y\",\"N\")","v":"N"},{"$f":"IF(Worksheet!$A$12=TRUE,\"Y\",\"N\")","v":"N"},{"$f":"IF(Worksheet!$B$11=TRUE,\"Y\",\"N\")","v":"N"},{"$f":"IF(Worksheet!$B$12=TRUE,\"Y\",\"N\")","v":"N"},{"$f":"IF(Worksheet!$C$11=TRUE,\"Y\",\"N\")","v":"N"},{"$f":"IFERROR(IF(N(Worksheet!V371)=0,Worksheet!U371,Worksheet!V371),\"\")","v":0}]
[{"$f":"IF(ISBLANK(Worksheet!F372)=FALSE,VLOOKUP(Worksheet!A372,MeasureCode_Lookup,6,FALSE),\"\")","v":""},{"$f":"Worksheet!H372","v":0},{"$f":"Worksheet!I372","v":0},{"$f":"IFERROR(IF(Worksheet!Z372=0,Worksheet!Y372/I350,Worksheet!Z372/R350),0)","v":0},"W Controlled",null,null,{"$f":"IF(N(Worksheet!S372)=0,N(Worksheet!R372),N(Worksheet!S372))","v":0},{"$f":"IFERROR(Worksheet!W372/(Worksheet!R372+Worksheet!U372),0)","v":0},{"$f":"Worksheet!AE372","v":0},{"$f":"Worksheet!AD372","v":0},0,{"$f":"IF(Worksheet!AL372=0,0,Worksheet!AL372/I350)","v":0},0,null,null,null,{"$f":"IFERROR(Worksheet!X372/(Worksheet!S372+Worksheet!V372),0)","v":0},{"$f":"IF(Worksheet!E372=\"\",\"\",Worksheet!E372)","v":""},{"$f":"IF(Worksheet!B372=\"\",\"\",Worksheet!B372)","v":""},{"$f":"IF(Worksheet!D372=\"\",\"\",Worksheet!D372)","v":""},{"$f":"IF(Worksheet!$A$11=TRUE,\"Y\",\"N\")","v":"N"},{"$f":"IF(Worksheet!$A$12=TRUE,\"Y\",\"N\")","v":"N"},{"$f":"IF(Worksheet!$B$11=TRUE,\"Y\",\"N\")","v":"N"},{"$f":"IF(Worksheet!$B$12=TRUE,\"Y\",\"N\")","v":"N"},{"$f":"IF(Worksheet!$C$11=TRUE,\"Y\",\"N\")","v":"N"},{"$f":"IFERROR(IF(N(Worksheet!V372)=0,Worksheet!U372,Worksheet!V372),\"\")","v":0}]
[{"$f":"IF(ISBLANK(Worksheet!F373)=FALSE,VLOOKUP(Worksheet!A373,MeasureCode_Lookup,6,FALSE),\"\")","v":""},{"$f":"Worksheet!H373","v":0},{"$f":"Worksheet!I373","v":0},{"$f":"IFERROR(IF(Worksheet!Z373=0,Worksheet!Y373/I351,Worksheet!Z373/R351),0)","v":0},"W Controlled",null,null,{"$f":"IF(N(Worksheet!S373)=0,N(Worksheet!R373),N(Worksheet!S373))","v":0},{"$f":"IFERROR(Worksheet!W373/(Worksheet!R373+Worksheet!U373),0)","v":0},{"$f":"Worksheet!AE373","v":0},{"$f":"Worksheet!AD373","v":0},0,{"$f":"IF(Worksheet!AL373=0,0,Worksheet!AL373/I351)","v":0},0,null,null,null,{"$f":"IFERROR(Worksheet!X373/(Worksheet!S373+Worksheet!V373),0)","v":0},{"$f":"IF(Worksheet!E373=\"\",\"\",Worksheet!E373)","v":""},{"$f":"IF(Worksheet!B373=\"\",\"\",Worksheet!B373)","v":""},{"$f":"IF(Worksheet!D373=\"\",\"\",Worksheet!D373)","v":""},{"$f":"IF(Worksheet!$A$11=TRUE,\"Y\",\"N\")","v":"N"},{"$f":"IF(Worksheet!$A$12=TRUE,\"Y\",\"N\")","v":"N"},{"$f":"IF(Worksheet!$B$11=TRUE,\"Y\",\"N\")","v":"N"},{"$f":"IF(Worksheet!$B$12=TRUE,\"Y\",\"N\")","v":"N"},{"$f":"IF(Worksheet!$C$11=TRUE,\"Y\",\"N\")","v":"N"},{"$f":"IFERROR(IF(N(Worksheet!V373)=0,Worksheet!U373,Worksheet!V373),\"\")","v":0}]
[{"$f":"IF(ISBLANK(Worksheet!F374)=FALSE,VLOOKUP(Worksheet!A374,MeasureCode_Lookup,6,FALSE),\"\")","v":""},{"$f":"Worksheet!H374","v":0},{"$f":"Worksheet!I374","v":0},{"$f":"IFERROR(IF(Worksheet!Z374=0,Worksheet!Y374/I352,Worksheet!Z374/R352),0)","v":0},"W Controlled",null,null,{"$f":"IF(N(Worksheet!S374)=0,N(Worksheet!R374),N(Worksheet!S374))","v":0},{"$f":"IFERROR(Worksheet!W374/(Worksheet!R374+Worksheet!U374),0)","v":0},{"$f":"Worksheet!AE374","v":0},{"$f":"Worksheet!AD374","v":0},0,{"$f":"IF(Worksheet!AL374=0,0,Worksheet!AL374/I352)","v":0},0,null,null,null,{"$f":"IFERROR(Worksheet!X374/(Worksheet!S374+Worksheet!V374),0)","v":0},{"$f":"IF(Worksheet!E374=\"\",\"\",Worksheet!E374)","v":""},{"$f":"IF(Worksheet!B374=\"\",\"\",Worksheet!B374)","v":""},{"$f":"IF(Worksheet!D374=\"\",\"\",Worksheet!D374)","v":""},{"$f":"IF(Worksheet!$A$11=TRUE,\"Y\",\"N\")","v":"N"},{"$f":"IF(Worksheet!$A$12=TRUE,\"Y\",\"N\")","v":"N"},{"$f":"IF(Worksheet!$B$11=TRUE,\"Y\",\"N\")","v":"N"},{"$f":"IF(Worksheet!$B$12=TRUE,\"Y\",\"N\")","v":"N"},{"$f":"IF(Worksheet!$C$11=TRUE,\"Y\",\"N\")","v":"N"},{"$f":"IFERROR(IF(N(Worksheet!V374)=0,Worksheet!U374,Worksheet!V374),\"\")","v":0}]
[{"$f":"IF(ISBLANK(Worksheet!F375)=FALSE,VLOOKUP(Worksheet!A375,MeasureCode_Lookup,6,FALSE),\"\")","v":""},{"$f":"Worksheet!H375","v":0},{"$f":"Worksheet!I375","v":0},{"$f":"IFERROR(IF(Worksheet!Z375=0,Worksheet!Y375/I353,Worksheet!Z375/R353),0)","v":0},"W Controlled",null,null,{"$f":"IF(N(Worksheet!S375)=0,N(Worksheet!R375),N(Worksheet!S375))","v":0},{"$f":"IFERROR(Worksheet!W375/(Worksheet!R375+Worksheet!U375),0)","v":0},{"$f":"Worksheet!AE375","v":0},{"$f":"Worksheet!AD375","v":0},0,{"$f":"IF(Worksheet!AL375=0,0,Worksheet!AL375/I353)","v":0},0,null,null,null,{"$f":"IFERROR(Worksheet!X375/(Worksheet!S375+Worksheet!V375),0)","v":0},{"$f":"IF(Worksheet!E375=\"\",\"\",Worksheet!E375)","v":""},{"$f":"IF(Worksheet!B375=\"\",\"\",Worksheet!B375)","v":""},{"$f":"IF(Worksheet!D375=\"\",\"\",Worksheet!D375)","v":""},{"$f":"IF(Worksheet!$A$11=TRUE,\"Y\",\"N\")","v":"N"},{"$f":"IF(Worksheet!$A$12=TRUE,\"Y\",\"N\")","v":"N"},{"$f":"IF(Worksheet!$B$11=TRUE,\"Y\",\"N\")","v":"N"},{"$f":"IF(Worksheet!$B$12=TRUE,\"Y\",\"N\")","v":"N"},{"$f":"IF(Worksheet!$C$11=TRUE,\"Y\",\"N\")","v":"N"},{"$f":"IFERROR(IF(N(Worksheet!V375)=0,Worksheet!U375,Worksheet!V375),\"\")","v":0}]
[{"$f":"IF(ISBLANK(Worksheet!F376)=FALSE,VLOOKUP(Worksheet!A376,MeasureCode_Lookup,6,FALSE),\"\")","v":""},{"$f":"Worksheet!H376","v":0},{"$f":"Worksheet!I376","v":0},{"$f":"IFERROR(IF(Worksheet!Z376=0,Worksheet!Y376/I354,Worksheet!Z376/R354),0)","v":0},"W Controlled",null,null,{"$f":"IF(N(Worksheet!S376)=0,N(Worksheet!R376),N(Worksheet!S376))","v":0},{"$f":"IFERROR(Worksheet!W376/(Worksheet!R376+Worksheet!U376),0)","v":0},{"$f":"Worksheet!AE376","v":0},{"$f":"Worksheet!AD376","v":0},0,{"$f":"IF(Worksheet!AL376=0,0,Worksheet!AL376/I354)","v":0},0,null,null,null,{"$f":"IFERROR(Worksheet!X376/(Worksheet!S376+Worksheet!V376),0)","v":0},{"$f":"IF(Worksheet!E376=\"\",\"\",Worksheet!E376)","v":""},{"$f":"IF(Worksheet!B376=\"\",\"\",Worksheet!B376)","v":""},{"$f":"IF(Worksheet!D376=\"\",\"\",Worksheet!D376)","v":""},{"$f":"IF(Worksheet!$A$11=TRUE,\"Y\",\"N\")","v":"N"},{"$f":"IF(Worksheet!$A$12=TRUE,\"Y\",\"N\")","v":"N"},{"$f":"IF(Worksheet!$B$11=TRUE,\"Y\",\"N\")","v":"N"},{"$f":"IF(Worksheet!$B$12=TRUE,\"Y\",\"N\")","v":"N"},{"$f":"IF(Worksheet!$C$11=TRUE,\"Y\",\"N\")","v":"N"},{"$f":"IFERROR(IF(N(Worksheet!V376)=0,Worksheet!U376,Worksheet!V376),\"\")","v":0}]
[{"$f":"IF(ISBLANK(Worksheet!F377)=FALSE,VLOOKUP(Worksheet!A377,MeasureCode_Lookup,6,FALSE),\"\")","v":""},{"$f":"Worksheet!H377","v":0},{"$f":"Worksheet!I377","v":0},{"$f":"IFERROR(IF(Worksheet!Z377=0,Worksheet!Y377/I355,Worksheet!Z377/R355),0)","v":0},"W Controlled",null,null,{"$f":"IF(N(Worksheet!S377)=0,N(Worksheet!R377),N(Worksheet!S377))","v":0},{"$f":"IFERROR(Worksheet!W377/(Worksheet!R377+Worksheet!U377),0)","v":0},{"$f":"Worksheet!AE377","v":0},{"$f":"Worksheet!AD377","v":0},0,{"$f":"IF(Worksheet!AL377=0,0,Worksheet!AL377/I355)","v":0},0,null,null,null,{"$f":"IFERROR(Worksheet!X377/(Worksheet!S377+Worksheet!V377),0)","v":0},{"$f":"IF(Worksheet!E377=\"\",\"\",Worksheet!E377)","v":""},{"$f":"IF(Worksheet!B377=\"\",\"\",Worksheet!B377)","v":""},{"$f":"IF(Worksheet!D377=\"\",\"\",Worksheet!D377)","v":""},{"$f":"IF(Worksheet!$A$11=TRUE,\"Y\",\"N\")","v":"N"},{"$f":"IF(Worksheet!$A$12=TRUE,\"Y\",\"N\")","v":"N"},{"$f":"IF(Worksheet!$B$11=TRUE,\"Y\",\"N\")","v":"N"},{"$f":"IF(Worksheet!$B$12=TRUE,\"Y\",\"N\")","v":"N"},{"$f":"IF(Worksheet!$C$11=TRUE,\"Y\",\"N\")","v":"N"},{"$f":"IFERROR(IF(N(Worksheet!V377)=0,Worksheet!U377,Worksheet!V377),\"\")","v":0}]
[{"$f":"IF(ISBLANK(Worksheet!F378)=FALSE,VLOOKUP(Worksheet!A378,MeasureCode_Lookup,6,FALSE),\"\")","v":""},{"$f":"Worksheet!H378","v":0},{"$f":"Worksheet!I378","v":0},{"$f":"IFERROR(IF(Worksheet!Z378=0,Worksheet!Y378/I356,Worksheet!Z378/R356),0)","v":0},"W Controlled",null,null,{"$f":"IF(N(Worksheet!S378)=0,N(Worksheet!R378),N(Worksheet!S378))","v":0},{"$f":"IFERROR(Worksheet!W378/(Worksheet!R378+Worksheet!U378),0)","v":0},{"$f":"Worksheet!AE378","v":0},{"$f":"Worksheet!AD378","v":0},0,{"$f":"IF(Worksheet!AL378=0,0,Worksheet!AL378/I356)","v":0},0,null,null,null,{"$f":"IFERROR(Worksheet!X378/(Worksheet!S378+Worksheet!V378),0)","v":0},{"$f":"IF(Worksheet!E378=\"\",\"\",Worksheet!E378)","v":""},{"$f":"IF(Worksheet!B378=\"\",\"\",Worksheet!B378)","v":""},{"$f":"IF(Worksheet!D378=\"\",\"\",Worksheet!D378)","v":""},{"$f":"IF(Worksheet!$A$11=TRUE,\"Y\",\"N\")","v":"N"},{"$f":"IF(Worksheet!$A$12=TRUE,\"Y\",\"N\")","v":"N"},{"$f":"IF(Worksheet!$B$11=TRUE,\"Y\",\"N\")","v":"N"},{"$f":"IF(Worksheet!$B$12=TRUE,\"Y\",\"N\")","v":"N"},{"$f":"IF(Worksheet!$C$11=TRUE,\"Y\",\"N\")","v":"N"},{"$f":"IFERROR(IF(N(Worksheet!V378)=0,Worksheet!U378,Worksheet!V378),\"\")","v":0}]
[{"$f":"IF(ISBLANK(Worksheet!F379)=FALSE,VLOOKUP(Worksheet!A379,MeasureCode_Lookup,6,FALSE),\"\")","v":""},{"$f":"Worksheet!H379","v":0},{"$f":"Worksheet!I379","v":0},{"$f":"IFERROR(IF(Worksheet!Z379=0,Worksheet!Y379/I357,Worksheet!Z379/R357),0)","v":0},"W Controlled",null,null,{"$f":"IF(N(Worksheet!S379)=0,N(Worksheet!R379),N(Worksheet!S379))","v":0},{"$f":"IFERROR(Worksheet!W379/(Worksheet!R379+Worksheet!U379),0)","v":0},{"$f":"Worksheet!AE379","v":0},{"$f":"Worksheet!AD379","v":0},0,{"$f":"IF(Worksheet!AL379=0,0,Worksheet!AL379/I357)","v":0},0,null,null,null,{"$f":"IFERROR(Worksheet!X379/(Worksheet!S379+Worksheet!V379),0)","v":0},{"$f":"IF(Worksheet!E379=\"\",\"\",Worksheet!E379)","v":""},{"$f":"IF(Worksheet!B379=\"\",\"\",Worksheet!B379)","v":""},{"$f":"IF(Worksheet!D379=\"\",\"\",Worksheet!D379)","v":""},{"$f":"IF(Worksheet!$A$11=TRUE,\"Y\",\"N\")","v":"N"},{"$f":"IF(Worksheet!$A$12=TRUE,\"Y\",\"N\")","v":"N"},{"$f":"IF(Worksheet!$B$11=TRUE,\"Y\",\"N\")","v":"N"},{"$f":"IF(Worksheet!$B$12=TRUE,\"Y\",\"N\")","v":"N"},{"$f":"IF(Worksheet!$C$11=TRUE,\"Y\",\"N\")","v":"N"},{"$f":"IFERROR(IF(N(Worksheet!V379)=0,Worksheet!U379,Worksheet!V379),\"\")","v":0}]
[{"$f":"IF(ISBLANK(Worksheet!F380)=FALSE,VLOOKUP(Worksheet!A380,MeasureCode_Lookup,6,FALSE),\"\")","v":""},{"$f":"Worksheet!H380","v":0},{"$f":"Worksheet!I380","v":0},{"$f":"IFERROR(IF(Worksheet!Z380=0,Worksheet!Y380/I358,Worksheet!Z380/R358),0)","v":0},"W Controlled",null,null,{"$f":"IF(N(Worksheet!S380)=0,N(Worksheet!R380),N(Worksheet!S380))","v":0},{"$f":"IFERROR(Worksheet!W380/(Worksheet!R380+Worksheet!U380),0)","v":0},{"$f":"Worksheet!AE380","v":0},{"$f":"Worksheet!AD380","v":0},0,{"$f":"IF(Worksheet!AL380=0,0,Worksheet!AL380/I358)","v":0},0,null,null,null,{"$f":"IFERROR(Worksheet!X380/(Worksheet!S380+Worksheet!V380),0)","v":0},{"$f":"IF(Worksheet!E380=\"\",\"\",Worksheet!E380)","v":""},{"$f":"IF(Worksheet!B380=\"\",\"\",Worksheet!B380)","v":""},{"$f":"IF(Worksheet!D380=\"\",\"\",Worksheet!D380)","v":""},{"$f":"IF(Worksheet!$A$11=TRUE,\"Y\",\"N\")","v":"N"},{"$f":"IF(Worksheet!$A$12=TRUE,\"Y\",\"N\")","v":"N"},{"$f":"IF(Worksheet!$B$11=TRUE,\"Y\",\"N\")","v":"N"},{"$f":"IF(Worksheet!$B$12=TRUE,\"Y\",\"N\")","v":"N"},{"$f":"IF(Worksheet!$C$11=TRUE,\"Y\",\"N\")","v":"N"},{"$f":"IFERROR(IF(N(Worksheet!V380)=0,Worksheet!U380,Worksheet!V380),\"\")","v":0}]
[{"$f":"IF(ISBLANK(Worksheet!F381)=FALSE,VLOOKUP(Worksheet!A381,MeasureCode_Lookup,6,FALSE),\"\")","v":""},{"$f":"Worksheet!H381","v":0},{"$f":"Worksheet!I381","v":0},{"$f":"IFERROR(IF(Worksheet!Z381=0,Worksheet!Y381/I359,Worksheet!Z381/R359),0)","v":0},"W Controlled",null,null,{"$f":"IF(N(Worksheet!S381)=0,N(Worksheet!R381),N(Worksheet!S381))","v":0},{"$f":"IFERROR(Worksheet!W381/(Worksheet!R381+Worksheet!U381),0)","v":0},{"$f":"Worksheet!AE381","v":0},{"$f":"Worksheet!AD381","v":0},0,{"$f":"IF(Worksheet!AL381=0,0,Worksheet!AL381/I359)","v":0},0,null,null,null,{"$f":"IFERROR(Worksheet!X381/(Worksheet!S381+Worksheet!V381),0)","v":0},{"$f":"IF(Worksheet!E381=\"\",\"\",Worksheet!E381)","v":""},{"$f":"IF(Worksheet!B381=\"\",\"\",Worksheet!B381)","v":""},{"$f":"IF(Worksheet!D381=\"\",\"\",Worksheet!D381)","v":""},{"$f":"IF(Worksheet!$A$11=TRUE,\"Y\",\"N\")","v":"N"},{"$f":"IF(Worksheet!$A$12=TRUE,\"Y\",\"N\")","v":"N"},{"$f":"IF(Worksheet!$B$11=TRUE,\"Y\",\"N\")","v":"N"},{"$f":"IF(Worksheet!$B$12=TRUE,\"Y\",\"N\")","v":"N"},{"$f":"IF(Worksheet!$C$11=TRUE,\"Y\",\"N\")","v":"N"},{"$f":"IFERROR(IF(N(Worksheet!V381)=0,Worksheet!U381,Worksheet!V381),\"\")","v":0}]
[{"$f":"IF(ISBLANK(Worksheet!F382)=FALSE,VLOOKUP(Worksheet!A382,MeasureCode_Lookup,6,FALSE),\"\")","v":""},{"$f":"Worksheet!H382","v":0},{"$f":"Worksheet!I382","v":0},{"$f":"IFERROR(IF(Worksheet!Z382=0,Worksheet!Y382/I360,Worksheet!Z382/R360),0)","v":0},"W Controlled",null,null,{"$f":"IF(N(Worksheet!S382)=0,N(Worksheet!R382),N(Worksheet!S382))","v":0},{"$f":"IFERROR(Worksheet!W382/(Worksheet!R382+Worksheet!U382),0)","v":0},{"$f":"Worksheet!AE382","v":0},{"$f":"Worksheet!AD382","v":0},0,{"$f":"IF(Worksheet!AL382=0,0,Worksheet!AL382/I360)","v":0},0,null,null,null,{"$f":"IFERROR(Worksheet!X382/(Worksheet!S382+Worksheet!V382),0)","v":0},{"$f":"IF(Worksheet!E382=\"\",\"\",Worksheet!E382)","v":""},{"$f":"IF(Worksheet!B382=\"\",\"\",Worksheet!B382)","v":""},{"$f":"IF(Worksheet!D382=\"\",\"\",Worksheet!D382)","v":""},{"$f":"IF(Worksheet!$A$11=TRUE,\"Y\",\"N\")","v":"N"},{"$f":"IF(Worksheet!$A$12=TRUE,\"Y\",\"N\")","v":"N"},{"$f":"IF(Worksheet!$B$11=TRUE,\"Y\",\"N\")","v":"N"},{"$f":"IF(Worksheet!$B$12=TRUE,\"Y\",\"N\")","v":"N"},{"$f":"IF(Worksheet!$C$11=TRUE,\"Y\",\"N\")","v":"N"},{"$f":"IFERROR(IF(N(Worksheet!V382)=0,Worksheet!U382,Worksheet!V382),\"\")","v":0}]
[{"$f":"IF(ISBLANK(Worksheet!F383)=FALSE,VLOOKUP(Worksheet!A383,MeasureCode_Lookup,6,FALSE),\"\")","v":""},{"$f":"Worksheet!H383","v":0},{"$f":"Worksheet!I383","v":0},{"$f":"IFERROR(IF(Worksheet!Z383=0,Worksheet!Y383/I361,Worksheet!Z383/R361),0)","v":0},"W Controlled",null,null,{"$f":"IF(N(Worksheet!S383)=0,N(Worksheet!R383),N(Worksheet!S383))","v":0},{"$f":"IFERROR(Worksheet!W383/(Worksheet!R383+Worksheet!U383),0)","v":0},{"$f":"Worksheet!AE383","v":0},{"$f":"Worksheet!AD383","v":0},0,{"$f":"IF(Worksheet!AL383=0,0,Worksheet!AL383/I361)","v":0},0,null,null,null,{"$f":"IFERROR(Worksheet!X383/(Worksheet!S383+Worksheet!V383),0)","v":0},{"$f":"IF(Worksheet!E383=\"\",\"\",Worksheet!E383)","v":""},{"$f":"IF(Worksheet!B383=\"\",\"\",Worksheet!B383)","v":""},{"$f":"IF(Worksheet!D383=\"\",\"\",Worksheet!D383)","v":""},{"$f":"IF(Worksheet!$A$11=TRUE,\"Y\",\"N\")","v":"N"},{"$f":"IF(Worksheet!$A$12=TRUE,\"Y\",\"N\")","v":"N"},{"$f":"IF(Worksheet!$B$11=TRUE,\"Y\",\"N\")","v":"N"},{"$f":"IF(Worksheet!$B$12=TRUE,\"Y\",\"N\")","v":"N"},{"$f":"IF(Worksheet!$C$11=TRUE,\"Y\",\"N\")","v":"N"},{"$f":"IFERROR(IF(N(Worksheet!V383)=0,Worksheet!U383,Worksheet!V383),\"\")","v":0}]
[{"$f":"IF(ISBLANK(Worksheet!F384)=FALSE,VLOOKUP(Worksheet!A384,MeasureCode_Lookup,6,FALSE),\"\")","v":""},{"$f":"Worksheet!H384","v":0},{"$f":"Worksheet!I384","v":0},{"$f":"IFERROR(IF(Worksheet!Z384=0,Worksheet!Y384/I362,Worksheet!Z384/R362),0)","v":0},"W Controlled",null,null,{"$f":"IF(N(Worksheet!S384)=0,N(Worksheet!R384),N(Worksheet!S384))","v":0},{"$f":"IFERROR(Worksheet!W384/(Worksheet!R384+Worksheet!U384),0)","v":0},{"$f":"Worksheet!AE384","v":0},{"$f":"Worksheet!AD384","v":0},0,{"$f":"IF(Worksheet!AL384=0,0,Worksheet!AL384/I362)","v":0},0,null,null,null,{"$f":"IFERROR(Worksheet!X384/(Worksheet!S384+Worksheet!V384),0)","v":0},{"$f":"IF(Worksheet!E384=\"\",\"\",Worksheet!E384)","v":""},{"$f":"IF(Worksheet!B384=\"\",\"\",Worksheet!B384)","v":""},{"$f":"IF(Worksheet!D384=\"\",\"\",Worksheet!D384)","v":""},{"$f":"IF(Worksheet!$A$11=TRUE,\"Y\",\"N\")","v":"N"},{"$f":"IF(Worksheet!$A$12=TRUE,\"Y\",\"N\")","v":"N"},{"$f":"IF(Worksheet!$B$11=TRUE,\"Y\",\"N\")","v":"N"},{"$f":"IF(Worksheet!$B$12=TRUE,\"Y\",\"N\")","v":"N"},{"$f":"IF(Worksheet!$C$11=TRUE,\"Y\",\"N\")","v":"N"},{"$f":"IFERROR(IF(N(Worksheet!V384)=0,Worksheet!U384,Worksheet!V384),\"\")","v":0}]
[{"$f":"IF(ISBLANK(Worksheet!F385)=FALSE,VLOOKUP(Worksheet!A385,MeasureCode_Lookup,6,FALSE),\"\")","v":""},{"$f":"Worksheet!H385","v":0},{"$f":"Worksheet!I385","v":0},{"$f":"IFERROR(IF(Worksheet!Z385=0,Worksheet!Y385/I363,Worksheet!Z385/R363),0)","v":0},"W Controlled",null,null,{"$f":"IF(N(Worksheet!S385)=0,N(Worksheet!R385),N(Worksheet!S385))","v":0},{"$f":"IFERROR(Worksheet!W385/(Worksheet!R385+Worksheet!U385),0)","v":0},{"$f":"Worksheet!AE385","v":0},{"$f":"Worksheet!AD385","v":0},0,{"$f":"IF(Worksheet!AL385=0,0,Worksheet!AL385/I363)","v":0},0,null,null,null,{"$f":"IFERROR(Worksheet!X385/(Worksheet!S385+Worksheet!V385),0)","v":0},{"$f":"IF(Worksheet!E385=\"\",\"\",Worksheet!E385)","v":""},{"$f":"IF(Worksheet!B385=\"\",\"\",Worksheet!B385)","v":""},{"$f":"IF(Worksheet!D385=\"\",\"\",Worksheet!D385)","v":""},{"$f":"IF(Worksheet!$A$11=TRUE,\"Y\",\"N\")","v":"N"},{"$f":"IF(Worksheet!$A$12=TRUE,\"Y\",\"N\")","v":"N"},{"$f":"IF(Worksheet!$B$11=TRUE,\"Y\",\"N\")","v":"N"},{"$f":"IF(Worksheet!$B$12=TRUE,\"Y\",\"N\")","v":"N"},{"$f":"IF(Worksheet!$C$11=TRUE,\"Y\",\"N\")","v":"N"},{"$f":"IFERROR(IF(N(Worksheet!V385)=0,Worksheet!U385,Worksheet!V385),\"\")","v":0}]
[{"$f":"IF(ISBLANK(Worksheet!F386)=FALSE,VLOOKUP(Worksheet!A386,MeasureCode_Lookup,6,FALSE),\"\")","v":""},{"$f":"Worksheet!H386","v":0},{"$f":"Worksheet!I386","v":0},{"$f":"IFERROR(IF(Worksheet!Z386=0,Worksheet!Y386/I364,Worksheet!Z386/R364),0)","v":0},"W Controlled",null,null,{"$f":"IF(N(Worksheet!S386)=0,N(Worksheet!R386),N(Worksheet!S386))","v":0},{"$f":"IFERROR(Worksheet!W386/(Worksheet!R386+Worksheet!U386),0)","v":0},{"$f":"Worksheet!AE386","v":0},{"$f":"Worksheet!AD386","v":0},0,{"$f":"IF(Worksheet!AL386=0,0,Worksheet!AL386/I364)","v":0},0,null,null,null,{"$f":"IFERROR(Worksheet!X386/(Worksheet!S386+Worksheet!V386),0)","v":0},{"$f":"IF(Worksheet!E386=\"\",\"\",Worksheet!E386)","v":""},{"$f":"IF(Worksheet!B386=\"\",\"\",Worksheet!B386)","v":""},{"$f":"IF(Worksheet!D386=\"\",\"\",Worksheet!D386)","v":""},{"$f":"IF(Worksheet!$A$11=TRUE,\"Y\",\"N\")","v":"N"},{"$f":"IF(Worksheet!$A$12=TRUE,\"Y\",\"N\")","v":"N"},{"$f":"IF(Worksheet!$B$11=TRUE,\"Y\",\"N\")","v":"N"},{"$f":"IF(Worksheet!$B$12=TRUE,\"Y\",\"N\")","v":"N"},{"$f":"IF(Worksheet!$C$11=TRUE,\"Y\",\"N\")","v":"N"},{"$f":"IFERROR(IF(N(Worksheet!V386)=0,Worksheet!U386,Worksheet!V386),\"\")","v":0}]
[{"$f":"IF(ISBLANK(Worksheet!F387)=FALSE,VLOOKUP(Worksheet!A387,MeasureCode_Lookup,6,FALSE),\"\")","v":""},{"$f":"Worksheet!H387","v":0},{"$f":"Worksheet!I387","v":0},{"$f":"IFERROR(IF(Worksheet!Z387=0,Worksheet!Y387/I365,Worksheet!Z387/R365),0)","v":0},"W Controlled",null,null,{"$f":"IF(N(Worksheet!S387)=0,N(Worksheet!R387),N(Worksheet!S387))","v":0},{"$f":"IFERROR(Worksheet!W387/(Worksheet!R387+Worksheet!U387),0)","v":0},{"$f":"Worksheet!AE387","v":0},{"$f":"Worksheet!AD387","v":0},0,{"$f":"IF(Worksheet!AL387=0,0,Worksheet!AL387/I365)","v":0},0,null,null,null,{"$f":"IFERROR(Worksheet!X387/(Worksheet!S387+Worksheet!V387),0)","v":0},{"$f":"IF(Worksheet!E387=\"\",\"\",Worksheet!E387)","v":""},{"$f":"IF(Worksheet!B387=\"\",\"\",Worksheet!B387)","v":""},{"$f":"IF(Worksheet!D387=\"\",\"\",Worksheet!D387)","v":""},{"$f":"IF(Worksheet!$A$11=TRUE,\"Y\",\"N\")","v":"N"},{"$f":"IF(Worksheet!$A$12=TRUE,\"Y\",\"N\")","v":"N"},{"$f":"IF(Worksheet!$B$11=TRUE,\"Y\",\"N\")","v":"N"},{"$f":"IF(Worksheet!$B$12=TRUE,\"Y\",\"N\")","v":"N"},{"$f":"IF(Worksheet!$C$11=TRUE,\"Y\",\"N\")","v":"N"},{"$f":"IFERROR(IF(N(Worksheet!V387)=0,Worksheet!U387,Worksheet!V387),\"\")","v":0}]
[{"$f":"IF(ISBLANK(Worksheet!F388)=FALSE,VLOOKUP(Worksheet!A388,MeasureCode_Lookup,6,FALSE),\"\")","v":""},{"$f":"Worksheet!H388","v":0},{"$f":"Worksheet!I388","v":0},{"$f":"IFERROR(IF(Worksheet!Z388=0,Worksheet!Y388/I366,Worksheet!Z388/R366),0)","v":0},"W Controlled",null,null,{"$f":"IF(N(Worksheet!S388)=0,N(Worksheet!R388),N(Worksheet!S388))","v":0},{"$f":"IFERROR(Worksheet!W388/(Worksheet!R388+Worksheet!U388),0)","v":0},{"$f":"Worksheet!AE388","v":0},{"$f":"Worksheet!AD388","v":0},0,{"$f":"IF(Worksheet!AL388=0,0,Worksheet!AL388/I366)","v":0},0,null,null,null,{"$f":"IFERROR(Worksheet!X388/(Worksheet!S388+Worksheet!V388),0)","v":0},{"$f":"IF(Worksheet!E388=\"\",\"\",Worksheet!E388)","v":""},{"$f":"IF(Worksheet!B388=\"\",\"\",Worksheet!B388)","v":""},{"$f":"IF(Worksheet!D388=\"\",\"\",Worksheet!D388)","v":""},{"$f":"IF(Worksheet!$A$11=TRUE,\"Y\",\"N\")","v":"N"},{"$f":"IF(Worksheet!$A$12=TRUE,\"Y\",\"N\")","v":"N"},{"$f":"IF(Worksheet!$B$11=TRUE,\"Y\",\"N\")","v":"N"},{"$f":"IF(Worksheet!$B$12=TRUE,\"Y\",\"N\")","v":"N"},{"$f":"IF(Worksheet!$C$11=TRUE,\"Y\",\"N\")","v":"N"},{"$f":"IFERROR(IF(N(Worksheet!V388)=0,Worksheet!U388,Worksheet!V388),\"\")","v":0}]
[{"$f":"IF(ISBLANK(Worksheet!F389)=FALSE,VLOOKUP(Worksheet!A389,MeasureCode_Lookup,6,FALSE),\"\")","v":""},{"$f":"Worksheet!H389","v":0},{"$f":"Worksheet!I389","v":0},{"$f":"IFERROR(IF(Worksheet!Z389=0,Worksheet!Y389/I367,Worksheet!Z389/R367),0)","v":0},"W Controlled",null,null,{"$f":"IF(N(Worksheet!S389)=0,N(Worksheet!R389),N(Worksheet!S389))","v":0},{"$f":"IFERROR(Worksheet!W389/(Worksheet!R389+Worksheet!U389),0)","v":0},{"$f":"Worksheet!AE389","v":0},{"$f":"Worksheet!AD389","v":0},0,{"$f":"IF(Worksheet!AL389=0,0,Worksheet!AL389/I367)","v":0},0,null,null,null,{"$f":"IFERROR(Worksheet!X389/(Worksheet!S389+Worksheet!V389),0)","v":0},{"$f":"IF(Worksheet!E389=\"\",\"\",Worksheet!E389)","v":""},{"$f":"IF(Worksheet!B389=\"\",\"\",Worksheet!B389)","v":""},{"$f":"IF(Worksheet!D389=\"\",\"\",Worksheet!D389)","v":""},{"$f":"IF(Worksheet!$A$11=TRUE,\"Y\",\"N\")","v":"N"},{"$f":"IF(Worksheet!$A$12=TRUE,\"Y\",\"N\")","v":"N"},{"$f":"IF(Worksheet!$B$11=TRUE,\"Y\",\"N\")","v":"N"},{"$f":"IF(Worksheet!$B$12=TRUE,\"Y\",\"N\")","v":"N"},{"$f":"IF(Worksheet!$C$11=TRUE,\"Y\",\"N\")","v":"N"},{"$f":"IFERROR(IF(N(Worksheet!V389)=0,Worksheet!U389,Worksheet!V389),\"\")","v":0}]
[{"$f":"IF(ISBLANK(Worksheet!F390)=FALSE,VLOOKUP(Worksheet!A390,MeasureCode_Lookup,6,FALSE),\"\")","v":""},{"$f":"Worksheet!H390","v":0},{"$f":"Worksheet!I390","v":0},{"$f":"IFERROR(IF(Worksheet!Z390=0,Worksheet!Y390/I368,Worksheet!Z390/R368),0)","v":0},"W Controlled",null,null,{"$f":"IF(N(Worksheet!S390)=0,N(Worksheet!R390),N(Worksheet!S390))","v":0},{"$f":"IFERROR(Worksheet!W390/(Worksheet!R390+Worksheet!U390),0)","v":0},{"$f":"Worksheet!AE390","v":0},{"$f":"Worksheet!AD390","v":0},0,{"$f":"IF(Worksheet!AL390=0,0,Worksheet!AL390/I368)","v":0},0,null,null,null,{"$f":"IFERROR(Worksheet!X390/(Worksheet!S390+Worksheet!V390),0)","v":0},{"$f":"IF(Worksheet!E390=\"\",\"\",Worksheet!E390)","v":""},{"$f":"IF(Worksheet!B390=\"\",\"\",Worksheet!B390)","v":""},{"$f":"IF(Worksheet!D390=\"\",\"\",Worksheet!D390)","v":""},{"$f":"IF(Worksheet!$A$11=TRUE,\"Y\",\"N\")","v":"N"},{"$f":"IF(Worksheet!$A$12=TRUE,\"Y\",\"N\")","v":"N"},{"$f":"IF(Worksheet!$B$11=TRUE,\"Y\",\"N\")","v":"N"},{"$f":"IF(Worksheet!$B$12=TRUE,\"Y\",\"N\")","v":"N"},{"$f":"IF(Worksheet!$C$11=TRUE,\"Y\",\"N\")","v":"N"},{"$f":"IFERROR(IF(N(Worksheet!V390)=0,Worksheet!U390,Worksheet!V390),\"\")","v":0}]
[{"$f":"IF(ISBLANK(Worksheet!F391)=FALSE,VLOOKUP(Worksheet!A391,MeasureCode_Lookup,6,FALSE),\"\")","v":""},{"$f":"Worksheet!H391","v":0},{"$f":"Worksheet!I391","v":0},{"$f":"IFERROR(IF(Worksheet!Z391=0,Worksheet!Y391/I369,Worksheet!Z391/R369),0)","v":0},"W Controlled",null,null,{"$f":"IF(N(Worksheet!S391)=0,N(Worksheet!R391),N(Worksheet!S391))","v":0},{"$f":"IFERROR(Worksheet!W391/(Worksheet!R391+Worksheet!U391),0)","v":0},{"$f":"Worksheet!AE391","v":0},{"$f":"Worksheet!AD391","v":0},0,{"$f":"IF(Worksheet!AL391=0,0,Worksheet!AL391/I369)","v":0},0,null,null,null,{"$f":"IFERROR(Worksheet!X391/(Worksheet!S391+Worksheet!V391),0)","v":0},{"$f":"IF(Worksheet!E391=\"\",\"\",Worksheet!E391)","v":""},{"$f":"IF(Worksheet!B391=\"\",\"\",Worksheet!B391)","v":""},{"$f":"IF(Worksheet!D391=\"\",\"\",Worksheet!D391)","v":""},{"$f":"IF(Worksheet!$A$11=TRUE,\"Y\",\"N\")","v":"N"},{"$f":"IF(Worksheet!$A$12=TRUE,\"Y\",\"N\")","v":"N"},{"$f":"IF(Worksheet!$B$11=TRUE,\"Y\",\"N\")","v":"N"},{"$f":"IF(Worksheet!$B$12=TRUE,\"Y\",\"N\")","v":"N"},{"$f":"IF(Worksheet!$C$11=TRUE,\"Y\",\"N\")","v":"N"},{"$f":"IFERROR(IF(N(Worksheet!V391)=0,Worksheet!U391,Worksheet!V391),\"\")","v":0}]
[{"$f":"IF(ISBLANK(Worksheet!F392)=FALSE,VLOOKUP(Worksheet!A392,MeasureCode_Lookup,6,FALSE),\"\")","v":""},{"$f":"Worksheet!H392","v":0},{"$f":"Worksheet!I392","v":0},{"$f":"IFERROR(IF(Worksheet!Z392=0,Worksheet!Y392/I370,Worksheet!Z392/R370),0)","v":0},"W Controlled",null,null,{"$f":"IF(N(Worksheet!S392)=0,N(Worksheet!R392),N(Worksheet!S392))","v":0},{"$f":"IFERROR(Worksheet!W392/(Worksheet!R392+Worksheet!U392),0)","v":0},{"$f":"Worksheet!AE392","v":0},{"$f":"Worksheet!AD392","v":0},0,{"$f":"IF(Worksheet!AL392=0,0,Worksheet!AL392/I370)","v":0},0,null,null,null,{"$f":"IFERROR(Worksheet!X392/(Worksheet!S392+Worksheet!V392),0)","v":0},{"$f":"IF(Worksheet!E392=\"\",\"\",Worksheet!E392)","v":""},{"$f":"IF(Worksheet!B392=\"\",\"\",Worksheet!B392)","v":""},{"$f":"IF(Worksheet!D392=\"\",\"\",Worksheet!D392)","v":""},{"$f":"IF(Worksheet!$A$11=TRUE,\"Y\",\"N\")","v":"N"},{"$f":"IF(Worksheet!$A$12=TRUE,\"Y\",\"N\")","v":"N"},{"$f":"IF(Worksheet!$B$11=TRUE,\"Y\",\"N\")","v":"N"},{"$f":"IF(Worksheet!$B$12=TRUE,\"Y\",\"N\")","v":"N"},{"$f":"IF(Worksheet!$C$11=TRUE,\"Y\",\"N\")","v":"N"},{"$f":"IFERROR(IF(N(Worksheet!V392)=0,Worksheet!U392,Worksheet!V392),\"\")","v":0}]
[{"$f":"IF(ISBLANK(Worksheet!F393)=FALSE,VLOOKUP(Worksheet!A393,MeasureCode_Lookup,6,FALSE),\"\")","v":""},{"$f":"Worksheet!H393","v":0},{"$f":"Worksheet!I393","v":0},{"$f":"IFERROR(IF(Worksheet!Z393=0,Worksheet!Y393/I371,Worksheet!Z393/R371),0)","v":0},"W Controlled",null,null,{"$f":"IF(N(Worksheet!S393)=0,N(Worksheet!R393),N(Worksheet!S393))","v":0},{"$f":"IFERROR(Worksheet!W393/(Worksheet!R393+Worksheet!U393),0)","v":0},{"$f":"Worksheet!AE393","v":0},{"$f":"Worksheet!AD393","v":0},0,{"$f":"IF(Worksheet!AL393=0,0,Worksheet!AL393/I371)","v":0},0,null,null,null,{"$f":"IFERROR(Worksheet!X393/(Worksheet!S393+Worksheet!V393),0)","v":0},{"$f":"IF(Worksheet!E393=\"\",\"\",Worksheet!E393)","v":""},{"$f":"IF(Worksheet!B393=\"\",\"\",Worksheet!B393)","v":""},{"$f":"IF(Worksheet!D393=\"\",\"\",Worksheet!D393)","v":""},{"$f":"IF(Worksheet!$A$11=TRUE,\"Y\",\"N\")","v":"N"},{"$f":"IF(Worksheet!$A$12=TRUE,\"Y\",\"N\")","v":"N"},{"$f":"IF(Worksheet!$B$11=TRUE,\"Y\",\"N\")","v":"N"},{"$f":"IF(Worksheet!$B$12=TRUE,\"Y\",\"N\")","v":"N"},{"$f":"IF(Worksheet!$C$11=TRUE,\"Y\",\"N\")","v":"N"},{"$f":"IFERROR(IF(N(Worksheet!V393)=0,Worksheet!U393,Worksheet!V393),\"\")","v":0}]
[{"$f":"IF(ISBLANK(Worksheet!F394)=FALSE,VLOOKUP(Worksheet!A394,MeasureCode_Lookup,6,FALSE),\"\")","v":""},{"$f":"Worksheet!H394","v":0},{"$f":"Worksheet!I394","v":0},{"$f":"IFERROR(IF(Worksheet!Z394=0,Worksheet!Y394/I372,Worksheet!Z394/R372),0)","v":0},"W Controlled",null,null,{"$f":"IF(N(Worksheet!S394)=0,N(Worksheet!R394),N(Worksheet!S394))","v":0},{"$f":"IFERROR(Worksheet!W394/(Worksheet!R394+Worksheet!U394),0)","v":0},{"$f":"Worksheet!AE394","v":0},{"$f":"Worksheet!AD394","v":0},0,{"$f":"IF(Worksheet!AL394=0,0,Worksheet!AL394/I372)","v":0},0,null,null,null,{"$f":"IFERROR(Worksheet!X394/(Worksheet!S394+Worksheet!V394),0)","v":0},{"$f":"IF(Worksheet!E394=\"\",\"\",Worksheet!E394)","v":""},{"$f":"IF(Worksheet!B394=\"\",\"\",Worksheet!B394)","v":""},{"$f":"IF(Worksheet!D394=\"\",\"\",Worksheet!D394)","v":""},{"$f":"IF(Worksheet!$A$11=TRUE,\"Y\",\"N\")","v":"N"},{"$f":"IF(Worksheet!$A$12=TRUE,\"Y\",\"N\")","v":"N"},{"$f":"IF(Worksheet!$B$11=TRUE,\"Y\",\"N\")","v":"N"},{"$f":"IF(Worksheet!$B$12=TRUE,\"Y\",\"N\")","v":"N"},{"$f":"IF(Worksheet!$C$11=TRUE,\"Y\",\"N\")","v":"N"},{"$f":"IFERROR(IF(N(Worksheet!V394)=0,Worksheet!U394,Worksheet!V394),\"\")","v":0}]
[{"$f":"IF(ISBLANK(Worksheet!F395)=FALSE,VLOOKUP(Worksheet!A395,MeasureCode_Lookup,6,FALSE),\"\")","v":""},{"$f":"Worksheet!H395","v":0},{"$f":"Worksheet!I395","v":0},{"$f":"IFERROR(IF(Worksheet!Z395=0,Worksheet!Y395/I373,Worksheet!Z395/R373),0)","v":0},"W Controlled",null,null,{"$f":"IF(N(Worksheet!S395)=0,N(Worksheet!R395),N(Worksheet!S395))","v":0},{"$f":"IFERROR(Worksheet!W395/(Worksheet!R395+Worksheet!U395),0)","v":0},{"$f":"Worksheet!AE395","v":0},{"$f":"Worksheet!AD395","v":0},0,{"$f":"IF(Worksheet!AL395=0,0,Worksheet!AL395/I373)","v":0},0,null,null,null,{"$f":"IFERROR(Worksheet!X395/(Worksheet!S395+Worksheet!V395),0)","v":0},{"$f":"IF(Worksheet!E395=\"\",\"\",Worksheet!E395)","v":""},{"$f":"IF(Worksheet!B395=\"\",\"\",Worksheet!B395)","v":""},{"$f":"IF(Worksheet!D395=\"\",\"\",Worksheet!D395)","v":""},{"$f":"IF(Worksheet!$A$11=TRUE,\"Y\",\"N\")","v":"N"},{"$f":"IF(Worksheet!$A$12=TRUE,\"Y\",\"N\")","v":"N"},{"$f":"IF(Worksheet!$B$11=TRUE,\"Y\",\"N\")","v":"N"},{"$f":"IF(Worksheet!$B$12=TRUE,\"Y\",\"N\")","v":"N"},{"$f":"IF(Worksheet!$C$11=TRUE,\"Y\",\"N\")","v":"N"},{"$f":"IFERROR(IF(N(Worksheet!V395)=0,Worksheet!U395,Worksheet!V395),\"\")","v":0}]
[{"$f":"IF(ISBLANK(Worksheet!F396)=FALSE,VLOOKUP(Worksheet!A396,MeasureCode_Lookup,6,FALSE),\"\")","v":""},{"$f":"Worksheet!H396","v":0},{"$f":"Worksheet!I396","v":0},{"$f":"IFERROR(IF(Worksheet!Z396=0,Worksheet!Y396/I374,Worksheet!Z396/R374),0)","v":0},"W Controlled",null,null,{"$f":"IF(N(Worksheet!S396)=0,N(Worksheet!R396),N(Worksheet!S396))","v":0},{"$f":"IFERROR(Worksheet!W396/(Worksheet!R396+Worksheet!U396),0)","v":0},{"$f":"Worksheet!AE396","v":0},{"$f":"Worksheet!AD396","v":0},0,{"$f":"IF(Worksheet!AL396=0,0,Worksheet!AL396/I374)","v":0},0,null,null,null,{"$f":"IFERROR(Worksheet!X396/(Worksheet!S396+Worksheet!V396),0)","v":0},{"$f":"IF(Worksheet!E396=\"\",\"\",Worksheet!E396)","v":""},{"$f":"IF(Worksheet!B396=\"\",\"\",Worksheet!B396)","v":""},{"$f":"IF(Worksheet!D396=\"\",\"\",Worksheet!D396)","v":""},{"$f":"IF(Worksheet!$A$11=TRUE,\"Y\",\"N\")","v":"N"},{"$f":"IF(Worksheet!$A$12=TRUE,\"Y\",\"N\")","v":"N"},{"$f":"IF(Worksheet!$B$11=TRUE,\"Y\",\"N\")","v":"N"},{"$f":"IF(Worksheet!$B$12=TRUE,\"Y\",\"N\")","v":"N"},{"$f":"IF(Worksheet!$C$11=TRUE,\"Y\",\"N\")","v":"N"},{"$f":"IFERROR(IF(N(Worksheet!V396)=0,Worksheet!U396,Worksheet!V396),\"\")","v":0}]
[{"$f":"IF(ISBLANK(Worksheet!F397)=FALSE,VLOOKUP(Worksheet!A397,MeasureCode_Lookup,6,FALSE),\"\")","v":""},{"$f":"Worksheet!H397","v":0},{"$f":"Worksheet!I397","v":0},{"$f":"IFERROR(IF(Worksheet!Z397=0,Worksheet!Y397/I375,Worksheet!Z397/R375),0)","v":0},"W Controlled",null,null,{"$f":"IF(N(Worksheet!S397)=0,N(Worksheet!R397),N(Worksheet!S397))","v":0},{"$f":"IFERROR(Worksheet!W397/(Worksheet!R397+Worksheet!U397),0)","v":0},{"$f":"Worksheet!AE397","v":0},{"$f":"Worksheet!AD397","v":0},0,{"$f":"IF(Worksheet!AL397=0,0,Worksheet!AL397/I375)","v":0},0,null,null,null,{"$f":"IFERROR(Worksheet!X397/(Worksheet!S397+Worksheet!V397),0)","v":0},{"$f":"IF(Worksheet!E397=\"\",\"\",Worksheet!E397)","v":""},{"$f":"IF(Worksheet!B397=\"\",\"\",Worksheet!B397)","v":""},{"$f":"IF(Worksheet!D397=\"\",\"\",Worksheet!D397)","v":""},{"$f":"IF(Worksheet!$A$11=TRUE,\"Y\",\"N\")","v":"N"},{"$f":"IF(Worksheet!$A$12=TRUE,\"Y\",\"N\")","v":"N"},{"$f":"IF(Worksheet!$B$11=TRUE,\"Y\",\"N\")","v":"N"},{"$f":"IF(Worksheet!$B$12=TRUE,\"Y\",\"N\")","v":"N"},{"$f":"IF(Worksheet!$C$11=TRUE,\"Y\",\"N\")","v":"N"},{"$f":"IFERROR(IF(N(Worksheet!V397)=0,Worksheet!U397,Worksheet!V397),\"\")","v":0}]
[{"$f":"IF(ISBLANK(Worksheet!F398)=FALSE,VLOOKUP(Worksheet!A398,MeasureCode_Lookup,6,FALSE),\"\")","v":""},{"$f":"Worksheet!H398","v":0},{"$f":"Worksheet!I398","v":0},{"$f":"IFERROR(IF(Worksheet!Z398=0,Worksheet!Y398/I376,Worksheet!Z398/R376),0)","v":0},"W Controlled",null,null,{"$f":"IF(N(Worksheet!S398)=0,N(Worksheet!R398),N(Worksheet!S398))","v":0},{"$f":"IFERROR(Worksheet!W398/(Worksheet!R398+Worksheet!U398),0)","v":0},{"$f":"Worksheet!AE398","v":0},{"$f":"Worksheet!AD398","v":0},0,{"$f":"IF(Worksheet!AL398=0,0,Worksheet!AL398/I376)","v":0},0,null,null,null,{"$f":"IFERROR(Worksheet!X398/(Worksheet!S398+Worksheet!V398),0)","v":0},{"$f":"IF(Worksheet!E398=\"\",\"\",Worksheet!E398)","v":""},{"$f":"IF(Worksheet!B398=\"\",\"\",Worksheet!B398)","v":""},{"$f":"IF(Worksheet!D398=\"\",\"\",Worksheet!D398)","v":""},{"$f":"IF(Worksheet!$A$11=TRUE,\"Y\",\"N\")","v":"N"},{"$f":"IF(Worksheet!$A$12=TRUE,\"Y\",\"N\")","v":"N"},{"$f":"IF(Worksheet!$B$11=TRUE,\"Y\",\"N\")","v":"N"},{"$f":"IF(Worksheet!$B$12=TRUE,\"Y\",\"N\")","v":"N"},{"$f":"IF(Worksheet!$C$11=TRUE,\"Y\",\"N\")","v":"N"},{"$f":"IFERROR(IF(N(Worksheet!V398)=0,Worksheet!U398,Worksheet!V398),\"\")","v":0}]
[{"$f":"IF(ISBLANK(Worksheet!F399)=FALSE,VLOOKUP(Worksheet!A399,MeasureCode_Lookup,6,FALSE),\"\")","v":""},{"$f":"Worksheet!H399","v":0},{"$f":"Worksheet!I399","v":0},{"$f":"IFERROR(IF(Worksheet!Z399=0,Worksheet!Y399/I377,Worksheet!Z399/R377),0)","v":0},"W Controlled",null,null,{"$f":"IF(N(Worksheet!S399)=0,N(Worksheet!R399),N(Worksheet!S399))","v":0},{"$f":"IFERROR(Worksheet!W399/(Worksheet!R399+Worksheet!U399),0)","v":0},{"$f":"Worksheet!AE399","v":0},{"$f":"Worksheet!AD399","v":0},0,{"$f":"IF(Worksheet!AL399=0,0,Worksheet!AL399/I377)","v":0},0,null,null,null,{"$f":"IFERROR(Worksheet!X399/(Worksheet!S399+Worksheet!V399),0)","v":0},{"$f":"IF(Worksheet!E399=\"\",\"\",Worksheet!E399)","v":""},{"$f":"IF(Worksheet!B399=\"\",\"\",Worksheet!B399)","v":""},{"$f":"IF(Worksheet!D399=\"\",\"\",Worksheet!D399)","v":""},{"$f":"IF(Worksheet!$A$11=TRUE,\"Y\",\"N\")","v":"N"},{"$f":"IF(Worksheet!$A$12=TRUE,\"Y\",\"N\")","v":"N"},{"$f":"IF(Worksheet!$B$11=TRUE,\"Y\",\"N\")","v":"N"},{"$f":"IF(Worksheet!$B$12=TRUE,\"Y\",\"N\")","v":"N"},{"$f":"IF(Worksheet!$C$11=TRUE,\"Y\",\"N\")","v":"N"},{"$f":"IFERROR(IF(N(Worksheet!V399)=0,Worksheet!U399,Worksheet!V399),\"\")","v":0}]
[{"$f":"IF(ISBLANK(Worksheet!F400)=FALSE,VLOOKUP(Worksheet!A400,MeasureCode_Lookup,6,FALSE),\"\")","v":""},{"$f":"Worksheet!H400","v":0},{"$f":"Worksheet!I400","v":0},{"$f":"IFERROR(IF(Worksheet!Z400=0,Worksheet!Y400/I378,Worksheet!Z400/R378),0)","v":0},"W Controlled",null,null,{"$f":"IF(N(Worksheet!S400)=0,N(Worksheet!R400),N(Worksheet!S400))","v":0},{"$f":"IFERROR(Worksheet!W400/(Worksheet!R400+Worksheet!U400),0)","v":0},{"$f":"Worksheet!AE400","v":0},{"$f":"Worksheet!AD400","v":0},0,{"$f":"IF(Worksheet!AL400=0,0,Worksheet!AL400/I378)","v":0},0,null,null,null,{"$f":"IFERROR(Worksheet!X400/(Worksheet!S400+Worksheet!V400),0)","v":0},{"$f":"IF(Worksheet!E400=\"\",\"\",Worksheet!E400)","v":""},{"$f":"IF(Worksheet!B400=\"\",\"\",Worksheet!B400)","v":""},{"$f":"IF(Worksheet!D400=\"\",\"\",Worksheet!D400)","v":""},{"$f":"IF(Worksheet!$A$11=TRUE,\"Y\",\"N\")","v":"N"},{"$f":"IF(Worksheet!$A$12=TRUE,\"Y\",\"N\")","v":"N"},{"$f":"IF(Worksheet!$B$11=TRUE,\"Y\",\"N\")","v":"N"},{"$f":"IF(Worksheet!$B$12=TRUE,\"Y\",\"N\")","v":"N"},{"$f":"IF(Worksheet!$C$11=TRUE,\"Y\",\"N\")","v":"N"},{"$f":"IFERROR(IF(N(Worksheet!V400)=0,Worksheet!U400,Worksheet!V400),\"\")","v":0}]
[{"$f":"IF(ISBLANK(Worksheet!F401)=FALSE,VLOOKUP(Worksheet!A401,MeasureCode_Lookup,6,FALSE),\"\")","v":""},{"$f":"Worksheet!H401","v":0},{"$f":"Worksheet!I401","v":0},{"$f":"IFERROR(IF(Worksheet!Z401=0,Worksheet!Y401/I379,Worksheet!Z401/R379),0)","v":0},"W Controlled",null,null,{"$f":"IF(N(Worksheet!S401)=0,N(Worksheet!R401),N(Worksheet!S401))","v":0},{"$f":"IFERROR(Worksheet!W401/(Worksheet!R401+Worksheet!U401),0)","v":0},{"$f":"Worksheet!AE401","v":0},{"$f":"Worksheet!AD401","v":0},0,{"$f":"IF(Worksheet!AL401=0,0,Worksheet!AL401/I379)","v":0},0,null,null,null,{"$f":"IFERROR(Worksheet!X401/(Worksheet!S401+Worksheet!V401),0)","v":0},{"$f":"IF(Worksheet!E401=\"\",\"\",Worksheet!E401)","v":""},{"$f":"IF(Worksheet!B401=\"\",\"\",Worksheet!B401)","v":""},{"$f":"IF(Worksheet!D401=\"\",\"\",Worksheet!D401)","v":""},{"$f":"IF(Worksheet!$A$11=TRUE,\"Y\",\"N\")","v":"N"},{"$f":"IF(Worksheet!$A$12=TRUE,\"Y\",\"N\")","v":"N"},{"$f":"IF(Worksheet!$B$11=TRUE,\"Y\",\"N\")","v":"N"},{"$f":"IF(Worksheet!$B$12=TRUE,\"Y\",\"N\")","v":"N"},{"$f":"IF(Worksheet!$C$11=TRUE,\"Y\",\"N\")","v":"N"},{"$f":"IFERROR(IF(N(Worksheet!V401)=0,Worksheet!U401,Worksheet!V401),\"\")","v":0}]
[{"$f":"IF(ISBLANK(Worksheet!F402)=FALSE,VLOOKUP(Worksheet!A402,MeasureCode_Lookup,6,FALSE),\"\")","v":""},{"$f":"Worksheet!H402","v":0},{"$f":"Worksheet!I402","v":0},{"$f":"IFERROR(IF(Worksheet!Z402=0,Worksheet!Y402/I380,Worksheet!Z402/R380),0)","v":0},"W Controlled",null,null,{"$f":"IF(N(Worksheet!S402)=0,N(Worksheet!R402),N(Worksheet!S402))","v":0},{"$f":"IFERROR(Worksheet!W402/(Worksheet!R402+Worksheet!U402),0)","v":0},{"$f":"Worksheet!AE402","v":0},{"$f":"Worksheet!AD402","v":0},0,{"$f":"IF(Worksheet!AL402=0,0,Worksheet!AL402/I380)","v":0},0,null,null,null,{"$f":"IFERROR(Worksheet!X402/(Worksheet!S402+Worksheet!V402),0)","v":0},{"$f":"IF(Worksheet!E402=\"\",\"\",Worksheet!E402)","v":""},{"$f":"IF(Worksheet!B402=\"\",\"\",Worksheet!B402)","v":""},{"$f":"IF(Worksheet!D402=\"\",\"\",Worksheet!D402)","v":""},{"$f":"IF(Worksheet!$A$11=TRUE,\"Y\",\"N\")","v":"N"},{"$f":"IF(Worksheet!$A$12=TRUE,\"Y\",\"N\")","v":"N"},{"$f":"IF(Worksheet!$B$11=TRUE,\"Y\",\"N\")","v":"N"},{"$f":"IF(Worksheet!$B$12=TRUE,\"Y\",\"N\")","v":"N"},{"$f":"IF(Worksheet!$C$11=TRUE,\"Y\",\"N\")","v":"N"},{"$f":"IFERROR(IF(N(Worksheet!V402)=0,Worksheet!U402,Worksheet!V402),\"\")","v":0}]
[{"$f":"IF(ISBLANK(Worksheet!F403)=FALSE,VLOOKUP(Worksheet!A403,MeasureCode_Lookup,6,FALSE),\"\")","v":""},{"$f":"Worksheet!H403","v":0},{"$f":"Worksheet!I403","v":0},{"$f":"IFERROR(IF(Worksheet!Z403=0,Worksheet!Y403/I381,Worksheet!Z403/R381),0)","v":0},"W Controlled",null,null,{"$f":"IF(N(Worksheet!S403)=0,N(Worksheet!R403),N(Worksheet!S403))","v":0},{"$f":"IFERROR(Worksheet!W403/(Worksheet!R403+Worksheet!U403),0)","v":0},{"$f":"Worksheet!AE403","v":0},{"$f":"Worksheet!AD403","v":0},0,{"$f":"IF(Worksheet!AL403=0,0,Worksheet!AL403/I381)","v":0},0,null,null,null,{"$f":"IFERROR(Worksheet!X403/(Worksheet!S403+Worksheet!V403),0)","v":0},{"$f":"IF(Worksheet!E403=\"\",\"\",Worksheet!E403)","v":""},{"$f":"IF(Worksheet!B403=\"\",\"\",Worksheet!B403)","v":""},{"$f":"IF(Worksheet!D403=\"\",\"\",Worksheet!D403)","v":""},{"$f":"IF(Worksheet!$A$11=TRUE,\"Y\",\"N\")","v":"N"},{"$f":"IF(Worksheet!$A$12=TRUE,\"Y\",\"N\")","v":"N"},{"$f":"IF(Worksheet!$B$11=TRUE,\"Y\",\"N\")","v":"N"},{"$f":"IF(Worksheet!$B$12=TRUE,\"Y\",\"N\")","v":"N"},{"$f":"IF(Worksheet!$C$11=TRUE,\"Y\",\"N\")","v":"N"},{"$f":"IFERROR(IF(N(Worksheet!V403)=0,Worksheet!U403,Worksheet!V403),\"\")","v":0}]
[{"$f":"IF(ISBLANK(Worksheet!F404)=FALSE,VLOOKUP(Worksheet!A404,MeasureCode_Lookup,6,FALSE),\"\")","v":""},{"$f":"Worksheet!H404","v":0},{"$f":"Worksheet!I404","v":0},{"$f":"IFERROR(IF(Worksheet!Z404=0,Worksheet!Y404/I382,Worksheet!Z404/R382),0)","v":0},"W Controlled",null,null,{"$f":"IF(N(Worksheet!S404)=0,N(Worksheet!R404),N(Worksheet!S404))","v":0},{"$f":"IFERROR(Worksheet!W404/(Worksheet!R404+Worksheet!U404),0)","v":0},{"$f":"Worksheet!AE404","v":0},{"$f":"Worksheet!AD404","v":0},0,{"$f":"IF(Worksheet!AL404=0,0,Worksheet!AL404/I382)","v":0},0,null,null,null,{"$f":"IFERROR(Worksheet!X404/(Worksheet!S404+Worksheet!V404),0)","v":0},{"$f":"IF(Worksheet!E404=\"\",\"\",Worksheet!E404)","v":""},{"$f":"IF(Worksheet!B404=\"\",\"\",Worksheet!B404)","v":""},{"$f":"IF(Worksheet!D404=\"\",\"\",Worksheet!D404)","v":""},{"$f":"IF(Worksheet!$A$11=TRUE,\"Y\",\"N\")","v":"N"},{"$f":"IF(Worksheet!$A$12=TRUE,\"Y\",\"N\")","v":"N"},{"$f":"IF(Worksheet!$B$11=TRUE,\"Y\",\"N\")","v":"N"},{"$f":"IF(Worksheet!$B$12=TRUE,\"Y\",\"N\")","v":"N"},{"$f":"IF(Worksheet!$C$11=TRUE,\"Y\",\"N\")","v":"N"},{"$f":"IFERROR(IF(N(Worksheet!V404)=0,Worksheet!U404,Worksheet!V404),\"\")","v":0}]
[{"$f":"IF(ISBLANK(Worksheet!F405)=FALSE,VLOOKUP(Worksheet!A405,MeasureCode_Lookup,6,FALSE),\"\")","v":""},{"$f":"Worksheet!H405","v":0},{"$f":"Worksheet!I405","v":0},{"$f":"IFERROR(IF(Worksheet!Z405=0,Worksheet!Y405/I383,Worksheet!Z405/R383),0)","v":0},"W Controlled",null,null,{"$f":"IF(N(Worksheet!S405)=0,N(Worksheet!R405),N(Worksheet!S405))","v":0},{"$f":"IFERROR(Worksheet!W405/(Worksheet!R405+Worksheet!U405),0)","v":0},{"$f":"Worksheet!AE405","v":0},{"$f":"Worksheet!AD405","v":0},0,{"$f":"IF(Worksheet!AL405=0,0,Worksheet!AL405/I383)","v":0},0,null,null,null,{"$f":"IFERROR(Worksheet!X405/(Worksheet!S405+Worksheet!V405),0)","v":0},{"$f":"IF(Worksheet!E405=\"\",\"\",Worksheet!E405)","v":""},{"$f":"IF(Worksheet!B405=\"\",\"\",Worksheet!B405)","v":""},{"$f":"IF(Worksheet!D405=\"\",\"\",Worksheet!D405)","v":""},{"$f":"IF(Worksheet!$A$11=TRUE,\"Y\",\"N\")","v":"N"},{"$f":"IF(Worksheet!$A$12=TRUE,\"Y\",\"N\")","v":"N"},{"$f":"IF(Worksheet!$B$11=TRUE,\"Y\",\"N\")","v":"N"},{"$f":"IF(Worksheet!$B$12=TRUE,\"Y\",\"N\")","v":"N"},{"$f":"IF(Worksheet!$C$11=TRUE,\"Y\",\"N\")","v":"N"},{"$f":"IFERROR(IF(N(Worksheet!V405)=0,Worksheet!U405,Worksheet!V405),\"\")","v":0}]
[{"$f":"IF(ISBLANK(Worksheet!F406)=FALSE,VLOOKUP(Worksheet!A406,MeasureCode_Lookup,6,FALSE),\"\")","v":""},{"$f":"Worksheet!H406","v":0},{"$f":"Worksheet!I406","v":0},{"$f":"IFERROR(IF(Worksheet!Z406=0,Worksheet!Y406/I384,Worksheet!Z406/R384),0)","v":0},"W Controlled",null,null,{"$f":"IF(N(Worksheet!S406)=0,N(Worksheet!R406),N(Worksheet!S406))","v":0},{"$f":"IFERROR(Worksheet!W406/(Worksheet!R406+Worksheet!U406),0)","v":0},{"$f":"Worksheet!AE406","v":0},{"$f":"Worksheet!AD406","v":0},0,{"$f":"IF(Worksheet!AL406=0,0,Worksheet!AL406/I384)","v":0},0,null,null,null,{"$f":"IFERROR(Worksheet!X406/(Worksheet!S406+Worksheet!V406),0)","v":0},{"$f":"IF(Worksheet!E406=\"\",\"\",Worksheet!E406)","v":""},{"$f":"IF(Worksheet!B406=\"\",\"\",Worksheet!B406)","v":""},{"$f":"IF(Worksheet!D406=\"\",\"\",Worksheet!D406)","v":""},{"$f":"IF(Worksheet!$A$11=TRUE,\"Y\",\"N\")","v":"N"},{"$f":"IF(Worksheet!$A$12=TRUE,\"Y\",\"N\")","v":"N"},{"$f":"IF(Worksheet!$B$11=TRUE,\"Y\",\"N\")","v":"N"},{"$f":"IF(Worksheet!$B$12=TRUE,\"Y\",\"N\")","v":"N"},{"$f":"IF(Worksheet!$C$11=TRUE,\"Y\",\"N\")","v":"N"},{"$f":"IFERROR(IF(N(Worksheet!V406)=0,Worksheet!U406,Worksheet!V406),\"\")","v":0}]
[{"$f":"IF(ISBLANK(Worksheet!F407)=FALSE,VLOOKUP(Worksheet!A407,MeasureCode_Lookup,6,FALSE),\"\")","v":""},{"$f":"Worksheet!H407","v":0},{"$f":"Worksheet!I407","v":0},{"$f":"IFERROR(IF(Worksheet!Z407=0,Worksheet!Y407/I385,Worksheet!Z407/R385),0)","v":0},"W Controlled",null,null,{"$f":"IF(N(Worksheet!S407)=0,N(Worksheet!R407),N(Worksheet!S407))","v":0},{"$f":"IFERROR(Worksheet!W407/(Worksheet!R407+Worksheet!U407),0)","v":0},{"$f":"Worksheet!AE407","v":0},{"$f":"Worksheet!AD407","v":0},0,{"$f":"IF(Worksheet!AL407=0,0,Worksheet!AL407/I385)","v":0},0,null,null,null,{"$f":"IFERROR(Worksheet!X407/(Worksheet!S407+Worksheet!V407),0)","v":0},{"$f":"IF(Worksheet!E407=\"\",\"\",Worksheet!E407)","v":""},{"$f":"IF(Worksheet!B407=\"\",\"\",Worksheet!B407)","v":""},{"$f":"IF(Worksheet!D407=\"\",\"\",Worksheet!D407)","v":""},{"$f":"IF(Worksheet!$A$11=TRUE,\"Y\",\"N\")","v":"N"},{"$f":"IF(Worksheet!$A$12=TRUE,\"Y\",\"N\")","v":"N"},{"$f":"IF(Worksheet!$B$11=TRUE,\"Y\",\"N\")","v":"N"},{"$f":"IF(Worksheet!$B$12=TRUE,\"Y\",\"N\")","v":"N"},{"$f":"IF(Worksheet!$C$11=TRUE,\"Y\",\"N\")","v":"N"},{"$f":"IFERROR(IF(N(Worksheet!V407)=0,Worksheet!U407,Worksheet!V407),\"\")","v":0}]
[{"$f":"IF(ISBLANK(Worksheet!F408)=FALSE,VLOOKUP(Worksheet!A408,MeasureCode_Lookup,6,FALSE),\"\")","v":""},{"$f":"Worksheet!H408","v":0},{"$f":"Worksheet!I408","v":0},{"$f":"IFERROR(IF(Worksheet!Z408=0,Worksheet!Y408/I386,Worksheet!Z408/R386),0)","v":0},"W Controlled",null,null,{"$f":"IF(N(Worksheet!S408)=0,N(Worksheet!R408),N(Worksheet!S408))","v":0},{"$f":"IFERROR(Worksheet!W408/(Worksheet!R408+Worksheet!U408),0)","v":0},{"$f":"Worksheet!AE408","v":0},{"$f":"Worksheet!AD408","v":0},0,{"$f":"IF(Worksheet!AL408=0,0,Worksheet!AL408/I386)","v":0},0,null,null,null,{"$f":"IFERROR(Worksheet!X408/(Worksheet!S408+Worksheet!V408),0)","v":0},{"$f":"IF(Worksheet!E408=\"\",\"\",Worksheet!E408)","v":""},{"$f":"IF(Worksheet!B408=\"\",\"\",Worksheet!B408)","v":""},{"$f":"IF(Worksheet!D408=\"\",\"\",Worksheet!D408)","v":""},{"$f":"IF(Worksheet!$A$11=TRUE,\"Y\",\"N\")","v":"N"},{"$f":"IF(Worksheet!$A$12=TRUE,\"Y\",\"N\")","v":"N"},{"$f":"IF(Worksheet!$B$11=TRUE,\"Y\",\"N\")","v":"N"},{"$f":"IF(Worksheet!$B$12=TRUE,\"Y\",\"N\")","v":"N"},{"$f":"IF(Worksheet!$C$11=TRUE,\"Y\",\"N\")","v":"N"},{"$f":"IFERROR(IF(N(Worksheet!V408)=0,Worksheet!U408,Worksheet!V408),\"\")","v":0}]
[{"$f":"IF(ISBLANK(Worksheet!F409)=FALSE,VLOOKUP(Worksheet!A409,MeasureCode_Lookup,6,FALSE),\"\")","v":""},{"$f":"Worksheet!H409","v":0},{"$f":"Worksheet!I409","v":0},{"$f":"IFERROR(IF(Worksheet!Z409=0,Worksheet!Y409/I387,Worksheet!Z409/R387),0)","v":0},"W Controlled",null,null,{"$f":"IF(N(Worksheet!S409)=0,N(Worksheet!R409),N(Worksheet!S409))","v":0},{"$f":"IFERROR(Worksheet!W409/(Worksheet!R409+Worksheet!U409),0)","v":0},{"$f":"Worksheet!AE409","v":0},{"$f":"Worksheet!AD409","v":0},{"$f":"J387*8","v":0},{"$f":"IF(Worksheet!AL409=0,0,Worksheet!AL409/I387)","v":0},{"$f":"M387*8","v":0},null,null,null,{"$f":"IFERROR(Worksheet!X409/(Worksheet!S409+Worksheet!V409),0)","v":0},{"$f":"IF(Worksheet!E409=\"\",\"\",Worksheet!E409)","v":""},{"$f":"IF(Worksheet!B409=\"\",\"\",Worksheet!B409)","v":""},{"$f":"IF(Worksheet!D409=\"\",\"\",Worksheet!D409)","v":""},{"$f":"IF(Worksheet!$A$11=TRUE,\"Y\",\"N\")","v":"N"},{"$f":"IF(Worksheet!$A$12=TRUE,\"Y\",\"N\")","v":"N"},{"$f":"IF(Worksheet!$B$11=TRUE,\"Y\",\"N\")","v":"N"},{"$f":"IF(Worksheet!$B$12=TRUE,\"Y\",\"N\")","v":"N"},{"$f":"IF(Worksheet!$C$11=TRUE,\"Y\",\"N\")","v":"N"},{"$f":"IFERROR(IF(N(Worksheet!V409)=0,Worksheet!U409,Worksheet!V409),\"\")","v":0}]
[{"$f":"IF(ISBLANK(Worksheet!F410)=FALSE,VLOOKUP(Worksheet!A410,MeasureCode_Lookup,6,FALSE),\"\")","v":""},{"$f":"Worksheet!H410","v":0},{"$f":"Worksheet!I410","v":0},{"$f":"IFERROR(IF(Worksheet!Z410=0,Worksheet!Y410/I388,Worksheet!Z410/R388),0)","v":0},"W Controlled",null,null,{"$f":"IF(N(Worksheet!S410)=0,N(Worksheet!R410),N(Worksheet!S410))","v":0},{"$f":"IFERROR(Worksheet!W410/(Worksheet!R410+Worksheet!U410),0)","v":0},{"$f":"Worksheet!AE410","v":0},{"$f":"Worksheet!AD410","v":0},0,{"$f":"IF(Worksheet!AL410=0,0,Worksheet!AL410/I388)","v":0},0,null,null,null,{"$f":"IFERROR(Worksheet!X410/(Worksheet!S410+Worksheet!V410),0)","v":0},{"$f":"IF(Worksheet!E410=\"\",\"\",Worksheet!E410)","v":""},{"$f":"IF(Worksheet!B410=\"\",\"\",Worksheet!B410)","v":""},{"$f":"IF(Worksheet!D410=\"\",\"\",Worksheet!D410)","v":""},{"$f":"IF(Worksheet!$A$11=TRUE,\"Y\",\"N\")","v":"N"},{"$f":"IF(Worksheet!$A$12=TRUE,\"Y\",\"N\")","v":"N"},{"$f":"IF(Worksheet!$B$11=TRUE,\"Y\",\"N\")","v":"N"},{"$f":"IF(Worksheet!$B$12=TRUE,\"Y\",\"N\")","v":"N"},{"$f":"IF(Worksheet!$C$11=TRUE,\"Y\",\"N\")","v":"N"},{"$f":"IFERROR(IF(N(Worksheet!V410)=0,Worksheet!U410,Worksheet!V410),\"\")","v":0}]
[{"$f":"IF(ISBLANK(Worksheet!F411)=FALSE,VLOOKUP(Worksheet!A411,MeasureCode_Lookup,6,FALSE),\"\")","v":""},{"$f":"Worksheet!H411","v":0},{"$f":"Worksheet!I411","v":0},{"$f":"IFERROR(IF(Worksheet!Z411=0,Worksheet!Y411/I389,Worksheet!Z411/R389),0)","v":0},"W Controlled",null,null,{"$f":"IF(N(Worksheet!S411)=0,N(Worksheet!R411),N(Worksheet!S411))","v":0},{"$f":"IFERROR(Worksheet!W411/(Worksheet!R411+Worksheet!U411),0)","v":0},{"$f":"Worksheet!AE411","v":0},{"$f":"Worksheet!AD411","v":0},0,{"$f":"IF(Worksheet!AL411=0,0,Worksheet!AL411/I389)","v":0},0,null,null,null,{"$f":"IFERROR(Worksheet!X411/(Worksheet!S411+Worksheet!V411),0)","v":0},{"$f":"IF(Worksheet!E411=\"\",\"\",Worksheet!E411)","v":""},{"$f":"IF(Worksheet!B411=\"\",\"\",Worksheet!B411)","v":""},{"$f":"IF(Worksheet!D411=\"\",\"\",Worksheet!D411)","v":""},{"$f":"IF(Worksheet!$A$11=TRUE,\"Y\",\"N\")","v":"N"},{"$f":"IF(Worksheet!$A$12=TRUE,\"Y\",\"N\")","v":"N"},{"$f":"IF(Worksheet!$B$11=TRUE,\"Y\",\"N\")","v":"N"},{"$f":"IF(Worksheet!$B$12=TRUE,\"Y\",\"N\")","v":"N"},{"$f":"IF(Worksheet!$C$11=TRUE,\"Y\",\"N\")","v":"N"},{"$f":"IFERROR(IF(N(Worksheet!V411)=0,Worksheet!U411,Worksheet!V411),\"\")","v":0}]
[{"$f":"IF(ISBLANK(Worksheet!F412)=FALSE,VLOOKUP(Worksheet!A412,MeasureCode_Lookup,6,FALSE),\"\")","v":""},{"$f":"Worksheet!H412","v":0},{"$f":"Worksheet!I412","v":0},{"$f":"IFERROR(IF(Worksheet!Z412=0,Worksheet!Y412/I390,Worksheet!Z412/R390),0)","v":0},"W Controlled",null,null,{"$f":"IF(N(Worksheet!S412)=0,N(Worksheet!R412),N(Worksheet!S412))","v":0},{"$f":"IFERROR(Worksheet!W412/(Worksheet!R412+Worksheet!U412),0)","v":0},{"$f":"Worksheet!AE412","v":0},{"$f":"Worksheet!AD412","v":0},0,{"$f":"IF(Worksheet!AL412=0,0,Worksheet!AL412/I390)","v":0},0,null,null,null,{"$f":"IFERROR(Worksheet!X412/(Worksheet!S412+Worksheet!V412),0)","v":0},{"$f":"IF(Worksheet!E412=\"\",\"\",Worksheet!E412)","v":""},{"$f":"IF(Worksheet!B412=\"\",\"\",Worksheet!B412)","v":""},{"$f":"IF(Worksheet!D412=\"\",\"\",Worksheet!D412)","v":""},{"$f":"IF(Worksheet!$A$11=TRUE,\"Y\",\"N\")","v":"N"},{"$f":"IF(Worksheet!$A$12=TRUE,\"Y\",\"N\")","v":"N"},{"$f":"IF(Worksheet!$B$11=TRUE,\"Y\",\"N\")","v":"N"},{"$f":"IF(Worksheet!$B$12=TRUE,\"Y\",\"N\")","v":"N"},{"$f":"IF(Worksheet!$C$11=TRUE,\"Y\",\"N\")","v":"N"},{"$f":"IFERROR(IF(N(Worksheet!V412)=0,Worksheet!U412,Worksheet!V412),\"\")","v":0}]
[{"$f":"IF(ISBLANK(Worksheet!F413)=FALSE,VLOOKUP(Worksheet!A413,MeasureCode_Lookup,6,FALSE),\"\")","v":""},{"$f":"Worksheet!H413","v":0},{"$f":"Worksheet!I413","v":0},{"$f":"IFERROR(IF(Worksheet!Z413=0,Worksheet!Y413/I391,Worksheet!Z413/R391),0)","v":0},"W Controlled",null,null,{"$f":"IF(N(Worksheet!S413)=0,N(Worksheet!R413),N(Worksheet!S413))","v":0},{"$f":"IFERROR(Worksheet!W413/(Worksheet!R413+Worksheet!U413),0)","v":0},{"$f":"Worksheet!AE413","v":0},{"$f":"Worksheet!AD413","v":0},0,{"$f":"IF(Worksheet!AL413=0,0,Worksheet!AL413/I391)","v":0},0,null,null,null,{"$f":"IFERROR(Worksheet!X413/(Worksheet!S413+Worksheet!V413),0)","v":0},{"$f":"IF(Worksheet!E413=\"\",\"\",Worksheet!E413)","v":""},{"$f":"IF(Worksheet!B413=\"\",\"\",Worksheet!B413)","v":""},{"$f":"IF(Worksheet!D413=\"\",\"\",Worksheet!D413)","v":""},{"$f":"IF(Worksheet!$A$11=TRUE,\"Y\",\"N\")","v":"N"},{"$f":"IF(Worksheet!$A$12=TRUE,\"Y\",\"N\")","v":"N"},{"$f":"IF(Worksheet!$B$11=TRUE,\"Y\",\"N\")","v":"N"},{"$f":"IF(Worksheet!$B$12=TRUE,\"Y\",\"N\")","v":"N"},{"$f":"IF(Worksheet!$C$11=TRUE,\"Y\",\"N\")","v":"N"},{"$f":"IFERROR(IF(N(Worksheet!V413)=0,Worksheet!U413,Worksheet!V413),\"\")","v":0}]
[{"$f":"IF(ISBLANK(Worksheet!F414)=FALSE,VLOOKUP(Worksheet!A414,MeasureCode_Lookup,6,FALSE),\"\")","v":""},{"$f":"Worksheet!H414","v":0},{"$f":"Worksheet!I414","v":0},{"$f":"IFERROR(IF(Worksheet!Z414=0,Worksheet!Y414/I392,Worksheet!Z414/R392),0)","v":0},"W Controlled",null,null,{"$f":"IF(N(Worksheet!S414)=0,N(Worksheet!R414),N(Worksheet!S414))","v":0},{"$f":"IFERROR(Worksheet!W414/(Worksheet!R414+Worksheet!U414),0)","v":0},{"$f":"Worksheet!AE414","v":0},{"$f":"Worksheet!AD414","v":0},0,{"$f":"IF(Worksheet!AL414=0,0,Worksheet!AL414/I392)","v":0},0,null,null,null,{"$f":"IFERROR(Worksheet!X414/(Worksheet!S414+Worksheet!V414),0)","v":0},{"$f":"IF(Worksheet!E414=\"\",\"\",Worksheet!E414)","v":""},{"$f":"IF(Worksheet!B414=\"\",\"\",Worksheet!B414)","v":""},{"$f":"IF(Worksheet!D414=\"\",\"\",Worksheet!D414)","v":""},{"$f":"IF(Worksheet!$A$11=TRUE,\"Y\",\"N\")","v":"N"},{"$f":"IF(Worksheet!$A$12=TRUE,\"Y\",\"N\")","v":"N"},{"$f":"IF(Worksheet!$B$11=TRUE,\"Y\",\"N\")","v":"N"},{"$f":"IF(Worksheet!$B$12=TRUE,\"Y\",\"N\")","v":"N"},{"$f":"IF(Worksheet!$C$11=TRUE,\"Y\",\"N\")","v":"N"},{"$f":"IFERROR(IF(N(Worksheet!V414)=0,Worksheet!U414,Worksheet!V414),\"\")","v":0}]
[{"$f":"IF(ISBLANK(Worksheet!F415)=FALSE,VLOOKUP(Worksheet!A415,MeasureCode_Lookup,6,FALSE),\"\")","v":""},{"$f":"Worksheet!H415","v":0},{"$f":"Worksheet!I415","v":0},{"$f":"IFERROR(IF(Worksheet!Z415=0,Worksheet!Y415/I393,Worksheet!Z415/R393),0)","v":0},"W Controlled",null,null,{"$f":"IF(N(Worksheet!S415)=0,N(Worksheet!R415),N(Worksheet!S415))","v":0},{"$f":"IFERROR(Worksheet!W415/(Worksheet!R415+Worksheet!U415),0)","v":0},{"$f":"Worksheet!AE415","v":0},{"$f":"Worksheet!AD415","v":0},0,{"$f":"IF(Worksheet!AL415=0,0,Worksheet!AL415/I393)","v":0},0,null,null,null,{"$f":"IFERROR(Worksheet!X415/(Worksheet!S415+Worksheet!V415),0)","v":0},{"$f":"IF(Worksheet!E415=\"\",\"\",Worksheet!E415)","v":""},{"$f":"IF(Worksheet!B415=\"\",\"\",Worksheet!B415)","v":""},{"$f":"IF(Worksheet!D415=\"\",\"\",Worksheet!D415)","v":""},{"$f":"IF(Worksheet!$A$11=TRUE,\"Y\",\"N\")","v":"N"},{"$f":"IF(Worksheet!$A$12=TRUE,\"Y\",\"N\")","v":"N"},{"$f":"IF(Worksheet!$B$11=TRUE,\"Y\",\"N\")","v":"N"},{"$f":"IF(Worksheet!$B$12=TRUE,\"Y\",\"N\")","v":"N"},{"$f":"IF(Worksheet!$C$11=TRUE,\"Y\",\"N\")","v":"N"},{"$f":"IFERROR(IF(N(Worksheet!V415)=0,Worksheet!U415,Worksheet!V415),\"\")","v":0}]
[{"$f":"IF(ISBLANK(Worksheet!F416)=FALSE,VLOOKUP(Worksheet!A416,MeasureCode_Lookup,6,FALSE),\"\")","v":""},{"$f":"Worksheet!H416","v":0},{"$f":"Worksheet!I416","v":0},{"$f":"IFERROR(IF(Worksheet!Z416=0,Worksheet!Y416/I394,Worksheet!Z416/R394),0)","v":0},"W Controlled",null,null,{"$f":"IF(N(Worksheet!S416)=0,N(Worksheet!R416),N(Worksheet!S416))","v":0},{"$f":"IFERROR(Worksheet!W416/(Worksheet!R416+Worksheet!U416),0)","v":0},{"$f":"Worksheet!AE416","v":0},{"$f":"Worksheet!AD416","v":0},0,{"$f":"IF(Worksheet!AL416=0,0,Worksheet!AL416/I394)","v":0},0,null,null,null,{"$f":"IFERROR(Worksheet!X416/(Worksheet!S416+Worksheet!V416),0)","v":0},{"$f":"IF(Worksheet!E416=\"\",\"\",Worksheet!E416)","v":""},{"$f":"IF(Worksheet!B416=\"\",\"\",Worksheet!B416)","v":""},{"$f":"IF(Worksheet!D416=\"\",\"\",Worksheet!D416)","v":""},{"$f":"IF(Worksheet!$A$11=TRUE,\"Y\",\"N\")","v":"N"},{"$f":"IF(Worksheet!$A$12=TRUE,\"Y\",\"N\")","v":"N"},{"$f":"IF(Worksheet!$B$11=TRUE,\"Y\",\"N\")","v":"N"},{"$f":"IF(Worksheet!$B$12=TRUE,\"Y\",\"N\")","v":"N"},{"$f":"IF(Worksheet!$C$11=TRUE,\"Y\",\"N\")","v":"N"},{"$f":"IFERROR(IF(N(Worksheet!V416)=0,Worksheet!U416,Worksheet!V416),\"\")","v":0}]
[{"$f":"IF(ISBLANK(Worksheet!F417)=FALSE,VLOOKUP(Worksheet!A417,MeasureCode_Lookup,6,FALSE),\"\")","v":""},{"$f":"Worksheet!H417","v":0},{"$f":"Worksheet!I417","v":0},{"$f":"IFERROR(IF(Worksheet!Z417=0,Worksheet!Y417/I395,Worksheet!Z417/R395),0)","v":0},"W Controlled",null,null,{"$f":"IF(N(Worksheet!S417)=0,N(Worksheet!R417),N(Worksheet!S417))","v":0},{"$f":"IFERROR(Worksheet!W417/(Worksheet!R417+Worksheet!U417),0)","v":0},{"$f":"Worksheet!AE417","v":0},{"$f":"Worksheet!AD417","v":0},0,{"$f":"IF(Worksheet!AL417=0,0,Worksheet!AL417/I395)","v":0},0,null,null,null,{"$f":"IFERROR(Worksheet!X417/(Worksheet!S417+Worksheet!V417),0)","v":0},{"$f":"IF(Worksheet!E417=\"\",\"\",Worksheet!E417)","v":""},{"$f":"IF(Worksheet!B417=\"\",\"\",Worksheet!B417)","v":""},{"$f":"IF(Worksheet!D417=\"\",\"\",Worksheet!D417)","v":""},{"$f":"IF(Worksheet!$A$11=TRUE,\"Y\",\"N\")","v":"N"},{"$f":"IF(Worksheet!$A$12=TRUE,\"Y\",\"N\")","v":"N"},{"$f":"IF(Worksheet!$B$11=TRUE,\"Y\",\"N\")","v":"N"},{"$f":"IF(Worksheet!$B$12=TRUE,\"Y\",\"N\")","v":"N"},{"$f":"IF(Worksheet!$C$11=TRUE,\"Y\",\"N\")","v":"N"},{"$f":"IFERROR(IF(N(Worksheet!V417)=0,Worksheet!U417,Worksheet!V417),\"\")","v":0}]
[{"$f":"IF(ISBLANK(Worksheet!F418)=FALSE,VLOOKUP(Worksheet!A418,MeasureCode_Lookup,6,FALSE),\"\")","v":""},{"$f":"Worksheet!H418","v":0},{"$f":"Worksheet!I418","v":0},{"$f":"IFERROR(IF(Worksheet!Z418=0,Worksheet!Y418/I396,Worksheet!Z418/R396),0)","v":0},"W Controlled",null,null,{"$f":"IF(N(Worksheet!S418)=0,N(Worksheet!R418),N(Worksheet!S418))","v":0},{"$f":"IFERROR(Worksheet!W418/(Worksheet!R418+Worksheet!U418),0)","v":0},{"$f":"Worksheet!AE418","v":0},{"$f":"Worksheet!AD418","v":0},0,{"$f":"IF(Worksheet!AL418=0,0,Worksheet!AL418/I396)","v":0},0,null,null,null,{"$f":"IFERROR(Worksheet!X418/(Worksheet!S418+Worksheet!V418),0)","v":0},{"$f":"IF(Worksheet!E418=\"\",\"\",Worksheet!E418)","v":""},{"$f":"IF(Worksheet!B418=\"\",\"\",Worksheet!B418)","v":""},{"$f":"IF(Worksheet!D418=\"\",\"\",Worksheet!D418)","v":""},{"$f":"IF(Worksheet!$A$11=TRUE,\"Y\",\"N\")","v":"N"},{"$f":"IF(Worksheet!$A$12=TRUE,\"Y\",\"N\")","v":"N"},{"$f":"IF(Worksheet!$B$11=TRUE,\"Y\",\"N\")","v":"N"},{"$f":"IF(Worksheet!$B$12=TRUE,\"Y\",\"N\")","v":"N"},{"$f":"IF(Worksheet!$C$11=TRUE,\"Y\",\"N\")","v":"N"},{"$f":"IFERROR(IF(N(Worksheet!V418)=0,Worksheet!U418,Worksheet!V418),\"\")","v":0}]
[{"$f":"IF(ISBLANK(Worksheet!F419)=FALSE,VLOOKUP(Worksheet!A419,MeasureCode_Lookup,6,FALSE),\"\")","v":""},{"$f":"Worksheet!H419","v":0},{"$f":"Worksheet!I419","v":0},{"$f":"IFERROR(IF(Worksheet!Z419=0,Worksheet!Y419/I397,Worksheet!Z419/R397),0)","v":0},"W Controlled",null,null,{"$f":"IF(N(Worksheet!S419)=0,N(Worksheet!R419),N(Worksheet!S419))","v":0},{"$f":"IFERROR(Worksheet!W419/(Worksheet!R419+Worksheet!U419),0)","v":0},{"$f":"Worksheet!AE419","v":0},{"$f":"Worksheet!AD419","v":0},0,{"$f":"IF(Worksheet!AL419=0,0,Worksheet!AL419/I397)","v":0},0,null,null,null,{"$f":"IFERROR(Worksheet!X419/(Worksheet!S419+Worksheet!V419),0)","v":0},{"$f":"IF(Worksheet!E419=\"\",\"\",Worksheet!E419)","v":""},{"$f":"IF(Worksheet!B419=\"\",\"\",Worksheet!B419)","v":""},{"$f":"IF(Worksheet!D419=\"\",\"\",Worksheet!D419)","v":""},{"$f":"IF(Worksheet!$A$11=TRUE,\"Y\",\"N\")","v":"N"},{"$f":"IF(Worksheet!$A$12=TRUE,\"Y\",\"N\")","v":"N"},{"$f":"IF(Worksheet!$B$11=TRUE,\"Y\",\"N\")","v":"N"},{"$f":"IF(Worksheet!$B$12=TRUE,\"Y\",\"N\")","v":"N"},{"$f":"IF(Worksheet!$C$11=TRUE,\"Y\",\"N\")","v":"N"},{"$f":"IFERROR(IF(N(Worksheet!V419)=0,Worksheet!U419,Worksheet!V419),\"\")","v":0}]
[{"$f":"IF(ISBLANK(Worksheet!F420)=FALSE,VLOOKUP(Worksheet!A420,MeasureCode_Lookup,6,FALSE),\"\")","v":""},{"$f":"Worksheet!H420","v":0},{"$f":"Worksheet!I420","v":0},{"$f":"IFERROR(IF(Worksheet!Z420=0,Worksheet!Y420/I398,Worksheet!Z420/R398),0)","v":0},"W Controlled",null,null,{"$f":"IF(N(Worksheet!S420)=0,N(Worksheet!R420),N(Worksheet!S420))","v":0},{"$f":"IFERROR(Worksheet!W420/(Worksheet!R420+Worksheet!U420),0)","v":0},{"$f":"Worksheet!AE420","v":0},{"$f":"Worksheet!AD420","v":0},0,{"$f":"IF(Worksheet!AL420=0,0,Worksheet!AL420/I398)","v":0},0,null,null,null,{"$f":"IFERROR(Worksheet!X420/(Worksheet!S420+Worksheet!V420),0)","v":0},{"$f":"IF(Worksheet!E420=\"\",\"\",Worksheet!E420)","v":""},{"$f":"IF(Worksheet!B420=\"\",\"\",Worksheet!B420)","v":""},{"$f":"IF(Worksheet!D420=\"\",\"\",Worksheet!D420)","v":""},{"$f":"IF(Worksheet!$A$11=TRUE,\"Y\",\"N\")","v":"N"},{"$f":"IF(Worksheet!$A$12=TRUE,\"Y\",\"N\")","v":"N"},{"$f":"IF(Worksheet!$B$11=TRUE,\"Y\",\"N\")","v":"N"},{"$f":"IF(Worksheet!$B$12=TRUE,\"Y\",\"N\")","v":"N"},{"$f":"IF(Worksheet!$C$11=TRUE,\"Y\",\"N\")","v":"N"},{"$f":"IFERROR(IF(N(Worksheet!V420)=0,Worksheet!U420,Worksheet!V420),\"\")","v":0}]
[{"$f":"IF(ISBLANK(Worksheet!F421)=FALSE,VLOOKUP(Worksheet!A421,MeasureCode_Lookup,6,FALSE),\"\")","v":""},{"$f":"Worksheet!H421","v":0},{"$f":"Worksheet!I421","v":0},{"$f":"IFERROR(IF(Worksheet!Z421=0,Worksheet!Y421/I399,Worksheet!Z421/R399),0)","v":0},"W Controlled",null,null,{"$f":"IF(N(Worksheet!S421)=0,N(Worksheet!R421),N(Worksheet!S421))","v":0},{"$f":"IFERROR(Worksheet!W421/(Worksheet!R421+Worksheet!U421),0)","v":0},{"$f":"Worksheet!AE421","v":0},{"$f":"Worksheet!AD421","v":0},0,{"$f":"IF(Worksheet!AL421=0,0,Worksheet!AL421/I399)","v":0},0,null,null,null,{"$f":"IFERROR(Worksheet!X421/(Worksheet!S421+Worksheet!V421),0)","v":0},{"$f":"IF(Worksheet!E421=\"\",\"\",Worksheet!E421)","v":""},{"$f":"IF(Worksheet!B421=\"\",\"\",Worksheet!B421)","v":""},{"$f":"IF(Worksheet!D421=\"\",\"\",Worksheet!D421)","v":""},{"$f":"IF(Worksheet!$A$11=TRUE,\"Y\",\"N\")","v":"N"},{"$f":"IF(Worksheet!$A$12=TRUE,\"Y\",\"N\")","v":"N"},{"$f":"IF(Worksheet!$B$11=TRUE,\"Y\",\"N\")","v":"N"},{"$f":"IF(Worksheet!$B$12=TRUE,\"Y\",\"N\")","v":"N"},{"$f":"IF(Worksheet!$C$11=TRUE,\"Y\",\"N\")","v":"N"},{"$f":"IFERROR(IF(N(Worksheet!V421)=0,Worksheet!U421,Worksheet!V421),\"\")","v":0}]
[{"$f":"IF(ISBLANK(Worksheet!F422)=FALSE,VLOOKUP(Worksheet!A422,MeasureCode_Lookup,6,FALSE),\"\")","v":""},{"$f":"Worksheet!H422","v":0},{"$f":"Worksheet!I422","v":0},{"$f":"IFERROR(IF(Worksheet!Z422=0,Worksheet!Y422/I400,Worksheet!Z422/R400),0)","v":0},"W Controlled",null,null,{"$f":"IF(N(Worksheet!S422)=0,N(Worksheet!R422),N(Worksheet!S422))","v":0},{"$f":"IFERROR(Worksheet!W422/(Worksheet!R422+Worksheet!U422),0)","v":0},{"$f":"Worksheet!AE422","v":0},{"$f":"Worksheet!AD422","v":0},0,{"$f":"IF(Worksheet!AL422=0,0,Worksheet!AL422/I400)","v":0},0,null,null,null,{"$f":"IFERROR(Worksheet!X422/(Worksheet!S422+Worksheet!V422),0)","v":0},{"$f":"IF(Worksheet!E422=\"\",\"\",Worksheet!E422)","v":""},{"$f":"IF(Worksheet!B422=\"\",\"\",Worksheet!B422)","v":""},{"$f":"IF(Worksheet!D422=\"\",\"\",Worksheet!D422)","v":""},{"$f":"IF(Worksheet!$A$11=TRUE,\"Y\",\"N\")","v":"N"},{"$f":"IF(Worksheet!$A$12=TRUE,\"Y\",\"N\")","v":"N"},{"$f":"IF(Worksheet!$B$11=TRUE,\"Y\",\"N\")","v":"N"},{"$f":"IF(Worksheet!$B$12=TRUE,\"Y\",\"N\")","v":"N"},{"$f":"IF(Worksheet!$C$11=TRUE,\"Y\",\"N\")","v":"N"},{"$f":"IFERROR(IF(N(Worksheet!V422)=0,Worksheet!U422,Worksheet!V422),\"\")","v":0}]
[{"$f":"IF(ISBLANK(Worksheet!F423)=FALSE,VLOOKUP(Worksheet!A423,MeasureCode_Lookup,6,FALSE),\"\")","v":""},{"$f":"Worksheet!H423","v":0},{"$f":"Worksheet!I423","v":0},{"$f":"IFERROR(IF(Worksheet!Z423=0,Worksheet!Y423/I401,Worksheet!Z423/R401),0)","v":0},"W Controlled",null,null,{"$f":"IF(N(Worksheet!S423)=0,N(Worksheet!R423),N(Worksheet!S423))","v":0},{"$f":"IFERROR(Worksheet!W423/(Worksheet!R423+Worksheet!U423),0)","v":0},{"$f":"Worksheet!AE423","v":0},{"$f":"Worksheet!AD423","v":0},0,{"$f":"IF(Worksheet!AL423=0,0,Worksheet!AL423/I401)","v":0},0,null,null,null,{"$f":"IFERROR(Worksheet!X423/(Worksheet!S423+Worksheet!V423),0)","v":0},{"$f":"IF(Worksheet!E423=\"\",\"\",Worksheet!E423)","v":""},{"$f":"IF(Worksheet!B423=\"\",\"\",Worksheet!B423)","v":""},{"$f":"IF(Worksheet!D423=\"\",\"\",Worksheet!D423)","v":""},{"$f":"IF(Worksheet!$A$11=TRUE,\"Y\",\"N\")","v":"N"},{"$f":"IF(Worksheet!$A$12=TRUE,\"Y\",\"N\")","v":"N"},{"$f":"IF(Worksheet!$B$11=TRUE,\"Y\",\"N\")","v":"N"},{"$f":"IF(Worksheet!$B$12=TRUE,\"Y\",\"N\")","v":"N"},{"$f":"IF(Worksheet!$C$11=TRUE,\"Y\",\"N\")","v":"N"},{"$f":"IFERROR(IF(N(Worksheet!V423)=0,Worksheet!U423,Worksheet!V423),\"\")","v":0}]
[{"$f":"IF(ISBLANK(Worksheet!F424)=FALSE,VLOOKUP(Worksheet!A424,MeasureCode_Lookup,6,FALSE),\"\")","v":""},{"$f":"Worksheet!H424","v":0},{"$f":"Worksheet!I424","v":0},{"$f":"IFERROR(IF(Worksheet!Z424=0,Worksheet!Y424/I402,Worksheet!Z424/R402),0)","v":0},"W Controlled",null,null,{"$f":"IF(N(Worksheet!S424)=0,N(Worksheet!R424),N(Worksheet!S424))","v":0},{"$f":"IFERROR(Worksheet!W424/(Worksheet!R424+Worksheet!U424),0)","v":0},{"$f":"Worksheet!AE424","v":0},{"$f":"Worksheet!AD424","v":0},0,{"$f":"IF(Worksheet!AL424=0,0,Worksheet!AL424/I402)","v":0},0,null,null,null,{"$f":"IFERROR(Worksheet!X424/(Worksheet!S424+Worksheet!V424),0)","v":0},{"$f":"IF(Worksheet!E424=\"\",\"\",Worksheet!E424)","v":""},{"$f":"IF(Worksheet!B424=\"\",\"\",Worksheet!B424)","v":""},{"$f":"IF(Worksheet!D424=\"\",\"\",Worksheet!D424)","v":""},{"$f":"IF(Worksheet!$A$11=TRUE,\"Y\",\"N\")","v":"N"},{"$f":"IF(Worksheet!$A$12=TRUE,\"Y\",\"N\")","v":"N"},{"$f":"IF(Worksheet!$B$11=TRUE,\"Y\",\"N\")","v":"N"},{"$f":"IF(Worksheet!$B$12=TRUE,\"Y\",\"N\")","v":"N"},{"$f":"IF(Worksheet!$C$11=TRUE,\"Y\",\"N\")","v":"N"},{"$f":"IFERROR(IF(N(Worksheet!V424)=0,Worksheet!U424,Worksheet!V424),\"\")","v":0}]
[{"$f":"IF(ISBLANK(Worksheet!F425)=FALSE,VLOOKUP(Worksheet!A425,MeasureCode_Lookup,6,FALSE),\"\")","v":""},{"$f":"Worksheet!H425","v":0},{"$f":"Worksheet!I425","v":0},{"$f":"IFERROR(IF(Worksheet!Z425=0,Worksheet!Y425/I403,Worksheet!Z425/R403),0)","v":0},"W Controlled",null,null,{"$f":"IF(N(Worksheet!S425)=0,N(Worksheet!R425),N(Worksheet!S425))","v":0},{"$f":"IFERROR(Worksheet!W425/(Worksheet!R425+Worksheet!U425),0)","v":0},{"$f":"Worksheet!AE425","v":0},{"$f":"Worksheet!AD425","v":0},0,{"$f":"IF(Worksheet!AL425=0,0,Worksheet!AL425/I403)","v":0},0,null,null,null,{"$f":"IFERROR(Worksheet!X425/(Worksheet!S425+Worksheet!V425),0)","v":0},{"$f":"IF(Worksheet!E425=\"\",\"\",Worksheet!E425)","v":""},{"$f":"IF(Worksheet!B425=\"\",\"\",Worksheet!B425)","v":""},{"$f":"IF(Worksheet!D425=\"\",\"\",Worksheet!D425)","v":""},{"$f":"IF(Worksheet!$A$11=TRUE,\"Y\",\"N\")","v":"N"},{"$f":"IF(Worksheet!$A$12=TRUE,\"Y\",\"N\")","v":"N"},{"$f":"IF(Worksheet!$B$11=TRUE,\"Y\",\"N\")","v":"N"},{"$f":"IF(Worksheet!$B$12=TRUE,\"Y\",\"N\")","v":"N"},{"$f":"IF(Worksheet!$C$11=TRUE,\"Y\",\"N\")","v":"N"},{"$f":"IFERROR(IF(N(Worksheet!V425)=0,Worksheet!U425,Worksheet!V425),\"\")","v":0}]
[{"$f":"IF(ISBLANK(Worksheet!F426)=FALSE,VLOOKUP(Worksheet!A426,MeasureCode_Lookup,6,FALSE),\"\")","v":""},{"$f":"Worksheet!H426","v":0},{"$f":"Worksheet!I426","v":0},{"$f":"IFERROR(IF(Worksheet!Z426=0,Worksheet!Y426/I404,Worksheet!Z426/R404),0)","v":0},"W Controlled",null,null,{"$f":"IF(N(Worksheet!S426)=0,N(Worksheet!R426),N(Worksheet!S426))","v":0},{"$f":"IFERROR(Worksheet!W426/(Worksheet!R426+Worksheet!U426),0)","v":0},{"$f":"Worksheet!AE426","v":0},{"$f":"Worksheet!AD426","v":0},0,{"$f":"IF(Worksheet!AL426=0,0,Worksheet!AL426/I404)","v":0},0,null,null,null,{"$f":"IFERROR(Worksheet!X426/(Worksheet!S426+Worksheet!V426),0)","v":0},{"$f":"IF(Worksheet!E426=\"\",\"\",Worksheet!E426)","v":""},{"$f":"IF(Worksheet!B426=\"\",\"\",Worksheet!B426)","v":""},{"$f":"IF(Worksheet!D426=\"\",\"\",Worksheet!D426)","v":""},{"$f":"IF(Worksheet!$A$11=TRUE,\"Y\",\"N\")","v":"N"},{"$f":"IF(Worksheet!$A$12=TRUE,\"Y\",\"N\")","v":"N"},{"$f":"IF(Worksheet!$B$11=TRUE,\"Y\",\"N\")","v":"N"},{"$f":"IF(Worksheet!$B$12=TRUE,\"Y\",\"N\")","v":"N"},{"$f":"IF(Worksheet!$C$11=TRUE,\"Y\",\"N\")","v":"N"},{"$f":"IFERROR(IF(N(Worksheet!V426)=0,Worksheet!U426,Worksheet!V426),\"\")","v":0}]
[{"$f":"IF(ISBLANK(Worksheet!F427)=FALSE,VLOOKUP(Worksheet!A427,MeasureCode_Lookup,6,FALSE),\"\")","v":""},{"$f":"Worksheet!H427","v":0},{"$f":"Worksheet!I427","v":0},{"$f":"IFERROR(IF(Worksheet!Z427=0,Worksheet!Y427/I405,Worksheet!Z427/R405),0)","v":0},"W Controlled",null,null,{"$f":"IF(N(Worksheet!S427)=0,N(Worksheet!R427),N(Worksheet!S427))","v":0},{"$f":"IFERROR(Worksheet!W427/(Worksheet!R427+Worksheet!U427),0)","v":0},{"$f":"Worksheet!AE427","v":0},{"$f":"Worksheet!AD427","v":0},0,{"$f":"IF(Worksheet!AL427=0,0,Worksheet!AL427/I405)","v":0},0,null,null,null,{"$f":"IFERROR(Worksheet!X427/(Worksheet!S427+Worksheet!V427),0)","v":0},{"$f":"IF(Worksheet!E427=\"\",\"\",Worksheet!E427)","v":""},{"$f":"IF(Worksheet!B427=\"\",\"\",Worksheet!B427)","v":""},{"$f":"IF(Worksheet!D427=\"\",\"\",Worksheet!D427)","v":""},{"$f":"IF(Worksheet!$A$11=TRUE,\"Y\",\"N\")","v":"N"},{"$f":"IF(Worksheet!$A$12=TRUE,\"Y\",\"N\")","v":"N"},{"$f":"IF(Worksheet!$B$11=TRUE,\"Y\",\"N\")","v":"N"},{"$f":"IF(Worksheet!$B$12=TRUE,\"Y\",\"N\")","v":"N"},{"$f":"IF(Worksheet!$C$11=TRUE,\"Y\",\"N\")","v":"N"},{"$f":"IFERROR(IF(N(Worksheet!V427)=0,Worksheet!U427,Worksheet!V427),\"\")","v":0}]
[{"$f":"IF(ISBLANK(Worksheet!F428)=FALSE,VLOOKUP(Worksheet!A428,MeasureCode_Lookup,6,FALSE),\"\")","v":""},{"$f":"Worksheet!H428","v":0},{"$f":"Worksheet!I428","v":0},{"$f":"IFERROR(IF(Worksheet!Z428=0,Worksheet!Y428/I406,Worksheet!Z428/R406),0)","v":0},"W Controlled",null,null,{"$f":"IF(N(Worksheet!S428)=0,N(Worksheet!R428),N(Worksheet!S428))","v":0},{"$f":"IFERROR(Worksheet!W428/(Worksheet!R428+Worksheet!U428),0)","v":0},{"$f":"Worksheet!AE428","v":0},{"$f":"Worksheet!AD428","v":0},0,{"$f":"IF(Worksheet!AL428=0,0,Worksheet!AL428/I406)","v":0},0,null,null,null,{"$f":"IFERROR(Worksheet!X428/(Worksheet!S428+Worksheet!V428),0)","v":0},{"$f":"IF(Worksheet!E428=\"\",\"\",Worksheet!E428)","v":""},{"$f":"IF(Worksheet!B428=\"\",\"\",Worksheet!B428)","v":""},{"$f":"IF(Worksheet!D428=\"\",\"\",Worksheet!D428)","v":""},{"$f":"IF(Worksheet!$A$11=TRUE,\"Y\",\"N\")","v":"N"},{"$f":"IF(Worksheet!$A$12=TRUE,\"Y\",\"N\")","v":"N"},{"$f":"IF(Worksheet!$B$11=TRUE,\"Y\",\"N\")","v":"N"},{"$f":"IF(Worksheet!$B$12=TRUE,\"Y\",\"N\")","v":"N"},{"$f":"IF(Worksheet!$C$11=TRUE,\"Y\",\"N\")","v":"N"},{"$f":"IFERROR(IF(N(Worksheet!V428)=0,Worksheet!U428,Worksheet!V428),\"\")","v":0}]
[{"$f":"IF(ISBLANK(Worksheet!F429)=FALSE,VLOOKUP(Worksheet!A429,MeasureCode_Lookup,6,FALSE),\"\")","v":""},{"$f":"Worksheet!H429","v":0},{"$f":"Worksheet!I429","v":0},{"$f":"IFERROR(IF(Worksheet!Z429=0,Worksheet!Y429/I407,Worksheet!Z429/R407),0)","v":0},"W Controlled",null,null,{"$f":"IF(N(Worksheet!S429)=0,N(Worksheet!R429),N(Worksheet!S429))","v":0},{"$f":"IFERROR(Worksheet!W429/(Worksheet!R429+Worksheet!U429),0)","v":0},{"$f":"Worksheet!AE429","v":0},{"$f":"Worksheet!AD429","v":0},0,{"$f":"IF(Worksheet!AL429=0,0,Worksheet!AL429/I407)","v":0},0,null,null,null,{"$f":"IFERROR(Worksheet!X429/(Worksheet!S429+Worksheet!V429),0)","v":0},{"$f":"IF(Worksheet!E429=\"\",\"\",Worksheet!E429)","v":""},{"$f":"IF(Worksheet!B429=\"\",\"\",Worksheet!B429)","v":""},{"$f":"IF(Worksheet!D429=\"\",\"\",Worksheet!D429)","v":""},{"$f":"IF(Worksheet!$A$11=TRUE,\"Y\",\"N\")","v":"N"},{"$f":"IF(Worksheet!$A$12=TRUE,\"Y\",\"N\")","v":"N"},{"$f":"IF(Worksheet!$B$11=TRUE,\"Y\",\"N\")","v":"N"},{"$f":"IF(Worksheet!$B$12=TRUE,\"Y\",\"N\")","v":"N"},{"$f":"IF(Worksheet!$C$11=TRUE,\"Y\",\"N\")","v":"N"},{"$f":"IFERROR(IF(N(Worksheet!V429)=0,Worksheet!U429,Worksheet!V429),\"\")","v":0}]
[{"$f":"IF(ISBLANK(Worksheet!F430)=FALSE,VLOOKUP(Worksheet!A430,MeasureCode_Lookup,6,FALSE),\"\")","v":""},{"$f":"Worksheet!H430","v":0},{"$f":"Worksheet!I430","v":0},{"$f":"IFERROR(IF(Worksheet!Z430=0,Worksheet!Y430/I408,Worksheet!Z430/R408),0)","v":0},"W Controlled",null,null,{"$f":"IF(N(Worksheet!S430)=0,N(Worksheet!R430),N(Worksheet!S430))","v":0},{"$f":"IFERROR(Worksheet!W430/(Worksheet!R430+Worksheet!U430),0)","v":0},{"$f":"Worksheet!AE430","v":0},{"$f":"Worksheet!AD430","v":0},0,{"$f":"IF(Worksheet!AL430=0,0,Worksheet!AL430/I408)","v":0},0,null,null,null,{"$f":"IFERROR(Worksheet!X430/(Worksheet!S430+Worksheet!V430),0)","v":0},{"$f":"IF(Worksheet!E430=\"\",\"\",Worksheet!E430)","v":""},{"$f":"IF(Worksheet!B430=\"\",\"\",Worksheet!B430)","v":""},{"$f":"IF(Worksheet!D430=\"\",\"\",Worksheet!D430)","v":""},{"$f":"IF(Worksheet!$A$11=TRUE,\"Y\",\"N\")","v":"N"},{"$f":"IF(Worksheet!$A$12=TRUE,\"Y\",\"N\")","v":"N"},{"$f":"IF(Worksheet!$B$11=TRUE,\"Y\",\"N\")","v":"N"},{"$f":"IF(Worksheet!$B$12=TRUE,\"Y\",\"N\")","v":"N"},{"$f":"IF(Worksheet!$C$11=TRUE,\"Y\",\"N\")","v":"N"},{"$f":"IFERROR(IF(N(Worksheet!V430)=0,Worksheet!U430,Worksheet!V430),\"\")","v":0}]
[{"$f":"IF(ISBLANK(Worksheet!F431)=FALSE,VLOOKUP(Worksheet!A431,MeasureCode_Lookup,6,FALSE),\"\")","v":""},{"$f":"Worksheet!H431","v":0},{"$f":"Worksheet!I431","v":0},{"$f":"IFERROR(IF(Worksheet!Z431=0,Worksheet!Y431/I409,Worksheet!Z431/R409),0)","v":0},"W Controlled",null,null,{"$f":"IF(N(Worksheet!S431)=0,N(Worksheet!R431),N(Worksheet!S431))","v":0},{"$f":"IFERROR(Worksheet!W431/(Worksheet!R431+Worksheet!U431),0)","v":0},{"$f":"Worksheet!AE431","v":0},{"$f":"Worksheet!AD431","v":0},0,{"$f":"IF(Worksheet!AL431=0,0,Worksheet!AL431/I409)","v":0},0,null,null,null,{"$f":"IFERROR(Worksheet!X431/(Worksheet!S431+Worksheet!V431),0)","v":0},{"$f":"IF(Worksheet!E431=\"\",\"\",Worksheet!E431)","v":""},{"$f":"IF(Worksheet!B431=\"\",\"\",Worksheet!B431)","v":""},{"$f":"IF(Worksheet!D431=\"\",\"\",Worksheet!D431)","v":""},{"$f":"IF(Worksheet!$A$11=TRUE,\"Y\",\"N\")","v":"N"},{"$f":"IF(Worksheet!$A$12=TRUE,\"Y\",\"N\")","v":"N"},{"$f":"IF(Worksheet!$B$11=TRUE,\"Y\",\"N\")","v":"N"},{"$f":"IF(Worksheet!$B$12=TRUE,\"Y\",\"N\")","v":"N"},{"$f":"IF(Worksheet!$C$11=TRUE,\"Y\",\"N\")","v":"N"},{"$f":"IFERROR(IF(N(Worksheet!V431)=0,Worksheet!U431,Worksheet!V431),\"\")","v":0}]
[{"$f":"IF(ISBLANK(Worksheet!F432)=FALSE,VLOOKUP(Worksheet!A432,MeasureCode_Lookup,6,FALSE),\"\")","v":""},{"$f":"Worksheet!H432","v":0},{"$f":"Worksheet!I432","v":0},{"$f":"IFERROR(IF(Worksheet!Z432=0,Worksheet!Y432/I410,Worksheet!Z432/R410),0)","v":0},"W Controlled",null,null,{"$f":"IF(N(Worksheet!S432)=0,N(Worksheet!R432),N(Worksheet!S432))","v":0},{"$f":"IFERROR(Worksheet!W432/(Worksheet!R432+Worksheet!U432),0)","v":0},{"$f":"Worksheet!AE432","v":0},{"$f":"Worksheet!AD432","v":0},0,{"$f":"IF(Worksheet!AL432=0,0,Worksheet!AL432/I410)","v":0},0,null,null,null,{"$f":"IFERROR(Worksheet!X432/(Worksheet!S432+Worksheet!V432),0)","v":0},{"$f":"IF(Worksheet!E432=\"\",\"\",Worksheet!E432)","v":""},{"$f":"IF(Worksheet!B432=\"\",\"\",Worksheet!B432)","v":""},{"$f":"IF(Worksheet!D432=\"\",\"\",Worksheet!D432)","v":""},{"$f":"IF(Worksheet!$A$11=TRUE,\"Y\",\"N\")","v":"N"},{"$f":"IF(Worksheet!$A$12=TRUE,\"Y\",\"N\")","v":"N"},{"$f":"IF(Worksheet!$B$11=TRUE,\"Y\",\"N\")","v":"N"},{"$f":"IF(Worksheet!$B$12=TRUE,\"Y\",\"N\")","v":"N"},{"$f":"IF(Worksheet!$C$11=TRUE,\"Y\",\"N\")","v":"N"},{"$f":"IFERROR(IF(N(Worksheet!V432)=0,Worksheet!U432,Worksheet!V432),\"\")","v":0}]
[{"$f":"IF(ISBLANK(Worksheet!F433)=FALSE,VLOOKUP(Worksheet!A433,MeasureCode_Lookup,6,FALSE),\"\")","v":""},{"$f":"Worksheet!H433","v":0},{"$f":"Worksheet!I433","v":0},{"$f":"IFERROR(IF(Worksheet!Z433=0,Worksheet!Y433/I411,Worksheet!Z433/R411),0)","v":0},"W Controlled",null,null,{"$f":"IF(N(Worksheet!S433)=0,N(Worksheet!R433),N(Worksheet!S433))","v":0},{"$f":"IFERROR(Worksheet!W433/(Worksheet!R433+Worksheet!U433),0)","v":0},{"$f":"Worksheet!AE433","v":0},{"$f":"Worksheet!AD433","v":0},0,{"$f":"IF(Worksheet!AL433=0,0,Worksheet!AL433/I411)","v":0},0,null,null,null,{"$f":"IFERROR(Worksheet!X433/(Worksheet!S433+Worksheet!V433),0)","v":0},{"$f":"IF(Worksheet!E433=\"\",\"\",Worksheet!E433)","v":""},{"$f":"IF(Worksheet!B433=\"\",\"\",Worksheet!B433)","v":""},{"$f":"IF(Worksheet!D433=\"\",\"\",Worksheet!D433)","v":""},{"$f":"IF(Worksheet!$A$11=TRUE,\"Y\",\"N\")","v":"N"},{"$f":"IF(Worksheet!$A$12=TRUE,\"Y\",\"N\")","v":"N"},{"$f":"IF(Worksheet!$B$11=TRUE,\"Y\",\"N\")","v":"N"},{"$f":"IF(Worksheet!$B$12=TRUE,\"Y\",\"N\")","v":"N"},{"$f":"IF(Worksheet!$C$11=TRUE,\"Y\",\"N\")","v":"N"},{"$f":"IFERROR(IF(N(Worksheet!V433)=0,Worksheet!U433,Worksheet!V433),\"\")","v":0}]
[{"$f":"IF(ISBLANK(Worksheet!F434)=FALSE,VLOOKUP(Worksheet!A434,MeasureCode_Lookup,6,FALSE),\"\")","v":""},{"$f":"Worksheet!H434","v":0},{"$f":"Worksheet!I434","v":0},{"$f":"IFERROR(IF(Worksheet!Z434=0,Worksheet!Y434/I412,Worksheet!Z434/R412),0)","v":0},"W Controlled",null,null,{"$f":"IF(N(Worksheet!S434)=0,N(Worksheet!R434),N(Worksheet!S434))","v":0},{"$f":"IFERROR(Worksheet!W434/(Worksheet!R434+Worksheet!U434),0)","v":0},{"$f":"Worksheet!AE434","v":0},{"$f":"Worksheet!AD434","v":0},0,{"$f":"IF(Worksheet!AL434=0,0,Worksheet!AL434/I412)","v":0},0,null,null,null,{"$f":"IFERROR(Worksheet!X434/(Worksheet!S434+Worksheet!V434),0)","v":0},{"$f":"IF(Worksheet!E434=\"\",\"\",Worksheet!E434)","v":""},{"$f":"IF(Worksheet!B434=\"\",\"\",Worksheet!B434)","v":""},{"$f":"IF(Worksheet!D434=\"\",\"\",Worksheet!D434)","v":""},{"$f":"IF(Worksheet!$A$11=TRUE,\"Y\",\"N\")","v":"N"},{"$f":"IF(Worksheet!$A$12=TRUE,\"Y\",\"N\")","v":"N"},{"$f":"IF(Worksheet!$B$11=TRUE,\"Y\",\"N\")","v":"N"},{"$f":"IF(Worksheet!$B$12=TRUE,\"Y\",\"N\")","v":"N"},{"$f":"IF(Worksheet!$C$11=TRUE,\"Y\",\"N\")","v":"N"},{"$f":"IFERROR(IF(N(Worksheet!V434)=0,Worksheet!U434,Worksheet!V434),\"\")","v":0}]
[{"$f":"IF(ISBLANK(Worksheet!F435)=FALSE,VLOOKUP(Worksheet!A435,MeasureCode_Lookup,6,FALSE),\"\")","v":""},{"$f":"Worksheet!H435","v":0},{"$f":"Worksheet!I435","v":0},{"$f":"IFERROR(IF(Worksheet!Z435=0,Worksheet!Y435/I413,Worksheet!Z435/R413),0)","v":0},"W Controlled",null,null,{"$f":"IF(N(Worksheet!S435)=0,N(Worksheet!R435),N(Worksheet!S435))","v":0},{"$f":"IFERROR(Worksheet!W435/(Worksheet!R435+Worksheet!U435),0)","v":0},{"$f":"Worksheet!AE435","v":0},{"$f":"Worksheet!AD435","v":0},0,{"$f":"IF(Worksheet!AL435=0,0,Worksheet!AL435/I413)","v":0},0,null,null,null,{"$f":"IFERROR(Worksheet!X435/(Worksheet!S435+Worksheet!V435),0)","v":0},{"$f":"IF(Worksheet!E435=\"\",\"\",Worksheet!E435)","v":""},{"$f":"IF(Worksheet!B435=\"\",\"\",Worksheet!B435)","v":""},{"$f":"IF(Worksheet!D435=\"\",\"\",Worksheet!D435)","v":""},{"$f":"IF(Worksheet!$A$11=TRUE,\"Y\",\"N\")","v":"N"},{"$f":"IF(Worksheet!$A$12=TRUE,\"Y\",\"N\")","v":"N"},{"$f":"IF(Worksheet!$B$11=TRUE,\"Y\",\"N\")","v":"N"},{"$f":"IF(Worksheet!$B$12=TRUE,\"Y\",\"N\")","v":"N"},{"$f":"IF(Worksheet!$C$11=TRUE,\"Y\",\"N\")","v":"N"},{"$f":"IFERROR(IF(N(Worksheet!V435)=0,Worksheet!U435,Worksheet!V435),\"\")","v":0}]
[{"$f":"IF(ISBLANK(Worksheet!F436)=FALSE,VLOOKUP(Worksheet!A436,MeasureCode_Lookup,6,FALSE),\"\")","v":""},{"$f":"Worksheet!H436","v":0},{"$f":"Worksheet!I436","v":0},{"$f":"IFERROR(IF(Worksheet!Z436=0,Worksheet!Y436/I414,Worksheet!Z436/R414),0)","v":0},"W Controlled",null,null,{"$f":"IF(N(Worksheet!S436)=0,N(Worksheet!R436),N(Worksheet!S436))","v":0},{"$f":"IFERROR(Worksheet!W436/(Worksheet!R436+Worksheet!U436),0)","v":0},{"$f":"Worksheet!AE436","v":0},{"$f":"Worksheet!AD436","v":0},0,{"$f":"IF(Worksheet!AL436=0,0,Worksheet!AL436/I414)","v":0},0,null,null,null,{"$f":"IFERROR(Worksheet!X436/(Worksheet!S436+Worksheet!V436),0)","v":0},{"$f":"IF(Worksheet!E436=\"\",\"\",Worksheet!E436)","v":""},{"$f":"IF(Worksheet!B436=\"\",\"\",Worksheet!B436)","v":""},{"$f":"IF(Worksheet!D436=\"\",\"\",Worksheet!D436)","v":""},{"$f":"IF(Worksheet!$A$11=TRUE,\"Y\",\"N\")","v":"N"},{"$f":"IF(Worksheet!$A$12=TRUE,\"Y\",\"N\")","v":"N"},{"$f":"IF(Worksheet!$B$11=TRUE,\"Y\",\"N\")","v":"N"},{"$f":"IF(Worksheet!$B$12=TRUE,\"Y\",\"N\")","v":"N"},{"$f":"IF(Worksheet!$C$11=TRUE,\"Y\",\"N\")","v":"N"},{"$f":"IFERROR(IF(N(Worksheet!V436)=0,Worksheet!U436,Worksheet!V436),\"\")","v":0}]
[{"$f":"IF(ISBLANK(Worksheet!F437)=FALSE,VLOOKUP(Worksheet!A437,MeasureCode_Lookup,6,FALSE),\"\")","v":""},{"$f":"Worksheet!H437","v":0},{"$f":"Worksheet!I437","v":0},{"$f":"IFERROR(IF(Worksheet!Z437=0,Worksheet!Y437/I415,Worksheet!Z437/R415),0)","v":0},"W Controlled",null,null,{"$f":"IF(N(Worksheet!S437)=0,N(Worksheet!R437),N(Worksheet!S437))","v":0},{"$f":"IFERROR(Worksheet!W437/(Worksheet!R437+Worksheet!U437),0)","v":0},{"$f":"Worksheet!AE437","v":0},{"$f":"Worksheet!AD437","v":0},0,{"$f":"IF(Worksheet!AL437=0,0,Worksheet!AL437/I415)","v":0},0,null,null,null,{"$f":"IFERROR(Worksheet!X437/(Worksheet!S437+Worksheet!V437),0)","v":0},{"$f":"IF(Worksheet!E437=\"\",\"\",Worksheet!E437)","v":""},{"$f":"IF(Worksheet!B437=\"\",\"\",Worksheet!B437)","v":""},{"$f":"IF(Worksheet!D437=\"\",\"\",Worksheet!D437)","v":""},{"$f":"IF(Worksheet!$A$11=TRUE,\"Y\",\"N\")","v":"N"},{"$f":"IF(Worksheet!$A$12=TRUE,\"Y\",\"N\")","v":"N"},{"$f":"IF(Worksheet!$B$11=TRUE,\"Y\",\"N\")","v":"N"},{"$f":"IF(Worksheet!$B$12=TRUE,\"Y\",\"N\")","v":"N"},{"$f":"IF(Worksheet!$C$11=TRUE,\"Y\",\"N\")","v":"N"},{"$f":"IFERROR(IF(N(Worksheet!V437)=0,Worksheet!U437,Worksheet!V437),\"\")","v":0}]
[{"$f":"IF(ISBLANK(Worksheet!F438)=FALSE,VLOOKUP(Worksheet!A438,MeasureCode_Lookup,6,FALSE),\"\")","v":""},{"$f":"Worksheet!H438","v":0},{"$f":"Worksheet!I438","v":0},{"$f":"IFERROR(IF(Worksheet!Z438=0,Worksheet!Y438/I416,Worksheet!Z438/R416),0)","v":0},"W Controlled",null,null,{"$f":"IF(N(Worksheet!S438)=0,N(Worksheet!R438),N(Worksheet!S438))","v":0},{"$f":"IFERROR(Worksheet!W438/(Worksheet!R438+Worksheet!U438),0)","v":0},{"$f":"Worksheet!AE438","v":0},{"$f":"Worksheet!AD438","v":0},0,{"$f":"IF(Worksheet!AL438=0,0,Worksheet!AL438/I416)","v":0},0,null,null,null,{"$f":"IFERROR(Worksheet!X438/(Worksheet!S438+Worksheet!V438),0)","v":0},{"$f":"IF(Worksheet!E438=\"\",\"\",Worksheet!E438)","v":""},{"$f":"IF(Worksheet!B438=\"\",\"\",Worksheet!B438)","v":""},{"$f":"IF(Worksheet!D438=\"\",\"\",Worksheet!D438)","v":""},{"$f":"IF(Worksheet!$A$11=TRUE,\"Y\",\"N\")","v":"N"},{"$f":"IF(Worksheet!$A$12=TRUE,\"Y\",\"N\")","v":"N"},{"$f":"IF(Worksheet!$B$11=TRUE,\"Y\",\"N\")","v":"N"},{"$f":"IF(Worksheet!$B$12=TRUE,\"Y\",\"N\")","v":"N"},{"$f":"IF(Worksheet!$C$11=TRUE,\"Y\",\"N\")","v":"N"},{"$f":"IFERROR(IF(N(Worksheet!V438)=0,Worksheet!U438,Worksheet!V438),\"\")","v":0}]
[{"$f":"IF(ISBLANK(Worksheet!F439)=FALSE,VLOOKUP(Worksheet!A439,MeasureCode_Lookup,6,FALSE),\"\")","v":""},{"$f":"Worksheet!H439","v":0},{"$f":"Worksheet!I439","v":0},{"$f":"IFERROR(IF(Worksheet!Z439=0,Worksheet!Y439/I417,Worksheet!Z439/R417),0)","v":0},"W Controlled",null,null,{"$f":"IF(N(Worksheet!S439)=0,N(Worksheet!R439),N(Worksheet!S439))","v":0},{"$f":"IFERROR(Worksheet!W439/(Worksheet!R439+Worksheet!U439),0)","v":0},{"$f":"Worksheet!AE439","v":0},{"$f":"Worksheet!AD439","v":0},0,{"$f":"IF(Worksheet!AL439=0,0,Worksheet!AL439/I417)","v":0},0,null,null,null,{"$f":"IFERROR(Worksheet!X439/(Worksheet!S439+Worksheet!V439),0)","v":0},{"$f":"IF(Worksheet!E439=\"\",\"\",Worksheet!E439)","v":""},{"$f":"IF(Worksheet!B439=\"\",\"\",Worksheet!B439)","v":""},{"$f":"IF(Worksheet!D439=\"\",\"\",Worksheet!D439)","v":""},{"$f":"IF(Worksheet!$A$11=TRUE,\"Y\",\"N\")","v":"N"},{"$f":"IF(Worksheet!$A$12=TRUE,\"Y\",\"N\")","v":"N"},{"$f":"IF(Worksheet!$B$11=TRUE,\"Y\",\"N\")","v":"N"},{"$f":"IF(Worksheet!$B$12=TRUE,\"Y\",\"N\")","v":"N"},{"$f":"IF(Worksheet!$C$11=TRUE,\"Y\",\"N\")","v":"N"},{"$f":"IFERROR(IF(N(Worksheet!V439)=0,Worksheet!U439,Worksheet!V439),\"\")","v":0}]
[{"$f":"IF(ISBLANK(Worksheet!F440)=FALSE,VLOOKUP(Worksheet!A440,MeasureCode_Lookup,6,FALSE),\"\")","v":""},{"$f":"Worksheet!H440","v":0},{"$f":"Worksheet!I440","v":0},{"$f":"IFERROR(IF(Worksheet!Z440=0,Worksheet!Y440/I418,Worksheet!Z440/R418),0)","v":0},"W Controlled",null,null,{"$f":"IF(N(Worksheet!S440)=0,N(Worksheet!R440),N(Worksheet!S440))","v":0},{"$f":"IFERROR(Worksheet!W440/(Worksheet!R440+Worksheet!U440),0)","v":0},{"$f":"Worksheet!AE440","v":0},{"$f":"Worksheet!AD440","v":0},0,{"$f":"IF(Worksheet!AL440=0,0,Worksheet!AL440/I418)","v":0},0,null,null,null,{"$f":"IFERROR(Worksheet!X440/(Worksheet!S440+Worksheet!V440),0)","v":0},{"$f":"IF(Worksheet!E440=\"\",\"\",Worksheet!E440)","v":""},{"$f":"IF(Worksheet!B440=\"\",\"\",Worksheet!B440)","v":""},{"$f":"IF(Worksheet!D440=\"\",\"\",Worksheet!D440)","v":""},{"$f":"IF(Worksheet!$A$11=TRUE,\"Y\",\"N\")","v":"N"},{"$f":"IF(Worksheet!$A$12=TRUE,\"Y\",\"N\")","v":"N"},{"$f":"IF(Worksheet!$B$11=TRUE,\"Y\",\"N\")","v":"N"},{"$f":"IF(Worksheet!$B$12=TRUE,\"Y\",\"N\")","v":"N"},{"$f":"IF(Worksheet!$C$11=TRUE,\"Y\",\"N\")","v":"N"},{"$f":"IFERROR(IF(N(Worksheet!V440)=0,Worksheet!U440,Worksheet!V440),\"\")","v":0}]
[{"$f":"IF(ISBLANK(Worksheet!F441)=FALSE,VLOOKUP(Worksheet!A441,MeasureCode_Lookup,6,FALSE),\"\")","v":""},{"$f":"Worksheet!H441","v":0},{"$f":"Worksheet!I441","v":0},{"$f":"IFERROR(IF(Worksheet!Z441=0,Worksheet!Y441/I419,Worksheet!Z441/R419),0)","v":0},"W Controlled",null,null,{"$f":"IF(N(Worksheet!S441)=0,N(Worksheet!R441),N(Worksheet!S441))","v":0},{"$f":"IFERROR(Worksheet!W441/(Worksheet!R441+Worksheet!U441),0)","v":0},{"$f":"Worksheet!AE441","v":0},{"$f":"Worksheet!AD441","v":0},0,{"$f":"IF(Worksheet!AL441=0,0,Worksheet!AL441/I419)","v":0},0,null,null,null,{"$f":"IFERROR(Worksheet!X441/(Worksheet!S441+Worksheet!V441),0)","v":0},{"$f":"IF(Worksheet!E441=\"\",\"\",Worksheet!E441)","v":""},{"$f":"IF(Worksheet!B441=\"\",\"\",Worksheet!B441)","v":""},{"$f":"IF(Worksheet!D441=\"\",\"\",Worksheet!D441)","v":""},{"$f":"IF(Worksheet!$A$11=TRUE,\"Y\",\"N\")","v":"N"},{"$f":"IF(Worksheet!$A$12=TRUE,\"Y\",\"N\")","v":"N"},{"$f":"IF(Worksheet!$B$11=TRUE,\"Y\",\"N\")","v":"N"},{"$f":"IF(Worksheet!$B$12=TRUE,\"Y\",\"N\")","v":"N"},{"$f":"IF(Worksheet!$C$11=TRUE,\"Y\",\"N\")","v":"N"},{"$f":"IFERROR(IF(N(Worksheet!V441)=0,Worksheet!U441,Worksheet!V441),\"\")","v":0}]
[{"$f":"IF(ISBLANK(Worksheet!F442)=FALSE,VLOOKUP(Worksheet!A442,MeasureCode_Lookup,6,FALSE),\"\")","v":""},{"$f":"Worksheet!H442","v":0},{"$f":"Worksheet!I442","v":0},{"$f":"IFERROR(IF(Worksheet!Z442=0,Worksheet!Y442/I420,Worksheet!Z442/R420),0)","v":0},"W Controlled",null,null,{"$f":"IF(N(Worksheet!S442)=0,N(Worksheet!R442),N(Worksheet!S442))","v":0},{"$f":"IFERROR(Worksheet!W442/(Worksheet!R442+Worksheet!U442),0)","v":0},{"$f":"Worksheet!AE442","v":0},{"$f":"Worksheet!AD442","v":0},0,{"$f":"IF(Worksheet!AL442=0,0,Worksheet!AL442/I420)","v":0},0,null,null,null,{"$f":"IFERROR(Worksheet!X442/(Worksheet!S442+Worksheet!V442),0)","v":0},{"$f":"IF(Worksheet!E442=\"\",\"\",Worksheet!E442)","v":""},{"$f":"IF(Worksheet!B442=\"\",\"\",Worksheet!B442)","v":""},{"$f":"IF(Worksheet!D442=\"\",\"\",Worksheet!D442)","v":""},{"$f":"IF(Worksheet!$A$11=TRUE,\"Y\",\"N\")","v":"N"},{"$f":"IF(Worksheet!$A$12=TRUE,\"Y\",\"N\")","v":"N"},{"$f":"IF(Worksheet!$B$11=TRUE,\"Y\",\"N\")","v":"N"},{"$f":"IF(Worksheet!$B$12=TRUE,\"Y\",\"N\")","v":"N"},{"$f":"IF(Worksheet!$C$11=TRUE,\"Y\",\"N\")","v":"N"},{"$f":"IFERROR(IF(N(Worksheet!V442)=0,Worksheet!U442,Worksheet!V442),\"\")","v":0}]
[{"$f":"IF(ISBLANK(Worksheet!F443)=FALSE,VLOOKUP(Worksheet!A443,MeasureCode_Lookup,6,FALSE),\"\")","v":""},{"$f":"Worksheet!H443","v":0},{"$f":"Worksheet!I443","v":0},{"$f":"IFERROR(IF(Worksheet!Z443=0,Worksheet!Y443/I421,Worksheet!Z443/R421),0)","v":0},"W Controlled",null,null,{"$f":"IF(N(Worksheet!S443)=0,N(Worksheet!R443),N(Worksheet!S443))","v":0},{"$f":"IFERROR(Worksheet!W443/(Worksheet!R443+Worksheet!U443),0)","v":0},{"$f":"Worksheet!AE443","v":0},{"$f":"Worksheet!AD443","v":0},0,{"$f":"IF(Worksheet!AL443=0,0,Worksheet!AL443/I421)","v":0},0,null,null,null,{"$f":"IFERROR(Worksheet!X443/(Worksheet!S443+Worksheet!V443),0)","v":0},{"$f":"IF(Worksheet!E443=\"\",\"\",Worksheet!E443)","v":""},{"$f":"IF(Worksheet!B443=\"\",\"\",Worksheet!B443)","v":""},{"$f":"IF(Worksheet!D443=\"\",\"\",Worksheet!D443)","v":""},{"$f":"IF(Worksheet!$A$11=TRUE,\"Y\",\"N\")","v":"N"},{"$f":"IF(Worksheet!$A$12=TRUE,\"Y\",\"N\")","v":"N"},{"$f":"IF(Worksheet!$B$11=TRUE,\"Y\",\"N\")","v":"N"},{"$f":"IF(Worksheet!$B$12=TRUE,\"Y\",\"N\")","v":"N"},{"$f":"IF(Worksheet!$C$11=TRUE,\"Y\",\"N\")","v":"N"},{"$f":"IFERROR(IF(N(Worksheet!V443)=0,Worksheet!U443,Worksheet!V443),\"\")","v":0}]
[{"$f":"IF(ISBLANK(Worksheet!F444)=FALSE,VLOOKUP(Worksheet!A444,MeasureCode_Lookup,6,FALSE),\"\")","v":""},{"$f":"Worksheet!H444","v":0},{"$f":"Worksheet!I444","v":0},{"$f":"IFERROR(IF(Worksheet!Z444=0,Worksheet!Y444/I422,Worksheet!Z444/R422),0)","v":0},"W Controlled",null,null,{"$f":"IF(N(Worksheet!S444)=0,N(Worksheet!R444),N(Worksheet!S444))","v":0},{"$f":"IFERROR(Worksheet!W444/(Worksheet!R444+Worksheet!U444),0)","v":0},{"$f":"Worksheet!AE444","v":0},{"$f":"Worksheet!AD444","v":0},0,{"$f":"IF(Worksheet!AL444=0,0,Worksheet!AL444/I422)","v":0},0,null,null,null,{"$f":"IFERROR(Worksheet!X444/(Worksheet!S444+Worksheet!V444),0)","v":0},{"$f":"IF(Worksheet!E444=\"\",\"\",Worksheet!E444)","v":""},{"$f":"IF(Worksheet!B444=\"\",\"\",Worksheet!B444)","v":""},{"$f":"IF(Worksheet!D444=\"\",\"\",Worksheet!D444)","v":""},{"$f":"IF(Worksheet!$A$11=TRUE,\"Y\",\"N\")","v":"N"},{"$f":"IF(Worksheet!$A$12=TRUE,\"Y\",\"N\")","v":"N"},{"$f":"IF(Worksheet!$B$11=TRUE,\"Y\",\"N\")","v":"N"},{"$f":"IF(Worksheet!$B$12=TRUE,\"Y\",\"N\")","v":"N"},{"$f":"IF(Worksheet!$C$11=TRUE,\"Y\",\"N\")","v":"N"},{"$f":"IFERROR(IF(N(Worksheet!V444)=0,Worksheet!U444,Worksheet!V444),\"\")","v":0}]
[{"$f":"IF(ISBLANK(Worksheet!F445)=FALSE,VLOOKUP(Worksheet!A445,MeasureCode_Lookup,6,FALSE),\"\")","v":""},{"$f":"Worksheet!H445","v":0},{"$f":"Worksheet!I445","v":0},{"$f":"IFERROR(IF(Worksheet!Z445=0,Worksheet!Y445/I423,Worksheet!Z445/R423),0)","v":0},"W Controlled",null,null,{"$f":"IF(N(Worksheet!S445)=0,N(Worksheet!R445),N(Worksheet!S445))","v":0},{"$f":"IFERROR(Worksheet!W445/(Worksheet!R445+Worksheet!U445),0)","v":0},{"$f":"Worksheet!AE445","v":0},{"$f":"Worksheet!AD445","v":0},0,{"$f":"IF(Worksheet!AL445=0,0,Worksheet!AL445/I423)","v":0},0,null,null,null,{"$f":"IFERROR(Worksheet!X445/(Worksheet!S445+Worksheet!V445),0)","v":0},{"$f":"IF(Worksheet!E445=\"\",\"\",Worksheet!E445)","v":""},{"$f":"IF(Worksheet!B445=\"\",\"\",Worksheet!B445)","v":""},{"$f":"IF(Worksheet!D445=\"\",\"\",Worksheet!D445)","v":""},{"$f":"IF(Worksheet!$A$11=TRUE,\"Y\",\"N\")","v":"N"},{"$f":"IF(Worksheet!$A$12=TRUE,\"Y\",\"N\")","v":"N"},{"$f":"IF(Worksheet!$B$11=TRUE,\"Y\",\"N\")","v":"N"},{"$f":"IF(Worksheet!$B$12=TRUE,\"Y\",\"N\")","v":"N"},{"$f":"IF(Worksheet!$C$11=TRUE,\"Y\",\"N\")","v":"N"},{"$f":"IFERROR(IF(N(Worksheet!V445)=0,Worksheet!U445,Worksheet!V445),\"\")","v":0}]
[{"$f":"IF(ISBLANK(Worksheet!F446)=FALSE,VLOOKUP(Worksheet!A446,MeasureCode_Lookup,6,FALSE),\"\")","v":""},{"$f":"Worksheet!H446","v":0},{"$f":"Worksheet!I446","v":0},{"$f":"IFERROR(IF(Worksheet!Z446=0,Worksheet!Y446/I424,Worksheet!Z446/R424),0)","v":0},"W Controlled",null,null,{"$f":"IF(N(Worksheet!S446)=0,N(Worksheet!R446),N(Worksheet!S446))","v":0},{"$f":"IFERROR(Worksheet!W446/(Worksheet!R446+Worksheet!U446),0)","v":0},{"$f":"Worksheet!AE446","v":0},{"$f":"Worksheet!AD446","v":0},0,{"$f":"IF(Worksheet!AL446=0,0,Worksheet!AL446/I424)","v":0},0,null,null,null,{"$f":"IFERROR(Worksheet!X446/(Worksheet!S446+Worksheet!V446),0)","v":0},{"$f":"IF(Worksheet!E446=\"\",\"\",Worksheet!E446)","v":""},{"$f":"IF(Worksheet!B446=\"\",\"\",Worksheet!B446)","v":""},{"$f":"IF(Worksheet!D446=\"\",\"\",Worksheet!D446)","v":""},{"$f":"IF(Worksheet!$A$11=TRUE,\"Y\",\"N\")","v":"N"},{"$f":"IF(Worksheet!$A$12=TRUE,\"Y\",\"N\")","v":"N"},{"$f":"IF(Worksheet!$B$11=TRUE,\"Y\",\"N\")","v":"N"},{"$f":"IF(Worksheet!$B$12=TRUE,\"Y\",\"N\")","v":"N"},{"$f":"IF(Worksheet!$C$11=TRUE,\"Y\",\"N\")","v":"N"},{"$f":"IFERROR(IF(N(Worksheet!V446)=0,Worksheet!U446,Worksheet!V446),\"\")","v":0}]
[{"$f":"IF(ISBLANK(Worksheet!F447)=FALSE,VLOOKUP(Worksheet!A447,MeasureCode_Lookup,6,FALSE),\"\")","v":""},{"$f":"Worksheet!H447","v":0},{"$f":"Worksheet!I447","v":0},{"$f":"IFERROR(IF(Worksheet!Z447=0,Worksheet!Y447/I425,Worksheet!Z447/R425),0)","v":0},"W Controlled",null,null,{"$f":"IF(N(Worksheet!S447)=0,N(Worksheet!R447),N(Worksheet!S447))","v":0},{"$f":"IFERROR(Worksheet!W447/(Worksheet!R447+Worksheet!U447),0)","v":0},{"$f":"Worksheet!AE447","v":0},{"$f":"Worksheet!AD447","v":0},0,{"$f":"IF(Worksheet!AL447=0,0,Worksheet!AL447/I425)","v":0},0,null,null,null,{"$f":"IFERROR(Worksheet!X447/(Worksheet!S447+Worksheet!V447),0)","v":0},{"$f":"IF(Worksheet!E447=\"\",\"\",Worksheet!E447)","v":""},{"$f":"IF(Worksheet!B447=\"\",\"\",Worksheet!B447)","v":""},{"$f":"IF(Worksheet!D447=\"\",\"\",Worksheet!D447)","v":""},{"$f":"IF(Worksheet!$A$11=TRUE,\"Y\",\"N\")","v":"N"},{"$f":"IF(Worksheet!$A$12=TRUE,\"Y\",\"N\")","v":"N"},{"$f":"IF(Worksheet!$B$11=TRUE,\"Y\",\"N\")","v":"N"},{"$f":"IF(Worksheet!$B$12=TRUE,\"Y\",\"N\")","v":"N"},{"$f":"IF(Worksheet!$C$11=TRUE,\"Y\",\"N\")","v":"N"},{"$f":"IFERROR(IF(N(Worksheet!V447)=0,Worksheet!U447,Worksheet!V447),\"\")","v":0}]
[{"$f":"IF(ISBLANK(Worksheet!F448)=FALSE,VLOOKUP(Worksheet!A448,MeasureCode_Lookup,6,FALSE),\"\")","v":""},{"$f":"Worksheet!H448","v":0},{"$f":"Worksheet!I448","v":0},{"$f":"IFERROR(IF(Worksheet!Z448=0,Worksheet!Y448/I426,Worksheet!Z448/R426),0)","v":0},"W Controlled",null,null,{"$f":"IF(N(Worksheet!S448)=0,N(Worksheet!R448),N(Worksheet!S448))","v":0},{"$f":"IFERROR(Worksheet!W448/(Worksheet!R448+Worksheet!U448),0)","v":0},{"$f":"Worksheet!AE448","v":0},{"$f":"Worksheet!AD448","v":0},0,{"$f":"IF(Worksheet!AL448=0,0,Worksheet!AL448/I426)","v":0},0,null,null,null,{"$f":"IFERROR(Worksheet!X448/(Worksheet!S448+Worksheet!V448),0)","v":0},{"$f":"IF(Worksheet!E448=\"\",\"\",Worksheet!E448)","v":""},{"$f":"IF(Worksheet!B448=\"\",\"\",Worksheet!B448)","v":""},{"$f":"IF(Worksheet!D448=\"\",\"\",Worksheet!D448)","v":""},{"$f":"IF(Worksheet!$A$11=TRUE,\"Y\",\"N\")","v":"N"},{"$f":"IF(Worksheet!$A$12=TRUE,\"Y\",\"N\")","v":"N"},{"$f":"IF(Worksheet!$B$11=TRUE,\"Y\",\"N\")","v":"N"},{"$f":"IF(Worksheet!$B$12=TRUE,\"Y\",\"N\")","v":"N"},{"$f":"IF(Worksheet!$C$11=TRUE,\"Y\",\"N\")","v":"N"},{"$f":"IFERROR(IF(N(Worksheet!V448)=0,Worksheet!U448,Worksheet!V448),\"\")","v":0}]
[{"$f":"IF(ISBLANK(Worksheet!F449)=FALSE,VLOOKUP(Worksheet!A449,MeasureCode_Lookup,6,FALSE),\"\")","v":""},{"$f":"Worksheet!H449","v":0},{"$f":"Worksheet!I449","v":0},{"$f":"IFERROR(IF(Worksheet!Z449=0,Worksheet!Y449/I427,Worksheet!Z449/R427),0)","v":0},"W Controlled",null,null,{"$f":"IF(N(Worksheet!S449)=0,N(Worksheet!R449),N(Worksheet!S449))","v":0},{"$f":"IFERROR(Worksheet!W449/(Worksheet!R449+Worksheet!U449),0)","v":0},{"$f":"Worksheet!AE449","v":0},{"$f":"Worksheet!AD449","v":0},0,{"$f":"IF(Worksheet!AL449=0,0,Worksheet!AL449/I427)","v":0},0,null,null,null,{"$f":"IFERROR(Worksheet!X449/(Worksheet!S449+Worksheet!V449),0)","v":0},{"$f":"IF(Worksheet!E449=\"\",\"\",Worksheet!E449)","v":""},{"$f":"IF(Worksheet!B449=\"\",\"\",Worksheet!B449)","v":""},{"$f":"IF(Worksheet!D449=\"\",\"\",Worksheet!D449)","v":""},{"$f":"IF(Worksheet!$A$11=TRUE,\"Y\",\"N\")","v":"N"},{"$f":"IF(Worksheet!$A$12=TRUE,\"Y\",\"N\")","v":"N"},{"$f":"IF(Worksheet!$B$11=TRUE,\"Y\",\"N\")","v":"N"},{"$f":"IF(Worksheet!$B$12=TRUE,\"Y\",\"N\")","v":"N"},{"$f":"IF(Worksheet!$C$11=TRUE,\"Y\",\"N\")","v":"N"},{"$f":"IFERROR(IF(N(Worksheet!V449)=0,Worksheet!U449,Worksheet!V449),\"\")","v":0}]
[{"$f":"IF(ISBLANK(Worksheet!F450)=FALSE,VLOOKUP(Worksheet!A450,MeasureCode_Lookup,6,FALSE),\"\")","v":""},{"$f":"Worksheet!H450","v":0},{"$f":"Worksheet!I450","v":0},{"$f":"IFERROR(IF(Worksheet!Z450=0,Worksheet!Y450/I428,Worksheet!Z450/R428),0)","v":0},"W Controlled",null,null,{"$f":"IF(N(Worksheet!S450)=0,N(Worksheet!R450),N(Worksheet!S450))","v":0},{"$f":"IFERROR(Worksheet!W450/(Worksheet!R450+Worksheet!U450),0)","v":0},{"$f":"Worksheet!AE450","v":0},{"$f":"Worksheet!AD450","v":0},0,{"$f":"IF(Worksheet!AL450=0,0,Worksheet!AL450/I428)","v":0},0,null,null,null,{"$f":"IFERROR(Worksheet!X450/(Worksheet!S450+Worksheet!V450),0)","v":0},{"$f":"IF(Worksheet!E450=\"\",\"\",Worksheet!E450)","v":""},{"$f":"IF(Worksheet!B450=\"\",\"\",Worksheet!B450)","v":""},{"$f":"IF(Worksheet!D450=\"\",\"\",Worksheet!D450)","v":""},{"$f":"IF(Worksheet!$A$11=TRUE,\"Y\",\"N\")","v":"N"},{"$f":"IF(Worksheet!$A$12=TRUE,\"Y\",\"N\")","v":"N"},{"$f":"IF(Worksheet!$B$11=TRUE,\"Y\",\"N\")","v":"N"},{"$f":"IF(Worksheet!$B$12=TRUE,\"Y\",\"N\")","v":"N"},{"$f":"IF(Worksheet!$C$11=TRUE,\"Y\",\"N\")","v":"N"},{"$f":"IFERROR(IF(N(Worksheet!V450)=0,Worksheet!U450,Worksheet!V450),\"\")","v":0}]
[{"$f":"IF(ISBLANK(Worksheet!F451)=FALSE,VLOOKUP(Worksheet!A451,MeasureCode_Lookup,6,FALSE),\"\")","v":""},{"$f":"Worksheet!H451","v":0},{"$f":"Worksheet!I451","v":0},{"$f":"IFERROR(IF(Worksheet!Z451=0,Worksheet!Y451/I429,Worksheet!Z451/R429),0)","v":0},"W Controlled",null,null,{"$f":"IF(N(Worksheet!S451)=0,N(Worksheet!R451),N(Worksheet!S451))","v":0},{"$f":"IFERROR(Worksheet!W451/(Worksheet!R451+Worksheet!U451),0)","v":0},{"$f":"Worksheet!AE451","v":0},{"$f":"Worksheet!AD451","v":0},0,{"$f":"IF(Worksheet!AL451=0,0,Worksheet!AL451/I429)","v":0},0,null,null,null,{"$f":"IFERROR(Worksheet!X451/(Worksheet!S451+Worksheet!V451),0)","v":0},{"$f":"IF(Worksheet!E451=\"\",\"\",Worksheet!E451)","v":""},{"$f":"IF(Worksheet!B451=\"\",\"\",Worksheet!B451)","v":""},{"$f":"IF(Worksheet!D451=\"\",\"\",Worksheet!D451)","v":""},{"$f":"IF(Worksheet!$A$11=TRUE,\"Y\",\"N\")","v":"N"},{"$f":"IF(Worksheet!$A$12=TRUE,\"Y\",\"N\")","v":"N"},{"$f":"IF(Worksheet!$B$11=TRUE,\"Y\",\"N\")","v":"N"},{"$f":"IF(Worksheet!$B$12=TRUE,\"Y\",\"N\")","v":"N"},{"$f":"IF(Worksheet!$C$11=TRUE,\"Y\",\"N\")","v":"N"},{"$f":"IFERROR(IF(N(Worksheet!V451)=0,Worksheet!U451,Worksheet!V451),\"\")","v":0}]
[{"$f":"IF(ISBLANK(Worksheet!F452)=FALSE,VLOOKUP(Worksheet!A452,MeasureCode_Lookup,6,FALSE),\"\")","v":""},{"$f":"Worksheet!H452","v":0},{"$f":"Worksheet!I452","v":0},{"$f":"IFERROR(IF(Worksheet!Z452=0,Worksheet!Y452/I430,Worksheet!Z452/R430),0)","v":0},"W Controlled",null,null,{"$f":"IF(N(Worksheet!S452)=0,N(Worksheet!R452),N(Worksheet!S452))","v":0},{"$f":"IFERROR(Worksheet!W452/(Worksheet!R452+Worksheet!U452),0)","v":0},{"$f":"Worksheet!AE452","v":0},{"$f":"Worksheet!AD452","v":0},0,{"$f":"IF(Worksheet!AL452=0,0,Worksheet!AL452/I430)","v":0},0,null,null,null,{"$f":"IFERROR(Worksheet!X452/(Worksheet!S452+Worksheet!V452),0)","v":0},{"$f":"IF(Worksheet!E452=\"\",\"\",Worksheet!E452)","v":""},{"$f":"IF(Worksheet!B452=\"\",\"\",Worksheet!B452)","v":""},{"$f":"IF(Worksheet!D452=\"\",\"\",Worksheet!D452)","v":""},{"$f":"IF(Worksheet!$A$11=TRUE,\"Y\",\"N\")","v":"N"},{"$f":"IF(Worksheet!$A$12=TRUE,\"Y\",\"N\")","v":"N"},{"$f":"IF(Worksheet!$B$11=TRUE,\"Y\",\"N\")","v":"N"},{"$f":"IF(Worksheet!$B$12=TRUE,\"Y\",\"N\")","v":"N"},{"$f":"IF(Worksheet!$C$11=TRUE,\"Y\",\"N\")","v":"N"},{"$f":"IFERROR(IF(N(Worksheet!V452)=0,Worksheet!U452,Worksheet!V452),\"\")","v":0}]
[{"$f":"IF(ISBLANK(Worksheet!F453)=FALSE,VLOOKUP(Worksheet!A453,MeasureCode_Lookup,6,FALSE),\"\")","v":""},{"$f":"Worksheet!H453","v":0},{"$f":"Worksheet!I453","v":0},{"$f":"IFERROR(IF(Worksheet!Z453=0,Worksheet!Y453/I431,Worksheet!Z453/R431),0)","v":0},"W Controlled",null,null,{"$f":"IF(N(Worksheet!S453)=0,N(Worksheet!R453),N(Worksheet!S453))","v":0},{"$f":"IFERROR(Worksheet!W453/(Worksheet!R453+Worksheet!U453),0)","v":0},{"$f":"Worksheet!AE453","v":0},{"$f":"Worksheet!AD453","v":0},0,{"$f":"IF(Worksheet!AL453=0,0,Worksheet!AL453/I431)","v":0},0,null,null,null,{"$f":"IFERROR(Worksheet!X453/(Worksheet!S453+Worksheet!V453),0)","v":0},{"$f":"IF(Worksheet!E453=\"\",\"\",Worksheet!E453)","v":""},{"$f":"IF(Worksheet!B453=\"\",\"\",Worksheet!B453)","v":""},{"$f":"IF(Worksheet!D453=\"\",\"\",Worksheet!D453)","v":""},{"$f":"IF(Worksheet!$A$11=TRUE,\"Y\",\"N\")","v":"N"},{"$f":"IF(Worksheet!$A$12=TRUE,\"Y\",\"N\")","v":"N"},{"$f":"IF(Worksheet!$B$11=TRUE,\"Y\",\"N\")","v":"N"},{"$f":"IF(Worksheet!$B$12=TRUE,\"Y\",\"N\")","v":"N"},{"$f":"IF(Worksheet!$C$11=TRUE,\"Y\",\"N\")","v":"N"},{"$f":"IFERROR(IF(N(Worksheet!V453)=0,Worksheet!U453,Worksheet!V453),\"\")","v":0}]
[{"$f":"IF(ISBLANK(Worksheet!F454)=FALSE,VLOOKUP(Worksheet!A454,MeasureCode_Lookup,6,FALSE),\"\")","v":""},{"$f":"Worksheet!H454","v":0},{"$f":"Worksheet!I454","v":0},{"$f":"IFERROR(IF(Worksheet!Z454=0,Worksheet!Y454/I432,Worksheet!Z454/R432),0)","v":0},"W Controlled",null,null,{"$f":"IF(N(Worksheet!S454)=0,N(Worksheet!R454),N(Worksheet!S454))","v":0},{"$f":"IFERROR(Worksheet!W454/(Worksheet!R454+Worksheet!U454),0)","v":0},{"$f":"Worksheet!AE454","v":0},{"$f":"Worksheet!AD454","v":0},0,{"$f":"IF(Worksheet!AL454=0,0,Worksheet!AL454/I432)","v":0},0,null,null,null,{"$f":"IFERROR(Worksheet!X454/(Worksheet!S454+Worksheet!V454),0)","v":0},{"$f":"IF(Worksheet!E454=\"\",\"\",Worksheet!E454)","v":""},{"$f":"IF(Worksheet!B454=\"\",\"\",Worksheet!B454)","v":""},{"$f":"IF(Worksheet!D454=\"\",\"\",Worksheet!D454)","v":""},{"$f":"IF(Worksheet!$A$11=TRUE,\"Y\",\"N\")","v":"N"},{"$f":"IF(Worksheet!$A$12=TRUE,\"Y\",\"N\")","v":"N"},{"$f":"IF(Worksheet!$B$11=TRUE,\"Y\",\"N\")","v":"N"},{"$f":"IF(Worksheet!$B$12=TRUE,\"Y\",\"N\")","v":"N"},{"$f":"IF(Worksheet!$C$11=TRUE,\"Y\",\"N\")","v":"N"},{"$f":"IFERROR(IF(N(Worksheet!V454)=0,Worksheet!U454,Worksheet!V454),\"\")","v":0}]
[{"$f":"IF(ISBLANK(Worksheet!F455)=FALSE,VLOOKUP(Worksheet!A455,MeasureCode_Lookup,6,FALSE),\"\")","v":""},{"$f":"Worksheet!H455","v":0},{"$f":"Worksheet!I455","v":0},{"$f":"IFERROR(IF(Worksheet!Z455=0,Worksheet!Y455/I433,Worksheet!Z455/R433),0)","v":0},"W Controlled",null,null,{"$f":"IF(N(Worksheet!S455)=0,N(Worksheet!R455),N(Worksheet!S455))","v":0},{"$f":"IFERROR(Worksheet!W455/(Worksheet!R455+Worksheet!U455),0)","v":0},{"$f":"Worksheet!AE455","v":0},{"$f":"Worksheet!AD455","v":0},0,{"$f":"IF(Worksheet!AL455=0,0,Worksheet!AL455/I433)","v":0},0,null,null,null,{"$f":"IFERROR(Worksheet!X455/(Worksheet!S455+Worksheet!V455),0)","v":0},{"$f":"IF(Worksheet!E455=\"\",\"\",Worksheet!E455)","v":""},{"$f":"IF(Worksheet!B455=\"\",\"\",Worksheet!B455)","v":""},{"$f":"IF(Worksheet!D455=\"\",\"\",Worksheet!D455)","v":""},{"$f":"IF(Worksheet!$A$11=TRUE,\"Y\",\"N\")","v":"N"},{"$f":"IF(Worksheet!$A$12=TRUE,\"Y\",\"N\")","v":"N"},{"$f":"IF(Worksheet!$B$11=TRUE,\"Y\",\"N\")","v":"N"},{"$f":"IF(Worksheet!$B$12=TRUE,\"Y\",\"N\")","v":"N"},{"$f":"IF(Worksheet!$C$11=TRUE,\"Y\",\"N\")","v":"N"},{"$f":"IFERROR(IF(N(Worksheet!V455)=0,Worksheet!U455,Worksheet!V455),\"\")","v":0}]
[{"$f":"IF(ISBLANK(Worksheet!F456)=FALSE,VLOOKUP(Worksheet!A456,MeasureCode_Lookup,6,FALSE),\"\")","v":""},{"$f":"Worksheet!H456","v":0},{"$f":"Worksheet!I456","v":0},{"$f":"IFERROR(IF(Worksheet!Z456=0,Worksheet!Y456/I434,Worksheet!Z456/R434),0)","v":0},"W Controlled",null,null,{"$f":"IF(N(Worksheet!S456)=0,N(Worksheet!R456),N(Worksheet!S456))","v":0},{"$f":"IFERROR(Worksheet!W456/(Worksheet!R456+Worksheet!U456),0)","v":0},{"$f":"Worksheet!AE456","v":0},{"$f":"Worksheet!AD456","v":0},0,{"$f":"IF(Worksheet!AL456=0,0,Worksheet!AL456/I434)","v":0},0,null,null,null,{"$f":"IFERROR(Worksheet!X456/(Worksheet!S456+Worksheet!V456),0)","v":0},{"$f":"IF(Worksheet!E456=\"\",\"\",Worksheet!E456)","v":""},{"$f":"IF(Worksheet!B456=\"\",\"\",Worksheet!B456)","v":""},{"$f":"IF(Worksheet!D456=\"\",\"\",Worksheet!D456)","v":""},{"$f":"IF(Worksheet!$A$11=TRUE,\"Y\",\"N\")","v":"N"},{"$f":"IF(Worksheet!$A$12=TRUE,\"Y\",\"N\")","v":"N"},{"$f":"IF(Worksheet!$B$11=TRUE,\"Y\",\"N\")","v":"N"},{"$f":"IF(Worksheet!$B$12=TRUE,\"Y\",\"N\")","v":"N"},{"$f":"IF(Worksheet!$C$11=TRUE,\"Y\",\"N\")","v":"N"},{"$f":"IFERROR(IF(N(Worksheet!V456)=0,Worksheet!U456,Worksheet!V456),\"\")","v":0}]
[{"$f":"IF(ISBLANK(Worksheet!F457)=FALSE,VLOOKUP(Worksheet!A457,MeasureCode_Lookup,6,FALSE),\"\")","v":""},{"$f":"Worksheet!H457","v":0},{"$f":"Worksheet!I457","v":0},{"$f":"IFERROR(IF(Worksheet!Z457=0,Worksheet!Y457/I435,Worksheet!Z457/R435),0)","v":0},"W Controlled",null,null,{"$f":"IF(N(Worksheet!S457)=0,N(Worksheet!R457),N(Worksheet!S457))","v":0},{"$f":"IFERROR(Worksheet!W457/(Worksheet!R457+Worksheet!U457),0)","v":0},{"$f":"Worksheet!AE457","v":0},{"$f":"Worksheet!AD457","v":0},0,{"$f":"IF(Worksheet!AL457=0,0,Worksheet!AL457/I435)","v":0},0,null,null,null,{"$f":"IFERROR(Worksheet!X457/(Worksheet!S457+Worksheet!V457),0)","v":0},{"$f":"IF(Worksheet!E457=\"\",\"\",Worksheet!E457)","v":""},{"$f":"IF(Worksheet!B457=\"\",\"\",Worksheet!B457)","v":""},{"$f":"IF(Worksheet!D457=\"\",\"\",Worksheet!D457)","v":""},{"$f":"IF(Worksheet!$A$11=TRUE,\"Y\",\"N\")","v":"N"},{"$f":"IF(Worksheet!$A$12=TRUE,\"Y\",\"N\")","v":"N"},{"$f":"IF(Worksheet!$B$11=TRUE,\"Y\",\"N\")","v":"N"},{"$f":"IF(Worksheet!$B$12=TRUE,\"Y\",\"N\")","v":"N"},{"$f":"IF(Worksheet!$C$11=TRUE,\"Y\",\"N\")","v":"N"},{"$f":"IFERROR(IF(N(Worksheet!V457)=0,Worksheet!U457,Worksheet!V457),\"\")","v":0}]
[{"$f":"IF(ISBLANK(Worksheet!F458)=FALSE,VLOOKUP(Worksheet!A458,MeasureCode_Lookup,6,FALSE),\"\")","v":""},{"$f":"Worksheet!H458","v":0},{"$f":"Worksheet!I458","v":0},{"$f":"IFERROR(IF(Worksheet!Z458=0,Worksheet!Y458/I436,Worksheet!Z458/R436),0)","v":0},"W Controlled",null,null,{"$f":"IF(N(Worksheet!S458)=0,N(Worksheet!R458),N(Worksheet!S458))","v":0},{"$f":"IFERROR(Worksheet!W458/(Worksheet!R458+Worksheet!U458),0)","v":0},{"$f":"Worksheet!AE458","v":0},{"$f":"Worksheet!AD458","v":0},0,{"$f":"IF(Worksheet!AL458=0,0,Worksheet!AL458/I436)","v":0},0,null,null,null,{"$f":"IFERROR(Worksheet!X458/(Worksheet!S458+Worksheet!V458),0)","v":0},{"$f":"IF(Worksheet!E458=\"\",\"\",Worksheet!E458)","v":""},{"$f":"IF(Worksheet!B458=\"\",\"\",Worksheet!B458)","v":""},{"$f":"IF(Worksheet!D458=\"\",\"\",Worksheet!D458)","v":""},{"$f":"IF(Worksheet!$A$11=TRUE,\"Y\",\"N\")","v":"N"},{"$f":"IF(Worksheet!$A$12=TRUE,\"Y\",\"N\")","v":"N"},{"$f":"IF(Worksheet!$B$11=TRUE,\"Y\",\"N\")","v":"N"},{"$f":"IF(Worksheet!$B$12=TRUE,\"Y\",\"N\")","v":"N"},{"$f":"IF(Worksheet!$C$11=TRUE,\"Y\",\"N\")","v":"N"},{"$f":"IFERROR(IF(N(Worksheet!V458)=0,Worksheet!U458,Worksheet!V458),\"\")","v":0}]
[{"$f":"IF(ISBLANK(Worksheet!F459)=FALSE,VLOOKUP(Worksheet!A459,MeasureCode_Lookup,6,FALSE),\"\")","v":""},{"$f":"Worksheet!H459","v":0},{"$f":"Worksheet!I459","v":0},{"$f":"IFERROR(IF(Worksheet!Z459=0,Worksheet!Y459/I437,Worksheet!Z459/R437),0)","v":0},"W Controlled",null,null,{"$f":"IF(N(Worksheet!S459)=0,N(Worksheet!R459),N(Worksheet!S459))","v":0},{"$f":"IFERROR(Worksheet!W459/(Worksheet!R459+Worksheet!U459),0)","v":0},{"$f":"Worksheet!AE459","v":0},{"$f":"Worksheet!AD459","v":0},0,{"$f":"IF(Worksheet!AL459=0,0,Worksheet!AL459/I437)","v":0},0,null,null,null,{"$f":"IFERROR(Worksheet!X459/(Worksheet!S459+Worksheet!V459),0)","v":0},{"$f":"IF(Worksheet!E459=\"\",\"\",Worksheet!E459)","v":""},{"$f":"IF(Worksheet!B459=\"\",\"\",Worksheet!B459)","v":""},{"$f":"IF(Worksheet!D459=\"\",\"\",Worksheet!D459)","v":""},{"$f":"IF(Worksheet!$A$11=TRUE,\"Y\",\"N\")","v":"N"},{"$f":"IF(Worksheet!$A$12=TRUE,\"Y\",\"N\")","v":"N"},{"$f":"IF(Worksheet!$B$11=TRUE,\"Y\",\"N\")","v":"N"},{"$f":"IF(Worksheet!$B$12=TRUE,\"Y\",\"N\")","v":"N"},{"$f":"IF(Worksheet!$C$11=TRUE,\"Y\",\"N\")","v":"N"},{"$f":"IFERROR(IF(N(Worksheet!V459)=0,Worksheet!U459,Worksheet!V459),\"\")","v":0}]
[{"$f":"IF(ISBLANK(Worksheet!F460)=FALSE,VLOOKUP(Worksheet!A460,MeasureCode_Lookup,6,FALSE),\"\")","v":""},{"$f":"Worksheet!H460","v":0},{"$f":"Worksheet!I460","v":0},{"$f":"IFERROR(IF(Worksheet!Z460=0,Worksheet!Y460/I438,Worksheet!Z460/R438),0)","v":0},"W Controlled",null,null,{"$f":"IF(N(Worksheet!S460)=0,N(Worksheet!R460),N(Worksheet!S460))","v":0},{"$f":"IFERROR(Worksheet!W460/(Worksheet!R460+Worksheet!U460),0)","v":0},{"$f":"Worksheet!AE460","v":0},{"$f":"Worksheet!AD460","v":0},0,{"$f":"IF(Worksheet!AL460=0,0,Worksheet!AL460/I438)","v":0},0,null,null,null,{"$f":"IFERROR(Worksheet!X460/(Worksheet!S460+Worksheet!V460),0)","v":0},{"$f":"IF(Worksheet!E460=\"\",\"\",Worksheet!E460)","v":""},{"$f":"IF(Worksheet!B460=\"\",\"\",Worksheet!B460)","v":""},{"$f":"IF(Worksheet!D460=\"\",\"\",Worksheet!D460)","v":""},{"$f":"IF(Worksheet!$A$11=TRUE,\"Y\",\"N\")","v":"N"},{"$f":"IF(Worksheet!$A$12=TRUE,\"Y\",\"N\")","v":"N"},{"$f":"IF(Worksheet!$B$11=TRUE,\"Y\",\"N\")","v":"N"},{"$f":"IF(Worksheet!$B$12=TRUE,\"Y\",\"N\")","v":"N"},{"$f":"IF(Worksheet!$C$11=TRUE,\"Y\",\"N\")","v":"N"},{"$f":"IFERROR(IF(N(Worksheet!V460)=0,Worksheet!U460,Worksheet!V460),\"\")","v":0}]
[{"$f":"IF(ISBLANK(Worksheet!F461)=FALSE,VLOOKUP(Worksheet!A461,MeasureCode_Lookup,6,FALSE),\"\")","v":""},{"$f":"Worksheet!H461","v":0},{"$f":"Worksheet!I461","v":0},{"$f":"IFERROR(IF(Worksheet!Z461=0,Worksheet!Y461/I439,Worksheet!Z461/R439),0)","v":0},"W Controlled",null,null,{"$f":"IF(N(Worksheet!S461)=0,N(Worksheet!R461),N(Worksheet!S461))","v":0},{"$f":"IFERROR(Worksheet!W461/(Worksheet!R461+Worksheet!U461),0)","v":0},{"$f":"Worksheet!AE461","v":0},{"$f":"Worksheet!AD461","v":0},0,{"$f":"IF(Worksheet!AL461=0,0,Worksheet!AL461/I439)","v":0},0,null,null,null,{"$f":"IFERROR(Worksheet!X461/(Worksheet!S461+Worksheet!V461),0)","v":0},{"$f":"IF(Worksheet!E461=\"\",\"\",Worksheet!E461)","v":""},{"$f":"IF(Worksheet!B461=\"\",\"\",Worksheet!B461)","v":""},{"$f":"IF(Worksheet!D461=\"\",\"\",Worksheet!D461)","v":""},{"$f":"IF(Worksheet!$A$11=TRUE,\"Y\",\"N\")","v":"N"},{"$f":"IF(Worksheet!$A$12=TRUE,\"Y\",\"N\")","v":"N"},{"$f":"IF(Worksheet!$B$11=TRUE,\"Y\",\"N\")","v":"N"},{"$f":"IF(Worksheet!$B$12=TRUE,\"Y\",\"N\")","v":"N"},{"$f":"IF(Worksheet!$C$11=TRUE,\"Y\",\"N\")","v":"N"},{"$f":"IFERROR(IF(N(Worksheet!V461)=0,Worksheet!U461,Worksheet!V461),\"\")","v":0}]
[{"$f":"IF(ISBLANK(Worksheet!F462)=FALSE,VLOOKUP(Worksheet!A462,MeasureCode_Lookup,6,FALSE),\"\")","v":""},{"$f":"Worksheet!H462","v":0},{"$f":"Worksheet!I462","v":0},{"$f":"IFERROR(IF(Worksheet!Z462=0,Worksheet!Y462/I440,Worksheet!Z462/R440),0)","v":0},"W Controlled",null,null,{"$f":"IF(N(Worksheet!S462)=0,N(Worksheet!R462),N(Worksheet!S462))","v":0},{"$f":"IFERROR(Worksheet!W462/(Worksheet!R462+Worksheet!U462),0)","v":0},{"$f":"Worksheet!AE462","v":0},{"$f":"Worksheet!AD462","v":0},0,{"$f":"IF(Worksheet!AL462=0,0,Worksheet!AL462/I440)","v":0},0,null,null,null,{"$f":"IFERROR(Worksheet!X462/(Worksheet!S462+Worksheet!V462),0)","v":0},{"$f":"IF(Worksheet!E462=\"\",\"\",Worksheet!E462)","v":""},{"$f":"IF(Worksheet!B462=\"\",\"\",Worksheet!B462)","v":""},{"$f":"IF(Worksheet!D462=\"\",\"\",Worksheet!D462)","v":""},{"$f":"IF(Worksheet!$A$11=TRUE,\"Y\",\"N\")","v":"N"},{"$f":"IF(Worksheet!$A$12=TRUE,\"Y\",\"N\")","v":"N"},{"$f":"IF(Worksheet!$B$11=TRUE,\"Y\",\"N\")","v":"N"},{"$f":"IF(Worksheet!$B$12=TRUE,\"Y\",\"N\")","v":"N"},{"$f":"IF(Worksheet!$C$11=TRUE,\"Y\",\"N\")","v":"N"},{"$f":"IFERROR(IF(N(Worksheet!V462)=0,Worksheet!U462,Worksheet!V462),\"\")","v":0}]
[{"$f":"IF(ISBLANK(Worksheet!F463)=FALSE,VLOOKUP(Worksheet!A463,MeasureCode_Lookup,6,FALSE),\"\")","v":""},{"$f":"Worksheet!H463","v":0},{"$f":"Worksheet!I463","v":0},{"$f":"IFERROR(IF(Worksheet!Z463=0,Worksheet!Y463/I441,Worksheet!Z463/R441),0)","v":0},"W Controlled",null,null,{"$f":"IF(N(Worksheet!S463)=0,N(Worksheet!R463),N(Worksheet!S463))","v":0},{"$f":"IFERROR(Worksheet!W463/(Worksheet!R463+Worksheet!U463),0)","v":0},{"$f":"Worksheet!AE463","v":0},{"$f":"Worksheet!AD463","v":0},0,{"$f":"IF(Worksheet!AL463=0,0,Worksheet!AL463/I441)","v":0},0,null,null,null,{"$f":"IFERROR(Worksheet!X463/(Worksheet!S463+Worksheet!V463),0)","v":0},{"$f":"IF(Worksheet!E463=\"\",\"\",Worksheet!E463)","v":""},{"$f":"IF(Worksheet!B463=\"\",\"\",Worksheet!B463)","v":""},{"$f":"IF(Worksheet!D463=\"\",\"\",Worksheet!D463)","v":""},{"$f":"IF(Worksheet!$A$11=TRUE,\"Y\",\"N\")","v":"N"},{"$f":"IF(Worksheet!$A$12=TRUE,\"Y\",\"N\")","v":"N"},{"$f":"IF(Worksheet!$B$11=TRUE,\"Y\",\"N\")","v":"N"},{"$f":"IF(Worksheet!$B$12=TRUE,\"Y\",\"N\")","v":"N"},{"$f":"IF(Worksheet!$C$11=TRUE,\"Y\",\"N\")","v":"N"},{"$f":"IFERROR(IF(N(Worksheet!V463)=0,Worksheet!U463,Worksheet!V463),\"\")","v":0}]
[{"$f":"IF(ISBLANK(Worksheet!F464)=FALSE,VLOOKUP(Worksheet!A464,MeasureCode_Lookup,6,FALSE),\"\")","v":""},{"$f":"Worksheet!H464","v":0},{"$f":"Worksheet!I464","v":0},{"$f":"IFERROR(IF(Worksheet!Z464=0,Worksheet!Y464/I442,Worksheet!Z464/R442),0)","v":0},"W Controlled",null,null,{"$f":"IF(N(Worksheet!S464)=0,N(Worksheet!R464),N(Worksheet!S464))","v":0},{"$f":"IFERROR(Worksheet!W464/(Worksheet!R464+Worksheet!U464),0)","v":0},{"$f":"Worksheet!AE464","v":0},{"$f":"Worksheet!AD464","v":0},0,{"$f":"IF(Worksheet!AL464=0,0,Worksheet!AL464/I442)","v":0},0,null,null,null,{"$f":"IFERROR(Worksheet!X464/(Worksheet!S464+Worksheet!V464),0)","v":0},{"$f":"IF(Worksheet!E464=\"\",\"\",Worksheet!E464)","v":""},{"$f":"IF(Worksheet!B464=\"\",\"\",Worksheet!B464)","v":""},{"$f":"IF(Worksheet!D464=\"\",\"\",Worksheet!D464)","v":""},{"$f":"IF(Worksheet!$A$11=TRUE,\"Y\",\"N\")","v":"N"},{"$f":"IF(Worksheet!$A$12=TRUE,\"Y\",\"N\")","v":"N"},{"$f":"IF(Worksheet!$B$11=TRUE,\"Y\",\"N\")","v":"N"},{"$f":"IF(Worksheet!$B$12=TRUE,\"Y\",\"N\")","v":"N"},{"$f":"IF(Worksheet!$C$11=TRUE,\"Y\",\"N\")","v":"N"},{"$f":"IFERROR(IF(N(Worksheet!V464)=0,Worksheet!U464,Worksheet!V464),\"\")","v":0}]
[{"$f":"IF(ISBLANK(Worksheet!F465)=FALSE,VLOOKUP(Worksheet!A465,MeasureCode_Lookup,6,FALSE),\"\")","v":""},{"$f":"Worksheet!H465","v":0},{"$f":"Worksheet!I465","v":0},{"$f":"IFERROR(IF(Worksheet!Z465=0,Worksheet!Y465/I443,Worksheet!Z465/R443),0)","v":0},"W Controlled",null,null,{"$f":"IF(N(Worksheet!S465)=0,N(Worksheet!R465),N(Worksheet!S465))","v":0},{"$f":"IFERROR(Worksheet!W465/(Worksheet!R465+Worksheet!U465),0)","v":0},{"$f":"Worksheet!AE465","v":0},{"$f":"Worksheet!AD465","v":0},0,{"$f":"IF(Worksheet!AL465=0,0,Worksheet!AL465/I443)","v":0},0,null,null,null,{"$f":"IFERROR(Worksheet!X465/(Worksheet!S465+Worksheet!V465),0)","v":0},{"$f":"IF(Worksheet!E465=\"\",\"\",Worksheet!E465)","v":""},{"$f":"IF(Worksheet!B465=\"\",\"\",Worksheet!B465)","v":""},{"$f":"IF(Worksheet!D465=\"\",\"\",Worksheet!D465)","v":""},{"$f":"IF(Worksheet!$A$11=TRUE,\"Y\",\"N\")","v":"N"},{"$f":"IF(Worksheet!$A$12=TRUE,\"Y\",\"N\")","v":"N"},{"$f":"IF(Worksheet!$B$11=TRUE,\"Y\",\"N\")","v":"N"},{"$f":"IF(Worksheet!$B$12=TRUE,\"Y\",\"N\")","v":"N"},{"$f":"IF(Worksheet!$C$11=TRUE,\"Y\",\"N\")","v":"N"},{"$f":"IFERROR(IF(N(Worksheet!V465)=0,Worksheet!U465,Worksheet!V465),\"\")","v":0}]
[{"$f":"IF(ISBLANK(Worksheet!F466)=FALSE,VLOOKUP(Worksheet!A466,MeasureCode_Lookup,6,FALSE),\"\")","v":""},{"$f":"Worksheet!H466","v":0},{"$f":"Worksheet!I466","v":0},{"$f":"IFERROR(IF(Worksheet!Z466=0,Worksheet!Y466/I444,Worksheet!Z466/R444),0)","v":0},"W Controlled",null,null,{"$f":"IF(N(Worksheet!S466)=0,N(Worksheet!R466),N(Worksheet!S466))","v":0},{"$f":"IFERROR(Worksheet!W466/(Worksheet!R466+Worksheet!U466),0)","v":0},{"$f":"Worksheet!AE466","v":0},{"$f":"Worksheet!AD466","v":0},0,{"$f":"IF(Worksheet!AL466=0,0,Worksheet!AL466/I444)","v":0},0,null,null,null,{"$f":"IFERROR(Worksheet!X466/(Worksheet!S466+Worksheet!V466),0)","v":0},{"$f":"IF(Worksheet!E466=\"\",\"\",Worksheet!E466)","v":""},{"$f":"IF(Worksheet!B466=\"\",\"\",Worksheet!B466)","v":""},{"$f":"IF(Worksheet!D466=\"\",\"\",Worksheet!D466)","v":""},{"$f":"IF(Worksheet!$A$11=TRUE,\"Y\",\"N\")","v":"N"},{"$f":"IF(Worksheet!$A$12=TRUE,\"Y\",\"N\")","v":"N"},{"$f":"IF(Worksheet!$B$11=TRUE,\"Y\",\"N\")","v":"N"},{"$f":"IF(Worksheet!$B$12=TRUE,\"Y\",\"N\")","v":"N"},{"$f":"IF(Worksheet!$C$11=TRUE,\"Y\",\"N\")","v":"N"},{"$f":"IFERROR(IF(N(Worksheet!V466)=0,Worksheet!U466,Worksheet!V466),\"\")","v":0}]
[{"$f":"IF(ISBLANK(Worksheet!F467)=FALSE,VLOOKUP(Worksheet!A467,MeasureCode_Lookup,6,FALSE),\"\")","v":""},{"$f":"Worksheet!H467","v":0},{"$f":"Worksheet!I467","v":0},{"$f":"IFERROR(IF(Worksheet!Z467=0,Worksheet!Y467/I445,Worksheet!Z467/R445),0)","v":0},"W Controlled",null,null,{"$f":"IF(N(Worksheet!S467)=0,N(Worksheet!R467),N(Worksheet!S467))","v":0},{"$f":"IFERROR(Worksheet!W467/(Worksheet!R467+Worksheet!U467),0)","v":0},{"$f":"Worksheet!AE467","v":0},{"$f":"Worksheet!AD467","v":0},0,{"$f":"IF(Worksheet!AL467=0,0,Worksheet!AL467/I445)","v":0},0,null,null,null,{"$f":"IFERROR(Worksheet!X467/(Worksheet!S467+Worksheet!V467),0)","v":0},{"$f":"IF(Worksheet!E467=\"\",\"\",Worksheet!E467)","v":""},{"$f":"IF(Worksheet!B467=\"\",\"\",Worksheet!B467)","v":""},{"$f":"IF(Worksheet!D467=\"\",\"\",Worksheet!D467)","v":""},{"$f":"IF(Worksheet!$A$11=TRUE,\"Y\",\"N\")","v":"N"},{"$f":"IF(Worksheet!$A$12=TRUE,\"Y\",\"N\")","v":"N"},{"$f":"IF(Worksheet!$B$11=TRUE,\"Y\",\"N\")","v":"N"},{"$f":"IF(Worksheet!$B$12=TRUE,\"Y\",\"N\")","v":"N"},{"$f":"IF(Worksheet!$C$11=TRUE,\"Y\",\"N\")","v":"N"},{"$f":"IFERROR(IF(N(Worksheet!V467)=0,Worksheet!U467,Worksheet!V467),\"\")","v":0}]
[{"$f":"IF(ISBLANK(Worksheet!F468)=FALSE,VLOOKUP(Worksheet!A468,MeasureCode_Lookup,6,FALSE),\"\")","v":""},{"$f":"Worksheet!H468","v":0},{"$f":"Worksheet!I468","v":0},{"$f":"IFERROR(IF(Worksheet!Z468=0,Worksheet!Y468/I446,Worksheet!Z468/R446),0)","v":0},"W Controlled",null,null,{"$f":"IF(N(Worksheet!S468)=0,N(Worksheet!R468),N(Worksheet!S468))","v":0},{"$f":"IFERROR(Worksheet!W468/(Worksheet!R468+Worksheet!U468),0)","v":0},{"$f":"Worksheet!AE468","v":0},{"$f":"Worksheet!AD468","v":0},0,{"$f":"IF(Worksheet!AL468=0,0,Worksheet!AL468/I446)","v":0},0,null,null,null,{"$f":"IFERROR(Worksheet!X468/(Worksheet!S468+Worksheet!V468),0)","v":0},{"$f":"IF(Worksheet!E468=\"\",\"\",Worksheet!E468)","v":""},{"$f":"IF(Worksheet!B468=\"\",\"\",Worksheet!B468)","v":""},{"$f":"IF(Worksheet!D468=\"\",\"\",Worksheet!D468)","v":""},{"$f":"IF(Worksheet!$A$11=TRUE,\"Y\",\"N\")","v":"N"},{"$f":"IF(Worksheet!$A$12=TRUE,\"Y\",\"N\")","v":"N"},{"$f":"IF(Worksheet!$B$11=TRUE,\"Y\",\"N\")","v":"N"},{"$f":"IF(Worksheet!$B$12=TRUE,\"Y\",\"N\")","v":"N"},{"$f":"IF(Worksheet!$C$11=TRUE,\"Y\",\"N\")","v":"N"},{"$f":"IFERROR(IF(N(Worksheet!V468)=0,Worksheet!U468,Worksheet!V468),\"\")","v":0}]
[{"$f":"IF(ISBLANK(Worksheet!F469)=FALSE,VLOOKUP(Worksheet!A469,MeasureCode_Lookup,6,FALSE),\"\")","v":""},{"$f":"Worksheet!H469","v":0},{"$f":"Worksheet!I469","v":0},{"$f":"IFERROR(IF(Worksheet!Z469=0,Worksheet!Y469/I447,Worksheet!Z469/R447),0)","v":0},"W Controlled",null,null,{"$f":"IF(N(Worksheet!S469)=0,N(Worksheet!R469),N(Worksheet!S469))","v":0},{"$f":"IFERROR(Worksheet!W469/(Worksheet!R469+Worksheet!U469),0)","v":0},{"$f":"Worksheet!AE469","v":0},{"$f":"Worksheet!AD469","v":0},0,{"$f":"IF(Worksheet!AL469=0,0,Worksheet!AL469/I447)","v":0},0,null,null,null,{"$f":"IFERROR(Worksheet!X469/(Worksheet!S469+Worksheet!V469),0)","v":0},{"$f":"IF(Worksheet!E469=\"\",\"\",Worksheet!E469)","v":""},{"$f":"IF(Worksheet!B469=\"\",\"\",Worksheet!B469)","v":""},{"$f":"IF(Worksheet!D469=\"\",\"\",Worksheet!D469)","v":""},{"$f":"IF(Worksheet!$A$11=TRUE,\"Y\",\"N\")","v":"N"},{"$f":"IF(Worksheet!$A$12=TRUE,\"Y\",\"N\")","v":"N"},{"$f":"IF(Worksheet!$B$11=TRUE,\"Y\",\"N\")","v":"N"},{"$f":"IF(Worksheet!$B$12=TRUE,\"Y\",\"N\")","v":"N"},{"$f":"IF(Worksheet!$C$11=TRUE,\"Y\",\"N\")","v":"N"},{"$f":"IFERROR(IF(N(Worksheet!V469)=0,Worksheet!U469,Worksheet!V469),\"\")","v":0}]
[{"$f":"IF(ISBLANK(Worksheet!F470)=FALSE,VLOOKUP(Worksheet!A470,MeasureCode_Lookup,6,FALSE),\"\")","v":""},{"$f":"Worksheet!H470","v":0},{"$f":"Worksheet!I470","v":0},{"$f":"IFERROR(IF(Worksheet!Z470=0,Worksheet!Y470/I448,Worksheet!Z470/R448),0)","v":0},"W Controlled",null,null,{"$f":"IF(N(Worksheet!S470)=0,N(Worksheet!R470),N(Worksheet!S470))","v":0},{"$f":"IFERROR(Worksheet!W470/(Worksheet!R470+Worksheet!U470),0)","v":0},{"$f":"Worksheet!AE470","v":0},{"$f":"Worksheet!AD470","v":0},0,{"$f":"IF(Worksheet!AL470=0,0,Worksheet!AL470/I448)","v":0},0,null,null,null,{"$f":"IFERROR(Worksheet!X470/(Worksheet!S470+Worksheet!V470),0)","v":0},{"$f":"IF(Worksheet!E470=\"\",\"\",Worksheet!E470)","v":""},{"$f":"IF(Worksheet!B470=\"\",\"\",Worksheet!B470)","v":""},{"$f":"IF(Worksheet!D470=\"\",\"\",Worksheet!D470)","v":""},{"$f":"IF(Worksheet!$A$11=TRUE,\"Y\",\"N\")","v":"N"},{"$f":"IF(Worksheet!$A$12=TRUE,\"Y\",\"N\")","v":"N"},{"$f":"IF(Worksheet!$B$11=TRUE,\"Y\",\"N\")","v":"N"},{"$f":"IF(Worksheet!$B$12=TRUE,\"Y\",\"N\")","v":"N"},{"$f":"IF(Worksheet!$C$11=TRUE,\"Y\",\"N\")","v":"N"},{"$f":"IFERROR(IF(N(Worksheet!V470)=0,Worksheet!U470,Worksheet!V470),\"\")","v":0}]
[{"$f":"IF(ISBLANK(Worksheet!F471)=FALSE,VLOOKUP(Worksheet!A471,MeasureCode_Lookup,6,FALSE),\"\")","v":""},{"$f":"Worksheet!H471","v":0},{"$f":"Worksheet!I471","v":0},{"$f":"IFERROR(IF(Worksheet!Z471=0,Worksheet!Y471/I449,Worksheet!Z471/R449),0)","v":0},"W Controlled",null,null,{"$f":"IF(N(Worksheet!S471)=0,N(Worksheet!R471),N(Worksheet!S471))","v":0},{"$f":"IFERROR(Worksheet!W471/(Worksheet!R471+Worksheet!U471),0)","v":0},{"$f":"Worksheet!AE471","v":0},{"$f":"Worksheet!AD471","v":0},0,{"$f":"IF(Worksheet!AL471=0,0,Worksheet!AL471/I449)","v":0},0,null,null,null,{"$f":"IFERROR(Worksheet!X471/(Worksheet!S471+Worksheet!V471),0)","v":0},{"$f":"IF(Worksheet!E471=\"\",\"\",Worksheet!E471)","v":""},{"$f":"IF(Worksheet!B471=\"\",\"\",Worksheet!B471)","v":""},{"$f":"IF(Worksheet!D471=\"\",\"\",Worksheet!D471)","v":""},{"$f":"IF(Worksheet!$A$11=TRUE,\"Y\",\"N\")","v":"N"},{"$f":"IF(Worksheet!$A$12=TRUE,\"Y\",\"N\")","v":"N"},{"$f":"IF(Worksheet!$B$11=TRUE,\"Y\",\"N\")","v":"N"},{"$f":"IF(Worksheet!$B$12=TRUE,\"Y\",\"N\")","v":"N"},{"$f":"IF(Worksheet!$C$11=TRUE,\"Y\",\"N\")","v":"N"},{"$f":"IFERROR(IF(N(Worksheet!V471)=0,Worksheet!U471,Worksheet!V471),\"\")","v":0}]
[{"$f":"IF(ISBLANK(Worksheet!F472)=FALSE,VLOOKUP(Worksheet!A472,MeasureCode_Lookup,6,FALSE),\"\")","v":""},{"$f":"Worksheet!H472","v":0},{"$f":"Worksheet!I472","v":0},{"$f":"IFERROR(IF(Worksheet!Z472=0,Worksheet!Y472/I450,Worksheet!Z472/R450),0)","v":0},"W Controlled",null,null,{"$f":"IF(N(Worksheet!S472)=0,N(Worksheet!R472),N(Worksheet!S472))","v":0},{"$f":"IFERROR(Worksheet!W472/(Worksheet!R472+Worksheet!U472),0)","v":0},{"$f":"Worksheet!AE472","v":0},{"$f":"Worksheet!AD472","v":0},0,{"$f":"IF(Worksheet!AL472=0,0,Worksheet!AL472/I450)","v":0},0,null,null,null,{"$f":"IFERROR(Worksheet!X472/(Worksheet!S472+Worksheet!V472),0)","v":0},{"$f":"IF(Worksheet!E472=\"\",\"\",Worksheet!E472)","v":""},{"$f":"IF(Worksheet!B472=\"\",\"\",Worksheet!B472)","v":""},{"$f":"IF(Worksheet!D472=\"\",\"\",Worksheet!D472)","v":""},{"$f":"IF(Worksheet!$A$11=TRUE,\"Y\",\"N\")","v":"N"},{"$f":"IF(Worksheet!$A$12=TRUE,\"Y\",\"N\")","v":"N"},{"$f":"IF(Worksheet!$B$11=TRUE,\"Y\",\"N\")","v":"N"},{"$f":"IF(Worksheet!$B$12=TRUE,\"Y\",\"N\")","v":"N"},{"$f":"IF(Worksheet!$C$11=TRUE,\"Y\",\"N\")","v":"N"},{"$f":"IFERROR(IF(N(Worksheet!V472)=0,Worksheet!U472,Worksheet!V472),\"\")","v":0}]
[{"$f":"IF(ISBLANK(Worksheet!F473)=FALSE,VLOOKUP(Worksheet!A473,MeasureCode_Lookup,6,FALSE),\"\")","v":""},{"$f":"Worksheet!H473","v":0},{"$f":"Worksheet!I473","v":0},{"$f":"IFERROR(IF(Worksheet!Z473=0,Worksheet!Y473/I451,Worksheet!Z473/R451),0)","v":0},"W Controlled",null,null,{"$f":"IF(N(Worksheet!S473)=0,N(Worksheet!R473),N(Worksheet!S473))","v":0},{"$f":"IFERROR(Worksheet!W473/(Worksheet!R473+Worksheet!U473),0)","v":0},{"$f":"Worksheet!AE473","v":0},{"$f":"Worksheet!AD473","v":0},{"$f":"J451*8","v":0},{"$f":"IF(Worksheet!AL473=0,0,Worksheet!AL473/I451)","v":0},{"$f":"M451*8","v":0},null,null,null,{"$f":"IFERROR(Worksheet!X473/(Worksheet!S473+Worksheet!V473),0)","v":0},{"$f":"IF(Worksheet!E473=\"\",\"\",Worksheet!E473)","v":""},{"$f":"IF(Worksheet!B473=\"\",\"\",Worksheet!B473)","v":""},{"$f":"IF(Worksheet!D473=\"\",\"\",Worksheet!D473)","v":""},{"$f":"IF(Worksheet!$A$11=TRUE,\"Y\",\"N\")","v":"N"},{"$f":"IF(Worksheet!$A$12=TRUE,\"Y\",\"N\")","v":"N"},{"$f":"IF(Worksheet!$B$11=TRUE,\"Y\",\"N\")","v":"N"},{"$f":"IF(Worksheet!$B$12=TRUE,\"Y\",\"N\")","v":"N"},{"$f":"IF(Worksheet!$C$11=TRUE,\"Y\",\"N\")","v":"N"},{"$f":"IFERROR(IF(N(Worksheet!V473)=0,Worksheet!U473,Worksheet!V473),\"\")","v":0}]
[{"$f":"IF(ISBLANK(Worksheet!F474)=FALSE,VLOOKUP(Worksheet!A474,MeasureCode_Lookup,6,FALSE),\"\")","v":""},{"$f":"Worksheet!H474","v":0},{"$f":"Worksheet!I474","v":0},{"$f":"IFERROR(IF(Worksheet!Z474=0,Worksheet!Y474/I452,Worksheet!Z474/R452),0)","v":0},"W Controlled",null,null,{"$f":"IF(N(Worksheet!S474)=0,N(Worksheet!R474),N(Worksheet!S474))","v":0},{"$f":"IFERROR(Worksheet!W474/(Worksheet!R474+Worksheet!U474),0)","v":0},{"$f":"Worksheet!AE474","v":0},{"$f":"Worksheet!AD474","v":0},0,{"$f":"IF(Worksheet!AL474=0,0,Worksheet!AL474/I452)","v":0},0,null,null,null,{"$f":"IFERROR(Worksheet!X474/(Worksheet!S474+Worksheet!V474),0)","v":0},{"$f":"IF(Worksheet!E474=\"\",\"\",Worksheet!E474)","v":""},{"$f":"IF(Worksheet!B474=\"\",\"\",Worksheet!B474)","v":""},{"$f":"IF(Worksheet!D474=\"\",\"\",Worksheet!D474)","v":""},{"$f":"IF(Worksheet!$A$11=TRUE,\"Y\",\"N\")","v":"N"},{"$f":"IF(Worksheet!$A$12=TRUE,\"Y\",\"N\")","v":"N"},{"$f":"IF(Worksheet!$B$11=TRUE,\"Y\",\"N\")","v":"N"},{"$f":"IF(Worksheet!$B$12=TRUE,\"Y\",\"N\")","v":"N"},{"$f":"IF(Worksheet!$C$11=TRUE,\"Y\",\"N\")","v":"N"},{"$f":"IFERROR(IF(N(Worksheet!V474)=0,Worksheet!U474,Worksheet!V474),\"\")","v":0}]
[{"$f":"IF(ISBLANK(Worksheet!F475)=FALSE,VLOOKUP(Worksheet!A475,MeasureCode_Lookup,6,FALSE),\"\")","v":""},{"$f":"Worksheet!H475","v":0},{"$f":"Worksheet!I475","v":0},{"$f":"IFERROR(IF(Worksheet!Z475=0,Worksheet!Y475/I453,Worksheet!Z475/R453),0)","v":0},"W Controlled",null,null,{"$f":"IF(N(Worksheet!S475)=0,N(Worksheet!R475),N(Worksheet!S475))","v":0},{"$f":"IFERROR(Worksheet!W475/(Worksheet!R475+Worksheet!U475),0)","v":0},{"$f":"Worksheet!AE475","v":0},{"$f":"Worksheet!AD475","v":0},0,{"$f":"IF(Worksheet!AL475=0,0,Worksheet!AL475/I453)","v":0},0,null,null,null,{"$f":"IFERROR(Worksheet!X475/(Worksheet!S475+Worksheet!V475),0)","v":0},{"$f":"IF(Worksheet!E475=\"\",\"\",Worksheet!E475)","v":""},{"$f":"IF(Worksheet!B475=\"\",\"\",Worksheet!B475)","v":""},{"$f":"IF(Worksheet!D475=\"\",\"\",Worksheet!D475)","v":""},{"$f":"IF(Worksheet!$A$11=TRUE,\"Y\",\"N\")","v":"N"},{"$f":"IF(Worksheet!$A$12=TRUE,\"Y\",\"N\")","v":"N"},{"$f":"IF(Worksheet!$B$11=TRUE,\"Y\",\"N\")","v":"N"},{"$f":"IF(Worksheet!$B$12=TRUE,\"Y\",\"N\")","v":"N"},{"$f":"IF(Worksheet!$C$11=TRUE,\"Y\",\"N\")","v":"N"},{"$f":"IFERROR(IF(N(Worksheet!V475)=0,Worksheet!U475,Worksheet!V475),\"\")","v":0}]
[{"$f":"IF(ISBLANK(Worksheet!F476)=FALSE,VLOOKUP(Worksheet!A476,MeasureCode_Lookup,6,FALSE),\"\")","v":""},{"$f":"Worksheet!H476","v":0},{"$f":"Worksheet!I476","v":0},{"$f":"IFERROR(IF(Worksheet!Z476=0,Worksheet!Y476/I454,Worksheet!Z476/R454),0)","v":0},"W Controlled",null,null,{"$f":"IF(N(Worksheet!S476)=0,N(Worksheet!R476),N(Worksheet!S476))","v":0},{"$f":"IFERROR(Worksheet!W476/(Worksheet!R476+Worksheet!U476),0)","v":0},{"$f":"Worksheet!AE476","v":0},{"$f":"Worksheet!AD476","v":0},0,{"$f":"IF(Worksheet!AL476=0,0,Worksheet!AL476/I454)","v":0},0,null,null,null,{"$f":"IFERROR(Worksheet!X476/(Worksheet!S476+Worksheet!V476),0)","v":0},{"$f":"IF(Worksheet!E476=\"\",\"\",Worksheet!E476)","v":""},{"$f":"IF(Worksheet!B476=\"\",\"\",Worksheet!B476)","v":""},{"$f":"IF(Worksheet!D476=\"\",\"\",Worksheet!D476)","v":""},{"$f":"IF(Worksheet!$A$11=TRUE,\"Y\",\"N\")","v":"N"},{"$f":"IF(Worksheet!$A$12=TRUE,\"Y\",\"N\")","v":"N"},{"$f":"IF(Worksheet!$B$11=TRUE,\"Y\",\"N\")","v":"N"},{"$f":"IF(Worksheet!$B$12=TRUE,\"Y\",\"N\")","v":"N"},{"$f":"IF(Worksheet!$C$11=TRUE,\"Y\",\"N\")","v":"N"},{"$f":"IFERROR(IF(N(Worksheet!V476)=0,Worksheet!U476,Worksheet!V476),\"\")","v":0}]
[{"$f":"IF(ISBLANK(Worksheet!F477)=FALSE,VLOOKUP(Worksheet!A477,MeasureCode_Lookup,6,FALSE),\"\")","v":""},{"$f":"Worksheet!H477","v":0},{"$f":"Worksheet!I477","v":0},{"$f":"IFERROR(IF(Worksheet!Z477=0,Worksheet!Y477/I455,Worksheet!Z477/R455),0)","v":0},"W Controlled",null,null,{"$f":"IF(N(Worksheet!S477)=0,N(Worksheet!R477),N(Worksheet!S477))","v":0},{"$f":"IFERROR(Worksheet!W477/(Worksheet!R477+Worksheet!U477),0)","v":0},{"$f":"Worksheet!AE477","v":0},{"$f":"Worksheet!AD477","v":0},0,{"$f":"IF(Worksheet!AL477=0,0,Worksheet!AL477/I455)","v":0},0,null,null,null,{"$f":"IFERROR(Worksheet!X477/(Worksheet!S477+Worksheet!V477),0)","v":0},{"$f":"IF(Worksheet!E477=\"\",\"\",Worksheet!E477)","v":""},{"$f":"IF(Worksheet!B477=\"\",\"\",Worksheet!B477)","v":""},{"$f":"IF(Worksheet!D477=\"\",\"\",Worksheet!D477)","v":""},{"$f":"IF(Worksheet!$A$11=TRUE,\"Y\",\"N\")","v":"N"},{"$f":"IF(Worksheet!$A$12=TRUE,\"Y\",\"N\")","v":"N"},{"$f":"IF(Worksheet!$B$11=TRUE,\"Y\",\"N\")","v":"N"},{"$f":"IF(Worksheet!$B$12=TRUE,\"Y\",\"N\")","v":"N"},{"$f":"IF(Worksheet!$C$11=TRUE,\"Y\",\"N\")","v":"N"},{"$f":"IFERROR(IF(N(Worksheet!V477)=0,Worksheet!U477,Worksheet!V477),\"\")","v":0}]
[{"$f":"IF(ISBLANK(Worksheet!F478)=FALSE,VLOOKUP(Worksheet!A478,MeasureCode_Lookup,6,FALSE),\"\")","v":""},{"$f":"Worksheet!H478","v":0},{"$f":"Worksheet!I478","v":0},{"$f":"IFERROR(IF(Worksheet!Z478=0,Worksheet!Y478/I456,Worksheet!Z478/R456),0)","v":0},"W Controlled",null,null,{"$f":"IF(N(Worksheet!S478)=0,N(Worksheet!R478),N(Worksheet!S478))","v":0},{"$f":"IFERROR(Worksheet!W478/(Worksheet!R478+Worksheet!U478),0)","v":0},{"$f":"Worksheet!AE478","v":0},{"$f":"Worksheet!AD478","v":0},0,{"$f":"IF(Worksheet!AL478=0,0,Worksheet!AL478/I456)","v":0},0,null,null,null,{"$f":"IFERROR(Worksheet!X478/(Worksheet!S478+Worksheet!V478),0)","v":0},{"$f":"IF(Worksheet!E478=\"\",\"\",Worksheet!E478)","v":""},{"$f":"IF(Worksheet!B478=\"\",\"\",Worksheet!B478)","v":""},{"$f":"IF(Worksheet!D478=\"\",\"\",Worksheet!D478)","v":""},{"$f":"IF(Worksheet!$A$11=TRUE,\"Y\",\"N\")","v":"N"},{"$f":"IF(Worksheet!$A$12=TRUE,\"Y\",\"N\")","v":"N"},{"$f":"IF(Worksheet!$B$11=TRUE,\"Y\",\"N\")","v":"N"},{"$f":"IF(Worksheet!$B$12=TRUE,\"Y\",\"N\")","v":"N"},{"$f":"IF(Worksheet!$C$11=TRUE,\"Y\",\"N\")","v":"N"},{"$f":"IFERROR(IF(N(Worksheet!V478)=0,Worksheet!U478,Worksheet!V478),\"\")","v":0}]
[{"$f":"IF(ISBLANK(Worksheet!F479)=FALSE,VLOOKUP(Worksheet!A479,MeasureCode_Lookup,6,FALSE),\"\")","v":""},{"$f":"Worksheet!H479","v":0},{"$f":"Worksheet!I479","v":0},{"$f":"IFERROR(IF(Worksheet!Z479=0,Worksheet!Y479/I457,Worksheet!Z479/R457),0)","v":0},"W Controlled",null,null,{"$f":"IF(N(Worksheet!S479)=0,N(Worksheet!R479),N(Worksheet!S479))","v":0},{"$f":"IFERROR(Worksheet!W479/(Worksheet!R479+Worksheet!U479),0)","v":0},{"$f":"Worksheet!AE479","v":0},{"$f":"Worksheet!AD479","v":0},0,{"$f":"IF(Worksheet!AL479=0,0,Worksheet!AL479/I457)","v":0},0,null,null,null,{"$f":"IFERROR(Worksheet!X479/(Worksheet!S479+Worksheet!V479),0)","v":0},{"$f":"IF(Worksheet!E479=\"\",\"\",Worksheet!E479)","v":""},{"$f":"IF(Worksheet!B479=\"\",\"\",Worksheet!B479)","v":""},{"$f":"IF(Worksheet!D479=\"\",\"\",Worksheet!D479)","v":""},{"$f":"IF(Worksheet!$A$11=TRUE,\"Y\",\"N\")","v":"N"},{"$f":"IF(Worksheet!$A$12=TRUE,\"Y\",\"N\")","v":"N"},{"$f":"IF(Worksheet!$B$11=TRUE,\"Y\",\"N\")","v":"N"},{"$f":"IF(Worksheet!$B$12=TRUE,\"Y\",\"N\")","v":"N"},{"$f":"IF(Worksheet!$C$11=TRUE,\"Y\",\"N\")","v":"N"},{"$f":"IFERROR(IF(N(Worksheet!V479)=0,Worksheet!U479,Worksheet!V479),\"\")","v":0}]
[{"$f":"IF(ISBLANK(Worksheet!F480)=FALSE,VLOOKUP(Worksheet!A480,MeasureCode_Lookup,6,FALSE),\"\")","v":""},{"$f":"Worksheet!H480","v":0},{"$f":"Worksheet!I480","v":0},{"$f":"IFERROR(IF(Worksheet!Z480=0,Worksheet!Y480/I458,Worksheet!Z480/R458),0)","v":0},"W Controlled",null,null,{"$f":"IF(N(Worksheet!S480)=0,N(Worksheet!R480),N(Worksheet!S480))","v":0},{"$f":"IFERROR(Worksheet!W480/(Worksheet!R480+Worksheet!U480),0)","v":0},{"$f":"Worksheet!AE480","v":0},{"$f":"Worksheet!AD480","v":0},0,{"$f":"IF(Worksheet!AL480=0,0,Worksheet!AL480/I458)","v":0},0,null,null,null,{"$f":"IFERROR(Worksheet!X480/(Worksheet!S480+Worksheet!V480),0)","v":0},{"$f":"IF(Worksheet!E480=\"\",\"\",Worksheet!E480)","v":""},{"$f":"IF(Worksheet!B480=\"\",\"\",Worksheet!B480)","v":""},{"$f":"IF(Worksheet!D480=\"\",\"\",Worksheet!D480)","v":""},{"$f":"IF(Worksheet!$A$11=TRUE,\"Y\",\"N\")","v":"N"},{"$f":"IF(Worksheet!$A$12=TRUE,\"Y\",\"N\")","v":"N"},{"$f":"IF(Worksheet!$B$11=TRUE,\"Y\",\"N\")","v":"N"},{"$f":"IF(Worksheet!$B$12=TRUE,\"Y\",\"N\")","v":"N"},{"$f":"IF(Worksheet!$C$11=TRUE,\"Y\",\"N\")","v":"N"},{"$f":"IFERROR(IF(N(Worksheet!V480)=0,Worksheet!U480,Worksheet!V480),\"\")","v":0}]
[{"$f":"IF(ISBLANK(Worksheet!F481)=FALSE,VLOOKUP(Worksheet!A481,MeasureCode_Lookup,6,FALSE),\"\")","v":""},{"$f":"Worksheet!H481","v":0},{"$f":"Worksheet!I481","v":0},{"$f":"IFERROR(IF(Worksheet!Z481=0,Worksheet!Y481/I459,Worksheet!Z481/R459),0)","v":0},"W Controlled",null,null,{"$f":"IF(N(Worksheet!S481)=0,N(Worksheet!R481),N(Worksheet!S481))","v":0},{"$f":"IFERROR(Worksheet!W481/(Worksheet!R481+Worksheet!U481),0)","v":0},{"$f":"Worksheet!AE481","v":0},{"$f":"Worksheet!AD481","v":0},0,{"$f":"IF(Worksheet!AL481=0,0,Worksheet!AL481/I459)","v":0},0,null,null,null,{"$f":"IFERROR(Worksheet!X481/(Worksheet!S481+Worksheet!V481),0)","v":0},{"$f":"IF(Worksheet!E481=\"\",\"\",Worksheet!E481)","v":""},{"$f":"IF(Worksheet!B481=\"\",\"\",Worksheet!B481)","v":""},{"$f":"IF(Worksheet!D481=\"\",\"\",Worksheet!D481)","v":""},{"$f":"IF(Worksheet!$A$11=TRUE,\"Y\",\"N\")","v":"N"},{"$f":"IF(Worksheet!$A$12=TRUE,\"Y\",\"N\")","v":"N"},{"$f":"IF(Worksheet!$B$11=TRUE,\"Y\",\"N\")","v":"N"},{"$f":"IF(Worksheet!$B$12=TRUE,\"Y\",\"N\")","v":"N"},{"$f":"IF(Worksheet!$C$11=TRUE,\"Y\",\"N\")","v":"N"},{"$f":"IFERROR(IF(N(Worksheet!V481)=0,Worksheet!U481,Worksheet!V481),\"\")","v":0}]
[{"$f":"IF(ISBLANK(Worksheet!F482)=FALSE,VLOOKUP(Worksheet!A482,MeasureCode_Lookup,6,FALSE),\"\")","v":""},{"$f":"Worksheet!H482","v":0},{"$f":"Worksheet!I482","v":0},{"$f":"IFERROR(IF(Worksheet!Z482=0,Worksheet!Y482/I460,Worksheet!Z482/R460),0)","v":0},"W Controlled",null,null,{"$f":"IF(N(Worksheet!S482)=0,N(Worksheet!R482),N(Worksheet!S482))","v":0},{"$f":"IFERROR(Worksheet!W482/(Worksheet!R482+Worksheet!U482),0)","v":0},{"$f":"Worksheet!AE482","v":0},{"$f":"Worksheet!AD482","v":0},0,{"$f":"IF(Worksheet!AL482=0,0,Worksheet!AL482/I460)","v":0},0,null,null,null,{"$f":"IFERROR(Worksheet!X482/(Worksheet!S482+Worksheet!V482),0)","v":0},{"$f":"IF(Worksheet!E482=\"\",\"\",Worksheet!E482)","v":""},{"$f":"IF(Worksheet!B482=\"\",\"\",Worksheet!B482)","v":""},{"$f":"IF(Worksheet!D482=\"\",\"\",Worksheet!D482)","v":""},{"$f":"IF(Worksheet!$A$11=TRUE,\"Y\",\"N\")","v":"N"},{"$f":"IF(Worksheet!$A$12=TRUE,\"Y\",\"N\")","v":"N"},{"$f":"IF(Worksheet!$B$11=TRUE,\"Y\",\"N\")","v":"N"},{"$f":"IF(Worksheet!$B$12=TRUE,\"Y\",\"N\")","v":"N"},{"$f":"IF(Worksheet!$C$11=TRUE,\"Y\",\"N\")","v":"N"},{"$f":"IFERROR(IF(N(Worksheet!V482)=0,Worksheet!U482,Worksheet!V482),\"\")","v":0}]
[{"$f":"IF(ISBLANK(Worksheet!F483)=FALSE,VLOOKUP(Worksheet!A483,MeasureCode_Lookup,6,FALSE),\"\")","v":""},{"$f":"Worksheet!H483","v":0},{"$f":"Worksheet!I483","v":0},{"$f":"IFERROR(IF(Worksheet!Z483=0,Worksheet!Y483/I461,Worksheet!Z483/R461),0)","v":0},"W Controlled",null,null,{"$f":"IF(N(Worksheet!S483)=0,N(Worksheet!R483),N(Worksheet!S483))","v":0},{"$f":"IFERROR(Worksheet!W483/(Worksheet!R483+Worksheet!U483),0)","v":0},{"$f":"Worksheet!AE483","v":0},{"$f":"Worksheet!AD483","v":0},0,{"$f":"IF(Worksheet!AL483=0,0,Worksheet!AL483/I461)","v":0},0,null,null,null,{"$f":"IFERROR(Worksheet!X483/(Worksheet!S483+Worksheet!V483),0)","v":0},{"$f":"IF(Worksheet!E483=\"\",\"\",Worksheet!E483)","v":""},{"$f":"IF(Worksheet!B483=\"\",\"\",Worksheet!B483)","v":""},{"$f":"IF(Worksheet!D483=\"\",\"\",Worksheet!D483)","v":""},{"$f":"IF(Worksheet!$A$11=TRUE,\"Y\",\"N\")","v":"N"},{"$f":"IF(Worksheet!$A$12=TRUE,\"Y\",\"N\")","v":"N"},{"$f":"IF(Worksheet!$B$11=TRUE,\"Y\",\"N\")","v":"N"},{"$f":"IF(Worksheet!$B$12=TRUE,\"Y\",\"N\")","v":"N"},{"$f":"IF(Worksheet!$C$11=TRUE,\"Y\",\"N\")","v":"N"},{"$f":"IFERROR(IF(N(Worksheet!V483)=0,Worksheet!U483,Worksheet!V483),\"\")","v":0}]
[{"$f":"IF(ISBLANK(Worksheet!F484)=FALSE,VLOOKUP(Worksheet!A484,MeasureCode_Lookup,6,FALSE),\"\")","v":""},{"$f":"Worksheet!H484","v":0},{"$f":"Worksheet!I484","v":0},{"$f":"IFERROR(IF(Worksheet!Z484=0,Worksheet!Y484/I462,Worksheet!Z484/R462),0)","v":0},"W Controlled",null,null,{"$f":"IF(N(Worksheet!S484)=0,N(Worksheet!R484),N(Worksheet!S484))","v":0},{"$f":"IFERROR(Worksheet!W484/(Worksheet!R484+Worksheet!U484),0)","v":0},{"$f":"Worksheet!AE484","v":0},{"$f":"Worksheet!AD484","v":0},0,{"$f":"IF(Worksheet!AL484=0,0,Worksheet!AL484/I462)","v":0},0,null,null,null,{"$f":"IFERROR(Worksheet!X484/(Worksheet!S484+Worksheet!V484),0)","v":0},{"$f":"IF(Worksheet!E484=\"\",\"\",Worksheet!E484)","v":""},{"$f":"IF(Worksheet!B484=\"\",\"\",Worksheet!B484)","v":""},{"$f":"IF(Worksheet!D484=\"\",\"\",Worksheet!D484)","v":""},{"$f":"IF(Worksheet!$A$11=TRUE,\"Y\",\"N\")","v":"N"},{"$f":"IF(Worksheet!$A$12=TRUE,\"Y\",\"N\")","v":"N"},{"$f":"IF(Worksheet!$B$11=TRUE,\"Y\",\"N\")","v":"N"},{"$f":"IF(Worksheet!$B$12=TRUE,\"Y\",\"N\")","v":"N"},{"$f":"IF(Worksheet!$C$11=TRUE,\"Y\",\"N\")","v":"N"},{"$f":"IFERROR(IF(N(Worksheet!V484)=0,Worksheet!U484,Worksheet!V484),\"\")","v":0}]
[{"$f":"IF(ISBLANK(Worksheet!F485)=FALSE,VLOOKUP(Worksheet!A485,MeasureCode_Lookup,6,FALSE),\"\")","v":""},{"$f":"Worksheet!H485","v":0},{"$f":"Worksheet!I485","v":0},{"$f":"IFERROR(IF(Worksheet!Z485=0,Worksheet!Y485/I463,Worksheet!Z485/R463),0)","v":0},"W Controlled",null,null,{"$f":"IF(N(Worksheet!S485)=0,N(Worksheet!R485),N(Worksheet!S485))","v":0},{"$f":"IFERROR(Worksheet!W485/(Worksheet!R485+Worksheet!U485),0)","v":0},{"$f":"Worksheet!AE485","v":0},{"$f":"Worksheet!AD485","v":0},0,{"$f":"IF(Worksheet!AL485=0,0,Worksheet!AL485/I463)","v":0},0,null,null,null,{"$f":"IFERROR(Worksheet!X485/(Worksheet!S485+Worksheet!V485),0)","v":0},{"$f":"IF(Worksheet!E485=\"\",\"\",Worksheet!E485)","v":""},{"$f":"IF(Worksheet!B485=\"\",\"\",Worksheet!B485)","v":""},{"$f":"IF(Worksheet!D485=\"\",\"\",Worksheet!D485)","v":""},{"$f":"IF(Worksheet!$A$11=TRUE,\"Y\",\"N\")","v":"N"},{"$f":"IF(Worksheet!$A$12=TRUE,\"Y\",\"N\")","v":"N"},{"$f":"IF(Worksheet!$B$11=TRUE,\"Y\",\"N\")","v":"N"},{"$f":"IF(Worksheet!$B$12=TRUE,\"Y\",\"N\")","v":"N"},{"$f":"IF(Worksheet!$C$11=TRUE,\"Y\",\"N\")","v":"N"},{"$f":"IFERROR(IF(N(Worksheet!V485)=0,Worksheet!U485,Worksheet!V485),\"\")","v":0}]
[{"$f":"IF(ISBLANK(Worksheet!F486)=FALSE,VLOOKUP(Worksheet!A486,MeasureCode_Lookup,6,FALSE),\"\")","v":""},{"$f":"Worksheet!H486","v":0},{"$f":"Worksheet!I486","v":0},{"$f":"IFERROR(IF(Worksheet!Z486=0,Worksheet!Y486/I464,Worksheet!Z486/R464),0)","v":0},"W Controlled",null,null,{"$f":"IF(N(Worksheet!S486)=0,N(Worksheet!R486),N(Worksheet!S486))","v":0},{"$f":"IFERROR(Worksheet!W486/(Worksheet!R486+Worksheet!U486),0)","v":0},{"$f":"Worksheet!AE486","v":0},{"$f":"Worksheet!AD486","v":0},0,{"$f":"IF(Worksheet!AL486=0,0,Worksheet!AL486/I464)","v":0},0,null,null,null,{"$f":"IFERROR(Worksheet!X486/(Worksheet!S486+Worksheet!V486),0)","v":0},{"$f":"IF(Worksheet!E486=\"\",\"\",Worksheet!E486)","v":""},{"$f":"IF(Worksheet!B486=\"\",\"\",Worksheet!B486)","v":""},{"$f":"IF(Worksheet!D486=\"\",\"\",Worksheet!D486)","v":""},{"$f":"IF(Worksheet!$A$11=TRUE,\"Y\",\"N\")","v":"N"},{"$f":"IF(Worksheet!$A$12=TRUE,\"Y\",\"N\")","v":"N"},{"$f":"IF(Worksheet!$B$11=TRUE,\"Y\",\"N\")","v":"N"},{"$f":"IF(Worksheet!$B$12=TRUE,\"Y\",\"N\")","v":"N"},{"$f":"IF(Worksheet!$C$11=TRUE,\"Y\",\"N\")","v":"N"},{"$f":"IFERROR(IF(N(Worksheet!V486)=0,Worksheet!U486,Worksheet!V486),\"\")","v":0}]
[{"$f":"IF(ISBLANK(Worksheet!F487)=FALSE,VLOOKUP(Worksheet!A487,MeasureCode_Lookup,6,FALSE),\"\")","v":""},{"$f":"Worksheet!H487","v":0},{"$f":"Worksheet!I487","v":0},{"$f":"IFERROR(IF(Worksheet!Z487=0,Worksheet!Y487/I465,Worksheet!Z487/R465),0)","v":0},"W Controlled",null,null,{"$f":"IF(N(Worksheet!S487)=0,N(Worksheet!R487),N(Worksheet!S487))","v":0},{"$f":"IFERROR(Worksheet!W487/(Worksheet!R487+Worksheet!U487),0)","v":0},{"$f":"Worksheet!AE487","v":0},{"$f":"Worksheet!AD487","v":0},0,{"$f":"IF(Worksheet!AL487=0,0,Worksheet!AL487/I465)","v":0},0,null,null,null,{"$f":"IFERROR(Worksheet!X487/(Worksheet!S487+Worksheet!V487),0)","v":0},{"$f":"IF(Worksheet!E487=\"\",\"\",Worksheet!E487)","v":""},{"$f":"IF(Worksheet!B487=\"\",\"\",Worksheet!B487)","v":""},{"$f":"IF(Worksheet!D487=\"\",\"\",Worksheet!D487)","v":""},{"$f":"IF(Worksheet!$A$11=TRUE,\"Y\",\"N\")","v":"N"},{"$f":"IF(Worksheet!$A$12=TRUE,\"Y\",\"N\")","v":"N"},{"$f":"IF(Worksheet!$B$11=TRUE,\"Y\",\"N\")","v":"N"},{"$f":"IF(Worksheet!$B$12=TRUE,\"Y\",\"N\")","v":"N"},{"$f":"IF(Worksheet!$C$11=TRUE,\"Y\",\"N\")","v":"N"},{"$f":"IFERROR(IF(N(Worksheet!V487)=0,Worksheet!U487,Worksheet!V487),\"\")","v":0}]
[{"$f":"IF(ISBLANK(Worksheet!F488)=FALSE,VLOOKUP(Worksheet!A488,MeasureCode_Lookup,6,FALSE),\"\")","v":""},{"$f":"Worksheet!H488","v":0},{"$f":"Worksheet!I488","v":0},{"$f":"IFERROR(IF(Worksheet!Z488=0,Worksheet!Y488/I466,Worksheet!Z488/R466),0)","v":0},"W Controlled",null,null,{"$f":"IF(N(Worksheet!S488)=0,N(Worksheet!R488),N(Worksheet!S488))","v":0},{"$f":"IFERROR(Worksheet!W488/(Worksheet!R488+Worksheet!U488),0)","v":0},{"$f":"Worksheet!AE488","v":0},{"$f":"Worksheet!AD488","v":0},0,{"$f":"IF(Worksheet!AL488=0,0,Worksheet!AL488/I466)","v":0},0,null,null,null,{"$f":"IFERROR(Worksheet!X488/(Worksheet!S488+Worksheet!V488),0)","v":0},{"$f":"IF(Worksheet!E488=\"\",\"\",Worksheet!E488)","v":""},{"$f":"IF(Worksheet!B488=\"\",\"\",Worksheet!B488)","v":""},{"$f":"IF(Worksheet!D488=\"\",\"\",Worksheet!D488)","v":""},{"$f":"IF(Worksheet!$A$11=TRUE,\"Y\",\"N\")","v":"N"},{"$f":"IF(Worksheet!$A$12=TRUE,\"Y\",\"N\")","v":"N"},{"$f":"IF(Worksheet!$B$11=TRUE,\"Y\",\"N\")","v":"N"},{"$f":"IF(Worksheet!$B$12=TRUE,\"Y\",\"N\")","v":"N"},{"$f":"IF(Worksheet!$C$11=TRUE,\"Y\",\"N\")","v":"N"},{"$f":"IFERROR(IF(N(Worksheet!V488)=0,Worksheet!U488,Worksheet!V488),\"\")","v":0}]
[{"$f":"IF(ISBLANK(Worksheet!F489)=FALSE,VLOOKUP(Worksheet!A489,MeasureCode_Lookup,6,FALSE),\"\")","v":""},{"$f":"Worksheet!H489","v":0},{"$f":"Worksheet!I489","v":0},{"$f":"IFERROR(IF(Worksheet!Z489=0,Worksheet!Y489/I467,Worksheet!Z489/R467),0)","v":0},"W Controlled",null,null,{"$f":"IF(N(Worksheet!S489)=0,N(Worksheet!R489),N(Worksheet!S489))","v":0},{"$f":"IFERROR(Worksheet!W489/(Worksheet!R489+Worksheet!U489),0)","v":0},{"$f":"Worksheet!AE489","v":0},{"$f":"Worksheet!AD489","v":0},0,{"$f":"IF(Worksheet!AL489=0,0,Worksheet!AL489/I467)","v":0},0,null,null,null,{"$f":"IFERROR(Worksheet!X489/(Worksheet!S489+Worksheet!V489),0)","v":0},{"$f":"IF(Worksheet!E489=\"\",\"\",Worksheet!E489)","v":""},{"$f":"IF(Worksheet!B489=\"\",\"\",Worksheet!B489)","v":""},{"$f":"IF(Worksheet!D489=\"\",\"\",Worksheet!D489)","v":""},{"$f":"IF(Worksheet!$A$11=TRUE,\"Y\",\"N\")","v":"N"},{"$f":"IF(Worksheet!$A$12=TRUE,\"Y\",\"N\")","v":"N"},{"$f":"IF(Worksheet!$B$11=TRUE,\"Y\",\"N\")","v":"N"},{"$f":"IF(Worksheet!$B$12=TRUE,\"Y\",\"N\")","v":"N"},{"$f":"IF(Worksheet!$C$11=TRUE,\"Y\",\"N\")","v":"N"},{"$f":"IFERROR(IF(N(Worksheet!V489)=0,Worksheet!U489,Worksheet!V489),\"\")","v":0}]
[{"$f":"IF(ISBLANK(Worksheet!F490)=FALSE,VLOOKUP(Worksheet!A490,MeasureCode_Lookup,6,FALSE),\"\")","v":""},{"$f":"Worksheet!H490","v":0},{"$f":"Worksheet!I490","v":0},{"$f":"IFERROR(IF(Worksheet!Z490=0,Worksheet!Y490/I468,Worksheet!Z490/R468),0)","v":0},"W Controlled",null,null,{"$f":"IF(N(Worksheet!S490)=0,N(Worksheet!R490),N(Worksheet!S490))","v":0},{"$f":"IFERROR(Worksheet!W490/(Worksheet!R490+Worksheet!U490),0)","v":0},{"$f":"Worksheet!AE490","v":0},{"$f":"Worksheet!AD490","v":0},0,{"$f":"IF(Worksheet!AL490=0,0,Worksheet!AL490/I468)","v":0},0,null,null,null,{"$f":"IFERROR(Worksheet!X490/(Worksheet!S490+Worksheet!V490),0)","v":0},{"$f":"IF(Worksheet!E490=\"\",\"\",Worksheet!E490)","v":""},{"$f":"IF(Worksheet!B490=\"\",\"\",Worksheet!B490)","v":""},{"$f":"IF(Worksheet!D490=\"\",\"\",Worksheet!D490)","v":""},{"$f":"IF(Worksheet!$A$11=TRUE,\"Y\",\"N\")","v":"N"},{"$f":"IF(Worksheet!$A$12=TRUE,\"Y\",\"N\")","v":"N"},{"$f":"IF(Worksheet!$B$11=TRUE,\"Y\",\"N\")","v":"N"},{"$f":"IF(Worksheet!$B$12=TRUE,\"Y\",\"N\")","v":"N"},{"$f":"IF(Worksheet!$C$11=TRUE,\"Y\",\"N\")","v":"N"},{"$f":"IFERROR(IF(N(Worksheet!V490)=0,Worksheet!U490,Worksheet!V490),\"\")","v":0}]
[{"$f":"IF(ISBLANK(Worksheet!F491)=FALSE,VLOOKUP(Worksheet!A491,MeasureCode_Lookup,6,FALSE),\"\")","v":""},{"$f":"Worksheet!H491","v":0},{"$f":"Worksheet!I491","v":0},{"$f":"IFERROR(IF(Worksheet!Z491=0,Worksheet!Y491/I469,Worksheet!Z491/R469),0)","v":0},"W Controlled",null,null,{"$f":"IF(N(Worksheet!S491)=0,N(Worksheet!R491),N(Worksheet!S491))","v":0},{"$f":"IFERROR(Worksheet!W491/(Worksheet!R491+Worksheet!U491),0)","v":0},{"$f":"Worksheet!AE491","v":0},{"$f":"Worksheet!AD491","v":0},0,{"$f":"IF(Worksheet!AL491=0,0,Worksheet!AL491/I469)","v":0},0,null,null,null,{"$f":"IFERROR(Worksheet!X491/(Worksheet!S491+Worksheet!V491),0)","v":0},{"$f":"IF(Worksheet!E491=\"\",\"\",Worksheet!E491)","v":""},{"$f":"IF(Worksheet!B491=\"\",\"\",Worksheet!B491)","v":""},{"$f":"IF(Worksheet!D491=\"\",\"\",Worksheet!D491)","v":""},{"$f":"IF(Worksheet!$A$11=TRUE,\"Y\",\"N\")","v":"N"},{"$f":"IF(Worksheet!$A$12=TRUE,\"Y\",\"N\")","v":"N"},{"$f":"IF(Worksheet!$B$11=TRUE,\"Y\",\"N\")","v":"N"},{"$f":"IF(Worksheet!$B$12=TRUE,\"Y\",\"N\")","v":"N"},{"$f":"IF(Worksheet!$C$11=TRUE,\"Y\",\"N\")","v":"N"},{"$f":"IFERROR(IF(N(Worksheet!V491)=0,Worksheet!U491,Worksheet!V491),\"\")","v":0}]
[{"$f":"IF(ISBLANK(Worksheet!F492)=FALSE,VLOOKUP(Worksheet!A492,MeasureCode_Lookup,6,FALSE),\"\")","v":""},{"$f":"Worksheet!H492","v":0},{"$f":"Worksheet!I492","v":0},{"$f":"IFERROR(IF(Worksheet!Z492=0,Worksheet!Y492/I470,Worksheet!Z492/R470),0)","v":0},"W Controlled",null,null,{"$f":"IF(N(Worksheet!S492)=0,N(Worksheet!R492),N(Worksheet!S492))","v":0},{"$f":"IFERROR(Worksheet!W492/(Worksheet!R492+Worksheet!U492),0)","v":0},{"$f":"Worksheet!AE492","v":0},{"$f":"Worksheet!AD492","v":0},0,{"$f":"IF(Worksheet!AL492=0,0,Worksheet!AL492/I470)","v":0},0,null,null,null,{"$f":"IFERROR(Worksheet!X492/(Worksheet!S492+Worksheet!V492),0)","v":0},{"$f":"IF(Worksheet!E492=\"\",\"\",Worksheet!E492)","v":""},{"$f":"IF(Worksheet!B492=\"\",\"\",Worksheet!B492)","v":""},{"$f":"IF(Worksheet!D492=\"\",\"\",Worksheet!D492)","v":""},{"$f":"IF(Worksheet!$A$11=TRUE,\"Y\",\"N\")","v":"N"},{"$f":"IF(Worksheet!$A$12=TRUE,\"Y\",\"N\")","v":"N"},{"$f":"IF(Worksheet!$B$11=TRUE,\"Y\",\"N\")","v":"N"},{"$f":"IF(Worksheet!$B$12=TRUE,\"Y\",\"N\")","v":"N"},{"$f":"IF(Worksheet!$C$11=TRUE,\"Y\",\"N\")","v":"N"},{"$f":"IFERROR(IF(N(Worksheet!V492)=0,Worksheet!U492,Worksheet!V492),\"\")","v":0}]
[{"$f":"IF(ISBLANK(Worksheet!F493)=FALSE,VLOOKUP(Worksheet!A493,MeasureCode_Lookup,6,FALSE),\"\")","v":""},{"$f":"Worksheet!H493","v":0},{"$f":"Worksheet!I493","v":0},{"$f":"IFERROR(IF(Worksheet!Z493=0,Worksheet!Y493/I471,Worksheet!Z493/R471),0)","v":0},"W Controlled",null,null,{"$f":"IF(N(Worksheet!S493)=0,N(Worksheet!R493),N(Worksheet!S493))","v":0},{"$f":"IFERROR(Worksheet!W493/(Worksheet!R493+Worksheet!U493),0)","v":0},{"$f":"Worksheet!AE493","v":0},{"$f":"Worksheet!AD493","v":0},0,{"$f":"IF(Worksheet!AL493=0,0,Worksheet!AL493/I471)","v":0},0,null,null,null,{"$f":"IFERROR(Worksheet!X493/(Worksheet!S493+Worksheet!V493),0)","v":0},{"$f":"IF(Worksheet!E493=\"\",\"\",Worksheet!E493)","v":""},{"$f":"IF(Worksheet!B493=\"\",\"\",Worksheet!B493)","v":""},{"$f":"IF(Worksheet!D493=\"\",\"\",Worksheet!D493)","v":""},{"$f":"IF(Worksheet!$A$11=TRUE,\"Y\",\"N\")","v":"N"},{"$f":"IF(Worksheet!$A$12=TRUE,\"Y\",\"N\")","v":"N"},{"$f":"IF(Worksheet!$B$11=TRUE,\"Y\",\"N\")","v":"N"},{"$f":"IF(Worksheet!$B$12=TRUE,\"Y\",\"N\")","v":"N"},{"$f":"IF(Worksheet!$C$11=TRUE,\"Y\",\"N\")","v":"N"},{"$f":"IFERROR(IF(N(Worksheet!V493)=0,Worksheet!U493,Worksheet!V493),\"\")","v":0}]
[{"$f":"IF(ISBLANK(Worksheet!F494)=FALSE,VLOOKUP(Worksheet!A494,MeasureCode_Lookup,6,FALSE),\"\")","v":""},{"$f":"Worksheet!H494","v":0},{"$f":"Worksheet!I494","v":0},{"$f":"IFERROR(IF(Worksheet!Z494=0,Worksheet!Y494/I472,Worksheet!Z494/R472),0)","v":0},"W Controlled",null,null,{"$f":"IF(N(Worksheet!S494)=0,N(Worksheet!R494),N(Worksheet!S494))","v":0},{"$f":"IFERROR(Worksheet!W494/(Worksheet!R494+Worksheet!U494),0)","v":0},{"$f":"Worksheet!AE494","v":0},{"$f":"Worksheet!AD494","v":0},0,{"$f":"IF(Worksheet!AL494=0,0,Worksheet!AL494/I472)","v":0},0,null,null,null,{"$f":"IFERROR(Worksheet!X494/(Worksheet!S494+Worksheet!V494),0)","v":0},{"$f":"IF(Worksheet!E494=\"\",\"\",Worksheet!E494)","v":""},{"$f":"IF(Worksheet!B494=\"\",\"\",Worksheet!B494)","v":""},{"$f":"IF(Worksheet!D494=\"\",\"\",Worksheet!D494)","v":""},{"$f":"IF(Worksheet!$A$11=TRUE,\"Y\",\"N\")","v":"N"},{"$f":"IF(Worksheet!$A$12=TRUE,\"Y\",\"N\")","v":"N"},{"$f":"IF(Worksheet!$B$11=TRUE,\"Y\",\"N\")","v":"N"},{"$f":"IF(Worksheet!$B$12=TRUE,\"Y\",\"N\")","v":"N"},{"$f":"IF(Worksheet!$C$11=TRUE,\"Y\",\"N\")","v":"N"},{"$f":"IFERROR(IF(N(Worksheet!V494)=0,Worksheet!U494,Worksheet!V494),\"\")","v":0}]
[{"$f":"IF(ISBLANK(Worksheet!F495)=FALSE,VLOOKUP(Worksheet!A495,MeasureCode_Lookup,6,FALSE),\"\")","v":""},{"$f":"Worksheet!H495","v":0},{"$f":"Worksheet!I495","v":0},{"$f":"IFERROR(IF(Worksheet!Z495=0,Worksheet!Y495/I473,Worksheet!Z495/R473),0)","v":0},"W Controlled",null,null,{"$f":"IF(N(Worksheet!S495)=0,N(Worksheet!R495),N(Worksheet!S495))","v":0},{"$f":"IFERROR(Worksheet!W495/(Worksheet!R495+Worksheet!U495),0)","v":0},{"$f":"Worksheet!AE495","v":0},{"$f":"Worksheet!AD495","v":0},0,{"$f":"IF(Worksheet!AL495=0,0,Worksheet!AL495/I473)","v":0},0,null,null,null,{"$f":"IFERROR(Worksheet!X495/(Worksheet!S495+Worksheet!V495),0)","v":0},{"$f":"IF(Worksheet!E495=\"\",\"\",Worksheet!E495)","v":""},{"$f":"IF(Worksheet!B495=\"\",\"\",Worksheet!B495)","v":""},{"$f":"IF(Worksheet!D495=\"\",\"\",Worksheet!D495)","v":""},{"$f":"IF(Worksheet!$A$11=TRUE,\"Y\",\"N\")","v":"N"},{"$f":"IF(Worksheet!$A$12=TRUE,\"Y\",\"N\")","v":"N"},{"$f":"IF(Worksheet!$B$11=TRUE,\"Y\",\"N\")","v":"N"},{"$f":"IF(Worksheet!$B$12=TRUE,\"Y\",\"N\")","v":"N"},{"$f":"IF(Worksheet!$C$11=TRUE,\"Y\",\"N\")","v":"N"},{"$f":"IFERROR(IF(N(Worksheet!V495)=0,Worksheet!U495,Worksheet!V495),\"\")","v":0}]
[{"$f":"IF(ISBLANK(Worksheet!F496)=FALSE,VLOOKUP(Worksheet!A496,MeasureCode_Lookup,6,FALSE),\"\")","v":""},{"$f":"Worksheet!H496","v":0},{"$f":"Worksheet!I496","v":0},{"$f":"IFERROR(IF(Worksheet!Z496=0,Worksheet!Y496/I474,Worksheet!Z496/R474),0)","v":0},"W Controlled",null,null,{"$f":"IF(N(Worksheet!S496)=0,N(Worksheet!R496),N(Worksheet!S496))","v":0},{"$f":"IFERROR(Worksheet!W496/(Worksheet!R496+Worksheet!U496),0)","v":0},{"$f":"Worksheet!AE496","v":0},{"$f":"Worksheet!AD496","v":0},0,{"$f":"IF(Worksheet!AL496=0,0,Worksheet!AL496/I474)","v":0},0,null,null,null,{"$f":"IFERROR(Worksheet!X496/(Worksheet!S496+Worksheet!V496),0)","v":0},{"$f":"IF(Worksheet!E496=\"\",\"\",Worksheet!E496)","v":""},{"$f":"IF(Worksheet!B496=\"\",\"\",Worksheet!B496)","v":""},{"$f":"IF(Worksheet!D496=\"\",\"\",Worksheet!D496)","v":""},{"$f":"IF(Worksheet!$A$11=TRUE,\"Y\",\"N\")","v":"N"},{"$f":"IF(Worksheet!$A$12=TRUE,\"Y\",\"N\")","v":"N"},{"$f":"IF(Worksheet!$B$11=TRUE,\"Y\",\"N\")","v":"N"},{"$f":"IF(Worksheet!$B$12=TRUE,\"Y\",\"N\")","v":"N"},{"$f":"IF(Worksheet!$C$11=TRUE,\"Y\",\"N\")","v":"N"},{"$f":"IFERROR(IF(N(Worksheet!V496)=0,Worksheet!U496,Worksheet!V496),\"\")","v":0}]
[{"$f":"IF(ISBLANK(Worksheet!F497)=FALSE,VLOOKUP(Worksheet!A497,MeasureCode_Lookup,6,FALSE),\"\")","v":""},{"$f":"Worksheet!H497","v":0},{"$f":"Worksheet!I497","v":0},{"$f":"IFERROR(IF(Worksheet!Z497=0,Worksheet!Y497/I475,Worksheet!Z497/R475),0)","v":0},"W Controlled",null,null,{"$f":"IF(N(Worksheet!S497)=0,N(Worksheet!R497),N(Worksheet!S497))","v":0},{"$f":"IFERROR(Worksheet!W497/(Worksheet!R497+Worksheet!U497),0)","v":0},{"$f":"Worksheet!AE497","v":0},{"$f":"Worksheet!AD497","v":0},0,{"$f":"IF(Worksheet!AL497=0,0,Worksheet!AL497/I475)","v":0},0,null,null,null,{"$f":"IFERROR(Worksheet!X497/(Worksheet!S497+Worksheet!V497),0)","v":0},{"$f":"IF(Worksheet!E497=\"\",\"\",Worksheet!E497)","v":""},{"$f":"IF(Worksheet!B497=\"\",\"\",Worksheet!B497)","v":""},{"$f":"IF(Worksheet!D497=\"\",\"\",Worksheet!D497)","v":""},{"$f":"IF(Worksheet!$A$11=TRUE,\"Y\",\"N\")","v":"N"},{"$f":"IF(Worksheet!$A$12=TRUE,\"Y\",\"N\")","v":"N"},{"$f":"IF(Worksheet!$B$11=TRUE,\"Y\",\"N\")","v":"N"},{"$f":"IF(Worksheet!$B$12=TRUE,\"Y\",\"N\")","v":"N"},{"$f":"IF(Worksheet!$C$11=TRUE,\"Y\",\"N\")","v":"N"},{"$f":"IFERROR(IF(N(Worksheet!V497)=0,Worksheet!U497,Worksheet!V497),\"\")","v":0}]
[{"$f":"IF(ISBLANK(Worksheet!F498)=FALSE,VLOOKUP(Worksheet!A498,MeasureCode_Lookup,6,FALSE),\"\")","v":""},{"$f":"Worksheet!H498","v":0},{"$f":"Worksheet!I498","v":0},{"$f":"IFERROR(IF(Worksheet!Z498=0,Worksheet!Y498/I476,Worksheet!Z498/R476),0)","v":0},"W Controlled",null,null,{"$f":"IF(N(Worksheet!S498)=0,N(Worksheet!R498),N(Worksheet!S498))","v":0},{"$f":"IFERROR(Worksheet!W498/(Worksheet!R498+Worksheet!U498),0)","v":0},{"$f":"Worksheet!AE498","v":0},{"$f":"Worksheet!AD498","v":0},0,{"$f":"IF(Worksheet!AL498=0,0,Worksheet!AL498/I476)","v":0},0,null,null,null,{"$f":"IFERROR(Worksheet!X498/(Worksheet!S498+Worksheet!V498),0)","v":0},{"$f":"IF(Worksheet!E498=\"\",\"\",Worksheet!E498)","v":""},{"$f":"IF(Worksheet!B498=\"\",\"\",Worksheet!B498)","v":""},{"$f":"IF(Worksheet!D498=\"\",\"\",Worksheet!D498)","v":""},{"$f":"IF(Worksheet!$A$11=TRUE,\"Y\",\"N\")","v":"N"},{"$f":"IF(Worksheet!$A$12=TRUE,\"Y\",\"N\")","v":"N"},{"$f":"IF(Worksheet!$B$11=TRUE,\"Y\",\"N\")","v":"N"},{"$f":"IF(Worksheet!$B$12=TRUE,\"Y\",\"N\")","v":"N"},{"$f":"IF(Worksheet!$C$11=TRUE,\"Y\",\"N\")","v":"N"},{"$f":"IFERROR(IF(N(Worksheet!V498)=0,Worksheet!U498,Worksheet!V498),\"\")","v":0}]
[{"$f":"IF(ISBLANK(Worksheet!F499)=FALSE,VLOOKUP(Worksheet!A499,MeasureCode_Lookup,6,FALSE),\"\")","v":""},{"$f":"Worksheet!H499","v":0},{"$f":"Worksheet!I499","v":0},{"$f":"IFERROR(IF(Worksheet!Z499=0,Worksheet!Y499/I477,Worksheet!Z499/R477),0)","v":0},"W Controlled",null,null,{"$f":"IF(N(Worksheet!S499)=0,N(Worksheet!R499),N(Worksheet!S499))","v":0},{"$f":"IFERROR(Worksheet!W499/(Worksheet!R499+Worksheet!U499),0)","v":0},{"$f":"Worksheet!AE499","v":0},{"$f":"Worksheet!AD499","v":0},0,{"$f":"IF(Worksheet!AL499=0,0,Worksheet!AL499/I477)","v":0},0,null,null,null,{"$f":"IFERROR(Worksheet!X499/(Worksheet!S499+Worksheet!V499),0)","v":0},{"$f":"IF(Worksheet!E499=\"\",\"\",Worksheet!E499)","v":""},{"$f":"IF(Worksheet!B499=\"\",\"\",Worksheet!B499)","v":""},{"$f":"IF(Worksheet!D499=\"\",\"\",Worksheet!D499)","v":""},{"$f":"IF(Worksheet!$A$11=TRUE,\"Y\",\"N\")","v":"N"},{"$f":"IF(Worksheet!$A$12=TRUE,\"Y\",\"N\")","v":"N"},{"$f":"IF(Worksheet!$B$11=TRUE,\"Y\",\"N\")","v":"N"},{"$f":"IF(Worksheet!$B$12=TRUE,\"Y\",\"N\")","v":"N"},{"$f":"IF(Worksheet!$C$11=TRUE,\"Y\",\"N\")","v":"N"},{"$f":"IFERROR(IF(N(Worksheet!V499)=0,Worksheet!U499,Worksheet!V499),\"\")","v":0}]
[{"$f":"IF(ISBLANK(Worksheet!F500)=FALSE,VLOOKUP(Worksheet!A500,MeasureCode_Lookup,6,FALSE),\"\")","v":""},{"$f":"Worksheet!H500","v":0},{"$f":"Worksheet!I500","v":0},{"$f":"IFERROR(IF(Worksheet!Z500=0,Worksheet!Y500/I478,Worksheet!Z500/R478),0)","v":0},"W Controlled",null,null,{"$f":"IF(N(Worksheet!S500)=0,N(Worksheet!R500),N(Worksheet!S500))","v":0},{"$f":"IFERROR(Worksheet!W500/(Worksheet!R500+Worksheet!U500),0)","v":0},{"$f":"Worksheet!AE500","v":0},{"$f":"Worksheet!AD500","v":0},0,{"$f":"IF(Worksheet!AL500=0,0,Worksheet!AL500/I478)","v":0},0,null,null,null,{"$f":"IFERROR(Worksheet!X500/(Worksheet!S500+Worksheet!V500),0)","v":0},{"$f":"IF(Worksheet!E500=\"\",\"\",Worksheet!E500)","v":""},{"$f":"IF(Worksheet!B500=\"\",\"\",Worksheet!B500)","v":""},{"$f":"IF(Worksheet!D500=\"\",\"\",Worksheet!D500)","v":""},{"$f":"IF(Worksheet!$A$11=TRUE,\"Y\",\"N\")","v":"N"},{"$f":"IF(Worksheet!$A$12=TRUE,\"Y\",\"N\")","v":"N"},{"$f":"IF(Worksheet!$B$11=TRUE,\"Y\",\"N\")","v":"N"},{"$f":"IF(Worksheet!$B$12=TRUE,\"Y\",\"N\")","v":"N"},{"$f":"IF(Worksheet!$C$11=TRUE,\"Y\",\"N\")","v":"N"},{"$f":"IFERROR(IF(N(Worksheet!V500)=0,Worksheet!U500,Worksheet!V500),\"\")","v":0}]
[{"$f":"IF(ISBLANK(Worksheet!F501)=FALSE,VLOOKUP(Worksheet!A501,MeasureCode_Lookup,6,FALSE),\"\")","v":""},{"$f":"Worksheet!H501","v":0},{"$f":"Worksheet!I501","v":0},{"$f":"IFERROR(IF(Worksheet!Z501=0,Worksheet!Y501/I479,Worksheet!Z501/R479),0)","v":0},"W Controlled",null,null,{"$f":"IF(N(Worksheet!S501)=0,N(Worksheet!R501),N(Worksheet!S501))","v":0},{"$f":"IFERROR(Worksheet!W501/(Worksheet!R501+Worksheet!U501),0)","v":0},{"$f":"Worksheet!AE501","v":0},{"$f":"Worksheet!AD501","v":0},0,{"$f":"IF(Worksheet!AL501=0,0,Worksheet!AL501/I479)","v":0},0,null,null,null,{"$f":"IFERROR(Worksheet!X501/(Worksheet!S501+Worksheet!V501),0)","v":0},{"$f":"IF(Worksheet!E501=\"\",\"\",Worksheet!E501)","v":""},{"$f":"IF(Worksheet!B501=\"\",\"\",Worksheet!B501)","v":""},{"$f":"IF(Worksheet!D501=\"\",\"\",Worksheet!D501)","v":""},{"$f":"IF(Worksheet!$A$11=TRUE,\"Y\",\"N\")","v":"N"},{"$f":"IF(Worksheet!$A$12=TRUE,\"Y\",\"N\")","v":"N"},{"$f":"IF(Worksheet!$B$11=TRUE,\"Y\",\"N\")","v":"N"},{"$f":"IF(Worksheet!$B$12=TRUE,\"Y\",\"N\")","v":"N"},{"$f":"IF(Worksheet!$C$11=TRUE,\"Y\",\"N\")","v":"N"},{"$f":"IFERROR(IF(N(Worksheet!V501)=0,Worksheet!U501,Worksheet!V501),\"\")","v":0}]
[{"$f":"IF(ISBLANK(Worksheet!F502)=FALSE,VLOOKUP(Worksheet!A502,MeasureCode_Lookup,6,FALSE),\"\")","v":""},{"$f":"Worksheet!H502","v":0},{"$f":"Worksheet!I502","v":0},{"$f":"IFERROR(IF(Worksheet!Z502=0,Worksheet!Y502/I480,Worksheet!Z502/R480),0)","v":0},"W Controlled",null,null,{"$f":"IF(N(Worksheet!S502)=0,N(Worksheet!R502),N(Worksheet!S502))","v":0},{"$f":"IFERROR(Worksheet!W502/(Worksheet!R502+Worksheet!U502),0)","v":0},{"$f":"Worksheet!AE502","v":0},{"$f":"Worksheet!AD502","v":0},0,{"$f":"IF(Worksheet!AL502=0,0,Worksheet!AL502/I480)","v":0},0,null,null,null,{"$f":"IFERROR(Worksheet!X502/(Worksheet!S502+Worksheet!V502),0)","v":0},{"$f":"IF(Worksheet!E502=\"\",\"\",Worksheet!E502)","v":""},{"$f":"IF(Worksheet!B502=\"\",\"\",Worksheet!B502)","v":""},{"$f":"IF(Worksheet!D502=\"\",\"\",Worksheet!D502)","v":""},{"$f":"IF(Worksheet!$A$11=TRUE,\"Y\",\"N\")","v":"N"},{"$f":"IF(Worksheet!$A$12=TRUE,\"Y\",\"N\")","v":"N"},{"$f":"IF(Worksheet!$B$11=TRUE,\"Y\",\"N\")","v":"N"},{"$f":"IF(Worksheet!$B$12=TRUE,\"Y\",\"N\")","v":"N"},{"$f":"IF(Worksheet!$C$11=TRUE,\"Y\",\"N\")","v":"N"},{"$f":"IFERROR(IF(N(Worksheet!V502)=0,Worksheet!U502,Worksheet!V502),\"\")","v":0}]
[{"$f":"IF(ISBLANK(Worksheet!F503)=FALSE,VLOOKUP(Worksheet!A503,MeasureCode_Lookup,6,FALSE),\"\")","v":""},{"$f":"Worksheet!H503","v":0},{"$f":"Worksheet!I503","v":0},{"$f":"IFERROR(IF(Worksheet!Z503=0,Worksheet!Y503/I481,Worksheet!Z503/R481),0)","v":0},"W Controlled",null,null,{"$f":"IF(N(Worksheet!S503)=0,N(Worksheet!R503),N(Worksheet!S503))","v":0},{"$f":"IFERROR(Worksheet!W503/(Worksheet!R503+Worksheet!U503),0)","v":0},{"$f":"Worksheet!AE503","v":0},{"$f":"Worksheet!AD503","v":0},0,{"$f":"IF(Worksheet!AL503=0,0,Worksheet!AL503/I481)","v":0},0,null,null,null,{"$f":"IFERROR(Worksheet!X503/(Worksheet!S503+Worksheet!V503),0)","v":0},{"$f":"IF(Worksheet!E503=\"\",\"\",Worksheet!E503)","v":""},{"$f":"IF(Worksheet!B503=\"\",\"\",Worksheet!B503)","v":""},{"$f":"IF(Worksheet!D503=\"\",\"\",Worksheet!D503)","v":""},{"$f":"IF(Worksheet!$A$11=TRUE,\"Y\",\"N\")","v":"N"},{"$f":"IF(Worksheet!$A$12=TRUE,\"Y\",\"N\")","v":"N"},{"$f":"IF(Worksheet!$B$11=TRUE,\"Y\",\"N\")","v":"N"},{"$f":"IF(Worksheet!$B$12=TRUE,\"Y\",\"N\")","v":"N"},{"$f":"IF(Worksheet!$C$11=TRUE,\"Y\",\"N\")","v":"N"},{"$f":"IFERROR(IF(N(Worksheet!V503)=0,Worksheet!U503,Worksheet!V503),\"\")","v":0}]
[{"$f":"IF(ISBLANK(Worksheet!F504)=FALSE,VLOOKUP(Worksheet!A504,MeasureCode_Lookup,6,FALSE),\"\")","v":""},{"$f":"Worksheet!H504","v":0},{"$f":"Worksheet!I504","v":0},{"$f":"IFERROR(IF(Worksheet!Z504=0,Worksheet!Y504/I482,Worksheet!Z504/R482),0)","v":0},"W Controlled",null,null,{"$f":"IF(N(Worksheet!S504)=0,N(Worksheet!R504),N(Worksheet!S504))","v":0},{"$f":"IFERROR(Worksheet!W504/(Worksheet!R504+Worksheet!U504),0)","v":0},{"$f":"Worksheet!AE504","v":0},{"$f":"Worksheet!AD504","v":0},0,{"$f":"IF(Worksheet!AL504=0,0,Worksheet!AL504/I482)","v":0},0,null,null,null,{"$f":"IFERROR(Worksheet!X504/(Worksheet!S504+Worksheet!V504),0)","v":0},{"$f":"IF(Worksheet!E504=\"\",\"\",Worksheet!E504)","v":""},{"$f":"IF(Worksheet!B504=\"\",\"\",Worksheet!B504)","v":""},{"$f":"IF(Worksheet!D504=\"\",\"\",Worksheet!D504)","v":""},{"$f":"IF(Worksheet!$A$11=TRUE,\"Y\",\"N\")","v":"N"},{"$f":"IF(Worksheet!$A$12=TRUE,\"Y\",\"N\")","v":"N"},{"$f":"IF(Worksheet!$B$11=TRUE,\"Y\",\"N\")","v":"N"},{"$f":"IF(Worksheet!$B$12=TRUE,\"Y\",\"N\")","v":"N"},{"$f":"IF(Worksheet!$C$11=TRUE,\"Y\",\"N\")","v":"N"},{"$f":"IFERROR(IF(N(Worksheet!V504)=0,Worksheet!U504,Worksheet!V504),\"\")","v":0}]
[{"$f":"IF(ISBLANK(Worksheet!F505)=FALSE,VLOOKUP(Worksheet!A505,MeasureCode_Lookup,6,FALSE),\"\")","v":""},{"$f":"Worksheet!H505","v":0},{"$f":"Worksheet!I505","v":0},{"$f":"IFERROR(IF(Worksheet!Z505=0,Worksheet!Y505/I483,Worksheet!Z505/R483),0)","v":0},"W Controlled",null,null,{"$f":"IF(N(Worksheet!S505)=0,N(Worksheet!R505),N(Worksheet!S505))","v":0},{"$f":"IFERROR(Worksheet!W505/(Worksheet!R505+Worksheet!U505),0)","v":0},{"$f":"Worksheet!AE505","v":0},{"$f":"Worksheet!AD505","v":0},0,{"$f":"IF(Worksheet!AL505=0,0,Worksheet!AL505/I483)","v":0},0,null,null,null,{"$f":"IFERROR(Worksheet!X505/(Worksheet!S505+Worksheet!V505),0)","v":0},{"$f":"IF(Worksheet!E505=\"\",\"\",Worksheet!E505)","v":""},{"$f":"IF(Worksheet!B505=\"\",\"\",Worksheet!B505)","v":""},{"$f":"IF(Worksheet!D505=\"\",\"\",Worksheet!D505)","v":""},{"$f":"IF(Worksheet!$A$11=TRUE,\"Y\",\"N\")","v":"N"},{"$f":"IF(Worksheet!$A$12=TRUE,\"Y\",\"N\")","v":"N"},{"$f":"IF(Worksheet!$B$11=TRUE,\"Y\",\"N\")","v":"N"},{"$f":"IF(Worksheet!$B$12=TRUE,\"Y\",\"N\")","v":"N"},{"$f":"IF(Worksheet!$C$11=TRUE,\"Y\",\"N\")","v":"N"},{"$f":"IFERROR(IF(N(Worksheet!V505)=0,Worksheet!U505,Worksheet!V505),\"\")","v":0}]
[{"$f":"IF(ISBLANK(Worksheet!F506)=FALSE,VLOOKUP(Worksheet!A506,MeasureCode_Lookup,6,FALSE),\"\")","v":""},{"$f":"Worksheet!H506","v":0},{"$f":"Worksheet!I506","v":0},{"$f":"IFERROR(IF(Worksheet!Z506=0,Worksheet!Y506/I484,Worksheet!Z506/R484),0)","v":0},"W Controlled",null,null,{"$f":"IF(N(Worksheet!S506)=0,N(Worksheet!R506),N(Worksheet!S506))","v":0},{"$f":"IFERROR(Worksheet!W506/(Worksheet!R506+Worksheet!U506),0)","v":0},{"$f":"Worksheet!AE506","v":0},{"$f":"Worksheet!AD506","v":0},0,{"$f":"IF(Worksheet!AL506=0,0,Worksheet!AL506/I484)","v":0},0,null,null,null,{"$f":"IFERROR(Worksheet!X506/(Worksheet!S506+Worksheet!V506),0)","v":0},{"$f":"IF(Worksheet!E506=\"\",\"\",Worksheet!E506)","v":""},{"$f":"IF(Worksheet!B506=\"\",\"\",Worksheet!B506)","v":""},{"$f":"IF(Worksheet!D506=\"\",\"\",Worksheet!D506)","v":""},{"$f":"IF(Worksheet!$A$11=TRUE,\"Y\",\"N\")","v":"N"},{"$f":"IF(Worksheet!$A$12=TRUE,\"Y\",\"N\")","v":"N"},{"$f":"IF(Worksheet!$B$11=TRUE,\"Y\",\"N\")","v":"N"},{"$f":"IF(Worksheet!$B$12=TRUE,\"Y\",\"N\")","v":"N"},{"$f":"IF(Worksheet!$C$11=TRUE,\"Y\",\"N\")","v":"N"},{"$f":"IFERROR(IF(N(Worksheet!V506)=0,Worksheet!U506,Worksheet!V506),\"\")","v":0}]
[{"$f":"IF(ISBLANK(Worksheet!F507)=FALSE,VLOOKUP(Worksheet!A507,MeasureCode_Lookup,6,FALSE),\"\")","v":""},{"$f":"Worksheet!H507","v":0},{"$f":"Worksheet!I507","v":0},{"$f":"IFERROR(IF(Worksheet!Z507=0,Worksheet!Y507/I485,Worksheet!Z507/R485),0)","v":0},"W Controlled",null,null,{"$f":"IF(N(Worksheet!S507)=0,N(Worksheet!R507),N(Worksheet!S507))","v":0},{"$f":"IFERROR(Worksheet!W507/(Worksheet!R507+Worksheet!U507),0)","v":0},{"$f":"Worksheet!AE507","v":0},{"$f":"Worksheet!AD507","v":0},0,{"$f":"IF(Worksheet!AL507=0,0,Worksheet!AL507/I485)","v":0},0,null,null,null,{"$f":"IFERROR(Worksheet!X507/(Worksheet!S507+Worksheet!V507),0)","v":0},{"$f":"IF(Worksheet!E507=\"\",\"\",Worksheet!E507)","v":""},{"$f":"IF(Worksheet!B507=\"\",\"\",Worksheet!B507)","v":""},{"$f":"IF(Worksheet!D507=\"\",\"\",Worksheet!D507)","v":""},{"$f":"IF(Worksheet!$A$11=TRUE,\"Y\",\"N\")","v":"N"},{"$f":"IF(Worksheet!$A$12=TRUE,\"Y\",\"N\")","v":"N"},{"$f":"IF(Worksheet!$B$11=TRUE,\"Y\",\"N\")","v":"N"},{"$f":"IF(Worksheet!$B$12=TRUE,\"Y\",\"N\")","v":"N"},{"$f":"IF(Worksheet!$C$11=TRUE,\"Y\",\"N\")","v":"N"},{"$f":"IFERROR(IF(N(Worksheet!V507)=0,Worksheet!U507,Worksheet!V507),\"\")","v":0}]
[{"$f":"IF(ISBLANK(Worksheet!F508)=FALSE,VLOOKUP(Worksheet!A508,MeasureCode_Lookup,6,FALSE),\"\")","v":""},{"$f":"Worksheet!H508","v":0},{"$f":"Worksheet!I508","v":0},{"$f":"IFERROR(IF(Worksheet!Z508=0,Worksheet!Y508/I486,Worksheet!Z508/R486),0)","v":0},"W Controlled",null,null,{"$f":"IF(N(Worksheet!S508)=0,N(Worksheet!R508),N(Worksheet!S508))","v":0},{"$f":"IFERROR(Worksheet!W508/(Worksheet!R508+Worksheet!U508),0)","v":0},{"$f":"Worksheet!AE508","v":0},{"$f":"Worksheet!AD508","v":0},0,{"$f":"IF(Worksheet!AL508=0,0,Worksheet!AL508/I486)","v":0},0,null,null,null,{"$f":"IFERROR(Worksheet!X508/(Worksheet!S508+Worksheet!V508),0)","v":0},{"$f":"IF(Worksheet!E508=\"\",\"\",Worksheet!E508)","v":""},{"$f":"IF(Worksheet!B508=\"\",\"\",Worksheet!B508)","v":""},{"$f":"IF(Worksheet!D508=\"\",\"\",Worksheet!D508)","v":""},{"$f":"IF(Worksheet!$A$11=TRUE,\"Y\",\"N\")","v":"N"},{"$f":"IF(Worksheet!$A$12=TRUE,\"Y\",\"N\")","v":"N"},{"$f":"IF(Worksheet!$B$11=TRUE,\"Y\",\"N\")","v":"N"},{"$f":"IF(Worksheet!$B$12=TRUE,\"Y\",\"N\")","v":"N"},{"$f":"IF(Worksheet!$C$11=TRUE,\"Y\",\"N\")","v":"N"},{"$f":"IFERROR(IF(N(Worksheet!V508)=0,Worksheet!U508,Worksheet!V508),\"\")","v":0}]
[{"$f":"IF(ISBLANK(Worksheet!F509)=FALSE,VLOOKUP(Worksheet!A509,MeasureCode_Lookup,6,FALSE),\"\")","v":""},{"$f":"Worksheet!H509","v":0},{"$f":"Worksheet!I509","v":0},{"$f":"IFERROR(IF(Worksheet!Z509=0,Worksheet!Y509/I487,Worksheet!Z509/R487),0)","v":0},"W Controlled",null,null,{"$f":"IF(N(Worksheet!S509)=0,N(Worksheet!R509),N(Worksheet!S509))","v":0},{"$f":"IFERROR(Worksheet!W509/(Worksheet!R509+Worksheet!U509),0)","v":0},{"$f":"Worksheet!AE509","v":0},{"$f":"Worksheet!AD509","v":0},0,{"$f":"IF(Worksheet!AL509=0,0,Worksheet!AL509/I487)","v":0},0,null,null,null,{"$f":"IFERROR(Worksheet!X509/(Worksheet!S509+Worksheet!V509),0)","v":0},{"$f":"IF(Worksheet!E509=\"\",\"\",Worksheet!E509)","v":""},{"$f":"IF(Worksheet!B509=\"\",\"\",Worksheet!B509)","v":""},{"$f":"IF(Worksheet!D509=\"\",\"\",Worksheet!D509)","v":""},{"$f":"IF(Worksheet!$A$11=TRUE,\"Y\",\"N\")","v":"N"},{"$f":"IF(Worksheet!$A$12=TRUE,\"Y\",\"N\")","v":"N"},{"$f":"IF(Worksheet!$B$11=TRUE,\"Y\",\"N\")","v":"N"},{"$f":"IF(Worksheet!$B$12=TRUE,\"Y\",\"N\")","v":"N"},{"$f":"IF(Worksheet!$C$11=TRUE,\"Y\",\"N\")","v":"N"},{"$f":"IFERROR(IF(N(Worksheet!V509)=0,Worksheet!U509,Worksheet!V509),\"\")","v":0}]
[{"$f":"IF(ISBLANK(Worksheet!F510)=FALSE,VLOOKUP(Worksheet!A510,MeasureCode_Lookup,6,FALSE),\"\")","v":""},{"$f":"Worksheet!H510","v":0},{"$f":"Worksheet!I510","v":0},{"$f":"IFERROR(IF(Worksheet!Z510=0,Worksheet!Y510/I488,Worksheet!Z510/R488),0)","v":0},"W Controlled",null,null,{"$f":"IF(N(Worksheet!S510)=0,N(Worksheet!R510),N(Worksheet!S510))","v":0},{"$f":"IFERROR(Worksheet!W510/(Worksheet!R510+Worksheet!U510),0)","v":0},{"$f":"Worksheet!AE510","v":0},{"$f":"Worksheet!AD510","v":0},0,{"$f":"IF(Worksheet!AL510=0,0,Worksheet!AL510/I488)","v":0},0,null,null,null,{"$f":"IFERROR(Worksheet!X510/(Worksheet!S510+Worksheet!V510),0)","v":0},{"$f":"IF(Worksheet!E510=\"\",\"\",Worksheet!E510)","v":""},{"$f":"IF(Worksheet!B510=\"\",\"\",Worksheet!B510)","v":""},{"$f":"IF(Worksheet!D510=\"\",\"\",Worksheet!D510)","v":""},{"$f":"IF(Worksheet!$A$11=TRUE,\"Y\",\"N\")","v":"N"},{"$f":"IF(Worksheet!$A$12=TRUE,\"Y\",\"N\")","v":"N"},{"$f":"IF(Worksheet!$B$11=TRUE,\"Y\",\"N\")","v":"N"},{"$f":"IF(Worksheet!$B$12=TRUE,\"Y\",\"N\")","v":"N"},{"$f":"IF(Worksheet!$C$11=TRUE,\"Y\",\"N\")","v":"N"},{"$f":"IFERROR(IF(N(Worksheet!V510)=0,Worksheet!U510,Worksheet!V510),\"\")","v":0}]
[{"$f":"IF(ISBLANK(Worksheet!F511)=FALSE,VLOOKUP(Worksheet!A511,MeasureCode_Lookup,6,FALSE),\"\")","v":""},{"$f":"Worksheet!H511","v":0},{"$f":"Worksheet!I511","v":0},{"$f":"IFERROR(IF(Worksheet!Z511=0,Worksheet!Y511/I489,Worksheet!Z511/R489),0)","v":0},"W Controlled",null,null,{"$f":"IF(N(Worksheet!S511)=0,N(Worksheet!R511),N(Worksheet!S511))","v":0},{"$f":"IFERROR(Worksheet!W511/(Worksheet!R511+Worksheet!U511),0)","v":0},{"$f":"Worksheet!AE511","v":0},{"$f":"Worksheet!AD511","v":0},0,{"$f":"IF(Worksheet!AL511=0,0,Worksheet!AL511/I489)","v":0},0,null,null,null,{"$f":"IFERROR(Worksheet!X511/(Worksheet!S511+Worksheet!V511),0)","v":0},{"$f":"IF(Worksheet!E511=\"\",\"\",Worksheet!E511)","v":""},{"$f":"IF(Worksheet!B511=\"\",\"\",Worksheet!B511)","v":""},{"$f":"IF(Worksheet!D511=\"\",\"\",Worksheet!D511)","v":""},{"$f":"IF(Worksheet!$A$11=TRUE,\"Y\",\"N\")","v":"N"},{"$f":"IF(Worksheet!$A$12=TRUE,\"Y\",\"N\")","v":"N"},{"$f":"IF(Worksheet!$B$11=TRUE,\"Y\",\"N\")","v":"N"},{"$f":"IF(Worksheet!$B$12=TRUE,\"Y\",\"N\")","v":"N"},{"$f":"IF(Worksheet!$C$11=TRUE,\"Y\",\"N\")","v":"N"},{"$f":"IFERROR(IF(N(Worksheet!V511)=0,Worksheet!U511,Worksheet!V511),\"\")","v":0}]
[{"$f":"IF(ISBLANK(Worksheet!F512)=FALSE,VLOOKUP(Worksheet!A512,MeasureCode_Lookup,6,FALSE),\"\")","v":""},{"$f":"Worksheet!H512","v":0},{"$f":"Worksheet!I512","v":0},{"$f":"IFERROR(IF(Worksheet!Z512=0,Worksheet!Y512/I490,Worksheet!Z512/R490),0)","v":0},"W Controlled",null,null,{"$f":"IF(N(Worksheet!S512)=0,N(Worksheet!R512),N(Worksheet!S512))","v":0},{"$f":"IFERROR(Worksheet!W512/(Worksheet!R512+Worksheet!U512),0)","v":0},{"$f":"Worksheet!AE512","v":0},{"$f":"Worksheet!AD512","v":0},0,{"$f":"IF(Worksheet!AL512=0,0,Worksheet!AL512/I490)","v":0},0,null,null,null,{"$f":"IFERROR(Worksheet!X512/(Worksheet!S512+Worksheet!V512),0)","v":0},{"$f":"IF(Worksheet!E512=\"\",\"\",Worksheet!E512)","v":""},{"$f":"IF(Worksheet!B512=\"\",\"\",Worksheet!B512)","v":""},{"$f":"IF(Worksheet!D512=\"\",\"\",Worksheet!D512)","v":""},{"$f":"IF(Worksheet!$A$11=TRUE,\"Y\",\"N\")","v":"N"},{"$f":"IF(Worksheet!$A$12=TRUE,\"Y\",\"N\")","v":"N"},{"$f":"IF(Worksheet!$B$11=TRUE,\"Y\",\"N\")","v":"N"},{"$f":"IF(Worksheet!$B$12=TRUE,\"Y\",\"N\")","v":"N"},{"$f":"IF(Worksheet!$C$11=TRUE,\"Y\",\"N\")","v":"N"},{"$f":"IFERROR(IF(N(Worksheet!V512)=0,Worksheet!U512,Worksheet!V512),\"\")","v":0}]
[{"$f":"IF(ISBLANK(Worksheet!F513)=FALSE,VLOOKUP(Worksheet!A513,MeasureCode_Lookup,6,FALSE),\"\")","v":""},{"$f":"Worksheet!H513","v":0},{"$f":"Worksheet!I513","v":0},{"$f":"IFERROR(IF(Worksheet!Z513=0,Worksheet!Y513/I491,Worksheet!Z513/R491),0)","v":0},"W Controlled",null,null,{"$f":"IF(N(Worksheet!S513)=0,N(Worksheet!R513),N(Worksheet!S513))","v":0},{"$f":"IFERROR(Worksheet!W513/(Worksheet!R513+Worksheet!U513),0)","v":0},{"$f":"Worksheet!AE513","v":0},{"$f":"Worksheet!AD513","v":0},0,{"$f":"IF(Worksheet!AL513=0,0,Worksheet!AL513/I491)","v":0},0,null,null,null,{"$f":"IFERROR(Worksheet!X513/(Worksheet!S513+Worksheet!V513),0)","v":0},{"$f":"IF(Worksheet!E513=\"\",\"\",Worksheet!E513)","v":""},{"$f":"IF(Worksheet!B513=\"\",\"\",Worksheet!B513)","v":""},{"$f":"IF(Worksheet!D513=\"\",\"\",Worksheet!D513)","v":""},{"$f":"IF(Worksheet!$A$11=TRUE,\"Y\",\"N\")","v":"N"},{"$f":"IF(Worksheet!$A$12=TRUE,\"Y\",\"N\")","v":"N"},{"$f":"IF(Worksheet!$B$11=TRUE,\"Y\",\"N\")","v":"N"},{"$f":"IF(Worksheet!$B$12=TRUE,\"Y\",\"N\")","v":"N"},{"$f":"IF(Worksheet!$C$11=TRUE,\"Y\",\"N\")","v":"N"},{"$f":"IFERROR(IF(N(Worksheet!V513)=0,Worksheet!U513,Worksheet!V513),\"\")","v":0}]
[{"$f":"IF(ISBLANK(Worksheet!F514)=FALSE,VLOOKUP(Worksheet!A514,MeasureCode_Lookup,6,FALSE),\"\")","v":""},{"$f":"Worksheet!H514","v":0},{"$f":"Worksheet!I514","v":0},{"$f":"IFERROR(IF(Worksheet!Z514=0,Worksheet!Y514/I492,Worksheet!Z514/R492),0)","v":0},"W Controlled",null,null,{"$f":"IF(N(Worksheet!S514)=0,N(Worksheet!R514),N(Worksheet!S514))","v":0},{"$f":"IFERROR(Worksheet!W514/(Worksheet!R514+Worksheet!U514),0)","v":0},{"$f":"Worksheet!AE514","v":0},{"$f":"Worksheet!AD514","v":0},0,{"$f":"IF(Worksheet!AL514=0,0,Worksheet!AL514/I492)","v":0},0,null,null,null,{"$f":"IFERROR(Worksheet!X514/(Worksheet!S514+Worksheet!V514),0)","v":0},{"$f":"IF(Worksheet!E514=\"\",\"\",Worksheet!E514)","v":""},{"$f":"IF(Worksheet!B514=\"\",\"\",Worksheet!B514)","v":""},{"$f":"IF(Worksheet!D514=\"\",\"\",Worksheet!D514)","v":""},{"$f":"IF(Worksheet!$A$11=TRUE,\"Y\",\"N\")","v":"N"},{"$f":"IF(Worksheet!$A$12=TRUE,\"Y\",\"N\")","v":"N"},{"$f":"IF(Worksheet!$B$11=TRUE,\"Y\",\"N\")","v":"N"},{"$f":"IF(Worksheet!$B$12=TRUE,\"Y\",\"N\")","v":"N"},{"$f":"IF(Worksheet!$C$11=TRUE,\"Y\",\"N\")","v":"N"},{"$f":"IFERROR(IF(N(Worksheet!V514)=0,Worksheet!U514,Worksheet!V514),\"\")","v":0}]
[{"$f":"IF(ISBLANK(Worksheet!F515)=FALSE,VLOOKUP(Worksheet!A515,MeasureCode_Lookup,6,FALSE),\"\")","v":""},{"$f":"Worksheet!H515","v":0},{"$f":"Worksheet!I515","v":0},{"$f":"IFERROR(IF(Worksheet!Z515=0,Worksheet!Y515/I493,Worksheet!Z515/R493),0)","v":0},"W Controlled",null,null,{"$f":"IF(N(Worksheet!S515)=0,N(Worksheet!R515),N(Worksheet!S515))","v":0},{"$f":"IFERROR(Worksheet!W515/(Worksheet!R515+Worksheet!U515),0)","v":0},{"$f":"Worksheet!AE515","v":0},{"$f":"Worksheet!AD515","v":0},0,{"$f":"IF(Worksheet!AL515=0,0,Worksheet!AL515/I493)","v":0},0,null,null,null,{"$f":"IFERROR(Worksheet!X515/(Worksheet!S515+Worksheet!V515),0)","v":0},{"$f":"IF(Worksheet!E515=\"\",\"\",Worksheet!E515)","v":""},{"$f":"IF(Worksheet!B515=\"\",\"\",Worksheet!B515)","v":""},{"$f":"IF(Worksheet!D515=\"\",\"\",Worksheet!D515)","v":""},{"$f":"IF(Worksheet!$A$11=TRUE,\"Y\",\"N\")","v":"N"},{"$f":"IF(Worksheet!$A$12=TRUE,\"Y\",\"N\")","v":"N"},{"$f":"IF(Worksheet!$B$11=TRUE,\"Y\",\"N\")","v":"N"},{"$f":"IF(Worksheet!$B$12=TRUE,\"Y\",\"N\")","v":"N"},{"$f":"IF(Worksheet!$C$11=TRUE,\"Y\",\"N\")","v":"N"},{"$f":"IFERROR(IF(N(Worksheet!V515)=0,Worksheet!U515,Worksheet!V515),\"\")","v":0}]
[{"$f":"IF(ISBLANK(Worksheet!F516)=FALSE,VLOOKUP(Worksheet!A516,MeasureCode_Lookup,6,FALSE),\"\")","v":""},{"$f":"Worksheet!H516","v":0},{"$f":"Worksheet!I516","v":0},{"$f":"IFERROR(IF(Worksheet!Z516=0,Worksheet!Y516/I494,Worksheet!Z516/R494),0)","v":0},"W Controlled",null,null,{"$f":"IF(N(Worksheet!S516)=0,N(Worksheet!R516),N(Worksheet!S516))","v":0},{"$f":"IFERROR(Worksheet!W516/(Worksheet!R516+Worksheet!U516),0)","v":0},{"$f":"Worksheet!AE516","v":0},{"$f":"Worksheet!AD516","v":0},0,{"$f":"IF(Worksheet!AL516=0,0,Worksheet!AL516/I494)","v":0},0,null,null,null,{"$f":"IFERROR(Worksheet!X516/(Worksheet!S516+Worksheet!V516),0)","v":0},{"$f":"IF(Worksheet!E516=\"\",\"\",Worksheet!E516)","v":""},{"$f":"IF(Worksheet!B516=\"\",\"\",Worksheet!B516)","v":""},{"$f":"IF(Worksheet!D516=\"\",\"\",Worksheet!D516)","v":""},{"$f":"IF(Worksheet!$A$11=TRUE,\"Y\",\"N\")","v":"N"},{"$f":"IF(Worksheet!$A$12=TRUE,\"Y\",\"N\")","v":"N"},{"$f":"IF(Worksheet!$B$11=TRUE,\"Y\",\"N\")","v":"N"},{"$f":"IF(Worksheet!$B$12=TRUE,\"Y\",\"N\")","v":"N"},{"$f":"IF(Worksheet!$C$11=TRUE,\"Y\",\"N\")","v":"N"},{"$f":"IFERROR(IF(N(Worksheet!V516)=0,Worksheet!U516,Worksheet!V516),\"\")","v":0}]
[{"$f":"IF(ISBLANK(Worksheet!F517)=FALSE,VLOOKUP(Worksheet!A517,MeasureCode_Lookup,6,FALSE),\"\")","v":""},{"$f":"Worksheet!H517","v":0},{"$f":"Worksheet!I517","v":0},{"$f":"IFERROR(IF(Worksheet!Z517=0,Worksheet!Y517/I495,Worksheet!Z517/R495),0)","v":0},"W Controlled",null,null,{"$f":"IF(N(Worksheet!S517)=0,N(Worksheet!R517),N(Worksheet!S517))","v":0},{"$f":"IFERROR(Worksheet!W517/(Worksheet!R517+Worksheet!U517),0)","v":0},{"$f":"Worksheet!AE517","v":0},{"$f":"Worksheet!AD517","v":0},0,{"$f":"IF(Worksheet!AL517=0,0,Worksheet!AL517/I495)","v":0},0,null,null,null,{"$f":"IFERROR(Worksheet!X517/(Worksheet!S517+Worksheet!V517),0)","v":0},{"$f":"IF(Worksheet!E517=\"\",\"\",Worksheet!E517)","v":""},{"$f":"IF(Worksheet!B517=\"\",\"\",Worksheet!B517)","v":""},{"$f":"IF(Worksheet!D517=\"\",\"\",Worksheet!D517)","v":""},{"$f":"IF(Worksheet!$A$11=TRUE,\"Y\",\"N\")","v":"N"},{"$f":"IF(Worksheet!$A$12=TRUE,\"Y\",\"N\")","v":"N"},{"$f":"IF(Worksheet!$B$11=TRUE,\"Y\",\"N\")","v":"N"},{"$f":"IF(Worksheet!$B$12=TRUE,\"Y\",\"N\")","v":"N"},{"$f":"IF(Worksheet!$C$11=TRUE,\"Y\",\"N\")","v":"N"},{"$f":"IFERROR(IF(N(Worksheet!V517)=0,Worksheet!U517,Worksheet!V517),\"\")","v":0}]
[{"$f":"IF(ISBLANK(Worksheet!F518)=FALSE,VLOOKUP(Worksheet!A518,MeasureCode_Lookup,6,FALSE),\"\")","v":""},{"$f":"Worksheet!H518","v":0},{"$f":"Worksheet!I518","v":0},{"$f":"IFERROR(IF(Worksheet!Z518=0,Worksheet!Y518/I496,Worksheet!Z518/R496),0)","v":0},"W Controlled",null,null,{"$f":"IF(N(Worksheet!S518)=0,N(Worksheet!R518),N(Worksheet!S518))","v":0},{"$f":"IFERROR(Worksheet!W518/(Worksheet!R518+Worksheet!U518),0)","v":0},{"$f":"Worksheet!AE518","v":0},{"$f":"Worksheet!AD518","v":0},0,{"$f":"IF(Worksheet!AL518=0,0,Worksheet!AL518/I496)","v":0},0,null,null,null,{"$f":"IFERROR(Worksheet!X518/(Worksheet!S518+Worksheet!V518),0)","v":0},{"$f":"IF(Worksheet!E518=\"\",\"\",Worksheet!E518)","v":""},{"$f":"IF(Worksheet!B518=\"\",\"\",Worksheet!B518)","v":""},{"$f":"IF(Worksheet!D518=\"\",\"\",Worksheet!D518)","v":""},{"$f":"IF(Worksheet!$A$11=TRUE,\"Y\",\"N\")","v":"N"},{"$f":"IF(Worksheet!$A$12=TRUE,\"Y\",\"N\")","v":"N"},{"$f":"IF(Worksheet!$B$11=TRUE,\"Y\",\"N\")","v":"N"},{"$f":"IF(Worksheet!$B$12=TRUE,\"Y\",\"N\")","v":"N"},{"$f":"IF(Worksheet!$C$11=TRUE,\"Y\",\"N\")","v":"N"},{"$f":"IFERROR(IF(N(Worksheet!V518)=0,Worksheet!U518,Worksheet!V518),\"\")","v":0}]
[{"$f":"IF(ISBLANK(Worksheet!F519)=FALSE,VLOOKUP(Worksheet!A519,MeasureCode_Lookup,6,FALSE),\"\")","v":""},{"$f":"Worksheet!H519","v":0},{"$f":"Worksheet!I519","v":0},{"$f":"IFERROR(IF(Worksheet!Z519=0,Worksheet!Y519/I497,Worksheet!Z519/R497),0)","v":0},"W Controlled",null,null,{"$f":"IF(N(Worksheet!S519)=0,N(Worksheet!R519),N(Worksheet!S519))","v":0},{"$f":"IFERROR(Worksheet!W519/(Worksheet!R519+Worksheet!U519),0)","v":0},{"$f":"Worksheet!AE519","v":0},{"$f":"Worksheet!AD519","v":0},0,{"$f":"IF(Worksheet!AL519=0,0,Worksheet!AL519/I497)","v":0},0,null,null,null,{"$f":"IFERROR(Worksheet!X519/(Worksheet!S519+Worksheet!V519),0)","v":0},{"$f":"IF(Worksheet!E519=\"\",\"\",Worksheet!E519)","v":""},{"$f":"IF(Worksheet!B519=\"\",\"\",Worksheet!B519)","v":""},{"$f":"IF(Worksheet!D519=\"\",\"\",Worksheet!D519)","v":""},{"$f":"IF(Worksheet!$A$11=TRUE,\"Y\",\"N\")","v":"N"},{"$f":"IF(Worksheet!$A$12=TRUE,\"Y\",\"N\")","v":"N"},{"$f":"IF(Worksheet!$B$11=TRUE,\"Y\",\"N\")","v":"N"},{"$f":"IF(Worksheet!$B$12=TRUE,\"Y\",\"N\")","v":"N"},{"$f":"IF(Worksheet!$C$11=TRUE,\"Y\",\"N\")","v":"N"},{"$f":"IFERROR(IF(N(Worksheet!V519)=0,Worksheet!U519,Worksheet!V519),\"\")","v":0}]
[{"$f":"IF(ISBLANK(Worksheet!F520)=FALSE,VLOOKUP(Worksheet!A520,MeasureCode_Lookup,6,FALSE),\"\")","v":""},{"$f":"Worksheet!H520","v":0},{"$f":"Worksheet!I520","v":0},{"$f":"IFERROR(IF(Worksheet!Z520=0,Worksheet!Y520/I498,Worksheet!Z520/R498),0)","v":0},"W Controlled",null,null,{"$f":"IF(N(Worksheet!S520)=0,N(Worksheet!R520),N(Worksheet!S520))","v":0},{"$f":"IFERROR(Worksheet!W520/(Worksheet!R520+Worksheet!U520),0)","v":0},{"$f":"Worksheet!AE520","v":0},{"$f":"Worksheet!AD520","v":0},0,{"$f":"IF(Worksheet!AL520=0,0,Worksheet!AL520/I498)","v":0},0,null,null,null,{"$f":"IFERROR(Worksheet!X520/(Worksheet!S520+Worksheet!V520),0)","v":0},{"$f":"IF(Worksheet!E520=\"\",\"\",Worksheet!E520)","v":""},{"$f":"IF(Worksheet!B520=\"\",\"\",Worksheet!B520)","v":""},{"$f":"IF(Worksheet!D520=\"\",\"\",Worksheet!D520)","v":""},{"$f":"IF(Worksheet!$A$11=TRUE,\"Y\",\"N\")","v":"N"},{"$f":"IF(Worksheet!$A$12=TRUE,\"Y\",\"N\")","v":"N"},{"$f":"IF(Worksheet!$B$11=TRUE,\"Y\",\"N\")","v":"N"},{"$f":"IF(Worksheet!$B$12=TRUE,\"Y\",\"N\")","v":"N"},{"$f":"IF(Worksheet!$C$11=TRUE,\"Y\",\"N\")","v":"N"},{"$f":"IFERROR(IF(N(Worksheet!V520)=0,Worksheet!U520,Worksheet!V520),\"\")","v":0}]
[{"$f":"IF(ISBLANK(Worksheet!F521)=FALSE,VLOOKUP(Worksheet!A521,MeasureCode_Lookup,6,FALSE),\"\")","v":""},{"$f":"Worksheet!H521","v":0},{"$f":"Worksheet!I521","v":0},{"$f":"IFERROR(IF(Worksheet!Z521=0,Worksheet!Y521/I499,Worksheet!Z521/R499),0)","v":0},"W Controlled",null,null,{"$f":"IF(N(Worksheet!S521)=0,N(Worksheet!R521),N(Worksheet!S521))","v":0},{"$f":"IFERROR(Worksheet!W521/(Worksheet!R521+Worksheet!U521),0)","v":0},{"$f":"Worksheet!AE521","v":0},{"$f":"Worksheet!AD521","v":0},0,{"$f":"IF(Worksheet!AL521=0,0,Worksheet!AL521/I499)","v":0},0,null,null,null,{"$f":"IFERROR(Worksheet!X521/(Worksheet!S521+Worksheet!V521),0)","v":0},{"$f":"IF(Worksheet!E521=\"\",\"\",Worksheet!E521)","v":""},{"$f":"IF(Worksheet!B521=\"\",\"\",Worksheet!B521)","v":""},{"$f":"IF(Worksheet!D521=\"\",\"\",Worksheet!D521)","v":""},{"$f":"IF(Worksheet!$A$11=TRUE,\"Y\",\"N\")","v":"N"},{"$f":"IF(Worksheet!$A$12=TRUE,\"Y\",\"N\")","v":"N"},{"$f":"IF(Worksheet!$B$11=TRUE,\"Y\",\"N\")","v":"N"},{"$f":"IF(Worksheet!$B$12=TRUE,\"Y\",\"N\")","v":"N"},{"$f":"IF(Worksheet!$C$11=TRUE,\"Y\",\"N\")","v":"N"},{"$f":"IFERROR(IF(N(Worksheet!V521)=0,Worksheet!U521,Worksheet!V521),\"\")","v":0}]
[{"$f":"IF(ISBLANK(Worksheet!F522)=FALSE,VLOOKUP(Worksheet!A522,MeasureCode_Lookup,6,FALSE),\"\")","v":""},{"$f":"Worksheet!H522","v":0},{"$f":"Worksheet!I522","v":0},{"$f":"IFERROR(IF(Worksheet!Z522=0,Worksheet!Y522/I500,Worksheet!Z522/R500),0)","v":0},"W Controlled",null,null,{"$f":"IF(N(Worksheet!S522)=0,N(Worksheet!R522),N(Worksheet!S522))","v":0},{"$f":"IFERROR(Worksheet!W522/(Worksheet!R522+Worksheet!U522),0)","v":0},{"$f":"Worksheet!AE522","v":0},{"$f":"Worksheet!AD522","v":0},0,{"$f":"IF(Worksheet!AL522=0,0,Worksheet!AL522/I500)","v":0},0,null,null,null,{"$f":"IFERROR(Worksheet!X522/(Worksheet!S522+Worksheet!V522),0)","v":0},{"$f":"IF(Worksheet!E522=\"\",\"\",Worksheet!E522)","v":""},{"$f":"IF(Worksheet!B522=\"\",\"\",Worksheet!B522)","v":""},{"$f":"IF(Worksheet!D522=\"\",\"\",Worksheet!D522)","v":""},{"$f":"IF(Worksheet!$A$11=TRUE,\"Y\",\"N\")","v":"N"},{"$f":"IF(Worksheet!$A$12=TRUE,\"Y\",\"N\")","v":"N"},{"$f":"IF(Worksheet!$B$11=TRUE,\"Y\",\"N\")","v":"N"},{"$f":"IF(Worksheet!$B$12=TRUE,\"Y\",\"N\")","v":"N"},{"$f":"IF(Worksheet!$C$11=TRUE,\"Y\",\"N\")","v":"N"},{"$f":"IFERROR(IF(N(Worksheet!V522)=0,Worksheet!U522,Worksheet!V522),\"\")","v":0}]
[{"$f":"IF(ISBLANK(Worksheet!F523)=FALSE,VLOOKUP(Worksheet!A523,MeasureCode_Lookup,6,FALSE),\"\")","v":""},{"$f":"Worksheet!H523","v":0},{"$f":"Worksheet!I523","v":0},{"$f":"IFERROR(IF(Worksheet!Z523=0,Worksheet!Y523/I501,Worksheet!Z523/R501),0)","v":0},"W Controlled",null,null,{"$f":"IF(N(Worksheet!S523)=0,N(Worksheet!R523),N(Worksheet!S523))","v":0},{"$f":"IFERROR(Worksheet!W523/(Worksheet!R523+Worksheet!U523),0)","v":0},{"$f":"Worksheet!AE523","v":0},{"$f":"Worksheet!AD523","v":0},0,{"$f":"IF(Worksheet!AL523=0,0,Worksheet!AL523/I501)","v":0},0,null,null,null,{"$f":"IFERROR(Worksheet!X523/(Worksheet!S523+Worksheet!V523),0)","v":0},{"$f":"IF(Worksheet!E523=\"\",\"\",Worksheet!E523)","v":""},{"$f":"IF(Worksheet!B523=\"\",\"\",Worksheet!B523)","v":""},{"$f":"IF(Worksheet!D523=\"\",\"\",Worksheet!D523)","v":""},{"$f":"IF(Worksheet!$A$11=TRUE,\"Y\",\"N\")","v":"N"},{"$f":"IF(Worksheet!$A$12=TRUE,\"Y\",\"N\")","v":"N"},{"$f":"IF(Worksheet!$B$11=TRUE,\"Y\",\"N\")","v":"N"},{"$f":"IF(Worksheet!$B$12=TRUE,\"Y\",\"N\")","v":"N"},{"$f":"IF(Worksheet!$C$11=TRUE,\"Y\",\"N\")","v":"N"},{"$f":"IFERROR(IF(N(Worksheet!V523)=0,Worksheet!U523,Worksheet!V523),\"\")","v":0}]

{"sheet":"Version Log","index":4,"n_rows":4,"n_cols":2,"rows_kept":4,"cut":false,"hidden":true,"merged":[]}
["Version #","Notes"]
["V11.1","First combined customer/internal workbook."]
["V12","Updated to align with FY19 Protocols"]
["V13","Added Enhanced Incentive Eligibility Section and Updated for FY20 Program"]