{"text_format":"1","workbook":"xlsx","n_sheets":5,"sheets":["Worksheet","Measure Code","Other Support","Export","Version Log"],"not_rendered":{"charts":0,"images":2,"macros":1,"external_links":11,"defined_names":657,"comments":0,"pivot_tables":0},"unopened":[],"bounds":{"document_bytes":16777216,"sheet_cells":100000,"rows_first":2000,"rows_last":500,"rows_between":2000,"halvings":0,"cell_chars":16384,"cell_head_chars":4096},"cells_cut":0,"cells_raw":0,"read":"whole","date_system":"1900"}

{"sheet":"Worksheet","index":0,"n_rows":519,"n_cols":38,"rows_kept":519,"cut":false,"hidden":false,"merged":[[16,17,18,17],[16,7,17,8],[16,9,16,11],[16,5,17,6],[17,11,18,11],[17,10,18,10],[17,9,18,9],[16,12,17,13],[16,14,17,16],[16,36,17,37],[16,30,18,30],[16,31,18,31],[3,30,3,33],[4,30,9,33],[16,32,18,32],[16,33,18,33],[16,34,18,34],[16,35,18,35],[1,13,1,14],[2,1,2,5],[3,1,3,5],[4,1,4,2],[7,1,7,5],[3,26,3,29],[16,25,18,25],[16,26,18,26],[16,27,18,27],[16,28,18,28],[16,29,18,29],[16,22,18,22],[16,4,18,4],[15,14,15,16],[13,0,13,3],[4,26,9,29],[16,23,18,23],[16,24,18,24],[16,18,18,18],[16,19,18,19],[16,20,18,20],[16,21,18,21],[11,0,11,3],[16,0,18,0],[16,1,18,1],[16,2,18,2],[16,3,18,3]]}
["Lighting Controls Information"]
["Customer Information (NOTE: Name and Address fields must be completed at a minimum in order for any measures to be evaluated for eligibility)"]
["Company Name"]
["Facility Address",null,null,null,null,null,null,null,null,null,null,null,null,null,null,null,null,null,null,null,null,null,null,null,null,null,"Pre-Inspection Notes",null,null,null,"Post-Inspection Notes"]
["Application Number",null,null,"(OFFICE USE ONLY)"]
[]
["Contractor/Vendor Information"]
["Company Name"]
[]
["(NOTE: The following building and HVAC fields must be completed in order for any measures to be evaluated for eligibility)"]
["Building Type ",null,null,null,null,"Building Size"]
[]
["HVAC Type"]
[]
[]
["NOTE: For proper functionality of this workbook, each line item (i.e. row) must be completed from left-to-right, beginning with the \"Measure Code\" input.",null,null,null,null,null,null,null,null,null,null,null,null,null,"Totals",null,null,{"$f":"SUM(R20:R519)","v":0},{"$f":"SUM(S20:S519)","v":0},null,null,null,null,null,{"$f":"SUM(Y20:Y519)","v":0},0,0,0,0,0,0,0,0,0,0,0]
["Measure Code\n\n(From Application)","New\nor\nReplaced","Device","Type of Control\n\n(Wired or Wireless)","Location\n\n(Building or Room Name)","# of Sensors",null,"# of Fixtures Controlled Per Sensor",null,"Controlled Fixture Information",null,null,"Total Wattage Controlled Per Sensor",null,"Incentive\n\n(DNQ - Does Not Qualify)",null,null,"Total Committed Incentives","Total Installed Incentives","Total Committed Watts Controlled","Total Installed Watts Controlled","Energy Savings Factor","Coincidence Factor","EFLH","kW Savings per Unit","kWh Savings per Unit","Peak kW Savings\nCommitted","Peak kW Savings\nInstalled","Annual Energy Savings\nCommitted\n(kWh)","Annual Energy Savings\nInstalled\n(kWh)","Lifetime Energy Savings\nCommitted\n(kWh)","Lifetime Energy Savings Installed (kWh)","Annual Fuel Savings\nCommitted\n(MMBtu)","Annual Fuel Savings\nInstalled\n(MMBtu)","Lifetime Fuel Savings\nCommitted\n(MMBtu)","Lifetime Fuel Savings Installed\n(MMBtu)","Incentive Eligibility Check"]
[null,null,null,null,null,null,null,null,null,"Controlled Fixture Manufacturer Name","Controlled Fixture Model Number","Controlled Fixture Wattage\n(of an individual fixture)"]
[null,null,null,null,null,"Proposed","Installed","Proposed","Installed",null,null,null,"Proposed","Installed","Proposed","Installed",null,null,null,null,null,null,null,null,null,null,null,null,null,null,null,null,null,null,null,null,"Proposed","Installed"]
[null,null,{"$f":"IF(A20=\"\",\"\",VLOOKUP(A20,MeasureCode_Lookup,2,FALSE))","v":""},null,null,null,null,null,null,null,null,null,{"$f":"IF(OR(A20=\"\",F20=\"\",H20=\"\",L20=\"\")=TRUE,0,H20*L20)","v":0},{"$f":"IF(OR(A20=\"\",G20=\"\",I20=\"\",L20=\"\")=TRUE,0,I20*L20)","v":0},{"$f":"IF(AK20=\"\",0,IF(AK20=1,VLOOKUP(A20,MeasureCode_Lookup,3,FALSE),\"DNQ\"))","v":0},{"$f":"IF(AL20=\"\",0,IF(AL20=1,VLOOKUP(A20,MeasureCode_Lookup,3,FALSE),\"DNQ\"))","v":0},{"$f":"IF(A20=\"\",\"\",VLOOKUP(A20,MeasureCode_Lookup,4,FALSE))","v":""},{"$f":"IF(N(O20)=0,0,F20*O20*IF(Q20=\"per Fixture Controlled\",H20,1))","v":0},{"$f":"IF(N(P20)=0,0,G20*P20*IF(Q20=\"per Fixture Controlled\",I20,1))","v":0},{"$f":"IF(N(O20)=0,0,F20*M20)","v":0},{"$f":"IF(N(P20)=0,0,G20*N20)","v":0},{"$f":"IF(A20=\"\",0,VLOOKUP(A20,MeasureCode_Lookup,5,FALSE))","v":0},{"$f":"IF($A$12=\"\",0,VLOOKUP($A$12,BuildingType_Lookup,3,FALSE))","v":0},{"$f":"IF($A$12=\"\",0,VLOOKUP($A$12,BuildingType_Lookup,2,FALSE))","v":0},{"$f":"IF(AND(OR(AK20=\"\",AK20=0)=TRUE,OR(AL20=\"\",AL20=0))=TRUE,0,IF(AL20=\"\",(IF(OR(C20=\"DDC\",C20=\"OHLC\")=TRUE,L20,M20)/1000)*V20*W20*(1+VLOOKUP($A$12,BuildingType_Lookup,4,FALSE)),IF(AL20=0,0,(IF(OR(C20=\"DDC\",C20=\"OHLC\")=TRUE,L20,N20)/1000)*V20*W20*(1+VLOOKUP($A$12,BuildingType_Lookup,4,FALSE)))))","v":0},{"$f":"IF(AND(OR(AK20=\"\",AK20=0)=TRUE,OR(AL20=\"\",AL20=0))=TRUE,0,IF(AL20=\"\",(IF(OR(C20=\"DDC\",C20=\"OHLC\")=TRUE,L20,M20)/1000)*V20*X20*(1+VLOOKUP($A$12,BuildingType_Lookup,MATCH($A$14,HVAC,0)+4,FALSE)),IF(AL20=0,0,(IF(OR(C20=\"DDC\",C20=\"OHLC\")=TRUE,L20,N20)/1000)*V20*X20*(1+VLOOKUP($A$12,BuildingType_Lookup,MATCH($A$14,HVAC,0)+4,FALSE)))))","v":0},{"$f":"IFERROR(IF(OR(C20=\"DDC\",C20=\"OHLC\")=TRUE,F20*H20*Y20,F20*Y20),0)","v":0},{"$f":"IFERROR(IF(OR(C20=\"DDC\",C20=\"OHLC\")=TRUE,G20*I20*Y20,G20*Y20),0)","v":0},{"$f":"IFERROR(IF(OR(C20=\"DDC\",C20=\"OHLC\")=TRUE,F20*H20*Z20,F20*Z20),0)","v":0},{"$f":"IFERROR(IF(OR(C20=\"DDC\",C20=\"OHLC\")=TRUE,G20*I20*Z20,G20*Z20),0)","v":0},{"$f":"AC20*8","v":0},{"$f":"AD20*8","v":0},{"$f":"T20/1000*V20*X20*IF(IFERROR(SEARCH(\"Gas\",$A$14),0)>0,VLOOKUP(\"Gas\",HVACg_Lookup,MATCH($F$12,BuildingSize,0)+1,FALSE),IF(IFERROR(SEARCH(\"Oil\",$A$14),0)>0,VLOOKUP(\"Oil\",HVACg_Lookup,MATCH($F$12,BuildingSize,0)+1,FALSE),IF(IFERROR(SEARCH(\"Propane\",$A$14),0)>0,VLOOKUP(\"Propane\",HVACg_Lookup,MATCH(Worksheet!$F$12,BuildingSize,0)+1,FALSE),0)))","v":0},{"$f":"U20/1000*V20*X20*IF(IFERROR(SEARCH(\"Gas\",$A$14),0)>0,VLOOKUP(\"Gas\",HVACg_Lookup,MATCH($F$12,BuildingSize,0)+1,FALSE),IF(IFERROR(SEARCH(\"Oil\",$A$14),0)>0,VLOOKUP(\"Oil\",HVACg_Lookup,MATCH($F$12,BuildingSize,0)+1,FALSE),IF(IFERROR(SEARCH(\"Propane\",$A$14),0)>0,VLOOKUP(\"Propane\",HVACg_Lookup,MATCH(Worksheet!$F$12,BuildingSize,0)+1,FALSE),0)))","v":0},{"$f":"AG20*8","v":0},{"$f":"AH20*8","v":0},{"$f":"IF(OR($B$3=\"\",$B$4=\"\",$A$12=\"\",$F$12=\"\",$A$14=\"\",A20=\"\",F20=\"\",H20=\"\",L20=\"\")=TRUE,\"\",IF(C20=\"OSW\",IF(H20>=2,1,0),IF(C20=\"OSR\",IF(AND(H20>=2,M20>=180)=TRUE,1,0),IF(C20=\"OSRH\",IF(AND(H20>=1,M20>=180)=TRUE,1,0),IF(C20=\"OHLC\",IF(M20>=240,1,0),IF(C20=\"DDC\",IF(AND(H20>=4,M20>=240)=TRUE,1,0),0))))))","v":""},{"$f":"IF(OR($B$3=\"\",$B$4=\"\",$A$12=\"\",$F$12=\"\",$A$14=\"\",A20=\"\",F20=\"\",I20=\"\",L20=\"\")=TRUE,\"\",IF(C20=\"OSW\",IF(I20>=2,1,0),IF(C20=\"OSR\",IF(AND(I20>=2,N20>=180)=TRUE,1,0),IF(C20=\"OSRH\",IF(AND(I20>=1,N20>=180)=TRUE,1,0),IF(C20=\"OHLC\",IF(N20>=240,1,0),IF(C20=\"DDC\",IF(AND(I20>=4,N20>=240)=TRUE,1,0),0))))))","v":""}]
[null,null,{"$f":"IF(A21=\"\",\"\",VLOOKUP(A21,MeasureCode_Lookup,2,FALSE))","v":""},null,null,null,null,null,null,null,null,null,{"$f":"IF(OR(A21=\"\",F21=\"\",H21=\"\",L21=\"\")=TRUE,0,H21*L21)","v":0},{"$f":"IF(OR(A21=\"\",G21=\"\",I21=\"\",L21=\"\")=TRUE,0,I21*L21)","v":0},0,0,"",{"$f":"IF(N(O21)=0,0,F21*O21*IF(Q21=\"per Fixture Controlled\",H21,1))","v":0},{"$f":"IF(N(P21)=0,0,G21*P21*IF(Q21=\"per Fixture Controlled\",I21,1))","v":0},{"$f":"IF(N(O21)=0,0,F21*M21)","v":0},{"$f":"IF(N(P21)=0,0,G21*N21)","v":0},0,0,0,0,0,0,0,0,0,{"$f":"AC21*8","v":0},{"$f":"AD21*8","v":0},{"$f":"T21/1000*V21*X21*IF(IFERROR(SEARCH(\"Gas\",$A$14),0)>0,VLOOKUP(\"Gas\",HVACg_Lookup,MATCH($F$12,BuildingSize,0)+1,FALSE),IF(IFERROR(SEARCH(\"Oil\",$A$14),0)>0,VLOOKUP(\"Oil\",HVACg_Lookup,MATCH($F$12,BuildingSize,0)+1,FALSE),IF(IFERROR(SEARCH(\"Propane\",$A$14),0)>0,VLOOKUP(\"Propane\",HVACg_Lookup,MATCH(Worksheet!$F$12,BuildingSize,0)+1,FALSE),0)))","v":0},{"$f":"U21/1000*V21*X21*IF(IFERROR(SEARCH(\"Gas\",$A$14),0)>0,VLOOKUP(\"Gas\",HVACg_Lookup,MATCH($F$12,BuildingSize,0)+1,FALSE),IF(IFERROR(SEARCH(\"Oil\",$A$14),0)>0,VLOOKUP(\"Oil\",HVACg_Lookup,MATCH($F$12,BuildingSize,0)+1,FALSE),IF(IFERROR(SEARCH(\"Propane\",$A$14),0)>0,VLOOKUP(\"Propane\",HVACg_Lookup,MATCH(Worksheet!$F$12,BuildingSize,0)+1,FALSE),0)))","v":0},{"$f":"AG21*8","v":0},{"$f":"AH21*8","v":0},{"$f":"IF(OR($B$3=\"\",$B$4=\"\",$A$12=\"\",$F$12=\"\",$A$14=\"\",A21=\"\",F21=\"\",H21=\"\",L21=\"\")=TRUE,\"\",IF(C21=\"OSW\",IF(H21>=2,1,0),IF(C21=\"OSR\",IF(AND(H21>=2,M21>=180)=TRUE,1,0),IF(C21=\"OSRH\",IF(AND(H21>=1,M21>=180)=TRUE,1,0),IF(C21=\"OHLC\",IF(M21>=240,1,0),IF(C21=\"DDC\",IF(AND(H21>=4,M21>=240)=TRUE,1,0),0))))))","v":""},{"$f":"IF(OR($B$3=\"\",$B$4=\"\",$A$12=\"\",$F$12=\"\",$A$14=\"\",A21=\"\",F21=\"\",I21=\"\",L21=\"\")=TRUE,\"\",IF(C21=\"OSW\",IF(I21>=2,1,0),IF(C21=\"OSR\",IF(AND(I21>=2,N21>=180)=TRUE,1,0),IF(C21=\"OSRH\",IF(AND(I21>=1,N21>=180)=TRUE,1,0),IF(C21=\"OHLC\",IF(N21>=240,1,0),IF(C21=\"DDC\",IF(AND(I21>=4,N21>=240)=TRUE,1,0),0))))))","v":""}]
[null,null,"",null,null,null,null,null,null,null,null,null,0,0,0,0,"",0,0,0,0,0,0,0,0,0,0,0,0,0,0,0,{"$f":"T22/1000*V22*X22*IF(IFERROR(SEARCH(\"Gas\",$A$14),0)>0,VLOOKUP(\"Gas\",HVACg_Lookup,MATCH($F$12,BuildingSize,0)+1,FALSE),IF(IFERROR(SEARCH(\"Oil\",$A$14),0)>0,VLOOKUP(\"Oil\",HVACg_Lookup,MATCH($F$12,BuildingSize,0)+1,FALSE),IF(IFERROR(SEARCH(\"Propane\",$A$14),0)>0,VLOOKUP(\"Propane\",HVACg_Lookup,MATCH(Worksheet!$F$12,BuildingSize,0)+1,FALSE),0)))","v":0},{"$f":"U22/1000*V22*X22*IF(IFERROR(SEARCH(\"Gas\",$A$14),0)>0,VLOOKUP(\"Gas\",HVACg_Lookup,MATCH($F$12,BuildingSize,0)+1,FALSE),IF(IFERROR(SEARCH(\"Oil\",$A$14),0)>0,VLOOKUP(\"Oil\",HVACg_Lookup,MATCH($F$12,BuildingSize,0)+1,FALSE),IF(IFERROR(SEARCH(\"Propane\",$A$14),0)>0,VLOOKUP(\"Propane\",HVACg_Lookup,MATCH(Worksheet!$F$12,BuildingSize,0)+1,FALSE),0)))","v":0},0,0,"",""]
[null,null,"",null,null,null,null,null,null,null,null,null,0,0,0,0,"",0,0,0,0,0,0,0,0,0,0,0,0,0,0,0,{"$f":"T23/1000*V23*X23*IF(IFERROR(SEARCH(\"Gas\",$A$14),0)>0,VLOOKUP(\"Gas\",HVACg_Lookup,MATCH($F$12,BuildingSize,0)+1,FALSE),IF(IFERROR(SEARCH(\"Oil\",$A$14),0)>0,VLOOKUP(\"Oil\",HVACg_Lookup,MATCH($F$12,BuildingSize,0)+1,FALSE),IF(IFERROR(SEARCH(\"Propane\",$A$14),0)>0,VLOOKUP(\"Propane\",HVACg_Lookup,MATCH(Worksheet!$F$12,BuildingSize,0)+1,FALSE),0)))","v":0},{"$f":"U23/1000*V23*X23*IF(IFERROR(SEARCH(\"Gas\",$A$14),0)>0,VLOOKUP(\"Gas\",HVACg_Lookup,MATCH($F$12,BuildingSize,0)+1,FALSE),IF(IFERROR(SEARCH(\"Oil\",$A$14),0)>0,VLOOKUP(\"Oil\",HVACg_Lookup,MATCH($F$12,BuildingSize,0)+1,FALSE),IF(IFERROR(SEARCH(\"Propane\",$A$14),0)>0,VLOOKUP(\"Propane\",HVACg_Lookup,MATCH(Worksheet!$F$12,BuildingSize,0)+1,FALSE),0)))","v":0},0,0,"",""]
[null,null,"",null,null,null,null,null,null,null,null,null,0,0,0,0,"",0,0,0,0,0,0,0,0,0,0,0,0,0,0,0,{"$f":"T24/1000*V24*X24*IF(IFERROR(SEARCH(\"Gas\",$A$14),0)>0,VLOOKUP(\"Gas\",HVACg_Lookup,MATCH($F$12,BuildingSize,0)+1,FALSE),IF(IFERROR(SEARCH(\"Oil\",$A$14),0)>0,VLOOKUP(\"Oil\",HVACg_Lookup,MATCH($F$12,BuildingSize,0)+1,FALSE),IF(IFERROR(SEARCH(\"Propane\",$A$14),0)>0,VLOOKUP(\"Propane\",HVACg_Lookup,MATCH(Worksheet!$F$12,BuildingSize,0)+1,FALSE),0)))","v":0},{"$f":"U24/1000*V24*X24*IF(IFERROR(SEARCH(\"Gas\",$A$14),0)>0,VLOOKUP(\"Gas\",HVACg_Lookup,MATCH($F$12,BuildingSize,0)+1,FALSE),IF(IFERROR(SEARCH(\"Oil\",$A$14),0)>0,VLOOKUP(\"Oil\",HVACg_Lookup,MATCH($F$12,BuildingSize,0)+1,FALSE),IF(IFERROR(SEARCH(\"Propane\",$A$14),0)>0,VLOOKUP(\"Propane\",HVACg_Lookup,MATCH(Worksheet!$F$12,BuildingSize,0)+1,FALSE),0)))","v":0},0,0,"",""]
[null,null,"",null,null,null,null,null,null,null,null,null,0,0,0,0,"",0,0,0,0,0,0,0,0,0,0,0,0,0,0,0,{"$f":"T25/1000*V25*X25*IF(IFERROR(SEARCH(\"Gas\",$A$14),0)>0,VLOOKUP(\"Gas\",HVACg_Lookup,MATCH($F$12,BuildingSize,0)+1,FALSE),IF(IFERROR(SEARCH(\"Oil\",$A$14),0)>0,VLOOKUP(\"Oil\",HVACg_Lookup,MATCH($F$12,BuildingSize,0)+1,FALSE),IF(IFERROR(SEARCH(\"Propane\",$A$14),0)>0,VLOOKUP(\"Propane\",HVACg_Lookup,MATCH(Worksheet!$F$12,BuildingSize,0)+1,FALSE),0)))","v":0},{"$f":"U25/1000*V25*X25*IF(IFERROR(SEARCH(\"Gas\",$A$14),0)>0,VLOOKUP(\"Gas\",HVACg_Lookup,MATCH($F$12,BuildingSize,0)+1,FALSE),IF(IFERROR(SEARCH(\"Oil\",$A$14),0)>0,VLOOKUP(\"Oil\",HVACg_Lookup,MATCH($F$12,BuildingSize,0)+1,FALSE),IF(IFERROR(SEARCH(\"Propane\",$A$14),0)>0,VLOOKUP(\"Propane\",HVACg_Lookup,MATCH(Worksheet!$F$12,BuildingSize,0)+1,FALSE),0)))","v":0},0,0,"",""]
[null,null,"",null,null,null,null,null,null,null,null,null,0,0,0,0,"",0,0,0,0,0,0,0,0,0,0,0,0,0,0,0,{"$f":"T26/1000*V26*X26*IF(IFERROR(SEARCH(\"Gas\",$A$14),0)>0,VLOOKUP(\"Gas\",HVACg_Lookup,MATCH($F$12,BuildingSize,0)+1,FALSE),IF(IFERROR(SEARCH(\"Oil\",$A$14),0)>0,VLOOKUP(\"Oil\",HVACg_Lookup,MATCH($F$12,BuildingSize,0)+1,FALSE),IF(IFERROR(SEARCH(\"Propane\",$A$14),0)>0,VLOOKUP(\"Propane\",HVACg_Lookup,MATCH(Worksheet!$F$12,BuildingSize,0)+1,FALSE),0)))","v":0},{"$f":"U26/1000*V26*X26*IF(IFERROR(SEARCH(\"Gas\",$A$14),0)>0,VLOOKUP(\"Gas\",HVACg_Lookup,MATCH($F$12,BuildingSize,0)+1,FALSE),IF(IFERROR(SEARCH(\"Oil\",$A$14),0)>0,VLOOKUP(\"Oil\",HVACg_Lookup,MATCH($F$12,BuildingSize,0)+1,FALSE),IF(IFERROR(SEARCH(\"Propane\",$A$14),0)>0,VLOOKUP(\"Propane\",HVACg_Lookup,MATCH(Worksheet!$F$12,BuildingSize,0)+1,FALSE),0)))","v":0},0,0,"",""]
[null,null,"",null,null,null,null,null,null,null,null,null,0,0,0,0,"",0,0,0,0,0,0,0,0,0,0,0,0,0,0,0,{"$f":"T27/1000*V27*X27*IF(IFERROR(SEARCH(\"Gas\",$A$14),0)>0,VLOOKUP(\"Gas\",HVACg_Lookup,MATCH($F$12,BuildingSize,0)+1,FALSE),IF(IFERROR(SEARCH(\"Oil\",$A$14),0)>0,VLOOKUP(\"Oil\",HVACg_Lookup,MATCH($F$12,BuildingSize,0)+1,FALSE),IF(IFERROR(SEARCH(\"Propane\",$A$14),0)>0,VLOOKUP(\"Propane\",HVACg_Lookup,MATCH(Worksheet!$F$12,BuildingSize,0)+1,FALSE),0)))","v":0},{"$f":"U27/1000*V27*X27*IF(IFERROR(SEARCH(\"Gas\",$A$14),0)>0,VLOOKUP(\"Gas\",HVACg_Lookup,MATCH($F$12,BuildingSize,0)+1,FALSE),IF(IFERROR(SEARCH(\"Oil\",$A$14),0)>0,VLOOKUP(\"Oil\",HVACg_Lookup,MATCH($F$12,BuildingSize,0)+1,FALSE),IF(IFERROR(SEARCH(\"Propane\",$A$14),0)>0,VLOOKUP(\"Propane\",HVACg_Lookup,MATCH(Worksheet!$F$12,BuildingSize,0)+1,FALSE),0)))","v":0},0,0,"",""]
[null,null,"",null,null,null,null,null,null,null,null,null,0,0,0,0,"",0,0,0,0,0,0,0,0,0,0,0,0,0,0,0,{"$f":"T28/1000*V28*X28*IF(IFERROR(SEARCH(\"Gas\",$A$14),0)>0,VLOOKUP(\"Gas\",HVACg_Lookup,MATCH($F$12,BuildingSize,0)+1,FALSE),IF(IFERROR(SEARCH(\"Oil\",$A$14),0)>0,VLOOKUP(\"Oil\",HVACg_Lookup,MATCH($F$12,BuildingSize,0)+1,FALSE),IF(IFERROR(SEARCH(\"Propane\",$A$14),0)>0,VLOOKUP(\"Propane\",HVACg_Lookup,MATCH(Worksheet!$F$12,BuildingSize,0)+1,FALSE),0)))","v":0},{"$f":"U28/1000*V28*X28*IF(IFERROR(SEARCH(\"Gas\",$A$14),0)>0,VLOOKUP(\"Gas\",HVACg_Lookup,MATCH($F$12,BuildingSize,0)+1,FALSE),IF(IFERROR(SEARCH(\"Oil\",$A$14),0)>0,VLOOKUP(\"Oil\",HVACg_Lookup,MATCH($F$12,BuildingSize,0)+1,FALSE),IF(IFERROR(SEARCH(\"Propane\",$A$14),0)>0,VLOOKUP(\"Propane\",HVACg_Lookup,MATCH(Worksheet!$F$12,BuildingSize,0)+1,FALSE),0)))","v":0},0,0,"",""]
[null,null,"",null,null,null,null,null,null,null,null,null,0,0,0,0,"",0,0,0,0,0,0,0,0,0,0,0,0,0,0,0,{"$f":"T29/1000*V29*X29*IF(IFERROR(SEARCH(\"Gas\",$A$14),0)>0,VLOOKUP(\"Gas\",HVACg_Lookup,MATCH($F$12,BuildingSize,0)+1,FALSE),IF(IFERROR(SEARCH(\"Oil\",$A$14),0)>0,VLOOKUP(\"Oil\",HVACg_Lookup,MATCH($F$12,BuildingSize,0)+1,FALSE),IF(IFERROR(SEARCH(\"Propane\",$A$14),0)>0,VLOOKUP(\"Propane\",HVACg_Lookup,MATCH(Worksheet!$F$12,BuildingSize,0)+1,FALSE),0)))","v":0},{"$f":"U29/1000*V29*X29*IF(IFERROR(SEARCH(\"Gas\",$A$14),0)>0,VLOOKUP(\"Gas\",HVACg_Lookup,MATCH($F$12,BuildingSize,0)+1,FALSE),IF(IFERROR(SEARCH(\"Oil\",$A$14),0)>0,VLOOKUP(\"Oil\",HVACg_Lookup,MATCH($F$12,BuildingSize,0)+1,FALSE),IF(IFERROR(SEARCH(\"Propane\",$A$14),0)>0,VLOOKUP(\"Propane\",HVACg_Lookup,MATCH(Worksheet!$F$12,BuildingSize,0)+1,FALSE),0)))","v":0},0,0,"",""]
[null,null,"",null,null,null,null,null,null,null,null,null,0,0,0,0,"",0,0,0,0,0,0,0,0,0,0,0,0,0,0,0,{"$f":"T30/1000*V30*X30*IF(IFERROR(SEARCH(\"Gas\",$A$14),0)>0,VLOOKUP(\"Gas\",HVACg_Lookup,MATCH($F$12,BuildingSize,0)+1,FALSE),IF(IFERROR(SEARCH(\"Oil\",$A$14),0)>0,VLOOKUP(\"Oil\",HVACg_Lookup,MATCH($F$12,BuildingSize,0)+1,FALSE),IF(IFERROR(SEARCH(\"Propane\",$A$14),0)>0,VLOOKUP(\"Propane\",HVACg_Lookup,MATCH(Worksheet!$F$12,BuildingSize,0)+1,FALSE),0)))","v":0},{"$f":"U30/1000*V30*X30*IF(IFERROR(SEARCH(\"Gas\",$A$14),0)>0,VLOOKUP(\"Gas\",HVACg_Lookup,MATCH($F$12,BuildingSize,0)+1,FALSE),IF(IFERROR(SEARCH(\"Oil\",$A$14),0)>0,VLOOKUP(\"Oil\",HVACg_Lookup,MATCH($F$12,BuildingSize,0)+1,FALSE),IF(IFERROR(SEARCH(\"Propane\",$A$14),0)>0,VLOOKUP(\"Propane\",HVACg_Lookup,MATCH(Worksheet!$F$12,BuildingSize,0)+1,FALSE),0)))","v":0},0,0,"",""]
[null,null,"",null,null,null,null,null,null,null,null,null,0,0,0,0,"",0,0,0,0,0,0,0,0,0,0,0,0,0,0,0,{"$f":"T31/1000*V31*X31*IF(IFERROR(SEARCH(\"Gas\",$A$14),0)>0,VLOOKUP(\"Gas\",HVACg_Lookup,MATCH($F$12,BuildingSize,0)+1,FALSE),IF(IFERROR(SEARCH(\"Oil\",$A$14),0)>0,VLOOKUP(\"Oil\",HVACg_Lookup,MATCH($F$12,BuildingSize,0)+1,FALSE),IF(IFERROR(SEARCH(\"Propane\",$A$14),0)>0,VLOOKUP(\"Propane\",HVACg_Lookup,MATCH(Worksheet!$F$12,BuildingSize,0)+1,FALSE),0)))","v":0},{"$f":"U31/1000*V31*X31*IF(IFERROR(SEARCH(\"Gas\",$A$14),0)>0,VLOOKUP(\"Gas\",HVACg_Lookup,MATCH($F$12,BuildingSize,0)+1,FALSE),IF(IFERROR(SEARCH(\"Oil\",$A$14),0)>0,VLOOKUP(\"Oil\",HVACg_Lookup,MATCH($F$12,BuildingSize,0)+1,FALSE),IF(IFERROR(SEARCH(\"Propane\",$A$14),0)>0,VLOOKUP(\"Propane\",HVACg_Lookup,MATCH(Worksheet!$F$12,BuildingSize,0)+1,FALSE),0)))","v":0},0,0,"",""]
[null,null,"",null,null,null,null,null,null,null,null,null,0,0,0,0,"",0,0,0,0,0,0,0,0,0,0,0,0,0,0,0,{"$f":"T32/1000*V32*X32*IF(IFERROR(SEARCH(\"Gas\",$A$14),0)>0,VLOOKUP(\"Gas\",HVACg_Lookup,MATCH($F$12,BuildingSize,0)+1,FALSE),IF(IFERROR(SEARCH(\"Oil\",$A$14),0)>0,VLOOKUP(\"Oil\",HVACg_Lookup,MATCH($F$12,BuildingSize,0)+1,FALSE),IF(IFERROR(SEARCH(\"Propane\",$A$14),0)>0,VLOOKUP(\"Propane\",HVACg_Lookup,MATCH(Worksheet!$F$12,BuildingSize,0)+1,FALSE),0)))","v":0},{"$f":"U32/1000*V32*X32*IF(IFERROR(SEARCH(\"Gas\",$A$14),0)>0,VLOOKUP(\"Gas\",HVACg_Lookup,MATCH($F$12,BuildingSize,0)+1,FALSE),IF(IFERROR(SEARCH(\"Oil\",$A$14),0)>0,VLOOKUP(\"Oil\",HVACg_Lookup,MATCH($F$12,BuildingSize,0)+1,FALSE),IF(IFERROR(SEARCH(\"Propane\",$A$14),0)>0,VLOOKUP(\"Propane\",HVACg_Lookup,MATCH(Worksheet!$F$12,BuildingSize,0)+1,FALSE),0)))","v":0},0,0,"",""]
[null,null,"",null,null,null,null,null,null,null,null,null,0,0,0,0,"",0,0,0,0,0,0,0,0,0,0,0,0,0,0,0,{"$f":"T33/1000*V33*X33*IF(IFERROR(SEARCH(\"Gas\",$A$14),0)>0,VLOOKUP(\"Gas\",HVACg_Lookup,MATCH($F$12,BuildingSize,0)+1,FALSE),IF(IFERROR(SEARCH(\"Oil\",$A$14),0)>0,VLOOKUP(\"Oil\",HVACg_Lookup,MATCH($F$12,BuildingSize,0)+1,FALSE),IF(IFERROR(SEARCH(\"Propane\",$A$14),0)>0,VLOOKUP(\"Propane\",HVACg_Lookup,MATCH(Worksheet!$F$12,BuildingSize,0)+1,FALSE),0)))","v":0},{"$f":"U33/1000*V33*X33*IF(IFERROR(SEARCH(\"Gas\",$A$14),0)>0,VLOOKUP(\"Gas\",HVACg_Lookup,MATCH($F$12,BuildingSize,0)+1,FALSE),IF(IFERROR(SEARCH(\"Oil\",$A$14),0)>0,VLOOKUP(\"Oil\",HVACg_Lookup,MATCH($F$12,BuildingSize,0)+1,FALSE),IF(IFERROR(SEARCH(\"Propane\",$A$14),0)>0,VLOOKUP(\"Propane\",HVACg_Lookup,MATCH(Worksheet!$F$12,BuildingSize,0)+1,FALSE),0)))","v":0},0,0,"",""]
[null,null,"",null,null,null,null,null,null,null,null,null,0,0,0,0,"",0,0,0,0,0,0,0,0,0,0,0,0,0,0,0,{"$f":"T34/1000*V34*X34*IF(IFERROR(SEARCH(\"Gas\",$A$14),0)>0,VLOOKUP(\"Gas\",HVACg_Lookup,MATCH($F$12,BuildingSize,0)+1,FALSE),IF(IFERROR(SEARCH(\"Oil\",$A$14),0)>0,VLOOKUP(\"Oil\",HVACg_Lookup,MATCH($F$12,BuildingSize,0)+1,FALSE),IF(IFERROR(SEARCH(\"Propane\",$A$14),0)>0,VLOOKUP(\"Propane\",HVACg_Lookup,MATCH(Worksheet!$F$12,BuildingSize,0)+1,FALSE),0)))","v":0},{"$f":"U34/1000*V34*X34*IF(IFERROR(SEARCH(\"Gas\",$A$14),0)>0,VLOOKUP(\"Gas\",HVACg_Lookup,MATCH($F$12,BuildingSize,0)+1,FALSE),IF(IFERROR(SEARCH(\"Oil\",$A$14),0)>0,VLOOKUP(\"Oil\",HVACg_Lookup,MATCH($F$12,BuildingSize,0)+1,FALSE),IF(IFERROR(SEARCH(\"Propane\",$A$14),0)>0,VLOOKUP(\"Propane\",HVACg_Lookup,MATCH(Worksheet!$F$12,BuildingSize,0)+1,FALSE),0)))","v":0},0,0,"",""]
[null,null,"",null,null,null,null,null,null,null,null,null,0,0,0,0,"",0,0,0,0,0,0,0,0,0,0,0,0,0,0,0,{"$f":"T35/1000*V35*X35*IF(IFERROR(SEARCH(\"Gas\",$A$14),0)>0,VLOOKUP(\"Gas\",HVACg_Lookup,MATCH($F$12,BuildingSize,0)+1,FALSE),IF(IFERROR(SEARCH(\"Oil\",$A$14),0)>0,VLOOKUP(\"Oil\",HVACg_Lookup,MATCH($F$12,BuildingSize,0)+1,FALSE),IF(IFERROR(SEARCH(\"Propane\",$A$14),0)>0,VLOOKUP(\"Propane\",HVACg_Lookup,MATCH(Worksheet!$F$12,BuildingSize,0)+1,FALSE),0)))","v":0},{"$f":"U35/1000*V35*X35*IF(IFERROR(SEARCH(\"Gas\",$A$14),0)>0,VLOOKUP(\"Gas\",HVACg_Lookup,MATCH($F$12,BuildingSize,0)+1,FALSE),IF(IFERROR(SEARCH(\"Oil\",$A$14),0)>0,VLOOKUP(\"Oil\",HVACg_Lookup,MATCH($F$12,BuildingSize,0)+1,FALSE),IF(IFERROR(SEARCH(\"Propane\",$A$14),0)>0,VLOOKUP(\"Propane\",HVACg_Lookup,MATCH(Worksheet!$F$12,BuildingSize,0)+1,FALSE),0)))","v":0},0,0,"",""]
[null,null,"",null,null,null,null,null,null,null,null,null,0,0,0,0,"",0,0,0,0,0,0,0,0,0,0,0,0,0,0,0,{"$f":"T36/1000*V36*X36*IF(IFERROR(SEARCH(\"Gas\",$A$14),0)>0,VLOOKUP(\"Gas\",HVACg_Lookup,MATCH($F$12,BuildingSize,0)+1,FALSE),IF(IFERROR(SEARCH(\"Oil\",$A$14),0)>0,VLOOKUP(\"Oil\",HVACg_Lookup,MATCH($F$12,BuildingSize,0)+1,FALSE),IF(IFERROR(SEARCH(\"Propane\",$A$14),0)>0,VLOOKUP(\"Propane\",HVACg_Lookup,MATCH(Worksheet!$F$12,BuildingSize,0)+1,FALSE),0)))","v":0},{"$f":"U36/1000*V36*X36*IF(IFERROR(SEARCH(\"Gas\",$A$14),0)>0,VLOOKUP(\"Gas\",HVACg_Lookup,MATCH($F$12,BuildingSize,0)+1,FALSE),IF(IFERROR(SEARCH(\"Oil\",$A$14),0)>0,VLOOKUP(\"Oil\",HVACg_Lookup,MATCH($F$12,BuildingSize,0)+1,FALSE),IF(IFERROR(SEARCH(\"Propane\",$A$14),0)>0,VLOOKUP(\"Propane\",HVACg_Lookup,MATCH(Worksheet!$F$12,BuildingSize,0)+1,FALSE),0)))","v":0},0,0,"",""]
[null,null,"",null,null,null,null,null,null,null,null,null,0,0,0,0,"",0,0,0,0,0,0,0,0,0,0,0,0,0,0,0,{"$f":"T37/1000*V37*X37*IF(IFERROR(SEARCH(\"Gas\",$A$14),0)>0,VLOOKUP(\"Gas\",HVACg_Lookup,MATCH($F$12,BuildingSize,0)+1,FALSE),IF(IFERROR(SEARCH(\"Oil\",$A$14),0)>0,VLOOKUP(\"Oil\",HVACg_Lookup,MATCH($F$12,BuildingSize,0)+1,FALSE),IF(IFERROR(SEARCH(\"Propane\",$A$14),0)>0,VLOOKUP(\"Propane\",HVACg_Lookup,MATCH(Worksheet!$F$12,BuildingSize,0)+1,FALSE),0)))","v":0},{"$f":"U37/1000*V37*X37*IF(IFERROR(SEARCH(\"Gas\",$A$14),0)>0,VLOOKUP(\"Gas\",HVACg_Lookup,MATCH($F$12,BuildingSize,0)+1,FALSE),IF(IFERROR(SEARCH(\"Oil\",$A$14),0)>0,VLOOKUP(\"Oil\",HVACg_Lookup,MATCH($F$12,BuildingSize,0)+1,FALSE),IF(IFERROR(SEARCH(\"Propane\",$A$14),0)>0,VLOOKUP(\"Propane\",HVACg_Lookup,MATCH(Worksheet!$F$12,BuildingSize,0)+1,FALSE),0)))","v":0},0,0,"",""]
[null,null,"",null,null,null,null,null,null,null,null,null,0,0,0,0,"",0,0,0,0,0,0,0,0,0,0,0,0,0,0,0,{"$f":"T38/1000*V38*X38*IF(IFERROR(SEARCH(\"Gas\",$A$14),0)>0,VLOOKUP(\"Gas\",HVACg_Lookup,MATCH($F$12,BuildingSize,0)+1,FALSE),IF(IFERROR(SEARCH(\"Oil\",$A$14),0)>0,VLOOKUP(\"Oil\",HVACg_Lookup,MATCH($F$12,BuildingSize,0)+1,FALSE),IF(IFERROR(SEARCH(\"Propane\",$A$14),0)>0,VLOOKUP(\"Propane\",HVACg_Lookup,MATCH(Worksheet!$F$12,BuildingSize,0)+1,FALSE),0)))","v":0},{"$f":"U38/1000*V38*X38*IF(IFERROR(SEARCH(\"Gas\",$A$14),0)>0,VLOOKUP(\"Gas\",HVACg_Lookup,MATCH($F$12,BuildingSize,0)+1,FALSE),IF(IFERROR(SEARCH(\"Oil\",$A$14),0)>0,VLOOKUP(\"Oil\",HVACg_Lookup,MATCH($F$12,BuildingSize,0)+1,FALSE),IF(IFERROR(SEARCH(\"Propane\",$A$14),0)>0,VLOOKUP(\"Propane\",HVACg_Lookup,MATCH(Worksheet!$F$12,BuildingSize,0)+1,FALSE),0)))","v":0},0,0,"",""]
[null,null,"",null,null,null,null,null,null,null,null,null,0,0,0,0,"",0,0,0,0,0,0,0,0,0,0,0,0,0,0,0,{"$f":"T39/1000*V39*X39*IF(IFERROR(SEARCH(\"Gas\",$A$14),0)>0,VLOOKUP(\"Gas\",HVACg_Lookup,MATCH($F$12,BuildingSize,0)+1,FALSE),IF(IFERROR(SEARCH(\"Oil\",$A$14),0)>0,VLOOKUP(\"Oil\",HVACg_Lookup,MATCH($F$12,BuildingSize,0)+1,FALSE),IF(IFERROR(SEARCH(\"Propane\",$A$14),0)>0,VLOOKUP(\"Propane\",HVACg_Lookup,MATCH(Worksheet!$F$12,BuildingSize,0)+1,FALSE),0)))","v":0},{"$f":"U39/1000*V39*X39*IF(IFERROR(SEARCH(\"Gas\",$A$14),0)>0,VLOOKUP(\"Gas\",HVACg_Lookup,MATCH($F$12,BuildingSize,0)+1,FALSE),IF(IFERROR(SEARCH(\"Oil\",$A$14),0)>0,VLOOKUP(\"Oil\",HVACg_Lookup,MATCH($F$12,BuildingSize,0)+1,FALSE),IF(IFERROR(SEARCH(\"Propane\",$A$14),0)>0,VLOOKUP(\"Propane\",HVACg_Lookup,MATCH(Worksheet!$F$12,BuildingSize,0)+1,FALSE),0)))","v":0},0,0,"",""]
[null,null,"",null,null,null,null,null,null,null,null,null,0,0,0,0,"",0,0,0,0,0,0,0,0,0,0,0,0,0,0,0,{"$f":"T40/1000*V40*X40*IF(IFERROR(SEARCH(\"Gas\",$A$14),0)>0,VLOOKUP(\"Gas\",HVACg_Lookup,MATCH($F$12,BuildingSize,0)+1,FALSE),IF(IFERROR(SEARCH(\"Oil\",$A$14),0)>0,VLOOKUP(\"Oil\",HVACg_Lookup,MATCH($F$12,BuildingSize,0)+1,FALSE),IF(IFERROR(SEARCH(\"Propane\",$A$14),0)>0,VLOOKUP(\"Propane\",HVACg_Lookup,MATCH(Worksheet!$F$12,BuildingSize,0)+1,FALSE),0)))","v":0},{"$f":"U40/1000*V40*X40*IF(IFERROR(SEARCH(\"Gas\",$A$14),0)>0,VLOOKUP(\"Gas\",HVACg_Lookup,MATCH($F$12,BuildingSize,0)+1,FALSE),IF(IFERROR(SEARCH(\"Oil\",$A$14),0)>0,VLOOKUP(\"Oil\",HVACg_Lookup,MATCH($F$12,BuildingSize,0)+1,FALSE),IF(IFERROR(SEARCH(\"Propane\",$A$14),0)>0,VLOOKUP(\"Propane\",HVACg_Lookup,MATCH(Worksheet!$F$12,BuildingSize,0)+1,FALSE),0)))","v":0},0,0,"",""]
[null,null,"",null,null,null,null,null,null,null,null,null,0,0,0,0,"",0,0,0,0,0,0,0,0,0,0,0,0,0,0,0,{"$f":"T41/1000*V41*X41*IF(IFERROR(SEARCH(\"Gas\",$A$14),0)>0,VLOOKUP(\"Gas\",HVACg_Lookup,MATCH($F$12,BuildingSize,0)+1,FALSE),IF(IFERROR(SEARCH(\"Oil\",$A$14),0)>0,VLOOKUP(\"Oil\",HVACg_Lookup,MATCH($F$12,BuildingSize,0)+1,FALSE),IF(IFERROR(SEARCH(\"Propane\",$A$14),0)>0,VLOOKUP(\"Propane\",HVACg_Lookup,MATCH(Worksheet!$F$12,BuildingSize,0)+1,FALSE),0)))","v":0},{"$f":"U41/1000*V41*X41*IF(IFERROR(SEARCH(\"Gas\",$A$14),0)>0,VLOOKUP(\"Gas\",HVACg_Lookup,MATCH($F$12,BuildingSize,0)+1,FALSE),IF(IFERROR(SEARCH(\"Oil\",$A$14),0)>0,VLOOKUP(\"Oil\",HVACg_Lookup,MATCH($F$12,BuildingSize,0)+1,FALSE),IF(IFERROR(SEARCH(\"Propane\",$A$14),0)>0,VLOOKUP(\"Propane\",HVACg_Lookup,MATCH(Worksheet!$F$12,BuildingSize,0)+1,FALSE),0)))","v":0},0,0,"",""]
[null,null,"",null,null,null,null,null,null,null,null,null,0,0,0,0,"",0,0,0,0,0,0,0,0,0,0,0,0,0,0,0,{"$f":"T42/1000*V42*X42*IF(IFERROR(SEARCH(\"Gas\",$A$14),0)>0,VLOOKUP(\"Gas\",HVACg_Lookup,MATCH($F$12,BuildingSize,0)+1,FALSE),IF(IFERROR(SEARCH(\"Oil\",$A$14),0)>0,VLOOKUP(\"Oil\",HVACg_Lookup,MATCH($F$12,BuildingSize,0)+1,FALSE),IF(IFERROR(SEARCH(\"Propane\",$A$14),0)>0,VLOOKUP(\"Propane\",HVACg_Lookup,MATCH(Worksheet!$F$12,BuildingSize,0)+1,FALSE),0)))","v":0},{"$f":"U42/1000*V42*X42*IF(IFERROR(SEARCH(\"Gas\",$A$14),0)>0,VLOOKUP(\"Gas\",HVACg_Lookup,MATCH($F$12,BuildingSize,0)+1,FALSE),IF(IFERROR(SEARCH(\"Oil\",$A$14),0)>0,VLOOKUP(\"Oil\",HVACg_Lookup,MATCH($F$12,BuildingSize,0)+1,FALSE),IF(IFERROR(SEARCH(\"Propane\",$A$14),0)>0,VLOOKUP(\"Propane\",HVACg_Lookup,MATCH(Worksheet!$F$12,BuildingSize,0)+1,FALSE),0)))","v":0},0,0,"",""]
[null,null,"",null,null,null,null,null,null,null,null,null,0,0,0,0,"",0,0,0,0,0,0,0,0,0,0,0,0,0,0,0,{"$f":"T43/1000*V43*X43*IF(IFERROR(SEARCH(\"Gas\",$A$14),0)>0,VLOOKUP(\"Gas\",HVACg_Lookup,MATCH($F$12,BuildingSize,0)+1,FALSE),IF(IFERROR(SEARCH(\"Oil\",$A$14),0)>0,VLOOKUP(\"Oil\",HVACg_Lookup,MATCH($F$12,BuildingSize,0)+1,FALSE),IF(IFERROR(SEARCH(\"Propane\",$A$14),0)>0,VLOOKUP(\"Propane\",HVACg_Lookup,MATCH(Worksheet!$F$12,BuildingSize,0)+1,FALSE),0)))","v":0},{"$f":"U43/1000*V43*X43*IF(IFERROR(SEARCH(\"Gas\",$A$14),0)>0,VLOOKUP(\"Gas\",HVACg_Lookup,MATCH($F$12,BuildingSize,0)+1,FALSE),IF(IFERROR(SEARCH(\"Oil\",$A$14),0)>0,VLOOKUP(\"Oil\",HVACg_Lookup,MATCH($F$12,BuildingSize,0)+1,FALSE),IF(IFERROR(SEARCH(\"Propane\",$A$14),0)>0,VLOOKUP(\"Propane\",HVACg_Lookup,MATCH(Worksheet!$F$12,BuildingSize,0)+1,FALSE),0)))","v":0},0,0,"",""]
[null,null,"",null,null,null,null,null,null,null,null,null,0,0,0,0,"",0,0,0,0,0,0,0,0,0,0,0,0,0,0,0,{"$f":"T44/1000*V44*X44*IF(IFERROR(SEARCH(\"Gas\",$A$14),0)>0,VLOOKUP(\"Gas\",HVACg_Lookup,MATCH($F$12,BuildingSize,0)+1,FALSE),IF(IFERROR(SEARCH(\"Oil\",$A$14),0)>0,VLOOKUP(\"Oil\",HVACg_Lookup,MATCH($F$12,BuildingSize,0)+1,FALSE),IF(IFERROR(SEARCH(\"Propane\",$A$14),0)>0,VLOOKUP(\"Propane\",HVACg_Lookup,MATCH(Worksheet!$F$12,BuildingSize,0)+1,FALSE),0)))","v":0},{"$f":"U44/1000*V44*X44*IF(IFERROR(SEARCH(\"Gas\",$A$14),0)>0,VLOOKUP(\"Gas\",HVACg_Lookup,MATCH($F$12,BuildingSize,0)+1,FALSE),IF(IFERROR(SEARCH(\"Oil\",$A$14),0)>0,VLOOKUP(\"Oil\",HVACg_Lookup,MATCH($F$12,BuildingSize,0)+1,FALSE),IF(IFERROR(SEARCH(\"Propane\",$A$14),0)>0,VLOOKUP(\"Propane\",HVACg_Lookup,MATCH(Worksheet!$F$12,BuildingSize,0)+1,FALSE),0)))","v":0},0,0,"",""]
[null,null,"",null,null,null,null,null,null,null,null,null,0,0,0,0,"",0,0,0,0,0,0,0,0,0,0,0,0,0,0,0,{"$f":"T45/1000*V45*X45*IF(IFERROR(SEARCH(\"Gas\",$A$14),0)>0,VLOOKUP(\"Gas\",HVACg_Lookup,MATCH($F$12,BuildingSize,0)+1,FALSE),IF(IFERROR(SEARCH(\"Oil\",$A$14),0)>0,VLOOKUP(\"Oil\",HVACg_Lookup,MATCH($F$12,BuildingSize,0)+1,FALSE),IF(IFERROR(SEARCH(\"Propane\",$A$14),0)>0,VLOOKUP(\"Propane\",HVACg_Lookup,MATCH(Worksheet!$F$12,BuildingSize,0)+1,FALSE),0)))","v":0},{"$f":"U45/1000*V45*X45*IF(IFERROR(SEARCH(\"Gas\",$A$14),0)>0,VLOOKUP(\"Gas\",HVACg_Lookup,MATCH($F$12,BuildingSize,0)+1,FALSE),IF(IFERROR(SEARCH(\"Oil\",$A$14),0)>0,VLOOKUP(\"Oil\",HVACg_Lookup,MATCH($F$12,BuildingSize,0)+1,FALSE),IF(IFERROR(SEARCH(\"Propane\",$A$14),0)>0,VLOOKUP(\"Propane\",HVACg_Lookup,MATCH(Worksheet!$F$12,BuildingSize,0)+1,FALSE),0)))","v":0},0,0,"",""]
[null,null,"",null,null,null,null,null,null,null,null,null,0,0,0,0,"",0,0,0,0,0,0,0,0,0,0,0,0,0,0,0,{"$f":"T46/1000*V46*X46*IF(IFERROR(SEARCH(\"Gas\",$A$14),0)>0,VLOOKUP(\"Gas\",HVACg_Lookup,MATCH($F$12,BuildingSize,0)+1,FALSE),IF(IFERROR(SEARCH(\"Oil\",$A$14),0)>0,VLOOKUP(\"Oil\",HVACg_Lookup,MATCH($F$12,BuildingSize,0)+1,FALSE),IF(IFERROR(SEARCH(\"Propane\",$A$14),0)>0,VLOOKUP(\"Propane\",HVACg_Lookup,MATCH(Worksheet!$F$12,BuildingSize,0)+1,FALSE),0)))","v":0},{"$f":"U46/1000*V46*X46*IF(IFERROR(SEARCH(\"Gas\",$A$14),0)>0,VLOOKUP(\"Gas\",HVACg_Lookup,MATCH($F$12,BuildingSize,0)+1,FALSE),IF(IFERROR(SEARCH(\"Oil\",$A$14),0)>0,VLOOKUP(\"Oil\",HVACg_Lookup,MATCH($F$12,BuildingSize,0)+1,FALSE),IF(IFERROR(SEARCH(\"Propane\",$A$14),0)>0,VLOOKUP(\"Propane\",HVACg_Lookup,MATCH(Worksheet!$F$12,BuildingSize,0)+1,FALSE),0)))","v":0},0,0,"",""]
[null,null,"",null,null,null,null,null,null,null,null,null,0,0,0,0,"",0,0,0,0,0,0,0,0,0,0,0,0,0,0,0,{"$f":"T47/1000*V47*X47*IF(IFERROR(SEARCH(\"Gas\",$A$14),0)>0,VLOOKUP(\"Gas\",HVACg_Lookup,MATCH($F$12,BuildingSize,0)+1,FALSE),IF(IFERROR(SEARCH(\"Oil\",$A$14),0)>0,VLOOKUP(\"Oil\",HVACg_Lookup,MATCH($F$12,BuildingSize,0)+1,FALSE),IF(IFERROR(SEARCH(\"Propane\",$A$14),0)>0,VLOOKUP(\"Propane\",HVACg_Lookup,MATCH(Worksheet!$F$12,BuildingSize,0)+1,FALSE),0)))","v":0},{"$f":"U47/1000*V47*X47*IF(IFERROR(SEARCH(\"Gas\",$A$14),0)>0,VLOOKUP(\"Gas\",HVACg_Lookup,MATCH($F$12,BuildingSize,0)+1,FALSE),IF(IFERROR(SEARCH(\"Oil\",$A$14),0)>0,VLOOKUP(\"Oil\",HVACg_Lookup,MATCH($F$12,BuildingSize,0)+1,FALSE),IF(IFERROR(SEARCH(\"Propane\",$A$14),0)>0,VLOOKUP(\"Propane\",HVACg_Lookup,MATCH(Worksheet!$F$12,BuildingSize,0)+1,FALSE),0)))","v":0},0,0,"",""]
[null,null,"",null,null,null,null,null,null,null,null,null,0,0,0,0,"",0,0,0,0,0,0,0,0,0,0,0,0,0,0,0,{"$f":"T48/1000*V48*X48*IF(IFERROR(SEARCH(\"Gas\",$A$14),0)>0,VLOOKUP(\"Gas\",HVACg_Lookup,MATCH($F$12,BuildingSize,0)+1,FALSE),IF(IFERROR(SEARCH(\"Oil\",$A$14),0)>0,VLOOKUP(\"Oil\",HVACg_Lookup,MATCH($F$12,BuildingSize,0)+1,FALSE),IF(IFERROR(SEARCH(\"Propane\",$A$14),0)>0,VLOOKUP(\"Propane\",HVACg_Lookup,MATCH(Worksheet!$F$12,BuildingSize,0)+1,FALSE),0)))","v":0},{"$f":"U48/1000*V48*X48*IF(IFERROR(SEARCH(\"Gas\",$A$14),0)>0,VLOOKUP(\"Gas\",HVACg_Lookup,MATCH($F$12,BuildingSize,0)+1,FALSE),IF(IFERROR(SEARCH(\"Oil\",$A$14),0)>0,VLOOKUP(\"Oil\",HVACg_Lookup,MATCH($F$12,BuildingSize,0)+1,FALSE),IF(IFERROR(SEARCH(\"Propane\",$A$14),0)>0,VLOOKUP(\"Propane\",HVACg_Lookup,MATCH(Worksheet!$F$12,BuildingSize,0)+1,FALSE),0)))","v":0},0,0,"",""]
[null,null,"",null,null,null,null,null,null,null,null,null,0,0,0,0,"",0,0,0,0,0,0,0,0,0,0,0,0,0,0,0,{"$f":"T49/1000*V49*X49*IF(IFERROR(SEARCH(\"Gas\",$A$14),0)>0,VLOOKUP(\"Gas\",HVACg_Lookup,MATCH($F$12,BuildingSize,0)+1,FALSE),IF(IFERROR(SEARCH(\"Oil\",$A$14),0)>0,VLOOKUP(\"Oil\",HVACg_Lookup,MATCH($F$12,BuildingSize,0)+1,FALSE),IF(IFERROR(SEARCH(\"Propane\",$A$14),0)>0,VLOOKUP(\"Propane\",HVACg_Lookup,MATCH(Worksheet!$F$12,BuildingSize,0)+1,FALSE),0)))","v":0},{"$f":"U49/1000*V49*X49*IF(IFERROR(SEARCH(\"Gas\",$A$14),0)>0,VLOOKUP(\"Gas\",HVACg_Lookup,MATCH($F$12,BuildingSize,0)+1,FALSE),IF(IFERROR(SEARCH(\"Oil\",$A$14),0)>0,VLOOKUP(\"Oil\",HVACg_Lookup,MATCH($F$12,BuildingSize,0)+1,FALSE),IF(IFERROR(SEARCH(\"Propane\",$A$14),0)>0,VLOOKUP(\"Propane\",HVACg_Lookup,MATCH(Worksheet!$F$12,BuildingSize,0)+1,FALSE),0)))","v":0},0,0,"",""]
[null,null,"",null,null,null,null,null,null,null,null,null,0,0,0,0,"",0,0,0,0,0,0,0,0,0,0,0,0,0,0,0,{"$f":"T50/1000*V50*X50*IF(IFERROR(SEARCH(\"Gas\",$A$14),0)>0,VLOOKUP(\"Gas\",HVACg_Lookup,MATCH($F$12,BuildingSize,0)+1,FALSE),IF(IFERROR(SEARCH(\"Oil\",$A$14),0)>0,VLOOKUP(\"Oil\",HVACg_Lookup,MATCH($F$12,BuildingSize,0)+1,FALSE),IF(IFERROR(SEARCH(\"Propane\",$A$14),0)>0,VLOOKUP(\"Propane\",HVACg_Lookup,MATCH(Worksheet!$F$12,BuildingSize,0)+1,FALSE),0)))","v":0},{"$f":"U50/1000*V50*X50*IF(IFERROR(SEARCH(\"Gas\",$A$14),0)>0,VLOOKUP(\"Gas\",HVACg_Lookup,MATCH($F$12,BuildingSize,0)+1,FALSE),IF(IFERROR(SEARCH(\"Oil\",$A$14),0)>0,VLOOKUP(\"Oil\",HVACg_Lookup,MATCH($F$12,BuildingSize,0)+1,FALSE),IF(IFERROR(SEARCH(\"Propane\",$A$14),0)>0,VLOOKUP(\"Propane\",HVACg_Lookup,MATCH(Worksheet!$F$12,BuildingSize,0)+1,FALSE),0)))","v":0},0,0,"",""]
[null,null,"",null,null,null,null,null,null,null,null,null,0,0,0,0,"",0,0,0,0,0,0,0,0,0,0,0,0,0,0,0,{"$f":"T51/1000*V51*X51*IF(IFERROR(SEARCH(\"Gas\",$A$14),0)>0,VLOOKUP(\"Gas\",HVACg_Lookup,MATCH($F$12,BuildingSize,0)+1,FALSE),IF(IFERROR(SEARCH(\"Oil\",$A$14),0)>0,VLOOKUP(\"Oil\",HVACg_Lookup,MATCH($F$12,BuildingSize,0)+1,FALSE),IF(IFERROR(SEARCH(\"Propane\",$A$14),0)>0,VLOOKUP(\"Propane\",HVACg_Lookup,MATCH(Worksheet!$F$12,BuildingSize,0)+1,FALSE),0)))","v":0},{"$f":"U51/1000*V51*X51*IF(IFERROR(SEARCH(\"Gas\",$A$14),0)>0,VLOOKUP(\"Gas\",HVACg_Lookup,MATCH($F$12,BuildingSize,0)+1,FALSE),IF(IFERROR(SEARCH(\"Oil\",$A$14),0)>0,VLOOKUP(\"Oil\",HVACg_Lookup,MATCH($F$12,BuildingSize,0)+1,FALSE),IF(IFERROR(SEARCH(\"Propane\",$A$14),0)>0,VLOOKUP(\"Propane\",HVACg_Lookup,MATCH(Worksheet!$F$12,BuildingSize,0)+1,FALSE),0)))","v":0},0,0,"",""]
[null,null,"",null,null,null,null,null,null,null,null,null,0,0,0,0,"",0,0,0,0,0,0,0,0,0,0,0,0,0,0,0,{"$f":"T52/1000*V52*X52*IF(IFERROR(SEARCH(\"Gas\",$A$14),0)>0,VLOOKUP(\"Gas\",HVACg_Lookup,MATCH($F$12,BuildingSize,0)+1,FALSE),IF(IFERROR(SEARCH(\"Oil\",$A$14),0)>0,VLOOKUP(\"Oil\",HVACg_Lookup,MATCH($F$12,BuildingSize,0)+1,FALSE),IF(IFERROR(SEARCH(\"Propane\",$A$14),0)>0,VLOOKUP(\"Propane\",HVACg_Lookup,MATCH(Worksheet!$F$12,BuildingSize,0)+1,FALSE),0)))","v":0},{"$f":"U52/1000*V52*X52*IF(IFERROR(SEARCH(\"Gas\",$A$14),0)>0,VLOOKUP(\"Gas\",HVACg_Lookup,MATCH($F$12,BuildingSize,0)+1,FALSE),IF(IFERROR(SEARCH(\"Oil\",$A$14),0)>0,VLOOKUP(\"Oil\",HVACg_Lookup,MATCH($F$12,BuildingSize,0)+1,FALSE),IF(IFERROR(SEARCH(\"Propane\",$A$14),0)>0,VLOOKUP(\"Propane\",HVACg_Lookup,MATCH(Worksheet!$F$12,BuildingSize,0)+1,FALSE),0)))","v":0},0,0,"",""]
[null,null,"",null,null,null,null,null,null,null,null,null,0,0,0,0,"",0,0,0,0,0,0,0,0,0,0,0,0,0,0,0,{"$f":"T53/1000*V53*X53*IF(IFERROR(SEARCH(\"Gas\",$A$14),0)>0,VLOOKUP(\"Gas\",HVACg_Lookup,MATCH($F$12,BuildingSize,0)+1,FALSE),IF(IFERROR(SEARCH(\"Oil\",$A$14),0)>0,VLOOKUP(\"Oil\",HVACg_Lookup,MATCH($F$12,BuildingSize,0)+1,FALSE),IF(IFERROR(SEARCH(\"Propane\",$A$14),0)>0,VLOOKUP(\"Propane\",HVACg_Lookup,MATCH(Worksheet!$F$12,BuildingSize,0)+1,FALSE),0)))","v":0},{"$f":"U53/1000*V53*X53*IF(IFERROR(SEARCH(\"Gas\",$A$14),0)>0,VLOOKUP(\"Gas\",HVACg_Lookup,MATCH($F$12,BuildingSize,0)+1,FALSE),IF(IFERROR(SEARCH(\"Oil\",$A$14),0)>0,VLOOKUP(\"Oil\",HVACg_Lookup,MATCH($F$12,BuildingSize,0)+1,FALSE),IF(IFERROR(SEARCH(\"Propane\",$A$14),0)>0,VLOOKUP(\"Propane\",HVACg_Lookup,MATCH(Worksheet!$F$12,BuildingSize,0)+1,FALSE),0)))","v":0},0,0,"",""]
[null,null,"",null,null,null,null,null,null,null,null,null,0,0,0,0,"",0,0,0,0,0,0,0,0,0,0,0,0,0,0,0,{"$f":"T54/1000*V54*X54*IF(IFERROR(SEARCH(\"Gas\",$A$14),0)>0,VLOOKUP(\"Gas\",HVACg_Lookup,MATCH($F$12,BuildingSize,0)+1,FALSE),IF(IFERROR(SEARCH(\"Oil\",$A$14),0)>0,VLOOKUP(\"Oil\",HVACg_Lookup,MATCH($F$12,BuildingSize,0)+1,FALSE),IF(IFERROR(SEARCH(\"Propane\",$A$14),0)>0,VLOOKUP(\"Propane\",HVACg_Lookup,MATCH(Worksheet!$F$12,BuildingSize,0)+1,FALSE),0)))","v":0},{"$f":"U54/1000*V54*X54*IF(IFERROR(SEARCH(\"Gas\",$A$14),0)>0,VLOOKUP(\"Gas\",HVACg_Lookup,MATCH($F$12,BuildingSize,0)+1,FALSE),IF(IFERROR(SEARCH(\"Oil\",$A$14),0)>0,VLOOKUP(\"Oil\",HVACg_Lookup,MATCH($F$12,BuildingSize,0)+1,FALSE),IF(IFERROR(SEARCH(\"Propane\",$A$14),0)>0,VLOOKUP(\"Propane\",HVACg_Lookup,MATCH(Worksheet!$F$12,BuildingSize,0)+1,FALSE),0)))","v":0},0,0,"",""]
[null,null,"",null,null,null,null,null,null,null,null,null,0,0,0,0,"",0,0,0,0,0,0,0,0,0,0,0,0,0,0,0,{"$f":"T55/1000*V55*X55*IF(IFERROR(SEARCH(\"Gas\",$A$14),0)>0,VLOOKUP(\"Gas\",HVACg_Lookup,MATCH($F$12,BuildingSize,0)+1,FALSE),IF(IFERROR(SEARCH(\"Oil\",$A$14),0)>0,VLOOKUP(\"Oil\",HVACg_Lookup,MATCH($F$12,BuildingSize,0)+1,FALSE),IF(IFERROR(SEARCH(\"Propane\",$A$14),0)>0,VLOOKUP(\"Propane\",HVACg_Lookup,MATCH(Worksheet!$F$12,BuildingSize,0)+1,FALSE),0)))","v":0},{"$f":"U55/1000*V55*X55*IF(IFERROR(SEARCH(\"Gas\",$A$14),0)>0,VLOOKUP(\"Gas\",HVACg_Lookup,MATCH($F$12,BuildingSize,0)+1,FALSE),IF(IFERROR(SEARCH(\"Oil\",$A$14),0)>0,VLOOKUP(\"Oil\",HVACg_Lookup,MATCH($F$12,BuildingSize,0)+1,FALSE),IF(IFERROR(SEARCH(\"Propane\",$A$14),0)>0,VLOOKUP(\"Propane\",HVACg_Lookup,MATCH(Worksheet!$F$12,BuildingSize,0)+1,FALSE),0)))","v":0},0,0,"",""]
[null,null,"",null,null,null,null,null,null,null,null,null,0,0,0,0,"",0,0,0,0,0,0,0,0,0,0,0,0,0,0,0,{"$f":"T56/1000*V56*X56*IF(IFERROR(SEARCH(\"Gas\",$A$14),0)>0,VLOOKUP(\"Gas\",HVACg_Lookup,MATCH($F$12,BuildingSize,0)+1,FALSE),IF(IFERROR(SEARCH(\"Oil\",$A$14),0)>0,VLOOKUP(\"Oil\",HVACg_Lookup,MATCH($F$12,BuildingSize,0)+1,FALSE),IF(IFERROR(SEARCH(\"Propane\",$A$14),0)>0,VLOOKUP(\"Propane\",HVACg_Lookup,MATCH(Worksheet!$F$12,BuildingSize,0)+1,FALSE),0)))","v":0},{"$f":"U56/1000*V56*X56*IF(IFERROR(SEARCH(\"Gas\",$A$14),0)>0,VLOOKUP(\"Gas\",HVACg_Lookup,MATCH($F$12,BuildingSize,0)+1,FALSE),IF(IFERROR(SEARCH(\"Oil\",$A$14),0)>0,VLOOKUP(\"Oil\",HVACg_Lookup,MATCH($F$12,BuildingSize,0)+1,FALSE),IF(IFERROR(SEARCH(\"Propane\",$A$14),0)>0,VLOOKUP(\"Propane\",HVACg_Lookup,MATCH(Worksheet!$F$12,BuildingSize,0)+1,FALSE),0)))","v":0},0,0,"",""]
[null,null,"",null,null,null,null,null,null,null,null,null,0,0,0,0,"",0,0,0,0,0,0,0,0,0,0,0,0,0,0,0,{"$f":"T57/1000*V57*X57*IF(IFERROR(SEARCH(\"Gas\",$A$14),0)>0,VLOOKUP(\"Gas\",HVACg_Lookup,MATCH($F$12,BuildingSize,0)+1,FALSE),IF(IFERROR(SEARCH(\"Oil\",$A$14),0)>0,VLOOKUP(\"Oil\",HVACg_Lookup,MATCH($F$12,BuildingSize,0)+1,FALSE),IF(IFERROR(SEARCH(\"Propane\",$A$14),0)>0,VLOOKUP(\"Propane\",HVACg_Lookup,MATCH(Worksheet!$F$12,BuildingSize,0)+1,FALSE),0)))","v":0},{"$f":"U57/1000*V57*X57*IF(IFERROR(SEARCH(\"Gas\",$A$14),0)>0,VLOOKUP(\"Gas\",HVACg_Lookup,MATCH($F$12,BuildingSize,0)+1,FALSE),IF(IFERROR(SEARCH(\"Oil\",$A$14),0)>0,VLOOKUP(\"Oil\",HVACg_Lookup,MATCH($F$12,BuildingSize,0)+1,FALSE),IF(IFERROR(SEARCH(\"Propane\",$A$14),0)>0,VLOOKUP(\"Propane\",HVACg_Lookup,MATCH(Worksheet!$F$12,BuildingSize,0)+1,FALSE),0)))","v":0},0,0,"",""]
[null,null,"",null,null,null,null,null,null,null,null,null,0,0,0,0,"",0,0,0,0,0,0,0,0,0,0,0,0,0,0,0,{"$f":"T58/1000*V58*X58*IF(IFERROR(SEARCH(\"Gas\",$A$14),0)>0,VLOOKUP(\"Gas\",HVACg_Lookup,MATCH($F$12,BuildingSize,0)+1,FALSE),IF(IFERROR(SEARCH(\"Oil\",$A$14),0)>0,VLOOKUP(\"Oil\",HVACg_Lookup,MATCH($F$12,BuildingSize,0)+1,FALSE),IF(IFERROR(SEARCH(\"Propane\",$A$14),0)>0,VLOOKUP(\"Propane\",HVACg_Lookup,MATCH(Worksheet!$F$12,BuildingSize,0)+1,FALSE),0)))","v":0},{"$f":"U58/1000*V58*X58*IF(IFERROR(SEARCH(\"Gas\",$A$14),0)>0,VLOOKUP(\"Gas\",HVACg_Lookup,MATCH($F$12,BuildingSize,0)+1,FALSE),IF(IFERROR(SEARCH(\"Oil\",$A$14),0)>0,VLOOKUP(\"Oil\",HVACg_Lookup,MATCH($F$12,BuildingSize,0)+1,FALSE),IF(IFERROR(SEARCH(\"Propane\",$A$14),0)>0,VLOOKUP(\"Propane\",HVACg_Lookup,MATCH(Worksheet!$F$12,BuildingSize,0)+1,FALSE),0)))","v":0},0,0,"",""]
[null,null,"",null,null,null,null,null,null,null,null,null,0,0,0,0,"",0,0,0,0,0,0,0,0,0,0,0,0,0,0,0,{"$f":"T59/1000*V59*X59*IF(IFERROR(SEARCH(\"Gas\",$A$14),0)>0,VLOOKUP(\"Gas\",HVACg_Lookup,MATCH($F$12,BuildingSize,0)+1,FALSE),IF(IFERROR(SEARCH(\"Oil\",$A$14),0)>0,VLOOKUP(\"Oil\",HVACg_Lookup,MATCH($F$12,BuildingSize,0)+1,FALSE),IF(IFERROR(SEARCH(\"Propane\",$A$14),0)>0,VLOOKUP(\"Propane\",HVACg_Lookup,MATCH(Worksheet!$F$12,BuildingSize,0)+1,FALSE),0)))","v":0},{"$f":"U59/1000*V59*X59*IF(IFERROR(SEARCH(\"Gas\",$A$14),0)>0,VLOOKUP(\"Gas\",HVACg_Lookup,MATCH($F$12,BuildingSize,0)+1,FALSE),IF(IFERROR(SEARCH(\"Oil\",$A$14),0)>0,VLOOKUP(\"Oil\",HVACg_Lookup,MATCH($F$12,BuildingSize,0)+1,FALSE),IF(IFERROR(SEARCH(\"Propane\",$A$14),0)>0,VLOOKUP(\"Propane\",HVACg_Lookup,MATCH(Worksheet!$F$12,BuildingSize,0)+1,FALSE),0)))","v":0},0,0,"",""]
[null,null,"",null,null,null,null,null,null,null,null,null,0,0,0,0,"",0,0,0,0,0,0,0,0,0,0,0,0,0,0,0,{"$f":"T60/1000*V60*X60*IF(IFERROR(SEARCH(\"Gas\",$A$14),0)>0,VLOOKUP(\"Gas\",HVACg_Lookup,MATCH($F$12,BuildingSize,0)+1,FALSE),IF(IFERROR(SEARCH(\"Oil\",$A$14),0)>0,VLOOKUP(\"Oil\",HVACg_Lookup,MATCH($F$12,BuildingSize,0)+1,FALSE),IF(IFERROR(SEARCH(\"Propane\",$A$14),0)>0,VLOOKUP(\"Propane\",HVACg_Lookup,MATCH(Worksheet!$F$12,BuildingSize,0)+1,FALSE),0)))","v":0},{"$f":"U60/1000*V60*X60*IF(IFERROR(SEARCH(\"Gas\",$A$14),0)>0,VLOOKUP(\"Gas\",HVACg_Lookup,MATCH($F$12,BuildingSize,0)+1,FALSE),IF(IFERROR(SEARCH(\"Oil\",$A$14),0)>0,VLOOKUP(\"Oil\",HVACg_Lookup,MATCH($F$12,BuildingSize,0)+1,FALSE),IF(IFERROR(SEARCH(\"Propane\",$A$14),0)>0,VLOOKUP(\"Propane\",HVACg_Lookup,MATCH(Worksheet!$F$12,BuildingSize,0)+1,FALSE),0)))","v":0},0,0,"",""]
[null,null,"",null,null,null,null,null,null,null,null,null,0,0,0,0,"",0,0,0,0,0,0,0,0,0,0,0,0,0,0,0,{"$f":"T61/1000*V61*X61*IF(IFERROR(SEARCH(\"Gas\",$A$14),0)>0,VLOOKUP(\"Gas\",HVACg_Lookup,MATCH($F$12,BuildingSize,0)+1,FALSE),IF(IFERROR(SEARCH(\"Oil\",$A$14),0)>0,VLOOKUP(\"Oil\",HVACg_Lookup,MATCH($F$12,BuildingSize,0)+1,FALSE),IF(IFERROR(SEARCH(\"Propane\",$A$14),0)>0,VLOOKUP(\"Propane\",HVACg_Lookup,MATCH(Worksheet!$F$12,BuildingSize,0)+1,FALSE),0)))","v":0},{"$f":"U61/1000*V61*X61*IF(IFERROR(SEARCH(\"Gas\",$A$14),0)>0,VLOOKUP(\"Gas\",HVACg_Lookup,MATCH($F$12,BuildingSize,0)+1,FALSE),IF(IFERROR(SEARCH(\"Oil\",$A$14),0)>0,VLOOKUP(\"Oil\",HVACg_Lookup,MATCH($F$12,BuildingSize,0)+1,FALSE),IF(IFERROR(SEARCH(\"Propane\",$A$14),0)>0,VLOOKUP(\"Propane\",HVACg_Lookup,MATCH(Worksheet!$F$12,BuildingSize,0)+1,FALSE),0)))","v":0},0,0,"",""]
[null,null,"",null,null,null,null,null,null,null,null,null,0,0,0,0,"",0,0,0,0,0,0,0,0,0,0,0,0,0,0,0,{"$f":"T62/1000*V62*X62*IF(IFERROR(SEARCH(\"Gas\",$A$14),0)>0,VLOOKUP(\"Gas\",HVACg_Lookup,MATCH($F$12,BuildingSize,0)+1,FALSE),IF(IFERROR(SEARCH(\"Oil\",$A$14),0)>0,VLOOKUP(\"Oil\",HVACg_Lookup,MATCH($F$12,BuildingSize,0)+1,FALSE),IF(IFERROR(SEARCH(\"Propane\",$A$14),0)>0,VLOOKUP(\"Propane\",HVACg_Lookup,MATCH(Worksheet!$F$12,BuildingSize,0)+1,FALSE),0)))","v":0},{"$f":"U62/1000*V62*X62*IF(IFERROR(SEARCH(\"Gas\",$A$14),0)>0,VLOOKUP(\"Gas\",HVACg_Lookup,MATCH($F$12,BuildingSize,0)+1,FALSE),IF(IFERROR(SEARCH(\"Oil\",$A$14),0)>0,VLOOKUP(\"Oil\",HVACg_Lookup,MATCH($F$12,BuildingSize,0)+1,FALSE),IF(IFERROR(SEARCH(\"Propane\",$A$14),0)>0,VLOOKUP(\"Propane\",HVACg_Lookup,MATCH(Worksheet!$F$12,BuildingSize,0)+1,FALSE),0)))","v":0},0,0,"",""]
[null,null,"",null,null,null,null,null,null,null,null,null,0,0,0,0,"",0,0,0,0,0,0,0,0,0,0,0,0,0,0,0,{"$f":"T63/1000*V63*X63*IF(IFERROR(SEARCH(\"Gas\",$A$14),0)>0,VLOOKUP(\"Gas\",HVACg_Lookup,MATCH($F$12,BuildingSize,0)+1,FALSE),IF(IFERROR(SEARCH(\"Oil\",$A$14),0)>0,VLOOKUP(\"Oil\",HVACg_Lookup,MATCH($F$12,BuildingSize,0)+1,FALSE),IF(IFERROR(SEARCH(\"Propane\",$A$14),0)>0,VLOOKUP(\"Propane\",HVACg_Lookup,MATCH(Worksheet!$F$12,BuildingSize,0)+1,FALSE),0)))","v":0},{"$f":"U63/1000*V63*X63*IF(IFERROR(SEARCH(\"Gas\",$A$14),0)>0,VLOOKUP(\"Gas\",HVACg_Lookup,MATCH($F$12,BuildingSize,0)+1,FALSE),IF(IFERROR(SEARCH(\"Oil\",$A$14),0)>0,VLOOKUP(\"Oil\",HVACg_Lookup,MATCH($F$12,BuildingSize,0)+1,FALSE),IF(IFERROR(SEARCH(\"Propane\",$A$14),0)>0,VLOOKUP(\"Propane\",HVACg_Lookup,MATCH(Worksheet!$F$12,BuildingSize,0)+1,FALSE),0)))","v":0},0,0,"",""]
[null,null,"",null,null,null,null,null,null,null,null,null,0,0,0,0,"",0,0,0,0,0,0,0,0,0,0,0,0,0,0,0,{"$f":"T64/1000*V64*X64*IF(IFERROR(SEARCH(\"Gas\",$A$14),0)>0,VLOOKUP(\"Gas\",HVACg_Lookup,MATCH($F$12,BuildingSize,0)+1,FALSE),IF(IFERROR(SEARCH(\"Oil\",$A$14),0)>0,VLOOKUP(\"Oil\",HVACg_Lookup,MATCH($F$12,BuildingSize,0)+1,FALSE),IF(IFERROR(SEARCH(\"Propane\",$A$14),0)>0,VLOOKUP(\"Propane\",HVACg_Lookup,MATCH(Worksheet!$F$12,BuildingSize,0)+1,FALSE),0)))","v":0},{"$f":"U64/1000*V64*X64*IF(IFERROR(SEARCH(\"Gas\",$A$14),0)>0,VLOOKUP(\"Gas\",HVACg_Lookup,MATCH($F$12,BuildingSize,0)+1,FALSE),IF(IFERROR(SEARCH(\"Oil\",$A$14),0)>0,VLOOKUP(\"Oil\",HVACg_Lookup,MATCH($F$12,BuildingSize,0)+1,FALSE),IF(IFERROR(SEARCH(\"Propane\",$A$14),0)>0,VLOOKUP(\"Propane\",HVACg_Lookup,MATCH(Worksheet!$F$12,BuildingSize,0)+1,FALSE),0)))","v":0},0,0,"",""]
[null,null,"",null,null,null,null,null,null,null,null,null,0,0,0,0,"",0,0,0,0,0,0,0,0,0,0,0,0,0,0,0,{"$f":"T65/1000*V65*X65*IF(IFERROR(SEARCH(\"Gas\",$A$14),0)>0,VLOOKUP(\"Gas\",HVACg_Lookup,MATCH($F$12,BuildingSize,0)+1,FALSE),IF(IFERROR(SEARCH(\"Oil\",$A$14),0)>0,VLOOKUP(\"Oil\",HVACg_Lookup,MATCH($F$12,BuildingSize,0)+1,FALSE),IF(IFERROR(SEARCH(\"Propane\",$A$14),0)>0,VLOOKUP(\"Propane\",HVACg_Lookup,MATCH(Worksheet!$F$12,BuildingSize,0)+1,FALSE),0)))","v":0},{"$f":"U65/1000*V65*X65*IF(IFERROR(SEARCH(\"Gas\",$A$14),0)>0,VLOOKUP(\"Gas\",HVACg_Lookup,MATCH($F$12,BuildingSize,0)+1,FALSE),IF(IFERROR(SEARCH(\"Oil\",$A$14),0)>0,VLOOKUP(\"Oil\",HVACg_Lookup,MATCH($F$12,BuildingSize,0)+1,FALSE),IF(IFERROR(SEARCH(\"Propane\",$A$14),0)>0,VLOOKUP(\"Propane\",HVACg_Lookup,MATCH(Worksheet!$F$12,BuildingSize,0)+1,FALSE),0)))","v":0},0,0,"",""]
[null,null,"",null,null,null,null,null,null,null,null,null,0,0,0,0,"",0,0,0,0,0,0,0,0,0,0,0,0,0,0,0,{"$f":"T66/1000*V66*X66*IF(IFERROR(SEARCH(\"Gas\",$A$14),0)>0,VLOOKUP(\"Gas\",HVACg_Lookup,MATCH($F$12,BuildingSize,0)+1,FALSE),IF(IFERROR(SEARCH(\"Oil\",$A$14),0)>0,VLOOKUP(\"Oil\",HVACg_Lookup,MATCH($F$12,BuildingSize,0)+1,FALSE),IF(IFERROR(SEARCH(\"Propane\",$A$14),0)>0,VLOOKUP(\"Propane\",HVACg_Lookup,MATCH(Worksheet!$F$12,BuildingSize,0)+1,FALSE),0)))","v":0},{"$f":"U66/1000*V66*X66*IF(IFERROR(SEARCH(\"Gas\",$A$14),0)>0,VLOOKUP(\"Gas\",HVACg_Lookup,MATCH($F$12,BuildingSize,0)+1,FALSE),IF(IFERROR(SEARCH(\"Oil\",$A$14),0)>0,VLOOKUP(\"Oil\",HVACg_Lookup,MATCH($F$12,BuildingSize,0)+1,FALSE),IF(IFERROR(SEARCH(\"Propane\",$A$14),0)>0,VLOOKUP(\"Propane\",HVACg_Lookup,MATCH(Worksheet!$F$12,BuildingSize,0)+1,FALSE),0)))","v":0},0,0,"",""]
[null,null,"",null,null,null,null,null,null,null,null,null,0,0,0,0,"",0,0,0,0,0,0,0,0,0,0,0,0,0,0,0,{"$f":"T67/1000*V67*X67*IF(IFERROR(SEARCH(\"Gas\",$A$14),0)>0,VLOOKUP(\"Gas\",HVACg_Lookup,MATCH($F$12,BuildingSize,0)+1,FALSE),IF(IFERROR(SEARCH(\"Oil\",$A$14),0)>0,VLOOKUP(\"Oil\",HVACg_Lookup,MATCH($F$12,BuildingSize,0)+1,FALSE),IF(IFERROR(SEARCH(\"Propane\",$A$14),0)>0,VLOOKUP(\"Propane\",HVACg_Lookup,MATCH(Worksheet!$F$12,BuildingSize,0)+1,FALSE),0)))","v":0},{"$f":"U67/1000*V67*X67*IF(IFERROR(SEARCH(\"Gas\",$A$14),0)>0,VLOOKUP(\"Gas\",HVACg_Lookup,MATCH($F$12,BuildingSize,0)+1,FALSE),IF(IFERROR(SEARCH(\"Oil\",$A$14),0)>0,VLOOKUP(\"Oil\",HVACg_Lookup,MATCH($F$12,BuildingSize,0)+1,FALSE),IF(IFERROR(SEARCH(\"Propane\",$A$14),0)>0,VLOOKUP(\"Propane\",HVACg_Lookup,MATCH(Worksheet!$F$12,BuildingSize,0)+1,FALSE),0)))","v":0},0,0,"",""]
[null,null,"",null,null,null,null,null,null,null,null,null,0,0,0,0,"",0,0,0,0,0,0,0,0,0,0,0,0,0,0,0,{"$f":"T68/1000*V68*X68*IF(IFERROR(SEARCH(\"Gas\",$A$14),0)>0,VLOOKUP(\"Gas\",HVACg_Lookup,MATCH($F$12,BuildingSize,0)+1,FALSE),IF(IFERROR(SEARCH(\"Oil\",$A$14),0)>0,VLOOKUP(\"Oil\",HVACg_Lookup,MATCH($F$12,BuildingSize,0)+1,FALSE),IF(IFERROR(SEARCH(\"Propane\",$A$14),0)>0,VLOOKUP(\"Propane\",HVACg_Lookup,MATCH(Worksheet!$F$12,BuildingSize,0)+1,FALSE),0)))","v":0},{"$f":"U68/1000*V68*X68*IF(IFERROR(SEARCH(\"Gas\",$A$14),0)>0,VLOOKUP(\"Gas\",HVACg_Lookup,MATCH($F$12,BuildingSize,0)+1,FALSE),IF(IFERROR(SEARCH(\"Oil\",$A$14),0)>0,VLOOKUP(\"Oil\",HVACg_Lookup,MATCH($F$12,BuildingSize,0)+1,FALSE),IF(IFERROR(SEARCH(\"Propane\",$A$14),0)>0,VLOOKUP(\"Propane\",HVACg_Lookup,MATCH(Worksheet!$F$12,BuildingSize,0)+1,FALSE),0)))","v":0},0,0,"",""]
[null,null,"",null,null,null,null,null,null,null,null,null,0,0,0,0,"",0,0,0,0,0,0,0,0,0,0,0,0,0,0,0,{"$f":"T69/1000*V69*X69*IF(IFERROR(SEARCH(\"Gas\",$A$14),0)>0,VLOOKUP(\"Gas\",HVACg_Lookup,MATCH($F$12,BuildingSize,0)+1,FALSE),IF(IFERROR(SEARCH(\"Oil\",$A$14),0)>0,VLOOKUP(\"Oil\",HVACg_Lookup,MATCH($F$12,BuildingSize,0)+1,FALSE),IF(IFERROR(SEARCH(\"Propane\",$A$14),0)>0,VLOOKUP(\"Propane\",HVACg_Lookup,MATCH(Worksheet!$F$12,BuildingSize,0)+1,FALSE),0)))","v":0},{"$f":"U69/1000*V69*X69*IF(IFERROR(SEARCH(\"Gas\",$A$14),0)>0,VLOOKUP(\"Gas\",HVACg_Lookup,MATCH($F$12,BuildingSize,0)+1,FALSE),IF(IFERROR(SEARCH(\"Oil\",$A$14),0)>0,VLOOKUP(\"Oil\",HVACg_Lookup,MATCH($F$12,BuildingSize,0)+1,FALSE),IF(IFERROR(SEARCH(\"Propane\",$A$14),0)>0,VLOOKUP(\"Propane\",HVACg_Lookup,MATCH(Worksheet!$F$12,BuildingSize,0)+1,FALSE),0)))","v":0},0,0,"",""]
[null,null,"",null,null,null,null,null,null,null,null,null,0,0,0,0,"",0,0,0,0,0,0,0,0,0,0,0,0,0,0,0,{"$f":"T70/1000*V70*X70*IF(IFERROR(SEARCH(\"Gas\",$A$14),0)>0,VLOOKUP(\"Gas\",HVACg_Lookup,MATCH($F$12,BuildingSize,0)+1,FALSE),IF(IFERROR(SEARCH(\"Oil\",$A$14),0)>0,VLOOKUP(\"Oil\",HVACg_Lookup,MATCH($F$12,BuildingSize,0)+1,FALSE),IF(IFERROR(SEARCH(\"Propane\",$A$14),0)>0,VLOOKUP(\"Propane\",HVACg_Lookup,MATCH(Worksheet!$F$12,BuildingSize,0)+1,FALSE),0)))","v":0},{"$f":"U70/1000*V70*X70*IF(IFERROR(SEARCH(\"Gas\",$A$14),0)>0,VLOOKUP(\"Gas\",HVACg_Lookup,MATCH($F$12,BuildingSize,0)+1,FALSE),IF(IFERROR(SEARCH(\"Oil\",$A$14),0)>0,VLOOKUP(\"Oil\",HVACg_Lookup,MATCH($F$12,BuildingSize,0)+1,FALSE),IF(IFERROR(SEARCH(\"Propane\",$A$14),0)>0,VLOOKUP(\"Propane\",HVACg_Lookup,MATCH(Worksheet!$F$12,BuildingSize,0)+1,FALSE),0)))","v":0},0,0,"",""]
[null,null,"",null,null,null,null,null,null,null,null,null,0,0,0,0,"",0,0,0,0,0,0,0,0,0,0,0,0,0,0,0,{"$f":"T71/1000*V71*X71*IF(IFERROR(SEARCH(\"Gas\",$A$14),0)>0,VLOOKUP(\"Gas\",HVACg_Lookup,MATCH($F$12,BuildingSize,0)+1,FALSE),IF(IFERROR(SEARCH(\"Oil\",$A$14),0)>0,VLOOKUP(\"Oil\",HVACg_Lookup,MATCH($F$12,BuildingSize,0)+1,FALSE),IF(IFERROR(SEARCH(\"Propane\",$A$14),0)>0,VLOOKUP(\"Propane\",HVACg_Lookup,MATCH(Worksheet!$F$12,BuildingSize,0)+1,FALSE),0)))","v":0},{"$f":"U71/1000*V71*X71*IF(IFERROR(SEARCH(\"Gas\",$A$14),0)>0,VLOOKUP(\"Gas\",HVACg_Lookup,MATCH($F$12,BuildingSize,0)+1,FALSE),IF(IFERROR(SEARCH(\"Oil\",$A$14),0)>0,VLOOKUP(\"Oil\",HVACg_Lookup,MATCH($F$12,BuildingSize,0)+1,FALSE),IF(IFERROR(SEARCH(\"Propane\",$A$14),0)>0,VLOOKUP(\"Propane\",HVACg_Lookup,MATCH(Worksheet!$F$12,BuildingSize,0)+1,FALSE),0)))","v":0},0,0,"",""]
[null,null,"",null,null,null,null,null,null,null,null,null,0,0,0,0,"",0,0,0,0,0,0,0,0,0,0,0,0,0,0,0,{"$f":"T72/1000*V72*X72*IF(IFERROR(SEARCH(\"Gas\",$A$14),0)>0,VLOOKUP(\"Gas\",HVACg_Lookup,MATCH($F$12,BuildingSize,0)+1,FALSE),IF(IFERROR(SEARCH(\"Oil\",$A$14),0)>0,VLOOKUP(\"Oil\",HVACg_Lookup,MATCH($F$12,BuildingSize,0)+1,FALSE),IF(IFERROR(SEARCH(\"Propane\",$A$14),0)>0,VLOOKUP(\"Propane\",HVACg_Lookup,MATCH(Worksheet!$F$12,BuildingSize,0)+1,FALSE),0)))","v":0},{"$f":"U72/1000*V72*X72*IF(IFERROR(SEARCH(\"Gas\",$A$14),0)>0,VLOOKUP(\"Gas\",HVACg_Lookup,MATCH($F$12,BuildingSize,0)+1,FALSE),IF(IFERROR(SEARCH(\"Oil\",$A$14),0)>0,VLOOKUP(\"Oil\",HVACg_Lookup,MATCH($F$12,BuildingSize,0)+1,FALSE),IF(IFERROR(SEARCH(\"Propane\",$A$14),0)>0,VLOOKUP(\"Propane\",HVACg_Lookup,MATCH(Worksheet!$F$12,BuildingSize,0)+1,FALSE),0)))","v":0},0,0,"",""]
[null,null,"",null,null,null,null,null,null,null,null,null,0,0,0,0,"",0,0,0,0,0,0,0,0,0,0,0,0,0,0,0,{"$f":"T73/1000*V73*X73*IF(IFERROR(SEARCH(\"Gas\",$A$14),0)>0,VLOOKUP(\"Gas\",HVACg_Lookup,MATCH($F$12,BuildingSize,0)+1,FALSE),IF(IFERROR(SEARCH(\"Oil\",$A$14),0)>0,VLOOKUP(\"Oil\",HVACg_Lookup,MATCH($F$12,BuildingSize,0)+1,FALSE),IF(IFERROR(SEARCH(\"Propane\",$A$14),0)>0,VLOOKUP(\"Propane\",HVACg_Lookup,MATCH(Worksheet!$F$12,BuildingSize,0)+1,FALSE),0)))","v":0},{"$f":"U73/1000*V73*X73*IF(IFERROR(SEARCH(\"Gas\",$A$14),0)>0,VLOOKUP(\"Gas\",HVACg_Lookup,MATCH($F$12,BuildingSize,0)+1,FALSE),IF(IFERROR(SEARCH(\"Oil\",$A$14),0)>0,VLOOKUP(\"Oil\",HVACg_Lookup,MATCH($F$12,BuildingSize,0)+1,FALSE),IF(IFERROR(SEARCH(\"Propane\",$A$14),0)>0,VLOOKUP(\"Propane\",HVACg_Lookup,MATCH(Worksheet!$F$12,BuildingSize,0)+1,FALSE),0)))","v":0},0,0,"",""]
[null,null,"",null,null,null,null,null,null,null,null,null,0,0,0,0,"",0,0,0,0,0,0,0,0,0,0,0,0,0,0,0,{"$f":"T74/1000*V74*X74*IF(IFERROR(SEARCH(\"Gas\",$A$14),0)>0,VLOOKUP(\"Gas\",HVACg_Lookup,MATCH($F$12,BuildingSize,0)+1,FALSE),IF(IFERROR(SEARCH(\"Oil\",$A$14),0)>0,VLOOKUP(\"Oil\",HVACg_Lookup,MATCH($F$12,BuildingSize,0)+1,FALSE),IF(IFERROR(SEARCH(\"Propane\",$A$14),0)>0,VLOOKUP(\"Propane\",HVACg_Lookup,MATCH(Worksheet!$F$12,BuildingSize,0)+1,FALSE),0)))","v":0},{"$f":"U74/1000*V74*X74*IF(IFERROR(SEARCH(\"Gas\",$A$14),0)>0,VLOOKUP(\"Gas\",HVACg_Lookup,MATCH($F$12,BuildingSize,0)+1,FALSE),IF(IFERROR(SEARCH(\"Oil\",$A$14),0)>0,VLOOKUP(\"Oil\",HVACg_Lookup,MATCH($F$12,BuildingSize,0)+1,FALSE),IF(IFERROR(SEARCH(\"Propane\",$A$14),0)>0,VLOOKUP(\"Propane\",HVACg_Lookup,MATCH(Worksheet!$F$12,BuildingSize,0)+1,FALSE),0)))","v":0},0,0,"",""]
[null,null,"",null,null,null,null,null,null,null,null,null,0,0,0,0,"",0,0,0,0,0,0,0,0,0,0,0,0,0,0,0,{"$f":"T75/1000*V75*X75*IF(IFERROR(SEARCH(\"Gas\",$A$14),0)>0,VLOOKUP(\"Gas\",HVACg_Lookup,MATCH($F$12,BuildingSize,0)+1,FALSE),IF(IFERROR(SEARCH(\"Oil\",$A$14),0)>0,VLOOKUP(\"Oil\",HVACg_Lookup,MATCH($F$12,BuildingSize,0)+1,FALSE),IF(IFERROR(SEARCH(\"Propane\",$A$14),0)>0,VLOOKUP(\"Propane\",HVACg_Lookup,MATCH(Worksheet!$F$12,BuildingSize,0)+1,FALSE),0)))","v":0},{"$f":"U75/1000*V75*X75*IF(IFERROR(SEARCH(\"Gas\",$A$14),0)>0,VLOOKUP(\"Gas\",HVACg_Lookup,MATCH($F$12,BuildingSize,0)+1,FALSE),IF(IFERROR(SEARCH(\"Oil\",$A$14),0)>0,VLOOKUP(\"Oil\",HVACg_Lookup,MATCH($F$12,BuildingSize,0)+1,FALSE),IF(IFERROR(SEARCH(\"Propane\",$A$14),0)>0,VLOOKUP(\"Propane\",HVACg_Lookup,MATCH(Worksheet!$F$12,BuildingSize,0)+1,FALSE),0)))","v":0},0,0,"",""]
[null,null,"",null,null,null,null,null,null,null,null,null,0,0,0,0,"",0,0,0,0,0,0,0,0,0,0,0,0,0,0,0,{"$f":"T76/1000*V76*X76*IF(IFERROR(SEARCH(\"Gas\",$A$14),0)>0,VLOOKUP(\"Gas\",HVACg_Lookup,MATCH($F$12,BuildingSize,0)+1,FALSE),IF(IFERROR(SEARCH(\"Oil\",$A$14),0)>0,VLOOKUP(\"Oil\",HVACg_Lookup,MATCH($F$12,BuildingSize,0)+1,FALSE),IF(IFERROR(SEARCH(\"Propane\",$A$14),0)>0,VLOOKUP(\"Propane\",HVACg_Lookup,MATCH(Worksheet!$F$12,BuildingSize,0)+1,FALSE),0)))","v":0},{"$f":"U76/1000*V76*X76*IF(IFERROR(SEARCH(\"Gas\",$A$14),0)>0,VLOOKUP(\"Gas\",HVACg_Lookup,MATCH($F$12,BuildingSize,0)+1,FALSE),IF(IFERROR(SEARCH(\"Oil\",$A$14),0)>0,VLOOKUP(\"Oil\",HVACg_Lookup,MATCH($F$12,BuildingSize,0)+1,FALSE),IF(IFERROR(SEARCH(\"Propane\",$A$14),0)>0,VLOOKUP(\"Propane\",HVACg_Lookup,MATCH(Worksheet!$F$12,BuildingSize,0)+1,FALSE),0)))","v":0},0,0,"",""]
[null,null,"",null,null,null,null,null,null,null,null,null,0,0,0,0,"",0,0,0,0,0,0,0,0,0,0,0,0,0,0,0,{"$f":"T77/1000*V77*X77*IF(IFERROR(SEARCH(\"Gas\",$A$14),0)>0,VLOOKUP(\"Gas\",HVACg_Lookup,MATCH($F$12,BuildingSize,0)+1,FALSE),IF(IFERROR(SEARCH(\"Oil\",$A$14),0)>0,VLOOKUP(\"Oil\",HVACg_Lookup,MATCH($F$12,BuildingSize,0)+1,FALSE),IF(IFERROR(SEARCH(\"Propane\",$A$14),0)>0,VLOOKUP(\"Propane\",HVACg_Lookup,MATCH(Worksheet!$F$12,BuildingSize,0)+1,FALSE),0)))","v":0},{"$f":"U77/1000*V77*X77*IF(IFERROR(SEARCH(\"Gas\",$A$14),0)>0,VLOOKUP(\"Gas\",HVACg_Lookup,MATCH($F$12,BuildingSize,0)+1,FALSE),IF(IFERROR(SEARCH(\"Oil\",$A$14),0)>0,VLOOKUP(\"Oil\",HVACg_Lookup,MATCH($F$12,BuildingSize,0)+1,FALSE),IF(IFERROR(SEARCH(\"Propane\",$A$14),0)>0,VLOOKUP(\"Propane\",HVACg_Lookup,MATCH(Worksheet!$F$12,BuildingSize,0)+1,FALSE),0)))","v":0},0,0,"",""]
[null,null,"",null,null,null,null,null,null,null,null,null,0,0,0,0,"",0,0,0,0,0,0,0,0,0,0,0,0,0,0,0,{"$f":"T78/1000*V78*X78*IF(IFERROR(SEARCH(\"Gas\",$A$14),0)>0,VLOOKUP(\"Gas\",HVACg_Lookup,MATCH($F$12,BuildingSize,0)+1,FALSE),IF(IFERROR(SEARCH(\"Oil\",$A$14),0)>0,VLOOKUP(\"Oil\",HVACg_Lookup,MATCH($F$12,BuildingSize,0)+1,FALSE),IF(IFERROR(SEARCH(\"Propane\",$A$14),0)>0,VLOOKUP(\"Propane\",HVACg_Lookup,MATCH(Worksheet!$F$12,BuildingSize,0)+1,FALSE),0)))","v":0},{"$f":"U78/1000*V78*X78*IF(IFERROR(SEARCH(\"Gas\",$A$14),0)>0,VLOOKUP(\"Gas\",HVACg_Lookup,MATCH($F$12,BuildingSize,0)+1,FALSE),IF(IFERROR(SEARCH(\"Oil\",$A$14),0)>0,VLOOKUP(\"Oil\",HVACg_Lookup,MATCH($F$12,BuildingSize,0)+1,FALSE),IF(IFERROR(SEARCH(\"Propane\",$A$14),0)>0,VLOOKUP(\"Propane\",HVACg_Lookup,MATCH(Worksheet!$F$12,BuildingSize,0)+1,FALSE),0)))","v":0},0,0,"",""]
[null,null,"",null,null,null,null,null,null,null,null,null,0,0,0,0,"",0,0,0,0,0,0,0,0,0,0,0,0,0,0,0,{"$f":"T79/1000*V79*X79*IF(IFERROR(SEARCH(\"Gas\",$A$14),0)>0,VLOOKUP(\"Gas\",HVACg_Lookup,MATCH($F$12,BuildingSize,0)+1,FALSE),IF(IFERROR(SEARCH(\"Oil\",$A$14),0)>0,VLOOKUP(\"Oil\",HVACg_Lookup,MATCH($F$12,BuildingSize,0)+1,FALSE),IF(IFERROR(SEARCH(\"Propane\",$A$14),0)>0,VLOOKUP(\"Propane\",HVACg_Lookup,MATCH(Worksheet!$F$12,BuildingSize,0)+1,FALSE),0)))","v":0},{"$f":"U79/1000*V79*X79*IF(IFERROR(SEARCH(\"Gas\",$A$14),0)>0,VLOOKUP(\"Gas\",HVACg_Lookup,MATCH($F$12,BuildingSize,0)+1,FALSE),IF(IFERROR(SEARCH(\"Oil\",$A$14),0)>0,VLOOKUP(\"Oil\",HVACg_Lookup,MATCH($F$12,BuildingSize,0)+1,FALSE),IF(IFERROR(SEARCH(\"Propane\",$A$14),0)>0,VLOOKUP(\"Propane\",HVACg_Lookup,MATCH(Worksheet!$F$12,BuildingSize,0)+1,FALSE),0)))","v":0},0,0,"",""]
[null,null,"",null,null,null,null,null,null,null,null,null,0,0,0,0,"",0,0,0,0,0,0,0,0,0,0,0,0,0,0,0,{"$f":"T80/1000*V80*X80*IF(IFERROR(SEARCH(\"Gas\",$A$14),0)>0,VLOOKUP(\"Gas\",HVACg_Lookup,MATCH($F$12,BuildingSize,0)+1,FALSE),IF(IFERROR(SEARCH(\"Oil\",$A$14),0)>0,VLOOKUP(\"Oil\",HVACg_Lookup,MATCH($F$12,BuildingSize,0)+1,FALSE),IF(IFERROR(SEARCH(\"Propane\",$A$14),0)>0,VLOOKUP(\"Propane\",HVACg_Lookup,MATCH(Worksheet!$F$12,BuildingSize,0)+1,FALSE),0)))","v":0},{"$f":"U80/1000*V80*X80*IF(IFERROR(SEARCH(\"Gas\",$A$14),0)>0,VLOOKUP(\"Gas\",HVACg_Lookup,MATCH($F$12,BuildingSize,0)+1,FALSE),IF(IFERROR(SEARCH(\"Oil\",$A$14),0)>0,VLOOKUP(\"Oil\",HVACg_Lookup,MATCH($F$12,BuildingSize,0)+1,FALSE),IF(IFERROR(SEARCH(\"Propane\",$A$14),0)>0,VLOOKUP(\"Propane\",HVACg_Lookup,MATCH(Worksheet!$F$12,BuildingSize,0)+1,FALSE),0)))","v":0},0,0,"",""]
[null,null,"",null,null,null,null,null,null,null,null,null,0,0,0,0,"",0,0,0,0,0,0,0,0,0,0,0,0,0,0,0,{"$f":"T81/1000*V81*X81*IF(IFERROR(SEARCH(\"Gas\",$A$14),0)>0,VLOOKUP(\"Gas\",HVACg_Lookup,MATCH($F$12,BuildingSize,0)+1,FALSE),IF(IFERROR(SEARCH(\"Oil\",$A$14),0)>0,VLOOKUP(\"Oil\",HVACg_Lookup,MATCH($F$12,BuildingSize,0)+1,FALSE),IF(IFERROR(SEARCH(\"Propane\",$A$14),0)>0,VLOOKUP(\"Propane\",HVACg_Lookup,MATCH(Worksheet!$F$12,BuildingSize,0)+1,FALSE),0)))","v":0},{"$f":"U81/1000*V81*X81*IF(IFERROR(SEARCH(\"Gas\",$A$14),0)>0,VLOOKUP(\"Gas\",HVACg_Lookup,MATCH($F$12,BuildingSize,0)+1,FALSE),IF(IFERROR(SEARCH(\"Oil\",$A$14),0)>0,VLOOKUP(\"Oil\",HVACg_Lookup,MATCH($F$12,BuildingSize,0)+1,FALSE),IF(IFERROR(SEARCH(\"Propane\",$A$14),0)>0,VLOOKUP(\"Propane\",HVACg_Lookup,MATCH(Worksheet!$F$12,BuildingSize,0)+1,FALSE),0)))","v":0},0,0,"",""]
[null,null,"",null,null,null,null,null,null,null,null,null,0,0,0,0,"",0,0,0,0,0,0,0,0,0,0,0,0,0,0,0,{"$f":"T82/1000*V82*X82*IF(IFERROR(SEARCH(\"Gas\",$A$14),0)>0,VLOOKUP(\"Gas\",HVACg_Lookup,MATCH($F$12,BuildingSize,0)+1,FALSE),IF(IFERROR(SEARCH(\"Oil\",$A$14),0)>0,VLOOKUP(\"Oil\",HVACg_Lookup,MATCH($F$12,BuildingSize,0)+1,FALSE),IF(IFERROR(SEARCH(\"Propane\",$A$14),0)>0,VLOOKUP(\"Propane\",HVACg_Lookup,MATCH(Worksheet!$F$12,BuildingSize,0)+1,FALSE),0)))","v":0},{"$f":"U82/1000*V82*X82*IF(IFERROR(SEARCH(\"Gas\",$A$14),0)>0,VLOOKUP(\"Gas\",HVACg_Lookup,MATCH($F$12,BuildingSize,0)+1,FALSE),IF(IFERROR(SEARCH(\"Oil\",$A$14),0)>0,VLOOKUP(\"Oil\",HVACg_Lookup,MATCH($F$12,BuildingSize,0)+1,FALSE),IF(IFERROR(SEARCH(\"Propane\",$A$14),0)>0,VLOOKUP(\"Propane\",HVACg_Lookup,MATCH(Worksheet!$F$12,BuildingSize,0)+1,FALSE),0)))","v":0},0,0,"",""]
[null,null,"",null,null,null,null,null,null,null,null,null,0,0,0,0,"",0,0,0,0,0,0,0,0,0,0,0,0,0,0,0,{"$f":"T83/1000*V83*X83*IF(IFERROR(SEARCH(\"Gas\",$A$14),0)>0,VLOOKUP(\"Gas\",HVACg_Lookup,MATCH($F$12,BuildingSize,0)+1,FALSE),IF(IFERROR(SEARCH(\"Oil\",$A$14),0)>0,VLOOKUP(\"Oil\",HVACg_Lookup,MATCH($F$12,BuildingSize,0)+1,FALSE),IF(IFERROR(SEARCH(\"Propane\",$A$14),0)>0,VLOOKUP(\"Propane\",HVACg_Lookup,MATCH(Worksheet!$F$12,BuildingSize,0)+1,FALSE),0)))","v":0},{"$f":"U83/1000*V83*X83*IF(IFERROR(SEARCH(\"Gas\",$A$14),0)>0,VLOOKUP(\"Gas\",HVACg_Lookup,MATCH($F$12,BuildingSize,0)+1,FALSE),IF(IFERROR(SEARCH(\"Oil\",$A$14),0)>0,VLOOKUP(\"Oil\",HVACg_Lookup,MATCH($F$12,BuildingSize,0)+1,FALSE),IF(IFERROR(SEARCH(\"Propane\",$A$14),0)>0,VLOOKUP(\"Propane\",HVACg_Lookup,MATCH(Worksheet!$F$12,BuildingSize,0)+1,FALSE),0)))","v":0},0,0,"",""]
[null,null,"",null,null,null,null,null,null,null,null,null,0,0,{"$f":"IF(AK84=\"\",0,IF(AK84=1,VLOOKUP(A84,MeasureCode_Lookup,3,FALSE),\"DNQ\"))","v":0},{"$f":"IF(AL84=\"\",0,IF(AL84=1,VLOOKUP(A84,MeasureCode_Lookup,3,FALSE),\"DNQ\"))","v":0},{"$f":"IF(A84=\"\",\"\",VLOOKUP(A84,MeasureCode_Lookup,4,FALSE))","v":""},0,0,0,0,{"$f":"IF(A84=\"\",0,VLOOKUP(A84,MeasureCode_Lookup,5,FALSE))","v":0},{"$f":"IF($A$12=\"\",0,VLOOKUP($A$12,BuildingType_Lookup,3,FALSE))","v":0},{"$f":"IF($A$12=\"\",0,VLOOKUP($A$12,BuildingType_Lookup,2,FALSE))","v":0},{"$f":"IF(AND(OR(AK84=\"\",AK84=0)=TRUE,OR(AL84=\"\",AL84=0))=TRUE,0,IF(AL84=\"\",(IF(OR(C84=\"DDC\",C84=\"OHLC\")=TRUE,L84,M84)/1000)*V84*W84*(1+VLOOKUP($A$12,BuildingType_Lookup,4,FALSE)),IF(AL84=0,0,(IF(OR(C84=\"DDC\",C84=\"OHLC\")=TRUE,L84,N84)/1000)*V84*W84*(1+VLOOKUP($A$12,BuildingType_Lookup,4,FALSE)))))","v":0},{"$f":"IF(AND(OR(AK84=\"\",AK84=0)=TRUE,OR(AL84=\"\",AL84=0))=TRUE,0,IF(AL84=\"\",(IF(OR(C84=\"DDC\",C84=\"OHLC\")=TRUE,L84,M84)/1000)*V84*X84*(1+VLOOKUP($A$12,BuildingType_Lookup,MATCH($A$14,HVAC,0)+4,FALSE)),IF(AL84=0,0,(IF(OR(C84=\"DDC\",C84=\"OHLC\")=TRUE,L84,N84)/1000)*V84*X84*(1+VLOOKUP($A$12,BuildingType_Lookup,MATCH($A$14,HVAC,0)+4,FALSE)))))","v":0},{"$f":"IFERROR(IF(OR(C84=\"DDC\",C84=\"OHLC\")=TRUE,F84*H84*Y84,F84*Y84),0)","v":0},{"$f":"IFERROR(IF(OR(C84=\"DDC\",C84=\"OHLC\")=TRUE,G84*I84*Y84,G84*Y84),0)","v":0},{"$f":"IFERROR(IF(OR(C84=\"DDC\",C84=\"OHLC\")=TRUE,F84*H84*Z84,F84*Z84),0)","v":0},{"$f":"IFERROR(IF(OR(C84=\"DDC\",C84=\"OHLC\")=TRUE,G84*I84*Z84,G84*Z84),0)","v":0},0,0,{"$f":"T84/1000*V84*X84*IF(IFERROR(SEARCH(\"Gas\",$A$14),0)>0,VLOOKUP(\"Gas\",HVACg_Lookup,MATCH($F$12,BuildingSize,0)+1,FALSE),IF(IFERROR(SEARCH(\"Oil\",$A$14),0)>0,VLOOKUP(\"Oil\",HVACg_Lookup,MATCH($F$12,BuildingSize,0)+1,FALSE),IF(IFERROR(SEARCH(\"Propane\",$A$14),0)>0,VLOOKUP(\"Propane\",HVACg_Lookup,MATCH(Worksheet!$F$12,BuildingSize,0)+1,FALSE),0)))","v":0},{"$f":"U84/1000*V84*X84*IF(IFERROR(SEARCH(\"Gas\",$A$14),0)>0,VLOOKUP(\"Gas\",HVACg_Lookup,MATCH($F$12,BuildingSize,0)+1,FALSE),IF(IFERROR(SEARCH(\"Oil\",$A$14),0)>0,VLOOKUP(\"Oil\",HVACg_Lookup,MATCH($F$12,BuildingSize,0)+1,FALSE),IF(IFERROR(SEARCH(\"Propane\",$A$14),0)>0,VLOOKUP(\"Propane\",HVACg_Lookup,MATCH(Worksheet!$F$12,BuildingSize,0)+1,FALSE),0)))","v":0},0,0,"",""]
[null,null,{"$f":"IF(A85=\"\",\"\",VLOOKUP(A85,MeasureCode_Lookup,2,FALSE))","v":""},null,null,null,null,null,null,null,null,null,{"$f":"IF(OR(A85=\"\",F85=\"\",H85=\"\",L85=\"\")=TRUE,0,H85*L85)","v":0},{"$f":"IF(OR(A85=\"\",G85=\"\",I85=\"\",L85=\"\")=TRUE,0,I85*L85)","v":0},0,0,"",{"$f":"IF(N(O85)=0,0,F85*O85*IF(Q85=\"per Fixture Controlled\",H85,1))","v":0},{"$f":"IF(N(P85)=0,0,G85*P85*IF(Q85=\"per Fixture Controlled\",I85,1))","v":0},{"$f":"IF(N(O85)=0,0,F85*M85)","v":0},{"$f":"IF(N(P85)=0,0,G85*N85)","v":0},0,0,0,0,0,0,0,0,0,{"$f":"AC85*8","v":0},{"$f":"AD85*8","v":0},{"$f":"T85/1000*V85*X85*IF(IFERROR(SEARCH(\"Gas\",$A$14),0)>0,VLOOKUP(\"Gas\",HVACg_Lookup,MATCH($F$12,BuildingSize,0)+1,FALSE),IF(IFERROR(SEARCH(\"Oil\",$A$14),0)>0,VLOOKUP(\"Oil\",HVACg_Lookup,MATCH($F$12,BuildingSize,0)+1,FALSE),IF(IFERROR(SEARCH(\"Propane\",$A$14),0)>0,VLOOKUP(\"Propane\",HVACg_Lookup,MATCH(Worksheet!$F$12,BuildingSize,0)+1,FALSE),0)))","v":0},{"$f":"U85/1000*V85*X85*IF(IFERROR(SEARCH(\"Gas\",$A$14),0)>0,VLOOKUP(\"Gas\",HVACg_Lookup,MATCH($F$12,BuildingSize,0)+1,FALSE),IF(IFERROR(SEARCH(\"Oil\",$A$14),0)>0,VLOOKUP(\"Oil\",HVACg_Lookup,MATCH($F$12,BuildingSize,0)+1,FALSE),IF(IFERROR(SEARCH(\"Propane\",$A$14),0)>0,VLOOKUP(\"Propane\",HVACg_Lookup,MATCH(Worksheet!$F$12,BuildingSize,0)+1,FALSE),0)))","v":0},{"$f":"AG85*8","v":0},{"$f":"AH85*8","v":0},{"$f":"IF(OR($B$3=\"\",$B$4=\"\",$A$12=\"\",$F$12=\"\",$A$14=\"\",A85=\"\",F85=\"\",H85=\"\",L85=\"\")=TRUE,\"\",IF(C85=\"OSW\",IF(H85>=2,1,0),IF(C85=\"OSR\",IF(AND(H85>=2,M85>=180)=TRUE,1,0),IF(C85=\"OSRH\",IF(AND(H85>=1,M85>=180)=TRUE,1,0),IF(C85=\"OHLC\",IF(M85>=240,1,0),IF(C85=\"DDC\",IF(AND(H85>=4,M85>=240)=TRUE,1,0),0))))))","v":""},{"$f":"IF(OR($B$3=\"\",$B$4=\"\",$A$12=\"\",$F$12=\"\",$A$14=\"\",A85=\"\",F85=\"\",I85=\"\",L85=\"\")=TRUE,\"\",IF(C85=\"OSW\",IF(I85>=2,1,0),IF(C85=\"OSR\",IF(AND(I85>=2,N85>=180)=TRUE,1,0),IF(C85=\"OSRH\",IF(AND(I85>=1,N85>=180)=TRUE,1,0),IF(C85=\"OHLC\",IF(N85>=240,1,0),IF(C85=\"DDC\",IF(AND(I85>=4,N85>=240)=TRUE,1,0),0))))))","v":""}]
[null,null,"",null,null,null,null,null,null,null,null,null,0,0,0,0,"",0,0,0,0,0,0,0,0,0,0,0,0,0,0,0,{"$f":"T86/1000*V86*X86*IF(IFERROR(SEARCH(\"Gas\",$A$14),0)>0,VLOOKUP(\"Gas\",HVACg_Lookup,MATCH($F$12,BuildingSize,0)+1,FALSE),IF(IFERROR(SEARCH(\"Oil\",$A$14),0)>0,VLOOKUP(\"Oil\",HVACg_Lookup,MATCH($F$12,BuildingSize,0)+1,FALSE),IF(IFERROR(SEARCH(\"Propane\",$A$14),0)>0,VLOOKUP(\"Propane\",HVACg_Lookup,MATCH(Worksheet!$F$12,BuildingSize,0)+1,FALSE),0)))","v":0},{"$f":"U86/1000*V86*X86*IF(IFERROR(SEARCH(\"Gas\",$A$14),0)>0,VLOOKUP(\"Gas\",HVACg_Lookup,MATCH($F$12,BuildingSize,0)+1,FALSE),IF(IFERROR(SEARCH(\"Oil\",$A$14),0)>0,VLOOKUP(\"Oil\",HVACg_Lookup,MATCH($F$12,BuildingSize,0)+1,FALSE),IF(IFERROR(SEARCH(\"Propane\",$A$14),0)>0,VLOOKUP(\"Propane\",HVACg_Lookup,MATCH(Worksheet!$F$12,BuildingSize,0)+1,FALSE),0)))","v":0},0,0,"",""]
[null,null,"",null,null,null,null,null,null,null,null,null,0,0,0,0,"",0,0,0,0,0,0,0,0,0,0,0,0,0,0,0,{"$f":"T87/1000*V87*X87*IF(IFERROR(SEARCH(\"Gas\",$A$14),0)>0,VLOOKUP(\"Gas\",HVACg_Lookup,MATCH($F$12,BuildingSize,0)+1,FALSE),IF(IFERROR(SEARCH(\"Oil\",$A$14),0)>0,VLOOKUP(\"Oil\",HVACg_Lookup,MATCH($F$12,BuildingSize,0)+1,FALSE),IF(IFERROR(SEARCH(\"Propane\",$A$14),0)>0,VLOOKUP(\"Propane\",HVACg_Lookup,MATCH(Worksheet!$F$12,BuildingSize,0)+1,FALSE),0)))","v":0},{"$f":"U87/1000*V87*X87*IF(IFERROR(SEARCH(\"Gas\",$A$14),0)>0,VLOOKUP(\"Gas\",HVACg_Lookup,MATCH($F$12,BuildingSize,0)+1,FALSE),IF(IFERROR(SEARCH(\"Oil\",$A$14),0)>0,VLOOKUP(\"Oil\",HVACg_Lookup,MATCH($F$12,BuildingSize,0)+1,FALSE),IF(IFERROR(SEARCH(\"Propane\",$A$14),0)>0,VLOOKUP(\"Propane\",HVACg_Lookup,MATCH(Worksheet!$F$12,BuildingSize,0)+1,FALSE),0)))","v":0},0,0,"",""]
[null,null,"",null,null,null,null,null,null,null,null,null,0,0,0,0,"",0,0,0,0,0,0,0,0,0,0,0,0,0,0,0,{"$f":"T88/1000*V88*X88*IF(IFERROR(SEARCH(\"Gas\",$A$14),0)>0,VLOOKUP(\"Gas\",HVACg_Lookup,MATCH($F$12,BuildingSize,0)+1,FALSE),IF(IFERROR(SEARCH(\"Oil\",$A$14),0)>0,VLOOKUP(\"Oil\",HVACg_Lookup,MATCH($F$12,BuildingSize,0)+1,FALSE),IF(IFERROR(SEARCH(\"Propane\",$A$14),0)>0,VLOOKUP(\"Propane\",HVACg_Lookup,MATCH(Worksheet!$F$12,BuildingSize,0)+1,FALSE),0)))","v":0},{"$f":"U88/1000*V88*X88*IF(IFERROR(SEARCH(\"Gas\",$A$14),0)>0,VLOOKUP(\"Gas\",HVACg_Lookup,MATCH($F$12,BuildingSize,0)+1,FALSE),IF(IFERROR(SEARCH(\"Oil\",$A$14),0)>0,VLOOKUP(\"Oil\",HVACg_Lookup,MATCH($F$12,BuildingSize,0)+1,FALSE),IF(IFERROR(SEARCH(\"Propane\",$A$14),0)>0,VLOOKUP(\"Propane\",HVACg_Lookup,MATCH(Worksheet!$F$12,BuildingSize,0)+1,FALSE),0)))","v":0},0,0,"",""]
[null,null,"",null,null,null,null,null,null,null,null,null,0,0,0,0,"",0,0,0,0,0,0,0,0,0,0,0,0,0,0,0,{"$f":"T89/1000*V89*X89*IF(IFERROR(SEARCH(\"Gas\",$A$14),0)>0,VLOOKUP(\"Gas\",HVACg_Lookup,MATCH($F$12,BuildingSize,0)+1,FALSE),IF(IFERROR(SEARCH(\"Oil\",$A$14),0)>0,VLOOKUP(\"Oil\",HVACg_Lookup,MATCH($F$12,BuildingSize,0)+1,FALSE),IF(IFERROR(SEARCH(\"Propane\",$A$14),0)>0,VLOOKUP(\"Propane\",HVACg_Lookup,MATCH(Worksheet!$F$12,BuildingSize,0)+1,FALSE),0)))","v":0},{"$f":"U89/1000*V89*X89*IF(IFERROR(SEARCH(\"Gas\",$A$14),0)>0,VLOOKUP(\"Gas\",HVACg_Lookup,MATCH($F$12,BuildingSize,0)+1,FALSE),IF(IFERROR(SEARCH(\"Oil\",$A$14),0)>0,VLOOKUP(\"Oil\",HVACg_Lookup,MATCH($F$12,BuildingSize,0)+1,FALSE),IF(IFERROR(SEARCH(\"Propane\",$A$14),0)>0,VLOOKUP(\"Propane\",HVACg_Lookup,MATCH(Worksheet!$F$12,BuildingSize,0)+1,FALSE),0)))","v":0},0,0,"",""]
[null,null,"",null,null,null,null,null,null,null,null,null,0,0,0,0,"",0,0,0,0,0,0,0,0,0,0,0,0,0,0,0,{"$f":"T90/1000*V90*X90*IF(IFERROR(SEARCH(\"Gas\",$A$14),0)>0,VLOOKUP(\"Gas\",HVACg_Lookup,MATCH($F$12,BuildingSize,0)+1,FALSE),IF(IFERROR(SEARCH(\"Oil\",$A$14),0)>0,VLOOKUP(\"Oil\",HVACg_Lookup,MATCH($F$12,BuildingSize,0)+1,FALSE),IF(IFERROR(SEARCH(\"Propane\",$A$14),0)>0,VLOOKUP(\"Propane\",HVACg_Lookup,MATCH(Worksheet!$F$12,BuildingSize,0)+1,FALSE),0)))","v":0},{"$f":"U90/1000*V90*X90*IF(IFERROR(SEARCH(\"Gas\",$A$14),0)>0,VLOOKUP(\"Gas\",HVACg_Lookup,MATCH($F$12,BuildingSize,0)+1,FALSE),IF(IFERROR(SEARCH(\"Oil\",$A$14),0)>0,VLOOKUP(\"Oil\",HVACg_Lookup,MATCH($F$12,BuildingSize,0)+1,FALSE),IF(IFERROR(SEARCH(\"Propane\",$A$14),0)>0,VLOOKUP(\"Propane\",HVACg_Lookup,MATCH(Worksheet!$F$12,BuildingSize,0)+1,FALSE),0)))","v":0},0,0,"",""]
[null,null,"",null,null,null,null,null,null,null,null,null,0,0,0,0,"",0,0,0,0,0,0,0,0,0,0,0,0,0,0,0,{"$f":"T91/1000*V91*X91*IF(IFERROR(SEARCH(\"Gas\",$A$14),0)>0,VLOOKUP(\"Gas\",HVACg_Lookup,MATCH($F$12,BuildingSize,0)+1,FALSE),IF(IFERROR(SEARCH(\"Oil\",$A$14),0)>0,VLOOKUP(\"Oil\",HVACg_Lookup,MATCH($F$12,BuildingSize,0)+1,FALSE),IF(IFERROR(SEARCH(\"Propane\",$A$14),0)>0,VLOOKUP(\"Propane\",HVACg_Lookup,MATCH(Worksheet!$F$12,BuildingSize,0)+1,FALSE),0)))","v":0},{"$f":"U91/1000*V91*X91*IF(IFERROR(SEARCH(\"Gas\",$A$14),0)>0,VLOOKUP(\"Gas\",HVACg_Lookup,MATCH($F$12,BuildingSize,0)+1,FALSE),IF(IFERROR(SEARCH(\"Oil\",$A$14),0)>0,VLOOKUP(\"Oil\",HVACg_Lookup,MATCH($F$12,BuildingSize,0)+1,FALSE),IF(IFERROR(SEARCH(\"Propane\",$A$14),0)>0,VLOOKUP(\"Propane\",HVACg_Lookup,MATCH(Worksheet!$F$12,BuildingSize,0)+1,FALSE),0)))","v":0},0,0,"",""]
[null,null,"",null,null,null,null,null,null,null,null,null,0,0,0,0,"",0,0,0,0,0,0,0,0,0,0,0,0,0,0,0,{"$f":"T92/1000*V92*X92*IF(IFERROR(SEARCH(\"Gas\",$A$14),0)>0,VLOOKUP(\"Gas\",HVACg_Lookup,MATCH($F$12,BuildingSize,0)+1,FALSE),IF(IFERROR(SEARCH(\"Oil\",$A$14),0)>0,VLOOKUP(\"Oil\",HVACg_Lookup,MATCH($F$12,BuildingSize,0)+1,FALSE),IF(IFERROR(SEARCH(\"Propane\",$A$14),0)>0,VLOOKUP(\"Propane\",HVACg_Lookup,MATCH(Worksheet!$F$12,BuildingSize,0)+1,FALSE),0)))","v":0},{"$f":"U92/1000*V92*X92*IF(IFERROR(SEARCH(\"Gas\",$A$14),0)>0,VLOOKUP(\"Gas\",HVACg_Lookup,MATCH($F$12,BuildingSize,0)+1,FALSE),IF(IFERROR(SEARCH(\"Oil\",$A$14),0)>0,VLOOKUP(\"Oil\",HVACg_Lookup,MATCH($F$12,BuildingSize,0)+1,FALSE),IF(IFERROR(SEARCH(\"Propane\",$A$14),0)>0,VLOOKUP(\"Propane\",HVACg_Lookup,MATCH(Worksheet!$F$12,BuildingSize,0)+1,FALSE),0)))","v":0},0,0,"",""]
[null,null,"",null,null,null,null,null,null,null,null,null,0,0,0,0,"",0,0,0,0,0,0,0,0,0,0,0,0,0,0,0,{"$f":"T93/1000*V93*X93*IF(IFERROR(SEARCH(\"Gas\",$A$14),0)>0,VLOOKUP(\"Gas\",HVACg_Lookup,MATCH($F$12,BuildingSize,0)+1,FALSE),IF(IFERROR(SEARCH(\"Oil\",$A$14),0)>0,VLOOKUP(\"Oil\",HVACg_Lookup,MATCH($F$12,BuildingSize,0)+1,FALSE),IF(IFERROR(SEARCH(\"Propane\",$A$14),0)>0,VLOOKUP(\"Propane\",HVACg_Lookup,MATCH(Worksheet!$F$12,BuildingSize,0)+1,FALSE),0)))","v":0},{"$f":"U93/1000*V93*X93*IF(IFERROR(SEARCH(\"Gas\",$A$14),0)>0,VLOOKUP(\"Gas\",HVACg_Lookup,MATCH($F$12,BuildingSize,0)+1,FALSE),IF(IFERROR(SEARCH(\"Oil\",$A$14),0)>0,VLOOKUP(\"Oil\",HVACg_Lookup,MATCH($F$12,BuildingSize,0)+1,FALSE),IF(IFERROR(SEARCH(\"Propane\",$A$14),0)>0,VLOOKUP(\"Propane\",HVACg_Lookup,MATCH(Worksheet!$F$12,BuildingSize,0)+1,FALSE),0)))","v":0},0,0,"",""]
[null,null,"",null,null,null,null,null,null,null,null,null,0,0,0,0,"",0,0,0,0,0,0,0,0,0,0,0,0,0,0,0,{"$f":"T94/1000*V94*X94*IF(IFERROR(SEARCH(\"Gas\",$A$14),0)>0,VLOOKUP(\"Gas\",HVACg_Lookup,MATCH($F$12,BuildingSize,0)+1,FALSE),IF(IFERROR(SEARCH(\"Oil\",$A$14),0)>0,VLOOKUP(\"Oil\",HVACg_Lookup,MATCH($F$12,BuildingSize,0)+1,FALSE),IF(IFERROR(SEARCH(\"Propane\",$A$14),0)>0,VLOOKUP(\"Propane\",HVACg_Lookup,MATCH(Worksheet!$F$12,BuildingSize,0)+1,FALSE),0)))","v":0},{"$f":"U94/1000*V94*X94*IF(IFERROR(SEARCH(\"Gas\",$A$14),0)>0,VLOOKUP(\"Gas\",HVACg_Lookup,MATCH($F$12,BuildingSize,0)+1,FALSE),IF(IFERROR(SEARCH(\"Oil\",$A$14),0)>0,VLOOKUP(\"Oil\",HVACg_Lookup,MATCH($F$12,BuildingSize,0)+1,FALSE),IF(IFERROR(SEARCH(\"Propane\",$A$14),0)>0,VLOOKUP(\"Propane\",HVACg_Lookup,MATCH(Worksheet!$F$12,BuildingSize,0)+1,FALSE),0)))","v":0},0,0,"",""]
[null,null,"",null,null,null,null,null,null,null,null,null,0,0,0,0,"",0,0,0,0,0,0,0,0,0,0,0,0,0,0,0,{"$f":"T95/1000*V95*X95*IF(IFERROR(SEARCH(\"Gas\",$A$14),0)>0,VLOOKUP(\"Gas\",HVACg_Lookup,MATCH($F$12,BuildingSize,0)+1,FALSE),IF(IFERROR(SEARCH(\"Oil\",$A$14),0)>0,VLOOKUP(\"Oil\",HVACg_Lookup,MATCH($F$12,BuildingSize,0)+1,FALSE),IF(IFERROR(SEARCH(\"Propane\",$A$14),0)>0,VLOOKUP(\"Propane\",HVACg_Lookup,MATCH(Worksheet!$F$12,BuildingSize,0)+1,FALSE),0)))","v":0},{"$f":"U95/1000*V95*X95*IF(IFERROR(SEARCH(\"Gas\",$A$14),0)>0,VLOOKUP(\"Gas\",HVACg_Lookup,MATCH($F$12,BuildingSize,0)+1,FALSE),IF(IFERROR(SEARCH(\"Oil\",$A$14),0)>0,VLOOKUP(\"Oil\",HVACg_Lookup,MATCH($F$12,BuildingSize,0)+1,FALSE),IF(IFERROR(SEARCH(\"Propane\",$A$14),0)>0,VLOOKUP(\"Propane\",HVACg_Lookup,MATCH(Worksheet!$F$12,BuildingSize,0)+1,FALSE),0)))","v":0},0,0,"",""]
[null,null,"",null,null,null,null,null,null,null,null,null,0,0,0,0,"",0,0,0,0,0,0,0,0,0,0,0,0,0,0,0,{"$f":"T96/1000*V96*X96*IF(IFERROR(SEARCH(\"Gas\",$A$14),0)>0,VLOOKUP(\"Gas\",HVACg_Lookup,MATCH($F$12,BuildingSize,0)+1,FALSE),IF(IFERROR(SEARCH(\"Oil\",$A$14),0)>0,VLOOKUP(\"Oil\",HVACg_Lookup,MATCH($F$12,BuildingSize,0)+1,FALSE),IF(IFERROR(SEARCH(\"Propane\",$A$14),0)>0,VLOOKUP(\"Propane\",HVACg_Lookup,MATCH(Worksheet!$F$12,BuildingSize,0)+1,FALSE),0)))","v":0},{"$f":"U96/1000*V96*X96*IF(IFERROR(SEARCH(\"Gas\",$A$14),0)>0,VLOOKUP(\"Gas\",HVACg_Lookup,MATCH($F$12,BuildingSize,0)+1,FALSE),IF(IFERROR(SEARCH(\"Oil\",$A$14),0)>0,VLOOKUP(\"Oil\",HVACg_Lookup,MATCH($F$12,BuildingSize,0)+1,FALSE),IF(IFERROR(SEARCH(\"Propane\",$A$14),0)>0,VLOOKUP(\"Propane\",HVACg_Lookup,MATCH(Worksheet!$F$12,BuildingSize,0)+1,FALSE),0)))","v":0},0,0,"",""]
[null,null,"",null,null,null,null,null,null,null,null,null,0,0,0,0,"",0,0,0,0,0,0,0,0,0,0,0,0,0,0,0,{"$f":"T97/1000*V97*X97*IF(IFERROR(SEARCH(\"Gas\",$A$14),0)>0,VLOOKUP(\"Gas\",HVACg_Lookup,MATCH($F$12,BuildingSize,0)+1,FALSE),IF(IFERROR(SEARCH(\"Oil\",$A$14),0)>0,VLOOKUP(\"Oil\",HVACg_Lookup,MATCH($F$12,BuildingSize,0)+1,FALSE),IF(IFERROR(SEARCH(\"Propane\",$A$14),0)>0,VLOOKUP(\"Propane\",HVACg_Lookup,MATCH(Worksheet!$F$12,BuildingSize,0)+1,FALSE),0)))","v":0},{"$f":"U97/1000*V97*X97*IF(IFERROR(SEARCH(\"Gas\",$A$14),0)>0,VLOOKUP(\"Gas\",HVACg_Lookup,MATCH($F$12,BuildingSize,0)+1,FALSE),IF(IFERROR(SEARCH(\"Oil\",$A$14),0)>0,VLOOKUP(\"Oil\",HVACg_Lookup,MATCH($F$12,BuildingSize,0)+1,FALSE),IF(IFERROR(SEARCH(\"Propane\",$A$14),0)>0,VLOOKUP(\"Propane\",HVACg_Lookup,MATCH(Worksheet!$F$12,BuildingSize,0)+1,FALSE),0)))","v":0},0,0,"",""]
[null,null,"",null,null,null,null,null,null,null,null,null,0,0,0,0,"",0,0,0,0,0,0,0,0,0,0,0,0,0,0,0,{"$f":"T98/1000*V98*X98*IF(IFERROR(SEARCH(\"Gas\",$A$14),0)>0,VLOOKUP(\"Gas\",HVACg_Lookup,MATCH($F$12,BuildingSize,0)+1,FALSE),IF(IFERROR(SEARCH(\"Oil\",$A$14),0)>0,VLOOKUP(\"Oil\",HVACg_Lookup,MATCH($F$12,BuildingSize,0)+1,FALSE),IF(IFERROR(SEARCH(\"Propane\",$A$14),0)>0,VLOOKUP(\"Propane\",HVACg_Lookup,MATCH(Worksheet!$F$12,BuildingSize,0)+1,FALSE),0)))","v":0},{"$f":"U98/1000*V98*X98*IF(IFERROR(SEARCH(\"Gas\",$A$14),0)>0,VLOOKUP(\"Gas\",HVACg_Lookup,MATCH($F$12,BuildingSize,0)+1,FALSE),IF(IFERROR(SEARCH(\"Oil\",$A$14),0)>0,VLOOKUP(\"Oil\",HVACg_Lookup,MATCH($F$12,BuildingSize,0)+1,FALSE),IF(IFERROR(SEARCH(\"Propane\",$A$14),0)>0,VLOOKUP(\"Propane\",HVACg_Lookup,MATCH(Worksheet!$F$12,BuildingSize,0)+1,FALSE),0)))","v":0},0,0,"",""]
[null,null,"",null,null,null,null,null,null,null,null,null,0,0,0,0,"",0,0,0,0,0,0,0,0,0,0,0,0,0,0,0,{"$f":"T99/1000*V99*X99*IF(IFERROR(SEARCH(\"Gas\",$A$14),0)>0,VLOOKUP(\"Gas\",HVACg_Lookup,MATCH($F$12,BuildingSize,0)+1,FALSE),IF(IFERROR(SEARCH(\"Oil\",$A$14),0)>0,VLOOKUP(\"Oil\",HVACg_Lookup,MATCH($F$12,BuildingSize,0)+1,FALSE),IF(IFERROR(SEARCH(\"Propane\",$A$14),0)>0,VLOOKUP(\"Propane\",HVACg_Lookup,MATCH(Worksheet!$F$12,BuildingSize,0)+1,FALSE),0)))","v":0},{"$f":"U99/1000*V99*X99*IF(IFERROR(SEARCH(\"Gas\",$A$14),0)>0,VLOOKUP(\"Gas\",HVACg_Lookup,MATCH($F$12,BuildingSize,0)+1,FALSE),IF(IFERROR(SEARCH(\"Oil\",$A$14),0)>0,VLOOKUP(\"Oil\",HVACg_Lookup,MATCH($F$12,BuildingSize,0)+1,FALSE),IF(IFERROR(SEARCH(\"Propane\",$A$14),0)>0,VLOOKUP(\"Propane\",HVACg_Lookup,MATCH(Worksheet!$F$12,BuildingSize,0)+1,FALSE),0)))","v":0},0,0,"",""]
[null,null,"",null,null,null,null,null,null,null,null,null,0,0,0,0,"",0,0,0,0,0,0,0,0,0,0,0,0,0,0,0,{"$f":"T100/1000*V100*X100*IF(IFERROR(SEARCH(\"Gas\",$A$14),0)>0,VLOOKUP(\"Gas\",HVACg_Lookup,MATCH($F$12,BuildingSize,0)+1,FALSE),IF(IFERROR(SEARCH(\"Oil\",$A$14),0)>0,VLOOKUP(\"Oil\",HVACg_Lookup,MATCH($F$12,BuildingSize,0)+1,FALSE),IF(IFERROR(SEARCH(\"Propane\",$A$14),0)>0,VLOOKUP(\"Propane\",HVACg_Lookup,MATCH(Worksheet!$F$12,BuildingSize,0)+1,FALSE),0)))","v":0},{"$f":"U100/1000*V100*X100*IF(IFERROR(SEARCH(\"Gas\",$A$14),0)>0,VLOOKUP(\"Gas\",HVACg_Lookup,MATCH($F$12,BuildingSize,0)+1,FALSE),IF(IFERROR(SEARCH(\"Oil\",$A$14),0)>0,VLOOKUP(\"Oil\",HVACg_Lookup,MATCH($F$12,BuildingSize,0)+1,FALSE),IF(IFERROR(SEARCH(\"Propane\",$A$14),0)>0,VLOOKUP(\"Propane\",HVACg_Lookup,MATCH(Worksheet!$F$12,BuildingSize,0)+1,FALSE),0)))","v":0},0,0,"",""]
[null,null,"",null,null,null,null,null,null,null,null,null,0,0,0,0,"",0,0,0,0,0,0,0,0,0,0,0,0,0,0,0,{"$f":"T101/1000*V101*X101*IF(IFERROR(SEARCH(\"Gas\",$A$14),0)>0,VLOOKUP(\"Gas\",HVACg_Lookup,MATCH($F$12,BuildingSize,0)+1,FALSE),IF(IFERROR(SEARCH(\"Oil\",$A$14),0)>0,VLOOKUP(\"Oil\",HVACg_Lookup,MATCH($F$12,BuildingSize,0)+1,FALSE),IF(IFERROR(SEARCH(\"Propane\",$A$14),0)>0,VLOOKUP(\"Propane\",HVACg_Lookup,MATCH(Worksheet!$F$12,BuildingSize,0)+1,FALSE),0)))","v":0},{"$f":"U101/1000*V101*X101*IF(IFERROR(SEARCH(\"Gas\",$A$14),0)>0,VLOOKUP(\"Gas\",HVACg_Lookup,MATCH($F$12,BuildingSize,0)+1,FALSE),IF(IFERROR(SEARCH(\"Oil\",$A$14),0)>0,VLOOKUP(\"Oil\",HVACg_Lookup,MATCH($F$12,BuildingSize,0)+1,FALSE),IF(IFERROR(SEARCH(\"Propane\",$A$14),0)>0,VLOOKUP(\"Propane\",HVACg_Lookup,MATCH(Worksheet!$F$12,BuildingSize,0)+1,FALSE),0)))","v":0},0,0,"",""]
[null,null,"",null,null,null,null,null,null,null,null,null,0,0,0,0,"",0,0,0,0,0,0,0,0,0,0,0,0,0,0,0,{"$f":"T102/1000*V102*X102*IF(IFERROR(SEARCH(\"Gas\",$A$14),0)>0,VLOOKUP(\"Gas\",HVACg_Lookup,MATCH($F$12,BuildingSize,0)+1,FALSE),IF(IFERROR(SEARCH(\"Oil\",$A$14),0)>0,VLOOKUP(\"Oil\",HVACg_Lookup,MATCH($F$12,BuildingSize,0)+1,FALSE),IF(IFERROR(SEARCH(\"Propane\",$A$14),0)>0,VLOOKUP(\"Propane\",HVACg_Lookup,MATCH(Worksheet!$F$12,BuildingSize,0)+1,FALSE),0)))","v":0},{"$f":"U102/1000*V102*X102*IF(IFERROR(SEARCH(\"Gas\",$A$14),0)>0,VLOOKUP(\"Gas\",HVACg_Lookup,MATCH($F$12,BuildingSize,0)+1,FALSE),IF(IFERROR(SEARCH(\"Oil\",$A$14),0)>0,VLOOKUP(\"Oil\",HVACg_Lookup,MATCH($F$12,BuildingSize,0)+1,FALSE),IF(IFERROR(SEARCH(\"Propane\",$A$14),0)>0,VLOOKUP(\"Propane\",HVACg_Lookup,MATCH(Worksheet!$F$12,BuildingSize,0)+1,FALSE),0)))","v":0},0,0,"",""]
[null,null,"",null,null,null,null,null,null,null,null,null,0,0,0,0,"",0,0,0,0,0,0,0,0,0,0,0,0,0,0,0,{"$f":"T103/1000*V103*X103*IF(IFERROR(SEARCH(\"Gas\",$A$14),0)>0,VLOOKUP(\"Gas\",HVACg_Lookup,MATCH($F$12,BuildingSize,0)+1,FALSE),IF(IFERROR(SEARCH(\"Oil\",$A$14),0)>0,VLOOKUP(\"Oil\",HVACg_Lookup,MATCH($F$12,BuildingSize,0)+1,FALSE),IF(IFERROR(SEARCH(\"Propane\",$A$14),0)>0,VLOOKUP(\"Propane\",HVACg_Lookup,MATCH(Worksheet!$F$12,BuildingSize,0)+1,FALSE),0)))","v":0},{"$f":"U103/1000*V103*X103*IF(IFERROR(SEARCH(\"Gas\",$A$14),0)>0,VLOOKUP(\"Gas\",HVACg_Lookup,MATCH($F$12,BuildingSize,0)+1,FALSE),IF(IFERROR(SEARCH(\"Oil\",$A$14),0)>0,VLOOKUP(\"Oil\",HVACg_Lookup,MATCH($F$12,BuildingSize,0)+1,FALSE),IF(IFERROR(SEARCH(\"Propane\",$A$14),0)>0,VLOOKUP(\"Propane\",HVACg_Lookup,MATCH(Worksheet!$F$12,BuildingSize,0)+1,FALSE),0)))","v":0},0,0,"",""]
[null,null,"",null,null,null,null,null,null,null,null,null,0,0,0,0,"",0,0,0,0,0,0,0,0,0,0,0,0,0,0,0,{"$f":"T104/1000*V104*X104*IF(IFERROR(SEARCH(\"Gas\",$A$14),0)>0,VLOOKUP(\"Gas\",HVACg_Lookup,MATCH($F$12,BuildingSize,0)+1,FALSE),IF(IFERROR(SEARCH(\"Oil\",$A$14),0)>0,VLOOKUP(\"Oil\",HVACg_Lookup,MATCH($F$12,BuildingSize,0)+1,FALSE),IF(IFERROR(SEARCH(\"Propane\",$A$14),0)>0,VLOOKUP(\"Propane\",HVACg_Lookup,MATCH(Worksheet!$F$12,BuildingSize,0)+1,FALSE),0)))","v":0},{"$f":"U104/1000*V104*X104*IF(IFERROR(SEARCH(\"Gas\",$A$14),0)>0,VLOOKUP(\"Gas\",HVACg_Lookup,MATCH($F$12,BuildingSize,0)+1,FALSE),IF(IFERROR(SEARCH(\"Oil\",$A$14),0)>0,VLOOKUP(\"Oil\",HVACg_Lookup,MATCH($F$12,BuildingSize,0)+1,FALSE),IF(IFERROR(SEARCH(\"Propane\",$A$14),0)>0,VLOOKUP(\"Propane\",HVACg_Lookup,MATCH(Worksheet!$F$12,BuildingSize,0)+1,FALSE),0)))","v":0},0,0,"",""]
[null,null,"",null,null,null,null,null,null,null,null,null,0,0,0,0,"",0,0,0,0,0,0,0,0,0,0,0,0,0,0,0,{"$f":"T105/1000*V105*X105*IF(IFERROR(SEARCH(\"Gas\",$A$14),0)>0,VLOOKUP(\"Gas\",HVACg_Lookup,MATCH($F$12,BuildingSize,0)+1,FALSE),IF(IFERROR(SEARCH(\"Oil\",$A$14),0)>0,VLOOKUP(\"Oil\",HVACg_Lookup,MATCH($F$12,BuildingSize,0)+1,FALSE),IF(IFERROR(SEARCH(\"Propane\",$A$14),0)>0,VLOOKUP(\"Propane\",HVACg_Lookup,MATCH(Worksheet!$F$12,BuildingSize,0)+1,FALSE),0)))","v":0},{"$f":"U105/1000*V105*X105*IF(IFERROR(SEARCH(\"Gas\",$A$14),0)>0,VLOOKUP(\"Gas\",HVACg_Lookup,MATCH($F$12,BuildingSize,0)+1,FALSE),IF(IFERROR(SEARCH(\"Oil\",$A$14),0)>0,VLOOKUP(\"Oil\",HVACg_Lookup,MATCH($F$12,BuildingSize,0)+1,FALSE),IF(IFERROR(SEARCH(\"Propane\",$A$14),0)>0,VLOOKUP(\"Propane\",HVACg_Lookup,MATCH(Worksheet!$F$12,BuildingSize,0)+1,FALSE),0)))","v":0},0,0,"",""]
[null,null,"",null,null,null,null,null,null,null,null,null,0,0,0,0,"",0,0,0,0,0,0,0,0,0,0,0,0,0,0,0,{"$f":"T106/1000*V106*X106*IF(IFERROR(SEARCH(\"Gas\",$A$14),0)>0,VLOOKUP(\"Gas\",HVACg_Lookup,MATCH($F$12,BuildingSize,0)+1,FALSE),IF(IFERROR(SEARCH(\"Oil\",$A$14),0)>0,VLOOKUP(\"Oil\",HVACg_Lookup,MATCH($F$12,BuildingSize,0)+1,FALSE),IF(IFERROR(SEARCH(\"Propane\",$A$14),0)>0,VLOOKUP(\"Propane\",HVACg_Lookup,MATCH(Worksheet!$F$12,BuildingSize,0)+1,FALSE),0)))","v":0},{"$f":"U106/1000*V106*X106*IF(IFERROR(SEARCH(\"Gas\",$A$14),0)>0,VLOOKUP(\"Gas\",HVACg_Lookup,MATCH($F$12,BuildingSize,0)+1,FALSE),IF(IFERROR(SEARCH(\"Oil\",$A$14),0)>0,VLOOKUP(\"Oil\",HVACg_Lookup,MATCH($F$12,BuildingSize,0)+1,FALSE),IF(IFERROR(SEARCH(\"Propane\",$A$14),0)>0,VLOOKUP(\"Propane\",HVACg_Lookup,MATCH(Worksheet!$F$12,BuildingSize,0)+1,FALSE),0)))","v":0},0,0,"",""]
[null,null,"",null,null,null,null,null,null,null,null,null,0,0,0,0,"",0,0,0,0,0,0,0,0,0,0,0,0,0,0,0,{"$f":"T107/1000*V107*X107*IF(IFERROR(SEARCH(\"Gas\",$A$14),0)>0,VLOOKUP(\"Gas\",HVACg_Lookup,MATCH($F$12,BuildingSize,0)+1,FALSE),IF(IFERROR(SEARCH(\"Oil\",$A$14),0)>0,VLOOKUP(\"Oil\",HVACg_Lookup,MATCH($F$12,BuildingSize,0)+1,FALSE),IF(IFERROR(SEARCH(\"Propane\",$A$14),0)>0,VLOOKUP(\"Propane\",HVACg_Lookup,MATCH(Worksheet!$F$12,BuildingSize,0)+1,FALSE),0)))","v":0},{"$f":"U107/1000*V107*X107*IF(IFERROR(SEARCH(\"Gas\",$A$14),0)>0,VLOOKUP(\"Gas\",HVACg_Lookup,MATCH($F$12,BuildingSize,0)+1,FALSE),IF(IFERROR(SEARCH(\"Oil\",$A$14),0)>0,VLOOKUP(\"Oil\",HVACg_Lookup,MATCH($F$12,BuildingSize,0)+1,FALSE),IF(IFERROR(SEARCH(\"Propane\",$A$14),0)>0,VLOOKUP(\"Propane\",HVACg_Lookup,MATCH(Worksheet!$F$12,BuildingSize,0)+1,FALSE),0)))","v":0},0,0,"",""]
[null,null,"",null,null,null,null,null,null,null,null,null,0,0,0,0,"",0,0,0,0,0,0,0,0,0,0,0,0,0,0,0,{"$f":"T108/1000*V108*X108*IF(IFERROR(SEARCH(\"Gas\",$A$14),0)>0,VLOOKUP(\"Gas\",HVACg_Lookup,MATCH($F$12,BuildingSize,0)+1,FALSE),IF(IFERROR(SEARCH(\"Oil\",$A$14),0)>0,VLOOKUP(\"Oil\",HVACg_Lookup,MATCH($F$12,BuildingSize,0)+1,FALSE),IF(IFERROR(SEARCH(\"Propane\",$A$14),0)>0,VLOOKUP(\"Propane\",HVACg_Lookup,MATCH(Worksheet!$F$12,BuildingSize,0)+1,FALSE),0)))","v":0},{"$f":"U108/1000*V108*X108*IF(IFERROR(SEARCH(\"Gas\",$A$14),0)>0,VLOOKUP(\"Gas\",HVACg_Lookup,MATCH($F$12,BuildingSize,0)+1,FALSE),IF(IFERROR(SEARCH(\"Oil\",$A$14),0)>0,VLOOKUP(\"Oil\",HVACg_Lookup,MATCH($F$12,BuildingSize,0)+1,FALSE),IF(IFERROR(SEARCH(\"Propane\",$A$14),0)>0,VLOOKUP(\"Propane\",HVACg_Lookup,MATCH(Worksheet!$F$12,BuildingSize,0)+1,FALSE),0)))","v":0},0,0,"",""]
[null,null,"",null,null,null,null,null,null,null,null,null,0,0,0,0,"",0,0,0,0,0,0,0,0,0,0,0,0,0,0,0,{"$f":"T109/1000*V109*X109*IF(IFERROR(SEARCH(\"Gas\",$A$14),0)>0,VLOOKUP(\"Gas\",HVACg_Lookup,MATCH($F$12,BuildingSize,0)+1,FALSE),IF(IFERROR(SEARCH(\"Oil\",$A$14),0)>0,VLOOKUP(\"Oil\",HVACg_Lookup,MATCH($F$12,BuildingSize,0)+1,FALSE),IF(IFERROR(SEARCH(\"Propane\",$A$14),0)>0,VLOOKUP(\"Propane\",HVACg_Lookup,MATCH(Worksheet!$F$12,BuildingSize,0)+1,FALSE),0)))","v":0},{"$f":"U109/1000*V109*X109*IF(IFERROR(SEARCH(\"Gas\",$A$14),0)>0,VLOOKUP(\"Gas\",HVACg_Lookup,MATCH($F$12,BuildingSize,0)+1,FALSE),IF(IFERROR(SEARCH(\"Oil\",$A$14),0)>0,VLOOKUP(\"Oil\",HVACg_Lookup,MATCH($F$12,BuildingSize,0)+1,FALSE),IF(IFERROR(SEARCH(\"Propane\",$A$14),0)>0,VLOOKUP(\"Propane\",HVACg_Lookup,MATCH(Worksheet!$F$12,BuildingSize,0)+1,FALSE),0)))","v":0},0,0,"",""]
[null,null,"",null,null,null,null,null,null,null,null,null,0,0,0,0,"",0,0,0,0,0,0,0,0,0,0,0,0,0,0,0,{"$f":"T110/1000*V110*X110*IF(IFERROR(SEARCH(\"Gas\",$A$14),0)>0,VLOOKUP(\"Gas\",HVACg_Lookup,MATCH($F$12,BuildingSize,0)+1,FALSE),IF(IFERROR(SEARCH(\"Oil\",$A$14),0)>0,VLOOKUP(\"Oil\",HVACg_Lookup,MATCH($F$12,BuildingSize,0)+1,FALSE),IF(IFERROR(SEARCH(\"Propane\",$A$14),0)>0,VLOOKUP(\"Propane\",HVACg_Lookup,MATCH(Worksheet!$F$12,BuildingSize,0)+1,FALSE),0)))","v":0},{"$f":"U110/1000*V110*X110*IF(IFERROR(SEARCH(\"Gas\",$A$14),0)>0,VLOOKUP(\"Gas\",HVACg_Lookup,MATCH($F$12,BuildingSize,0)+1,FALSE),IF(IFERROR(SEARCH(\"Oil\",$A$14),0)>0,VLOOKUP(\"Oil\",HVACg_Lookup,MATCH($F$12,BuildingSize,0)+1,FALSE),IF(IFERROR(SEARCH(\"Propane\",$A$14),0)>0,VLOOKUP(\"Propane\",HVACg_Lookup,MATCH(Worksheet!$F$12,BuildingSize,0)+1,FALSE),0)))","v":0},0,0,"",""]
[null,null,"",null,null,null,null,null,null,null,null,null,0,0,0,0,"",0,0,0,0,0,0,0,0,0,0,0,0,0,0,0,{"$f":"T111/1000*V111*X111*IF(IFERROR(SEARCH(\"Gas\",$A$14),0)>0,VLOOKUP(\"Gas\",HVACg_Lookup,MATCH($F$12,BuildingSize,0)+1,FALSE),IF(IFERROR(SEARCH(\"Oil\",$A$14),0)>0,VLOOKUP(\"Oil\",HVACg_Lookup,MATCH($F$12,BuildingSize,0)+1,FALSE),IF(IFERROR(SEARCH(\"Propane\",$A$14),0)>0,VLOOKUP(\"Propane\",HVACg_Lookup,MATCH(Worksheet!$F$12,BuildingSize,0)+1,FALSE),0)))","v":0},{"$f":"U111/1000*V111*X111*IF(IFERROR(SEARCH(\"Gas\",$A$14),0)>0,VLOOKUP(\"Gas\",HVACg_Lookup,MATCH($F$12,BuildingSize,0)+1,FALSE),IF(IFERROR(SEARCH(\"Oil\",$A$14),0)>0,VLOOKUP(\"Oil\",HVACg_Lookup,MATCH($F$12,BuildingSize,0)+1,FALSE),IF(IFERROR(SEARCH(\"Propane\",$A$14),0)>0,VLOOKUP(\"Propane\",HVACg_Lookup,MATCH(Worksheet!$F$12,BuildingSize,0)+1,FALSE),0)))","v":0},0,0,"",""]
[null,null,"",null,null,null,null,null,null,null,null,null,0,0,0,0,"",0,0,0,0,0,0,0,0,0,0,0,0,0,0,0,{"$f":"T112/1000*V112*X112*IF(IFERROR(SEARCH(\"Gas\",$A$14),0)>0,VLOOKUP(\"Gas\",HVACg_Lookup,MATCH($F$12,BuildingSize,0)+1,FALSE),IF(IFERROR(SEARCH(\"Oil\",$A$14),0)>0,VLOOKUP(\"Oil\",HVACg_Lookup,MATCH($F$12,BuildingSize,0)+1,FALSE),IF(IFERROR(SEARCH(\"Propane\",$A$14),0)>0,VLOOKUP(\"Propane\",HVACg_Lookup,MATCH(Worksheet!$F$12,BuildingSize,0)+1,FALSE),0)))","v":0},{"$f":"U112/1000*V112*X112*IF(IFERROR(SEARCH(\"Gas\",$A$14),0)>0,VLOOKUP(\"Gas\",HVACg_Lookup,MATCH($F$12,BuildingSize,0)+1,FALSE),IF(IFERROR(SEARCH(\"Oil\",$A$14),0)>0,VLOOKUP(\"Oil\",HVACg_Lookup,MATCH($F$12,BuildingSize,0)+1,FALSE),IF(IFERROR(SEARCH(\"Propane\",$A$14),0)>0,VLOOKUP(\"Propane\",HVACg_Lookup,MATCH(Worksheet!$F$12,BuildingSize,0)+1,FALSE),0)))","v":0},0,0,"",""]
[null,null,"",null,null,null,null,null,null,null,null,null,0,0,0,0,"",0,0,0,0,0,0,0,0,0,0,0,0,0,0,0,{"$f":"T113/1000*V113*X113*IF(IFERROR(SEARCH(\"Gas\",$A$14),0)>0,VLOOKUP(\"Gas\",HVACg_Lookup,MATCH($F$12,BuildingSize,0)+1,FALSE),IF(IFERROR(SEARCH(\"Oil\",$A$14),0)>0,VLOOKUP(\"Oil\",HVACg_Lookup,MATCH($F$12,BuildingSize,0)+1,FALSE),IF(IFERROR(SEARCH(\"Propane\",$A$14),0)>0,VLOOKUP(\"Propane\",HVACg_Lookup,MATCH(Worksheet!$F$12,BuildingSize,0)+1,FALSE),0)))","v":0},{"$f":"U113/1000*V113*X113*IF(IFERROR(SEARCH(\"Gas\",$A$14),0)>0,VLOOKUP(\"Gas\",HVACg_Lookup,MATCH($F$12,BuildingSize,0)+1,FALSE),IF(IFERROR(SEARCH(\"Oil\",$A$14),0)>0,VLOOKUP(\"Oil\",HVACg_Lookup,MATCH($F$12,BuildingSize,0)+1,FALSE),IF(IFERROR(SEARCH(\"Propane\",$A$14),0)>0,VLOOKUP(\"Propane\",HVACg_Lookup,MATCH(Worksheet!$F$12,BuildingSize,0)+1,FALSE),0)))","v":0},0,0,"",""]
[null,null,"",null,null,null,null,null,null,null,null,null,0,0,0,0,"",0,0,0,0,0,0,0,0,0,0,0,0,0,0,0,{"$f":"T114/1000*V114*X114*IF(IFERROR(SEARCH(\"Gas\",$A$14),0)>0,VLOOKUP(\"Gas\",HVACg_Lookup,MATCH($F$12,BuildingSize,0)+1,FALSE),IF(IFERROR(SEARCH(\"Oil\",$A$14),0)>0,VLOOKUP(\"Oil\",HVACg_Lookup,MATCH($F$12,BuildingSize,0)+1,FALSE),IF(IFERROR(SEARCH(\"Propane\",$A$14),0)>0,VLOOKUP(\"Propane\",HVACg_Lookup,MATCH(Worksheet!$F$12,BuildingSize,0)+1,FALSE),0)))","v":0},{"$f":"U114/1000*V114*X114*IF(IFERROR(SEARCH(\"Gas\",$A$14),0)>0,VLOOKUP(\"Gas\",HVACg_Lookup,MATCH($F$12,BuildingSize,0)+1,FALSE),IF(IFERROR(SEARCH(\"Oil\",$A$14),0)>0,VLOOKUP(\"Oil\",HVACg_Lookup,MATCH($F$12,BuildingSize,0)+1,FALSE),IF(IFERROR(SEARCH(\"Propane\",$A$14),0)>0,VLOOKUP(\"Propane\",HVACg_Lookup,MATCH(Worksheet!$F$12,BuildingSize,0)+1,FALSE),0)))","v":0},0,0,"",""]
[null,null,"",null,null,null,null,null,null,null,null,null,0,0,0,0,"",0,0,0,0,0,0,0,0,0,0,0,0,0,0,0,{"$f":"T115/1000*V115*X115*IF(IFERROR(SEARCH(\"Gas\",$A$14),0)>0,VLOOKUP(\"Gas\",HVACg_Lookup,MATCH($F$12,BuildingSize,0)+1,FALSE),IF(IFERROR(SEARCH(\"Oil\",$A$14),0)>0,VLOOKUP(\"Oil\",HVACg_Lookup,MATCH($F$12,BuildingSize,0)+1,FALSE),IF(IFERROR(SEARCH(\"Propane\",$A$14),0)>0,VLOOKUP(\"Propane\",HVACg_Lookup,MATCH(Worksheet!$F$12,BuildingSize,0)+1,FALSE),0)))","v":0},{"$f":"U115/1000*V115*X115*IF(IFERROR(SEARCH(\"Gas\",$A$14),0)>0,VLOOKUP(\"Gas\",HVACg_Lookup,MATCH($F$12,BuildingSize,0)+1,FALSE),IF(IFERROR(SEARCH(\"Oil\",$A$14),0)>0,VLOOKUP(\"Oil\",HVACg_Lookup,MATCH($F$12,BuildingSize,0)+1,FALSE),IF(IFERROR(SEARCH(\"Propane\",$A$14),0)>0,VLOOKUP(\"Propane\",HVACg_Lookup,MATCH(Worksheet!$F$12,BuildingSize,0)+1,FALSE),0)))","v":0},0,0,"",""]
[null,null,"",null,null,null,null,null,null,null,null,null,0,0,0,0,"",0,0,0,0,0,0,0,0,0,0,0,0,0,0,0,{"$f":"T116/1000*V116*X116*IF(IFERROR(SEARCH(\"Gas\",$A$14),0)>0,VLOOKUP(\"Gas\",HVACg_Lookup,MATCH($F$12,BuildingSize,0)+1,FALSE),IF(IFERROR(SEARCH(\"Oil\",$A$14),0)>0,VLOOKUP(\"Oil\",HVACg_Lookup,MATCH($F$12,BuildingSize,0)+1,FALSE),IF(IFERROR(SEARCH(\"Propane\",$A$14),0)>0,VLOOKUP(\"Propane\",HVACg_Lookup,MATCH(Worksheet!$F$12,BuildingSize,0)+1,FALSE),0)))","v":0},{"$f":"U116/1000*V116*X116*IF(IFERROR(SEARCH(\"Gas\",$A$14),0)>0,VLOOKUP(\"Gas\",HVACg_Lookup,MATCH($F$12,BuildingSize,0)+1,FALSE),IF(IFERROR(SEARCH(\"Oil\",$A$14),0)>0,VLOOKUP(\"Oil\",HVACg_Lookup,MATCH($F$12,BuildingSize,0)+1,FALSE),IF(IFERROR(SEARCH(\"Propane\",$A$14),0)>0,VLOOKUP(\"Propane\",HVACg_Lookup,MATCH(Worksheet!$F$12,BuildingSize,0)+1,FALSE),0)))","v":0},0,0,"",""]
[null,null,"",null,null,null,null,null,null,null,null,null,0,0,0,0,"",0,0,0,0,0,0,0,0,0,0,0,0,0,0,0,{"$f":"T117/1000*V117*X117*IF(IFERROR(SEARCH(\"Gas\",$A$14),0)>0,VLOOKUP(\"Gas\",HVACg_Lookup,MATCH($F$12,BuildingSize,0)+1,FALSE),IF(IFERROR(SEARCH(\"Oil\",$A$14),0)>0,VLOOKUP(\"Oil\",HVACg_Lookup,MATCH($F$12,BuildingSize,0)+1,FALSE),IF(IFERROR(SEARCH(\"Propane\",$A$14),0)>0,VLOOKUP(\"Propane\",HVACg_Lookup,MATCH(Worksheet!$F$12,BuildingSize,0)+1,FALSE),0)))","v":0},{"$f":"U117/1000*V117*X117*IF(IFERROR(SEARCH(\"Gas\",$A$14),0)>0,VLOOKUP(\"Gas\",HVACg_Lookup,MATCH($F$12,BuildingSize,0)+1,FALSE),IF(IFERROR(SEARCH(\"Oil\",$A$14),0)>0,VLOOKUP(\"Oil\",HVACg_Lookup,MATCH($F$12,BuildingSize,0)+1,FALSE),IF(IFERROR(SEARCH(\"Propane\",$A$14),0)>0,VLOOKUP(\"Propane\",HVACg_Lookup,MATCH(Worksheet!$F$12,BuildingSize,0)+1,FALSE),0)))","v":0},0,0,"",""]
[null,null,"",null,null,null,null,null,null,null,null,null,0,0,0,0,"",0,0,0,0,0,0,0,0,0,0,0,0,0,0,0,{"$f":"T118/1000*V118*X118*IF(IFERROR(SEARCH(\"Gas\",$A$14),0)>0,VLOOKUP(\"Gas\",HVACg_Lookup,MATCH($F$12,BuildingSize,0)+1,FALSE),IF(IFERROR(SEARCH(\"Oil\",$A$14),0)>0,VLOOKUP(\"Oil\",HVACg_Lookup,MATCH($F$12,BuildingSize,0)+1,FALSE),IF(IFERROR(SEARCH(\"Propane\",$A$14),0)>0,VLOOKUP(\"Propane\",HVACg_Lookup,MATCH(Worksheet!$F$12,BuildingSize,0)+1,FALSE),0)))","v":0},{"$f":"U118/1000*V118*X118*IF(IFERROR(SEARCH(\"Gas\",$A$14),0)>0,VLOOKUP(\"Gas\",HVACg_Lookup,MATCH($F$12,BuildingSize,0)+1,FALSE),IF(IFERROR(SEARCH(\"Oil\",$A$14),0)>0,VLOOKUP(\"Oil\",HVACg_Lookup,MATCH($F$12,BuildingSize,0)+1,FALSE),IF(IFERROR(SEARCH(\"Propane\",$A$14),0)>0,VLOOKUP(\"Propane\",HVACg_Lookup,MATCH(Worksheet!$F$12,BuildingSize,0)+1,FALSE),0)))","v":0},0,0,"",""]
[null,null,"",null,null,null,null,null,null,null,null,null,0,0,0,0,"",0,0,0,0,0,0,0,0,0,0,0,0,0,0,0,{"$f":"T119/1000*V119*X119*IF(IFERROR(SEARCH(\"Gas\",$A$14),0)>0,VLOOKUP(\"Gas\",HVACg_Lookup,MATCH($F$12,BuildingSize,0)+1,FALSE),IF(IFERROR(SEARCH(\"Oil\",$A$14),0)>0,VLOOKUP(\"Oil\",HVACg_Lookup,MATCH($F$12,BuildingSize,0)+1,FALSE),IF(IFERROR(SEARCH(\"Propane\",$A$14),0)>0,VLOOKUP(\"Propane\",HVACg_Lookup,MATCH(Worksheet!$F$12,BuildingSize,0)+1,FALSE),0)))","v":0},{"$f":"U119/1000*V119*X119*IF(IFERROR(SEARCH(\"Gas\",$A$14),0)>0,VLOOKUP(\"Gas\",HVACg_Lookup,MATCH($F$12,BuildingSize,0)+1,FALSE),IF(IFERROR(SEARCH(\"Oil\",$A$14),0)>0,VLOOKUP(\"Oil\",HVACg_Lookup,MATCH($F$12,BuildingSize,0)+1,FALSE),IF(IFERROR(SEARCH(\"Propane\",$A$14),0)>0,VLOOKUP(\"Propane\",HVACg_Lookup,MATCH(Worksheet!$F$12,BuildingSize,0)+1,FALSE),0)))","v":0},0,0,"",""]
[null,null,"",null,null,null,null,null,null,null,null,null,0,0,0,0,"",0,0,0,0,0,0,0,0,0,0,0,0,0,0,0,{"$f":"T120/1000*V120*X120*IF(IFERROR(SEARCH(\"Gas\",$A$14),0)>0,VLOOKUP(\"Gas\",HVACg_Lookup,MATCH($F$12,BuildingSize,0)+1,FALSE),IF(IFERROR(SEARCH(\"Oil\",$A$14),0)>0,VLOOKUP(\"Oil\",HVACg_Lookup,MATCH($F$12,BuildingSize,0)+1,FALSE),IF(IFERROR(SEARCH(\"Propane\",$A$14),0)>0,VLOOKUP(\"Propane\",HVACg_Lookup,MATCH(Worksheet!$F$12,BuildingSize,0)+1,FALSE),0)))","v":0},{"$f":"U120/1000*V120*X120*IF(IFERROR(SEARCH(\"Gas\",$A$14),0)>0,VLOOKUP(\"Gas\",HVACg_Lookup,MATCH($F$12,BuildingSize,0)+1,FALSE),IF(IFERROR(SEARCH(\"Oil\",$A$14),0)>0,VLOOKUP(\"Oil\",HVACg_Lookup,MATCH($F$12,BuildingSize,0)+1,FALSE),IF(IFERROR(SEARCH(\"Propane\",$A$14),0)>0,VLOOKUP(\"Propane\",HVACg_Lookup,MATCH(Worksheet!$F$12,BuildingSize,0)+1,FALSE),0)))","v":0},0,0,"",""]
[null,null,"",null,null,null,null,null,null,null,null,null,0,0,0,0,"",0,0,0,0,0,0,0,0,0,0,0,0,0,0,0,{"$f":"T121/1000*V121*X121*IF(IFERROR(SEARCH(\"Gas\",$A$14),0)>0,VLOOKUP(\"Gas\",HVACg_Lookup,MATCH($F$12,BuildingSize,0)+1,FALSE),IF(IFERROR(SEARCH(\"Oil\",$A$14),0)>0,VLOOKUP(\"Oil\",HVACg_Lookup,MATCH($F$12,BuildingSize,0)+1,FALSE),IF(IFERROR(SEARCH(\"Propane\",$A$14),0)>0,VLOOKUP(\"Propane\",HVACg_Lookup,MATCH(Worksheet!$F$12,BuildingSize,0)+1,FALSE),0)))","v":0},{"$f":"U121/1000*V121*X121*IF(IFERROR(SEARCH(\"Gas\",$A$14),0)>0,VLOOKUP(\"Gas\",HVACg_Lookup,MATCH($F$12,BuildingSize,0)+1,FALSE),IF(IFERROR(SEARCH(\"Oil\",$A$14),0)>0,VLOOKUP(\"Oil\",HVACg_Lookup,MATCH($F$12,BuildingSize,0)+1,FALSE),IF(IFERROR(SEARCH(\"Propane\",$A$14),0)>0,VLOOKUP(\"Propane\",HVACg_Lookup,MATCH(Worksheet!$F$12,BuildingSize,0)+1,FALSE),0)))","v":0},0,0,"",""]
[null,null,"",null,null,null,null,null,null,null,null,null,0,0,0,0,"",0,0,0,0,0,0,0,0,0,0,0,0,0,0,0,{"$f":"T122/1000*V122*X122*IF(IFERROR(SEARCH(\"Gas\",$A$14),0)>0,VLOOKUP(\"Gas\",HVACg_Lookup,MATCH($F$12,BuildingSize,0)+1,FALSE),IF(IFERROR(SEARCH(\"Oil\",$A$14),0)>0,VLOOKUP(\"Oil\",HVACg_Lookup,MATCH($F$12,BuildingSize,0)+1,FALSE),IF(IFERROR(SEARCH(\"Propane\",$A$14),0)>0,VLOOKUP(\"Propane\",HVACg_Lookup,MATCH(Worksheet!$F$12,BuildingSize,0)+1,FALSE),0)))","v":0},{"$f":"U122/1000*V122*X122*IF(IFERROR(SEARCH(\"Gas\",$A$14),0)>0,VLOOKUP(\"Gas\",HVACg_Lookup,MATCH($F$12,BuildingSize,0)+1,FALSE),IF(IFERROR(SEARCH(\"Oil\",$A$14),0)>0,VLOOKUP(\"Oil\",HVACg_Lookup,MATCH($F$12,BuildingSize,0)+1,FALSE),IF(IFERROR(SEARCH(\"Propane\",$A$14),0)>0,VLOOKUP(\"Propane\",HVACg_Lookup,MATCH(Worksheet!$F$12,BuildingSize,0)+1,FALSE),0)))","v":0},0,0,"",""]
[null,null,"",null,null,null,null,null,null,null,null,null,0,0,0,0,"",0,0,0,0,0,0,0,0,0,0,0,0,0,0,0,{"$f":"T123/1000*V123*X123*IF(IFERROR(SEARCH(\"Gas\",$A$14),0)>0,VLOOKUP(\"Gas\",HVACg_Lookup,MATCH($F$12,BuildingSize,0)+1,FALSE),IF(IFERROR(SEARCH(\"Oil\",$A$14),0)>0,VLOOKUP(\"Oil\",HVACg_Lookup,MATCH($F$12,BuildingSize,0)+1,FALSE),IF(IFERROR(SEARCH(\"Propane\",$A$14),0)>0,VLOOKUP(\"Propane\",HVACg_Lookup,MATCH(Worksheet!$F$12,BuildingSize,0)+1,FALSE),0)))","v":0},{"$f":"U123/1000*V123*X123*IF(IFERROR(SEARCH(\"Gas\",$A$14),0)>0,VLOOKUP(\"Gas\",HVACg_Lookup,MATCH($F$12,BuildingSize,0)+1,FALSE),IF(IFERROR(SEARCH(\"Oil\",$A$14),0)>0,VLOOKUP(\"Oil\",HVACg_Lookup,MATCH($F$12,BuildingSize,0)+1,FALSE),IF(IFERROR(SEARCH(\"Propane\",$A$14),0)>0,VLOOKUP(\"Propane\",HVACg_Lookup,MATCH(Worksheet!$F$12,BuildingSize,0)+1,FALSE),0)))","v":0},0,0,"",""]
[null,null,"",null,null,null,null,null,null,null,null,null,0,0,0,0,"",0,0,0,0,0,0,0,0,0,0,0,0,0,0,0,{"$f":"T124/1000*V124*X124*IF(IFERROR(SEARCH(\"Gas\",$A$14),0)>0,VLOOKUP(\"Gas\",HVACg_Lookup,MATCH($F$12,BuildingSize,0)+1,FALSE),IF(IFERROR(SEARCH(\"Oil\",$A$14),0)>0,VLOOKUP(\"Oil\",HVACg_Lookup,MATCH($F$12,BuildingSize,0)+1,FALSE),IF(IFERROR(SEARCH(\"Propane\",$A$14),0)>0,VLOOKUP(\"Propane\",HVACg_Lookup,MATCH(Worksheet!$F$12,BuildingSize,0)+1,FALSE),0)))","v":0},{"$f":"U124/1000*V124*X124*IF(IFERROR(SEARCH(\"Gas\",$A$14),0)>0,VLOOKUP(\"Gas\",HVACg_Lookup,MATCH($F$12,BuildingSize,0)+1,FALSE),IF(IFERROR(SEARCH(\"Oil\",$A$14),0)>0,VLOOKUP(\"Oil\",HVACg_Lookup,MATCH($F$12,BuildingSize,0)+1,FALSE),IF(IFERROR(SEARCH(\"Propane\",$A$14),0)>0,VLOOKUP(\"Propane\",HVACg_Lookup,MATCH(Worksheet!$F$12,BuildingSize,0)+1,FALSE),0)))","v":0},0,0,"",""]
[null,null,"",null,null,null,null,null,null,null,null,null,0,0,0,0,"",0,0,0,0,0,0,0,0,0,0,0,0,0,0,0,{"$f":"T125/1000*V125*X125*IF(IFERROR(SEARCH(\"Gas\",$A$14),0)>0,VLOOKUP(\"Gas\",HVACg_Lookup,MATCH($F$12,BuildingSize,0)+1,FALSE),IF(IFERROR(SEARCH(\"Oil\",$A$14),0)>0,VLOOKUP(\"Oil\",HVACg_Lookup,MATCH($F$12,BuildingSize,0)+1,FALSE),IF(IFERROR(SEARCH(\"Propane\",$A$14),0)>0,VLOOKUP(\"Propane\",HVACg_Lookup,MATCH(Worksheet!$F$12,BuildingSize,0)+1,FALSE),0)))","v":0},{"$f":"U125/1000*V125*X125*IF(IFERROR(SEARCH(\"Gas\",$A$14),0)>0,VLOOKUP(\"Gas\",HVACg_Lookup,MATCH($F$12,BuildingSize,0)+1,FALSE),IF(IFERROR(SEARCH(\"Oil\",$A$14),0)>0,VLOOKUP(\"Oil\",HVACg_Lookup,MATCH($F$12,BuildingSize,0)+1,FALSE),IF(IFERROR(SEARCH(\"Propane\",$A$14),0)>0,VLOOKUP(\"Propane\",HVACg_Lookup,MATCH(Worksheet!$F$12,BuildingSize,0)+1,FALSE),0)))","v":0},0,0,"",""]
[null,null,"",null,null,null,null,null,null,null,null,null,0,0,0,0,"",0,0,0,0,0,0,0,0,0,0,0,0,0,0,0,{"$f":"T126/1000*V126*X126*IF(IFERROR(SEARCH(\"Gas\",$A$14),0)>0,VLOOKUP(\"Gas\",HVACg_Lookup,MATCH($F$12,BuildingSize,0)+1,FALSE),IF(IFERROR(SEARCH(\"Oil\",$A$14),0)>0,VLOOKUP(\"Oil\",HVACg_Lookup,MATCH($F$12,BuildingSize,0)+1,FALSE),IF(IFERROR(SEARCH(\"Propane\",$A$14),0)>0,VLOOKUP(\"Propane\",HVACg_Lookup,MATCH(Worksheet!$F$12,BuildingSize,0)+1,FALSE),0)))","v":0},{"$f":"U126/1000*V126*X126*IF(IFERROR(SEARCH(\"Gas\",$A$14),0)>0,VLOOKUP(\"Gas\",HVACg_Lookup,MATCH($F$12,BuildingSize,0)+1,FALSE),IF(IFERROR(SEARCH(\"Oil\",$A$14),0)>0,VLOOKUP(\"Oil\",HVACg_Lookup,MATCH($F$12,BuildingSize,0)+1,FALSE),IF(IFERROR(SEARCH(\"Propane\",$A$14),0)>0,VLOOKUP(\"Propane\",HVACg_Lookup,MATCH(Worksheet!$F$12,BuildingSize,0)+1,FALSE),0)))","v":0},0,0,"",""]
[null,null,"",null,null,null,null,null,null,null,null,null,0,0,0,0,"",0,0,0,0,0,0,0,0,0,0,0,0,0,0,0,{"$f":"T127/1000*V127*X127*IF(IFERROR(SEARCH(\"Gas\",$A$14),0)>0,VLOOKUP(\"Gas\",HVACg_Lookup,MATCH($F$12,BuildingSize,0)+1,FALSE),IF(IFERROR(SEARCH(\"Oil\",$A$14),0)>0,VLOOKUP(\"Oil\",HVACg_Lookup,MATCH($F$12,BuildingSize,0)+1,FALSE),IF(IFERROR(SEARCH(\"Propane\",$A$14),0)>0,VLOOKUP(\"Propane\",HVACg_Lookup,MATCH(Worksheet!$F$12,BuildingSize,0)+1,FALSE),0)))","v":0},{"$f":"U127/1000*V127*X127*IF(IFERROR(SEARCH(\"Gas\",$A$14),0)>0,VLOOKUP(\"Gas\",HVACg_Lookup,MATCH($F$12,BuildingSize,0)+1,FALSE),IF(IFERROR(SEARCH(\"Oil\",$A$14),0)>0,VLOOKUP(\"Oil\",HVACg_Lookup,MATCH($F$12,BuildingSize,0)+1,FALSE),IF(IFERROR(SEARCH(\"Propane\",$A$14),0)>0,VLOOKUP(\"Propane\",HVACg_Lookup,MATCH(Worksheet!$F$12,BuildingSize,0)+1,FALSE),0)))","v":0},0,0,"",""]
[null,null,"",null,null,null,null,null,null,null,null,null,0,0,0,0,"",0,0,0,0,0,0,0,0,0,0,0,0,0,0,0,{"$f":"T128/1000*V128*X128*IF(IFERROR(SEARCH(\"Gas\",$A$14),0)>0,VLOOKUP(\"Gas\",HVACg_Lookup,MATCH($F$12,BuildingSize,0)+1,FALSE),IF(IFERROR(SEARCH(\"Oil\",$A$14),0)>0,VLOOKUP(\"Oil\",HVACg_Lookup,MATCH($F$12,BuildingSize,0)+1,FALSE),IF(IFERROR(SEARCH(\"Propane\",$A$14),0)>0,VLOOKUP(\"Propane\",HVACg_Lookup,MATCH(Worksheet!$F$12,BuildingSize,0)+1,FALSE),0)))","v":0},{"$f":"U128/1000*V128*X128*IF(IFERROR(SEARCH(\"Gas\",$A$14),0)>0,VLOOKUP(\"Gas\",HVACg_Lookup,MATCH($F$12,BuildingSize,0)+1,FALSE),IF(IFERROR(SEARCH(\"Oil\",$A$14),0)>0,VLOOKUP(\"Oil\",HVACg_Lookup,MATCH($F$12,BuildingSize,0)+1,FALSE),IF(IFERROR(SEARCH(\"Propane\",$A$14),0)>0,VLOOKUP(\"Propane\",HVACg_Lookup,MATCH(Worksheet!$F$12,BuildingSize,0)+1,FALSE),0)))","v":0},0,0,"",""]
[null,null,"",null,null,null,null,null,null,null,null,null,0,0,0,0,"",0,0,0,0,0,0,0,0,0,0,0,0,0,0,0,{"$f":"T129/1000*V129*X129*IF(IFERROR(SEARCH(\"Gas\",$A$14),0)>0,VLOOKUP(\"Gas\",HVACg_Lookup,MATCH($F$12,BuildingSize,0)+1,FALSE),IF(IFERROR(SEARCH(\"Oil\",$A$14),0)>0,VLOOKUP(\"Oil\",HVACg_Lookup,MATCH($F$12,BuildingSize,0)+1,FALSE),IF(IFERROR(SEARCH(\"Propane\",$A$14),0)>0,VLOOKUP(\"Propane\",HVACg_Lookup,MATCH(Worksheet!$F$12,BuildingSize,0)+1,FALSE),0)))","v":0},{"$f":"U129/1000*V129*X129*IF(IFERROR(SEARCH(\"Gas\",$A$14),0)>0,VLOOKUP(\"Gas\",HVACg_Lookup,MATCH($F$12,BuildingSize,0)+1,FALSE),IF(IFERROR(SEARCH(\"Oil\",$A$14),0)>0,VLOOKUP(\"Oil\",HVACg_Lookup,MATCH($F$12,BuildingSize,0)+1,FALSE),IF(IFERROR(SEARCH(\"Propane\",$A$14),0)>0,VLOOKUP(\"Propane\",HVACg_Lookup,MATCH(Worksheet!$F$12,BuildingSize,0)+1,FALSE),0)))","v":0},0,0,"",""]
[null,null,"",null,null,null,null,null,null,null,null,null,0,0,0,0,"",0,0,0,0,0,0,0,0,0,0,0,0,0,0,0,{"$f":"T130/1000*V130*X130*IF(IFERROR(SEARCH(\"Gas\",$A$14),0)>0,VLOOKUP(\"Gas\",HVACg_Lookup,MATCH($F$12,BuildingSize,0)+1,FALSE),IF(IFERROR(SEARCH(\"Oil\",$A$14),0)>0,VLOOKUP(\"Oil\",HVACg_Lookup,MATCH($F$12,BuildingSize,0)+1,FALSE),IF(IFERROR(SEARCH(\"Propane\",$A$14),0)>0,VLOOKUP(\"Propane\",HVACg_Lookup,MATCH(Worksheet!$F$12,BuildingSize,0)+1,FALSE),0)))","v":0},{"$f":"U130/1000*V130*X130*IF(IFERROR(SEARCH(\"Gas\",$A$14),0)>0,VLOOKUP(\"Gas\",HVACg_Lookup,MATCH($F$12,BuildingSize,0)+1,FALSE),IF(IFERROR(SEARCH(\"Oil\",$A$14),0)>0,VLOOKUP(\"Oil\",HVACg_Lookup,MATCH($F$12,BuildingSize,0)+1,FALSE),IF(IFERROR(SEARCH(\"Propane\",$A$14),0)>0,VLOOKUP(\"Propane\",HVACg_Lookup,MATCH(Worksheet!$F$12,BuildingSize,0)+1,FALSE),0)))","v":0},0,0,"",""]
[null,null,"",null,null,null,null,null,null,null,null,null,0,0,0,0,"",0,0,0,0,0,0,0,0,0,0,0,0,0,0,0,{"$f":"T131/1000*V131*X131*IF(IFERROR(SEARCH(\"Gas\",$A$14),0)>0,VLOOKUP(\"Gas\",HVACg_Lookup,MATCH($F$12,BuildingSize,0)+1,FALSE),IF(IFERROR(SEARCH(\"Oil\",$A$14),0)>0,VLOOKUP(\"Oil\",HVACg_Lookup,MATCH($F$12,BuildingSize,0)+1,FALSE),IF(IFERROR(SEARCH(\"Propane\",$A$14),0)>0,VLOOKUP(\"Propane\",HVACg_Lookup,MATCH(Worksheet!$F$12,BuildingSize,0)+1,FALSE),0)))","v":0},{"$f":"U131/1000*V131*X131*IF(IFERROR(SEARCH(\"Gas\",$A$14),0)>0,VLOOKUP(\"Gas\",HVACg_Lookup,MATCH($F$12,BuildingSize,0)+1,FALSE),IF(IFERROR(SEARCH(\"Oil\",$A$14),0)>0,VLOOKUP(\"Oil\",HVACg_Lookup,MATCH($F$12,BuildingSize,0)+1,FALSE),IF(IFERROR(SEARCH(\"Propane\",$A$14),0)>0,VLOOKUP(\"Propane\",HVACg_Lookup,MATCH(Worksheet!$F$12,BuildingSize,0)+1,FALSE),0)))","v":0},0,0,"",""]
[null,null,"",null,null,null,null,null,null,null,null,null,0,0,0,0,"",0,0,0,0,0,0,0,0,0,0,0,0,0,0,0,{"$f":"T132/1000*V132*X132*IF(IFERROR(SEARCH(\"Gas\",$A$14),0)>0,VLOOKUP(\"Gas\",HVACg_Lookup,MATCH($F$12,BuildingSize,0)+1,FALSE),IF(IFERROR(SEARCH(\"Oil\",$A$14),0)>0,VLOOKUP(\"Oil\",HVACg_Lookup,MATCH($F$12,BuildingSize,0)+1,FALSE),IF(IFERROR(SEARCH(\"Propane\",$A$14),0)>0,VLOOKUP(\"Propane\",HVACg_Lookup,MATCH(Worksheet!$F$12,BuildingSize,0)+1,FALSE),0)))","v":0},{"$f":"U132/1000*V132*X132*IF(IFERROR(SEARCH(\"Gas\",$A$14),0)>0,VLOOKUP(\"Gas\",HVACg_Lookup,MATCH($F$12,BuildingSize,0)+1,FALSE),IF(IFERROR(SEARCH(\"Oil\",$A$14),0)>0,VLOOKUP(\"Oil\",HVACg_Lookup,MATCH($F$12,BuildingSize,0)+1,FALSE),IF(IFERROR(SEARCH(\"Propane\",$A$14),0)>0,VLOOKUP(\"Propane\",HVACg_Lookup,MATCH(Worksheet!$F$12,BuildingSize,0)+1,FALSE),0)))","v":0},0,0,"",""]
[null,null,"",null,null,null,null,null,null,null,null,null,0,0,0,0,"",0,0,0,0,0,0,0,0,0,0,0,0,0,0,0,{"$f":"T133/1000*V133*X133*IF(IFERROR(SEARCH(\"Gas\",$A$14),0)>0,VLOOKUP(\"Gas\",HVACg_Lookup,MATCH($F$12,BuildingSize,0)+1,FALSE),IF(IFERROR(SEARCH(\"Oil\",$A$14),0)>0,VLOOKUP(\"Oil\",HVACg_Lookup,MATCH($F$12,BuildingSize,0)+1,FALSE),IF(IFERROR(SEARCH(\"Propane\",$A$14),0)>0,VLOOKUP(\"Propane\",HVACg_Lookup,MATCH(Worksheet!$F$12,BuildingSize,0)+1,FALSE),0)))","v":0},{"$f":"U133/1000*V133*X133*IF(IFERROR(SEARCH(\"Gas\",$A$14),0)>0,VLOOKUP(\"Gas\",HVACg_Lookup,MATCH($F$12,BuildingSize,0)+1,FALSE),IF(IFERROR(SEARCH(\"Oil\",$A$14),0)>0,VLOOKUP(\"Oil\",HVACg_Lookup,MATCH($F$12,BuildingSize,0)+1,FALSE),IF(IFERROR(SEARCH(\"Propane\",$A$14),0)>0,VLOOKUP(\"Propane\",HVACg_Lookup,MATCH(Worksheet!$F$12,BuildingSize,0)+1,FALSE),0)))","v":0},0,0,"",""]
[null,null,"",null,null,null,null,null,null,null,null,null,0,0,0,0,"",0,0,0,0,0,0,0,0,0,0,0,0,0,0,0,{"$f":"T134/1000*V134*X134*IF(IFERROR(SEARCH(\"Gas\",$A$14),0)>0,VLOOKUP(\"Gas\",HVACg_Lookup,MATCH($F$12,BuildingSize,0)+1,FALSE),IF(IFERROR(SEARCH(\"Oil\",$A$14),0)>0,VLOOKUP(\"Oil\",HVACg_Lookup,MATCH($F$12,BuildingSize,0)+1,FALSE),IF(IFERROR(SEARCH(\"Propane\",$A$14),0)>0,VLOOKUP(\"Propane\",HVACg_Lookup,MATCH(Worksheet!$F$12,BuildingSize,0)+1,FALSE),0)))","v":0},{"$f":"U134/1000*V134*X134*IF(IFERROR(SEARCH(\"Gas\",$A$14),0)>0,VLOOKUP(\"Gas\",HVACg_Lookup,MATCH($F$12,BuildingSize,0)+1,FALSE),IF(IFERROR(SEARCH(\"Oil\",$A$14),0)>0,VLOOKUP(\"Oil\",HVACg_Lookup,MATCH($F$12,BuildingSize,0)+1,FALSE),IF(IFERROR(SEARCH(\"Propane\",$A$14),0)>0,VLOOKUP(\"Propane\",HVACg_Lookup,MATCH(Worksheet!$F$12,BuildingSize,0)+1,FALSE),0)))","v":0},0,0,"",""]
[null,null,"",null,null,null,null,null,null,null,null,null,0,0,0,0,"",0,0,0,0,0,0,0,0,0,0,0,0,0,0,0,{"$f":"T135/1000*V135*X135*IF(IFERROR(SEARCH(\"Gas\",$A$14),0)>0,VLOOKUP(\"Gas\",HVACg_Lookup,MATCH($F$12,BuildingSize,0)+1,FALSE),IF(IFERROR(SEARCH(\"Oil\",$A$14),0)>0,VLOOKUP(\"Oil\",HVACg_Lookup,MATCH($F$12,BuildingSize,0)+1,FALSE),IF(IFERROR(SEARCH(\"Propane\",$A$14),0)>0,VLOOKUP(\"Propane\",HVACg_Lookup,MATCH(Worksheet!$F$12,BuildingSize,0)+1,FALSE),0)))","v":0},{"$f":"U135/1000*V135*X135*IF(IFERROR(SEARCH(\"Gas\",$A$14),0)>0,VLOOKUP(\"Gas\",HVACg_Lookup,MATCH($F$12,BuildingSize,0)+1,FALSE),IF(IFERROR(SEARCH(\"Oil\",$A$14),0)>0,VLOOKUP(\"Oil\",HVACg_Lookup,MATCH($F$12,BuildingSize,0)+1,FALSE),IF(IFERROR(SEARCH(\"Propane\",$A$14),0)>0,VLOOKUP(\"Propane\",HVACg_Lookup,MATCH(Worksheet!$F$12,BuildingSize,0)+1,FALSE),0)))","v":0},0,0,"",""]
[null,null,"",null,null,null,null,null,null,null,null,null,0,0,0,0,"",0,0,0,0,0,0,0,0,0,0,0,0,0,0,0,{"$f":"T136/1000*V136*X136*IF(IFERROR(SEARCH(\"Gas\",$A$14),0)>0,VLOOKUP(\"Gas\",HVACg_Lookup,MATCH($F$12,BuildingSize,0)+1,FALSE),IF(IFERROR(SEARCH(\"Oil\",$A$14),0)>0,VLOOKUP(\"Oil\",HVACg_Lookup,MATCH($F$12,BuildingSize,0)+1,FALSE),IF(IFERROR(SEARCH(\"Propane\",$A$14),0)>0,VLOOKUP(\"Propane\",HVACg_Lookup,MATCH(Worksheet!$F$12,BuildingSize,0)+1,FALSE),0)))","v":0},{"$f":"U136/1000*V136*X136*IF(IFERROR(SEARCH(\"Gas\",$A$14),0)>0,VLOOKUP(\"Gas\",HVACg_Lookup,MATCH($F$12,BuildingSize,0)+1,FALSE),IF(IFERROR(SEARCH(\"Oil\",$A$14),0)>0,VLOOKUP(\"Oil\",HVACg_Lookup,MATCH($F$12,BuildingSize,0)+1,FALSE),IF(IFERROR(SEARCH(\"Propane\",$A$14),0)>0,VLOOKUP(\"Propane\",HVACg_Lookup,MATCH(Worksheet!$F$12,BuildingSize,0)+1,FALSE),0)))","v":0},0,0,"",""]
[null,null,"",null,null,null,null,null,null,null,null,null,0,0,0,0,"",0,0,0,0,0,0,0,0,0,0,0,0,0,0,0,{"$f":"T137/1000*V137*X137*IF(IFERROR(SEARCH(\"Gas\",$A$14),0)>0,VLOOKUP(\"Gas\",HVACg_Lookup,MATCH($F$12,BuildingSize,0)+1,FALSE),IF(IFERROR(SEARCH(\"Oil\",$A$14),0)>0,VLOOKUP(\"Oil\",HVACg_Lookup,MATCH($F$12,BuildingSize,0)+1,FALSE),IF(IFERROR(SEARCH(\"Propane\",$A$14),0)>0,VLOOKUP(\"Propane\",HVACg_Lookup,MATCH(Worksheet!$F$12,BuildingSize,0)+1,FALSE),0)))","v":0},{"$f":"U137/1000*V137*X137*IF(IFERROR(SEARCH(\"Gas\",$A$14),0)>0,VLOOKUP(\"Gas\",HVACg_Lookup,MATCH($F$12,BuildingSize,0)+1,FALSE),IF(IFERROR(SEARCH(\"Oil\",$A$14),0)>0,VLOOKUP(\"Oil\",HVACg_Lookup,MATCH($F$12,BuildingSize,0)+1,FALSE),IF(IFERROR(SEARCH(\"Propane\",$A$14),0)>0,VLOOKUP(\"Propane\",HVACg_Lookup,MATCH(Worksheet!$F$12,BuildingSize,0)+1,FALSE),0)))","v":0},0,0,"",""]
[null,null,"",null,null,null,null,null,null,null,null,null,0,0,0,0,"",0,0,0,0,0,0,0,0,0,0,0,0,0,0,0,{"$f":"T138/1000*V138*X138*IF(IFERROR(SEARCH(\"Gas\",$A$14),0)>0,VLOOKUP(\"Gas\",HVACg_Lookup,MATCH($F$12,BuildingSize,0)+1,FALSE),IF(IFERROR(SEARCH(\"Oil\",$A$14),0)>0,VLOOKUP(\"Oil\",HVACg_Lookup,MATCH($F$12,BuildingSize,0)+1,FALSE),IF(IFERROR(SEARCH(\"Propane\",$A$14),0)>0,VLOOKUP(\"Propane\",HVACg_Lookup,MATCH(Worksheet!$F$12,BuildingSize,0)+1,FALSE),0)))","v":0},{"$f":"U138/1000*V138*X138*IF(IFERROR(SEARCH(\"Gas\",$A$14),0)>0,VLOOKUP(\"Gas\",HVACg_Lookup,MATCH($F$12,BuildingSize,0)+1,FALSE),IF(IFERROR(SEARCH(\"Oil\",$A$14),0)>0,VLOOKUP(\"Oil\",HVACg_Lookup,MATCH($F$12,BuildingSize,0)+1,FALSE),IF(IFERROR(SEARCH(\"Propane\",$A$14),0)>0,VLOOKUP(\"Propane\",HVACg_Lookup,MATCH(Worksheet!$F$12,BuildingSize,0)+1,FALSE),0)))","v":0},0,0,"",""]
[null,null,"",null,null,null,null,null,null,null,null,null,0,0,0,0,"",0,0,0,0,0,0,0,0,0,0,0,0,0,0,0,{"$f":"T139/1000*V139*X139*IF(IFERROR(SEARCH(\"Gas\",$A$14),0)>0,VLOOKUP(\"Gas\",HVACg_Lookup,MATCH($F$12,BuildingSize,0)+1,FALSE),IF(IFERROR(SEARCH(\"Oil\",$A$14),0)>0,VLOOKUP(\"Oil\",HVACg_Lookup,MATCH($F$12,BuildingSize,0)+1,FALSE),IF(IFERROR(SEARCH(\"Propane\",$A$14),0)>0,VLOOKUP(\"Propane\",HVACg_Lookup,MATCH(Worksheet!$F$12,BuildingSize,0)+1,FALSE),0)))","v":0},{"$f":"U139/1000*V139*X139*IF(IFERROR(SEARCH(\"Gas\",$A$14),0)>0,VLOOKUP(\"Gas\",HVACg_Lookup,MATCH($F$12,BuildingSize,0)+1,FALSE),IF(IFERROR(SEARCH(\"Oil\",$A$14),0)>0,VLOOKUP(\"Oil\",HVACg_Lookup,MATCH($F$12,BuildingSize,0)+1,FALSE),IF(IFERROR(SEARCH(\"Propane\",$A$14),0)>0,VLOOKUP(\"Propane\",HVACg_Lookup,MATCH(Worksheet!$F$12,BuildingSize,0)+1,FALSE),0)))","v":0},0,0,"",""]
[null,null,"",null,null,null,null,null,null,null,null,null,0,0,0,0,"",0,0,0,0,0,0,0,0,0,0,0,0,0,0,0,{"$f":"T140/1000*V140*X140*IF(IFERROR(SEARCH(\"Gas\",$A$14),0)>0,VLOOKUP(\"Gas\",HVACg_Lookup,MATCH($F$12,BuildingSize,0)+1,FALSE),IF(IFERROR(SEARCH(\"Oil\",$A$14),0)>0,VLOOKUP(\"Oil\",HVACg_Lookup,MATCH($F$12,BuildingSize,0)+1,FALSE),IF(IFERROR(SEARCH(\"Propane\",$A$14),0)>0,VLOOKUP(\"Propane\",HVACg_Lookup,MATCH(Worksheet!$F$12,BuildingSize,0)+1,FALSE),0)))","v":0},{"$f":"U140/1000*V140*X140*IF(IFERROR(SEARCH(\"Gas\",$A$14),0)>0,VLOOKUP(\"Gas\",HVACg_Lookup,MATCH($F$12,BuildingSize,0)+1,FALSE),IF(IFERROR(SEARCH(\"Oil\",$A$14),0)>0,VLOOKUP(\"Oil\",HVACg_Lookup,MATCH($F$12,BuildingSize,0)+1,FALSE),IF(IFERROR(SEARCH(\"Propane\",$A$14),0)>0,VLOOKUP(\"Propane\",HVACg_Lookup,MATCH(Worksheet!$F$12,BuildingSize,0)+1,FALSE),0)))","v":0},0,0,"",""]
[null,null,"",null,null,null,null,null,null,null,null,null,0,0,0,0,"",0,0,0,0,0,0,0,0,0,0,0,0,0,0,0,{"$f":"T141/1000*V141*X141*IF(IFERROR(SEARCH(\"Gas\",$A$14),0)>0,VLOOKUP(\"Gas\",HVACg_Lookup,MATCH($F$12,BuildingSize,0)+1,FALSE),IF(IFERROR(SEARCH(\"Oil\",$A$14),0)>0,VLOOKUP(\"Oil\",HVACg_Lookup,MATCH($F$12,BuildingSize,0)+1,FALSE),IF(IFERROR(SEARCH(\"Propane\",$A$14),0)>0,VLOOKUP(\"Propane\",HVACg_Lookup,MATCH(Worksheet!$F$12,BuildingSize,0)+1,FALSE),0)))","v":0},{"$f":"U141/1000*V141*X141*IF(IFERROR(SEARCH(\"Gas\",$A$14),0)>0,VLOOKUP(\"Gas\",HVACg_Lookup,MATCH($F$12,BuildingSize,0)+1,FALSE),IF(IFERROR(SEARCH(\"Oil\",$A$14),0)>0,VLOOKUP(\"Oil\",HVACg_Lookup,MATCH($F$12,BuildingSize,0)+1,FALSE),IF(IFERROR(SEARCH(\"Propane\",$A$14),0)>0,VLOOKUP(\"Propane\",HVACg_Lookup,MATCH(Worksheet!$F$12,BuildingSize,0)+1,FALSE),0)))","v":0},0,0,"",""]
[null,null,"",null,null,null,null,null,null,null,null,null,0,0,0,0,"",0,0,0,0,0,0,0,0,0,0,0,0,0,0,0,{"$f":"T142/1000*V142*X142*IF(IFERROR(SEARCH(\"Gas\",$A$14),0)>0,VLOOKUP(\"Gas\",HVACg_Lookup,MATCH($F$12,BuildingSize,0)+1,FALSE),IF(IFERROR(SEARCH(\"Oil\",$A$14),0)>0,VLOOKUP(\"Oil\",HVACg_Lookup,MATCH($F$12,BuildingSize,0)+1,FALSE),IF(IFERROR(SEARCH(\"Propane\",$A$14),0)>0,VLOOKUP(\"Propane\",HVACg_Lookup,MATCH(Worksheet!$F$12,BuildingSize,0)+1,FALSE),0)))","v":0},{"$f":"U142/1000*V142*X142*IF(IFERROR(SEARCH(\"Gas\",$A$14),0)>0,VLOOKUP(\"Gas\",HVACg_Lookup,MATCH($F$12,BuildingSize,0)+1,FALSE),IF(IFERROR(SEARCH(\"Oil\",$A$14),0)>0,VLOOKUP(\"Oil\",HVACg_Lookup,MATCH($F$12,BuildingSize,0)+1,FALSE),IF(IFERROR(SEARCH(\"Propane\",$A$14),0)>0,VLOOKUP(\"Propane\",HVACg_Lookup,MATCH(Worksheet!$F$12,BuildingSize,0)+1,FALSE),0)))","v":0},0,0,"",""]
[null,null,"",null,null,null,null,null,null,null,null,null,0,0,0,0,"",0,0,0,0,0,0,0,0,0,0,0,0,0,0,0,{"$f":"T143/1000*V143*X143*IF(IFERROR(SEARCH(\"Gas\",$A$14),0)>0,VLOOKUP(\"Gas\",HVACg_Lookup,MATCH($F$12,BuildingSize,0)+1,FALSE),IF(IFERROR(SEARCH(\"Oil\",$A$14),0)>0,VLOOKUP(\"Oil\",HVACg_Lookup,MATCH($F$12,BuildingSize,0)+1,FALSE),IF(IFERROR(SEARCH(\"Propane\",$A$14),0)>0,VLOOKUP(\"Propane\",HVACg_Lookup,MATCH(Worksheet!$F$12,BuildingSize,0)+1,FALSE),0)))","v":0},{"$f":"U143/1000*V143*X143*IF(IFERROR(SEARCH(\"Gas\",$A$14),0)>0,VLOOKUP(\"Gas\",HVACg_Lookup,MATCH($F$12,BuildingSize,0)+1,FALSE),IF(IFERROR(SEARCH(\"Oil\",$A$14),0)>0,VLOOKUP(\"Oil\",HVACg_Lookup,MATCH($F$12,BuildingSize,0)+1,FALSE),IF(IFERROR(SEARCH(\"Propane\",$A$14),0)>0,VLOOKUP(\"Propane\",HVACg_Lookup,MATCH(Worksheet!$F$12,BuildingSize,0)+1,FALSE),0)))","v":0},0,0,"",""]
[null,null,"",null,null,null,null,null,null,null,null,null,0,0,0,0,"",0,0,0,0,0,0,0,0,0,0,0,0,0,0,0,{"$f":"T144/1000*V144*X144*IF(IFERROR(SEARCH(\"Gas\",$A$14),0)>0,VLOOKUP(\"Gas\",HVACg_Lookup,MATCH($F$12,BuildingSize,0)+1,FALSE),IF(IFERROR(SEARCH(\"Oil\",$A$14),0)>0,VLOOKUP(\"Oil\",HVACg_Lookup,MATCH($F$12,BuildingSize,0)+1,FALSE),IF(IFERROR(SEARCH(\"Propane\",$A$14),0)>0,VLOOKUP(\"Propane\",HVACg_Lookup,MATCH(Worksheet!$F$12,BuildingSize,0)+1,FALSE),0)))","v":0},{"$f":"U144/1000*V144*X144*IF(IFERROR(SEARCH(\"Gas\",$A$14),0)>0,VLOOKUP(\"Gas\",HVACg_Lookup,MATCH($F$12,BuildingSize,0)+1,FALSE),IF(IFERROR(SEARCH(\"Oil\",$A$14),0)>0,VLOOKUP(\"Oil\",HVACg_Lookup,MATCH($F$12,BuildingSize,0)+1,FALSE),IF(IFERROR(SEARCH(\"Propane\",$A$14),0)>0,VLOOKUP(\"Propane\",HVACg_Lookup,MATCH(Worksheet!$F$12,BuildingSize,0)+1,FALSE),0)))","v":0},0,0,"",""]
[null,null,"",null,null,null,null,null,null,null,null,null,0,0,0,0,"",0,0,0,0,0,0,0,0,0,0,0,0,0,0,0,{"$f":"T145/1000*V145*X145*IF(IFERROR(SEARCH(\"Gas\",$A$14),0)>0,VLOOKUP(\"Gas\",HVACg_Lookup,MATCH($F$12,BuildingSize,0)+1,FALSE),IF(IFERROR(SEARCH(\"Oil\",$A$14),0)>0,VLOOKUP(\"Oil\",HVACg_Lookup,MATCH($F$12,BuildingSize,0)+1,FALSE),IF(IFERROR(SEARCH(\"Propane\",$A$14),0)>0,VLOOKUP(\"Propane\",HVACg_Lookup,MATCH(Worksheet!$F$12,BuildingSize,0)+1,FALSE),0)))","v":0},{"$f":"U145/1000*V145*X145*IF(IFERROR(SEARCH(\"Gas\",$A$14),0)>0,VLOOKUP(\"Gas\",HVACg_Lookup,MATCH($F$12,BuildingSize,0)+1,FALSE),IF(IFERROR(SEARCH(\"Oil\",$A$14),0)>0,VLOOKUP(\"Oil\",HVACg_Lookup,MATCH($F$12,BuildingSize,0)+1,FALSE),IF(IFERROR(SEARCH(\"Propane\",$A$14),0)>0,VLOOKUP(\"Propane\",HVACg_Lookup,MATCH(Worksheet!$F$12,BuildingSize,0)+1,FALSE),0)))","v":0},0,0,"",""]
[null,null,"",null,null,null,null,null,null,null,null,null,0,0,0,0,"",0,0,0,0,0,0,0,0,0,0,0,0,0,0,0,{"$f":"T146/1000*V146*X146*IF(IFERROR(SEARCH(\"Gas\",$A$14),0)>0,VLOOKUP(\"Gas\",HVACg_Lookup,MATCH($F$12,BuildingSize,0)+1,FALSE),IF(IFERROR(SEARCH(\"Oil\",$A$14),0)>0,VLOOKUP(\"Oil\",HVACg_Lookup,MATCH($F$12,BuildingSize,0)+1,FALSE),IF(IFERROR(SEARCH(\"Propane\",$A$14),0)>0,VLOOKUP(\"Propane\",HVACg_Lookup,MATCH(Worksheet!$F$12,BuildingSize,0)+1,FALSE),0)))","v":0},{"$f":"U146/1000*V146*X146*IF(IFERROR(SEARCH(\"Gas\",$A$14),0)>0,VLOOKUP(\"Gas\",HVACg_Lookup,MATCH($F$12,BuildingSize,0)+1,FALSE),IF(IFERROR(SEARCH(\"Oil\",$A$14),0)>0,VLOOKUP(\"Oil\",HVACg_Lookup,MATCH($F$12,BuildingSize,0)+1,FALSE),IF(IFERROR(SEARCH(\"Propane\",$A$14),0)>0,VLOOKUP(\"Propane\",HVACg_Lookup,MATCH(Worksheet!$F$12,BuildingSize,0)+1,FALSE),0)))","v":0},0,0,"",""]
[null,null,"",null,null,null,null,null,null,null,null,null,0,0,0,0,"",0,0,0,0,0,0,0,0,0,0,0,0,0,0,0,{"$f":"T147/1000*V147*X147*IF(IFERROR(SEARCH(\"Gas\",$A$14),0)>0,VLOOKUP(\"Gas\",HVACg_Lookup,MATCH($F$12,BuildingSize,0)+1,FALSE),IF(IFERROR(SEARCH(\"Oil\",$A$14),0)>0,VLOOKUP(\"Oil\",HVACg_Lookup,MATCH($F$12,BuildingSize,0)+1,FALSE),IF(IFERROR(SEARCH(\"Propane\",$A$14),0)>0,VLOOKUP(\"Propane\",HVACg_Lookup,MATCH(Worksheet!$F$12,BuildingSize,0)+1,FALSE),0)))","v":0},{"$f":"U147/1000*V147*X147*IF(IFERROR(SEARCH(\"Gas\",$A$14),0)>0,VLOOKUP(\"Gas\",HVACg_Lookup,MATCH($F$12,BuildingSize,0)+1,FALSE),IF(IFERROR(SEARCH(\"Oil\",$A$14),0)>0,VLOOKUP(\"Oil\",HVACg_Lookup,MATCH($F$12,BuildingSize,0)+1,FALSE),IF(IFERROR(SEARCH(\"Propane\",$A$14),0)>0,VLOOKUP(\"Propane\",HVACg_Lookup,MATCH(Worksheet!$F$12,BuildingSize,0)+1,FALSE),0)))","v":0},0,0,"",""]
[null,null,"",null,null,null,null,null,null,null,null,null,0,0,{"$f":"IF(AK148=\"\",0,IF(AK148=1,VLOOKUP(A148,MeasureCode_Lookup,3,FALSE),\"DNQ\"))","v":0},{"$f":"IF(AL148=\"\",0,IF(AL148=1,VLOOKUP(A148,MeasureCode_Lookup,3,FALSE),\"DNQ\"))","v":0},{"$f":"IF(A148=\"\",\"\",VLOOKUP(A148,MeasureCode_Lookup,4,FALSE))","v":""},0,0,0,0,{"$f":"IF(A148=\"\",0,VLOOKUP(A148,MeasureCode_Lookup,5,FALSE))","v":0},{"$f":"IF($A$12=\"\",0,VLOOKUP($A$12,BuildingType_Lookup,3,FALSE))","v":0},{"$f":"IF($A$12=\"\",0,VLOOKUP($A$12,BuildingType_Lookup,2,FALSE))","v":0},{"$f":"IF(AND(OR(AK148=\"\",AK148=0)=TRUE,OR(AL148=\"\",AL148=0))=TRUE,0,IF(AL148=\"\",(IF(OR(C148=\"DDC\",C148=\"OHLC\")=TRUE,L148,M148)/1000)*V148*W148*(1+VLOOKUP($A$12,BuildingType_Lookup,4,FALSE)),IF(AL148=0,0,(IF(OR(C148=\"DDC\",C148=\"OHLC\")=TRUE,L148,N148)/1000)*V148*W148*(1+VLOOKUP($A$12,BuildingType_Lookup,4,FALSE)))))","v":0},{"$f":"IF(AND(OR(AK148=\"\",AK148=0)=TRUE,OR(AL148=\"\",AL148=0))=TRUE,0,IF(AL148=\"\",(IF(OR(C148=\"DDC\",C148=\"OHLC\")=TRUE,L148,M148)/1000)*V148*X148*(1+VLOOKUP($A$12,BuildingType_Lookup,MATCH($A$14,HVAC,0)+4,FALSE)),IF(AL148=0,0,(IF(OR(C148=\"DDC\",C148=\"OHLC\")=TRUE,L148,N148)/1000)*V148*X148*(1+VLOOKUP($A$12,BuildingType_Lookup,MATCH($A$14,HVAC,0)+4,FALSE)))))","v":0},{"$f":"IFERROR(IF(OR(C148=\"DDC\",C148=\"OHLC\")=TRUE,F148*H148*Y148,F148*Y148),0)","v":0},{"$f":"IFERROR(IF(OR(C148=\"DDC\",C148=\"OHLC\")=TRUE,G148*I148*Y148,G148*Y148),0)","v":0},{"$f":"IFERROR(IF(OR(C148=\"DDC\",C148=\"OHLC\")=TRUE,F148*H148*Z148,F148*Z148),0)","v":0},{"$f":"IFERROR(IF(OR(C148=\"DDC\",C148=\"OHLC\")=TRUE,G148*I148*Z148,G148*Z148),0)","v":0},0,0,{"$f":"T148/1000*V148*X148*IF(IFERROR(SEARCH(\"Gas\",$A$14),0)>0,VLOOKUP(\"Gas\",HVACg_Lookup,MATCH($F$12,BuildingSize,0)+1,FALSE),IF(IFERROR(SEARCH(\"Oil\",$A$14),0)>0,VLOOKUP(\"Oil\",HVACg_Lookup,MATCH($F$12,BuildingSize,0)+1,FALSE),IF(IFERROR(SEARCH(\"Propane\",$A$14),0)>0,VLOOKUP(\"Propane\",HVACg_Lookup,MATCH(Worksheet!$F$12,BuildingSize,0)+1,FALSE),0)))","v":0},{"$f":"U148/1000*V148*X148*IF(IFERROR(SEARCH(\"Gas\",$A$14),0)>0,VLOOKUP(\"Gas\",HVACg_Lookup,MATCH($F$12,BuildingSize,0)+1,FALSE),IF(IFERROR(SEARCH(\"Oil\",$A$14),0)>0,VLOOKUP(\"Oil\",HVACg_Lookup,MATCH($F$12,BuildingSize,0)+1,FALSE),IF(IFERROR(SEARCH(\"Propane\",$A$14),0)>0,VLOOKUP(\"Propane\",HVACg_Lookup,MATCH(Worksheet!$F$12,BuildingSize,0)+1,FALSE),0)))","v":0},0,0,"",""]
[null,null,{"$f":"IF(A149=\"\",\"\",VLOOKUP(A149,MeasureCode_Lookup,2,FALSE))","v":""},null,null,null,null,null,null,null,null,null,{"$f":"IF(OR(A149=\"\",F149=\"\",H149=\"\",L149=\"\")=TRUE,0,H149*L149)","v":0},{"$f":"IF(OR(A149=\"\",G149=\"\",I149=\"\",L149=\"\")=TRUE,0,I149*L149)","v":0},0,0,"",{"$f":"IF(N(O149)=0,0,F149*O149*IF(Q149=\"per Fixture Controlled\",H149,1))","v":0},{"$f":"IF(N(P149)=0,0,G149*P149*IF(Q149=\"per Fixture Controlled\",I149,1))","v":0},{"$f":"IF(N(O149)=0,0,F149*M149)","v":0},{"$f":"IF(N(P149)=0,0,G149*N149)","v":0},0,0,0,0,0,0,0,0,0,{"$f":"AC149*8","v":0},{"$f":"AD149*8","v":0},{"$f":"T149/1000*V149*X149*IF(IFERROR(SEARCH(\"Gas\",$A$14),0)>0,VLOOKUP(\"Gas\",HVACg_Lookup,MATCH($F$12,BuildingSize,0)+1,FALSE),IF(IFERROR(SEARCH(\"Oil\",$A$14),0)>0,VLOOKUP(\"Oil\",HVACg_Lookup,MATCH($F$12,BuildingSize,0)+1,FALSE),IF(IFERROR(SEARCH(\"Propane\",$A$14),0)>0,VLOOKUP(\"Propane\",HVACg_Lookup,MATCH(Worksheet!$F$12,BuildingSize,0)+1,FALSE),0)))","v":0},{"$f":"U149/1000*V149*X149*IF(IFERROR(SEARCH(\"Gas\",$A$14),0)>0,VLOOKUP(\"Gas\",HVACg_Lookup,MATCH($F$12,BuildingSize,0)+1,FALSE),IF(IFERROR(SEARCH(\"Oil\",$A$14),0)>0,VLOOKUP(\"Oil\",HVACg_Lookup,MATCH($F$12,BuildingSize,0)+1,FALSE),IF(IFERROR(SEARCH(\"Propane\",$A$14),0)>0,VLOOKUP(\"Propane\",HVACg_Lookup,MATCH(Worksheet!$F$12,BuildingSize,0)+1,FALSE),0)))","v":0},{"$f":"AG149*8","v":0},{"$f":"AH149*8","v":0},{"$f":"IF(OR($B$3=\"\",$B$4=\"\",$A$12=\"\",$F$12=\"\",$A$14=\"\",A149=\"\",F149=\"\",H149=\"\",L149=\"\")=TRUE,\"\",IF(C149=\"OSW\",IF(H149>=2,1,0),IF(C149=\"OSR\",IF(AND(H149>=2,M149>=180)=TRUE,1,0),IF(C149=\"OSRH\",IF(AND(H149>=1,M149>=180)=TRUE,1,0),IF(C149=\"OHLC\",IF(M149>=240,1,0),IF(C149=\"DDC\",IF(AND(H149>=4,M149>=240)=TRUE,1,0),0))))))","v":""},{"$f":"IF(OR($B$3=\"\",$B$4=\"\",$A$12=\"\",$F$12=\"\",$A$14=\"\",A149=\"\",F149=\"\",I149=\"\",L149=\"\")=TRUE,\"\",IF(C149=\"OSW\",IF(I149>=2,1,0),IF(C149=\"OSR\",IF(AND(I149>=2,N149>=180)=TRUE,1,0),IF(C149=\"OSRH\",IF(AND(I149>=1,N149>=180)=TRUE,1,0),IF(C149=\"OHLC\",IF(N149>=240,1,0),IF(C149=\"DDC\",IF(AND(I149>=4,N149>=240)=TRUE,1,0),0))))))","v":""}]
[null,null,"",null,null,null,null,null,null,null,null,null,0,0,0,0,"",0,0,0,0,0,0,0,0,0,0,0,0,0,0,0,{"$f":"T150/1000*V150*X150*IF(IFERROR(SEARCH(\"Gas\",$A$14),0)>0,VLOOKUP(\"Gas\",HVACg_Lookup,MATCH($F$12,BuildingSize,0)+1,FALSE),IF(IFERROR(SEARCH(\"Oil\",$A$14),0)>0,VLOOKUP(\"Oil\",HVACg_Lookup,MATCH($F$12,BuildingSize,0)+1,FALSE),IF(IFERROR(SEARCH(\"Propane\",$A$14),0)>0,VLOOKUP(\"Propane\",HVACg_Lookup,MATCH(Worksheet!$F$12,BuildingSize,0)+1,FALSE),0)))","v":0},{"$f":"U150/1000*V150*X150*IF(IFERROR(SEARCH(\"Gas\",$A$14),0)>0,VLOOKUP(\"Gas\",HVACg_Lookup,MATCH($F$12,BuildingSize,0)+1,FALSE),IF(IFERROR(SEARCH(\"Oil\",$A$14),0)>0,VLOOKUP(\"Oil\",HVACg_Lookup,MATCH($F$12,BuildingSize,0)+1,FALSE),IF(IFERROR(SEARCH(\"Propane\",$A$14),0)>0,VLOOKUP(\"Propane\",HVACg_Lookup,MATCH(Worksheet!$F$12,BuildingSize,0)+1,FALSE),0)))","v":0},0,0,"",""]
[null,null,"",null,null,null,null,null,null,null,null,null,0,0,0,0,"",0,0,0,0,0,0,0,0,0,0,0,0,0,0,0,{"$f":"T151/1000*V151*X151*IF(IFERROR(SEARCH(\"Gas\",$A$14),0)>0,VLOOKUP(\"Gas\",HVACg_Lookup,MATCH($F$12,BuildingSize,0)+1,FALSE),IF(IFERROR(SEARCH(\"Oil\",$A$14),0)>0,VLOOKUP(\"Oil\",HVACg_Lookup,MATCH($F$12,BuildingSize,0)+1,FALSE),IF(IFERROR(SEARCH(\"Propane\",$A$14),0)>0,VLOOKUP(\"Propane\",HVACg_Lookup,MATCH(Worksheet!$F$12,BuildingSize,0)+1,FALSE),0)))","v":0},{"$f":"U151/1000*V151*X151*IF(IFERROR(SEARCH(\"Gas\",$A$14),0)>0,VLOOKUP(\"Gas\",HVACg_Lookup,MATCH($F$12,BuildingSize,0)+1,FALSE),IF(IFERROR(SEARCH(\"Oil\",$A$14),0)>0,VLOOKUP(\"Oil\",HVACg_Lookup,MATCH($F$12,BuildingSize,0)+1,FALSE),IF(IFERROR(SEARCH(\"Propane\",$A$14),0)>0,VLOOKUP(\"Propane\",HVACg_Lookup,MATCH(Worksheet!$F$12,BuildingSize,0)+1,FALSE),0)))","v":0},0,0,"",""]
[null,null,"",null,null,null,null,null,null,null,null,null,0,0,0,0,"",0,0,0,0,0,0,0,0,0,0,0,0,0,0,0,{"$f":"T152/1000*V152*X152*IF(IFERROR(SEARCH(\"Gas\",$A$14),0)>0,VLOOKUP(\"Gas\",HVACg_Lookup,MATCH($F$12,BuildingSize,0)+1,FALSE),IF(IFERROR(SEARCH(\"Oil\",$A$14),0)>0,VLOOKUP(\"Oil\",HVACg_Lookup,MATCH($F$12,BuildingSize,0)+1,FALSE),IF(IFERROR(SEARCH(\"Propane\",$A$14),0)>0,VLOOKUP(\"Propane\",HVACg_Lookup,MATCH(Worksheet!$F$12,BuildingSize,0)+1,FALSE),0)))","v":0},{"$f":"U152/1000*V152*X152*IF(IFERROR(SEARCH(\"Gas\",$A$14),0)>0,VLOOKUP(\"Gas\",HVACg_Lookup,MATCH($F$12,BuildingSize,0)+1,FALSE),IF(IFERROR(SEARCH(\"Oil\",$A$14),0)>0,VLOOKUP(\"Oil\",HVACg_Lookup,MATCH($F$12,BuildingSize,0)+1,FALSE),IF(IFERROR(SEARCH(\"Propane\",$A$14),0)>0,VLOOKUP(\"Propane\",HVACg_Lookup,MATCH(Worksheet!$F$12,BuildingSize,0)+1,FALSE),0)))","v":0},0,0,"",""]
[null,null,"",null,null,null,null,null,null,null,null,null,0,0,0,0,"",0,0,0,0,0,0,0,0,0,0,0,0,0,0,0,{"$f":"T153/1000*V153*X153*IF(IFERROR(SEARCH(\"Gas\",$A$14),0)>0,VLOOKUP(\"Gas\",HVACg_Lookup,MATCH($F$12,BuildingSize,0)+1,FALSE),IF(IFERROR(SEARCH(\"Oil\",$A$14),0)>0,VLOOKUP(\"Oil\",HVACg_Lookup,MATCH($F$12,BuildingSize,0)+1,FALSE),IF(IFERROR(SEARCH(\"Propane\",$A$14),0)>0,VLOOKUP(\"Propane\",HVACg_Lookup,MATCH(Worksheet!$F$12,BuildingSize,0)+1,FALSE),0)))","v":0},{"$f":"U153/1000*V153*X153*IF(IFERROR(SEARCH(\"Gas\",$A$14),0)>0,VLOOKUP(\"Gas\",HVACg_Lookup,MATCH($F$12,BuildingSize,0)+1,FALSE),IF(IFERROR(SEARCH(\"Oil\",$A$14),0)>0,VLOOKUP(\"Oil\",HVACg_Lookup,MATCH($F$12,BuildingSize,0)+1,FALSE),IF(IFERROR(SEARCH(\"Propane\",$A$14),0)>0,VLOOKUP(\"Propane\",HVACg_Lookup,MATCH(Worksheet!$F$12,BuildingSize,0)+1,FALSE),0)))","v":0},0,0,"",""]
[null,null,"",null,null,null,null,null,null,null,null,null,0,0,0,0,"",0,0,0,0,0,0,0,0,0,0,0,0,0,0,0,{"$f":"T154/1000*V154*X154*IF(IFERROR(SEARCH(\"Gas\",$A$14),0)>0,VLOOKUP(\"Gas\",HVACg_Lookup,MATCH($F$12,BuildingSize,0)+1,FALSE),IF(IFERROR(SEARCH(\"Oil\",$A$14),0)>0,VLOOKUP(\"Oil\",HVACg_Lookup,MATCH($F$12,BuildingSize,0)+1,FALSE),IF(IFERROR(SEARCH(\"Propane\",$A$14),0)>0,VLOOKUP(\"Propane\",HVACg_Lookup,MATCH(Worksheet!$F$12,BuildingSize,0)+1,FALSE),0)))","v":0},{"$f":"U154/1000*V154*X154*IF(IFERROR(SEARCH(\"Gas\",$A$14),0)>0,VLOOKUP(\"Gas\",HVACg_Lookup,MATCH($F$12,BuildingSize,0)+1,FALSE),IF(IFERROR(SEARCH(\"Oil\",$A$14),0)>0,VLOOKUP(\"Oil\",HVACg_Lookup,MATCH($F$12,BuildingSize,0)+1,FALSE),IF(IFERROR(SEARCH(\"Propane\",$A$14),0)>0,VLOOKUP(\"Propane\",HVACg_Lookup,MATCH(Worksheet!$F$12,BuildingSize,0)+1,FALSE),0)))","v":0},0,0,"",""]
[null,null,"",null,null,null,null,null,null,null,null,null,0,0,0,0,"",0,0,0,0,0,0,0,0,0,0,0,0,0,0,0,{"$f":"T155/1000*V155*X155*IF(IFERROR(SEARCH(\"Gas\",$A$14),0)>0,VLOOKUP(\"Gas\",HVACg_Lookup,MATCH($F$12,BuildingSize,0)+1,FALSE),IF(IFERROR(SEARCH(\"Oil\",$A$14),0)>0,VLOOKUP(\"Oil\",HVACg_Lookup,MATCH($F$12,BuildingSize,0)+1,FALSE),IF(IFERROR(SEARCH(\"Propane\",$A$14),0)>0,VLOOKUP(\"Propane\",HVACg_Lookup,MATCH(Worksheet!$F$12,BuildingSize,0)+1,FALSE),0)))","v":0},{"$f":"U155/1000*V155*X155*IF(IFERROR(SEARCH(\"Gas\",$A$14),0)>0,VLOOKUP(\"Gas\",HVACg_Lookup,MATCH($F$12,BuildingSize,0)+1,FALSE),IF(IFERROR(SEARCH(\"Oil\",$A$14),0)>0,VLOOKUP(\"Oil\",HVACg_Lookup,MATCH($F$12,BuildingSize,0)+1,FALSE),IF(IFERROR(SEARCH(\"Propane\",$A$14),0)>0,VLOOKUP(\"Propane\",HVACg_Lookup,MATCH(Worksheet!$F$12,BuildingSize,0)+1,FALSE),0)))","v":0},0,0,"",""]
[null,null,"",null,null,null,null,null,null,null,null,null,0,0,0,0,"",0,0,0,0,0,0,0,0,0,0,0,0,0,0,0,{"$f":"T156/1000*V156*X156*IF(IFERROR(SEARCH(\"Gas\",$A$14),0)>0,VLOOKUP(\"Gas\",HVACg_Lookup,MATCH($F$12,BuildingSize,0)+1,FALSE),IF(IFERROR(SEARCH(\"Oil\",$A$14),0)>0,VLOOKUP(\"Oil\",HVACg_Lookup,MATCH($F$12,BuildingSize,0)+1,FALSE),IF(IFERROR(SEARCH(\"Propane\",$A$14),0)>0,VLOOKUP(\"Propane\",HVACg_Lookup,MATCH(Worksheet!$F$12,BuildingSize,0)+1,FALSE),0)))","v":0},{"$f":"U156/1000*V156*X156*IF(IFERROR(SEARCH(\"Gas\",$A$14),0)>0,VLOOKUP(\"Gas\",HVACg_Lookup,MATCH($F$12,BuildingSize,0)+1,FALSE),IF(IFERROR(SEARCH(\"Oil\",$A$14),0)>0,VLOOKUP(\"Oil\",HVACg_Lookup,MATCH($F$12,BuildingSize,0)+1,FALSE),IF(IFERROR(SEARCH(\"Propane\",$A$14),0)>0,VLOOKUP(\"Propane\",HVACg_Lookup,MATCH(Worksheet!$F$12,BuildingSize,0)+1,FALSE),0)))","v":0},0,0,"",""]
[null,null,"",null,null,null,null,null,null,null,null,null,0,0,0,0,"",0,0,0,0,0,0,0,0,0,0,0,0,0,0,0,{"$f":"T157/1000*V157*X157*IF(IFERROR(SEARCH(\"Gas\",$A$14),0)>0,VLOOKUP(\"Gas\",HVACg_Lookup,MATCH($F$12,BuildingSize,0)+1,FALSE),IF(IFERROR(SEARCH(\"Oil\",$A$14),0)>0,VLOOKUP(\"Oil\",HVACg_Lookup,MATCH($F$12,BuildingSize,0)+1,FALSE),IF(IFERROR(SEARCH(\"Propane\",$A$14),0)>0,VLOOKUP(\"Propane\",HVACg_Lookup,MATCH(Worksheet!$F$12,BuildingSize,0)+1,FALSE),0)))","v":0},{"$f":"U157/1000*V157*X157*IF(IFERROR(SEARCH(\"Gas\",$A$14),0)>0,VLOOKUP(\"Gas\",HVACg_Lookup,MATCH($F$12,BuildingSize,0)+1,FALSE),IF(IFERROR(SEARCH(\"Oil\",$A$14),0)>0,VLOOKUP(\"Oil\",HVACg_Lookup,MATCH($F$12,BuildingSize,0)+1,FALSE),IF(IFERROR(SEARCH(\"Propane\",$A$14),0)>0,VLOOKUP(\"Propane\",HVACg_Lookup,MATCH(Worksheet!$F$12,BuildingSize,0)+1,FALSE),0)))","v":0},0,0,"",""]
[null,null,"",null,null,null,null,null,null,null,null,null,0,0,0,0,"",0,0,0,0,0,0,0,0,0,0,0,0,0,0,0,{"$f":"T158/1000*V158*X158*IF(IFERROR(SEARCH(\"Gas\",$A$14),0)>0,VLOOKUP(\"Gas\",HVACg_Lookup,MATCH($F$12,BuildingSize,0)+1,FALSE),IF(IFERROR(SEARCH(\"Oil\",$A$14),0)>0,VLOOKUP(\"Oil\",HVACg_Lookup,MATCH($F$12,BuildingSize,0)+1,FALSE),IF(IFERROR(SEARCH(\"Propane\",$A$14),0)>0,VLOOKUP(\"Propane\",HVACg_Lookup,MATCH(Worksheet!$F$12,BuildingSize,0)+1,FALSE),0)))","v":0},{"$f":"U158/1000*V158*X158*IF(IFERROR(SEARCH(\"Gas\",$A$14),0)>0,VLOOKUP(\"Gas\",HVACg_Lookup,MATCH($F$12,BuildingSize,0)+1,FALSE),IF(IFERROR(SEARCH(\"Oil\",$A$14),0)>0,VLOOKUP(\"Oil\",HVACg_Lookup,MATCH($F$12,BuildingSize,0)+1,FALSE),IF(IFERROR(SEARCH(\"Propane\",$A$14),0)>0,VLOOKUP(\"Propane\",HVACg_Lookup,MATCH(Worksheet!$F$12,BuildingSize,0)+1,FALSE),0)))","v":0},0,0,"",""]
[null,null,"",null,null,null,null,null,null,null,null,null,0,0,0,0,"",0,0,0,0,0,0,0,0,0,0,0,0,0,0,0,{"$f":"T159/1000*V159*X159*IF(IFERROR(SEARCH(\"Gas\",$A$14),0)>0,VLOOKUP(\"Gas\",HVACg_Lookup,MATCH($F$12,BuildingSize,0)+1,FALSE),IF(IFERROR(SEARCH(\"Oil\",$A$14),0)>0,VLOOKUP(\"Oil\",HVACg_Lookup,MATCH($F$12,BuildingSize,0)+1,FALSE),IF(IFERROR(SEARCH(\"Propane\",$A$14),0)>0,VLOOKUP(\"Propane\",HVACg_Lookup,MATCH(Worksheet!$F$12,BuildingSize,0)+1,FALSE),0)))","v":0},{"$f":"U159/1000*V159*X159*IF(IFERROR(SEARCH(\"Gas\",$A$14),0)>0,VLOOKUP(\"Gas\",HVACg_Lookup,MATCH($F$12,BuildingSize,0)+1,FALSE),IF(IFERROR(SEARCH(\"Oil\",$A$14),0)>0,VLOOKUP(\"Oil\",HVACg_Lookup,MATCH($F$12,BuildingSize,0)+1,FALSE),IF(IFERROR(SEARCH(\"Propane\",$A$14),0)>0,VLOOKUP(\"Propane\",HVACg_Lookup,MATCH(Worksheet!$F$12,BuildingSize,0)+1,FALSE),0)))","v":0},0,0,"",""]
[null,null,"",null,null,null,null,null,null,null,null,null,0,0,0,0,"",0,0,0,0,0,0,0,0,0,0,0,0,0,0,0,{"$f":"T160/1000*V160*X160*IF(IFERROR(SEARCH(\"Gas\",$A$14),0)>0,VLOOKUP(\"Gas\",HVACg_Lookup,MATCH($F$12,BuildingSize,0)+1,FALSE),IF(IFERROR(SEARCH(\"Oil\",$A$14),0)>0,VLOOKUP(\"Oil\",HVACg_Lookup,MATCH($F$12,BuildingSize,0)+1,FALSE),IF(IFERROR(SEARCH(\"Propane\",$A$14),0)>0,VLOOKUP(\"Propane\",HVACg_Lookup,MATCH(Worksheet!$F$12,BuildingSize,0)+1,FALSE),0)))","v":0},{"$f":"U160/1000*V160*X160*IF(IFERROR(SEARCH(\"Gas\",$A$14),0)>0,VLOOKUP(\"Gas\",HVACg_Lookup,MATCH($F$12,BuildingSize,0)+1,FALSE),IF(IFERROR(SEARCH(\"Oil\",$A$14),0)>0,VLOOKUP(\"Oil\",HVACg_Lookup,MATCH($F$12,BuildingSize,0)+1,FALSE),IF(IFERROR(SEARCH(\"Propane\",$A$14),0)>0,VLOOKUP(\"Propane\",HVACg_Lookup,MATCH(Worksheet!$F$12,BuildingSize,0)+1,FALSE),0)))","v":0},0,0,"",""]
[null,null,"",null,null,null,null,null,null,null,null,null,0,0,0,0,"",0,0,0,0,0,0,0,0,0,0,0,0,0,0,0,{"$f":"T161/1000*V161*X161*IF(IFERROR(SEARCH(\"Gas\",$A$14),0)>0,VLOOKUP(\"Gas\",HVACg_Lookup,MATCH($F$12,BuildingSize,0)+1,FALSE),IF(IFERROR(SEARCH(\"Oil\",$A$14),0)>0,VLOOKUP(\"Oil\",HVACg_Lookup,MATCH($F$12,BuildingSize,0)+1,FALSE),IF(IFERROR(SEARCH(\"Propane\",$A$14),0)>0,VLOOKUP(\"Propane\",HVACg_Lookup,MATCH(Worksheet!$F$12,BuildingSize,0)+1,FALSE),0)))","v":0},{"$f":"U161/1000*V161*X161*IF(IFERROR(SEARCH(\"Gas\",$A$14),0)>0,VLOOKUP(\"Gas\",HVACg_Lookup,MATCH($F$12,BuildingSize,0)+1,FALSE),IF(IFERROR(SEARCH(\"Oil\",$A$14),0)>0,VLOOKUP(\"Oil\",HVACg_Lookup,MATCH($F$12,BuildingSize,0)+1,FALSE),IF(IFERROR(SEARCH(\"Propane\",$A$14),0)>0,VLOOKUP(\"Propane\",HVACg_Lookup,MATCH(Worksheet!$F$12,BuildingSize,0)+1,FALSE),0)))","v":0},0,0,"",""]
[null,null,"",null,null,null,null,null,null,null,null,null,0,0,0,0,"",0,0,0,0,0,0,0,0,0,0,0,0,0,0,0,{"$f":"T162/1000*V162*X162*IF(IFERROR(SEARCH(\"Gas\",$A$14),0)>0,VLOOKUP(\"Gas\",HVACg_Lookup,MATCH($F$12,BuildingSize,0)+1,FALSE),IF(IFERROR(SEARCH(\"Oil\",$A$14),0)>0,VLOOKUP(\"Oil\",HVACg_Lookup,MATCH($F$12,BuildingSize,0)+1,FALSE),IF(IFERROR(SEARCH(\"Propane\",$A$14),0)>0,VLOOKUP(\"Propane\",HVACg_Lookup,MATCH(Worksheet!$F$12,BuildingSize,0)+1,FALSE),0)))","v":0},{"$f":"U162/1000*V162*X162*IF(IFERROR(SEARCH(\"Gas\",$A$14),0)>0,VLOOKUP(\"Gas\",HVACg_Lookup,MATCH($F$12,BuildingSize,0)+1,FALSE),IF(IFERROR(SEARCH(\"Oil\",$A$14),0)>0,VLOOKUP(\"Oil\",HVACg_Lookup,MATCH($F$12,BuildingSize,0)+1,FALSE),IF(IFERROR(SEARCH(\"Propane\",$A$14),0)>0,VLOOKUP(\"Propane\",HVACg_Lookup,MATCH(Worksheet!$F$12,BuildingSize,0)+1,FALSE),0)))","v":0},0,0,"",""]
[null,null,"",null,null,null,null,null,null,null,null,null,0,0,0,0,"",0,0,0,0,0,0,0,0,0,0,0,0,0,0,0,{"$f":"T163/1000*V163*X163*IF(IFERROR(SEARCH(\"Gas\",$A$14),0)>0,VLOOKUP(\"Gas\",HVACg_Lookup,MATCH($F$12,BuildingSize,0)+1,FALSE),IF(IFERROR(SEARCH(\"Oil\",$A$14),0)>0,VLOOKUP(\"Oil\",HVACg_Lookup,MATCH($F$12,BuildingSize,0)+1,FALSE),IF(IFERROR(SEARCH(\"Propane\",$A$14),0)>0,VLOOKUP(\"Propane\",HVACg_Lookup,MATCH(Worksheet!$F$12,BuildingSize,0)+1,FALSE),0)))","v":0},{"$f":"U163/1000*V163*X163*IF(IFERROR(SEARCH(\"Gas\",$A$14),0)>0,VLOOKUP(\"Gas\",HVACg_Lookup,MATCH($F$12,BuildingSize,0)+1,FALSE),IF(IFERROR(SEARCH(\"Oil\",$A$14),0)>0,VLOOKUP(\"Oil\",HVACg_Lookup,MATCH($F$12,BuildingSize,0)+1,FALSE),IF(IFERROR(SEARCH(\"Propane\",$A$14),0)>0,VLOOKUP(\"Propane\",HVACg_Lookup,MATCH(Worksheet!$F$12,BuildingSize,0)+1,FALSE),0)))","v":0},0,0,"",""]
[null,null,"",null,null,null,null,null,null,null,null,null,0,0,0,0,"",0,0,0,0,0,0,0,0,0,0,0,0,0,0,0,{"$f":"T164/1000*V164*X164*IF(IFERROR(SEARCH(\"Gas\",$A$14),0)>0,VLOOKUP(\"Gas\",HVACg_Lookup,MATCH($F$12,BuildingSize,0)+1,FALSE),IF(IFERROR(SEARCH(\"Oil\",$A$14),0)>0,VLOOKUP(\"Oil\",HVACg_Lookup,MATCH($F$12,BuildingSize,0)+1,FALSE),IF(IFERROR(SEARCH(\"Propane\",$A$14),0)>0,VLOOKUP(\"Propane\",HVACg_Lookup,MATCH(Worksheet!$F$12,BuildingSize,0)+1,FALSE),0)))","v":0},{"$f":"U164/1000*V164*X164*IF(IFERROR(SEARCH(\"Gas\",$A$14),0)>0,VLOOKUP(\"Gas\",HVACg_Lookup,MATCH($F$12,BuildingSize,0)+1,FALSE),IF(IFERROR(SEARCH(\"Oil\",$A$14),0)>0,VLOOKUP(\"Oil\",HVACg_Lookup,MATCH($F$12,BuildingSize,0)+1,FALSE),IF(IFERROR(SEARCH(\"Propane\",$A$14),0)>0,VLOOKUP(\"Propane\",HVACg_Lookup,MATCH(Worksheet!$F$12,BuildingSize,0)+1,FALSE),0)))","v":0},0,0,"",""]
[null,null,"",null,null,null,null,null,null,null,null,null,0,0,0,0,"",0,0,0,0,0,0,0,0,0,0,0,0,0,0,0,{"$f":"T165/1000*V165*X165*IF(IFERROR(SEARCH(\"Gas\",$A$14),0)>0,VLOOKUP(\"Gas\",HVACg_Lookup,MATCH($F$12,BuildingSize,0)+1,FALSE),IF(IFERROR(SEARCH(\"Oil\",$A$14),0)>0,VLOOKUP(\"Oil\",HVACg_Lookup,MATCH($F$12,BuildingSize,0)+1,FALSE),IF(IFERROR(SEARCH(\"Propane\",$A$14),0)>0,VLOOKUP(\"Propane\",HVACg_Lookup,MATCH(Worksheet!$F$12,BuildingSize,0)+1,FALSE),0)))","v":0},{"$f":"U165/1000*V165*X165*IF(IFERROR(SEARCH(\"Gas\",$A$14),0)>0,VLOOKUP(\"Gas\",HVACg_Lookup,MATCH($F$12,BuildingSize,0)+1,FALSE),IF(IFERROR(SEARCH(\"Oil\",$A$14),0)>0,VLOOKUP(\"Oil\",HVACg_Lookup,MATCH($F$12,BuildingSize,0)+1,FALSE),IF(IFERROR(SEARCH(\"Propane\",$A$14),0)>0,VLOOKUP(\"Propane\",HVACg_Lookup,MATCH(Worksheet!$F$12,BuildingSize,0)+1,FALSE),0)))","v":0},0,0,"",""]
[null,null,"",null,null,null,null,null,null,null,null,null,0,0,0,0,"",0,0,0,0,0,0,0,0,0,0,0,0,0,0,0,{"$f":"T166/1000*V166*X166*IF(IFERROR(SEARCH(\"Gas\",$A$14),0)>0,VLOOKUP(\"Gas\",HVACg_Lookup,MATCH($F$12,BuildingSize,0)+1,FALSE),IF(IFERROR(SEARCH(\"Oil\",$A$14),0)>0,VLOOKUP(\"Oil\",HVACg_Lookup,MATCH($F$12,BuildingSize,0)+1,FALSE),IF(IFERROR(SEARCH(\"Propane\",$A$14),0)>0,VLOOKUP(\"Propane\",HVACg_Lookup,MATCH(Worksheet!$F$12,BuildingSize,0)+1,FALSE),0)))","v":0},{"$f":"U166/1000*V166*X166*IF(IFERROR(SEARCH(\"Gas\",$A$14),0)>0,VLOOKUP(\"Gas\",HVACg_Lookup,MATCH($F$12,BuildingSize,0)+1,FALSE),IF(IFERROR(SEARCH(\"Oil\",$A$14),0)>0,VLOOKUP(\"Oil\",HVACg_Lookup,MATCH($F$12,BuildingSize,0)+1,FALSE),IF(IFERROR(SEARCH(\"Propane\",$A$14),0)>0,VLOOKUP(\"Propane\",HVACg_Lookup,MATCH(Worksheet!$F$12,BuildingSize,0)+1,FALSE),0)))","v":0},0,0,"",""]
[null,null,"",null,null,null,null,null,null,null,null,null,0,0,0,0,"",0,0,0,0,0,0,0,0,0,0,0,0,0,0,0,{"$f":"T167/1000*V167*X167*IF(IFERROR(SEARCH(\"Gas\",$A$14),0)>0,VLOOKUP(\"Gas\",HVACg_Lookup,MATCH($F$12,BuildingSize,0)+1,FALSE),IF(IFERROR(SEARCH(\"Oil\",$A$14),0)>0,VLOOKUP(\"Oil\",HVACg_Lookup,MATCH($F$12,BuildingSize,0)+1,FALSE),IF(IFERROR(SEARCH(\"Propane\",$A$14),0)>0,VLOOKUP(\"Propane\",HVACg_Lookup,MATCH(Worksheet!$F$12,BuildingSize,0)+1,FALSE),0)))","v":0},{"$f":"U167/1000*V167*X167*IF(IFERROR(SEARCH(\"Gas\",$A$14),0)>0,VLOOKUP(\"Gas\",HVACg_Lookup,MATCH($F$12,BuildingSize,0)+1,FALSE),IF(IFERROR(SEARCH(\"Oil\",$A$14),0)>0,VLOOKUP(\"Oil\",HVACg_Lookup,MATCH($F$12,BuildingSize,0)+1,FALSE),IF(IFERROR(SEARCH(\"Propane\",$A$14),0)>0,VLOOKUP(\"Propane\",HVACg_Lookup,MATCH(Worksheet!$F$12,BuildingSize,0)+1,FALSE),0)))","v":0},0,0,"",""]
[null,null,"",null,null,null,null,null,null,null,null,null,0,0,0,0,"",0,0,0,0,0,0,0,0,0,0,0,0,0,0,0,{"$f":"T168/1000*V168*X168*IF(IFERROR(SEARCH(\"Gas\",$A$14),0)>0,VLOOKUP(\"Gas\",HVACg_Lookup,MATCH($F$12,BuildingSize,0)+1,FALSE),IF(IFERROR(SEARCH(\"Oil\",$A$14),0)>0,VLOOKUP(\"Oil\",HVACg_Lookup,MATCH($F$12,BuildingSize,0)+1,FALSE),IF(IFERROR(SEARCH(\"Propane\",$A$14),0)>0,VLOOKUP(\"Propane\",HVACg_Lookup,MATCH(Worksheet!$F$12,BuildingSize,0)+1,FALSE),0)))","v":0},{"$f":"U168/1000*V168*X168*IF(IFERROR(SEARCH(\"Gas\",$A$14),0)>0,VLOOKUP(\"Gas\",HVACg_Lookup,MATCH($F$12,BuildingSize,0)+1,FALSE),IF(IFERROR(SEARCH(\"Oil\",$A$14),0)>0,VLOOKUP(\"Oil\",HVACg_Lookup,MATCH($F$12,BuildingSize,0)+1,FALSE),IF(IFERROR(SEARCH(\"Propane\",$A$14),0)>0,VLOOKUP(\"Propane\",HVACg_Lookup,MATCH(Worksheet!$F$12,BuildingSize,0)+1,FALSE),0)))","v":0},0,0,"",""]
[null,null,"",null,null,null,null,null,null,null,null,null,0,0,0,0,"",0,0,0,0,0,0,0,0,0,0,0,0,0,0,0,{"$f":"T169/1000*V169*X169*IF(IFERROR(SEARCH(\"Gas\",$A$14),0)>0,VLOOKUP(\"Gas\",HVACg_Lookup,MATCH($F$12,BuildingSize,0)+1,FALSE),IF(IFERROR(SEARCH(\"Oil\",$A$14),0)>0,VLOOKUP(\"Oil\",HVACg_Lookup,MATCH($F$12,BuildingSize,0)+1,FALSE),IF(IFERROR(SEARCH(\"Propane\",$A$14),0)>0,VLOOKUP(\"Propane\",HVACg_Lookup,MATCH(Worksheet!$F$12,BuildingSize,0)+1,FALSE),0)))","v":0},{"$f":"U169/1000*V169*X169*IF(IFERROR(SEARCH(\"Gas\",$A$14),0)>0,VLOOKUP(\"Gas\",HVACg_Lookup,MATCH($F$12,BuildingSize,0)+1,FALSE),IF(IFERROR(SEARCH(\"Oil\",$A$14),0)>0,VLOOKUP(\"Oil\",HVACg_Lookup,MATCH($F$12,BuildingSize,0)+1,FALSE),IF(IFERROR(SEARCH(\"Propane\",$A$14),0)>0,VLOOKUP(\"Propane\",HVACg_Lookup,MATCH(Worksheet!$F$12,BuildingSize,0)+1,FALSE),0)))","v":0},0,0,"",""]
[null,null,"",null,null,null,null,null,null,null,null,null,0,0,0,0,"",0,0,0,0,0,0,0,0,0,0,0,0,0,0,0,{"$f":"T170/1000*V170*X170*IF(IFERROR(SEARCH(\"Gas\",$A$14),0)>0,VLOOKUP(\"Gas\",HVACg_Lookup,MATCH($F$12,BuildingSize,0)+1,FALSE),IF(IFERROR(SEARCH(\"Oil\",$A$14),0)>0,VLOOKUP(\"Oil\",HVACg_Lookup,MATCH($F$12,BuildingSize,0)+1,FALSE),IF(IFERROR(SEARCH(\"Propane\",$A$14),0)>0,VLOOKUP(\"Propane\",HVACg_Lookup,MATCH(Worksheet!$F$12,BuildingSize,0)+1,FALSE),0)))","v":0},{"$f":"U170/1000*V170*X170*IF(IFERROR(SEARCH(\"Gas\",$A$14),0)>0,VLOOKUP(\"Gas\",HVACg_Lookup,MATCH($F$12,BuildingSize,0)+1,FALSE),IF(IFERROR(SEARCH(\"Oil\",$A$14),0)>0,VLOOKUP(\"Oil\",HVACg_Lookup,MATCH($F$12,BuildingSize,0)+1,FALSE),IF(IFERROR(SEARCH(\"Propane\",$A$14),0)>0,VLOOKUP(\"Propane\",HVACg_Lookup,MATCH(Worksheet!$F$12,BuildingSize,0)+1,FALSE),0)))","v":0},0,0,"",""]
[null,null,"",null,null,null,null,null,null,null,null,null,0,0,0,0,"",0,0,0,0,0,0,0,0,0,0,0,0,0,0,0,{"$f":"T171/1000*V171*X171*IF(IFERROR(SEARCH(\"Gas\",$A$14),0)>0,VLOOKUP(\"Gas\",HVACg_Lookup,MATCH($F$12,BuildingSize,0)+1,FALSE),IF(IFERROR(SEARCH(\"Oil\",$A$14),0)>0,VLOOKUP(\"Oil\",HVACg_Lookup,MATCH($F$12,BuildingSize,0)+1,FALSE),IF(IFERROR(SEARCH(\"Propane\",$A$14),0)>0,VLOOKUP(\"Propane\",HVACg_Lookup,MATCH(Worksheet!$F$12,BuildingSize,0)+1,FALSE),0)))","v":0},{"$f":"U171/1000*V171*X171*IF(IFERROR(SEARCH(\"Gas\",$A$14),0)>0,VLOOKUP(\"Gas\",HVACg_Lookup,MATCH($F$12,BuildingSize,0)+1,FALSE),IF(IFERROR(SEARCH(\"Oil\",$A$14),0)>0,VLOOKUP(\"Oil\",HVACg_Lookup,MATCH($F$12,BuildingSize,0)+1,FALSE),IF(IFERROR(SEARCH(\"Propane\",$A$14),0)>0,VLOOKUP(\"Propane\",HVACg_Lookup,MATCH(Worksheet!$F$12,BuildingSize,0)+1,FALSE),0)))","v":0},0,0,"",""]
[null,null,"",null,null,null,null,null,null,null,null,null,0,0,0,0,"",0,0,0,0,0,0,0,0,0,0,0,0,0,0,0,{"$f":"T172/1000*V172*X172*IF(IFERROR(SEARCH(\"Gas\",$A$14),0)>0,VLOOKUP(\"Gas\",HVACg_Lookup,MATCH($F$12,BuildingSize,0)+1,FALSE),IF(IFERROR(SEARCH(\"Oil\",$A$14),0)>0,VLOOKUP(\"Oil\",HVACg_Lookup,MATCH($F$12,BuildingSize,0)+1,FALSE),IF(IFERROR(SEARCH(\"Propane\",$A$14),0)>0,VLOOKUP(\"Propane\",HVACg_Lookup,MATCH(Worksheet!$F$12,BuildingSize,0)+1,FALSE),0)))","v":0},{"$f":"U172/1000*V172*X172*IF(IFERROR(SEARCH(\"Gas\",$A$14),0)>0,VLOOKUP(\"Gas\",HVACg_Lookup,MATCH($F$12,BuildingSize,0)+1,FALSE),IF(IFERROR(SEARCH(\"Oil\",$A$14),0)>0,VLOOKUP(\"Oil\",HVACg_Lookup,MATCH($F$12,BuildingSize,0)+1,FALSE),IF(IFERROR(SEARCH(\"Propane\",$A$14),0)>0,VLOOKUP(\"Propane\",HVACg_Lookup,MATCH(Worksheet!$F$12,BuildingSize,0)+1,FALSE),0)))","v":0},0,0,"",""]
[null,null,"",null,null,null,null,null,null,null,null,null,0,0,0,0,"",0,0,0,0,0,0,0,0,0,0,0,0,0,0,0,{"$f":"T173/1000*V173*X173*IF(IFERROR(SEARCH(\"Gas\",$A$14),0)>0,VLOOKUP(\"Gas\",HVACg_Lookup,MATCH($F$12,BuildingSize,0)+1,FALSE),IF(IFERROR(SEARCH(\"Oil\",$A$14),0)>0,VLOOKUP(\"Oil\",HVACg_Lookup,MATCH($F$12,BuildingSize,0)+1,FALSE),IF(IFERROR(SEARCH(\"Propane\",$A$14),0)>0,VLOOKUP(\"Propane\",HVACg_Lookup,MATCH(Worksheet!$F$12,BuildingSize,0)+1,FALSE),0)))","v":0},{"$f":"U173/1000*V173*X173*IF(IFERROR(SEARCH(\"Gas\",$A$14),0)>0,VLOOKUP(\"Gas\",HVACg_Lookup,MATCH($F$12,BuildingSize,0)+1,FALSE),IF(IFERROR(SEARCH(\"Oil\",$A$14),0)>0,VLOOKUP(\"Oil\",HVACg_Lookup,MATCH($F$12,BuildingSize,0)+1,FALSE),IF(IFERROR(SEARCH(\"Propane\",$A$14),0)>0,VLOOKUP(\"Propane\",HVACg_Lookup,MATCH(Worksheet!$F$12,BuildingSize,0)+1,FALSE),0)))","v":0},0,0,"",""]
[null,null,"",null,null,null,null,null,null,null,null,null,0,0,0,0,"",0,0,0,0,0,0,0,0,0,0,0,0,0,0,0,{"$f":"T174/1000*V174*X174*IF(IFERROR(SEARCH(\"Gas\",$A$14),0)>0,VLOOKUP(\"Gas\",HVACg_Lookup,MATCH($F$12,BuildingSize,0)+1,FALSE),IF(IFERROR(SEARCH(\"Oil\",$A$14),0)>0,VLOOKUP(\"Oil\",HVACg_Lookup,MATCH($F$12,BuildingSize,0)+1,FALSE),IF(IFERROR(SEARCH(\"Propane\",$A$14),0)>0,VLOOKUP(\"Propane\",HVACg_Lookup,MATCH(Worksheet!$F$12,BuildingSize,0)+1,FALSE),0)))","v":0},{"$f":"U174/1000*V174*X174*IF(IFERROR(SEARCH(\"Gas\",$A$14),0)>0,VLOOKUP(\"Gas\",HVACg_Lookup,MATCH($F$12,BuildingSize,0)+1,FALSE),IF(IFERROR(SEARCH(\"Oil\",$A$14),0)>0,VLOOKUP(\"Oil\",HVACg_Lookup,MATCH($F$12,BuildingSize,0)+1,FALSE),IF(IFERROR(SEARCH(\"Propane\",$A$14),0)>0,VLOOKUP(\"Propane\",HVACg_Lookup,MATCH(Worksheet!$F$12,BuildingSize,0)+1,FALSE),0)))","v":0},0,0,"",""]
[null,null,"",null,null,null,null,null,null,null,null,null,0,0,0,0,"",0,0,0,0,0,0,0,0,0,0,0,0,0,0,0,{"$f":"T175/1000*V175*X175*IF(IFERROR(SEARCH(\"Gas\",$A$14),0)>0,VLOOKUP(\"Gas\",HVACg_Lookup,MATCH($F$12,BuildingSize,0)+1,FALSE),IF(IFERROR(SEARCH(\"Oil\",$A$14),0)>0,VLOOKUP(\"Oil\",HVACg_Lookup,MATCH($F$12,BuildingSize,0)+1,FALSE),IF(IFERROR(SEARCH(\"Propane\",$A$14),0)>0,VLOOKUP(\"Propane\",HVACg_Lookup,MATCH(Worksheet!$F$12,BuildingSize,0)+1,FALSE),0)))","v":0},{"$f":"U175/1000*V175*X175*IF(IFERROR(SEARCH(\"Gas\",$A$14),0)>0,VLOOKUP(\"Gas\",HVACg_Lookup,MATCH($F$12,BuildingSize,0)+1,FALSE),IF(IFERROR(SEARCH(\"Oil\",$A$14),0)>0,VLOOKUP(\"Oil\",HVACg_Lookup,MATCH($F$12,BuildingSize,0)+1,FALSE),IF(IFERROR(SEARCH(\"Propane\",$A$14),0)>0,VLOOKUP(\"Propane\",HVACg_Lookup,MATCH(Worksheet!$F$12,BuildingSize,0)+1,FALSE),0)))","v":0},0,0,"",""]
[null,null,"",null,null,null,null,null,null,null,null,null,0,0,0,0,"",0,0,0,0,0,0,0,0,0,0,0,0,0,0,0,{"$f":"T176/1000*V176*X176*IF(IFERROR(SEARCH(\"Gas\",$A$14),0)>0,VLOOKUP(\"Gas\",HVACg_Lookup,MATCH($F$12,BuildingSize,0)+1,FALSE),IF(IFERROR(SEARCH(\"Oil\",$A$14),0)>0,VLOOKUP(\"Oil\",HVACg_Lookup,MATCH($F$12,BuildingSize,0)+1,FALSE),IF(IFERROR(SEARCH(\"Propane\",$A$14),0)>0,VLOOKUP(\"Propane\",HVACg_Lookup,MATCH(Worksheet!$F$12,BuildingSize,0)+1,FALSE),0)))","v":0},{"$f":"U176/1000*V176*X176*IF(IFERROR(SEARCH(\"Gas\",$A$14),0)>0,VLOOKUP(\"Gas\",HVACg_Lookup,MATCH($F$12,BuildingSize,0)+1,FALSE),IF(IFERROR(SEARCH(\"Oil\",$A$14),0)>0,VLOOKUP(\"Oil\",HVACg_Lookup,MATCH($F$12,BuildingSize,0)+1,FALSE),IF(IFERROR(SEARCH(\"Propane\",$A$14),0)>0,VLOOKUP(\"Propane\",HVACg_Lookup,MATCH(Worksheet!$F$12,BuildingSize,0)+1,FALSE),0)))","v":0},0,0,"",""]
[null,null,"",null,null,null,null,null,null,null,null,null,0,0,0,0,"",0,0,0,0,0,0,0,0,0,0,0,0,0,0,0,{"$f":"T177/1000*V177*X177*IF(IFERROR(SEARCH(\"Gas\",$A$14),0)>0,VLOOKUP(\"Gas\",HVACg_Lookup,MATCH($F$12,BuildingSize,0)+1,FALSE),IF(IFERROR(SEARCH(\"Oil\",$A$14),0)>0,VLOOKUP(\"Oil\",HVACg_Lookup,MATCH($F$12,BuildingSize,0)+1,FALSE),IF(IFERROR(SEARCH(\"Propane\",$A$14),0)>0,VLOOKUP(\"Propane\",HVACg_Lookup,MATCH(Worksheet!$F$12,BuildingSize,0)+1,FALSE),0)))","v":0},{"$f":"U177/1000*V177*X177*IF(IFERROR(SEARCH(\"Gas\",$A$14),0)>0,VLOOKUP(\"Gas\",HVACg_Lookup,MATCH($F$12,BuildingSize,0)+1,FALSE),IF(IFERROR(SEARCH(\"Oil\",$A$14),0)>0,VLOOKUP(\"Oil\",HVACg_Lookup,MATCH($F$12,BuildingSize,0)+1,FALSE),IF(IFERROR(SEARCH(\"Propane\",$A$14),0)>0,VLOOKUP(\"Propane\",HVACg_Lookup,MATCH(Worksheet!$F$12,BuildingSize,0)+1,FALSE),0)))","v":0},0,0,"",""]
[null,null,"",null,null,null,null,null,null,null,null,null,0,0,0,0,"",0,0,0,0,0,0,0,0,0,0,0,0,0,0,0,{"$f":"T178/1000*V178*X178*IF(IFERROR(SEARCH(\"Gas\",$A$14),0)>0,VLOOKUP(\"Gas\",HVACg_Lookup,MATCH($F$12,BuildingSize,0)+1,FALSE),IF(IFERROR(SEARCH(\"Oil\",$A$14),0)>0,VLOOKUP(\"Oil\",HVACg_Lookup,MATCH($F$12,BuildingSize,0)+1,FALSE),IF(IFERROR(SEARCH(\"Propane\",$A$14),0)>0,VLOOKUP(\"Propane\",HVACg_Lookup,MATCH(Worksheet!$F$12,BuildingSize,0)+1,FALSE),0)))","v":0},{"$f":"U178/1000*V178*X178*IF(IFERROR(SEARCH(\"Gas\",$A$14),0)>0,VLOOKUP(\"Gas\",HVACg_Lookup,MATCH($F$12,BuildingSize,0)+1,FALSE),IF(IFERROR(SEARCH(\"Oil\",$A$14),0)>0,VLOOKUP(\"Oil\",HVACg_Lookup,MATCH($F$12,BuildingSize,0)+1,FALSE),IF(IFERROR(SEARCH(\"Propane\",$A$14),0)>0,VLOOKUP(\"Propane\",HVACg_Lookup,MATCH(Worksheet!$F$12,BuildingSize,0)+1,FALSE),0)))","v":0},0,0,"",""]
[null,null,"",null,null,null,null,null,null,null,null,null,0,0,0,0,"",0,0,0,0,0,0,0,0,0,0,0,0,0,0,0,{"$f":"T179/1000*V179*X179*IF(IFERROR(SEARCH(\"Gas\",$A$14),0)>0,VLOOKUP(\"Gas\",HVACg_Lookup,MATCH($F$12,BuildingSize,0)+1,FALSE),IF(IFERROR(SEARCH(\"Oil\",$A$14),0)>0,VLOOKUP(\"Oil\",HVACg_Lookup,MATCH($F$12,BuildingSize,0)+1,FALSE),IF(IFERROR(SEARCH(\"Propane\",$A$14),0)>0,VLOOKUP(\"Propane\",HVACg_Lookup,MATCH(Worksheet!$F$12,BuildingSize,0)+1,FALSE),0)))","v":0},{"$f":"U179/1000*V179*X179*IF(IFERROR(SEARCH(\"Gas\",$A$14),0)>0,VLOOKUP(\"Gas\",HVACg_Lookup,MATCH($F$12,BuildingSize,0)+1,FALSE),IF(IFERROR(SEARCH(\"Oil\",$A$14),0)>0,VLOOKUP(\"Oil\",HVACg_Lookup,MATCH($F$12,BuildingSize,0)+1,FALSE),IF(IFERROR(SEARCH(\"Propane\",$A$14),0)>0,VLOOKUP(\"Propane\",HVACg_Lookup,MATCH(Worksheet!$F$12,BuildingSize,0)+1,FALSE),0)))","v":0},0,0,"",""]
[null,null,"",null,null,null,null,null,null,null,null,null,0,0,0,0,"",0,0,0,0,0,0,0,0,0,0,0,0,0,0,0,{"$f":"T180/1000*V180*X180*IF(IFERROR(SEARCH(\"Gas\",$A$14),0)>0,VLOOKUP(\"Gas\",HVACg_Lookup,MATCH($F$12,BuildingSize,0)+1,FALSE),IF(IFERROR(SEARCH(\"Oil\",$A$14),0)>0,VLOOKUP(\"Oil\",HVACg_Lookup,MATCH($F$12,BuildingSize,0)+1,FALSE),IF(IFERROR(SEARCH(\"Propane\",$A$14),0)>0,VLOOKUP(\"Propane\",HVACg_Lookup,MATCH(Worksheet!$F$12,BuildingSize,0)+1,FALSE),0)))","v":0},{"$f":"U180/1000*V180*X180*IF(IFERROR(SEARCH(\"Gas\",$A$14),0)>0,VLOOKUP(\"Gas\",HVACg_Lookup,MATCH($F$12,BuildingSize,0)+1,FALSE),IF(IFERROR(SEARCH(\"Oil\",$A$14),0)>0,VLOOKUP(\"Oil\",HVACg_Lookup,MATCH($F$12,BuildingSize,0)+1,FALSE),IF(IFERROR(SEARCH(\"Propane\",$A$14),0)>0,VLOOKUP(\"Propane\",HVACg_Lookup,MATCH(Worksheet!$F$12,BuildingSize,0)+1,FALSE),0)))","v":0},0,0,"",""]
[null,null,"",null,null,null,null,null,null,null,null,null,0,0,0,0,"",0,0,0,0,0,0,0,0,0,0,0,0,0,0,0,{"$f":"T181/1000*V181*X181*IF(IFERROR(SEARCH(\"Gas\",$A$14),0)>0,VLOOKUP(\"Gas\",HVACg_Lookup,MATCH($F$12,BuildingSize,0)+1,FALSE),IF(IFERROR(SEARCH(\"Oil\",$A$14),0)>0,VLOOKUP(\"Oil\",HVACg_Lookup,MATCH($F$12,BuildingSize,0)+1,FALSE),IF(IFERROR(SEARCH(\"Propane\",$A$14),0)>0,VLOOKUP(\"Propane\",HVACg_Lookup,MATCH(Worksheet!$F$12,BuildingSize,0)+1,FALSE),0)))","v":0},{"$f":"U181/1000*V181*X181*IF(IFERROR(SEARCH(\"Gas\",$A$14),0)>0,VLOOKUP(\"Gas\",HVACg_Lookup,MATCH($F$12,BuildingSize,0)+1,FALSE),IF(IFERROR(SEARCH(\"Oil\",$A$14),0)>0,VLOOKUP(\"Oil\",HVACg_Lookup,MATCH($F$12,BuildingSize,0)+1,FALSE),IF(IFERROR(SEARCH(\"Propane\",$A$14),0)>0,VLOOKUP(\"Propane\",HVACg_Lookup,MATCH(Worksheet!$F$12,BuildingSize,0)+1,FALSE),0)))","v":0},0,0,"",""]
[null,null,"",null,null,null,null,null,null,null,null,null,0,0,0,0,"",0,0,0,0,0,0,0,0,0,0,0,0,0,0,0,{"$f":"T182/1000*V182*X182*IF(IFERROR(SEARCH(\"Gas\",$A$14),0)>0,VLOOKUP(\"Gas\",HVACg_Lookup,MATCH($F$12,BuildingSize,0)+1,FALSE),IF(IFERROR(SEARCH(\"Oil\",$A$14),0)>0,VLOOKUP(\"Oil\",HVACg_Lookup,MATCH($F$12,BuildingSize,0)+1,FALSE),IF(IFERROR(SEARCH(\"Propane\",$A$14),0)>0,VLOOKUP(\"Propane\",HVACg_Lookup,MATCH(Worksheet!$F$12,BuildingSize,0)+1,FALSE),0)))","v":0},{"$f":"U182/1000*V182*X182*IF(IFERROR(SEARCH(\"Gas\",$A$14),0)>0,VLOOKUP(\"Gas\",HVACg_Lookup,MATCH($F$12,BuildingSize,0)+1,FALSE),IF(IFERROR(SEARCH(\"Oil\",$A$14),0)>0,VLOOKUP(\"Oil\",HVACg_Lookup,MATCH($F$12,BuildingSize,0)+1,FALSE),IF(IFERROR(SEARCH(\"Propane\",$A$14),0)>0,VLOOKUP(\"Propane\",HVACg_Lookup,MATCH(Worksheet!$F$12,BuildingSize,0)+1,FALSE),0)))","v":0},0,0,"",""]
[null,null,"",null,null,null,null,null,null,null,null,null,0,0,0,0,"",0,0,0,0,0,0,0,0,0,0,0,0,0,0,0,{"$f":"T183/1000*V183*X183*IF(IFERROR(SEARCH(\"Gas\",$A$14),0)>0,VLOOKUP(\"Gas\",HVACg_Lookup,MATCH($F$12,BuildingSize,0)+1,FALSE),IF(IFERROR(SEARCH(\"Oil\",$A$14),0)>0,VLOOKUP(\"Oil\",HVACg_Lookup,MATCH($F$12,BuildingSize,0)+1,FALSE),IF(IFERROR(SEARCH(\"Propane\",$A$14),0)>0,VLOOKUP(\"Propane\",HVACg_Lookup,MATCH(Worksheet!$F$12,BuildingSize,0)+1,FALSE),0)))","v":0},{"$f":"U183/1000*V183*X183*IF(IFERROR(SEARCH(\"Gas\",$A$14),0)>0,VLOOKUP(\"Gas\",HVACg_Lookup,MATCH($F$12,BuildingSize,0)+1,FALSE),IF(IFERROR(SEARCH(\"Oil\",$A$14),0)>0,VLOOKUP(\"Oil\",HVACg_Lookup,MATCH($F$12,BuildingSize,0)+1,FALSE),IF(IFERROR(SEARCH(\"Propane\",$A$14),0)>0,VLOOKUP(\"Propane\",HVACg_Lookup,MATCH(Worksheet!$F$12,BuildingSize,0)+1,FALSE),0)))","v":0},0,0,"",""]
[null,null,"",null,null,null,null,null,null,null,null,null,0,0,0,0,"",0,0,0,0,0,0,0,0,0,0,0,0,0,0,0,{"$f":"T184/1000*V184*X184*IF(IFERROR(SEARCH(\"Gas\",$A$14),0)>0,VLOOKUP(\"Gas\",HVACg_Lookup,MATCH($F$12,BuildingSize,0)+1,FALSE),IF(IFERROR(SEARCH(\"Oil\",$A$14),0)>0,VLOOKUP(\"Oil\",HVACg_Lookup,MATCH($F$12,BuildingSize,0)+1,FALSE),IF(IFERROR(SEARCH(\"Propane\",$A$14),0)>0,VLOOKUP(\"Propane\",HVACg_Lookup,MATCH(Worksheet!$F$12,BuildingSize,0)+1,FALSE),0)))","v":0},{"$f":"U184/1000*V184*X184*IF(IFERROR(SEARCH(\"Gas\",$A$14),0)>0,VLOOKUP(\"Gas\",HVACg_Lookup,MATCH($F$12,BuildingSize,0)+1,FALSE),IF(IFERROR(SEARCH(\"Oil\",$A$14),0)>0,VLOOKUP(\"Oil\",HVACg_Lookup,MATCH($F$12,BuildingSize,0)+1,FALSE),IF(IFERROR(SEARCH(\"Propane\",$A$14),0)>0,VLOOKUP(\"Propane\",HVACg_Lookup,MATCH(Worksheet!$F$12,BuildingSize,0)+1,FALSE),0)))","v":0},0,0,"",""]
[null,null,"",null,null,null,null,null,null,null,null,null,0,0,0,0,"",0,0,0,0,0,0,0,0,0,0,0,0,0,0,0,{"$f":"T185/1000*V185*X185*IF(IFERROR(SEARCH(\"Gas\",$A$14),0)>0,VLOOKUP(\"Gas\",HVACg_Lookup,MATCH($F$12,BuildingSize,0)+1,FALSE),IF(IFERROR(SEARCH(\"Oil\",$A$14),0)>0,VLOOKUP(\"Oil\",HVACg_Lookup,MATCH($F$12,BuildingSize,0)+1,FALSE),IF(IFERROR(SEARCH(\"Propane\",$A$14),0)>0,VLOOKUP(\"Propane\",HVACg_Lookup,MATCH(Worksheet!$F$12,BuildingSize,0)+1,FALSE),0)))","v":0},{"$f":"U185/1000*V185*X185*IF(IFERROR(SEARCH(\"Gas\",$A$14),0)>0,VLOOKUP(\"Gas\",HVACg_Lookup,MATCH($F$12,BuildingSize,0)+1,FALSE),IF(IFERROR(SEARCH(\"Oil\",$A$14),0)>0,VLOOKUP(\"Oil\",HVACg_Lookup,MATCH($F$12,BuildingSize,0)+1,FALSE),IF(IFERROR(SEARCH(\"Propane\",$A$14),0)>0,VLOOKUP(\"Propane\",HVACg_Lookup,MATCH(Worksheet!$F$12,BuildingSize,0)+1,FALSE),0)))","v":0},0,0,"",""]
[null,null,"",null,null,null,null,null,null,null,null,null,0,0,0,0,"",0,0,0,0,0,0,0,0,0,0,0,0,0,0,0,{"$f":"T186/1000*V186*X186*IF(IFERROR(SEARCH(\"Gas\",$A$14),0)>0,VLOOKUP(\"Gas\",HVACg_Lookup,MATCH($F$12,BuildingSize,0)+1,FALSE),IF(IFERROR(SEARCH(\"Oil\",$A$14),0)>0,VLOOKUP(\"Oil\",HVACg_Lookup,MATCH($F$12,BuildingSize,0)+1,FALSE),IF(IFERROR(SEARCH(\"Propane\",$A$14),0)>0,VLOOKUP(\"Propane\",HVACg_Lookup,MATCH(Worksheet!$F$12,BuildingSize,0)+1,FALSE),0)))","v":0},{"$f":"U186/1000*V186*X186*IF(IFERROR(SEARCH(\"Gas\",$A$14),0)>0,VLOOKUP(\"Gas\",HVACg_Lookup,MATCH($F$12,BuildingSize,0)+1,FALSE),IF(IFERROR(SEARCH(\"Oil\",$A$14),0)>0,VLOOKUP(\"Oil\",HVACg_Lookup,MATCH($F$12,BuildingSize,0)+1,FALSE),IF(IFERROR(SEARCH(\"Propane\",$A$14),0)>0,VLOOKUP(\"Propane\",HVACg_Lookup,MATCH(Worksheet!$F$12,BuildingSize,0)+1,FALSE),0)))","v":0},0,0,"",""]
[null,null,"",null,null,null,null,null,null,null,null,null,0,0,0,0,"",0,0,0,0,0,0,0,0,0,0,0,0,0,0,0,{"$f":"T187/1000*V187*X187*IF(IFERROR(SEARCH(\"Gas\",$A$14),0)>0,VLOOKUP(\"Gas\",HVACg_Lookup,MATCH($F$12,BuildingSize,0)+1,FALSE),IF(IFERROR(SEARCH(\"Oil\",$A$14),0)>0,VLOOKUP(\"Oil\",HVACg_Lookup,MATCH($F$12,BuildingSize,0)+1,FALSE),IF(IFERROR(SEARCH(\"Propane\",$A$14),0)>0,VLOOKUP(\"Propane\",HVACg_Lookup,MATCH(Worksheet!$F$12,BuildingSize,0)+1,FALSE),0)))","v":0},{"$f":"U187/1000*V187*X187*IF(IFERROR(SEARCH(\"Gas\",$A$14),0)>0,VLOOKUP(\"Gas\",HVACg_Lookup,MATCH($F$12,BuildingSize,0)+1,FALSE),IF(IFERROR(SEARCH(\"Oil\",$A$14),0)>0,VLOOKUP(\"Oil\",HVACg_Lookup,MATCH($F$12,BuildingSize,0)+1,FALSE),IF(IFERROR(SEARCH(\"Propane\",$A$14),0)>0,VLOOKUP(\"Propane\",HVACg_Lookup,MATCH(Worksheet!$F$12,BuildingSize,0)+1,FALSE),0)))","v":0},0,0,"",""]
[null,null,"",null,null,null,null,null,null,null,null,null,0,0,0,0,"",0,0,0,0,0,0,0,0,0,0,0,0,0,0,0,{"$f":"T188/1000*V188*X188*IF(IFERROR(SEARCH(\"Gas\",$A$14),0)>0,VLOOKUP(\"Gas\",HVACg_Lookup,MATCH($F$12,BuildingSize,0)+1,FALSE),IF(IFERROR(SEARCH(\"Oil\",$A$14),0)>0,VLOOKUP(\"Oil\",HVACg_Lookup,MATCH($F$12,BuildingSize,0)+1,FALSE),IF(IFERROR(SEARCH(\"Propane\",$A$14),0)>0,VLOOKUP(\"Propane\",HVACg_Lookup,MATCH(Worksheet!$F$12,BuildingSize,0)+1,FALSE),0)))","v":0},{"$f":"U188/1000*V188*X188*IF(IFERROR(SEARCH(\"Gas\",$A$14),0)>0,VLOOKUP(\"Gas\",HVACg_Lookup,MATCH($F$12,BuildingSize,0)+1,FALSE),IF(IFERROR(SEARCH(\"Oil\",$A$14),0)>0,VLOOKUP(\"Oil\",HVACg_Lookup,MATCH($F$12,BuildingSize,0)+1,FALSE),IF(IFERROR(SEARCH(\"Propane\",$A$14),0)>0,VLOOKUP(\"Propane\",HVACg_Lookup,MATCH(Worksheet!$F$12,BuildingSize,0)+1,FALSE),0)))","v":0},0,0,"",""]
[null,null,"",null,null,null,null,null,null,null,null,null,0,0,0,0,"",0,0,0,0,0,0,0,0,0,0,0,0,0,0,0,{"$f":"T189/1000*V189*X189*IF(IFERROR(SEARCH(\"Gas\",$A$14),0)>0,VLOOKUP(\"Gas\",HVACg_Lookup,MATCH($F$12,BuildingSize,0)+1,FALSE),IF(IFERROR(SEARCH(\"Oil\",$A$14),0)>0,VLOOKUP(\"Oil\",HVACg_Lookup,MATCH($F$12,BuildingSize,0)+1,FALSE),IF(IFERROR(SEARCH(\"Propane\",$A$14),0)>0,VLOOKUP(\"Propane\",HVACg_Lookup,MATCH(Worksheet!$F$12,BuildingSize,0)+1,FALSE),0)))","v":0},{"$f":"U189/1000*V189*X189*IF(IFERROR(SEARCH(\"Gas\",$A$14),0)>0,VLOOKUP(\"Gas\",HVACg_Lookup,MATCH($F$12,BuildingSize,0)+1,FALSE),IF(IFERROR(SEARCH(\"Oil\",$A$14),0)>0,VLOOKUP(\"Oil\",HVACg_Lookup,MATCH($F$12,BuildingSize,0)+1,FALSE),IF(IFERROR(SEARCH(\"Propane\",$A$14),0)>0,VLOOKUP(\"Propane\",HVACg_Lookup,MATCH(Worksheet!$F$12,BuildingSize,0)+1,FALSE),0)))","v":0},0,0,"",""]
[null,null,"",null,null,null,null,null,null,null,null,null,0,0,0,0,"",0,0,0,0,0,0,0,0,0,0,0,0,0,0,0,{"$f":"T190/1000*V190*X190*IF(IFERROR(SEARCH(\"Gas\",$A$14),0)>0,VLOOKUP(\"Gas\",HVACg_Lookup,MATCH($F$12,BuildingSize,0)+1,FALSE),IF(IFERROR(SEARCH(\"Oil\",$A$14),0)>0,VLOOKUP(\"Oil\",HVACg_Lookup,MATCH($F$12,BuildingSize,0)+1,FALSE),IF(IFERROR(SEARCH(\"Propane\",$A$14),0)>0,VLOOKUP(\"Propane\",HVACg_Lookup,MATCH(Worksheet!$F$12,BuildingSize,0)+1,FALSE),0)))","v":0},{"$f":"U190/1000*V190*X190*IF(IFERROR(SEARCH(\"Gas\",$A$14),0)>0,VLOOKUP(\"Gas\",HVACg_Lookup,MATCH($F$12,BuildingSize,0)+1,FALSE),IF(IFERROR(SEARCH(\"Oil\",$A$14),0)>0,VLOOKUP(\"Oil\",HVACg_Lookup,MATCH($F$12,BuildingSize,0)+1,FALSE),IF(IFERROR(SEARCH(\"Propane\",$A$14),0)>0,VLOOKUP(\"Propane\",HVACg_Lookup,MATCH(Worksheet!$F$12,BuildingSize,0)+1,FALSE),0)))","v":0},0,0,"",""]
[null,null,"",null,null,null,null,null,null,null,null,null,0,0,0,0,"",0,0,0,0,0,0,0,0,0,0,0,0,0,0,0,{"$f":"T191/1000*V191*X191*IF(IFERROR(SEARCH(\"Gas\",$A$14),0)>0,VLOOKUP(\"Gas\",HVACg_Lookup,MATCH($F$12,BuildingSize,0)+1,FALSE),IF(IFERROR(SEARCH(\"Oil\",$A$14),0)>0,VLOOKUP(\"Oil\",HVACg_Lookup,MATCH($F$12,BuildingSize,0)+1,FALSE),IF(IFERROR(SEARCH(\"Propane\",$A$14),0)>0,VLOOKUP(\"Propane\",HVACg_Lookup,MATCH(Worksheet!$F$12,BuildingSize,0)+1,FALSE),0)))","v":0},{"$f":"U191/1000*V191*X191*IF(IFERROR(SEARCH(\"Gas\",$A$14),0)>0,VLOOKUP(\"Gas\",HVACg_Lookup,MATCH($F$12,BuildingSize,0)+1,FALSE),IF(IFERROR(SEARCH(\"Oil\",$A$14),0)>0,VLOOKUP(\"Oil\",HVACg_Lookup,MATCH($F$12,BuildingSize,0)+1,FALSE),IF(IFERROR(SEARCH(\"Propane\",$A$14),0)>0,VLOOKUP(\"Propane\",HVACg_Lookup,MATCH(Worksheet!$F$12,BuildingSize,0)+1,FALSE),0)))","v":0},0,0,"",""]
[null,null,"",null,null,null,null,null,null,null,null,null,0,0,0,0,"",0,0,0,0,0,0,0,0,0,0,0,0,0,0,0,{"$f":"T192/1000*V192*X192*IF(IFERROR(SEARCH(\"Gas\",$A$14),0)>0,VLOOKUP(\"Gas\",HVACg_Lookup,MATCH($F$12,BuildingSize,0)+1,FALSE),IF(IFERROR(SEARCH(\"Oil\",$A$14),0)>0,VLOOKUP(\"Oil\",HVACg_Lookup,MATCH($F$12,BuildingSize,0)+1,FALSE),IF(IFERROR(SEARCH(\"Propane\",$A$14),0)>0,VLOOKUP(\"Propane\",HVACg_Lookup,MATCH(Worksheet!$F$12,BuildingSize,0)+1,FALSE),0)))","v":0},{"$f":"U192/1000*V192*X192*IF(IFERROR(SEARCH(\"Gas\",$A$14),0)>0,VLOOKUP(\"Gas\",HVACg_Lookup,MATCH($F$12,BuildingSize,0)+1,FALSE),IF(IFERROR(SEARCH(\"Oil\",$A$14),0)>0,VLOOKUP(\"Oil\",HVACg_Lookup,MATCH($F$12,BuildingSize,0)+1,FALSE),IF(IFERROR(SEARCH(\"Propane\",$A$14),0)>0,VLOOKUP(\"Propane\",HVACg_Lookup,MATCH(Worksheet!$F$12,BuildingSize,0)+1,FALSE),0)))","v":0},0,0,"",""]
[null,null,"",null,null,null,null,null,null,null,null,null,0,0,0,0,"",0,0,0,0,0,0,0,0,0,0,0,0,0,0,0,{"$f":"T193/1000*V193*X193*IF(IFERROR(SEARCH(\"Gas\",$A$14),0)>0,VLOOKUP(\"Gas\",HVACg_Lookup,MATCH($F$12,BuildingSize,0)+1,FALSE),IF(IFERROR(SEARCH(\"Oil\",$A$14),0)>0,VLOOKUP(\"Oil\",HVACg_Lookup,MATCH($F$12,BuildingSize,0)+1,FALSE),IF(IFERROR(SEARCH(\"Propane\",$A$14),0)>0,VLOOKUP(\"Propane\",HVACg_Lookup,MATCH(Worksheet!$F$12,BuildingSize,0)+1,FALSE),0)))","v":0},{"$f":"U193/1000*V193*X193*IF(IFERROR(SEARCH(\"Gas\",$A$14),0)>0,VLOOKUP(\"Gas\",HVACg_Lookup,MATCH($F$12,BuildingSize,0)+1,FALSE),IF(IFERROR(SEARCH(\"Oil\",$A$14),0)>0,VLOOKUP(\"Oil\",HVACg_Lookup,MATCH($F$12,BuildingSize,0)+1,FALSE),IF(IFERROR(SEARCH(\"Propane\",$A$14),0)>0,VLOOKUP(\"Propane\",HVACg_Lookup,MATCH(Worksheet!$F$12,BuildingSize,0)+1,FALSE),0)))","v":0},0,0,"",""]
[null,null,"",null,null,null,null,null,null,null,null,null,0,0,0,0,"",0,0,0,0,0,0,0,0,0,0,0,0,0,0,0,{"$f":"T194/1000*V194*X194*IF(IFERROR(SEARCH(\"Gas\",$A$14),0)>0,VLOOKUP(\"Gas\",HVACg_Lookup,MATCH($F$12,BuildingSize,0)+1,FALSE),IF(IFERROR(SEARCH(\"Oil\",$A$14),0)>0,VLOOKUP(\"Oil\",HVACg_Lookup,MATCH($F$12,BuildingSize,0)+1,FALSE),IF(IFERROR(SEARCH(\"Propane\",$A$14),0)>0,VLOOKUP(\"Propane\",HVACg_Lookup,MATCH(Worksheet!$F$12,BuildingSize,0)+1,FALSE),0)))","v":0},{"$f":"U194/1000*V194*X194*IF(IFERROR(SEARCH(\"Gas\",$A$14),0)>0,VLOOKUP(\"Gas\",HVACg_Lookup,MATCH($F$12,BuildingSize,0)+1,FALSE),IF(IFERROR(SEARCH(\"Oil\",$A$14),0)>0,VLOOKUP(\"Oil\",HVACg_Lookup,MATCH($F$12,BuildingSize,0)+1,FALSE),IF(IFERROR(SEARCH(\"Propane\",$A$14),0)>0,VLOOKUP(\"Propane\",HVACg_Lookup,MATCH(Worksheet!$F$12,BuildingSize,0)+1,FALSE),0)))","v":0},0,0,"",""]
[null,null,"",null,null,null,null,null,null,null,null,null,0,0,0,0,"",0,0,0,0,0,0,0,0,0,0,0,0,0,0,0,{"$f":"T195/1000*V195*X195*IF(IFERROR(SEARCH(\"Gas\",$A$14),0)>0,VLOOKUP(\"Gas\",HVACg_Lookup,MATCH($F$12,BuildingSize,0)+1,FALSE),IF(IFERROR(SEARCH(\"Oil\",$A$14),0)>0,VLOOKUP(\"Oil\",HVACg_Lookup,MATCH($F$12,BuildingSize,0)+1,FALSE),IF(IFERROR(SEARCH(\"Propane\",$A$14),0)>0,VLOOKUP(\"Propane\",HVACg_Lookup,MATCH(Worksheet!$F$12,BuildingSize,0)+1,FALSE),0)))","v":0},{"$f":"U195/1000*V195*X195*IF(IFERROR(SEARCH(\"Gas\",$A$14),0)>0,VLOOKUP(\"Gas\",HVACg_Lookup,MATCH($F$12,BuildingSize,0)+1,FALSE),IF(IFERROR(SEARCH(\"Oil\",$A$14),0)>0,VLOOKUP(\"Oil\",HVACg_Lookup,MATCH($F$12,BuildingSize,0)+1,FALSE),IF(IFERROR(SEARCH(\"Propane\",$A$14),0)>0,VLOOKUP(\"Propane\",HVACg_Lookup,MATCH(Worksheet!$F$12,BuildingSize,0)+1,FALSE),0)))","v":0},0,0,"",""]
[null,null,"",null,null,null,null,null,null,null,null,null,0,0,0,0,"",0,0,0,0,0,0,0,0,0,0,0,0,0,0,0,{"$f":"T196/1000*V196*X196*IF(IFERROR(SEARCH(\"Gas\",$A$14),0)>0,VLOOKUP(\"Gas\",HVACg_Lookup,MATCH($F$12,BuildingSize,0)+1,FALSE),IF(IFERROR(SEARCH(\"Oil\",$A$14),0)>0,VLOOKUP(\"Oil\",HVACg_Lookup,MATCH($F$12,BuildingSize,0)+1,FALSE),IF(IFERROR(SEARCH(\"Propane\",$A$14),0)>0,VLOOKUP(\"Propane\",HVACg_Lookup,MATCH(Worksheet!$F$12,BuildingSize,0)+1,FALSE),0)))","v":0},{"$f":"U196/1000*V196*X196*IF(IFERROR(SEARCH(\"Gas\",$A$14),0)>0,VLOOKUP(\"Gas\",HVACg_Lookup,MATCH($F$12,BuildingSize,0)+1,FALSE),IF(IFERROR(SEARCH(\"Oil\",$A$14),0)>0,VLOOKUP(\"Oil\",HVACg_Lookup,MATCH($F$12,BuildingSize,0)+1,FALSE),IF(IFERROR(SEARCH(\"Propane\",$A$14),0)>0,VLOOKUP(\"Propane\",HVACg_Lookup,MATCH(Worksheet!$F$12,BuildingSize,0)+1,FALSE),0)))","v":0},0,0,"",""]
[null,null,"",null,null,null,null,null,null,null,null,null,0,0,0,0,"",0,0,0,0,0,0,0,0,0,0,0,0,0,0,0,{"$f":"T197/1000*V197*X197*IF(IFERROR(SEARCH(\"Gas\",$A$14),0)>0,VLOOKUP(\"Gas\",HVACg_Lookup,MATCH($F$12,BuildingSize,0)+1,FALSE),IF(IFERROR(SEARCH(\"Oil\",$A$14),0)>0,VLOOKUP(\"Oil\",HVACg_Lookup,MATCH($F$12,BuildingSize,0)+1,FALSE),IF(IFERROR(SEARCH(\"Propane\",$A$14),0)>0,VLOOKUP(\"Propane\",HVACg_Lookup,MATCH(Worksheet!$F$12,BuildingSize,0)+1,FALSE),0)))","v":0},{"$f":"U197/1000*V197*X197*IF(IFERROR(SEARCH(\"Gas\",$A$14),0)>0,VLOOKUP(\"Gas\",HVACg_Lookup,MATCH($F$12,BuildingSize,0)+1,FALSE),IF(IFERROR(SEARCH(\"Oil\",$A$14),0)>0,VLOOKUP(\"Oil\",HVACg_Lookup,MATCH($F$12,BuildingSize,0)+1,FALSE),IF(IFERROR(SEARCH(\"Propane\",$A$14),0)>0,VLOOKUP(\"Propane\",HVACg_Lookup,MATCH(Worksheet!$F$12,BuildingSize,0)+1,FALSE),0)))","v":0},0,0,"",""]
[null,null,"",null,null,null,null,null,null,null,null,null,0,0,0,0,"",0,0,0,0,0,0,0,0,0,0,0,0,0,0,0,{"$f":"T198/1000*V198*X198*IF(IFERROR(SEARCH(\"Gas\",$A$14),0)>0,VLOOKUP(\"Gas\",HVACg_Lookup,MATCH($F$12,BuildingSize,0)+1,FALSE),IF(IFERROR(SEARCH(\"Oil\",$A$14),0)>0,VLOOKUP(\"Oil\",HVACg_Lookup,MATCH($F$12,BuildingSize,0)+1,FALSE),IF(IFERROR(SEARCH(\"Propane\",$A$14),0)>0,VLOOKUP(\"Propane\",HVACg_Lookup,MATCH(Worksheet!$F$12,BuildingSize,0)+1,FALSE),0)))","v":0},{"$f":"U198/1000*V198*X198*IF(IFERROR(SEARCH(\"Gas\",$A$14),0)>0,VLOOKUP(\"Gas\",HVACg_Lookup,MATCH($F$12,BuildingSize,0)+1,FALSE),IF(IFERROR(SEARCH(\"Oil\",$A$14),0)>0,VLOOKUP(\"Oil\",HVACg_Lookup,MATCH($F$12,BuildingSize,0)+1,FALSE),IF(IFERROR(SEARCH(\"Propane\",$A$14),0)>0,VLOOKUP(\"Propane\",HVACg_Lookup,MATCH(Worksheet!$F$12,BuildingSize,0)+1,FALSE),0)))","v":0},0,0,"",""]
[null,null,"",null,null,null,null,null,null,null,null,null,0,0,0,0,"",0,0,0,0,0,0,0,0,0,0,0,0,0,0,0,{"$f":"T199/1000*V199*X199*IF(IFERROR(SEARCH(\"Gas\",$A$14),0)>0,VLOOKUP(\"Gas\",HVACg_Lookup,MATCH($F$12,BuildingSize,0)+1,FALSE),IF(IFERROR(SEARCH(\"Oil\",$A$14),0)>0,VLOOKUP(\"Oil\",HVACg_Lookup,MATCH($F$12,BuildingSize,0)+1,FALSE),IF(IFERROR(SEARCH(\"Propane\",$A$14),0)>0,VLOOKUP(\"Propane\",HVACg_Lookup,MATCH(Worksheet!$F$12,BuildingSize,0)+1,FALSE),0)))","v":0},{"$f":"U199/1000*V199*X199*IF(IFERROR(SEARCH(\"Gas\",$A$14),0)>0,VLOOKUP(\"Gas\",HVACg_Lookup,MATCH($F$12,BuildingSize,0)+1,FALSE),IF(IFERROR(SEARCH(\"Oil\",$A$14),0)>0,VLOOKUP(\"Oil\",HVACg_Lookup,MATCH($F$12,BuildingSize,0)+1,FALSE),IF(IFERROR(SEARCH(\"Propane\",$A$14),0)>0,VLOOKUP(\"Propane\",HVACg_Lookup,MATCH(Worksheet!$F$12,BuildingSize,0)+1,FALSE),0)))","v":0},0,0,"",""]
[null,null,"",null,null,null,null,null,null,null,null,null,0,0,0,0,"",0,0,0,0,0,0,0,0,0,0,0,0,0,0,0,{"$f":"T200/1000*V200*X200*IF(IFERROR(SEARCH(\"Gas\",$A$14),0)>0,VLOOKUP(\"Gas\",HVACg_Lookup,MATCH($F$12,BuildingSize,0)+1,FALSE),IF(IFERROR(SEARCH(\"Oil\",$A$14),0)>0,VLOOKUP(\"Oil\",HVACg_Lookup,MATCH($F$12,BuildingSize,0)+1,FALSE),IF(IFERROR(SEARCH(\"Propane\",$A$14),0)>0,VLOOKUP(\"Propane\",HVACg_Lookup,MATCH(Worksheet!$F$12,BuildingSize,0)+1,FALSE),0)))","v":0},{"$f":"U200/1000*V200*X200*IF(IFERROR(SEARCH(\"Gas\",$A$14),0)>0,VLOOKUP(\"Gas\",HVACg_Lookup,MATCH($F$12,BuildingSize,0)+1,FALSE),IF(IFERROR(SEARCH(\"Oil\",$A$14),0)>0,VLOOKUP(\"Oil\",HVACg_Lookup,MATCH($F$12,BuildingSize,0)+1,FALSE),IF(IFERROR(SEARCH(\"Propane\",$A$14),0)>0,VLOOKUP(\"Propane\",HVACg_Lookup,MATCH(Worksheet!$F$12,BuildingSize,0)+1,FALSE),0)))","v":0},0,0,"",""]
[null,null,"",null,null,null,null,null,null,null,null,null,0,0,0,0,"",0,0,0,0,0,0,0,0,0,0,0,0,0,0,0,{"$f":"T201/1000*V201*X201*IF(IFERROR(SEARCH(\"Gas\",$A$14),0)>0,VLOOKUP(\"Gas\",HVACg_Lookup,MATCH($F$12,BuildingSize,0)+1,FALSE),IF(IFERROR(SEARCH(\"Oil\",$A$14),0)>0,VLOOKUP(\"Oil\",HVACg_Lookup,MATCH($F$12,BuildingSize,0)+1,FALSE),IF(IFERROR(SEARCH(\"Propane\",$A$14),0)>0,VLOOKUP(\"Propane\",HVACg_Lookup,MATCH(Worksheet!$F$12,BuildingSize,0)+1,FALSE),0)))","v":0},{"$f":"U201/1000*V201*X201*IF(IFERROR(SEARCH(\"Gas\",$A$14),0)>0,VLOOKUP(\"Gas\",HVACg_Lookup,MATCH($F$12,BuildingSize,0)+1,FALSE),IF(IFERROR(SEARCH(\"Oil\",$A$14),0)>0,VLOOKUP(\"Oil\",HVACg_Lookup,MATCH($F$12,BuildingSize,0)+1,FALSE),IF(IFERROR(SEARCH(\"Propane\",$A$14),0)>0,VLOOKUP(\"Propane\",HVACg_Lookup,MATCH(Worksheet!$F$12,BuildingSize,0)+1,FALSE),0)))","v":0},0,0,"",""]
[null,null,"",null,null,null,null,null,null,null,null,null,0,0,0,0,"",0,0,0,0,0,0,0,0,0,0,0,0,0,0,0,{"$f":"T202/1000*V202*X202*IF(IFERROR(SEARCH(\"Gas\",$A$14),0)>0,VLOOKUP(\"Gas\",HVACg_Lookup,MATCH($F$12,BuildingSize,0)+1,FALSE),IF(IFERROR(SEARCH(\"Oil\",$A$14),0)>0,VLOOKUP(\"Oil\",HVACg_Lookup,MATCH($F$12,BuildingSize,0)+1,FALSE),IF(IFERROR(SEARCH(\"Propane\",$A$14),0)>0,VLOOKUP(\"Propane\",HVACg_Lookup,MATCH(Worksheet!$F$12,BuildingSize,0)+1,FALSE),0)))","v":0},{"$f":"U202/1000*V202*X202*IF(IFERROR(SEARCH(\"Gas\",$A$14),0)>0,VLOOKUP(\"Gas\",HVACg_Lookup,MATCH($F$12,BuildingSize,0)+1,FALSE),IF(IFERROR(SEARCH(\"Oil\",$A$14),0)>0,VLOOKUP(\"Oil\",HVACg_Lookup,MATCH($F$12,BuildingSize,0)+1,FALSE),IF(IFERROR(SEARCH(\"Propane\",$A$14),0)>0,VLOOKUP(\"Propane\",HVACg_Lookup,MATCH(Worksheet!$F$12,BuildingSize,0)+1,FALSE),0)))","v":0},0,0,"",""]
[null,null,"",null,null,null,null,null,null,null,null,null,0,0,0,0,"",0,0,0,0,0,0,0,0,0,0,0,0,0,0,0,{"$f":"T203/1000*V203*X203*IF(IFERROR(SEARCH(\"Gas\",$A$14),0)>0,VLOOKUP(\"Gas\",HVACg_Lookup,MATCH($F$12,BuildingSize,0)+1,FALSE),IF(IFERROR(SEARCH(\"Oil\",$A$14),0)>0,VLOOKUP(\"Oil\",HVACg_Lookup,MATCH($F$12,BuildingSize,0)+1,FALSE),IF(IFERROR(SEARCH(\"Propane\",$A$14),0)>0,VLOOKUP(\"Propane\",HVACg_Lookup,MATCH(Worksheet!$F$12,BuildingSize,0)+1,FALSE),0)))","v":0},{"$f":"U203/1000*V203*X203*IF(IFERROR(SEARCH(\"Gas\",$A$14),0)>0,VLOOKUP(\"Gas\",HVACg_Lookup,MATCH($F$12,BuildingSize,0)+1,FALSE),IF(IFERROR(SEARCH(\"Oil\",$A$14),0)>0,VLOOKUP(\"Oil\",HVACg_Lookup,MATCH($F$12,BuildingSize,0)+1,FALSE),IF(IFERROR(SEARCH(\"Propane\",$A$14),0)>0,VLOOKUP(\"Propane\",HVACg_Lookup,MATCH(Worksheet!$F$12,BuildingSize,0)+1,FALSE),0)))","v":0},0,0,"",""]
[null,null,"",null,null,null,null,null,null,null,null,null,0,0,0,0,"",0,0,0,0,0,0,0,0,0,0,0,0,0,0,0,{"$f":"T204/1000*V204*X204*IF(IFERROR(SEARCH(\"Gas\",$A$14),0)>0,VLOOKUP(\"Gas\",HVACg_Lookup,MATCH($F$12,BuildingSize,0)+1,FALSE),IF(IFERROR(SEARCH(\"Oil\",$A$14),0)>0,VLOOKUP(\"Oil\",HVACg_Lookup,MATCH($F$12,BuildingSize,0)+1,FALSE),IF(IFERROR(SEARCH(\"Propane\",$A$14),0)>0,VLOOKUP(\"Propane\",HVACg_Lookup,MATCH(Worksheet!$F$12,BuildingSize,0)+1,FALSE),0)))","v":0},{"$f":"U204/1000*V204*X204*IF(IFERROR(SEARCH(\"Gas\",$A$14),0)>0,VLOOKUP(\"Gas\",HVACg_Lookup,MATCH($F$12,BuildingSize,0)+1,FALSE),IF(IFERROR(SEARCH(\"Oil\",$A$14),0)>0,VLOOKUP(\"Oil\",HVACg_Lookup,MATCH($F$12,BuildingSize,0)+1,FALSE),IF(IFERROR(SEARCH(\"Propane\",$A$14),0)>0,VLOOKUP(\"Propane\",HVACg_Lookup,MATCH(Worksheet!$F$12,BuildingSize,0)+1,FALSE),0)))","v":0},0,0,"",""]
[null,null,"",null,null,null,null,null,null,null,null,null,0,0,0,0,"",0,0,0,0,0,0,0,0,0,0,0,0,0,0,0,{"$f":"T205/1000*V205*X205*IF(IFERROR(SEARCH(\"Gas\",$A$14),0)>0,VLOOKUP(\"Gas\",HVACg_Lookup,MATCH($F$12,BuildingSize,0)+1,FALSE),IF(IFERROR(SEARCH(\"Oil\",$A$14),0)>0,VLOOKUP(\"Oil\",HVACg_Lookup,MATCH($F$12,BuildingSize,0)+1,FALSE),IF(IFERROR(SEARCH(\"Propane\",$A$14),0)>0,VLOOKUP(\"Propane\",HVACg_Lookup,MATCH(Worksheet!$F$12,BuildingSize,0)+1,FALSE),0)))","v":0},{"$f":"U205/1000*V205*X205*IF(IFERROR(SEARCH(\"Gas\",$A$14),0)>0,VLOOKUP(\"Gas\",HVACg_Lookup,MATCH($F$12,BuildingSize,0)+1,FALSE),IF(IFERROR(SEARCH(\"Oil\",$A$14),0)>0,VLOOKUP(\"Oil\",HVACg_Lookup,MATCH($F$12,BuildingSize,0)+1,FALSE),IF(IFERROR(SEARCH(\"Propane\",$A$14),0)>0,VLOOKUP(\"Propane\",HVACg_Lookup,MATCH(Worksheet!$F$12,BuildingSize,0)+1,FALSE),0)))","v":0},0,0,"",""]
[null,null,"",null,null,null,null,null,null,null,null,null,0,0,0,0,"",0,0,0,0,0,0,0,0,0,0,0,0,0,0,0,{"$f":"T206/1000*V206*X206*IF(IFERROR(SEARCH(\"Gas\",$A$14),0)>0,VLOOKUP(\"Gas\",HVACg_Lookup,MATCH($F$12,BuildingSize,0)+1,FALSE),IF(IFERROR(SEARCH(\"Oil\",$A$14),0)>0,VLOOKUP(\"Oil\",HVACg_Lookup,MATCH($F$12,BuildingSize,0)+1,FALSE),IF(IFERROR(SEARCH(\"Propane\",$A$14),0)>0,VLOOKUP(\"Propane\",HVACg_Lookup,MATCH(Worksheet!$F$12,BuildingSize,0)+1,FALSE),0)))","v":0},{"$f":"U206/1000*V206*X206*IF(IFERROR(SEARCH(\"Gas\",$A$14),0)>0,VLOOKUP(\"Gas\",HVACg_Lookup,MATCH($F$12,BuildingSize,0)+1,FALSE),IF(IFERROR(SEARCH(\"Oil\",$A$14),0)>0,VLOOKUP(\"Oil\",HVACg_Lookup,MATCH($F$12,BuildingSize,0)+1,FALSE),IF(IFERROR(SEARCH(\"Propane\",$A$14),0)>0,VLOOKUP(\"Propane\",HVACg_Lookup,MATCH(Worksheet!$F$12,BuildingSize,0)+1,FALSE),0)))","v":0},0,0,"",""]
[null,null,"",null,null,null,null,null,null,null,null,null,0,0,0,0,"",0,0,0,0,0,0,0,0,0,0,0,0,0,0,0,{"$f":"T207/1000*V207*X207*IF(IFERROR(SEARCH(\"Gas\",$A$14),0)>0,VLOOKUP(\"Gas\",HVACg_Lookup,MATCH($F$12,BuildingSize,0)+1,FALSE),IF(IFERROR(SEARCH(\"Oil\",$A$14),0)>0,VLOOKUP(\"Oil\",HVACg_Lookup,MATCH($F$12,BuildingSize,0)+1,FALSE),IF(IFERROR(SEARCH(\"Propane\",$A$14),0)>0,VLOOKUP(\"Propane\",HVACg_Lookup,MATCH(Worksheet!$F$12,BuildingSize,0)+1,FALSE),0)))","v":0},{"$f":"U207/1000*V207*X207*IF(IFERROR(SEARCH(\"Gas\",$A$14),0)>0,VLOOKUP(\"Gas\",HVACg_Lookup,MATCH($F$12,BuildingSize,0)+1,FALSE),IF(IFERROR(SEARCH(\"Oil\",$A$14),0)>0,VLOOKUP(\"Oil\",HVACg_Lookup,MATCH($F$12,BuildingSize,0)+1,FALSE),IF(IFERROR(SEARCH(\"Propane\",$A$14),0)>0,VLOOKUP(\"Propane\",HVACg_Lookup,MATCH(Worksheet!$F$12,BuildingSize,0)+1,FALSE),0)))","v":0},0,0,"",""]
[null,null,"",null,null,null,null,null,null,null,null,null,0,0,0,0,"",0,0,0,0,0,0,0,0,0,0,0,0,0,0,0,{"$f":"T208/1000*V208*X208*IF(IFERROR(SEARCH(\"Gas\",$A$14),0)>0,VLOOKUP(\"Gas\",HVACg_Lookup,MATCH($F$12,BuildingSize,0)+1,FALSE),IF(IFERROR(SEARCH(\"Oil\",$A$14),0)>0,VLOOKUP(\"Oil\",HVACg_Lookup,MATCH($F$12,BuildingSize,0)+1,FALSE),IF(IFERROR(SEARCH(\"Propane\",$A$14),0)>0,VLOOKUP(\"Propane\",HVACg_Lookup,MATCH(Worksheet!$F$12,BuildingSize,0)+1,FALSE),0)))","v":0},{"$f":"U208/1000*V208*X208*IF(IFERROR(SEARCH(\"Gas\",$A$14),0)>0,VLOOKUP(\"Gas\",HVACg_Lookup,MATCH($F$12,BuildingSize,0)+1,FALSE),IF(IFERROR(SEARCH(\"Oil\",$A$14),0)>0,VLOOKUP(\"Oil\",HVACg_Lookup,MATCH($F$12,BuildingSize,0)+1,FALSE),IF(IFERROR(SEARCH(\"Propane\",$A$14),0)>0,VLOOKUP(\"Propane\",HVACg_Lookup,MATCH(Worksheet!$F$12,BuildingSize,0)+1,FALSE),0)))","v":0},0,0,"",""]
[null,null,"",null,null,null,null,null,null,null,null,null,0,0,0,0,"",0,0,0,0,0,0,0,0,0,0,0,0,0,0,0,{"$f":"T209/1000*V209*X209*IF(IFERROR(SEARCH(\"Gas\",$A$14),0)>0,VLOOKUP(\"Gas\",HVACg_Lookup,MATCH($F$12,BuildingSize,0)+1,FALSE),IF(IFERROR(SEARCH(\"Oil\",$A$14),0)>0,VLOOKUP(\"Oil\",HVACg_Lookup,MATCH($F$12,BuildingSize,0)+1,FALSE),IF(IFERROR(SEARCH(\"Propane\",$A$14),0)>0,VLOOKUP(\"Propane\",HVACg_Lookup,MATCH(Worksheet!$F$12,BuildingSize,0)+1,FALSE),0)))","v":0},{"$f":"U209/1000*V209*X209*IF(IFERROR(SEARCH(\"Gas\",$A$14),0)>0,VLOOKUP(\"Gas\",HVACg_Lookup,MATCH($F$12,BuildingSize,0)+1,FALSE),IF(IFERROR(SEARCH(\"Oil\",$A$14),0)>0,VLOOKUP(\"Oil\",HVACg_Lookup,MATCH($F$12,BuildingSize,0)+1,FALSE),IF(IFERROR(SEARCH(\"Propane\",$A$14),0)>0,VLOOKUP(\"Propane\",HVACg_Lookup,MATCH(Worksheet!$F$12,BuildingSize,0)+1,FALSE),0)))","v":0},0,0,"",""]
[null,null,"",null,null,null,null,null,null,null,null,null,0,0,0,0,"",0,0,0,0,0,0,0,0,0,0,0,0,0,0,0,{"$f":"T210/1000*V210*X210*IF(IFERROR(SEARCH(\"Gas\",$A$14),0)>0,VLOOKUP(\"Gas\",HVACg_Lookup,MATCH($F$12,BuildingSize,0)+1,FALSE),IF(IFERROR(SEARCH(\"Oil\",$A$14),0)>0,VLOOKUP(\"Oil\",HVACg_Lookup,MATCH($F$12,BuildingSize,0)+1,FALSE),IF(IFERROR(SEARCH(\"Propane\",$A$14),0)>0,VLOOKUP(\"Propane\",HVACg_Lookup,MATCH(Worksheet!$F$12,BuildingSize,0)+1,FALSE),0)))","v":0},{"$f":"U210/1000*V210*X210*IF(IFERROR(SEARCH(\"Gas\",$A$14),0)>0,VLOOKUP(\"Gas\",HVACg_Lookup,MATCH($F$12,BuildingSize,0)+1,FALSE),IF(IFERROR(SEARCH(\"Oil\",$A$14),0)>0,VLOOKUP(\"Oil\",HVACg_Lookup,MATCH($F$12,BuildingSize,0)+1,FALSE),IF(IFERROR(SEARCH(\"Propane\",$A$14),0)>0,VLOOKUP(\"Propane\",HVACg_Lookup,MATCH(Worksheet!$F$12,BuildingSize,0)+1,FALSE),0)))","v":0},0,0,"",""]
[null,null,"",null,null,null,null,null,null,null,null,null,0,0,0,0,"",0,0,0,0,0,0,0,0,0,0,0,0,0,0,0,{"$f":"T211/1000*V211*X211*IF(IFERROR(SEARCH(\"Gas\",$A$14),0)>0,VLOOKUP(\"Gas\",HVACg_Lookup,MATCH($F$12,BuildingSize,0)+1,FALSE),IF(IFERROR(SEARCH(\"Oil\",$A$14),0)>0,VLOOKUP(\"Oil\",HVACg_Lookup,MATCH($F$12,BuildingSize,0)+1,FALSE),IF(IFERROR(SEARCH(\"Propane\",$A$14),0)>0,VLOOKUP(\"Propane\",HVACg_Lookup,MATCH(Worksheet!$F$12,BuildingSize,0)+1,FALSE),0)))","v":0},{"$f":"U211/1000*V211*X211*IF(IFERROR(SEARCH(\"Gas\",$A$14),0)>0,VLOOKUP(\"Gas\",HVACg_Lookup,MATCH($F$12,BuildingSize,0)+1,FALSE),IF(IFERROR(SEARCH(\"Oil\",$A$14),0)>0,VLOOKUP(\"Oil\",HVACg_Lookup,MATCH($F$12,BuildingSize,0)+1,FALSE),IF(IFERROR(SEARCH(\"Propane\",$A$14),0)>0,VLOOKUP(\"Propane\",HVACg_Lookup,MATCH(Worksheet!$F$12,BuildingSize,0)+1,FALSE),0)))","v":0},0,0,"",""]
[null,null,"",null,null,null,null,null,null,null,null,null,0,0,{"$f":"IF(AK212=\"\",0,IF(AK212=1,VLOOKUP(A212,MeasureCode_Lookup,3,FALSE),\"DNQ\"))","v":0},{"$f":"IF(AL212=\"\",0,IF(AL212=1,VLOOKUP(A212,MeasureCode_Lookup,3,FALSE),\"DNQ\"))","v":0},{"$f":"IF(A212=\"\",\"\",VLOOKUP(A212,MeasureCode_Lookup,4,FALSE))","v":""},0,0,0,0,{"$f":"IF(A212=\"\",0,VLOOKUP(A212,MeasureCode_Lookup,5,FALSE))","v":0},{"$f":"IF($A$12=\"\",0,VLOOKUP($A$12,BuildingType_Lookup,3,FALSE))","v":0},{"$f":"IF($A$12=\"\",0,VLOOKUP($A$12,BuildingType_Lookup,2,FALSE))","v":0},{"$f":"IF(AND(OR(AK212=\"\",AK212=0)=TRUE,OR(AL212=\"\",AL212=0))=TRUE,0,IF(AL212=\"\",(IF(OR(C212=\"DDC\",C212=\"OHLC\")=TRUE,L212,M212)/1000)*V212*W212*(1+VLOOKUP($A$12,BuildingType_Lookup,4,FALSE)),IF(AL212=0,0,(IF(OR(C212=\"DDC\",C212=\"OHLC\")=TRUE,L212,N212)/1000)*V212*W212*(1+VLOOKUP($A$12,BuildingType_Lookup,4,FALSE)))))","v":0},{"$f":"IF(AND(OR(AK212=\"\",AK212=0)=TRUE,OR(AL212=\"\",AL212=0))=TRUE,0,IF(AL212=\"\",(IF(OR(C212=\"DDC\",C212=\"OHLC\")=TRUE,L212,M212)/1000)*V212*X212*(1+VLOOKUP($A$12,BuildingType_Lookup,MATCH($A$14,HVAC,0)+4,FALSE)),IF(AL212=0,0,(IF(OR(C212=\"DDC\",C212=\"OHLC\")=TRUE,L212,N212)/1000)*V212*X212*(1+VLOOKUP($A$12,BuildingType_Lookup,MATCH($A$14,HVAC,0)+4,FALSE)))))","v":0},{"$f":"IFERROR(IF(OR(C212=\"DDC\",C212=\"OHLC\")=TRUE,F212*H212*Y212,F212*Y212),0)","v":0},{"$f":"IFERROR(IF(OR(C212=\"DDC\",C212=\"OHLC\")=TRUE,G212*I212*Y212,G212*Y212),0)","v":0},{"$f":"IFERROR(IF(OR(C212=\"DDC\",C212=\"OHLC\")=TRUE,F212*H212*Z212,F212*Z212),0)","v":0},{"$f":"IFERROR(IF(OR(C212=\"DDC\",C212=\"OHLC\")=TRUE,G212*I212*Z212,G212*Z212),0)","v":0},0,0,{"$f":"T212/1000*V212*X212*IF(IFERROR(SEARCH(\"Gas\",$A$14),0)>0,VLOOKUP(\"Gas\",HVACg_Lookup,MATCH($F$12,BuildingSize,0)+1,FALSE),IF(IFERROR(SEARCH(\"Oil\",$A$14),0)>0,VLOOKUP(\"Oil\",HVACg_Lookup,MATCH($F$12,BuildingSize,0)+1,FALSE),IF(IFERROR(SEARCH(\"Propane\",$A$14),0)>0,VLOOKUP(\"Propane\",HVACg_Lookup,MATCH(Worksheet!$F$12,BuildingSize,0)+1,FALSE),0)))","v":0},{"$f":"U212/1000*V212*X212*IF(IFERROR(SEARCH(\"Gas\",$A$14),0)>0,VLOOKUP(\"Gas\",HVACg_Lookup,MATCH($F$12,BuildingSize,0)+1,FALSE),IF(IFERROR(SEARCH(\"Oil\",$A$14),0)>0,VLOOKUP(\"Oil\",HVACg_Lookup,MATCH($F$12,BuildingSize,0)+1,FALSE),IF(IFERROR(SEARCH(\"Propane\",$A$14),0)>0,VLOOKUP(\"Propane\",HVACg_Lookup,MATCH(Worksheet!$F$12,BuildingSize,0)+1,FALSE),0)))","v":0},0,0,"",""]
[null,null,{"$f":"IF(A213=\"\",\"\",VLOOKUP(A213,MeasureCode_Lookup,2,FALSE))","v":""},null,null,null,null,null,null,null,null,null,{"$f":"IF(OR(A213=\"\",F213=\"\",H213=\"\",L213=\"\")=TRUE,0,H213*L213)","v":0},{"$f":"IF(OR(A213=\"\",G213=\"\",I213=\"\",L213=\"\")=TRUE,0,I213*L213)","v":0},0,0,"",{"$f":"IF(N(O213)=0,0,F213*O213*IF(Q213=\"per Fixture Controlled\",H213,1))","v":0},{"$f":"IF(N(P213)=0,0,G213*P213*IF(Q213=\"per Fixture Controlled\",I213,1))","v":0},{"$f":"IF(N(O213)=0,0,F213*M213)","v":0},{"$f":"IF(N(P213)=0,0,G213*N213)","v":0},0,0,0,0,0,0,0,0,0,{"$f":"AC213*8","v":0},{"$f":"AD213*8","v":0},{"$f":"T213/1000*V213*X213*IF(IFERROR(SEARCH(\"Gas\",$A$14),0)>0,VLOOKUP(\"Gas\",HVACg_Lookup,MATCH($F$12,BuildingSize,0)+1,FALSE),IF(IFERROR(SEARCH(\"Oil\",$A$14),0)>0,VLOOKUP(\"Oil\",HVACg_Lookup,MATCH($F$12,BuildingSize,0)+1,FALSE),IF(IFERROR(SEARCH(\"Propane\",$A$14),0)>0,VLOOKUP(\"Propane\",HVACg_Lookup,MATCH(Worksheet!$F$12,BuildingSize,0)+1,FALSE),0)))","v":0},{"$f":"U213/1000*V213*X213*IF(IFERROR(SEARCH(\"Gas\",$A$14),0)>0,VLOOKUP(\"Gas\",HVACg_Lookup,MATCH($F$12,BuildingSize,0)+1,FALSE),IF(IFERROR(SEARCH(\"Oil\",$A$14),0)>0,VLOOKUP(\"Oil\",HVACg_Lookup,MATCH($F$12,BuildingSize,0)+1,FALSE),IF(IFERROR(SEARCH(\"Propane\",$A$14),0)>0,VLOOKUP(\"Propane\",HVACg_Lookup,MATCH(Worksheet!$F$12,BuildingSize,0)+1,FALSE),0)))","v":0},{"$f":"AG213*8","v":0},{"$f":"AH213*8","v":0},{"$f":"IF(OR($B$3=\"\",$B$4=\"\",$A$12=\"\",$F$12=\"\",$A$14=\"\",A213=\"\",F213=\"\",H213=\"\",L213=\"\")=TRUE,\"\",IF(C213=\"OSW\",IF(H213>=2,1,0),IF(C213=\"OSR\",IF(AND(H213>=2,M213>=180)=TRUE,1,0),IF(C213=\"OSRH\",IF(AND(H213>=1,M213>=180)=TRUE,1,0),IF(C213=\"OHLC\",IF(M213>=240,1,0),IF(C213=\"DDC\",IF(AND(H213>=4,M213>=240)=TRUE,1,0),0))))))","v":""},{"$f":"IF(OR($B$3=\"\",$B$4=\"\",$A$12=\"\",$F$12=\"\",$A$14=\"\",A213=\"\",F213=\"\",I213=\"\",L213=\"\")=TRUE,\"\",IF(C213=\"OSW\",IF(I213>=2,1,0),IF(C213=\"OSR\",IF(AND(I213>=2,N213>=180)=TRUE,1,0),IF(C213=\"OSRH\",IF(AND(I213>=1,N213>=180)=TRUE,1,0),IF(C213=\"OHLC\",IF(N213>=240,1,0),IF(C213=\"DDC\",IF(AND(I213>=4,N213>=240)=TRUE,1,0),0))))))","v":""}]
[null,null,"",null,null,null,null,null,null,null,null,null,0,0,0,0,"",0,0,0,0,0,0,0,0,0,0,0,0,0,0,0,{"$f":"T214/1000*V214*X214*IF(IFERROR(SEARCH(\"Gas\",$A$14),0)>0,VLOOKUP(\"Gas\",HVACg_Lookup,MATCH($F$12,BuildingSize,0)+1,FALSE),IF(IFERROR(SEARCH(\"Oil\",$A$14),0)>0,VLOOKUP(\"Oil\",HVACg_Lookup,MATCH($F$12,BuildingSize,0)+1,FALSE),IF(IFERROR(SEARCH(\"Propane\",$A$14),0)>0,VLOOKUP(\"Propane\",HVACg_Lookup,MATCH(Worksheet!$F$12,BuildingSize,0)+1,FALSE),0)))","v":0},{"$f":"U214/1000*V214*X214*IF(IFERROR(SEARCH(\"Gas\",$A$14),0)>0,VLOOKUP(\"Gas\",HVACg_Lookup,MATCH($F$12,BuildingSize,0)+1,FALSE),IF(IFERROR(SEARCH(\"Oil\",$A$14),0)>0,VLOOKUP(\"Oil\",HVACg_Lookup,MATCH($F$12,BuildingSize,0)+1,FALSE),IF(IFERROR(SEARCH(\"Propane\",$A$14),0)>0,VLOOKUP(\"Propane\",HVACg_Lookup,MATCH(Worksheet!$F$12,BuildingSize,0)+1,FALSE),0)))","v":0},0,0,"",""]
[null,null,"",null,null,null,null,null,null,null,null,null,0,0,0,0,"",0,0,0,0,0,0,0,0,0,0,0,0,0,0,0,{"$f":"T215/1000*V215*X215*IF(IFERROR(SEARCH(\"Gas\",$A$14),0)>0,VLOOKUP(\"Gas\",HVACg_Lookup,MATCH($F$12,BuildingSize,0)+1,FALSE),IF(IFERROR(SEARCH(\"Oil\",$A$14),0)>0,VLOOKUP(\"Oil\",HVACg_Lookup,MATCH($F$12,BuildingSize,0)+1,FALSE),IF(IFERROR(SEARCH(\"Propane\",$A$14),0)>0,VLOOKUP(\"Propane\",HVACg_Lookup,MATCH(Worksheet!$F$12,BuildingSize,0)+1,FALSE),0)))","v":0},{"$f":"U215/1000*V215*X215*IF(IFERROR(SEARCH(\"Gas\",$A$14),0)>0,VLOOKUP(\"Gas\",HVACg_Lookup,MATCH($F$12,BuildingSize,0)+1,FALSE),IF(IFERROR(SEARCH(\"Oil\",$A$14),0)>0,VLOOKUP(\"Oil\",HVACg_Lookup,MATCH($F$12,BuildingSize,0)+1,FALSE),IF(IFERROR(SEARCH(\"Propane\",$A$14),0)>0,VLOOKUP(\"Propane\",HVACg_Lookup,MATCH(Worksheet!$F$12,BuildingSize,0)+1,FALSE),0)))","v":0},0,0,"",""]
[null,null,"",null,null,null,null,null,null,null,null,null,0,0,0,0,"",0,0,0,0,0,0,0,0,0,0,0,0,0,0,0,{"$f":"T216/1000*V216*X216*IF(IFERROR(SEARCH(\"Gas\",$A$14),0)>0,VLOOKUP(\"Gas\",HVACg_Lookup,MATCH($F$12,BuildingSize,0)+1,FALSE),IF(IFERROR(SEARCH(\"Oil\",$A$14),0)>0,VLOOKUP(\"Oil\",HVACg_Lookup,MATCH($F$12,BuildingSize,0)+1,FALSE),IF(IFERROR(SEARCH(\"Propane\",$A$14),0)>0,VLOOKUP(\"Propane\",HVACg_Lookup,MATCH(Worksheet!$F$12,BuildingSize,0)+1,FALSE),0)))","v":0},{"$f":"U216/1000*V216*X216*IF(IFERROR(SEARCH(\"Gas\",$A$14),0)>0,VLOOKUP(\"Gas\",HVACg_Lookup,MATCH($F$12,BuildingSize,0)+1,FALSE),IF(IFERROR(SEARCH(\"Oil\",$A$14),0)>0,VLOOKUP(\"Oil\",HVACg_Lookup,MATCH($F$12,BuildingSize,0)+1,FALSE),IF(IFERROR(SEARCH(\"Propane\",$A$14),0)>0,VLOOKUP(\"Propane\",HVACg_Lookup,MATCH(Worksheet!$F$12,BuildingSize,0)+1,FALSE),0)))","v":0},0,0,"",""]
[null,null,"",null,null,null,null,null,null,null,null,null,0,0,0,0,"",0,0,0,0,0,0,0,0,0,0,0,0,0,0,0,{"$f":"T217/1000*V217*X217*IF(IFERROR(SEARCH(\"Gas\",$A$14),0)>0,VLOOKUP(\"Gas\",HVACg_Lookup,MATCH($F$12,BuildingSize,0)+1,FALSE),IF(IFERROR(SEARCH(\"Oil\",$A$14),0)>0,VLOOKUP(\"Oil\",HVACg_Lookup,MATCH($F$12,BuildingSize,0)+1,FALSE),IF(IFERROR(SEARCH(\"Propane\",$A$14),0)>0,VLOOKUP(\"Propane\",HVACg_Lookup,MATCH(Worksheet!$F$12,BuildingSize,0)+1,FALSE),0)))","v":0},{"$f":"U217/1000*V217*X217*IF(IFERROR(SEARCH(\"Gas\",$A$14),0)>0,VLOOKUP(\"Gas\",HVACg_Lookup,MATCH($F$12,BuildingSize,0)+1,FALSE),IF(IFERROR(SEARCH(\"Oil\",$A$14),0)>0,VLOOKUP(\"Oil\",HVACg_Lookup,MATCH($F$12,BuildingSize,0)+1,FALSE),IF(IFERROR(SEARCH(\"Propane\",$A$14),0)>0,VLOOKUP(\"Propane\",HVACg_Lookup,MATCH(Worksheet!$F$12,BuildingSize,0)+1,FALSE),0)))","v":0},0,0,"",""]
[null,null,"",null,null,null,null,null,null,null,null,null,0,0,0,0,"",0,0,0,0,0,0,0,0,0,0,0,0,0,0,0,{"$f":"T218/1000*V218*X218*IF(IFERROR(SEARCH(\"Gas\",$A$14),0)>0,VLOOKUP(\"Gas\",HVACg_Lookup,MATCH($F$12,BuildingSize,0)+1,FALSE),IF(IFERROR(SEARCH(\"Oil\",$A$14),0)>0,VLOOKUP(\"Oil\",HVACg_Lookup,MATCH($F$12,BuildingSize,0)+1,FALSE),IF(IFERROR(SEARCH(\"Propane\",$A$14),0)>0,VLOOKUP(\"Propane\",HVACg_Lookup,MATCH(Worksheet!$F$12,BuildingSize,0)+1,FALSE),0)))","v":0},{"$f":"U218/1000*V218*X218*IF(IFERROR(SEARCH(\"Gas\",$A$14),0)>0,VLOOKUP(\"Gas\",HVACg_Lookup,MATCH($F$12,BuildingSize,0)+1,FALSE),IF(IFERROR(SEARCH(\"Oil\",$A$14),0)>0,VLOOKUP(\"Oil\",HVACg_Lookup,MATCH($F$12,BuildingSize,0)+1,FALSE),IF(IFERROR(SEARCH(\"Propane\",$A$14),0)>0,VLOOKUP(\"Propane\",HVACg_Lookup,MATCH(Worksheet!$F$12,BuildingSize,0)+1,FALSE),0)))","v":0},0,0,"",""]
[null,null,"",null,null,null,null,null,null,null,null,null,0,0,0,0,"",0,0,0,0,0,0,0,0,0,0,0,0,0,0,0,{"$f":"T219/1000*V219*X219*IF(IFERROR(SEARCH(\"Gas\",$A$14),0)>0,VLOOKUP(\"Gas\",HVACg_Lookup,MATCH($F$12,BuildingSize,0)+1,FALSE),IF(IFERROR(SEARCH(\"Oil\",$A$14),0)>0,VLOOKUP(\"Oil\",HVACg_Lookup,MATCH($F$12,BuildingSize,0)+1,FALSE),IF(IFERROR(SEARCH(\"Propane\",$A$14),0)>0,VLOOKUP(\"Propane\",HVACg_Lookup,MATCH(Worksheet!$F$12,BuildingSize,0)+1,FALSE),0)))","v":0},{"$f":"U219/1000*V219*X219*IF(IFERROR(SEARCH(\"Gas\",$A$14),0)>0,VLOOKUP(\"Gas\",HVACg_Lookup,MATCH($F$12,BuildingSize,0)+1,FALSE),IF(IFERROR(SEARCH(\"Oil\",$A$14),0)>0,VLOOKUP(\"Oil\",HVACg_Lookup,MATCH($F$12,BuildingSize,0)+1,FALSE),IF(IFERROR(SEARCH(\"Propane\",$A$14),0)>0,VLOOKUP(\"Propane\",HVACg_Lookup,MATCH(Worksheet!$F$12,BuildingSize,0)+1,FALSE),0)))","v":0},0,0,"",""]
[null,null,"",null,null,null,null,null,null,null,null,null,0,0,0,0,"",0,0,0,0,0,0,0,0,0,0,0,0,0,0,0,{"$f":"T220/1000*V220*X220*IF(IFERROR(SEARCH(\"Gas\",$A$14),0)>0,VLOOKUP(\"Gas\",HVACg_Lookup,MATCH($F$12,BuildingSize,0)+1,FALSE),IF(IFERROR(SEARCH(\"Oil\",$A$14),0)>0,VLOOKUP(\"Oil\",HVACg_Lookup,MATCH($F$12,BuildingSize,0)+1,FALSE),IF(IFERROR(SEARCH(\"Propane\",$A$14),0)>0,VLOOKUP(\"Propane\",HVACg_Lookup,MATCH(Worksheet!$F$12,BuildingSize,0)+1,FALSE),0)))","v":0},{"$f":"U220/1000*V220*X220*IF(IFERROR(SEARCH(\"Gas\",$A$14),0)>0,VLOOKUP(\"Gas\",HVACg_Lookup,MATCH($F$12,BuildingSize,0)+1,FALSE),IF(IFERROR(SEARCH(\"Oil\",$A$14),0)>0,VLOOKUP(\"Oil\",HVACg_Lookup,MATCH($F$12,BuildingSize,0)+1,FALSE),IF(IFERROR(SEARCH(\"Propane\",$A$14),0)>0,VLOOKUP(\"Propane\",HVACg_Lookup,MATCH(Worksheet!$F$12,BuildingSize,0)+1,FALSE),0)))","v":0},0,0,"",""]
[null,null,"",null,null,null,null,null,null,null,null,null,0,0,0,0,"",0,0,0,0,0,0,0,0,0,0,0,0,0,0,0,{"$f":"T221/1000*V221*X221*IF(IFERROR(SEARCH(\"Gas\",$A$14),0)>0,VLOOKUP(\"Gas\",HVACg_Lookup,MATCH($F$12,BuildingSize,0)+1,FALSE),IF(IFERROR(SEARCH(\"Oil\",$A$14),0)>0,VLOOKUP(\"Oil\",HVACg_Lookup,MATCH($F$12,BuildingSize,0)+1,FALSE),IF(IFERROR(SEARCH(\"Propane\",$A$14),0)>0,VLOOKUP(\"Propane\",HVACg_Lookup,MATCH(Worksheet!$F$12,BuildingSize,0)+1,FALSE),0)))","v":0},{"$f":"U221/1000*V221*X221*IF(IFERROR(SEARCH(\"Gas\",$A$14),0)>0,VLOOKUP(\"Gas\",HVACg_Lookup,MATCH($F$12,BuildingSize,0)+1,FALSE),IF(IFERROR(SEARCH(\"Oil\",$A$14),0)>0,VLOOKUP(\"Oil\",HVACg_Lookup,MATCH($F$12,BuildingSize,0)+1,FALSE),IF(IFERROR(SEARCH(\"Propane\",$A$14),0)>0,VLOOKUP(\"Propane\",HVACg_Lookup,MATCH(Worksheet!$F$12,BuildingSize,0)+1,FALSE),0)))","v":0},0,0,"",""]
[null,null,"",null,null,null,null,null,null,null,null,null,0,0,0,0,"",0,0,0,0,0,0,0,0,0,0,0,0,0,0,0,{"$f":"T222/1000*V222*X222*IF(IFERROR(SEARCH(\"Gas\",$A$14),0)>0,VLOOKUP(\"Gas\",HVACg_Lookup,MATCH($F$12,BuildingSize,0)+1,FALSE),IF(IFERROR(SEARCH(\"Oil\",$A$14),0)>0,VLOOKUP(\"Oil\",HVACg_Lookup,MATCH($F$12,BuildingSize,0)+1,FALSE),IF(IFERROR(SEARCH(\"Propane\",$A$14),0)>0,VLOOKUP(\"Propane\",HVACg_Lookup,MATCH(Worksheet!$F$12,BuildingSize,0)+1,FALSE),0)))","v":0},{"$f":"U222/1000*V222*X222*IF(IFERROR(SEARCH(\"Gas\",$A$14),0)>0,VLOOKUP(\"Gas\",HVACg_Lookup,MATCH($F$12,BuildingSize,0)+1,FALSE),IF(IFERROR(SEARCH(\"Oil\",$A$14),0)>0,VLOOKUP(\"Oil\",HVACg_Lookup,MATCH($F$12,BuildingSize,0)+1,FALSE),IF(IFERROR(SEARCH(\"Propane\",$A$14),0)>0,VLOOKUP(\"Propane\",HVACg_Lookup,MATCH(Worksheet!$F$12,BuildingSize,0)+1,FALSE),0)))","v":0},0,0,"",""]
[null,null,"",null,null,null,null,null,null,null,null,null,0,0,0,0,"",0,0,0,0,0,0,0,0,0,0,0,0,0,0,0,{"$f":"T223/1000*V223*X223*IF(IFERROR(SEARCH(\"Gas\",$A$14),0)>0,VLOOKUP(\"Gas\",HVACg_Lookup,MATCH($F$12,BuildingSize,0)+1,FALSE),IF(IFERROR(SEARCH(\"Oil\",$A$14),0)>0,VLOOKUP(\"Oil\",HVACg_Lookup,MATCH($F$12,BuildingSize,0)+1,FALSE),IF(IFERROR(SEARCH(\"Propane\",$A$14),0)>0,VLOOKUP(\"Propane\",HVACg_Lookup,MATCH(Worksheet!$F$12,BuildingSize,0)+1,FALSE),0)))","v":0},{"$f":"U223/1000*V223*X223*IF(IFERROR(SEARCH(\"Gas\",$A$14),0)>0,VLOOKUP(\"Gas\",HVACg_Lookup,MATCH($F$12,BuildingSize,0)+1,FALSE),IF(IFERROR(SEARCH(\"Oil\",$A$14),0)>0,VLOOKUP(\"Oil\",HVACg_Lookup,MATCH($F$12,BuildingSize,0)+1,FALSE),IF(IFERROR(SEARCH(\"Propane\",$A$14),0)>0,VLOOKUP(\"Propane\",HVACg_Lookup,MATCH(Worksheet!$F$12,BuildingSize,0)+1,FALSE),0)))","v":0},0,0,"",""]
[null,null,"",null,null,null,null,null,null,null,null,null,0,0,0,0,"",0,0,0,0,0,0,0,0,0,0,0,0,0,0,0,{"$f":"T224/1000*V224*X224*IF(IFERROR(SEARCH(\"Gas\",$A$14),0)>0,VLOOKUP(\"Gas\",HVACg_Lookup,MATCH($F$12,BuildingSize,0)+1,FALSE),IF(IFERROR(SEARCH(\"Oil\",$A$14),0)>0,VLOOKUP(\"Oil\",HVACg_Lookup,MATCH($F$12,BuildingSize,0)+1,FALSE),IF(IFERROR(SEARCH(\"Propane\",$A$14),0)>0,VLOOKUP(\"Propane\",HVACg_Lookup,MATCH(Worksheet!$F$12,BuildingSize,0)+1,FALSE),0)))","v":0},{"$f":"U224/1000*V224*X224*IF(IFERROR(SEARCH(\"Gas\",$A$14),0)>0,VLOOKUP(\"Gas\",HVACg_Lookup,MATCH($F$12,BuildingSize,0)+1,FALSE),IF(IFERROR(SEARCH(\"Oil\",$A$14),0)>0,VLOOKUP(\"Oil\",HVACg_Lookup,MATCH($F$12,BuildingSize,0)+1,FALSE),IF(IFERROR(SEARCH(\"Propane\",$A$14),0)>0,VLOOKUP(\"Propane\",HVACg_Lookup,MATCH(Worksheet!$F$12,BuildingSize,0)+1,FALSE),0)))","v":0},0,0,"",""]
[null,null,"",null,null,null,null,null,null,null,null,null,0,0,0,0,"",0,0,0,0,0,0,0,0,0,0,0,0,0,0,0,{"$f":"T225/1000*V225*X225*IF(IFERROR(SEARCH(\"Gas\",$A$14),0)>0,VLOOKUP(\"Gas\",HVACg_Lookup,MATCH($F$12,BuildingSize,0)+1,FALSE),IF(IFERROR(SEARCH(\"Oil\",$A$14),0)>0,VLOOKUP(\"Oil\",HVACg_Lookup,MATCH($F$12,BuildingSize,0)+1,FALSE),IF(IFERROR(SEARCH(\"Propane\",$A$14),0)>0,VLOOKUP(\"Propane\",HVACg_Lookup,MATCH(Worksheet!$F$12,BuildingSize,0)+1,FALSE),0)))","v":0},{"$f":"U225/1000*V225*X225*IF(IFERROR(SEARCH(\"Gas\",$A$14),0)>0,VLOOKUP(\"Gas\",HVACg_Lookup,MATCH($F$12,BuildingSize,0)+1,FALSE),IF(IFERROR(SEARCH(\"Oil\",$A$14),0)>0,VLOOKUP(\"Oil\",HVACg_Lookup,MATCH($F$12,BuildingSize,0)+1,FALSE),IF(IFERROR(SEARCH(\"Propane\",$A$14),0)>0,VLOOKUP(\"Propane\",HVACg_Lookup,MATCH(Worksheet!$F$12,BuildingSize,0)+1,FALSE),0)))","v":0},0,0,"",""]
[null,null,"",null,null,null,null,null,null,null,null,null,0,0,0,0,"",0,0,0,0,0,0,0,0,0,0,0,0,0,0,0,{"$f":"T226/1000*V226*X226*IF(IFERROR(SEARCH(\"Gas\",$A$14),0)>0,VLOOKUP(\"Gas\",HVACg_Lookup,MATCH($F$12,BuildingSize,0)+1,FALSE),IF(IFERROR(SEARCH(\"Oil\",$A$14),0)>0,VLOOKUP(\"Oil\",HVACg_Lookup,MATCH($F$12,BuildingSize,0)+1,FALSE),IF(IFERROR(SEARCH(\"Propane\",$A$14),0)>0,VLOOKUP(\"Propane\",HVACg_Lookup,MATCH(Worksheet!$F$12,BuildingSize,0)+1,FALSE),0)))","v":0},{"$f":"U226/1000*V226*X226*IF(IFERROR(SEARCH(\"Gas\",$A$14),0)>0,VLOOKUP(\"Gas\",HVACg_Lookup,MATCH($F$12,BuildingSize,0)+1,FALSE),IF(IFERROR(SEARCH(\"Oil\",$A$14),0)>0,VLOOKUP(\"Oil\",HVACg_Lookup,MATCH($F$12,BuildingSize,0)+1,FALSE),IF(IFERROR(SEARCH(\"Propane\",$A$14),0)>0,VLOOKUP(\"Propane\",HVACg_Lookup,MATCH(Worksheet!$F$12,BuildingSize,0)+1,FALSE),0)))","v":0},0,0,"",""]
[null,null,"",null,null,null,null,null,null,null,null,null,0,0,0,0,"",0,0,0,0,0,0,0,0,0,0,0,0,0,0,0,{"$f":"T227/1000*V227*X227*IF(IFERROR(SEARCH(\"Gas\",$A$14),0)>0,VLOOKUP(\"Gas\",HVACg_Lookup,MATCH($F$12,BuildingSize,0)+1,FALSE),IF(IFERROR(SEARCH(\"Oil\",$A$14),0)>0,VLOOKUP(\"Oil\",HVACg_Lookup,MATCH($F$12,BuildingSize,0)+1,FALSE),IF(IFERROR(SEARCH(\"Propane\",$A$14),0)>0,VLOOKUP(\"Propane\",HVACg_Lookup,MATCH(Worksheet!$F$12,BuildingSize,0)+1,FALSE),0)))","v":0},{"$f":"U227/1000*V227*X227*IF(IFERROR(SEARCH(\"Gas\",$A$14),0)>0,VLOOKUP(\"Gas\",HVACg_Lookup,MATCH($F$12,BuildingSize,0)+1,FALSE),IF(IFERROR(SEARCH(\"Oil\",$A$14),0)>0,VLOOKUP(\"Oil\",HVACg_Lookup,MATCH($F$12,BuildingSize,0)+1,FALSE),IF(IFERROR(SEARCH(\"Propane\",$A$14),0)>0,VLOOKUP(\"Propane\",HVACg_Lookup,MATCH(Worksheet!$F$12,BuildingSize,0)+1,FALSE),0)))","v":0},0,0,"",""]
[null,null,"",null,null,null,null,null,null,null,null,null,0,0,0,0,"",0,0,0,0,0,0,0,0,0,0,0,0,0,0,0,{"$f":"T228/1000*V228*X228*IF(IFERROR(SEARCH(\"Gas\",$A$14),0)>0,VLOOKUP(\"Gas\",HVACg_Lookup,MATCH($F$12,BuildingSize,0)+1,FALSE),IF(IFERROR(SEARCH(\"Oil\",$A$14),0)>0,VLOOKUP(\"Oil\",HVACg_Lookup,MATCH($F$12,BuildingSize,0)+1,FALSE),IF(IFERROR(SEARCH(\"Propane\",$A$14),0)>0,VLOOKUP(\"Propane\",HVACg_Lookup,MATCH(Worksheet!$F$12,BuildingSize,0)+1,FALSE),0)))","v":0},{"$f":"U228/1000*V228*X228*IF(IFERROR(SEARCH(\"Gas\",$A$14),0)>0,VLOOKUP(\"Gas\",HVACg_Lookup,MATCH($F$12,BuildingSize,0)+1,FALSE),IF(IFERROR(SEARCH(\"Oil\",$A$14),0)>0,VLOOKUP(\"Oil\",HVACg_Lookup,MATCH($F$12,BuildingSize,0)+1,FALSE),IF(IFERROR(SEARCH(\"Propane\",$A$14),0)>0,VLOOKUP(\"Propane\",HVACg_Lookup,MATCH(Worksheet!$F$12,BuildingSize,0)+1,FALSE),0)))","v":0},0,0,"",""]
[null,null,"",null,null,null,null,null,null,null,null,null,0,0,0,0,"",0,0,0,0,0,0,0,0,0,0,0,0,0,0,0,{"$f":"T229/1000*V229*X229*IF(IFERROR(SEARCH(\"Gas\",$A$14),0)>0,VLOOKUP(\"Gas\",HVACg_Lookup,MATCH($F$12,BuildingSize,0)+1,FALSE),IF(IFERROR(SEARCH(\"Oil\",$A$14),0)>0,VLOOKUP(\"Oil\",HVACg_Lookup,MATCH($F$12,BuildingSize,0)+1,FALSE),IF(IFERROR(SEARCH(\"Propane\",$A$14),0)>0,VLOOKUP(\"Propane\",HVACg_Lookup,MATCH(Worksheet!$F$12,BuildingSize,0)+1,FALSE),0)))","v":0},{"$f":"U229/1000*V229*X229*IF(IFERROR(SEARCH(\"Gas\",$A$14),0)>0,VLOOKUP(\"Gas\",HVACg_Lookup,MATCH($F$12,BuildingSize,0)+1,FALSE),IF(IFERROR(SEARCH(\"Oil\",$A$14),0)>0,VLOOKUP(\"Oil\",HVACg_Lookup,MATCH($F$12,BuildingSize,0)+1,FALSE),IF(IFERROR(SEARCH(\"Propane\",$A$14),0)>0,VLOOKUP(\"Propane\",HVACg_Lookup,MATCH(Worksheet!$F$12,BuildingSize,0)+1,FALSE),0)))","v":0},0,0,"",""]
[null,null,"",null,null,null,null,null,null,null,null,null,0,0,0,0,"",0,0,0,0,0,0,0,0,0,0,0,0,0,0,0,{"$f":"T230/1000*V230*X230*IF(IFERROR(SEARCH(\"Gas\",$A$14),0)>0,VLOOKUP(\"Gas\",HVACg_Lookup,MATCH($F$12,BuildingSize,0)+1,FALSE),IF(IFERROR(SEARCH(\"Oil\",$A$14),0)>0,VLOOKUP(\"Oil\",HVACg_Lookup,MATCH($F$12,BuildingSize,0)+1,FALSE),IF(IFERROR(SEARCH(\"Propane\",$A$14),0)>0,VLOOKUP(\"Propane\",HVACg_Lookup,MATCH(Worksheet!$F$12,BuildingSize,0)+1,FALSE),0)))","v":0},{"$f":"U230/1000*V230*X230*IF(IFERROR(SEARCH(\"Gas\",$A$14),0)>0,VLOOKUP(\"Gas\",HVACg_Lookup,MATCH($F$12,BuildingSize,0)+1,FALSE),IF(IFERROR(SEARCH(\"Oil\",$A$14),0)>0,VLOOKUP(\"Oil\",HVACg_Lookup,MATCH($F$12,BuildingSize,0)+1,FALSE),IF(IFERROR(SEARCH(\"Propane\",$A$14),0)>0,VLOOKUP(\"Propane\",HVACg_Lookup,MATCH(Worksheet!$F$12,BuildingSize,0)+1,FALSE),0)))","v":0},0,0,"",""]
[null,null,"",null,null,null,null,null,null,null,null,null,0,0,0,0,"",0,0,0,0,0,0,0,0,0,0,0,0,0,0,0,{"$f":"T231/1000*V231*X231*IF(IFERROR(SEARCH(\"Gas\",$A$14),0)>0,VLOOKUP(\"Gas\",HVACg_Lookup,MATCH($F$12,BuildingSize,0)+1,FALSE),IF(IFERROR(SEARCH(\"Oil\",$A$14),0)>0,VLOOKUP(\"Oil\",HVACg_Lookup,MATCH($F$12,BuildingSize,0)+1,FALSE),IF(IFERROR(SEARCH(\"Propane\",$A$14),0)>0,VLOOKUP(\"Propane\",HVACg_Lookup,MATCH(Worksheet!$F$12,BuildingSize,0)+1,FALSE),0)))","v":0},{"$f":"U231/1000*V231*X231*IF(IFERROR(SEARCH(\"Gas\",$A$14),0)>0,VLOOKUP(\"Gas\",HVACg_Lookup,MATCH($F$12,BuildingSize,0)+1,FALSE),IF(IFERROR(SEARCH(\"Oil\",$A$14),0)>0,VLOOKUP(\"Oil\",HVACg_Lookup,MATCH($F$12,BuildingSize,0)+1,FALSE),IF(IFERROR(SEARCH(\"Propane\",$A$14),0)>0,VLOOKUP(\"Propane\",HVACg_Lookup,MATCH(Worksheet!$F$12,BuildingSize,0)+1,FALSE),0)))","v":0},0,0,"",""]
[null,null,"",null,null,null,null,null,null,null,null,null,0,0,0,0,"",0,0,0,0,0,0,0,0,0,0,0,0,0,0,0,{"$f":"T232/1000*V232*X232*IF(IFERROR(SEARCH(\"Gas\",$A$14),0)>0,VLOOKUP(\"Gas\",HVACg_Lookup,MATCH($F$12,BuildingSize,0)+1,FALSE),IF(IFERROR(SEARCH(\"Oil\",$A$14),0)>0,VLOOKUP(\"Oil\",HVACg_Lookup,MATCH($F$12,BuildingSize,0)+1,FALSE),IF(IFERROR(SEARCH(\"Propane\",$A$14),0)>0,VLOOKUP(\"Propane\",HVACg_Lookup,MATCH(Worksheet!$F$12,BuildingSize,0)+1,FALSE),0)))","v":0},{"$f":"U232/1000*V232*X232*IF(IFERROR(SEARCH(\"Gas\",$A$14),0)>0,VLOOKUP(\"Gas\",HVACg_Lookup,MATCH($F$12,BuildingSize,0)+1,FALSE),IF(IFERROR(SEARCH(\"Oil\",$A$14),0)>0,VLOOKUP(\"Oil\",HVACg_Lookup,MATCH($F$12,BuildingSize,0)+1,FALSE),IF(IFERROR(SEARCH(\"Propane\",$A$14),0)>0,VLOOKUP(\"Propane\",HVACg_Lookup,MATCH(Worksheet!$F$12,BuildingSize,0)+1,FALSE),0)))","v":0},0,0,"",""]
[null,null,"",null,null,null,null,null,null,null,null,null,0,0,0,0,"",0,0,0,0,0,0,0,0,0,0,0,0,0,0,0,{"$f":"T233/1000*V233*X233*IF(IFERROR(SEARCH(\"Gas\",$A$14),0)>0,VLOOKUP(\"Gas\",HVACg_Lookup,MATCH($F$12,BuildingSize,0)+1,FALSE),IF(IFERROR(SEARCH(\"Oil\",$A$14),0)>0,VLOOKUP(\"Oil\",HVACg_Lookup,MATCH($F$12,BuildingSize,0)+1,FALSE),IF(IFERROR(SEARCH(\"Propane\",$A$14),0)>0,VLOOKUP(\"Propane\",HVACg_Lookup,MATCH(Worksheet!$F$12,BuildingSize,0)+1,FALSE),0)))","v":0},{"$f":"U233/1000*V233*X233*IF(IFERROR(SEARCH(\"Gas\",$A$14),0)>0,VLOOKUP(\"Gas\",HVACg_Lookup,MATCH($F$12,BuildingSize,0)+1,FALSE),IF(IFERROR(SEARCH(\"Oil\",$A$14),0)>0,VLOOKUP(\"Oil\",HVACg_Lookup,MATCH($F$12,BuildingSize,0)+1,FALSE),IF(IFERROR(SEARCH(\"Propane\",$A$14),0)>0,VLOOKUP(\"Propane\",HVACg_Lookup,MATCH(Worksheet!$F$12,BuildingSize,0)+1,FALSE),0)))","v":0},0,0,"",""]
[null,null,"",null,null,null,null,null,null,null,null,null,0,0,0,0,"",0,0,0,0,0,0,0,0,0,0,0,0,0,0,0,{"$f":"T234/1000*V234*X234*IF(IFERROR(SEARCH(\"Gas\",$A$14),0)>0,VLOOKUP(\"Gas\",HVACg_Lookup,MATCH($F$12,BuildingSize,0)+1,FALSE),IF(IFERROR(SEARCH(\"Oil\",$A$14),0)>0,VLOOKUP(\"Oil\",HVACg_Lookup,MATCH($F$12,BuildingSize,0)+1,FALSE),IF(IFERROR(SEARCH(\"Propane\",$A$14),0)>0,VLOOKUP(\"Propane\",HVACg_Lookup,MATCH(Worksheet!$F$12,BuildingSize,0)+1,FALSE),0)))","v":0},{"$f":"U234/1000*V234*X234*IF(IFERROR(SEARCH(\"Gas\",$A$14),0)>0,VLOOKUP(\"Gas\",HVACg_Lookup,MATCH($F$12,BuildingSize,0)+1,FALSE),IF(IFERROR(SEARCH(\"Oil\",$A$14),0)>0,VLOOKUP(\"Oil\",HVACg_Lookup,MATCH($F$12,BuildingSize,0)+1,FALSE),IF(IFERROR(SEARCH(\"Propane\",$A$14),0)>0,VLOOKUP(\"Propane\",HVACg_Lookup,MATCH(Worksheet!$F$12,BuildingSize,0)+1,FALSE),0)))","v":0},0,0,"",""]
[null,null,"",null,null,null,null,null,null,null,null,null,0,0,0,0,"",0,0,0,0,0,0,0,0,0,0,0,0,0,0,0,{"$f":"T235/1000*V235*X235*IF(IFERROR(SEARCH(\"Gas\",$A$14),0)>0,VLOOKUP(\"Gas\",HVACg_Lookup,MATCH($F$12,BuildingSize,0)+1,FALSE),IF(IFERROR(SEARCH(\"Oil\",$A$14),0)>0,VLOOKUP(\"Oil\",HVACg_Lookup,MATCH($F$12,BuildingSize,0)+1,FALSE),IF(IFERROR(SEARCH(\"Propane\",$A$14),0)>0,VLOOKUP(\"Propane\",HVACg_Lookup,MATCH(Worksheet!$F$12,BuildingSize,0)+1,FALSE),0)))","v":0},{"$f":"U235/1000*V235*X235*IF(IFERROR(SEARCH(\"Gas\",$A$14),0)>0,VLOOKUP(\"Gas\",HVACg_Lookup,MATCH($F$12,BuildingSize,0)+1,FALSE),IF(IFERROR(SEARCH(\"Oil\",$A$14),0)>0,VLOOKUP(\"Oil\",HVACg_Lookup,MATCH($F$12,BuildingSize,0)+1,FALSE),IF(IFERROR(SEARCH(\"Propane\",$A$14),0)>0,VLOOKUP(\"Propane\",HVACg_Lookup,MATCH(Worksheet!$F$12,BuildingSize,0)+1,FALSE),0)))","v":0},0,0,"",""]
[null,null,"",null,null,null,null,null,null,null,null,null,0,0,0,0,"",0,0,0,0,0,0,0,0,0,0,0,0,0,0,0,{"$f":"T236/1000*V236*X236*IF(IFERROR(SEARCH(\"Gas\",$A$14),0)>0,VLOOKUP(\"Gas\",HVACg_Lookup,MATCH($F$12,BuildingSize,0)+1,FALSE),IF(IFERROR(SEARCH(\"Oil\",$A$14),0)>0,VLOOKUP(\"Oil\",HVACg_Lookup,MATCH($F$12,BuildingSize,0)+1,FALSE),IF(IFERROR(SEARCH(\"Propane\",$A$14),0)>0,VLOOKUP(\"Propane\",HVACg_Lookup,MATCH(Worksheet!$F$12,BuildingSize,0)+1,FALSE),0)))","v":0},{"$f":"U236/1000*V236*X236*IF(IFERROR(SEARCH(\"Gas\",$A$14),0)>0,VLOOKUP(\"Gas\",HVACg_Lookup,MATCH($F$12,BuildingSize,0)+1,FALSE),IF(IFERROR(SEARCH(\"Oil\",$A$14),0)>0,VLOOKUP(\"Oil\",HVACg_Lookup,MATCH($F$12,BuildingSize,0)+1,FALSE),IF(IFERROR(SEARCH(\"Propane\",$A$14),0)>0,VLOOKUP(\"Propane\",HVACg_Lookup,MATCH(Worksheet!$F$12,BuildingSize,0)+1,FALSE),0)))","v":0},0,0,"",""]
[null,null,"",null,null,null,null,null,null,null,null,null,0,0,0,0,"",0,0,0,0,0,0,0,0,0,0,0,0,0,0,0,{"$f":"T237/1000*V237*X237*IF(IFERROR(SEARCH(\"Gas\",$A$14),0)>0,VLOOKUP(\"Gas\",HVACg_Lookup,MATCH($F$12,BuildingSize,0)+1,FALSE),IF(IFERROR(SEARCH(\"Oil\",$A$14),0)>0,VLOOKUP(\"Oil\",HVACg_Lookup,MATCH($F$12,BuildingSize,0)+1,FALSE),IF(IFERROR(SEARCH(\"Propane\",$A$14),0)>0,VLOOKUP(\"Propane\",HVACg_Lookup,MATCH(Worksheet!$F$12,BuildingSize,0)+1,FALSE),0)))","v":0},{"$f":"U237/1000*V237*X237*IF(IFERROR(SEARCH(\"Gas\",$A$14),0)>0,VLOOKUP(\"Gas\",HVACg_Lookup,MATCH($F$12,BuildingSize,0)+1,FALSE),IF(IFERROR(SEARCH(\"Oil\",$A$14),0)>0,VLOOKUP(\"Oil\",HVACg_Lookup,MATCH($F$12,BuildingSize,0)+1,FALSE),IF(IFERROR(SEARCH(\"Propane\",$A$14),0)>0,VLOOKUP(\"Propane\",HVACg_Lookup,MATCH(Worksheet!$F$12,BuildingSize,0)+1,FALSE),0)))","v":0},0,0,"",""]
[null,null,"",null,null,null,null,null,null,null,null,null,0,0,0,0,"",0,0,0,0,0,0,0,0,0,0,0,0,0,0,0,{"$f":"T238/1000*V238*X238*IF(IFERROR(SEARCH(\"Gas\",$A$14),0)>0,VLOOKUP(\"Gas\",HVACg_Lookup,MATCH($F$12,BuildingSize,0)+1,FALSE),IF(IFERROR(SEARCH(\"Oil\",$A$14),0)>0,VLOOKUP(\"Oil\",HVACg_Lookup,MATCH($F$12,BuildingSize,0)+1,FALSE),IF(IFERROR(SEARCH(\"Propane\",$A$14),0)>0,VLOOKUP(\"Propane\",HVACg_Lookup,MATCH(Worksheet!$F$12,BuildingSize,0)+1,FALSE),0)))","v":0},{"$f":"U238/1000*V238*X238*IF(IFERROR(SEARCH(\"Gas\",$A$14),0)>0,VLOOKUP(\"Gas\",HVACg_Lookup,MATCH($F$12,BuildingSize,0)+1,FALSE),IF(IFERROR(SEARCH(\"Oil\",$A$14),0)>0,VLOOKUP(\"Oil\",HVACg_Lookup,MATCH($F$12,BuildingSize,0)+1,FALSE),IF(IFERROR(SEARCH(\"Propane\",$A$14),0)>0,VLOOKUP(\"Propane\",HVACg_Lookup,MATCH(Worksheet!$F$12,BuildingSize,0)+1,FALSE),0)))","v":0},0,0,"",""]
[null,null,"",null,null,null,null,null,null,null,null,null,0,0,0,0,"",0,0,0,0,0,0,0,0,0,0,0,0,0,0,0,{"$f":"T239/1000*V239*X239*IF(IFERROR(SEARCH(\"Gas\",$A$14),0)>0,VLOOKUP(\"Gas\",HVACg_Lookup,MATCH($F$12,BuildingSize,0)+1,FALSE),IF(IFERROR(SEARCH(\"Oil\",$A$14),0)>0,VLOOKUP(\"Oil\",HVACg_Lookup,MATCH($F$12,BuildingSize,0)+1,FALSE),IF(IFERROR(SEARCH(\"Propane\",$A$14),0)>0,VLOOKUP(\"Propane\",HVACg_Lookup,MATCH(Worksheet!$F$12,BuildingSize,0)+1,FALSE),0)))","v":0},{"$f":"U239/1000*V239*X239*IF(IFERROR(SEARCH(\"Gas\",$A$14),0)>0,VLOOKUP(\"Gas\",HVACg_Lookup,MATCH($F$12,BuildingSize,0)+1,FALSE),IF(IFERROR(SEARCH(\"Oil\",$A$14),0)>0,VLOOKUP(\"Oil\",HVACg_Lookup,MATCH($F$12,BuildingSize,0)+1,FALSE),IF(IFERROR(SEARCH(\"Propane\",$A$14),0)>0,VLOOKUP(\"Propane\",HVACg_Lookup,MATCH(Worksheet!$F$12,BuildingSize,0)+1,FALSE),0)))","v":0},0,0,"",""]
[null,null,"",null,null,null,null,null,null,null,null,null,0,0,0,0,"",0,0,0,0,0,0,0,0,0,0,0,0,0,0,0,{"$f":"T240/1000*V240*X240*IF(IFERROR(SEARCH(\"Gas\",$A$14),0)>0,VLOOKUP(\"Gas\",HVACg_Lookup,MATCH($F$12,BuildingSize,0)+1,FALSE),IF(IFERROR(SEARCH(\"Oil\",$A$14),0)>0,VLOOKUP(\"Oil\",HVACg_Lookup,MATCH($F$12,BuildingSize,0)+1,FALSE),IF(IFERROR(SEARCH(\"Propane\",$A$14),0)>0,VLOOKUP(\"Propane\",HVACg_Lookup,MATCH(Worksheet!$F$12,BuildingSize,0)+1,FALSE),0)))","v":0},{"$f":"U240/1000*V240*X240*IF(IFERROR(SEARCH(\"Gas\",$A$14),0)>0,VLOOKUP(\"Gas\",HVACg_Lookup,MATCH($F$12,BuildingSize,0)+1,FALSE),IF(IFERROR(SEARCH(\"Oil\",$A$14),0)>0,VLOOKUP(\"Oil\",HVACg_Lookup,MATCH($F$12,BuildingSize,0)+1,FALSE),IF(IFERROR(SEARCH(\"Propane\",$A$14),0)>0,VLOOKUP(\"Propane\",HVACg_Lookup,MATCH(Worksheet!$F$12,BuildingSize,0)+1,FALSE),0)))","v":0},0,0,"",""]
[null,null,"",null,null,null,null,null,null,null,null,null,0,0,0,0,"",0,0,0,0,0,0,0,0,0,0,0,0,0,0,0,{"$f":"T241/1000*V241*X241*IF(IFERROR(SEARCH(\"Gas\",$A$14),0)>0,VLOOKUP(\"Gas\",HVACg_Lookup,MATCH($F$12,BuildingSize,0)+1,FALSE),IF(IFERROR(SEARCH(\"Oil\",$A$14),0)>0,VLOOKUP(\"Oil\",HVACg_Lookup,MATCH($F$12,BuildingSize,0)+1,FALSE),IF(IFERROR(SEARCH(\"Propane\",$A$14),0)>0,VLOOKUP(\"Propane\",HVACg_Lookup,MATCH(Worksheet!$F$12,BuildingSize,0)+1,FALSE),0)))","v":0},{"$f":"U241/1000*V241*X241*IF(IFERROR(SEARCH(\"Gas\",$A$14),0)>0,VLOOKUP(\"Gas\",HVACg_Lookup,MATCH($F$12,BuildingSize,0)+1,FALSE),IF(IFERROR(SEARCH(\"Oil\",$A$14),0)>0,VLOOKUP(\"Oil\",HVACg_Lookup,MATCH($F$12,BuildingSize,0)+1,FALSE),IF(IFERROR(SEARCH(\"Propane\",$A$14),0)>0,VLOOKUP(\"Propane\",HVACg_Lookup,MATCH(Worksheet!$F$12,BuildingSize,0)+1,FALSE),0)))","v":0},0,0,"",""]
[null,null,"",null,null,null,null,null,null,null,null,null,0,0,0,0,"",0,0,0,0,0,0,0,0,0,0,0,0,0,0,0,{"$f":"T242/1000*V242*X242*IF(IFERROR(SEARCH(\"Gas\",$A$14),0)>0,VLOOKUP(\"Gas\",HVACg_Lookup,MATCH($F$12,BuildingSize,0)+1,FALSE),IF(IFERROR(SEARCH(\"Oil\",$A$14),0)>0,VLOOKUP(\"Oil\",HVACg_Lookup,MATCH($F$12,BuildingSize,0)+1,FALSE),IF(IFERROR(SEARCH(\"Propane\",$A$14),0)>0,VLOOKUP(\"Propane\",HVACg_Lookup,MATCH(Worksheet!$F$12,BuildingSize,0)+1,FALSE),0)))","v":0},{"$f":"U242/1000*V242*X242*IF(IFERROR(SEARCH(\"Gas\",$A$14),0)>0,VLOOKUP(\"Gas\",HVACg_Lookup,MATCH($F$12,BuildingSize,0)+1,FALSE),IF(IFERROR(SEARCH(\"Oil\",$A$14),0)>0,VLOOKUP(\"Oil\",HVACg_Lookup,MATCH($F$12,BuildingSize,0)+1,FALSE),IF(IFERROR(SEARCH(\"Propane\",$A$14),0)>0,VLOOKUP(\"Propane\",HVACg_Lookup,MATCH(Worksheet!$F$12,BuildingSize,0)+1,FALSE),0)))","v":0},0,0,"",""]
[null,null,"",null,null,null,null,null,null,null,null,null,0,0,0,0,"",0,0,0,0,0,0,0,0,0,0,0,0,0,0,0,{"$f":"T243/1000*V243*X243*IF(IFERROR(SEARCH(\"Gas\",$A$14),0)>0,VLOOKUP(\"Gas\",HVACg_Lookup,MATCH($F$12,BuildingSize,0)+1,FALSE),IF(IFERROR(SEARCH(\"Oil\",$A$14),0)>0,VLOOKUP(\"Oil\",HVACg_Lookup,MATCH($F$12,BuildingSize,0)+1,FALSE),IF(IFERROR(SEARCH(\"Propane\",$A$14),0)>0,VLOOKUP(\"Propane\",HVACg_Lookup,MATCH(Worksheet!$F$12,BuildingSize,0)+1,FALSE),0)))","v":0},{"$f":"U243/1000*V243*X243*IF(IFERROR(SEARCH(\"Gas\",$A$14),0)>0,VLOOKUP(\"Gas\",HVACg_Lookup,MATCH($F$12,BuildingSize,0)+1,FALSE),IF(IFERROR(SEARCH(\"Oil\",$A$14),0)>0,VLOOKUP(\"Oil\",HVACg_Lookup,MATCH($F$12,BuildingSize,0)+1,FALSE),IF(IFERROR(SEARCH(\"Propane\",$A$14),0)>0,VLOOKUP(\"Propane\",HVACg_Lookup,MATCH(Worksheet!$F$12,BuildingSize,0)+1,FALSE),0)))","v":0},0,0,"",""]
[null,null,"",null,null,null,null,null,null,null,null,null,0,0,0,0,"",0,0,0,0,0,0,0,0,0,0,0,0,0,0,0,{"$f":"T244/1000*V244*X244*IF(IFERROR(SEARCH(\"Gas\",$A$14),0)>0,VLOOKUP(\"Gas\",HVACg_Lookup,MATCH($F$12,BuildingSize,0)+1,FALSE),IF(IFERROR(SEARCH(\"Oil\",$A$14),0)>0,VLOOKUP(\"Oil\",HVACg_Lookup,MATCH($F$12,BuildingSize,0)+1,FALSE),IF(IFERROR(SEARCH(\"Propane\",$A$14),0)>0,VLOOKUP(\"Propane\",HVACg_Lookup,MATCH(Worksheet!$F$12,BuildingSize,0)+1,FALSE),0)))","v":0},{"$f":"U244/1000*V244*X244*IF(IFERROR(SEARCH(\"Gas\",$A$14),0)>0,VLOOKUP(\"Gas\",HVACg_Lookup,MATCH($F$12,BuildingSize,0)+1,FALSE),IF(IFERROR(SEARCH(\"Oil\",$A$14),0)>0,VLOOKUP(\"Oil\",HVACg_Lookup,MATCH($F$12,BuildingSize,0)+1,FALSE),IF(IFERROR(SEARCH(\"Propane\",$A$14),0)>0,VLOOKUP(\"Propane\",HVACg_Lookup,MATCH(Worksheet!$F$12,BuildingSize,0)+1,FALSE),0)))","v":0},0,0,"",""]
[null,null,"",null,null,null,null,null,null,null,null,null,0,0,0,0,"",0,0,0,0,0,0,0,0,0,0,0,0,0,0,0,{"$f":"T245/1000*V245*X245*IF(IFERROR(SEARCH(\"Gas\",$A$14),0)>0,VLOOKUP(\"Gas\",HVACg_Lookup,MATCH($F$12,BuildingSize,0)+1,FALSE),IF(IFERROR(SEARCH(\"Oil\",$A$14),0)>0,VLOOKUP(\"Oil\",HVACg_Lookup,MATCH($F$12,BuildingSize,0)+1,FALSE),IF(IFERROR(SEARCH(\"Propane\",$A$14),0)>0,VLOOKUP(\"Propane\",HVACg_Lookup,MATCH(Worksheet!$F$12,BuildingSize,0)+1,FALSE),0)))","v":0},{"$f":"U245/1000*V245*X245*IF(IFERROR(SEARCH(\"Gas\",$A$14),0)>0,VLOOKUP(\"Gas\",HVACg_Lookup,MATCH($F$12,BuildingSize,0)+1,FALSE),IF(IFERROR(SEARCH(\"Oil\",$A$14),0)>0,VLOOKUP(\"Oil\",HVACg_Lookup,MATCH($F$12,BuildingSize,0)+1,FALSE),IF(IFERROR(SEARCH(\"Propane\",$A$14),0)>0,VLOOKUP(\"Propane\",HVACg_Lookup,MATCH(Worksheet!$F$12,BuildingSize,0)+1,FALSE),0)))","v":0},0,0,"",""]
[null,null,"",null,null,null,null,null,null,null,null,null,0,0,0,0,"",0,0,0,0,0,0,0,0,0,0,0,0,0,0,0,{"$f":"T246/1000*V246*X246*IF(IFERROR(SEARCH(\"Gas\",$A$14),0)>0,VLOOKUP(\"Gas\",HVACg_Lookup,MATCH($F$12,BuildingSize,0)+1,FALSE),IF(IFERROR(SEARCH(\"Oil\",$A$14),0)>0,VLOOKUP(\"Oil\",HVACg_Lookup,MATCH($F$12,BuildingSize,0)+1,FALSE),IF(IFERROR(SEARCH(\"Propane\",$A$14),0)>0,VLOOKUP(\"Propane\",HVACg_Lookup,MATCH(Worksheet!$F$12,BuildingSize,0)+1,FALSE),0)))","v":0},{"$f":"U246/1000*V246*X246*IF(IFERROR(SEARCH(\"Gas\",$A$14),0)>0,VLOOKUP(\"Gas\",HVACg_Lookup,MATCH($F$12,BuildingSize,0)+1,FALSE),IF(IFERROR(SEARCH(\"Oil\",$A$14),0)>0,VLOOKUP(\"Oil\",HVACg_Lookup,MATCH($F$12,BuildingSize,0)+1,FALSE),IF(IFERROR(SEARCH(\"Propane\",$A$14),0)>0,VLOOKUP(\"Propane\",HVACg_Lookup,MATCH(Worksheet!$F$12,BuildingSize,0)+1,FALSE),0)))","v":0},0,0,"",""]
[null,null,"",null,null,null,null,null,null,null,null,null,0,0,0,0,"",0,0,0,0,0,0,0,0,0,0,0,0,0,0,0,{"$f":"T247/1000*V247*X247*IF(IFERROR(SEARCH(\"Gas\",$A$14),0)>0,VLOOKUP(\"Gas\",HVACg_Lookup,MATCH($F$12,BuildingSize,0)+1,FALSE),IF(IFERROR(SEARCH(\"Oil\",$A$14),0)>0,VLOOKUP(\"Oil\",HVACg_Lookup,MATCH($F$12,BuildingSize,0)+1,FALSE),IF(IFERROR(SEARCH(\"Propane\",$A$14),0)>0,VLOOKUP(\"Propane\",HVACg_Lookup,MATCH(Worksheet!$F$12,BuildingSize,0)+1,FALSE),0)))","v":0},{"$f":"U247/1000*V247*X247*IF(IFERROR(SEARCH(\"Gas\",$A$14),0)>0,VLOOKUP(\"Gas\",HVACg_Lookup,MATCH($F$12,BuildingSize,0)+1,FALSE),IF(IFERROR(SEARCH(\"Oil\",$A$14),0)>0,VLOOKUP(\"Oil\",HVACg_Lookup,MATCH($F$12,BuildingSize,0)+1,FALSE),IF(IFERROR(SEARCH(\"Propane\",$A$14),0)>0,VLOOKUP(\"Propane\",HVACg_Lookup,MATCH(Worksheet!$F$12,BuildingSize,0)+1,FALSE),0)))","v":0},0,0,"",""]
[null,null,"",null,null,null,null,null,null,null,null,null,0,0,0,0,"",0,0,0,0,0,0,0,0,0,0,0,0,0,0,0,{"$f":"T248/1000*V248*X248*IF(IFERROR(SEARCH(\"Gas\",$A$14),0)>0,VLOOKUP(\"Gas\",HVACg_Lookup,MATCH($F$12,BuildingSize,0)+1,FALSE),IF(IFERROR(SEARCH(\"Oil\",$A$14),0)>0,VLOOKUP(\"Oil\",HVACg_Lookup,MATCH($F$12,BuildingSize,0)+1,FALSE),IF(IFERROR(SEARCH(\"Propane\",$A$14),0)>0,VLOOKUP(\"Propane\",HVACg_Lookup,MATCH(Worksheet!$F$12,BuildingSize,0)+1,FALSE),0)))","v":0},{"$f":"U248/1000*V248*X248*IF(IFERROR(SEARCH(\"Gas\",$A$14),0)>0,VLOOKUP(\"Gas\",HVACg_Lookup,MATCH($F$12,BuildingSize,0)+1,FALSE),IF(IFERROR(SEARCH(\"Oil\",$A$14),0)>0,VLOOKUP(\"Oil\",HVACg_Lookup,MATCH($F$12,BuildingSize,0)+1,FALSE),IF(IFERROR(SEARCH(\"Propane\",$A$14),0)>0,VLOOKUP(\"Propane\",HVACg_Lookup,MATCH(Worksheet!$F$12,BuildingSize,0)+1,FALSE),0)))","v":0},0,0,"",""]
[null,null,"",null,null,null,null,null,null,null,null,null,0,0,0,0,"",0,0,0,0,0,0,0,0,0,0,0,0,0,0,0,{"$f":"T249/1000*V249*X249*IF(IFERROR(SEARCH(\"Gas\",$A$14),0)>0,VLOOKUP(\"Gas\",HVACg_Lookup,MATCH($F$12,BuildingSize,0)+1,FALSE),IF(IFERROR(SEARCH(\"Oil\",$A$14),0)>0,VLOOKUP(\"Oil\",HVACg_Lookup,MATCH($F$12,BuildingSize,0)+1,FALSE),IF(IFERROR(SEARCH(\"Propane\",$A$14),0)>0,VLOOKUP(\"Propane\",HVACg_Lookup,MATCH(Worksheet!$F$12,BuildingSize,0)+1,FALSE),0)))","v":0},{"$f":"U249/1000*V249*X249*IF(IFERROR(SEARCH(\"Gas\",$A$14),0)>0,VLOOKUP(\"Gas\",HVACg_Lookup,MATCH($F$12,BuildingSize,0)+1,FALSE),IF(IFERROR(SEARCH(\"Oil\",$A$14),0)>0,VLOOKUP(\"Oil\",HVACg_Lookup,MATCH($F$12,BuildingSize,0)+1,FALSE),IF(IFERROR(SEARCH(\"Propane\",$A$14),0)>0,VLOOKUP(\"Propane\",HVACg_Lookup,MATCH(Worksheet!$F$12,BuildingSize,0)+1,FALSE),0)))","v":0},0,0,"",""]
[null,null,"",null,null,null,null,null,null,null,null,null,0,0,0,0,"",0,0,0,0,0,0,0,0,0,0,0,0,0,0,0,{"$f":"T250/1000*V250*X250*IF(IFERROR(SEARCH(\"Gas\",$A$14),0)>0,VLOOKUP(\"Gas\",HVACg_Lookup,MATCH($F$12,BuildingSize,0)+1,FALSE),IF(IFERROR(SEARCH(\"Oil\",$A$14),0)>0,VLOOKUP(\"Oil\",HVACg_Lookup,MATCH($F$12,BuildingSize,0)+1,FALSE),IF(IFERROR(SEARCH(\"Propane\",$A$14),0)>0,VLOOKUP(\"Propane\",HVACg_Lookup,MATCH(Worksheet!$F$12,BuildingSize,0)+1,FALSE),0)))","v":0},{"$f":"U250/1000*V250*X250*IF(IFERROR(SEARCH(\"Gas\",$A$14),0)>0,VLOOKUP(\"Gas\",HVACg_Lookup,MATCH($F$12,BuildingSize,0)+1,FALSE),IF(IFERROR(SEARCH(\"Oil\",$A$14),0)>0,VLOOKUP(\"Oil\",HVACg_Lookup,MATCH($F$12,BuildingSize,0)+1,FALSE),IF(IFERROR(SEARCH(\"Propane\",$A$14),0)>0,VLOOKUP(\"Propane\",HVACg_Lookup,MATCH(Worksheet!$F$12,BuildingSize,0)+1,FALSE),0)))","v":0},0,0,"",""]
[null,null,"",null,null,null,null,null,null,null,null,null,0,0,0,0,"",0,0,0,0,0,0,0,0,0,0,0,0,0,0,0,{"$f":"T251/1000*V251*X251*IF(IFERROR(SEARCH(\"Gas\",$A$14),0)>0,VLOOKUP(\"Gas\",HVACg_Lookup,MATCH($F$12,BuildingSize,0)+1,FALSE),IF(IFERROR(SEARCH(\"Oil\",$A$14),0)>0,VLOOKUP(\"Oil\",HVACg_Lookup,MATCH($F$12,BuildingSize,0)+1,FALSE),IF(IFERROR(SEARCH(\"Propane\",$A$14),0)>0,VLOOKUP(\"Propane\",HVACg_Lookup,MATCH(Worksheet!$F$12,BuildingSize,0)+1,FALSE),0)))","v":0},{"$f":"U251/1000*V251*X251*IF(IFERROR(SEARCH(\"Gas\",$A$14),0)>0,VLOOKUP(\"Gas\",HVACg_Lookup,MATCH($F$12,BuildingSize,0)+1,FALSE),IF(IFERROR(SEARCH(\"Oil\",$A$14),0)>0,VLOOKUP(\"Oil\",HVACg_Lookup,MATCH($F$12,BuildingSize,0)+1,FALSE),IF(IFERROR(SEARCH(\"Propane\",$A$14),0)>0,VLOOKUP(\"Propane\",HVACg_Lookup,MATCH(Worksheet!$F$12,BuildingSize,0)+1,FALSE),0)))","v":0},0,0,"",""]
[null,null,"",null,null,null,null,null,null,null,null,null,0,0,0,0,"",0,0,0,0,0,0,0,0,0,0,0,0,0,0,0,{"$f":"T252/1000*V252*X252*IF(IFERROR(SEARCH(\"Gas\",$A$14),0)>0,VLOOKUP(\"Gas\",HVACg_Lookup,MATCH($F$12,BuildingSize,0)+1,FALSE),IF(IFERROR(SEARCH(\"Oil\",$A$14),0)>0,VLOOKUP(\"Oil\",HVACg_Lookup,MATCH($F$12,BuildingSize,0)+1,FALSE),IF(IFERROR(SEARCH(\"Propane\",$A$14),0)>0,VLOOKUP(\"Propane\",HVACg_Lookup,MATCH(Worksheet!$F$12,BuildingSize,0)+1,FALSE),0)))","v":0},{"$f":"U252/1000*V252*X252*IF(IFERROR(SEARCH(\"Gas\",$A$14),0)>0,VLOOKUP(\"Gas\",HVACg_Lookup,MATCH($F$12,BuildingSize,0)+1,FALSE),IF(IFERROR(SEARCH(\"Oil\",$A$14),0)>0,VLOOKUP(\"Oil\",HVACg_Lookup,MATCH($F$12,BuildingSize,0)+1,FALSE),IF(IFERROR(SEARCH(\"Propane\",$A$14),0)>0,VLOOKUP(\"Propane\",HVACg_Lookup,MATCH(Worksheet!$F$12,BuildingSize,0)+1,FALSE),0)))","v":0},0,0,"",""]
[null,null,"",null,null,null,null,null,null,null,null,null,0,0,0,0,"",0,0,0,0,0,0,0,0,0,0,0,0,0,0,0,{"$f":"T253/1000*V253*X253*IF(IFERROR(SEARCH(\"Gas\",$A$14),0)>0,VLOOKUP(\"Gas\",HVACg_Lookup,MATCH($F$12,BuildingSize,0)+1,FALSE),IF(IFERROR(SEARCH(\"Oil\",$A$14),0)>0,VLOOKUP(\"Oil\",HVACg_Lookup,MATCH($F$12,BuildingSize,0)+1,FALSE),IF(IFERROR(SEARCH(\"Propane\",$A$14),0)>0,VLOOKUP(\"Propane\",HVACg_Lookup,MATCH(Worksheet!$F$12,BuildingSize,0)+1,FALSE),0)))","v":0},{"$f":"U253/1000*V253*X253*IF(IFERROR(SEARCH(\"Gas\",$A$14),0)>0,VLOOKUP(\"Gas\",HVACg_Lookup,MATCH($F$12,BuildingSize,0)+1,FALSE),IF(IFERROR(SEARCH(\"Oil\",$A$14),0)>0,VLOOKUP(\"Oil\",HVACg_Lookup,MATCH($F$12,BuildingSize,0)+1,FALSE),IF(IFERROR(SEARCH(\"Propane\",$A$14),0)>0,VLOOKUP(\"Propane\",HVACg_Lookup,MATCH(Worksheet!$F$12,BuildingSize,0)+1,FALSE),0)))","v":0},0,0,"",""]
[null,null,"",null,null,null,null,null,null,null,null,null,0,0,0,0,"",0,0,0,0,0,0,0,0,0,0,0,0,0,0,0,{"$f":"T254/1000*V254*X254*IF(IFERROR(SEARCH(\"Gas\",$A$14),0)>0,VLOOKUP(\"Gas\",HVACg_Lookup,MATCH($F$12,BuildingSize,0)+1,FALSE),IF(IFERROR(SEARCH(\"Oil\",$A$14),0)>0,VLOOKUP(\"Oil\",HVACg_Lookup,MATCH($F$12,BuildingSize,0)+1,FALSE),IF(IFERROR(SEARCH(\"Propane\",$A$14),0)>0,VLOOKUP(\"Propane\",HVACg_Lookup,MATCH(Worksheet!$F$12,BuildingSize,0)+1,FALSE),0)))","v":0},{"$f":"U254/1000*V254*X254*IF(IFERROR(SEARCH(\"Gas\",$A$14),0)>0,VLOOKUP(\"Gas\",HVACg_Lookup,MATCH($F$12,BuildingSize,0)+1,FALSE),IF(IFERROR(SEARCH(\"Oil\",$A$14),0)>0,VLOOKUP(\"Oil\",HVACg_Lookup,MATCH($F$12,BuildingSize,0)+1,FALSE),IF(IFERROR(SEARCH(\"Propane\",$A$14),0)>0,VLOOKUP(\"Propane\",HVACg_Lookup,MATCH(Worksheet!$F$12,BuildingSize,0)+1,FALSE),0)))","v":0},0,0,"",""]
[null,null,"",null,null,null,null,null,null,null,null,null,0,0,0,0,"",0,0,0,0,0,0,0,0,0,0,0,0,0,0,0,{"$f":"T255/1000*V255*X255*IF(IFERROR(SEARCH(\"Gas\",$A$14),0)>0,VLOOKUP(\"Gas\",HVACg_Lookup,MATCH($F$12,BuildingSize,0)+1,FALSE),IF(IFERROR(SEARCH(\"Oil\",$A$14),0)>0,VLOOKUP(\"Oil\",HVACg_Lookup,MATCH($F$12,BuildingSize,0)+1,FALSE),IF(IFERROR(SEARCH(\"Propane\",$A$14),0)>0,VLOOKUP(\"Propane\",HVACg_Lookup,MATCH(Worksheet!$F$12,BuildingSize,0)+1,FALSE),0)))","v":0},{"$f":"U255/1000*V255*X255*IF(IFERROR(SEARCH(\"Gas\",$A$14),0)>0,VLOOKUP(\"Gas\",HVACg_Lookup,MATCH($F$12,BuildingSize,0)+1,FALSE),IF(IFERROR(SEARCH(\"Oil\",$A$14),0)>0,VLOOKUP(\"Oil\",HVACg_Lookup,MATCH($F$12,BuildingSize,0)+1,FALSE),IF(IFERROR(SEARCH(\"Propane\",$A$14),0)>0,VLOOKUP(\"Propane\",HVACg_Lookup,MATCH(Worksheet!$F$12,BuildingSize,0)+1,FALSE),0)))","v":0},0,0,"",""]
[null,null,"",null,null,null,null,null,null,null,null,null,0,0,0,0,"",0,0,0,0,0,0,0,0,0,0,0,0,0,0,0,{"$f":"T256/1000*V256*X256*IF(IFERROR(SEARCH(\"Gas\",$A$14),0)>0,VLOOKUP(\"Gas\",HVACg_Lookup,MATCH($F$12,BuildingSize,0)+1,FALSE),IF(IFERROR(SEARCH(\"Oil\",$A$14),0)>0,VLOOKUP(\"Oil\",HVACg_Lookup,MATCH($F$12,BuildingSize,0)+1,FALSE),IF(IFERROR(SEARCH(\"Propane\",$A$14),0)>0,VLOOKUP(\"Propane\",HVACg_Lookup,MATCH(Worksheet!$F$12,BuildingSize,0)+1,FALSE),0)))","v":0},{"$f":"U256/1000*V256*X256*IF(IFERROR(SEARCH(\"Gas\",$A$14),0)>0,VLOOKUP(\"Gas\",HVACg_Lookup,MATCH($F$12,BuildingSize,0)+1,FALSE),IF(IFERROR(SEARCH(\"Oil\",$A$14),0)>0,VLOOKUP(\"Oil\",HVACg_Lookup,MATCH($F$12,BuildingSize,0)+1,FALSE),IF(IFERROR(SEARCH(\"Propane\",$A$14),0)>0,VLOOKUP(\"Propane\",HVACg_Lookup,MATCH(Worksheet!$F$12,BuildingSize,0)+1,FALSE),0)))","v":0},0,0,"",""]
[null,null,"",null,null,null,null,null,null,null,null,null,0,0,0,0,"",0,0,0,0,0,0,0,0,0,0,0,0,0,0,0,{"$f":"T257/1000*V257*X257*IF(IFERROR(SEARCH(\"Gas\",$A$14),0)>0,VLOOKUP(\"Gas\",HVACg_Lookup,MATCH($F$12,BuildingSize,0)+1,FALSE),IF(IFERROR(SEARCH(\"Oil\",$A$14),0)>0,VLOOKUP(\"Oil\",HVACg_Lookup,MATCH($F$12,BuildingSize,0)+1,FALSE),IF(IFERROR(SEARCH(\"Propane\",$A$14),0)>0,VLOOKUP(\"Propane\",HVACg_Lookup,MATCH(Worksheet!$F$12,BuildingSize,0)+1,FALSE),0)))","v":0},{"$f":"U257/1000*V257*X257*IF(IFERROR(SEARCH(\"Gas\",$A$14),0)>0,VLOOKUP(\"Gas\",HVACg_Lookup,MATCH($F$12,BuildingSize,0)+1,FALSE),IF(IFERROR(SEARCH(\"Oil\",$A$14),0)>0,VLOOKUP(\"Oil\",HVACg_Lookup,MATCH($F$12,BuildingSize,0)+1,FALSE),IF(IFERROR(SEARCH(\"Propane\",$A$14),0)>0,VLOOKUP(\"Propane\",HVACg_Lookup,MATCH(Worksheet!$F$12,BuildingSize,0)+1,FALSE),0)))","v":0},0,0,"",""]
[null,null,"",null,null,null,null,null,null,null,null,null,0,0,0,0,"",0,0,0,0,0,0,0,0,0,0,0,0,0,0,0,{"$f":"T258/1000*V258*X258*IF(IFERROR(SEARCH(\"Gas\",$A$14),0)>0,VLOOKUP(\"Gas\",HVACg_Lookup,MATCH($F$12,BuildingSize,0)+1,FALSE),IF(IFERROR(SEARCH(\"Oil\",$A$14),0)>0,VLOOKUP(\"Oil\",HVACg_Lookup,MATCH($F$12,BuildingSize,0)+1,FALSE),IF(IFERROR(SEARCH(\"Propane\",$A$14),0)>0,VLOOKUP(\"Propane\",HVACg_Lookup,MATCH(Worksheet!$F$12,BuildingSize,0)+1,FALSE),0)))","v":0},{"$f":"U258/1000*V258*X258*IF(IFERROR(SEARCH(\"Gas\",$A$14),0)>0,VLOOKUP(\"Gas\",HVACg_Lookup,MATCH($F$12,BuildingSize,0)+1,FALSE),IF(IFERROR(SEARCH(\"Oil\",$A$14),0)>0,VLOOKUP(\"Oil\",HVACg_Lookup,MATCH($F$12,BuildingSize,0)+1,FALSE),IF(IFERROR(SEARCH(\"Propane\",$A$14),0)>0,VLOOKUP(\"Propane\",HVACg_Lookup,MATCH(Worksheet!$F$12,BuildingSize,0)+1,FALSE),0)))","v":0},0,0,"",""]
[null,null,"",null,null,null,null,null,null,null,null,null,0,0,0,0,"",0,0,0,0,0,0,0,0,0,0,0,0,0,0,0,{"$f":"T259/1000*V259*X259*IF(IFERROR(SEARCH(\"Gas\",$A$14),0)>0,VLOOKUP(\"Gas\",HVACg_Lookup,MATCH($F$12,BuildingSize,0)+1,FALSE),IF(IFERROR(SEARCH(\"Oil\",$A$14),0)>0,VLOOKUP(\"Oil\",HVACg_Lookup,MATCH($F$12,BuildingSize,0)+1,FALSE),IF(IFERROR(SEARCH(\"Propane\",$A$14),0)>0,VLOOKUP(\"Propane\",HVACg_Lookup,MATCH(Worksheet!$F$12,BuildingSize,0)+1,FALSE),0)))","v":0},{"$f":"U259/1000*V259*X259*IF(IFERROR(SEARCH(\"Gas\",$A$14),0)>0,VLOOKUP(\"Gas\",HVACg_Lookup,MATCH($F$12,BuildingSize,0)+1,FALSE),IF(IFERROR(SEARCH(\"Oil\",$A$14),0)>0,VLOOKUP(\"Oil\",HVACg_Lookup,MATCH($F$12,BuildingSize,0)+1,FALSE),IF(IFERROR(SEARCH(\"Propane\",$A$14),0)>0,VLOOKUP(\"Propane\",HVACg_Lookup,MATCH(Worksheet!$F$12,BuildingSize,0)+1,FALSE),0)))","v":0},0,0,"",""]
[null,null,"",null,null,null,null,null,null,null,null,null,0,0,0,0,"",0,0,0,0,0,0,0,0,0,0,0,0,0,0,0,{"$f":"T260/1000*V260*X260*IF(IFERROR(SEARCH(\"Gas\",$A$14),0)>0,VLOOKUP(\"Gas\",HVACg_Lookup,MATCH($F$12,BuildingSize,0)+1,FALSE),IF(IFERROR(SEARCH(\"Oil\",$A$14),0)>0,VLOOKUP(\"Oil\",HVACg_Lookup,MATCH($F$12,BuildingSize,0)+1,FALSE),IF(IFERROR(SEARCH(\"Propane\",$A$14),0)>0,VLOOKUP(\"Propane\",HVACg_Lookup,MATCH(Worksheet!$F$12,BuildingSize,0)+1,FALSE),0)))","v":0},{"$f":"U260/1000*V260*X260*IF(IFERROR(SEARCH(\"Gas\",$A$14),0)>0,VLOOKUP(\"Gas\",HVACg_Lookup,MATCH($F$12,BuildingSize,0)+1,FALSE),IF(IFERROR(SEARCH(\"Oil\",$A$14),0)>0,VLOOKUP(\"Oil\",HVACg_Lookup,MATCH($F$12,BuildingSize,0)+1,FALSE),IF(IFERROR(SEARCH(\"Propane\",$A$14),0)>0,VLOOKUP(\"Propane\",HVACg_Lookup,MATCH(Worksheet!$F$12,BuildingSize,0)+1,FALSE),0)))","v":0},0,0,"",""]
[null,null,"",null,null,null,null,null,null,null,null,null,0,0,0,0,"",0,0,0,0,0,0,0,0,0,0,0,0,0,0,0,{"$f":"T261/1000*V261*X261*IF(IFERROR(SEARCH(\"Gas\",$A$14),0)>0,VLOOKUP(\"Gas\",HVACg_Lookup,MATCH($F$12,BuildingSize,0)+1,FALSE),IF(IFERROR(SEARCH(\"Oil\",$A$14),0)>0,VLOOKUP(\"Oil\",HVACg_Lookup,MATCH($F$12,BuildingSize,0)+1,FALSE),IF(IFERROR(SEARCH(\"Propane\",$A$14),0)>0,VLOOKUP(\"Propane\",HVACg_Lookup,MATCH(Worksheet!$F$12,BuildingSize,0)+1,FALSE),0)))","v":0},{"$f":"U261/1000*V261*X261*IF(IFERROR(SEARCH(\"Gas\",$A$14),0)>0,VLOOKUP(\"Gas\",HVACg_Lookup,MATCH($F$12,BuildingSize,0)+1,FALSE),IF(IFERROR(SEARCH(\"Oil\",$A$14),0)>0,VLOOKUP(\"Oil\",HVACg_Lookup,MATCH($F$12,BuildingSize,0)+1,FALSE),IF(IFERROR(SEARCH(\"Propane\",$A$14),0)>0,VLOOKUP(\"Propane\",HVACg_Lookup,MATCH(Worksheet!$F$12,BuildingSize,0)+1,FALSE),0)))","v":0},0,0,"",""]
[null,null,"",null,null,null,null,null,null,null,null,null,0,0,0,0,"",0,0,0,0,0,0,0,0,0,0,0,0,0,0,0,{"$f":"T262/1000*V262*X262*IF(IFERROR(SEARCH(\"Gas\",$A$14),0)>0,VLOOKUP(\"Gas\",HVACg_Lookup,MATCH($F$12,BuildingSize,0)+1,FALSE),IF(IFERROR(SEARCH(\"Oil\",$A$14),0)>0,VLOOKUP(\"Oil\",HVACg_Lookup,MATCH($F$12,BuildingSize,0)+1,FALSE),IF(IFERROR(SEARCH(\"Propane\",$A$14),0)>0,VLOOKUP(\"Propane\",HVACg_Lookup,MATCH(Worksheet!$F$12,BuildingSize,0)+1,FALSE),0)))","v":0},{"$f":"U262/1000*V262*X262*IF(IFERROR(SEARCH(\"Gas\",$A$14),0)>0,VLOOKUP(\"Gas\",HVACg_Lookup,MATCH($F$12,BuildingSize,0)+1,FALSE),IF(IFERROR(SEARCH(\"Oil\",$A$14),0)>0,VLOOKUP(\"Oil\",HVACg_Lookup,MATCH($F$12,BuildingSize,0)+1,FALSE),IF(IFERROR(SEARCH(\"Propane\",$A$14),0)>0,VLOOKUP(\"Propane\",HVACg_Lookup,MATCH(Worksheet!$F$12,BuildingSize,0)+1,FALSE),0)))","v":0},0,0,"",""]
[null,null,"",null,null,null,null,null,null,null,null,null,0,0,0,0,"",0,0,0,0,0,0,0,0,0,0,0,0,0,0,0,{"$f":"T263/1000*V263*X263*IF(IFERROR(SEARCH(\"Gas\",$A$14),0)>0,VLOOKUP(\"Gas\",HVACg_Lookup,MATCH($F$12,BuildingSize,0)+1,FALSE),IF(IFERROR(SEARCH(\"Oil\",$A$14),0)>0,VLOOKUP(\"Oil\",HVACg_Lookup,MATCH($F$12,BuildingSize,0)+1,FALSE),IF(IFERROR(SEARCH(\"Propane\",$A$14),0)>0,VLOOKUP(\"Propane\",HVACg_Lookup,MATCH(Worksheet!$F$12,BuildingSize,0)+1,FALSE),0)))","v":0},{"$f":"U263/1000*V263*X263*IF(IFERROR(SEARCH(\"Gas\",$A$14),0)>0,VLOOKUP(\"Gas\",HVACg_Lookup,MATCH($F$12,BuildingSize,0)+1,FALSE),IF(IFERROR(SEARCH(\"Oil\",$A$14),0)>0,VLOOKUP(\"Oil\",HVACg_Lookup,MATCH($F$12,BuildingSize,0)+1,FALSE),IF(IFERROR(SEARCH(\"Propane\",$A$14),0)>0,VLOOKUP(\"Propane\",HVACg_Lookup,MATCH(Worksheet!$F$12,BuildingSize,0)+1,FALSE),0)))","v":0},0,0,"",""]
[null,null,"",null,null,null,null,null,null,null,null,null,0,0,0,0,"",0,0,0,0,0,0,0,0,0,0,0,0,0,0,0,{"$f":"T264/1000*V264*X264*IF(IFERROR(SEARCH(\"Gas\",$A$14),0)>0,VLOOKUP(\"Gas\",HVACg_Lookup,MATCH($F$12,BuildingSize,0)+1,FALSE),IF(IFERROR(SEARCH(\"Oil\",$A$14),0)>0,VLOOKUP(\"Oil\",HVACg_Lookup,MATCH($F$12,BuildingSize,0)+1,FALSE),IF(IFERROR(SEARCH(\"Propane\",$A$14),0)>0,VLOOKUP(\"Propane\",HVACg_Lookup,MATCH(Worksheet!$F$12,BuildingSize,0)+1,FALSE),0)))","v":0},{"$f":"U264/1000*V264*X264*IF(IFERROR(SEARCH(\"Gas\",$A$14),0)>0,VLOOKUP(\"Gas\",HVACg_Lookup,MATCH($F$12,BuildingSize,0)+1,FALSE),IF(IFERROR(SEARCH(\"Oil\",$A$14),0)>0,VLOOKUP(\"Oil\",HVACg_Lookup,MATCH($F$12,BuildingSize,0)+1,FALSE),IF(IFERROR(SEARCH(\"Propane\",$A$14),0)>0,VLOOKUP(\"Propane\",HVACg_Lookup,MATCH(Worksheet!$F$12,BuildingSize,0)+1,FALSE),0)))","v":0},0,0,"",""]
[null,null,"",null,null,null,null,null,null,null,null,null,0,0,0,0,"",0,0,0,0,0,0,0,0,0,0,0,0,0,0,0,{"$f":"T265/1000*V265*X265*IF(IFERROR(SEARCH(\"Gas\",$A$14),0)>0,VLOOKUP(\"Gas\",HVACg_Lookup,MATCH($F$12,BuildingSize,0)+1,FALSE),IF(IFERROR(SEARCH(\"Oil\",$A$14),0)>0,VLOOKUP(\"Oil\",HVACg_Lookup,MATCH($F$12,BuildingSize,0)+1,FALSE),IF(IFERROR(SEARCH(\"Propane\",$A$14),0)>0,VLOOKUP(\"Propane\",HVACg_Lookup,MATCH(Worksheet!$F$12,BuildingSize,0)+1,FALSE),0)))","v":0},{"$f":"U265/1000*V265*X265*IF(IFERROR(SEARCH(\"Gas\",$A$14),0)>0,VLOOKUP(\"Gas\",HVACg_Lookup,MATCH($F$12,BuildingSize,0)+1,FALSE),IF(IFERROR(SEARCH(\"Oil\",$A$14),0)>0,VLOOKUP(\"Oil\",HVACg_Lookup,MATCH($F$12,BuildingSize,0)+1,FALSE),IF(IFERROR(SEARCH(\"Propane\",$A$14),0)>0,VLOOKUP(\"Propane\",HVACg_Lookup,MATCH(Worksheet!$F$12,BuildingSize,0)+1,FALSE),0)))","v":0},0,0,"",""]
[null,null,"",null,null,null,null,null,null,null,null,null,0,0,0,0,"",0,0,0,0,0,0,0,0,0,0,0,0,0,0,0,{"$f":"T266/1000*V266*X266*IF(IFERROR(SEARCH(\"Gas\",$A$14),0)>0,VLOOKUP(\"Gas\",HVACg_Lookup,MATCH($F$12,BuildingSize,0)+1,FALSE),IF(IFERROR(SEARCH(\"Oil\",$A$14),0)>0,VLOOKUP(\"Oil\",HVACg_Lookup,MATCH($F$12,BuildingSize,0)+1,FALSE),IF(IFERROR(SEARCH(\"Propane\",$A$14),0)>0,VLOOKUP(\"Propane\",HVACg_Lookup,MATCH(Worksheet!$F$12,BuildingSize,0)+1,FALSE),0)))","v":0},{"$f":"U266/1000*V266*X266*IF(IFERROR(SEARCH(\"Gas\",$A$14),0)>0,VLOOKUP(\"Gas\",HVACg_Lookup,MATCH($F$12,BuildingSize,0)+1,FALSE),IF(IFERROR(SEARCH(\"Oil\",$A$14),0)>0,VLOOKUP(\"Oil\",HVACg_Lookup,MATCH($F$12,BuildingSize,0)+1,FALSE),IF(IFERROR(SEARCH(\"Propane\",$A$14),0)>0,VLOOKUP(\"Propane\",HVACg_Lookup,MATCH(Worksheet!$F$12,BuildingSize,0)+1,FALSE),0)))","v":0},0,0,"",""]
[null,null,"",null,null,null,null,null,null,null,null,null,0,0,0,0,"",0,0,0,0,0,0,0,0,0,0,0,0,0,0,0,{"$f":"T267/1000*V267*X267*IF(IFERROR(SEARCH(\"Gas\",$A$14),0)>0,VLOOKUP(\"Gas\",HVACg_Lookup,MATCH($F$12,BuildingSize,0)+1,FALSE),IF(IFERROR(SEARCH(\"Oil\",$A$14),0)>0,VLOOKUP(\"Oil\",HVACg_Lookup,MATCH($F$12,BuildingSize,0)+1,FALSE),IF(IFERROR(SEARCH(\"Propane\",$A$14),0)>0,VLOOKUP(\"Propane\",HVACg_Lookup,MATCH(Worksheet!$F$12,BuildingSize,0)+1,FALSE),0)))","v":0},{"$f":"U267/1000*V267*X267*IF(IFERROR(SEARCH(\"Gas\",$A$14),0)>0,VLOOKUP(\"Gas\",HVACg_Lookup,MATCH($F$12,BuildingSize,0)+1,FALSE),IF(IFERROR(SEARCH(\"Oil\",$A$14),0)>0,VLOOKUP(\"Oil\",HVACg_Lookup,MATCH($F$12,BuildingSize,0)+1,FALSE),IF(IFERROR(SEARCH(\"Propane\",$A$14),0)>0,VLOOKUP(\"Propane\",HVACg_Lookup,MATCH(Worksheet!$F$12,BuildingSize,0)+1,FALSE),0)))","v":0},0,0,"",""]
[null,null,"",null,null,null,null,null,null,null,null,null,0,0,0,0,"",0,0,0,0,0,0,0,0,0,0,0,0,0,0,0,{"$f":"T268/1000*V268*X268*IF(IFERROR(SEARCH(\"Gas\",$A$14),0)>0,VLOOKUP(\"Gas\",HVACg_Lookup,MATCH($F$12,BuildingSize,0)+1,FALSE),IF(IFERROR(SEARCH(\"Oil\",$A$14),0)>0,VLOOKUP(\"Oil\",HVACg_Lookup,MATCH($F$12,BuildingSize,0)+1,FALSE),IF(IFERROR(SEARCH(\"Propane\",$A$14),0)>0,VLOOKUP(\"Propane\",HVACg_Lookup,MATCH(Worksheet!$F$12,BuildingSize,0)+1,FALSE),0)))","v":0},{"$f":"U268/1000*V268*X268*IF(IFERROR(SEARCH(\"Gas\",$A$14),0)>0,VLOOKUP(\"Gas\",HVACg_Lookup,MATCH($F$12,BuildingSize,0)+1,FALSE),IF(IFERROR(SEARCH(\"Oil\",$A$14),0)>0,VLOOKUP(\"Oil\",HVACg_Lookup,MATCH($F$12,BuildingSize,0)+1,FALSE),IF(IFERROR(SEARCH(\"Propane\",$A$14),0)>0,VLOOKUP(\"Propane\",HVACg_Lookup,MATCH(Worksheet!$F$12,BuildingSize,0)+1,FALSE),0)))","v":0},0,0,"",""]
[null,null,"",null,null,null,null,null,null,null,null,null,0,0,0,0,"",0,0,0,0,0,0,0,0,0,0,0,0,0,0,0,{"$f":"T269/1000*V269*X269*IF(IFERROR(SEARCH(\"Gas\",$A$14),0)>0,VLOOKUP(\"Gas\",HVACg_Lookup,MATCH($F$12,BuildingSize,0)+1,FALSE),IF(IFERROR(SEARCH(\"Oil\",$A$14),0)>0,VLOOKUP(\"Oil\",HVACg_Lookup,MATCH($F$12,BuildingSize,0)+1,FALSE),IF(IFERROR(SEARCH(\"Propane\",$A$14),0)>0,VLOOKUP(\"Propane\",HVACg_Lookup,MATCH(Worksheet!$F$12,BuildingSize,0)+1,FALSE),0)))","v":0},{"$f":"U269/1000*V269*X269*IF(IFERROR(SEARCH(\"Gas\",$A$14),0)>0,VLOOKUP(\"Gas\",HVACg_Lookup,MATCH($F$12,BuildingSize,0)+1,FALSE),IF(IFERROR(SEARCH(\"Oil\",$A$14),0)>0,VLOOKUP(\"Oil\",HVACg_Lookup,MATCH($F$12,BuildingSize,0)+1,FALSE),IF(IFERROR(SEARCH(\"Propane\",$A$14),0)>0,VLOOKUP(\"Propane\",HVACg_Lookup,MATCH(Worksheet!$F$12,BuildingSize,0)+1,FALSE),0)))","v":0},0,0,"",""]
[null,null,"",null,null,null,null,null,null,null,null,null,0,0,0,0,"",0,0,0,0,0,0,0,0,0,0,0,0,0,0,0,{"$f":"T270/1000*V270*X270*IF(IFERROR(SEARCH(\"Gas\",$A$14),0)>0,VLOOKUP(\"Gas\",HVACg_Lookup,MATCH($F$12,BuildingSize,0)+1,FALSE),IF(IFERROR(SEARCH(\"Oil\",$A$14),0)>0,VLOOKUP(\"Oil\",HVACg_Lookup,MATCH($F$12,BuildingSize,0)+1,FALSE),IF(IFERROR(SEARCH(\"Propane\",$A$14),0)>0,VLOOKUP(\"Propane\",HVACg_Lookup,MATCH(Worksheet!$F$12,BuildingSize,0)+1,FALSE),0)))","v":0},{"$f":"U270/1000*V270*X270*IF(IFERROR(SEARCH(\"Gas\",$A$14),0)>0,VLOOKUP(\"Gas\",HVACg_Lookup,MATCH($F$12,BuildingSize,0)+1,FALSE),IF(IFERROR(SEARCH(\"Oil\",$A$14),0)>0,VLOOKUP(\"Oil\",HVACg_Lookup,MATCH($F$12,BuildingSize,0)+1,FALSE),IF(IFERROR(SEARCH(\"Propane\",$A$14),0)>0,VLOOKUP(\"Propane\",HVACg_Lookup,MATCH(Worksheet!$F$12,BuildingSize,0)+1,FALSE),0)))","v":0},0,0,"",""]
[null,null,"",null,null,null,null,null,null,null,null,null,0,0,0,0,"",0,0,0,0,0,0,0,0,0,0,0,0,0,0,0,{"$f":"T271/1000*V271*X271*IF(IFERROR(SEARCH(\"Gas\",$A$14),0)>0,VLOOKUP(\"Gas\",HVACg_Lookup,MATCH($F$12,BuildingSize,0)+1,FALSE),IF(IFERROR(SEARCH(\"Oil\",$A$14),0)>0,VLOOKUP(\"Oil\",HVACg_Lookup,MATCH($F$12,BuildingSize,0)+1,FALSE),IF(IFERROR(SEARCH(\"Propane\",$A$14),0)>0,VLOOKUP(\"Propane\",HVACg_Lookup,MATCH(Worksheet!$F$12,BuildingSize,0)+1,FALSE),0)))","v":0},{"$f":"U271/1000*V271*X271*IF(IFERROR(SEARCH(\"Gas\",$A$14),0)>0,VLOOKUP(\"Gas\",HVACg_Lookup,MATCH($F$12,BuildingSize,0)+1,FALSE),IF(IFERROR(SEARCH(\"Oil\",$A$14),0)>0,VLOOKUP(\"Oil\",HVACg_Lookup,MATCH($F$12,BuildingSize,0)+1,FALSE),IF(IFERROR(SEARCH(\"Propane\",$A$14),0)>0,VLOOKUP(\"Propane\",HVACg_Lookup,MATCH(Worksheet!$F$12,BuildingSize,0)+1,FALSE),0)))","v":0},0,0,"",""]
[null,null,"",null,null,null,null,null,null,null,null,null,0,0,0,0,"",0,0,0,0,0,0,0,0,0,0,0,0,0,0,0,{"$f":"T272/1000*V272*X272*IF(IFERROR(SEARCH(\"Gas\",$A$14),0)>0,VLOOKUP(\"Gas\",HVACg_Lookup,MATCH($F$12,BuildingSize,0)+1,FALSE),IF(IFERROR(SEARCH(\"Oil\",$A$14),0)>0,VLOOKUP(\"Oil\",HVACg_Lookup,MATCH($F$12,BuildingSize,0)+1,FALSE),IF(IFERROR(SEARCH(\"Propane\",$A$14),0)>0,VLOOKUP(\"Propane\",HVACg_Lookup,MATCH(Worksheet!$F$12,BuildingSize,0)+1,FALSE),0)))","v":0},{"$f":"U272/1000*V272*X272*IF(IFERROR(SEARCH(\"Gas\",$A$14),0)>0,VLOOKUP(\"Gas\",HVACg_Lookup,MATCH($F$12,BuildingSize,0)+1,FALSE),IF(IFERROR(SEARCH(\"Oil\",$A$14),0)>0,VLOOKUP(\"Oil\",HVACg_Lookup,MATCH($F$12,BuildingSize,0)+1,FALSE),IF(IFERROR(SEARCH(\"Propane\",$A$14),0)>0,VLOOKUP(\"Propane\",HVACg_Lookup,MATCH(Worksheet!$F$12,BuildingSize,0)+1,FALSE),0)))","v":0},0,0,"",""]
[null,null,"",null,null,null,null,null,null,null,null,null,0,0,0,0,"",0,0,0,0,0,0,0,0,0,0,0,0,0,0,0,{"$f":"T273/1000*V273*X273*IF(IFERROR(SEARCH(\"Gas\",$A$14),0)>0,VLOOKUP(\"Gas\",HVACg_Lookup,MATCH($F$12,BuildingSize,0)+1,FALSE),IF(IFERROR(SEARCH(\"Oil\",$A$14),0)>0,VLOOKUP(\"Oil\",HVACg_Lookup,MATCH($F$12,BuildingSize,0)+1,FALSE),IF(IFERROR(SEARCH(\"Propane\",$A$14),0)>0,VLOOKUP(\"Propane\",HVACg_Lookup,MATCH(Worksheet!$F$12,BuildingSize,0)+1,FALSE),0)))","v":0},{"$f":"U273/1000*V273*X273*IF(IFERROR(SEARCH(\"Gas\",$A$14),0)>0,VLOOKUP(\"Gas\",HVACg_Lookup,MATCH($F$12,BuildingSize,0)+1,FALSE),IF(IFERROR(SEARCH(\"Oil\",$A$14),0)>0,VLOOKUP(\"Oil\",HVACg_Lookup,MATCH($F$12,BuildingSize,0)+1,FALSE),IF(IFERROR(SEARCH(\"Propane\",$A$14),0)>0,VLOOKUP(\"Propane\",HVACg_Lookup,MATCH(Worksheet!$F$12,BuildingSize,0)+1,FALSE),0)))","v":0},0,0,"",""]
[null,null,"",null,null,null,null,null,null,null,null,null,0,0,0,0,"",0,0,0,0,0,0,0,0,0,0,0,0,0,0,0,{"$f":"T274/1000*V274*X274*IF(IFERROR(SEARCH(\"Gas\",$A$14),0)>0,VLOOKUP(\"Gas\",HVACg_Lookup,MATCH($F$12,BuildingSize,0)+1,FALSE),IF(IFERROR(SEARCH(\"Oil\",$A$14),0)>0,VLOOKUP(\"Oil\",HVACg_Lookup,MATCH($F$12,BuildingSize,0)+1,FALSE),IF(IFERROR(SEARCH(\"Propane\",$A$14),0)>0,VLOOKUP(\"Propane\",HVACg_Lookup,MATCH(Worksheet!$F$12,BuildingSize,0)+1,FALSE),0)))","v":0},{"$f":"U274/1000*V274*X274*IF(IFERROR(SEARCH(\"Gas\",$A$14),0)>0,VLOOKUP(\"Gas\",HVACg_Lookup,MATCH($F$12,BuildingSize,0)+1,FALSE),IF(IFERROR(SEARCH(\"Oil\",$A$14),0)>0,VLOOKUP(\"Oil\",HVACg_Lookup,MATCH($F$12,BuildingSize,0)+1,FALSE),IF(IFERROR(SEARCH(\"Propane\",$A$14),0)>0,VLOOKUP(\"Propane\",HVACg_Lookup,MATCH(Worksheet!$F$12,BuildingSize,0)+1,FALSE),0)))","v":0},0,0,"",""]
[null,null,"",null,null,null,null,null,null,null,null,null,0,0,0,0,"",0,0,0,0,0,0,0,0,0,0,0,0,0,0,0,{"$f":"T275/1000*V275*X275*IF(IFERROR(SEARCH(\"Gas\",$A$14),0)>0,VLOOKUP(\"Gas\",HVACg_Lookup,MATCH($F$12,BuildingSize,0)+1,FALSE),IF(IFERROR(SEARCH(\"Oil\",$A$14),0)>0,VLOOKUP(\"Oil\",HVACg_Lookup,MATCH($F$12,BuildingSize,0)+1,FALSE),IF(IFERROR(SEARCH(\"Propane\",$A$14),0)>0,VLOOKUP(\"Propane\",HVACg_Lookup,MATCH(Worksheet!$F$12,BuildingSize,0)+1,FALSE),0)))","v":0},{"$f":"U275/1000*V275*X275*IF(IFERROR(SEARCH(\"Gas\",$A$14),0)>0,VLOOKUP(\"Gas\",HVACg_Lookup,MATCH($F$12,BuildingSize,0)+1,FALSE),IF(IFERROR(SEARCH(\"Oil\",$A$14),0)>0,VLOOKUP(\"Oil\",HVACg_Lookup,MATCH($F$12,BuildingSize,0)+1,FALSE),IF(IFERROR(SEARCH(\"Propane\",$A$14),0)>0,VLOOKUP(\"Propane\",HVACg_Lookup,MATCH(Worksheet!$F$12,BuildingSize,0)+1,FALSE),0)))","v":0},0,0,"",""]
[null,null,"",null,null,null,null,null,null,null,null,null,0,0,{"$f":"IF(AK276=\"\",0,IF(AK276=1,VLOOKUP(A276,MeasureCode_Lookup,3,FALSE),\"DNQ\"))","v":0},{"$f":"IF(AL276=\"\",0,IF(AL276=1,VLOOKUP(A276,MeasureCode_Lookup,3,FALSE),\"DNQ\"))","v":0},{"$f":"IF(A276=\"\",\"\",VLOOKUP(A276,MeasureCode_Lookup,4,FALSE))","v":""},0,0,0,0,{"$f":"IF(A276=\"\",0,VLOOKUP(A276,MeasureCode_Lookup,5,FALSE))","v":0},{"$f":"IF($A$12=\"\",0,VLOOKUP($A$12,BuildingType_Lookup,3,FALSE))","v":0},{"$f":"IF($A$12=\"\",0,VLOOKUP($A$12,BuildingType_Lookup,2,FALSE))","v":0},{"$f":"IF(AND(OR(AK276=\"\",AK276=0)=TRUE,OR(AL276=\"\",AL276=0))=TRUE,0,IF(AL276=\"\",(IF(OR(C276=\"DDC\",C276=\"OHLC\")=TRUE,L276,M276)/1000)*V276*W276*(1+VLOOKUP($A$12,BuildingType_Lookup,4,FALSE)),IF(AL276=0,0,(IF(OR(C276=\"DDC\",C276=\"OHLC\")=TRUE,L276,N276)/1000)*V276*W276*(1+VLOOKUP($A$12,BuildingType_Lookup,4,FALSE)))))","v":0},{"$f":"IF(AND(OR(AK276=\"\",AK276=0)=TRUE,OR(AL276=\"\",AL276=0))=TRUE,0,IF(AL276=\"\",(IF(OR(C276=\"DDC\",C276=\"OHLC\")=TRUE,L276,M276)/1000)*V276*X276*(1+VLOOKUP($A$12,BuildingType_Lookup,MATCH($A$14,HVAC,0)+4,FALSE)),IF(AL276=0,0,(IF(OR(C276=\"DDC\",C276=\"OHLC\")=TRUE,L276,N276)/1000)*V276*X276*(1+VLOOKUP($A$12,BuildingType_Lookup,MATCH($A$14,HVAC,0)+4,FALSE)))))","v":0},{"$f":"IFERROR(IF(OR(C276=\"DDC\",C276=\"OHLC\")=TRUE,F276*H276*Y276,F276*Y276),0)","v":0},{"$f":"IFERROR(IF(OR(C276=\"DDC\",C276=\"OHLC\")=TRUE,G276*I276*Y276,G276*Y276),0)","v":0},{"$f":"IFERROR(IF(OR(C276=\"DDC\",C276=\"OHLC\")=TRUE,F276*H276*Z276,F276*Z276),0)","v":0},{"$f":"IFERROR(IF(OR(C276=\"DDC\",C276=\"OHLC\")=TRUE,G276*I276*Z276,G276*Z276),0)","v":0},0,0,{"$f":"T276/1000*V276*X276*IF(IFERROR(SEARCH(\"Gas\",$A$14),0)>0,VLOOKUP(\"Gas\",HVACg_Lookup,MATCH($F$12,BuildingSize,0)+1,FALSE),IF(IFERROR(SEARCH(\"Oil\",$A$14),0)>0,VLOOKUP(\"Oil\",HVACg_Lookup,MATCH($F$12,BuildingSize,0)+1,FALSE),IF(IFERROR(SEARCH(\"Propane\",$A$14),0)>0,VLOOKUP(\"Propane\",HVACg_Lookup,MATCH(Worksheet!$F$12,BuildingSize,0)+1,FALSE),0)))","v":0},{"$f":"U276/1000*V276*X276*IF(IFERROR(SEARCH(\"Gas\",$A$14),0)>0,VLOOKUP(\"Gas\",HVACg_Lookup,MATCH($F$12,BuildingSize,0)+1,FALSE),IF(IFERROR(SEARCH(\"Oil\",$A$14),0)>0,VLOOKUP(\"Oil\",HVACg_Lookup,MATCH($F$12,BuildingSize,0)+1,FALSE),IF(IFERROR(SEARCH(\"Propane\",$A$14),0)>0,VLOOKUP(\"Propane\",HVACg_Lookup,MATCH(Worksheet!$F$12,BuildingSize,0)+1,FALSE),0)))","v":0},0,0,"",""]
[null,null,{"$f":"IF(A277=\"\",\"\",VLOOKUP(A277,MeasureCode_Lookup,2,FALSE))","v":""},null,null,null,null,null,null,null,null,null,{"$f":"IF(OR(A277=\"\",F277=\"\",H277=\"\",L277=\"\")=TRUE,0,H277*L277)","v":0},{"$f":"IF(OR(A277=\"\",G277=\"\",I277=\"\",L277=\"\")=TRUE,0,I277*L277)","v":0},0,0,"",{"$f":"IF(N(O277)=0,0,F277*O277*IF(Q277=\"per Fixture Controlled\",H277,1))","v":0},{"$f":"IF(N(P277)=0,0,G277*P277*IF(Q277=\"per Fixture Controlled\",I277,1))","v":0},{"$f":"IF(N(O277)=0,0,F277*M277)","v":0},{"$f":"IF(N(P277)=0,0,G277*N277)","v":0},0,0,0,0,0,0,0,0,0,{"$f":"AC277*8","v":0},{"$f":"AD277*8","v":0},{"$f":"T277/1000*V277*X277*IF(IFERROR(SEARCH(\"Gas\",$A$14),0)>0,VLOOKUP(\"Gas\",HVACg_Lookup,MATCH($F$12,BuildingSize,0)+1,FALSE),IF(IFERROR(SEARCH(\"Oil\",$A$14),0)>0,VLOOKUP(\"Oil\",HVACg_Lookup,MATCH($F$12,BuildingSize,0)+1,FALSE),IF(IFERROR(SEARCH(\"Propane\",$A$14),0)>0,VLOOKUP(\"Propane\",HVACg_Lookup,MATCH(Worksheet!$F$12,BuildingSize,0)+1,FALSE),0)))","v":0},{"$f":"U277/1000*V277*X277*IF(IFERROR(SEARCH(\"Gas\",$A$14),0)>0,VLOOKUP(\"Gas\",HVACg_Lookup,MATCH($F$12,BuildingSize,0)+1,FALSE),IF(IFERROR(SEARCH(\"Oil\",$A$14),0)>0,VLOOKUP(\"Oil\",HVACg_Lookup,MATCH($F$12,BuildingSize,0)+1,FALSE),IF(IFERROR(SEARCH(\"Propane\",$A$14),0)>0,VLOOKUP(\"Propane\",HVACg_Lookup,MATCH(Worksheet!$F$12,BuildingSize,0)+1,FALSE),0)))","v":0},{"$f":"AG277*8","v":0},{"$f":"AH277*8","v":0},{"$f":"IF(OR($B$3=\"\",$B$4=\"\",$A$12=\"\",$F$12=\"\",$A$14=\"\",A277=\"\",F277=\"\",H277=\"\",L277=\"\")=TRUE,\"\",IF(C277=\"OSW\",IF(H277>=2,1,0),IF(C277=\"OSR\",IF(AND(H277>=2,M277>=180)=TRUE,1,0),IF(C277=\"OSRH\",IF(AND(H277>=1,M277>=180)=TRUE,1,0),IF(C277=\"OHLC\",IF(M277>=240,1,0),IF(C277=\"DDC\",IF(AND(H277>=4,M277>=240)=TRUE,1,0),0))))))","v":""},{"$f":"IF(OR($B$3=\"\",$B$4=\"\",$A$12=\"\",$F$12=\"\",$A$14=\"\",A277=\"\",F277=\"\",I277=\"\",L277=\"\")=TRUE,\"\",IF(C277=\"OSW\",IF(I277>=2,1,0),IF(C277=\"OSR\",IF(AND(I277>=2,N277>=180)=TRUE,1,0),IF(C277=\"OSRH\",IF(AND(I277>=1,N277>=180)=TRUE,1,0),IF(C277=\"OHLC\",IF(N277>=240,1,0),IF(C277=\"DDC\",IF(AND(I277>=4,N277>=240)=TRUE,1,0),0))))))","v":""}]
[null,null,"",null,null,null,null,null,null,null,null,null,0,0,0,0,"",0,0,0,0,0,0,0,0,0,0,0,0,0,0,0,{"$f":"T278/1000*V278*X278*IF(IFERROR(SEARCH(\"Gas\",$A$14),0)>0,VLOOKUP(\"Gas\",HVACg_Lookup,MATCH($F$12,BuildingSize,0)+1,FALSE),IF(IFERROR(SEARCH(\"Oil\",$A$14),0)>0,VLOOKUP(\"Oil\",HVACg_Lookup,MATCH($F$12,BuildingSize,0)+1,FALSE),IF(IFERROR(SEARCH(\"Propane\",$A$14),0)>0,VLOOKUP(\"Propane\",HVACg_Lookup,MATCH(Worksheet!$F$12,BuildingSize,0)+1,FALSE),0)))","v":0},{"$f":"U278/1000*V278*X278*IF(IFERROR(SEARCH(\"Gas\",$A$14),0)>0,VLOOKUP(\"Gas\",HVACg_Lookup,MATCH($F$12,BuildingSize,0)+1,FALSE),IF(IFERROR(SEARCH(\"Oil\",$A$14),0)>0,VLOOKUP(\"Oil\",HVACg_Lookup,MATCH($F$12,BuildingSize,0)+1,FALSE),IF(IFERROR(SEARCH(\"Propane\",$A$14),0)>0,VLOOKUP(\"Propane\",HVACg_Lookup,MATCH(Worksheet!$F$12,BuildingSize,0)+1,FALSE),0)))","v":0},0,0,"",""]
[null,null,"",null,null,null,null,null,null,null,null,null,0,0,0,0,"",0,0,0,0,0,0,0,0,0,0,0,0,0,0,0,{"$f":"T279/1000*V279*X279*IF(IFERROR(SEARCH(\"Gas\",$A$14),0)>0,VLOOKUP(\"Gas\",HVACg_Lookup,MATCH($F$12,BuildingSize,0)+1,FALSE),IF(IFERROR(SEARCH(\"Oil\",$A$14),0)>0,VLOOKUP(\"Oil\",HVACg_Lookup,MATCH($F$12,BuildingSize,0)+1,FALSE),IF(IFERROR(SEARCH(\"Propane\",$A$14),0)>0,VLOOKUP(\"Propane\",HVACg_Lookup,MATCH(Worksheet!$F$12,BuildingSize,0)+1,FALSE),0)))","v":0},{"$f":"U279/1000*V279*X279*IF(IFERROR(SEARCH(\"Gas\",$A$14),0)>0,VLOOKUP(\"Gas\",HVACg_Lookup,MATCH($F$12,BuildingSize,0)+1,FALSE),IF(IFERROR(SEARCH(\"Oil\",$A$14),0)>0,VLOOKUP(\"Oil\",HVACg_Lookup,MATCH($F$12,BuildingSize,0)+1,FALSE),IF(IFERROR(SEARCH(\"Propane\",$A$14),0)>0,VLOOKUP(\"Propane\",HVACg_Lookup,MATCH(Worksheet!$F$12,BuildingSize,0)+1,FALSE),0)))","v":0},0,0,"",""]
[null,null,"",null,null,null,null,null,null,null,null,null,0,0,0,0,"",0,0,0,0,0,0,0,0,0,0,0,0,0,0,0,{"$f":"T280/1000*V280*X280*IF(IFERROR(SEARCH(\"Gas\",$A$14),0)>0,VLOOKUP(\"Gas\",HVACg_Lookup,MATCH($F$12,BuildingSize,0)+1,FALSE),IF(IFERROR(SEARCH(\"Oil\",$A$14),0)>0,VLOOKUP(\"Oil\",HVACg_Lookup,MATCH($F$12,BuildingSize,0)+1,FALSE),IF(IFERROR(SEARCH(\"Propane\",$A$14),0)>0,VLOOKUP(\"Propane\",HVACg_Lookup,MATCH(Worksheet!$F$12,BuildingSize,0)+1,FALSE),0)))","v":0},{"$f":"U280/1000*V280*X280*IF(IFERROR(SEARCH(\"Gas\",$A$14),0)>0,VLOOKUP(\"Gas\",HVACg_Lookup,MATCH($F$12,BuildingSize,0)+1,FALSE),IF(IFERROR(SEARCH(\"Oil\",$A$14),0)>0,VLOOKUP(\"Oil\",HVACg_Lookup,MATCH($F$12,BuildingSize,0)+1,FALSE),IF(IFERROR(SEARCH(\"Propane\",$A$14),0)>0,VLOOKUP(\"Propane\",HVACg_Lookup,MATCH(Worksheet!$F$12,BuildingSize,0)+1,FALSE),0)))","v":0},0,0,"",""]
[null,null,"",null,null,null,null,null,null,null,null,null,0,0,0,0,"",0,0,0,0,0,0,0,0,0,0,0,0,0,0,0,{"$f":"T281/1000*V281*X281*IF(IFERROR(SEARCH(\"Gas\",$A$14),0)>0,VLOOKUP(\"Gas\",HVACg_Lookup,MATCH($F$12,BuildingSize,0)+1,FALSE),IF(IFERROR(SEARCH(\"Oil\",$A$14),0)>0,VLOOKUP(\"Oil\",HVACg_Lookup,MATCH($F$12,BuildingSize,0)+1,FALSE),IF(IFERROR(SEARCH(\"Propane\",$A$14),0)>0,VLOOKUP(\"Propane\",HVACg_Lookup,MATCH(Worksheet!$F$12,BuildingSize,0)+1,FALSE),0)))","v":0},{"$f":"U281/1000*V281*X281*IF(IFERROR(SEARCH(\"Gas\",$A$14),0)>0,VLOOKUP(\"Gas\",HVACg_Lookup,MATCH($F$12,BuildingSize,0)+1,FALSE),IF(IFERROR(SEARCH(\"Oil\",$A$14),0)>0,VLOOKUP(\"Oil\",HVACg_Lookup,MATCH($F$12,BuildingSize,0)+1,FALSE),IF(IFERROR(SEARCH(\"Propane\",$A$14),0)>0,VLOOKUP(\"Propane\",HVACg_Lookup,MATCH(Worksheet!$F$12,BuildingSize,0)+1,FALSE),0)))","v":0},0,0,"",""]
[null,null,"",null,null,null,null,null,null,null,null,null,0,0,0,0,"",0,0,0,0,0,0,0,0,0,0,0,0,0,0,0,{"$f":"T282/1000*V282*X282*IF(IFERROR(SEARCH(\"Gas\",$A$14),0)>0,VLOOKUP(\"Gas\",HVACg_Lookup,MATCH($F$12,BuildingSize,0)+1,FALSE),IF(IFERROR(SEARCH(\"Oil\",$A$14),0)>0,VLOOKUP(\"Oil\",HVACg_Lookup,MATCH($F$12,BuildingSize,0)+1,FALSE),IF(IFERROR(SEARCH(\"Propane\",$A$14),0)>0,VLOOKUP(\"Propane\",HVACg_Lookup,MATCH(Worksheet!$F$12,BuildingSize,0)+1,FALSE),0)))","v":0},{"$f":"U282/1000*V282*X282*IF(IFERROR(SEARCH(\"Gas\",$A$14),0)>0,VLOOKUP(\"Gas\",HVACg_Lookup,MATCH($F$12,BuildingSize,0)+1,FALSE),IF(IFERROR(SEARCH(\"Oil\",$A$14),0)>0,VLOOKUP(\"Oil\",HVACg_Lookup,MATCH($F$12,BuildingSize,0)+1,FALSE),IF(IFERROR(SEARCH(\"Propane\",$A$14),0)>0,VLOOKUP(\"Propane\",HVACg_Lookup,MATCH(Worksheet!$F$12,BuildingSize,0)+1,FALSE),0)))","v":0},0,0,"",""]
[null,null,"",null,null,null,null,null,null,null,null,null,0,0,0,0,"",0,0,0,0,0,0,0,0,0,0,0,0,0,0,0,{"$f":"T283/1000*V283*X283*IF(IFERROR(SEARCH(\"Gas\",$A$14),0)>0,VLOOKUP(\"Gas\",HVACg_Lookup,MATCH($F$12,BuildingSize,0)+1,FALSE),IF(IFERROR(SEARCH(\"Oil\",$A$14),0)>0,VLOOKUP(\"Oil\",HVACg_Lookup,MATCH($F$12,BuildingSize,0)+1,FALSE),IF(IFERROR(SEARCH(\"Propane\",$A$14),0)>0,VLOOKUP(\"Propane\",HVACg_Lookup,MATCH(Worksheet!$F$12,BuildingSize,0)+1,FALSE),0)))","v":0},{"$f":"U283/1000*V283*X283*IF(IFERROR(SEARCH(\"Gas\",$A$14),0)>0,VLOOKUP(\"Gas\",HVACg_Lookup,MATCH($F$12,BuildingSize,0)+1,FALSE),IF(IFERROR(SEARCH(\"Oil\",$A$14),0)>0,VLOOKUP(\"Oil\",HVACg_Lookup,MATCH($F$12,BuildingSize,0)+1,FALSE),IF(IFERROR(SEARCH(\"Propane\",$A$14),0)>0,VLOOKUP(\"Propane\",HVACg_Lookup,MATCH(Worksheet!$F$12,BuildingSize,0)+1,FALSE),0)))","v":0},0,0,"",""]
[null,null,"",null,null,null,null,null,null,null,null,null,0,0,0,0,"",0,0,0,0,0,0,0,0,0,0,0,0,0,0,0,{"$f":"T284/1000*V284*X284*IF(IFERROR(SEARCH(\"Gas\",$A$14),0)>0,VLOOKUP(\"Gas\",HVACg_Lookup,MATCH($F$12,BuildingSize,0)+1,FALSE),IF(IFERROR(SEARCH(\"Oil\",$A$14),0)>0,VLOOKUP(\"Oil\",HVACg_Lookup,MATCH($F$12,BuildingSize,0)+1,FALSE),IF(IFERROR(SEARCH(\"Propane\",$A$14),0)>0,VLOOKUP(\"Propane\",HVACg_Lookup,MATCH(Worksheet!$F$12,BuildingSize,0)+1,FALSE),0)))","v":0},{"$f":"U284/1000*V284*X284*IF(IFERROR(SEARCH(\"Gas\",$A$14),0)>0,VLOOKUP(\"Gas\",HVACg_Lookup,MATCH($F$12,BuildingSize,0)+1,FALSE),IF(IFERROR(SEARCH(\"Oil\",$A$14),0)>0,VLOOKUP(\"Oil\",HVACg_Lookup,MATCH($F$12,BuildingSize,0)+1,FALSE),IF(IFERROR(SEARCH(\"Propane\",$A$14),0)>0,VLOOKUP(\"Propane\",HVACg_Lookup,MATCH(Worksheet!$F$12,BuildingSize,0)+1,FALSE),0)))","v":0},0,0,"",""]
[null,null,"",null,null,null,null,null,null,null,null,null,0,0,0,0,"",0,0,0,0,0,0,0,0,0,0,0,0,0,0,0,{"$f":"T285/1000*V285*X285*IF(IFERROR(SEARCH(\"Gas\",$A$14),0)>0,VLOOKUP(\"Gas\",HVACg_Lookup,MATCH($F$12,BuildingSize,0)+1,FALSE),IF(IFERROR(SEARCH(\"Oil\",$A$14),0)>0,VLOOKUP(\"Oil\",HVACg_Lookup,MATCH($F$12,BuildingSize,0)+1,FALSE),IF(IFERROR(SEARCH(\"Propane\",$A$14),0)>0,VLOOKUP(\"Propane\",HVACg_Lookup,MATCH(Worksheet!$F$12,BuildingSize,0)+1,FALSE),0)))","v":0},{"$f":"U285/1000*V285*X285*IF(IFERROR(SEARCH(\"Gas\",$A$14),0)>0,VLOOKUP(\"Gas\",HVACg_Lookup,MATCH($F$12,BuildingSize,0)+1,FALSE),IF(IFERROR(SEARCH(\"Oil\",$A$14),0)>0,VLOOKUP(\"Oil\",HVACg_Lookup,MATCH($F$12,BuildingSize,0)+1,FALSE),IF(IFERROR(SEARCH(\"Propane\",$A$14),0)>0,VLOOKUP(\"Propane\",HVACg_Lookup,MATCH(Worksheet!$F$12,BuildingSize,0)+1,FALSE),0)))","v":0},0,0,"",""]
[null,null,"",null,null,null,null,null,null,null,null,null,0,0,0,0,"",0,0,0,0,0,0,0,0,0,0,0,0,0,0,0,{"$f":"T286/1000*V286*X286*IF(IFERROR(SEARCH(\"Gas\",$A$14),0)>0,VLOOKUP(\"Gas\",HVACg_Lookup,MATCH($F$12,BuildingSize,0)+1,FALSE),IF(IFERROR(SEARCH(\"Oil\",$A$14),0)>0,VLOOKUP(\"Oil\",HVACg_Lookup,MATCH($F$12,BuildingSize,0)+1,FALSE),IF(IFERROR(SEARCH(\"Propane\",$A$14),0)>0,VLOOKUP(\"Propane\",HVACg_Lookup,MATCH(Worksheet!$F$12,BuildingSize,0)+1,FALSE),0)))","v":0},{"$f":"U286/1000*V286*X286*IF(IFERROR(SEARCH(\"Gas\",$A$14),0)>0,VLOOKUP(\"Gas\",HVACg_Lookup,MATCH($F$12,BuildingSize,0)+1,FALSE),IF(IFERROR(SEARCH(\"Oil\",$A$14),0)>0,VLOOKUP(\"Oil\",HVACg_Lookup,MATCH($F$12,BuildingSize,0)+1,FALSE),IF(IFERROR(SEARCH(\"Propane\",$A$14),0)>0,VLOOKUP(\"Propane\",HVACg_Lookup,MATCH(Worksheet!$F$12,BuildingSize,0)+1,FALSE),0)))","v":0},0,0,"",""]
[null,null,"",null,null,null,null,null,null,null,null,null,0,0,0,0,"",0,0,0,0,0,0,0,0,0,0,0,0,0,0,0,{"$f":"T287/1000*V287*X287*IF(IFERROR(SEARCH(\"Gas\",$A$14),0)>0,VLOOKUP(\"Gas\",HVACg_Lookup,MATCH($F$12,BuildingSize,0)+1,FALSE),IF(IFERROR(SEARCH(\"Oil\",$A$14),0)>0,VLOOKUP(\"Oil\",HVACg_Lookup,MATCH($F$12,BuildingSize,0)+1,FALSE),IF(IFERROR(SEARCH(\"Propane\",$A$14),0)>0,VLOOKUP(\"Propane\",HVACg_Lookup,MATCH(Worksheet!$F$12,BuildingSize,0)+1,FALSE),0)))","v":0},{"$f":"U287/1000*V287*X287*IF(IFERROR(SEARCH(\"Gas\",$A$14),0)>0,VLOOKUP(\"Gas\",HVACg_Lookup,MATCH($F$12,BuildingSize,0)+1,FALSE),IF(IFERROR(SEARCH(\"Oil\",$A$14),0)>0,VLOOKUP(\"Oil\",HVACg_Lookup,MATCH($F$12,BuildingSize,0)+1,FALSE),IF(IFERROR(SEARCH(\"Propane\",$A$14),0)>0,VLOOKUP(\"Propane\",HVACg_Lookup,MATCH(Worksheet!$F$12,BuildingSize,0)+1,FALSE),0)))","v":0},0,0,"",""]
[null,null,"",null,null,null,null,null,null,null,null,null,0,0,0,0,"",0,0,0,0,0,0,0,0,0,0,0,0,0,0,0,{"$f":"T288/1000*V288*X288*IF(IFERROR(SEARCH(\"Gas\",$A$14),0)>0,VLOOKUP(\"Gas\",HVACg_Lookup,MATCH($F$12,BuildingSize,0)+1,FALSE),IF(IFERROR(SEARCH(\"Oil\",$A$14),0)>0,VLOOKUP(\"Oil\",HVACg_Lookup,MATCH($F$12,BuildingSize,0)+1,FALSE),IF(IFERROR(SEARCH(\"Propane\",$A$14),0)>0,VLOOKUP(\"Propane\",HVACg_Lookup,MATCH(Worksheet!$F$12,BuildingSize,0)+1,FALSE),0)))","v":0},{"$f":"U288/1000*V288*X288*IF(IFERROR(SEARCH(\"Gas\",$A$14),0)>0,VLOOKUP(\"Gas\",HVACg_Lookup,MATCH($F$12,BuildingSize,0)+1,FALSE),IF(IFERROR(SEARCH(\"Oil\",$A$14),0)>0,VLOOKUP(\"Oil\",HVACg_Lookup,MATCH($F$12,BuildingSize,0)+1,FALSE),IF(IFERROR(SEARCH(\"Propane\",$A$14),0)>0,VLOOKUP(\"Propane\",HVACg_Lookup,MATCH(Worksheet!$F$12,BuildingSize,0)+1,FALSE),0)))","v":0},0,0,"",""]
[null,null,"",null,null,null,null,null,null,null,null,null,0,0,0,0,"",0,0,0,0,0,0,0,0,0,0,0,0,0,0,0,{"$f":"T289/1000*V289*X289*IF(IFERROR(SEARCH(\"Gas\",$A$14),0)>0,VLOOKUP(\"Gas\",HVACg_Lookup,MATCH($F$12,BuildingSize,0)+1,FALSE),IF(IFERROR(SEARCH(\"Oil\",$A$14),0)>0,VLOOKUP(\"Oil\",HVACg_Lookup,MATCH($F$12,BuildingSize,0)+1,FALSE),IF(IFERROR(SEARCH(\"Propane\",$A$14),0)>0,VLOOKUP(\"Propane\",HVACg_Lookup,MATCH(Worksheet!$F$12,BuildingSize,0)+1,FALSE),0)))","v":0},{"$f":"U289/1000*V289*X289*IF(IFERROR(SEARCH(\"Gas\",$A$14),0)>0,VLOOKUP(\"Gas\",HVACg_Lookup,MATCH($F$12,BuildingSize,0)+1,FALSE),IF(IFERROR(SEARCH(\"Oil\",$A$14),0)>0,VLOOKUP(\"Oil\",HVACg_Lookup,MATCH($F$12,BuildingSize,0)+1,FALSE),IF(IFERROR(SEARCH(\"Propane\",$A$14),0)>0,VLOOKUP(\"Propane\",HVACg_Lookup,MATCH(Worksheet!$F$12,BuildingSize,0)+1,FALSE),0)))","v":0},0,0,"",""]
[null,null,"",null,null,null,null,null,null,null,null,null,0,0,0,0,"",0,0,0,0,0,0,0,0,0,0,0,0,0,0,0,{"$f":"T290/1000*V290*X290*IF(IFERROR(SEARCH(\"Gas\",$A$14),0)>0,VLOOKUP(\"Gas\",HVACg_Lookup,MATCH($F$12,BuildingSize,0)+1,FALSE),IF(IFERROR(SEARCH(\"Oil\",$A$14),0)>0,VLOOKUP(\"Oil\",HVACg_Lookup,MATCH($F$12,BuildingSize,0)+1,FALSE),IF(IFERROR(SEARCH(\"Propane\",$A$14),0)>0,VLOOKUP(\"Propane\",HVACg_Lookup,MATCH(Worksheet!$F$12,BuildingSize,0)+1,FALSE),0)))","v":0},{"$f":"U290/1000*V290*X290*IF(IFERROR(SEARCH(\"Gas\",$A$14),0)>0,VLOOKUP(\"Gas\",HVACg_Lookup,MATCH($F$12,BuildingSize,0)+1,FALSE),IF(IFERROR(SEARCH(\"Oil\",$A$14),0)>0,VLOOKUP(\"Oil\",HVACg_Lookup,MATCH($F$12,BuildingSize,0)+1,FALSE),IF(IFERROR(SEARCH(\"Propane\",$A$14),0)>0,VLOOKUP(\"Propane\",HVACg_Lookup,MATCH(Worksheet!$F$12,BuildingSize,0)+1,FALSE),0)))","v":0},0,0,"",""]
[null,null,"",null,null,null,null,null,null,null,null,null,0,0,0,0,"",0,0,0,0,0,0,0,0,0,0,0,0,0,0,0,{"$f":"T291/1000*V291*X291*IF(IFERROR(SEARCH(\"Gas\",$A$14),0)>0,VLOOKUP(\"Gas\",HVACg_Lookup,MATCH($F$12,BuildingSize,0)+1,FALSE),IF(IFERROR(SEARCH(\"Oil\",$A$14),0)>0,VLOOKUP(\"Oil\",HVACg_Lookup,MATCH($F$12,BuildingSize,0)+1,FALSE),IF(IFERROR(SEARCH(\"Propane\",$A$14),0)>0,VLOOKUP(\"Propane\",HVACg_Lookup,MATCH(Worksheet!$F$12,BuildingSize,0)+1,FALSE),0)))","v":0},{"$f":"U291/1000*V291*X291*IF(IFERROR(SEARCH(\"Gas\",$A$14),0)>0,VLOOKUP(\"Gas\",HVACg_Lookup,MATCH($F$12,BuildingSize,0)+1,FALSE),IF(IFERROR(SEARCH(\"Oil\",$A$14),0)>0,VLOOKUP(\"Oil\",HVACg_Lookup,MATCH($F$12,BuildingSize,0)+1,FALSE),IF(IFERROR(SEARCH(\"Propane\",$A$14),0)>0,VLOOKUP(\"Propane\",HVACg_Lookup,MATCH(Worksheet!$F$12,BuildingSize,0)+1,FALSE),0)))","v":0},0,0,"",""]
[null,null,"",null,null,null,null,null,null,null,null,null,0,0,0,0,"",0,0,0,0,0,0,0,0,0,0,0,0,0,0,0,{"$f":"T292/1000*V292*X292*IF(IFERROR(SEARCH(\"Gas\",$A$14),0)>0,VLOOKUP(\"Gas\",HVACg_Lookup,MATCH($F$12,BuildingSize,0)+1,FALSE),IF(IFERROR(SEARCH(\"Oil\",$A$14),0)>0,VLOOKUP(\"Oil\",HVACg_Lookup,MATCH($F$12,BuildingSize,0)+1,FALSE),IF(IFERROR(SEARCH(\"Propane\",$A$14),0)>0,VLOOKUP(\"Propane\",HVACg_Lookup,MATCH(Worksheet!$F$12,BuildingSize,0)+1,FALSE),0)))","v":0},{"$f":"U292/1000*V292*X292*IF(IFERROR(SEARCH(\"Gas\",$A$14),0)>0,VLOOKUP(\"Gas\",HVACg_Lookup,MATCH($F$12,BuildingSize,0)+1,FALSE),IF(IFERROR(SEARCH(\"Oil\",$A$14),0)>0,VLOOKUP(\"Oil\",HVACg_Lookup,MATCH($F$12,BuildingSize,0)+1,FALSE),IF(IFERROR(SEARCH(\"Propane\",$A$14),0)>0,VLOOKUP(\"Propane\",HVACg_Lookup,MATCH(Worksheet!$F$12,BuildingSize,0)+1,FALSE),0)))","v":0},0,0,"",""]
[null,null,"",null,null,null,null,null,null,null,null,null,0,0,0,0,"",0,0,0,0,0,0,0,0,0,0,0,0,0,0,0,{"$f":"T293/1000*V293*X293*IF(IFERROR(SEARCH(\"Gas\",$A$14),0)>0,VLOOKUP(\"Gas\",HVACg_Lookup,MATCH($F$12,BuildingSize,0)+1,FALSE),IF(IFERROR(SEARCH(\"Oil\",$A$14),0)>0,VLOOKUP(\"Oil\",HVACg_Lookup,MATCH($F$12,BuildingSize,0)+1,FALSE),IF(IFERROR(SEARCH(\"Propane\",$A$14),0)>0,VLOOKUP(\"Propane\",HVACg_Lookup,MATCH(Worksheet!$F$12,BuildingSize,0)+1,FALSE),0)))","v":0},{"$f":"U293/1000*V293*X293*IF(IFERROR(SEARCH(\"Gas\",$A$14),0)>0,VLOOKUP(\"Gas\",HVACg_Lookup,MATCH($F$12,BuildingSize,0)+1,FALSE),IF(IFERROR(SEARCH(\"Oil\",$A$14),0)>0,VLOOKUP(\"Oil\",HVACg_Lookup,MATCH($F$12,BuildingSize,0)+1,FALSE),IF(IFERROR(SEARCH(\"Propane\",$A$14),0)>0,VLOOKUP(\"Propane\",HVACg_Lookup,MATCH(Worksheet!$F$12,BuildingSize,0)+1,FALSE),0)))","v":0},0,0,"",""]
[null,null,"",null,null,null,null,null,null,null,null,null,0,0,0,0,"",0,0,0,0,0,0,0,0,0,0,0,0,0,0,0,{"$f":"T294/1000*V294*X294*IF(IFERROR(SEARCH(\"Gas\",$A$14),0)>0,VLOOKUP(\"Gas\",HVACg_Lookup,MATCH($F$12,BuildingSize,0)+1,FALSE),IF(IFERROR(SEARCH(\"Oil\",$A$14),0)>0,VLOOKUP(\"Oil\",HVACg_Lookup,MATCH($F$12,BuildingSize,0)+1,FALSE),IF(IFERROR(SEARCH(\"Propane\",$A$14),0)>0,VLOOKUP(\"Propane\",HVACg_Lookup,MATCH(Worksheet!$F$12,BuildingSize,0)+1,FALSE),0)))","v":0},{"$f":"U294/1000*V294*X294*IF(IFERROR(SEARCH(\"Gas\",$A$14),0)>0,VLOOKUP(\"Gas\",HVACg_Lookup,MATCH($F$12,BuildingSize,0)+1,FALSE),IF(IFERROR(SEARCH(\"Oil\",$A$14),0)>0,VLOOKUP(\"Oil\",HVACg_Lookup,MATCH($F$12,BuildingSize,0)+1,FALSE),IF(IFERROR(SEARCH(\"Propane\",$A$14),0)>0,VLOOKUP(\"Propane\",HVACg_Lookup,MATCH(Worksheet!$F$12,BuildingSize,0)+1,FALSE),0)))","v":0},0,0,"",""]
[null,null,"",null,null,null,null,null,null,null,null,null,0,0,0,0,"",0,0,0,0,0,0,0,0,0,0,0,0,0,0,0,{"$f":"T295/1000*V295*X295*IF(IFERROR(SEARCH(\"Gas\",$A$14),0)>0,VLOOKUP(\"Gas\",HVACg_Lookup,MATCH($F$12,BuildingSize,0)+1,FALSE),IF(IFERROR(SEARCH(\"Oil\",$A$14),0)>0,VLOOKUP(\"Oil\",HVACg_Lookup,MATCH($F$12,BuildingSize,0)+1,FALSE),IF(IFERROR(SEARCH(\"Propane\",$A$14),0)>0,VLOOKUP(\"Propane\",HVACg_Lookup,MATCH(Worksheet!$F$12,BuildingSize,0)+1,FALSE),0)))","v":0},{"$f":"U295/1000*V295*X295*IF(IFERROR(SEARCH(\"Gas\",$A$14),0)>0,VLOOKUP(\"Gas\",HVACg_Lookup,MATCH($F$12,BuildingSize,0)+1,FALSE),IF(IFERROR(SEARCH(\"Oil\",$A$14),0)>0,VLOOKUP(\"Oil\",HVACg_Lookup,MATCH($F$12,BuildingSize,0)+1,FALSE),IF(IFERROR(SEARCH(\"Propane\",$A$14),0)>0,VLOOKUP(\"Propane\",HVACg_Lookup,MATCH(Worksheet!$F$12,BuildingSize,0)+1,FALSE),0)))","v":0},0,0,"",""]
[null,null,"",null,null,null,null,null,null,null,null,null,0,0,0,0,"",0,0,0,0,0,0,0,0,0,0,0,0,0,0,0,{"$f":"T296/1000*V296*X296*IF(IFERROR(SEARCH(\"Gas\",$A$14),0)>0,VLOOKUP(\"Gas\",HVACg_Lookup,MATCH($F$12,BuildingSize,0)+1,FALSE),IF(IFERROR(SEARCH(\"Oil\",$A$14),0)>0,VLOOKUP(\"Oil\",HVACg_Lookup,MATCH($F$12,BuildingSize,0)+1,FALSE),IF(IFERROR(SEARCH(\"Propane\",$A$14),0)>0,VLOOKUP(\"Propane\",HVACg_Lookup,MATCH(Worksheet!$F$12,BuildingSize,0)+1,FALSE),0)))","v":0},{"$f":"U296/1000*V296*X296*IF(IFERROR(SEARCH(\"Gas\",$A$14),0)>0,VLOOKUP(\"Gas\",HVACg_Lookup,MATCH($F$12,BuildingSize,0)+1,FALSE),IF(IFERROR(SEARCH(\"Oil\",$A$14),0)>0,VLOOKUP(\"Oil\",HVACg_Lookup,MATCH($F$12,BuildingSize,0)+1,FALSE),IF(IFERROR(SEARCH(\"Propane\",$A$14),0)>0,VLOOKUP(\"Propane\",HVACg_Lookup,MATCH(Worksheet!$F$12,BuildingSize,0)+1,FALSE),0)))","v":0},0,0,"",""]
[null,null,"",null,null,null,null,null,null,null,null,null,0,0,0,0,"",0,0,0,0,0,0,0,0,0,0,0,0,0,0,0,{"$f":"T297/1000*V297*X297*IF(IFERROR(SEARCH(\"Gas\",$A$14),0)>0,VLOOKUP(\"Gas\",HVACg_Lookup,MATCH($F$12,BuildingSize,0)+1,FALSE),IF(IFERROR(SEARCH(\"Oil\",$A$14),0)>0,VLOOKUP(\"Oil\",HVACg_Lookup,MATCH($F$12,BuildingSize,0)+1,FALSE),IF(IFERROR(SEARCH(\"Propane\",$A$14),0)>0,VLOOKUP(\"Propane\",HVACg_Lookup,MATCH(Worksheet!$F$12,BuildingSize,0)+1,FALSE),0)))","v":0},{"$f":"U297/1000*V297*X297*IF(IFERROR(SEARCH(\"Gas\",$A$14),0)>0,VLOOKUP(\"Gas\",HVACg_Lookup,MATCH($F$12,BuildingSize,0)+1,FALSE),IF(IFERROR(SEARCH(\"Oil\",$A$14),0)>0,VLOOKUP(\"Oil\",HVACg_Lookup,MATCH($F$12,BuildingSize,0)+1,FALSE),IF(IFERROR(SEARCH(\"Propane\",$A$14),0)>0,VLOOKUP(\"Propane\",HVACg_Lookup,MATCH(Worksheet!$F$12,BuildingSize,0)+1,FALSE),0)))","v":0},0,0,"",""]
[null,null,"",null,null,null,null,null,null,null,null,null,0,0,0,0,"",0,0,0,0,0,0,0,0,0,0,0,0,0,0,0,{"$f":"T298/1000*V298*X298*IF(IFERROR(SEARCH(\"Gas\",$A$14),0)>0,VLOOKUP(\"Gas\",HVACg_Lookup,MATCH($F$12,BuildingSize,0)+1,FALSE),IF(IFERROR(SEARCH(\"Oil\",$A$14),0)>0,VLOOKUP(\"Oil\",HVACg_Lookup,MATCH($F$12,BuildingSize,0)+1,FALSE),IF(IFERROR(SEARCH(\"Propane\",$A$14),0)>0,VLOOKUP(\"Propane\",HVACg_Lookup,MATCH(Worksheet!$F$12,BuildingSize,0)+1,FALSE),0)))","v":0},{"$f":"U298/1000*V298*X298*IF(IFERROR(SEARCH(\"Gas\",$A$14),0)>0,VLOOKUP(\"Gas\",HVACg_Lookup,MATCH($F$12,BuildingSize,0)+1,FALSE),IF(IFERROR(SEARCH(\"Oil\",$A$14),0)>0,VLOOKUP(\"Oil\",HVACg_Lookup,MATCH($F$12,BuildingSize,0)+1,FALSE),IF(IFERROR(SEARCH(\"Propane\",$A$14),0)>0,VLOOKUP(\"Propane\",HVACg_Lookup,MATCH(Worksheet!$F$12,BuildingSize,0)+1,FALSE),0)))","v":0},0,0,"",""]
[null,null,"",null,null,null,null,null,null,null,null,null,0,0,0,0,"",0,0,0,0,0,0,0,0,0,0,0,0,0,0,0,{"$f":"T299/1000*V299*X299*IF(IFERROR(SEARCH(\"Gas\",$A$14),0)>0,VLOOKUP(\"Gas\",HVACg_Lookup,MATCH($F$12,BuildingSize,0)+1,FALSE),IF(IFERROR(SEARCH(\"Oil\",$A$14),0)>0,VLOOKUP(\"Oil\",HVACg_Lookup,MATCH($F$12,BuildingSize,0)+1,FALSE),IF(IFERROR(SEARCH(\"Propane\",$A$14),0)>0,VLOOKUP(\"Propane\",HVACg_Lookup,MATCH(Worksheet!$F$12,BuildingSize,0)+1,FALSE),0)))","v":0},{"$f":"U299/1000*V299*X299*IF(IFERROR(SEARCH(\"Gas\",$A$14),0)>0,VLOOKUP(\"Gas\",HVACg_Lookup,MATCH($F$12,BuildingSize,0)+1,FALSE),IF(IFERROR(SEARCH(\"Oil\",$A$14),0)>0,VLOOKUP(\"Oil\",HVACg_Lookup,MATCH($F$12,BuildingSize,0)+1,FALSE),IF(IFERROR(SEARCH(\"Propane\",$A$14),0)>0,VLOOKUP(\"Propane\",HVACg_Lookup,MATCH(Worksheet!$F$12,BuildingSize,0)+1,FALSE),0)))","v":0},0,0,"",""]
[null,null,"",null,null,null,null,null,null,null,null,null,0,0,0,0,"",0,0,0,0,0,0,0,0,0,0,0,0,0,0,0,{"$f":"T300/1000*V300*X300*IF(IFERROR(SEARCH(\"Gas\",$A$14),0)>0,VLOOKUP(\"Gas\",HVACg_Lookup,MATCH($F$12,BuildingSize,0)+1,FALSE),IF(IFERROR(SEARCH(\"Oil\",$A$14),0)>0,VLOOKUP(\"Oil\",HVACg_Lookup,MATCH($F$12,BuildingSize,0)+1,FALSE),IF(IFERROR(SEARCH(\"Propane\",$A$14),0)>0,VLOOKUP(\"Propane\",HVACg_Lookup,MATCH(Worksheet!$F$12,BuildingSize,0)+1,FALSE),0)))","v":0},{"$f":"U300/1000*V300*X300*IF(IFERROR(SEARCH(\"Gas\",$A$14),0)>0,VLOOKUP(\"Gas\",HVACg_Lookup,MATCH($F$12,BuildingSize,0)+1,FALSE),IF(IFERROR(SEARCH(\"Oil\",$A$14),0)>0,VLOOKUP(\"Oil\",HVACg_Lookup,MATCH($F$12,BuildingSize,0)+1,FALSE),IF(IFERROR(SEARCH(\"Propane\",$A$14),0)>0,VLOOKUP(\"Propane\",HVACg_Lookup,MATCH(Worksheet!$F$12,BuildingSize,0)+1,FALSE),0)))","v":0},0,0,"",""]
[null,null,"",null,null,null,null,null,null,null,null,null,0,0,0,0,"",0,0,0,0,0,0,0,0,0,0,0,0,0,0,0,{"$f":"T301/1000*V301*X301*IF(IFERROR(SEARCH(\"Gas\",$A$14),0)>0,VLOOKUP(\"Gas\",HVACg_Lookup,MATCH($F$12,BuildingSize,0)+1,FALSE),IF(IFERROR(SEARCH(\"Oil\",$A$14),0)>0,VLOOKUP(\"Oil\",HVACg_Lookup,MATCH($F$12,BuildingSize,0)+1,FALSE),IF(IFERROR(SEARCH(\"Propane\",$A$14),0)>0,VLOOKUP(\"Propane\",HVACg_Lookup,MATCH(Worksheet!$F$12,BuildingSize,0)+1,FALSE),0)))","v":0},{"$f":"U301/1000*V301*X301*IF(IFERROR(SEARCH(\"Gas\",$A$14),0)>0,VLOOKUP(\"Gas\",HVACg_Lookup,MATCH($F$12,BuildingSize,0)+1,FALSE),IF(IFERROR(SEARCH(\"Oil\",$A$14),0)>0,VLOOKUP(\"Oil\",HVACg_Lookup,MATCH($F$12,BuildingSize,0)+1,FALSE),IF(IFERROR(SEARCH(\"Propane\",$A$14),0)>0,VLOOKUP(\"Propane\",HVACg_Lookup,MATCH(Worksheet!$F$12,BuildingSize,0)+1,FALSE),0)))","v":0},0,0,"",""]
[null,null,"",null,null,null,null,null,null,null,null,null,0,0,0,0,"",0,0,0,0,0,0,0,0,0,0,0,0,0,0,0,{"$f":"T302/1000*V302*X302*IF(IFERROR(SEARCH(\"Gas\",$A$14),0)>0,VLOOKUP(\"Gas\",HVACg_Lookup,MATCH($F$12,BuildingSize,0)+1,FALSE),IF(IFERROR(SEARCH(\"Oil\",$A$14),0)>0,VLOOKUP(\"Oil\",HVACg_Lookup,MATCH($F$12,BuildingSize,0)+1,FALSE),IF(IFERROR(SEARCH(\"Propane\",$A$14),0)>0,VLOOKUP(\"Propane\",HVACg_Lookup,MATCH(Worksheet!$F$12,BuildingSize,0)+1,FALSE),0)))","v":0},{"$f":"U302/1000*V302*X302*IF(IFERROR(SEARCH(\"Gas\",$A$14),0)>0,VLOOKUP(\"Gas\",HVACg_Lookup,MATCH($F$12,BuildingSize,0)+1,FALSE),IF(IFERROR(SEARCH(\"Oil\",$A$14),0)>0,VLOOKUP(\"Oil\",HVACg_Lookup,MATCH($F$12,BuildingSize,0)+1,FALSE),IF(IFERROR(SEARCH(\"Propane\",$A$14),0)>0,VLOOKUP(\"Propane\",HVACg_Lookup,MATCH(Worksheet!$F$12,BuildingSize,0)+1,FALSE),0)))","v":0},0,0,"",""]
[null,null,"",null,null,null,null,null,null,null,null,null,0,0,0,0,"",0,0,0,0,0,0,0,0,0,0,0,0,0,0,0,{"$f":"T303/1000*V303*X303*IF(IFERROR(SEARCH(\"Gas\",$A$14),0)>0,VLOOKUP(\"Gas\",HVACg_Lookup,MATCH($F$12,BuildingSize,0)+1,FALSE),IF(IFERROR(SEARCH(\"Oil\",$A$14),0)>0,VLOOKUP(\"Oil\",HVACg_Lookup,MATCH($F$12,BuildingSize,0)+1,FALSE),IF(IFERROR(SEARCH(\"Propane\",$A$14),0)>0,VLOOKUP(\"Propane\",HVACg_Lookup,MATCH(Worksheet!$F$12,BuildingSize,0)+1,FALSE),0)))","v":0},{"$f":"U303/1000*V303*X303*IF(IFERROR(SEARCH(\"Gas\",$A$14),0)>0,VLOOKUP(\"Gas\",HVACg_Lookup,MATCH($F$12,BuildingSize,0)+1,FALSE),IF(IFERROR(SEARCH(\"Oil\",$A$14),0)>0,VLOOKUP(\"Oil\",HVACg_Lookup,MATCH($F$12,BuildingSize,0)+1,FALSE),IF(IFERROR(SEARCH(\"Propane\",$A$14),0)>0,VLOOKUP(\"Propane\",HVACg_Lookup,MATCH(Worksheet!$F$12,BuildingSize,0)+1,FALSE),0)))","v":0},0,0,"",""]
[null,null,"",null,null,null,null,null,null,null,null,null,0,0,0,0,"",0,0,0,0,0,0,0,0,0,0,0,0,0,0,0,{"$f":"T304/1000*V304*X304*IF(IFERROR(SEARCH(\"Gas\",$A$14),0)>0,VLOOKUP(\"Gas\",HVACg_Lookup,MATCH($F$12,BuildingSize,0)+1,FALSE),IF(IFERROR(SEARCH(\"Oil\",$A$14),0)>0,VLOOKUP(\"Oil\",HVACg_Lookup,MATCH($F$12,BuildingSize,0)+1,FALSE),IF(IFERROR(SEARCH(\"Propane\",$A$14),0)>0,VLOOKUP(\"Propane\",HVACg_Lookup,MATCH(Worksheet!$F$12,BuildingSize,0)+1,FALSE),0)))","v":0},{"$f":"U304/1000*V304*X304*IF(IFERROR(SEARCH(\"Gas\",$A$14),0)>0,VLOOKUP(\"Gas\",HVACg_Lookup,MATCH($F$12,BuildingSize,0)+1,FALSE),IF(IFERROR(SEARCH(\"Oil\",$A$14),0)>0,VLOOKUP(\"Oil\",HVACg_Lookup,MATCH($F$12,BuildingSize,0)+1,FALSE),IF(IFERROR(SEARCH(\"Propane\",$A$14),0)>0,VLOOKUP(\"Propane\",HVACg_Lookup,MATCH(Worksheet!$F$12,BuildingSize,0)+1,FALSE),0)))","v":0},0,0,"",""]
[null,null,"",null,null,null,null,null,null,null,null,null,0,0,0,0,"",0,0,0,0,0,0,0,0,0,0,0,0,0,0,0,{"$f":"T305/1000*V305*X305*IF(IFERROR(SEARCH(\"Gas\",$A$14),0)>0,VLOOKUP(\"Gas\",HVACg_Lookup,MATCH($F$12,BuildingSize,0)+1,FALSE),IF(IFERROR(SEARCH(\"Oil\",$A$14),0)>0,VLOOKUP(\"Oil\",HVACg_Lookup,MATCH($F$12,BuildingSize,0)+1,FALSE),IF(IFERROR(SEARCH(\"Propane\",$A$14),0)>0,VLOOKUP(\"Propane\",HVACg_Lookup,MATCH(Worksheet!$F$12,BuildingSize,0)+1,FALSE),0)))","v":0},{"$f":"U305/1000*V305*X305*IF(IFERROR(SEARCH(\"Gas\",$A$14),0)>0,VLOOKUP(\"Gas\",HVACg_Lookup,MATCH($F$12,BuildingSize,0)+1,FALSE),IF(IFERROR(SEARCH(\"Oil\",$A$14),0)>0,VLOOKUP(\"Oil\",HVACg_Lookup,MATCH($F$12,BuildingSize,0)+1,FALSE),IF(IFERROR(SEARCH(\"Propane\",$A$14),0)>0,VLOOKUP(\"Propane\",HVACg_Lookup,MATCH(Worksheet!$F$12,BuildingSize,0)+1,FALSE),0)))","v":0},0,0,"",""]
[null,null,"",null,null,null,null,null,null,null,null,null,0,0,0,0,"",0,0,0,0,0,0,0,0,0,0,0,0,0,0,0,{"$f":"T306/1000*V306*X306*IF(IFERROR(SEARCH(\"Gas\",$A$14),0)>0,VLOOKUP(\"Gas\",HVACg_Lookup,MATCH($F$12,BuildingSize,0)+1,FALSE),IF(IFERROR(SEARCH(\"Oil\",$A$14),0)>0,VLOOKUP(\"Oil\",HVACg_Lookup,MATCH($F$12,BuildingSize,0)+1,FALSE),IF(IFERROR(SEARCH(\"Propane\",$A$14),0)>0,VLOOKUP(\"Propane\",HVACg_Lookup,MATCH(Worksheet!$F$12,BuildingSize,0)+1,FALSE),0)))","v":0},{"$f":"U306/1000*V306*X306*IF(IFERROR(SEARCH(\"Gas\",$A$14),0)>0,VLOOKUP(\"Gas\",HVACg_Lookup,MATCH($F$12,BuildingSize,0)+1,FALSE),IF(IFERROR(SEARCH(\"Oil\",$A$14),0)>0,VLOOKUP(\"Oil\",HVACg_Lookup,MATCH($F$12,BuildingSize,0)+1,FALSE),IF(IFERROR(SEARCH(\"Propane\",$A$14),0)>0,VLOOKUP(\"Propane\",HVACg_Lookup,MATCH(Worksheet!$F$12,BuildingSize,0)+1,FALSE),0)))","v":0},0,0,"",""]
[null,null,"",null,null,null,null,null,null,null,null,null,0,0,0,0,"",0,0,0,0,0,0,0,0,0,0,0,0,0,0,0,{"$f":"T307/1000*V307*X307*IF(IFERROR(SEARCH(\"Gas\",$A$14),0)>0,VLOOKUP(\"Gas\",HVACg_Lookup,MATCH($F$12,BuildingSize,0)+1,FALSE),IF(IFERROR(SEARCH(\"Oil\",$A$14),0)>0,VLOOKUP(\"Oil\",HVACg_Lookup,MATCH($F$12,BuildingSize,0)+1,FALSE),IF(IFERROR(SEARCH(\"Propane\",$A$14),0)>0,VLOOKUP(\"Propane\",HVACg_Lookup,MATCH(Worksheet!$F$12,BuildingSize,0)+1,FALSE),0)))","v":0},{"$f":"U307/1000*V307*X307*IF(IFERROR(SEARCH(\"Gas\",$A$14),0)>0,VLOOKUP(\"Gas\",HVACg_Lookup,MATCH($F$12,BuildingSize,0)+1,FALSE),IF(IFERROR(SEARCH(\"Oil\",$A$14),0)>0,VLOOKUP(\"Oil\",HVACg_Lookup,MATCH($F$12,BuildingSize,0)+1,FALSE),IF(IFERROR(SEARCH(\"Propane\",$A$14),0)>0,VLOOKUP(\"Propane\",HVACg_Lookup,MATCH(Worksheet!$F$12,BuildingSize,0)+1,FALSE),0)))","v":0},0,0,"",""]
[null,null,"",null,null,null,null,null,null,null,null,null,0,0,0,0,"",0,0,0,0,0,0,0,0,0,0,0,0,0,0,0,{"$f":"T308/1000*V308*X308*IF(IFERROR(SEARCH(\"Gas\",$A$14),0)>0,VLOOKUP(\"Gas\",HVACg_Lookup,MATCH($F$12,BuildingSize,0)+1,FALSE),IF(IFERROR(SEARCH(\"Oil\",$A$14),0)>0,VLOOKUP(\"Oil\",HVACg_Lookup,MATCH($F$12,BuildingSize,0)+1,FALSE),IF(IFERROR(SEARCH(\"Propane\",$A$14),0)>0,VLOOKUP(\"Propane\",HVACg_Lookup,MATCH(Worksheet!$F$12,BuildingSize,0)+1,FALSE),0)))","v":0},{"$f":"U308/1000*V308*X308*IF(IFERROR(SEARCH(\"Gas\",$A$14),0)>0,VLOOKUP(\"Gas\",HVACg_Lookup,MATCH($F$12,BuildingSize,0)+1,FALSE),IF(IFERROR(SEARCH(\"Oil\",$A$14),0)>0,VLOOKUP(\"Oil\",HVACg_Lookup,MATCH($F$12,BuildingSize,0)+1,FALSE),IF(IFERROR(SEARCH(\"Propane\",$A$14),0)>0,VLOOKUP(\"Propane\",HVACg_Lookup,MATCH(Worksheet!$F$12,BuildingSize,0)+1,FALSE),0)))","v":0},0,0,"",""]
[null,null,"",null,null,null,null,null,null,null,null,null,0,0,0,0,"",0,0,0,0,0,0,0,0,0,0,0,0,0,0,0,{"$f":"T309/1000*V309*X309*IF(IFERROR(SEARCH(\"Gas\",$A$14),0)>0,VLOOKUP(\"Gas\",HVACg_Lookup,MATCH($F$12,BuildingSize,0)+1,FALSE),IF(IFERROR(SEARCH(\"Oil\",$A$14),0)>0,VLOOKUP(\"Oil\",HVACg_Lookup,MATCH($F$12,BuildingSize,0)+1,FALSE),IF(IFERROR(SEARCH(\"Propane\",$A$14),0)>0,VLOOKUP(\"Propane\",HVACg_Lookup,MATCH(Worksheet!$F$12,BuildingSize,0)+1,FALSE),0)))","v":0},{"$f":"U309/1000*V309*X309*IF(IFERROR(SEARCH(\"Gas\",$A$14),0)>0,VLOOKUP(\"Gas\",HVACg_Lookup,MATCH($F$12,BuildingSize,0)+1,FALSE),IF(IFERROR(SEARCH(\"Oil\",$A$14),0)>0,VLOOKUP(\"Oil\",HVACg_Lookup,MATCH($F$12,BuildingSize,0)+1,FALSE),IF(IFERROR(SEARCH(\"Propane\",$A$14),0)>0,VLOOKUP(\"Propane\",HVACg_Lookup,MATCH(Worksheet!$F$12,BuildingSize,0)+1,FALSE),0)))","v":0},0,0,"",""]
[null,null,"",null,null,null,null,null,null,null,null,null,0,0,0,0,"",0,0,0,0,0,0,0,0,0,0,0,0,0,0,0,{"$f":"T310/1000*V310*X310*IF(IFERROR(SEARCH(\"Gas\",$A$14),0)>0,VLOOKUP(\"Gas\",HVACg_Lookup,MATCH($F$12,BuildingSize,0)+1,FALSE),IF(IFERROR(SEARCH(\"Oil\",$A$14),0)>0,VLOOKUP(\"Oil\",HVACg_Lookup,MATCH($F$12,BuildingSize,0)+1,FALSE),IF(IFERROR(SEARCH(\"Propane\",$A$14),0)>0,VLOOKUP(\"Propane\",HVACg_Lookup,MATCH(Worksheet!$F$12,BuildingSize,0)+1,FALSE),0)))","v":0},{"$f":"U310/1000*V310*X310*IF(IFERROR(SEARCH(\"Gas\",$A$14),0)>0,VLOOKUP(\"Gas\",HVACg_Lookup,MATCH($F$12,BuildingSize,0)+1,FALSE),IF(IFERROR(SEARCH(\"Oil\",$A$14),0)>0,VLOOKUP(\"Oil\",HVACg_Lookup,MATCH($F$12,BuildingSize,0)+1,FALSE),IF(IFERROR(SEARCH(\"Propane\",$A$14),0)>0,VLOOKUP(\"Propane\",HVACg_Lookup,MATCH(Worksheet!$F$12,BuildingSize,0)+1,FALSE),0)))","v":0},0,0,"",""]
[null,null,"",null,null,null,null,null,null,null,null,null,0,0,0,0,"",0,0,0,0,0,0,0,0,0,0,0,0,0,0,0,{"$f":"T311/1000*V311*X311*IF(IFERROR(SEARCH(\"Gas\",$A$14),0)>0,VLOOKUP(\"Gas\",HVACg_Lookup,MATCH($F$12,BuildingSize,0)+1,FALSE),IF(IFERROR(SEARCH(\"Oil\",$A$14),0)>0,VLOOKUP(\"Oil\",HVACg_Lookup,MATCH($F$12,BuildingSize,0)+1,FALSE),IF(IFERROR(SEARCH(\"Propane\",$A$14),0)>0,VLOOKUP(\"Propane\",HVACg_Lookup,MATCH(Worksheet!$F$12,BuildingSize,0)+1,FALSE),0)))","v":0},{"$f":"U311/1000*V311*X311*IF(IFERROR(SEARCH(\"Gas\",$A$14),0)>0,VLOOKUP(\"Gas\",HVACg_Lookup,MATCH($F$12,BuildingSize,0)+1,FALSE),IF(IFERROR(SEARCH(\"Oil\",$A$14),0)>0,VLOOKUP(\"Oil\",HVACg_Lookup,MATCH($F$12,BuildingSize,0)+1,FALSE),IF(IFERROR(SEARCH(\"Propane\",$A$14),0)>0,VLOOKUP(\"Propane\",HVACg_Lookup,MATCH(Worksheet!$F$12,BuildingSize,0)+1,FALSE),0)))","v":0},0,0,"",""]
[null,null,"",null,null,null,null,null,null,null,null,null,0,0,0,0,"",0,0,0,0,0,0,0,0,0,0,0,0,0,0,0,{"$f":"T312/1000*V312*X312*IF(IFERROR(SEARCH(\"Gas\",$A$14),0)>0,VLOOKUP(\"Gas\",HVACg_Lookup,MATCH($F$12,BuildingSize,0)+1,FALSE),IF(IFERROR(SEARCH(\"Oil\",$A$14),0)>0,VLOOKUP(\"Oil\",HVACg_Lookup,MATCH($F$12,BuildingSize,0)+1,FALSE),IF(IFERROR(SEARCH(\"Propane\",$A$14),0)>0,VLOOKUP(\"Propane\",HVACg_Lookup,MATCH(Worksheet!$F$12,BuildingSize,0)+1,FALSE),0)))","v":0},{"$f":"U312/1000*V312*X312*IF(IFERROR(SEARCH(\"Gas\",$A$14),0)>0,VLOOKUP(\"Gas\",HVACg_Lookup,MATCH($F$12,BuildingSize,0)+1,FALSE),IF(IFERROR(SEARCH(\"Oil\",$A$14),0)>0,VLOOKUP(\"Oil\",HVACg_Lookup,MATCH($F$12,BuildingSize,0)+1,FALSE),IF(IFERROR(SEARCH(\"Propane\",$A$14),0)>0,VLOOKUP(\"Propane\",HVACg_Lookup,MATCH(Worksheet!$F$12,BuildingSize,0)+1,FALSE),0)))","v":0},0,0,"",""]
[null,null,"",null,null,null,null,null,null,null,null,null,0,0,0,0,"",0,0,0,0,0,0,0,0,0,0,0,0,0,0,0,{"$f":"T313/1000*V313*X313*IF(IFERROR(SEARCH(\"Gas\",$A$14),0)>0,VLOOKUP(\"Gas\",HVACg_Lookup,MATCH($F$12,BuildingSize,0)+1,FALSE),IF(IFERROR(SEARCH(\"Oil\",$A$14),0)>0,VLOOKUP(\"Oil\",HVACg_Lookup,MATCH($F$12,BuildingSize,0)+1,FALSE),IF(IFERROR(SEARCH(\"Propane\",$A$14),0)>0,VLOOKUP(\"Propane\",HVACg_Lookup,MATCH(Worksheet!$F$12,BuildingSize,0)+1,FALSE),0)))","v":0},{"$f":"U313/1000*V313*X313*IF(IFERROR(SEARCH(\"Gas\",$A$14),0)>0,VLOOKUP(\"Gas\",HVACg_Lookup,MATCH($F$12,BuildingSize,0)+1,FALSE),IF(IFERROR(SEARCH(\"Oil\",$A$14),0)>0,VLOOKUP(\"Oil\",HVACg_Lookup,MATCH($F$12,BuildingSize,0)+1,FALSE),IF(IFERROR(SEARCH(\"Propane\",$A$14),0)>0,VLOOKUP(\"Propane\",HVACg_Lookup,MATCH(Worksheet!$F$12,BuildingSize,0)+1,FALSE),0)))","v":0},0,0,"",""]
[null,null,"",null,null,null,null,null,null,null,null,null,0,0,0,0,"",0,0,0,0,0,0,0,0,0,0,0,0,0,0,0,{"$f":"T314/1000*V314*X314*IF(IFERROR(SEARCH(\"Gas\",$A$14),0)>0,VLOOKUP(\"Gas\",HVACg_Lookup,MATCH($F$12,BuildingSize,0)+1,FALSE),IF(IFERROR(SEARCH(\"Oil\",$A$14),0)>0,VLOOKUP(\"Oil\",HVACg_Lookup,MATCH($F$12,BuildingSize,0)+1,FALSE),IF(IFERROR(SEARCH(\"Propane\",$A$14),0)>0,VLOOKUP(\"Propane\",HVACg_Lookup,MATCH(Worksheet!$F$12,BuildingSize,0)+1,FALSE),0)))","v":0},{"$f":"U314/1000*V314*X314*IF(IFERROR(SEARCH(\"Gas\",$A$14),0)>0,VLOOKUP(\"Gas\",HVACg_Lookup,MATCH($F$12,BuildingSize,0)+1,FALSE),IF(IFERROR(SEARCH(\"Oil\",$A$14),0)>0,VLOOKUP(\"Oil\",HVACg_Lookup,MATCH($F$12,BuildingSize,0)+1,FALSE),IF(IFERROR(SEARCH(\"Propane\",$A$14),0)>0,VLOOKUP(\"Propane\",HVACg_Lookup,MATCH(Worksheet!$F$12,BuildingSize,0)+1,FALSE),0)))","v":0},0,0,"",""]
[null,null,"",null,null,null,null,null,null,null,null,null,0,0,0,0,"",0,0,0,0,0,0,0,0,0,0,0,0,0,0,0,{"$f":"T315/1000*V315*X315*IF(IFERROR(SEARCH(\"Gas\",$A$14),0)>0,VLOOKUP(\"Gas\",HVACg_Lookup,MATCH($F$12,BuildingSize,0)+1,FALSE),IF(IFERROR(SEARCH(\"Oil\",$A$14),0)>0,VLOOKUP(\"Oil\",HVACg_Lookup,MATCH($F$12,BuildingSize,0)+1,FALSE),IF(IFERROR(SEARCH(\"Propane\",$A$14),0)>0,VLOOKUP(\"Propane\",HVACg_Lookup,MATCH(Worksheet!$F$12,BuildingSize,0)+1,FALSE),0)))","v":0},{"$f":"U315/1000*V315*X315*IF(IFERROR(SEARCH(\"Gas\",$A$14),0)>0,VLOOKUP(\"Gas\",HVACg_Lookup,MATCH($F$12,BuildingSize,0)+1,FALSE),IF(IFERROR(SEARCH(\"Oil\",$A$14),0)>0,VLOOKUP(\"Oil\",HVACg_Lookup,MATCH($F$12,BuildingSize,0)+1,FALSE),IF(IFERROR(SEARCH(\"Propane\",$A$14),0)>0,VLOOKUP(\"Propane\",HVACg_Lookup,MATCH(Worksheet!$F$12,BuildingSize,0)+1,FALSE),0)))","v":0},0,0,"",""]
[null,null,"",null,null,null,null,null,null,null,null,null,0,0,0,0,"",0,0,0,0,0,0,0,0,0,0,0,0,0,0,0,{"$f":"T316/1000*V316*X316*IF(IFERROR(SEARCH(\"Gas\",$A$14),0)>0,VLOOKUP(\"Gas\",HVACg_Lookup,MATCH($F$12,BuildingSize,0)+1,FALSE),IF(IFERROR(SEARCH(\"Oil\",$A$14),0)>0,VLOOKUP(\"Oil\",HVACg_Lookup,MATCH($F$12,BuildingSize,0)+1,FALSE),IF(IFERROR(SEARCH(\"Propane\",$A$14),0)>0,VLOOKUP(\"Propane\",HVACg_Lookup,MATCH(Worksheet!$F$12,BuildingSize,0)+1,FALSE),0)))","v":0},{"$f":"U316/1000*V316*X316*IF(IFERROR(SEARCH(\"Gas\",$A$14),0)>0,VLOOKUP(\"Gas\",HVACg_Lookup,MATCH($F$12,BuildingSize,0)+1,FALSE),IF(IFERROR(SEARCH(\"Oil\",$A$14),0)>0,VLOOKUP(\"Oil\",HVACg_Lookup,MATCH($F$12,BuildingSize,0)+1,FALSE),IF(IFERROR(SEARCH(\"Propane\",$A$14),0)>0,VLOOKUP(\"Propane\",HVACg_Lookup,MATCH(Worksheet!$F$12,BuildingSize,0)+1,FALSE),0)))","v":0},0,0,"",""]
[null,null,"",null,null,null,null,null,null,null,null,null,0,0,0,0,"",0,0,0,0,0,0,0,0,0,0,0,0,0,0,0,{"$f":"T317/1000*V317*X317*IF(IFERROR(SEARCH(\"Gas\",$A$14),0)>0,VLOOKUP(\"Gas\",HVACg_Lookup,MATCH($F$12,BuildingSize,0)+1,FALSE),IF(IFERROR(SEARCH(\"Oil\",$A$14),0)>0,VLOOKUP(\"Oil\",HVACg_Lookup,MATCH($F$12,BuildingSize,0)+1,FALSE),IF(IFERROR(SEARCH(\"Propane\",$A$14),0)>0,VLOOKUP(\"Propane\",HVACg_Lookup,MATCH(Worksheet!$F$12,BuildingSize,0)+1,FALSE),0)))","v":0},{"$f":"U317/1000*V317*X317*IF(IFERROR(SEARCH(\"Gas\",$A$14),0)>0,VLOOKUP(\"Gas\",HVACg_Lookup,MATCH($F$12,BuildingSize,0)+1,FALSE),IF(IFERROR(SEARCH(\"Oil\",$A$14),0)>0,VLOOKUP(\"Oil\",HVACg_Lookup,MATCH($F$12,BuildingSize,0)+1,FALSE),IF(IFERROR(SEARCH(\"Propane\",$A$14),0)>0,VLOOKUP(\"Propane\",HVACg_Lookup,MATCH(Worksheet!$F$12,BuildingSize,0)+1,FALSE),0)))","v":0},0,0,"",""]
[null,null,"",null,null,null,null,null,null,null,null,null,0,0,0,0,"",0,0,0,0,0,0,0,0,0,0,0,0,0,0,0,{"$f":"T318/1000*V318*X318*IF(IFERROR(SEARCH(\"Gas\",$A$14),0)>0,VLOOKUP(\"Gas\",HVACg_Lookup,MATCH($F$12,BuildingSize,0)+1,FALSE),IF(IFERROR(SEARCH(\"Oil\",$A$14),0)>0,VLOOKUP(\"Oil\",HVACg_Lookup,MATCH($F$12,BuildingSize,0)+1,FALSE),IF(IFERROR(SEARCH(\"Propane\",$A$14),0)>0,VLOOKUP(\"Propane\",HVACg_Lookup,MATCH(Worksheet!$F$12,BuildingSize,0)+1,FALSE),0)))","v":0},{"$f":"U318/1000*V318*X318*IF(IFERROR(SEARCH(\"Gas\",$A$14),0)>0,VLOOKUP(\"Gas\",HVACg_Lookup,MATCH($F$12,BuildingSize,0)+1,FALSE),IF(IFERROR(SEARCH(\"Oil\",$A$14),0)>0,VLOOKUP(\"Oil\",HVACg_Lookup,MATCH($F$12,BuildingSize,0)+1,FALSE),IF(IFERROR(SEARCH(\"Propane\",$A$14),0)>0,VLOOKUP(\"Propane\",HVACg_Lookup,MATCH(Worksheet!$F$12,BuildingSize,0)+1,FALSE),0)))","v":0},0,0,"",""]
[null,null,"",null,null,null,null,null,null,null,null,null,0,0,0,0,"",0,0,0,0,0,0,0,0,0,0,0,0,0,0,0,{"$f":"T319/1000*V319*X319*IF(IFERROR(SEARCH(\"Gas\",$A$14),0)>0,VLOOKUP(\"Gas\",HVACg_Lookup,MATCH($F$12,BuildingSize,0)+1,FALSE),IF(IFERROR(SEARCH(\"Oil\",$A$14),0)>0,VLOOKUP(\"Oil\",HVACg_Lookup,MATCH($F$12,BuildingSize,0)+1,FALSE),IF(IFERROR(SEARCH(\"Propane\",$A$14),0)>0,VLOOKUP(\"Propane\",HVACg_Lookup,MATCH(Worksheet!$F$12,BuildingSize,0)+1,FALSE),0)))","v":0},{"$f":"U319/1000*V319*X319*IF(IFERROR(SEARCH(\"Gas\",$A$14),0)>0,VLOOKUP(\"Gas\",HVACg_Lookup,MATCH($F$12,BuildingSize,0)+1,FALSE),IF(IFERROR(SEARCH(\"Oil\",$A$14),0)>0,VLOOKUP(\"Oil\",HVACg_Lookup,MATCH($F$12,BuildingSize,0)+1,FALSE),IF(IFERROR(SEARCH(\"Propane\",$A$14),0)>0,VLOOKUP(\"Propane\",HVACg_Lookup,MATCH(Worksheet!$F$12,BuildingSize,0)+1,FALSE),0)))","v":0},0,0,"",""]
[null,null,"",null,null,null,null,null,null,null,null,null,0,0,0,0,"",0,0,0,0,0,0,0,0,0,0,0,0,0,0,0,{"$f":"T320/1000*V320*X320*IF(IFERROR(SEARCH(\"Gas\",$A$14),0)>0,VLOOKUP(\"Gas\",HVACg_Lookup,MATCH($F$12,BuildingSize,0)+1,FALSE),IF(IFERROR(SEARCH(\"Oil\",$A$14),0)>0,VLOOKUP(\"Oil\",HVACg_Lookup,MATCH($F$12,BuildingSize,0)+1,FALSE),IF(IFERROR(SEARCH(\"Propane\",$A$14),0)>0,VLOOKUP(\"Propane\",HVACg_Lookup,MATCH(Worksheet!$F$12,BuildingSize,0)+1,FALSE),0)))","v":0},{"$f":"U320/1000*V320*X320*IF(IFERROR(SEARCH(\"Gas\",$A$14),0)>0,VLOOKUP(\"Gas\",HVACg_Lookup,MATCH($F$12,BuildingSize,0)+1,FALSE),IF(IFERROR(SEARCH(\"Oil\",$A$14),0)>0,VLOOKUP(\"Oil\",HVACg_Lookup,MATCH($F$12,BuildingSize,0)+1,FALSE),IF(IFERROR(SEARCH(\"Propane\",$A$14),0)>0,VLOOKUP(\"Propane\",HVACg_Lookup,MATCH(Worksheet!$F$12,BuildingSize,0)+1,FALSE),0)))","v":0},0,0,"",""]
[null,null,"",null,null,null,null,null,null,null,null,null,0,0,0,0,"",0,0,0,0,0,0,0,0,0,0,0,0,0,0,0,{"$f":"T321/1000*V321*X321*IF(IFERROR(SEARCH(\"Gas\",$A$14),0)>0,VLOOKUP(\"Gas\",HVACg_Lookup,MATCH($F$12,BuildingSize,0)+1,FALSE),IF(IFERROR(SEARCH(\"Oil\",$A$14),0)>0,VLOOKUP(\"Oil\",HVACg_Lookup,MATCH($F$12,BuildingSize,0)+1,FALSE),IF(IFERROR(SEARCH(\"Propane\",$A$14),0)>0,VLOOKUP(\"Propane\",HVACg_Lookup,MATCH(Worksheet!$F$12,BuildingSize,0)+1,FALSE),0)))","v":0},{"$f":"U321/1000*V321*X321*IF(IFERROR(SEARCH(\"Gas\",$A$14),0)>0,VLOOKUP(\"Gas\",HVACg_Lookup,MATCH($F$12,BuildingSize,0)+1,FALSE),IF(IFERROR(SEARCH(\"Oil\",$A$14),0)>0,VLOOKUP(\"Oil\",HVACg_Lookup,MATCH($F$12,BuildingSize,0)+1,FALSE),IF(IFERROR(SEARCH(\"Propane\",$A$14),0)>0,VLOOKUP(\"Propane\",HVACg_Lookup,MATCH(Worksheet!$F$12,BuildingSize,0)+1,FALSE),0)))","v":0},0,0,"",""]
[null,null,"",null,null,null,null,null,null,null,null,null,0,0,0,0,"",0,0,0,0,0,0,0,0,0,0,0,0,0,0,0,{"$f":"T322/1000*V322*X322*IF(IFERROR(SEARCH(\"Gas\",$A$14),0)>0,VLOOKUP(\"Gas\",HVACg_Lookup,MATCH($F$12,BuildingSize,0)+1,FALSE),IF(IFERROR(SEARCH(\"Oil\",$A$14),0)>0,VLOOKUP(\"Oil\",HVACg_Lookup,MATCH($F$12,BuildingSize,0)+1,FALSE),IF(IFERROR(SEARCH(\"Propane\",$A$14),0)>0,VLOOKUP(\"Propane\",HVACg_Lookup,MATCH(Worksheet!$F$12,BuildingSize,0)+1,FALSE),0)))","v":0},{"$f":"U322/1000*V322*X322*IF(IFERROR(SEARCH(\"Gas\",$A$14),0)>0,VLOOKUP(\"Gas\",HVACg_Lookup,MATCH($F$12,BuildingSize,0)+1,FALSE),IF(IFERROR(SEARCH(\"Oil\",$A$14),0)>0,VLOOKUP(\"Oil\",HVACg_Lookup,MATCH($F$12,BuildingSize,0)+1,FALSE),IF(IFERROR(SEARCH(\"Propane\",$A$14),0)>0,VLOOKUP(\"Propane\",HVACg_Lookup,MATCH(Worksheet!$F$12,BuildingSize,0)+1,FALSE),0)))","v":0},0,0,"",""]
[null,null,"",null,null,null,null,null,null,null,null,null,0,0,0,0,"",0,0,0,0,0,0,0,0,0,0,0,0,0,0,0,{"$f":"T323/1000*V323*X323*IF(IFERROR(SEARCH(\"Gas\",$A$14),0)>0,VLOOKUP(\"Gas\",HVACg_Lookup,MATCH($F$12,BuildingSize,0)+1,FALSE),IF(IFERROR(SEARCH(\"Oil\",$A$14),0)>0,VLOOKUP(\"Oil\",HVACg_Lookup,MATCH($F$12,BuildingSize,0)+1,FALSE),IF(IFERROR(SEARCH(\"Propane\",$A$14),0)>0,VLOOKUP(\"Propane\",HVACg_Lookup,MATCH(Worksheet!$F$12,BuildingSize,0)+1,FALSE),0)))","v":0},{"$f":"U323/1000*V323*X323*IF(IFERROR(SEARCH(\"Gas\",$A$14),0)>0,VLOOKUP(\"Gas\",HVACg_Lookup,MATCH($F$12,BuildingSize,0)+1,FALSE),IF(IFERROR(SEARCH(\"Oil\",$A$14),0)>0,VLOOKUP(\"Oil\",HVACg_Lookup,MATCH($F$12,BuildingSize,0)+1,FALSE),IF(IFERROR(SEARCH(\"Propane\",$A$14),0)>0,VLOOKUP(\"Propane\",HVACg_Lookup,MATCH(Worksheet!$F$12,BuildingSize,0)+1,FALSE),0)))","v":0},0,0,"",""]
[null,null,"",null,null,null,null,null,null,null,null,null,0,0,0,0,"",0,0,0,0,0,0,0,0,0,0,0,0,0,0,0,{"$f":"T324/1000*V324*X324*IF(IFERROR(SEARCH(\"Gas\",$A$14),0)>0,VLOOKUP(\"Gas\",HVACg_Lookup,MATCH($F$12,BuildingSize,0)+1,FALSE),IF(IFERROR(SEARCH(\"Oil\",$A$14),0)>0,VLOOKUP(\"Oil\",HVACg_Lookup,MATCH($F$12,BuildingSize,0)+1,FALSE),IF(IFERROR(SEARCH(\"Propane\",$A$14),0)>0,VLOOKUP(\"Propane\",HVACg_Lookup,MATCH(Worksheet!$F$12,BuildingSize,0)+1,FALSE),0)))","v":0},{"$f":"U324/1000*V324*X324*IF(IFERROR(SEARCH(\"Gas\",$A$14),0)>0,VLOOKUP(\"Gas\",HVACg_Lookup,MATCH($F$12,BuildingSize,0)+1,FALSE),IF(IFERROR(SEARCH(\"Oil\",$A$14),0)>0,VLOOKUP(\"Oil\",HVACg_Lookup,MATCH($F$12,BuildingSize,0)+1,FALSE),IF(IFERROR(SEARCH(\"Propane\",$A$14),0)>0,VLOOKUP(\"Propane\",HVACg_Lookup,MATCH(Worksheet!$F$12,BuildingSize,0)+1,FALSE),0)))","v":0},0,0,"",""]
[null,null,"",null,null,null,null,null,null,null,null,null,0,0,0,0,"",0,0,0,0,0,0,0,0,0,0,0,0,0,0,0,{"$f":"T325/1000*V325*X325*IF(IFERROR(SEARCH(\"Gas\",$A$14),0)>0,VLOOKUP(\"Gas\",HVACg_Lookup,MATCH($F$12,BuildingSize,0)+1,FALSE),IF(IFERROR(SEARCH(\"Oil\",$A$14),0)>0,VLOOKUP(\"Oil\",HVACg_Lookup,MATCH($F$12,BuildingSize,0)+1,FALSE),IF(IFERROR(SEARCH(\"Propane\",$A$14),0)>0,VLOOKUP(\"Propane\",HVACg_Lookup,MATCH(Worksheet!$F$12,BuildingSize,0)+1,FALSE),0)))","v":0},{"$f":"U325/1000*V325*X325*IF(IFERROR(SEARCH(\"Gas\",$A$14),0)>0,VLOOKUP(\"Gas\",HVACg_Lookup,MATCH($F$12,BuildingSize,0)+1,FALSE),IF(IFERROR(SEARCH(\"Oil\",$A$14),0)>0,VLOOKUP(\"Oil\",HVACg_Lookup,MATCH($F$12,BuildingSize,0)+1,FALSE),IF(IFERROR(SEARCH(\"Propane\",$A$14),0)>0,VLOOKUP(\"Propane\",HVACg_Lookup,MATCH(Worksheet!$F$12,BuildingSize,0)+1,FALSE),0)))","v":0},0,0,"",""]
[null,null,"",null,null,null,null,null,null,null,null,null,0,0,0,0,"",0,0,0,0,0,0,0,0,0,0,0,0,0,0,0,{"$f":"T326/1000*V326*X326*IF(IFERROR(SEARCH(\"Gas\",$A$14),0)>0,VLOOKUP(\"Gas\",HVACg_Lookup,MATCH($F$12,BuildingSize,0)+1,FALSE),IF(IFERROR(SEARCH(\"Oil\",$A$14),0)>0,VLOOKUP(\"Oil\",HVACg_Lookup,MATCH($F$12,BuildingSize,0)+1,FALSE),IF(IFERROR(SEARCH(\"Propane\",$A$14),0)>0,VLOOKUP(\"Propane\",HVACg_Lookup,MATCH(Worksheet!$F$12,BuildingSize,0)+1,FALSE),0)))","v":0},{"$f":"U326/1000*V326*X326*IF(IFERROR(SEARCH(\"Gas\",$A$14),0)>0,VLOOKUP(\"Gas\",HVACg_Lookup,MATCH($F$12,BuildingSize,0)+1,FALSE),IF(IFERROR(SEARCH(\"Oil\",$A$14),0)>0,VLOOKUP(\"Oil\",HVACg_Lookup,MATCH($F$12,BuildingSize,0)+1,FALSE),IF(IFERROR(SEARCH(\"Propane\",$A$14),0)>0,VLOOKUP(\"Propane\",HVACg_Lookup,MATCH(Worksheet!$F$12,BuildingSize,0)+1,FALSE),0)))","v":0},0,0,"",""]
[null,null,"",null,null,null,null,null,null,null,null,null,0,0,0,0,"",0,0,0,0,0,0,0,0,0,0,0,0,0,0,0,{"$f":"T327/1000*V327*X327*IF(IFERROR(SEARCH(\"Gas\",$A$14),0)>0,VLOOKUP(\"Gas\",HVACg_Lookup,MATCH($F$12,BuildingSize,0)+1,FALSE),IF(IFERROR(SEARCH(\"Oil\",$A$14),0)>0,VLOOKUP(\"Oil\",HVACg_Lookup,MATCH($F$12,BuildingSize,0)+1,FALSE),IF(IFERROR(SEARCH(\"Propane\",$A$14),0)>0,VLOOKUP(\"Propane\",HVACg_Lookup,MATCH(Worksheet!$F$12,BuildingSize,0)+1,FALSE),0)))","v":0},{"$f":"U327/1000*V327*X327*IF(IFERROR(SEARCH(\"Gas\",$A$14),0)>0,VLOOKUP(\"Gas\",HVACg_Lookup,MATCH($F$12,BuildingSize,0)+1,FALSE),IF(IFERROR(SEARCH(\"Oil\",$A$14),0)>0,VLOOKUP(\"Oil\",HVACg_Lookup,MATCH($F$12,BuildingSize,0)+1,FALSE),IF(IFERROR(SEARCH(\"Propane\",$A$14),0)>0,VLOOKUP(\"Propane\",HVACg_Lookup,MATCH(Worksheet!$F$12,BuildingSize,0)+1,FALSE),0)))","v":0},0,0,"",""]
[null,null,"",null,null,null,null,null,null,null,null,null,0,0,0,0,"",0,0,0,0,0,0,0,0,0,0,0,0,0,0,0,{"$f":"T328/1000*V328*X328*IF(IFERROR(SEARCH(\"Gas\",$A$14),0)>0,VLOOKUP(\"Gas\",HVACg_Lookup,MATCH($F$12,BuildingSize,0)+1,FALSE),IF(IFERROR(SEARCH(\"Oil\",$A$14),0)>0,VLOOKUP(\"Oil\",HVACg_Lookup,MATCH($F$12,BuildingSize,0)+1,FALSE),IF(IFERROR(SEARCH(\"Propane\",$A$14),0)>0,VLOOKUP(\"Propane\",HVACg_Lookup,MATCH(Worksheet!$F$12,BuildingSize,0)+1,FALSE),0)))","v":0},{"$f":"U328/1000*V328*X328*IF(IFERROR(SEARCH(\"Gas\",$A$14),0)>0,VLOOKUP(\"Gas\",HVACg_Lookup,MATCH($F$12,BuildingSize,0)+1,FALSE),IF(IFERROR(SEARCH(\"Oil\",$A$14),0)>0,VLOOKUP(\"Oil\",HVACg_Lookup,MATCH($F$12,BuildingSize,0)+1,FALSE),IF(IFERROR(SEARCH(\"Propane\",$A$14),0)>0,VLOOKUP(\"Propane\",HVACg_Lookup,MATCH(Worksheet!$F$12,BuildingSize,0)+1,FALSE),0)))","v":0},0,0,"",""]
[null,null,"",null,null,null,null,null,null,null,null,null,0,0,0,0,"",0,0,0,0,0,0,0,0,0,0,0,0,0,0,0,{"$f":"T329/1000*V329*X329*IF(IFERROR(SEARCH(\"Gas\",$A$14),0)>0,VLOOKUP(\"Gas\",HVACg_Lookup,MATCH($F$12,BuildingSize,0)+1,FALSE),IF(IFERROR(SEARCH(\"Oil\",$A$14),0)>0,VLOOKUP(\"Oil\",HVACg_Lookup,MATCH($F$12,BuildingSize,0)+1,FALSE),IF(IFERROR(SEARCH(\"Propane\",$A$14),0)>0,VLOOKUP(\"Propane\",HVACg_Lookup,MATCH(Worksheet!$F$12,BuildingSize,0)+1,FALSE),0)))","v":0},{"$f":"U329/1000*V329*X329*IF(IFERROR(SEARCH(\"Gas\",$A$14),0)>0,VLOOKUP(\"Gas\",HVACg_Lookup,MATCH($F$12,BuildingSize,0)+1,FALSE),IF(IFERROR(SEARCH(\"Oil\",$A$14),0)>0,VLOOKUP(\"Oil\",HVACg_Lookup,MATCH($F$12,BuildingSize,0)+1,FALSE),IF(IFERROR(SEARCH(\"Propane\",$A$14),0)>0,VLOOKUP(\"Propane\",HVACg_Lookup,MATCH(Worksheet!$F$12,BuildingSize,0)+1,FALSE),0)))","v":0},0,0,"",""]
[null,null,"",null,null,null,null,null,null,null,null,null,0,0,0,0,"",0,0,0,0,0,0,0,0,0,0,0,0,0,0,0,{"$f":"T330/1000*V330*X330*IF(IFERROR(SEARCH(\"Gas\",$A$14),0)>0,VLOOKUP(\"Gas\",HVACg_Lookup,MATCH($F$12,BuildingSize,0)+1,FALSE),IF(IFERROR(SEARCH(\"Oil\",$A$14),0)>0,VLOOKUP(\"Oil\",HVACg_Lookup,MATCH($F$12,BuildingSize,0)+1,FALSE),IF(IFERROR(SEARCH(\"Propane\",$A$14),0)>0,VLOOKUP(\"Propane\",HVACg_Lookup,MATCH(Worksheet!$F$12,BuildingSize,0)+1,FALSE),0)))","v":0},{"$f":"U330/1000*V330*X330*IF(IFERROR(SEARCH(\"Gas\",$A$14),0)>0,VLOOKUP(\"Gas\",HVACg_Lookup,MATCH($F$12,BuildingSize,0)+1,FALSE),IF(IFERROR(SEARCH(\"Oil\",$A$14),0)>0,VLOOKUP(\"Oil\",HVACg_Lookup,MATCH($F$12,BuildingSize,0)+1,FALSE),IF(IFERROR(SEARCH(\"Propane\",$A$14),0)>0,VLOOKUP(\"Propane\",HVACg_Lookup,MATCH(Worksheet!$F$12,BuildingSize,0)+1,FALSE),0)))","v":0},0,0,"",""]
[null,null,"",null,null,null,null,null,null,null,null,null,0,0,0,0,"",0,0,0,0,0,0,0,0,0,0,0,0,0,0,0,{"$f":"T331/1000*V331*X331*IF(IFERROR(SEARCH(\"Gas\",$A$14),0)>0,VLOOKUP(\"Gas\",HVACg_Lookup,MATCH($F$12,BuildingSize,0)+1,FALSE),IF(IFERROR(SEARCH(\"Oil\",$A$14),0)>0,VLOOKUP(\"Oil\",HVACg_Lookup,MATCH($F$12,BuildingSize,0)+1,FALSE),IF(IFERROR(SEARCH(\"Propane\",$A$14),0)>0,VLOOKUP(\"Propane\",HVACg_Lookup,MATCH(Worksheet!$F$12,BuildingSize,0)+1,FALSE),0)))","v":0},{"$f":"U331/1000*V331*X331*IF(IFERROR(SEARCH(\"Gas\",$A$14),0)>0,VLOOKUP(\"Gas\",HVACg_Lookup,MATCH($F$12,BuildingSize,0)+1,FALSE),IF(IFERROR(SEARCH(\"Oil\",$A$14),0)>0,VLOOKUP(\"Oil\",HVACg_Lookup,MATCH($F$12,BuildingSize,0)+1,FALSE),IF(IFERROR(SEARCH(\"Propane\",$A$14),0)>0,VLOOKUP(\"Propane\",HVACg_Lookup,MATCH(Worksheet!$F$12,BuildingSize,0)+1,FALSE),0)))","v":0},0,0,"",""]
[null,null,"",null,null,null,null,null,null,null,null,null,0,0,0,0,"",0,0,0,0,0,0,0,0,0,0,0,0,0,0,0,{"$f":"T332/1000*V332*X332*IF(IFERROR(SEARCH(\"Gas\",$A$14),0)>0,VLOOKUP(\"Gas\",HVACg_Lookup,MATCH($F$12,BuildingSize,0)+1,FALSE),IF(IFERROR(SEARCH(\"Oil\",$A$14),0)>0,VLOOKUP(\"Oil\",HVACg_Lookup,MATCH($F$12,BuildingSize,0)+1,FALSE),IF(IFERROR(SEARCH(\"Propane\",$A$14),0)>0,VLOOKUP(\"Propane\",HVACg_Lookup,MATCH(Worksheet!$F$12,BuildingSize,0)+1,FALSE),0)))","v":0},{"$f":"U332/1000*V332*X332*IF(IFERROR(SEARCH(\"Gas\",$A$14),0)>0,VLOOKUP(\"Gas\",HVACg_Lookup,MATCH($F$12,BuildingSize,0)+1,FALSE),IF(IFERROR(SEARCH(\"Oil\",$A$14),0)>0,VLOOKUP(\"Oil\",HVACg_Lookup,MATCH($F$12,BuildingSize,0)+1,FALSE),IF(IFERROR(SEARCH(\"Propane\",$A$14),0)>0,VLOOKUP(\"Propane\",HVACg_Lookup,MATCH(Worksheet!$F$12,BuildingSize,0)+1,FALSE),0)))","v":0},0,0,"",""]
[null,null,"",null,null,null,null,null,null,null,null,null,0,0,0,0,"",0,0,0,0,0,0,0,0,0,0,0,0,0,0,0,{"$f":"T333/1000*V333*X333*IF(IFERROR(SEARCH(\"Gas\",$A$14),0)>0,VLOOKUP(\"Gas\",HVACg_Lookup,MATCH($F$12,BuildingSize,0)+1,FALSE),IF(IFERROR(SEARCH(\"Oil\",$A$14),0)>0,VLOOKUP(\"Oil\",HVACg_Lookup,MATCH($F$12,BuildingSize,0)+1,FALSE),IF(IFERROR(SEARCH(\"Propane\",$A$14),0)>0,VLOOKUP(\"Propane\",HVACg_Lookup,MATCH(Worksheet!$F$12,BuildingSize,0)+1,FALSE),0)))","v":0},{"$f":"U333/1000*V333*X333*IF(IFERROR(SEARCH(\"Gas\",$A$14),0)>0,VLOOKUP(\"Gas\",HVACg_Lookup,MATCH($F$12,BuildingSize,0)+1,FALSE),IF(IFERROR(SEARCH(\"Oil\",$A$14),0)>0,VLOOKUP(\"Oil\",HVACg_Lookup,MATCH($F$12,BuildingSize,0)+1,FALSE),IF(IFERROR(SEARCH(\"Propane\",$A$14),0)>0,VLOOKUP(\"Propane\",HVACg_Lookup,MATCH(Worksheet!$F$12,BuildingSize,0)+1,FALSE),0)))","v":0},0,0,"",""]
[null,null,"",null,null,null,null,null,null,null,null,null,0,0,0,0,"",0,0,0,0,0,0,0,0,0,0,0,0,0,0,0,{"$f":"T334/1000*V334*X334*IF(IFERROR(SEARCH(\"Gas\",$A$14),0)>0,VLOOKUP(\"Gas\",HVACg_Lookup,MATCH($F$12,BuildingSize,0)+1,FALSE),IF(IFERROR(SEARCH(\"Oil\",$A$14),0)>0,VLOOKUP(\"Oil\",HVACg_Lookup,MATCH($F$12,BuildingSize,0)+1,FALSE),IF(IFERROR(SEARCH(\"Propane\",$A$14),0)>0,VLOOKUP(\"Propane\",HVACg_Lookup,MATCH(Worksheet!$F$12,BuildingSize,0)+1,FALSE),0)))","v":0},{"$f":"U334/1000*V334*X334*IF(IFERROR(SEARCH(\"Gas\",$A$14),0)>0,VLOOKUP(\"Gas\",HVACg_Lookup,MATCH($F$12,BuildingSize,0)+1,FALSE),IF(IFERROR(SEARCH(\"Oil\",$A$14),0)>0,VLOOKUP(\"Oil\",HVACg_Lookup,MATCH($F$12,BuildingSize,0)+1,FALSE),IF(IFERROR(SEARCH(\"Propane\",$A$14),0)>0,VLOOKUP(\"Propane\",HVACg_Lookup,MATCH(Worksheet!$F$12,BuildingSize,0)+1,FALSE),0)))","v":0},0,0,"",""]
[null,null,"",null,null,null,null,null,null,null,null,null,0,0,0,0,"",0,0,0,0,0,0,0,0,0,0,0,0,0,0,0,{"$f":"T335/1000*V335*X335*IF(IFERROR(SEARCH(\"Gas\",$A$14),0)>0,VLOOKUP(\"Gas\",HVACg_Lookup,MATCH($F$12,BuildingSize,0)+1,FALSE),IF(IFERROR(SEARCH(\"Oil\",$A$14),0)>0,VLOOKUP(\"Oil\",HVACg_Lookup,MATCH($F$12,BuildingSize,0)+1,FALSE),IF(IFERROR(SEARCH(\"Propane\",$A$14),0)>0,VLOOKUP(\"Propane\",HVACg_Lookup,MATCH(Worksheet!$F$12,BuildingSize,0)+1,FALSE),0)))","v":0},{"$f":"U335/1000*V335*X335*IF(IFERROR(SEARCH(\"Gas\",$A$14),0)>0,VLOOKUP(\"Gas\",HVACg_Lookup,MATCH($F$12,BuildingSize,0)+1,FALSE),IF(IFERROR(SEARCH(\"Oil\",$A$14),0)>0,VLOOKUP(\"Oil\",HVACg_Lookup,MATCH($F$12,BuildingSize,0)+1,FALSE),IF(IFERROR(SEARCH(\"Propane\",$A$14),0)>0,VLOOKUP(\"Propane\",HVACg_Lookup,MATCH(Worksheet!$F$12,BuildingSize,0)+1,FALSE),0)))","v":0},0,0,"",""]
[null,null,"",null,null,null,null,null,null,null,null,null,0,0,0,0,"",0,0,0,0,0,0,0,0,0,0,0,0,0,0,0,{"$f":"T336/1000*V336*X336*IF(IFERROR(SEARCH(\"Gas\",$A$14),0)>0,VLOOKUP(\"Gas\",HVACg_Lookup,MATCH($F$12,BuildingSize,0)+1,FALSE),IF(IFERROR(SEARCH(\"Oil\",$A$14),0)>0,VLOOKUP(\"Oil\",HVACg_Lookup,MATCH($F$12,BuildingSize,0)+1,FALSE),IF(IFERROR(SEARCH(\"Propane\",$A$14),0)>0,VLOOKUP(\"Propane\",HVACg_Lookup,MATCH(Worksheet!$F$12,BuildingSize,0)+1,FALSE),0)))","v":0},{"$f":"U336/1000*V336*X336*IF(IFERROR(SEARCH(\"Gas\",$A$14),0)>0,VLOOKUP(\"Gas\",HVACg_Lookup,MATCH($F$12,BuildingSize,0)+1,FALSE),IF(IFERROR(SEARCH(\"Oil\",$A$14),0)>0,VLOOKUP(\"Oil\",HVACg_Lookup,MATCH($F$12,BuildingSize,0)+1,FALSE),IF(IFERROR(SEARCH(\"Propane\",$A$14),0)>0,VLOOKUP(\"Propane\",HVACg_Lookup,MATCH(Worksheet!$F$12,BuildingSize,0)+1,FALSE),0)))","v":0},0,0,"",""]
[null,null,"",null,null,null,null,null,null,null,null,null,0,0,0,0,"",0,0,0,0,0,0,0,0,0,0,0,0,0,0,0,{"$f":"T337/1000*V337*X337*IF(IFERROR(SEARCH(\"Gas\",$A$14),0)>0,VLOOKUP(\"Gas\",HVACg_Lookup,MATCH($F$12,BuildingSize,0)+1,FALSE),IF(IFERROR(SEARCH(\"Oil\",$A$14),0)>0,VLOOKUP(\"Oil\",HVACg_Lookup,MATCH($F$12,BuildingSize,0)+1,FALSE),IF(IFERROR(SEARCH(\"Propane\",$A$14),0)>0,VLOOKUP(\"Propane\",HVACg_Lookup,MATCH(Worksheet!$F$12,BuildingSize,0)+1,FALSE),0)))","v":0},{"$f":"U337/1000*V337*X337*IF(IFERROR(SEARCH(\"Gas\",$A$14),0)>0,VLOOKUP(\"Gas\",HVACg_Lookup,MATCH($F$12,BuildingSize,0)+1,FALSE),IF(IFERROR(SEARCH(\"Oil\",$A$14),0)>0,VLOOKUP(\"Oil\",HVACg_Lookup,MATCH($F$12,BuildingSize,0)+1,FALSE),IF(IFERROR(SEARCH(\"Propane\",$A$14),0)>0,VLOOKUP(\"Propane\",HVACg_Lookup,MATCH(Worksheet!$F$12,BuildingSize,0)+1,FALSE),0)))","v":0},0,0,"",""]
[null,null,"",null,null,null,null,null,null,null,null,null,0,0,0,0,"",0,0,0,0,0,0,0,0,0,0,0,0,0,0,0,{"$f":"T338/1000*V338*X338*IF(IFERROR(SEARCH(\"Gas\",$A$14),0)>0,VLOOKUP(\"Gas\",HVACg_Lookup,MATCH($F$12,BuildingSize,0)+1,FALSE),IF(IFERROR(SEARCH(\"Oil\",$A$14),0)>0,VLOOKUP(\"Oil\",HVACg_Lookup,MATCH($F$12,BuildingSize,0)+1,FALSE),IF(IFERROR(SEARCH(\"Propane\",$A$14),0)>0,VLOOKUP(\"Propane\",HVACg_Lookup,MATCH(Worksheet!$F$12,BuildingSize,0)+1,FALSE),0)))","v":0},{"$f":"U338/1000*V338*X338*IF(IFERROR(SEARCH(\"Gas\",$A$14),0)>0,VLOOKUP(\"Gas\",HVACg_Lookup,MATCH($F$12,BuildingSize,0)+1,FALSE),IF(IFERROR(SEARCH(\"Oil\",$A$14),0)>0,VLOOKUP(\"Oil\",HVACg_Lookup,MATCH($F$12,BuildingSize,0)+1,FALSE),IF(IFERROR(SEARCH(\"Propane\",$A$14),0)>0,VLOOKUP(\"Propane\",HVACg_Lookup,MATCH(Worksheet!$F$12,BuildingSize,0)+1,FALSE),0)))","v":0},0,0,"",""]
[null,null,"",null,null,null,null,null,null,null,null,null,0,0,0,0,"",0,0,0,0,0,0,0,0,0,0,0,0,0,0,0,{"$f":"T339/1000*V339*X339*IF(IFERROR(SEARCH(\"Gas\",$A$14),0)>0,VLOOKUP(\"Gas\",HVACg_Lookup,MATCH($F$12,BuildingSize,0)+1,FALSE),IF(IFERROR(SEARCH(\"Oil\",$A$14),0)>0,VLOOKUP(\"Oil\",HVACg_Lookup,MATCH($F$12,BuildingSize,0)+1,FALSE),IF(IFERROR(SEARCH(\"Propane\",$A$14),0)>0,VLOOKUP(\"Propane\",HVACg_Lookup,MATCH(Worksheet!$F$12,BuildingSize,0)+1,FALSE),0)))","v":0},{"$f":"U339/1000*V339*X339*IF(IFERROR(SEARCH(\"Gas\",$A$14),0)>0,VLOOKUP(\"Gas\",HVACg_Lookup,MATCH($F$12,BuildingSize,0)+1,FALSE),IF(IFERROR(SEARCH(\"Oil\",$A$14),0)>0,VLOOKUP(\"Oil\",HVACg_Lookup,MATCH($F$12,BuildingSize,0)+1,FALSE),IF(IFERROR(SEARCH(\"Propane\",$A$14),0)>0,VLOOKUP(\"Propane\",HVACg_Lookup,MATCH(Worksheet!$F$12,BuildingSize,0)+1,FALSE),0)))","v":0},0,0,"",""]
[null,null,"",null,null,null,null,null,null,null,null,null,0,0,{"$f":"IF(AK340=\"\",0,IF(AK340=1,VLOOKUP(A340,MeasureCode_Lookup,3,FALSE),\"DNQ\"))","v":0},{"$f":"IF(AL340=\"\",0,IF(AL340=1,VLOOKUP(A340,MeasureCode_Lookup,3,FALSE),\"DNQ\"))","v":0},{"$f":"IF(A340=\"\",\"\",VLOOKUP(A340,MeasureCode_Lookup,4,FALSE))","v":""},0,0,0,0,{"$f":"IF(A340=\"\",0,VLOOKUP(A340,MeasureCode_Lookup,5,FALSE))","v":0},{"$f":"IF($A$12=\"\",0,VLOOKUP($A$12,BuildingType_Lookup,3,FALSE))","v":0},{"$f":"IF($A$12=\"\",0,VLOOKUP($A$12,BuildingType_Lookup,2,FALSE))","v":0},{"$f":"IF(AND(OR(AK340=\"\",AK340=0)=TRUE,OR(AL340=\"\",AL340=0))=TRUE,0,IF(AL340=\"\",(IF(OR(C340=\"DDC\",C340=\"OHLC\")=TRUE,L340,M340)/1000)*V340*W340*(1+VLOOKUP($A$12,BuildingType_Lookup,4,FALSE)),IF(AL340=0,0,(IF(OR(C340=\"DDC\",C340=\"OHLC\")=TRUE,L340,N340)/1000)*V340*W340*(1+VLOOKUP($A$12,BuildingType_Lookup,4,FALSE)))))","v":0},{"$f":"IF(AND(OR(AK340=\"\",AK340=0)=TRUE,OR(AL340=\"\",AL340=0))=TRUE,0,IF(AL340=\"\",(IF(OR(C340=\"DDC\",C340=\"OHLC\")=TRUE,L340,M340)/1000)*V340*X340*(1+VLOOKUP($A$12,BuildingType_Lookup,MATCH($A$14,HVAC,0)+4,FALSE)),IF(AL340=0,0,(IF(OR(C340=\"DDC\",C340=\"OHLC\")=TRUE,L340,N340)/1000)*V340*X340*(1+VLOOKUP($A$12,BuildingType_Lookup,MATCH($A$14,HVAC,0)+4,FALSE)))))","v":0},{"$f":"IFERROR(IF(OR(C340=\"DDC\",C340=\"OHLC\")=TRUE,F340*H340*Y340,F340*Y340),0)","v":0},{"$f":"IFERROR(IF(OR(C340=\"DDC\",C340=\"OHLC\")=TRUE,G340*I340*Y340,G340*Y340),0)","v":0},{"$f":"IFERROR(IF(OR(C340=\"DDC\",C340=\"OHLC\")=TRUE,F340*H340*Z340,F340*Z340),0)","v":0},{"$f":"IFERROR(IF(OR(C340=\"DDC\",C340=\"OHLC\")=TRUE,G340*I340*Z340,G340*Z340),0)","v":0},0,0,{"$f":"T340/1000*V340*X340*IF(IFERROR(SEARCH(\"Gas\",$A$14),0)>0,VLOOKUP(\"Gas\",HVACg_Lookup,MATCH($F$12,BuildingSize,0)+1,FALSE),IF(IFERROR(SEARCH(\"Oil\",$A$14),0)>0,VLOOKUP(\"Oil\",HVACg_Lookup,MATCH($F$12,BuildingSize,0)+1,FALSE),IF(IFERROR(SEARCH(\"Propane\",$A$14),0)>0,VLOOKUP(\"Propane\",HVACg_Lookup,MATCH(Worksheet!$F$12,BuildingSize,0)+1,FALSE),0)))","v":0},{"$f":"U340/1000*V340*X340*IF(IFERROR(SEARCH(\"Gas\",$A$14),0)>0,VLOOKUP(\"Gas\",HVACg_Lookup,MATCH($F$12,BuildingSize,0)+1,FALSE),IF(IFERROR(SEARCH(\"Oil\",$A$14),0)>0,VLOOKUP(\"Oil\",HVACg_Lookup,MATCH($F$12,BuildingSize,0)+1,FALSE),IF(IFERROR(SEARCH(\"Propane\",$A$14),0)>0,VLOOKUP(\"Propane\",HVACg_Lookup,MATCH(Worksheet!$F$12,BuildingSize,0)+1,FALSE),0)))","v":0},0,0,"",""]
[null,null,{"$f":"IF(A341=\"\",\"\",VLOOKUP(A341,MeasureCode_Lookup,2,FALSE))","v":""},null,null,null,null,null,null,null,null,null,{"$f":"IF(OR(A341=\"\",F341=\"\",H341=\"\",L341=\"\")=TRUE,0,H341*L341)","v":0},{"$f":"IF(OR(A341=\"\",G341=\"\",I341=\"\",L341=\"\")=TRUE,0,I341*L341)","v":0},0,0,"",{"$f":"IF(N(O341)=0,0,F341*O341*IF(Q341=\"per Fixture Controlled\",H341,1))","v":0},{"$f":"IF(N(P341)=0,0,G341*P341*IF(Q341=\"per Fixture Controlled\",I341,1))","v":0},{"$f":"IF(N(O341)=0,0,F341*M341)","v":0},{"$f":"IF(N(P341)=0,0,G341*N341)","v":0},0,0,0,0,0,0,0,0,0,{"$f":"AC341*8","v":0},{"$f":"AD341*8","v":0},{"$f":"T341/1000*V341*X341*IF(IFERROR(SEARCH(\"Gas\",$A$14),0)>0,VLOOKUP(\"Gas\",HVACg_Lookup,MATCH($F$12,BuildingSize,0)+1,FALSE),IF(IFERROR(SEARCH(\"Oil\",$A$14),0)>0,VLOOKUP(\"Oil\",HVACg_Lookup,MATCH($F$12,BuildingSize,0)+1,FALSE),IF(IFERROR(SEARCH(\"Propane\",$A$14),0)>0,VLOOKUP(\"Propane\",HVACg_Lookup,MATCH(Worksheet!$F$12,BuildingSize,0)+1,FALSE),0)))","v":0},{"$f":"U341/1000*V341*X341*IF(IFERROR(SEARCH(\"Gas\",$A$14),0)>0,VLOOKUP(\"Gas\",HVACg_Lookup,MATCH($F$12,BuildingSize,0)+1,FALSE),IF(IFERROR(SEARCH(\"Oil\",$A$14),0)>0,VLOOKUP(\"Oil\",HVACg_Lookup,MATCH($F$12,BuildingSize,0)+1,FALSE),IF(IFERROR(SEARCH(\"Propane\",$A$14),0)>0,VLOOKUP(\"Propane\",HVACg_Lookup,MATCH(Worksheet!$F$12,BuildingSize,0)+1,FALSE),0)))","v":0},{"$f":"AG341*8","v":0},{"$f":"AH341*8","v":0},{"$f":"IF(OR($B$3=\"\",$B$4=\"\",$A$12=\"\",$F$12=\"\",$A$14=\"\",A341=\"\",F341=\"\",H341=\"\",L341=\"\")=TRUE,\"\",IF(C341=\"OSW\",IF(H341>=2,1,0),IF(C341=\"OSR\",IF(AND(H341>=2,M341>=180)=TRUE,1,0),IF(C341=\"OSRH\",IF(AND(H341>=1,M341>=180)=TRUE,1,0),IF(C341=\"OHLC\",IF(M341>=240,1,0),IF(C341=\"DDC\",IF(AND(H341>=4,M341>=240)=TRUE,1,0),0))))))","v":""},{"$f":"IF(OR($B$3=\"\",$B$4=\"\",$A$12=\"\",$F$12=\"\",$A$14=\"\",A341=\"\",F341=\"\",I341=\"\",L341=\"\")=TRUE,\"\",IF(C341=\"OSW\",IF(I341>=2,1,0),IF(C341=\"OSR\",IF(AND(I341>=2,N341>=180)=TRUE,1,0),IF(C341=\"OSRH\",IF(AND(I341>=1,N341>=180)=TRUE,1,0),IF(C341=\"OHLC\",IF(N341>=240,1,0),IF(C341=\"DDC\",IF(AND(I341>=4,N341>=240)=TRUE,1,0),0))))))","v":""}]
[null,null,"",null,null,null,null,null,null,null,null,null,0,0,0,0,"",0,0,0,0,0,0,0,0,0,0,0,0,0,0,0,{"$f":"T342/1000*V342*X342*IF(IFERROR(SEARCH(\"Gas\",$A$14),0)>0,VLOOKUP(\"Gas\",HVACg_Lookup,MATCH($F$12,BuildingSize,0)+1,FALSE),IF(IFERROR(SEARCH(\"Oil\",$A$14),0)>0,VLOOKUP(\"Oil\",HVACg_Lookup,MATCH($F$12,BuildingSize,0)+1,FALSE),IF(IFERROR(SEARCH(\"Propane\",$A$14),0)>0,VLOOKUP(\"Propane\",HVACg_Lookup,MATCH(Worksheet!$F$12,BuildingSize,0)+1,FALSE),0)))","v":0},{"$f":"U342/1000*V342*X342*IF(IFERROR(SEARCH(\"Gas\",$A$14),0)>0,VLOOKUP(\"Gas\",HVACg_Lookup,MATCH($F$12,BuildingSize,0)+1,FALSE),IF(IFERROR(SEARCH(\"Oil\",$A$14),0)>0,VLOOKUP(\"Oil\",HVACg_Lookup,MATCH($F$12,BuildingSize,0)+1,FALSE),IF(IFERROR(SEARCH(\"Propane\",$A$14),0)>0,VLOOKUP(\"Propane\",HVACg_Lookup,MATCH(Worksheet!$F$12,BuildingSize,0)+1,FALSE),0)))","v":0},0,0,"",""]
[null,null,"",null,null,null,null,null,null,null,null,null,0,0,0,0,"",0,0,0,0,0,0,0,0,0,0,0,0,0,0,0,{"$f":"T343/1000*V343*X343*IF(IFERROR(SEARCH(\"Gas\",$A$14),0)>0,VLOOKUP(\"Gas\",HVACg_Lookup,MATCH($F$12,BuildingSize,0)+1,FALSE),IF(IFERROR(SEARCH(\"Oil\",$A$14),0)>0,VLOOKUP(\"Oil\",HVACg_Lookup,MATCH($F$12,BuildingSize,0)+1,FALSE),IF(IFERROR(SEARCH(\"Propane\",$A$14),0)>0,VLOOKUP(\"Propane\",HVACg_Lookup,MATCH(Worksheet!$F$12,BuildingSize,0)+1,FALSE),0)))","v":0},{"$f":"U343/1000*V343*X343*IF(IFERROR(SEARCH(\"Gas\",$A$14),0)>0,VLOOKUP(\"Gas\",HVACg_Lookup,MATCH($F$12,BuildingSize,0)+1,FALSE),IF(IFERROR(SEARCH(\"Oil\",$A$14),0)>0,VLOOKUP(\"Oil\",HVACg_Lookup,MATCH($F$12,BuildingSize,0)+1,FALSE),IF(IFERROR(SEARCH(\"Propane\",$A$14),0)>0,VLOOKUP(\"Propane\",HVACg_Lookup,MATCH(Worksheet!$F$12,BuildingSize,0)+1,FALSE),0)))","v":0},0,0,"",""]
[null,null,"",null,null,null,null,null,null,null,null,null,0,0,0,0,"",0,0,0,0,0,0,0,0,0,0,0,0,0,0,0,{"$f":"T344/1000*V344*X344*IF(IFERROR(SEARCH(\"Gas\",$A$14),0)>0,VLOOKUP(\"Gas\",HVACg_Lookup,MATCH($F$12,BuildingSize,0)+1,FALSE),IF(IFERROR(SEARCH(\"Oil\",$A$14),0)>0,VLOOKUP(\"Oil\",HVACg_Lookup,MATCH($F$12,BuildingSize,0)+1,FALSE),IF(IFERROR(SEARCH(\"Propane\",$A$14),0)>0,VLOOKUP(\"Propane\",HVACg_Lookup,MATCH(Worksheet!$F$12,BuildingSize,0)+1,FALSE),0)))","v":0},{"$f":"U344/1000*V344*X344*IF(IFERROR(SEARCH(\"Gas\",$A$14),0)>0,VLOOKUP(\"Gas\",HVACg_Lookup,MATCH($F$12,BuildingSize,0)+1,FALSE),IF(IFERROR(SEARCH(\"Oil\",$A$14),0)>0,VLOOKUP(\"Oil\",HVACg_Lookup,MATCH($F$12,BuildingSize,0)+1,FALSE),IF(IFERROR(SEARCH(\"Propane\",$A$14),0)>0,VLOOKUP(\"Propane\",HVACg_Lookup,MATCH(Worksheet!$F$12,BuildingSize,0)+1,FALSE),0)))","v":0},0,0,"",""]
[null,null,"",null,null,null,null,null,null,null,null,null,0,0,0,0,"",0,0,0,0,0,0,0,0,0,0,0,0,0,0,0,{"$f":"T345/1000*V345*X345*IF(IFERROR(SEARCH(\"Gas\",$A$14),0)>0,VLOOKUP(\"Gas\",HVACg_Lookup,MATCH($F$12,BuildingSize,0)+1,FALSE),IF(IFERROR(SEARCH(\"Oil\",$A$14),0)>0,VLOOKUP(\"Oil\",HVACg_Lookup,MATCH($F$12,BuildingSize,0)+1,FALSE),IF(IFERROR(SEARCH(\"Propane\",$A$14),0)>0,VLOOKUP(\"Propane\",HVACg_Lookup,MATCH(Worksheet!$F$12,BuildingSize,0)+1,FALSE),0)))","v":0},{"$f":"U345/1000*V345*X345*IF(IFERROR(SEARCH(\"Gas\",$A$14),0)>0,VLOOKUP(\"Gas\",HVACg_Lookup,MATCH($F$12,BuildingSize,0)+1,FALSE),IF(IFERROR(SEARCH(\"Oil\",$A$14),0)>0,VLOOKUP(\"Oil\",HVACg_Lookup,MATCH($F$12,BuildingSize,0)+1,FALSE),IF(IFERROR(SEARCH(\"Propane\",$A$14),0)>0,VLOOKUP(\"Propane\",HVACg_Lookup,MATCH(Worksheet!$F$12,BuildingSize,0)+1,FALSE),0)))","v":0},0,0,"",""]
[null,null,"",null,null,null,null,null,null,null,null,null,0,0,0,0,"",0,0,0,0,0,0,0,0,0,0,0,0,0,0,0,{"$f":"T346/1000*V346*X346*IF(IFERROR(SEARCH(\"Gas\",$A$14),0)>0,VLOOKUP(\"Gas\",HVACg_Lookup,MATCH($F$12,BuildingSize,0)+1,FALSE),IF(IFERROR(SEARCH(\"Oil\",$A$14),0)>0,VLOOKUP(\"Oil\",HVACg_Lookup,MATCH($F$12,BuildingSize,0)+1,FALSE),IF(IFERROR(SEARCH(\"Propane\",$A$14),0)>0,VLOOKUP(\"Propane\",HVACg_Lookup,MATCH(Worksheet!$F$12,BuildingSize,0)+1,FALSE),0)))","v":0},{"$f":"U346/1000*V346*X346*IF(IFERROR(SEARCH(\"Gas\",$A$14),0)>0,VLOOKUP(\"Gas\",HVACg_Lookup,MATCH($F$12,BuildingSize,0)+1,FALSE),IF(IFERROR(SEARCH(\"Oil\",$A$14),0)>0,VLOOKUP(\"Oil\",HVACg_Lookup,MATCH($F$12,BuildingSize,0)+1,FALSE),IF(IFERROR(SEARCH(\"Propane\",$A$14),0)>0,VLOOKUP(\"Propane\",HVACg_Lookup,MATCH(Worksheet!$F$12,BuildingSize,0)+1,FALSE),0)))","v":0},0,0,"",""]
[null,null,"",null,null,null,null,null,null,null,null,null,0,0,0,0,"",0,0,0,0,0,0,0,0,0,0,0,0,0,0,0,{"$f":"T347/1000*V347*X347*IF(IFERROR(SEARCH(\"Gas\",$A$14),0)>0,VLOOKUP(\"Gas\",HVACg_Lookup,MATCH($F$12,BuildingSize,0)+1,FALSE),IF(IFERROR(SEARCH(\"Oil\",$A$14),0)>0,VLOOKUP(\"Oil\",HVACg_Lookup,MATCH($F$12,BuildingSize,0)+1,FALSE),IF(IFERROR(SEARCH(\"Propane\",$A$14),0)>0,VLOOKUP(\"Propane\",HVACg_Lookup,MATCH(Worksheet!$F$12,BuildingSize,0)+1,FALSE),0)))","v":0},{"$f":"U347/1000*V347*X347*IF(IFERROR(SEARCH(\"Gas\",$A$14),0)>0,VLOOKUP(\"Gas\",HVACg_Lookup,MATCH($F$12,BuildingSize,0)+1,FALSE),IF(IFERROR(SEARCH(\"Oil\",$A$14),0)>0,VLOOKUP(\"Oil\",HVACg_Lookup,MATCH($F$12,BuildingSize,0)+1,FALSE),IF(IFERROR(SEARCH(\"Propane\",$A$14),0)>0,VLOOKUP(\"Propane\",HVACg_Lookup,MATCH(Worksheet!$F$12,BuildingSize,0)+1,FALSE),0)))","v":0},0,0,"",""]
[null,null,"",null,null,null,null,null,null,null,null,null,0,0,0,0,"",0,0,0,0,0,0,0,0,0,0,0,0,0,0,0,{"$f":"T348/1000*V348*X348*IF(IFERROR(SEARCH(\"Gas\",$A$14),0)>0,VLOOKUP(\"Gas\",HVACg_Lookup,MATCH($F$12,BuildingSize,0)+1,FALSE),IF(IFERROR(SEARCH(\"Oil\",$A$14),0)>0,VLOOKUP(\"Oil\",HVACg_Lookup,MATCH($F$12,BuildingSize,0)+1,FALSE),IF(IFERROR(SEARCH(\"Propane\",$A$14),0)>0,VLOOKUP(\"Propane\",HVACg_Lookup,MATCH(Worksheet!$F$12,BuildingSize,0)+1,FALSE),0)))","v":0},{"$f":"U348/1000*V348*X348*IF(IFERROR(SEARCH(\"Gas\",$A$14),0)>0,VLOOKUP(\"Gas\",HVACg_Lookup,MATCH($F$12,BuildingSize,0)+1,FALSE),IF(IFERROR(SEARCH(\"Oil\",$A$14),0)>0,VLOOKUP(\"Oil\",HVACg_Lookup,MATCH($F$12,BuildingSize,0)+1,FALSE),IF(IFERROR(SEARCH(\"Propane\",$A$14),0)>0,VLOOKUP(\"Propane\",HVACg_Lookup,MATCH(Worksheet!$F$12,BuildingSize,0)+1,FALSE),0)))","v":0},0,0,"",""]
[null,null,"",null,null,null,null,null,null,null,null,null,0,0,0,0,"",0,0,0,0,0,0,0,0,0,0,0,0,0,0,0,{"$f":"T349/1000*V349*X349*IF(IFERROR(SEARCH(\"Gas\",$A$14),0)>0,VLOOKUP(\"Gas\",HVACg_Lookup,MATCH($F$12,BuildingSize,0)+1,FALSE),IF(IFERROR(SEARCH(\"Oil\",$A$14),0)>0,VLOOKUP(\"Oil\",HVACg_Lookup,MATCH($F$12,BuildingSize,0)+1,FALSE),IF(IFERROR(SEARCH(\"Propane\",$A$14),0)>0,VLOOKUP(\"Propane\",HVACg_Lookup,MATCH(Worksheet!$F$12,BuildingSize,0)+1,FALSE),0)))","v":0},{"$f":"U349/1000*V349*X349*IF(IFERROR(SEARCH(\"Gas\",$A$14),0)>0,VLOOKUP(\"Gas\",HVACg_Lookup,MATCH($F$12,BuildingSize,0)+1,FALSE),IF(IFERROR(SEARCH(\"Oil\",$A$14),0)>0,VLOOKUP(\"Oil\",HVACg_Lookup,MATCH($F$12,BuildingSize,0)+1,FALSE),IF(IFERROR(SEARCH(\"Propane\",$A$14),0)>0,VLOOKUP(\"Propane\",HVACg_Lookup,MATCH(Worksheet!$F$12,BuildingSize,0)+1,FALSE),0)))","v":0},0,0,"",""]
[null,null,"",null,null,null,null,null,null,null,null,null,0,0,0,0,"",0,0,0,0,0,0,0,0,0,0,0,0,0,0,0,{"$f":"T350/1000*V350*X350*IF(IFERROR(SEARCH(\"Gas\",$A$14),0)>0,VLOOKUP(\"Gas\",HVACg_Lookup,MATCH($F$12,BuildingSize,0)+1,FALSE),IF(IFERROR(SEARCH(\"Oil\",$A$14),0)>0,VLOOKUP(\"Oil\",HVACg_Lookup,MATCH($F$12,BuildingSize,0)+1,FALSE),IF(IFERROR(SEARCH(\"Propane\",$A$14),0)>0,VLOOKUP(\"Propane\",HVACg_Lookup,MATCH(Worksheet!$F$12,BuildingSize,0)+1,FALSE),0)))","v":0},{"$f":"U350/1000*V350*X350*IF(IFERROR(SEARCH(\"Gas\",$A$14),0)>0,VLOOKUP(\"Gas\",HVACg_Lookup,MATCH($F$12,BuildingSize,0)+1,FALSE),IF(IFERROR(SEARCH(\"Oil\",$A$14),0)>0,VLOOKUP(\"Oil\",HVACg_Lookup,MATCH($F$12,BuildingSize,0)+1,FALSE),IF(IFERROR(SEARCH(\"Propane\",$A$14),0)>0,VLOOKUP(\"Propane\",HVACg_Lookup,MATCH(Worksheet!$F$12,BuildingSize,0)+1,FALSE),0)))","v":0},0,0,"",""]
[null,null,"",null,null,null,null,null,null,null,null,null,0,0,0,0,"",0,0,0,0,0,0,0,0,0,0,0,0,0,0,0,{"$f":"T351/1000*V351*X351*IF(IFERROR(SEARCH(\"Gas\",$A$14),0)>0,VLOOKUP(\"Gas\",HVACg_Lookup,MATCH($F$12,BuildingSize,0)+1,FALSE),IF(IFERROR(SEARCH(\"Oil\",$A$14),0)>0,VLOOKUP(\"Oil\",HVACg_Lookup,MATCH($F$12,BuildingSize,0)+1,FALSE),IF(IFERROR(SEARCH(\"Propane\",$A$14),0)>0,VLOOKUP(\"Propane\",HVACg_Lookup,MATCH(Worksheet!$F$12,BuildingSize,0)+1,FALSE),0)))","v":0},{"$f":"U351/1000*V351*X351*IF(IFERROR(SEARCH(\"Gas\",$A$14),0)>0,VLOOKUP(\"Gas\",HVACg_Lookup,MATCH($F$12,BuildingSize,0)+1,FALSE),IF(IFERROR(SEARCH(\"Oil\",$A$14),0)>0,VLOOKUP(\"Oil\",HVACg_Lookup,MATCH($F$12,BuildingSize,0)+1,FALSE),IF(IFERROR(SEARCH(\"Propane\",$A$14),0)>0,VLOOKUP(\"Propane\",HVACg_Lookup,MATCH(Worksheet!$F$12,BuildingSize,0)+1,FALSE),0)))","v":0},0,0,"",""]
[null,null,"",null,null,null,null,null,null,null,null,null,0,0,0,0,"",0,0,0,0,0,0,0,0,0,0,0,0,0,0,0,{"$f":"T352/1000*V352*X352*IF(IFERROR(SEARCH(\"Gas\",$A$14),0)>0,VLOOKUP(\"Gas\",HVACg_Lookup,MATCH($F$12,BuildingSize,0)+1,FALSE),IF(IFERROR(SEARCH(\"Oil\",$A$14),0)>0,VLOOKUP(\"Oil\",HVACg_Lookup,MATCH($F$12,BuildingSize,0)+1,FALSE),IF(IFERROR(SEARCH(\"Propane\",$A$14),0)>0,VLOOKUP(\"Propane\",HVACg_Lookup,MATCH(Worksheet!$F$12,BuildingSize,0)+1,FALSE),0)))","v":0},{"$f":"U352/1000*V352*X352*IF(IFERROR(SEARCH(\"Gas\",$A$14),0)>0,VLOOKUP(\"Gas\",HVACg_Lookup,MATCH($F$12,BuildingSize,0)+1,FALSE),IF(IFERROR(SEARCH(\"Oil\",$A$14),0)>0,VLOOKUP(\"Oil\",HVACg_Lookup,MATCH($F$12,BuildingSize,0)+1,FALSE),IF(IFERROR(SEARCH(\"Propane\",$A$14),0)>0,VLOOKUP(\"Propane\",HVACg_Lookup,MATCH(Worksheet!$F$12,BuildingSize,0)+1,FALSE),0)))","v":0},0,0,"",""]
[null,null,"",null,null,null,null,null,null,null,null,null,0,0,0,0,"",0,0,0,0,0,0,0,0,0,0,0,0,0,0,0,{"$f":"T353/1000*V353*X353*IF(IFERROR(SEARCH(\"Gas\",$A$14),0)>0,VLOOKUP(\"Gas\",HVACg_Lookup,MATCH($F$12,BuildingSize,0)+1,FALSE),IF(IFERROR(SEARCH(\"Oil\",$A$14),0)>0,VLOOKUP(\"Oil\",HVACg_Lookup,MATCH($F$12,BuildingSize,0)+1,FALSE),IF(IFERROR(SEARCH(\"Propane\",$A$14),0)>0,VLOOKUP(\"Propane\",HVACg_Lookup,MATCH(Worksheet!$F$12,BuildingSize,0)+1,FALSE),0)))","v":0},{"$f":"U353/1000*V353*X353*IF(IFERROR(SEARCH(\"Gas\",$A$14),0)>0,VLOOKUP(\"Gas\",HVACg_Lookup,MATCH($F$12,BuildingSize,0)+1,FALSE),IF(IFERROR(SEARCH(\"Oil\",$A$14),0)>0,VLOOKUP(\"Oil\",HVACg_Lookup,MATCH($F$12,BuildingSize,0)+1,FALSE),IF(IFERROR(SEARCH(\"Propane\",$A$14),0)>0,VLOOKUP(\"Propane\",HVACg_Lookup,MATCH(Worksheet!$F$12,BuildingSize,0)+1,FALSE),0)))","v":0},0,0,"",""]
[null,null,"",null,null,null,null,null,null,null,null,null,0,0,0,0,"",0,0,0,0,0,0,0,0,0,0,0,0,0,0,0,{"$f":"T354/1000*V354*X354*IF(IFERROR(SEARCH(\"Gas\",$A$14),0)>0,VLOOKUP(\"Gas\",HVACg_Lookup,MATCH($F$12,BuildingSize,0)+1,FALSE),IF(IFERROR(SEARCH(\"Oil\",$A$14),0)>0,VLOOKUP(\"Oil\",HVACg_Lookup,MATCH($F$12,BuildingSize,0)+1,FALSE),IF(IFERROR(SEARCH(\"Propane\",$A$14),0)>0,VLOOKUP(\"Propane\",HVACg_Lookup,MATCH(Worksheet!$F$12,BuildingSize,0)+1,FALSE),0)))","v":0},{"$f":"U354/1000*V354*X354*IF(IFERROR(SEARCH(\"Gas\",$A$14),0)>0,VLOOKUP(\"Gas\",HVACg_Lookup,MATCH($F$12,BuildingSize,0)+1,FALSE),IF(IFERROR(SEARCH(\"Oil\",$A$14),0)>0,VLOOKUP(\"Oil\",HVACg_Lookup,MATCH($F$12,BuildingSize,0)+1,FALSE),IF(IFERROR(SEARCH(\"Propane\",$A$14),0)>0,VLOOKUP(\"Propane\",HVACg_Lookup,MATCH(Worksheet!$F$12,BuildingSize,0)+1,FALSE),0)))","v":0},0,0,"",""]
[null,null,"",null,null,null,null,null,null,null,null,null,0,0,0,0,"",0,0,0,0,0,0,0,0,0,0,0,0,0,0,0,{"$f":"T355/1000*V355*X355*IF(IFERROR(SEARCH(\"Gas\",$A$14),0)>0,VLOOKUP(\"Gas\",HVACg_Lookup,MATCH($F$12,BuildingSize,0)+1,FALSE),IF(IFERROR(SEARCH(\"Oil\",$A$14),0)>0,VLOOKUP(\"Oil\",HVACg_Lookup,MATCH($F$12,BuildingSize,0)+1,FALSE),IF(IFERROR(SEARCH(\"Propane\",$A$14),0)>0,VLOOKUP(\"Propane\",HVACg_Lookup,MATCH(Worksheet!$F$12,BuildingSize,0)+1,FALSE),0)))","v":0},{"$f":"U355/1000*V355*X355*IF(IFERROR(SEARCH(\"Gas\",$A$14),0)>0,VLOOKUP(\"Gas\",HVACg_Lookup,MATCH($F$12,BuildingSize,0)+1,FALSE),IF(IFERROR(SEARCH(\"Oil\",$A$14),0)>0,VLOOKUP(\"Oil\",HVACg_Lookup,MATCH($F$12,BuildingSize,0)+1,FALSE),IF(IFERROR(SEARCH(\"Propane\",$A$14),0)>0,VLOOKUP(\"Propane\",HVACg_Lookup,MATCH(Worksheet!$F$12,BuildingSize,0)+1,FALSE),0)))","v":0},0,0,"",""]
[null,null,"",null,null,null,null,null,null,null,null,null,0,0,0,0,"",0,0,0,0,0,0,0,0,0,0,0,0,0,0,0,{"$f":"T356/1000*V356*X356*IF(IFERROR(SEARCH(\"Gas\",$A$14),0)>0,VLOOKUP(\"Gas\",HVACg_Lookup,MATCH($F$12,BuildingSize,0)+1,FALSE),IF(IFERROR(SEARCH(\"Oil\",$A$14),0)>0,VLOOKUP(\"Oil\",HVACg_Lookup,MATCH($F$12,BuildingSize,0)+1,FALSE),IF(IFERROR(SEARCH(\"Propane\",$A$14),0)>0,VLOOKUP(\"Propane\",HVACg_Lookup,MATCH(Worksheet!$F$12,BuildingSize,0)+1,FALSE),0)))","v":0},{"$f":"U356/1000*V356*X356*IF(IFERROR(SEARCH(\"Gas\",$A$14),0)>0,VLOOKUP(\"Gas\",HVACg_Lookup,MATCH($F$12,BuildingSize,0)+1,FALSE),IF(IFERROR(SEARCH(\"Oil\",$A$14),0)>0,VLOOKUP(\"Oil\",HVACg_Lookup,MATCH($F$12,BuildingSize,0)+1,FALSE),IF(IFERROR(SEARCH(\"Propane\",$A$14),0)>0,VLOOKUP(\"Propane\",HVACg_Lookup,MATCH(Worksheet!$F$12,BuildingSize,0)+1,FALSE),0)))","v":0},0,0,"",""]
[null,null,"",null,null,null,null,null,null,null,null,null,0,0,0,0,"",0,0,0,0,0,0,0,0,0,0,0,0,0,0,0,{"$f":"T357/1000*V357*X357*IF(IFERROR(SEARCH(\"Gas\",$A$14),0)>0,VLOOKUP(\"Gas\",HVACg_Lookup,MATCH($F$12,BuildingSize,0)+1,FALSE),IF(IFERROR(SEARCH(\"Oil\",$A$14),0)>0,VLOOKUP(\"Oil\",HVACg_Lookup,MATCH($F$12,BuildingSize,0)+1,FALSE),IF(IFERROR(SEARCH(\"Propane\",$A$14),0)>0,VLOOKUP(\"Propane\",HVACg_Lookup,MATCH(Worksheet!$F$12,BuildingSize,0)+1,FALSE),0)))","v":0},{"$f":"U357/1000*V357*X357*IF(IFERROR(SEARCH(\"Gas\",$A$14),0)>0,VLOOKUP(\"Gas\",HVACg_Lookup,MATCH($F$12,BuildingSize,0)+1,FALSE),IF(IFERROR(SEARCH(\"Oil\",$A$14),0)>0,VLOOKUP(\"Oil\",HVACg_Lookup,MATCH($F$12,BuildingSize,0)+1,FALSE),IF(IFERROR(SEARCH(\"Propane\",$A$14),0)>0,VLOOKUP(\"Propane\",HVACg_Lookup,MATCH(Worksheet!$F$12,BuildingSize,0)+1,FALSE),0)))","v":0},0,0,"",""]
[null,null,"",null,null,null,null,null,null,null,null,null,0,0,0,0,"",0,0,0,0,0,0,0,0,0,0,0,0,0,0,0,{"$f":"T358/1000*V358*X358*IF(IFERROR(SEARCH(\"Gas\",$A$14),0)>0,VLOOKUP(\"Gas\",HVACg_Lookup,MATCH($F$12,BuildingSize,0)+1,FALSE),IF(IFERROR(SEARCH(\"Oil\",$A$14),0)>0,VLOOKUP(\"Oil\",HVACg_Lookup,MATCH($F$12,BuildingSize,0)+1,FALSE),IF(IFERROR(SEARCH(\"Propane\",$A$14),0)>0,VLOOKUP(\"Propane\",HVACg_Lookup,MATCH(Worksheet!$F$12,BuildingSize,0)+1,FALSE),0)))","v":0},{"$f":"U358/1000*V358*X358*IF(IFERROR(SEARCH(\"Gas\",$A$14),0)>0,VLOOKUP(\"Gas\",HVACg_Lookup,MATCH($F$12,BuildingSize,0)+1,FALSE),IF(IFERROR(SEARCH(\"Oil\",$A$14),0)>0,VLOOKUP(\"Oil\",HVACg_Lookup,MATCH($F$12,BuildingSize,0)+1,FALSE),IF(IFERROR(SEARCH(\"Propane\",$A$14),0)>0,VLOOKUP(\"Propane\",HVACg_Lookup,MATCH(Worksheet!$F$12,BuildingSize,0)+1,FALSE),0)))","v":0},0,0,"",""]
[null,null,"",null,null,null,null,null,null,null,null,null,0,0,0,0,"",0,0,0,0,0,0,0,0,0,0,0,0,0,0,0,{"$f":"T359/1000*V359*X359*IF(IFERROR(SEARCH(\"Gas\",$A$14),0)>0,VLOOKUP(\"Gas\",HVACg_Lookup,MATCH($F$12,BuildingSize,0)+1,FALSE),IF(IFERROR(SEARCH(\"Oil\",$A$14),0)>0,VLOOKUP(\"Oil\",HVACg_Lookup,MATCH($F$12,BuildingSize,0)+1,FALSE),IF(IFERROR(SEARCH(\"Propane\",$A$14),0)>0,VLOOKUP(\"Propane\",HVACg_Lookup,MATCH(Worksheet!$F$12,BuildingSize,0)+1,FALSE),0)))","v":0},{"$f":"U359/1000*V359*X359*IF(IFERROR(SEARCH(\"Gas\",$A$14),0)>0,VLOOKUP(\"Gas\",HVACg_Lookup,MATCH($F$12,BuildingSize,0)+1,FALSE),IF(IFERROR(SEARCH(\"Oil\",$A$14),0)>0,VLOOKUP(\"Oil\",HVACg_Lookup,MATCH($F$12,BuildingSize,0)+1,FALSE),IF(IFERROR(SEARCH(\"Propane\",$A$14),0)>0,VLOOKUP(\"Propane\",HVACg_Lookup,MATCH(Worksheet!$F$12,BuildingSize,0)+1,FALSE),0)))","v":0},0,0,"",""]
[null,null,"",null,null,null,null,null,null,null,null,null,0,0,0,0,"",0,0,0,0,0,0,0,0,0,0,0,0,0,0,0,{"$f":"T360/1000*V360*X360*IF(IFERROR(SEARCH(\"Gas\",$A$14),0)>0,VLOOKUP(\"Gas\",HVACg_Lookup,MATCH($F$12,BuildingSize,0)+1,FALSE),IF(IFERROR(SEARCH(\"Oil\",$A$14),0)>0,VLOOKUP(\"Oil\",HVACg_Lookup,MATCH($F$12,BuildingSize,0)+1,FALSE),IF(IFERROR(SEARCH(\"Propane\",$A$14),0)>0,VLOOKUP(\"Propane\",HVACg_Lookup,MATCH(Worksheet!$F$12,BuildingSize,0)+1,FALSE),0)))","v":0},{"$f":"U360/1000*V360*X360*IF(IFERROR(SEARCH(\"Gas\",$A$14),0)>0,VLOOKUP(\"Gas\",HVACg_Lookup,MATCH($F$12,BuildingSize,0)+1,FALSE),IF(IFERROR(SEARCH(\"Oil\",$A$14),0)>0,VLOOKUP(\"Oil\",HVACg_Lookup,MATCH($F$12,BuildingSize,0)+1,FALSE),IF(IFERROR(SEARCH(\"Propane\",$A$14),0)>0,VLOOKUP(\"Propane\",HVACg_Lookup,MATCH(Worksheet!$F$12,BuildingSize,0)+1,FALSE),0)))","v":0},0,0,"",""]
[null,null,"",null,null,null,null,null,null,null,null,null,0,0,0,0,"",0,0,0,0,0,0,0,0,0,0,0,0,0,0,0,{"$f":"T361/1000*V361*X361*IF(IFERROR(SEARCH(\"Gas\",$A$14),0)>0,VLOOKUP(\"Gas\",HVACg_Lookup,MATCH($F$12,BuildingSize,0)+1,FALSE),IF(IFERROR(SEARCH(\"Oil\",$A$14),0)>0,VLOOKUP(\"Oil\",HVACg_Lookup,MATCH($F$12,BuildingSize,0)+1,FALSE),IF(IFERROR(SEARCH(\"Propane\",$A$14),0)>0,VLOOKUP(\"Propane\",HVACg_Lookup,MATCH(Worksheet!$F$12,BuildingSize,0)+1,FALSE),0)))","v":0},{"$f":"U361/1000*V361*X361*IF(IFERROR(SEARCH(\"Gas\",$A$14),0)>0,VLOOKUP(\"Gas\",HVACg_Lookup,MATCH($F$12,BuildingSize,0)+1,FALSE),IF(IFERROR(SEARCH(\"Oil\",$A$14),0)>0,VLOOKUP(\"Oil\",HVACg_Lookup,MATCH($F$12,BuildingSize,0)+1,FALSE),IF(IFERROR(SEARCH(\"Propane\",$A$14),0)>0,VLOOKUP(\"Propane\",HVACg_Lookup,MATCH(Worksheet!$F$12,BuildingSize,0)+1,FALSE),0)))","v":0},0,0,"",""]
[null,null,"",null,null,null,null,null,null,null,null,null,0,0,0,0,"",0,0,0,0,0,0,0,0,0,0,0,0,0,0,0,{"$f":"T362/1000*V362*X362*IF(IFERROR(SEARCH(\"Gas\",$A$14),0)>0,VLOOKUP(\"Gas\",HVACg_Lookup,MATCH($F$12,BuildingSize,0)+1,FALSE),IF(IFERROR(SEARCH(\"Oil\",$A$14),0)>0,VLOOKUP(\"Oil\",HVACg_Lookup,MATCH($F$12,BuildingSize,0)+1,FALSE),IF(IFERROR(SEARCH(\"Propane\",$A$14),0)>0,VLOOKUP(\"Propane\",HVACg_Lookup,MATCH(Worksheet!$F$12,BuildingSize,0)+1,FALSE),0)))","v":0},{"$f":"U362/1000*V362*X362*IF(IFERROR(SEARCH(\"Gas\",$A$14),0)>0,VLOOKUP(\"Gas\",HVACg_Lookup,MATCH($F$12,BuildingSize,0)+1,FALSE),IF(IFERROR(SEARCH(\"Oil\",$A$14),0)>0,VLOOKUP(\"Oil\",HVACg_Lookup,MATCH($F$12,BuildingSize,0)+1,FALSE),IF(IFERROR(SEARCH(\"Propane\",$A$14),0)>0,VLOOKUP(\"Propane\",HVACg_Lookup,MATCH(Worksheet!$F$12,BuildingSize,0)+1,FALSE),0)))","v":0},0,0,"",""]
[null,null,"",null,null,null,null,null,null,null,null,null,0,0,0,0,"",0,0,0,0,0,0,0,0,0,0,0,0,0,0,0,{"$f":"T363/1000*V363*X363*IF(IFERROR(SEARCH(\"Gas\",$A$14),0)>0,VLOOKUP(\"Gas\",HVACg_Lookup,MATCH($F$12,BuildingSize,0)+1,FALSE),IF(IFERROR(SEARCH(\"Oil\",$A$14),0)>0,VLOOKUP(\"Oil\",HVACg_Lookup,MATCH($F$12,BuildingSize,0)+1,FALSE),IF(IFERROR(SEARCH(\"Propane\",$A$14),0)>0,VLOOKUP(\"Propane\",HVACg_Lookup,MATCH(Worksheet!$F$12,BuildingSize,0)+1,FALSE),0)))","v":0},{"$f":"U363/1000*V363*X363*IF(IFERROR(SEARCH(\"Gas\",$A$14),0)>0,VLOOKUP(\"Gas\",HVACg_Lookup,MATCH($F$12,BuildingSize,0)+1,FALSE),IF(IFERROR(SEARCH(\"Oil\",$A$14),0)>0,VLOOKUP(\"Oil\",HVACg_Lookup,MATCH($F$12,BuildingSize,0)+1,FALSE),IF(IFERROR(SEARCH(\"Propane\",$A$14),0)>0,VLOOKUP(\"Propane\",HVACg_Lookup,MATCH(Worksheet!$F$12,BuildingSize,0)+1,FALSE),0)))","v":0},0,0,"",""]
[null,null,"",null,null,null,null,null,null,null,null,null,0,0,0,0,"",0,0,0,0,0,0,0,0,0,0,0,0,0,0,0,{"$f":"T364/1000*V364*X364*IF(IFERROR(SEARCH(\"Gas\",$A$14),0)>0,VLOOKUP(\"Gas\",HVACg_Lookup,MATCH($F$12,BuildingSize,0)+1,FALSE),IF(IFERROR(SEARCH(\"Oil\",$A$14),0)>0,VLOOKUP(\"Oil\",HVACg_Lookup,MATCH($F$12,BuildingSize,0)+1,FALSE),IF(IFERROR(SEARCH(\"Propane\",$A$14),0)>0,VLOOKUP(\"Propane\",HVACg_Lookup,MATCH(Worksheet!$F$12,BuildingSize,0)+1,FALSE),0)))","v":0},{"$f":"U364/1000*V364*X364*IF(IFERROR(SEARCH(\"Gas\",$A$14),0)>0,VLOOKUP(\"Gas\",HVACg_Lookup,MATCH($F$12,BuildingSize,0)+1,FALSE),IF(IFERROR(SEARCH(\"Oil\",$A$14),0)>0,VLOOKUP(\"Oil\",HVACg_Lookup,MATCH($F$12,BuildingSize,0)+1,FALSE),IF(IFERROR(SEARCH(\"Propane\",$A$14),0)>0,VLOOKUP(\"Propane\",HVACg_Lookup,MATCH(Worksheet!$F$12,BuildingSize,0)+1,FALSE),0)))","v":0},0,0,"",""]
[null,null,"",null,null,null,null,null,null,null,null,null,0,0,0,0,"",0,0,0,0,0,0,0,0,0,0,0,0,0,0,0,{"$f":"T365/1000*V365*X365*IF(IFERROR(SEARCH(\"Gas\",$A$14),0)>0,VLOOKUP(\"Gas\",HVACg_Lookup,MATCH($F$12,BuildingSize,0)+1,FALSE),IF(IFERROR(SEARCH(\"Oil\",$A$14),0)>0,VLOOKUP(\"Oil\",HVACg_Lookup,MATCH($F$12,BuildingSize,0)+1,FALSE),IF(IFERROR(SEARCH(\"Propane\",$A$14),0)>0,VLOOKUP(\"Propane\",HVACg_Lookup,MATCH(Worksheet!$F$12,BuildingSize,0)+1,FALSE),0)))","v":0},{"$f":"U365/1000*V365*X365*IF(IFERROR(SEARCH(\"Gas\",$A$14),0)>0,VLOOKUP(\"Gas\",HVACg_Lookup,MATCH($F$12,BuildingSize,0)+1,FALSE),IF(IFERROR(SEARCH(\"Oil\",$A$14),0)>0,VLOOKUP(\"Oil\",HVACg_Lookup,MATCH($F$12,BuildingSize,0)+1,FALSE),IF(IFERROR(SEARCH(\"Propane\",$A$14),0)>0,VLOOKUP(\"Propane\",HVACg_Lookup,MATCH(Worksheet!$F$12,BuildingSize,0)+1,FALSE),0)))","v":0},0,0,"",""]
[null,null,"",null,null,null,null,null,null,null,null,null,0,0,0,0,"",0,0,0,0,0,0,0,0,0,0,0,0,0,0,0,{"$f":"T366/1000*V366*X366*IF(IFERROR(SEARCH(\"Gas\",$A$14),0)>0,VLOOKUP(\"Gas\",HVACg_Lookup,MATCH($F$12,BuildingSize,0)+1,FALSE),IF(IFERROR(SEARCH(\"Oil\",$A$14),0)>0,VLOOKUP(\"Oil\",HVACg_Lookup,MATCH($F$12,BuildingSize,0)+1,FALSE),IF(IFERROR(SEARCH(\"Propane\",$A$14),0)>0,VLOOKUP(\"Propane\",HVACg_Lookup,MATCH(Worksheet!$F$12,BuildingSize,0)+1,FALSE),0)))","v":0},{"$f":"U366/1000*V366*X366*IF(IFERROR(SEARCH(\"Gas\",$A$14),0)>0,VLOOKUP(\"Gas\",HVACg_Lookup,MATCH($F$12,BuildingSize,0)+1,FALSE),IF(IFERROR(SEARCH(\"Oil\",$A$14),0)>0,VLOOKUP(\"Oil\",HVACg_Lookup,MATCH($F$12,BuildingSize,0)+1,FALSE),IF(IFERROR(SEARCH(\"Propane\",$A$14),0)>0,VLOOKUP(\"Propane\",HVACg_Lookup,MATCH(Worksheet!$F$12,BuildingSize,0)+1,FALSE),0)))","v":0},0,0,"",""]
[null,null,"",null,null,null,null,null,null,null,null,null,0,0,0,0,"",0,0,0,0,0,0,0,0,0,0,0,0,0,0,0,{"$f":"T367/1000*V367*X367*IF(IFERROR(SEARCH(\"Gas\",$A$14),0)>0,VLOOKUP(\"Gas\",HVACg_Lookup,MATCH($F$12,BuildingSize,0)+1,FALSE),IF(IFERROR(SEARCH(\"Oil\",$A$14),0)>0,VLOOKUP(\"Oil\",HVACg_Lookup,MATCH($F$12,BuildingSize,0)+1,FALSE),IF(IFERROR(SEARCH(\"Propane\",$A$14),0)>0,VLOOKUP(\"Propane\",HVACg_Lookup,MATCH(Worksheet!$F$12,BuildingSize,0)+1,FALSE),0)))","v":0},{"$f":"U367/1000*V367*X367*IF(IFERROR(SEARCH(\"Gas\",$A$14),0)>0,VLOOKUP(\"Gas\",HVACg_Lookup,MATCH($F$12,BuildingSize,0)+1,FALSE),IF(IFERROR(SEARCH(\"Oil\",$A$14),0)>0,VLOOKUP(\"Oil\",HVACg_Lookup,MATCH($F$12,BuildingSize,0)+1,FALSE),IF(IFERROR(SEARCH(\"Propane\",$A$14),0)>0,VLOOKUP(\"Propane\",HVACg_Lookup,MATCH(Worksheet!$F$12,BuildingSize,0)+1,FALSE),0)))","v":0},0,0,"",""]
[null,null,"",null,null,null,null,null,null,null,null,null,0,0,0,0,"",0,0,0,0,0,0,0,0,0,0,0,0,0,0,0,{"$f":"T368/1000*V368*X368*IF(IFERROR(SEARCH(\"Gas\",$A$14),0)>0,VLOOKUP(\"Gas\",HVACg_Lookup,MATCH($F$12,BuildingSize,0)+1,FALSE),IF(IFERROR(SEARCH(\"Oil\",$A$14),0)>0,VLOOKUP(\"Oil\",HVACg_Lookup,MATCH($F$12,BuildingSize,0)+1,FALSE),IF(IFERROR(SEARCH(\"Propane\",$A$14),0)>0,VLOOKUP(\"Propane\",HVACg_Lookup,MATCH(Worksheet!$F$12,BuildingSize,0)+1,FALSE),0)))","v":0},{"$f":"U368/1000*V368*X368*IF(IFERROR(SEARCH(\"Gas\",$A$14),0)>0,VLOOKUP(\"Gas\",HVACg_Lookup,MATCH($F$12,BuildingSize,0)+1,FALSE),IF(IFERROR(SEARCH(\"Oil\",$A$14),0)>0,VLOOKUP(\"Oil\",HVACg_Lookup,MATCH($F$12,BuildingSize,0)+1,FALSE),IF(IFERROR(SEARCH(\"Propane\",$A$14),0)>0,VLOOKUP(\"Propane\",HVACg_Lookup,MATCH(Worksheet!$F$12,BuildingSize,0)+1,FALSE),0)))","v":0},0,0,"",""]
[null,null,"",null,null,null,null,null,null,null,null,null,0,0,0,0,"",0,0,0,0,0,0,0,0,0,0,0,0,0,0,0,{"$f":"T369/1000*V369*X369*IF(IFERROR(SEARCH(\"Gas\",$A$14),0)>0,VLOOKUP(\"Gas\",HVACg_Lookup,MATCH($F$12,BuildingSize,0)+1,FALSE),IF(IFERROR(SEARCH(\"Oil\",$A$14),0)>0,VLOOKUP(\"Oil\",HVACg_Lookup,MATCH($F$12,BuildingSize,0)+1,FALSE),IF(IFERROR(SEARCH(\"Propane\",$A$14),0)>0,VLOOKUP(\"Propane\",HVACg_Lookup,MATCH(Worksheet!$F$12,BuildingSize,0)+1,FALSE),0)))","v":0},{"$f":"U369/1000*V369*X369*IF(IFERROR(SEARCH(\"Gas\",$A$14),0)>0,VLOOKUP(\"Gas\",HVACg_Lookup,MATCH($F$12,BuildingSize,0)+1,FALSE),IF(IFERROR(SEARCH(\"Oil\",$A$14),0)>0,VLOOKUP(\"Oil\",HVACg_Lookup,MATCH($F$12,BuildingSize,0)+1,FALSE),IF(IFERROR(SEARCH(\"Propane\",$A$14),0)>0,VLOOKUP(\"Propane\",HVACg_Lookup,MATCH(Worksheet!$F$12,BuildingSize,0)+1,FALSE),0)))","v":0},0,0,"",""]
[null,null,"",null,null,null,null,null,null,null,null,null,0,0,0,0,"",0,0,0,0,0,0,0,0,0,0,0,0,0,0,0,{"$f":"T370/1000*V370*X370*IF(IFERROR(SEARCH(\"Gas\",$A$14),0)>0,VLOOKUP(\"Gas\",HVACg_Lookup,MATCH($F$12,BuildingSize,0)+1,FALSE),IF(IFERROR(SEARCH(\"Oil\",$A$14),0)>0,VLOOKUP(\"Oil\",HVACg_Lookup,MATCH($F$12,BuildingSize,0)+1,FALSE),IF(IFERROR(SEARCH(\"Propane\",$A$14),0)>0,VLOOKUP(\"Propane\",HVACg_Lookup,MATCH(Worksheet!$F$12,BuildingSize,0)+1,FALSE),0)))","v":0},{"$f":"U370/1000*V370*X370*IF(IFERROR(SEARCH(\"Gas\",$A$14),0)>0,VLOOKUP(\"Gas\",HVACg_Lookup,MATCH($F$12,BuildingSize,0)+1,FALSE),IF(IFERROR(SEARCH(\"Oil\",$A$14),0)>0,VLOOKUP(\"Oil\",HVACg_Lookup,MATCH($F$12,BuildingSize,0)+1,FALSE),IF(IFERROR(SEARCH(\"Propane\",$A$14),0)>0,VLOOKUP(\"Propane\",HVACg_Lookup,MATCH(Worksheet!$F$12,BuildingSize,0)+1,FALSE),0)))","v":0},0,0,"",""]
[null,null,"",null,null,null,null,null,null,null,null,null,0,0,0,0,"",0,0,0,0,0,0,0,0,0,0,0,0,0,0,0,{"$f":"T371/1000*V371*X371*IF(IFERROR(SEARCH(\"Gas\",$A$14),0)>0,VLOOKUP(\"Gas\",HVACg_Lookup,MATCH($F$12,BuildingSize,0)+1,FALSE),IF(IFERROR(SEARCH(\"Oil\",$A$14),0)>0,VLOOKUP(\"Oil\",HVACg_Lookup,MATCH($F$12,BuildingSize,0)+1,FALSE),IF(IFERROR(SEARCH(\"Propane\",$A$14),0)>0,VLOOKUP(\"Propane\",HVACg_Lookup,MATCH(Worksheet!$F$12,BuildingSize,0)+1,FALSE),0)))","v":0},{"$f":"U371/1000*V371*X371*IF(IFERROR(SEARCH(\"Gas\",$A$14),0)>0,VLOOKUP(\"Gas\",HVACg_Lookup,MATCH($F$12,BuildingSize,0)+1,FALSE),IF(IFERROR(SEARCH(\"Oil\",$A$14),0)>0,VLOOKUP(\"Oil\",HVACg_Lookup,MATCH($F$12,BuildingSize,0)+1,FALSE),IF(IFERROR(SEARCH(\"Propane\",$A$14),0)>0,VLOOKUP(\"Propane\",HVACg_Lookup,MATCH(Worksheet!$F$12,BuildingSize,0)+1,FALSE),0)))","v":0},0,0,"",""]
[null,null,"",null,null,null,null,null,null,null,null,null,0,0,0,0,"",0,0,0,0,0,0,0,0,0,0,0,0,0,0,0,{"$f":"T372/1000*V372*X372*IF(IFERROR(SEARCH(\"Gas\",$A$14),0)>0,VLOOKUP(\"Gas\",HVACg_Lookup,MATCH($F$12,BuildingSize,0)+1,FALSE),IF(IFERROR(SEARCH(\"Oil\",$A$14),0)>0,VLOOKUP(\"Oil\",HVACg_Lookup,MATCH($F$12,BuildingSize,0)+1,FALSE),IF(IFERROR(SEARCH(\"Propane\",$A$14),0)>0,VLOOKUP(\"Propane\",HVACg_Lookup,MATCH(Worksheet!$F$12,BuildingSize,0)+1,FALSE),0)))","v":0},{"$f":"U372/1000*V372*X372*IF(IFERROR(SEARCH(\"Gas\",$A$14),0)>0,VLOOKUP(\"Gas\",HVACg_Lookup,MATCH($F$12,BuildingSize,0)+1,FALSE),IF(IFERROR(SEARCH(\"Oil\",$A$14),0)>0,VLOOKUP(\"Oil\",HVACg_Lookup,MATCH($F$12,BuildingSize,0)+1,FALSE),IF(IFERROR(SEARCH(\"Propane\",$A$14),0)>0,VLOOKUP(\"Propane\",HVACg_Lookup,MATCH(Worksheet!$F$12,BuildingSize,0)+1,FALSE),0)))","v":0},0,0,"",""]
[null,null,"",null,null,null,null,null,null,null,null,null,0,0,0,0,"",0,0,0,0,0,0,0,0,0,0,0,0,0,0,0,{"$f":"T373/1000*V373*X373*IF(IFERROR(SEARCH(\"Gas\",$A$14),0)>0,VLOOKUP(\"Gas\",HVACg_Lookup,MATCH($F$12,BuildingSize,0)+1,FALSE),IF(IFERROR(SEARCH(\"Oil\",$A$14),0)>0,VLOOKUP(\"Oil\",HVACg_Lookup,MATCH($F$12,BuildingSize,0)+1,FALSE),IF(IFERROR(SEARCH(\"Propane\",$A$14),0)>0,VLOOKUP(\"Propane\",HVACg_Lookup,MATCH(Worksheet!$F$12,BuildingSize,0)+1,FALSE),0)))","v":0},{"$f":"U373/1000*V373*X373*IF(IFERROR(SEARCH(\"Gas\",$A$14),0)>0,VLOOKUP(\"Gas\",HVACg_Lookup,MATCH($F$12,BuildingSize,0)+1,FALSE),IF(IFERROR(SEARCH(\"Oil\",$A$14),0)>0,VLOOKUP(\"Oil\",HVACg_Lookup,MATCH($F$12,BuildingSize,0)+1,FALSE),IF(IFERROR(SEARCH(\"Propane\",$A$14),0)>0,VLOOKUP(\"Propane\",HVACg_Lookup,MATCH(Worksheet!$F$12,BuildingSize,0)+1,FALSE),0)))","v":0},0,0,"",""]
[null,null,"",null,null,null,null,null,null,null,null,null,0,0,0,0,"",0,0,0,0,0,0,0,0,0,0,0,0,0,0,0,{"$f":"T374/1000*V374*X374*IF(IFERROR(SEARCH(\"Gas\",$A$14),0)>0,VLOOKUP(\"Gas\",HVACg_Lookup,MATCH($F$12,BuildingSize,0)+1,FALSE),IF(IFERROR(SEARCH(\"Oil\",$A$14),0)>0,VLOOKUP(\"Oil\",HVACg_Lookup,MATCH($F$12,BuildingSize,0)+1,FALSE),IF(IFERROR(SEARCH(\"Propane\",$A$14),0)>0,VLOOKUP(\"Propane\",HVACg_Lookup,MATCH(Worksheet!$F$12,BuildingSize,0)+1,FALSE),0)))","v":0},{"$f":"U374/1000*V374*X374*IF(IFERROR(SEARCH(\"Gas\",$A$14),0)>0,VLOOKUP(\"Gas\",HVACg_Lookup,MATCH($F$12,BuildingSize,0)+1,FALSE),IF(IFERROR(SEARCH(\"Oil\",$A$14),0)>0,VLOOKUP(\"Oil\",HVACg_Lookup,MATCH($F$12,BuildingSize,0)+1,FALSE),IF(IFERROR(SEARCH(\"Propane\",$A$14),0)>0,VLOOKUP(\"Propane\",HVACg_Lookup,MATCH(Worksheet!$F$12,BuildingSize,0)+1,FALSE),0)))","v":0},0,0,"",""]
[null,null,"",null,null,null,null,null,null,null,null,null,0,0,0,0,"",0,0,0,0,0,0,0,0,0,0,0,0,0,0,0,{"$f":"T375/1000*V375*X375*IF(IFERROR(SEARCH(\"Gas\",$A$14),0)>0,VLOOKUP(\"Gas\",HVACg_Lookup,MATCH($F$12,BuildingSize,0)+1,FALSE),IF(IFERROR(SEARCH(\"Oil\",$A$14),0)>0,VLOOKUP(\"Oil\",HVACg_Lookup,MATCH($F$12,BuildingSize,0)+1,FALSE),IF(IFERROR(SEARCH(\"Propane\",$A$14),0)>0,VLOOKUP(\"Propane\",HVACg_Lookup,MATCH(Worksheet!$F$12,BuildingSize,0)+1,FALSE),0)))","v":0},{"$f":"U375/1000*V375*X375*IF(IFERROR(SEARCH(\"Gas\",$A$14),0)>0,VLOOKUP(\"Gas\",HVACg_Lookup,MATCH($F$12,BuildingSize,0)+1,FALSE),IF(IFERROR(SEARCH(\"Oil\",$A$14),0)>0,VLOOKUP(\"Oil\",HVACg_Lookup,MATCH($F$12,BuildingSize,0)+1,FALSE),IF(IFERROR(SEARCH(\"Propane\",$A$14),0)>0,VLOOKUP(\"Propane\",HVACg_Lookup,MATCH(Worksheet!$F$12,BuildingSize,0)+1,FALSE),0)))","v":0},0,0,"",""]
[null,null,"",null,null,null,null,null,null,null,null,null,0,0,0,0,"",0,0,0,0,0,0,0,0,0,0,0,0,0,0,0,{"$f":"T376/1000*V376*X376*IF(IFERROR(SEARCH(\"Gas\",$A$14),0)>0,VLOOKUP(\"Gas\",HVACg_Lookup,MATCH($F$12,BuildingSize,0)+1,FALSE),IF(IFERROR(SEARCH(\"Oil\",$A$14),0)>0,VLOOKUP(\"Oil\",HVACg_Lookup,MATCH($F$12,BuildingSize,0)+1,FALSE),IF(IFERROR(SEARCH(\"Propane\",$A$14),0)>0,VLOOKUP(\"Propane\",HVACg_Lookup,MATCH(Worksheet!$F$12,BuildingSize,0)+1,FALSE),0)))","v":0},{"$f":"U376/1000*V376*X376*IF(IFERROR(SEARCH(\"Gas\",$A$14),0)>0,VLOOKUP(\"Gas\",HVACg_Lookup,MATCH($F$12,BuildingSize,0)+1,FALSE),IF(IFERROR(SEARCH(\"Oil\",$A$14),0)>0,VLOOKUP(\"Oil\",HVACg_Lookup,MATCH($F$12,BuildingSize,0)+1,FALSE),IF(IFERROR(SEARCH(\"Propane\",$A$14),0)>0,VLOOKUP(\"Propane\",HVACg_Lookup,MATCH(Worksheet!$F$12,BuildingSize,0)+1,FALSE),0)))","v":0},0,0,"",""]
[null,null,"",null,null,null,null,null,null,null,null,null,0,0,0,0,"",0,0,0,0,0,0,0,0,0,0,0,0,0,0,0,{"$f":"T377/1000*V377*X377*IF(IFERROR(SEARCH(\"Gas\",$A$14),0)>0,VLOOKUP(\"Gas\",HVACg_Lookup,MATCH($F$12,BuildingSize,0)+1,FALSE),IF(IFERROR(SEARCH(\"Oil\",$A$14),0)>0,VLOOKUP(\"Oil\",HVACg_Lookup,MATCH($F$12,BuildingSize,0)+1,FALSE),IF(IFERROR(SEARCH(\"Propane\",$A$14),0)>0,VLOOKUP(\"Propane\",HVACg_Lookup,MATCH(Worksheet!$F$12,BuildingSize,0)+1,FALSE),0)))","v":0},{"$f":"U377/1000*V377*X377*IF(IFERROR(SEARCH(\"Gas\",$A$14),0)>0,VLOOKUP(\"Gas\",HVACg_Lookup,MATCH($F$12,BuildingSize,0)+1,FALSE),IF(IFERROR(SEARCH(\"Oil\",$A$14),0)>0,VLOOKUP(\"Oil\",HVACg_Lookup,MATCH($F$12,BuildingSize,0)+1,FALSE),IF(IFERROR(SEARCH(\"Propane\",$A$14),0)>0,VLOOKUP(\"Propane\",HVACg_Lookup,MATCH(Worksheet!$F$12,BuildingSize,0)+1,FALSE),0)))","v":0},0,0,"",""]
[null,null,"",null,null,null,null,null,null,null,null,null,0,0,0,0,"",0,0,0,0,0,0,0,0,0,0,0,0,0,0,0,{"$f":"T378/1000*V378*X378*IF(IFERROR(SEARCH(\"Gas\",$A$14),0)>0,VLOOKUP(\"Gas\",HVACg_Lookup,MATCH($F$12,BuildingSize,0)+1,FALSE),IF(IFERROR(SEARCH(\"Oil\",$A$14),0)>0,VLOOKUP(\"Oil\",HVACg_Lookup,MATCH($F$12,BuildingSize,0)+1,FALSE),IF(IFERROR(SEARCH(\"Propane\",$A$14),0)>0,VLOOKUP(\"Propane\",HVACg_Lookup,MATCH(Worksheet!$F$12,BuildingSize,0)+1,FALSE),0)))","v":0},{"$f":"U378/1000*V378*X378*IF(IFERROR(SEARCH(\"Gas\",$A$14),0)>0,VLOOKUP(\"Gas\",HVACg_Lookup,MATCH($F$12,BuildingSize,0)+1,FALSE),IF(IFERROR(SEARCH(\"Oil\",$A$14),0)>0,VLOOKUP(\"Oil\",HVACg_Lookup,MATCH($F$12,BuildingSize,0)+1,FALSE),IF(IFERROR(SEARCH(\"Propane\",$A$14),0)>0,VLOOKUP(\"Propane\",HVACg_Lookup,MATCH(Worksheet!$F$12,BuildingSize,0)+1,FALSE),0)))","v":0},0,0,"",""]
[null,null,"",null,null,null,null,null,null,null,null,null,0,0,0,0,"",0,0,0,0,0,0,0,0,0,0,0,0,0,0,0,{"$f":"T379/1000*V379*X379*IF(IFERROR(SEARCH(\"Gas\",$A$14),0)>0,VLOOKUP(\"Gas\",HVACg_Lookup,MATCH($F$12,BuildingSize,0)+1,FALSE),IF(IFERROR(SEARCH(\"Oil\",$A$14),0)>0,VLOOKUP(\"Oil\",HVACg_Lookup,MATCH($F$12,BuildingSize,0)+1,FALSE),IF(IFERROR(SEARCH(\"Propane\",$A$14),0)>0,VLOOKUP(\"Propane\",HVACg_Lookup,MATCH(Worksheet!$F$12,BuildingSize,0)+1,FALSE),0)))","v":0},{"$f":"U379/1000*V379*X379*IF(IFERROR(SEARCH(\"Gas\",$A$14),0)>0,VLOOKUP(\"Gas\",HVACg_Lookup,MATCH($F$12,BuildingSize,0)+1,FALSE),IF(IFERROR(SEARCH(\"Oil\",$A$14),0)>0,VLOOKUP(\"Oil\",HVACg_Lookup,MATCH($F$12,BuildingSize,0)+1,FALSE),IF(IFERROR(SEARCH(\"Propane\",$A$14),0)>0,VLOOKUP(\"Propane\",HVACg_Lookup,MATCH(Worksheet!$F$12,BuildingSize,0)+1,FALSE),0)))","v":0},0,0,"",""]
[null,null,"",null,null,null,null,null,null,null,null,null,0,0,0,0,"",0,0,0,0,0,0,0,0,0,0,0,0,0,0,0,{"$f":"T380/1000*V380*X380*IF(IFERROR(SEARCH(\"Gas\",$A$14),0)>0,VLOOKUP(\"Gas\",HVACg_Lookup,MATCH($F$12,BuildingSize,0)+1,FALSE),IF(IFERROR(SEARCH(\"Oil\",$A$14),0)>0,VLOOKUP(\"Oil\",HVACg_Lookup,MATCH($F$12,BuildingSize,0)+1,FALSE),IF(IFERROR(SEARCH(\"Propane\",$A$14),0)>0,VLOOKUP(\"Propane\",HVACg_Lookup,MATCH(Worksheet!$F$12,BuildingSize,0)+1,FALSE),0)))","v":0},{"$f":"U380/1000*V380*X380*IF(IFERROR(SEARCH(\"Gas\",$A$14),0)>0,VLOOKUP(\"Gas\",HVACg_Lookup,MATCH($F$12,BuildingSize,0)+1,FALSE),IF(IFERROR(SEARCH(\"Oil\",$A$14),0)>0,VLOOKUP(\"Oil\",HVACg_Lookup,MATCH($F$12,BuildingSize,0)+1,FALSE),IF(IFERROR(SEARCH(\"Propane\",$A$14),0)>0,VLOOKUP(\"Propane\",HVACg_Lookup,MATCH(Worksheet!$F$12,BuildingSize,0)+1,FALSE),0)))","v":0},0,0,"",""]
[null,null,"",null,null,null,null,null,null,null,null,null,0,0,0,0,"",0,0,0,0,0,0,0,0,0,0,0,0,0,0,0,{"$f":"T381/1000*V381*X381*IF(IFERROR(SEARCH(\"Gas\",$A$14),0)>0,VLOOKUP(\"Gas\",HVACg_Lookup,MATCH($F$12,BuildingSize,0)+1,FALSE),IF(IFERROR(SEARCH(\"Oil\",$A$14),0)>0,VLOOKUP(\"Oil\",HVACg_Lookup,MATCH($F$12,BuildingSize,0)+1,FALSE),IF(IFERROR(SEARCH(\"Propane\",$A$14),0)>0,VLOOKUP(\"Propane\",HVACg_Lookup,MATCH(Worksheet!$F$12,BuildingSize,0)+1,FALSE),0)))","v":0},{"$f":"U381/1000*V381*X381*IF(IFERROR(SEARCH(\"Gas\",$A$14),0)>0,VLOOKUP(\"Gas\",HVACg_Lookup,MATCH($F$12,BuildingSize,0)+1,FALSE),IF(IFERROR(SEARCH(\"Oil\",$A$14),0)>0,VLOOKUP(\"Oil\",HVACg_Lookup,MATCH($F$12,BuildingSize,0)+1,FALSE),IF(IFERROR(SEARCH(\"Propane\",$A$14),0)>0,VLOOKUP(\"Propane\",HVACg_Lookup,MATCH(Worksheet!$F$12,BuildingSize,0)+1,FALSE),0)))","v":0},0,0,"",""]
[null,null,"",null,null,null,null,null,null,null,null,null,0,0,0,0,"",0,0,0,0,0,0,0,0,0,0,0,0,0,0,0,{"$f":"T382/1000*V382*X382*IF(IFERROR(SEARCH(\"Gas\",$A$14),0)>0,VLOOKUP(\"Gas\",HVACg_Lookup,MATCH($F$12,BuildingSize,0)+1,FALSE),IF(IFERROR(SEARCH(\"Oil\",$A$14),0)>0,VLOOKUP(\"Oil\",HVACg_Lookup,MATCH($F$12,BuildingSize,0)+1,FALSE),IF(IFERROR(SEARCH(\"Propane\",$A$14),0)>0,VLOOKUP(\"Propane\",HVACg_Lookup,MATCH(Worksheet!$F$12,BuildingSize,0)+1,FALSE),0)))","v":0},{"$f":"U382/1000*V382*X382*IF(IFERROR(SEARCH(\"Gas\",$A$14),0)>0,VLOOKUP(\"Gas\",HVACg_Lookup,MATCH($F$12,BuildingSize,0)+1,FALSE),IF(IFERROR(SEARCH(\"Oil\",$A$14),0)>0,VLOOKUP(\"Oil\",HVACg_Lookup,MATCH($F$12,BuildingSize,0)+1,FALSE),IF(IFERROR(SEARCH(\"Propane\",$A$14),0)>0,VLOOKUP(\"Propane\",HVACg_Lookup,MATCH(Worksheet!$F$12,BuildingSize,0)+1,FALSE),0)))","v":0},0,0,"",""]
[null,null,"",null,null,null,null,null,null,null,null,null,0,0,0,0,"",0,0,0,0,0,0,0,0,0,0,0,0,0,0,0,{"$f":"T383/1000*V383*X383*IF(IFERROR(SEARCH(\"Gas\",$A$14),0)>0,VLOOKUP(\"Gas\",HVACg_Lookup,MATCH($F$12,BuildingSize,0)+1,FALSE),IF(IFERROR(SEARCH(\"Oil\",$A$14),0)>0,VLOOKUP(\"Oil\",HVACg_Lookup,MATCH($F$12,BuildingSize,0)+1,FALSE),IF(IFERROR(SEARCH(\"Propane\",$A$14),0)>0,VLOOKUP(\"Propane\",HVACg_Lookup,MATCH(Worksheet!$F$12,BuildingSize,0)+1,FALSE),0)))","v":0},{"$f":"U383/1000*V383*X383*IF(IFERROR(SEARCH(\"Gas\",$A$14),0)>0,VLOOKUP(\"Gas\",HVACg_Lookup,MATCH($F$12,BuildingSize,0)+1,FALSE),IF(IFERROR(SEARCH(\"Oil\",$A$14),0)>0,VLOOKUP(\"Oil\",HVACg_Lookup,MATCH($F$12,BuildingSize,0)+1,FALSE),IF(IFERROR(SEARCH(\"Propane\",$A$14),0)>0,VLOOKUP(\"Propane\",HVACg_Lookup,MATCH(Worksheet!$F$12,BuildingSize,0)+1,FALSE),0)))","v":0},0,0,"",""]
[null,null,"",null,null,null,null,null,null,null,null,null,0,0,0,0,"",0,0,0,0,0,0,0,0,0,0,0,0,0,0,0,{"$f":"T384/1000*V384*X384*IF(IFERROR(SEARCH(\"Gas\",$A$14),0)>0,VLOOKUP(\"Gas\",HVACg_Lookup,MATCH($F$12,BuildingSize,0)+1,FALSE),IF(IFERROR(SEARCH(\"Oil\",$A$14),0)>0,VLOOKUP(\"Oil\",HVACg_Lookup,MATCH($F$12,BuildingSize,0)+1,FALSE),IF(IFERROR(SEARCH(\"Propane\",$A$14),0)>0,VLOOKUP(\"Propane\",HVACg_Lookup,MATCH(Worksheet!$F$12,BuildingSize,0)+1,FALSE),0)))","v":0},{"$f":"U384/1000*V384*X384*IF(IFERROR(SEARCH(\"Gas\",$A$14),0)>0,VLOOKUP(\"Gas\",HVACg_Lookup,MATCH($F$12,BuildingSize,0)+1,FALSE),IF(IFERROR(SEARCH(\"Oil\",$A$14),0)>0,VLOOKUP(\"Oil\",HVACg_Lookup,MATCH($F$12,BuildingSize,0)+1,FALSE),IF(IFERROR(SEARCH(\"Propane\",$A$14),0)>0,VLOOKUP(\"Propane\",HVACg_Lookup,MATCH(Worksheet!$F$12,BuildingSize,0)+1,FALSE),0)))","v":0},0,0,"",""]
[null,null,"",null,null,null,null,null,null,null,null,null,0,0,0,0,"",0,0,0,0,0,0,0,0,0,0,0,0,0,0,0,{"$f":"T385/1000*V385*X385*IF(IFERROR(SEARCH(\"Gas\",$A$14),0)>0,VLOOKUP(\"Gas\",HVACg_Lookup,MATCH($F$12,BuildingSize,0)+1,FALSE),IF(IFERROR(SEARCH(\"Oil\",$A$14),0)>0,VLOOKUP(\"Oil\",HVACg_Lookup,MATCH($F$12,BuildingSize,0)+1,FALSE),IF(IFERROR(SEARCH(\"Propane\",$A$14),0)>0,VLOOKUP(\"Propane\",HVACg_Lookup,MATCH(Worksheet!$F$12,BuildingSize,0)+1,FALSE),0)))","v":0},{"$f":"U385/1000*V385*X385*IF(IFERROR(SEARCH(\"Gas\",$A$14),0)>0,VLOOKUP(\"Gas\",HVACg_Lookup,MATCH($F$12,BuildingSize,0)+1,FALSE),IF(IFERROR(SEARCH(\"Oil\",$A$14),0)>0,VLOOKUP(\"Oil\",HVACg_Lookup,MATCH($F$12,BuildingSize,0)+1,FALSE),IF(IFERROR(SEARCH(\"Propane\",$A$14),0)>0,VLOOKUP(\"Propane\",HVACg_Lookup,MATCH(Worksheet!$F$12,BuildingSize,0)+1,FALSE),0)))","v":0},0,0,"",""]
[null,null,"",null,null,null,null,null,null,null,null,null,0,0,0,0,"",0,0,0,0,0,0,0,0,0,0,0,0,0,0,0,{"$f":"T386/1000*V386*X386*IF(IFERROR(SEARCH(\"Gas\",$A$14),0)>0,VLOOKUP(\"Gas\",HVACg_Lookup,MATCH($F$12,BuildingSize,0)+1,FALSE),IF(IFERROR(SEARCH(\"Oil\",$A$14),0)>0,VLOOKUP(\"Oil\",HVACg_Lookup,MATCH($F$12,BuildingSize,0)+1,FALSE),IF(IFERROR(SEARCH(\"Propane\",$A$14),0)>0,VLOOKUP(\"Propane\",HVACg_Lookup,MATCH(Worksheet!$F$12,BuildingSize,0)+1,FALSE),0)))","v":0},{"$f":"U386/1000*V386*X386*IF(IFERROR(SEARCH(\"Gas\",$A$14),0)>0,VLOOKUP(\"Gas\",HVACg_Lookup,MATCH($F$12,BuildingSize,0)+1,FALSE),IF(IFERROR(SEARCH(\"Oil\",$A$14),0)>0,VLOOKUP(\"Oil\",HVACg_Lookup,MATCH($F$12,BuildingSize,0)+1,FALSE),IF(IFERROR(SEARCH(\"Propane\",$A$14),0)>0,VLOOKUP(\"Propane\",HVACg_Lookup,MATCH(Worksheet!$F$12,BuildingSize,0)+1,FALSE),0)))","v":0},0,0,"",""]
[null,null,"",null,null,null,null,null,null,null,null,null,0,0,0,0,"",0,0,0,0,0,0,0,0,0,0,0,0,0,0,0,{"$f":"T387/1000*V387*X387*IF(IFERROR(SEARCH(\"Gas\",$A$14),0)>0,VLOOKUP(\"Gas\",HVACg_Lookup,MATCH($F$12,BuildingSize,0)+1,FALSE),IF(IFERROR(SEARCH(\"Oil\",$A$14),0)>0,VLOOKUP(\"Oil\",HVACg_Lookup,MATCH($F$12,BuildingSize,0)+1,FALSE),IF(IFERROR(SEARCH(\"Propane\",$A$14),0)>0,VLOOKUP(\"Propane\",HVACg_Lookup,MATCH(Worksheet!$F$12,BuildingSize,0)+1,FALSE),0)))","v":0},{"$f":"U387/1000*V387*X387*IF(IFERROR(SEARCH(\"Gas\",$A$14),0)>0,VLOOKUP(\"Gas\",HVACg_Lookup,MATCH($F$12,BuildingSize,0)+1,FALSE),IF(IFERROR(SEARCH(\"Oil\",$A$14),0)>0,VLOOKUP(\"Oil\",HVACg_Lookup,MATCH($F$12,BuildingSize,0)+1,FALSE),IF(IFERROR(SEARCH(\"Propane\",$A$14),0)>0,VLOOKUP(\"Propane\",HVACg_Lookup,MATCH(Worksheet!$F$12,BuildingSize,0)+1,FALSE),0)))","v":0},0,0,"",""]
[null,null,"",null,null,null,null,null,null,null,null,null,0,0,0,0,"",0,0,0,0,0,0,0,0,0,0,0,0,0,0,0,{"$f":"T388/1000*V388*X388*IF(IFERROR(SEARCH(\"Gas\",$A$14),0)>0,VLOOKUP(\"Gas\",HVACg_Lookup,MATCH($F$12,BuildingSize,0)+1,FALSE),IF(IFERROR(SEARCH(\"Oil\",$A$14),0)>0,VLOOKUP(\"Oil\",HVACg_Lookup,MATCH($F$12,BuildingSize,0)+1,FALSE),IF(IFERROR(SEARCH(\"Propane\",$A$14),0)>0,VLOOKUP(\"Propane\",HVACg_Lookup,MATCH(Worksheet!$F$12,BuildingSize,0)+1,FALSE),0)))","v":0},{"$f":"U388/1000*V388*X388*IF(IFERROR(SEARCH(\"Gas\",$A$14),0)>0,VLOOKUP(\"Gas\",HVACg_Lookup,MATCH($F$12,BuildingSize,0)+1,FALSE),IF(IFERROR(SEARCH(\"Oil\",$A$14),0)>0,VLOOKUP(\"Oil\",HVACg_Lookup,MATCH($F$12,BuildingSize,0)+1,FALSE),IF(IFERROR(SEARCH(\"Propane\",$A$14),0)>0,VLOOKUP(\"Propane\",HVACg_Lookup,MATCH(Worksheet!$F$12,BuildingSize,0)+1,FALSE),0)))","v":0},0,0,"",""]
[null,null,"",null,null,null,null,null,null,null,null,null,0,0,0,0,"",0,0,0,0,0,0,0,0,0,0,0,0,0,0,0,{"$f":"T389/1000*V389*X389*IF(IFERROR(SEARCH(\"Gas\",$A$14),0)>0,VLOOKUP(\"Gas\",HVACg_Lookup,MATCH($F$12,BuildingSize,0)+1,FALSE),IF(IFERROR(SEARCH(\"Oil\",$A$14),0)>0,VLOOKUP(\"Oil\",HVACg_Lookup,MATCH($F$12,BuildingSize,0)+1,FALSE),IF(IFERROR(SEARCH(\"Propane\",$A$14),0)>0,VLOOKUP(\"Propane\",HVACg_Lookup,MATCH(Worksheet!$F$12,BuildingSize,0)+1,FALSE),0)))","v":0},{"$f":"U389/1000*V389*X389*IF(IFERROR(SEARCH(\"Gas\",$A$14),0)>0,VLOOKUP(\"Gas\",HVACg_Lookup,MATCH($F$12,BuildingSize,0)+1,FALSE),IF(IFERROR(SEARCH(\"Oil\",$A$14),0)>0,VLOOKUP(\"Oil\",HVACg_Lookup,MATCH($F$12,BuildingSize,0)+1,FALSE),IF(IFERROR(SEARCH(\"Propane\",$A$14),0)>0,VLOOKUP(\"Propane\",HVACg_Lookup,MATCH(Worksheet!$F$12,BuildingSize,0)+1,FALSE),0)))","v":0},0,0,"",""]
[null,null,"",null,null,null,null,null,null,null,null,null,0,0,0,0,"",0,0,0,0,0,0,0,0,0,0,0,0,0,0,0,{"$f":"T390/1000*V390*X390*IF(IFERROR(SEARCH(\"Gas\",$A$14),0)>0,VLOOKUP(\"Gas\",HVACg_Lookup,MATCH($F$12,BuildingSize,0)+1,FALSE),IF(IFERROR(SEARCH(\"Oil\",$A$14),0)>0,VLOOKUP(\"Oil\",HVACg_Lookup,MATCH($F$12,BuildingSize,0)+1,FALSE),IF(IFERROR(SEARCH(\"Propane\",$A$14),0)>0,VLOOKUP(\"Propane\",HVACg_Lookup,MATCH(Worksheet!$F$12,BuildingSize,0)+1,FALSE),0)))","v":0},{"$f":"U390/1000*V390*X390*IF(IFERROR(SEARCH(\"Gas\",$A$14),0)>0,VLOOKUP(\"Gas\",HVACg_Lookup,MATCH($F$12,BuildingSize,0)+1,FALSE),IF(IFERROR(SEARCH(\"Oil\",$A$14),0)>0,VLOOKUP(\"Oil\",HVACg_Lookup,MATCH($F$12,BuildingSize,0)+1,FALSE),IF(IFERROR(SEARCH(\"Propane\",$A$14),0)>0,VLOOKUP(\"Propane\",HVACg_Lookup,MATCH(Worksheet!$F$12,BuildingSize,0)+1,FALSE),0)))","v":0},0,0,"",""]
[null,null,"",null,null,null,null,null,null,null,null,null,0,0,0,0,"",0,0,0,0,0,0,0,0,0,0,0,0,0,0,0,{"$f":"T391/1000*V391*X391*IF(IFERROR(SEARCH(\"Gas\",$A$14),0)>0,VLOOKUP(\"Gas\",HVACg_Lookup,MATCH($F$12,BuildingSize,0)+1,FALSE),IF(IFERROR(SEARCH(\"Oil\",$A$14),0)>0,VLOOKUP(\"Oil\",HVACg_Lookup,MATCH($F$12,BuildingSize,0)+1,FALSE),IF(IFERROR(SEARCH(\"Propane\",$A$14),0)>0,VLOOKUP(\"Propane\",HVACg_Lookup,MATCH(Worksheet!$F$12,BuildingSize,0)+1,FALSE),0)))","v":0},{"$f":"U391/1000*V391*X391*IF(IFERROR(SEARCH(\"Gas\",$A$14),0)>0,VLOOKUP(\"Gas\",HVACg_Lookup,MATCH($F$12,BuildingSize,0)+1,FALSE),IF(IFERROR(SEARCH(\"Oil\",$A$14),0)>0,VLOOKUP(\"Oil\",HVACg_Lookup,MATCH($F$12,BuildingSize,0)+1,FALSE),IF(IFERROR(SEARCH(\"Propane\",$A$14),0)>0,VLOOKUP(\"Propane\",HVACg_Lookup,MATCH(Worksheet!$F$12,BuildingSize,0)+1,FALSE),0)))","v":0},0,0,"",""]
[null,null,"",null,null,null,null,null,null,null,null,null,0,0,0,0,"",0,0,0,0,0,0,0,0,0,0,0,0,0,0,0,{"$f":"T392/1000*V392*X392*IF(IFERROR(SEARCH(\"Gas\",$A$14),0)>0,VLOOKUP(\"Gas\",HVACg_Lookup,MATCH($F$12,BuildingSize,0)+1,FALSE),IF(IFERROR(SEARCH(\"Oil\",$A$14),0)>0,VLOOKUP(\"Oil\",HVACg_Lookup,MATCH($F$12,BuildingSize,0)+1,FALSE),IF(IFERROR(SEARCH(\"Propane\",$A$14),0)>0,VLOOKUP(\"Propane\",HVACg_Lookup,MATCH(Worksheet!$F$12,BuildingSize,0)+1,FALSE),0)))","v":0},{"$f":"U392/1000*V392*X392*IF(IFERROR(SEARCH(\"Gas\",$A$14),0)>0,VLOOKUP(\"Gas\",HVACg_Lookup,MATCH($F$12,BuildingSize,0)+1,FALSE),IF(IFERROR(SEARCH(\"Oil\",$A$14),0)>0,VLOOKUP(\"Oil\",HVACg_Lookup,MATCH($F$12,BuildingSize,0)+1,FALSE),IF(IFERROR(SEARCH(\"Propane\",$A$14),0)>0,VLOOKUP(\"Propane\",HVACg_Lookup,MATCH(Worksheet!$F$12,BuildingSize,0)+1,FALSE),0)))","v":0},0,0,"",""]
[null,null,"",null,null,null,null,null,null,null,null,null,0,0,0,0,"",0,0,0,0,0,0,0,0,0,0,0,0,0,0,0,{"$f":"T393/1000*V393*X393*IF(IFERROR(SEARCH(\"Gas\",$A$14),0)>0,VLOOKUP(\"Gas\",HVACg_Lookup,MATCH($F$12,BuildingSize,0)+1,FALSE),IF(IFERROR(SEARCH(\"Oil\",$A$14),0)>0,VLOOKUP(\"Oil\",HVACg_Lookup,MATCH($F$12,BuildingSize,0)+1,FALSE),IF(IFERROR(SEARCH(\"Propane\",$A$14),0)>0,VLOOKUP(\"Propane\",HVACg_Lookup,MATCH(Worksheet!$F$12,BuildingSize,0)+1,FALSE),0)))","v":0},{"$f":"U393/1000*V393*X393*IF(IFERROR(SEARCH(\"Gas\",$A$14),0)>0,VLOOKUP(\"Gas\",HVACg_Lookup,MATCH($F$12,BuildingSize,0)+1,FALSE),IF(IFERROR(SEARCH(\"Oil\",$A$14),0)>0,VLOOKUP(\"Oil\",HVACg_Lookup,MATCH($F$12,BuildingSize,0)+1,FALSE),IF(IFERROR(SEARCH(\"Propane\",$A$14),0)>0,VLOOKUP(\"Propane\",HVACg_Lookup,MATCH(Worksheet!$F$12,BuildingSize,0)+1,FALSE),0)))","v":0},0,0,"",""]
[null,null,"",null,null,null,null,null,null,null,null,null,0,0,0,0,"",0,0,0,0,0,0,0,0,0,0,0,0,0,0,0,{"$f":"T394/1000*V394*X394*IF(IFERROR(SEARCH(\"Gas\",$A$14),0)>0,VLOOKUP(\"Gas\",HVACg_Lookup,MATCH($F$12,BuildingSize,0)+1,FALSE),IF(IFERROR(SEARCH(\"Oil\",$A$14),0)>0,VLOOKUP(\"Oil\",HVACg_Lookup,MATCH($F$12,BuildingSize,0)+1,FALSE),IF(IFERROR(SEARCH(\"Propane\",$A$14),0)>0,VLOOKUP(\"Propane\",HVACg_Lookup,MATCH(Worksheet!$F$12,BuildingSize,0)+1,FALSE),0)))","v":0},{"$f":"U394/1000*V394*X394*IF(IFERROR(SEARCH(\"Gas\",$A$14),0)>0,VLOOKUP(\"Gas\",HVACg_Lookup,MATCH($F$12,BuildingSize,0)+1,FALSE),IF(IFERROR(SEARCH(\"Oil\",$A$14),0)>0,VLOOKUP(\"Oil\",HVACg_Lookup,MATCH($F$12,BuildingSize,0)+1,FALSE),IF(IFERROR(SEARCH(\"Propane\",$A$14),0)>0,VLOOKUP(\"Propane\",HVACg_Lookup,MATCH(Worksheet!$F$12,BuildingSize,0)+1,FALSE),0)))","v":0},0,0,"",""]
[null,null,"",null,null,null,null,null,null,null,null,null,0,0,0,0,"",0,0,0,0,0,0,0,0,0,0,0,0,0,0,0,{"$f":"T395/1000*V395*X395*IF(IFERROR(SEARCH(\"Gas\",$A$14),0)>0,VLOOKUP(\"Gas\",HVACg_Lookup,MATCH($F$12,BuildingSize,0)+1,FALSE),IF(IFERROR(SEARCH(\"Oil\",$A$14),0)>0,VLOOKUP(\"Oil\",HVACg_Lookup,MATCH($F$12,BuildingSize,0)+1,FALSE),IF(IFERROR(SEARCH(\"Propane\",$A$14),0)>0,VLOOKUP(\"Propane\",HVACg_Lookup,MATCH(Worksheet!$F$12,BuildingSize,0)+1,FALSE),0)))","v":0},{"$f":"U395/1000*V395*X395*IF(IFERROR(SEARCH(\"Gas\",$A$14),0)>0,VLOOKUP(\"Gas\",HVACg_Lookup,MATCH($F$12,BuildingSize,0)+1,FALSE),IF(IFERROR(SEARCH(\"Oil\",$A$14),0)>0,VLOOKUP(\"Oil\",HVACg_Lookup,MATCH($F$12,BuildingSize,0)+1,FALSE),IF(IFERROR(SEARCH(\"Propane\",$A$14),0)>0,VLOOKUP(\"Propane\",HVACg_Lookup,MATCH(Worksheet!$F$12,BuildingSize,0)+1,FALSE),0)))","v":0},0,0,"",""]
[null,null,"",null,null,null,null,null,null,null,null,null,0,0,0,0,"",0,0,0,0,0,0,0,0,0,0,0,0,0,0,0,{"$f":"T396/1000*V396*X396*IF(IFERROR(SEARCH(\"Gas\",$A$14),0)>0,VLOOKUP(\"Gas\",HVACg_Lookup,MATCH($F$12,BuildingSize,0)+1,FALSE),IF(IFERROR(SEARCH(\"Oil\",$A$14),0)>0,VLOOKUP(\"Oil\",HVACg_Lookup,MATCH($F$12,BuildingSize,0)+1,FALSE),IF(IFERROR(SEARCH(\"Propane\",$A$14),0)>0,VLOOKUP(\"Propane\",HVACg_Lookup,MATCH(Worksheet!$F$12,BuildingSize,0)+1,FALSE),0)))","v":0},{"$f":"U396/1000*V396*X396*IF(IFERROR(SEARCH(\"Gas\",$A$14),0)>0,VLOOKUP(\"Gas\",HVACg_Lookup,MATCH($F$12,BuildingSize,0)+1,FALSE),IF(IFERROR(SEARCH(\"Oil\",$A$14),0)>0,VLOOKUP(\"Oil\",HVACg_Lookup,MATCH($F$12,BuildingSize,0)+1,FALSE),IF(IFERROR(SEARCH(\"Propane\",$A$14),0)>0,VLOOKUP(\"Propane\",HVACg_Lookup,MATCH(Worksheet!$F$12,BuildingSize,0)+1,FALSE),0)))","v":0},0,0,"",""]
[null,null,"",null,null,null,null,null,null,null,null,null,0,0,0,0,"",0,0,0,0,0,0,0,0,0,0,0,0,0,0,0,{"$f":"T397/1000*V397*X397*IF(IFERROR(SEARCH(\"Gas\",$A$14),0)>0,VLOOKUP(\"Gas\",HVACg_Lookup,MATCH($F$12,BuildingSize,0)+1,FALSE),IF(IFERROR(SEARCH(\"Oil\",$A$14),0)>0,VLOOKUP(\"Oil\",HVACg_Lookup,MATCH($F$12,BuildingSize,0)+1,FALSE),IF(IFERROR(SEARCH(\"Propane\",$A$14),0)>0,VLOOKUP(\"Propane\",HVACg_Lookup,MATCH(Worksheet!$F$12,BuildingSize,0)+1,FALSE),0)))","v":0},{"$f":"U397/1000*V397*X397*IF(IFERROR(SEARCH(\"Gas\",$A$14),0)>0,VLOOKUP(\"Gas\",HVACg_Lookup,MATCH($F$12,BuildingSize,0)+1,FALSE),IF(IFERROR(SEARCH(\"Oil\",$A$14),0)>0,VLOOKUP(\"Oil\",HVACg_Lookup,MATCH($F$12,BuildingSize,0)+1,FALSE),IF(IFERROR(SEARCH(\"Propane\",$A$14),0)>0,VLOOKUP(\"Propane\",HVACg_Lookup,MATCH(Worksheet!$F$12,BuildingSize,0)+1,FALSE),0)))","v":0},0,0,"",""]
[null,null,"",null,null,null,null,null,null,null,null,null,0,0,0,0,"",0,0,0,0,0,0,0,0,0,0,0,0,0,0,0,{"$f":"T398/1000*V398*X398*IF(IFERROR(SEARCH(\"Gas\",$A$14),0)>0,VLOOKUP(\"Gas\",HVACg_Lookup,MATCH($F$12,BuildingSize,0)+1,FALSE),IF(IFERROR(SEARCH(\"Oil\",$A$14),0)>0,VLOOKUP(\"Oil\",HVACg_Lookup,MATCH($F$12,BuildingSize,0)+1,FALSE),IF(IFERROR(SEARCH(\"Propane\",$A$14),0)>0,VLOOKUP(\"Propane\",HVACg_Lookup,MATCH(Worksheet!$F$12,BuildingSize,0)+1,FALSE),0)))","v":0},{"$f":"U398/1000*V398*X398*IF(IFERROR(SEARCH(\"Gas\",$A$14),0)>0,VLOOKUP(\"Gas\",HVACg_Lookup,MATCH($F$12,BuildingSize,0)+1,FALSE),IF(IFERROR(SEARCH(\"Oil\",$A$14),0)>0,VLOOKUP(\"Oil\",HVACg_Lookup,MATCH($F$12,BuildingSize,0)+1,FALSE),IF(IFERROR(SEARCH(\"Propane\",$A$14),0)>0,VLOOKUP(\"Propane\",HVACg_Lookup,MATCH(Worksheet!$F$12,BuildingSize,0)+1,FALSE),0)))","v":0},0,0,"",""]
[null,null,"",null,null,null,null,null,null,null,null,null,0,0,0,0,"",0,0,0,0,0,0,0,0,0,0,0,0,0,0,0,{"$f":"T399/1000*V399*X399*IF(IFERROR(SEARCH(\"Gas\",$A$14),0)>0,VLOOKUP(\"Gas\",HVACg_Lookup,MATCH($F$12,BuildingSize,0)+1,FALSE),IF(IFERROR(SEARCH(\"Oil\",$A$14),0)>0,VLOOKUP(\"Oil\",HVACg_Lookup,MATCH($F$12,BuildingSize,0)+1,FALSE),IF(IFERROR(SEARCH(\"Propane\",$A$14),0)>0,VLOOKUP(\"Propane\",HVACg_Lookup,MATCH(Worksheet!$F$12,BuildingSize,0)+1,FALSE),0)))","v":0},{"$f":"U399/1000*V399*X399*IF(IFERROR(SEARCH(\"Gas\",$A$14),0)>0,VLOOKUP(\"Gas\",HVACg_Lookup,MATCH($F$12,BuildingSize,0)+1,FALSE),IF(IFERROR(SEARCH(\"Oil\",$A$14),0)>0,VLOOKUP(\"Oil\",HVACg_Lookup,MATCH($F$12,BuildingSize,0)+1,FALSE),IF(IFERROR(SEARCH(\"Propane\",$A$14),0)>0,VLOOKUP(\"Propane\",HVACg_Lookup,MATCH(Worksheet!$F$12,BuildingSize,0)+1,FALSE),0)))","v":0},0,0,"",""]
[null,null,"",null,null,null,null,null,null,null,null,null,0,0,0,0,"",0,0,0,0,0,0,0,0,0,0,0,0,0,0,0,{"$f":"T400/1000*V400*X400*IF(IFERROR(SEARCH(\"Gas\",$A$14),0)>0,VLOOKUP(\"Gas\",HVACg_Lookup,MATCH($F$12,BuildingSize,0)+1,FALSE),IF(IFERROR(SEARCH(\"Oil\",$A$14),0)>0,VLOOKUP(\"Oil\",HVACg_Lookup,MATCH($F$12,BuildingSize,0)+1,FALSE),IF(IFERROR(SEARCH(\"Propane\",$A$14),0)>0,VLOOKUP(\"Propane\",HVACg_Lookup,MATCH(Worksheet!$F$12,BuildingSize,0)+1,FALSE),0)))","v":0},{"$f":"U400/1000*V400*X400*IF(IFERROR(SEARCH(\"Gas\",$A$14),0)>0,VLOOKUP(\"Gas\",HVACg_Lookup,MATCH($F$12,BuildingSize,0)+1,FALSE),IF(IFERROR(SEARCH(\"Oil\",$A$14),0)>0,VLOOKUP(\"Oil\",HVACg_Lookup,MATCH($F$12,BuildingSize,0)+1,FALSE),IF(IFERROR(SEARCH(\"Propane\",$A$14),0)>0,VLOOKUP(\"Propane\",HVACg_Lookup,MATCH(Worksheet!$F$12,BuildingSize,0)+1,FALSE),0)))","v":0},0,0,"",""]
[null,null,"",null,null,null,null,null,null,null,null,null,0,0,0,0,"",0,0,0,0,0,0,0,0,0,0,0,0,0,0,0,{"$f":"T401/1000*V401*X401*IF(IFERROR(SEARCH(\"Gas\",$A$14),0)>0,VLOOKUP(\"Gas\",HVACg_Lookup,MATCH($F$12,BuildingSize,0)+1,FALSE),IF(IFERROR(SEARCH(\"Oil\",$A$14),0)>0,VLOOKUP(\"Oil\",HVACg_Lookup,MATCH($F$12,BuildingSize,0)+1,FALSE),IF(IFERROR(SEARCH(\"Propane\",$A$14),0)>0,VLOOKUP(\"Propane\",HVACg_Lookup,MATCH(Worksheet!$F$12,BuildingSize,0)+1,FALSE),0)))","v":0},{"$f":"U401/1000*V401*X401*IF(IFERROR(SEARCH(\"Gas\",$A$14),0)>0,VLOOKUP(\"Gas\",HVACg_Lookup,MATCH($F$12,BuildingSize,0)+1,FALSE),IF(IFERROR(SEARCH(\"Oil\",$A$14),0)>0,VLOOKUP(\"Oil\",HVACg_Lookup,MATCH($F$12,BuildingSize,0)+1,FALSE),IF(IFERROR(SEARCH(\"Propane\",$A$14),0)>0,VLOOKUP(\"Propane\",HVACg_Lookup,MATCH(Worksheet!$F$12,BuildingSize,0)+1,FALSE),0)))","v":0},0,0,"",""]
[null,null,"",null,null,null,null,null,null,null,null,null,0,0,0,0,"",0,0,0,0,0,0,0,0,0,0,0,0,0,0,0,{"$f":"T402/1000*V402*X402*IF(IFERROR(SEARCH(\"Gas\",$A$14),0)>0,VLOOKUP(\"Gas\",HVACg_Lookup,MATCH($F$12,BuildingSize,0)+1,FALSE),IF(IFERROR(SEARCH(\"Oil\",$A$14),0)>0,VLOOKUP(\"Oil\",HVACg_Lookup,MATCH($F$12,BuildingSize,0)+1,FALSE),IF(IFERROR(SEARCH(\"Propane\",$A$14),0)>0,VLOOKUP(\"Propane\",HVACg_Lookup,MATCH(Worksheet!$F$12,BuildingSize,0)+1,FALSE),0)))","v":0},{"$f":"U402/1000*V402*X402*IF(IFERROR(SEARCH(\"Gas\",$A$14),0)>0,VLOOKUP(\"Gas\",HVACg_Lookup,MATCH($F$12,BuildingSize,0)+1,FALSE),IF(IFERROR(SEARCH(\"Oil\",$A$14),0)>0,VLOOKUP(\"Oil\",HVACg_Lookup,MATCH($F$12,BuildingSize,0)+1,FALSE),IF(IFERROR(SEARCH(\"Propane\",$A$14),0)>0,VLOOKUP(\"Propane\",HVACg_Lookup,MATCH(Worksheet!$F$12,BuildingSize,0)+1,FALSE),0)))","v":0},0,0,"",""]
[null,null,"",null,null,null,null,null,null,null,null,null,0,0,0,0,"",0,0,0,0,0,0,0,0,0,0,0,0,0,0,0,{"$f":"T403/1000*V403*X403*IF(IFERROR(SEARCH(\"Gas\",$A$14),0)>0,VLOOKUP(\"Gas\",HVACg_Lookup,MATCH($F$12,BuildingSize,0)+1,FALSE),IF(IFERROR(SEARCH(\"Oil\",$A$14),0)>0,VLOOKUP(\"Oil\",HVACg_Lookup,MATCH($F$12,BuildingSize,0)+1,FALSE),IF(IFERROR(SEARCH(\"Propane\",$A$14),0)>0,VLOOKUP(\"Propane\",HVACg_Lookup,MATCH(Worksheet!$F$12,BuildingSize,0)+1,FALSE),0)))","v":0},{"$f":"U403/1000*V403*X403*IF(IFERROR(SEARCH(\"Gas\",$A$14),0)>0,VLOOKUP(\"Gas\",HVACg_Lookup,MATCH($F$12,BuildingSize,0)+1,FALSE),IF(IFERROR(SEARCH(\"Oil\",$A$14),0)>0,VLOOKUP(\"Oil\",HVACg_Lookup,MATCH($F$12,BuildingSize,0)+1,FALSE),IF(IFERROR(SEARCH(\"Propane\",$A$14),0)>0,VLOOKUP(\"Propane\",HVACg_Lookup,MATCH(Worksheet!$F$12,BuildingSize,0)+1,FALSE),0)))","v":0},0,0,"",""]
[null,null,"",null,null,null,null,null,null,null,null,null,0,0,{"$f":"IF(AK404=\"\",0,IF(AK404=1,VLOOKUP(A404,MeasureCode_Lookup,3,FALSE),\"DNQ\"))","v":0},{"$f":"IF(AL404=\"\",0,IF(AL404=1,VLOOKUP(A404,MeasureCode_Lookup,3,FALSE),\"DNQ\"))","v":0},{"$f":"IF(A404=\"\",\"\",VLOOKUP(A404,MeasureCode_Lookup,4,FALSE))","v":""},0,0,0,0,{"$f":"IF(A404=\"\",0,VLOOKUP(A404,MeasureCode_Lookup,5,FALSE))","v":0},{"$f":"IF($A$12=\"\",0,VLOOKUP($A$12,BuildingType_Lookup,3,FALSE))","v":0},{"$f":"IF($A$12=\"\",0,VLOOKUP($A$12,BuildingType_Lookup,2,FALSE))","v":0},{"$f":"IF(AND(OR(AK404=\"\",AK404=0)=TRUE,OR(AL404=\"\",AL404=0))=TRUE,0,IF(AL404=\"\",(IF(OR(C404=\"DDC\",C404=\"OHLC\")=TRUE,L404,M404)/1000)*V404*W404*(1+VLOOKUP($A$12,BuildingType_Lookup,4,FALSE)),IF(AL404=0,0,(IF(OR(C404=\"DDC\",C404=\"OHLC\")=TRUE,L404,N404)/1000)*V404*W404*(1+VLOOKUP($A$12,BuildingType_Lookup,4,FALSE)))))","v":0},{"$f":"IF(AND(OR(AK404=\"\",AK404=0)=TRUE,OR(AL404=\"\",AL404=0))=TRUE,0,IF(AL404=\"\",(IF(OR(C404=\"DDC\",C404=\"OHLC\")=TRUE,L404,M404)/1000)*V404*X404*(1+VLOOKUP($A$12,BuildingType_Lookup,MATCH($A$14,HVAC,0)+4,FALSE)),IF(AL404=0,0,(IF(OR(C404=\"DDC\",C404=\"OHLC\")=TRUE,L404,N404)/1000)*V404*X404*(1+VLOOKUP($A$12,BuildingType_Lookup,MATCH($A$14,HVAC,0)+4,FALSE)))))","v":0},{"$f":"IFERROR(IF(OR(C404=\"DDC\",C404=\"OHLC\")=TRUE,F404*H404*Y404,F404*Y404),0)","v":0},{"$f":"IFERROR(IF(OR(C404=\"DDC\",C404=\"OHLC\")=TRUE,G404*I404*Y404,G404*Y404),0)","v":0},{"$f":"IFERROR(IF(OR(C404=\"DDC\",C404=\"OHLC\")=TRUE,F404*H404*Z404,F404*Z404),0)","v":0},{"$f":"IFERROR(IF(OR(C404=\"DDC\",C404=\"OHLC\")=TRUE,G404*I404*Z404,G404*Z404),0)","v":0},0,0,{"$f":"T404/1000*V404*X404*IF(IFERROR(SEARCH(\"Gas\",$A$14),0)>0,VLOOKUP(\"Gas\",HVACg_Lookup,MATCH($F$12,BuildingSize,0)+1,FALSE),IF(IFERROR(SEARCH(\"Oil\",$A$14),0)>0,VLOOKUP(\"Oil\",HVACg_Lookup,MATCH($F$12,BuildingSize,0)+1,FALSE),IF(IFERROR(SEARCH(\"Propane\",$A$14),0)>0,VLOOKUP(\"Propane\",HVACg_Lookup,MATCH(Worksheet!$F$12,BuildingSize,0)+1,FALSE),0)))","v":0},{"$f":"U404/1000*V404*X404*IF(IFERROR(SEARCH(\"Gas\",$A$14),0)>0,VLOOKUP(\"Gas\",HVACg_Lookup,MATCH($F$12,BuildingSize,0)+1,FALSE),IF(IFERROR(SEARCH(\"Oil\",$A$14),0)>0,VLOOKUP(\"Oil\",HVACg_Lookup,MATCH($F$12,BuildingSize,0)+1,FALSE),IF(IFERROR(SEARCH(\"Propane\",$A$14),0)>0,VLOOKUP(\"Propane\",HVACg_Lookup,MATCH(Worksheet!$F$12,BuildingSize,0)+1,FALSE),0)))","v":0},0,0,"",""]
[null,null,{"$f":"IF(A405=\"\",\"\",VLOOKUP(A405,MeasureCode_Lookup,2,FALSE))","v":""},null,null,null,null,null,null,null,null,null,{"$f":"IF(OR(A405=\"\",F405=\"\",H405=\"\",L405=\"\")=TRUE,0,H405*L405)","v":0},{"$f":"IF(OR(A405=\"\",G405=\"\",I405=\"\",L405=\"\")=TRUE,0,I405*L405)","v":0},0,0,"",{"$f":"IF(N(O405)=0,0,F405*O405*IF(Q405=\"per Fixture Controlled\",H405,1))","v":0},{"$f":"IF(N(P405)=0,0,G405*P405*IF(Q405=\"per Fixture Controlled\",I405,1))","v":0},{"$f":"IF(N(O405)=0,0,F405*M405)","v":0},{"$f":"IF(N(P405)=0,0,G405*N405)","v":0},0,0,0,0,0,0,0,0,0,{"$f":"AC405*8","v":0},{"$f":"AD405*8","v":0},{"$f":"T405/1000*V405*X405*IF(IFERROR(SEARCH(\"Gas\",$A$14),0)>0,VLOOKUP(\"Gas\",HVACg_Lookup,MATCH($F$12,BuildingSize,0)+1,FALSE),IF(IFERROR(SEARCH(\"Oil\",$A$14),0)>0,VLOOKUP(\"Oil\",HVACg_Lookup,MATCH($F$12,BuildingSize,0)+1,FALSE),IF(IFERROR(SEARCH(\"Propane\",$A$14),0)>0,VLOOKUP(\"Propane\",HVACg_Lookup,MATCH(Worksheet!$F$12,BuildingSize,0)+1,FALSE),0)))","v":0},{"$f":"U405/1000*V405*X405*IF(IFERROR(SEARCH(\"Gas\",$A$14),0)>0,VLOOKUP(\"Gas\",HVACg_Lookup,MATCH($F$12,BuildingSize,0)+1,FALSE),IF(IFERROR(SEARCH(\"Oil\",$A$14),0)>0,VLOOKUP(\"Oil\",HVACg_Lookup,MATCH($F$12,BuildingSize,0)+1,FALSE),IF(IFERROR(SEARCH(\"Propane\",$A$14),0)>0,VLOOKUP(\"Propane\",HVACg_Lookup,MATCH(Worksheet!$F$12,BuildingSize,0)+1,FALSE),0)))","v":0},{"$f":"AG405*8","v":0},{"$f":"AH405*8","v":0},{"$f":"IF(OR($B$3=\"\",$B$4=\"\",$A$12=\"\",$F$12=\"\",$A$14=\"\",A405=\"\",F405=\"\",H405=\"\",L405=\"\")=TRUE,\"\",IF(C405=\"OSW\",IF(H405>=2,1,0),IF(C405=\"OSR\",IF(AND(H405>=2,M405>=180)=TRUE,1,0),IF(C405=\"OSRH\",IF(AND(H405>=1,M405>=180)=TRUE,1,0),IF(C405=\"OHLC\",IF(M405>=240,1,0),IF(C405=\"DDC\",IF(AND(H405>=4,M405>=240)=TRUE,1,0),0))))))","v":""},{"$f":"IF(OR($B$3=\"\",$B$4=\"\",$A$12=\"\",$F$12=\"\",$A$14=\"\",A405=\"\",F405=\"\",I405=\"\",L405=\"\")=TRUE,\"\",IF(C405=\"OSW\",IF(I405>=2,1,0),IF(C405=\"OSR\",IF(AND(I405>=2,N405>=180)=TRUE,1,0),IF(C405=\"OSRH\",IF(AND(I405>=1,N405>=180)=TRUE,1,0),IF(C405=\"OHLC\",IF(N405>=240,1,0),IF(C405=\"DDC\",IF(AND(I405>=4,N405>=240)=TRUE,1,0),0))))))","v":""}]
[null,null,"",null,null,null,null,null,null,null,null,null,0,0,0,0,"",0,0,0,0,0,0,0,0,0,0,0,0,0,0,0,{"$f":"T406/1000*V406*X406*IF(IFERROR(SEARCH(\"Gas\",$A$14),0)>0,VLOOKUP(\"Gas\",HVACg_Lookup,MATCH($F$12,BuildingSize,0)+1,FALSE),IF(IFERROR(SEARCH(\"Oil\",$A$14),0)>0,VLOOKUP(\"Oil\",HVACg_Lookup,MATCH($F$12,BuildingSize,0)+1,FALSE),IF(IFERROR(SEARCH(\"Propane\",$A$14),0)>0,VLOOKUP(\"Propane\",HVACg_Lookup,MATCH(Worksheet!$F$12,BuildingSize,0)+1,FALSE),0)))","v":0},{"$f":"U406/1000*V406*X406*IF(IFERROR(SEARCH(\"Gas\",$A$14),0)>0,VLOOKUP(\"Gas\",HVACg_Lookup,MATCH($F$12,BuildingSize,0)+1,FALSE),IF(IFERROR(SEARCH(\"Oil\",$A$14),0)>0,VLOOKUP(\"Oil\",HVACg_Lookup,MATCH($F$12,BuildingSize,0)+1,FALSE),IF(IFERROR(SEARCH(\"Propane\",$A$14),0)>0,VLOOKUP(\"Propane\",HVACg_Lookup,MATCH(Worksheet!$F$12,BuildingSize,0)+1,FALSE),0)))","v":0},0,0,"",""]
[null,null,"",null,null,null,null,null,null,null,null,null,0,0,0,0,"",0,0,0,0,0,0,0,0,0,0,0,0,0,0,0,{"$f":"T407/1000*V407*X407*IF(IFERROR(SEARCH(\"Gas\",$A$14),0)>0,VLOOKUP(\"Gas\",HVACg_Lookup,MATCH($F$12,BuildingSize,0)+1,FALSE),IF(IFERROR(SEARCH(\"Oil\",$A$14),0)>0,VLOOKUP(\"Oil\",HVACg_Lookup,MATCH($F$12,BuildingSize,0)+1,FALSE),IF(IFERROR(SEARCH(\"Propane\",$A$14),0)>0,VLOOKUP(\"Propane\",HVACg_Lookup,MATCH(Worksheet!$F$12,BuildingSize,0)+1,FALSE),0)))","v":0},{"$f":"U407/1000*V407*X407*IF(IFERROR(SEARCH(\"Gas\",$A$14),0)>0,VLOOKUP(\"Gas\",HVACg_Lookup,MATCH($F$12,BuildingSize,0)+1,FALSE),IF(IFERROR(SEARCH(\"Oil\",$A$14),0)>0,VLOOKUP(\"Oil\",HVACg_Lookup,MATCH($F$12,BuildingSize,0)+1,FALSE),IF(IFERROR(SEARCH(\"Propane\",$A$14),0)>0,VLOOKUP(\"Propane\",HVACg_Lookup,MATCH(Worksheet!$F$12,BuildingSize,0)+1,FALSE),0)))","v":0},0,0,"",""]
[null,null,"",null,null,null,null,null,null,null,null,null,0,0,0,0,"",0,0,0,0,0,0,0,0,0,0,0,0,0,0,0,{"$f":"T408/1000*V408*X408*IF(IFERROR(SEARCH(\"Gas\",$A$14),0)>0,VLOOKUP(\"Gas\",HVACg_Lookup,MATCH($F$12,BuildingSize,0)+1,FALSE),IF(IFERROR(SEARCH(\"Oil\",$A$14),0)>0,VLOOKUP(\"Oil\",HVACg_Lookup,MATCH($F$12,BuildingSize,0)+1,FALSE),IF(IFERROR(SEARCH(\"Propane\",$A$14),0)>0,VLOOKUP(\"Propane\",HVACg_Lookup,MATCH(Worksheet!$F$12,BuildingSize,0)+1,FALSE),0)))","v":0},{"$f":"U408/1000*V408*X408*IF(IFERROR(SEARCH(\"Gas\",$A$14),0)>0,VLOOKUP(\"Gas\",HVACg_Lookup,MATCH($F$12,BuildingSize,0)+1,FALSE),IF(IFERROR(SEARCH(\"Oil\",$A$14),0)>0,VLOOKUP(\"Oil\",HVACg_Lookup,MATCH($F$12,BuildingSize,0)+1,FALSE),IF(IFERROR(SEARCH(\"Propane\",$A$14),0)>0,VLOOKUP(\"Propane\",HVACg_Lookup,MATCH(Worksheet!$F$12,BuildingSize,0)+1,FALSE),0)))","v":0},0,0,"",""]
[null,null,"",null,null,null,null,null,null,null,null,null,0,0,0,0,"",0,0,0,0,0,0,0,0,0,0,0,0,0,0,0,{"$f":"T409/1000*V409*X409*IF(IFERROR(SEARCH(\"Gas\",$A$14),0)>0,VLOOKUP(\"Gas\",HVACg_Lookup,MATCH($F$12,BuildingSize,0)+1,FALSE),IF(IFERROR(SEARCH(\"Oil\",$A$14),0)>0,VLOOKUP(\"Oil\",HVACg_Lookup,MATCH($F$12,BuildingSize,0)+1,FALSE),IF(IFERROR(SEARCH(\"Propane\",$A$14),0)>0,VLOOKUP(\"Propane\",HVACg_Lookup,MATCH(Worksheet!$F$12,BuildingSize,0)+1,FALSE),0)))","v":0},{"$f":"U409/1000*V409*X409*IF(IFERROR(SEARCH(\"Gas\",$A$14),0)>0,VLOOKUP(\"Gas\",HVACg_Lookup,MATCH($F$12,BuildingSize,0)+1,FALSE),IF(IFERROR(SEARCH(\"Oil\",$A$14),0)>0,VLOOKUP(\"Oil\",HVACg_Lookup,MATCH($F$12,BuildingSize,0)+1,FALSE),IF(IFERROR(SEARCH(\"Propane\",$A$14),0)>0,VLOOKUP(\"Propane\",HVACg_Lookup,MATCH(Worksheet!$F$12,BuildingSize,0)+1,FALSE),0)))","v":0},0,0,"",""]
[null,null,"",null,null,null,null,null,null,null,null,null,0,0,0,0,"",0,0,0,0,0,0,0,0,0,0,0,0,0,0,0,{"$f":"T410/1000*V410*X410*IF(IFERROR(SEARCH(\"Gas\",$A$14),0)>0,VLOOKUP(\"Gas\",HVACg_Lookup,MATCH($F$12,BuildingSize,0)+1,FALSE),IF(IFERROR(SEARCH(\"Oil\",$A$14),0)>0,VLOOKUP(\"Oil\",HVACg_Lookup,MATCH($F$12,BuildingSize,0)+1,FALSE),IF(IFERROR(SEARCH(\"Propane\",$A$14),0)>0,VLOOKUP(\"Propane\",HVACg_Lookup,MATCH(Worksheet!$F$12,BuildingSize,0)+1,FALSE),0)))","v":0},{"$f":"U410/1000*V410*X410*IF(IFERROR(SEARCH(\"Gas\",$A$14),0)>0,VLOOKUP(\"Gas\",HVACg_Lookup,MATCH($F$12,BuildingSize,0)+1,FALSE),IF(IFERROR(SEARCH(\"Oil\",$A$14),0)>0,VLOOKUP(\"Oil\",HVACg_Lookup,MATCH($F$12,BuildingSize,0)+1,FALSE),IF(IFERROR(SEARCH(\"Propane\",$A$14),0)>0,VLOOKUP(\"Propane\",HVACg_Lookup,MATCH(Worksheet!$F$12,BuildingSize,0)+1,FALSE),0)))","v":0},0,0,"",""]
[null,null,"",null,null,null,null,null,null,null,null,null,0,0,0,0,"",0,0,0,0,0,0,0,0,0,0,0,0,0,0,0,{"$f":"T411/1000*V411*X411*IF(IFERROR(SEARCH(\"Gas\",$A$14),0)>0,VLOOKUP(\"Gas\",HVACg_Lookup,MATCH($F$12,BuildingSize,0)+1,FALSE),IF(IFERROR(SEARCH(\"Oil\",$A$14),0)>0,VLOOKUP(\"Oil\",HVACg_Lookup,MATCH($F$12,BuildingSize,0)+1,FALSE),IF(IFERROR(SEARCH(\"Propane\",$A$14),0)>0,VLOOKUP(\"Propane\",HVACg_Lookup,MATCH(Worksheet!$F$12,BuildingSize,0)+1,FALSE),0)))","v":0},{"$f":"U411/1000*V411*X411*IF(IFERROR(SEARCH(\"Gas\",$A$14),0)>0,VLOOKUP(\"Gas\",HVACg_Lookup,MATCH($F$12,BuildingSize,0)+1,FALSE),IF(IFERROR(SEARCH(\"Oil\",$A$14),0)>0,VLOOKUP(\"Oil\",HVACg_Lookup,MATCH($F$12,BuildingSize,0)+1,FALSE),IF(IFERROR(SEARCH(\"Propane\",$A$14),0)>0,VLOOKUP(\"Propane\",HVACg_Lookup,MATCH(Worksheet!$F$12,BuildingSize,0)+1,FALSE),0)))","v":0},0,0,"",""]
[null,null,"",null,null,null,null,null,null,null,null,null,0,0,0,0,"",0,0,0,0,0,0,0,0,0,0,0,0,0,0,0,{"$f":"T412/1000*V412*X412*IF(IFERROR(SEARCH(\"Gas\",$A$14),0)>0,VLOOKUP(\"Gas\",HVACg_Lookup,MATCH($F$12,BuildingSize,0)+1,FALSE),IF(IFERROR(SEARCH(\"Oil\",$A$14),0)>0,VLOOKUP(\"Oil\",HVACg_Lookup,MATCH($F$12,BuildingSize,0)+1,FALSE),IF(IFERROR(SEARCH(\"Propane\",$A$14),0)>0,VLOOKUP(\"Propane\",HVACg_Lookup,MATCH(Worksheet!$F$12,BuildingSize,0)+1,FALSE),0)))","v":0},{"$f":"U412/1000*V412*X412*IF(IFERROR(SEARCH(\"Gas\",$A$14),0)>0,VLOOKUP(\"Gas\",HVACg_Lookup,MATCH($F$12,BuildingSize,0)+1,FALSE),IF(IFERROR(SEARCH(\"Oil\",$A$14),0)>0,VLOOKUP(\"Oil\",HVACg_Lookup,MATCH($F$12,BuildingSize,0)+1,FALSE),IF(IFERROR(SEARCH(\"Propane\",$A$14),0)>0,VLOOKUP(\"Propane\",HVACg_Lookup,MATCH(Worksheet!$F$12,BuildingSize,0)+1,FALSE),0)))","v":0},0,0,"",""]
[null,null,"",null,null,null,null,null,null,null,null,null,0,0,0,0,"",0,0,0,0,0,0,0,0,0,0,0,0,0,0,0,{"$f":"T413/1000*V413*X413*IF(IFERROR(SEARCH(\"Gas\",$A$14),0)>0,VLOOKUP(\"Gas\",HVACg_Lookup,MATCH($F$12,BuildingSize,0)+1,FALSE),IF(IFERROR(SEARCH(\"Oil\",$A$14),0)>0,VLOOKUP(\"Oil\",HVACg_Lookup,MATCH($F$12,BuildingSize,0)+1,FALSE),IF(IFERROR(SEARCH(\"Propane\",$A$14),0)>0,VLOOKUP(\"Propane\",HVACg_Lookup,MATCH(Worksheet!$F$12,BuildingSize,0)+1,FALSE),0)))","v":0},{"$f":"U413/1000*V413*X413*IF(IFERROR(SEARCH(\"Gas\",$A$14),0)>0,VLOOKUP(\"Gas\",HVACg_Lookup,MATCH($F$12,BuildingSize,0)+1,FALSE),IF(IFERROR(SEARCH(\"Oil\",$A$14),0)>0,VLOOKUP(\"Oil\",HVACg_Lookup,MATCH($F$12,BuildingSize,0)+1,FALSE),IF(IFERROR(SEARCH(\"Propane\",$A$14),0)>0,VLOOKUP(\"Propane\",HVACg_Lookup,MATCH(Worksheet!$F$12,BuildingSize,0)+1,FALSE),0)))","v":0},0,0,"",""]
[null,null,"",null,null,null,null,null,null,null,null,null,0,0,0,0,"",0,0,0,0,0,0,0,0,0,0,0,0,0,0,0,{"$f":"T414/1000*V414*X414*IF(IFERROR(SEARCH(\"Gas\",$A$14),0)>0,VLOOKUP(\"Gas\",HVACg_Lookup,MATCH($F$12,BuildingSize,0)+1,FALSE),IF(IFERROR(SEARCH(\"Oil\",$A$14),0)>0,VLOOKUP(\"Oil\",HVACg_Lookup,MATCH($F$12,BuildingSize,0)+1,FALSE),IF(IFERROR(SEARCH(\"Propane\",$A$14),0)>0,VLOOKUP(\"Propane\",HVACg_Lookup,MATCH(Worksheet!$F$12,BuildingSize,0)+1,FALSE),0)))","v":0},{"$f":"U414/1000*V414*X414*IF(IFERROR(SEARCH(\"Gas\",$A$14),0)>0,VLOOKUP(\"Gas\",HVACg_Lookup,MATCH($F$12,BuildingSize,0)+1,FALSE),IF(IFERROR(SEARCH(\"Oil\",$A$14),0)>0,VLOOKUP(\"Oil\",HVACg_Lookup,MATCH($F$12,BuildingSize,0)+1,FALSE),IF(IFERROR(SEARCH(\"Propane\",$A$14),0)>0,VLOOKUP(\"Propane\",HVACg_Lookup,MATCH(Worksheet!$F$12,BuildingSize,0)+1,FALSE),0)))","v":0},0,0,"",""]
[null,null,"",null,null,null,null,null,null,null,null,null,0,0,0,0,"",0,0,0,0,0,0,0,0,0,0,0,0,0,0,0,{"$f":"T415/1000*V415*X415*IF(IFERROR(SEARCH(\"Gas\",$A$14),0)>0,VLOOKUP(\"Gas\",HVACg_Lookup,MATCH($F$12,BuildingSize,0)+1,FALSE),IF(IFERROR(SEARCH(\"Oil\",$A$14),0)>0,VLOOKUP(\"Oil\",HVACg_Lookup,MATCH($F$12,BuildingSize,0)+1,FALSE),IF(IFERROR(SEARCH(\"Propane\",$A$14),0)>0,VLOOKUP(\"Propane\",HVACg_Lookup,MATCH(Worksheet!$F$12,BuildingSize,0)+1,FALSE),0)))","v":0},{"$f":"U415/1000*V415*X415*IF(IFERROR(SEARCH(\"Gas\",$A$14),0)>0,VLOOKUP(\"Gas\",HVACg_Lookup,MATCH($F$12,BuildingSize,0)+1,FALSE),IF(IFERROR(SEARCH(\"Oil\",$A$14),0)>0,VLOOKUP(\"Oil\",HVACg_Lookup,MATCH($F$12,BuildingSize,0)+1,FALSE),IF(IFERROR(SEARCH(\"Propane\",$A$14),0)>0,VLOOKUP(\"Propane\",HVACg_Lookup,MATCH(Worksheet!$F$12,BuildingSize,0)+1,FALSE),0)))","v":0},0,0,"",""]
[null,null,"",null,null,null,null,null,null,null,null,null,0,0,0,0,"",0,0,0,0,0,0,0,0,0,0,0,0,0,0,0,{"$f":"T416/1000*V416*X416*IF(IFERROR(SEARCH(\"Gas\",$A$14),0)>0,VLOOKUP(\"Gas\",HVACg_Lookup,MATCH($F$12,BuildingSize,0)+1,FALSE),IF(IFERROR(SEARCH(\"Oil\",$A$14),0)>0,VLOOKUP(\"Oil\",HVACg_Lookup,MATCH($F$12,BuildingSize,0)+1,FALSE),IF(IFERROR(SEARCH(\"Propane\",$A$14),0)>0,VLOOKUP(\"Propane\",HVACg_Lookup,MATCH(Worksheet!$F$12,BuildingSize,0)+1,FALSE),0)))","v":0},{"$f":"U416/1000*V416*X416*IF(IFERROR(SEARCH(\"Gas\",$A$14),0)>0,VLOOKUP(\"Gas\",HVACg_Lookup,MATCH($F$12,BuildingSize,0)+1,FALSE),IF(IFERROR(SEARCH(\"Oil\",$A$14),0)>0,VLOOKUP(\"Oil\",HVACg_Lookup,MATCH($F$12,BuildingSize,0)+1,FALSE),IF(IFERROR(SEARCH(\"Propane\",$A$14),0)>0,VLOOKUP(\"Propane\",HVACg_Lookup,MATCH(Worksheet!$F$12,BuildingSize,0)+1,FALSE),0)))","v":0},0,0,"",""]
[null,null,"",null,null,null,null,null,null,null,null,null,0,0,0,0,"",0,0,0,0,0,0,0,0,0,0,0,0,0,0,0,{"$f":"T417/1000*V417*X417*IF(IFERROR(SEARCH(\"Gas\",$A$14),0)>0,VLOOKUP(\"Gas\",HVACg_Lookup,MATCH($F$12,BuildingSize,0)+1,FALSE),IF(IFERROR(SEARCH(\"Oil\",$A$14),0)>0,VLOOKUP(\"Oil\",HVACg_Lookup,MATCH($F$12,BuildingSize,0)+1,FALSE),IF(IFERROR(SEARCH(\"Propane\",$A$14),0)>0,VLOOKUP(\"Propane\",HVACg_Lookup,MATCH(Worksheet!$F$12,BuildingSize,0)+1,FALSE),0)))","v":0},{"$f":"U417/1000*V417*X417*IF(IFERROR(SEARCH(\"Gas\",$A$14),0)>0,VLOOKUP(\"Gas\",HVACg_Lookup,MATCH($F$12,BuildingSize,0)+1,FALSE),IF(IFERROR(SEARCH(\"Oil\",$A$14),0)>0,VLOOKUP(\"Oil\",HVACg_Lookup,MATCH($F$12,BuildingSize,0)+1,FALSE),IF(IFERROR(SEARCH(\"Propane\",$A$14),0)>0,VLOOKUP(\"Propane\",HVACg_Lookup,MATCH(Worksheet!$F$12,BuildingSize,0)+1,FALSE),0)))","v":0},0,0,"",""]
[null,null,"",null,null,null,null,null,null,null,null,null,0,0,0,0,"",0,0,0,0,0,0,0,0,0,0,0,0,0,0,0,{"$f":"T418/1000*V418*X418*IF(IFERROR(SEARCH(\"Gas\",$A$14),0)>0,VLOOKUP(\"Gas\",HVACg_Lookup,MATCH($F$12,BuildingSize,0)+1,FALSE),IF(IFERROR(SEARCH(\"Oil\",$A$14),0)>0,VLOOKUP(\"Oil\",HVACg_Lookup,MATCH($F$12,BuildingSize,0)+1,FALSE),IF(IFERROR(SEARCH(\"Propane\",$A$14),0)>0,VLOOKUP(\"Propane\",HVACg_Lookup,MATCH(Worksheet!$F$12,BuildingSize,0)+1,FALSE),0)))","v":0},{"$f":"U418/1000*V418*X418*IF(IFERROR(SEARCH(\"Gas\",$A$14),0)>0,VLOOKUP(\"Gas\",HVACg_Lookup,MATCH($F$12,BuildingSize,0)+1,FALSE),IF(IFERROR(SEARCH(\"Oil\",$A$14),0)>0,VLOOKUP(\"Oil\",HVACg_Lookup,MATCH($F$12,BuildingSize,0)+1,FALSE),IF(IFERROR(SEARCH(\"Propane\",$A$14),0)>0,VLOOKUP(\"Propane\",HVACg_Lookup,MATCH(Worksheet!$F$12,BuildingSize,0)+1,FALSE),0)))","v":0},0,0,"",""]
[null,null,"",null,null,null,null,null,null,null,null,null,0,0,0,0,"",0,0,0,0,0,0,0,0,0,0,0,0,0,0,0,{"$f":"T419/1000*V419*X419*IF(IFERROR(SEARCH(\"Gas\",$A$14),0)>0,VLOOKUP(\"Gas\",HVACg_Lookup,MATCH($F$12,BuildingSize,0)+1,FALSE),IF(IFERROR(SEARCH(\"Oil\",$A$14),0)>0,VLOOKUP(\"Oil\",HVACg_Lookup,MATCH($F$12,BuildingSize,0)+1,FALSE),IF(IFERROR(SEARCH(\"Propane\",$A$14),0)>0,VLOOKUP(\"Propane\",HVACg_Lookup,MATCH(Worksheet!$F$12,BuildingSize,0)+1,FALSE),0)))","v":0},{"$f":"U419/1000*V419*X419*IF(IFERROR(SEARCH(\"Gas\",$A$14),0)>0,VLOOKUP(\"Gas\",HVACg_Lookup,MATCH($F$12,BuildingSize,0)+1,FALSE),IF(IFERROR(SEARCH(\"Oil\",$A$14),0)>0,VLOOKUP(\"Oil\",HVACg_Lookup,MATCH($F$12,BuildingSize,0)+1,FALSE),IF(IFERROR(SEARCH(\"Propane\",$A$14),0)>0,VLOOKUP(\"Propane\",HVACg_Lookup,MATCH(Worksheet!$F$12,BuildingSize,0)+1,FALSE),0)))","v":0},0,0,"",""]
[null,null,"",null,null,null,null,null,null,null,null,null,0,0,0,0,"",0,0,0,0,0,0,0,0,0,0,0,0,0,0,0,{"$f":"T420/1000*V420*X420*IF(IFERROR(SEARCH(\"Gas\",$A$14),0)>0,VLOOKUP(\"Gas\",HVACg_Lookup,MATCH($F$12,BuildingSize,0)+1,FALSE),IF(IFERROR(SEARCH(\"Oil\",$A$14),0)>0,VLOOKUP(\"Oil\",HVACg_Lookup,MATCH($F$12,BuildingSize,0)+1,FALSE),IF(IFERROR(SEARCH(\"Propane\",$A$14),0)>0,VLOOKUP(\"Propane\",HVACg_Lookup,MATCH(Worksheet!$F$12,BuildingSize,0)+1,FALSE),0)))","v":0},{"$f":"U420/1000*V420*X420*IF(IFERROR(SEARCH(\"Gas\",$A$14),0)>0,VLOOKUP(\"Gas\",HVACg_Lookup,MATCH($F$12,BuildingSize,0)+1,FALSE),IF(IFERROR(SEARCH(\"Oil\",$A$14),0)>0,VLOOKUP(\"Oil\",HVACg_Lookup,MATCH($F$12,BuildingSize,0)+1,FALSE),IF(IFERROR(SEARCH(\"Propane\",$A$14),0)>0,VLOOKUP(\"Propane\",HVACg_Lookup,MATCH(Worksheet!$F$12,BuildingSize,0)+1,FALSE),0)))","v":0},0,0,"",""]
[null,null,"",null,null,null,null,null,null,null,null,null,0,0,0,0,"",0,0,0,0,0,0,0,0,0,0,0,0,0,0,0,{"$f":"T421/1000*V421*X421*IF(IFERROR(SEARCH(\"Gas\",$A$14),0)>0,VLOOKUP(\"Gas\",HVACg_Lookup,MATCH($F$12,BuildingSize,0)+1,FALSE),IF(IFERROR(SEARCH(\"Oil\",$A$14),0)>0,VLOOKUP(\"Oil\",HVACg_Lookup,MATCH($F$12,BuildingSize,0)+1,FALSE),IF(IFERROR(SEARCH(\"Propane\",$A$14),0)>0,VLOOKUP(\"Propane\",HVACg_Lookup,MATCH(Worksheet!$F$12,BuildingSize,0)+1,FALSE),0)))","v":0},{"$f":"U421/1000*V421*X421*IF(IFERROR(SEARCH(\"Gas\",$A$14),0)>0,VLOOKUP(\"Gas\",HVACg_Lookup,MATCH($F$12,BuildingSize,0)+1,FALSE),IF(IFERROR(SEARCH(\"Oil\",$A$14),0)>0,VLOOKUP(\"Oil\",HVACg_Lookup,MATCH($F$12,BuildingSize,0)+1,FALSE),IF(IFERROR(SEARCH(\"Propane\",$A$14),0)>0,VLOOKUP(\"Propane\",HVACg_Lookup,MATCH(Worksheet!$F$12,BuildingSize,0)+1,FALSE),0)))","v":0},0,0,"",""]
[null,null,"",null,null,null,null,null,null,null,null,null,0,0,0,0,"",0,0,0,0,0,0,0,0,0,0,0,0,0,0,0,{"$f":"T422/1000*V422*X422*IF(IFERROR(SEARCH(\"Gas\",$A$14),0)>0,VLOOKUP(\"Gas\",HVACg_Lookup,MATCH($F$12,BuildingSize,0)+1,FALSE),IF(IFERROR(SEARCH(\"Oil\",$A$14),0)>0,VLOOKUP(\"Oil\",HVACg_Lookup,MATCH($F$12,BuildingSize,0)+1,FALSE),IF(IFERROR(SEARCH(\"Propane\",$A$14),0)>0,VLOOKUP(\"Propane\",HVACg_Lookup,MATCH(Worksheet!$F$12,BuildingSize,0)+1,FALSE),0)))","v":0},{"$f":"U422/1000*V422*X422*IF(IFERROR(SEARCH(\"Gas\",$A$14),0)>0,VLOOKUP(\"Gas\",HVACg_Lookup,MATCH($F$12,BuildingSize,0)+1,FALSE),IF(IFERROR(SEARCH(\"Oil\",$A$14),0)>0,VLOOKUP(\"Oil\",HVACg_Lookup,MATCH($F$12,BuildingSize,0)+1,FALSE),IF(IFERROR(SEARCH(\"Propane\",$A$14),0)>0,VLOOKUP(\"Propane\",HVACg_Lookup,MATCH(Worksheet!$F$12,BuildingSize,0)+1,FALSE),0)))","v":0},0,0,"",""]
[null,null,"",null,null,null,null,null,null,null,null,null,0,0,0,0,"",0,0,0,0,0,0,0,0,0,0,0,0,0,0,0,{"$f":"T423/1000*V423*X423*IF(IFERROR(SEARCH(\"Gas\",$A$14),0)>0,VLOOKUP(\"Gas\",HVACg_Lookup,MATCH($F$12,BuildingSize,0)+1,FALSE),IF(IFERROR(SEARCH(\"Oil\",$A$14),0)>0,VLOOKUP(\"Oil\",HVACg_Lookup,MATCH($F$12,BuildingSize,0)+1,FALSE),IF(IFERROR(SEARCH(\"Propane\",$A$14),0)>0,VLOOKUP(\"Propane\",HVACg_Lookup,MATCH(Worksheet!$F$12,BuildingSize,0)+1,FALSE),0)))","v":0},{"$f":"U423/1000*V423*X423*IF(IFERROR(SEARCH(\"Gas\",$A$14),0)>0,VLOOKUP(\"Gas\",HVACg_Lookup,MATCH($F$12,BuildingSize,0)+1,FALSE),IF(IFERROR(SEARCH(\"Oil\",$A$14),0)>0,VLOOKUP(\"Oil\",HVACg_Lookup,MATCH($F$12,BuildingSize,0)+1,FALSE),IF(IFERROR(SEARCH(\"Propane\",$A$14),0)>0,VLOOKUP(\"Propane\",HVACg_Lookup,MATCH(Worksheet!$F$12,BuildingSize,0)+1,FALSE),0)))","v":0},0,0,"",""]
[null,null,"",null,null,null,null,null,null,null,null,null,0,0,0,0,"",0,0,0,0,0,0,0,0,0,0,0,0,0,0,0,{"$f":"T424/1000*V424*X424*IF(IFERROR(SEARCH(\"Gas\",$A$14),0)>0,VLOOKUP(\"Gas\",HVACg_Lookup,MATCH($F$12,BuildingSize,0)+1,FALSE),IF(IFERROR(SEARCH(\"Oil\",$A$14),0)>0,VLOOKUP(\"Oil\",HVACg_Lookup,MATCH($F$12,BuildingSize,0)+1,FALSE),IF(IFERROR(SEARCH(\"Propane\",$A$14),0)>0,VLOOKUP(\"Propane\",HVACg_Lookup,MATCH(Worksheet!$F$12,BuildingSize,0)+1,FALSE),0)))","v":0},{"$f":"U424/1000*V424*X424*IF(IFERROR(SEARCH(\"Gas\",$A$14),0)>0,VLOOKUP(\"Gas\",HVACg_Lookup,MATCH($F$12,BuildingSize,0)+1,FALSE),IF(IFERROR(SEARCH(\"Oil\",$A$14),0)>0,VLOOKUP(\"Oil\",HVACg_Lookup,MATCH($F$12,BuildingSize,0)+1,FALSE),IF(IFERROR(SEARCH(\"Propane\",$A$14),0)>0,VLOOKUP(\"Propane\",HVACg_Lookup,MATCH(Worksheet!$F$12,BuildingSize,0)+1,FALSE),0)))","v":0},0,0,"",""]
[null,null,"",null,null,null,null,null,null,null,null,null,0,0,0,0,"",0,0,0,0,0,0,0,0,0,0,0,0,0,0,0,{"$f":"T425/1000*V425*X425*IF(IFERROR(SEARCH(\"Gas\",$A$14),0)>0,VLOOKUP(\"Gas\",HVACg_Lookup,MATCH($F$12,BuildingSize,0)+1,FALSE),IF(IFERROR(SEARCH(\"Oil\",$A$14),0)>0,VLOOKUP(\"Oil\",HVACg_Lookup,MATCH($F$12,BuildingSize,0)+1,FALSE),IF(IFERROR(SEARCH(\"Propane\",$A$14),0)>0,VLOOKUP(\"Propane\",HVACg_Lookup,MATCH(Worksheet!$F$12,BuildingSize,0)+1,FALSE),0)))","v":0},{"$f":"U425/1000*V425*X425*IF(IFERROR(SEARCH(\"Gas\",$A$14),0)>0,VLOOKUP(\"Gas\",HVACg_Lookup,MATCH($F$12,BuildingSize,0)+1,FALSE),IF(IFERROR(SEARCH(\"Oil\",$A$14),0)>0,VLOOKUP(\"Oil\",HVACg_Lookup,MATCH($F$12,BuildingSize,0)+1,FALSE),IF(IFERROR(SEARCH(\"Propane\",$A$14),0)>0,VLOOKUP(\"Propane\",HVACg_Lookup,MATCH(Worksheet!$F$12,BuildingSize,0)+1,FALSE),0)))","v":0},0,0,"",""]
[null,null,"",null,null,null,null,null,null,null,null,null,0,0,0,0,"",0,0,0,0,0,0,0,0,0,0,0,0,0,0,0,{"$f":"T426/1000*V426*X426*IF(IFERROR(SEARCH(\"Gas\",$A$14),0)>0,VLOOKUP(\"Gas\",HVACg_Lookup,MATCH($F$12,BuildingSize,0)+1,FALSE),IF(IFERROR(SEARCH(\"Oil\",$A$14),0)>0,VLOOKUP(\"Oil\",HVACg_Lookup,MATCH($F$12,BuildingSize,0)+1,FALSE),IF(IFERROR(SEARCH(\"Propane\",$A$14),0)>0,VLOOKUP(\"Propane\",HVACg_Lookup,MATCH(Worksheet!$F$12,BuildingSize,0)+1,FALSE),0)))","v":0},{"$f":"U426/1000*V426*X426*IF(IFERROR(SEARCH(\"Gas\",$A$14),0)>0,VLOOKUP(\"Gas\",HVACg_Lookup,MATCH($F$12,BuildingSize,0)+1,FALSE),IF(IFERROR(SEARCH(\"Oil\",$A$14),0)>0,VLOOKUP(\"Oil\",HVACg_Lookup,MATCH($F$12,BuildingSize,0)+1,FALSE),IF(IFERROR(SEARCH(\"Propane\",$A$14),0)>0,VLOOKUP(\"Propane\",HVACg_Lookup,MATCH(Worksheet!$F$12,BuildingSize,0)+1,FALSE),0)))","v":0},0,0,"",""]
[null,null,"",null,null,null,null,null,null,null,null,null,0,0,0,0,"",0,0,0,0,0,0,0,0,0,0,0,0,0,0,0,{"$f":"T427/1000*V427*X427*IF(IFERROR(SEARCH(\"Gas\",$A$14),0)>0,VLOOKUP(\"Gas\",HVACg_Lookup,MATCH($F$12,BuildingSize,0)+1,FALSE),IF(IFERROR(SEARCH(\"Oil\",$A$14),0)>0,VLOOKUP(\"Oil\",HVACg_Lookup,MATCH($F$12,BuildingSize,0)+1,FALSE),IF(IFERROR(SEARCH(\"Propane\",$A$14),0)>0,VLOOKUP(\"Propane\",HVACg_Lookup,MATCH(Worksheet!$F$12,BuildingSize,0)+1,FALSE),0)))","v":0},{"$f":"U427/1000*V427*X427*IF(IFERROR(SEARCH(\"Gas\",$A$14),0)>0,VLOOKUP(\"Gas\",HVACg_Lookup,MATCH($F$12,BuildingSize,0)+1,FALSE),IF(IFERROR(SEARCH(\"Oil\",$A$14),0)>0,VLOOKUP(\"Oil\",HVACg_Lookup,MATCH($F$12,BuildingSize,0)+1,FALSE),IF(IFERROR(SEARCH(\"Propane\",$A$14),0)>0,VLOOKUP(\"Propane\",HVACg_Lookup,MATCH(Worksheet!$F$12,BuildingSize,0)+1,FALSE),0)))","v":0},0,0,"",""]
[null,null,"",null,null,null,null,null,null,null,null,null,0,0,0,0,"",0,0,0,0,0,0,0,0,0,0,0,0,0,0,0,{"$f":"T428/1000*V428*X428*IF(IFERROR(SEARCH(\"Gas\",$A$14),0)>0,VLOOKUP(\"Gas\",HVACg_Lookup,MATCH($F$12,BuildingSize,0)+1,FALSE),IF(IFERROR(SEARCH(\"Oil\",$A$14),0)>0,VLOOKUP(\"Oil\",HVACg_Lookup,MATCH($F$12,BuildingSize,0)+1,FALSE),IF(IFERROR(SEARCH(\"Propane\",$A$14),0)>0,VLOOKUP(\"Propane\",HVACg_Lookup,MATCH(Worksheet!$F$12,BuildingSize,0)+1,FALSE),0)))","v":0},{"$f":"U428/1000*V428*X428*IF(IFERROR(SEARCH(\"Gas\",$A$14),0)>0,VLOOKUP(\"Gas\",HVACg_Lookup,MATCH($F$12,BuildingSize,0)+1,FALSE),IF(IFERROR(SEARCH(\"Oil\",$A$14),0)>0,VLOOKUP(\"Oil\",HVACg_Lookup,MATCH($F$12,BuildingSize,0)+1,FALSE),IF(IFERROR(SEARCH(\"Propane\",$A$14),0)>0,VLOOKUP(\"Propane\",HVACg_Lookup,MATCH(Worksheet!$F$12,BuildingSize,0)+1,FALSE),0)))","v":0},0,0,"",""]
[null,null,"",null,null,null,null,null,null,null,null,null,0,0,0,0,"",0,0,0,0,0,0,0,0,0,0,0,0,0,0,0,{"$f":"T429/1000*V429*X429*IF(IFERROR(SEARCH(\"Gas\",$A$14),0)>0,VLOOKUP(\"Gas\",HVACg_Lookup,MATCH($F$12,BuildingSize,0)+1,FALSE),IF(IFERROR(SEARCH(\"Oil\",$A$14),0)>0,VLOOKUP(\"Oil\",HVACg_Lookup,MATCH($F$12,BuildingSize,0)+1,FALSE),IF(IFERROR(SEARCH(\"Propane\",$A$14),0)>0,VLOOKUP(\"Propane\",HVACg_Lookup,MATCH(Worksheet!$F$12,BuildingSize,0)+1,FALSE),0)))","v":0},{"$f":"U429/1000*V429*X429*IF(IFERROR(SEARCH(\"Gas\",$A$14),0)>0,VLOOKUP(\"Gas\",HVACg_Lookup,MATCH($F$12,BuildingSize,0)+1,FALSE),IF(IFERROR(SEARCH(\"Oil\",$A$14),0)>0,VLOOKUP(\"Oil\",HVACg_Lookup,MATCH($F$12,BuildingSize,0)+1,FALSE),IF(IFERROR(SEARCH(\"Propane\",$A$14),0)>0,VLOOKUP(\"Propane\",HVACg_Lookup,MATCH(Worksheet!$F$12,BuildingSize,0)+1,FALSE),0)))","v":0},0,0,"",""]
[null,null,"",null,null,null,null,null,null,null,null,null,0,0,0,0,"",0,0,0,0,0,0,0,0,0,0,0,0,0,0,0,{"$f":"T430/1000*V430*X430*IF(IFERROR(SEARCH(\"Gas\",$A$14),0)>0,VLOOKUP(\"Gas\",HVACg_Lookup,MATCH($F$12,BuildingSize,0)+1,FALSE),IF(IFERROR(SEARCH(\"Oil\",$A$14),0)>0,VLOOKUP(\"Oil\",HVACg_Lookup,MATCH($F$12,BuildingSize,0)+1,FALSE),IF(IFERROR(SEARCH(\"Propane\",$A$14),0)>0,VLOOKUP(\"Propane\",HVACg_Lookup,MATCH(Worksheet!$F$12,BuildingSize,0)+1,FALSE),0)))","v":0},{"$f":"U430/1000*V430*X430*IF(IFERROR(SEARCH(\"Gas\",$A$14),0)>0,VLOOKUP(\"Gas\",HVACg_Lookup,MATCH($F$12,BuildingSize,0)+1,FALSE),IF(IFERROR(SEARCH(\"Oil\",$A$14),0)>0,VLOOKUP(\"Oil\",HVACg_Lookup,MATCH($F$12,BuildingSize,0)+1,FALSE),IF(IFERROR(SEARCH(\"Propane\",$A$14),0)>0,VLOOKUP(\"Propane\",HVACg_Lookup,MATCH(Worksheet!$F$12,BuildingSize,0)+1,FALSE),0)))","v":0},0,0,"",""]
[null,null,"",null,null,null,null,null,null,null,null,null,0,0,0,0,"",0,0,0,0,0,0,0,0,0,0,0,0,0,0,0,{"$f":"T431/1000*V431*X431*IF(IFERROR(SEARCH(\"Gas\",$A$14),0)>0,VLOOKUP(\"Gas\",HVACg_Lookup,MATCH($F$12,BuildingSize,0)+1,FALSE),IF(IFERROR(SEARCH(\"Oil\",$A$14),0)>0,VLOOKUP(\"Oil\",HVACg_Lookup,MATCH($F$12,BuildingSize,0)+1,FALSE),IF(IFERROR(SEARCH(\"Propane\",$A$14),0)>0,VLOOKUP(\"Propane\",HVACg_Lookup,MATCH(Worksheet!$F$12,BuildingSize,0)+1,FALSE),0)))","v":0},{"$f":"U431/1000*V431*X431*IF(IFERROR(SEARCH(\"Gas\",$A$14),0)>0,VLOOKUP(\"Gas\",HVACg_Lookup,MATCH($F$12,BuildingSize,0)+1,FALSE),IF(IFERROR(SEARCH(\"Oil\",$A$14),0)>0,VLOOKUP(\"Oil\",HVACg_Lookup,MATCH($F$12,BuildingSize,0)+1,FALSE),IF(IFERROR(SEARCH(\"Propane\",$A$14),0)>0,VLOOKUP(\"Propane\",HVACg_Lookup,MATCH(Worksheet!$F$12,BuildingSize,0)+1,FALSE),0)))","v":0},0,0,"",""]
[null,null,"",null,null,null,null,null,null,null,null,null,0,0,0,0,"",0,0,0,0,0,0,0,0,0,0,0,0,0,0,0,{"$f":"T432/1000*V432*X432*IF(IFERROR(SEARCH(\"Gas\",$A$14),0)>0,VLOOKUP(\"Gas\",HVACg_Lookup,MATCH($F$12,BuildingSize,0)+1,FALSE),IF(IFERROR(SEARCH(\"Oil\",$A$14),0)>0,VLOOKUP(\"Oil\",HVACg_Lookup,MATCH($F$12,BuildingSize,0)+1,FALSE),IF(IFERROR(SEARCH(\"Propane\",$A$14),0)>0,VLOOKUP(\"Propane\",HVACg_Lookup,MATCH(Worksheet!$F$12,BuildingSize,0)+1,FALSE),0)))","v":0},{"$f":"U432/1000*V432*X432*IF(IFERROR(SEARCH(\"Gas\",$A$14),0)>0,VLOOKUP(\"Gas\",HVACg_Lookup,MATCH($F$12,BuildingSize,0)+1,FALSE),IF(IFERROR(SEARCH(\"Oil\",$A$14),0)>0,VLOOKUP(\"Oil\",HVACg_Lookup,MATCH($F$12,BuildingSize,0)+1,FALSE),IF(IFERROR(SEARCH(\"Propane\",$A$14),0)>0,VLOOKUP(\"Propane\",HVACg_Lookup,MATCH(Worksheet!$F$12,BuildingSize,0)+1,FALSE),0)))","v":0},0,0,"",""]
[null,null,"",null,null,null,null,null,null,null,null,null,0,0,0,0,"",0,0,0,0,0,0,0,0,0,0,0,0,0,0,0,{"$f":"T433/1000*V433*X433*IF(IFERROR(SEARCH(\"Gas\",$A$14),0)>0,VLOOKUP(\"Gas\",HVACg_Lookup,MATCH($F$12,BuildingSize,0)+1,FALSE),IF(IFERROR(SEARCH(\"Oil\",$A$14),0)>0,VLOOKUP(\"Oil\",HVACg_Lookup,MATCH($F$12,BuildingSize,0)+1,FALSE),IF(IFERROR(SEARCH(\"Propane\",$A$14),0)>0,VLOOKUP(\"Propane\",HVACg_Lookup,MATCH(Worksheet!$F$12,BuildingSize,0)+1,FALSE),0)))","v":0},{"$f":"U433/1000*V433*X433*IF(IFERROR(SEARCH(\"Gas\",$A$14),0)>0,VLOOKUP(\"Gas\",HVACg_Lookup,MATCH($F$12,BuildingSize,0)+1,FALSE),IF(IFERROR(SEARCH(\"Oil\",$A$14),0)>0,VLOOKUP(\"Oil\",HVACg_Lookup,MATCH($F$12,BuildingSize,0)+1,FALSE),IF(IFERROR(SEARCH(\"Propane\",$A$14),0)>0,VLOOKUP(\"Propane\",HVACg_Lookup,MATCH(Worksheet!$F$12,BuildingSize,0)+1,FALSE),0)))","v":0},0,0,"",""]
[null,null,"",null,null,null,null,null,null,null,null,null,0,0,0,0,"",0,0,0,0,0,0,0,0,0,0,0,0,0,0,0,{"$f":"T434/1000*V434*X434*IF(IFERROR(SEARCH(\"Gas\",$A$14),0)>0,VLOOKUP(\"Gas\",HVACg_Lookup,MATCH($F$12,BuildingSize,0)+1,FALSE),IF(IFERROR(SEARCH(\"Oil\",$A$14),0)>0,VLOOKUP(\"Oil\",HVACg_Lookup,MATCH($F$12,BuildingSize,0)+1,FALSE),IF(IFERROR(SEARCH(\"Propane\",$A$14),0)>0,VLOOKUP(\"Propane\",HVACg_Lookup,MATCH(Worksheet!$F$12,BuildingSize,0)+1,FALSE),0)))","v":0},{"$f":"U434/1000*V434*X434*IF(IFERROR(SEARCH(\"Gas\",$A$14),0)>0,VLOOKUP(\"Gas\",HVACg_Lookup,MATCH($F$12,BuildingSize,0)+1,FALSE),IF(IFERROR(SEARCH(\"Oil\",$A$14),0)>0,VLOOKUP(\"Oil\",HVACg_Lookup,MATCH($F$12,BuildingSize,0)+1,FALSE),IF(IFERROR(SEARCH(\"Propane\",$A$14),0)>0,VLOOKUP(\"Propane\",HVACg_Lookup,MATCH(Worksheet!$F$12,BuildingSize,0)+1,FALSE),0)))","v":0},0,0,"",""]
[null,null,"",null,null,null,null,null,null,null,null,null,0,0,0,0,"",0,0,0,0,0,0,0,0,0,0,0,0,0,0,0,{"$f":"T435/1000*V435*X435*IF(IFERROR(SEARCH(\"Gas\",$A$14),0)>0,VLOOKUP(\"Gas\",HVACg_Lookup,MATCH($F$12,BuildingSize,0)+1,FALSE),IF(IFERROR(SEARCH(\"Oil\",$A$14),0)>0,VLOOKUP(\"Oil\",HVACg_Lookup,MATCH($F$12,BuildingSize,0)+1,FALSE),IF(IFERROR(SEARCH(\"Propane\",$A$14),0)>0,VLOOKUP(\"Propane\",HVACg_Lookup,MATCH(Worksheet!$F$12,BuildingSize,0)+1,FALSE),0)))","v":0},{"$f":"U435/1000*V435*X435*IF(IFERROR(SEARCH(\"Gas\",$A$14),0)>0,VLOOKUP(\"Gas\",HVACg_Lookup,MATCH($F$12,BuildingSize,0)+1,FALSE),IF(IFERROR(SEARCH(\"Oil\",$A$14),0)>0,VLOOKUP(\"Oil\",HVACg_Lookup,MATCH($F$12,BuildingSize,0)+1,FALSE),IF(IFERROR(SEARCH(\"Propane\",$A$14),0)>0,VLOOKUP(\"Propane\",HVACg_Lookup,MATCH(Worksheet!$F$12,BuildingSize,0)+1,FALSE),0)))","v":0},0,0,"",""]
[null,null,"",null,null,null,null,null,null,null,null,null,0,0,0,0,"",0,0,0,0,0,0,0,0,0,0,0,0,0,0,0,{"$f":"T436/1000*V436*X436*IF(IFERROR(SEARCH(\"Gas\",$A$14),0)>0,VLOOKUP(\"Gas\",HVACg_Lookup,MATCH($F$12,BuildingSize,0)+1,FALSE),IF(IFERROR(SEARCH(\"Oil\",$A$14),0)>0,VLOOKUP(\"Oil\",HVACg_Lookup,MATCH($F$12,BuildingSize,0)+1,FALSE),IF(IFERROR(SEARCH(\"Propane\",$A$14),0)>0,VLOOKUP(\"Propane\",HVACg_Lookup,MATCH(Worksheet!$F$12,BuildingSize,0)+1,FALSE),0)))","v":0},{"$f":"U436/1000*V436*X436*IF(IFERROR(SEARCH(\"Gas\",$A$14),0)>0,VLOOKUP(\"Gas\",HVACg_Lookup,MATCH($F$12,BuildingSize,0)+1,FALSE),IF(IFERROR(SEARCH(\"Oil\",$A$14),0)>0,VLOOKUP(\"Oil\",HVACg_Lookup,MATCH($F$12,BuildingSize,0)+1,FALSE),IF(IFERROR(SEARCH(\"Propane\",$A$14),0)>0,VLOOKUP(\"Propane\",HVACg_Lookup,MATCH(Worksheet!$F$12,BuildingSize,0)+1,FALSE),0)))","v":0},0,0,"",""]
[null,null,"",null,null,null,null,null,null,null,null,null,0,0,0,0,"",0,0,0,0,0,0,0,0,0,0,0,0,0,0,0,{"$f":"T437/1000*V437*X437*IF(IFERROR(SEARCH(\"Gas\",$A$14),0)>0,VLOOKUP(\"Gas\",HVACg_Lookup,MATCH($F$12,BuildingSize,0)+1,FALSE),IF(IFERROR(SEARCH(\"Oil\",$A$14),0)>0,VLOOKUP(\"Oil\",HVACg_Lookup,MATCH($F$12,BuildingSize,0)+1,FALSE),IF(IFERROR(SEARCH(\"Propane\",$A$14),0)>0,VLOOKUP(\"Propane\",HVACg_Lookup,MATCH(Worksheet!$F$12,BuildingSize,0)+1,FALSE),0)))","v":0},{"$f":"U437/1000*V437*X437*IF(IFERROR(SEARCH(\"Gas\",$A$14),0)>0,VLOOKUP(\"Gas\",HVACg_Lookup,MATCH($F$12,BuildingSize,0)+1,FALSE),IF(IFERROR(SEARCH(\"Oil\",$A$14),0)>0,VLOOKUP(\"Oil\",HVACg_Lookup,MATCH($F$12,BuildingSize,0)+1,FALSE),IF(IFERROR(SEARCH(\"Propane\",$A$14),0)>0,VLOOKUP(\"Propane\",HVACg_Lookup,MATCH(Worksheet!$F$12,BuildingSize,0)+1,FALSE),0)))","v":0},0,0,"",""]
[null,null,"",null,null,null,null,null,null,null,null,null,0,0,0,0,"",0,0,0,0,0,0,0,0,0,0,0,0,0,0,0,{"$f":"T438/1000*V438*X438*IF(IFERROR(SEARCH(\"Gas\",$A$14),0)>0,VLOOKUP(\"Gas\",HVACg_Lookup,MATCH($F$12,BuildingSize,0)+1,FALSE),IF(IFERROR(SEARCH(\"Oil\",$A$14),0)>0,VLOOKUP(\"Oil\",HVACg_Lookup,MATCH($F$12,BuildingSize,0)+1,FALSE),IF(IFERROR(SEARCH(\"Propane\",$A$14),0)>0,VLOOKUP(\"Propane\",HVACg_Lookup,MATCH(Worksheet!$F$12,BuildingSize,0)+1,FALSE),0)))","v":0},{"$f":"U438/1000*V438*X438*IF(IFERROR(SEARCH(\"Gas\",$A$14),0)>0,VLOOKUP(\"Gas\",HVACg_Lookup,MATCH($F$12,BuildingSize,0)+1,FALSE),IF(IFERROR(SEARCH(\"Oil\",$A$14),0)>0,VLOOKUP(\"Oil\",HVACg_Lookup,MATCH($F$12,BuildingSize,0)+1,FALSE),IF(IFERROR(SEARCH(\"Propane\",$A$14),0)>0,VLOOKUP(\"Propane\",HVACg_Lookup,MATCH(Worksheet!$F$12,BuildingSize,0)+1,FALSE),0)))","v":0},0,0,"",""]
[null,null,"",null,null,null,null,null,null,null,null,null,0,0,0,0,"",0,0,0,0,0,0,0,0,0,0,0,0,0,0,0,{"$f":"T439/1000*V439*X439*IF(IFERROR(SEARCH(\"Gas\",$A$14),0)>0,VLOOKUP(\"Gas\",HVACg_Lookup,MATCH($F$12,BuildingSize,0)+1,FALSE),IF(IFERROR(SEARCH(\"Oil\",$A$14),0)>0,VLOOKUP(\"Oil\",HVACg_Lookup,MATCH($F$12,BuildingSize,0)+1,FALSE),IF(IFERROR(SEARCH(\"Propane\",$A$14),0)>0,VLOOKUP(\"Propane\",HVACg_Lookup,MATCH(Worksheet!$F$12,BuildingSize,0)+1,FALSE),0)))","v":0},{"$f":"U439/1000*V439*X439*IF(IFERROR(SEARCH(\"Gas\",$A$14),0)>0,VLOOKUP(\"Gas\",HVACg_Lookup,MATCH($F$12,BuildingSize,0)+1,FALSE),IF(IFERROR(SEARCH(\"Oil\",$A$14),0)>0,VLOOKUP(\"Oil\",HVACg_Lookup,MATCH($F$12,BuildingSize,0)+1,FALSE),IF(IFERROR(SEARCH(\"Propane\",$A$14),0)>0,VLOOKUP(\"Propane\",HVACg_Lookup,MATCH(Worksheet!$F$12,BuildingSize,0)+1,FALSE),0)))","v":0},0,0,"",""]
[null,null,"",null,null,null,null,null,null,null,null,null,0,0,0,0,"",0,0,0,0,0,0,0,0,0,0,0,0,0,0,0,{"$f":"T440/1000*V440*X440*IF(IFERROR(SEARCH(\"Gas\",$A$14),0)>0,VLOOKUP(\"Gas\",HVACg_Lookup,MATCH($F$12,BuildingSize,0)+1,FALSE),IF(IFERROR(SEARCH(\"Oil\",$A$14),0)>0,VLOOKUP(\"Oil\",HVACg_Lookup,MATCH($F$12,BuildingSize,0)+1,FALSE),IF(IFERROR(SEARCH(\"Propane\",$A$14),0)>0,VLOOKUP(\"Propane\",HVACg_Lookup,MATCH(Worksheet!$F$12,BuildingSize,0)+1,FALSE),0)))","v":0},{"$f":"U440/1000*V440*X440*IF(IFERROR(SEARCH(\"Gas\",$A$14),0)>0,VLOOKUP(\"Gas\",HVACg_Lookup,MATCH($F$12,BuildingSize,0)+1,FALSE),IF(IFERROR(SEARCH(\"Oil\",$A$14),0)>0,VLOOKUP(\"Oil\",HVACg_Lookup,MATCH($F$12,BuildingSize,0)+1,FALSE),IF(IFERROR(SEARCH(\"Propane\",$A$14),0)>0,VLOOKUP(\"Propane\",HVACg_Lookup,MATCH(Worksheet!$F$12,BuildingSize,0)+1,FALSE),0)))","v":0},0,0,"",""]
[null,null,"",null,null,null,null,null,null,null,null,null,0,0,0,0,"",0,0,0,0,0,0,0,0,0,0,0,0,0,0,0,{"$f":"T441/1000*V441*X441*IF(IFERROR(SEARCH(\"Gas\",$A$14),0)>0,VLOOKUP(\"Gas\",HVACg_Lookup,MATCH($F$12,BuildingSize,0)+1,FALSE),IF(IFERROR(SEARCH(\"Oil\",$A$14),0)>0,VLOOKUP(\"Oil\",HVACg_Lookup,MATCH($F$12,BuildingSize,0)+1,FALSE),IF(IFERROR(SEARCH(\"Propane\",$A$14),0)>0,VLOOKUP(\"Propane\",HVACg_Lookup,MATCH(Worksheet!$F$12,BuildingSize,0)+1,FALSE),0)))","v":0},{"$f":"U441/1000*V441*X441*IF(IFERROR(SEARCH(\"Gas\",$A$14),0)>0,VLOOKUP(\"Gas\",HVACg_Lookup,MATCH($F$12,BuildingSize,0)+1,FALSE),IF(IFERROR(SEARCH(\"Oil\",$A$14),0)>0,VLOOKUP(\"Oil\",HVACg_Lookup,MATCH($F$12,BuildingSize,0)+1,FALSE),IF(IFERROR(SEARCH(\"Propane\",$A$14),0)>0,VLOOKUP(\"Propane\",HVACg_Lookup,MATCH(Worksheet!$F$12,BuildingSize,0)+1,FALSE),0)))","v":0},0,0,"",""]
[null,null,"",null,null,null,null,null,null,null,null,null,0,0,0,0,"",0,0,0,0,0,0,0,0,0,0,0,0,0,0,0,{"$f":"T442/1000*V442*X442*IF(IFERROR(SEARCH(\"Gas\",$A$14),0)>0,VLOOKUP(\"Gas\",HVACg_Lookup,MATCH($F$12,BuildingSize,0)+1,FALSE),IF(IFERROR(SEARCH(\"Oil\",$A$14),0)>0,VLOOKUP(\"Oil\",HVACg_Lookup,MATCH($F$12,BuildingSize,0)+1,FALSE),IF(IFERROR(SEARCH(\"Propane\",$A$14),0)>0,VLOOKUP(\"Propane\",HVACg_Lookup,MATCH(Worksheet!$F$12,BuildingSize,0)+1,FALSE),0)))","v":0},{"$f":"U442/1000*V442*X442*IF(IFERROR(SEARCH(\"Gas\",$A$14),0)>0,VLOOKUP(\"Gas\",HVACg_Lookup,MATCH($F$12,BuildingSize,0)+1,FALSE),IF(IFERROR(SEARCH(\"Oil\",$A$14),0)>0,VLOOKUP(\"Oil\",HVACg_Lookup,MATCH($F$12,BuildingSize,0)+1,FALSE),IF(IFERROR(SEARCH(\"Propane\",$A$14),0)>0,VLOOKUP(\"Propane\",HVACg_Lookup,MATCH(Worksheet!$F$12,BuildingSize,0)+1,FALSE),0)))","v":0},0,0,"",""]
[null,null,"",null,null,null,null,null,null,null,null,null,0,0,0,0,"",0,0,0,0,0,0,0,0,0,0,0,0,0,0,0,{"$f":"T443/1000*V443*X443*IF(IFERROR(SEARCH(\"Gas\",$A$14),0)>0,VLOOKUP(\"Gas\",HVACg_Lookup,MATCH($F$12,BuildingSize,0)+1,FALSE),IF(IFERROR(SEARCH(\"Oil\",$A$14),0)>0,VLOOKUP(\"Oil\",HVACg_Lookup,MATCH($F$12,BuildingSize,0)+1,FALSE),IF(IFERROR(SEARCH(\"Propane\",$A$14),0)>0,VLOOKUP(\"Propane\",HVACg_Lookup,MATCH(Worksheet!$F$12,BuildingSize,0)+1,FALSE),0)))","v":0},{"$f":"U443/1000*V443*X443*IF(IFERROR(SEARCH(\"Gas\",$A$14),0)>0,VLOOKUP(\"Gas\",HVACg_Lookup,MATCH($F$12,BuildingSize,0)+1,FALSE),IF(IFERROR(SEARCH(\"Oil\",$A$14),0)>0,VLOOKUP(\"Oil\",HVACg_Lookup,MATCH($F$12,BuildingSize,0)+1,FALSE),IF(IFERROR(SEARCH(\"Propane\",$A$14),0)>0,VLOOKUP(\"Propane\",HVACg_Lookup,MATCH(Worksheet!$F$12,BuildingSize,0)+1,FALSE),0)))","v":0},0,0,"",""]
[null,null,"",null,null,null,null,null,null,null,null,null,0,0,0,0,"",0,0,0,0,0,0,0,0,0,0,0,0,0,0,0,{"$f":"T444/1000*V444*X444*IF(IFERROR(SEARCH(\"Gas\",$A$14),0)>0,VLOOKUP(\"Gas\",HVACg_Lookup,MATCH($F$12,BuildingSize,0)+1,FALSE),IF(IFERROR(SEARCH(\"Oil\",$A$14),0)>0,VLOOKUP(\"Oil\",HVACg_Lookup,MATCH($F$12,BuildingSize,0)+1,FALSE),IF(IFERROR(SEARCH(\"Propane\",$A$14),0)>0,VLOOKUP(\"Propane\",HVACg_Lookup,MATCH(Worksheet!$F$12,BuildingSize,0)+1,FALSE),0)))","v":0},{"$f":"U444/1000*V444*X444*IF(IFERROR(SEARCH(\"Gas\",$A$14),0)>0,VLOOKUP(\"Gas\",HVACg_Lookup,MATCH($F$12,BuildingSize,0)+1,FALSE),IF(IFERROR(SEARCH(\"Oil\",$A$14),0)>0,VLOOKUP(\"Oil\",HVACg_Lookup,MATCH($F$12,BuildingSize,0)+1,FALSE),IF(IFERROR(SEARCH(\"Propane\",$A$14),0)>0,VLOOKUP(\"Propane\",HVACg_Lookup,MATCH(Worksheet!$F$12,BuildingSize,0)+1,FALSE),0)))","v":0},0,0,"",""]
[null,null,"",null,null,null,null,null,null,null,null,null,0,0,0,0,"",0,0,0,0,0,0,0,0,0,0,0,0,0,0,0,{"$f":"T445/1000*V445*X445*IF(IFERROR(SEARCH(\"Gas\",$A$14),0)>0,VLOOKUP(\"Gas\",HVACg_Lookup,MATCH($F$12,BuildingSize,0)+1,FALSE),IF(IFERROR(SEARCH(\"Oil\",$A$14),0)>0,VLOOKUP(\"Oil\",HVACg_Lookup,MATCH($F$12,BuildingSize,0)+1,FALSE),IF(IFERROR(SEARCH(\"Propane\",$A$14),0)>0,VLOOKUP(\"Propane\",HVACg_Lookup,MATCH(Worksheet!$F$12,BuildingSize,0)+1,FALSE),0)))","v":0},{"$f":"U445/1000*V445*X445*IF(IFERROR(SEARCH(\"Gas\",$A$14),0)>0,VLOOKUP(\"Gas\",HVACg_Lookup,MATCH($F$12,BuildingSize,0)+1,FALSE),IF(IFERROR(SEARCH(\"Oil\",$A$14),0)>0,VLOOKUP(\"Oil\",HVACg_Lookup,MATCH($F$12,BuildingSize,0)+1,FALSE),IF(IFERROR(SEARCH(\"Propane\",$A$14),0)>0,VLOOKUP(\"Propane\",HVACg_Lookup,MATCH(Worksheet!$F$12,BuildingSize,0)+1,FALSE),0)))","v":0},0,0,"",""]
[null,null,"",null,null,null,null,null,null,null,null,null,0,0,0,0,"",0,0,0,0,0,0,0,0,0,0,0,0,0,0,0,{"$f":"T446/1000*V446*X446*IF(IFERROR(SEARCH(\"Gas\",$A$14),0)>0,VLOOKUP(\"Gas\",HVACg_Lookup,MATCH($F$12,BuildingSize,0)+1,FALSE),IF(IFERROR(SEARCH(\"Oil\",$A$14),0)>0,VLOOKUP(\"Oil\",HVACg_Lookup,MATCH($F$12,BuildingSize,0)+1,FALSE),IF(IFERROR(SEARCH(\"Propane\",$A$14),0)>0,VLOOKUP(\"Propane\",HVACg_Lookup,MATCH(Worksheet!$F$12,BuildingSize,0)+1,FALSE),0)))","v":0},{"$f":"U446/1000*V446*X446*IF(IFERROR(SEARCH(\"Gas\",$A$14),0)>0,VLOOKUP(\"Gas\",HVACg_Lookup,MATCH($F$12,BuildingSize,0)+1,FALSE),IF(IFERROR(SEARCH(\"Oil\",$A$14),0)>0,VLOOKUP(\"Oil\",HVACg_Lookup,MATCH($F$12,BuildingSize,0)+1,FALSE),IF(IFERROR(SEARCH(\"Propane\",$A$14),0)>0,VLOOKUP(\"Propane\",HVACg_Lookup,MATCH(Worksheet!$F$12,BuildingSize,0)+1,FALSE),0)))","v":0},0,0,"",""]
[null,null,"",null,null,null,null,null,null,null,null,null,0,0,0,0,"",0,0,0,0,0,0,0,0,0,0,0,0,0,0,0,{"$f":"T447/1000*V447*X447*IF(IFERROR(SEARCH(\"Gas\",$A$14),0)>0,VLOOKUP(\"Gas\",HVACg_Lookup,MATCH($F$12,BuildingSize,0)+1,FALSE),IF(IFERROR(SEARCH(\"Oil\",$A$14),0)>0,VLOOKUP(\"Oil\",HVACg_Lookup,MATCH($F$12,BuildingSize,0)+1,FALSE),IF(IFERROR(SEARCH(\"Propane\",$A$14),0)>0,VLOOKUP(\"Propane\",HVACg_Lookup,MATCH(Worksheet!$F$12,BuildingSize,0)+1,FALSE),0)))","v":0},{"$f":"U447/1000*V447*X447*IF(IFERROR(SEARCH(\"Gas\",$A$14),0)>0,VLOOKUP(\"Gas\",HVACg_Lookup,MATCH($F$12,BuildingSize,0)+1,FALSE),IF(IFERROR(SEARCH(\"Oil\",$A$14),0)>0,VLOOKUP(\"Oil\",HVACg_Lookup,MATCH($F$12,BuildingSize,0)+1,FALSE),IF(IFERROR(SEARCH(\"Propane\",$A$14),0)>0,VLOOKUP(\"Propane\",HVACg_Lookup,MATCH(Worksheet!$F$12,BuildingSize,0)+1,FALSE),0)))","v":0},0,0,"",""]
[null,null,"",null,null,null,null,null,null,null,null,null,0,0,0,0,"",0,0,0,0,0,0,0,0,0,0,0,0,0,0,0,{"$f":"T448/1000*V448*X448*IF(IFERROR(SEARCH(\"Gas\",$A$14),0)>0,VLOOKUP(\"Gas\",HVACg_Lookup,MATCH($F$12,BuildingSize,0)+1,FALSE),IF(IFERROR(SEARCH(\"Oil\",$A$14),0)>0,VLOOKUP(\"Oil\",HVACg_Lookup,MATCH($F$12,BuildingSize,0)+1,FALSE),IF(IFERROR(SEARCH(\"Propane\",$A$14),0)>0,VLOOKUP(\"Propane\",HVACg_Lookup,MATCH(Worksheet!$F$12,BuildingSize,0)+1,FALSE),0)))","v":0},{"$f":"U448/1000*V448*X448*IF(IFERROR(SEARCH(\"Gas\",$A$14),0)>0,VLOOKUP(\"Gas\",HVACg_Lookup,MATCH($F$12,BuildingSize,0)+1,FALSE),IF(IFERROR(SEARCH(\"Oil\",$A$14),0)>0,VLOOKUP(\"Oil\",HVACg_Lookup,MATCH($F$12,BuildingSize,0)+1,FALSE),IF(IFERROR(SEARCH(\"Propane\",$A$14),0)>0,VLOOKUP(\"Propane\",HVACg_Lookup,MATCH(Worksheet!$F$12,BuildingSize,0)+1,FALSE),0)))","v":0},0,0,"",""]
[null,null,"",null,null,null,null,null,null,null,null,null,0,0,0,0,"",0,0,0,0,0,0,0,0,0,0,0,0,0,0,0,{"$f":"T449/1000*V449*X449*IF(IFERROR(SEARCH(\"Gas\",$A$14),0)>0,VLOOKUP(\"Gas\",HVACg_Lookup,MATCH($F$12,BuildingSize,0)+1,FALSE),IF(IFERROR(SEARCH(\"Oil\",$A$14),0)>0,VLOOKUP(\"Oil\",HVACg_Lookup,MATCH($F$12,BuildingSize,0)+1,FALSE),IF(IFERROR(SEARCH(\"Propane\",$A$14),0)>0,VLOOKUP(\"Propane\",HVACg_Lookup,MATCH(Worksheet!$F$12,BuildingSize,0)+1,FALSE),0)))","v":0},{"$f":"U449/1000*V449*X449*IF(IFERROR(SEARCH(\"Gas\",$A$14),0)>0,VLOOKUP(\"Gas\",HVACg_Lookup,MATCH($F$12,BuildingSize,0)+1,FALSE),IF(IFERROR(SEARCH(\"Oil\",$A$14),0)>0,VLOOKUP(\"Oil\",HVACg_Lookup,MATCH($F$12,BuildingSize,0)+1,FALSE),IF(IFERROR(SEARCH(\"Propane\",$A$14),0)>0,VLOOKUP(\"Propane\",HVACg_Lookup,MATCH(Worksheet!$F$12,BuildingSize,0)+1,FALSE),0)))","v":0},0,0,"",""]
[null,null,"",null,null,null,null,null,null,null,null,null,0,0,0,0,"",0,0,0,0,0,0,0,0,0,0,0,0,0,0,0,{"$f":"T450/1000*V450*X450*IF(IFERROR(SEARCH(\"Gas\",$A$14),0)>0,VLOOKUP(\"Gas\",HVACg_Lookup,MATCH($F$12,BuildingSize,0)+1,FALSE),IF(IFERROR(SEARCH(\"Oil\",$A$14),0)>0,VLOOKUP(\"Oil\",HVACg_Lookup,MATCH($F$12,BuildingSize,0)+1,FALSE),IF(IFERROR(SEARCH(\"Propane\",$A$14),0)>0,VLOOKUP(\"Propane\",HVACg_Lookup,MATCH(Worksheet!$F$12,BuildingSize,0)+1,FALSE),0)))","v":0},{"$f":"U450/1000*V450*X450*IF(IFERROR(SEARCH(\"Gas\",$A$14),0)>0,VLOOKUP(\"Gas\",HVACg_Lookup,MATCH($F$12,BuildingSize,0)+1,FALSE),IF(IFERROR(SEARCH(\"Oil\",$A$14),0)>0,VLOOKUP(\"Oil\",HVACg_Lookup,MATCH($F$12,BuildingSize,0)+1,FALSE),IF(IFERROR(SEARCH(\"Propane\",$A$14),0)>0,VLOOKUP(\"Propane\",HVACg_Lookup,MATCH(Worksheet!$F$12,BuildingSize,0)+1,FALSE),0)))","v":0},0,0,"",""]
[null,null,"",null,null,null,null,null,null,null,null,null,0,0,0,0,"",0,0,0,0,0,0,0,0,0,0,0,0,0,0,0,{"$f":"T451/1000*V451*X451*IF(IFERROR(SEARCH(\"Gas\",$A$14),0)>0,VLOOKUP(\"Gas\",HVACg_Lookup,MATCH($F$12,BuildingSize,0)+1,FALSE),IF(IFERROR(SEARCH(\"Oil\",$A$14),0)>0,VLOOKUP(\"Oil\",HVACg_Lookup,MATCH($F$12,BuildingSize,0)+1,FALSE),IF(IFERROR(SEARCH(\"Propane\",$A$14),0)>0,VLOOKUP(\"Propane\",HVACg_Lookup,MATCH(Worksheet!$F$12,BuildingSize,0)+1,FALSE),0)))","v":0},{"$f":"U451/1000*V451*X451*IF(IFERROR(SEARCH(\"Gas\",$A$14),0)>0,VLOOKUP(\"Gas\",HVACg_Lookup,MATCH($F$12,BuildingSize,0)+1,FALSE),IF(IFERROR(SEARCH(\"Oil\",$A$14),0)>0,VLOOKUP(\"Oil\",HVACg_Lookup,MATCH($F$12,BuildingSize,0)+1,FALSE),IF(IFERROR(SEARCH(\"Propane\",$A$14),0)>0,VLOOKUP(\"Propane\",HVACg_Lookup,MATCH(Worksheet!$F$12,BuildingSize,0)+1,FALSE),0)))","v":0},0,0,"",""]
[null,null,"",null,null,null,null,null,null,null,null,null,0,0,0,0,"",0,0,0,0,0,0,0,0,0,0,0,0,0,0,0,{"$f":"T452/1000*V452*X452*IF(IFERROR(SEARCH(\"Gas\",$A$14),0)>0,VLOOKUP(\"Gas\",HVACg_Lookup,MATCH($F$12,BuildingSize,0)+1,FALSE),IF(IFERROR(SEARCH(\"Oil\",$A$14),0)>0,VLOOKUP(\"Oil\",HVACg_Lookup,MATCH($F$12,BuildingSize,0)+1,FALSE),IF(IFERROR(SEARCH(\"Propane\",$A$14),0)>0,VLOOKUP(\"Propane\",HVACg_Lookup,MATCH(Worksheet!$F$12,BuildingSize,0)+1,FALSE),0)))","v":0},{"$f":"U452/1000*V452*X452*IF(IFERROR(SEARCH(\"Gas\",$A$14),0)>0,VLOOKUP(\"Gas\",HVACg_Lookup,MATCH($F$12,BuildingSize,0)+1,FALSE),IF(IFERROR(SEARCH(\"Oil\",$A$14),0)>0,VLOOKUP(\"Oil\",HVACg_Lookup,MATCH($F$12,BuildingSize,0)+1,FALSE),IF(IFERROR(SEARCH(\"Propane\",$A$14),0)>0,VLOOKUP(\"Propane\",HVACg_Lookup,MATCH(Worksheet!$F$12,BuildingSize,0)+1,FALSE),0)))","v":0},0,0,"",""]
[null,null,"",null,null,null,null,null,null,null,null,null,0,0,0,0,"",0,0,0,0,0,0,0,0,0,0,0,0,0,0,0,{"$f":"T453/1000*V453*X453*IF(IFERROR(SEARCH(\"Gas\",$A$14),0)>0,VLOOKUP(\"Gas\",HVACg_Lookup,MATCH($F$12,BuildingSize,0)+1,FALSE),IF(IFERROR(SEARCH(\"Oil\",$A$14),0)>0,VLOOKUP(\"Oil\",HVACg_Lookup,MATCH($F$12,BuildingSize,0)+1,FALSE),IF(IFERROR(SEARCH(\"Propane\",$A$14),0)>0,VLOOKUP(\"Propane\",HVACg_Lookup,MATCH(Worksheet!$F$12,BuildingSize,0)+1,FALSE),0)))","v":0},{"$f":"U453/1000*V453*X453*IF(IFERROR(SEARCH(\"Gas\",$A$14),0)>0,VLOOKUP(\"Gas\",HVACg_Lookup,MATCH($F$12,BuildingSize,0)+1,FALSE),IF(IFERROR(SEARCH(\"Oil\",$A$14),0)>0,VLOOKUP(\"Oil\",HVACg_Lookup,MATCH($F$12,BuildingSize,0)+1,FALSE),IF(IFERROR(SEARCH(\"Propane\",$A$14),0)>0,VLOOKUP(\"Propane\",HVACg_Lookup,MATCH(Worksheet!$F$12,BuildingSize,0)+1,FALSE),0)))","v":0},0,0,"",""]
[null,null,"",null,null,null,null,null,null,null,null,null,0,0,0,0,"",0,0,0,0,0,0,0,0,0,0,0,0,0,0,0,{"$f":"T454/1000*V454*X454*IF(IFERROR(SEARCH(\"Gas\",$A$14),0)>0,VLOOKUP(\"Gas\",HVACg_Lookup,MATCH($F$12,BuildingSize,0)+1,FALSE),IF(IFERROR(SEARCH(\"Oil\",$A$14),0)>0,VLOOKUP(\"Oil\",HVACg_Lookup,MATCH($F$12,BuildingSize,0)+1,FALSE),IF(IFERROR(SEARCH(\"Propane\",$A$14),0)>0,VLOOKUP(\"Propane\",HVACg_Lookup,MATCH(Worksheet!$F$12,BuildingSize,0)+1,FALSE),0)))","v":0},{"$f":"U454/1000*V454*X454*IF(IFERROR(SEARCH(\"Gas\",$A$14),0)>0,VLOOKUP(\"Gas\",HVACg_Lookup,MATCH($F$12,BuildingSize,0)+1,FALSE),IF(IFERROR(SEARCH(\"Oil\",$A$14),0)>0,VLOOKUP(\"Oil\",HVACg_Lookup,MATCH($F$12,BuildingSize,0)+1,FALSE),IF(IFERROR(SEARCH(\"Propane\",$A$14),0)>0,VLOOKUP(\"Propane\",HVACg_Lookup,MATCH(Worksheet!$F$12,BuildingSize,0)+1,FALSE),0)))","v":0},0,0,"",""]
[null,null,"",null,null,null,null,null,null,null,null,null,0,0,0,0,"",0,0,0,0,0,0,0,0,0,0,0,0,0,0,0,{"$f":"T455/1000*V455*X455*IF(IFERROR(SEARCH(\"Gas\",$A$14),0)>0,VLOOKUP(\"Gas\",HVACg_Lookup,MATCH($F$12,BuildingSize,0)+1,FALSE),IF(IFERROR(SEARCH(\"Oil\",$A$14),0)>0,VLOOKUP(\"Oil\",HVACg_Lookup,MATCH($F$12,BuildingSize,0)+1,FALSE),IF(IFERROR(SEARCH(\"Propane\",$A$14),0)>0,VLOOKUP(\"Propane\",HVACg_Lookup,MATCH(Worksheet!$F$12,BuildingSize,0)+1,FALSE),0)))","v":0},{"$f":"U455/1000*V455*X455*IF(IFERROR(SEARCH(\"Gas\",$A$14),0)>0,VLOOKUP(\"Gas\",HVACg_Lookup,MATCH($F$12,BuildingSize,0)+1,FALSE),IF(IFERROR(SEARCH(\"Oil\",$A$14),0)>0,VLOOKUP(\"Oil\",HVACg_Lookup,MATCH($F$12,BuildingSize,0)+1,FALSE),IF(IFERROR(SEARCH(\"Propane\",$A$14),0)>0,VLOOKUP(\"Propane\",HVACg_Lookup,MATCH(Worksheet!$F$12,BuildingSize,0)+1,FALSE),0)))","v":0},0,0,"",""]
[null,null,"",null,null,null,null,null,null,null,null,null,0,0,0,0,"",0,0,0,0,0,0,0,0,0,0,0,0,0,0,0,{"$f":"T456/1000*V456*X456*IF(IFERROR(SEARCH(\"Gas\",$A$14),0)>0,VLOOKUP(\"Gas\",HVACg_Lookup,MATCH($F$12,BuildingSize,0)+1,FALSE),IF(IFERROR(SEARCH(\"Oil\",$A$14),0)>0,VLOOKUP(\"Oil\",HVACg_Lookup,MATCH($F$12,BuildingSize,0)+1,FALSE),IF(IFERROR(SEARCH(\"Propane\",$A$14),0)>0,VLOOKUP(\"Propane\",HVACg_Lookup,MATCH(Worksheet!$F$12,BuildingSize,0)+1,FALSE),0)))","v":0},{"$f":"U456/1000*V456*X456*IF(IFERROR(SEARCH(\"Gas\",$A$14),0)>0,VLOOKUP(\"Gas\",HVACg_Lookup,MATCH($F$12,BuildingSize,0)+1,FALSE),IF(IFERROR(SEARCH(\"Oil\",$A$14),0)>0,VLOOKUP(\"Oil\",HVACg_Lookup,MATCH($F$12,BuildingSize,0)+1,FALSE),IF(IFERROR(SEARCH(\"Propane\",$A$14),0)>0,VLOOKUP(\"Propane\",HVACg_Lookup,MATCH(Worksheet!$F$12,BuildingSize,0)+1,FALSE),0)))","v":0},0,0,"",""]
[null,null,"",null,null,null,null,null,null,null,null,null,0,0,0,0,"",0,0,0,0,0,0,0,0,0,0,0,0,0,0,0,{"$f":"T457/1000*V457*X457*IF(IFERROR(SEARCH(\"Gas\",$A$14),0)>0,VLOOKUP(\"Gas\",HVACg_Lookup,MATCH($F$12,BuildingSize,0)+1,FALSE),IF(IFERROR(SEARCH(\"Oil\",$A$14),0)>0,VLOOKUP(\"Oil\",HVACg_Lookup,MATCH($F$12,BuildingSize,0)+1,FALSE),IF(IFERROR(SEARCH(\"Propane\",$A$14),0)>0,VLOOKUP(\"Propane\",HVACg_Lookup,MATCH(Worksheet!$F$12,BuildingSize,0)+1,FALSE),0)))","v":0},{"$f":"U457/1000*V457*X457*IF(IFERROR(SEARCH(\"Gas\",$A$14),0)>0,VLOOKUP(\"Gas\",HVACg_Lookup,MATCH($F$12,BuildingSize,0)+1,FALSE),IF(IFERROR(SEARCH(\"Oil\",$A$14),0)>0,VLOOKUP(\"Oil\",HVACg_Lookup,MATCH($F$12,BuildingSize,0)+1,FALSE),IF(IFERROR(SEARCH(\"Propane\",$A$14),0)>0,VLOOKUP(\"Propane\",HVACg_Lookup,MATCH(Worksheet!$F$12,BuildingSize,0)+1,FALSE),0)))","v":0},0,0,"",""]
[null,null,"",null,null,null,null,null,null,null,null,null,0,0,0,0,"",0,0,0,0,0,0,0,0,0,0,0,0,0,0,0,{"$f":"T458/1000*V458*X458*IF(IFERROR(SEARCH(\"Gas\",$A$14),0)>0,VLOOKUP(\"Gas\",HVACg_Lookup,MATCH($F$12,BuildingSize,0)+1,FALSE),IF(IFERROR(SEARCH(\"Oil\",$A$14),0)>0,VLOOKUP(\"Oil\",HVACg_Lookup,MATCH($F$12,BuildingSize,0)+1,FALSE),IF(IFERROR(SEARCH(\"Propane\",$A$14),0)>0,VLOOKUP(\"Propane\",HVACg_Lookup,MATCH(Worksheet!$F$12,BuildingSize,0)+1,FALSE),0)))","v":0},{"$f":"U458/1000*V458*X458*IF(IFERROR(SEARCH(\"Gas\",$A$14),0)>0,VLOOKUP(\"Gas\",HVACg_Lookup,MATCH($F$12,BuildingSize,0)+1,FALSE),IF(IFERROR(SEARCH(\"Oil\",$A$14),0)>0,VLOOKUP(\"Oil\",HVACg_Lookup,MATCH($F$12,BuildingSize,0)+1,FALSE),IF(IFERROR(SEARCH(\"Propane\",$A$14),0)>0,VLOOKUP(\"Propane\",HVACg_Lookup,MATCH(Worksheet!$F$12,BuildingSize,0)+1,FALSE),0)))","v":0},0,0,"",""]
[null,null,"",null,null,null,null,null,null,null,null,null,0,0,0,0,"",0,0,0,0,0,0,0,0,0,0,0,0,0,0,0,{"$f":"T459/1000*V459*X459*IF(IFERROR(SEARCH(\"Gas\",$A$14),0)>0,VLOOKUP(\"Gas\",HVACg_Lookup,MATCH($F$12,BuildingSize,0)+1,FALSE),IF(IFERROR(SEARCH(\"Oil\",$A$14),0)>0,VLOOKUP(\"Oil\",HVACg_Lookup,MATCH($F$12,BuildingSize,0)+1,FALSE),IF(IFERROR(SEARCH(\"Propane\",$A$14),0)>0,VLOOKUP(\"Propane\",HVACg_Lookup,MATCH(Worksheet!$F$12,BuildingSize,0)+1,FALSE),0)))","v":0},{"$f":"U459/1000*V459*X459*IF(IFERROR(SEARCH(\"Gas\",$A$14),0)>0,VLOOKUP(\"Gas\",HVACg_Lookup,MATCH($F$12,BuildingSize,0)+1,FALSE),IF(IFERROR(SEARCH(\"Oil\",$A$14),0)>0,VLOOKUP(\"Oil\",HVACg_Lookup,MATCH($F$12,BuildingSize,0)+1,FALSE),IF(IFERROR(SEARCH(\"Propane\",$A$14),0)>0,VLOOKUP(\"Propane\",HVACg_Lookup,MATCH(Worksheet!$F$12,BuildingSize,0)+1,FALSE),0)))","v":0},0,0,"",""]
[null,null,"",null,null,null,null,null,null,null,null,null,0,0,0,0,"",0,0,0,0,0,0,0,0,0,0,0,0,0,0,0,{"$f":"T460/1000*V460*X460*IF(IFERROR(SEARCH(\"Gas\",$A$14),0)>0,VLOOKUP(\"Gas\",HVACg_Lookup,MATCH($F$12,BuildingSize,0)+1,FALSE),IF(IFERROR(SEARCH(\"Oil\",$A$14),0)>0,VLOOKUP(\"Oil\",HVACg_Lookup,MATCH($F$12,BuildingSize,0)+1,FALSE),IF(IFERROR(SEARCH(\"Propane\",$A$14),0)>0,VLOOKUP(\"Propane\",HVACg_Lookup,MATCH(Worksheet!$F$12,BuildingSize,0)+1,FALSE),0)))","v":0},{"$f":"U460/1000*V460*X460*IF(IFERROR(SEARCH(\"Gas\",$A$14),0)>0,VLOOKUP(\"Gas\",HVACg_Lookup,MATCH($F$12,BuildingSize,0)+1,FALSE),IF(IFERROR(SEARCH(\"Oil\",$A$14),0)>0,VLOOKUP(\"Oil\",HVACg_Lookup,MATCH($F$12,BuildingSize,0)+1,FALSE),IF(IFERROR(SEARCH(\"Propane\",$A$14),0)>0,VLOOKUP(\"Propane\",HVACg_Lookup,MATCH(Worksheet!$F$12,BuildingSize,0)+1,FALSE),0)))","v":0},0,0,"",""]
[null,null,"",null,null,null,null,null,null,null,null,null,0,0,0,0,"",0,0,0,0,0,0,0,0,0,0,0,0,0,0,0,{"$f":"T461/1000*V461*X461*IF(IFERROR(SEARCH(\"Gas\",$A$14),0)>0,VLOOKUP(\"Gas\",HVACg_Lookup,MATCH($F$12,BuildingSize,0)+1,FALSE),IF(IFERROR(SEARCH(\"Oil\",$A$14),0)>0,VLOOKUP(\"Oil\",HVACg_Lookup,MATCH($F$12,BuildingSize,0)+1,FALSE),IF(IFERROR(SEARCH(\"Propane\",$A$14),0)>0,VLOOKUP(\"Propane\",HVACg_Lookup,MATCH(Worksheet!$F$12,BuildingSize,0)+1,FALSE),0)))","v":0},{"$f":"U461/1000*V461*X461*IF(IFERROR(SEARCH(\"Gas\",$A$14),0)>0,VLOOKUP(\"Gas\",HVACg_Lookup,MATCH($F$12,BuildingSize,0)+1,FALSE),IF(IFERROR(SEARCH(\"Oil\",$A$14),0)>0,VLOOKUP(\"Oil\",HVACg_Lookup,MATCH($F$12,BuildingSize,0)+1,FALSE),IF(IFERROR(SEARCH(\"Propane\",$A$14),0)>0,VLOOKUP(\"Propane\",HVACg_Lookup,MATCH(Worksheet!$F$12,BuildingSize,0)+1,FALSE),0)))","v":0},0,0,"",""]
[null,null,"",null,null,null,null,null,null,null,null,null,0,0,0,0,"",0,0,0,0,0,0,0,0,0,0,0,0,0,0,0,{"$f":"T462/1000*V462*X462*IF(IFERROR(SEARCH(\"Gas\",$A$14),0)>0,VLOOKUP(\"Gas\",HVACg_Lookup,MATCH($F$12,BuildingSize,0)+1,FALSE),IF(IFERROR(SEARCH(\"Oil\",$A$14),0)>0,VLOOKUP(\"Oil\",HVACg_Lookup,MATCH($F$12,BuildingSize,0)+1,FALSE),IF(IFERROR(SEARCH(\"Propane\",$A$14),0)>0,VLOOKUP(\"Propane\",HVACg_Lookup,MATCH(Worksheet!$F$12,BuildingSize,0)+1,FALSE),0)))","v":0},{"$f":"U462/1000*V462*X462*IF(IFERROR(SEARCH(\"Gas\",$A$14),0)>0,VLOOKUP(\"Gas\",HVACg_Lookup,MATCH($F$12,BuildingSize,0)+1,FALSE),IF(IFERROR(SEARCH(\"Oil\",$A$14),0)>0,VLOOKUP(\"Oil\",HVACg_Lookup,MATCH($F$12,BuildingSize,0)+1,FALSE),IF(IFERROR(SEARCH(\"Propane\",$A$14),0)>0,VLOOKUP(\"Propane\",HVACg_Lookup,MATCH(Worksheet!$F$12,BuildingSize,0)+1,FALSE),0)))","v":0},0,0,"",""]
[null,null,"",null,null,null,null,null,null,null,null,null,0,0,0,0,"",0,0,0,0,0,0,0,0,0,0,0,0,0,0,0,{"$f":"T463/1000*V463*X463*IF(IFERROR(SEARCH(\"Gas\",$A$14),0)>0,VLOOKUP(\"Gas\",HVACg_Lookup,MATCH($F$12,BuildingSize,0)+1,FALSE),IF(IFERROR(SEARCH(\"Oil\",$A$14),0)>0,VLOOKUP(\"Oil\",HVACg_Lookup,MATCH($F$12,BuildingSize,0)+1,FALSE),IF(IFERROR(SEARCH(\"Propane\",$A$14),0)>0,VLOOKUP(\"Propane\",HVACg_Lookup,MATCH(Worksheet!$F$12,BuildingSize,0)+1,FALSE),0)))","v":0},{"$f":"U463/1000*V463*X463*IF(IFERROR(SEARCH(\"Gas\",$A$14),0)>0,VLOOKUP(\"Gas\",HVACg_Lookup,MATCH($F$12,BuildingSize,0)+1,FALSE),IF(IFERROR(SEARCH(\"Oil\",$A$14),0)>0,VLOOKUP(\"Oil\",HVACg_Lookup,MATCH($F$12,BuildingSize,0)+1,FALSE),IF(IFERROR(SEARCH(\"Propane\",$A$14),0)>0,VLOOKUP(\"Propane\",HVACg_Lookup,MATCH(Worksheet!$F$12,BuildingSize,0)+1,FALSE),0)))","v":0},0,0,"",""]
[null,null,"",null,null,null,null,null,null,null,null,null,0,0,0,0,"",0,0,0,0,0,0,0,0,0,0,0,0,0,0,0,{"$f":"T464/1000*V464*X464*IF(IFERROR(SEARCH(\"Gas\",$A$14),0)>0,VLOOKUP(\"Gas\",HVACg_Lookup,MATCH($F$12,BuildingSize,0)+1,FALSE),IF(IFERROR(SEARCH(\"Oil\",$A$14),0)>0,VLOOKUP(\"Oil\",HVACg_Lookup,MATCH($F$12,BuildingSize,0)+1,FALSE),IF(IFERROR(SEARCH(\"Propane\",$A$14),0)>0,VLOOKUP(\"Propane\",HVACg_Lookup,MATCH(Worksheet!$F$12,BuildingSize,0)+1,FALSE),0)))","v":0},{"$f":"U464/1000*V464*X464*IF(IFERROR(SEARCH(\"Gas\",$A$14),0)>0,VLOOKUP(\"Gas\",HVACg_Lookup,MATCH($F$12,BuildingSize,0)+1,FALSE),IF(IFERROR(SEARCH(\"Oil\",$A$14),0)>0,VLOOKUP(\"Oil\",HVACg_Lookup,MATCH($F$12,BuildingSize,0)+1,FALSE),IF(IFERROR(SEARCH(\"Propane\",$A$14),0)>0,VLOOKUP(\"Propane\",HVACg_Lookup,MATCH(Worksheet!$F$12,BuildingSize,0)+1,FALSE),0)))","v":0},0,0,"",""]
[null,null,"",null,null,null,null,null,null,null,null,null,0,0,0,0,"",0,0,0,0,0,0,0,0,0,0,0,0,0,0,0,{"$f":"T465/1000*V465*X465*IF(IFERROR(SEARCH(\"Gas\",$A$14),0)>0,VLOOKUP(\"Gas\",HVACg_Lookup,MATCH($F$12,BuildingSize,0)+1,FALSE),IF(IFERROR(SEARCH(\"Oil\",$A$14),0)>0,VLOOKUP(\"Oil\",HVACg_Lookup,MATCH($F$12,BuildingSize,0)+1,FALSE),IF(IFERROR(SEARCH(\"Propane\",$A$14),0)>0,VLOOKUP(\"Propane\",HVACg_Lookup,MATCH(Worksheet!$F$12,BuildingSize,0)+1,FALSE),0)))","v":0},{"$f":"U465/1000*V465*X465*IF(IFERROR(SEARCH(\"Gas\",$A$14),0)>0,VLOOKUP(\"Gas\",HVACg_Lookup,MATCH($F$12,BuildingSize,0)+1,FALSE),IF(IFERROR(SEARCH(\"Oil\",$A$14),0)>0,VLOOKUP(\"Oil\",HVACg_Lookup,MATCH($F$12,BuildingSize,0)+1,FALSE),IF(IFERROR(SEARCH(\"Propane\",$A$14),0)>0,VLOOKUP(\"Propane\",HVACg_Lookup,MATCH(Worksheet!$F$12,BuildingSize,0)+1,FALSE),0)))","v":0},0,0,"",""]
[null,null,"",null,null,null,null,null,null,null,null,null,0,0,0,0,"",0,0,0,0,0,0,0,0,0,0,0,0,0,0,0,{"$f":"T466/1000*V466*X466*IF(IFERROR(SEARCH(\"Gas\",$A$14),0)>0,VLOOKUP(\"Gas\",HVACg_Lookup,MATCH($F$12,BuildingSize,0)+1,FALSE),IF(IFERROR(SEARCH(\"Oil\",$A$14),0)>0,VLOOKUP(\"Oil\",HVACg_Lookup,MATCH($F$12,BuildingSize,0)+1,FALSE),IF(IFERROR(SEARCH(\"Propane\",$A$14),0)>0,VLOOKUP(\"Propane\",HVACg_Lookup,MATCH(Worksheet!$F$12,BuildingSize,0)+1,FALSE),0)))","v":0},{"$f":"U466/1000*V466*X466*IF(IFERROR(SEARCH(\"Gas\",$A$14),0)>0,VLOOKUP(\"Gas\",HVACg_Lookup,MATCH($F$12,BuildingSize,0)+1,FALSE),IF(IFERROR(SEARCH(\"Oil\",$A$14),0)>0,VLOOKUP(\"Oil\",HVACg_Lookup,MATCH($F$12,BuildingSize,0)+1,FALSE),IF(IFERROR(SEARCH(\"Propane\",$A$14),0)>0,VLOOKUP(\"Propane\",HVACg_Lookup,MATCH(Worksheet!$F$12,BuildingSize,0)+1,FALSE),0)))","v":0},0,0,"",""]
[null,null,"",null,null,null,null,null,null,null,null,null,0,0,0,0,"",0,0,0,0,0,0,0,0,0,0,0,0,0,0,0,{"$f":"T467/1000*V467*X467*IF(IFERROR(SEARCH(\"Gas\",$A$14),0)>0,VLOOKUP(\"Gas\",HVACg_Lookup,MATCH($F$12,BuildingSize,0)+1,FALSE),IF(IFERROR(SEARCH(\"Oil\",$A$14),0)>0,VLOOKUP(\"Oil\",HVACg_Lookup,MATCH($F$12,BuildingSize,0)+1,FALSE),IF(IFERROR(SEARCH(\"Propane\",$A$14),0)>0,VLOOKUP(\"Propane\",HVACg_Lookup,MATCH(Worksheet!$F$12,BuildingSize,0)+1,FALSE),0)))","v":0},{"$f":"U467/1000*V467*X467*IF(IFERROR(SEARCH(\"Gas\",$A$14),0)>0,VLOOKUP(\"Gas\",HVACg_Lookup,MATCH($F$12,BuildingSize,0)+1,FALSE),IF(IFERROR(SEARCH(\"Oil\",$A$14),0)>0,VLOOKUP(\"Oil\",HVACg_Lookup,MATCH($F$12,BuildingSize,0)+1,FALSE),IF(IFERROR(SEARCH(\"Propane\",$A$14),0)>0,VLOOKUP(\"Propane\",HVACg_Lookup,MATCH(Worksheet!$F$12,BuildingSize,0)+1,FALSE),0)))","v":0},0,0,"",""]
[null,null,"",null,null,null,null,null,null,null,null,null,0,0,{"$f":"IF(AK468=\"\",0,IF(AK468=1,VLOOKUP(A468,MeasureCode_Lookup,3,FALSE),\"DNQ\"))","v":0},{"$f":"IF(AL468=\"\",0,IF(AL468=1,VLOOKUP(A468,MeasureCode_Lookup,3,FALSE),\"DNQ\"))","v":0},{"$f":"IF(A468=\"\",\"\",VLOOKUP(A468,MeasureCode_Lookup,4,FALSE))","v":""},0,0,0,0,{"$f":"IF(A468=\"\",0,VLOOKUP(A468,MeasureCode_Lookup,5,FALSE))","v":0},{"$f":"IF($A$12=\"\",0,VLOOKUP($A$12,BuildingType_Lookup,3,FALSE))","v":0},{"$f":"IF($A$12=\"\",0,VLOOKUP($A$12,BuildingType_Lookup,2,FALSE))","v":0},{"$f":"IF(AND(OR(AK468=\"\",AK468=0)=TRUE,OR(AL468=\"\",AL468=0))=TRUE,0,IF(AL468=\"\",(IF(OR(C468=\"DDC\",C468=\"OHLC\")=TRUE,L468,M468)/1000)*V468*W468*(1+VLOOKUP($A$12,BuildingType_Lookup,4,FALSE)),IF(AL468=0,0,(IF(OR(C468=\"DDC\",C468=\"OHLC\")=TRUE,L468,N468)/1000)*V468*W468*(1+VLOOKUP($A$12,BuildingType_Lookup,4,FALSE)))))","v":0},{"$f":"IF(AND(OR(AK468=\"\",AK468=0)=TRUE,OR(AL468=\"\",AL468=0))=TRUE,0,IF(AL468=\"\",(IF(OR(C468=\"DDC\",C468=\"OHLC\")=TRUE,L468,M468)/1000)*V468*X468*(1+VLOOKUP($A$12,BuildingType_Lookup,MATCH($A$14,HVAC,0)+4,FALSE)),IF(AL468=0,0,(IF(OR(C468=\"DDC\",C468=\"OHLC\")=TRUE,L468,N468)/1000)*V468*X468*(1+VLOOKUP($A$12,BuildingType_Lookup,MATCH($A$14,HVAC,0)+4,FALSE)))))","v":0},{"$f":"IFERROR(IF(OR(C468=\"DDC\",C468=\"OHLC\")=TRUE,F468*H468*Y468,F468*Y468),0)","v":0},{"$f":"IFERROR(IF(OR(C468=\"DDC\",C468=\"OHLC\")=TRUE,G468*I468*Y468,G468*Y468),0)","v":0},{"$f":"IFERROR(IF(OR(C468=\"DDC\",C468=\"OHLC\")=TRUE,F468*H468*Z468,F468*Z468),0)","v":0},{"$f":"IFERROR(IF(OR(C468=\"DDC\",C468=\"OHLC\")=TRUE,G468*I468*Z468,G468*Z468),0)","v":0},0,0,{"$f":"T468/1000*V468*X468*IF(IFERROR(SEARCH(\"Gas\",$A$14),0)>0,VLOOKUP(\"Gas\",HVACg_Lookup,MATCH($F$12,BuildingSize,0)+1,FALSE),IF(IFERROR(SEARCH(\"Oil\",$A$14),0)>0,VLOOKUP(\"Oil\",HVACg_Lookup,MATCH($F$12,BuildingSize,0)+1,FALSE),IF(IFERROR(SEARCH(\"Propane\",$A$14),0)>0,VLOOKUP(\"Propane\",HVACg_Lookup,MATCH(Worksheet!$F$12,BuildingSize,0)+1,FALSE),0)))","v":0},{"$f":"U468/1000*V468*X468*IF(IFERROR(SEARCH(\"Gas\",$A$14),0)>0,VLOOKUP(\"Gas\",HVACg_Lookup,MATCH($F$12,BuildingSize,0)+1,FALSE),IF(IFERROR(SEARCH(\"Oil\",$A$14),0)>0,VLOOKUP(\"Oil\",HVACg_Lookup,MATCH($F$12,BuildingSize,0)+1,FALSE),IF(IFERROR(SEARCH(\"Propane\",$A$14),0)>0,VLOOKUP(\"Propane\",HVACg_Lookup,MATCH(Worksheet!$F$12,BuildingSize,0)+1,FALSE),0)))","v":0},0,0,"",""]
[null,null,{"$f":"IF(A469=\"\",\"\",VLOOKUP(A469,MeasureCode_Lookup,2,FALSE))","v":""},null,null,null,null,null,null,null,null,null,{"$f":"IF(OR(A469=\"\",F469=\"\",H469=\"\",L469=\"\")=TRUE,0,H469*L469)","v":0},{"$f":"IF(OR(A469=\"\",G469=\"\",I469=\"\",L469=\"\")=TRUE,0,I469*L469)","v":0},0,0,"",{"$f":"IF(N(O469)=0,0,F469*O469*IF(Q469=\"per Fixture Controlled\",H469,1))","v":0},{"$f":"IF(N(P469)=0,0,G469*P469*IF(Q469=\"per Fixture Controlled\",I469,1))","v":0},{"$f":"IF(N(O469)=0,0,F469*M469)","v":0},{"$f":"IF(N(P469)=0,0,G469*N469)","v":0},0,0,0,0,0,0,0,0,0,{"$f":"AC469*8","v":0},{"$f":"AD469*8","v":0},{"$f":"T469/1000*V469*X469*IF(IFERROR(SEARCH(\"Gas\",$A$14),0)>0,VLOOKUP(\"Gas\",HVACg_Lookup,MATCH($F$12,BuildingSize,0)+1,FALSE),IF(IFERROR(SEARCH(\"Oil\",$A$14),0)>0,VLOOKUP(\"Oil\",HVACg_Lookup,MATCH($F$12,BuildingSize,0)+1,FALSE),IF(IFERROR(SEARCH(\"Propane\",$A$14),0)>0,VLOOKUP(\"Propane\",HVACg_Lookup,MATCH(Worksheet!$F$12,BuildingSize,0)+1,FALSE),0)))","v":0},{"$f":"U469/1000*V469*X469*IF(IFERROR(SEARCH(\"Gas\",$A$14),0)>0,VLOOKUP(\"Gas\",HVACg_Lookup,MATCH($F$12,BuildingSize,0)+1,FALSE),IF(IFERROR(SEARCH(\"Oil\",$A$14),0)>0,VLOOKUP(\"Oil\",HVACg_Lookup,MATCH($F$12,BuildingSize,0)+1,FALSE),IF(IFERROR(SEARCH(\"Propane\",$A$14),0)>0,VLOOKUP(\"Propane\",HVACg_Lookup,MATCH(Worksheet!$F$12,BuildingSize,0)+1,FALSE),0)))","v":0},{"$f":"AG469*8","v":0},{"$f":"AH469*8","v":0},{"$f":"IF(OR($B$3=\"\",$B$4=\"\",$A$12=\"\",$F$12=\"\",$A$14=\"\",A469=\"\",F469=\"\",H469=\"\",L469=\"\")=TRUE,\"\",IF(C469=\"OSW\",IF(H469>=2,1,0),IF(C469=\"OSR\",IF(AND(H469>=2,M469>=180)=TRUE,1,0),IF(C469=\"OSRH\",IF(AND(H469>=1,M469>=180)=TRUE,1,0),IF(C469=\"OHLC\",IF(M469>=240,1,0),IF(C469=\"DDC\",IF(AND(H469>=4,M469>=240)=TRUE,1,0),0))))))","v":""},{"$f":"IF(OR($B$3=\"\",$B$4=\"\",$A$12=\"\",$F$12=\"\",$A$14=\"\",A469=\"\",F469=\"\",I469=\"\",L469=\"\")=TRUE,\"\",IF(C469=\"OSW\",IF(I469>=2,1,0),IF(C469=\"OSR\",IF(AND(I469>=2,N469>=180)=TRUE,1,0),IF(C469=\"OSRH\",IF(AND(I469>=1,N469>=180)=TRUE,1,0),IF(C469=\"OHLC\",IF(N469>=240,1,0),IF(C469=\"DDC\",IF(AND(I469>=4,N469>=240)=TRUE,1,0),0))))))","v":""}]
[null,null,"",null,null,null,null,null,null,null,null,null,0,0,0,0,"",0,0,0,0,0,0,0,0,0,0,0,0,0,0,0,{"$f":"T470/1000*V470*X470*IF(IFERROR(SEARCH(\"Gas\",$A$14),0)>0,VLOOKUP(\"Gas\",HVACg_Lookup,MATCH($F$12,BuildingSize,0)+1,FALSE),IF(IFERROR(SEARCH(\"Oil\",$A$14),0)>0,VLOOKUP(\"Oil\",HVACg_Lookup,MATCH($F$12,BuildingSize,0)+1,FALSE),IF(IFERROR(SEARCH(\"Propane\",$A$14),0)>0,VLOOKUP(\"Propane\",HVACg_Lookup,MATCH(Worksheet!$F$12,BuildingSize,0)+1,FALSE),0)))","v":0},{"$f":"U470/1000*V470*X470*IF(IFERROR(SEARCH(\"Gas\",$A$14),0)>0,VLOOKUP(\"Gas\",HVACg_Lookup,MATCH($F$12,BuildingSize,0)+1,FALSE),IF(IFERROR(SEARCH(\"Oil\",$A$14),0)>0,VLOOKUP(\"Oil\",HVACg_Lookup,MATCH($F$12,BuildingSize,0)+1,FALSE),IF(IFERROR(SEARCH(\"Propane\",$A$14),0)>0,VLOOKUP(\"Propane\",HVACg_Lookup,MATCH(Worksheet!$F$12,BuildingSize,0)+1,FALSE),0)))","v":0},0,0,"",""]
[null,null,"",null,null,null,null,null,null,null,null,null,0,0,0,0,"",0,0,0,0,0,0,0,0,0,0,0,0,0,0,0,{"$f":"T471/1000*V471*X471*IF(IFERROR(SEARCH(\"Gas\",$A$14),0)>0,VLOOKUP(\"Gas\",HVACg_Lookup,MATCH($F$12,BuildingSize,0)+1,FALSE),IF(IFERROR(SEARCH(\"Oil\",$A$14),0)>0,VLOOKUP(\"Oil\",HVACg_Lookup,MATCH($F$12,BuildingSize,0)+1,FALSE),IF(IFERROR(SEARCH(\"Propane\",$A$14),0)>0,VLOOKUP(\"Propane\",HVACg_Lookup,MATCH(Worksheet!$F$12,BuildingSize,0)+1,FALSE),0)))","v":0},{"$f":"U471/1000*V471*X471*IF(IFERROR(SEARCH(\"Gas\",$A$14),0)>0,VLOOKUP(\"Gas\",HVACg_Lookup,MATCH($F$12,BuildingSize,0)+1,FALSE),IF(IFERROR(SEARCH(\"Oil\",$A$14),0)>0,VLOOKUP(\"Oil\",HVACg_Lookup,MATCH($F$12,BuildingSize,0)+1,FALSE),IF(IFERROR(SEARCH(\"Propane\",$A$14),0)>0,VLOOKUP(\"Propane\",HVACg_Lookup,MATCH(Worksheet!$F$12,BuildingSize,0)+1,FALSE),0)))","v":0},0,0,"",""]
[null,null,"",null,null,null,null,null,null,null,null,null,0,0,0,0,"",0,0,0,0,0,0,0,0,0,0,0,0,0,0,0,{"$f":"T472/1000*V472*X472*IF(IFERROR(SEARCH(\"Gas\",$A$14),0)>0,VLOOKUP(\"Gas\",HVACg_Lookup,MATCH($F$12,BuildingSize,0)+1,FALSE),IF(IFERROR(SEARCH(\"Oil\",$A$14),0)>0,VLOOKUP(\"Oil\",HVACg_Lookup,MATCH($F$12,BuildingSize,0)+1,FALSE),IF(IFERROR(SEARCH(\"Propane\",$A$14),0)>0,VLOOKUP(\"Propane\",HVACg_Lookup,MATCH(Worksheet!$F$12,BuildingSize,0)+1,FALSE),0)))","v":0},{"$f":"U472/1000*V472*X472*IF(IFERROR(SEARCH(\"Gas\",$A$14),0)>0,VLOOKUP(\"Gas\",HVACg_Lookup,MATCH($F$12,BuildingSize,0)+1,FALSE),IF(IFERROR(SEARCH(\"Oil\",$A$14),0)>0,VLOOKUP(\"Oil\",HVACg_Lookup,MATCH($F$12,BuildingSize,0)+1,FALSE),IF(IFERROR(SEARCH(\"Propane\",$A$14),0)>0,VLOOKUP(\"Propane\",HVACg_Lookup,MATCH(Worksheet!$F$12,BuildingSize,0)+1,FALSE),0)))","v":0},0,0,"",""]
[null,null,"",null,null,null,null,null,null,null,null,null,0,0,0,0,"",0,0,0,0,0,0,0,0,0,0,0,0,0,0,0,{"$f":"T473/1000*V473*X473*IF(IFERROR(SEARCH(\"Gas\",$A$14),0)>0,VLOOKUP(\"Gas\",HVACg_Lookup,MATCH($F$12,BuildingSize,0)+1,FALSE),IF(IFERROR(SEARCH(\"Oil\",$A$14),0)>0,VLOOKUP(\"Oil\",HVACg_Lookup,MATCH($F$12,BuildingSize,0)+1,FALSE),IF(IFERROR(SEARCH(\"Propane\",$A$14),0)>0,VLOOKUP(\"Propane\",HVACg_Lookup,MATCH(Worksheet!$F$12,BuildingSize,0)+1,FALSE),0)))","v":0},{"$f":"U473/1000*V473*X473*IF(IFERROR(SEARCH(\"Gas\",$A$14),0)>0,VLOOKUP(\"Gas\",HVACg_Lookup,MATCH($F$12,BuildingSize,0)+1,FALSE),IF(IFERROR(SEARCH(\"Oil\",$A$14),0)>0,VLOOKUP(\"Oil\",HVACg_Lookup,MATCH($F$12,BuildingSize,0)+1,FALSE),IF(IFERROR(SEARCH(\"Propane\",$A$14),0)>0,VLOOKUP(\"Propane\",HVACg_Lookup,MATCH(Worksheet!$F$12,BuildingSize,0)+1,FALSE),0)))","v":0},0,0,"",""]
[null,null,"",null,null,null,null,null,null,null,null,null,0,0,0,0,"",0,0,0,0,0,0,0,0,0,0,0,0,0,0,0,{"$f":"T474/1000*V474*X474*IF(IFERROR(SEARCH(\"Gas\",$A$14),0)>0,VLOOKUP(\"Gas\",HVACg_Lookup,MATCH($F$12,BuildingSize,0)+1,FALSE),IF(IFERROR(SEARCH(\"Oil\",$A$14),0)>0,VLOOKUP(\"Oil\",HVACg_Lookup,MATCH($F$12,BuildingSize,0)+1,FALSE),IF(IFERROR(SEARCH(\"Propane\",$A$14),0)>0,VLOOKUP(\"Propane\",HVACg_Lookup,MATCH(Worksheet!$F$12,BuildingSize,0)+1,FALSE),0)))","v":0},{"$f":"U474/1000*V474*X474*IF(IFERROR(SEARCH(\"Gas\",$A$14),0)>0,VLOOKUP(\"Gas\",HVACg_Lookup,MATCH($F$12,BuildingSize,0)+1,FALSE),IF(IFERROR(SEARCH(\"Oil\",$A$14),0)>0,VLOOKUP(\"Oil\",HVACg_Lookup,MATCH($F$12,BuildingSize,0)+1,FALSE),IF(IFERROR(SEARCH(\"Propane\",$A$14),0)>0,VLOOKUP(\"Propane\",HVACg_Lookup,MATCH(Worksheet!$F$12,BuildingSize,0)+1,FALSE),0)))","v":0},0,0,"",""]
[null,null,"",null,null,null,null,null,null,null,null,null,0,0,0,0,"",0,0,0,0,0,0,0,0,0,0,0,0,0,0,0,{"$f":"T475/1000*V475*X475*IF(IFERROR(SEARCH(\"Gas\",$A$14),0)>0,VLOOKUP(\"Gas\",HVACg_Lookup,MATCH($F$12,BuildingSize,0)+1,FALSE),IF(IFERROR(SEARCH(\"Oil\",$A$14),0)>0,VLOOKUP(\"Oil\",HVACg_Lookup,MATCH($F$12,BuildingSize,0)+1,FALSE),IF(IFERROR(SEARCH(\"Propane\",$A$14),0)>0,VLOOKUP(\"Propane\",HVACg_Lookup,MATCH(Worksheet!$F$12,BuildingSize,0)+1,FALSE),0)))","v":0},{"$f":"U475/1000*V475*X475*IF(IFERROR(SEARCH(\"Gas\",$A$14),0)>0,VLOOKUP(\"Gas\",HVACg_Lookup,MATCH($F$12,BuildingSize,0)+1,FALSE),IF(IFERROR(SEARCH(\"Oil\",$A$14),0)>0,VLOOKUP(\"Oil\",HVACg_Lookup,MATCH($F$12,BuildingSize,0)+1,FALSE),IF(IFERROR(SEARCH(\"Propane\",$A$14),0)>0,VLOOKUP(\"Propane\",HVACg_Lookup,MATCH(Worksheet!$F$12,BuildingSize,0)+1,FALSE),0)))","v":0},0,0,"",""]
[null,null,"",null,null,null,null,null,null,null,null,null,0,0,0,0,"",0,0,0,0,0,0,0,0,0,0,0,0,0,0,0,{"$f":"T476/1000*V476*X476*IF(IFERROR(SEARCH(\"Gas\",$A$14),0)>0,VLOOKUP(\"Gas\",HVACg_Lookup,MATCH($F$12,BuildingSize,0)+1,FALSE),IF(IFERROR(SEARCH(\"Oil\",$A$14),0)>0,VLOOKUP(\"Oil\",HVACg_Lookup,MATCH($F$12,BuildingSize,0)+1,FALSE),IF(IFERROR(SEARCH(\"Propane\",$A$14),0)>0,VLOOKUP(\"Propane\",HVACg_Lookup,MATCH(Worksheet!$F$12,BuildingSize,0)+1,FALSE),0)))","v":0},{"$f":"U476/1000*V476*X476*IF(IFERROR(SEARCH(\"Gas\",$A$14),0)>0,VLOOKUP(\"Gas\",HVACg_Lookup,MATCH($F$12,BuildingSize,0)+1,FALSE),IF(IFERROR(SEARCH(\"Oil\",$A$14),0)>0,VLOOKUP(\"Oil\",HVACg_Lookup,MATCH($F$12,BuildingSize,0)+1,FALSE),IF(IFERROR(SEARCH(\"Propane\",$A$14),0)>0,VLOOKUP(\"Propane\",HVACg_Lookup,MATCH(Worksheet!$F$12,BuildingSize,0)+1,FALSE),0)))","v":0},0,0,"",""]
[null,null,"",null,null,null,null,null,null,null,null,null,0,0,0,0,"",0,0,0,0,0,0,0,0,0,0,0,0,0,0,0,{"$f":"T477/1000*V477*X477*IF(IFERROR(SEARCH(\"Gas\",$A$14),0)>0,VLOOKUP(\"Gas\",HVACg_Lookup,MATCH($F$12,BuildingSize,0)+1,FALSE),IF(IFERROR(SEARCH(\"Oil\",$A$14),0)>0,VLOOKUP(\"Oil\",HVACg_Lookup,MATCH($F$12,BuildingSize,0)+1,FALSE),IF(IFERROR(SEARCH(\"Propane\",$A$14),0)>0,VLOOKUP(\"Propane\",HVACg_Lookup,MATCH(Worksheet!$F$12,BuildingSize,0)+1,FALSE),0)))","v":0},{"$f":"U477/1000*V477*X477*IF(IFERROR(SEARCH(\"Gas\",$A$14),0)>0,VLOOKUP(\"Gas\",HVACg_Lookup,MATCH($F$12,BuildingSize,0)+1,FALSE),IF(IFERROR(SEARCH(\"Oil\",$A$14),0)>0,VLOOKUP(\"Oil\",HVACg_Lookup,MATCH($F$12,BuildingSize,0)+1,FALSE),IF(IFERROR(SEARCH(\"Propane\",$A$14),0)>0,VLOOKUP(\"Propane\",HVACg_Lookup,MATCH(Worksheet!$F$12,BuildingSize,0)+1,FALSE),0)))","v":0},0,0,"",""]
[null,null,"",null,null,null,null,null,null,null,null,null,0,0,0,0,"",0,0,0,0,0,0,0,0,0,0,0,0,0,0,0,{"$f":"T478/1000*V478*X478*IF(IFERROR(SEARCH(\"Gas\",$A$14),0)>0,VLOOKUP(\"Gas\",HVACg_Lookup,MATCH($F$12,BuildingSize,0)+1,FALSE),IF(IFERROR(SEARCH(\"Oil\",$A$14),0)>0,VLOOKUP(\"Oil\",HVACg_Lookup,MATCH($F$12,BuildingSize,0)+1,FALSE),IF(IFERROR(SEARCH(\"Propane\",$A$14),0)>0,VLOOKUP(\"Propane\",HVACg_Lookup,MATCH(Worksheet!$F$12,BuildingSize,0)+1,FALSE),0)))","v":0},{"$f":"U478/1000*V478*X478*IF(IFERROR(SEARCH(\"Gas\",$A$14),0)>0,VLOOKUP(\"Gas\",HVACg_Lookup,MATCH($F$12,BuildingSize,0)+1,FALSE),IF(IFERROR(SEARCH(\"Oil\",$A$14),0)>0,VLOOKUP(\"Oil\",HVACg_Lookup,MATCH($F$12,BuildingSize,0)+1,FALSE),IF(IFERROR(SEARCH(\"Propane\",$A$14),0)>0,VLOOKUP(\"Propane\",HVACg_Lookup,MATCH(Worksheet!$F$12,BuildingSize,0)+1,FALSE),0)))","v":0},0,0,"",""]
[null,null,"",null,null,null,null,null,null,null,null,null,0,0,0,0,"",0,0,0,0,0,0,0,0,0,0,0,0,0,0,0,{"$f":"T479/1000*V479*X479*IF(IFERROR(SEARCH(\"Gas\",$A$14),0)>0,VLOOKUP(\"Gas\",HVACg_Lookup,MATCH($F$12,BuildingSize,0)+1,FALSE),IF(IFERROR(SEARCH(\"Oil\",$A$14),0)>0,VLOOKUP(\"Oil\",HVACg_Lookup,MATCH($F$12,BuildingSize,0)+1,FALSE),IF(IFERROR(SEARCH(\"Propane\",$A$14),0)>0,VLOOKUP(\"Propane\",HVACg_Lookup,MATCH(Worksheet!$F$12,BuildingSize,0)+1,FALSE),0)))","v":0},{"$f":"U479/1000*V479*X479*IF(IFERROR(SEARCH(\"Gas\",$A$14),0)>0,VLOOKUP(\"Gas\",HVACg_Lookup,MATCH($F$12,BuildingSize,0)+1,FALSE),IF(IFERROR(SEARCH(\"Oil\",$A$14),0)>0,VLOOKUP(\"Oil\",HVACg_Lookup,MATCH($F$12,BuildingSize,0)+1,FALSE),IF(IFERROR(SEARCH(\"Propane\",$A$14),0)>0,VLOOKUP(\"Propane\",HVACg_Lookup,MATCH(Worksheet!$F$12,BuildingSize,0)+1,FALSE),0)))","v":0},0,0,"",""]
[null,null,"",null,null,null,null,null,null,null,null,null,0,0,0,0,"",0,0,0,0,0,0,0,0,0,0,0,0,0,0,0,{"$f":"T480/1000*V480*X480*IF(IFERROR(SEARCH(\"Gas\",$A$14),0)>0,VLOOKUP(\"Gas\",HVACg_Lookup,MATCH($F$12,BuildingSize,0)+1,FALSE),IF(IFERROR(SEARCH(\"Oil\",$A$14),0)>0,VLOOKUP(\"Oil\",HVACg_Lookup,MATCH($F$12,BuildingSize,0)+1,FALSE),IF(IFERROR(SEARCH(\"Propane\",$A$14),0)>0,VLOOKUP(\"Propane\",HVACg_Lookup,MATCH(Worksheet!$F$12,BuildingSize,0)+1,FALSE),0)))","v":0},{"$f":"U480/1000*V480*X480*IF(IFERROR(SEARCH(\"Gas\",$A$14),0)>0,VLOOKUP(\"Gas\",HVACg_Lookup,MATCH($F$12,BuildingSize,0)+1,FALSE),IF(IFERROR(SEARCH(\"Oil\",$A$14),0)>0,VLOOKUP(\"Oil\",HVACg_Lookup,MATCH($F$12,BuildingSize,0)+1,FALSE),IF(IFERROR(SEARCH(\"Propane\",$A$14),0)>0,VLOOKUP(\"Propane\",HVACg_Lookup,MATCH(Worksheet!$F$12,BuildingSize,0)+1,FALSE),0)))","v":0},0,0,"",""]
[null,null,"",null,null,null,null,null,null,null,null,null,0,0,0,0,"",0,0,0,0,0,0,0,0,0,0,0,0,0,0,0,{"$f":"T481/1000*V481*X481*IF(IFERROR(SEARCH(\"Gas\",$A$14),0)>0,VLOOKUP(\"Gas\",HVACg_Lookup,MATCH($F$12,BuildingSize,0)+1,FALSE),IF(IFERROR(SEARCH(\"Oil\",$A$14),0)>0,VLOOKUP(\"Oil\",HVACg_Lookup,MATCH($F$12,BuildingSize,0)+1,FALSE),IF(IFERROR(SEARCH(\"Propane\",$A$14),0)>0,VLOOKUP(\"Propane\",HVACg_Lookup,MATCH(Worksheet!$F$12,BuildingSize,0)+1,FALSE),0)))","v":0},{"$f":"U481/1000*V481*X481*IF(IFERROR(SEARCH(\"Gas\",$A$14),0)>0,VLOOKUP(\"Gas\",HVACg_Lookup,MATCH($F$12,BuildingSize,0)+1,FALSE),IF(IFERROR(SEARCH(\"Oil\",$A$14),0)>0,VLOOKUP(\"Oil\",HVACg_Lookup,MATCH($F$12,BuildingSize,0)+1,FALSE),IF(IFERROR(SEARCH(\"Propane\",$A$14),0)>0,VLOOKUP(\"Propane\",HVACg_Lookup,MATCH(Worksheet!$F$12,BuildingSize,0)+1,FALSE),0)))","v":0},0,0,"",""]
[null,null,"",null,null,null,null,null,null,null,null,null,0,0,0,0,"",0,0,0,0,0,0,0,0,0,0,0,0,0,0,0,{"$f":"T482/1000*V482*X482*IF(IFERROR(SEARCH(\"Gas\",$A$14),0)>0,VLOOKUP(\"Gas\",HVACg_Lookup,MATCH($F$12,BuildingSize,0)+1,FALSE),IF(IFERROR(SEARCH(\"Oil\",$A$14),0)>0,VLOOKUP(\"Oil\",HVACg_Lookup,MATCH($F$12,BuildingSize,0)+1,FALSE),IF(IFERROR(SEARCH(\"Propane\",$A$14),0)>0,VLOOKUP(\"Propane\",HVACg_Lookup,MATCH(Worksheet!$F$12,BuildingSize,0)+1,FALSE),0)))","v":0},{"$f":"U482/1000*V482*X482*IF(IFERROR(SEARCH(\"Gas\",$A$14),0)>0,VLOOKUP(\"Gas\",HVACg_Lookup,MATCH($F$12,BuildingSize,0)+1,FALSE),IF(IFERROR(SEARCH(\"Oil\",$A$14),0)>0,VLOOKUP(\"Oil\",HVACg_Lookup,MATCH($F$12,BuildingSize,0)+1,FALSE),IF(IFERROR(SEARCH(\"Propane\",$A$14),0)>0,VLOOKUP(\"Propane\",HVACg_Lookup,MATCH(Worksheet!$F$12,BuildingSize,0)+1,FALSE),0)))","v":0},0,0,"",""]
[null,null,"",null,null,null,null,null,null,null,null,null,0,0,0,0,"",0,0,0,0,0,0,0,0,0,0,0,0,0,0,0,{"$f":"T483/1000*V483*X483*IF(IFERROR(SEARCH(\"Gas\",$A$14),0)>0,VLOOKUP(\"Gas\",HVACg_Lookup,MATCH($F$12,BuildingSize,0)+1,FALSE),IF(IFERROR(SEARCH(\"Oil\",$A$14),0)>0,VLOOKUP(\"Oil\",HVACg_Lookup,MATCH($F$12,BuildingSize,0)+1,FALSE),IF(IFERROR(SEARCH(\"Propane\",$A$14),0)>0,VLOOKUP(\"Propane\",HVACg_Lookup,MATCH(Worksheet!$F$12,BuildingSize,0)+1,FALSE),0)))","v":0},{"$f":"U483/1000*V483*X483*IF(IFERROR(SEARCH(\"Gas\",$A$14),0)>0,VLOOKUP(\"Gas\",HVACg_Lookup,MATCH($F$12,BuildingSize,0)+1,FALSE),IF(IFERROR(SEARCH(\"Oil\",$A$14),0)>0,VLOOKUP(\"Oil\",HVACg_Lookup,MATCH($F$12,BuildingSize,0)+1,FALSE),IF(IFERROR(SEARCH(\"Propane\",$A$14),0)>0,VLOOKUP(\"Propane\",HVACg_Lookup,MATCH(Worksheet!$F$12,BuildingSize,0)+1,FALSE),0)))","v":0},0,0,"",""]
[null,null,"",null,null,null,null,null,null,null,null,null,0,0,0,0,"",0,0,0,0,0,0,0,0,0,0,0,0,0,0,0,{"$f":"T484/1000*V484*X484*IF(IFERROR(SEARCH(\"Gas\",$A$14),0)>0,VLOOKUP(\"Gas\",HVACg_Lookup,MATCH($F$12,BuildingSize,0)+1,FALSE),IF(IFERROR(SEARCH(\"Oil\",$A$14),0)>0,VLOOKUP(\"Oil\",HVACg_Lookup,MATCH($F$12,BuildingSize,0)+1,FALSE),IF(IFERROR(SEARCH(\"Propane\",$A$14),0)>0,VLOOKUP(\"Propane\",HVACg_Lookup,MATCH(Worksheet!$F$12,BuildingSize,0)+1,FALSE),0)))","v":0},{"$f":"U484/1000*V484*X484*IF(IFERROR(SEARCH(\"Gas\",$A$14),0)>0,VLOOKUP(\"Gas\",HVACg_Lookup,MATCH($F$12,BuildingSize,0)+1,FALSE),IF(IFERROR(SEARCH(\"Oil\",$A$14),0)>0,VLOOKUP(\"Oil\",HVACg_Lookup,MATCH($F$12,BuildingSize,0)+1,FALSE),IF(IFERROR(SEARCH(\"Propane\",$A$14),0)>0,VLOOKUP(\"Propane\",HVACg_Lookup,MATCH(Worksheet!$F$12,BuildingSize,0)+1,FALSE),0)))","v":0},0,0,"",""]
[null,null,"",null,null,null,null,null,null,null,null,null,0,0,0,0,"",0,0,0,0,0,0,0,0,0,0,0,0,0,0,0,{"$f":"T485/1000*V485*X485*IF(IFERROR(SEARCH(\"Gas\",$A$14),0)>0,VLOOKUP(\"Gas\",HVACg_Lookup,MATCH($F$12,BuildingSize,0)+1,FALSE),IF(IFERROR(SEARCH(\"Oil\",$A$14),0)>0,VLOOKUP(\"Oil\",HVACg_Lookup,MATCH($F$12,BuildingSize,0)+1,FALSE),IF(IFERROR(SEARCH(\"Propane\",$A$14),0)>0,VLOOKUP(\"Propane\",HVACg_Lookup,MATCH(Worksheet!$F$12,BuildingSize,0)+1,FALSE),0)))","v":0},{"$f":"U485/1000*V485*X485*IF(IFERROR(SEARCH(\"Gas\",$A$14),0)>0,VLOOKUP(\"Gas\",HVACg_Lookup,MATCH($F$12,BuildingSize,0)+1,FALSE),IF(IFERROR(SEARCH(\"Oil\",$A$14),0)>0,VLOOKUP(\"Oil\",HVACg_Lookup,MATCH($F$12,BuildingSize,0)+1,FALSE),IF(IFERROR(SEARCH(\"Propane\",$A$14),0)>0,VLOOKUP(\"Propane\",HVACg_Lookup,MATCH(Worksheet!$F$12,BuildingSize,0)+1,FALSE),0)))","v":0},0,0,"",""]
[null,null,"",null,null,null,null,null,null,null,null,null,0,0,0,0,"",0,0,0,0,0,0,0,0,0,0,0,0,0,0,0,{"$f":"T486/1000*V486*X486*IF(IFERROR(SEARCH(\"Gas\",$A$14),0)>0,VLOOKUP(\"Gas\",HVACg_Lookup,MATCH($F$12,BuildingSize,0)+1,FALSE),IF(IFERROR(SEARCH(\"Oil\",$A$14),0)>0,VLOOKUP(\"Oil\",HVACg_Lookup,MATCH($F$12,BuildingSize,0)+1,FALSE),IF(IFERROR(SEARCH(\"Propane\",$A$14),0)>0,VLOOKUP(\"Propane\",HVACg_Lookup,MATCH(Worksheet!$F$12,BuildingSize,0)+1,FALSE),0)))","v":0},{"$f":"U486/1000*V486*X486*IF(IFERROR(SEARCH(\"Gas\",$A$14),0)>0,VLOOKUP(\"Gas\",HVACg_Lookup,MATCH($F$12,BuildingSize,0)+1,FALSE),IF(IFERROR(SEARCH(\"Oil\",$A$14),0)>0,VLOOKUP(\"Oil\",HVACg_Lookup,MATCH($F$12,BuildingSize,0)+1,FALSE),IF(IFERROR(SEARCH(\"Propane\",$A$14),0)>0,VLOOKUP(\"Propane\",HVACg_Lookup,MATCH(Worksheet!$F$12,BuildingSize,0)+1,FALSE),0)))","v":0},0,0,"",""]
[null,null,"",null,null,null,null,null,null,null,null,null,0,0,0,0,"",0,0,0,0,0,0,0,0,0,0,0,0,0,0,0,{"$f":"T487/1000*V487*X487*IF(IFERROR(SEARCH(\"Gas\",$A$14),0)>0,VLOOKUP(\"Gas\",HVACg_Lookup,MATCH($F$12,BuildingSize,0)+1,FALSE),IF(IFERROR(SEARCH(\"Oil\",$A$14),0)>0,VLOOKUP(\"Oil\",HVACg_Lookup,MATCH($F$12,BuildingSize,0)+1,FALSE),IF(IFERROR(SEARCH(\"Propane\",$A$14),0)>0,VLOOKUP(\"Propane\",HVACg_Lookup,MATCH(Worksheet!$F$12,BuildingSize,0)+1,FALSE),0)))","v":0},{"$f":"U487/1000*V487*X487*IF(IFERROR(SEARCH(\"Gas\",$A$14),0)>0,VLOOKUP(\"Gas\",HVACg_Lookup,MATCH($F$12,BuildingSize,0)+1,FALSE),IF(IFERROR(SEARCH(\"Oil\",$A$14),0)>0,VLOOKUP(\"Oil\",HVACg_Lookup,MATCH($F$12,BuildingSize,0)+1,FALSE),IF(IFERROR(SEARCH(\"Propane\",$A$14),0)>0,VLOOKUP(\"Propane\",HVACg_Lookup,MATCH(Worksheet!$F$12,BuildingSize,0)+1,FALSE),0)))","v":0},0,0,"",""]
[null,null,"",null,null,null,null,null,null,null,null,null,0,0,0,0,"",0,0,0,0,0,0,0,0,0,0,0,0,0,0,0,{"$f":"T488/1000*V488*X488*IF(IFERROR(SEARCH(\"Gas\",$A$14),0)>0,VLOOKUP(\"Gas\",HVACg_Lookup,MATCH($F$12,BuildingSize,0)+1,FALSE),IF(IFERROR(SEARCH(\"Oil\",$A$14),0)>0,VLOOKUP(\"Oil\",HVACg_Lookup,MATCH($F$12,BuildingSize,0)+1,FALSE),IF(IFERROR(SEARCH(\"Propane\",$A$14),0)>0,VLOOKUP(\"Propane\",HVACg_Lookup,MATCH(Worksheet!$F$12,BuildingSize,0)+1,FALSE),0)))","v":0},{"$f":"U488/1000*V488*X488*IF(IFERROR(SEARCH(\"Gas\",$A$14),0)>0,VLOOKUP(\"Gas\",HVACg_Lookup,MATCH($F$12,BuildingSize,0)+1,FALSE),IF(IFERROR(SEARCH(\"Oil\",$A$14),0)>0,VLOOKUP(\"Oil\",HVACg_Lookup,MATCH($F$12,BuildingSize,0)+1,FALSE),IF(IFERROR(SEARCH(\"Propane\",$A$14),0)>0,VLOOKUP(\"Propane\",HVACg_Lookup,MATCH(Worksheet!$F$12,BuildingSize,0)+1,FALSE),0)))","v":0},0,0,"",""]
[null,null,"",null,null,null,null,null,null,null,null,null,0,0,0,0,"",0,0,0,0,0,0,0,0,0,0,0,0,0,0,0,{"$f":"T489/1000*V489*X489*IF(IFERROR(SEARCH(\"Gas\",$A$14),0)>0,VLOOKUP(\"Gas\",HVACg_Lookup,MATCH($F$12,BuildingSize,0)+1,FALSE),IF(IFERROR(SEARCH(\"Oil\",$A$14),0)>0,VLOOKUP(\"Oil\",HVACg_Lookup,MATCH($F$12,BuildingSize,0)+1,FALSE),IF(IFERROR(SEARCH(\"Propane\",$A$14),0)>0,VLOOKUP(\"Propane\",HVACg_Lookup,MATCH(Worksheet!$F$12,BuildingSize,0)+1,FALSE),0)))","v":0},{"$f":"U489/1000*V489*X489*IF(IFERROR(SEARCH(\"Gas\",$A$14),0)>0,VLOOKUP(\"Gas\",HVACg_Lookup,MATCH($F$12,BuildingSize,0)+1,FALSE),IF(IFERROR(SEARCH(\"Oil\",$A$14),0)>0,VLOOKUP(\"Oil\",HVACg_Lookup,MATCH($F$12,BuildingSize,0)+1,FALSE),IF(IFERROR(SEARCH(\"Propane\",$A$14),0)>0,VLOOKUP(\"Propane\",HVACg_Lookup,MATCH(Worksheet!$F$12,BuildingSize,0)+1,FALSE),0)))","v":0},0,0,"",""]
[null,null,"",null,null,null,null,null,null,null,null,null,0,0,0,0,"",0,0,0,0,0,0,0,0,0,0,0,0,0,0,0,{"$f":"T490/1000*V490*X490*IF(IFERROR(SEARCH(\"Gas\",$A$14),0)>0,VLOOKUP(\"Gas\",HVACg_Lookup,MATCH($F$12,BuildingSize,0)+1,FALSE),IF(IFERROR(SEARCH(\"Oil\",$A$14),0)>0,VLOOKUP(\"Oil\",HVACg_Lookup,MATCH($F$12,BuildingSize,0)+1,FALSE),IF(IFERROR(SEARCH(\"Propane\",$A$14),0)>0,VLOOKUP(\"Propane\",HVACg_Lookup,MATCH(Worksheet!$F$12,BuildingSize,0)+1,FALSE),0)))","v":0},{"$f":"U490/1000*V490*X490*IF(IFERROR(SEARCH(\"Gas\",$A$14),0)>0,VLOOKUP(\"Gas\",HVACg_Lookup,MATCH($F$12,BuildingSize,0)+1,FALSE),IF(IFERROR(SEARCH(\"Oil\",$A$14),0)>0,VLOOKUP(\"Oil\",HVACg_Lookup,MATCH($F$12,BuildingSize,0)+1,FALSE),IF(IFERROR(SEARCH(\"Propane\",$A$14),0)>0,VLOOKUP(\"Propane\",HVACg_Lookup,MATCH(Worksheet!$F$12,BuildingSize,0)+1,FALSE),0)))","v":0},0,0,"",""]
[null,null,"",null,null,null,null,null,null,null,null,null,0,0,0,0,"",0,0,0,0,0,0,0,0,0,0,0,0,0,0,0,{"$f":"T491/1000*V491*X491*IF(IFERROR(SEARCH(\"Gas\",$A$14),0)>0,VLOOKUP(\"Gas\",HVACg_Lookup,MATCH($F$12,BuildingSize,0)+1,FALSE),IF(IFERROR(SEARCH(\"Oil\",$A$14),0)>0,VLOOKUP(\"Oil\",HVACg_Lookup,MATCH($F$12,BuildingSize,0)+1,FALSE),IF(IFERROR(SEARCH(\"Propane\",$A$14),0)>0,VLOOKUP(\"Propane\",HVACg_Lookup,MATCH(Worksheet!$F$12,BuildingSize,0)+1,FALSE),0)))","v":0},{"$f":"U491/1000*V491*X491*IF(IFERROR(SEARCH(\"Gas\",$A$14),0)>0,VLOOKUP(\"Gas\",HVACg_Lookup,MATCH($F$12,BuildingSize,0)+1,FALSE),IF(IFERROR(SEARCH(\"Oil\",$A$14),0)>0,VLOOKUP(\"Oil\",HVACg_Lookup,MATCH($F$12,BuildingSize,0)+1,FALSE),IF(IFERROR(SEARCH(\"Propane\",$A$14),0)>0,VLOOKUP(\"Propane\",HVACg_Lookup,MATCH(Worksheet!$F$12,BuildingSize,0)+1,FALSE),0)))","v":0},0,0,"",""]
[null,null,"",null,null,null,null,null,null,null,null,null,0,0,0,0,"",0,0,0,0,0,0,0,0,0,0,0,0,0,0,0,{"$f":"T492/1000*V492*X492*IF(IFERROR(SEARCH(\"Gas\",$A$14),0)>0,VLOOKUP(\"Gas\",HVACg_Lookup,MATCH($F$12,BuildingSize,0)+1,FALSE),IF(IFERROR(SEARCH(\"Oil\",$A$14),0)>0,VLOOKUP(\"Oil\",HVACg_Lookup,MATCH($F$12,BuildingSize,0)+1,FALSE),IF(IFERROR(SEARCH(\"Propane\",$A$14),0)>0,VLOOKUP(\"Propane\",HVACg_Lookup,MATCH(Worksheet!$F$12,BuildingSize,0)+1,FALSE),0)))","v":0},{"$f":"U492/1000*V492*X492*IF(IFERROR(SEARCH(\"Gas\",$A$14),0)>0,VLOOKUP(\"Gas\",HVACg_Lookup,MATCH($F$12,BuildingSize,0)+1,FALSE),IF(IFERROR(SEARCH(\"Oil\",$A$14),0)>0,VLOOKUP(\"Oil\",HVACg_Lookup,MATCH($F$12,BuildingSize,0)+1,FALSE),IF(IFERROR(SEARCH(\"Propane\",$A$14),0)>0,VLOOKUP(\"Propane\",HVACg_Lookup,MATCH(Worksheet!$F$12,BuildingSize,0)+1,FALSE),0)))","v":0},0,0,"",""]
[null,null,"",null,null,null,null,null,null,null,null,null,0,0,0,0,"",0,0,0,0,0,0,0,0,0,0,0,0,0,0,0,{"$f":"T493/1000*V493*X493*IF(IFERROR(SEARCH(\"Gas\",$A$14),0)>0,VLOOKUP(\"Gas\",HVACg_Lookup,MATCH($F$12,BuildingSize,0)+1,FALSE),IF(IFERROR(SEARCH(\"Oil\",$A$14),0)>0,VLOOKUP(\"Oil\",HVACg_Lookup,MATCH($F$12,BuildingSize,0)+1,FALSE),IF(IFERROR(SEARCH(\"Propane\",$A$14),0)>0,VLOOKUP(\"Propane\",HVACg_Lookup,MATCH(Worksheet!$F$12,BuildingSize,0)+1,FALSE),0)))","v":0},{"$f":"U493/1000*V493*X493*IF(IFERROR(SEARCH(\"Gas\",$A$14),0)>0,VLOOKUP(\"Gas\",HVACg_Lookup,MATCH($F$12,BuildingSize,0)+1,FALSE),IF(IFERROR(SEARCH(\"Oil\",$A$14),0)>0,VLOOKUP(\"Oil\",HVACg_Lookup,MATCH($F$12,BuildingSize,0)+1,FALSE),IF(IFERROR(SEARCH(\"Propane\",$A$14),0)>0,VLOOKUP(\"Propane\",HVACg_Lookup,MATCH(Worksheet!$F$12,BuildingSize,0)+1,FALSE),0)))","v":0},0,0,"",""]
[null,null,"",null,null,null,null,null,null,null,null,null,0,0,0,0,"",0,0,0,0,0,0,0,0,0,0,0,0,0,0,0,{"$f":"T494/1000*V494*X494*IF(IFERROR(SEARCH(\"Gas\",$A$14),0)>0,VLOOKUP(\"Gas\",HVACg_Lookup,MATCH($F$12,BuildingSize,0)+1,FALSE),IF(IFERROR(SEARCH(\"Oil\",$A$14),0)>0,VLOOKUP(\"Oil\",HVACg_Lookup,MATCH($F$12,BuildingSize,0)+1,FALSE),IF(IFERROR(SEARCH(\"Propane\",$A$14),0)>0,VLOOKUP(\"Propane\",HVACg_Lookup,MATCH(Worksheet!$F$12,BuildingSize,0)+1,FALSE),0)))","v":0},{"$f":"U494/1000*V494*X494*IF(IFERROR(SEARCH(\"Gas\",$A$14),0)>0,VLOOKUP(\"Gas\",HVACg_Lookup,MATCH($F$12,BuildingSize,0)+1,FALSE),IF(IFERROR(SEARCH(\"Oil\",$A$14),0)>0,VLOOKUP(\"Oil\",HVACg_Lookup,MATCH($F$12,BuildingSize,0)+1,FALSE),IF(IFERROR(SEARCH(\"Propane\",$A$14),0)>0,VLOOKUP(\"Propane\",HVACg_Lookup,MATCH(Worksheet!$F$12,BuildingSize,0)+1,FALSE),0)))","v":0},0,0,"",""]
[null,null,"",null,null,null,null,null,null,null,null,null,0,0,0,0,"",0,0,0,0,0,0,0,0,0,0,0,0,0,0,0,{"$f":"T495/1000*V495*X495*IF(IFERROR(SEARCH(\"Gas\",$A$14),0)>0,VLOOKUP(\"Gas\",HVACg_Lookup,MATCH($F$12,BuildingSize,0)+1,FALSE),IF(IFERROR(SEARCH(\"Oil\",$A$14),0)>0,VLOOKUP(\"Oil\",HVACg_Lookup,MATCH($F$12,BuildingSize,0)+1,FALSE),IF(IFERROR(SEARCH(\"Propane\",$A$14),0)>0,VLOOKUP(\"Propane\",HVACg_Lookup,MATCH(Worksheet!$F$12,BuildingSize,0)+1,FALSE),0)))","v":0},{"$f":"U495/1000*V495*X495*IF(IFERROR(SEARCH(\"Gas\",$A$14),0)>0,VLOOKUP(\"Gas\",HVACg_Lookup,MATCH($F$12,BuildingSize,0)+1,FALSE),IF(IFERROR(SEARCH(\"Oil\",$A$14),0)>0,VLOOKUP(\"Oil\",HVACg_Lookup,MATCH($F$12,BuildingSize,0)+1,FALSE),IF(IFERROR(SEARCH(\"Propane\",$A$14),0)>0,VLOOKUP(\"Propane\",HVACg_Lookup,MATCH(Worksheet!$F$12,BuildingSize,0)+1,FALSE),0)))","v":0},0,0,"",""]
[null,null,"",null,null,null,null,null,null,null,null,null,0,0,0,0,"",0,0,0,0,0,0,0,0,0,0,0,0,0,0,0,{"$f":"T496/1000*V496*X496*IF(IFERROR(SEARCH(\"Gas\",$A$14),0)>0,VLOOKUP(\"Gas\",HVACg_Lookup,MATCH($F$12,BuildingSize,0)+1,FALSE),IF(IFERROR(SEARCH(\"Oil\",$A$14),0)>0,VLOOKUP(\"Oil\",HVACg_Lookup,MATCH($F$12,BuildingSize,0)+1,FALSE),IF(IFERROR(SEARCH(\"Propane\",$A$14),0)>0,VLOOKUP(\"Propane\",HVACg_Lookup,MATCH(Worksheet!$F$12,BuildingSize,0)+1,FALSE),0)))","v":0},{"$f":"U496/1000*V496*X496*IF(IFERROR(SEARCH(\"Gas\",$A$14),0)>0,VLOOKUP(\"Gas\",HVACg_Lookup,MATCH($F$12,BuildingSize,0)+1,FALSE),IF(IFERROR(SEARCH(\"Oil\",$A$14),0)>0,VLOOKUP(\"Oil\",HVACg_Lookup,MATCH($F$12,BuildingSize,0)+1,FALSE),IF(IFERROR(SEARCH(\"Propane\",$A$14),0)>0,VLOOKUP(\"Propane\",HVACg_Lookup,MATCH(Worksheet!$F$12,BuildingSize,0)+1,FALSE),0)))","v":0},0,0,"",""]
[null,null,"",null,null,null,null,null,null,null,null,null,0,0,0,0,"",0,0,0,0,0,0,0,0,0,0,0,0,0,0,0,{"$f":"T497/1000*V497*X497*IF(IFERROR(SEARCH(\"Gas\",$A$14),0)>0,VLOOKUP(\"Gas\",HVACg_Lookup,MATCH($F$12,BuildingSize,0)+1,FALSE),IF(IFERROR(SEARCH(\"Oil\",$A$14),0)>0,VLOOKUP(\"Oil\",HVACg_Lookup,MATCH($F$12,BuildingSize,0)+1,FALSE),IF(IFERROR(SEARCH(\"Propane\",$A$14),0)>0,VLOOKUP(\"Propane\",HVACg_Lookup,MATCH(Worksheet!$F$12,BuildingSize,0)+1,FALSE),0)))","v":0},{"$f":"U497/1000*V497*X497*IF(IFERROR(SEARCH(\"Gas\",$A$14),0)>0,VLOOKUP(\"Gas\",HVACg_Lookup,MATCH($F$12,BuildingSize,0)+1,FALSE),IF(IFERROR(SEARCH(\"Oil\",$A$14),0)>0,VLOOKUP(\"Oil\",HVACg_Lookup,MATCH($F$12,BuildingSize,0)+1,FALSE),IF(IFERROR(SEARCH(\"Propane\",$A$14),0)>0,VLOOKUP(\"Propane\",HVACg_Lookup,MATCH(Worksheet!$F$12,BuildingSize,0)+1,FALSE),0)))","v":0},0,0,"",""]
[null,null,"",null,null,null,null,null,null,null,null,null,0,0,0,0,"",0,0,0,0,0,0,0,0,0,0,0,0,0,0,0,{"$f":"T498/1000*V498*X498*IF(IFERROR(SEARCH(\"Gas\",$A$14),0)>0,VLOOKUP(\"Gas\",HVACg_Lookup,MATCH($F$12,BuildingSize,0)+1,FALSE),IF(IFERROR(SEARCH(\"Oil\",$A$14),0)>0,VLOOKUP(\"Oil\",HVACg_Lookup,MATCH($F$12,BuildingSize,0)+1,FALSE),IF(IFERROR(SEARCH(\"Propane\",$A$14),0)>0,VLOOKUP(\"Propane\",HVACg_Lookup,MATCH(Worksheet!$F$12,BuildingSize,0)+1,FALSE),0)))","v":0},{"$f":"U498/1000*V498*X498*IF(IFERROR(SEARCH(\"Gas\",$A$14),0)>0,VLOOKUP(\"Gas\",HVACg_Lookup,MATCH($F$12,BuildingSize,0)+1,FALSE),IF(IFERROR(SEARCH(\"Oil\",$A$14),0)>0,VLOOKUP(\"Oil\",HVACg_Lookup,MATCH($F$12,BuildingSize,0)+1,FALSE),IF(IFERROR(SEARCH(\"Propane\",$A$14),0)>0,VLOOKUP(\"Propane\",HVACg_Lookup,MATCH(Worksheet!$F$12,BuildingSize,0)+1,FALSE),0)))","v":0},0,0,"",""]
[null,null,"",null,null,null,null,null,null,null,null,null,0,0,0,0,"",0,0,0,0,0,0,0,0,0,0,0,0,0,0,0,{"$f":"T499/1000*V499*X499*IF(IFERROR(SEARCH(\"Gas\",$A$14),0)>0,VLOOKUP(\"Gas\",HVACg_Lookup,MATCH($F$12,BuildingSize,0)+1,FALSE),IF(IFERROR(SEARCH(\"Oil\",$A$14),0)>0,VLOOKUP(\"Oil\",HVACg_Lookup,MATCH($F$12,BuildingSize,0)+1,FALSE),IF(IFERROR(SEARCH(\"Propane\",$A$14),0)>0,VLOOKUP(\"Propane\",HVACg_Lookup,MATCH(Worksheet!$F$12,BuildingSize,0)+1,FALSE),0)))","v":0},{"$f":"U499/1000*V499*X499*IF(IFERROR(SEARCH(\"Gas\",$A$14),0)>0,VLOOKUP(\"Gas\",HVACg_Lookup,MATCH($F$12,BuildingSize,0)+1,FALSE),IF(IFERROR(SEARCH(\"Oil\",$A$14),0)>0,VLOOKUP(\"Oil\",HVACg_Lookup,MATCH($F$12,BuildingSize,0)+1,FALSE),IF(IFERROR(SEARCH(\"Propane\",$A$14),0)>0,VLOOKUP(\"Propane\",HVACg_Lookup,MATCH(Worksheet!$F$12,BuildingSize,0)+1,FALSE),0)))","v":0},0,0,"",""]
[null,null,"",null,null,null,null,null,null,null,null,null,0,0,0,0,"",0,0,0,0,0,0,0,0,0,0,0,0,0,0,0,{"$f":"T500/1000*V500*X500*IF(IFERROR(SEARCH(\"Gas\",$A$14),0)>0,VLOOKUP(\"Gas\",HVACg_Lookup,MATCH($F$12,BuildingSize,0)+1,FALSE),IF(IFERROR(SEARCH(\"Oil\",$A$14),0)>0,VLOOKUP(\"Oil\",HVACg_Lookup,MATCH($F$12,BuildingSize,0)+1,FALSE),IF(IFERROR(SEARCH(\"Propane\",$A$14),0)>0,VLOOKUP(\"Propane\",HVACg_Lookup,MATCH(Worksheet!$F$12,BuildingSize,0)+1,FALSE),0)))","v":0},{"$f":"U500/1000*V500*X500*IF(IFERROR(SEARCH(\"Gas\",$A$14),0)>0,VLOOKUP(\"Gas\",HVACg_Lookup,MATCH($F$12,BuildingSize,0)+1,FALSE),IF(IFERROR(SEARCH(\"Oil\",$A$14),0)>0,VLOOKUP(\"Oil\",HVACg_Lookup,MATCH($F$12,BuildingSize,0)+1,FALSE),IF(IFERROR(SEARCH(\"Propane\",$A$14),0)>0,VLOOKUP(\"Propane\",HVACg_Lookup,MATCH(Worksheet!$F$12,BuildingSize,0)+1,FALSE),0)))","v":0},0,0,"",""]
[null,null,"",null,null,null,null,null,null,null,null,null,0,0,0,0,"",0,0,0,0,0,0,0,0,0,0,0,0,0,0,0,{"$f":"T501/1000*V501*X501*IF(IFERROR(SEARCH(\"Gas\",$A$14),0)>0,VLOOKUP(\"Gas\",HVACg_Lookup,MATCH($F$12,BuildingSize,0)+1,FALSE),IF(IFERROR(SEARCH(\"Oil\",$A$14),0)>0,VLOOKUP(\"Oil\",HVACg_Lookup,MATCH($F$12,BuildingSize,0)+1,FALSE),IF(IFERROR(SEARCH(\"Propane\",$A$14),0)>0,VLOOKUP(\"Propane\",HVACg_Lookup,MATCH(Worksheet!$F$12,BuildingSize,0)+1,FALSE),0)))","v":0},{"$f":"U501/1000*V501*X501*IF(IFERROR(SEARCH(\"Gas\",$A$14),0)>0,VLOOKUP(\"Gas\",HVACg_Lookup,MATCH($F$12,BuildingSize,0)+1,FALSE),IF(IFERROR(SEARCH(\"Oil\",$A$14),0)>0,VLOOKUP(\"Oil\",HVACg_Lookup,MATCH($F$12,BuildingSize,0)+1,FALSE),IF(IFERROR(SEARCH(\"Propane\",$A$14),0)>0,VLOOKUP(\"Propane\",HVACg_Lookup,MATCH(Worksheet!$F$12,BuildingSize,0)+1,FALSE),0)))","v":0},0,0,"",""]
[null,null,"",null,null,null,null,null,null,null,null,null,0,0,0,0,"",0,0,0,0,0,0,0,0,0,0,0,0,0,0,0,{"$f":"T502/1000*V502*X502*IF(IFERROR(SEARCH(\"Gas\",$A$14),0)>0,VLOOKUP(\"Gas\",HVACg_Lookup,MATCH($F$12,BuildingSize,0)+1,FALSE),IF(IFERROR(SEARCH(\"Oil\",$A$14),0)>0,VLOOKUP(\"Oil\",HVACg_Lookup,MATCH($F$12,BuildingSize,0)+1,FALSE),IF(IFERROR(SEARCH(\"Propane\",$A$14),0)>0,VLOOKUP(\"Propane\",HVACg_Lookup,MATCH(Worksheet!$F$12,BuildingSize,0)+1,FALSE),0)))","v":0},{"$f":"U502/1000*V502*X502*IF(IFERROR(SEARCH(\"Gas\",$A$14),0)>0,VLOOKUP(\"Gas\",HVACg_Lookup,MATCH($F$12,BuildingSize,0)+1,FALSE),IF(IFERROR(SEARCH(\"Oil\",$A$14),0)>0,VLOOKUP(\"Oil\",HVACg_Lookup,MATCH($F$12,BuildingSize,0)+1,FALSE),IF(IFERROR(SEARCH(\"Propane\",$A$14),0)>0,VLOOKUP(\"Propane\",HVACg_Lookup,MATCH(Worksheet!$F$12,BuildingSize,0)+1,FALSE),0)))","v":0},0,0,"",""]
[null,null,"",null,null,null,null,null,null,null,null,null,0,0,0,0,"",0,0,0,0,0,0,0,0,0,0,0,0,0,0,0,{"$f":"T503/1000*V503*X503*IF(IFERROR(SEARCH(\"Gas\",$A$14),0)>0,VLOOKUP(\"Gas\",HVACg_Lookup,MATCH($F$12,BuildingSize,0)+1,FALSE),IF(IFERROR(SEARCH(\"Oil\",$A$14),0)>0,VLOOKUP(\"Oil\",HVACg_Lookup,MATCH($F$12,BuildingSize,0)+1,FALSE),IF(IFERROR(SEARCH(\"Propane\",$A$14),0)>0,VLOOKUP(\"Propane\",HVACg_Lookup,MATCH(Worksheet!$F$12,BuildingSize,0)+1,FALSE),0)))","v":0},{"$f":"U503/1000*V503*X503*IF(IFERROR(SEARCH(\"Gas\",$A$14),0)>0,VLOOKUP(\"Gas\",HVACg_Lookup,MATCH($F$12,BuildingSize,0)+1,FALSE),IF(IFERROR(SEARCH(\"Oil\",$A$14),0)>0,VLOOKUP(\"Oil\",HVACg_Lookup,MATCH($F$12,BuildingSize,0)+1,FALSE),IF(IFERROR(SEARCH(\"Propane\",$A$14),0)>0,VLOOKUP(\"Propane\",HVACg_Lookup,MATCH(Worksheet!$F$12,BuildingSize,0)+1,FALSE),0)))","v":0},0,0,"",""]
[null,null,"",null,null,null,null,null,null,null,null,null,0,0,0,0,"",0,0,0,0,0,0,0,0,0,0,0,0,0,0,0,{"$f":"T504/1000*V504*X504*IF(IFERROR(SEARCH(\"Gas\",$A$14),0)>0,VLOOKUP(\"Gas\",HVACg_Lookup,MATCH($F$12,BuildingSize,0)+1,FALSE),IF(IFERROR(SEARCH(\"Oil\",$A$14),0)>0,VLOOKUP(\"Oil\",HVACg_Lookup,MATCH($F$12,BuildingSize,0)+1,FALSE),IF(IFERROR(SEARCH(\"Propane\",$A$14),0)>0,VLOOKUP(\"Propane\",HVACg_Lookup,MATCH(Worksheet!$F$12,BuildingSize,0)+1,FALSE),0)))","v":0},{"$f":"U504/1000*V504*X504*IF(IFERROR(SEARCH(\"Gas\",$A$14),0)>0,VLOOKUP(\"Gas\",HVACg_Lookup,MATCH($F$12,BuildingSize,0)+1,FALSE),IF(IFERROR(SEARCH(\"Oil\",$A$14),0)>0,VLOOKUP(\"Oil\",HVACg_Lookup,MATCH($F$12,BuildingSize,0)+1,FALSE),IF(IFERROR(SEARCH(\"Propane\",$A$14),0)>0,VLOOKUP(\"Propane\",HVACg_Lookup,MATCH(Worksheet!$F$12,BuildingSize,0)+1,FALSE),0)))","v":0},0,0,"",""]
[null,null,"",null,null,null,null,null,null,null,null,null,0,0,0,0,"",0,0,0,0,0,0,0,0,0,0,0,0,0,0,0,{"$f":"T505/1000*V505*X505*IF(IFERROR(SEARCH(\"Gas\",$A$14),0)>0,VLOOKUP(\"Gas\",HVACg_Lookup,MATCH($F$12,BuildingSize,0)+1,FALSE),IF(IFERROR(SEARCH(\"Oil\",$A$14),0)>0,VLOOKUP(\"Oil\",HVACg_Lookup,MATCH($F$12,BuildingSize,0)+1,FALSE),IF(IFERROR(SEARCH(\"Propane\",$A$14),0)>0,VLOOKUP(\"Propane\",HVACg_Lookup,MATCH(Worksheet!$F$12,BuildingSize,0)+1,FALSE),0)))","v":0},{"$f":"U505/1000*V505*X505*IF(IFERROR(SEARCH(\"Gas\",$A$14),0)>0,VLOOKUP(\"Gas\",HVACg_Lookup,MATCH($F$12,BuildingSize,0)+1,FALSE),IF(IFERROR(SEARCH(\"Oil\",$A$14),0)>0,VLOOKUP(\"Oil\",HVACg_Lookup,MATCH($F$12,BuildingSize,0)+1,FALSE),IF(IFERROR(SEARCH(\"Propane\",$A$14),0)>0,VLOOKUP(\"Propane\",HVACg_Lookup,MATCH(Worksheet!$F$12,BuildingSize,0)+1,FALSE),0)))","v":0},0,0,"",""]
[null,null,"",null,null,null,null,null,null,null,null,null,0,0,0,0,"",0,0,0,0,0,0,0,0,0,0,0,0,0,0,0,{"$f":"T506/1000*V506*X506*IF(IFERROR(SEARCH(\"Gas\",$A$14),0)>0,VLOOKUP(\"Gas\",HVACg_Lookup,MATCH($F$12,BuildingSize,0)+1,FALSE),IF(IFERROR(SEARCH(\"Oil\",$A$14),0)>0,VLOOKUP(\"Oil\",HVACg_Lookup,MATCH($F$12,BuildingSize,0)+1,FALSE),IF(IFERROR(SEARCH(\"Propane\",$A$14),0)>0,VLOOKUP(\"Propane\",HVACg_Lookup,MATCH(Worksheet!$F$12,BuildingSize,0)+1,FALSE),0)))","v":0},{"$f":"U506/1000*V506*X506*IF(IFERROR(SEARCH(\"Gas\",$A$14),0)>0,VLOOKUP(\"Gas\",HVACg_Lookup,MATCH($F$12,BuildingSize,0)+1,FALSE),IF(IFERROR(SEARCH(\"Oil\",$A$14),0)>0,VLOOKUP(\"Oil\",HVACg_Lookup,MATCH($F$12,BuildingSize,0)+1,FALSE),IF(IFERROR(SEARCH(\"Propane\",$A$14),0)>0,VLOOKUP(\"Propane\",HVACg_Lookup,MATCH(Worksheet!$F$12,BuildingSize,0)+1,FALSE),0)))","v":0},0,0,"",""]
[null,null,"",null,null,null,null,null,null,null,null,null,0,0,0,0,"",0,0,0,0,0,0,0,0,0,0,0,0,0,0,0,{"$f":"T507/1000*V507*X507*IF(IFERROR(SEARCH(\"Gas\",$A$14),0)>0,VLOOKUP(\"Gas\",HVACg_Lookup,MATCH($F$12,BuildingSize,0)+1,FALSE),IF(IFERROR(SEARCH(\"Oil\",$A$14),0)>0,VLOOKUP(\"Oil\",HVACg_Lookup,MATCH($F$12,BuildingSize,0)+1,FALSE),IF(IFERROR(SEARCH(\"Propane\",$A$14),0)>0,VLOOKUP(\"Propane\",HVACg_Lookup,MATCH(Worksheet!$F$12,BuildingSize,0)+1,FALSE),0)))","v":0},{"$f":"U507/1000*V507*X507*IF(IFERROR(SEARCH(\"Gas\",$A$14),0)>0,VLOOKUP(\"Gas\",HVACg_Lookup,MATCH($F$12,BuildingSize,0)+1,FALSE),IF(IFERROR(SEARCH(\"Oil\",$A$14),0)>0,VLOOKUP(\"Oil\",HVACg_Lookup,MATCH($F$12,BuildingSize,0)+1,FALSE),IF(IFERROR(SEARCH(\"Propane\",$A$14),0)>0,VLOOKUP(\"Propane\",HVACg_Lookup,MATCH(Worksheet!$F$12,BuildingSize,0)+1,FALSE),0)))","v":0},0,0,"",""]
[null,null,"",null,null,null,null,null,null,null,null,null,0,0,0,0,"",0,0,0,0,0,0,0,0,0,0,0,0,0,0,0,{"$f":"T508/1000*V508*X508*IF(IFERROR(SEARCH(\"Gas\",$A$14),0)>0,VLOOKUP(\"Gas\",HVACg_Lookup,MATCH($F$12,BuildingSize,0)+1,FALSE),IF(IFERROR(SEARCH(\"Oil\",$A$14),0)>0,VLOOKUP(\"Oil\",HVACg_Lookup,MATCH($F$12,BuildingSize,0)+1,FALSE),IF(IFERROR(SEARCH(\"Propane\",$A$14),0)>0,VLOOKUP(\"Propane\",HVACg_Lookup,MATCH(Worksheet!$F$12,BuildingSize,0)+1,FALSE),0)))","v":0},{"$f":"U508/1000*V508*X508*IF(IFERROR(SEARCH(\"Gas\",$A$14),0)>0,VLOOKUP(\"Gas\",HVACg_Lookup,MATCH($F$12,BuildingSize,0)+1,FALSE),IF(IFERROR(SEARCH(\"Oil\",$A$14),0)>0,VLOOKUP(\"Oil\",HVACg_Lookup,MATCH($F$12,BuildingSize,0)+1,FALSE),IF(IFERROR(SEARCH(\"Propane\",$A$14),0)>0,VLOOKUP(\"Propane\",HVACg_Lookup,MATCH(Worksheet!$F$12,BuildingSize,0)+1,FALSE),0)))","v":0},0,0,"",""]
[null,null,"",null,null,null,null,null,null,null,null,null,0,0,0,0,"",0,0,0,0,0,0,0,0,0,0,0,0,0,0,0,{"$f":"T509/1000*V509*X509*IF(IFERROR(SEARCH(\"Gas\",$A$14),0)>0,VLOOKUP(\"Gas\",HVACg_Lookup,MATCH($F$12,BuildingSize,0)+1,FALSE),IF(IFERROR(SEARCH(\"Oil\",$A$14),0)>0,VLOOKUP(\"Oil\",HVACg_Lookup,MATCH($F$12,BuildingSize,0)+1,FALSE),IF(IFERROR(SEARCH(\"Propane\",$A$14),0)>0,VLOOKUP(\"Propane\",HVACg_Lookup,MATCH(Worksheet!$F$12,BuildingSize,0)+1,FALSE),0)))","v":0},{"$f":"U509/1000*V509*X509*IF(IFERROR(SEARCH(\"Gas\",$A$14),0)>0,VLOOKUP(\"Gas\",HVACg_Lookup,MATCH($F$12,BuildingSize,0)+1,FALSE),IF(IFERROR(SEARCH(\"Oil\",$A$14),0)>0,VLOOKUP(\"Oil\",HVACg_Lookup,MATCH($F$12,BuildingSize,0)+1,FALSE),IF(IFERROR(SEARCH(\"Propane\",$A$14),0)>0,VLOOKUP(\"Propane\",HVACg_Lookup,MATCH(Worksheet!$F$12,BuildingSize,0)+1,FALSE),0)))","v":0},0,0,"",""]
[null,null,"",null,null,null,null,null,null,null,null,null,0,0,0,0,"",0,0,0,0,0,0,0,0,0,0,0,0,0,0,0,{"$f":"T510/1000*V510*X510*IF(IFERROR(SEARCH(\"Gas\",$A$14),0)>0,VLOOKUP(\"Gas\",HVACg_Lookup,MATCH($F$12,BuildingSize,0)+1,FALSE),IF(IFERROR(SEARCH(\"Oil\",$A$14),0)>0,VLOOKUP(\"Oil\",HVACg_Lookup,MATCH($F$12,BuildingSize,0)+1,FALSE),IF(IFERROR(SEARCH(\"Propane\",$A$14),0)>0,VLOOKUP(\"Propane\",HVACg_Lookup,MATCH(Worksheet!$F$12,BuildingSize,0)+1,FALSE),0)))","v":0},{"$f":"U510/1000*V510*X510*IF(IFERROR(SEARCH(\"Gas\",$A$14),0)>0,VLOOKUP(\"Gas\",HVACg_Lookup,MATCH($F$12,BuildingSize,0)+1,FALSE),IF(IFERROR(SEARCH(\"Oil\",$A$14),0)>0,VLOOKUP(\"Oil\",HVACg_Lookup,MATCH($F$12,BuildingSize,0)+1,FALSE),IF(IFERROR(SEARCH(\"Propane\",$A$14),0)>0,VLOOKUP(\"Propane\",HVACg_Lookup,MATCH(Worksheet!$F$12,BuildingSize,0)+1,FALSE),0)))","v":0},0,0,"",""]
[null,null,"",null,null,null,null,null,null,null,null,null,0,0,0,0,"",0,0,0,0,0,0,0,0,0,0,0,0,0,0,0,{"$f":"T511/1000*V511*X511*IF(IFERROR(SEARCH(\"Gas\",$A$14),0)>0,VLOOKUP(\"Gas\",HVACg_Lookup,MATCH($F$12,BuildingSize,0)+1,FALSE),IF(IFERROR(SEARCH(\"Oil\",$A$14),0)>0,VLOOKUP(\"Oil\",HVACg_Lookup,MATCH($F$12,BuildingSize,0)+1,FALSE),IF(IFERROR(SEARCH(\"Propane\",$A$14),0)>0,VLOOKUP(\"Propane\",HVACg_Lookup,MATCH(Worksheet!$F$12,BuildingSize,0)+1,FALSE),0)))","v":0},{"$f":"U511/1000*V511*X511*IF(IFERROR(SEARCH(\"Gas\",$A$14),0)>0,VLOOKUP(\"Gas\",HVACg_Lookup,MATCH($F$12,BuildingSize,0)+1,FALSE),IF(IFERROR(SEARCH(\"Oil\",$A$14),0)>0,VLOOKUP(\"Oil\",HVACg_Lookup,MATCH($F$12,BuildingSize,0)+1,FALSE),IF(IFERROR(SEARCH(\"Propane\",$A$14),0)>0,VLOOKUP(\"Propane\",HVACg_Lookup,MATCH(Worksheet!$F$12,BuildingSize,0)+1,FALSE),0)))","v":0},0,0,"",""]
[null,null,"",null,null,null,null,null,null,null,null,null,0,0,0,0,"",0,0,0,0,0,0,0,0,0,0,0,0,0,0,0,{"$f":"T512/1000*V512*X512*IF(IFERROR(SEARCH(\"Gas\",$A$14),0)>0,VLOOKUP(\"Gas\",HVACg_Lookup,MATCH($F$12,BuildingSize,0)+1,FALSE),IF(IFERROR(SEARCH(\"Oil\",$A$14),0)>0,VLOOKUP(\"Oil\",HVACg_Lookup,MATCH($F$12,BuildingSize,0)+1,FALSE),IF(IFERROR(SEARCH(\"Propane\",$A$14),0)>0,VLOOKUP(\"Propane\",HVACg_Lookup,MATCH(Worksheet!$F$12,BuildingSize,0)+1,FALSE),0)))","v":0},{"$f":"U512/1000*V512*X512*IF(IFERROR(SEARCH(\"Gas\",$A$14),0)>0,VLOOKUP(\"Gas\",HVACg_Lookup,MATCH($F$12,BuildingSize,0)+1,FALSE),IF(IFERROR(SEARCH(\"Oil\",$A$14),0)>0,VLOOKUP(\"Oil\",HVACg_Lookup,MATCH($F$12,BuildingSize,0)+1,FALSE),IF(IFERROR(SEARCH(\"Propane\",$A$14),0)>0,VLOOKUP(\"Propane\",HVACg_Lookup,MATCH(Worksheet!$F$12,BuildingSize,0)+1,FALSE),0)))","v":0},0,0,"",""]
[null,null,"",null,null,null,null,null,null,null,null,null,0,0,0,0,"",0,0,0,0,0,0,0,0,0,0,0,0,0,0,0,{"$f":"T513/1000*V513*X513*IF(IFERROR(SEARCH(\"Gas\",$A$14),0)>0,VLOOKUP(\"Gas\",HVACg_Lookup,MATCH($F$12,BuildingSize,0)+1,FALSE),IF(IFERROR(SEARCH(\"Oil\",$A$14),0)>0,VLOOKUP(\"Oil\",HVACg_Lookup,MATCH($F$12,BuildingSize,0)+1,FALSE),IF(IFERROR(SEARCH(\"Propane\",$A$14),0)>0,VLOOKUP(\"Propane\",HVACg_Lookup,MATCH(Worksheet!$F$12,BuildingSize,0)+1,FALSE),0)))","v":0},{"$f":"U513/1000*V513*X513*IF(IFERROR(SEARCH(\"Gas\",$A$14),0)>0,VLOOKUP(\"Gas\",HVACg_Lookup,MATCH($F$12,BuildingSize,0)+1,FALSE),IF(IFERROR(SEARCH(\"Oil\",$A$14),0)>0,VLOOKUP(\"Oil\",HVACg_Lookup,MATCH($F$12,BuildingSize,0)+1,FALSE),IF(IFERROR(SEARCH(\"Propane\",$A$14),0)>0,VLOOKUP(\"Propane\",HVACg_Lookup,MATCH(Worksheet!$F$12,BuildingSize,0)+1,FALSE),0)))","v":0},0,0,"",""]
[null,null,"",null,null,null,null,null,null,null,null,null,0,0,0,0,"",0,0,0,0,0,0,0,0,0,0,0,0,0,0,0,{"$f":"T514/1000*V514*X514*IF(IFERROR(SEARCH(\"Gas\",$A$14),0)>0,VLOOKUP(\"Gas\",HVACg_Lookup,MATCH($F$12,BuildingSize,0)+1,FALSE),IF(IFERROR(SEARCH(\"Oil\",$A$14),0)>0,VLOOKUP(\"Oil\",HVACg_Lookup,MATCH($F$12,BuildingSize,0)+1,FALSE),IF(IFERROR(SEARCH(\"Propane\",$A$14),0)>0,VLOOKUP(\"Propane\",HVACg_Lookup,MATCH(Worksheet!$F$12,BuildingSize,0)+1,FALSE),0)))","v":0},{"$f":"U514/1000*V514*X514*IF(IFERROR(SEARCH(\"Gas\",$A$14),0)>0,VLOOKUP(\"Gas\",HVACg_Lookup,MATCH($F$12,BuildingSize,0)+1,FALSE),IF(IFERROR(SEARCH(\"Oil\",$A$14),0)>0,VLOOKUP(\"Oil\",HVACg_Lookup,MATCH($F$12,BuildingSize,0)+1,FALSE),IF(IFERROR(SEARCH(\"Propane\",$A$14),0)>0,VLOOKUP(\"Propane\",HVACg_Lookup,MATCH(Worksheet!$F$12,BuildingSize,0)+1,FALSE),0)))","v":0},0,0,"",""]
[null,null,"",null,null,null,null,null,null,null,null,null,0,0,0,0,"",0,0,0,0,0,0,0,0,0,0,0,0,0,0,0,{"$f":"T515/1000*V515*X515*IF(IFERROR(SEARCH(\"Gas\",$A$14),0)>0,VLOOKUP(\"Gas\",HVACg_Lookup,MATCH($F$12,BuildingSize,0)+1,FALSE),IF(IFERROR(SEARCH(\"Oil\",$A$14),0)>0,VLOOKUP(\"Oil\",HVACg_Lookup,MATCH($F$12,BuildingSize,0)+1,FALSE),IF(IFERROR(SEARCH(\"Propane\",$A$14),0)>0,VLOOKUP(\"Propane\",HVACg_Lookup,MATCH(Worksheet!$F$12,BuildingSize,0)+1,FALSE),0)))","v":0},{"$f":"U515/1000*V515*X515*IF(IFERROR(SEARCH(\"Gas\",$A$14),0)>0,VLOOKUP(\"Gas\",HVACg_Lookup,MATCH($F$12,BuildingSize,0)+1,FALSE),IF(IFERROR(SEARCH(\"Oil\",$A$14),0)>0,VLOOKUP(\"Oil\",HVACg_Lookup,MATCH($F$12,BuildingSize,0)+1,FALSE),IF(IFERROR(SEARCH(\"Propane\",$A$14),0)>0,VLOOKUP(\"Propane\",HVACg_Lookup,MATCH(Worksheet!$F$12,BuildingSize,0)+1,FALSE),0)))","v":0},0,0,"",""]
[null,null,"",null,null,null,null,null,null,null,null,null,0,0,0,0,"",0,0,0,0,0,0,0,0,0,0,0,0,0,0,0,{"$f":"T516/1000*V516*X516*IF(IFERROR(SEARCH(\"Gas\",$A$14),0)>0,VLOOKUP(\"Gas\",HVACg_Lookup,MATCH($F$12,BuildingSize,0)+1,FALSE),IF(IFERROR(SEARCH(\"Oil\",$A$14),0)>0,VLOOKUP(\"Oil\",HVACg_Lookup,MATCH($F$12,BuildingSize,0)+1,FALSE),IF(IFERROR(SEARCH(\"Propane\",$A$14),0)>0,VLOOKUP(\"Propane\",HVACg_Lookup,MATCH(Worksheet!$F$12,BuildingSize,0)+1,FALSE),0)))","v":0},{"$f":"U516/1000*V516*X516*IF(IFERROR(SEARCH(\"Gas\",$A$14),0)>0,VLOOKUP(\"Gas\",HVACg_Lookup,MATCH($F$12,BuildingSize,0)+1,FALSE),IF(IFERROR(SEARCH(\"Oil\",$A$14),0)>0,VLOOKUP(\"Oil\",HVACg_Lookup,MATCH($F$12,BuildingSize,0)+1,FALSE),IF(IFERROR(SEARCH(\"Propane\",$A$14),0)>0,VLOOKUP(\"Propane\",HVACg_Lookup,MATCH(Worksheet!$F$12,BuildingSize,0)+1,FALSE),0)))","v":0},0,0,"",""]
[null,null,"",null,null,null,null,null,null,null,null,null,0,0,0,0,"",0,0,0,0,0,0,0,0,0,0,0,0,0,0,0,{"$f":"T517/1000*V517*X517*IF(IFERROR(SEARCH(\"Gas\",$A$14),0)>0,VLOOKUP(\"Gas\",HVACg_Lookup,MATCH($F$12,BuildingSize,0)+1,FALSE),IF(IFERROR(SEARCH(\"Oil\",$A$14),0)>0,VLOOKUP(\"Oil\",HVACg_Lookup,MATCH($F$12,BuildingSize,0)+1,FALSE),IF(IFERROR(SEARCH(\"Propane\",$A$14),0)>0,VLOOKUP(\"Propane\",HVACg_Lookup,MATCH(Worksheet!$F$12,BuildingSize,0)+1,FALSE),0)))","v":0},{"$f":"U517/1000*V517*X517*IF(IFERROR(SEARCH(\"Gas\",$A$14),0)>0,VLOOKUP(\"Gas\",HVACg_Lookup,MATCH($F$12,BuildingSize,0)+1,FALSE),IF(IFERROR(SEARCH(\"Oil\",$A$14),0)>0,VLOOKUP(\"Oil\",HVACg_Lookup,MATCH($F$12,BuildingSize,0)+1,FALSE),IF(IFERROR(SEARCH(\"Propane\",$A$14),0)>0,VLOOKUP(\"Propane\",HVACg_Lookup,MATCH(Worksheet!$F$12,BuildingSize,0)+1,FALSE),0)))","v":0},0,0,"",""]
[null,null,"",null,null,null,null,null,null,null,null,null,0,0,0,0,"",0,0,0,0,0,0,0,0,0,0,0,0,0,0,0,{"$f":"T518/1000*V518*X518*IF(IFERROR(SEARCH(\"Gas\",$A$14),0)>0,VLOOKUP(\"Gas\",HVACg_Lookup,MATCH($F$12,BuildingSize,0)+1,FALSE),IF(IFERROR(SEARCH(\"Oil\",$A$14),0)>0,VLOOKUP(\"Oil\",HVACg_Lookup,MATCH($F$12,BuildingSize,0)+1,FALSE),IF(IFERROR(SEARCH(\"Propane\",$A$14),0)>0,VLOOKUP(\"Propane\",HVACg_Lookup,MATCH(Worksheet!$F$12,BuildingSize,0)+1,FALSE),0)))","v":0},{"$f":"U518/1000*V518*X518*IF(IFERROR(SEARCH(\"Gas\",$A$14),0)>0,VLOOKUP(\"Gas\",HVACg_Lookup,MATCH($F$12,BuildingSize,0)+1,FALSE),IF(IFERROR(SEARCH(\"Oil\",$A$14),0)>0,VLOOKUP(\"Oil\",HVACg_Lookup,MATCH($F$12,BuildingSize,0)+1,FALSE),IF(IFERROR(SEARCH(\"Propane\",$A$14),0)>0,VLOOKUP(\"Propane\",HVACg_Lookup,MATCH(Worksheet!$F$12,BuildingSize,0)+1,FALSE),0)))","v":0},0,0,"",""]
[null,null,"",null,null,null,null,null,null,null,null,null,0,0,0,0,"",0,0,0,0,0,0,0,0,0,0,0,0,0,0,0,{"$f":"T519/1000*V519*X519*IF(IFERROR(SEARCH(\"Gas\",$A$14),0)>0,VLOOKUP(\"Gas\",HVACg_Lookup,MATCH($F$12,BuildingSize,0)+1,FALSE),IF(IFERROR(SEARCH(\"Oil\",$A$14),0)>0,VLOOKUP(\"Oil\",HVACg_Lookup,MATCH($F$12,BuildingSize,0)+1,FALSE),IF(IFERROR(SEARCH(\"Propane\",$A$14),0)>0,VLOOKUP(\"Propane\",HVACg_Lookup,MATCH(Worksheet!$F$12,BuildingSize,0)+1,FALSE),0)))","v":0},{"$f":"U519/1000*V519*X519*IF(IFERROR(SEARCH(\"Gas\",$A$14),0)>0,VLOOKUP(\"Gas\",HVACg_Lookup,MATCH($F$12,BuildingSize,0)+1,FALSE),IF(IFERROR(SEARCH(\"Oil\",$A$14),0)>0,VLOOKUP(\"Oil\",HVACg_Lookup,MATCH($F$12,BuildingSize,0)+1,FALSE),IF(IFERROR(SEARCH(\"Propane\",$A$14),0)>0,VLOOKUP(\"Propane\",HVACg_Lookup,MATCH(Worksheet!$F$12,BuildingSize,0)+1,FALSE),0)))","v":0},0,0,"",""]

{"sheet":"Measure Code","index":1,"n_rows":6,"n_cols":6,"rows_kept":6,"cut":false,"hidden":true,"merged":[]}
["Measure Code","Description","Incentive per Unit","Incentive Unit","Energy Savings Factor","Measure Type"]
["LC1","OSW",20,"per Control",0.31,97]
["LC2","OSR",35,"per Control",0.31,98]
["LC3","DDC",45,"per Fixture Controlled",0.4,9002]
["LC4","OHLC",35,"per Fixture Controlled",0.31,9001]
["LC5","OSRH",35,"per Control",0.31,98]

{"sheet":"Other Support","index":2,"n_rows":23,"n_cols":18,"rows_kept":23,"cut":false,"hidden":true,"merged":[[0,4,0,9],[0,12,0,13]]}
[null,null,null,"HVAC_d","HVAC_e",null,null,null,null,null,null,null,"HVAC_g"]
["Building Type","EFLH","CF","AC","Electric Cooling & Gas Heat","Electric Cooling & Oil Heat","Electric Cooling & Propane Heat","Electric Cooling & Resistance Heat","Heat Pump","No Electric Cooling (Electric Resistance Heat Only)",null,"Fuel Type","Large Commercial","Small Commercial",null,null,null,"HVAC Options"]
["Education – Primary School",2575,0.5,0.44,0.1,0.1,0.1,-0.19,-0.04,-0.28999999999999998,null,"Gas",-2.3000000000000001E-4,-1.075E-3,null,null,null,"Electric Cooling & Gas Heat"]
["Education – Secondary School",2575,0.5,0.44,0.1,0.1,0.1,-0.19,-0.04,-0.28999999999999998,null,"Oil",-4.6000000000000001E-4,-1.2E-4,null,null,null,"Electric Cooling & Oil Heat"]
["Education – Community College",2575,0.5,0.44,0.1,0.1,0.1,-0.19,-0.04,-0.28999999999999998,null,"Propane",-4.6000000000000001E-4,-1.2E-4,null,null,null,"Electric Cooling & Propane Heat"]
["Education – University",2575,0.5,0.44,0.1,0.1,0.1,-0.19,-0.04,-0.28999999999999998,null,null,null,null,null,null,null,"Electric Cooling & Resistance Heat"]
["Grocery",7134,0.96,0.27,0.06,0.06,0.06,-0.17,-0.05,-0.23,null,null,null,null,null,null,null,"No Electric Cooling (Electric Resistance Heat Only)"]
["Medical – Hospital ",8760,0.8,0.34,0.08,0.08,0.08,-0.18,-7.0000000000000007E-2,-0.26,null,null,null,null,null,null,null,"No Electric Cooling (Gas Heat Only)"]
["Medical – Clinic",3909,0.8,0.34,0.08,0.08,0.08,-0.18,-7.0000000000000007E-2,-0.26,null,null,null,null,null,null,null,"No Electric Cooling (Oil Heat Only)"]
["Lodging Hotel (Guest Rooms)",4573,0.66,0.34,0.08,0.08,0.08,-0.18,-7.0000000000000007E-2,-0.26,null,null,null,null,null,null,null,"No Electric Cooling (Propane Heat Only)"]
["Lodging Motel",4573,0.66,0.34,0.08,0.08,0.08,-0.18,-7.0000000000000007E-2,-0.26,null,null,null,null,null,null,null,"Heat Pump"]
["Manufacturing – Light Industrial",4116,0.7,0.34,0.08,0.08,0.08,-0.18,-7.0000000000000007E-2,-0.26]
["Office - Large",2969,0.7,0.35,0.1,0.1,0.1,-0.15,-0.06,-0.25]
["Office - Small",2950,0.67,0.35,0.1,0.1,0.1,-0.15,-0.06,-0.25]
["Restaurant – Sit-Down",4573,0.66,0.34,0.08,0.08,0.08,-0.18,-7.0000000000000007E-2,-0.26]
["Restaurant – Fast-Food",4573,0.66,0.34,0.08,0.08,0.08,-0.18,-7.0000000000000007E-2,-0.26]
["Retail – 3-Story Large",4920,0.96,0.27,0.06,0.06,0.06,-0.17,-0.05,-0.23]
["Retail – Single-Story Large",4920,0.96,0.27,0.06,0.06,0.06,-0.17,-0.05,-0.23]
["Retail – Small",4926,0.86,0.27,0.06,0.06,0.06,-0.17,-0.05,-0.23]
["Storage Conditioned ",4116,0.7,0.22,0.02,0.02,0.02,-0.25,-0.11,-0.27]
["Storage Unconditioned",4116,0.7,0,0,0,0,0,0,0]
["Warehouse",4116,0.7,0.22,0.02,0.02,0.02,-0.25,-0.11,-0.27]
["Average = Miscellaneous",4573,0.66,0.34,0.08,0.08,0.08,-0.18,-7.0000000000000007E-2,-0.26]

{"sheet":"Export","index":3,"n_rows":501,"n_cols":21,"rows_kept":501,"cut":false,"hidden":true,"merged":[]}
["Measure Type","Manufacturer","Model","Capacity/Size","Capacity/Size Units","EER Efficiency","SEER Efficiency","Incentive Per Unit","Quantity Committed","Annual Electricity Savings","Peak Demand Reduction","Lifetime Electricity Savings","Annual Gas Savings","Lifetime Gas Savings","Efficiency- other","Efficiency- other-type","Measure ID removed","Quantity Installed","Location","Reason (New or Replaced)","Type of Control (Wired/Wireless)"]
[{"$f":"IF(ISBLANK(Worksheet!F20)=FALSE,VLOOKUP(Worksheet!A20,MeasureCode_Lookup,6,FALSE),\"\")","v":""},null,null,{"$f":"IFERROR(IF(Worksheet!U20=0,Worksheet!T20/I2,Worksheet!U20/R2),0)","v":0},"W Controlled",null,null,{"$f":"IF(N(Worksheet!P20)=0,N(Worksheet!O20),N(Worksheet!P20))","v":0},{"$f":"IFERROR(Worksheet!R20/Worksheet!O20,0)","v":0},{"$f":"Worksheet!Z20","v":0},{"$f":"Worksheet!Y20","v":0},{"$f":"J2*8","v":0},{"$f":"IF(Worksheet!AG20=0,0,Worksheet!AG20/I2)","v":0},{"$f":"M2*8","v":0},null,null,null,{"$f":"IFERROR(Worksheet!S20/Worksheet!P20,0)","v":0},{"$f":"IF(Worksheet!E20=\"\",\"\",Worksheet!E20)","v":""},{"$f":"IF(Worksheet!B20=\"\",\"\",Worksheet!B20)","v":""},{"$f":"IF(Worksheet!D20=\"\",\"\",Worksheet!D20)","v":""}]
[{"$f":"IF(ISBLANK(Worksheet!F21)=FALSE,VLOOKUP(Worksheet!A21,MeasureCode_Lookup,6,FALSE),\"\")","v":""},null,null,{"$f":"IFERROR(IF(Worksheet!U21=0,Worksheet!T21/I3,Worksheet!U21/R3),0)","v":0},"W Controlled",null,null,{"$f":"IF(N(Worksheet!P21)=0,N(Worksheet!O21),N(Worksheet!P21))","v":0},{"$f":"IFERROR(Worksheet!R21/Worksheet!O21,0)","v":0},{"$f":"Worksheet!Z21","v":0},{"$f":"Worksheet!Y21","v":0},{"$f":"J3*8","v":0},{"$f":"IF(Worksheet!AG21=0,0,Worksheet!AG21/I3)","v":0},{"$f":"M3*8","v":0},null,null,null,{"$f":"IFERROR(Worksheet!S21/Worksheet!P21,0)","v":0},{"$f":"IF(Worksheet!E21=\"\",\"\",Worksheet!E21)","v":""},{"$f":"IF(Worksheet!B21=\"\",\"\",Worksheet!B21)","v":""},{"$f":"IF(Worksheet!D21=\"\",\"\",Worksheet!D21)","v":""}]
[{"$f":"IF(ISBLANK(Worksheet!F22)=FALSE,VLOOKUP(Worksheet!A22,MeasureCode_Lookup,6,FALSE),\"\")","v":""},null,null,{"$f":"IFERROR(IF(Worksheet!U22=0,Worksheet!T22/I4,Worksheet!U22/R4),0)","v":0},"W Controlled",null,null,{"$f":"IF(N(Worksheet!P22)=0,N(Worksheet!O22),N(Worksheet!P22))","v":0},{"$f":"IFERROR(Worksheet!R22/Worksheet!O22,0)","v":0},{"$f":"Worksheet!Z22","v":0},{"$f":"Worksheet!Y22","v":0},0,{"$f":"IF(Worksheet!AG22=0,0,Worksheet!AG22/I4)","v":0},0,null,null,null,{"$f":"IFERROR(Worksheet!S22/Worksheet!P22,0)","v":0},{"$f":"IF(Worksheet!E22=\"\",\"\",Worksheet!E22)","v":""},{"$f":"IF(Worksheet!B22=\"\",\"\",Worksheet!B22)","v":""},{"$f":"IF(Worksheet!D22=\"\",\"\",Worksheet!D22)","v":""}]
[{"$f":"IF(ISBLANK(Worksheet!F23)=FALSE,VLOOKUP(Worksheet!A23,MeasureCode_Lookup,6,FALSE),\"\")","v":""},null,null,{"$f":"IFERROR(IF(Worksheet!U23=0,Worksheet!T23/I5,Worksheet!U23/R5),0)","v":0},"W Controlled",null,null,{"$f":"IF(N(Worksheet!P23)=0,N(Worksheet!O23),N(Worksheet!P23))","v":0},{"$f":"IFERROR(Worksheet!R23/Worksheet!O23,0)","v":0},{"$f":"Worksheet!Z23","v":0},{"$f":"Worksheet!Y23","v":0},0,{"$f":"IF(Worksheet!AG23=0,0,Worksheet!AG23/I5)","v":0},0,null,null,null,{"$f":"IFERROR(Worksheet!S23/Worksheet!P23,0)","v":0},{"$f":"IF(Worksheet!E23=\"\",\"\",Worksheet!E23)","v":""},{"$f":"IF(Worksheet!B23=\"\",\"\",Worksheet!B23)","v":""},{"$f":"IF(Worksheet!D23=\"\",\"\",Worksheet!D23)","v":""}]
[{"$f":"IF(ISBLANK(Worksheet!F24)=FALSE,VLOOKUP(Worksheet!A24,MeasureCode_Lookup,6,FALSE),\"\")","v":""},null,null,{"$f":"IFERROR(IF(Worksheet!U24=0,Worksheet!T24/I6,Worksheet!U24/R6),0)","v":0},"W Controlled",null,null,{"$f":"IF(N(Worksheet!P24)=0,N(Worksheet!O24),N(Worksheet!P24))","v":0},{"$f":"IFERROR(Worksheet!R24/Worksheet!O24,0)","v":0},{"$f":"Worksheet!Z24","v":0},{"$f":"Worksheet!Y24","v":0},0,{"$f":"IF(Worksheet!AG24=0,0,Worksheet!AG24/I6)","v":0},0,null,null,null,{"$f":"IFERROR(Worksheet!S24/Worksheet!P24,0)","v":0},{"$f":"IF(Worksheet!E24=\"\",\"\",Worksheet!E24)","v":""},{"$f":"IF(Worksheet!B24=\"\",\"\",Worksheet!B24)","v":""},{"$f":"IF(Worksheet!D24=\"\",\"\",Worksheet!D24)","v":""}]
[{"$f":"IF(ISBLANK(Worksheet!F25)=FALSE,VLOOKUP(Worksheet!A25,MeasureCode_Lookup,6,FALSE),\"\")","v":""},null,null,{"$f":"IFERROR(IF(Worksheet!U25=0,Worksheet!T25/I7,Worksheet!U25/R7),0)","v":0},"W Controlled",null,null,{"$f":"IF(N(Worksheet!P25)=0,N(Worksheet!O25),N(Worksheet!P25))","v":0},{"$f":"IFERROR(Worksheet!R25/Worksheet!O25,0)","v":0},{"$f":"Worksheet!Z25","v":0},{"$f":"Worksheet!Y25","v":0},0,{"$f":"IF(Worksheet!AG25=0,0,Worksheet!AG25/I7)","v":0},0,null,null,null,{"$f":"IFERROR(Worksheet!S25/Worksheet!P25,0)","v":0},{"$f":"IF(Worksheet!E25=\"\",\"\",Worksheet!E25)","v":""},{"$f":"IF(Worksheet!B25=\"\",\"\",Worksheet!B25)","v":""},{"$f":"IF(Worksheet!D25=\"\",\"\",Worksheet!D25)","v":""}]
[{"$f":"IF(ISBLANK(Worksheet!F26)=FALSE,VLOOKUP(Worksheet!A26,MeasureCode_Lookup,6,FALSE),\"\")","v":""},null,null,{"$f":"IFERROR(IF(Worksheet!U26=0,Worksheet!T26/I8,Worksheet!U26/R8),0)","v":0},"W Controlled",null,null,{"$f":"IF(N(Worksheet!P26)=0,N(Worksheet!O26),N(Worksheet!P26))","v":0},{"$f":"IFERROR(Worksheet!R26/Worksheet!O26,0)","v":0},{"$f":"Worksheet!Z26","v":0},{"$f":"Worksheet!Y26","v":0},0,{"$f":"IF(Worksheet!AG26=0,0,Worksheet!AG26/I8)","v":0},0,null,null,null,{"$f":"IFERROR(Worksheet!S26/Worksheet!P26,0)","v":0},{"$f":"IF(Worksheet!E26=\"\",\"\",Worksheet!E26)","v":""},{"$f":"IF(Worksheet!B26=\"\",\"\",Worksheet!B26)","v":""},{"$f":"IF(Worksheet!D26=\"\",\"\",Worksheet!D26)","v":""}]
[{"$f":"IF(ISBLANK(Worksheet!F27)=FALSE,VLOOKUP(Worksheet!A27,MeasureCode_Lookup,6,FALSE),\"\")","v":""},null,null,{"$f":"IFERROR(IF(Worksheet!U27=0,Worksheet!T27/I9,Worksheet!U27/R9),0)","v":0},"W Controlled",null,null,{"$f":"IF(N(Worksheet!P27)=0,N(Worksheet!O27),N(Worksheet!P27))","v":0},{"$f":"IFERROR(Worksheet!R27/Worksheet!O27,0)","v":0},{"$f":"Worksheet!Z27","v":0},{"$f":"Worksheet!Y27","v":0},0,{"$f":"IF(Worksheet!AG27=0,0,Worksheet!AG27/I9)","v":0},0,null,null,null,{"$f":"IFERROR(Worksheet!S27/Worksheet!P27,0)","v":0},{"$f":"IF(Worksheet!E27=\"\",\"\",Worksheet!E27)","v":""},{"$f":"IF(Worksheet!B27=\"\",\"\",Worksheet!B27)","v":""},{"$f":"IF(Worksheet!D27=\"\",\"\",Worksheet!D27)","v":""}]
[{"$f":"IF(ISBLANK(Worksheet!F28)=FALSE,VLOOKUP(Worksheet!A28,MeasureCode_Lookup,6,FALSE),\"\")","v":""},null,null,{"$f":"IFERROR(IF(Worksheet!U28=0,Worksheet!T28/I10,Worksheet!U28/R10),0)","v":0},"W Controlled",null,null,{"$f":"IF(N(Worksheet!P28)=0,N(Worksheet!O28),N(Worksheet!P28))","v":0},{"$f":"IFERROR(Worksheet!R28/Worksheet!O28,0)","v":0},{"$f":"Worksheet!Z28","v":0},{"$f":"Worksheet!Y28","v":0},0,{"$f":"IF(Worksheet!AG28=0,0,Worksheet!AG28/I10)","v":0},0,null,null,null,{"$f":"IFERROR(Worksheet!S28/Worksheet!P28,0)","v":0},{"$f":"IF(Worksheet!E28=\"\",\"\",Worksheet!E28)","v":""},{"$f":"IF(Worksheet!B28=\"\",\"\",Worksheet!B28)","v":""},{"$f":"IF(Worksheet!D28=\"\",\"\",Worksheet!D28)","v":""}]
[{"$f":"IF(ISBLANK(Worksheet!F29)=FALSE,VLOOKUP(Worksheet!A29,MeasureCode_Lookup,6,FALSE),\"\")","v":""},null,null,{"$f":"IFERROR(IF(Worksheet!U29=0,Worksheet!T29/I11,Worksheet!U29/R11),0)","v":0},"W Controlled",null,null,{"$f":"IF(N(Worksheet!P29)=0,N(Worksheet!O29),N(Worksheet!P29))","v":0},{"$f":"IFERROR(Worksheet!R29/Worksheet!O29,0)","v":0},{"$f":"Worksheet!Z29","v":0},{"$f":"Worksheet!Y29","v":0},0,{"$f":"IF(Worksheet!AG29=0,0,Worksheet!AG29/I11)","v":0},0,null,null,null,{"$f":"IFERROR(Worksheet!S29/Worksheet!P29,0)","v":0},{"$f":"IF(Worksheet!E29=\"\",\"\",Worksheet!E29)","v":""},{"$f":"IF(Worksheet!B29=\"\",\"\",Worksheet!B29)","v":""},{"$f":"IF(Worksheet!D29=\"\",\"\",Worksheet!D29)","v":""}]
[{"$f":"IF(ISBLANK(Worksheet!F30)=FALSE,VLOOKUP(Worksheet!A30,MeasureCode_Lookup,6,FALSE),\"\")","v":""},null,null,{"$f":"IFERROR(IF(Worksheet!U30=0,Worksheet!T30/I12,Worksheet!U30/R12),0)","v":0},"W Controlled",null,null,{"$f":"IF(N(Worksheet!P30)=0,N(Worksheet!O30),N(Worksheet!P30))","v":0},{"$f":"IFERROR(Worksheet!R30/Worksheet!O30,0)","v":0},{"$f":"Worksheet!Z30","v":0},{"$f":"Worksheet!Y30","v":0},0,{"$f":"IF(Worksheet!AG30=0,0,Worksheet!AG30/I12)","v":0},0,null,null,null,{"$f":"IFERROR(Worksheet!S30/Worksheet!P30,0)","v":0},{"$f":"IF(Worksheet!E30=\"\",\"\",Worksheet!E30)","v":""},{"$f":"IF(Worksheet!B30=\"\",\"\",Worksheet!B30)","v":""},{"$f":"IF(Worksheet!D30=\"\",\"\",Worksheet!D30)","v":""}]
[{"$f":"IF(ISBLANK(Worksheet!F31)=FALSE,VLOOKUP(Worksheet!A31,MeasureCode_Lookup,6,FALSE),\"\")","v":""},null,null,{"$f":"IFERROR(IF(Worksheet!U31=0,Worksheet!T31/I13,Worksheet!U31/R13),0)","v":0},"W Controlled",null,null,{"$f":"IF(N(Worksheet!P31)=0,N(Worksheet!O31),N(Worksheet!P31))","v":0},{"$f":"IFERROR(Worksheet!R31/Worksheet!O31,0)","v":0},{"$f":"Worksheet!Z31","v":0},{"$f":"Worksheet!Y31","v":0},0,{"$f":"IF(Worksheet!AG31=0,0,Worksheet!AG31/I13)","v":0},0,null,null,null,{"$f":"IFERROR(Worksheet!S31/Worksheet!P31,0)","v":0},{"$f":"IF(Worksheet!E31=\"\",\"\",Worksheet!E31)","v":""},{"$f":"IF(Worksheet!B31=\"\",\"\",Worksheet!B31)","v":""},{"$f":"IF(Worksheet!D31=\"\",\"\",Worksheet!D31)","v":""}]
[{"$f":"IF(ISBLANK(Worksheet!F32)=FALSE,VLOOKUP(Worksheet!A32,MeasureCode_Lookup,6,FALSE),\"\")","v":""},null,null,{"$f":"IFERROR(IF(Worksheet!U32=0,Worksheet!T32/I14,Worksheet!U32/R14),0)","v":0},"W Controlled",null,null,{"$f":"IF(N(Worksheet!P32)=0,N(Worksheet!O32),N(Worksheet!P32))","v":0},{"$f":"IFERROR(Worksheet!R32/Worksheet!O32,0)","v":0},{"$f":"Worksheet!Z32","v":0},{"$f":"Worksheet!Y32","v":0},0,{"$f":"IF(Worksheet!AG32=0,0,Worksheet!AG32/I14)","v":0},0,null,null,null,{"$f":"IFERROR(Worksheet!S32/Worksheet!P32,0)","v":0},{"$f":"IF(Worksheet!E32=\"\",\"\",Worksheet!E32)","v":""},{"$f":"IF(Worksheet!B32=\"\",\"\",Worksheet!B32)","v":""},{"$f":"IF(Worksheet!D32=\"\",\"\",Worksheet!D32)","v":""}]
[{"$f":"IF(ISBLANK(Worksheet!F33)=FALSE,VLOOKUP(Worksheet!A33,MeasureCode_Lookup,6,FALSE),\"\")","v":""},null,null,{"$f":"IFERROR(IF(Worksheet!U33=0,Worksheet!T33/I15,Worksheet!U33/R15),0)","v":0},"W Controlled",null,null,{"$f":"IF(N(Worksheet!P33)=0,N(Worksheet!O33),N(Worksheet!P33))","v":0},{"$f":"IFERROR(Worksheet!R33/Worksheet!O33,0)","v":0},{"$f":"Worksheet!Z33","v":0},{"$f":"Worksheet!Y33","v":0},0,{"$f":"IF(Worksheet!AG33=0,0,Worksheet!AG33/I15)","v":0},0,null,null,null,{"$f":"IFERROR(Worksheet!S33/Worksheet!P33,0)","v":0},{"$f":"IF(Worksheet!E33=\"\",\"\",Worksheet!E33)","v":""},{"$f":"IF(Worksheet!B33=\"\",\"\",Worksheet!B33)","v":""},{"$f":"IF(Worksheet!D33=\"\",\"\",Worksheet!D33)","v":""}]
[{"$f":"IF(ISBLANK(Worksheet!F34)=FALSE,VLOOKUP(Worksheet!A34,MeasureCode_Lookup,6,FALSE),\"\")","v":""},null,null,{"$f":"IFERROR(IF(Worksheet!U34=0,Worksheet!T34/I16,Worksheet!U34/R16),0)","v":0},"W Controlled",null,null,{"$f":"IF(N(Worksheet!P34)=0,N(Worksheet!O34),N(Worksheet!P34))","v":0},{"$f":"IFERROR(Worksheet!R34/Worksheet!O34,0)","v":0},{"$f":"Worksheet!Z34","v":0},{"$f":"Worksheet!Y34","v":0},0,{"$f":"IF(Worksheet!AG34=0,0,Worksheet!AG34/I16)","v":0},0,null,null,null,{"$f":"IFERROR(Worksheet!S34/Worksheet!P34,0)","v":0},{"$f":"IF(Worksheet!E34=\"\",\"\",Worksheet!E34)","v":""},{"$f":"IF(Worksheet!B34=\"\",\"\",Worksheet!B34)","v":""},{"$f":"IF(Worksheet!D34=\"\",\"\",Worksheet!D34)","v":""}]
[{"$f":"IF(ISBLANK(Worksheet!F35)=FALSE,VLOOKUP(Worksheet!A35,MeasureCode_Lookup,6,FALSE),\"\")","v":""},null,null,{"$f":"IFERROR(IF(Worksheet!U35=0,Worksheet!T35/I17,Worksheet!U35/R17),0)","v":0},"W Controlled",null,null,{"$f":"IF(N(Worksheet!P35)=0,N(Worksheet!O35),N(Worksheet!P35))","v":0},{"$f":"IFERROR(Worksheet!R35/Worksheet!O35,0)","v":0},{"$f":"Worksheet!Z35","v":0},{"$f":"Worksheet!Y35","v":0},0,{"$f":"IF(Worksheet!AG35=0,0,Worksheet!AG35/I17)","v":0},0,null,null,null,{"$f":"IFERROR(Worksheet!S35/Worksheet!P35,0)","v":0},{"$f":"IF(Worksheet!E35=\"\",\"\",Worksheet!E35)","v":""},{"$f":"IF(Worksheet!B35=\"\",\"\",Worksheet!B35)","v":""},{"$f":"IF(Worksheet!D35=\"\",\"\",Worksheet!D35)","v":""}]
[{"$f":"IF(ISBLANK(Worksheet!F36)=FALSE,VLOOKUP(Worksheet!A36,MeasureCode_Lookup,6,FALSE),\"\")","v":""},null,null,{"$f":"IFERROR(IF(Worksheet!U36=0,Worksheet!T36/I18,Worksheet!U36/R18),0)","v":0},"W Controlled",null,null,{"$f":"IF(N(Worksheet!P36)=0,N(Worksheet!O36),N(Worksheet!P36))","v":0},{"$f":"IFERROR(Worksheet!R36/Worksheet!O36,0)","v":0},{"$f":"Worksheet!Z36","v":0},{"$f":"Worksheet!Y36","v":0},0,{"$f":"IF(Worksheet!AG36=0,0,Worksheet!AG36/I18)","v":0},0,null,null,null,{"$f":"IFERROR(Worksheet!S36/Worksheet!P36,0)","v":0},{"$f":"IF(Worksheet!E36=\"\",\"\",Worksheet!E36)","v":""},{"$f":"IF(Worksheet!B36=\"\",\"\",Worksheet!B36)","v":""},{"$f":"IF(Worksheet!D36=\"\",\"\",Worksheet!D36)","v":""}]
[{"$f":"IF(ISBLANK(Worksheet!F37)=FALSE,VLOOKUP(Worksheet!A37,MeasureCode_Lookup,6,FALSE),\"\")","v":""},null,null,{"$f":"IFERROR(IF(Worksheet!U37=0,Worksheet!T37/I19,Worksheet!U37/R19),0)","v":0},"W Controlled",null,null,{"$f":"IF(N(Worksheet!P37)=0,N(Worksheet!O37),N(Worksheet!P37))","v":0},{"$f":"IFERROR(Worksheet!R37/Worksheet!O37,0)","v":0},{"$f":"Worksheet!Z37","v":0},{"$f":"Worksheet!Y37","v":0},0,{"$f":"IF(Worksheet!AG37=0,0,Worksheet!AG37/I19)","v":0},0,null,null,null,{"$f":"IFERROR(Worksheet!S37/Worksheet!P37,0)","v":0},{"$f":"IF(Worksheet!E37=\"\",\"\",Worksheet!E37)","v":""},{"$f":"IF(Worksheet!B37=\"\",\"\",Worksheet!B37)","v":""},{"$f":"IF(Worksheet!D37=\"\",\"\",Worksheet!D37)","v":""}]
[{"$f":"IF(ISBLANK(Worksheet!F38)=FALSE,VLOOKUP(Worksheet!A38,MeasureCode_Lookup,6,FALSE),\"\")","v":""},null,null,{"$f":"IFERROR(IF(Worksheet!U38=0,Worksheet!T38/I20,Worksheet!U38/R20),0)","v":0},"W Controlled",null,null,{"$f":"IF(N(Worksheet!P38)=0,N(Worksheet!O38),N(Worksheet!P38))","v":0},{"$f":"IFERROR(Worksheet!R38/Worksheet!O38,0)","v":0},{"$f":"Worksheet!Z38","v":0},{"$f":"Worksheet!Y38","v":0},0,{"$f":"IF(Worksheet!AG38=0,0,Worksheet!AG38/I20)","v":0},0,null,null,null,{"$f":"IFERROR(Worksheet!S38/Worksheet!P38,0)","v":0},{"$f":"IF(Worksheet!E38=\"\",\"\",Worksheet!E38)","v":""},{"$f":"IF(Worksheet!B38=\"\",\"\",Worksheet!B38)","v":""},{"$f":"IF(Worksheet!D38=\"\",\"\",Worksheet!D38)","v":""}]
[{"$f":"IF(ISBLANK(Worksheet!F39)=FALSE,VLOOKUP(Worksheet!A39,MeasureCode_Lookup,6,FALSE),\"\")","v":""},null,null,{"$f":"IFERROR(IF(Worksheet!U39=0,Worksheet!T39/I21,Worksheet!U39/R21),0)","v":0},"W Controlled",null,null,{"$f":"IF(N(Worksheet!P39)=0,N(Worksheet!O39),N(Worksheet!P39))","v":0},{"$f":"IFERROR(Worksheet!R39/Worksheet!O39,0)","v":0},{"$f":"Worksheet!Z39","v":0},{"$f":"Worksheet!Y39","v":0},0,{"$f":"IF(Worksheet!AG39=0,0,Worksheet!AG39/I21)","v":0},0,null,null,null,{"$f":"IFERROR(Worksheet!S39/Worksheet!P39,0)","v":0},{"$f":"IF(Worksheet!E39=\"\",\"\",Worksheet!E39)","v":""},{"$f":"IF(Worksheet!B39=\"\",\"\",Worksheet!B39)","v":""},{"$f":"IF(Worksheet!D39=\"\",\"\",Worksheet!D39)","v":""}]
[{"$f":"IF(ISBLANK(Worksheet!F40)=FALSE,VLOOKUP(Worksheet!A40,MeasureCode_Lookup,6,FALSE),\"\")","v":""},null,null,{"$f":"IFERROR(IF(Worksheet!U40=0,Worksheet!T40/I22,Worksheet!U40/R22),0)","v":0},"W Controlled",null,null,{"$f":"IF(N(Worksheet!P40)=0,N(Worksheet!O40),N(Worksheet!P40))","v":0},{"$f":"IFERROR(Worksheet!R40/Worksheet!O40,0)","v":0},{"$f":"Worksheet!Z40","v":0},{"$f":"Worksheet!Y40","v":0},0,{"$f":"IF(Worksheet!AG40=0,0,Worksheet!AG40/I22)","v":0},0,null,null,null,{"$f":"IFERROR(Worksheet!S40/Worksheet!P40,0)","v":0},{"$f":"IF(Worksheet!E40=\"\",\"\",Worksheet!E40)","v":""},{"$f":"IF(Worksheet!B40=\"\",\"\",Worksheet!B40)","v":""},{"$f":"IF(Worksheet!D40=\"\",\"\",Worksheet!D40)","v":""}]
[{"$f":"IF(ISBLANK(Worksheet!F41)=FALSE,VLOOKUP(Worksheet!A41,MeasureCode_Lookup,6,FALSE),\"\")","v":""},null,null,{"$f":"IFERROR(IF(Worksheet!U41=0,Worksheet!T41/I23,Worksheet!U41/R23),0)","v":0},"W Controlled",null,null,{"$f":"IF(N(Worksheet!P41)=0,N(Worksheet!O41),N(Worksheet!P41))","v":0},{"$f":"IFERROR(Worksheet!R41/Worksheet!O41,0)","v":0},{"$f":"Worksheet!Z41","v":0},{"$f":"Worksheet!Y41","v":0},0,{"$f":"IF(Worksheet!AG41=0,0,Worksheet!AG41/I23)","v":0},0,null,null,null,{"$f":"IFERROR(Worksheet!S41/Worksheet!P41,0)","v":0},{"$f":"IF(Worksheet!E41=\"\",\"\",Worksheet!E41)","v":""},{"$f":"IF(Worksheet!B41=\"\",\"\",Worksheet!B41)","v":""},{"$f":"IF(Worksheet!D41=\"\",\"\",Worksheet!D41)","v":""}]
[{"$f":"IF(ISBLANK(Worksheet!F42)=FALSE,VLOOKUP(Worksheet!A42,MeasureCode_Lookup,6,FALSE),\"\")","v":""},null,null,{"$f":"IFERROR(IF(Worksheet!U42=0,Worksheet!T42/I24,Worksheet!U42/R24),0)","v":0},"W Controlled",null,null,{"$f":"IF(N(Worksheet!P42)=0,N(Worksheet!O42),N(Worksheet!P42))","v":0},{"$f":"IFERROR(Worksheet!R42/Worksheet!O42,0)","v":0},{"$f":"Worksheet!Z42","v":0},{"$f":"Worksheet!Y42","v":0},0,{"$f":"IF(Worksheet!AG42=0,0,Worksheet!AG42/I24)","v":0},0,null,null,null,{"$f":"IFERROR(Worksheet!S42/Worksheet!P42,0)","v":0},{"$f":"IF(Worksheet!E42=\"\",\"\",Worksheet!E42)","v":""},{"$f":"IF(Worksheet!B42=\"\",\"\",Worksheet!B42)","v":""},{"$f":"IF(Worksheet!D42=\"\",\"\",Worksheet!D42)","v":""}]
[{"$f":"IF(ISBLANK(Worksheet!F43)=FALSE,VLOOKUP(Worksheet!A43,MeasureCode_Lookup,6,FALSE),\"\")","v":""},null,null,{"$f":"IFERROR(IF(Worksheet!U43=0,Worksheet!T43/I25,Worksheet!U43/R25),0)","v":0},"W Controlled",null,null,{"$f":"IF(N(Worksheet!P43)=0,N(Worksheet!O43),N(Worksheet!P43))","v":0},{"$f":"IFERROR(Worksheet!R43/Worksheet!O43,0)","v":0},{"$f":"Worksheet!Z43","v":0},{"$f":"Worksheet!Y43","v":0},0,{"$f":"IF(Worksheet!AG43=0,0,Worksheet!AG43/I25)","v":0},0,null,null,null,{"$f":"IFERROR(Worksheet!S43/Worksheet!P43,0)","v":0},{"$f":"IF(Worksheet!E43=\"\",\"\",Worksheet!E43)","v":""},{"$f":"IF(Worksheet!B43=\"\",\"\",Worksheet!B43)","v":""},{"$f":"IF(Worksheet!D43=\"\",\"\",Worksheet!D43)","v":""}]
[{"$f":"IF(ISBLANK(Worksheet!F44)=FALSE,VLOOKUP(Worksheet!A44,MeasureCode_Lookup,6,FALSE),\"\")","v":""},null,null,{"$f":"IFERROR(IF(Worksheet!U44=0,Worksheet!T44/I26,Worksheet!U44/R26),0)","v":0},"W Controlled",null,null,{"$f":"IF(N(Worksheet!P44)=0,N(Worksheet!O44),N(Worksheet!P44))","v":0},{"$f":"IFERROR(Worksheet!R44/Worksheet!O44,0)","v":0},{"$f":"Worksheet!Z44","v":0},{"$f":"Worksheet!Y44","v":0},0,{"$f":"IF(Worksheet!AG44=0,0,Worksheet!AG44/I26)","v":0},0,null,null,null,{"$f":"IFERROR(Worksheet!S44/Worksheet!P44,0)","v":0},{"$f":"IF(Worksheet!E44=\"\",\"\",Worksheet!E44)","v":""},{"$f":"IF(Worksheet!B44=\"\",\"\",Worksheet!B44)","v":""},{"$f":"IF(Worksheet!D44=\"\",\"\",Worksheet!D44)","v":""}]
[{"$f":"IF(ISBLANK(Worksheet!F45)=FALSE,VLOOKUP(Worksheet!A45,MeasureCode_Lookup,6,FALSE),\"\")","v":""},null,null,{"$f":"IFERROR(IF(Worksheet!U45=0,Worksheet!T45/I27,Worksheet!U45/R27),0)","v":0},"W Controlled",null,null,{"$f":"IF(N(Worksheet!P45)=0,N(Worksheet!O45),N(Worksheet!P45))","v":0},{"$f":"IFERROR(Worksheet!R45/Worksheet!O45,0)","v":0},{"$f":"Worksheet!Z45","v":0},{"$f":"Worksheet!Y45","v":0},0,{"$f":"IF(Worksheet!AG45=0,0,Worksheet!AG45/I27)","v":0},0,null,null,null,{"$f":"IFERROR(Worksheet!S45/Worksheet!P45,0)","v":0},{"$f":"IF(Worksheet!E45=\"\",\"\",Worksheet!E45)","v":""},{"$f":"IF(Worksheet!B45=\"\",\"\",Worksheet!B45)","v":""},{"$f":"IF(Worksheet!D45=\"\",\"\",Worksheet!D45)","v":""}]
[{"$f":"IF(ISBLANK(Worksheet!F46)=FALSE,VLOOKUP(Worksheet!A46,MeasureCode_Lookup,6,FALSE),\"\")","v":""},null,null,{"$f":"IFERROR(IF(Worksheet!U46=0,Worksheet!T46/I28,Worksheet!U46/R28),0)","v":0},"W Controlled",null,null,{"$f":"IF(N(Worksheet!P46)=0,N(Worksheet!O46),N(Worksheet!P46))","v":0},{"$f":"IFERROR(Worksheet!R46/Worksheet!O46,0)","v":0},{"$f":"Worksheet!Z46","v":0},{"$f":"Worksheet!Y46","v":0},0,{"$f":"IF(Worksheet!AG46=0,0,Worksheet!AG46/I28)","v":0},0,null,null,null,{"$f":"IFERROR(Worksheet!S46/Worksheet!P46,0)","v":0},{"$f":"IF(Worksheet!E46=\"\",\"\",Worksheet!E46)","v":""},{"$f":"IF(Worksheet!B46=\"\",\"\",Worksheet!B46)","v":""},{"$f":"IF(Worksheet!D46=\"\",\"\",Worksheet!D46)","v":""}]
[{"$f":"IF(ISBLANK(Worksheet!F47)=FALSE,VLOOKUP(Worksheet!A47,MeasureCode_Lookup,6,FALSE),\"\")","v":""},null,null,{"$f":"IFERROR(IF(Worksheet!U47=0,Worksheet!T47/I29,Worksheet!U47/R29),0)","v":0},"W Controlled",null,null,{"$f":"IF(N(Worksheet!P47)=0,N(Worksheet!O47),N(Worksheet!P47))","v":0},{"$f":"IFERROR(Worksheet!R47/Worksheet!O47,0)","v":0},{"$f":"Worksheet!Z47","v":0},{"$f":"Worksheet!Y47","v":0},0,{"$f":"IF(Worksheet!AG47=0,0,Worksheet!AG47/I29)","v":0},0,null,null,null,{"$f":"IFERROR(Worksheet!S47/Worksheet!P47,0)","v":0},{"$f":"IF(Worksheet!E47=\"\",\"\",Worksheet!E47)","v":""},{"$f":"IF(Worksheet!B47=\"\",\"\",Worksheet!B47)","v":""},{"$f":"IF(Worksheet!D47=\"\",\"\",Worksheet!D47)","v":""}]
[{"$f":"IF(ISBLANK(Worksheet!F48)=FALSE,VLOOKUP(Worksheet!A48,MeasureCode_Lookup,6,FALSE),\"\")","v":""},null,null,{"$f":"IFERROR(IF(Worksheet!U48=0,Worksheet!T48/I30,Worksheet!U48/R30),0)","v":0},"W Controlled",null,null,{"$f":"IF(N(Worksheet!P48)=0,N(Worksheet!O48),N(Worksheet!P48))","v":0},{"$f":"IFERROR(Worksheet!R48/Worksheet!O48,0)","v":0},{"$f":"Worksheet!Z48","v":0},{"$f":"Worksheet!Y48","v":0},0,{"$f":"IF(Worksheet!AG48=0,0,Worksheet!AG48/I30)","v":0},0,null,null,null,{"$f":"IFERROR(Worksheet!S48/Worksheet!P48,0)","v":0},{"$f":"IF(Worksheet!E48=\"\",\"\",Worksheet!E48)","v":""},{"$f":"IF(Worksheet!B48=\"\",\"\",Worksheet!B48)","v":""},{"$f":"IF(Worksheet!D48=\"\",\"\",Worksheet!D48)","v":""}]
[{"$f":"IF(ISBLANK(Worksheet!F49)=FALSE,VLOOKUP(Worksheet!A49,MeasureCode_Lookup,6,FALSE),\"\")","v":""},null,null,{"$f":"IFERROR(IF(Worksheet!U49=0,Worksheet!T49/I31,Worksheet!U49/R31),0)","v":0},"W Controlled",null,null,{"$f":"IF(N(Worksheet!P49)=0,N(Worksheet!O49),N(Worksheet!P49))","v":0},{"$f":"IFERROR(Worksheet!R49/Worksheet!O49,0)","v":0},{"$f":"Worksheet!Z49","v":0},{"$f":"Worksheet!Y49","v":0},0,{"$f":"IF(Worksheet!AG49=0,0,Worksheet!AG49/I31)","v":0},0,null,null,null,{"$f":"IFERROR(Worksheet!S49/Worksheet!P49,0)","v":0},{"$f":"IF(Worksheet!E49=\"\",\"\",Worksheet!E49)","v":""},{"$f":"IF(Worksheet!B49=\"\",\"\",Worksheet!B49)","v":""},{"$f":"IF(Worksheet!D49=\"\",\"\",Worksheet!D49)","v":""}]
[{"$f":"IF(ISBLANK(Worksheet!F50)=FALSE,VLOOKUP(Worksheet!A50,MeasureCode_Lookup,6,FALSE),\"\")","v":""},null,null,{"$f":"IFERROR(IF(Worksheet!U50=0,Worksheet!T50/I32,Worksheet!U50/R32),0)","v":0},"W Controlled",null,null,{"$f":"IF(N(Worksheet!P50)=0,N(Worksheet!O50),N(Worksheet!P50))","v":0},{"$f":"IFERROR(Worksheet!R50/Worksheet!O50,0)","v":0},{"$f":"Worksheet!Z50","v":0},{"$f":"Worksheet!Y50","v":0},0,{"$f":"IF(Worksheet!AG50=0,0,Worksheet!AG50/I32)","v":0},0,null,null,null,{"$f":"IFERROR(Worksheet!S50/Worksheet!P50,0)","v":0},{"$f":"IF(Worksheet!E50=\"\",\"\",Worksheet!E50)","v":""},{"$f":"IF(Worksheet!B50=\"\",\"\",Worksheet!B50)","v":""},{"$f":"IF(Worksheet!D50=\"\",\"\",Worksheet!D50)","v":""}]
[{"$f":"IF(ISBLANK(Worksheet!F51)=FALSE,VLOOKUP(Worksheet!A51,MeasureCode_Lookup,6,FALSE),\"\")","v":""},null,null,{"$f":"IFERROR(IF(Worksheet!U51=0,Worksheet!T51/I33,Worksheet!U51/R33),0)","v":0},"W Controlled",null,null,{"$f":"IF(N(Worksheet!P51)=0,N(Worksheet!O51),N(Worksheet!P51))","v":0},{"$f":"IFERROR(Worksheet!R51/Worksheet!O51,0)","v":0},{"$f":"Worksheet!Z51","v":0},{"$f":"Worksheet!Y51","v":0},0,{"$f":"IF(Worksheet!AG51=0,0,Worksheet!AG51/I33)","v":0},0,null,null,null,{"$f":"IFERROR(Worksheet!S51/Worksheet!P51,0)","v":0},{"$f":"IF(Worksheet!E51=\"\",\"\",Worksheet!E51)","v":""},{"$f":"IF(Worksheet!B51=\"\",\"\",Worksheet!B51)","v":""},{"$f":"IF(Worksheet!D51=\"\",\"\",Worksheet!D51)","v":""}]
[{"$f":"IF(ISBLANK(Worksheet!F52)=FALSE,VLOOKUP(Worksheet!A52,MeasureCode_Lookup,6,FALSE),\"\")","v":""},null,null,{"$f":"IFERROR(IF(Worksheet!U52=0,Worksheet!T52/I34,Worksheet!U52/R34),0)","v":0},"W Controlled",null,null,{"$f":"IF(N(Worksheet!P52)=0,N(Worksheet!O52),N(Worksheet!P52))","v":0},{"$f":"IFERROR(Worksheet!R52/Worksheet!O52,0)","v":0},{"$f":"Worksheet!Z52","v":0},{"$f":"Worksheet!Y52","v":0},0,{"$f":"IF(Worksheet!AG52=0,0,Worksheet!AG52/I34)","v":0},0,null,null,null,{"$f":"IFERROR(Worksheet!S52/Worksheet!P52,0)","v":0},{"$f":"IF(Worksheet!E52=\"\",\"\",Worksheet!E52)","v":""},{"$f":"IF(Worksheet!B52=\"\",\"\",Worksheet!B52)","v":""},{"$f":"IF(Worksheet!D52=\"\",\"\",Worksheet!D52)","v":""}]
[{"$f":"IF(ISBLANK(Worksheet!F53)=FALSE,VLOOKUP(Worksheet!A53,MeasureCode_Lookup,6,FALSE),\"\")","v":""},null,null,{"$f":"IFERROR(IF(Worksheet!U53=0,Worksheet!T53/I35,Worksheet!U53/R35),0)","v":0},"W Controlled",null,null,{"$f":"IF(N(Worksheet!P53)=0,N(Worksheet!O53),N(Worksheet!P53))","v":0},{"$f":"IFERROR(Worksheet!R53/Worksheet!O53,0)","v":0},{"$f":"Worksheet!Z53","v":0},{"$f":"Worksheet!Y53","v":0},0,{"$f":"IF(Worksheet!AG53=0,0,Worksheet!AG53/I35)","v":0},0,null,null,null,{"$f":"IFERROR(Worksheet!S53/Worksheet!P53,0)","v":0},{"$f":"IF(Worksheet!E53=\"\",\"\",Worksheet!E53)","v":""},{"$f":"IF(Worksheet!B53=\"\",\"\",Worksheet!B53)","v":""},{"$f":"IF(Worksheet!D53=\"\",\"\",Worksheet!D53)","v":""}]
[{"$f":"IF(ISBLANK(Worksheet!F54)=FALSE,VLOOKUP(Worksheet!A54,MeasureCode_Lookup,6,FALSE),\"\")","v":""},null,null,{"$f":"IFERROR(IF(Worksheet!U54=0,Worksheet!T54/I36,Worksheet!U54/R36),0)","v":0},"W Controlled",null,null,{"$f":"IF(N(Worksheet!P54)=0,N(Worksheet!O54),N(Worksheet!P54))","v":0},{"$f":"IFERROR(Worksheet!R54/Worksheet!O54,0)","v":0},{"$f":"Worksheet!Z54","v":0},{"$f":"Worksheet!Y54","v":0},0,{"$f":"IF(Worksheet!AG54=0,0,Worksheet!AG54/I36)","v":0},0,null,null,null,{"$f":"IFERROR(Worksheet!S54/Worksheet!P54,0)","v":0},{"$f":"IF(Worksheet!E54=\"\",\"\",Worksheet!E54)","v":""},{"$f":"IF(Worksheet!B54=\"\",\"\",Worksheet!B54)","v":""},{"$f":"IF(Worksheet!D54=\"\",\"\",Worksheet!D54)","v":""}]
[{"$f":"IF(ISBLANK(Worksheet!F55)=FALSE,VLOOKUP(Worksheet!A55,MeasureCode_Lookup,6,FALSE),\"\")","v":""},null,null,{"$f":"IFERROR(IF(Worksheet!U55=0,Worksheet!T55/I37,Worksheet!U55/R37),0)","v":0},"W Controlled",null,null,{"$f":"IF(N(Worksheet!P55)=0,N(Worksheet!O55),N(Worksheet!P55))","v":0},{"$f":"IFERROR(Worksheet!R55/Worksheet!O55,0)","v":0},{"$f":"Worksheet!Z55","v":0},{"$f":"Worksheet!Y55","v":0},0,{"$f":"IF(Worksheet!AG55=0,0,Worksheet!AG55/I37)","v":0},0,null,null,null,{"$f":"IFERROR(Worksheet!S55/Worksheet!P55,0)","v":0},{"$f":"IF(Worksheet!E55=\"\",\"\",Worksheet!E55)","v":""},{"$f":"IF(Worksheet!B55=\"\",\"\",Worksheet!B55)","v":""},{"$f":"IF(Worksheet!D55=\"\",\"\",Worksheet!D55)","v":""}]
[{"$f":"IF(ISBLANK(Worksheet!F56)=FALSE,VLOOKUP(Worksheet!A56,MeasureCode_Lookup,6,FALSE),\"\")","v":""},null,null,{"$f":"IFERROR(IF(Worksheet!U56=0,Worksheet!T56/I38,Worksheet!U56/R38),0)","v":0},"W Controlled",null,null,{"$f":"IF(N(Worksheet!P56)=0,N(Worksheet!O56),N(Worksheet!P56))","v":0},{"$f":"IFERROR(Worksheet!R56/Worksheet!O56,0)","v":0},{"$f":"Worksheet!Z56","v":0},{"$f":"Worksheet!Y56","v":0},0,{"$f":"IF(Worksheet!AG56=0,0,Worksheet!AG56/I38)","v":0},0,null,null,null,{"$f":"IFERROR(Worksheet!S56/Worksheet!P56,0)","v":0},{"$f":"IF(Worksheet!E56=\"\",\"\",Worksheet!E56)","v":""},{"$f":"IF(Worksheet!B56=\"\",\"\",Worksheet!B56)","v":""},{"$f":"IF(Worksheet!D56=\"\",\"\",Worksheet!D56)","v":""}]
[{"$f":"IF(ISBLANK(Worksheet!F57)=FALSE,VLOOKUP(Worksheet!A57,MeasureCode_Lookup,6,FALSE),\"\")","v":""},null,null,{"$f":"IFERROR(IF(Worksheet!U57=0,Worksheet!T57/I39,Worksheet!U57/R39),0)","v":0},"W Controlled",null,null,{"$f":"IF(N(Worksheet!P57)=0,N(Worksheet!O57),N(Worksheet!P57))","v":0},{"$f":"IFERROR(Worksheet!R57/Worksheet!O57,0)","v":0},{"$f":"Worksheet!Z57","v":0},{"$f":"Worksheet!Y57","v":0},0,{"$f":"IF(Worksheet!AG57=0,0,Worksheet!AG57/I39)","v":0},0,null,null,null,{"$f":"IFERROR(Worksheet!S57/Worksheet!P57,0)","v":0},{"$f":"IF(Worksheet!E57=\"\",\"\",Worksheet!E57)","v":""},{"$f":"IF(Worksheet!B57=\"\",\"\",Worksheet!B57)","v":""},{"$f":"IF(Worksheet!D57=\"\",\"\",Worksheet!D57)","v":""}]
[{"$f":"IF(ISBLANK(Worksheet!F58)=FALSE,VLOOKUP(Worksheet!A58,MeasureCode_Lookup,6,FALSE),\"\")","v":""},null,null,{"$f":"IFERROR(IF(Worksheet!U58=0,Worksheet!T58/I40,Worksheet!U58/R40),0)","v":0},"W Controlled",null,null,{"$f":"IF(N(Worksheet!P58)=0,N(Worksheet!O58),N(Worksheet!P58))","v":0},{"$f":"IFERROR(Worksheet!R58/Worksheet!O58,0)","v":0},{"$f":"Worksheet!Z58","v":0},{"$f":"Worksheet!Y58","v":0},0,{"$f":"IF(Worksheet!AG58=0,0,Worksheet!AG58/I40)","v":0},0,null,null,null,{"$f":"IFERROR(Worksheet!S58/Worksheet!P58,0)","v":0},{"$f":"IF(Worksheet!E58=\"\",\"\",Worksheet!E58)","v":""},{"$f":"IF(Worksheet!B58=\"\",\"\",Worksheet!B58)","v":""},{"$f":"IF(Worksheet!D58=\"\",\"\",Worksheet!D58)","v":""}]
[{"$f":"IF(ISBLANK(Worksheet!F59)=FALSE,VLOOKUP(Worksheet!A59,MeasureCode_Lookup,6,FALSE),\"\")","v":""},null,null,{"$f":"IFERROR(IF(Worksheet!U59=0,Worksheet!T59/I41,Worksheet!U59/R41),0)","v":0},"W Controlled",null,null,{"$f":"IF(N(Worksheet!P59)=0,N(Worksheet!O59),N(Worksheet!P59))","v":0},{"$f":"IFERROR(Worksheet!R59/Worksheet!O59,0)","v":0},{"$f":"Worksheet!Z59","v":0},{"$f":"Worksheet!Y59","v":0},0,{"$f":"IF(Worksheet!AG59=0,0,Worksheet!AG59/I41)","v":0},0,null,null,null,{"$f":"IFERROR(Worksheet!S59/Worksheet!P59,0)","v":0},{"$f":"IF(Worksheet!E59=\"\",\"\",Worksheet!E59)","v":""},{"$f":"IF(Worksheet!B59=\"\",\"\",Worksheet!B59)","v":""},{"$f":"IF(Worksheet!D59=\"\",\"\",Worksheet!D59)","v":""}]
[{"$f":"IF(ISBLANK(Worksheet!F60)=FALSE,VLOOKUP(Worksheet!A60,MeasureCode_Lookup,6,FALSE),\"\")","v":""},null,null,{"$f":"IFERROR(IF(Worksheet!U60=0,Worksheet!T60/I42,Worksheet!U60/R42),0)","v":0},"W Controlled",null,null,{"$f":"IF(N(Worksheet!P60)=0,N(Worksheet!O60),N(Worksheet!P60))","v":0},{"$f":"IFERROR(Worksheet!R60/Worksheet!O60,0)","v":0},{"$f":"Worksheet!Z60","v":0},{"$f":"Worksheet!Y60","v":0},0,{"$f":"IF(Worksheet!AG60=0,0,Worksheet!AG60/I42)","v":0},0,null,null,null,{"$f":"IFERROR(Worksheet!S60/Worksheet!P60,0)","v":0},{"$f":"IF(Worksheet!E60=\"\",\"\",Worksheet!E60)","v":""},{"$f":"IF(Worksheet!B60=\"\",\"\",Worksheet!B60)","v":""},{"$f":"IF(Worksheet!D60=\"\",\"\",Worksheet!D60)","v":""}]
[{"$f":"IF(ISBLANK(Worksheet!F61)=FALSE,VLOOKUP(Worksheet!A61,MeasureCode_Lookup,6,FALSE),\"\")","v":""},null,null,{"$f":"IFERROR(IF(Worksheet!U61=0,Worksheet!T61/I43,Worksheet!U61/R43),0)","v":0},"W Controlled",null,null,{"$f":"IF(N(Worksheet!P61)=0,N(Worksheet!O61),N(Worksheet!P61))","v":0},{"$f":"IFERROR(Worksheet!R61/Worksheet!O61,0)","v":0},{"$f":"Worksheet!Z61","v":0},{"$f":"Worksheet!Y61","v":0},0,{"$f":"IF(Worksheet!AG61=0,0,Worksheet!AG61/I43)","v":0},0,null,null,null,{"$f":"IFERROR(Worksheet!S61/Worksheet!P61,0)","v":0},{"$f":"IF(Worksheet!E61=\"\",\"\",Worksheet!E61)","v":""},{"$f":"IF(Worksheet!B61=\"\",\"\",Worksheet!B61)","v":""},{"$f":"IF(Worksheet!D61=\"\",\"\",Worksheet!D61)","v":""}]
[{"$f":"IF(ISBLANK(Worksheet!F62)=FALSE,VLOOKUP(Worksheet!A62,MeasureCode_Lookup,6,FALSE),\"\")","v":""},null,null,{"$f":"IFERROR(IF(Worksheet!U62=0,Worksheet!T62/I44,Worksheet!U62/R44),0)","v":0},"W Controlled",null,null,{"$f":"IF(N(Worksheet!P62)=0,N(Worksheet!O62),N(Worksheet!P62))","v":0},{"$f":"IFERROR(Worksheet!R62/Worksheet!O62,0)","v":0},{"$f":"Worksheet!Z62","v":0},{"$f":"Worksheet!Y62","v":0},0,{"$f":"IF(Worksheet!AG62=0,0,Worksheet!AG62/I44)","v":0},0,null,null,null,{"$f":"IFERROR(Worksheet!S62/Worksheet!P62,0)","v":0},{"$f":"IF(Worksheet!E62=\"\",\"\",Worksheet!E62)","v":""},{"$f":"IF(Worksheet!B62=\"\",\"\",Worksheet!B62)","v":""},{"$f":"IF(Worksheet!D62=\"\",\"\",Worksheet!D62)","v":""}]
[{"$f":"IF(ISBLANK(Worksheet!F63)=FALSE,VLOOKUP(Worksheet!A63,MeasureCode_Lookup,6,FALSE),\"\")","v":""},null,null,{"$f":"IFERROR(IF(Worksheet!U63=0,Worksheet!T63/I45,Worksheet!U63/R45),0)","v":0},"W Controlled",null,null,{"$f":"IF(N(Worksheet!P63)=0,N(Worksheet!O63),N(Worksheet!P63))","v":0},{"$f":"IFERROR(Worksheet!R63/Worksheet!O63,0)","v":0},{"$f":"Worksheet!Z63","v":0},{"$f":"Worksheet!Y63","v":0},0,{"$f":"IF(Worksheet!AG63=0,0,Worksheet!AG63/I45)","v":0},0,null,null,null,{"$f":"IFERROR(Worksheet!S63/Worksheet!P63,0)","v":0},{"$f":"IF(Worksheet!E63=\"\",\"\",Worksheet!E63)","v":""},{"$f":"IF(Worksheet!B63=\"\",\"\",Worksheet!B63)","v":""},{"$f":"IF(Worksheet!D63=\"\",\"\",Worksheet!D63)","v":""}]
[{"$f":"IF(ISBLANK(Worksheet!F64)=FALSE,VLOOKUP(Worksheet!A64,MeasureCode_Lookup,6,FALSE),\"\")","v":""},null,null,{"$f":"IFERROR(IF(Worksheet!U64=0,Worksheet!T64/I46,Worksheet!U64/R46),0)","v":0},"W Controlled",null,null,{"$f":"IF(N(Worksheet!P64)=0,N(Worksheet!O64),N(Worksheet!P64))","v":0},{"$f":"IFERROR(Worksheet!R64/Worksheet!O64,0)","v":0},{"$f":"Worksheet!Z64","v":0},{"$f":"Worksheet!Y64","v":0},0,{"$f":"IF(Worksheet!AG64=0,0,Worksheet!AG64/I46)","v":0},0,null,null,null,{"$f":"IFERROR(Worksheet!S64/Worksheet!P64,0)","v":0},{"$f":"IF(Worksheet!E64=\"\",\"\",Worksheet!E64)","v":""},{"$f":"IF(Worksheet!B64=\"\",\"\",Worksheet!B64)","v":""},{"$f":"IF(Worksheet!D64=\"\",\"\",Worksheet!D64)","v":""}]
[{"$f":"IF(ISBLANK(Worksheet!F65)=FALSE,VLOOKUP(Worksheet!A65,MeasureCode_Lookup,6,FALSE),\"\")","v":""},null,null,{"$f":"IFERROR(IF(Worksheet!U65=0,Worksheet!T65/I47,Worksheet!U65/R47),0)","v":0},"W Controlled",null,null,{"$f":"IF(N(Worksheet!P65)=0,N(Worksheet!O65),N(Worksheet!P65))","v":0},{"$f":"IFERROR(Worksheet!R65/Worksheet!O65,0)","v":0},{"$f":"Worksheet!Z65","v":0},{"$f":"Worksheet!Y65","v":0},0,{"$f":"IF(Worksheet!AG65=0,0,Worksheet!AG65/I47)","v":0},0,null,null,null,{"$f":"IFERROR(Worksheet!S65/Worksheet!P65,0)","v":0},{"$f":"IF(Worksheet!E65=\"\",\"\",Worksheet!E65)","v":""},{"$f":"IF(Worksheet!B65=\"\",\"\",Worksheet!B65)","v":""},{"$f":"IF(Worksheet!D65=\"\",\"\",Worksheet!D65)","v":""}]
[{"$f":"IF(ISBLANK(Worksheet!F66)=FALSE,VLOOKUP(Worksheet!A66,MeasureCode_Lookup,6,FALSE),\"\")","v":""},null,null,{"$f":"IFERROR(IF(Worksheet!U66=0,Worksheet!T66/I48,Worksheet!U66/R48),0)","v":0},"W Controlled",null,null,{"$f":"IF(N(Worksheet!P66)=0,N(Worksheet!O66),N(Worksheet!P66))","v":0},{"$f":"IFERROR(Worksheet!R66/Worksheet!O66,0)","v":0},{"$f":"Worksheet!Z66","v":0},{"$f":"Worksheet!Y66","v":0},0,{"$f":"IF(Worksheet!AG66=0,0,Worksheet!AG66/I48)","v":0},0,null,null,null,{"$f":"IFERROR(Worksheet!S66/Worksheet!P66,0)","v":0},{"$f":"IF(Worksheet!E66=\"\",\"\",Worksheet!E66)","v":""},{"$f":"IF(Worksheet!B66=\"\",\"\",Worksheet!B66)","v":""},{"$f":"IF(Worksheet!D66=\"\",\"\",Worksheet!D66)","v":""}]
[{"$f":"IF(ISBLANK(Worksheet!F67)=FALSE,VLOOKUP(Worksheet!A67,MeasureCode_Lookup,6,FALSE),\"\")","v":""},null,null,{"$f":"IFERROR(IF(Worksheet!U67=0,Worksheet!T67/I49,Worksheet!U67/R49),0)","v":0},"W Controlled",null,null,{"$f":"IF(N(Worksheet!P67)=0,N(Worksheet!O67),N(Worksheet!P67))","v":0},{"$f":"IFERROR(Worksheet!R67/Worksheet!O67,0)","v":0},{"$f":"Worksheet!Z67","v":0},{"$f":"Worksheet!Y67","v":0},0,{"$f":"IF(Worksheet!AG67=0,0,Worksheet!AG67/I49)","v":0},0,null,null,null,{"$f":"IFERROR(Worksheet!S67/Worksheet!P67,0)","v":0},{"$f":"IF(Worksheet!E67=\"\",\"\",Worksheet!E67)","v":""},{"$f":"IF(Worksheet!B67=\"\",\"\",Worksheet!B67)","v":""},{"$f":"IF(Worksheet!D67=\"\",\"\",Worksheet!D67)","v":""}]
[{"$f":"IF(ISBLANK(Worksheet!F68)=FALSE,VLOOKUP(Worksheet!A68,MeasureCode_Lookup,6,FALSE),\"\")","v":""},null,null,{"$f":"IFERROR(IF(Worksheet!U68=0,Worksheet!T68/I50,Worksheet!U68/R50),0)","v":0},"W Controlled",null,null,{"$f":"IF(N(Worksheet!P68)=0,N(Worksheet!O68),N(Worksheet!P68))","v":0},{"$f":"IFERROR(Worksheet!R68/Worksheet!O68,0)","v":0},{"$f":"Worksheet!Z68","v":0},{"$f":"Worksheet!Y68","v":0},0,{"$f":"IF(Worksheet!AG68=0,0,Worksheet!AG68/I50)","v":0},0,null,null,null,{"$f":"IFERROR(Worksheet!S68/Worksheet!P68,0)","v":0},{"$f":"IF(Worksheet!E68=\"\",\"\",Worksheet!E68)","v":""},{"$f":"IF(Worksheet!B68=\"\",\"\",Worksheet!B68)","v":""},{"$f":"IF(Worksheet!D68=\"\",\"\",Worksheet!D68)","v":""}]
[{"$f":"IF(ISBLANK(Worksheet!F69)=FALSE,VLOOKUP(Worksheet!A69,MeasureCode_Lookup,6,FALSE),\"\")","v":""},null,null,{"$f":"IFERROR(IF(Worksheet!U69=0,Worksheet!T69/I51,Worksheet!U69/R51),0)","v":0},"W Controlled",null,null,{"$f":"IF(N(Worksheet!P69)=0,N(Worksheet!O69),N(Worksheet!P69))","v":0},{"$f":"IFERROR(Worksheet!R69/Worksheet!O69,0)","v":0},{"$f":"Worksheet!Z69","v":0},{"$f":"Worksheet!Y69","v":0},0,{"$f":"IF(Worksheet!AG69=0,0,Worksheet!AG69/I51)","v":0},0,null,null,null,{"$f":"IFERROR(Worksheet!S69/Worksheet!P69,0)","v":0},{"$f":"IF(Worksheet!E69=\"\",\"\",Worksheet!E69)","v":""},{"$f":"IF(Worksheet!B69=\"\",\"\",Worksheet!B69)","v":""},{"$f":"IF(Worksheet!D69=\"\",\"\",Worksheet!D69)","v":""}]
[{"$f":"IF(ISBLANK(Worksheet!F70)=FALSE,VLOOKUP(Worksheet!A70,MeasureCode_Lookup,6,FALSE),\"\")","v":""},null,null,{"$f":"IFERROR(IF(Worksheet!U70=0,Worksheet!T70/I52,Worksheet!U70/R52),0)","v":0},"W Controlled",null,null,{"$f":"IF(N(Worksheet!P70)=0,N(Worksheet!O70),N(Worksheet!P70))","v":0},{"$f":"IFERROR(Worksheet!R70/Worksheet!O70,0)","v":0},{"$f":"Worksheet!Z70","v":0},{"$f":"Worksheet!Y70","v":0},0,{"$f":"IF(Worksheet!AG70=0,0,Worksheet!AG70/I52)","v":0},0,null,null,null,{"$f":"IFERROR(Worksheet!S70/Worksheet!P70,0)","v":0},{"$f":"IF(Worksheet!E70=\"\",\"\",Worksheet!E70)","v":""},{"$f":"IF(Worksheet!B70=\"\",\"\",Worksheet!B70)","v":""},{"$f":"IF(Worksheet!D70=\"\",\"\",Worksheet!D70)","v":""}]
[{"$f":"IF(ISBLANK(Worksheet!F71)=FALSE,VLOOKUP(Worksheet!A71,MeasureCode_Lookup,6,FALSE),\"\")","v":""},null,null,{"$f":"IFERROR(IF(Worksheet!U71=0,Worksheet!T71/I53,Worksheet!U71/R53),0)","v":0},"W Controlled",null,null,{"$f":"IF(N(Worksheet!P71)=0,N(Worksheet!O71),N(Worksheet!P71))","v":0},{"$f":"IFERROR(Worksheet!R71/Worksheet!O71,0)","v":0},{"$f":"Worksheet!Z71","v":0},{"$f":"Worksheet!Y71","v":0},0,{"$f":"IF(Worksheet!AG71=0,0,Worksheet!AG71/I53)","v":0},0,null,null,null,{"$f":"IFERROR(Worksheet!S71/Worksheet!P71,0)","v":0},{"$f":"IF(Worksheet!E71=\"\",\"\",Worksheet!E71)","v":""},{"$f":"IF(Worksheet!B71=\"\",\"\",Worksheet!B71)","v":""},{"$f":"IF(Worksheet!D71=\"\",\"\",Worksheet!D71)","v":""}]
[{"$f":"IF(ISBLANK(Worksheet!F72)=FALSE,VLOOKUP(Worksheet!A72,MeasureCode_Lookup,6,FALSE),\"\")","v":""},null,null,{"$f":"IFERROR(IF(Worksheet!U72=0,Worksheet!T72/I54,Worksheet!U72/R54),0)","v":0},"W Controlled",null,null,{"$f":"IF(N(Worksheet!P72)=0,N(Worksheet!O72),N(Worksheet!P72))","v":0},{"$f":"IFERROR(Worksheet!R72/Worksheet!O72,0)","v":0},{"$f":"Worksheet!Z72","v":0},{"$f":"Worksheet!Y72","v":0},0,{"$f":"IF(Worksheet!AG72=0,0,Worksheet!AG72/I54)","v":0},0,null,null,null,{"$f":"IFERROR(Worksheet!S72/Worksheet!P72,0)","v":0},{"$f":"IF(Worksheet!E72=\"\",\"\",Worksheet!E72)","v":""},{"$f":"IF(Worksheet!B72=\"\",\"\",Worksheet!B72)","v":""},{"$f":"IF(Worksheet!D72=\"\",\"\",Worksheet!D72)","v":""}]
[{"$f":"IF(ISBLANK(Worksheet!F73)=FALSE,VLOOKUP(Worksheet!A73,MeasureCode_Lookup,6,FALSE),\"\")","v":""},null,null,{"$f":"IFERROR(IF(Worksheet!U73=0,Worksheet!T73/I55,Worksheet!U73/R55),0)","v":0},"W Controlled",null,null,{"$f":"IF(N(Worksheet!P73)=0,N(Worksheet!O73),N(Worksheet!P73))","v":0},{"$f":"IFERROR(Worksheet!R73/Worksheet!O73,0)","v":0},{"$f":"Worksheet!Z73","v":0},{"$f":"Worksheet!Y73","v":0},0,{"$f":"IF(Worksheet!AG73=0,0,Worksheet!AG73/I55)","v":0},0,null,null,null,{"$f":"IFERROR(Worksheet!S73/Worksheet!P73,0)","v":0},{"$f":"IF(Worksheet!E73=\"\",\"\",Worksheet!E73)","v":""},{"$f":"IF(Worksheet!B73=\"\",\"\",Worksheet!B73)","v":""},{"$f":"IF(Worksheet!D73=\"\",\"\",Worksheet!D73)","v":""}]
[{"$f":"IF(ISBLANK(Worksheet!F74)=FALSE,VLOOKUP(Worksheet!A74,MeasureCode_Lookup,6,FALSE),\"\")","v":""},null,null,{"$f":"IFERROR(IF(Worksheet!U74=0,Worksheet!T74/I56,Worksheet!U74/R56),0)","v":0},"W Controlled",null,null,{"$f":"IF(N(Worksheet!P74)=0,N(Worksheet!O74),N(Worksheet!P74))","v":0},{"$f":"IFERROR(Worksheet!R74/Worksheet!O74,0)","v":0},{"$f":"Worksheet!Z74","v":0},{"$f":"Worksheet!Y74","v":0},0,{"$f":"IF(Worksheet!AG74=0,0,Worksheet!AG74/I56)","v":0},0,null,null,null,{"$f":"IFERROR(Worksheet!S74/Worksheet!P74,0)","v":0},{"$f":"IF(Worksheet!E74=\"\",\"\",Worksheet!E74)","v":""},{"$f":"IF(Worksheet!B74=\"\",\"\",Worksheet!B74)","v":""},{"$f":"IF(Worksheet!D74=\"\",\"\",Worksheet!D74)","v":""}]
[{"$f":"IF(ISBLANK(Worksheet!F75)=FALSE,VLOOKUP(Worksheet!A75,MeasureCode_Lookup,6,FALSE),\"\")","v":""},null,null,{"$f":"IFERROR(IF(Worksheet!U75=0,Worksheet!T75/I57,Worksheet!U75/R57),0)","v":0},"W Controlled",null,null,{"$f":"IF(N(Worksheet!P75)=0,N(Worksheet!O75),N(Worksheet!P75))","v":0},{"$f":"IFERROR(Worksheet!R75/Worksheet!O75,0)","v":0},{"$f":"Worksheet!Z75","v":0},{"$f":"Worksheet!Y75","v":0},0,{"$f":"IF(Worksheet!AG75=0,0,Worksheet!AG75/I57)","v":0},0,null,null,null,{"$f":"IFERROR(Worksheet!S75/Worksheet!P75,0)","v":0},{"$f":"IF(Worksheet!E75=\"\",\"\",Worksheet!E75)","v":""},{"$f":"IF(Worksheet!B75=\"\",\"\",Worksheet!B75)","v":""},{"$f":"IF(Worksheet!D75=\"\",\"\",Worksheet!D75)","v":""}]
[{"$f":"IF(ISBLANK(Worksheet!F76)=FALSE,VLOOKUP(Worksheet!A76,MeasureCode_Lookup,6,FALSE),\"\")","v":""},null,null,{"$f":"IFERROR(IF(Worksheet!U76=0,Worksheet!T76/I58,Worksheet!U76/R58),0)","v":0},"W Controlled",null,null,{"$f":"IF(N(Worksheet!P76)=0,N(Worksheet!O76),N(Worksheet!P76))","v":0},{"$f":"IFERROR(Worksheet!R76/Worksheet!O76,0)","v":0},{"$f":"Worksheet!Z76","v":0},{"$f":"Worksheet!Y76","v":0},0,{"$f":"IF(Worksheet!AG76=0,0,Worksheet!AG76/I58)","v":0},0,null,null,null,{"$f":"IFERROR(Worksheet!S76/Worksheet!P76,0)","v":0},{"$f":"IF(Worksheet!E76=\"\",\"\",Worksheet!E76)","v":""},{"$f":"IF(Worksheet!B76=\"\",\"\",Worksheet!B76)","v":""},{"$f":"IF(Worksheet!D76=\"\",\"\",Worksheet!D76)","v":""}]
[{"$f":"IF(ISBLANK(Worksheet!F77)=FALSE,VLOOKUP(Worksheet!A77,MeasureCode_Lookup,6,FALSE),\"\")","v":""},null,null,{"$f":"IFERROR(IF(Worksheet!U77=0,Worksheet!T77/I59,Worksheet!U77/R59),0)","v":0},"W Controlled",null,null,{"$f":"IF(N(Worksheet!P77)=0,N(Worksheet!O77),N(Worksheet!P77))","v":0},{"$f":"IFERROR(Worksheet!R77/Worksheet!O77,0)","v":0},{"$f":"Worksheet!Z77","v":0},{"$f":"Worksheet!Y77","v":0},0,{"$f":"IF(Worksheet!AG77=0,0,Worksheet!AG77/I59)","v":0},0,null,null,null,{"$f":"IFERROR(Worksheet!S77/Worksheet!P77,0)","v":0},{"$f":"IF(Worksheet!E77=\"\",\"\",Worksheet!E77)","v":""},{"$f":"IF(Worksheet!B77=\"\",\"\",Worksheet!B77)","v":""},{"$f":"IF(Worksheet!D77=\"\",\"\",Worksheet!D77)","v":""}]
[{"$f":"IF(ISBLANK(Worksheet!F78)=FALSE,VLOOKUP(Worksheet!A78,MeasureCode_Lookup,6,FALSE),\"\")","v":""},null,null,{"$f":"IFERROR(IF(Worksheet!U78=0,Worksheet!T78/I60,Worksheet!U78/R60),0)","v":0},"W Controlled",null,null,{"$f":"IF(N(Worksheet!P78)=0,N(Worksheet!O78),N(Worksheet!P78))","v":0},{"$f":"IFERROR(Worksheet!R78/Worksheet!O78,0)","v":0},{"$f":"Worksheet!Z78","v":0},{"$f":"Worksheet!Y78","v":0},0,{"$f":"IF(Worksheet!AG78=0,0,Worksheet!AG78/I60)","v":0},0,null,null,null,{"$f":"IFERROR(Worksheet!S78/Worksheet!P78,0)","v":0},{"$f":"IF(Worksheet!E78=\"\",\"\",Worksheet!E78)","v":""},{"$f":"IF(Worksheet!B78=\"\",\"\",Worksheet!B78)","v":""},{"$f":"IF(Worksheet!D78=\"\",\"\",Worksheet!D78)","v":""}]
[{"$f":"IF(ISBLANK(Worksheet!F79)=FALSE,VLOOKUP(Worksheet!A79,MeasureCode_Lookup,6,FALSE),\"\")","v":""},null,null,{"$f":"IFERROR(IF(Worksheet!U79=0,Worksheet!T79/I61,Worksheet!U79/R61),0)","v":0},"W Controlled",null,null,{"$f":"IF(N(Worksheet!P79)=0,N(Worksheet!O79),N(Worksheet!P79))","v":0},{"$f":"IFERROR(Worksheet!R79/Worksheet!O79,0)","v":0},{"$f":"Worksheet!Z79","v":0},{"$f":"Worksheet!Y79","v":0},0,{"$f":"IF(Worksheet!AG79=0,0,Worksheet!AG79/I61)","v":0},0,null,null,null,{"$f":"IFERROR(Worksheet!S79/Worksheet!P79,0)","v":0},{"$f":"IF(Worksheet!E79=\"\",\"\",Worksheet!E79)","v":""},{"$f":"IF(Worksheet!B79=\"\",\"\",Worksheet!B79)","v":""},{"$f":"IF(Worksheet!D79=\"\",\"\",Worksheet!D79)","v":""}]
[{"$f":"IF(ISBLANK(Worksheet!F80)=FALSE,VLOOKUP(Worksheet!A80,MeasureCode_Lookup,6,FALSE),\"\")","v":""},null,null,{"$f":"IFERROR(IF(Worksheet!U80=0,Worksheet!T80/I62,Worksheet!U80/R62),0)","v":0},"W Controlled",null,null,{"$f":"IF(N(Worksheet!P80)=0,N(Worksheet!O80),N(Worksheet!P80))","v":0},{"$f":"IFERROR(Worksheet!R80/Worksheet!O80,0)","v":0},{"$f":"Worksheet!Z80","v":0},{"$f":"Worksheet!Y80","v":0},0,{"$f":"IF(Worksheet!AG80=0,0,Worksheet!AG80/I62)","v":0},0,null,null,null,{"$f":"IFERROR(Worksheet!S80/Worksheet!P80,0)","v":0},{"$f":"IF(Worksheet!E80=\"\",\"\",Worksheet!E80)","v":""},{"$f":"IF(Worksheet!B80=\"\",\"\",Worksheet!B80)","v":""},{"$f":"IF(Worksheet!D80=\"\",\"\",Worksheet!D80)","v":""}]
[{"$f":"IF(ISBLANK(Worksheet!F81)=FALSE,VLOOKUP(Worksheet!A81,MeasureCode_Lookup,6,FALSE),\"\")","v":""},null,null,{"$f":"IFERROR(IF(Worksheet!U81=0,Worksheet!T81/I63,Worksheet!U81/R63),0)","v":0},"W Controlled",null,null,{"$f":"IF(N(Worksheet!P81)=0,N(Worksheet!O81),N(Worksheet!P81))","v":0},{"$f":"IFERROR(Worksheet!R81/Worksheet!O81,0)","v":0},{"$f":"Worksheet!Z81","v":0},{"$f":"Worksheet!Y81","v":0},0,{"$f":"IF(Worksheet!AG81=0,0,Worksheet!AG81/I63)","v":0},0,null,null,null,{"$f":"IFERROR(Worksheet!S81/Worksheet!P81,0)","v":0},{"$f":"IF(Worksheet!E81=\"\",\"\",Worksheet!E81)","v":""},{"$f":"IF(Worksheet!B81=\"\",\"\",Worksheet!B81)","v":""},{"$f":"IF(Worksheet!D81=\"\",\"\",Worksheet!D81)","v":""}]
[{"$f":"IF(ISBLANK(Worksheet!F82)=FALSE,VLOOKUP(Worksheet!A82,MeasureCode_Lookup,6,FALSE),\"\")","v":""},null,null,{"$f":"IFERROR(IF(Worksheet!U82=0,Worksheet!T82/I64,Worksheet!U82/R64),0)","v":0},"W Controlled",null,null,{"$f":"IF(N(Worksheet!P82)=0,N(Worksheet!O82),N(Worksheet!P82))","v":0},{"$f":"IFERROR(Worksheet!R82/Worksheet!O82,0)","v":0},{"$f":"Worksheet!Z82","v":0},{"$f":"Worksheet!Y82","v":0},0,{"$f":"IF(Worksheet!AG82=0,0,Worksheet!AG82/I64)","v":0},0,null,null,null,{"$f":"IFERROR(Worksheet!S82/Worksheet!P82,0)","v":0},{"$f":"IF(Worksheet!E82=\"\",\"\",Worksheet!E82)","v":""},{"$f":"IF(Worksheet!B82=\"\",\"\",Worksheet!B82)","v":""},{"$f":"IF(Worksheet!D82=\"\",\"\",Worksheet!D82)","v":""}]
[{"$f":"IF(ISBLANK(Worksheet!F83)=FALSE,VLOOKUP(Worksheet!A83,MeasureCode_Lookup,6,FALSE),\"\")","v":""},null,null,{"$f":"IFERROR(IF(Worksheet!U83=0,Worksheet!T83/I65,Worksheet!U83/R65),0)","v":0},"W Controlled",null,null,{"$f":"IF(N(Worksheet!P83)=0,N(Worksheet!O83),N(Worksheet!P83))","v":0},{"$f":"IFERROR(Worksheet!R83/Worksheet!O83,0)","v":0},{"$f":"Worksheet!Z83","v":0},{"$f":"Worksheet!Y83","v":0},0,{"$f":"IF(Worksheet!AG83=0,0,Worksheet!AG83/I65)","v":0},0,null,null,null,{"$f":"IFERROR(Worksheet!S83/Worksheet!P83,0)","v":0},{"$f":"IF(Worksheet!E83=\"\",\"\",Worksheet!E83)","v":""},{"$f":"IF(Worksheet!B83=\"\",\"\",Worksheet!B83)","v":""},{"$f":"IF(Worksheet!D83=\"\",\"\",Worksheet!D83)","v":""}]
[{"$f":"IF(ISBLANK(Worksheet!F84)=FALSE,VLOOKUP(Worksheet!A84,MeasureCode_Lookup,6,FALSE),\"\")","v":""},null,null,{"$f":"IFERROR(IF(Worksheet!U84=0,Worksheet!T84/I66,Worksheet!U84/R66),0)","v":0},"W Controlled",null,null,{"$f":"IF(N(Worksheet!P84)=0,N(Worksheet!O84),N(Worksheet!P84))","v":0},{"$f":"IFERROR(Worksheet!R84/Worksheet!O84,0)","v":0},{"$f":"Worksheet!Z84","v":0},{"$f":"Worksheet!Y84","v":0},0,{"$f":"IF(Worksheet!AG84=0,0,Worksheet!AG84/I66)","v":0},0,null,null,null,{"$f":"IFERROR(Worksheet!S84/Worksheet!P84,0)","v":0},{"$f":"IF(Worksheet!E84=\"\",\"\",Worksheet!E84)","v":""},{"$f":"IF(Worksheet!B84=\"\",\"\",Worksheet!B84)","v":""},{"$f":"IF(Worksheet!D84=\"\",\"\",Worksheet!D84)","v":""}]
[{"$f":"IF(ISBLANK(Worksheet!F85)=FALSE,VLOOKUP(Worksheet!A85,MeasureCode_Lookup,6,FALSE),\"\")","v":""},null,null,{"$f":"IFERROR(IF(Worksheet!U85=0,Worksheet!T85/I67,Worksheet!U85/R67),0)","v":0},"W Controlled",null,null,{"$f":"IF(N(Worksheet!P85)=0,N(Worksheet!O85),N(Worksheet!P85))","v":0},{"$f":"IFERROR(Worksheet!R85/Worksheet!O85,0)","v":0},{"$f":"Worksheet!Z85","v":0},{"$f":"Worksheet!Y85","v":0},{"$f":"J67*8","v":0},{"$f":"IF(Worksheet!AG85=0,0,Worksheet!AG85/I67)","v":0},{"$f":"M67*8","v":0},null,null,null,{"$f":"IFERROR(Worksheet!S85/Worksheet!P85,0)","v":0},{"$f":"IF(Worksheet!E85=\"\",\"\",Worksheet!E85)","v":""},{"$f":"IF(Worksheet!B85=\"\",\"\",Worksheet!B85)","v":""},{"$f":"IF(Worksheet!D85=\"\",\"\",Worksheet!D85)","v":""}]
[{"$f":"IF(ISBLANK(Worksheet!F86)=FALSE,VLOOKUP(Worksheet!A86,MeasureCode_Lookup,6,FALSE),\"\")","v":""},null,null,{"$f":"IFERROR(IF(Worksheet!U86=0,Worksheet!T86/I68,Worksheet!U86/R68),0)","v":0},"W Controlled",null,null,{"$f":"IF(N(Worksheet!P86)=0,N(Worksheet!O86),N(Worksheet!P86))","v":0},{"$f":"IFERROR(Worksheet!R86/Worksheet!O86,0)","v":0},{"$f":"Worksheet!Z86","v":0},{"$f":"Worksheet!Y86","v":0},0,{"$f":"IF(Worksheet!AG86=0,0,Worksheet!AG86/I68)","v":0},0,null,null,null,{"$f":"IFERROR(Worksheet!S86/Worksheet!P86,0)","v":0},{"$f":"IF(Worksheet!E86=\"\",\"\",Worksheet!E86)","v":""},{"$f":"IF(Worksheet!B86=\"\",\"\",Worksheet!B86)","v":""},{"$f":"IF(Worksheet!D86=\"\",\"\",Worksheet!D86)","v":""}]
[{"$f":"IF(ISBLANK(Worksheet!F87)=FALSE,VLOOKUP(Worksheet!A87,MeasureCode_Lookup,6,FALSE),\"\")","v":""},null,null,{"$f":"IFERROR(IF(Worksheet!U87=0,Worksheet!T87/I69,Worksheet!U87/R69),0)","v":0},"W Controlled",null,null,{"$f":"IF(N(Worksheet!P87)=0,N(Worksheet!O87),N(Worksheet!P87))","v":0},{"$f":"IFERROR(Worksheet!R87/Worksheet!O87,0)","v":0},{"$f":"Worksheet!Z87","v":0},{"$f":"Worksheet!Y87","v":0},0,{"$f":"IF(Worksheet!AG87=0,0,Worksheet!AG87/I69)","v":0},0,null,null,null,{"$f":"IFERROR(Worksheet!S87/Worksheet!P87,0)","v":0},{"$f":"IF(Worksheet!E87=\"\",\"\",Worksheet!E87)","v":""},{"$f":"IF(Worksheet!B87=\"\",\"\",Worksheet!B87)","v":""},{"$f":"IF(Worksheet!D87=\"\",\"\",Worksheet!D87)","v":""}]
[{"$f":"IF(ISBLANK(Worksheet!F88)=FALSE,VLOOKUP(Worksheet!A88,MeasureCode_Lookup,6,FALSE),\"\")","v":""},null,null,{"$f":"IFERROR(IF(Worksheet!U88=0,Worksheet!T88/I70,Worksheet!U88/R70),0)","v":0},"W Controlled",null,null,{"$f":"IF(N(Worksheet!P88)=0,N(Worksheet!O88),N(Worksheet!P88))","v":0},{"$f":"IFERROR(Worksheet!R88/Worksheet!O88,0)","v":0},{"$f":"Worksheet!Z88","v":0},{"$f":"Worksheet!Y88","v":0},0,{"$f":"IF(Worksheet!AG88=0,0,Worksheet!AG88/I70)","v":0},0,null,null,null,{"$f":"IFERROR(Worksheet!S88/Worksheet!P88,0)","v":0},{"$f":"IF(Worksheet!E88=\"\",\"\",Worksheet!E88)","v":""},{"$f":"IF(Worksheet!B88=\"\",\"\",Worksheet!B88)","v":""},{"$f":"IF(Worksheet!D88=\"\",\"\",Worksheet!D88)","v":""}]
[{"$f":"IF(ISBLANK(Worksheet!F89)=FALSE,VLOOKUP(Worksheet!A89,MeasureCode_Lookup,6,FALSE),\"\")","v":""},null,null,{"$f":"IFERROR(IF(Worksheet!U89=0,Worksheet!T89/I71,Worksheet!U89/R71),0)","v":0},"W Controlled",null,null,{"$f":"IF(N(Worksheet!P89)=0,N(Worksheet!O89),N(Worksheet!P89))","v":0},{"$f":"IFERROR(Worksheet!R89/Worksheet!O89,0)","v":0},{"$f":"Worksheet!Z89","v":0},{"$f":"Worksheet!Y89","v":0},0,{"$f":"IF(Worksheet!AG89=0,0,Worksheet!AG89/I71)","v":0},0,null,null,null,{"$f":"IFERROR(Worksheet!S89/Worksheet!P89,0)","v":0},{"$f":"IF(Worksheet!E89=\"\",\"\",Worksheet!E89)","v":""},{"$f":"IF(Worksheet!B89=\"\",\"\",Worksheet!B89)","v":""},{"$f":"IF(Worksheet!D89=\"\",\"\",Worksheet!D89)","v":""}]
[{"$f":"IF(ISBLANK(Worksheet!F90)=FALSE,VLOOKUP(Worksheet!A90,MeasureCode_Lookup,6,FALSE),\"\")","v":""},null,null,{"$f":"IFERROR(IF(Worksheet!U90=0,Worksheet!T90/I72,Worksheet!U90/R72),0)","v":0},"W Controlled",null,null,{"$f":"IF(N(Worksheet!P90)=0,N(Worksheet!O90),N(Worksheet!P90))","v":0},{"$f":"IFERROR(Worksheet!R90/Worksheet!O90,0)","v":0},{"$f":"Worksheet!Z90","v":0},{"$f":"Worksheet!Y90","v":0},0,{"$f":"IF(Worksheet!AG90=0,0,Worksheet!AG90/I72)","v":0},0,null,null,null,{"$f":"IFERROR(Worksheet!S90/Worksheet!P90,0)","v":0},{"$f":"IF(Worksheet!E90=\"\",\"\",Worksheet!E90)","v":""},{"$f":"IF(Worksheet!B90=\"\",\"\",Worksheet!B90)","v":""},{"$f":"IF(Worksheet!D90=\"\",\"\",Worksheet!D90)","v":""}]
[{"$f":"IF(ISBLANK(Worksheet!F91)=FALSE,VLOOKUP(Worksheet!A91,MeasureCode_Lookup,6,FALSE),\"\")","v":""},null,null,{"$f":"IFERROR(IF(Worksheet!U91=0,Worksheet!T91/I73,Worksheet!U91/R73),0)","v":0},"W Controlled",null,null,{"$f":"IF(N(Worksheet!P91)=0,N(Worksheet!O91),N(Worksheet!P91))","v":0},{"$f":"IFERROR(Worksheet!R91/Worksheet!O91,0)","v":0},{"$f":"Worksheet!Z91","v":0},{"$f":"Worksheet!Y91","v":0},0,{"$f":"IF(Worksheet!AG91=0,0,Worksheet!AG91/I73)","v":0},0,null,null,null,{"$f":"IFERROR(Worksheet!S91/Worksheet!P91,0)","v":0},{"$f":"IF(Worksheet!E91=\"\",\"\",Worksheet!E91)","v":""},{"$f":"IF(Worksheet!B91=\"\",\"\",Worksheet!B91)","v":""},{"$f":"IF(Worksheet!D91=\"\",\"\",Worksheet!D91)","v":""}]
[{"$f":"IF(ISBLANK(Worksheet!F92)=FALSE,VLOOKUP(Worksheet!A92,MeasureCode_Lookup,6,FALSE),\"\")","v":""},null,null,{"$f":"IFERROR(IF(Worksheet!U92=0,Worksheet!T92/I74,Worksheet!U92/R74),0)","v":0},"W Controlled",null,null,{"$f":"IF(N(Worksheet!P92)=0,N(Worksheet!O92),N(Worksheet!P92))","v":0},{"$f":"IFERROR(Worksheet!R92/Worksheet!O92,0)","v":0},{"$f":"Worksheet!Z92","v":0},{"$f":"Worksheet!Y92","v":0},0,{"$f":"IF(Worksheet!AG92=0,0,Worksheet!AG92/I74)","v":0},0,null,null,null,{"$f":"IFERROR(Worksheet!S92/Worksheet!P92,0)","v":0},{"$f":"IF(Worksheet!E92=\"\",\"\",Worksheet!E92)","v":""},{"$f":"IF(Worksheet!B92=\"\",\"\",Worksheet!B92)","v":""},{"$f":"IF(Worksheet!D92=\"\",\"\",Worksheet!D92)","v":""}]
[{"$f":"IF(ISBLANK(Worksheet!F93)=FALSE,VLOOKUP(Worksheet!A93,MeasureCode_Lookup,6,FALSE),\"\")","v":""},null,null,{"$f":"IFERROR(IF(Worksheet!U93=0,Worksheet!T93/I75,Worksheet!U93/R75),0)","v":0},"W Controlled",null,null,{"$f":"IF(N(Worksheet!P93)=0,N(Worksheet!O93),N(Worksheet!P93))","v":0},{"$f":"IFERROR(Worksheet!R93/Worksheet!O93,0)","v":0},{"$f":"Worksheet!Z93","v":0},{"$f":"Worksheet!Y93","v":0},0,{"$f":"IF(Worksheet!AG93=0,0,Worksheet!AG93/I75)","v":0},0,null,null,null,{"$f":"IFERROR(Worksheet!S93/Worksheet!P93,0)","v":0},{"$f":"IF(Worksheet!E93=\"\",\"\",Worksheet!E93)","v":""},{"$f":"IF(Worksheet!B93=\"\",\"\",Worksheet!B93)","v":""},{"$f":"IF(Worksheet!D93=\"\",\"\",Worksheet!D93)","v":""}]
[{"$f":"IF(ISBLANK(Worksheet!F94)=FALSE,VLOOKUP(Worksheet!A94,MeasureCode_Lookup,6,FALSE),\"\")","v":""},null,null,{"$f":"IFERROR(IF(Worksheet!U94=0,Worksheet!T94/I76,Worksheet!U94/R76),0)","v":0},"W Controlled",null,null,{"$f":"IF(N(Worksheet!P94)=0,N(Worksheet!O94),N(Worksheet!P94))","v":0},{"$f":"IFERROR(Worksheet!R94/Worksheet!O94,0)","v":0},{"$f":"Worksheet!Z94","v":0},{"$f":"Worksheet!Y94","v":0},0,{"$f":"IF(Worksheet!AG94=0,0,Worksheet!AG94/I76)","v":0},0,null,null,null,{"$f":"IFERROR(Worksheet!S94/Worksheet!P94,0)","v":0},{"$f":"IF(Worksheet!E94=\"\",\"\",Worksheet!E94)","v":""},{"$f":"IF(Worksheet!B94=\"\",\"\",Worksheet!B94)","v":""},{"$f":"IF(Worksheet!D94=\"\",\"\",Worksheet!D94)","v":""}]
[{"$f":"IF(ISBLANK(Worksheet!F95)=FALSE,VLOOKUP(Worksheet!A95,MeasureCode_Lookup,6,FALSE),\"\")","v":""},null,null,{"$f":"IFERROR(IF(Worksheet!U95=0,Worksheet!T95/I77,Worksheet!U95/R77),0)","v":0},"W Controlled",null,null,{"$f":"IF(N(Worksheet!P95)=0,N(Worksheet!O95),N(Worksheet!P95))","v":0},{"$f":"IFERROR(Worksheet!R95/Worksheet!O95,0)","v":0},{"$f":"Worksheet!Z95","v":0},{"$f":"Worksheet!Y95","v":0},0,{"$f":"IF(Worksheet!AG95=0,0,Worksheet!AG95/I77)","v":0},0,null,null,null,{"$f":"IFERROR(Worksheet!S95/Worksheet!P95,0)","v":0},{"$f":"IF(Worksheet!E95=\"\",\"\",Worksheet!E95)","v":""},{"$f":"IF(Worksheet!B95=\"\",\"\",Worksheet!B95)","v":""},{"$f":"IF(Worksheet!D95=\"\",\"\",Worksheet!D95)","v":""}]
[{"$f":"IF(ISBLANK(Worksheet!F96)=FALSE,VLOOKUP(Worksheet!A96,MeasureCode_Lookup,6,FALSE),\"\")","v":""},null,null,{"$f":"IFERROR(IF(Worksheet!U96=0,Worksheet!T96/I78,Worksheet!U96/R78),0)","v":0},"W Controlled",null,null,{"$f":"IF(N(Worksheet!P96)=0,N(Worksheet!O96),N(Worksheet!P96))","v":0},{"$f":"IFERROR(Worksheet!R96/Worksheet!O96,0)","v":0},{"$f":"Worksheet!Z96","v":0},{"$f":"Worksheet!Y96","v":0},0,{"$f":"IF(Worksheet!AG96=0,0,Worksheet!AG96/I78)","v":0},0,null,null,null,{"$f":"IFERROR(Worksheet!S96/Worksheet!P96,0)","v":0},{"$f":"IF(Worksheet!E96=\"\",\"\",Worksheet!E96)","v":""},{"$f":"IF(Worksheet!B96=\"\",\"\",Worksheet!B96)","v":""},{"$f":"IF(Worksheet!D96=\"\",\"\",Worksheet!D96)","v":""}]
[{"$f":"IF(ISBLANK(Worksheet!F97)=FALSE,VLOOKUP(Worksheet!A97,MeasureCode_Lookup,6,FALSE),\"\")","v":""},null,null,{"$f":"IFERROR(IF(Worksheet!U97=0,Worksheet!T97/I79,Worksheet!U97/R79),0)","v":0},"W Controlled",null,null,{"$f":"IF(N(Worksheet!P97)=0,N(Worksheet!O97),N(Worksheet!P97))","v":0},{"$f":"IFERROR(Worksheet!R97/Worksheet!O97,0)","v":0},{"$f":"Worksheet!Z97","v":0},{"$f":"Worksheet!Y97","v":0},0,{"$f":"IF(Worksheet!AG97=0,0,Worksheet!AG97/I79)","v":0},0,null,null,null,{"$f":"IFERROR(Worksheet!S97/Worksheet!P97,0)","v":0},{"$f":"IF(Worksheet!E97=\"\",\"\",Worksheet!E97)","v":""},{"$f":"IF(Worksheet!B97=\"\",\"\",Worksheet!B97)","v":""},{"$f":"IF(Worksheet!D97=\"\",\"\",Worksheet!D97)","v":""}]
[{"$f":"IF(ISBLANK(Worksheet!F98)=FALSE,VLOOKUP(Worksheet!A98,MeasureCode_Lookup,6,FALSE),\"\")","v":""},null,null,{"$f":"IFERROR(IF(Worksheet!U98=0,Worksheet!T98/I80,Worksheet!U98/R80),0)","v":0},"W Controlled",null,null,{"$f":"IF(N(Worksheet!P98)=0,N(Worksheet!O98),N(Worksheet!P98))","v":0},{"$f":"IFERROR(Worksheet!R98/Worksheet!O98,0)","v":0},{"$f":"Worksheet!Z98","v":0},{"$f":"Worksheet!Y98","v":0},0,{"$f":"IF(Worksheet!AG98=0,0,Worksheet!AG98/I80)","v":0},0,null,null,null,{"$f":"IFERROR(Worksheet!S98/Worksheet!P98,0)","v":0},{"$f":"IF(Worksheet!E98=\"\",\"\",Worksheet!E98)","v":""},{"$f":"IF(Worksheet!B98=\"\",\"\",Worksheet!B98)","v":""},{"$f":"IF(Worksheet!D98=\"\",\"\",Worksheet!D98)","v":""}]
[{"$f":"IF(ISBLANK(Worksheet!F99)=FALSE,VLOOKUP(Worksheet!A99,MeasureCode_Lookup,6,FALSE),\"\")","v":""},null,null,{"$f":"IFERROR(IF(Worksheet!U99=0,Worksheet!T99/I81,Worksheet!U99/R81),0)","v":0},"W Controlled",null,null,{"$f":"IF(N(Worksheet!P99)=0,N(Worksheet!O99),N(Worksheet!P99))","v":0},{"$f":"IFERROR(Worksheet!R99/Worksheet!O99,0)","v":0},{"$f":"Worksheet!Z99","v":0},{"$f":"Worksheet!Y99","v":0},0,{"$f":"IF(Worksheet!AG99=0,0,Worksheet!AG99/I81)","v":0},0,null,null,null,{"$f":"IFERROR(Worksheet!S99/Worksheet!P99,0)","v":0},{"$f":"IF(Worksheet!E99=\"\",\"\",Worksheet!E99)","v":""},{"$f":"IF(Worksheet!B99=\"\",\"\",Worksheet!B99)","v":""},{"$f":"IF(Worksheet!D99=\"\",\"\",Worksheet!D99)","v":""}]
[{"$f":"IF(ISBLANK(Worksheet!F100)=FALSE,VLOOKUP(Worksheet!A100,MeasureCode_Lookup,6,FALSE),\"\")","v":""},null,null,{"$f":"IFERROR(IF(Worksheet!U100=0,Worksheet!T100/I82,Worksheet!U100/R82),0)","v":0},"W Controlled",null,null,{"$f":"IF(N(Worksheet!P100)=0,N(Worksheet!O100),N(Worksheet!P100))","v":0},{"$f":"IFERROR(Worksheet!R100/Worksheet!O100,0)","v":0},{"$f":"Worksheet!Z100","v":0},{"$f":"Worksheet!Y100","v":0},0,{"$f":"IF(Worksheet!AG100=0,0,Worksheet!AG100/I82)","v":0},0,null,null,null,{"$f":"IFERROR(Worksheet!S100/Worksheet!P100,0)","v":0},{"$f":"IF(Worksheet!E100=\"\",\"\",Worksheet!E100)","v":""},{"$f":"IF(Worksheet!B100=\"\",\"\",Worksheet!B100)","v":""},{"$f":"IF(Worksheet!D100=\"\",\"\",Worksheet!D100)","v":""}]
[{"$f":"IF(ISBLANK(Worksheet!F101)=FALSE,VLOOKUP(Worksheet!A101,MeasureCode_Lookup,6,FALSE),\"\")","v":""},null,null,{"$f":"IFERROR(IF(Worksheet!U101=0,Worksheet!T101/I83,Worksheet!U101/R83),0)","v":0},"W Controlled",null,null,{"$f":"IF(N(Worksheet!P101)=0,N(Worksheet!O101),N(Worksheet!P101))","v":0},{"$f":"IFERROR(Worksheet!R101/Worksheet!O101,0)","v":0},{"$f":"Worksheet!Z101","v":0},{"$f":"Worksheet!Y101","v":0},0,{"$f":"IF(Worksheet!AG101=0,0,Worksheet!AG101/I83)","v":0},0,null,null,null,{"$f":"IFERROR(Worksheet!S101/Worksheet!P101,0)","v":0},{"$f":"IF(Worksheet!E101=\"\",\"\",Worksheet!E101)","v":""},{"$f":"IF(Worksheet!B101=\"\",\"\",Worksheet!B101)","v":""},{"$f":"IF(Worksheet!D101=\"\",\"\",Worksheet!D101)","v":""}]
[{"$f":"IF(ISBLANK(Worksheet!F102)=FALSE,VLOOKUP(Worksheet!A102,MeasureCode_Lookup,6,FALSE),\"\")","v":""},null,null,{"$f":"IFERROR(IF(Worksheet!U102=0,Worksheet!T102/I84,Worksheet!U102/R84),0)","v":0},"W Controlled",null,null,{"$f":"IF(N(Worksheet!P102)=0,N(Worksheet!O102),N(Worksheet!P102))","v":0},{"$f":"IFERROR(Worksheet!R102/Worksheet!O102,0)","v":0},{"$f":"Worksheet!Z102","v":0},{"$f":"Worksheet!Y102","v":0},0,{"$f":"IF(Worksheet!AG102=0,0,Worksheet!AG102/I84)","v":0},0,null,null,null,{"$f":"IFERROR(Worksheet!S102/Worksheet!P102,0)","v":0},{"$f":"IF(Worksheet!E102=\"\",\"\",Worksheet!E102)","v":""},{"$f":"IF(Worksheet!B102=\"\",\"\",Worksheet!B102)","v":""},{"$f":"IF(Worksheet!D102=\"\",\"\",Worksheet!D102)","v":""}]
[{"$f":"IF(ISBLANK(Worksheet!F103)=FALSE,VLOOKUP(Worksheet!A103,MeasureCode_Lookup,6,FALSE),\"\")","v":""},null,null,{"$f":"IFERROR(IF(Worksheet!U103=0,Worksheet!T103/I85,Worksheet!U103/R85),0)","v":0},"W Controlled",null,null,{"$f":"IF(N(Worksheet!P103)=0,N(Worksheet!O103),N(Worksheet!P103))","v":0},{"$f":"IFERROR(Worksheet!R103/Worksheet!O103,0)","v":0},{"$f":"Worksheet!Z103","v":0},{"$f":"Worksheet!Y103","v":0},0,{"$f":"IF(Worksheet!AG103=0,0,Worksheet!AG103/I85)","v":0},0,null,null,null,{"$f":"IFERROR(Worksheet!S103/Worksheet!P103,0)","v":0},{"$f":"IF(Worksheet!E103=\"\",\"\",Worksheet!E103)","v":""},{"$f":"IF(Worksheet!B103=\"\",\"\",Worksheet!B103)","v":""},{"$f":"IF(Worksheet!D103=\"\",\"\",Worksheet!D103)","v":""}]
[{"$f":"IF(ISBLANK(Worksheet!F104)=FALSE,VLOOKUP(Worksheet!A104,MeasureCode_Lookup,6,FALSE),\"\")","v":""},null,null,{"$f":"IFERROR(IF(Worksheet!U104=0,Worksheet!T104/I86,Worksheet!U104/R86),0)","v":0},"W Controlled",null,null,{"$f":"IF(N(Worksheet!P104)=0,N(Worksheet!O104),N(Worksheet!P104))","v":0},{"$f":"IFERROR(Worksheet!R104/Worksheet!O104,0)","v":0},{"$f":"Worksheet!Z104","v":0},{"$f":"Worksheet!Y104","v":0},0,{"$f":"IF(Worksheet!AG104=0,0,Worksheet!AG104/I86)","v":0},0,null,null,null,{"$f":"IFERROR(Worksheet!S104/Worksheet!P104,0)","v":0},{"$f":"IF(Worksheet!E104=\"\",\"\",Worksheet!E104)","v":""},{"$f":"IF(Worksheet!B104=\"\",\"\",Worksheet!B104)","v":""},{"$f":"IF(Worksheet!D104=\"\",\"\",Worksheet!D104)","v":""}]
[{"$f":"IF(ISBLANK(Worksheet!F105)=FALSE,VLOOKUP(Worksheet!A105,MeasureCode_Lookup,6,FALSE),\"\")","v":""},null,null,{"$f":"IFERROR(IF(Worksheet!U105=0,Worksheet!T105/I87,Worksheet!U105/R87),0)","v":0},"W Controlled",null,null,{"$f":"IF(N(Worksheet!P105)=0,N(Worksheet!O105),N(Worksheet!P105))","v":0},{"$f":"IFERROR(Worksheet!R105/Worksheet!O105,0)","v":0},{"$f":"Worksheet!Z105","v":0},{"$f":"Worksheet!Y105","v":0},0,{"$f":"IF(Worksheet!AG105=0,0,Worksheet!AG105/I87)","v":0},0,null,null,null,{"$f":"IFERROR(Worksheet!S105/Worksheet!P105,0)","v":0},{"$f":"IF(Worksheet!E105=\"\",\"\",Worksheet!E105)","v":""},{"$f":"IF(Worksheet!B105=\"\",\"\",Worksheet!B105)","v":""},{"$f":"IF(Worksheet!D105=\"\",\"\",Worksheet!D105)","v":""}]
[{"$f":"IF(ISBLANK(Worksheet!F106)=FALSE,VLOOKUP(Worksheet!A106,MeasureCode_Lookup,6,FALSE),\"\")","v":""},null,null,{"$f":"IFERROR(IF(Worksheet!U106=0,Worksheet!T106/I88,Worksheet!U106/R88),0)","v":0},"W Controlled",null,null,{"$f":"IF(N(Worksheet!P106)=0,N(Worksheet!O106),N(Worksheet!P106))","v":0},{"$f":"IFERROR(Worksheet!R106/Worksheet!O106,0)","v":0},{"$f":"Worksheet!Z106","v":0},{"$f":"Worksheet!Y106","v":0},0,{"$f":"IF(Worksheet!AG106=0,0,Worksheet!AG106/I88)","v":0},0,null,null,null,{"$f":"IFERROR(Worksheet!S106/Worksheet!P106,0)","v":0},{"$f":"IF(Worksheet!E106=\"\",\"\",Worksheet!E106)","v":""},{"$f":"IF(Worksheet!B106=\"\",\"\",Worksheet!B106)","v":""},{"$f":"IF(Worksheet!D106=\"\",\"\",Worksheet!D106)","v":""}]
[{"$f":"IF(ISBLANK(Worksheet!F107)=FALSE,VLOOKUP(Worksheet!A107,MeasureCode_Lookup,6,FALSE),\"\")","v":""},null,null,{"$f":"IFERROR(IF(Worksheet!U107=0,Worksheet!T107/I89,Worksheet!U107/R89),0)","v":0},"W Controlled",null,null,{"$f":"IF(N(Worksheet!P107)=0,N(Worksheet!O107),N(Worksheet!P107))","v":0},{"$f":"IFERROR(Worksheet!R107/Worksheet!O107,0)","v":0},{"$f":"Worksheet!Z107","v":0},{"$f":"Worksheet!Y107","v":0},0,{"$f":"IF(Worksheet!AG107=0,0,Worksheet!AG107/I89)","v":0},0,null,null,null,{"$f":"IFERROR(Worksheet!S107/Worksheet!P107,0)","v":0},{"$f":"IF(Worksheet!E107=\"\",\"\",Worksheet!E107)","v":""},{"$f":"IF(Worksheet!B107=\"\",\"\",Worksheet!B107)","v":""},{"$f":"IF(Worksheet!D107=\"\",\"\",Worksheet!D107)","v":""}]
[{"$f":"IF(ISBLANK(Worksheet!F108)=FALSE,VLOOKUP(Worksheet!A108,MeasureCode_Lookup,6,FALSE),\"\")","v":""},null,null,{"$f":"IFERROR(IF(Worksheet!U108=0,Worksheet!T108/I90,Worksheet!U108/R90),0)","v":0},"W Controlled",null,null,{"$f":"IF(N(Worksheet!P108)=0,N(Worksheet!O108),N(Worksheet!P108))","v":0},{"$f":"IFERROR(Worksheet!R108/Worksheet!O108,0)","v":0},{"$f":"Worksheet!Z108","v":0},{"$f":"Worksheet!Y108","v":0},0,{"$f":"IF(Worksheet!AG108=0,0,Worksheet!AG108/I90)","v":0},0,null,null,null,{"$f":"IFERROR(Worksheet!S108/Worksheet!P108,0)","v":0},{"$f":"IF(Worksheet!E108=\"\",\"\",Worksheet!E108)","v":""},{"$f":"IF(Worksheet!B108=\"\",\"\",Worksheet!B108)","v":""},{"$f":"IF(Worksheet!D108=\"\",\"\",Worksheet!D108)","v":""}]
[{"$f":"IF(ISBLANK(Worksheet!F109)=FALSE,VLOOKUP(Worksheet!A109,MeasureCode_Lookup,6,FALSE),\"\")","v":""},null,null,{"$f":"IFERROR(IF(Worksheet!U109=0,Worksheet!T109/I91,Worksheet!U109/R91),0)","v":0},"W Controlled",null,null,{"$f":"IF(N(Worksheet!P109)=0,N(Worksheet!O109),N(Worksheet!P109))","v":0},{"$f":"IFERROR(Worksheet!R109/Worksheet!O109,0)","v":0},{"$f":"Worksheet!Z109","v":0},{"$f":"Worksheet!Y109","v":0},0,{"$f":"IF(Worksheet!AG109=0,0,Worksheet!AG109/I91)","v":0},0,null,null,null,{"$f":"IFERROR(Worksheet!S109/Worksheet!P109,0)","v":0},{"$f":"IF(Worksheet!E109=\"\",\"\",Worksheet!E109)","v":""},{"$f":"IF(Worksheet!B109=\"\",\"\",Worksheet!B109)","v":""},{"$f":"IF(Worksheet!D109=\"\",\"\",Worksheet!D109)","v":""}]
[{"$f":"IF(ISBLANK(Worksheet!F110)=FALSE,VLOOKUP(Worksheet!A110,MeasureCode_Lookup,6,FALSE),\"\")","v":""},null,null,{"$f":"IFERROR(IF(Worksheet!U110=0,Worksheet!T110/I92,Worksheet!U110/R92),0)","v":0},"W Controlled",null,null,{"$f":"IF(N(Worksheet!P110)=0,N(Worksheet!O110),N(Worksheet!P110))","v":0},{"$f":"IFERROR(Worksheet!R110/Worksheet!O110,0)","v":0},{"$f":"Worksheet!Z110","v":0},{"$f":"Worksheet!Y110","v":0},0,{"$f":"IF(Worksheet!AG110=0,0,Worksheet!AG110/I92)","v":0},0,null,null,null,{"$f":"IFERROR(Worksheet!S110/Worksheet!P110,0)","v":0},{"$f":"IF(Worksheet!E110=\"\",\"\",Worksheet!E110)","v":""},{"$f":"IF(Worksheet!B110=\"\",\"\",Worksheet!B110)","v":""},{"$f":"IF(Worksheet!D110=\"\",\"\",Worksheet!D110)","v":""}]
[{"$f":"IF(ISBLANK(Worksheet!F111)=FALSE,VLOOKUP(Worksheet!A111,MeasureCode_Lookup,6,FALSE),\"\")","v":""},null,null,{"$f":"IFERROR(IF(Worksheet!U111=0,Worksheet!T111/I93,Worksheet!U111/R93),0)","v":0},"W Controlled",null,null,{"$f":"IF(N(Worksheet!P111)=0,N(Worksheet!O111),N(Worksheet!P111))","v":0},{"$f":"IFERROR(Worksheet!R111/Worksheet!O111,0)","v":0},{"$f":"Worksheet!Z111","v":0},{"$f":"Worksheet!Y111","v":0},0,{"$f":"IF(Worksheet!AG111=0,0,Worksheet!AG111/I93)","v":0},0,null,null,null,{"$f":"IFERROR(Worksheet!S111/Worksheet!P111,0)","v":0},{"$f":"IF(Worksheet!E111=\"\",\"\",Worksheet!E111)","v":""},{"$f":"IF(Worksheet!B111=\"\",\"\",Worksheet!B111)","v":""},{"$f":"IF(Worksheet!D111=\"\",\"\",Worksheet!D111)","v":""}]
[{"$f":"IF(ISBLANK(Worksheet!F112)=FALSE,VLOOKUP(Worksheet!A112,MeasureCode_Lookup,6,FALSE),\"\")","v":""},null,null,{"$f":"IFERROR(IF(Worksheet!U112=0,Worksheet!T112/I94,Worksheet!U112/R94),0)","v":0},"W Controlled",null,null,{"$f":"IF(N(Worksheet!P112)=0,N(Worksheet!O112),N(Worksheet!P112))","v":0},{"$f":"IFERROR(Worksheet!R112/Worksheet!O112,0)","v":0},{"$f":"Worksheet!Z112","v":0},{"$f":"Worksheet!Y112","v":0},0,{"$f":"IF(Worksheet!AG112=0,0,Worksheet!AG112/I94)","v":0},0,null,null,null,{"$f":"IFERROR(Worksheet!S112/Worksheet!P112,0)","v":0},{"$f":"IF(Worksheet!E112=\"\",\"\",Worksheet!E112)","v":""},{"$f":"IF(Worksheet!B112=\"\",\"\",Worksheet!B112)","v":""},{"$f":"IF(Worksheet!D112=\"\",\"\",Worksheet!D112)","v":""}]
[{"$f":"IF(ISBLANK(Worksheet!F113)=FALSE,VLOOKUP(Worksheet!A113,MeasureCode_Lookup,6,FALSE),\"\")","v":""},null,null,{"$f":"IFERROR(IF(Worksheet!U113=0,Worksheet!T113/I95,Worksheet!U113/R95),0)","v":0},"W Controlled",null,null,{"$f":"IF(N(Worksheet!P113)=0,N(Worksheet!O113),N(Worksheet!P113))","v":0},{"$f":"IFERROR(Worksheet!R113/Worksheet!O113,0)","v":0},{"$f":"Worksheet!Z113","v":0},{"$f":"Worksheet!Y113","v":0},0,{"$f":"IF(Worksheet!AG113=0,0,Worksheet!AG113/I95)","v":0},0,null,null,null,{"$f":"IFERROR(Worksheet!S113/Worksheet!P113,0)","v":0},{"$f":"IF(Worksheet!E113=\"\",\"\",Worksheet!E113)","v":""},{"$f":"IF(Worksheet!B113=\"\",\"\",Worksheet!B113)","v":""},{"$f":"IF(Worksheet!D113=\"\",\"\",Worksheet!D113)","v":""}]
[{"$f":"IF(ISBLANK(Worksheet!F114)=FALSE,VLOOKUP(Worksheet!A114,MeasureCode_Lookup,6,FALSE),\"\")","v":""},null,null,{"$f":"IFERROR(IF(Worksheet!U114=0,Worksheet!T114/I96,Worksheet!U114/R96),0)","v":0},"W Controlled",null,null,{"$f":"IF(N(Worksheet!P114)=0,N(Worksheet!O114),N(Worksheet!P114))","v":0},{"$f":"IFERROR(Worksheet!R114/Worksheet!O114,0)","v":0},{"$f":"Worksheet!Z114","v":0},{"$f":"Worksheet!Y114","v":0},0,{"$f":"IF(Worksheet!AG114=0,0,Worksheet!AG114/I96)","v":0},0,null,null,null,{"$f":"IFERROR(Worksheet!S114/Worksheet!P114,0)","v":0},{"$f":"IF(Worksheet!E114=\"\",\"\",Worksheet!E114)","v":""},{"$f":"IF(Worksheet!B114=\"\",\"\",Worksheet!B114)","v":""},{"$f":"IF(Worksheet!D114=\"\",\"\",Worksheet!D114)","v":""}]
[{"$f":"IF(ISBLANK(Worksheet!F115)=FALSE,VLOOKUP(Worksheet!A115,MeasureCode_Lookup,6,FALSE),\"\")","v":""},null,null,{"$f":"IFERROR(IF(Worksheet!U115=0,Worksheet!T115/I97,Worksheet!U115/R97),0)","v":0},"W Controlled",null,null,{"$f":"IF(N(Worksheet!P115)=0,N(Worksheet!O115),N(Worksheet!P115))","v":0},{"$f":"IFERROR(Worksheet!R115/Worksheet!O115,0)","v":0},{"$f":"Worksheet!Z115","v":0},{"$f":"Worksheet!Y115","v":0},0,{"$f":"IF(Worksheet!AG115=0,0,Worksheet!AG115/I97)","v":0},0,null,null,null,{"$f":"IFERROR(Worksheet!S115/Worksheet!P115,0)","v":0},{"$f":"IF(Worksheet!E115=\"\",\"\",Worksheet!E115)","v":""},{"$f":"IF(Worksheet!B115=\"\",\"\",Worksheet!B115)","v":""},{"$f":"IF(Worksheet!D115=\"\",\"\",Worksheet!D115)","v":""}]
[{"$f":"IF(ISBLANK(Worksheet!F116)=FALSE,VLOOKUP(Worksheet!A116,MeasureCode_Lookup,6,FALSE),\"\")","v":""},null,null,{"$f":"IFERROR(IF(Worksheet!U116=0,Worksheet!T116/I98,Worksheet!U116/R98),0)","v":0},"W Controlled",null,null,{"$f":"IF(N(Worksheet!P116)=0,N(Worksheet!O116),N(Worksheet!P116))","v":0},{"$f":"IFERROR(Worksheet!R116/Worksheet!O116,0)","v":0},{"$f":"Worksheet!Z116","v":0},{"$f":"Worksheet!Y116","v":0},0,{"$f":"IF(Worksheet!AG116=0,0,Worksheet!AG116/I98)","v":0},0,null,null,null,{"$f":"IFERROR(Worksheet!S116/Worksheet!P116,0)","v":0},{"$f":"IF(Worksheet!E116=\"\",\"\",Worksheet!E116)","v":""},{"$f":"IF(Worksheet!B116=\"\",\"\",Worksheet!B116)","v":""},{"$f":"IF(Worksheet!D116=\"\",\"\",Worksheet!D116)","v":""}]
[{"$f":"IF(ISBLANK(Worksheet!F117)=FALSE,VLOOKUP(Worksheet!A117,MeasureCode_Lookup,6,FALSE),\"\")","v":""},null,null,{"$f":"IFERROR(IF(Worksheet!U117=0,Worksheet!T117/I99,Worksheet!U117/R99),0)","v":0},"W Controlled",null,null,{"$f":"IF(N(Worksheet!P117)=0,N(Worksheet!O117),N(Worksheet!P117))","v":0},{"$f":"IFERROR(Worksheet!R117/Worksheet!O117,0)","v":0},{"$f":"Worksheet!Z117","v":0},{"$f":"Worksheet!Y117","v":0},0,{"$f":"IF(Worksheet!AG117=0,0,Worksheet!AG117/I99)","v":0},0,null,null,null,{"$f":"IFERROR(Worksheet!S117/Worksheet!P117,0)","v":0},{"$f":"IF(Worksheet!E117=\"\",\"\",Worksheet!E117)","v":""},{"$f":"IF(Worksheet!B117=\"\",\"\",Worksheet!B117)","v":""},{"$f":"IF(Worksheet!D117=\"\",\"\",Worksheet!D117)","v":""}]
[{"$f":"IF(ISBLANK(Worksheet!F118)=FALSE,VLOOKUP(Worksheet!A118,MeasureCode_Lookup,6,FALSE),\"\")","v":""},null,null,{"$f":"IFERROR(IF(Worksheet!U118=0,Worksheet!T118/I100,Worksheet!U118/R100),0)","v":0},"W Controlled",null,null,{"$f":"IF(N(Worksheet!P118)=0,N(Worksheet!O118),N(Worksheet!P118))","v":0},{"$f":"IFERROR(Worksheet!R118/Worksheet!O118,0)","v":0},{"$f":"Worksheet!Z118","v":0},{"$f":"Worksheet!Y118","v":0},0,{"$f":"IF(Worksheet!AG118=0,0,Worksheet!AG118/I100)","v":0},0,null,null,null,{"$f":"IFERROR(Worksheet!S118/Worksheet!P118,0)","v":0},{"$f":"IF(Worksheet!E118=\"\",\"\",Worksheet!E118)","v":""},{"$f":"IF(Worksheet!B118=\"\",\"\",Worksheet!B118)","v":""},{"$f":"IF(Worksheet!D118=\"\",\"\",Worksheet!D118)","v":""}]
[{"$f":"IF(ISBLANK(Worksheet!F119)=FALSE,VLOOKUP(Worksheet!A119,MeasureCode_Lookup,6,FALSE),\"\")","v":""},null,null,{"$f":"IFERROR(IF(Worksheet!U119=0,Worksheet!T119/I101,Worksheet!U119/R101),0)","v":0},"W Controlled",null,null,{"$f":"IF(N(Worksheet!P119)=0,N(Worksheet!O119),N(Worksheet!P119))","v":0},{"$f":"IFERROR(Worksheet!R119/Worksheet!O119,0)","v":0},{"$f":"Worksheet!Z119","v":0},{"$f":"Worksheet!Y119","v":0},0,{"$f":"IF(Worksheet!AG119=0,0,Worksheet!AG119/I101)","v":0},0,null,null,null,{"$f":"IFERROR(Worksheet!S119/Worksheet!P119,0)","v":0},{"$f":"IF(Worksheet!E119=\"\",\"\",Worksheet!E119)","v":""},{"$f":"IF(Worksheet!B119=\"\",\"\",Worksheet!B119)","v":""},{"$f":"IF(Worksheet!D119=\"\",\"\",Worksheet!D119)","v":""}]
[{"$f":"IF(ISBLANK(Worksheet!F120)=FALSE,VLOOKUP(Worksheet!A120,MeasureCode_Lookup,6,FALSE),\"\")","v":""},null,null,{"$f":"IFERROR(IF(Worksheet!U120=0,Worksheet!T120/I102,Worksheet!U120/R102),0)","v":0},"W Controlled",null,null,{"$f":"IF(N(Worksheet!P120)=0,N(Worksheet!O120),N(Worksheet!P120))","v":0},{"$f":"IFERROR(Worksheet!R120/Worksheet!O120,0)","v":0},{"$f":"Worksheet!Z120","v":0},{"$f":"Worksheet!Y120","v":0},0,{"$f":"IF(Worksheet!AG120=0,0,Worksheet!AG120/I102)","v":0},0,null,null,null,{"$f":"IFERROR(Worksheet!S120/Worksheet!P120,0)","v":0},{"$f":"IF(Worksheet!E120=\"\",\"\",Worksheet!E120)","v":""},{"$f":"IF(Worksheet!B120=\"\",\"\",Worksheet!B120)","v":""},{"$f":"IF(Worksheet!D120=\"\",\"\",Worksheet!D120)","v":""}]
[{"$f":"IF(ISBLANK(Worksheet!F121)=FALSE,VLOOKUP(Worksheet!A121,MeasureCode_Lookup,6,FALSE),\"\")","v":""},null,null,{"$f":"IFERROR(IF(Worksheet!U121=0,Worksheet!T121/I103,Worksheet!U121/R103),0)","v":0},"W Controlled",null,null,{"$f":"IF(N(Worksheet!P121)=0,N(Worksheet!O121),N(Worksheet!P121))","v":0},{"$f":"IFERROR(Worksheet!R121/Worksheet!O121,0)","v":0},{"$f":"Worksheet!Z121","v":0},{"$f":"Worksheet!Y121","v":0},0,{"$f":"IF(Worksheet!AG121=0,0,Worksheet!AG121/I103)","v":0},0,null,null,null,{"$f":"IFERROR(Worksheet!S121/Worksheet!P121,0)","v":0},{"$f":"IF(Worksheet!E121=\"\",\"\",Worksheet!E121)","v":""},{"$f":"IF(Worksheet!B121=\"\",\"\",Worksheet!B121)","v":""},{"$f":"IF(Worksheet!D121=\"\",\"\",Worksheet!D121)","v":""}]
[{"$f":"IF(ISBLANK(Worksheet!F122)=FALSE,VLOOKUP(Worksheet!A122,MeasureCode_Lookup,6,FALSE),\"\")","v":""},null,null,{"$f":"IFERROR(IF(Worksheet!U122=0,Worksheet!T122/I104,Worksheet!U122/R104),0)","v":0},"W Controlled",null,null,{"$f":"IF(N(Worksheet!P122)=0,N(Worksheet!O122),N(Worksheet!P122))","v":0},{"$f":"IFERROR(Worksheet!R122/Worksheet!O122,0)","v":0},{"$f":"Worksheet!Z122","v":0},{"$f":"Worksheet!Y122","v":0},0,{"$f":"IF(Worksheet!AG122=0,0,Worksheet!AG122/I104)","v":0},0,null,null,null,{"$f":"IFERROR(Worksheet!S122/Worksheet!P122,0)","v":0},{"$f":"IF(Worksheet!E122=\"\",\"\",Worksheet!E122)","v":""},{"$f":"IF(Worksheet!B122=\"\",\"\",Worksheet!B122)","v":""},{"$f":"IF(Worksheet!D122=\"\",\"\",Worksheet!D122)","v":""}]
[{"$f":"IF(ISBLANK(Worksheet!F123)=FALSE,VLOOKUP(Worksheet!A123,MeasureCode_Lookup,6,FALSE),\"\")","v":""},null,null,{"$f":"IFERROR(IF(Worksheet!U123=0,Worksheet!T123/I105,Worksheet!U123/R105),0)","v":0},"W Controlled",null,null,{"$f":"IF(N(Worksheet!P123)=0,N(Worksheet!O123),N(Worksheet!P123))","v":0},{"$f":"IFERROR(Worksheet!R123/Worksheet!O123,0)","v":0},{"$f":"Worksheet!Z123","v":0},{"$f":"Worksheet!Y123","v":0},0,{"$f":"IF(Worksheet!AG123=0,0,Worksheet!AG123/I105)","v":0},0,null,null,null,{"$f":"IFERROR(Worksheet!S123/Worksheet!P123,0)","v":0},{"$f":"IF(Worksheet!E123=\"\",\"\",Worksheet!E123)","v":""},{"$f":"IF(Worksheet!B123=\"\",\"\",Worksheet!B123)","v":""},{"$f":"IF(Worksheet!D123=\"\",\"\",Worksheet!D123)","v":""}]
[{"$f":"IF(ISBLANK(Worksheet!F124)=FALSE,VLOOKUP(Worksheet!A124,MeasureCode_Lookup,6,FALSE),\"\")","v":""},null,null,{"$f":"IFERROR(IF(Worksheet!U124=0,Worksheet!T124/I106,Worksheet!U124/R106),0)","v":0},"W Controlled",null,null,{"$f":"IF(N(Worksheet!P124)=0,N(Worksheet!O124),N(Worksheet!P124))","v":0},{"$f":"IFERROR(Worksheet!R124/Worksheet!O124,0)","v":0},{"$f":"Worksheet!Z124","v":0},{"$f":"Worksheet!Y124","v":0},0,{"$f":"IF(Worksheet!AG124=0,0,Worksheet!AG124/I106)","v":0},0,null,null,null,{"$f":"IFERROR(Worksheet!S124/Worksheet!P124,0)","v":0},{"$f":"IF(Worksheet!E124=\"\",\"\",Worksheet!E124)","v":""},{"$f":"IF(Worksheet!B124=\"\",\"\",Worksheet!B124)","v":""},{"$f":"IF(Worksheet!D124=\"\",\"\",Worksheet!D124)","v":""}]
[{"$f":"IF(ISBLANK(Worksheet!F125)=FALSE,VLOOKUP(Worksheet!A125,MeasureCode_Lookup,6,FALSE),\"\")","v":""},null,null,{"$f":"IFERROR(IF(Worksheet!U125=0,Worksheet!T125/I107,Worksheet!U125/R107),0)","v":0},"W Controlled",null,null,{"$f":"IF(N(Worksheet!P125)=0,N(Worksheet!O125),N(Worksheet!P125))","v":0},{"$f":"IFERROR(Worksheet!R125/Worksheet!O125,0)","v":0},{"$f":"Worksheet!Z125","v":0},{"$f":"Worksheet!Y125","v":0},0,{"$f":"IF(Worksheet!AG125=0,0,Worksheet!AG125/I107)","v":0},0,null,null,null,{"$f":"IFERROR(Worksheet!S125/Worksheet!P125,0)","v":0},{"$f":"IF(Worksheet!E125=\"\",\"\",Worksheet!E125)","v":""},{"$f":"IF(Worksheet!B125=\"\",\"\",Worksheet!B125)","v":""},{"$f":"IF(Worksheet!D125=\"\",\"\",Worksheet!D125)","v":""}]
[{"$f":"IF(ISBLANK(Worksheet!F126)=FALSE,VLOOKUP(Worksheet!A126,MeasureCode_Lookup,6,FALSE),\"\")","v":""},null,null,{"$f":"IFERROR(IF(Worksheet!U126=0,Worksheet!T126/I108,Worksheet!U126/R108),0)","v":0},"W Controlled",null,null,{"$f":"IF(N(Worksheet!P126)=0,N(Worksheet!O126),N(Worksheet!P126))","v":0},{"$f":"IFERROR(Worksheet!R126/Worksheet!O126,0)","v":0},{"$f":"Worksheet!Z126","v":0},{"$f":"Worksheet!Y126","v":0},0,{"$f":"IF(Worksheet!AG126=0,0,Worksheet!AG126/I108)","v":0},0,null,null,null,{"$f":"IFERROR(Worksheet!S126/Worksheet!P126,0)","v":0},{"$f":"IF(Worksheet!E126=\"\",\"\",Worksheet!E126)","v":""},{"$f":"IF(Worksheet!B126=\"\",\"\",Worksheet!B126)","v":""},{"$f":"IF(Worksheet!D126=\"\",\"\",Worksheet!D126)","v":""}]
[{"$f":"IF(ISBLANK(Worksheet!F127)=FALSE,VLOOKUP(Worksheet!A127,MeasureCode_Lookup,6,FALSE),\"\")","v":""},null,null,{"$f":"IFERROR(IF(Worksheet!U127=0,Worksheet!T127/I109,Worksheet!U127/R109),0)","v":0},"W Controlled",null,null,{"$f":"IF(N(Worksheet!P127)=0,N(Worksheet!O127),N(Worksheet!P127))","v":0},{"$f":"IFERROR(Worksheet!R127/Worksheet!O127,0)","v":0},{"$f":"Worksheet!Z127","v":0},{"$f":"Worksheet!Y127","v":0},0,{"$f":"IF(Worksheet!AG127=0,0,Worksheet!AG127/I109)","v":0},0,null,null,null,{"$f":"IFERROR(Worksheet!S127/Worksheet!P127,0)","v":0},{"$f":"IF(Worksheet!E127=\"\",\"\",Worksheet!E127)","v":""},{"$f":"IF(Worksheet!B127=\"\",\"\",Worksheet!B127)","v":""},{"$f":"IF(Worksheet!D127=\"\",\"\",Worksheet!D127)","v":""}]
[{"$f":"IF(ISBLANK(Worksheet!F128)=FALSE,VLOOKUP(Worksheet!A128,MeasureCode_Lookup,6,FALSE),\"\")","v":""},null,null,{"$f":"IFERROR(IF(Worksheet!U128=0,Worksheet!T128/I110,Worksheet!U128/R110),0)","v":0},"W Controlled",null,null,{"$f":"IF(N(Worksheet!P128)=0,N(Worksheet!O128),N(Worksheet!P128))","v":0},{"$f":"IFERROR(Worksheet!R128/Worksheet!O128,0)","v":0},{"$f":"Worksheet!Z128","v":0},{"$f":"Worksheet!Y128","v":0},0,{"$f":"IF(Worksheet!AG128=0,0,Worksheet!AG128/I110)","v":0},0,null,null,null,{"$f":"IFERROR(Worksheet!S128/Worksheet!P128,0)","v":0},{"$f":"IF(Worksheet!E128=\"\",\"\",Worksheet!E128)","v":""},{"$f":"IF(Worksheet!B128=\"\",\"\",Worksheet!B128)","v":""},{"$f":"IF(Worksheet!D128=\"\",\"\",Worksheet!D128)","v":""}]
[{"$f":"IF(ISBLANK(Worksheet!F129)=FALSE,VLOOKUP(Worksheet!A129,MeasureCode_Lookup,6,FALSE),\"\")","v":""},null,null,{"$f":"IFERROR(IF(Worksheet!U129=0,Worksheet!T129/I111,Worksheet!U129/R111),0)","v":0},"W Controlled",null,null,{"$f":"IF(N(Worksheet!P129)=0,N(Worksheet!O129),N(Worksheet!P129))","v":0},{"$f":"IFERROR(Worksheet!R129/Worksheet!O129,0)","v":0},{"$f":"Worksheet!Z129","v":0},{"$f":"Worksheet!Y129","v":0},0,{"$f":"IF(Worksheet!AG129=0,0,Worksheet!AG129/I111)","v":0},0,null,null,null,{"$f":"IFERROR(Worksheet!S129/Worksheet!P129,0)","v":0},{"$f":"IF(Worksheet!E129=\"\",\"\",Worksheet!E129)","v":""},{"$f":"IF(Worksheet!B129=\"\",\"\",Worksheet!B129)","v":""},{"$f":"IF(Worksheet!D129=\"\",\"\",Worksheet!D129)","v":""}]
[{"$f":"IF(ISBLANK(Worksheet!F130)=FALSE,VLOOKUP(Worksheet!A130,MeasureCode_Lookup,6,FALSE),\"\")","v":""},null,null,{"$f":"IFERROR(IF(Worksheet!U130=0,Worksheet!T130/I112,Worksheet!U130/R112),0)","v":0},"W Controlled",null,null,{"$f":"IF(N(Worksheet!P130)=0,N(Worksheet!O130),N(Worksheet!P130))","v":0},{"$f":"IFERROR(Worksheet!R130/Worksheet!O130,0)","v":0},{"$f":"Worksheet!Z130","v":0},{"$f":"Worksheet!Y130","v":0},0,{"$f":"IF(Worksheet!AG130=0,0,Worksheet!AG130/I112)","v":0},0,null,null,null,{"$f":"IFERROR(Worksheet!S130/Worksheet!P130,0)","v":0},{"$f":"IF(Worksheet!E130=\"\",\"\",Worksheet!E130)","v":""},{"$f":"IF(Worksheet!B130=\"\",\"\",Worksheet!B130)","v":""},{"$f":"IF(Worksheet!D130=\"\",\"\",Worksheet!D130)","v":""}]
[{"$f":"IF(ISBLANK(Worksheet!F131)=FALSE,VLOOKUP(Worksheet!A131,MeasureCode_Lookup,6,FALSE),\"\")","v":""},null,null,{"$f":"IFERROR(IF(Worksheet!U131=0,Worksheet!T131/I113,Worksheet!U131/R113),0)","v":0},"W Controlled",null,null,{"$f":"IF(N(Worksheet!P131)=0,N(Worksheet!O131),N(Worksheet!P131))","v":0},{"$f":"IFERROR(Worksheet!R131/Worksheet!O131,0)","v":0},{"$f":"Worksheet!Z131","v":0},{"$f":"Worksheet!Y131","v":0},0,{"$f":"IF(Worksheet!AG131=0,0,Worksheet!AG131/I113)","v":0},0,null,null,null,{"$f":"IFERROR(Worksheet!S131/Worksheet!P131,0)","v":0},{"$f":"IF(Worksheet!E131=\"\",\"\",Worksheet!E131)","v":""},{"$f":"IF(Worksheet!B131=\"\",\"\",Worksheet!B131)","v":""},{"$f":"IF(Worksheet!D131=\"\",\"\",Worksheet!D131)","v":""}]
[{"$f":"IF(ISBLANK(Worksheet!F132)=FALSE,VLOOKUP(Worksheet!A132,MeasureCode_Lookup,6,FALSE),\"\")","v":""},null,null,{"$f":"IFERROR(IF(Worksheet!U132=0,Worksheet!T132/I114,Worksheet!U132/R114),0)","v":0},"W Controlled",null,null,{"$f":"IF(N(Worksheet!P132)=0,N(Worksheet!O132),N(Worksheet!P132))","v":0},{"$f":"IFERROR(Worksheet!R132/Worksheet!O132,0)","v":0},{"$f":"Worksheet!Z132","v":0},{"$f":"Worksheet!Y132","v":0},0,{"$f":"IF(Worksheet!AG132=0,0,Worksheet!AG132/I114)","v":0},0,null,null,null,{"$f":"IFERROR(Worksheet!S132/Worksheet!P132,0)","v":0},{"$f":"IF(Worksheet!E132=\"\",\"\",Worksheet!E132)","v":""},{"$f":"IF(Worksheet!B132=\"\",\"\",Worksheet!B132)","v":""},{"$f":"IF(Worksheet!D132=\"\",\"\",Worksheet!D132)","v":""}]
[{"$f":"IF(ISBLANK(Worksheet!F133)=FALSE,VLOOKUP(Worksheet!A133,MeasureCode_Lookup,6,FALSE),\"\")","v":""},null,null,{"$f":"IFERROR(IF(Worksheet!U133=0,Worksheet!T133/I115,Worksheet!U133/R115),0)","v":0},"W Controlled",null,null,{"$f":"IF(N(Worksheet!P133)=0,N(Worksheet!O133),N(Worksheet!P133))","v":0},{"$f":"IFERROR(Worksheet!R133/Worksheet!O133,0)","v":0},{"$f":"Worksheet!Z133","v":0},{"$f":"Worksheet!Y133","v":0},0,{"$f":"IF(Worksheet!AG133=0,0,Worksheet!AG133/I115)","v":0},0,null,null,null,{"$f":"IFERROR(Worksheet!S133/Worksheet!P133,0)","v":0},{"$f":"IF(Worksheet!E133=\"\",\"\",Worksheet!E133)","v":""},{"$f":"IF(Worksheet!B133=\"\",\"\",Worksheet!B133)","v":""},{"$f":"IF(Worksheet!D133=\"\",\"\",Worksheet!D133)","v":""}]
[{"$f":"IF(ISBLANK(Worksheet!F134)=FALSE,VLOOKUP(Worksheet!A134,MeasureCode_Lookup,6,FALSE),\"\")","v":""},null,null,{"$f":"IFERROR(IF(Worksheet!U134=0,Worksheet!T134/I116,Worksheet!U134/R116),0)","v":0},"W Controlled",null,null,{"$f":"IF(N(Worksheet!P134)=0,N(Worksheet!O134),N(Worksheet!P134))","v":0},{"$f":"IFERROR(Worksheet!R134/Worksheet!O134,0)","v":0},{"$f":"Worksheet!Z134","v":0},{"$f":"Worksheet!Y134","v":0},0,{"$f":"IF(Worksheet!AG134=0,0,Worksheet!AG134/I116)","v":0},0,null,null,null,{"$f":"IFERROR(Worksheet!S134/Worksheet!P134,0)","v":0},{"$f":"IF(Worksheet!E134=\"\",\"\",Worksheet!E134)","v":""},{"$f":"IF(Worksheet!B134=\"\",\"\",Worksheet!B134)","v":""},{"$f":"IF(Worksheet!D134=\"\",\"\",Worksheet!D134)","v":""}]
[{"$f":"IF(ISBLANK(Worksheet!F135)=FALSE,VLOOKUP(Worksheet!A135,MeasureCode_Lookup,6,FALSE),\"\")","v":""},null,null,{"$f":"IFERROR(IF(Worksheet!U135=0,Worksheet!T135/I117,Worksheet!U135/R117),0)","v":0},"W Controlled",null,null,{"$f":"IF(N(Worksheet!P135)=0,N(Worksheet!O135),N(Worksheet!P135))","v":0},{"$f":"IFERROR(Worksheet!R135/Worksheet!O135,0)","v":0},{"$f":"Worksheet!Z135","v":0},{"$f":"Worksheet!Y135","v":0},0,{"$f":"IF(Worksheet!AG135=0,0,Worksheet!AG135/I117)","v":0},0,null,null,null,{"$f":"IFERROR(Worksheet!S135/Worksheet!P135,0)","v":0},{"$f":"IF(Worksheet!E135=\"\",\"\",Worksheet!E135)","v":""},{"$f":"IF(Worksheet!B135=\"\",\"\",Worksheet!B135)","v":""},{"$f":"IF(Worksheet!D135=\"\",\"\",Worksheet!D135)","v":""}]
[{"$f":"IF(ISBLANK(Worksheet!F136)=FALSE,VLOOKUP(Worksheet!A136,MeasureCode_Lookup,6,FALSE),\"\")","v":""},null,null,{"$f":"IFERROR(IF(Worksheet!U136=0,Worksheet!T136/I118,Worksheet!U136/R118),0)","v":0},"W Controlled",null,null,{"$f":"IF(N(Worksheet!P136)=0,N(Worksheet!O136),N(Worksheet!P136))","v":0},{"$f":"IFERROR(Worksheet!R136/Worksheet!O136,0)","v":0},{"$f":"Worksheet!Z136","v":0},{"$f":"Worksheet!Y136","v":0},0,{"$f":"IF(Worksheet!AG136=0,0,Worksheet!AG136/I118)","v":0},0,null,null,null,{"$f":"IFERROR(Worksheet!S136/Worksheet!P136,0)","v":0},{"$f":"IF(Worksheet!E136=\"\",\"\",Worksheet!E136)","v":""},{"$f":"IF(Worksheet!B136=\"\",\"\",Worksheet!B136)","v":""},{"$f":"IF(Worksheet!D136=\"\",\"\",Worksheet!D136)","v":""}]
[{"$f":"IF(ISBLANK(Worksheet!F137)=FALSE,VLOOKUP(Worksheet!A137,MeasureCode_Lookup,6,FALSE),\"\")","v":""},null,null,{"$f":"IFERROR(IF(Worksheet!U137=0,Worksheet!T137/I119,Worksheet!U137/R119),0)","v":0},"W Controlled",null,null,{"$f":"IF(N(Worksheet!P137)=0,N(Worksheet!O137),N(Worksheet!P137))","v":0},{"$f":"IFERROR(Worksheet!R137/Worksheet!O137,0)","v":0},{"$f":"Worksheet!Z137","v":0},{"$f":"Worksheet!Y137","v":0},0,{"$f":"IF(Worksheet!AG137=0,0,Worksheet!AG137/I119)","v":0},0,null,null,null,{"$f":"IFERROR(Worksheet!S137/Worksheet!P137,0)","v":0},{"$f":"IF(Worksheet!E137=\"\",\"\",Worksheet!E137)","v":""},{"$f":"IF(Worksheet!B137=\"\",\"\",Worksheet!B137)","v":""},{"$f":"IF(Worksheet!D137=\"\",\"\",Worksheet!D137)","v":""}]
[{"$f":"IF(ISBLANK(Worksheet!F138)=FALSE,VLOOKUP(Worksheet!A138,MeasureCode_Lookup,6,FALSE),\"\")","v":""},null,null,{"$f":"IFERROR(IF(Worksheet!U138=0,Worksheet!T138/I120,Worksheet!U138/R120),0)","v":0},"W Controlled",null,null,{"$f":"IF(N(Worksheet!P138)=0,N(Worksheet!O138),N(Worksheet!P138))","v":0},{"$f":"IFERROR(Worksheet!R138/Worksheet!O138,0)","v":0},{"$f":"Worksheet!Z138","v":0},{"$f":"Worksheet!Y138","v":0},0,{"$f":"IF(Worksheet!AG138=0,0,Worksheet!AG138/I120)","v":0},0,null,null,null,{"$f":"IFERROR(Worksheet!S138/Worksheet!P138,0)","v":0},{"$f":"IF(Worksheet!E138=\"\",\"\",Worksheet!E138)","v":""},{"$f":"IF(Worksheet!B138=\"\",\"\",Worksheet!B138)","v":""},{"$f":"IF(Worksheet!D138=\"\",\"\",Worksheet!D138)","v":""}]
[{"$f":"IF(ISBLANK(Worksheet!F139)=FALSE,VLOOKUP(Worksheet!A139,MeasureCode_Lookup,6,FALSE),\"\")","v":""},null,null,{"$f":"IFERROR(IF(Worksheet!U139=0,Worksheet!T139/I121,Worksheet!U139/R121),0)","v":0},"W Controlled",null,null,{"$f":"IF(N(Worksheet!P139)=0,N(Worksheet!O139),N(Worksheet!P139))","v":0},{"$f":"IFERROR(Worksheet!R139/Worksheet!O139,0)","v":0},{"$f":"Worksheet!Z139","v":0},{"$f":"Worksheet!Y139","v":0},0,{"$f":"IF(Worksheet!AG139=0,0,Worksheet!AG139/I121)","v":0},0,null,null,null,{"$f":"IFERROR(Worksheet!S139/Worksheet!P139,0)","v":0},{"$f":"IF(Worksheet!E139=\"\",\"\",Worksheet!E139)","v":""},{"$f":"IF(Worksheet!B139=\"\",\"\",Worksheet!B139)","v":""},{"$f":"IF(Worksheet!D139=\"\",\"\",Worksheet!D139)","v":""}]
[{"$f":"IF(ISBLANK(Worksheet!F140)=FALSE,VLOOKUP(Worksheet!A140,MeasureCode_Lookup,6,FALSE),\"\")","v":""},null,null,{"$f":"IFERROR(IF(Worksheet!U140=0,Worksheet!T140/I122,Worksheet!U140/R122),0)","v":0},"W Controlled",null,null,{"$f":"IF(N(Worksheet!P140)=0,N(Worksheet!O140),N(Worksheet!P140))","v":0},{"$f":"IFERROR(Worksheet!R140/Worksheet!O140,0)","v":0},{"$f":"Worksheet!Z140","v":0},{"$f":"Worksheet!Y140","v":0},0,{"$f":"IF(Worksheet!AG140=0,0,Worksheet!AG140/I122)","v":0},0,null,null,null,{"$f":"IFERROR(Worksheet!S140/Worksheet!P140,0)","v":0},{"$f":"IF(Worksheet!E140=\"\",\"\",Worksheet!E140)","v":""},{"$f":"IF(Worksheet!B140=\"\",\"\",Worksheet!B140)","v":""},{"$f":"IF(Worksheet!D140=\"\",\"\",Worksheet!D140)","v":""}]
[{"$f":"IF(ISBLANK(Worksheet!F141)=FALSE,VLOOKUP(Worksheet!A141,MeasureCode_Lookup,6,FALSE),\"\")","v":""},null,null,{"$f":"IFERROR(IF(Worksheet!U141=0,Worksheet!T141/I123,Worksheet!U141/R123),0)","v":0},"W Controlled",null,null,{"$f":"IF(N(Worksheet!P141)=0,N(Worksheet!O141),N(Worksheet!P141))","v":0},{"$f":"IFERROR(Worksheet!R141/Worksheet!O141,0)","v":0},{"$f":"Worksheet!Z141","v":0},{"$f":"Worksheet!Y141","v":0},0,{"$f":"IF(Worksheet!AG141=0,0,Worksheet!AG141/I123)","v":0},0,null,null,null,{"$f":"IFERROR(Worksheet!S141/Worksheet!P141,0)","v":0},{"$f":"IF(Worksheet!E141=\"\",\"\",Worksheet!E141)","v":""},{"$f":"IF(Worksheet!B141=\"\",\"\",Worksheet!B141)","v":""},{"$f":"IF(Worksheet!D141=\"\",\"\",Worksheet!D141)","v":""}]
[{"$f":"IF(ISBLANK(Worksheet!F142)=FALSE,VLOOKUP(Worksheet!A142,MeasureCode_Lookup,6,FALSE),\"\")","v":""},null,null,{"$f":"IFERROR(IF(Worksheet!U142=0,Worksheet!T142/I124,Worksheet!U142/R124),0)","v":0},"W Controlled",null,null,{"$f":"IF(N(Worksheet!P142)=0,N(Worksheet!O142),N(Worksheet!P142))","v":0},{"$f":"IFERROR(Worksheet!R142/Worksheet!O142,0)","v":0},{"$f":"Worksheet!Z142","v":0},{"$f":"Worksheet!Y142","v":0},0,{"$f":"IF(Worksheet!AG142=0,0,Worksheet!AG142/I124)","v":0},0,null,null,null,{"$f":"IFERROR(Worksheet!S142/Worksheet!P142,0)","v":0},{"$f":"IF(Worksheet!E142=\"\",\"\",Worksheet!E142)","v":""},{"$f":"IF(Worksheet!B142=\"\",\"\",Worksheet!B142)","v":""},{"$f":"IF(Worksheet!D142=\"\",\"\",Worksheet!D142)","v":""}]
[{"$f":"IF(ISBLANK(Worksheet!F143)=FALSE,VLOOKUP(Worksheet!A143,MeasureCode_Lookup,6,FALSE),\"\")","v":""},null,null,{"$f":"IFERROR(IF(Worksheet!U143=0,Worksheet!T143/I125,Worksheet!U143/R125),0)","v":0},"W Controlled",null,null,{"$f":"IF(N(Worksheet!P143)=0,N(Worksheet!O143),N(Worksheet!P143))","v":0},{"$f":"IFERROR(Worksheet!R143/Worksheet!O143,0)","v":0},{"$f":"Worksheet!Z143","v":0},{"$f":"Worksheet!Y143","v":0},0,{"$f":"IF(Worksheet!AG143=0,0,Worksheet!AG143/I125)","v":0},0,null,null,null,{"$f":"IFERROR(Worksheet!S143/Worksheet!P143,0)","v":0},{"$f":"IF(Worksheet!E143=\"\",\"\",Worksheet!E143)","v":""},{"$f":"IF(Worksheet!B143=\"\",\"\",Worksheet!B143)","v":""},{"$f":"IF(Worksheet!D143=\"\",\"\",Worksheet!D143)","v":""}]
[{"$f":"IF(ISBLANK(Worksheet!F144)=FALSE,VLOOKUP(Worksheet!A144,MeasureCode_Lookup,6,FALSE),\"\")","v":""},null,null,{"$f":"IFERROR(IF(Worksheet!U144=0,Worksheet!T144/I126,Worksheet!U144/R126),0)","v":0},"W Controlled",null,null,{"$f":"IF(N(Worksheet!P144)=0,N(Worksheet!O144),N(Worksheet!P144))","v":0},{"$f":"IFERROR(Worksheet!R144/Worksheet!O144,0)","v":0},{"$f":"Worksheet!Z144","v":0},{"$f":"Worksheet!Y144","v":0},0,{"$f":"IF(Worksheet!AG144=0,0,Worksheet!AG144/I126)","v":0},0,null,null,null,{"$f":"IFERROR(Worksheet!S144/Worksheet!P144,0)","v":0},{"$f":"IF(Worksheet!E144=\"\",\"\",Worksheet!E144)","v":""},{"$f":"IF(Worksheet!B144=\"\",\"\",Worksheet!B144)","v":""},{"$f":"IF(Worksheet!D144=\"\",\"\",Worksheet!D144)","v":""}]
[{"$f":"IF(ISBLANK(Worksheet!F145)=FALSE,VLOOKUP(Worksheet!A145,MeasureCode_Lookup,6,FALSE),\"\")","v":""},null,null,{"$f":"IFERROR(IF(Worksheet!U145=0,Worksheet!T145/I127,Worksheet!U145/R127),0)","v":0},"W Controlled",null,null,{"$f":"IF(N(Worksheet!P145)=0,N(Worksheet!O145),N(Worksheet!P145))","v":0},{"$f":"IFERROR(Worksheet!R145/Worksheet!O145,0)","v":0},{"$f":"Worksheet!Z145","v":0},{"$f":"Worksheet!Y145","v":0},0,{"$f":"IF(Worksheet!AG145=0,0,Worksheet!AG145/I127)","v":0},0,null,null,null,{"$f":"IFERROR(Worksheet!S145/Worksheet!P145,0)","v":0},{"$f":"IF(Worksheet!E145=\"\",\"\",Worksheet!E145)","v":""},{"$f":"IF(Worksheet!B145=\"\",\"\",Worksheet!B145)","v":""},{"$f":"IF(Worksheet!D145=\"\",\"\",Worksheet!D145)","v":""}]
[{"$f":"IF(ISBLANK(Worksheet!F146)=FALSE,VLOOKUP(Worksheet!A146,MeasureCode_Lookup,6,FALSE),\"\")","v":""},null,null,{"$f":"IFERROR(IF(Worksheet!U146=0,Worksheet!T146/I128,Worksheet!U146/R128),0)","v":0},"W Controlled",null,null,{"$f":"IF(N(Worksheet!P146)=0,N(Worksheet!O146),N(Worksheet!P146))","v":0},{"$f":"IFERROR(Worksheet!R146/Worksheet!O146,0)","v":0},{"$f":"Worksheet!Z146","v":0},{"$f":"Worksheet!Y146","v":0},0,{"$f":"IF(Worksheet!AG146=0,0,Worksheet!AG146/I128)","v":0},0,null,null,null,{"$f":"IFERROR(Worksheet!S146/Worksheet!P146,0)","v":0},{"$f":"IF(Worksheet!E146=\"\",\"\",Worksheet!E146)","v":""},{"$f":"IF(Worksheet!B146=\"\",\"\",Worksheet!B146)","v":""},{"$f":"IF(Worksheet!D146=\"\",\"\",Worksheet!D146)","v":""}]
[{"$f":"IF(ISBLANK(Worksheet!F147)=FALSE,VLOOKUP(Worksheet!A147,MeasureCode_Lookup,6,FALSE),\"\")","v":""},null,null,{"$f":"IFERROR(IF(Worksheet!U147=0,Worksheet!T147/I129,Worksheet!U147/R129),0)","v":0},"W Controlled",null,null,{"$f":"IF(N(Worksheet!P147)=0,N(Worksheet!O147),N(Worksheet!P147))","v":0},{"$f":"IFERROR(Worksheet!R147/Worksheet!O147,0)","v":0},{"$f":"Worksheet!Z147","v":0},{"$f":"Worksheet!Y147","v":0},0,{"$f":"IF(Worksheet!AG147=0,0,Worksheet!AG147/I129)","v":0},0,null,null,null,{"$f":"IFERROR(Worksheet!S147/Worksheet!P147,0)","v":0},{"$f":"IF(Worksheet!E147=\"\",\"\",Worksheet!E147)","v":""},{"$f":"IF(Worksheet!B147=\"\",\"\",Worksheet!B147)","v":""},{"$f":"IF(Worksheet!D147=\"\",\"\",Worksheet!D147)","v":""}]
[{"$f":"IF(ISBLANK(Worksheet!F148)=FALSE,VLOOKUP(Worksheet!A148,MeasureCode_Lookup,6,FALSE),\"\")","v":""},null,null,{"$f":"IFERROR(IF(Worksheet!U148=0,Worksheet!T148/I130,Worksheet!U148/R130),0)","v":0},"W Controlled",null,null,{"$f":"IF(N(Worksheet!P148)=0,N(Worksheet!O148),N(Worksheet!P148))","v":0},{"$f":"IFERROR(Worksheet!R148/Worksheet!O148,0)","v":0},{"$f":"Worksheet!Z148","v":0},{"$f":"Worksheet!Y148","v":0},0,{"$f":"IF(Worksheet!AG148=0,0,Worksheet!AG148/I130)","v":0},0,null,null,null,{"$f":"IFERROR(Worksheet!S148/Worksheet!P148,0)","v":0},{"$f":"IF(Worksheet!E148=\"\",\"\",Worksheet!E148)","v":""},{"$f":"IF(Worksheet!B148=\"\",\"\",Worksheet!B148)","v":""},{"$f":"IF(Worksheet!D148=\"\",\"\",Worksheet!D148)","v":""}]
[{"$f":"IF(ISBLANK(Worksheet!F149)=FALSE,VLOOKUP(Worksheet!A149,MeasureCode_Lookup,6,FALSE),\"\")","v":""},null,null,{"$f":"IFERROR(IF(Worksheet!U149=0,Worksheet!T149/I131,Worksheet!U149/R131),0)","v":0},"W Controlled",null,null,{"$f":"IF(N(Worksheet!P149)=0,N(Worksheet!O149),N(Worksheet!P149))","v":0},{"$f":"IFERROR(Worksheet!R149/Worksheet!O149,0)","v":0},{"$f":"Worksheet!Z149","v":0},{"$f":"Worksheet!Y149","v":0},{"$f":"J131*8","v":0},{"$f":"IF(Worksheet!AG149=0,0,Worksheet!AG149/I131)","v":0},{"$f":"M131*8","v":0},null,null,null,{"$f":"IFERROR(Worksheet!S149/Worksheet!P149,0)","v":0},{"$f":"IF(Worksheet!E149=\"\",\"\",Worksheet!E149)","v":""},{"$f":"IF(Worksheet!B149=\"\",\"\",Worksheet!B149)","v":""},{"$f":"IF(Worksheet!D149=\"\",\"\",Worksheet!D149)","v":""}]
[{"$f":"IF(ISBLANK(Worksheet!F150)=FALSE,VLOOKUP(Worksheet!A150,MeasureCode_Lookup,6,FALSE),\"\")","v":""},null,null,{"$f":"IFERROR(IF(Worksheet!U150=0,Worksheet!T150/I132,Worksheet!U150/R132),0)","v":0},"W Controlled",null,null,{"$f":"IF(N(Worksheet!P150)=0,N(Worksheet!O150),N(Worksheet!P150))","v":0},{"$f":"IFERROR(Worksheet!R150/Worksheet!O150,0)","v":0},{"$f":"Worksheet!Z150","v":0},{"$f":"Worksheet!Y150","v":0},0,{"$f":"IF(Worksheet!AG150=0,0,Worksheet!AG150/I132)","v":0},0,null,null,null,{"$f":"IFERROR(Worksheet!S150/Worksheet!P150,0)","v":0},{"$f":"IF(Worksheet!E150=\"\",\"\",Worksheet!E150)","v":""},{"$f":"IF(Worksheet!B150=\"\",\"\",Worksheet!B150)","v":""},{"$f":"IF(Worksheet!D150=\"\",\"\",Worksheet!D150)","v":""}]
[{"$f":"IF(ISBLANK(Worksheet!F151)=FALSE,VLOOKUP(Worksheet!A151,MeasureCode_Lookup,6,FALSE),\"\")","v":""},null,null,{"$f":"IFERROR(IF(Worksheet!U151=0,Worksheet!T151/I133,Worksheet!U151/R133),0)","v":0},"W Controlled",null,null,{"$f":"IF(N(Worksheet!P151)=0,N(Worksheet!O151),N(Worksheet!P151))","v":0},{"$f":"IFERROR(Worksheet!R151/Worksheet!O151,0)","v":0},{"$f":"Worksheet!Z151","v":0},{"$f":"Worksheet!Y151","v":0},0,{"$f":"IF(Worksheet!AG151=0,0,Worksheet!AG151/I133)","v":0},0,null,null,null,{"$f":"IFERROR(Worksheet!S151/Worksheet!P151,0)","v":0},{"$f":"IF(Worksheet!E151=\"\",\"\",Worksheet!E151)","v":""},{"$f":"IF(Worksheet!B151=\"\",\"\",Worksheet!B151)","v":""},{"$f":"IF(Worksheet!D151=\"\",\"\",Worksheet!D151)","v":""}]
[{"$f":"IF(ISBLANK(Worksheet!F152)=FALSE,VLOOKUP(Worksheet!A152,MeasureCode_Lookup,6,FALSE),\"\")","v":""},null,null,{"$f":"IFERROR(IF(Worksheet!U152=0,Worksheet!T152/I134,Worksheet!U152/R134),0)","v":0},"W Controlled",null,null,{"$f":"IF(N(Worksheet!P152)=0,N(Worksheet!O152),N(Worksheet!P152))","v":0},{"$f":"IFERROR(Worksheet!R152/Worksheet!O152,0)","v":0},{"$f":"Worksheet!Z152","v":0},{"$f":"Worksheet!Y152","v":0},0,{"$f":"IF(Worksheet!AG152=0,0,Worksheet!AG152/I134)","v":0},0,null,null,null,{"$f":"IFERROR(Worksheet!S152/Worksheet!P152,0)","v":0},{"$f":"IF(Worksheet!E152=\"\",\"\",Worksheet!E152)","v":""},{"$f":"IF(Worksheet!B152=\"\",\"\",Worksheet!B152)","v":""},{"$f":"IF(Worksheet!D152=\"\",\"\",Worksheet!D152)","v":""}]
[{"$f":"IF(ISBLANK(Worksheet!F153)=FALSE,VLOOKUP(Worksheet!A153,MeasureCode_Lookup,6,FALSE),\"\")","v":""},null,null,{"$f":"IFERROR(IF(Worksheet!U153=0,Worksheet!T153/I135,Worksheet!U153/R135),0)","v":0},"W Controlled",null,null,{"$f":"IF(N(Worksheet!P153)=0,N(Worksheet!O153),N(Worksheet!P153))","v":0},{"$f":"IFERROR(Worksheet!R153/Worksheet!O153,0)","v":0},{"$f":"Worksheet!Z153","v":0},{"$f":"Worksheet!Y153","v":0},0,{"$f":"IF(Worksheet!AG153=0,0,Worksheet!AG153/I135)","v":0},0,null,null,null,{"$f":"IFERROR(Worksheet!S153/Worksheet!P153,0)","v":0},{"$f":"IF(Worksheet!E153=\"\",\"\",Worksheet!E153)","v":""},{"$f":"IF(Worksheet!B153=\"\",\"\",Worksheet!B153)","v":""},{"$f":"IF(Worksheet!D153=\"\",\"\",Worksheet!D153)","v":""}]
[{"$f":"IF(ISBLANK(Worksheet!F154)=FALSE,VLOOKUP(Worksheet!A154,MeasureCode_Lookup,6,FALSE),\"\")","v":""},null,null,{"$f":"IFERROR(IF(Worksheet!U154=0,Worksheet!T154/I136,Worksheet!U154/R136),0)","v":0},"W Controlled",null,null,{"$f":"IF(N(Worksheet!P154)=0,N(Worksheet!O154),N(Worksheet!P154))","v":0},{"$f":"IFERROR(Worksheet!R154/Worksheet!O154,0)","v":0},{"$f":"Worksheet!Z154","v":0},{"$f":"Worksheet!Y154","v":0},0,{"$f":"IF(Worksheet!AG154=0,0,Worksheet!AG154/I136)","v":0},0,null,null,null,{"$f":"IFERROR(Worksheet!S154/Worksheet!P154,0)","v":0},{"$f":"IF(Worksheet!E154=\"\",\"\",Worksheet!E154)","v":""},{"$f":"IF(Worksheet!B154=\"\",\"\",Worksheet!B154)","v":""},{"$f":"IF(Worksheet!D154=\"\",\"\",Worksheet!D154)","v":""}]
[{"$f":"IF(ISBLANK(Worksheet!F155)=FALSE,VLOOKUP(Worksheet!A155,MeasureCode_Lookup,6,FALSE),\"\")","v":""},null,null,{"$f":"IFERROR(IF(Worksheet!U155=0,Worksheet!T155/I137,Worksheet!U155/R137),0)","v":0},"W Controlled",null,null,{"$f":"IF(N(Worksheet!P155)=0,N(Worksheet!O155),N(Worksheet!P155))","v":0},{"$f":"IFERROR(Worksheet!R155/Worksheet!O155,0)","v":0},{"$f":"Worksheet!Z155","v":0},{"$f":"Worksheet!Y155","v":0},0,{"$f":"IF(Worksheet!AG155=0,0,Worksheet!AG155/I137)","v":0},0,null,null,null,{"$f":"IFERROR(Worksheet!S155/Worksheet!P155,0)","v":0},{"$f":"IF(Worksheet!E155=\"\",\"\",Worksheet!E155)","v":""},{"$f":"IF(Worksheet!B155=\"\",\"\",Worksheet!B155)","v":""},{"$f":"IF(Worksheet!D155=\"\",\"\",Worksheet!D155)","v":""}]
[{"$f":"IF(ISBLANK(Worksheet!F156)=FALSE,VLOOKUP(Worksheet!A156,MeasureCode_Lookup,6,FALSE),\"\")","v":""},null,null,{"$f":"IFERROR(IF(Worksheet!U156=0,Worksheet!T156/I138,Worksheet!U156/R138),0)","v":0},"W Controlled",null,null,{"$f":"IF(N(Worksheet!P156)=0,N(Worksheet!O156),N(Worksheet!P156))","v":0},{"$f":"IFERROR(Worksheet!R156/Worksheet!O156,0)","v":0},{"$f":"Worksheet!Z156","v":0},{"$f":"Worksheet!Y156","v":0},0,{"$f":"IF(Worksheet!AG156=0,0,Worksheet!AG156/I138)","v":0},0,null,null,null,{"$f":"IFERROR(Worksheet!S156/Worksheet!P156,0)","v":0},{"$f":"IF(Worksheet!E156=\"\",\"\",Worksheet!E156)","v":""},{"$f":"IF(Worksheet!B156=\"\",\"\",Worksheet!B156)","v":""},{"$f":"IF(Worksheet!D156=\"\",\"\",Worksheet!D156)","v":""}]
[{"$f":"IF(ISBLANK(Worksheet!F157)=FALSE,VLOOKUP(Worksheet!A157,MeasureCode_Lookup,6,FALSE),\"\")","v":""},null,null,{"$f":"IFERROR(IF(Worksheet!U157=0,Worksheet!T157/I139,Worksheet!U157/R139),0)","v":0},"W Controlled",null,null,{"$f":"IF(N(Worksheet!P157)=0,N(Worksheet!O157),N(Worksheet!P157))","v":0},{"$f":"IFERROR(Worksheet!R157/Worksheet!O157,0)","v":0},{"$f":"Worksheet!Z157","v":0},{"$f":"Worksheet!Y157","v":0},0,{"$f":"IF(Worksheet!AG157=0,0,Worksheet!AG157/I139)","v":0},0,null,null,null,{"$f":"IFERROR(Worksheet!S157/Worksheet!P157,0)","v":0},{"$f":"IF(Worksheet!E157=\"\",\"\",Worksheet!E157)","v":""},{"$f":"IF(Worksheet!B157=\"\",\"\",Worksheet!B157)","v":""},{"$f":"IF(Worksheet!D157=\"\",\"\",Worksheet!D157)","v":""}]
[{"$f":"IF(ISBLANK(Worksheet!F158)=FALSE,VLOOKUP(Worksheet!A158,MeasureCode_Lookup,6,FALSE),\"\")","v":""},null,null,{"$f":"IFERROR(IF(Worksheet!U158=0,Worksheet!T158/I140,Worksheet!U158/R140),0)","v":0},"W Controlled",null,null,{"$f":"IF(N(Worksheet!P158)=0,N(Worksheet!O158),N(Worksheet!P158))","v":0},{"$f":"IFERROR(Worksheet!R158/Worksheet!O158,0)","v":0},{"$f":"Worksheet!Z158","v":0},{"$f":"Worksheet!Y158","v":0},0,{"$f":"IF(Worksheet!AG158=0,0,Worksheet!AG158/I140)","v":0},0,null,null,null,{"$f":"IFERROR(Worksheet!S158/Worksheet!P158,0)","v":0},{"$f":"IF(Worksheet!E158=\"\",\"\",Worksheet!E158)","v":""},{"$f":"IF(Worksheet!B158=\"\",\"\",Worksheet!B158)","v":""},{"$f":"IF(Worksheet!D158=\"\",\"\",Worksheet!D158)","v":""}]
[{"$f":"IF(ISBLANK(Worksheet!F159)=FALSE,VLOOKUP(Worksheet!A159,MeasureCode_Lookup,6,FALSE),\"\")","v":""},null,null,{"$f":"IFERROR(IF(Worksheet!U159=0,Worksheet!T159/I141,Worksheet!U159/R141),0)","v":0},"W Controlled",null,null,{"$f":"IF(N(Worksheet!P159)=0,N(Worksheet!O159),N(Worksheet!P159))","v":0},{"$f":"IFERROR(Worksheet!R159/Worksheet!O159,0)","v":0},{"$f":"Worksheet!Z159","v":0},{"$f":"Worksheet!Y159","v":0},0,{"$f":"IF(Worksheet!AG159=0,0,Worksheet!AG159/I141)","v":0},0,null,null,null,{"$f":"IFERROR(Worksheet!S159/Worksheet!P159,0)","v":0},{"$f":"IF(Worksheet!E159=\"\",\"\",Worksheet!E159)","v":""},{"$f":"IF(Worksheet!B159=\"\",\"\",Worksheet!B159)","v":""},{"$f":"IF(Worksheet!D159=\"\",\"\",Worksheet!D159)","v":""}]
[{"$f":"IF(ISBLANK(Worksheet!F160)=FALSE,VLOOKUP(Worksheet!A160,MeasureCode_Lookup,6,FALSE),\"\")","v":""},null,null,{"$f":"IFERROR(IF(Worksheet!U160=0,Worksheet!T160/I142,Worksheet!U160/R142),0)","v":0},"W Controlled",null,null,{"$f":"IF(N(Worksheet!P160)=0,N(Worksheet!O160),N(Worksheet!P160))","v":0},{"$f":"IFERROR(Worksheet!R160/Worksheet!O160,0)","v":0},{"$f":"Worksheet!Z160","v":0},{"$f":"Worksheet!Y160","v":0},0,{"$f":"IF(Worksheet!AG160=0,0,Worksheet!AG160/I142)","v":0},0,null,null,null,{"$f":"IFERROR(Worksheet!S160/Worksheet!P160,0)","v":0},{"$f":"IF(Worksheet!E160=\"\",\"\",Worksheet!E160)","v":""},{"$f":"IF(Worksheet!B160=\"\",\"\",Worksheet!B160)","v":""},{"$f":"IF(Worksheet!D160=\"\",\"\",Worksheet!D160)","v":""}]
[{"$f":"IF(ISBLANK(Worksheet!F161)=FALSE,VLOOKUP(Worksheet!A161,MeasureCode_Lookup,6,FALSE),\"\")","v":""},null,null,{"$f":"IFERROR(IF(Worksheet!U161=0,Worksheet!T161/I143,Worksheet!U161/R143),0)","v":0},"W Controlled",null,null,{"$f":"IF(N(Worksheet!P161)=0,N(Worksheet!O161),N(Worksheet!P161))","v":0},{"$f":"IFERROR(Worksheet!R161/Worksheet!O161,0)","v":0},{"$f":"Worksheet!Z161","v":0},{"$f":"Worksheet!Y161","v":0},0,{"$f":"IF(Worksheet!AG161=0,0,Worksheet!AG161/I143)","v":0},0,null,null,null,{"$f":"IFERROR(Worksheet!S161/Worksheet!P161,0)","v":0},{"$f":"IF(Worksheet!E161=\"\",\"\",Worksheet!E161)","v":""},{"$f":"IF(Worksheet!B161=\"\",\"\",Worksheet!B161)","v":""},{"$f":"IF(Worksheet!D161=\"\",\"\",Worksheet!D161)","v":""}]
[{"$f":"IF(ISBLANK(Worksheet!F162)=FALSE,VLOOKUP(Worksheet!A162,MeasureCode_Lookup,6,FALSE),\"\")","v":""},null,null,{"$f":"IFERROR(IF(Worksheet!U162=0,Worksheet!T162/I144,Worksheet!U162/R144),0)","v":0},"W Controlled",null,null,{"$f":"IF(N(Worksheet!P162)=0,N(Worksheet!O162),N(Worksheet!P162))","v":0},{"$f":"IFERROR(Worksheet!R162/Worksheet!O162,0)","v":0},{"$f":"Worksheet!Z162","v":0},{"$f":"Worksheet!Y162","v":0},0,{"$f":"IF(Worksheet!AG162=0,0,Worksheet!AG162/I144)","v":0},0,null,null,null,{"$f":"IFERROR(Worksheet!S162/Worksheet!P162,0)","v":0},{"$f":"IF(Worksheet!E162=\"\",\"\",Worksheet!E162)","v":""},{"$f":"IF(Worksheet!B162=\"\",\"\",Worksheet!B162)","v":""},{"$f":"IF(Worksheet!D162=\"\",\"\",Worksheet!D162)","v":""}]
[{"$f":"IF(ISBLANK(Worksheet!F163)=FALSE,VLOOKUP(Worksheet!A163,MeasureCode_Lookup,6,FALSE),\"\")","v":""},null,null,{"$f":"IFERROR(IF(Worksheet!U163=0,Worksheet!T163/I145,Worksheet!U163/R145),0)","v":0},"W Controlled",null,null,{"$f":"IF(N(Worksheet!P163)=0,N(Worksheet!O163),N(Worksheet!P163))","v":0},{"$f":"IFERROR(Worksheet!R163/Worksheet!O163,0)","v":0},{"$f":"Worksheet!Z163","v":0},{"$f":"Worksheet!Y163","v":0},0,{"$f":"IF(Worksheet!AG163=0,0,Worksheet!AG163/I145)","v":0},0,null,null,null,{"$f":"IFERROR(Worksheet!S163/Worksheet!P163,0)","v":0},{"$f":"IF(Worksheet!E163=\"\",\"\",Worksheet!E163)","v":""},{"$f":"IF(Worksheet!B163=\"\",\"\",Worksheet!B163)","v":""},{"$f":"IF(Worksheet!D163=\"\",\"\",Worksheet!D163)","v":""}]
[{"$f":"IF(ISBLANK(Worksheet!F164)=FALSE,VLOOKUP(Worksheet!A164,MeasureCode_Lookup,6,FALSE),\"\")","v":""},null,null,{"$f":"IFERROR(IF(Worksheet!U164=0,Worksheet!T164/I146,Worksheet!U164/R146),0)","v":0},"W Controlled",null,null,{"$f":"IF(N(Worksheet!P164)=0,N(Worksheet!O164),N(Worksheet!P164))","v":0},{"$f":"IFERROR(Worksheet!R164/Worksheet!O164,0)","v":0},{"$f":"Worksheet!Z164","v":0},{"$f":"Worksheet!Y164","v":0},0,{"$f":"IF(Worksheet!AG164=0,0,Worksheet!AG164/I146)","v":0},0,null,null,null,{"$f":"IFERROR(Worksheet!S164/Worksheet!P164,0)","v":0},{"$f":"IF(Worksheet!E164=\"\",\"\",Worksheet!E164)","v":""},{"$f":"IF(Worksheet!B164=\"\",\"\",Worksheet!B164)","v":""},{"$f":"IF(Worksheet!D164=\"\",\"\",Worksheet!D164)","v":""}]
[{"$f":"IF(ISBLANK(Worksheet!F165)=FALSE,VLOOKUP(Worksheet!A165,MeasureCode_Lookup,6,FALSE),\"\")","v":""},null,null,{"$f":"IFERROR(IF(Worksheet!U165=0,Worksheet!T165/I147,Worksheet!U165/R147),0)","v":0},"W Controlled",null,null,{"$f":"IF(N(Worksheet!P165)=0,N(Worksheet!O165),N(Worksheet!P165))","v":0},{"$f":"IFERROR(Worksheet!R165/Worksheet!O165,0)","v":0},{"$f":"Worksheet!Z165","v":0},{"$f":"Worksheet!Y165","v":0},0,{"$f":"IF(Worksheet!AG165=0,0,Worksheet!AG165/I147)","v":0},0,null,null,null,{"$f":"IFERROR(Worksheet!S165/Worksheet!P165,0)","v":0},{"$f":"IF(Worksheet!E165=\"\",\"\",Worksheet!E165)","v":""},{"$f":"IF(Worksheet!B165=\"\",\"\",Worksheet!B165)","v":""},{"$f":"IF(Worksheet!D165=\"\",\"\",Worksheet!D165)","v":""}]
[{"$f":"IF(ISBLANK(Worksheet!F166)=FALSE,VLOOKUP(Worksheet!A166,MeasureCode_Lookup,6,FALSE),\"\")","v":""},null,null,{"$f":"IFERROR(IF(Worksheet!U166=0,Worksheet!T166/I148,Worksheet!U166/R148),0)","v":0},"W Controlled",null,null,{"$f":"IF(N(Worksheet!P166)=0,N(Worksheet!O166),N(Worksheet!P166))","v":0},{"$f":"IFERROR(Worksheet!R166/Worksheet!O166,0)","v":0},{"$f":"Worksheet!Z166","v":0},{"$f":"Worksheet!Y166","v":0},0,{"$f":"IF(Worksheet!AG166=0,0,Worksheet!AG166/I148)","v":0},0,null,null,null,{"$f":"IFERROR(Worksheet!S166/Worksheet!P166,0)","v":0},{"$f":"IF(Worksheet!E166=\"\",\"\",Worksheet!E166)","v":""},{"$f":"IF(Worksheet!B166=\"\",\"\",Worksheet!B166)","v":""},{"$f":"IF(Worksheet!D166=\"\",\"\",Worksheet!D166)","v":""}]
[{"$f":"IF(ISBLANK(Worksheet!F167)=FALSE,VLOOKUP(Worksheet!A167,MeasureCode_Lookup,6,FALSE),\"\")","v":""},null,null,{"$f":"IFERROR(IF(Worksheet!U167=0,Worksheet!T167/I149,Worksheet!U167/R149),0)","v":0},"W Controlled",null,null,{"$f":"IF(N(Worksheet!P167)=0,N(Worksheet!O167),N(Worksheet!P167))","v":0},{"$f":"IFERROR(Worksheet!R167/Worksheet!O167,0)","v":0},{"$f":"Worksheet!Z167","v":0},{"$f":"Worksheet!Y167","v":0},0,{"$f":"IF(Worksheet!AG167=0,0,Worksheet!AG167/I149)","v":0},0,null,null,null,{"$f":"IFERROR(Worksheet!S167/Worksheet!P167,0)","v":0},{"$f":"IF(Worksheet!E167=\"\",\"\",Worksheet!E167)","v":""},{"$f":"IF(Worksheet!B167=\"\",\"\",Worksheet!B167)","v":""},{"$f":"IF(Worksheet!D167=\"\",\"\",Worksheet!D167)","v":""}]
[{"$f":"IF(ISBLANK(Worksheet!F168)=FALSE,VLOOKUP(Worksheet!A168,MeasureCode_Lookup,6,FALSE),\"\")","v":""},null,null,{"$f":"IFERROR(IF(Worksheet!U168=0,Worksheet!T168/I150,Worksheet!U168/R150),0)","v":0},"W Controlled",null,null,{"$f":"IF(N(Worksheet!P168)=0,N(Worksheet!O168),N(Worksheet!P168))","v":0},{"$f":"IFERROR(Worksheet!R168/Worksheet!O168,0)","v":0},{"$f":"Worksheet!Z168","v":0},{"$f":"Worksheet!Y168","v":0},0,{"$f":"IF(Worksheet!AG168=0,0,Worksheet!AG168/I150)","v":0},0,null,null,null,{"$f":"IFERROR(Worksheet!S168/Worksheet!P168,0)","v":0},{"$f":"IF(Worksheet!E168=\"\",\"\",Worksheet!E168)","v":""},{"$f":"IF(Worksheet!B168=\"\",\"\",Worksheet!B168)","v":""},{"$f":"IF(Worksheet!D168=\"\",\"\",Worksheet!D168)","v":""}]
[{"$f":"IF(ISBLANK(Worksheet!F169)=FALSE,VLOOKUP(Worksheet!A169,MeasureCode_Lookup,6,FALSE),\"\")","v":""},null,null,{"$f":"IFERROR(IF(Worksheet!U169=0,Worksheet!T169/I151,Worksheet!U169/R151),0)","v":0},"W Controlled",null,null,{"$f":"IF(N(Worksheet!P169)=0,N(Worksheet!O169),N(Worksheet!P169))","v":0},{"$f":"IFERROR(Worksheet!R169/Worksheet!O169,0)","v":0},{"$f":"Worksheet!Z169","v":0},{"$f":"Worksheet!Y169","v":0},0,{"$f":"IF(Worksheet!AG169=0,0,Worksheet!AG169/I151)","v":0},0,null,null,null,{"$f":"IFERROR(Worksheet!S169/Worksheet!P169,0)","v":0},{"$f":"IF(Worksheet!E169=\"\",\"\",Worksheet!E169)","v":""},{"$f":"IF(Worksheet!B169=\"\",\"\",Worksheet!B169)","v":""},{"$f":"IF(Worksheet!D169=\"\",\"\",Worksheet!D169)","v":""}]
[{"$f":"IF(ISBLANK(Worksheet!F170)=FALSE,VLOOKUP(Worksheet!A170,MeasureCode_Lookup,6,FALSE),\"\")","v":""},null,null,{"$f":"IFERROR(IF(Worksheet!U170=0,Worksheet!T170/I152,Worksheet!U170/R152),0)","v":0},"W Controlled",null,null,{"$f":"IF(N(Worksheet!P170)=0,N(Worksheet!O170),N(Worksheet!P170))","v":0},{"$f":"IFERROR(Worksheet!R170/Worksheet!O170,0)","v":0},{"$f":"Worksheet!Z170","v":0},{"$f":"Worksheet!Y170","v":0},0,{"$f":"IF(Worksheet!AG170=0,0,Worksheet!AG170/I152)","v":0},0,null,null,null,{"$f":"IFERROR(Worksheet!S170/Worksheet!P170,0)","v":0},{"$f":"IF(Worksheet!E170=\"\",\"\",Worksheet!E170)","v":""},{"$f":"IF(Worksheet!B170=\"\",\"\",Worksheet!B170)","v":""},{"$f":"IF(Worksheet!D170=\"\",\"\",Worksheet!D170)","v":""}]
[{"$f":"IF(ISBLANK(Worksheet!F171)=FALSE,VLOOKUP(Worksheet!A171,MeasureCode_Lookup,6,FALSE),\"\")","v":""},null,null,{"$f":"IFERROR(IF(Worksheet!U171=0,Worksheet!T171/I153,Worksheet!U171/R153),0)","v":0},"W Controlled",null,null,{"$f":"IF(N(Worksheet!P171)=0,N(Worksheet!O171),N(Worksheet!P171))","v":0},{"$f":"IFERROR(Worksheet!R171/Worksheet!O171,0)","v":0},{"$f":"Worksheet!Z171","v":0},{"$f":"Worksheet!Y171","v":0},0,{"$f":"IF(Worksheet!AG171=0,0,Worksheet!AG171/I153)","v":0},0,null,null,null,{"$f":"IFERROR(Worksheet!S171/Worksheet!P171,0)","v":0},{"$f":"IF(Worksheet!E171=\"\",\"\",Worksheet!E171)","v":""},{"$f":"IF(Worksheet!B171=\"\",\"\",Worksheet!B171)","v":""},{"$f":"IF(Worksheet!D171=\"\",\"\",Worksheet!D171)","v":""}]
[{"$f":"IF(ISBLANK(Worksheet!F172)=FALSE,VLOOKUP(Worksheet!A172,MeasureCode_Lookup,6,FALSE),\"\")","v":""},null,null,{"$f":"IFERROR(IF(Worksheet!U172=0,Worksheet!T172/I154,Worksheet!U172/R154),0)","v":0},"W Controlled",null,null,{"$f":"IF(N(Worksheet!P172)=0,N(Worksheet!O172),N(Worksheet!P172))","v":0},{"$f":"IFERROR(Worksheet!R172/Worksheet!O172,0)","v":0},{"$f":"Worksheet!Z172","v":0},{"$f":"Worksheet!Y172","v":0},0,{"$f":"IF(Worksheet!AG172=0,0,Worksheet!AG172/I154)","v":0},0,null,null,null,{"$f":"IFERROR(Worksheet!S172/Worksheet!P172,0)","v":0},{"$f":"IF(Worksheet!E172=\"\",\"\",Worksheet!E172)","v":""},{"$f":"IF(Worksheet!B172=\"\",\"\",Worksheet!B172)","v":""},{"$f":"IF(Worksheet!D172=\"\",\"\",Worksheet!D172)","v":""}]
[{"$f":"IF(ISBLANK(Worksheet!F173)=FALSE,VLOOKUP(Worksheet!A173,MeasureCode_Lookup,6,FALSE),\"\")","v":""},null,null,{"$f":"IFERROR(IF(Worksheet!U173=0,Worksheet!T173/I155,Worksheet!U173/R155),0)","v":0},"W Controlled",null,null,{"$f":"IF(N(Worksheet!P173)=0,N(Worksheet!O173),N(Worksheet!P173))","v":0},{"$f":"IFERROR(Worksheet!R173/Worksheet!O173,0)","v":0},{"$f":"Worksheet!Z173","v":0},{"$f":"Worksheet!Y173","v":0},0,{"$f":"IF(Worksheet!AG173=0,0,Worksheet!AG173/I155)","v":0},0,null,null,null,{"$f":"IFERROR(Worksheet!S173/Worksheet!P173,0)","v":0},{"$f":"IF(Worksheet!E173=\"\",\"\",Worksheet!E173)","v":""},{"$f":"IF(Worksheet!B173=\"\",\"\",Worksheet!B173)","v":""},{"$f":"IF(Worksheet!D173=\"\",\"\",Worksheet!D173)","v":""}]
[{"$f":"IF(ISBLANK(Worksheet!F174)=FALSE,VLOOKUP(Worksheet!A174,MeasureCode_Lookup,6,FALSE),\"\")","v":""},null,null,{"$f":"IFERROR(IF(Worksheet!U174=0,Worksheet!T174/I156,Worksheet!U174/R156),0)","v":0},"W Controlled",null,null,{"$f":"IF(N(Worksheet!P174)=0,N(Worksheet!O174),N(Worksheet!P174))","v":0},{"$f":"IFERROR(Worksheet!R174/Worksheet!O174,0)","v":0},{"$f":"Worksheet!Z174","v":0},{"$f":"Worksheet!Y174","v":0},0,{"$f":"IF(Worksheet!AG174=0,0,Worksheet!AG174/I156)","v":0},0,null,null,null,{"$f":"IFERROR(Worksheet!S174/Worksheet!P174,0)","v":0},{"$f":"IF(Worksheet!E174=\"\",\"\",Worksheet!E174)","v":""},{"$f":"IF(Worksheet!B174=\"\",\"\",Worksheet!B174)","v":""},{"$f":"IF(Worksheet!D174=\"\",\"\",Worksheet!D174)","v":""}]
[{"$f":"IF(ISBLANK(Worksheet!F175)=FALSE,VLOOKUP(Worksheet!A175,MeasureCode_Lookup,6,FALSE),\"\")","v":""},null,null,{"$f":"IFERROR(IF(Worksheet!U175=0,Worksheet!T175/I157,Worksheet!U175/R157),0)","v":0},"W Controlled",null,null,{"$f":"IF(N(Worksheet!P175)=0,N(Worksheet!O175),N(Worksheet!P175))","v":0},{"$f":"IFERROR(Worksheet!R175/Worksheet!O175,0)","v":0},{"$f":"Worksheet!Z175","v":0},{"$f":"Worksheet!Y175","v":0},0,{"$f":"IF(Worksheet!AG175=0,0,Worksheet!AG175/I157)","v":0},0,null,null,null,{"$f":"IFERROR(Worksheet!S175/Worksheet!P175,0)","v":0},{"$f":"IF(Worksheet!E175=\"\",\"\",Worksheet!E175)","v":""},{"$f":"IF(Worksheet!B175=\"\",\"\",Worksheet!B175)","v":""},{"$f":"IF(Worksheet!D175=\"\",\"\",Worksheet!D175)","v":""}]
[{"$f":"IF(ISBLANK(Worksheet!F176)=FALSE,VLOOKUP(Worksheet!A176,MeasureCode_Lookup,6,FALSE),\"\")","v":""},null,null,{"$f":"IFERROR(IF(Worksheet!U176=0,Worksheet!T176/I158,Worksheet!U176/R158),0)","v":0},"W Controlled",null,null,{"$f":"IF(N(Worksheet!P176)=0,N(Worksheet!O176),N(Worksheet!P176))","v":0},{"$f":"IFERROR(Worksheet!R176/Worksheet!O176,0)","v":0},{"$f":"Worksheet!Z176","v":0},{"$f":"Worksheet!Y176","v":0},0,{"$f":"IF(Worksheet!AG176=0,0,Worksheet!AG176/I158)","v":0},0,null,null,null,{"$f":"IFERROR(Worksheet!S176/Worksheet!P176,0)","v":0},{"$f":"IF(Worksheet!E176=\"\",\"\",Worksheet!E176)","v":""},{"$f":"IF(Worksheet!B176=\"\",\"\",Worksheet!B176)","v":""},{"$f":"IF(Worksheet!D176=\"\",\"\",Worksheet!D176)","v":""}]
[{"$f":"IF(ISBLANK(Worksheet!F177)=FALSE,VLOOKUP(Worksheet!A177,MeasureCode_Lookup,6,FALSE),\"\")","v":""},null,null,{"$f":"IFERROR(IF(Worksheet!U177=0,Worksheet!T177/I159,Worksheet!U177/R159),0)","v":0},"W Controlled",null,null,{"$f":"IF(N(Worksheet!P177)=0,N(Worksheet!O177),N(Worksheet!P177))","v":0},{"$f":"IFERROR(Worksheet!R177/Worksheet!O177,0)","v":0},{"$f":"Worksheet!Z177","v":0},{"$f":"Worksheet!Y177","v":0},0,{"$f":"IF(Worksheet!AG177=0,0,Worksheet!AG177/I159)","v":0},0,null,null,null,{"$f":"IFERROR(Worksheet!S177/Worksheet!P177,0)","v":0},{"$f":"IF(Worksheet!E177=\"\",\"\",Worksheet!E177)","v":""},{"$f":"IF(Worksheet!B177=\"\",\"\",Worksheet!B177)","v":""},{"$f":"IF(Worksheet!D177=\"\",\"\",Worksheet!D177)","v":""}]
[{"$f":"IF(ISBLANK(Worksheet!F178)=FALSE,VLOOKUP(Worksheet!A178,MeasureCode_Lookup,6,FALSE),\"\")","v":""},null,null,{"$f":"IFERROR(IF(Worksheet!U178=0,Worksheet!T178/I160,Worksheet!U178/R160),0)","v":0},"W Controlled",null,null,{"$f":"IF(N(Worksheet!P178)=0,N(Worksheet!O178),N(Worksheet!P178))","v":0},{"$f":"IFERROR(Worksheet!R178/Worksheet!O178,0)","v":0},{"$f":"Worksheet!Z178","v":0},{"$f":"Worksheet!Y178","v":0},0,{"$f":"IF(Worksheet!AG178=0,0,Worksheet!AG178/I160)","v":0},0,null,null,null,{"$f":"IFERROR(Worksheet!S178/Worksheet!P178,0)","v":0},{"$f":"IF(Worksheet!E178=\"\",\"\",Worksheet!E178)","v":""},{"$f":"IF(Worksheet!B178=\"\",\"\",Worksheet!B178)","v":""},{"$f":"IF(Worksheet!D178=\"\",\"\",Worksheet!D178)","v":""}]
[{"$f":"IF(ISBLANK(Worksheet!F179)=FALSE,VLOOKUP(Worksheet!A179,MeasureCode_Lookup,6,FALSE),\"\")","v":""},null,null,{"$f":"IFERROR(IF(Worksheet!U179=0,Worksheet!T179/I161,Worksheet!U179/R161),0)","v":0},"W Controlled",null,null,{"$f":"IF(N(Worksheet!P179)=0,N(Worksheet!O179),N(Worksheet!P179))","v":0},{"$f":"IFERROR(Worksheet!R179/Worksheet!O179,0)","v":0},{"$f":"Worksheet!Z179","v":0},{"$f":"Worksheet!Y179","v":0},0,{"$f":"IF(Worksheet!AG179=0,0,Worksheet!AG179/I161)","v":0},0,null,null,null,{"$f":"IFERROR(Worksheet!S179/Worksheet!P179,0)","v":0},{"$f":"IF(Worksheet!E179=\"\",\"\",Worksheet!E179)","v":""},{"$f":"IF(Worksheet!B179=\"\",\"\",Worksheet!B179)","v":""},{"$f":"IF(Worksheet!D179=\"\",\"\",Worksheet!D179)","v":""}]
[{"$f":"IF(ISBLANK(Worksheet!F180)=FALSE,VLOOKUP(Worksheet!A180,MeasureCode_Lookup,6,FALSE),\"\")","v":""},null,null,{"$f":"IFERROR(IF(Worksheet!U180=0,Worksheet!T180/I162,Worksheet!U180/R162),0)","v":0},"W Controlled",null,null,{"$f":"IF(N(Worksheet!P180)=0,N(Worksheet!O180),N(Worksheet!P180))","v":0},{"$f":"IFERROR(Worksheet!R180/Worksheet!O180,0)","v":0},{"$f":"Worksheet!Z180","v":0},{"$f":"Worksheet!Y180","v":0},0,{"$f":"IF(Worksheet!AG180=0,0,Worksheet!AG180/I162)","v":0},0,null,null,null,{"$f":"IFERROR(Worksheet!S180/Worksheet!P180,0)","v":0},{"$f":"IF(Worksheet!E180=\"\",\"\",Worksheet!E180)","v":""},{"$f":"IF(Worksheet!B180=\"\",\"\",Worksheet!B180)","v":""},{"$f":"IF(Worksheet!D180=\"\",\"\",Worksheet!D180)","v":""}]
[{"$f":"IF(ISBLANK(Worksheet!F181)=FALSE,VLOOKUP(Worksheet!A181,MeasureCode_Lookup,6,FALSE),\"\")","v":""},null,null,{"$f":"IFERROR(IF(Worksheet!U181=0,Worksheet!T181/I163,Worksheet!U181/R163),0)","v":0},"W Controlled",null,null,{"$f":"IF(N(Worksheet!P181)=0,N(Worksheet!O181),N(Worksheet!P181))","v":0},{"$f":"IFERROR(Worksheet!R181/Worksheet!O181,0)","v":0},{"$f":"Worksheet!Z181","v":0},{"$f":"Worksheet!Y181","v":0},0,{"$f":"IF(Worksheet!AG181=0,0,Worksheet!AG181/I163)","v":0},0,null,null,null,{"$f":"IFERROR(Worksheet!S181/Worksheet!P181,0)","v":0},{"$f":"IF(Worksheet!E181=\"\",\"\",Worksheet!E181)","v":""},{"$f":"IF(Worksheet!B181=\"\",\"\",Worksheet!B181)","v":""},{"$f":"IF(Worksheet!D181=\"\",\"\",Worksheet!D181)","v":""}]
[{"$f":"IF(ISBLANK(Worksheet!F182)=FALSE,VLOOKUP(Worksheet!A182,MeasureCode_Lookup,6,FALSE),\"\")","v":""},null,null,{"$f":"IFERROR(IF(Worksheet!U182=0,Worksheet!T182/I164,Worksheet!U182/R164),0)","v":0},"W Controlled",null,null,{"$f":"IF(N(Worksheet!P182)=0,N(Worksheet!O182),N(Worksheet!P182))","v":0},{"$f":"IFERROR(Worksheet!R182/Worksheet!O182,0)","v":0},{"$f":"Worksheet!Z182","v":0},{"$f":"Worksheet!Y182","v":0},0,{"$f":"IF(Worksheet!AG182=0,0,Worksheet!AG182/I164)","v":0},0,null,null,null,{"$f":"IFERROR(Worksheet!S182/Worksheet!P182,0)","v":0},{"$f":"IF(Worksheet!E182=\"\",\"\",Worksheet!E182)","v":""},{"$f":"IF(Worksheet!B182=\"\",\"\",Worksheet!B182)","v":""},{"$f":"IF(Worksheet!D182=\"\",\"\",Worksheet!D182)","v":""}]
[{"$f":"IF(ISBLANK(Worksheet!F183)=FALSE,VLOOKUP(Worksheet!A183,MeasureCode_Lookup,6,FALSE),\"\")","v":""},null,null,{"$f":"IFERROR(IF(Worksheet!U183=0,Worksheet!T183/I165,Worksheet!U183/R165),0)","v":0},"W Controlled",null,null,{"$f":"IF(N(Worksheet!P183)=0,N(Worksheet!O183),N(Worksheet!P183))","v":0},{"$f":"IFERROR(Worksheet!R183/Worksheet!O183,0)","v":0},{"$f":"Worksheet!Z183","v":0},{"$f":"Worksheet!Y183","v":0},0,{"$f":"IF(Worksheet!AG183=0,0,Worksheet!AG183/I165)","v":0},0,null,null,null,{"$f":"IFERROR(Worksheet!S183/Worksheet!P183,0)","v":0},{"$f":"IF(Worksheet!E183=\"\",\"\",Worksheet!E183)","v":""},{"$f":"IF(Worksheet!B183=\"\",\"\",Worksheet!B183)","v":""},{"$f":"IF(Worksheet!D183=\"\",\"\",Worksheet!D183)","v":""}]
[{"$f":"IF(ISBLANK(Worksheet!F184)=FALSE,VLOOKUP(Worksheet!A184,MeasureCode_Lookup,6,FALSE),\"\")","v":""},null,null,{"$f":"IFERROR(IF(Worksheet!U184=0,Worksheet!T184/I166,Worksheet!U184/R166),0)","v":0},"W Controlled",null,null,{"$f":"IF(N(Worksheet!P184)=0,N(Worksheet!O184),N(Worksheet!P184))","v":0},{"$f":"IFERROR(Worksheet!R184/Worksheet!O184,0)","v":0},{"$f":"Worksheet!Z184","v":0},{"$f":"Worksheet!Y184","v":0},0,{"$f":"IF(Worksheet!AG184=0,0,Worksheet!AG184/I166)","v":0},0,null,null,null,{"$f":"IFERROR(Worksheet!S184/Worksheet!P184,0)","v":0},{"$f":"IF(Worksheet!E184=\"\",\"\",Worksheet!E184)","v":""},{"$f":"IF(Worksheet!B184=\"\",\"\",Worksheet!B184)","v":""},{"$f":"IF(Worksheet!D184=\"\",\"\",Worksheet!D184)","v":""}]
[{"$f":"IF(ISBLANK(Worksheet!F185)=FALSE,VLOOKUP(Worksheet!A185,MeasureCode_Lookup,6,FALSE),\"\")","v":""},null,null,{"$f":"IFERROR(IF(Worksheet!U185=0,Worksheet!T185/I167,Worksheet!U185/R167),0)","v":0},"W Controlled",null,null,{"$f":"IF(N(Worksheet!P185)=0,N(Worksheet!O185),N(Worksheet!P185))","v":0},{"$f":"IFERROR(Worksheet!R185/Worksheet!O185,0)","v":0},{"$f":"Worksheet!Z185","v":0},{"$f":"Worksheet!Y185","v":0},0,{"$f":"IF(Worksheet!AG185=0,0,Worksheet!AG185/I167)","v":0},0,null,null,null,{"$f":"IFERROR(Worksheet!S185/Worksheet!P185,0)","v":0},{"$f":"IF(Worksheet!E185=\"\",\"\",Worksheet!E185)","v":""},{"$f":"IF(Worksheet!B185=\"\",\"\",Worksheet!B185)","v":""},{"$f":"IF(Worksheet!D185=\"\",\"\",Worksheet!D185)","v":""}]
[{"$f":"IF(ISBLANK(Worksheet!F186)=FALSE,VLOOKUP(Worksheet!A186,MeasureCode_Lookup,6,FALSE),\"\")","v":""},null,null,{"$f":"IFERROR(IF(Worksheet!U186=0,Worksheet!T186/I168,Worksheet!U186/R168),0)","v":0},"W Controlled",null,null,{"$f":"IF(N(Worksheet!P186)=0,N(Worksheet!O186),N(Worksheet!P186))","v":0},{"$f":"IFERROR(Worksheet!R186/Worksheet!O186,0)","v":0},{"$f":"Worksheet!Z186","v":0},{"$f":"Worksheet!Y186","v":0},0,{"$f":"IF(Worksheet!AG186=0,0,Worksheet!AG186/I168)","v":0},0,null,null,null,{"$f":"IFERROR(Worksheet!S186/Worksheet!P186,0)","v":0},{"$f":"IF(Worksheet!E186=\"\",\"\",Worksheet!E186)","v":""},{"$f":"IF(Worksheet!B186=\"\",\"\",Worksheet!B186)","v":""},{"$f":"IF(Worksheet!D186=\"\",\"\",Worksheet!D186)","v":""}]
[{"$f":"IF(ISBLANK(Worksheet!F187)=FALSE,VLOOKUP(Worksheet!A187,MeasureCode_Lookup,6,FALSE),\"\")","v":""},null,null,{"$f":"IFERROR(IF(Worksheet!U187=0,Worksheet!T187/I169,Worksheet!U187/R169),0)","v":0},"W Controlled",null,null,{"$f":"IF(N(Worksheet!P187)=0,N(Worksheet!O187),N(Worksheet!P187))","v":0},{"$f":"IFERROR(Worksheet!R187/Worksheet!O187,0)","v":0},{"$f":"Worksheet!Z187","v":0},{"$f":"Worksheet!Y187","v":0},0,{"$f":"IF(Worksheet!AG187=0,0,Worksheet!AG187/I169)","v":0},0,null,null,null,{"$f":"IFERROR(Worksheet!S187/Worksheet!P187,0)","v":0},{"$f":"IF(Worksheet!E187=\"\",\"\",Worksheet!E187)","v":""},{"$f":"IF(Worksheet!B187=\"\",\"\",Worksheet!B187)","v":""},{"$f":"IF(Worksheet!D187=\"\",\"\",Worksheet!D187)","v":""}]
[{"$f":"IF(ISBLANK(Worksheet!F188)=FALSE,VLOOKUP(Worksheet!A188,MeasureCode_Lookup,6,FALSE),\"\")","v":""},null,null,{"$f":"IFERROR(IF(Worksheet!U188=0,Worksheet!T188/I170,Worksheet!U188/R170),0)","v":0},"W Controlled",null,null,{"$f":"IF(N(Worksheet!P188)=0,N(Worksheet!O188),N(Worksheet!P188))","v":0},{"$f":"IFERROR(Worksheet!R188/Worksheet!O188,0)","v":0},{"$f":"Worksheet!Z188","v":0},{"$f":"Worksheet!Y188","v":0},0,{"$f":"IF(Worksheet!AG188=0,0,Worksheet!AG188/I170)","v":0},0,null,null,null,{"$f":"IFERROR(Worksheet!S188/Worksheet!P188,0)","v":0},{"$f":"IF(Worksheet!E188=\"\",\"\",Worksheet!E188)","v":""},{"$f":"IF(Worksheet!B188=\"\",\"\",Worksheet!B188)","v":""},{"$f":"IF(Worksheet!D188=\"\",\"\",Worksheet!D188)","v":""}]
[{"$f":"IF(ISBLANK(Worksheet!F189)=FALSE,VLOOKUP(Worksheet!A189,MeasureCode_Lookup,6,FALSE),\"\")","v":""},null,null,{"$f":"IFERROR(IF(Worksheet!U189=0,Worksheet!T189/I171,Worksheet!U189/R171),0)","v":0},"W Controlled",null,null,{"$f":"IF(N(Worksheet!P189)=0,N(Worksheet!O189),N(Worksheet!P189))","v":0},{"$f":"IFERROR(Worksheet!R189/Worksheet!O189,0)","v":0},{"$f":"Worksheet!Z189","v":0},{"$f":"Worksheet!Y189","v":0},0,{"$f":"IF(Worksheet!AG189=0,0,Worksheet!AG189/I171)","v":0},0,null,null,null,{"$f":"IFERROR(Worksheet!S189/Worksheet!P189,0)","v":0},{"$f":"IF(Worksheet!E189=\"\",\"\",Worksheet!E189)","v":""},{"$f":"IF(Worksheet!B189=\"\",\"\",Worksheet!B189)","v":""},{"$f":"IF(Worksheet!D189=\"\",\"\",Worksheet!D189)","v":""}]
[{"$f":"IF(ISBLANK(Worksheet!F190)=FALSE,VLOOKUP(Worksheet!A190,MeasureCode_Lookup,6,FALSE),\"\")","v":""},null,null,{"$f":"IFERROR(IF(Worksheet!U190=0,Worksheet!T190/I172,Worksheet!U190/R172),0)","v":0},"W Controlled",null,null,{"$f":"IF(N(Worksheet!P190)=0,N(Worksheet!O190),N(Worksheet!P190))","v":0},{"$f":"IFERROR(Worksheet!R190/Worksheet!O190,0)","v":0},{"$f":"Worksheet!Z190","v":0},{"$f":"Worksheet!Y190","v":0},0,{"$f":"IF(Worksheet!AG190=0,0,Worksheet!AG190/I172)","v":0},0,null,null,null,{"$f":"IFERROR(Worksheet!S190/Worksheet!P190,0)","v":0},{"$f":"IF(Worksheet!E190=\"\",\"\",Worksheet!E190)","v":""},{"$f":"IF(Worksheet!B190=\"\",\"\",Worksheet!B190)","v":""},{"$f":"IF(Worksheet!D190=\"\",\"\",Worksheet!D190)","v":""}]
[{"$f":"IF(ISBLANK(Worksheet!F191)=FALSE,VLOOKUP(Worksheet!A191,MeasureCode_Lookup,6,FALSE),\"\")","v":""},null,null,{"$f":"IFERROR(IF(Worksheet!U191=0,Worksheet!T191/I173,Worksheet!U191/R173),0)","v":0},"W Controlled",null,null,{"$f":"IF(N(Worksheet!P191)=0,N(Worksheet!O191),N(Worksheet!P191))","v":0},{"$f":"IFERROR(Worksheet!R191/Worksheet!O191,0)","v":0},{"$f":"Worksheet!Z191","v":0},{"$f":"Worksheet!Y191","v":0},0,{"$f":"IF(Worksheet!AG191=0,0,Worksheet!AG191/I173)","v":0},0,null,null,null,{"$f":"IFERROR(Worksheet!S191/Worksheet!P191,0)","v":0},{"$f":"IF(Worksheet!E191=\"\",\"\",Worksheet!E191)","v":""},{"$f":"IF(Worksheet!B191=\"\",\"\",Worksheet!B191)","v":""},{"$f":"IF(Worksheet!D191=\"\",\"\",Worksheet!D191)","v":""}]
[{"$f":"IF(ISBLANK(Worksheet!F192)=FALSE,VLOOKUP(Worksheet!A192,MeasureCode_Lookup,6,FALSE),\"\")","v":""},null,null,{"$f":"IFERROR(IF(Worksheet!U192=0,Worksheet!T192/I174,Worksheet!U192/R174),0)","v":0},"W Controlled",null,null,{"$f":"IF(N(Worksheet!P192)=0,N(Worksheet!O192),N(Worksheet!P192))","v":0},{"$f":"IFERROR(Worksheet!R192/Worksheet!O192,0)","v":0},{"$f":"Worksheet!Z192","v":0},{"$f":"Worksheet!Y192","v":0},0,{"$f":"IF(Worksheet!AG192=0,0,Worksheet!AG192/I174)","v":0},0,null,null,null,{"$f":"IFERROR(Worksheet!S192/Worksheet!P192,0)","v":0},{"$f":"IF(Worksheet!E192=\"\",\"\",Worksheet!E192)","v":""},{"$f":"IF(Worksheet!B192=\"\",\"\",Worksheet!B192)","v":""},{"$f":"IF(Worksheet!D192=\"\",\"\",Worksheet!D192)","v":""}]
[{"$f":"IF(ISBLANK(Worksheet!F193)=FALSE,VLOOKUP(Worksheet!A193,MeasureCode_Lookup,6,FALSE),\"\")","v":""},null,null,{"$f":"IFERROR(IF(Worksheet!U193=0,Worksheet!T193/I175,Worksheet!U193/R175),0)","v":0},"W Controlled",null,null,{"$f":"IF(N(Worksheet!P193)=0,N(Worksheet!O193),N(Worksheet!P193))","v":0},{"$f":"IFERROR(Worksheet!R193/Worksheet!O193,0)","v":0},{"$f":"Worksheet!Z193","v":0},{"$f":"Worksheet!Y193","v":0},0,{"$f":"IF(Worksheet!AG193=0,0,Worksheet!AG193/I175)","v":0},0,null,null,null,{"$f":"IFERROR(Worksheet!S193/Worksheet!P193,0)","v":0},{"$f":"IF(Worksheet!E193=\"\",\"\",Worksheet!E193)","v":""},{"$f":"IF(Worksheet!B193=\"\",\"\",Worksheet!B193)","v":""},{"$f":"IF(Worksheet!D193=\"\",\"\",Worksheet!D193)","v":""}]
[{"$f":"IF(ISBLANK(Worksheet!F194)=FALSE,VLOOKUP(Worksheet!A194,MeasureCode_Lookup,6,FALSE),\"\")","v":""},null,null,{"$f":"IFERROR(IF(Worksheet!U194=0,Worksheet!T194/I176,Worksheet!U194/R176),0)","v":0},"W Controlled",null,null,{"$f":"IF(N(Worksheet!P194)=0,N(Worksheet!O194),N(Worksheet!P194))","v":0},{"$f":"IFERROR(Worksheet!R194/Worksheet!O194,0)","v":0},{"$f":"Worksheet!Z194","v":0},{"$f":"Worksheet!Y194","v":0},0,{"$f":"IF(Worksheet!AG194=0,0,Worksheet!AG194/I176)","v":0},0,null,null,null,{"$f":"IFERROR(Worksheet!S194/Worksheet!P194,0)","v":0},{"$f":"IF(Worksheet!E194=\"\",\"\",Worksheet!E194)","v":""},{"$f":"IF(Worksheet!B194=\"\",\"\",Worksheet!B194)","v":""},{"$f":"IF(Worksheet!D194=\"\",\"\",Worksheet!D194)","v":""}]
[{"$f":"IF(ISBLANK(Worksheet!F195)=FALSE,VLOOKUP(Worksheet!A195,MeasureCode_Lookup,6,FALSE),\"\")","v":""},null,null,{"$f":"IFERROR(IF(Worksheet!U195=0,Worksheet!T195/I177,Worksheet!U195/R177),0)","v":0},"W Controlled",null,null,{"$f":"IF(N(Worksheet!P195)=0,N(Worksheet!O195),N(Worksheet!P195))","v":0},{"$f":"IFERROR(Worksheet!R195/Worksheet!O195,0)","v":0},{"$f":"Worksheet!Z195","v":0},{"$f":"Worksheet!Y195","v":0},0,{"$f":"IF(Worksheet!AG195=0,0,Worksheet!AG195/I177)","v":0},0,null,null,null,{"$f":"IFERROR(Worksheet!S195/Worksheet!P195,0)","v":0},{"$f":"IF(Worksheet!E195=\"\",\"\",Worksheet!E195)","v":""},{"$f":"IF(Worksheet!B195=\"\",\"\",Worksheet!B195)","v":""},{"$f":"IF(Worksheet!D195=\"\",\"\",Worksheet!D195)","v":""}]
[{"$f":"IF(ISBLANK(Worksheet!F196)=FALSE,VLOOKUP(Worksheet!A196,MeasureCode_Lookup,6,FALSE),\"\")","v":""},null,null,{"$f":"IFERROR(IF(Worksheet!U196=0,Worksheet!T196/I178,Worksheet!U196/R178),0)","v":0},"W Controlled",null,null,{"$f":"IF(N(Worksheet!P196)=0,N(Worksheet!O196),N(Worksheet!P196))","v":0},{"$f":"IFERROR(Worksheet!R196/Worksheet!O196,0)","v":0},{"$f":"Worksheet!Z196","v":0},{"$f":"Worksheet!Y196","v":0},0,{"$f":"IF(Worksheet!AG196=0,0,Worksheet!AG196/I178)","v":0},0,null,null,null,{"$f":"IFERROR(Worksheet!S196/Worksheet!P196,0)","v":0},{"$f":"IF(Worksheet!E196=\"\",\"\",Worksheet!E196)","v":""},{"$f":"IF(Worksheet!B196=\"\",\"\",Worksheet!B196)","v":""},{"$f":"IF(Worksheet!D196=\"\",\"\",Worksheet!D196)","v":""}]
[{"$f":"IF(ISBLANK(Worksheet!F197)=FALSE,VLOOKUP(Worksheet!A197,MeasureCode_Lookup,6,FALSE),\"\")","v":""},null,null,{"$f":"IFERROR(IF(Worksheet!U197=0,Worksheet!T197/I179,Worksheet!U197/R179),0)","v":0},"W Controlled",null,null,{"$f":"IF(N(Worksheet!P197)=0,N(Worksheet!O197),N(Worksheet!P197))","v":0},{"$f":"IFERROR(Worksheet!R197/Worksheet!O197,0)","v":0},{"$f":"Worksheet!Z197","v":0},{"$f":"Worksheet!Y197","v":0},0,{"$f":"IF(Worksheet!AG197=0,0,Worksheet!AG197/I179)","v":0},0,null,null,null,{"$f":"IFERROR(Worksheet!S197/Worksheet!P197,0)","v":0},{"$f":"IF(Worksheet!E197=\"\",\"\",Worksheet!E197)","v":""},{"$f":"IF(Worksheet!B197=\"\",\"\",Worksheet!B197)","v":""},{"$f":"IF(Worksheet!D197=\"\",\"\",Worksheet!D197)","v":""}]
[{"$f":"IF(ISBLANK(Worksheet!F198)=FALSE,VLOOKUP(Worksheet!A198,MeasureCode_Lookup,6,FALSE),\"\")","v":""},null,null,{"$f":"IFERROR(IF(Worksheet!U198=0,Worksheet!T198/I180,Worksheet!U198/R180),0)","v":0},"W Controlled",null,null,{"$f":"IF(N(Worksheet!P198)=0,N(Worksheet!O198),N(Worksheet!P198))","v":0},{"$f":"IFERROR(Worksheet!R198/Worksheet!O198,0)","v":0},{"$f":"Worksheet!Z198","v":0},{"$f":"Worksheet!Y198","v":0},0,{"$f":"IF(Worksheet!AG198=0,0,Worksheet!AG198/I180)","v":0},0,null,null,null,{"$f":"IFERROR(Worksheet!S198/Worksheet!P198,0)","v":0},{"$f":"IF(Worksheet!E198=\"\",\"\",Worksheet!E198)","v":""},{"$f":"IF(Worksheet!B198=\"\",\"\",Worksheet!B198)","v":""},{"$f":"IF(Worksheet!D198=\"\",\"\",Worksheet!D198)","v":""}]
[{"$f":"IF(ISBLANK(Worksheet!F199)=FALSE,VLOOKUP(Worksheet!A199,MeasureCode_Lookup,6,FALSE),\"\")","v":""},null,null,{"$f":"IFERROR(IF(Worksheet!U199=0,Worksheet!T199/I181,Worksheet!U199/R181),0)","v":0},"W Controlled",null,null,{"$f":"IF(N(Worksheet!P199)=0,N(Worksheet!O199),N(Worksheet!P199))","v":0},{"$f":"IFERROR(Worksheet!R199/Worksheet!O199,0)","v":0},{"$f":"Worksheet!Z199","v":0},{"$f":"Worksheet!Y199","v":0},0,{"$f":"IF(Worksheet!AG199=0,0,Worksheet!AG199/I181)","v":0},0,null,null,null,{"$f":"IFERROR(Worksheet!S199/Worksheet!P199,0)","v":0},{"$f":"IF(Worksheet!E199=\"\",\"\",Worksheet!E199)","v":""},{"$f":"IF(Worksheet!B199=\"\",\"\",Worksheet!B199)","v":""},{"$f":"IF(Worksheet!D199=\"\",\"\",Worksheet!D199)","v":""}]
[{"$f":"IF(ISBLANK(Worksheet!F200)=FALSE,VLOOKUP(Worksheet!A200,MeasureCode_Lookup,6,FALSE),\"\")","v":""},null,null,{"$f":"IFERROR(IF(Worksheet!U200=0,Worksheet!T200/I182,Worksheet!U200/R182),0)","v":0},"W Controlled",null,null,{"$f":"IF(N(Worksheet!P200)=0,N(Worksheet!O200),N(Worksheet!P200))","v":0},{"$f":"IFERROR(Worksheet!R200/Worksheet!O200,0)","v":0},{"$f":"Worksheet!Z200","v":0},{"$f":"Worksheet!Y200","v":0},0,{"$f":"IF(Worksheet!AG200=0,0,Worksheet!AG200/I182)","v":0},0,null,null,null,{"$f":"IFERROR(Worksheet!S200/Worksheet!P200,0)","v":0},{"$f":"IF(Worksheet!E200=\"\",\"\",Worksheet!E200)","v":""},{"$f":"IF(Worksheet!B200=\"\",\"\",Worksheet!B200)","v":""},{"$f":"IF(Worksheet!D200=\"\",\"\",Worksheet!D200)","v":""}]
[{"$f":"IF(ISBLANK(Worksheet!F201)=FALSE,VLOOKUP(Worksheet!A201,MeasureCode_Lookup,6,FALSE),\"\")","v":""},null,null,{"$f":"IFERROR(IF(Worksheet!U201=0,Worksheet!T201/I183,Worksheet!U201/R183),0)","v":0},"W Controlled",null,null,{"$f":"IF(N(Worksheet!P201)=0,N(Worksheet!O201),N(Worksheet!P201))","v":0},{"$f":"IFERROR(Worksheet!R201/Worksheet!O201,0)","v":0},{"$f":"Worksheet!Z201","v":0},{"$f":"Worksheet!Y201","v":0},0,{"$f":"IF(Worksheet!AG201=0,0,Worksheet!AG201/I183)","v":0},0,null,null,null,{"$f":"IFERROR(Worksheet!S201/Worksheet!P201,0)","v":0},{"$f":"IF(Worksheet!E201=\"\",\"\",Worksheet!E201)","v":""},{"$f":"IF(Worksheet!B201=\"\",\"\",Worksheet!B201)","v":""},{"$f":"IF(Worksheet!D201=\"\",\"\",Worksheet!D201)","v":""}]
[{"$f":"IF(ISBLANK(Worksheet!F202)=FALSE,VLOOKUP(Worksheet!A202,MeasureCode_Lookup,6,FALSE),\"\")","v":""},null,null,{"$f":"IFERROR(IF(Worksheet!U202=0,Worksheet!T202/I184,Worksheet!U202/R184),0)","v":0},"W Controlled",null,null,{"$f":"IF(N(Worksheet!P202)=0,N(Worksheet!O202),N(Worksheet!P202))","v":0},{"$f":"IFERROR(Worksheet!R202/Worksheet!O202,0)","v":0},{"$f":"Worksheet!Z202","v":0},{"$f":"Worksheet!Y202","v":0},0,{"$f":"IF(Worksheet!AG202=0,0,Worksheet!AG202/I184)","v":0},0,null,null,null,{"$f":"IFERROR(Worksheet!S202/Worksheet!P202,0)","v":0},{"$f":"IF(Worksheet!E202=\"\",\"\",Worksheet!E202)","v":""},{"$f":"IF(Worksheet!B202=\"\",\"\",Worksheet!B202)","v":""},{"$f":"IF(Worksheet!D202=\"\",\"\",Worksheet!D202)","v":""}]
[{"$f":"IF(ISBLANK(Worksheet!F203)=FALSE,VLOOKUP(Worksheet!A203,MeasureCode_Lookup,6,FALSE),\"\")","v":""},null,null,{"$f":"IFERROR(IF(Worksheet!U203=0,Worksheet!T203/I185,Worksheet!U203/R185),0)","v":0},"W Controlled",null,null,{"$f":"IF(N(Worksheet!P203)=0,N(Worksheet!O203),N(Worksheet!P203))","v":0},{"$f":"IFERROR(Worksheet!R203/Worksheet!O203,0)","v":0},{"$f":"Worksheet!Z203","v":0},{"$f":"Worksheet!Y203","v":0},0,{"$f":"IF(Worksheet!AG203=0,0,Worksheet!AG203/I185)","v":0},0,null,null,null,{"$f":"IFERROR(Worksheet!S203/Worksheet!P203,0)","v":0},{"$f":"IF(Worksheet!E203=\"\",\"\",Worksheet!E203)","v":""},{"$f":"IF(Worksheet!B203=\"\",\"\",Worksheet!B203)","v":""},{"$f":"IF(Worksheet!D203=\"\",\"\",Worksheet!D203)","v":""}]
[{"$f":"IF(ISBLANK(Worksheet!F204)=FALSE,VLOOKUP(Worksheet!A204,MeasureCode_Lookup,6,FALSE),\"\")","v":""},null,null,{"$f":"IFERROR(IF(Worksheet!U204=0,Worksheet!T204/I186,Worksheet!U204/R186),0)","v":0},"W Controlled",null,null,{"$f":"IF(N(Worksheet!P204)=0,N(Worksheet!O204),N(Worksheet!P204))","v":0},{"$f":"IFERROR(Worksheet!R204/Worksheet!O204,0)","v":0},{"$f":"Worksheet!Z204","v":0},{"$f":"Worksheet!Y204","v":0},0,{"$f":"IF(Worksheet!AG204=0,0,Worksheet!AG204/I186)","v":0},0,null,null,null,{"$f":"IFERROR(Worksheet!S204/Worksheet!P204,0)","v":0},{"$f":"IF(Worksheet!E204=\"\",\"\",Worksheet!E204)","v":""},{"$f":"IF(Worksheet!B204=\"\",\"\",Worksheet!B204)","v":""},{"$f":"IF(Worksheet!D204=\"\",\"\",Worksheet!D204)","v":""}]
[{"$f":"IF(ISBLANK(Worksheet!F205)=FALSE,VLOOKUP(Worksheet!A205,MeasureCode_Lookup,6,FALSE),\"\")","v":""},null,null,{"$f":"IFERROR(IF(Worksheet!U205=0,Worksheet!T205/I187,Worksheet!U205/R187),0)","v":0},"W Controlled",null,null,{"$f":"IF(N(Worksheet!P205)=0,N(Worksheet!O205),N(Worksheet!P205))","v":0},{"$f":"IFERROR(Worksheet!R205/Worksheet!O205,0)","v":0},{"$f":"Worksheet!Z205","v":0},{"$f":"Worksheet!Y205","v":0},0,{"$f":"IF(Worksheet!AG205=0,0,Worksheet!AG205/I187)","v":0},0,null,null,null,{"$f":"IFERROR(Worksheet!S205/Worksheet!P205,0)","v":0},{"$f":"IF(Worksheet!E205=\"\",\"\",Worksheet!E205)","v":""},{"$f":"IF(Worksheet!B205=\"\",\"\",Worksheet!B205)","v":""},{"$f":"IF(Worksheet!D205=\"\",\"\",Worksheet!D205)","v":""}]
[{"$f":"IF(ISBLANK(Worksheet!F206)=FALSE,VLOOKUP(Worksheet!A206,MeasureCode_Lookup,6,FALSE),\"\")","v":""},null,null,{"$f":"IFERROR(IF(Worksheet!U206=0,Worksheet!T206/I188,Worksheet!U206/R188),0)","v":0},"W Controlled",null,null,{"$f":"IF(N(Worksheet!P206)=0,N(Worksheet!O206),N(Worksheet!P206))","v":0},{"$f":"IFERROR(Worksheet!R206/Worksheet!O206,0)","v":0},{"$f":"Worksheet!Z206","v":0},{"$f":"Worksheet!Y206","v":0},0,{"$f":"IF(Worksheet!AG206=0,0,Worksheet!AG206/I188)","v":0},0,null,null,null,{"$f":"IFERROR(Worksheet!S206/Worksheet!P206,0)","v":0},{"$f":"IF(Worksheet!E206=\"\",\"\",Worksheet!E206)","v":""},{"$f":"IF(Worksheet!B206=\"\",\"\",Worksheet!B206)","v":""},{"$f":"IF(Worksheet!D206=\"\",\"\",Worksheet!D206)","v":""}]
[{"$f":"IF(ISBLANK(Worksheet!F207)=FALSE,VLOOKUP(Worksheet!A207,MeasureCode_Lookup,6,FALSE),\"\")","v":""},null,null,{"$f":"IFERROR(IF(Worksheet!U207=0,Worksheet!T207/I189,Worksheet!U207/R189),0)","v":0},"W Controlled",null,null,{"$f":"IF(N(Worksheet!P207)=0,N(Worksheet!O207),N(Worksheet!P207))","v":0},{"$f":"IFERROR(Worksheet!R207/Worksheet!O207,0)","v":0},{"$f":"Worksheet!Z207","v":0},{"$f":"Worksheet!Y207","v":0},0,{"$f":"IF(Worksheet!AG207=0,0,Worksheet!AG207/I189)","v":0},0,null,null,null,{"$f":"IFERROR(Worksheet!S207/Worksheet!P207,0)","v":0},{"$f":"IF(Worksheet!E207=\"\",\"\",Worksheet!E207)","v":""},{"$f":"IF(Worksheet!B207=\"\",\"\",Worksheet!B207)","v":""},{"$f":"IF(Worksheet!D207=\"\",\"\",Worksheet!D207)","v":""}]
[{"$f":"IF(ISBLANK(Worksheet!F208)=FALSE,VLOOKUP(Worksheet!A208,MeasureCode_Lookup,6,FALSE),\"\")","v":""},null,null,{"$f":"IFERROR(IF(Worksheet!U208=0,Worksheet!T208/I190,Worksheet!U208/R190),0)","v":0},"W Controlled",null,null,{"$f":"IF(N(Worksheet!P208)=0,N(Worksheet!O208),N(Worksheet!P208))","v":0},{"$f":"IFERROR(Worksheet!R208/Worksheet!O208,0)","v":0},{"$f":"Worksheet!Z208","v":0},{"$f":"Worksheet!Y208","v":0},0,{"$f":"IF(Worksheet!AG208=0,0,Worksheet!AG208/I190)","v":0},0,null,null,null,{"$f":"IFERROR(Worksheet!S208/Worksheet!P208,0)","v":0},{"$f":"IF(Worksheet!E208=\"\",\"\",Worksheet!E208)","v":""},{"$f":"IF(Worksheet!B208=\"\",\"\",Worksheet!B208)","v":""},{"$f":"IF(Worksheet!D208=\"\",\"\",Worksheet!D208)","v":""}]
[{"$f":"IF(ISBLANK(Worksheet!F209)=FALSE,VLOOKUP(Worksheet!A209,MeasureCode_Lookup,6,FALSE),\"\")","v":""},null,null,{"$f":"IFERROR(IF(Worksheet!U209=0,Worksheet!T209/I191,Worksheet!U209/R191),0)","v":0},"W Controlled",null,null,{"$f":"IF(N(Worksheet!P209)=0,N(Worksheet!O209),N(Worksheet!P209))","v":0},{"$f":"IFERROR(Worksheet!R209/Worksheet!O209,0)","v":0},{"$f":"Worksheet!Z209","v":0},{"$f":"Worksheet!Y209","v":0},0,{"$f":"IF(Worksheet!AG209=0,0,Worksheet!AG209/I191)","v":0},0,null,null,null,{"$f":"IFERROR(Worksheet!S209/Worksheet!P209,0)","v":0},{"$f":"IF(Worksheet!E209=\"\",\"\",Worksheet!E209)","v":""},{"$f":"IF(Worksheet!B209=\"\",\"\",Worksheet!B209)","v":""},{"$f":"IF(Worksheet!D209=\"\",\"\",Worksheet!D209)","v":""}]
[{"$f":"IF(ISBLANK(Worksheet!F210)=FALSE,VLOOKUP(Worksheet!A210,MeasureCode_Lookup,6,FALSE),\"\")","v":""},null,null,{"$f":"IFERROR(IF(Worksheet!U210=0,Worksheet!T210/I192,Worksheet!U210/R192),0)","v":0},"W Controlled",null,null,{"$f":"IF(N(Worksheet!P210)=0,N(Worksheet!O210),N(Worksheet!P210))","v":0},{"$f":"IFERROR(Worksheet!R210/Worksheet!O210,0)","v":0},{"$f":"Worksheet!Z210","v":0},{"$f":"Worksheet!Y210","v":0},0,{"$f":"IF(Worksheet!AG210=0,0,Worksheet!AG210/I192)","v":0},0,null,null,null,{"$f":"IFERROR(Worksheet!S210/Worksheet!P210,0)","v":0},{"$f":"IF(Worksheet!E210=\"\",\"\",Worksheet!E210)","v":""},{"$f":"IF(Worksheet!B210=\"\",\"\",Worksheet!B210)","v":""},{"$f":"IF(Worksheet!D210=\"\",\"\",Worksheet!D210)","v":""}]
[{"$f":"IF(ISBLANK(Worksheet!F211)=FALSE,VLOOKUP(Worksheet!A211,MeasureCode_Lookup,6,FALSE),\"\")","v":""},null,null,{"$f":"IFERROR(IF(Worksheet!U211=0,Worksheet!T211/I193,Worksheet!U211/R193),0)","v":0},"W Controlled",null,null,{"$f":"IF(N(Worksheet!P211)=0,N(Worksheet!O211),N(Worksheet!P211))","v":0},{"$f":"IFERROR(Worksheet!R211/Worksheet!O211,0)","v":0},{"$f":"Worksheet!Z211","v":0},{"$f":"Worksheet!Y211","v":0},0,{"$f":"IF(Worksheet!AG211=0,0,Worksheet!AG211/I193)","v":0},0,null,null,null,{"$f":"IFERROR(Worksheet!S211/Worksheet!P211,0)","v":0},{"$f":"IF(Worksheet!E211=\"\",\"\",Worksheet!E211)","v":""},{"$f":"IF(Worksheet!B211=\"\",\"\",Worksheet!B211)","v":""},{"$f":"IF(Worksheet!D211=\"\",\"\",Worksheet!D211)","v":""}]
[{"$f":"IF(ISBLANK(Worksheet!F212)=FALSE,VLOOKUP(Worksheet!A212,MeasureCode_Lookup,6,FALSE),\"\")","v":""},null,null,{"$f":"IFERROR(IF(Worksheet!U212=0,Worksheet!T212/I194,Worksheet!U212/R194),0)","v":0},"W Controlled",null,null,{"$f":"IF(N(Worksheet!P212)=0,N(Worksheet!O212),N(Worksheet!P212))","v":0},{"$f":"IFERROR(Worksheet!R212/Worksheet!O212,0)","v":0},{"$f":"Worksheet!Z212","v":0},{"$f":"Worksheet!Y212","v":0},0,{"$f":"IF(Worksheet!AG212=0,0,Worksheet!AG212/I194)","v":0},0,null,null,null,{"$f":"IFERROR(Worksheet!S212/Worksheet!P212,0)","v":0},{"$f":"IF(Worksheet!E212=\"\",\"\",Worksheet!E212)","v":""},{"$f":"IF(Worksheet!B212=\"\",\"\",Worksheet!B212)","v":""},{"$f":"IF(Worksheet!D212=\"\",\"\",Worksheet!D212)","v":""}]
[{"$f":"IF(ISBLANK(Worksheet!F213)=FALSE,VLOOKUP(Worksheet!A213,MeasureCode_Lookup,6,FALSE),\"\")","v":""},null,null,{"$f":"IFERROR(IF(Worksheet!U213=0,Worksheet!T213/I195,Worksheet!U213/R195),0)","v":0},"W Controlled",null,null,{"$f":"IF(N(Worksheet!P213)=0,N(Worksheet!O213),N(Worksheet!P213))","v":0},{"$f":"IFERROR(Worksheet!R213/Worksheet!O213,0)","v":0},{"$f":"Worksheet!Z213","v":0},{"$f":"Worksheet!Y213","v":0},{"$f":"J195*8","v":0},{"$f":"IF(Worksheet!AG213=0,0,Worksheet!AG213/I195)","v":0},{"$f":"M195*8","v":0},null,null,null,{"$f":"IFERROR(Worksheet!S213/Worksheet!P213,0)","v":0},{"$f":"IF(Worksheet!E213=\"\",\"\",Worksheet!E213)","v":""},{"$f":"IF(Worksheet!B213=\"\",\"\",Worksheet!B213)","v":""},{"$f":"IF(Worksheet!D213=\"\",\"\",Worksheet!D213)","v":""}]
[{"$f":"IF(ISBLANK(Worksheet!F214)=FALSE,VLOOKUP(Worksheet!A214,MeasureCode_Lookup,6,FALSE),\"\")","v":""},null,null,{"$f":"IFERROR(IF(Worksheet!U214=0,Worksheet!T214/I196,Worksheet!U214/R196),0)","v":0},"W Controlled",null,null,{"$f":"IF(N(Worksheet!P214)=0,N(Worksheet!O214),N(Worksheet!P214))","v":0},{"$f":"IFERROR(Worksheet!R214/Worksheet!O214,0)","v":0},{"$f":"Worksheet!Z214","v":0},{"$f":"Worksheet!Y214","v":0},0,{"$f":"IF(Worksheet!AG214=0,0,Worksheet!AG214/I196)","v":0},0,null,null,null,{"$f":"IFERROR(Worksheet!S214/Worksheet!P214,0)","v":0},{"$f":"IF(Worksheet!E214=\"\",\"\",Worksheet!E214)","v":""},{"$f":"IF(Worksheet!B214=\"\",\"\",Worksheet!B214)","v":""},{"$f":"IF(Worksheet!D214=\"\",\"\",Worksheet!D214)","v":""}]
[{"$f":"IF(ISBLANK(Worksheet!F215)=FALSE,VLOOKUP(Worksheet!A215,MeasureCode_Lookup,6,FALSE),\"\")","v":""},null,null,{"$f":"IFERROR(IF(Worksheet!U215=0,Worksheet!T215/I197,Worksheet!U215/R197),0)","v":0},"W Controlled",null,null,{"$f":"IF(N(Worksheet!P215)=0,N(Worksheet!O215),N(Worksheet!P215))","v":0},{"$f":"IFERROR(Worksheet!R215/Worksheet!O215,0)","v":0},{"$f":"Worksheet!Z215","v":0},{"$f":"Worksheet!Y215","v":0},0,{"$f":"IF(Worksheet!AG215=0,0,Worksheet!AG215/I197)","v":0},0,null,null,null,{"$f":"IFERROR(Worksheet!S215/Worksheet!P215,0)","v":0},{"$f":"IF(Worksheet!E215=\"\",\"\",Worksheet!E215)","v":""},{"$f":"IF(Worksheet!B215=\"\",\"\",Worksheet!B215)","v":""},{"$f":"IF(Worksheet!D215=\"\",\"\",Worksheet!D215)","v":""}]
[{"$f":"IF(ISBLANK(Worksheet!F216)=FALSE,VLOOKUP(Worksheet!A216,MeasureCode_Lookup,6,FALSE),\"\")","v":""},null,null,{"$f":"IFERROR(IF(Worksheet!U216=0,Worksheet!T216/I198,Worksheet!U216/R198),0)","v":0},"W Controlled",null,null,{"$f":"IF(N(Worksheet!P216)=0,N(Worksheet!O216),N(Worksheet!P216))","v":0},{"$f":"IFERROR(Worksheet!R216/Worksheet!O216,0)","v":0},{"$f":"Worksheet!Z216","v":0},{"$f":"Worksheet!Y216","v":0},0,{"$f":"IF(Worksheet!AG216=0,0,Worksheet!AG216/I198)","v":0},0,null,null,null,{"$f":"IFERROR(Worksheet!S216/Worksheet!P216,0)","v":0},{"$f":"IF(Worksheet!E216=\"\",\"\",Worksheet!E216)","v":""},{"$f":"IF(Worksheet!B216=\"\",\"\",Worksheet!B216)","v":""},{"$f":"IF(Worksheet!D216=\"\",\"\",Worksheet!D216)","v":""}]
[{"$f":"IF(ISBLANK(Worksheet!F217)=FALSE,VLOOKUP(Worksheet!A217,MeasureCode_Lookup,6,FALSE),\"\")","v":""},null,null,{"$f":"IFERROR(IF(Worksheet!U217=0,Worksheet!T217/I199,Worksheet!U217/R199),0)","v":0},"W Controlled",null,null,{"$f":"IF(N(Worksheet!P217)=0,N(Worksheet!O217),N(Worksheet!P217))","v":0},{"$f":"IFERROR(Worksheet!R217/Worksheet!O217,0)","v":0},{"$f":"Worksheet!Z217","v":0},{"$f":"Worksheet!Y217","v":0},0,{"$f":"IF(Worksheet!AG217=0,0,Worksheet!AG217/I199)","v":0},0,null,null,null,{"$f":"IFERROR(Worksheet!S217/Worksheet!P217,0)","v":0},{"$f":"IF(Worksheet!E217=\"\",\"\",Worksheet!E217)","v":""},{"$f":"IF(Worksheet!B217=\"\",\"\",Worksheet!B217)","v":""},{"$f":"IF(Worksheet!D217=\"\",\"\",Worksheet!D217)","v":""}]
[{"$f":"IF(ISBLANK(Worksheet!F218)=FALSE,VLOOKUP(Worksheet!A218,MeasureCode_Lookup,6,FALSE),\"\")","v":""},null,null,{"$f":"IFERROR(IF(Worksheet!U218=0,Worksheet!T218/I200,Worksheet!U218/R200),0)","v":0},"W Controlled",null,null,{"$f":"IF(N(Worksheet!P218)=0,N(Worksheet!O218),N(Worksheet!P218))","v":0},{"$f":"IFERROR(Worksheet!R218/Worksheet!O218,0)","v":0},{"$f":"Worksheet!Z218","v":0},{"$f":"Worksheet!Y218","v":0},0,{"$f":"IF(Worksheet!AG218=0,0,Worksheet!AG218/I200)","v":0},0,null,null,null,{"$f":"IFERROR(Worksheet!S218/Worksheet!P218,0)","v":0},{"$f":"IF(Worksheet!E218=\"\",\"\",Worksheet!E218)","v":""},{"$f":"IF(Worksheet!B218=\"\",\"\",Worksheet!B218)","v":""},{"$f":"IF(Worksheet!D218=\"\",\"\",Worksheet!D218)","v":""}]
[{"$f":"IF(ISBLANK(Worksheet!F219)=FALSE,VLOOKUP(Worksheet!A219,MeasureCode_Lookup,6,FALSE),\"\")","v":""},null,null,{"$f":"IFERROR(IF(Worksheet!U219=0,Worksheet!T219/I201,Worksheet!U219/R201),0)","v":0},"W Controlled",null,null,{"$f":"IF(N(Worksheet!P219)=0,N(Worksheet!O219),N(Worksheet!P219))","v":0},{"$f":"IFERROR(Worksheet!R219/Worksheet!O219,0)","v":0},{"$f":"Worksheet!Z219","v":0},{"$f":"Worksheet!Y219","v":0},0,{"$f":"IF(Worksheet!AG219=0,0,Worksheet!AG219/I201)","v":0},0,null,null,null,{"$f":"IFERROR(Worksheet!S219/Worksheet!P219,0)","v":0},{"$f":"IF(Worksheet!E219=\"\",\"\",Worksheet!E219)","v":""},{"$f":"IF(Worksheet!B219=\"\",\"\",Worksheet!B219)","v":""},{"$f":"IF(Worksheet!D219=\"\",\"\",Worksheet!D219)","v":""}]
[{"$f":"IF(ISBLANK(Worksheet!F220)=FALSE,VLOOKUP(Worksheet!A220,MeasureCode_Lookup,6,FALSE),\"\")","v":""},null,null,{"$f":"IFERROR(IF(Worksheet!U220=0,Worksheet!T220/I202,Worksheet!U220/R202),0)","v":0},"W Controlled",null,null,{"$f":"IF(N(Worksheet!P220)=0,N(Worksheet!O220),N(Worksheet!P220))","v":0},{"$f":"IFERROR(Worksheet!R220/Worksheet!O220,0)","v":0},{"$f":"Worksheet!Z220","v":0},{"$f":"Worksheet!Y220","v":0},0,{"$f":"IF(Worksheet!AG220=0,0,Worksheet!AG220/I202)","v":0},0,null,null,null,{"$f":"IFERROR(Worksheet!S220/Worksheet!P220,0)","v":0},{"$f":"IF(Worksheet!E220=\"\",\"\",Worksheet!E220)","v":""},{"$f":"IF(Worksheet!B220=\"\",\"\",Worksheet!B220)","v":""},{"$f":"IF(Worksheet!D220=\"\",\"\",Worksheet!D220)","v":""}]
[{"$f":"IF(ISBLANK(Worksheet!F221)=FALSE,VLOOKUP(Worksheet!A221,MeasureCode_Lookup,6,FALSE),\"\")","v":""},null,null,{"$f":"IFERROR(IF(Worksheet!U221=0,Worksheet!T221/I203,Worksheet!U221/R203),0)","v":0},"W Controlled",null,null,{"$f":"IF(N(Worksheet!P221)=0,N(Worksheet!O221),N(Worksheet!P221))","v":0},{"$f":"IFERROR(Worksheet!R221/Worksheet!O221,0)","v":0},{"$f":"Worksheet!Z221","v":0},{"$f":"Worksheet!Y221","v":0},0,{"$f":"IF(Worksheet!AG221=0,0,Worksheet!AG221/I203)","v":0},0,null,null,null,{"$f":"IFERROR(Worksheet!S221/Worksheet!P221,0)","v":0},{"$f":"IF(Worksheet!E221=\"\",\"\",Worksheet!E221)","v":""},{"$f":"IF(Worksheet!B221=\"\",\"\",Worksheet!B221)","v":""},{"$f":"IF(Worksheet!D221=\"\",\"\",Worksheet!D221)","v":""}]
[{"$f":"IF(ISBLANK(Worksheet!F222)=FALSE,VLOOKUP(Worksheet!A222,MeasureCode_Lookup,6,FALSE),\"\")","v":""},null,null,{"$f":"IFERROR(IF(Worksheet!U222=0,Worksheet!T222/I204,Worksheet!U222/R204),0)","v":0},"W Controlled",null,null,{"$f":"IF(N(Worksheet!P222)=0,N(Worksheet!O222),N(Worksheet!P222))","v":0},{"$f":"IFERROR(Worksheet!R222/Worksheet!O222,0)","v":0},{"$f":"Worksheet!Z222","v":0},{"$f":"Worksheet!Y222","v":0},0,{"$f":"IF(Worksheet!AG222=0,0,Worksheet!AG222/I204)","v":0},0,null,null,null,{"$f":"IFERROR(Worksheet!S222/Worksheet!P222,0)","v":0},{"$f":"IF(Worksheet!E222=\"\",\"\",Worksheet!E222)","v":""},{"$f":"IF(Worksheet!B222=\"\",\"\",Worksheet!B222)","v":""},{"$f":"IF(Worksheet!D222=\"\",\"\",Worksheet!D222)","v":""}]
[{"$f":"IF(ISBLANK(Worksheet!F223)=FALSE,VLOOKUP(Worksheet!A223,MeasureCode_Lookup,6,FALSE),\"\")","v":""},null,null,{"$f":"IFERROR(IF(Worksheet!U223=0,Worksheet!T223/I205,Worksheet!U223/R205),0)","v":0},"W Controlled",null,null,{"$f":"IF(N(Worksheet!P223)=0,N(Worksheet!O223),N(Worksheet!P223))","v":0},{"$f":"IFERROR(Worksheet!R223/Worksheet!O223,0)","v":0},{"$f":"Worksheet!Z223","v":0},{"$f":"Worksheet!Y223","v":0},0,{"$f":"IF(Worksheet!AG223=0,0,Worksheet!AG223/I205)","v":0},0,null,null,null,{"$f":"IFERROR(Worksheet!S223/Worksheet!P223,0)","v":0},{"$f":"IF(Worksheet!E223=\"\",\"\",Worksheet!E223)","v":""},{"$f":"IF(Worksheet!B223=\"\",\"\",Worksheet!B223)","v":""},{"$f":"IF(Worksheet!D223=\"\",\"\",Worksheet!D223)","v":""}]
[{"$f":"IF(ISBLANK(Worksheet!F224)=FALSE,VLOOKUP(Worksheet!A224,MeasureCode_Lookup,6,FALSE),\"\")","v":""},null,null,{"$f":"IFERROR(IF(Worksheet!U224=0,Worksheet!T224/I206,Worksheet!U224/R206),0)","v":0},"W Controlled",null,null,{"$f":"IF(N(Worksheet!P224)=0,N(Worksheet!O224),N(Worksheet!P224))","v":0},{"$f":"IFERROR(Worksheet!R224/Worksheet!O224,0)","v":0},{"$f":"Worksheet!Z224","v":0},{"$f":"Worksheet!Y224","v":0},0,{"$f":"IF(Worksheet!AG224=0,0,Worksheet!AG224/I206)","v":0},0,null,null,null,{"$f":"IFERROR(Worksheet!S224/Worksheet!P224,0)","v":0},{"$f":"IF(Worksheet!E224=\"\",\"\",Worksheet!E224)","v":""},{"$f":"IF(Worksheet!B224=\"\",\"\",Worksheet!B224)","v":""},{"$f":"IF(Worksheet!D224=\"\",\"\",Worksheet!D224)","v":""}]
[{"$f":"IF(ISBLANK(Worksheet!F225)=FALSE,VLOOKUP(Worksheet!A225,MeasureCode_Lookup,6,FALSE),\"\")","v":""},null,null,{"$f":"IFERROR(IF(Worksheet!U225=0,Worksheet!T225/I207,Worksheet!U225/R207),0)","v":0},"W Controlled",null,null,{"$f":"IF(N(Worksheet!P225)=0,N(Worksheet!O225),N(Worksheet!P225))","v":0},{"$f":"IFERROR(Worksheet!R225/Worksheet!O225,0)","v":0},{"$f":"Worksheet!Z225","v":0},{"$f":"Worksheet!Y225","v":0},0,{"$f":"IF(Worksheet!AG225=0,0,Worksheet!AG225/I207)","v":0},0,null,null,null,{"$f":"IFERROR(Worksheet!S225/Worksheet!P225,0)","v":0},{"$f":"IF(Worksheet!E225=\"\",\"\",Worksheet!E225)","v":""},{"$f":"IF(Worksheet!B225=\"\",\"\",Worksheet!B225)","v":""},{"$f":"IF(Worksheet!D225=\"\",\"\",Worksheet!D225)","v":""}]
[{"$f":"IF(ISBLANK(Worksheet!F226)=FALSE,VLOOKUP(Worksheet!A226,MeasureCode_Lookup,6,FALSE),\"\")","v":""},null,null,{"$f":"IFERROR(IF(Worksheet!U226=0,Worksheet!T226/I208,Worksheet!U226/R208),0)","v":0},"W Controlled",null,null,{"$f":"IF(N(Worksheet!P226)=0,N(Worksheet!O226),N(Worksheet!P226))","v":0},{"$f":"IFERROR(Worksheet!R226/Worksheet!O226,0)","v":0},{"$f":"Worksheet!Z226","v":0},{"$f":"Worksheet!Y226","v":0},0,{"$f":"IF(Worksheet!AG226=0,0,Worksheet!AG226/I208)","v":0},0,null,null,null,{"$f":"IFERROR(Worksheet!S226/Worksheet!P226,0)","v":0},{"$f":"IF(Worksheet!E226=\"\",\"\",Worksheet!E226)","v":""},{"$f":"IF(Worksheet!B226=\"\",\"\",Worksheet!B226)","v":""},{"$f":"IF(Worksheet!D226=\"\",\"\",Worksheet!D226)","v":""}]
[{"$f":"IF(ISBLANK(Worksheet!F227)=FALSE,VLOOKUP(Worksheet!A227,MeasureCode_Lookup,6,FALSE),\"\")","v":""},null,null,{"$f":"IFERROR(IF(Worksheet!U227=0,Worksheet!T227/I209,Worksheet!U227/R209),0)","v":0},"W Controlled",null,null,{"$f":"IF(N(Worksheet!P227)=0,N(Worksheet!O227),N(Worksheet!P227))","v":0},{"$f":"IFERROR(Worksheet!R227/Worksheet!O227,0)","v":0},{"$f":"Worksheet!Z227","v":0},{"$f":"Worksheet!Y227","v":0},0,{"$f":"IF(Worksheet!AG227=0,0,Worksheet!AG227/I209)","v":0},0,null,null,null,{"$f":"IFERROR(Worksheet!S227/Worksheet!P227,0)","v":0},{"$f":"IF(Worksheet!E227=\"\",\"\",Worksheet!E227)","v":""},{"$f":"IF(Worksheet!B227=\"\",\"\",Worksheet!B227)","v":""},{"$f":"IF(Worksheet!D227=\"\",\"\",Worksheet!D227)","v":""}]
[{"$f":"IF(ISBLANK(Worksheet!F228)=FALSE,VLOOKUP(Worksheet!A228,MeasureCode_Lookup,6,FALSE),\"\")","v":""},null,null,{"$f":"IFERROR(IF(Worksheet!U228=0,Worksheet!T228/I210,Worksheet!U228/R210),0)","v":0},"W Controlled",null,null,{"$f":"IF(N(Worksheet!P228)=0,N(Worksheet!O228),N(Worksheet!P228))","v":0},{"$f":"IFERROR(Worksheet!R228/Worksheet!O228,0)","v":0},{"$f":"Worksheet!Z228","v":0},{"$f":"Worksheet!Y228","v":0},0,{"$f":"IF(Worksheet!AG228=0,0,Worksheet!AG228/I210)","v":0},0,null,null,null,{"$f":"IFERROR(Worksheet!S228/Worksheet!P228,0)","v":0},{"$f":"IF(Worksheet!E228=\"\",\"\",Worksheet!E228)","v":""},{"$f":"IF(Worksheet!B228=\"\",\"\",Worksheet!B228)","v":""},{"$f":"IF(Worksheet!D228=\"\",\"\",Worksheet!D228)","v":""}]
[{"$f":"IF(ISBLANK(Worksheet!F229)=FALSE,VLOOKUP(Worksheet!A229,MeasureCode_Lookup,6,FALSE),\"\")","v":""},null,null,{"$f":"IFERROR(IF(Worksheet!U229=0,Worksheet!T229/I211,Worksheet!U229/R211),0)","v":0},"W Controlled",null,null,{"$f":"IF(N(Worksheet!P229)=0,N(Worksheet!O229),N(Worksheet!P229))","v":0},{"$f":"IFERROR(Worksheet!R229/Worksheet!O229,0)","v":0},{"$f":"Worksheet!Z229","v":0},{"$f":"Worksheet!Y229","v":0},0,{"$f":"IF(Worksheet!AG229=0,0,Worksheet!AG229/I211)","v":0},0,null,null,null,{"$f":"IFERROR(Worksheet!S229/Worksheet!P229,0)","v":0},{"$f":"IF(Worksheet!E229=\"\",\"\",Worksheet!E229)","v":""},{"$f":"IF(Worksheet!B229=\"\",\"\",Worksheet!B229)","v":""},{"$f":"IF(Worksheet!D229=\"\",\"\",Worksheet!D229)","v":""}]
[{"$f":"IF(ISBLANK(Worksheet!F230)=FALSE,VLOOKUP(Worksheet!A230,MeasureCode_Lookup,6,FALSE),\"\")","v":""},null,null,{"$f":"IFERROR(IF(Worksheet!U230=0,Worksheet!T230/I212,Worksheet!U230/R212),0)","v":0},"W Controlled",null,null,{"$f":"IF(N(Worksheet!P230)=0,N(Worksheet!O230),N(Worksheet!P230))","v":0},{"$f":"IFERROR(Worksheet!R230/Worksheet!O230,0)","v":0},{"$f":"Worksheet!Z230","v":0},{"$f":"Worksheet!Y230","v":0},0,{"$f":"IF(Worksheet!AG230=0,0,Worksheet!AG230/I212)","v":0},0,null,null,null,{"$f":"IFERROR(Worksheet!S230/Worksheet!P230,0)","v":0},{"$f":"IF(Worksheet!E230=\"\",\"\",Worksheet!E230)","v":""},{"$f":"IF(Worksheet!B230=\"\",\"\",Worksheet!B230)","v":""},{"$f":"IF(Worksheet!D230=\"\",\"\",Worksheet!D230)","v":""}]
[{"$f":"IF(ISBLANK(Worksheet!F231)=FALSE,VLOOKUP(Worksheet!A231,MeasureCode_Lookup,6,FALSE),\"\")","v":""},null,null,{"$f":"IFERROR(IF(Worksheet!U231=0,Worksheet!T231/I213,Worksheet!U231/R213),0)","v":0},"W Controlled",null,null,{"$f":"IF(N(Worksheet!P231)=0,N(Worksheet!O231),N(Worksheet!P231))","v":0},{"$f":"IFERROR(Worksheet!R231/Worksheet!O231,0)","v":0},{"$f":"Worksheet!Z231","v":0},{"$f":"Worksheet!Y231","v":0},0,{"$f":"IF(Worksheet!AG231=0,0,Worksheet!AG231/I213)","v":0},0,null,null,null,{"$f":"IFERROR(Worksheet!S231/Worksheet!P231,0)","v":0},{"$f":"IF(Worksheet!E231=\"\",\"\",Worksheet!E231)","v":""},{"$f":"IF(Worksheet!B231=\"\",\"\",Worksheet!B231)","v":""},{"$f":"IF(Worksheet!D231=\"\",\"\",Worksheet!D231)","v":""}]
[{"$f":"IF(ISBLANK(Worksheet!F232)=FALSE,VLOOKUP(Worksheet!A232,MeasureCode_Lookup,6,FALSE),\"\")","v":""},null,null,{"$f":"IFERROR(IF(Worksheet!U232=0,Worksheet!T232/I214,Worksheet!U232/R214),0)","v":0},"W Controlled",null,null,{"$f":"IF(N(Worksheet!P232)=0,N(Worksheet!O232),N(Worksheet!P232))","v":0},{"$f":"IFERROR(Worksheet!R232/Worksheet!O232,0)","v":0},{"$f":"Worksheet!Z232","v":0},{"$f":"Worksheet!Y232","v":0},0,{"$f":"IF(Worksheet!AG232=0,0,Worksheet!AG232/I214)","v":0},0,null,null,null,{"$f":"IFERROR(Worksheet!S232/Worksheet!P232,0)","v":0},{"$f":"IF(Worksheet!E232=\"\",\"\",Worksheet!E232)","v":""},{"$f":"IF(Worksheet!B232=\"\",\"\",Worksheet!B232)","v":""},{"$f":"IF(Worksheet!D232=\"\",\"\",Worksheet!D232)","v":""}]
[{"$f":"IF(ISBLANK(Worksheet!F233)=FALSE,VLOOKUP(Worksheet!A233,MeasureCode_Lookup,6,FALSE),\"\")","v":""},null,null,{"$f":"IFERROR(IF(Worksheet!U233=0,Worksheet!T233/I215,Worksheet!U233/R215),0)","v":0},"W Controlled",null,null,{"$f":"IF(N(Worksheet!P233)=0,N(Worksheet!O233),N(Worksheet!P233))","v":0},{"$f":"IFERROR(Worksheet!R233/Worksheet!O233,0)","v":0},{"$f":"Worksheet!Z233","v":0},{"$f":"Worksheet!Y233","v":0},0,{"$f":"IF(Worksheet!AG233=0,0,Worksheet!AG233/I215)","v":0},0,null,null,null,{"$f":"IFERROR(Worksheet!S233/Worksheet!P233,0)","v":0},{"$f":"IF(Worksheet!E233=\"\",\"\",Worksheet!E233)","v":""},{"$f":"IF(Worksheet!B233=\"\",\"\",Worksheet!B233)","v":""},{"$f":"IF(Worksheet!D233=\"\",\"\",Worksheet!D233)","v":""}]
[{"$f":"IF(ISBLANK(Worksheet!F234)=FALSE,VLOOKUP(Worksheet!A234,MeasureCode_Lookup,6,FALSE),\"\")","v":""},null,null,{"$f":"IFERROR(IF(Worksheet!U234=0,Worksheet!T234/I216,Worksheet!U234/R216),0)","v":0},"W Controlled",null,null,{"$f":"IF(N(Worksheet!P234)=0,N(Worksheet!O234),N(Worksheet!P234))","v":0},{"$f":"IFERROR(Worksheet!R234/Worksheet!O234,0)","v":0},{"$f":"Worksheet!Z234","v":0},{"$f":"Worksheet!Y234","v":0},0,{"$f":"IF(Worksheet!AG234=0,0,Worksheet!AG234/I216)","v":0},0,null,null,null,{"$f":"IFERROR(Worksheet!S234/Worksheet!P234,0)","v":0},{"$f":"IF(Worksheet!E234=\"\",\"\",Worksheet!E234)","v":""},{"$f":"IF(Worksheet!B234=\"\",\"\",Worksheet!B234)","v":""},{"$f":"IF(Worksheet!D234=\"\",\"\",Worksheet!D234)","v":""}]
[{"$f":"IF(ISBLANK(Worksheet!F235)=FALSE,VLOOKUP(Worksheet!A235,MeasureCode_Lookup,6,FALSE),\"\")","v":""},null,null,{"$f":"IFERROR(IF(Worksheet!U235=0,Worksheet!T235/I217,Worksheet!U235/R217),0)","v":0},"W Controlled",null,null,{"$f":"IF(N(Worksheet!P235)=0,N(Worksheet!O235),N(Worksheet!P235))","v":0},{"$f":"IFERROR(Worksheet!R235/Worksheet!O235,0)","v":0},{"$f":"Worksheet!Z235","v":0},{"$f":"Worksheet!Y235","v":0},0,{"$f":"IF(Worksheet!AG235=0,0,Worksheet!AG235/I217)","v":0},0,null,null,null,{"$f":"IFERROR(Worksheet!S235/Worksheet!P235,0)","v":0},{"$f":"IF(Worksheet!E235=\"\",\"\",Worksheet!E235)","v":""},{"$f":"IF(Worksheet!B235=\"\",\"\",Worksheet!B235)","v":""},{"$f":"IF(Worksheet!D235=\"\",\"\",Worksheet!D235)","v":""}]
[{"$f":"IF(ISBLANK(Worksheet!F236)=FALSE,VLOOKUP(Worksheet!A236,MeasureCode_Lookup,6,FALSE),\"\")","v":""},null,null,{"$f":"IFERROR(IF(Worksheet!U236=0,Worksheet!T236/I218,Worksheet!U236/R218),0)","v":0},"W Controlled",null,null,{"$f":"IF(N(Worksheet!P236)=0,N(Worksheet!O236),N(Worksheet!P236))","v":0},{"$f":"IFERROR(Worksheet!R236/Worksheet!O236,0)","v":0},{"$f":"Worksheet!Z236","v":0},{"$f":"Worksheet!Y236","v":0},0,{"$f":"IF(Worksheet!AG236=0,0,Worksheet!AG236/I218)","v":0},0,null,null,null,{"$f":"IFERROR(Worksheet!S236/Worksheet!P236,0)","v":0},{"$f":"IF(Worksheet!E236=\"\",\"\",Worksheet!E236)","v":""},{"$f":"IF(Worksheet!B236=\"\",\"\",Worksheet!B236)","v":""},{"$f":"IF(Worksheet!D236=\"\",\"\",Worksheet!D236)","v":""}]
[{"$f":"IF(ISBLANK(Worksheet!F237)=FALSE,VLOOKUP(Worksheet!A237,MeasureCode_Lookup,6,FALSE),\"\")","v":""},null,null,{"$f":"IFERROR(IF(Worksheet!U237=0,Worksheet!T237/I219,Worksheet!U237/R219),0)","v":0},"W Controlled",null,null,{"$f":"IF(N(Worksheet!P237)=0,N(Worksheet!O237),N(Worksheet!P237))","v":0},{"$f":"IFERROR(Worksheet!R237/Worksheet!O237,0)","v":0},{"$f":"Worksheet!Z237","v":0},{"$f":"Worksheet!Y237","v":0},0,{"$f":"IF(Worksheet!AG237=0,0,Worksheet!AG237/I219)","v":0},0,null,null,null,{"$f":"IFERROR(Worksheet!S237/Worksheet!P237,0)","v":0},{"$f":"IF(Worksheet!E237=\"\",\"\",Worksheet!E237)","v":""},{"$f":"IF(Worksheet!B237=\"\",\"\",Worksheet!B237)","v":""},{"$f":"IF(Worksheet!D237=\"\",\"\",Worksheet!D237)","v":""}]
[{"$f":"IF(ISBLANK(Worksheet!F238)=FALSE,VLOOKUP(Worksheet!A238,MeasureCode_Lookup,6,FALSE),\"\")","v":""},null,null,{"$f":"IFERROR(IF(Worksheet!U238=0,Worksheet!T238/I220,Worksheet!U238/R220),0)","v":0},"W Controlled",null,null,{"$f":"IF(N(Worksheet!P238)=0,N(Worksheet!O238),N(Worksheet!P238))","v":0},{"$f":"IFERROR(Worksheet!R238/Worksheet!O238,0)","v":0},{"$f":"Worksheet!Z238","v":0},{"$f":"Worksheet!Y238","v":0},0,{"$f":"IF(Worksheet!AG238=0,0,Worksheet!AG238/I220)","v":0},0,null,null,null,{"$f":"IFERROR(Worksheet!S238/Worksheet!P238,0)","v":0},{"$f":"IF(Worksheet!E238=\"\",\"\",Worksheet!E238)","v":""},{"$f":"IF(Worksheet!B238=\"\",\"\",Worksheet!B238)","v":""},{"$f":"IF(Worksheet!D238=\"\",\"\",Worksheet!D238)","v":""}]
[{"$f":"IF(ISBLANK(Worksheet!F239)=FALSE,VLOOKUP(Worksheet!A239,MeasureCode_Lookup,6,FALSE),\"\")","v":""},null,null,{"$f":"IFERROR(IF(Worksheet!U239=0,Worksheet!T239/I221,Worksheet!U239/R221),0)","v":0},"W Controlled",null,null,{"$f":"IF(N(Worksheet!P239)=0,N(Worksheet!O239),N(Worksheet!P239))","v":0},{"$f":"IFERROR(Worksheet!R239/Worksheet!O239,0)","v":0},{"$f":"Worksheet!Z239","v":0},{"$f":"Worksheet!Y239","v":0},0,{"$f":"IF(Worksheet!AG239=0,0,Worksheet!AG239/I221)","v":0},0,null,null,null,{"$f":"IFERROR(Worksheet!S239/Worksheet!P239,0)","v":0},{"$f":"IF(Worksheet!E239=\"\",\"\",Worksheet!E239)","v":""},{"$f":"IF(Worksheet!B239=\"\",\"\",Worksheet!B239)","v":""},{"$f":"IF(Worksheet!D239=\"\",\"\",Worksheet!D239)","v":""}]
[{"$f":"IF(ISBLANK(Worksheet!F240)=FALSE,VLOOKUP(Worksheet!A240,MeasureCode_Lookup,6,FALSE),\"\")","v":""},null,null,{"$f":"IFERROR(IF(Worksheet!U240=0,Worksheet!T240/I222,Worksheet!U240/R222),0)","v":0},"W Controlled",null,null,{"$f":"IF(N(Worksheet!P240)=0,N(Worksheet!O240),N(Worksheet!P240))","v":0},{"$f":"IFERROR(Worksheet!R240/Worksheet!O240,0)","v":0},{"$f":"Worksheet!Z240","v":0},{"$f":"Worksheet!Y240","v":0},0,{"$f":"IF(Worksheet!AG240=0,0,Worksheet!AG240/I222)","v":0},0,null,null,null,{"$f":"IFERROR(Worksheet!S240/Worksheet!P240,0)","v":0},{"$f":"IF(Worksheet!E240=\"\",\"\",Worksheet!E240)","v":""},{"$f":"IF(Worksheet!B240=\"\",\"\",Worksheet!B240)","v":""},{"$f":"IF(Worksheet!D240=\"\",\"\",Worksheet!D240)","v":""}]
[{"$f":"IF(ISBLANK(Worksheet!F241)=FALSE,VLOOKUP(Worksheet!A241,MeasureCode_Lookup,6,FALSE),\"\")","v":""},null,null,{"$f":"IFERROR(IF(Worksheet!U241=0,Worksheet!T241/I223,Worksheet!U241/R223),0)","v":0},"W Controlled",null,null,{"$f":"IF(N(Worksheet!P241)=0,N(Worksheet!O241),N(Worksheet!P241))","v":0},{"$f":"IFERROR(Worksheet!R241/Worksheet!O241,0)","v":0},{"$f":"Worksheet!Z241","v":0},{"$f":"Worksheet!Y241","v":0},0,{"$f":"IF(Worksheet!AG241=0,0,Worksheet!AG241/I223)","v":0},0,null,null,null,{"$f":"IFERROR(Worksheet!S241/Worksheet!P241,0)","v":0},{"$f":"IF(Worksheet!E241=\"\",\"\",Worksheet!E241)","v":""},{"$f":"IF(Worksheet!B241=\"\",\"\",Worksheet!B241)","v":""},{"$f":"IF(Worksheet!D241=\"\",\"\",Worksheet!D241)","v":""}]
[{"$f":"IF(ISBLANK(Worksheet!F242)=FALSE,VLOOKUP(Worksheet!A242,MeasureCode_Lookup,6,FALSE),\"\")","v":""},null,null,{"$f":"IFERROR(IF(Worksheet!U242=0,Worksheet!T242/I224,Worksheet!U242/R224),0)","v":0},"W Controlled",null,null,{"$f":"IF(N(Worksheet!P242)=0,N(Worksheet!O242),N(Worksheet!P242))","v":0},{"$f":"IFERROR(Worksheet!R242/Worksheet!O242,0)","v":0},{"$f":"Worksheet!Z242","v":0},{"$f":"Worksheet!Y242","v":0},0,{"$f":"IF(Worksheet!AG242=0,0,Worksheet!AG242/I224)","v":0},0,null,null,null,{"$f":"IFERROR(Worksheet!S242/Worksheet!P242,0)","v":0},{"$f":"IF(Worksheet!E242=\"\",\"\",Worksheet!E242)","v":""},{"$f":"IF(Worksheet!B242=\"\",\"\",Worksheet!B242)","v":""},{"$f":"IF(Worksheet!D242=\"\",\"\",Worksheet!D242)","v":""}]
[{"$f":"IF(ISBLANK(Worksheet!F243)=FALSE,VLOOKUP(Worksheet!A243,MeasureCode_Lookup,6,FALSE),\"\")","v":""},null,null,{"$f":"IFERROR(IF(Worksheet!U243=0,Worksheet!T243/I225,Worksheet!U243/R225),0)","v":0},"W Controlled",null,null,{"$f":"IF(N(Worksheet!P243)=0,N(Worksheet!O243),N(Worksheet!P243))","v":0},{"$f":"IFERROR(Worksheet!R243/Worksheet!O243,0)","v":0},{"$f":"Worksheet!Z243","v":0},{"$f":"Worksheet!Y243","v":0},0,{"$f":"IF(Worksheet!AG243=0,0,Worksheet!AG243/I225)","v":0},0,null,null,null,{"$f":"IFERROR(Worksheet!S243/Worksheet!P243,0)","v":0},{"$f":"IF(Worksheet!E243=\"\",\"\",Worksheet!E243)","v":""},{"$f":"IF(Worksheet!B243=\"\",\"\",Worksheet!B243)","v":""},{"$f":"IF(Worksheet!D243=\"\",\"\",Worksheet!D243)","v":""}]
[{"$f":"IF(ISBLANK(Worksheet!F244)=FALSE,VLOOKUP(Worksheet!A244,MeasureCode_Lookup,6,FALSE),\"\")","v":""},null,null,{"$f":"IFERROR(IF(Worksheet!U244=0,Worksheet!T244/I226,Worksheet!U244/R226),0)","v":0},"W Controlled",null,null,{"$f":"IF(N(Worksheet!P244)=0,N(Worksheet!O244),N(Worksheet!P244))","v":0},{"$f":"IFERROR(Worksheet!R244/Worksheet!O244,0)","v":0},{"$f":"Worksheet!Z244","v":0},{"$f":"Worksheet!Y244","v":0},0,{"$f":"IF(Worksheet!AG244=0,0,Worksheet!AG244/I226)","v":0},0,null,null,null,{"$f":"IFERROR(Worksheet!S244/Worksheet!P244,0)","v":0},{"$f":"IF(Worksheet!E244=\"\",\"\",Worksheet!E244)","v":""},{"$f":"IF(Worksheet!B244=\"\",\"\",Worksheet!B244)","v":""},{"$f":"IF(Worksheet!D244=\"\",\"\",Worksheet!D244)","v":""}]
[{"$f":"IF(ISBLANK(Worksheet!F245)=FALSE,VLOOKUP(Worksheet!A245,MeasureCode_Lookup,6,FALSE),\"\")","v":""},null,null,{"$f":"IFERROR(IF(Worksheet!U245=0,Worksheet!T245/I227,Worksheet!U245/R227),0)","v":0},"W Controlled",null,null,{"$f":"IF(N(Worksheet!P245)=0,N(Worksheet!O245),N(Worksheet!P245))","v":0},{"$f":"IFERROR(Worksheet!R245/Worksheet!O245,0)","v":0},{"$f":"Worksheet!Z245","v":0},{"$f":"Worksheet!Y245","v":0},0,{"$f":"IF(Worksheet!AG245=0,0,Worksheet!AG245/I227)","v":0},0,null,null,null,{"$f":"IFERROR(Worksheet!S245/Worksheet!P245,0)","v":0},{"$f":"IF(Worksheet!E245=\"\",\"\",Worksheet!E245)","v":""},{"$f":"IF(Worksheet!B245=\"\",\"\",Worksheet!B245)","v":""},{"$f":"IF(Worksheet!D245=\"\",\"\",Worksheet!D245)","v":""}]
[{"$f":"IF(ISBLANK(Worksheet!F246)=FALSE,VLOOKUP(Worksheet!A246,MeasureCode_Lookup,6,FALSE),\"\")","v":""},null,null,{"$f":"IFERROR(IF(Worksheet!U246=0,Worksheet!T246/I228,Worksheet!U246/R228),0)","v":0},"W Controlled",null,null,{"$f":"IF(N(Worksheet!P246)=0,N(Worksheet!O246),N(Worksheet!P246))","v":0},{"$f":"IFERROR(Worksheet!R246/Worksheet!O246,0)","v":0},{"$f":"Worksheet!Z246","v":0},{"$f":"Worksheet!Y246","v":0},0,{"$f":"IF(Worksheet!AG246=0,0,Worksheet!AG246/I228)","v":0},0,null,null,null,{"$f":"IFERROR(Worksheet!S246/Worksheet!P246,0)","v":0},{"$f":"IF(Worksheet!E246=\"\",\"\",Worksheet!E246)","v":""},{"$f":"IF(Worksheet!B246=\"\",\"\",Worksheet!B246)","v":""},{"$f":"IF(Worksheet!D246=\"\",\"\",Worksheet!D246)","v":""}]
[{"$f":"IF(ISBLANK(Worksheet!F247)=FALSE,VLOOKUP(Worksheet!A247,MeasureCode_Lookup,6,FALSE),\"\")","v":""},null,null,{"$f":"IFERROR(IF(Worksheet!U247=0,Worksheet!T247/I229,Worksheet!U247/R229),0)","v":0},"W Controlled",null,null,{"$f":"IF(N(Worksheet!P247)=0,N(Worksheet!O247),N(Worksheet!P247))","v":0},{"$f":"IFERROR(Worksheet!R247/Worksheet!O247,0)","v":0},{"$f":"Worksheet!Z247","v":0},{"$f":"Worksheet!Y247","v":0},0,{"$f":"IF(Worksheet!AG247=0,0,Worksheet!AG247/I229)","v":0},0,null,null,null,{"$f":"IFERROR(Worksheet!S247/Worksheet!P247,0)","v":0},{"$f":"IF(Worksheet!E247=\"\",\"\",Worksheet!E247)","v":""},{"$f":"IF(Worksheet!B247=\"\",\"\",Worksheet!B247)","v":""},{"$f":"IF(Worksheet!D247=\"\",\"\",Worksheet!D247)","v":""}]
[{"$f":"IF(ISBLANK(Worksheet!F248)=FALSE,VLOOKUP(Worksheet!A248,MeasureCode_Lookup,6,FALSE),\"\")","v":""},null,null,{"$f":"IFERROR(IF(Worksheet!U248=0,Worksheet!T248/I230,Worksheet!U248/R230),0)","v":0},"W Controlled",null,null,{"$f":"IF(N(Worksheet!P248)=0,N(Worksheet!O248),N(Worksheet!P248))","v":0},{"$f":"IFERROR(Worksheet!R248/Worksheet!O248,0)","v":0},{"$f":"Worksheet!Z248","v":0},{"$f":"Worksheet!Y248","v":0},0,{"$f":"IF(Worksheet!AG248=0,0,Worksheet!AG248/I230)","v":0},0,null,null,null,{"$f":"IFERROR(Worksheet!S248/Worksheet!P248,0)","v":0},{"$f":"IF(Worksheet!E248=\"\",\"\",Worksheet!E248)","v":""},{"$f":"IF(Worksheet!B248=\"\",\"\",Worksheet!B248)","v":""},{"$f":"IF(Worksheet!D248=\"\",\"\",Worksheet!D248)","v":""}]
[{"$f":"IF(ISBLANK(Worksheet!F249)=FALSE,VLOOKUP(Worksheet!A249,MeasureCode_Lookup,6,FALSE),\"\")","v":""},null,null,{"$f":"IFERROR(IF(Worksheet!U249=0,Worksheet!T249/I231,Worksheet!U249/R231),0)","v":0},"W Controlled",null,null,{"$f":"IF(N(Worksheet!P249)=0,N(Worksheet!O249),N(Worksheet!P249))","v":0},{"$f":"IFERROR(Worksheet!R249/Worksheet!O249,0)","v":0},{"$f":"Worksheet!Z249","v":0},{"$f":"Worksheet!Y249","v":0},0,{"$f":"IF(Worksheet!AG249=0,0,Worksheet!AG249/I231)","v":0},0,null,null,null,{"$f":"IFERROR(Worksheet!S249/Worksheet!P249,0)","v":0},{"$f":"IF(Worksheet!E249=\"\",\"\",Worksheet!E249)","v":""},{"$f":"IF(Worksheet!B249=\"\",\"\",Worksheet!B249)","v":""},{"$f":"IF(Worksheet!D249=\"\",\"\",Worksheet!D249)","v":""}]
[{"$f":"IF(ISBLANK(Worksheet!F250)=FALSE,VLOOKUP(Worksheet!A250,MeasureCode_Lookup,6,FALSE),\"\")","v":""},null,null,{"$f":"IFERROR(IF(Worksheet!U250=0,Worksheet!T250/I232,Worksheet!U250/R232),0)","v":0},"W Controlled",null,null,{"$f":"IF(N(Worksheet!P250)=0,N(Worksheet!O250),N(Worksheet!P250))","v":0},{"$f":"IFERROR(Worksheet!R250/Worksheet!O250,0)","v":0},{"$f":"Worksheet!Z250","v":0},{"$f":"Worksheet!Y250","v":0},0,{"$f":"IF(Worksheet!AG250=0,0,Worksheet!AG250/I232)","v":0},0,null,null,null,{"$f":"IFERROR(Worksheet!S250/Worksheet!P250,0)","v":0},{"$f":"IF(Worksheet!E250=\"\",\"\",Worksheet!E250)","v":""},{"$f":"IF(Worksheet!B250=\"\",\"\",Worksheet!B250)","v":""},{"$f":"IF(Worksheet!D250=\"\",\"\",Worksheet!D250)","v":""}]
[{"$f":"IF(ISBLANK(Worksheet!F251)=FALSE,VLOOKUP(Worksheet!A251,MeasureCode_Lookup,6,FALSE),\"\")","v":""},null,null,{"$f":"IFERROR(IF(Worksheet!U251=0,Worksheet!T251/I233,Worksheet!U251/R233),0)","v":0},"W Controlled",null,null,{"$f":"IF(N(Worksheet!P251)=0,N(Worksheet!O251),N(Worksheet!P251))","v":0},{"$f":"IFERROR(Worksheet!R251/Worksheet!O251,0)","v":0},{"$f":"Worksheet!Z251","v":0},{"$f":"Worksheet!Y251","v":0},0,{"$f":"IF(Worksheet!AG251=0,0,Worksheet!AG251/I233)","v":0},0,null,null,null,{"$f":"IFERROR(Worksheet!S251/Worksheet!P251,0)","v":0},{"$f":"IF(Worksheet!E251=\"\",\"\",Worksheet!E251)","v":""},{"$f":"IF(Worksheet!B251=\"\",\"\",Worksheet!B251)","v":""},{"$f":"IF(Worksheet!D251=\"\",\"\",Worksheet!D251)","v":""}]
[{"$f":"IF(ISBLANK(Worksheet!F252)=FALSE,VLOOKUP(Worksheet!A252,MeasureCode_Lookup,6,FALSE),\"\")","v":""},null,null,{"$f":"IFERROR(IF(Worksheet!U252=0,Worksheet!T252/I234,Worksheet!U252/R234),0)","v":0},"W Controlled",null,null,{"$f":"IF(N(Worksheet!P252)=0,N(Worksheet!O252),N(Worksheet!P252))","v":0},{"$f":"IFERROR(Worksheet!R252/Worksheet!O252,0)","v":0},{"$f":"Worksheet!Z252","v":0},{"$f":"Worksheet!Y252","v":0},0,{"$f":"IF(Worksheet!AG252=0,0,Worksheet!AG252/I234)","v":0},0,null,null,null,{"$f":"IFERROR(Worksheet!S252/Worksheet!P252,0)","v":0},{"$f":"IF(Worksheet!E252=\"\",\"\",Worksheet!E252)","v":""},{"$f":"IF(Worksheet!B252=\"\",\"\",Worksheet!B252)","v":""},{"$f":"IF(Worksheet!D252=\"\",\"\",Worksheet!D252)","v":""}]
[{"$f":"IF(ISBLANK(Worksheet!F253)=FALSE,VLOOKUP(Worksheet!A253,MeasureCode_Lookup,6,FALSE),\"\")","v":""},null,null,{"$f":"IFERROR(IF(Worksheet!U253=0,Worksheet!T253/I235,Worksheet!U253/R235),0)","v":0},"W Controlled",null,null,{"$f":"IF(N(Worksheet!P253)=0,N(Worksheet!O253),N(Worksheet!P253))","v":0},{"$f":"IFERROR(Worksheet!R253/Worksheet!O253,0)","v":0},{"$f":"Worksheet!Z253","v":0},{"$f":"Worksheet!Y253","v":0},0,{"$f":"IF(Worksheet!AG253=0,0,Worksheet!AG253/I235)","v":0},0,null,null,null,{"$f":"IFERROR(Worksheet!S253/Worksheet!P253,0)","v":0},{"$f":"IF(Worksheet!E253=\"\",\"\",Worksheet!E253)","v":""},{"$f":"IF(Worksheet!B253=\"\",\"\",Worksheet!B253)","v":""},{"$f":"IF(Worksheet!D253=\"\",\"\",Worksheet!D253)","v":""}]
[{"$f":"IF(ISBLANK(Worksheet!F254)=FALSE,VLOOKUP(Worksheet!A254,MeasureCode_Lookup,6,FALSE),\"\")","v":""},null,null,{"$f":"IFERROR(IF(Worksheet!U254=0,Worksheet!T254/I236,Worksheet!U254/R236),0)","v":0},"W Controlled",null,null,{"$f":"IF(N(Worksheet!P254)=0,N(Worksheet!O254),N(Worksheet!P254))","v":0},{"$f":"IFERROR(Worksheet!R254/Worksheet!O254,0)","v":0},{"$f":"Worksheet!Z254","v":0},{"$f":"Worksheet!Y254","v":0},0,{"$f":"IF(Worksheet!AG254=0,0,Worksheet!AG254/I236)","v":0},0,null,null,null,{"$f":"IFERROR(Worksheet!S254/Worksheet!P254,0)","v":0},{"$f":"IF(Worksheet!E254=\"\",\"\",Worksheet!E254)","v":""},{"$f":"IF(Worksheet!B254=\"\",\"\",Worksheet!B254)","v":""},{"$f":"IF(Worksheet!D254=\"\",\"\",Worksheet!D254)","v":""}]
[{"$f":"IF(ISBLANK(Worksheet!F255)=FALSE,VLOOKUP(Worksheet!A255,MeasureCode_Lookup,6,FALSE),\"\")","v":""},null,null,{"$f":"IFERROR(IF(Worksheet!U255=0,Worksheet!T255/I237,Worksheet!U255/R237),0)","v":0},"W Controlled",null,null,{"$f":"IF(N(Worksheet!P255)=0,N(Worksheet!O255),N(Worksheet!P255))","v":0},{"$f":"IFERROR(Worksheet!R255/Worksheet!O255,0)","v":0},{"$f":"Worksheet!Z255","v":0},{"$f":"Worksheet!Y255","v":0},0,{"$f":"IF(Worksheet!AG255=0,0,Worksheet!AG255/I237)","v":0},0,null,null,null,{"$f":"IFERROR(Worksheet!S255/Worksheet!P255,0)","v":0},{"$f":"IF(Worksheet!E255=\"\",\"\",Worksheet!E255)","v":""},{"$f":"IF(Worksheet!B255=\"\",\"\",Worksheet!B255)","v":""},{"$f":"IF(Worksheet!D255=\"\",\"\",Worksheet!D255)","v":""}]
[{"$f":"IF(ISBLANK(Worksheet!F256)=FALSE,VLOOKUP(Worksheet!A256,MeasureCode_Lookup,6,FALSE),\"\")","v":""},null,null,{"$f":"IFERROR(IF(Worksheet!U256=0,Worksheet!T256/I238,Worksheet!U256/R238),0)","v":0},"W Controlled",null,null,{"$f":"IF(N(Worksheet!P256)=0,N(Worksheet!O256),N(Worksheet!P256))","v":0},{"$f":"IFERROR(Worksheet!R256/Worksheet!O256,0)","v":0},{"$f":"Worksheet!Z256","v":0},{"$f":"Worksheet!Y256","v":0},0,{"$f":"IF(Worksheet!AG256=0,0,Worksheet!AG256/I238)","v":0},0,null,null,null,{"$f":"IFERROR(Worksheet!S256/Worksheet!P256,0)","v":0},{"$f":"IF(Worksheet!E256=\"\",\"\",Worksheet!E256)","v":""},{"$f":"IF(Worksheet!B256=\"\",\"\",Worksheet!B256)","v":""},{"$f":"IF(Worksheet!D256=\"\",\"\",Worksheet!D256)","v":""}]
[{"$f":"IF(ISBLANK(Worksheet!F257)=FALSE,VLOOKUP(Worksheet!A257,MeasureCode_Lookup,6,FALSE),\"\")","v":""},null,null,{"$f":"IFERROR(IF(Worksheet!U257=0,Worksheet!T257/I239,Worksheet!U257/R239),0)","v":0},"W Controlled",null,null,{"$f":"IF(N(Worksheet!P257)=0,N(Worksheet!O257),N(Worksheet!P257))","v":0},{"$f":"IFERROR(Worksheet!R257/Worksheet!O257,0)","v":0},{"$f":"Worksheet!Z257","v":0},{"$f":"Worksheet!Y257","v":0},0,{"$f":"IF(Worksheet!AG257=0,0,Worksheet!AG257/I239)","v":0},0,null,null,null,{"$f":"IFERROR(Worksheet!S257/Worksheet!P257,0)","v":0},{"$f":"IF(Worksheet!E257=\"\",\"\",Worksheet!E257)","v":""},{"$f":"IF(Worksheet!B257=\"\",\"\",Worksheet!B257)","v":""},{"$f":"IF(Worksheet!D257=\"\",\"\",Worksheet!D257)","v":""}]
[{"$f":"IF(ISBLANK(Worksheet!F258)=FALSE,VLOOKUP(Worksheet!A258,MeasureCode_Lookup,6,FALSE),\"\")","v":""},null,null,{"$f":"IFERROR(IF(Worksheet!U258=0,Worksheet!T258/I240,Worksheet!U258/R240),0)","v":0},"W Controlled",null,null,{"$f":"IF(N(Worksheet!P258)=0,N(Worksheet!O258),N(Worksheet!P258))","v":0},{"$f":"IFERROR(Worksheet!R258/Worksheet!O258,0)","v":0},{"$f":"Worksheet!Z258","v":0},{"$f":"Worksheet!Y258","v":0},0,{"$f":"IF(Worksheet!AG258=0,0,Worksheet!AG258/I240)","v":0},0,null,null,null,{"$f":"IFERROR(Worksheet!S258/Worksheet!P258,0)","v":0},{"$f":"IF(Worksheet!E258=\"\",\"\",Worksheet!E258)","v":""},{"$f":"IF(Worksheet!B258=\"\",\"\",Worksheet!B258)","v":""},{"$f":"IF(Worksheet!D258=\"\",\"\",Worksheet!D258)","v":""}]
[{"$f":"IF(ISBLANK(Worksheet!F259)=FALSE,VLOOKUP(Worksheet!A259,MeasureCode_Lookup,6,FALSE),\"\")","v":""},null,null,{"$f":"IFERROR(IF(Worksheet!U259=0,Worksheet!T259/I241,Worksheet!U259/R241),0)","v":0},"W Controlled",null,null,{"$f":"IF(N(Worksheet!P259)=0,N(Worksheet!O259),N(Worksheet!P259))","v":0},{"$f":"IFERROR(Worksheet!R259/Worksheet!O259,0)","v":0},{"$f":"Worksheet!Z259","v":0},{"$f":"Worksheet!Y259","v":0},0,{"$f":"IF(Worksheet!AG259=0,0,Worksheet!AG259/I241)","v":0},0,null,null,null,{"$f":"IFERROR(Worksheet!S259/Worksheet!P259,0)","v":0},{"$f":"IF(Worksheet!E259=\"\",\"\",Worksheet!E259)","v":""},{"$f":"IF(Worksheet!B259=\"\",\"\",Worksheet!B259)","v":""},{"$f":"IF(Worksheet!D259=\"\",\"\",Worksheet!D259)","v":""}]
[{"$f":"IF(ISBLANK(Worksheet!F260)=FALSE,VLOOKUP(Worksheet!A260,MeasureCode_Lookup,6,FALSE),\"\")","v":""},null,null,{"$f":"IFERROR(IF(Worksheet!U260=0,Worksheet!T260/I242,Worksheet!U260/R242),0)","v":0},"W Controlled",null,null,{"$f":"IF(N(Worksheet!P260)=0,N(Worksheet!O260),N(Worksheet!P260))","v":0},{"$f":"IFERROR(Worksheet!R260/Worksheet!O260,0)","v":0},{"$f":"Worksheet!Z260","v":0},{"$f":"Worksheet!Y260","v":0},0,{"$f":"IF(Worksheet!AG260=0,0,Worksheet!AG260/I242)","v":0},0,null,null,null,{"$f":"IFERROR(Worksheet!S260/Worksheet!P260,0)","v":0},{"$f":"IF(Worksheet!E260=\"\",\"\",Worksheet!E260)","v":""},{"$f":"IF(Worksheet!B260=\"\",\"\",Worksheet!B260)","v":""},{"$f":"IF(Worksheet!D260=\"\",\"\",Worksheet!D260)","v":""}]
[{"$f":"IF(ISBLANK(Worksheet!F261)=FALSE,VLOOKUP(Worksheet!A261,MeasureCode_Lookup,6,FALSE),\"\")","v":""},null,null,{"$f":"IFERROR(IF(Worksheet!U261=0,Worksheet!T261/I243,Worksheet!U261/R243),0)","v":0},"W Controlled",null,null,{"$f":"IF(N(Worksheet!P261)=0,N(Worksheet!O261),N(Worksheet!P261))","v":0},{"$f":"IFERROR(Worksheet!R261/Worksheet!O261,0)","v":0},{"$f":"Worksheet!Z261","v":0},{"$f":"Worksheet!Y261","v":0},0,{"$f":"IF(Worksheet!AG261=0,0,Worksheet!AG261/I243)","v":0},0,null,null,null,{"$f":"IFERROR(Worksheet!S261/Worksheet!P261,0)","v":0},{"$f":"IF(Worksheet!E261=\"\",\"\",Worksheet!E261)","v":""},{"$f":"IF(Worksheet!B261=\"\",\"\",Worksheet!B261)","v":""},{"$f":"IF(Worksheet!D261=\"\",\"\",Worksheet!D261)","v":""}]
[{"$f":"IF(ISBLANK(Worksheet!F262)=FALSE,VLOOKUP(Worksheet!A262,MeasureCode_Lookup,6,FALSE),\"\")","v":""},null,null,{"$f":"IFERROR(IF(Worksheet!U262=0,Worksheet!T262/I244,Worksheet!U262/R244),0)","v":0},"W Controlled",null,null,{"$f":"IF(N(Worksheet!P262)=0,N(Worksheet!O262),N(Worksheet!P262))","v":0},{"$f":"IFERROR(Worksheet!R262/Worksheet!O262,0)","v":0},{"$f":"Worksheet!Z262","v":0},{"$f":"Worksheet!Y262","v":0},0,{"$f":"IF(Worksheet!AG262=0,0,Worksheet!AG262/I244)","v":0},0,null,null,null,{"$f":"IFERROR(Worksheet!S262/Worksheet!P262,0)","v":0},{"$f":"IF(Worksheet!E262=\"\",\"\",Worksheet!E262)","v":""},{"$f":"IF(Worksheet!B262=\"\",\"\",Worksheet!B262)","v":""},{"$f":"IF(Worksheet!D262=\"\",\"\",Worksheet!D262)","v":""}]
[{"$f":"IF(ISBLANK(Worksheet!F263)=FALSE,VLOOKUP(Worksheet!A263,MeasureCode_Lookup,6,FALSE),\"\")","v":""},null,null,{"$f":"IFERROR(IF(Worksheet!U263=0,Worksheet!T263/I245,Worksheet!U263/R245),0)","v":0},"W Controlled",null,null,{"$f":"IF(N(Worksheet!P263)=0,N(Worksheet!O263),N(Worksheet!P263))","v":0},{"$f":"IFERROR(Worksheet!R263/Worksheet!O263,0)","v":0},{"$f":"Worksheet!Z263","v":0},{"$f":"Worksheet!Y263","v":0},0,{"$f":"IF(Worksheet!AG263=0,0,Worksheet!AG263/I245)","v":0},0,null,null,null,{"$f":"IFERROR(Worksheet!S263/Worksheet!P263,0)","v":0},{"$f":"IF(Worksheet!E263=\"\",\"\",Worksheet!E263)","v":""},{"$f":"IF(Worksheet!B263=\"\",\"\",Worksheet!B263)","v":""},{"$f":"IF(Worksheet!D263=\"\",\"\",Worksheet!D263)","v":""}]
[{"$f":"IF(ISBLANK(Worksheet!F264)=FALSE,VLOOKUP(Worksheet!A264,MeasureCode_Lookup,6,FALSE),\"\")","v":""},null,null,{"$f":"IFERROR(IF(Worksheet!U264=0,Worksheet!T264/I246,Worksheet!U264/R246),0)","v":0},"W Controlled",null,null,{"$f":"IF(N(Worksheet!P264)=0,N(Worksheet!O264),N(Worksheet!P264))","v":0},{"$f":"IFERROR(Worksheet!R264/Worksheet!O264,0)","v":0},{"$f":"Worksheet!Z264","v":0},{"$f":"Worksheet!Y264","v":0},0,{"$f":"IF(Worksheet!AG264=0,0,Worksheet!AG264/I246)","v":0},0,null,null,null,{"$f":"IFERROR(Worksheet!S264/Worksheet!P264,0)","v":0},{"$f":"IF(Worksheet!E264=\"\",\"\",Worksheet!E264)","v":""},{"$f":"IF(Worksheet!B264=\"\",\"\",Worksheet!B264)","v":""},{"$f":"IF(Worksheet!D264=\"\",\"\",Worksheet!D264)","v":""}]
[{"$f":"IF(ISBLANK(Worksheet!F265)=FALSE,VLOOKUP(Worksheet!A265,MeasureCode_Lookup,6,FALSE),\"\")","v":""},null,null,{"$f":"IFERROR(IF(Worksheet!U265=0,Worksheet!T265/I247,Worksheet!U265/R247),0)","v":0},"W Controlled",null,null,{"$f":"IF(N(Worksheet!P265)=0,N(Worksheet!O265),N(Worksheet!P265))","v":0},{"$f":"IFERROR(Worksheet!R265/Worksheet!O265,0)","v":0},{"$f":"Worksheet!Z265","v":0},{"$f":"Worksheet!Y265","v":0},0,{"$f":"IF(Worksheet!AG265=0,0,Worksheet!AG265/I247)","v":0},0,null,null,null,{"$f":"IFERROR(Worksheet!S265/Worksheet!P265,0)","v":0},{"$f":"IF(Worksheet!E265=\"\",\"\",Worksheet!E265)","v":""},{"$f":"IF(Worksheet!B265=\"\",\"\",Worksheet!B265)","v":""},{"$f":"IF(Worksheet!D265=\"\",\"\",Worksheet!D265)","v":""}]
[{"$f":"IF(ISBLANK(Worksheet!F266)=FALSE,VLOOKUP(Worksheet!A266,MeasureCode_Lookup,6,FALSE),\"\")","v":""},null,null,{"$f":"IFERROR(IF(Worksheet!U266=0,Worksheet!T266/I248,Worksheet!U266/R248),0)","v":0},"W Controlled",null,null,{"$f":"IF(N(Worksheet!P266)=0,N(Worksheet!O266),N(Worksheet!P266))","v":0},{"$f":"IFERROR(Worksheet!R266/Worksheet!O266,0)","v":0},{"$f":"Worksheet!Z266","v":0},{"$f":"Worksheet!Y266","v":0},0,{"$f":"IF(Worksheet!AG266=0,0,Worksheet!AG266/I248)","v":0},0,null,null,null,{"$f":"IFERROR(Worksheet!S266/Worksheet!P266,0)","v":0},{"$f":"IF(Worksheet!E266=\"\",\"\",Worksheet!E266)","v":""},{"$f":"IF(Worksheet!B266=\"\",\"\",Worksheet!B266)","v":""},{"$f":"IF(Worksheet!D266=\"\",\"\",Worksheet!D266)","v":""}]
[{"$f":"IF(ISBLANK(Worksheet!F267)=FALSE,VLOOKUP(Worksheet!A267,MeasureCode_Lookup,6,FALSE),\"\")","v":""},null,null,{"$f":"IFERROR(IF(Worksheet!U267=0,Worksheet!T267/I249,Worksheet!U267/R249),0)","v":0},"W Controlled",null,null,{"$f":"IF(N(Worksheet!P267)=0,N(Worksheet!O267),N(Worksheet!P267))","v":0},{"$f":"IFERROR(Worksheet!R267/Worksheet!O267,0)","v":0},{"$f":"Worksheet!Z267","v":0},{"$f":"Worksheet!Y267","v":0},0,{"$f":"IF(Worksheet!AG267=0,0,Worksheet!AG267/I249)","v":0},0,null,null,null,{"$f":"IFERROR(Worksheet!S267/Worksheet!P267,0)","v":0},{"$f":"IF(Worksheet!E267=\"\",\"\",Worksheet!E267)","v":""},{"$f":"IF(Worksheet!B267=\"\",\"\",Worksheet!B267)","v":""},{"$f":"IF(Worksheet!D267=\"\",\"\",Worksheet!D267)","v":""}]
[{"$f":"IF(ISBLANK(Worksheet!F268)=FALSE,VLOOKUP(Worksheet!A268,MeasureCode_Lookup,6,FALSE),\"\")","v":""},null,null,{"$f":"IFERROR(IF(Worksheet!U268=0,Worksheet!T268/I250,Worksheet!U268/R250),0)","v":0},"W Controlled",null,null,{"$f":"IF(N(Worksheet!P268)=0,N(Worksheet!O268),N(Worksheet!P268))","v":0},{"$f":"IFERROR(Worksheet!R268/Worksheet!O268,0)","v":0},{"$f":"Worksheet!Z268","v":0},{"$f":"Worksheet!Y268","v":0},0,{"$f":"IF(Worksheet!AG268=0,0,Worksheet!AG268/I250)","v":0},0,null,null,null,{"$f":"IFERROR(Worksheet!S268/Worksheet!P268,0)","v":0},{"$f":"IF(Worksheet!E268=\"\",\"\",Worksheet!E268)","v":""},{"$f":"IF(Worksheet!B268=\"\",\"\",Worksheet!B268)","v":""},{"$f":"IF(Worksheet!D268=\"\",\"\",Worksheet!D268)","v":""}]
[{"$f":"IF(ISBLANK(Worksheet!F269)=FALSE,VLOOKUP(Worksheet!A269,MeasureCode_Lookup,6,FALSE),\"\")","v":""},null,null,{"$f":"IFERROR(IF(Worksheet!U269=0,Worksheet!T269/I251,Worksheet!U269/R251),0)","v":0},"W Controlled",null,null,{"$f":"IF(N(Worksheet!P269)=0,N(Worksheet!O269),N(Worksheet!P269))","v":0},{"$f":"IFERROR(Worksheet!R269/Worksheet!O269,0)","v":0},{"$f":"Worksheet!Z269","v":0},{"$f":"Worksheet!Y269","v":0},0,{"$f":"IF(Worksheet!AG269=0,0,Worksheet!AG269/I251)","v":0},0,null,null,null,{"$f":"IFERROR(Worksheet!S269/Worksheet!P269,0)","v":0},{"$f":"IF(Worksheet!E269=\"\",\"\",Worksheet!E269)","v":""},{"$f":"IF(Worksheet!B269=\"\",\"\",Worksheet!B269)","v":""},{"$f":"IF(Worksheet!D269=\"\",\"\",Worksheet!D269)","v":""}]
[{"$f":"IF(ISBLANK(Worksheet!F270)=FALSE,VLOOKUP(Worksheet!A270,MeasureCode_Lookup,6,FALSE),\"\")","v":""},null,null,{"$f":"IFERROR(IF(Worksheet!U270=0,Worksheet!T270/I252,Worksheet!U270/R252),0)","v":0},"W Controlled",null,null,{"$f":"IF(N(Worksheet!P270)=0,N(Worksheet!O270),N(Worksheet!P270))","v":0},{"$f":"IFERROR(Worksheet!R270/Worksheet!O270,0)","v":0},{"$f":"Worksheet!Z270","v":0},{"$f":"Worksheet!Y270","v":0},0,{"$f":"IF(Worksheet!AG270=0,0,Worksheet!AG270/I252)","v":0},0,null,null,null,{"$f":"IFERROR(Worksheet!S270/Worksheet!P270,0)","v":0},{"$f":"IF(Worksheet!E270=\"\",\"\",Worksheet!E270)","v":""},{"$f":"IF(Worksheet!B270=\"\",\"\",Worksheet!B270)","v":""},{"$f":"IF(Worksheet!D270=\"\",\"\",Worksheet!D270)","v":""}]
[{"$f":"IF(ISBLANK(Worksheet!F271)=FALSE,VLOOKUP(Worksheet!A271,MeasureCode_Lookup,6,FALSE),\"\")","v":""},null,null,{"$f":"IFERROR(IF(Worksheet!U271=0,Worksheet!T271/I253,Worksheet!U271/R253),0)","v":0},"W Controlled",null,null,{"$f":"IF(N(Worksheet!P271)=0,N(Worksheet!O271),N(Worksheet!P271))","v":0},{"$f":"IFERROR(Worksheet!R271/Worksheet!O271,0)","v":0},{"$f":"Worksheet!Z271","v":0},{"$f":"Worksheet!Y271","v":0},0,{"$f":"IF(Worksheet!AG271=0,0,Worksheet!AG271/I253)","v":0},0,null,null,null,{"$f":"IFERROR(Worksheet!S271/Worksheet!P271,0)","v":0},{"$f":"IF(Worksheet!E271=\"\",\"\",Worksheet!E271)","v":""},{"$f":"IF(Worksheet!B271=\"\",\"\",Worksheet!B271)","v":""},{"$f":"IF(Worksheet!D271=\"\",\"\",Worksheet!D271)","v":""}]
[{"$f":"IF(ISBLANK(Worksheet!F272)=FALSE,VLOOKUP(Worksheet!A272,MeasureCode_Lookup,6,FALSE),\"\")","v":""},null,null,{"$f":"IFERROR(IF(Worksheet!U272=0,Worksheet!T272/I254,Worksheet!U272/R254),0)","v":0},"W Controlled",null,null,{"$f":"IF(N(Worksheet!P272)=0,N(Worksheet!O272),N(Worksheet!P272))","v":0},{"$f":"IFERROR(Worksheet!R272/Worksheet!O272,0)","v":0},{"$f":"Worksheet!Z272","v":0},{"$f":"Worksheet!Y272","v":0},0,{"$f":"IF(Worksheet!AG272=0,0,Worksheet!AG272/I254)","v":0},0,null,null,null,{"$f":"IFERROR(Worksheet!S272/Worksheet!P272,0)","v":0},{"$f":"IF(Worksheet!E272=\"\",\"\",Worksheet!E272)","v":""},{"$f":"IF(Worksheet!B272=\"\",\"\",Worksheet!B272)","v":""},{"$f":"IF(Worksheet!D272=\"\",\"\",Worksheet!D272)","v":""}]
[{"$f":"IF(ISBLANK(Worksheet!F273)=FALSE,VLOOKUP(Worksheet!A273,MeasureCode_Lookup,6,FALSE),\"\")","v":""},null,null,{"$f":"IFERROR(IF(Worksheet!U273=0,Worksheet!T273/I255,Worksheet!U273/R255),0)","v":0},"W Controlled",null,null,{"$f":"IF(N(Worksheet!P273)=0,N(Worksheet!O273),N(Worksheet!P273))","v":0},{"$f":"IFERROR(Worksheet!R273/Worksheet!O273,0)","v":0},{"$f":"Worksheet!Z273","v":0},{"$f":"Worksheet!Y273","v":0},0,{"$f":"IF(Worksheet!AG273=0,0,Worksheet!AG273/I255)","v":0},0,null,null,null,{"$f":"IFERROR(Worksheet!S273/Worksheet!P273,0)","v":0},{"$f":"IF(Worksheet!E273=\"\",\"\",Worksheet!E273)","v":""},{"$f":"IF(Worksheet!B273=\"\",\"\",Worksheet!B273)","v":""},{"$f":"IF(Worksheet!D273=\"\",\"\",Worksheet!D273)","v":""}]
[{"$f":"IF(ISBLANK(Worksheet!F274)=FALSE,VLOOKUP(Worksheet!A274,MeasureCode_Lookup,6,FALSE),\"\")","v":""},null,null,{"$f":"IFERROR(IF(Worksheet!U274=0,Worksheet!T274/I256,Worksheet!U274/R256),0)","v":0},"W Controlled",null,null,{"$f":"IF(N(Worksheet!P274)=0,N(Worksheet!O274),N(Worksheet!P274))","v":0},{"$f":"IFERROR(Worksheet!R274/Worksheet!O274,0)","v":0},{"$f":"Worksheet!Z274","v":0},{"$f":"Worksheet!Y274","v":0},0,{"$f":"IF(Worksheet!AG274=0,0,Worksheet!AG274/I256)","v":0},0,null,null,null,{"$f":"IFERROR(Worksheet!S274/Worksheet!P274,0)","v":0},{"$f":"IF(Worksheet!E274=\"\",\"\",Worksheet!E274)","v":""},{"$f":"IF(Worksheet!B274=\"\",\"\",Worksheet!B274)","v":""},{"$f":"IF(Worksheet!D274=\"\",\"\",Worksheet!D274)","v":""}]
[{"$f":"IF(ISBLANK(Worksheet!F275)=FALSE,VLOOKUP(Worksheet!A275,MeasureCode_Lookup,6,FALSE),\"\")","v":""},null,null,{"$f":"IFERROR(IF(Worksheet!U275=0,Worksheet!T275/I257,Worksheet!U275/R257),0)","v":0},"W Controlled",null,null,{"$f":"IF(N(Worksheet!P275)=0,N(Worksheet!O275),N(Worksheet!P275))","v":0},{"$f":"IFERROR(Worksheet!R275/Worksheet!O275,0)","v":0},{"$f":"Worksheet!Z275","v":0},{"$f":"Worksheet!Y275","v":0},0,{"$f":"IF(Worksheet!AG275=0,0,Worksheet!AG275/I257)","v":0},0,null,null,null,{"$f":"IFERROR(Worksheet!S275/Worksheet!P275,0)","v":0},{"$f":"IF(Worksheet!E275=\"\",\"\",Worksheet!E275)","v":""},{"$f":"IF(Worksheet!B275=\"\",\"\",Worksheet!B275)","v":""},{"$f":"IF(Worksheet!D275=\"\",\"\",Worksheet!D275)","v":""}]
[{"$f":"IF(ISBLANK(Worksheet!F276)=FALSE,VLOOKUP(Worksheet!A276,MeasureCode_Lookup,6,FALSE),\"\")","v":""},null,null,{"$f":"IFERROR(IF(Worksheet!U276=0,Worksheet!T276/I258,Worksheet!U276/R258),0)","v":0},"W Controlled",null,null,{"$f":"IF(N(Worksheet!P276)=0,N(Worksheet!O276),N(Worksheet!P276))","v":0},{"$f":"IFERROR(Worksheet!R276/Worksheet!O276,0)","v":0},{"$f":"Worksheet!Z276","v":0},{"$f":"Worksheet!Y276","v":0},0,{"$f":"IF(Worksheet!AG276=0,0,Worksheet!AG276/I258)","v":0},0,null,null,null,{"$f":"IFERROR(Worksheet!S276/Worksheet!P276,0)","v":0},{"$f":"IF(Worksheet!E276=\"\",\"\",Worksheet!E276)","v":""},{"$f":"IF(Worksheet!B276=\"\",\"\",Worksheet!B276)","v":""},{"$f":"IF(Worksheet!D276=\"\",\"\",Worksheet!D276)","v":""}]
[{"$f":"IF(ISBLANK(Worksheet!F277)=FALSE,VLOOKUP(Worksheet!A277,MeasureCode_Lookup,6,FALSE),\"\")","v":""},null,null,{"$f":"IFERROR(IF(Worksheet!U277=0,Worksheet!T277/I259,Worksheet!U277/R259),0)","v":0},"W Controlled",null,null,{"$f":"IF(N(Worksheet!P277)=0,N(Worksheet!O277),N(Worksheet!P277))","v":0},{"$f":"IFERROR(Worksheet!R277/Worksheet!O277,0)","v":0},{"$f":"Worksheet!Z277","v":0},{"$f":"Worksheet!Y277","v":0},{"$f":"J259*8","v":0},{"$f":"IF(Worksheet!AG277=0,0,Worksheet!AG277/I259)","v":0},{"$f":"M259*8","v":0},null,null,null,{"$f":"IFERROR(Worksheet!S277/Worksheet!P277,0)","v":0},{"$f":"IF(Worksheet!E277=\"\",\"\",Worksheet!E277)","v":""},{"$f":"IF(Worksheet!B277=\"\",\"\",Worksheet!B277)","v":""},{"$f":"IF(Worksheet!D277=\"\",\"\",Worksheet!D277)","v":""}]
[{"$f":"IF(ISBLANK(Worksheet!F278)=FALSE,VLOOKUP(Worksheet!A278,MeasureCode_Lookup,6,FALSE),\"\")","v":""},null,null,{"$f":"IFERROR(IF(Worksheet!U278=0,Worksheet!T278/I260,Worksheet!U278/R260),0)","v":0},"W Controlled",null,null,{"$f":"IF(N(Worksheet!P278)=0,N(Worksheet!O278),N(Worksheet!P278))","v":0},{"$f":"IFERROR(Worksheet!R278/Worksheet!O278,0)","v":0},{"$f":"Worksheet!Z278","v":0},{"$f":"Worksheet!Y278","v":0},0,{"$f":"IF(Worksheet!AG278=0,0,Worksheet!AG278/I260)","v":0},0,null,null,null,{"$f":"IFERROR(Worksheet!S278/Worksheet!P278,0)","v":0},{"$f":"IF(Worksheet!E278=\"\",\"\",Worksheet!E278)","v":""},{"$f":"IF(Worksheet!B278=\"\",\"\",Worksheet!B278)","v":""},{"$f":"IF(Worksheet!D278=\"\",\"\",Worksheet!D278)","v":""}]
[{"$f":"IF(ISBLANK(Worksheet!F279)=FALSE,VLOOKUP(Worksheet!A279,MeasureCode_Lookup,6,FALSE),\"\")","v":""},null,null,{"$f":"IFERROR(IF(Worksheet!U279=0,Worksheet!T279/I261,Worksheet!U279/R261),0)","v":0},"W Controlled",null,null,{"$f":"IF(N(Worksheet!P279)=0,N(Worksheet!O279),N(Worksheet!P279))","v":0},{"$f":"IFERROR(Worksheet!R279/Worksheet!O279,0)","v":0},{"$f":"Worksheet!Z279","v":0},{"$f":"Worksheet!Y279","v":0},0,{"$f":"IF(Worksheet!AG279=0,0,Worksheet!AG279/I261)","v":0},0,null,null,null,{"$f":"IFERROR(Worksheet!S279/Worksheet!P279,0)","v":0},{"$f":"IF(Worksheet!E279=\"\",\"\",Worksheet!E279)","v":""},{"$f":"IF(Worksheet!B279=\"\",\"\",Worksheet!B279)","v":""},{"$f":"IF(Worksheet!D279=\"\",\"\",Worksheet!D279)","v":""}]
[{"$f":"IF(ISBLANK(Worksheet!F280)=FALSE,VLOOKUP(Worksheet!A280,MeasureCode_Lookup,6,FALSE),\"\")","v":""},null,null,{"$f":"IFERROR(IF(Worksheet!U280=0,Worksheet!T280/I262,Worksheet!U280/R262),0)","v":0},"W Controlled",null,null,{"$f":"IF(N(Worksheet!P280)=0,N(Worksheet!O280),N(Worksheet!P280))","v":0},{"$f":"IFERROR(Worksheet!R280/Worksheet!O280,0)","v":0},{"$f":"Worksheet!Z280","v":0},{"$f":"Worksheet!Y280","v":0},0,{"$f":"IF(Worksheet!AG280=0,0,Worksheet!AG280/I262)","v":0},0,null,null,null,{"$f":"IFERROR(Worksheet!S280/Worksheet!P280,0)","v":0},{"$f":"IF(Worksheet!E280=\"\",\"\",Worksheet!E280)","v":""},{"$f":"IF(Worksheet!B280=\"\",\"\",Worksheet!B280)","v":""},{"$f":"IF(Worksheet!D280=\"\",\"\",Worksheet!D280)","v":""}]
[{"$f":"IF(ISBLANK(Worksheet!F281)=FALSE,VLOOKUP(Worksheet!A281,MeasureCode_Lookup,6,FALSE),\"\")","v":""},null,null,{"$f":"IFERROR(IF(Worksheet!U281=0,Worksheet!T281/I263,Worksheet!U281/R263),0)","v":0},"W Controlled",null,null,{"$f":"IF(N(Worksheet!P281)=0,N(Worksheet!O281),N(Worksheet!P281))","v":0},{"$f":"IFERROR(Worksheet!R281/Worksheet!O281,0)","v":0},{"$f":"Worksheet!Z281","v":0},{"$f":"Worksheet!Y281","v":0},0,{"$f":"IF(Worksheet!AG281=0,0,Worksheet!AG281/I263)","v":0},0,null,null,null,{"$f":"IFERROR(Worksheet!S281/Worksheet!P281,0)","v":0},{"$f":"IF(Worksheet!E281=\"\",\"\",Worksheet!E281)","v":""},{"$f":"IF(Worksheet!B281=\"\",\"\",Worksheet!B281)","v":""},{"$f":"IF(Worksheet!D281=\"\",\"\",Worksheet!D281)","v":""}]
[{"$f":"IF(ISBLANK(Worksheet!F282)=FALSE,VLOOKUP(Worksheet!A282,MeasureCode_Lookup,6,FALSE),\"\")","v":""},null,null,{"$f":"IFERROR(IF(Worksheet!U282=0,Worksheet!T282/I264,Worksheet!U282/R264),0)","v":0},"W Controlled",null,null,{"$f":"IF(N(Worksheet!P282)=0,N(Worksheet!O282),N(Worksheet!P282))","v":0},{"$f":"IFERROR(Worksheet!R282/Worksheet!O282,0)","v":0},{"$f":"Worksheet!Z282","v":0},{"$f":"Worksheet!Y282","v":0},0,{"$f":"IF(Worksheet!AG282=0,0,Worksheet!AG282/I264)","v":0},0,null,null,null,{"$f":"IFERROR(Worksheet!S282/Worksheet!P282,0)","v":0},{"$f":"IF(Worksheet!E282=\"\",\"\",Worksheet!E282)","v":""},{"$f":"IF(Worksheet!B282=\"\",\"\",Worksheet!B282)","v":""},{"$f":"IF(Worksheet!D282=\"\",\"\",Worksheet!D282)","v":""}]
[{"$f":"IF(ISBLANK(Worksheet!F283)=FALSE,VLOOKUP(Worksheet!A283,MeasureCode_Lookup,6,FALSE),\"\")","v":""},null,null,{"$f":"IFERROR(IF(Worksheet!U283=0,Worksheet!T283/I265,Worksheet!U283/R265),0)","v":0},"W Controlled",null,null,{"$f":"IF(N(Worksheet!P283)=0,N(Worksheet!O283),N(Worksheet!P283))","v":0},{"$f":"IFERROR(Worksheet!R283/Worksheet!O283,0)","v":0},{"$f":"Worksheet!Z283","v":0},{"$f":"Worksheet!Y283","v":0},0,{"$f":"IF(Worksheet!AG283=0,0,Worksheet!AG283/I265)","v":0},0,null,null,null,{"$f":"IFERROR(Worksheet!S283/Worksheet!P283,0)","v":0},{"$f":"IF(Worksheet!E283=\"\",\"\",Worksheet!E283)","v":""},{"$f":"IF(Worksheet!B283=\"\",\"\",Worksheet!B283)","v":""},{"$f":"IF(Worksheet!D283=\"\",\"\",Worksheet!D283)","v":""}]
[{"$f":"IF(ISBLANK(Worksheet!F284)=FALSE,VLOOKUP(Worksheet!A284,MeasureCode_Lookup,6,FALSE),\"\")","v":""},null,null,{"$f":"IFERROR(IF(Worksheet!U284=0,Worksheet!T284/I266,Worksheet!U284/R266),0)","v":0},"W Controlled",null,null,{"$f":"IF(N(Worksheet!P284)=0,N(Worksheet!O284),N(Worksheet!P284))","v":0},{"$f":"IFERROR(Worksheet!R284/Worksheet!O284,0)","v":0},{"$f":"Worksheet!Z284","v":0},{"$f":"Worksheet!Y284","v":0},0,{"$f":"IF(Worksheet!AG284=0,0,Worksheet!AG284/I266)","v":0},0,null,null,null,{"$f":"IFERROR(Worksheet!S284/Worksheet!P284,0)","v":0},{"$f":"IF(Worksheet!E284=\"\",\"\",Worksheet!E284)","v":""},{"$f":"IF(Worksheet!B284=\"\",\"\",Worksheet!B284)","v":""},{"$f":"IF(Worksheet!D284=\"\",\"\",Worksheet!D284)","v":""}]
[{"$f":"IF(ISBLANK(Worksheet!F285)=FALSE,VLOOKUP(Worksheet!A285,MeasureCode_Lookup,6,FALSE),\"\")","v":""},null,null,{"$f":"IFERROR(IF(Worksheet!U285=0,Worksheet!T285/I267,Worksheet!U285/R267),0)","v":0},"W Controlled",null,null,{"$f":"IF(N(Worksheet!P285)=0,N(Worksheet!O285),N(Worksheet!P285))","v":0},{"$f":"IFERROR(Worksheet!R285/Worksheet!O285,0)","v":0},{"$f":"Worksheet!Z285","v":0},{"$f":"Worksheet!Y285","v":0},0,{"$f":"IF(Worksheet!AG285=0,0,Worksheet!AG285/I267)","v":0},0,null,null,null,{"$f":"IFERROR(Worksheet!S285/Worksheet!P285,0)","v":0},{"$f":"IF(Worksheet!E285=\"\",\"\",Worksheet!E285)","v":""},{"$f":"IF(Worksheet!B285=\"\",\"\",Worksheet!B285)","v":""},{"$f":"IF(Worksheet!D285=\"\",\"\",Worksheet!D285)","v":""}]
[{"$f":"IF(ISBLANK(Worksheet!F286)=FALSE,VLOOKUP(Worksheet!A286,MeasureCode_Lookup,6,FALSE),\"\")","v":""},null,null,{"$f":"IFERROR(IF(Worksheet!U286=0,Worksheet!T286/I268,Worksheet!U286/R268),0)","v":0},"W Controlled",null,null,{"$f":"IF(N(Worksheet!P286)=0,N(Worksheet!O286),N(Worksheet!P286))","v":0},{"$f":"IFERROR(Worksheet!R286/Worksheet!O286,0)","v":0},{"$f":"Worksheet!Z286","v":0},{"$f":"Worksheet!Y286","v":0},0,{"$f":"IF(Worksheet!AG286=0,0,Worksheet!AG286/I268)","v":0},0,null,null,null,{"$f":"IFERROR(Worksheet!S286/Worksheet!P286,0)","v":0},{"$f":"IF(Worksheet!E286=\"\",\"\",Worksheet!E286)","v":""},{"$f":"IF(Worksheet!B286=\"\",\"\",Worksheet!B286)","v":""},{"$f":"IF(Worksheet!D286=\"\",\"\",Worksheet!D286)","v":""}]
[{"$f":"IF(ISBLANK(Worksheet!F287)=FALSE,VLOOKUP(Worksheet!A287,MeasureCode_Lookup,6,FALSE),\"\")","v":""},null,null,{"$f":"IFERROR(IF(Worksheet!U287=0,Worksheet!T287/I269,Worksheet!U287/R269),0)","v":0},"W Controlled",null,null,{"$f":"IF(N(Worksheet!P287)=0,N(Worksheet!O287),N(Worksheet!P287))","v":0},{"$f":"IFERROR(Worksheet!R287/Worksheet!O287,0)","v":0},{"$f":"Worksheet!Z287","v":0},{"$f":"Worksheet!Y287","v":0},0,{"$f":"IF(Worksheet!AG287=0,0,Worksheet!AG287/I269)","v":0},0,null,null,null,{"$f":"IFERROR(Worksheet!S287/Worksheet!P287,0)","v":0},{"$f":"IF(Worksheet!E287=\"\",\"\",Worksheet!E287)","v":""},{"$f":"IF(Worksheet!B287=\"\",\"\",Worksheet!B287)","v":""},{"$f":"IF(Worksheet!D287=\"\",\"\",Worksheet!D287)","v":""}]
[{"$f":"IF(ISBLANK(Worksheet!F288)=FALSE,VLOOKUP(Worksheet!A288,MeasureCode_Lookup,6,FALSE),\"\")","v":""},null,null,{"$f":"IFERROR(IF(Worksheet!U288=0,Worksheet!T288/I270,Worksheet!U288/R270),0)","v":0},"W Controlled",null,null,{"$f":"IF(N(Worksheet!P288)=0,N(Worksheet!O288),N(Worksheet!P288))","v":0},{"$f":"IFERROR(Worksheet!R288/Worksheet!O288,0)","v":0},{"$f":"Worksheet!Z288","v":0},{"$f":"Worksheet!Y288","v":0},0,{"$f":"IF(Worksheet!AG288=0,0,Worksheet!AG288/I270)","v":0},0,null,null,null,{"$f":"IFERROR(Worksheet!S288/Worksheet!P288,0)","v":0},{"$f":"IF(Worksheet!E288=\"\",\"\",Worksheet!E288)","v":""},{"$f":"IF(Worksheet!B288=\"\",\"\",Worksheet!B288)","v":""},{"$f":"IF(Worksheet!D288=\"\",\"\",Worksheet!D288)","v":""}]
[{"$f":"IF(ISBLANK(Worksheet!F289)=FALSE,VLOOKUP(Worksheet!A289,MeasureCode_Lookup,6,FALSE),\"\")","v":""},null,null,{"$f":"IFERROR(IF(Worksheet!U289=0,Worksheet!T289/I271,Worksheet!U289/R271),0)","v":0},"W Controlled",null,null,{"$f":"IF(N(Worksheet!P289)=0,N(Worksheet!O289),N(Worksheet!P289))","v":0},{"$f":"IFERROR(Worksheet!R289/Worksheet!O289,0)","v":0},{"$f":"Worksheet!Z289","v":0},{"$f":"Worksheet!Y289","v":0},0,{"$f":"IF(Worksheet!AG289=0,0,Worksheet!AG289/I271)","v":0},0,null,null,null,{"$f":"IFERROR(Worksheet!S289/Worksheet!P289,0)","v":0},{"$f":"IF(Worksheet!E289=\"\",\"\",Worksheet!E289)","v":""},{"$f":"IF(Worksheet!B289=\"\",\"\",Worksheet!B289)","v":""},{"$f":"IF(Worksheet!D289=\"\",\"\",Worksheet!D289)","v":""}]
[{"$f":"IF(ISBLANK(Worksheet!F290)=FALSE,VLOOKUP(Worksheet!A290,MeasureCode_Lookup,6,FALSE),\"\")","v":""},null,null,{"$f":"IFERROR(IF(Worksheet!U290=0,Worksheet!T290/I272,Worksheet!U290/R272),0)","v":0},"W Controlled",null,null,{"$f":"IF(N(Worksheet!P290)=0,N(Worksheet!O290),N(Worksheet!P290))","v":0},{"$f":"IFERROR(Worksheet!R290/Worksheet!O290,0)","v":0},{"$f":"Worksheet!Z290","v":0},{"$f":"Worksheet!Y290","v":0},0,{"$f":"IF(Worksheet!AG290=0,0,Worksheet!AG290/I272)","v":0},0,null,null,null,{"$f":"IFERROR(Worksheet!S290/Worksheet!P290,0)","v":0},{"$f":"IF(Worksheet!E290=\"\",\"\",Worksheet!E290)","v":""},{"$f":"IF(Worksheet!B290=\"\",\"\",Worksheet!B290)","v":""},{"$f":"IF(Worksheet!D290=\"\",\"\",Worksheet!D290)","v":""}]
[{"$f":"IF(ISBLANK(Worksheet!F291)=FALSE,VLOOKUP(Worksheet!A291,MeasureCode_Lookup,6,FALSE),\"\")","v":""},null,null,{"$f":"IFERROR(IF(Worksheet!U291=0,Worksheet!T291/I273,Worksheet!U291/R273),0)","v":0},"W Controlled",null,null,{"$f":"IF(N(Worksheet!P291)=0,N(Worksheet!O291),N(Worksheet!P291))","v":0},{"$f":"IFERROR(Worksheet!R291/Worksheet!O291,0)","v":0},{"$f":"Worksheet!Z291","v":0},{"$f":"Worksheet!Y291","v":0},0,{"$f":"IF(Worksheet!AG291=0,0,Worksheet!AG291/I273)","v":0},0,null,null,null,{"$f":"IFERROR(Worksheet!S291/Worksheet!P291,0)","v":0},{"$f":"IF(Worksheet!E291=\"\",\"\",Worksheet!E291)","v":""},{"$f":"IF(Worksheet!B291=\"\",\"\",Worksheet!B291)","v":""},{"$f":"IF(Worksheet!D291=\"\",\"\",Worksheet!D291)","v":""}]
[{"$f":"IF(ISBLANK(Worksheet!F292)=FALSE,VLOOKUP(Worksheet!A292,MeasureCode_Lookup,6,FALSE),\"\")","v":""},null,null,{"$f":"IFERROR(IF(Worksheet!U292=0,Worksheet!T292/I274,Worksheet!U292/R274),0)","v":0},"W Controlled",null,null,{"$f":"IF(N(Worksheet!P292)=0,N(Worksheet!O292),N(Worksheet!P292))","v":0},{"$f":"IFERROR(Worksheet!R292/Worksheet!O292,0)","v":0},{"$f":"Worksheet!Z292","v":0},{"$f":"Worksheet!Y292","v":0},0,{"$f":"IF(Worksheet!AG292=0,0,Worksheet!AG292/I274)","v":0},0,null,null,null,{"$f":"IFERROR(Worksheet!S292/Worksheet!P292,0)","v":0},{"$f":"IF(Worksheet!E292=\"\",\"\",Worksheet!E292)","v":""},{"$f":"IF(Worksheet!B292=\"\",\"\",Worksheet!B292)","v":""},{"$f":"IF(Worksheet!D292=\"\",\"\",Worksheet!D292)","v":""}]
[{"$f":"IF(ISBLANK(Worksheet!F293)=FALSE,VLOOKUP(Worksheet!A293,MeasureCode_Lookup,6,FALSE),\"\")","v":""},null,null,{"$f":"IFERROR(IF(Worksheet!U293=0,Worksheet!T293/I275,Worksheet!U293/R275),0)","v":0},"W Controlled",null,null,{"$f":"IF(N(Worksheet!P293)=0,N(Worksheet!O293),N(Worksheet!P293))","v":0},{"$f":"IFERROR(Worksheet!R293/Worksheet!O293,0)","v":0},{"$f":"Worksheet!Z293","v":0},{"$f":"Worksheet!Y293","v":0},0,{"$f":"IF(Worksheet!AG293=0,0,Worksheet!AG293/I275)","v":0},0,null,null,null,{"$f":"IFERROR(Worksheet!S293/Worksheet!P293,0)","v":0},{"$f":"IF(Worksheet!E293=\"\",\"\",Worksheet!E293)","v":""},{"$f":"IF(Worksheet!B293=\"\",\"\",Worksheet!B293)","v":""},{"$f":"IF(Worksheet!D293=\"\",\"\",Worksheet!D293)","v":""}]
[{"$f":"IF(ISBLANK(Worksheet!F294)=FALSE,VLOOKUP(Worksheet!A294,MeasureCode_Lookup,6,FALSE),\"\")","v":""},null,null,{"$f":"IFERROR(IF(Worksheet!U294=0,Worksheet!T294/I276,Worksheet!U294/R276),0)","v":0},"W Controlled",null,null,{"$f":"IF(N(Worksheet!P294)=0,N(Worksheet!O294),N(Worksheet!P294))","v":0},{"$f":"IFERROR(Worksheet!R294/Worksheet!O294,0)","v":0},{"$f":"Worksheet!Z294","v":0},{"$f":"Worksheet!Y294","v":0},0,{"$f":"IF(Worksheet!AG294=0,0,Worksheet!AG294/I276)","v":0},0,null,null,null,{"$f":"IFERROR(Worksheet!S294/Worksheet!P294,0)","v":0},{"$f":"IF(Worksheet!E294=\"\",\"\",Worksheet!E294)","v":""},{"$f":"IF(Worksheet!B294=\"\",\"\",Worksheet!B294)","v":""},{"$f":"IF(Worksheet!D294=\"\",\"\",Worksheet!D294)","v":""}]
[{"$f":"IF(ISBLANK(Worksheet!F295)=FALSE,VLOOKUP(Worksheet!A295,MeasureCode_Lookup,6,FALSE),\"\")","v":""},null,null,{"$f":"IFERROR(IF(Worksheet!U295=0,Worksheet!T295/I277,Worksheet!U295/R277),0)","v":0},"W Controlled",null,null,{"$f":"IF(N(Worksheet!P295)=0,N(Worksheet!O295),N(Worksheet!P295))","v":0},{"$f":"IFERROR(Worksheet!R295/Worksheet!O295,0)","v":0},{"$f":"Worksheet!Z295","v":0},{"$f":"Worksheet!Y295","v":0},0,{"$f":"IF(Worksheet!AG295=0,0,Worksheet!AG295/I277)","v":0},0,null,null,null,{"$f":"IFERROR(Worksheet!S295/Worksheet!P295,0)","v":0},{"$f":"IF(Worksheet!E295=\"\",\"\",Worksheet!E295)","v":""},{"$f":"IF(Worksheet!B295=\"\",\"\",Worksheet!B295)","v":""},{"$f":"IF(Worksheet!D295=\"\",\"\",Worksheet!D295)","v":""}]
[{"$f":"IF(ISBLANK(Worksheet!F296)=FALSE,VLOOKUP(Worksheet!A296,MeasureCode_Lookup,6,FALSE),\"\")","v":""},null,null,{"$f":"IFERROR(IF(Worksheet!U296=0,Worksheet!T296/I278,Worksheet!U296/R278),0)","v":0},"W Controlled",null,null,{"$f":"IF(N(Worksheet!P296)=0,N(Worksheet!O296),N(Worksheet!P296))","v":0},{"$f":"IFERROR(Worksheet!R296/Worksheet!O296,0)","v":0},{"$f":"Worksheet!Z296","v":0},{"$f":"Worksheet!Y296","v":0},0,{"$f":"IF(Worksheet!AG296=0,0,Worksheet!AG296/I278)","v":0},0,null,null,null,{"$f":"IFERROR(Worksheet!S296/Worksheet!P296,0)","v":0},{"$f":"IF(Worksheet!E296=\"\",\"\",Worksheet!E296)","v":""},{"$f":"IF(Worksheet!B296=\"\",\"\",Worksheet!B296)","v":""},{"$f":"IF(Worksheet!D296=\"\",\"\",Worksheet!D296)","v":""}]
[{"$f":"IF(ISBLANK(Worksheet!F297)=FALSE,VLOOKUP(Worksheet!A297,MeasureCode_Lookup,6,FALSE),\"\")","v":""},null,null,{"$f":"IFERROR(IF(Worksheet!U297=0,Worksheet!T297/I279,Worksheet!U297/R279),0)","v":0},"W Controlled",null,null,{"$f":"IF(N(Worksheet!P297)=0,N(Worksheet!O297),N(Worksheet!P297))","v":0},{"$f":"IFERROR(Worksheet!R297/Worksheet!O297,0)","v":0},{"$f":"Worksheet!Z297","v":0},{"$f":"Worksheet!Y297","v":0},0,{"$f":"IF(Worksheet!AG297=0,0,Worksheet!AG297/I279)","v":0},0,null,null,null,{"$f":"IFERROR(Worksheet!S297/Worksheet!P297,0)","v":0},{"$f":"IF(Worksheet!E297=\"\",\"\",Worksheet!E297)","v":""},{"$f":"IF(Worksheet!B297=\"\",\"\",Worksheet!B297)","v":""},{"$f":"IF(Worksheet!D297=\"\",\"\",Worksheet!D297)","v":""}]
[{"$f":"IF(ISBLANK(Worksheet!F298)=FALSE,VLOOKUP(Worksheet!A298,MeasureCode_Lookup,6,FALSE),\"\")","v":""},null,null,{"$f":"IFERROR(IF(Worksheet!U298=0,Worksheet!T298/I280,Worksheet!U298/R280),0)","v":0},"W Controlled",null,null,{"$f":"IF(N(Worksheet!P298)=0,N(Worksheet!O298),N(Worksheet!P298))","v":0},{"$f":"IFERROR(Worksheet!R298/Worksheet!O298,0)","v":0},{"$f":"Worksheet!Z298","v":0},{"$f":"Worksheet!Y298","v":0},0,{"$f":"IF(Worksheet!AG298=0,0,Worksheet!AG298/I280)","v":0},0,null,null,null,{"$f":"IFERROR(Worksheet!S298/Worksheet!P298,0)","v":0},{"$f":"IF(Worksheet!E298=\"\",\"\",Worksheet!E298)","v":""},{"$f":"IF(Worksheet!B298=\"\",\"\",Worksheet!B298)","v":""},{"$f":"IF(Worksheet!D298=\"\",\"\",Worksheet!D298)","v":""}]
[{"$f":"IF(ISBLANK(Worksheet!F299)=FALSE,VLOOKUP(Worksheet!A299,MeasureCode_Lookup,6,FALSE),\"\")","v":""},null,null,{"$f":"IFERROR(IF(Worksheet!U299=0,Worksheet!T299/I281,Worksheet!U299/R281),0)","v":0},"W Controlled",null,null,{"$f":"IF(N(Worksheet!P299)=0,N(Worksheet!O299),N(Worksheet!P299))","v":0},{"$f":"IFERROR(Worksheet!R299/Worksheet!O299,0)","v":0},{"$f":"Worksheet!Z299","v":0},{"$f":"Worksheet!Y299","v":0},0,{"$f":"IF(Worksheet!AG299=0,0,Worksheet!AG299/I281)","v":0},0,null,null,null,{"$f":"IFERROR(Worksheet!S299/Worksheet!P299,0)","v":0},{"$f":"IF(Worksheet!E299=\"\",\"\",Worksheet!E299)","v":""},{"$f":"IF(Worksheet!B299=\"\",\"\",Worksheet!B299)","v":""},{"$f":"IF(Worksheet!D299=\"\",\"\",Worksheet!D299)","v":""}]
[{"$f":"IF(ISBLANK(Worksheet!F300)=FALSE,VLOOKUP(Worksheet!A300,MeasureCode_Lookup,6,FALSE),\"\")","v":""},null,null,{"$f":"IFERROR(IF(Worksheet!U300=0,Worksheet!T300/I282,Worksheet!U300/R282),0)","v":0},"W Controlled",null,null,{"$f":"IF(N(Worksheet!P300)=0,N(Worksheet!O300),N(Worksheet!P300))","v":0},{"$f":"IFERROR(Worksheet!R300/Worksheet!O300,0)","v":0},{"$f":"Worksheet!Z300","v":0},{"$f":"Worksheet!Y300","v":0},0,{"$f":"IF(Worksheet!AG300=0,0,Worksheet!AG300/I282)","v":0},0,null,null,null,{"$f":"IFERROR(Worksheet!S300/Worksheet!P300,0)","v":0},{"$f":"IF(Worksheet!E300=\"\",\"\",Worksheet!E300)","v":""},{"$f":"IF(Worksheet!B300=\"\",\"\",Worksheet!B300)","v":""},{"$f":"IF(Worksheet!D300=\"\",\"\",Worksheet!D300)","v":""}]
[{"$f":"IF(ISBLANK(Worksheet!F301)=FALSE,VLOOKUP(Worksheet!A301,MeasureCode_Lookup,6,FALSE),\"\")","v":""},null,null,{"$f":"IFERROR(IF(Worksheet!U301=0,Worksheet!T301/I283,Worksheet!U301/R283),0)","v":0},"W Controlled",null,null,{"$f":"IF(N(Worksheet!P301)=0,N(Worksheet!O301),N(Worksheet!P301))","v":0},{"$f":"IFERROR(Worksheet!R301/Worksheet!O301,0)","v":0},{"$f":"Worksheet!Z301","v":0},{"$f":"Worksheet!Y301","v":0},0,{"$f":"IF(Worksheet!AG301=0,0,Worksheet!AG301/I283)","v":0},0,null,null,null,{"$f":"IFERROR(Worksheet!S301/Worksheet!P301,0)","v":0},{"$f":"IF(Worksheet!E301=\"\",\"\",Worksheet!E301)","v":""},{"$f":"IF(Worksheet!B301=\"\",\"\",Worksheet!B301)","v":""},{"$f":"IF(Worksheet!D301=\"\",\"\",Worksheet!D301)","v":""}]
[{"$f":"IF(ISBLANK(Worksheet!F302)=FALSE,VLOOKUP(Worksheet!A302,MeasureCode_Lookup,6,FALSE),\"\")","v":""},null,null,{"$f":"IFERROR(IF(Worksheet!U302=0,Worksheet!T302/I284,Worksheet!U302/R284),0)","v":0},"W Controlled",null,null,{"$f":"IF(N(Worksheet!P302)=0,N(Worksheet!O302),N(Worksheet!P302))","v":0},{"$f":"IFERROR(Worksheet!R302/Worksheet!O302,0)","v":0},{"$f":"Worksheet!Z302","v":0},{"$f":"Worksheet!Y302","v":0},0,{"$f":"IF(Worksheet!AG302=0,0,Worksheet!AG302/I284)","v":0},0,null,null,null,{"$f":"IFERROR(Worksheet!S302/Worksheet!P302,0)","v":0},{"$f":"IF(Worksheet!E302=\"\",\"\",Worksheet!E302)","v":""},{"$f":"IF(Worksheet!B302=\"\",\"\",Worksheet!B302)","v":""},{"$f":"IF(Worksheet!D302=\"\",\"\",Worksheet!D302)","v":""}]
[{"$f":"IF(ISBLANK(Worksheet!F303)=FALSE,VLOOKUP(Worksheet!A303,MeasureCode_Lookup,6,FALSE),\"\")","v":""},null,null,{"$f":"IFERROR(IF(Worksheet!U303=0,Worksheet!T303/I285,Worksheet!U303/R285),0)","v":0},"W Controlled",null,null,{"$f":"IF(N(Worksheet!P303)=0,N(Worksheet!O303),N(Worksheet!P303))","v":0},{"$f":"IFERROR(Worksheet!R303/Worksheet!O303,0)","v":0},{"$f":"Worksheet!Z303","v":0},{"$f":"Worksheet!Y303","v":0},0,{"$f":"IF(Worksheet!AG303=0,0,Worksheet!AG303/I285)","v":0},0,null,null,null,{"$f":"IFERROR(Worksheet!S303/Worksheet!P303,0)","v":0},{"$f":"IF(Worksheet!E303=\"\",\"\",Worksheet!E303)","v":""},{"$f":"IF(Worksheet!B303=\"\",\"\",Worksheet!B303)","v":""},{"$f":"IF(Worksheet!D303=\"\",\"\",Worksheet!D303)","v":""}]
[{"$f":"IF(ISBLANK(Worksheet!F304)=FALSE,VLOOKUP(Worksheet!A304,MeasureCode_Lookup,6,FALSE),\"\")","v":""},null,null,{"$f":"IFERROR(IF(Worksheet!U304=0,Worksheet!T304/I286,Worksheet!U304/R286),0)","v":0},"W Controlled",null,null,{"$f":"IF(N(Worksheet!P304)=0,N(Worksheet!O304),N(Worksheet!P304))","v":0},{"$f":"IFERROR(Worksheet!R304/Worksheet!O304,0)","v":0},{"$f":"Worksheet!Z304","v":0},{"$f":"Worksheet!Y304","v":0},0,{"$f":"IF(Worksheet!AG304=0,0,Worksheet!AG304/I286)","v":0},0,null,null,null,{"$f":"IFERROR(Worksheet!S304/Worksheet!P304,0)","v":0},{"$f":"IF(Worksheet!E304=\"\",\"\",Worksheet!E304)","v":""},{"$f":"IF(Worksheet!B304=\"\",\"\",Worksheet!B304)","v":""},{"$f":"IF(Worksheet!D304=\"\",\"\",Worksheet!D304)","v":""}]
[{"$f":"IF(ISBLANK(Worksheet!F305)=FALSE,VLOOKUP(Worksheet!A305,MeasureCode_Lookup,6,FALSE),\"\")","v":""},null,null,{"$f":"IFERROR(IF(Worksheet!U305=0,Worksheet!T305/I287,Worksheet!U305/R287),0)","v":0},"W Controlled",null,null,{"$f":"IF(N(Worksheet!P305)=0,N(Worksheet!O305),N(Worksheet!P305))","v":0},{"$f":"IFERROR(Worksheet!R305/Worksheet!O305,0)","v":0},{"$f":"Worksheet!Z305","v":0},{"$f":"Worksheet!Y305","v":0},0,{"$f":"IF(Worksheet!AG305=0,0,Worksheet!AG305/I287)","v":0},0,null,null,null,{"$f":"IFERROR(Worksheet!S305/Worksheet!P305,0)","v":0},{"$f":"IF(Worksheet!E305=\"\",\"\",Worksheet!E305)","v":""},{"$f":"IF(Worksheet!B305=\"\",\"\",Worksheet!B305)","v":""},{"$f":"IF(Worksheet!D305=\"\",\"\",Worksheet!D305)","v":""}]
[{"$f":"IF(ISBLANK(Worksheet!F306)=FALSE,VLOOKUP(Worksheet!A306,MeasureCode_Lookup,6,FALSE),\"\")","v":""},null,null,{"$f":"IFERROR(IF(Worksheet!U306=0,Worksheet!T306/I288,Worksheet!U306/R288),0)","v":0},"W Controlled",null,null,{"$f":"IF(N(Worksheet!P306)=0,N(Worksheet!O306),N(Worksheet!P306))","v":0},{"$f":"IFERROR(Worksheet!R306/Worksheet!O306,0)","v":0},{"$f":"Worksheet!Z306","v":0},{"$f":"Worksheet!Y306","v":0},0,{"$f":"IF(Worksheet!AG306=0,0,Worksheet!AG306/I288)","v":0},0,null,null,null,{"$f":"IFERROR(Worksheet!S306/Worksheet!P306,0)","v":0},{"$f":"IF(Worksheet!E306=\"\",\"\",Worksheet!E306)","v":""},{"$f":"IF(Worksheet!B306=\"\",\"\",Worksheet!B306)","v":""},{"$f":"IF(Worksheet!D306=\"\",\"\",Worksheet!D306)","v":""}]
[{"$f":"IF(ISBLANK(Worksheet!F307)=FALSE,VLOOKUP(Worksheet!A307,MeasureCode_Lookup,6,FALSE),\"\")","v":""},null,null,{"$f":"IFERROR(IF(Worksheet!U307=0,Worksheet!T307/I289,Worksheet!U307/R289),0)","v":0},"W Controlled",null,null,{"$f":"IF(N(Worksheet!P307)=0,N(Worksheet!O307),N(Worksheet!P307))","v":0},{"$f":"IFERROR(Worksheet!R307/Worksheet!O307,0)","v":0},{"$f":"Worksheet!Z307","v":0},{"$f":"Worksheet!Y307","v":0},0,{"$f":"IF(Worksheet!AG307=0,0,Worksheet!AG307/I289)","v":0},0,null,null,null,{"$f":"IFERROR(Worksheet!S307/Worksheet!P307,0)","v":0},{"$f":"IF(Worksheet!E307=\"\",\"\",Worksheet!E307)","v":""},{"$f":"IF(Worksheet!B307=\"\",\"\",Worksheet!B307)","v":""},{"$f":"IF(Worksheet!D307=\"\",\"\",Worksheet!D307)","v":""}]
[{"$f":"IF(ISBLANK(Worksheet!F308)=FALSE,VLOOKUP(Worksheet!A308,MeasureCode_Lookup,6,FALSE),\"\")","v":""},null,null,{"$f":"IFERROR(IF(Worksheet!U308=0,Worksheet!T308/I290,Worksheet!U308/R290),0)","v":0},"W Controlled",null,null,{"$f":"IF(N(Worksheet!P308)=0,N(Worksheet!O308),N(Worksheet!P308))","v":0},{"$f":"IFERROR(Worksheet!R308/Worksheet!O308,0)","v":0},{"$f":"Worksheet!Z308","v":0},{"$f":"Worksheet!Y308","v":0},0,{"$f":"IF(Worksheet!AG308=0,0,Worksheet!AG308/I290)","v":0},0,null,null,null,{"$f":"IFERROR(Worksheet!S308/Worksheet!P308,0)","v":0},{"$f":"IF(Worksheet!E308=\"\",\"\",Worksheet!E308)","v":""},{"$f":"IF(Worksheet!B308=\"\",\"\",Worksheet!B308)","v":""},{"$f":"IF(Worksheet!D308=\"\",\"\",Worksheet!D308)","v":""}]
[{"$f":"IF(ISBLANK(Worksheet!F309)=FALSE,VLOOKUP(Worksheet!A309,MeasureCode_Lookup,6,FALSE),\"\")","v":""},null,null,{"$f":"IFERROR(IF(Worksheet!U309=0,Worksheet!T309/I291,Worksheet!U309/R291),0)","v":0},"W Controlled",null,null,{"$f":"IF(N(Worksheet!P309)=0,N(Worksheet!O309),N(Worksheet!P309))","v":0},{"$f":"IFERROR(Worksheet!R309/Worksheet!O309,0)","v":0},{"$f":"Worksheet!Z309","v":0},{"$f":"Worksheet!Y309","v":0},0,{"$f":"IF(Worksheet!AG309=0,0,Worksheet!AG309/I291)","v":0},0,null,null,null,{"$f":"IFERROR(Worksheet!S309/Worksheet!P309,0)","v":0},{"$f":"IF(Worksheet!E309=\"\",\"\",Worksheet!E309)","v":""},{"$f":"IF(Worksheet!B309=\"\",\"\",Worksheet!B309)","v":""},{"$f":"IF(Worksheet!D309=\"\",\"\",Worksheet!D309)","v":""}]
[{"$f":"IF(ISBLANK(Worksheet!F310)=FALSE,VLOOKUP(Worksheet!A310,MeasureCode_Lookup,6,FALSE),\"\")","v":""},null,null,{"$f":"IFERROR(IF(Worksheet!U310=0,Worksheet!T310/I292,Worksheet!U310/R292),0)","v":0},"W Controlled",null,null,{"$f":"IF(N(Worksheet!P310)=0,N(Worksheet!O310),N(Worksheet!P310))","v":0},{"$f":"IFERROR(Worksheet!R310/Worksheet!O310,0)","v":0},{"$f":"Worksheet!Z310","v":0},{"$f":"Worksheet!Y310","v":0},0,{"$f":"IF(Worksheet!AG310=0,0,Worksheet!AG310/I292)","v":0},0,null,null,null,{"$f":"IFERROR(Worksheet!S310/Worksheet!P310,0)","v":0},{"$f":"IF(Worksheet!E310=\"\",\"\",Worksheet!E310)","v":""},{"$f":"IF(Worksheet!B310=\"\",\"\",Worksheet!B310)","v":""},{"$f":"IF(Worksheet!D310=\"\",\"\",Worksheet!D310)","v":""}]
[{"$f":"IF(ISBLANK(Worksheet!F311)=FALSE,VLOOKUP(Worksheet!A311,MeasureCode_Lookup,6,FALSE),\"\")","v":""},null,null,{"$f":"IFERROR(IF(Worksheet!U311=0,Worksheet!T311/I293,Worksheet!U311/R293),0)","v":0},"W Controlled",null,null,{"$f":"IF(N(Worksheet!P311)=0,N(Worksheet!O311),N(Worksheet!P311))","v":0},{"$f":"IFERROR(Worksheet!R311/Worksheet!O311,0)","v":0},{"$f":"Worksheet!Z311","v":0},{"$f":"Worksheet!Y311","v":0},0,{"$f":"IF(Worksheet!AG311=0,0,Worksheet!AG311/I293)","v":0},0,null,null,null,{"$f":"IFERROR(Worksheet!S311/Worksheet!P311,0)","v":0},{"$f":"IF(Worksheet!E311=\"\",\"\",Worksheet!E311)","v":""},{"$f":"IF(Worksheet!B311=\"\",\"\",Worksheet!B311)","v":""},{"$f":"IF(Worksheet!D311=\"\",\"\",Worksheet!D311)","v":""}]
[{"$f":"IF(ISBLANK(Worksheet!F312)=FALSE,VLOOKUP(Worksheet!A312,MeasureCode_Lookup,6,FALSE),\"\")","v":""},null,null,{"$f":"IFERROR(IF(Worksheet!U312=0,Worksheet!T312/I294,Worksheet!U312/R294),0)","v":0},"W Controlled",null,null,{"$f":"IF(N(Worksheet!P312)=0,N(Worksheet!O312),N(Worksheet!P312))","v":0},{"$f":"IFERROR(Worksheet!R312/Worksheet!O312,0)","v":0},{"$f":"Worksheet!Z312","v":0},{"$f":"Worksheet!Y312","v":0},0,{"$f":"IF(Worksheet!AG312=0,0,Worksheet!AG312/I294)","v":0},0,null,null,null,{"$f":"IFERROR(Worksheet!S312/Worksheet!P312,0)","v":0},{"$f":"IF(Worksheet!E312=\"\",\"\",Worksheet!E312)","v":""},{"$f":"IF(Worksheet!B312=\"\",\"\",Worksheet!B312)","v":""},{"$f":"IF(Worksheet!D312=\"\",\"\",Worksheet!D312)","v":""}]
[{"$f":"IF(ISBLANK(Worksheet!F313)=FALSE,VLOOKUP(Worksheet!A313,MeasureCode_Lookup,6,FALSE),\"\")","v":""},null,null,{"$f":"IFERROR(IF(Worksheet!U313=0,Worksheet!T313/I295,Worksheet!U313/R295),0)","v":0},"W Controlled",null,null,{"$f":"IF(N(Worksheet!P313)=0,N(Worksheet!O313),N(Worksheet!P313))","v":0},{"$f":"IFERROR(Worksheet!R313/Worksheet!O313,0)","v":0},{"$f":"Worksheet!Z313","v":0},{"$f":"Worksheet!Y313","v":0},0,{"$f":"IF(Worksheet!AG313=0,0,Worksheet!AG313/I295)","v":0},0,null,null,null,{"$f":"IFERROR(Worksheet!S313/Worksheet!P313,0)","v":0},{"$f":"IF(Worksheet!E313=\"\",\"\",Worksheet!E313)","v":""},{"$f":"IF(Worksheet!B313=\"\",\"\",Worksheet!B313)","v":""},{"$f":"IF(Worksheet!D313=\"\",\"\",Worksheet!D313)","v":""}]
[{"$f":"IF(ISBLANK(Worksheet!F314)=FALSE,VLOOKUP(Worksheet!A314,MeasureCode_Lookup,6,FALSE),\"\")","v":""},null,null,{"$f":"IFERROR(IF(Worksheet!U314=0,Worksheet!T314/I296,Worksheet!U314/R296),0)","v":0},"W Controlled",null,null,{"$f":"IF(N(Worksheet!P314)=0,N(Worksheet!O314),N(Worksheet!P314))","v":0},{"$f":"IFERROR(Worksheet!R314/Worksheet!O314,0)","v":0},{"$f":"Worksheet!Z314","v":0},{"$f":"Worksheet!Y314","v":0},0,{"$f":"IF(Worksheet!AG314=0,0,Worksheet!AG314/I296)","v":0},0,null,null,null,{"$f":"IFERROR(Worksheet!S314/Worksheet!P314,0)","v":0},{"$f":"IF(Worksheet!E314=\"\",\"\",Worksheet!E314)","v":""},{"$f":"IF(Worksheet!B314=\"\",\"\",Worksheet!B314)","v":""},{"$f":"IF(Worksheet!D314=\"\",\"\",Worksheet!D314)","v":""}]
[{"$f":"IF(ISBLANK(Worksheet!F315)=FALSE,VLOOKUP(Worksheet!A315,MeasureCode_Lookup,6,FALSE),\"\")","v":""},null,null,{"$f":"IFERROR(IF(Worksheet!U315=0,Worksheet!T315/I297,Worksheet!U315/R297),0)","v":0},"W Controlled",null,null,{"$f":"IF(N(Worksheet!P315)=0,N(Worksheet!O315),N(Worksheet!P315))","v":0},{"$f":"IFERROR(Worksheet!R315/Worksheet!O315,0)","v":0},{"$f":"Worksheet!Z315","v":0},{"$f":"Worksheet!Y315","v":0},0,{"$f":"IF(Worksheet!AG315=0,0,Worksheet!AG315/I297)","v":0},0,null,null,null,{"$f":"IFERROR(Worksheet!S315/Worksheet!P315,0)","v":0},{"$f":"IF(Worksheet!E315=\"\",\"\",Worksheet!E315)","v":""},{"$f":"IF(Worksheet!B315=\"\",\"\",Worksheet!B315)","v":""},{"$f":"IF(Worksheet!D315=\"\",\"\",Worksheet!D315)","v":""}]
[{"$f":"IF(ISBLANK(Worksheet!F316)=FALSE,VLOOKUP(Worksheet!A316,MeasureCode_Lookup,6,FALSE),\"\")","v":""},null,null,{"$f":"IFERROR(IF(Worksheet!U316=0,Worksheet!T316/I298,Worksheet!U316/R298),0)","v":0},"W Controlled",null,null,{"$f":"IF(N(Worksheet!P316)=0,N(Worksheet!O316),N(Worksheet!P316))","v":0},{"$f":"IFERROR(Worksheet!R316/Worksheet!O316,0)","v":0},{"$f":"Worksheet!Z316","v":0},{"$f":"Worksheet!Y316","v":0},0,{"$f":"IF(Worksheet!AG316=0,0,Worksheet!AG316/I298)","v":0},0,null,null,null,{"$f":"IFERROR(Worksheet!S316/Worksheet!P316,0)","v":0},{"$f":"IF(Worksheet!E316=\"\",\"\",Worksheet!E316)","v":""},{"$f":"IF(Worksheet!B316=\"\",\"\",Worksheet!B316)","v":""},{"$f":"IF(Worksheet!D316=\"\",\"\",Worksheet!D316)","v":""}]
[{"$f":"IF(ISBLANK(Worksheet!F317)=FALSE,VLOOKUP(Worksheet!A317,MeasureCode_Lookup,6,FALSE),\"\")","v":""},null,null,{"$f":"IFERROR(IF(Worksheet!U317=0,Worksheet!T317/I299,Worksheet!U317/R299),0)","v":0},"W Controlled",null,null,{"$f":"IF(N(Worksheet!P317)=0,N(Worksheet!O317),N(Worksheet!P317))","v":0},{"$f":"IFERROR(Worksheet!R317/Worksheet!O317,0)","v":0},{"$f":"Worksheet!Z317","v":0},{"$f":"Worksheet!Y317","v":0},0,{"$f":"IF(Worksheet!AG317=0,0,Worksheet!AG317/I299)","v":0},0,null,null,null,{"$f":"IFERROR(Worksheet!S317/Worksheet!P317,0)","v":0},{"$f":"IF(Worksheet!E317=\"\",\"\",Worksheet!E317)","v":""},{"$f":"IF(Worksheet!B317=\"\",\"\",Worksheet!B317)","v":""},{"$f":"IF(Worksheet!D317=\"\",\"\",Worksheet!D317)","v":""}]
[{"$f":"IF(ISBLANK(Worksheet!F318)=FALSE,VLOOKUP(Worksheet!A318,MeasureCode_Lookup,6,FALSE),\"\")","v":""},null,null,{"$f":"IFERROR(IF(Worksheet!U318=0,Worksheet!T318/I300,Worksheet!U318/R300),0)","v":0},"W Controlled",null,null,{"$f":"IF(N(Worksheet!P318)=0,N(Worksheet!O318),N(Worksheet!P318))","v":0},{"$f":"IFERROR(Worksheet!R318/Worksheet!O318,0)","v":0},{"$f":"Worksheet!Z318","v":0},{"$f":"Worksheet!Y318","v":0},0,{"$f":"IF(Worksheet!AG318=0,0,Worksheet!AG318/I300)","v":0},0,null,null,null,{"$f":"IFERROR(Worksheet!S318/Worksheet!P318,0)","v":0},{"$f":"IF(Worksheet!E318=\"\",\"\",Worksheet!E318)","v":""},{"$f":"IF(Worksheet!B318=\"\",\"\",Worksheet!B318)","v":""},{"$f":"IF(Worksheet!D318=\"\",\"\",Worksheet!D318)","v":""}]
[{"$f":"IF(ISBLANK(Worksheet!F319)=FALSE,VLOOKUP(Worksheet!A319,MeasureCode_Lookup,6,FALSE),\"\")","v":""},null,null,{"$f":"IFERROR(IF(Worksheet!U319=0,Worksheet!T319/I301,Worksheet!U319/R301),0)","v":0},"W Controlled",null,null,{"$f":"IF(N(Worksheet!P319)=0,N(Worksheet!O319),N(Worksheet!P319))","v":0},{"$f":"IFERROR(Worksheet!R319/Worksheet!O319,0)","v":0},{"$f":"Worksheet!Z319","v":0},{"$f":"Worksheet!Y319","v":0},0,{"$f":"IF(Worksheet!AG319=0,0,Worksheet!AG319/I301)","v":0},0,null,null,null,{"$f":"IFERROR(Worksheet!S319/Worksheet!P319,0)","v":0},{"$f":"IF(Worksheet!E319=\"\",\"\",Worksheet!E319)","v":""},{"$f":"IF(Worksheet!B319=\"\",\"\",Worksheet!B319)","v":""},{"$f":"IF(Worksheet!D319=\"\",\"\",Worksheet!D319)","v":""}]
[{"$f":"IF(ISBLANK(Worksheet!F320)=FALSE,VLOOKUP(Worksheet!A320,MeasureCode_Lookup,6,FALSE),\"\")","v":""},null,null,{"$f":"IFERROR(IF(Worksheet!U320=0,Worksheet!T320/I302,Worksheet!U320/R302),0)","v":0},"W Controlled",null,null,{"$f":"IF(N(Worksheet!P320)=0,N(Worksheet!O320),N(Worksheet!P320))","v":0},{"$f":"IFERROR(Worksheet!R320/Worksheet!O320,0)","v":0},{"$f":"Worksheet!Z320","v":0},{"$f":"Worksheet!Y320","v":0},0,{"$f":"IF(Worksheet!AG320=0,0,Worksheet!AG320/I302)","v":0},0,null,null,null,{"$f":"IFERROR(Worksheet!S320/Worksheet!P320,0)","v":0},{"$f":"IF(Worksheet!E320=\"\",\"\",Worksheet!E320)","v":""},{"$f":"IF(Worksheet!B320=\"\",\"\",Worksheet!B320)","v":""},{"$f":"IF(Worksheet!D320=\"\",\"\",Worksheet!D320)","v":""}]
[{"$f":"IF(ISBLANK(Worksheet!F321)=FALSE,VLOOKUP(Worksheet!A321,MeasureCode_Lookup,6,FALSE),\"\")","v":""},null,null,{"$f":"IFERROR(IF(Worksheet!U321=0,Worksheet!T321/I303,Worksheet!U321/R303),0)","v":0},"W Controlled",null,null,{"$f":"IF(N(Worksheet!P321)=0,N(Worksheet!O321),N(Worksheet!P321))","v":0},{"$f":"IFERROR(Worksheet!R321/Worksheet!O321,0)","v":0},{"$f":"Worksheet!Z321","v":0},{"$f":"Worksheet!Y321","v":0},0,{"$f":"IF(Worksheet!AG321=0,0,Worksheet!AG321/I303)","v":0},0,null,null,null,{"$f":"IFERROR(Worksheet!S321/Worksheet!P321,0)","v":0},{"$f":"IF(Worksheet!E321=\"\",\"\",Worksheet!E321)","v":""},{"$f":"IF(Worksheet!B321=\"\",\"\",Worksheet!B321)","v":""},{"$f":"IF(Worksheet!D321=\"\",\"\",Worksheet!D321)","v":""}]
[{"$f":"IF(ISBLANK(Worksheet!F322)=FALSE,VLOOKUP(Worksheet!A322,MeasureCode_Lookup,6,FALSE),\"\")","v":""},null,null,{"$f":"IFERROR(IF(Worksheet!U322=0,Worksheet!T322/I304,Worksheet!U322/R304),0)","v":0},"W Controlled",null,null,{"$f":"IF(N(Worksheet!P322)=0,N(Worksheet!O322),N(Worksheet!P322))","v":0},{"$f":"IFERROR(Worksheet!R322/Worksheet!O322,0)","v":0},{"$f":"Worksheet!Z322","v":0},{"$f":"Worksheet!Y322","v":0},0,{"$f":"IF(Worksheet!AG322=0,0,Worksheet!AG322/I304)","v":0},0,null,null,null,{"$f":"IFERROR(Worksheet!S322/Worksheet!P322,0)","v":0},{"$f":"IF(Worksheet!E322=\"\",\"\",Worksheet!E322)","v":""},{"$f":"IF(Worksheet!B322=\"\",\"\",Worksheet!B322)","v":""},{"$f":"IF(Worksheet!D322=\"\",\"\",Worksheet!D322)","v":""}]
[{"$f":"IF(ISBLANK(Worksheet!F323)=FALSE,VLOOKUP(Worksheet!A323,MeasureCode_Lookup,6,FALSE),\"\")","v":""},null,null,{"$f":"IFERROR(IF(Worksheet!U323=0,Worksheet!T323/I305,Worksheet!U323/R305),0)","v":0},"W Controlled",null,null,{"$f":"IF(N(Worksheet!P323)=0,N(Worksheet!O323),N(Worksheet!P323))","v":0},{"$f":"IFERROR(Worksheet!R323/Worksheet!O323,0)","v":0},{"$f":"Worksheet!Z323","v":0},{"$f":"Worksheet!Y323","v":0},0,{"$f":"IF(Worksheet!AG323=0,0,Worksheet!AG323/I305)","v":0},0,null,null,null,{"$f":"IFERROR(Worksheet!S323/Worksheet!P323,0)","v":0},{"$f":"IF(Worksheet!E323=\"\",\"\",Worksheet!E323)","v":""},{"$f":"IF(Worksheet!B323=\"\",\"\",Worksheet!B323)","v":""},{"$f":"IF(Worksheet!D323=\"\",\"\",Worksheet!D323)","v":""}]
[{"$f":"IF(ISBLANK(Worksheet!F324)=FALSE,VLOOKUP(Worksheet!A324,MeasureCode_Lookup,6,FALSE),\"\")","v":""},null,null,{"$f":"IFERROR(IF(Worksheet!U324=0,Worksheet!T324/I306,Worksheet!U324/R306),0)","v":0},"W Controlled",null,null,{"$f":"IF(N(Worksheet!P324)=0,N(Worksheet!O324),N(Worksheet!P324))","v":0},{"$f":"IFERROR(Worksheet!R324/Worksheet!O324,0)","v":0},{"$f":"Worksheet!Z324","v":0},{"$f":"Worksheet!Y324","v":0},0,{"$f":"IF(Worksheet!AG324=0,0,Worksheet!AG324/I306)","v":0},0,null,null,null,{"$f":"IFERROR(Worksheet!S324/Worksheet!P324,0)","v":0},{"$f":"IF(Worksheet!E324=\"\",\"\",Worksheet!E324)","v":""},{"$f":"IF(Worksheet!B324=\"\",\"\",Worksheet!B324)","v":""},{"$f":"IF(Worksheet!D324=\"\",\"\",Worksheet!D324)","v":""}]
[{"$f":"IF(ISBLANK(Worksheet!F325)=FALSE,VLOOKUP(Worksheet!A325,MeasureCode_Lookup,6,FALSE),\"\")","v":""},null,null,{"$f":"IFERROR(IF(Worksheet!U325=0,Worksheet!T325/I307,Worksheet!U325/R307),0)","v":0},"W Controlled",null,null,{"$f":"IF(N(Worksheet!P325)=0,N(Worksheet!O325),N(Worksheet!P325))","v":0},{"$f":"IFERROR(Worksheet!R325/Worksheet!O325,0)","v":0},{"$f":"Worksheet!Z325","v":0},{"$f":"Worksheet!Y325","v":0},0,{"$f":"IF(Worksheet!AG325=0,0,Worksheet!AG325/I307)","v":0},0,null,null,null,{"$f":"IFERROR(Worksheet!S325/Worksheet!P325,0)","v":0},{"$f":"IF(Worksheet!E325=\"\",\"\",Worksheet!E325)","v":""},{"$f":"IF(Worksheet!B325=\"\",\"\",Worksheet!B325)","v":""},{"$f":"IF(Worksheet!D325=\"\",\"\",Worksheet!D325)","v":""}]
[{"$f":"IF(ISBLANK(Worksheet!F326)=FALSE,VLOOKUP(Worksheet!A326,MeasureCode_Lookup,6,FALSE),\"\")","v":""},null,null,{"$f":"IFERROR(IF(Worksheet!U326=0,Worksheet!T326/I308,Worksheet!U326/R308),0)","v":0},"W Controlled",null,null,{"$f":"IF(N(Worksheet!P326)=0,N(Worksheet!O326),N(Worksheet!P326))","v":0},{"$f":"IFERROR(Worksheet!R326/Worksheet!O326,0)","v":0},{"$f":"Worksheet!Z326","v":0},{"$f":"Worksheet!Y326","v":0},0,{"$f":"IF(Worksheet!AG326=0,0,Worksheet!AG326/I308)","v":0},0,null,null,null,{"$f":"IFERROR(Worksheet!S326/Worksheet!P326,0)","v":0},{"$f":"IF(Worksheet!E326=\"\",\"\",Worksheet!E326)","v":""},{"$f":"IF(Worksheet!B326=\"\",\"\",Worksheet!B326)","v":""},{"$f":"IF(Worksheet!D326=\"\",\"\",Worksheet!D326)","v":""}]
[{"$f":"IF(ISBLANK(Worksheet!F327)=FALSE,VLOOKUP(Worksheet!A327,MeasureCode_Lookup,6,FALSE),\"\")","v":""},null,null,{"$f":"IFERROR(IF(Worksheet!U327=0,Worksheet!T327/I309,Worksheet!U327/R309),0)","v":0},"W Controlled",null,null,{"$f":"IF(N(Worksheet!P327)=0,N(Worksheet!O327),N(Worksheet!P327))","v":0},{"$f":"IFERROR(Worksheet!R327/Worksheet!O327,0)","v":0},{"$f":"Worksheet!Z327","v":0},{"$f":"Worksheet!Y327","v":0},0,{"$f":"IF(Worksheet!AG327=0,0,Worksheet!AG327/I309)","v":0},0,null,null,null,{"$f":"IFERROR(Worksheet!S327/Worksheet!P327,0)","v":0},{"$f":"IF(Worksheet!E327=\"\",\"\",Worksheet!E327)","v":""},{"$f":"IF(Worksheet!B327=\"\",\"\",Worksheet!B327)","v":""},{"$f":"IF(Worksheet!D327=\"\",\"\",Worksheet!D327)","v":""}]
[{"$f":"IF(ISBLANK(Worksheet!F328)=FALSE,VLOOKUP(Worksheet!A328,MeasureCode_Lookup,6,FALSE),\"\")","v":""},null,null,{"$f":"IFERROR(IF(Worksheet!U328=0,Worksheet!T328/I310,Worksheet!U328/R310),0)","v":0},"W Controlled",null,null,{"$f":"IF(N(Worksheet!P328)=0,N(Worksheet!O328),N(Worksheet!P328))","v":0},{"$f":"IFERROR(Worksheet!R328/Worksheet!O328,0)","v":0},{"$f":"Worksheet!Z328","v":0},{"$f":"Worksheet!Y328","v":0},0,{"$f":"IF(Worksheet!AG328=0,0,Worksheet!AG328/I310)","v":0},0,null,null,null,{"$f":"IFERROR(Worksheet!S328/Worksheet!P328,0)","v":0},{"$f":"IF(Worksheet!E328=\"\",\"\",Worksheet!E328)","v":""},{"$f":"IF(Worksheet!B328=\"\",\"\",Worksheet!B328)","v":""},{"$f":"IF(Worksheet!D328=\"\",\"\",Worksheet!D328)","v":""}]
[{"$f":"IF(ISBLANK(Worksheet!F329)=FALSE,VLOOKUP(Worksheet!A329,MeasureCode_Lookup,6,FALSE),\"\")","v":""},null,null,{"$f":"IFERROR(IF(Worksheet!U329=0,Worksheet!T329/I311,Worksheet!U329/R311),0)","v":0},"W Controlled",null,null,{"$f":"IF(N(Worksheet!P329)=0,N(Worksheet!O329),N(Worksheet!P329))","v":0},{"$f":"IFERROR(Worksheet!R329/Worksheet!O329,0)","v":0},{"$f":"Worksheet!Z329","v":0},{"$f":"Worksheet!Y329","v":0},0,{"$f":"IF(Worksheet!AG329=0,0,Worksheet!AG329/I311)","v":0},0,null,null,null,{"$f":"IFERROR(Worksheet!S329/Worksheet!P329,0)","v":0},{"$f":"IF(Worksheet!E329=\"\",\"\",Worksheet!E329)","v":""},{"$f":"IF(Worksheet!B329=\"\",\"\",Worksheet!B329)","v":""},{"$f":"IF(Worksheet!D329=\"\",\"\",Worksheet!D329)","v":""}]
[{"$f":"IF(ISBLANK(Worksheet!F330)=FALSE,VLOOKUP(Worksheet!A330,MeasureCode_Lookup,6,FALSE),\"\")","v":""},null,null,{"$f":"IFERROR(IF(Worksheet!U330=0,Worksheet!T330/I312,Worksheet!U330/R312),0)","v":0},"W Controlled",null,null,{"$f":"IF(N(Worksheet!P330)=0,N(Worksheet!O330),N(Worksheet!P330))","v":0},{"$f":"IFERROR(Worksheet!R330/Worksheet!O330,0)","v":0},{"$f":"Worksheet!Z330","v":0},{"$f":"Worksheet!Y330","v":0},0,{"$f":"IF(Worksheet!AG330=0,0,Worksheet!AG330/I312)","v":0},0,null,null,null,{"$f":"IFERROR(Worksheet!S330/Worksheet!P330,0)","v":0},{"$f":"IF(Worksheet!E330=\"\",\"\",Worksheet!E330)","v":""},{"$f":"IF(Worksheet!B330=\"\",\"\",Worksheet!B330)","v":""},{"$f":"IF(Worksheet!D330=\"\",\"\",Worksheet!D330)","v":""}]
[{"$f":"IF(ISBLANK(Worksheet!F331)=FALSE,VLOOKUP(Worksheet!A331,MeasureCode_Lookup,6,FALSE),\"\")","v":""},null,null,{"$f":"IFERROR(IF(Worksheet!U331=0,Worksheet!T331/I313,Worksheet!U331/R313),0)","v":0},"W Controlled",null,null,{"$f":"IF(N(Worksheet!P331)=0,N(Worksheet!O331),N(Worksheet!P331))","v":0},{"$f":"IFERROR(Worksheet!R331/Worksheet!O331,0)","v":0},{"$f":"Worksheet!Z331","v":0},{"$f":"Worksheet!Y331","v":0},0,{"$f":"IF(Worksheet!AG331=0,0,Worksheet!AG331/I313)","v":0},0,null,null,null,{"$f":"IFERROR(Worksheet!S331/Worksheet!P331,0)","v":0},{"$f":"IF(Worksheet!E331=\"\",\"\",Worksheet!E331)","v":""},{"$f":"IF(Worksheet!B331=\"\",\"\",Worksheet!B331)","v":""},{"$f":"IF(Worksheet!D331=\"\",\"\",Worksheet!D331)","v":""}]
[{"$f":"IF(ISBLANK(Worksheet!F332)=FALSE,VLOOKUP(Worksheet!A332,MeasureCode_Lookup,6,FALSE),\"\")","v":""},null,null,{"$f":"IFERROR(IF(Worksheet!U332=0,Worksheet!T332/I314,Worksheet!U332/R314),0)","v":0},"W Controlled",null,null,{"$f":"IF(N(Worksheet!P332)=0,N(Worksheet!O332),N(Worksheet!P332))","v":0},{"$f":"IFERROR(Worksheet!R332/Worksheet!O332,0)","v":0},{"$f":"Worksheet!Z332","v":0},{"$f":"Worksheet!Y332","v":0},0,{"$f":"IF(Worksheet!AG332=0,0,Worksheet!AG332/I314)","v":0},0,null,null,null,{"$f":"IFERROR(Worksheet!S332/Worksheet!P332,0)","v":0},{"$f":"IF(Worksheet!E332=\"\",\"\",Worksheet!E332)","v":""},{"$f":"IF(Worksheet!B332=\"\",\"\",Worksheet!B332)","v":""},{"$f":"IF(Worksheet!D332=\"\",\"\",Worksheet!D332)","v":""}]
[{"$f":"IF(ISBLANK(Worksheet!F333)=FALSE,VLOOKUP(Worksheet!A333,MeasureCode_Lookup,6,FALSE),\"\")","v":""},null,null,{"$f":"IFERROR(IF(Worksheet!U333=0,Worksheet!T333/I315,Worksheet!U333/R315),0)","v":0},"W Controlled",null,null,{"$f":"IF(N(Worksheet!P333)=0,N(Worksheet!O333),N(Worksheet!P333))","v":0},{"$f":"IFERROR(Worksheet!R333/Worksheet!O333,0)","v":0},{"$f":"Worksheet!Z333","v":0},{"$f":"Worksheet!Y333","v":0},0,{"$f":"IF(Worksheet!AG333=0,0,Worksheet!AG333/I315)","v":0},0,null,null,null,{"$f":"IFERROR(Worksheet!S333/Worksheet!P333,0)","v":0},{"$f":"IF(Worksheet!E333=\"\",\"\",Worksheet!E333)","v":""},{"$f":"IF(Worksheet!B333=\"\",\"\",Worksheet!B333)","v":""},{"$f":"IF(Worksheet!D333=\"\",\"\",Worksheet!D333)","v":""}]
[{"$f":"IF(ISBLANK(Worksheet!F334)=FALSE,VLOOKUP(Worksheet!A334,MeasureCode_Lookup,6,FALSE),\"\")","v":""},null,null,{"$f":"IFERROR(IF(Worksheet!U334=0,Worksheet!T334/I316,Worksheet!U334/R316),0)","v":0},"W Controlled",null,null,{"$f":"IF(N(Worksheet!P334)=0,N(Worksheet!O334),N(Worksheet!P334))","v":0},{"$f":"IFERROR(Worksheet!R334/Worksheet!O334,0)","v":0},{"$f":"Worksheet!Z334","v":0},{"$f":"Worksheet!Y334","v":0},0,{"$f":"IF(Worksheet!AG334=0,0,Worksheet!AG334/I316)","v":0},0,null,null,null,{"$f":"IFERROR(Worksheet!S334/Worksheet!P334,0)","v":0},{"$f":"IF(Worksheet!E334=\"\",\"\",Worksheet!E334)","v":""},{"$f":"IF(Worksheet!B334=\"\",\"\",Worksheet!B334)","v":""},{"$f":"IF(Worksheet!D334=\"\",\"\",Worksheet!D334)","v":""}]
[{"$f":"IF(ISBLANK(Worksheet!F335)=FALSE,VLOOKUP(Worksheet!A335,MeasureCode_Lookup,6,FALSE),\"\")","v":""},null,null,{"$f":"IFERROR(IF(Worksheet!U335=0,Worksheet!T335/I317,Worksheet!U335/R317),0)","v":0},"W Controlled",null,null,{"$f":"IF(N(Worksheet!P335)=0,N(Worksheet!O335),N(Worksheet!P335))","v":0},{"$f":"IFERROR(Worksheet!R335/Worksheet!O335,0)","v":0},{"$f":"Worksheet!Z335","v":0},{"$f":"Worksheet!Y335","v":0},0,{"$f":"IF(Worksheet!AG335=0,0,Worksheet!AG335/I317)","v":0},0,null,null,null,{"$f":"IFERROR(Worksheet!S335/Worksheet!P335,0)","v":0},{"$f":"IF(Worksheet!E335=\"\",\"\",Worksheet!E335)","v":""},{"$f":"IF(Worksheet!B335=\"\",\"\",Worksheet!B335)","v":""},{"$f":"IF(Worksheet!D335=\"\",\"\",Worksheet!D335)","v":""}]
[{"$f":"IF(ISBLANK(Worksheet!F336)=FALSE,VLOOKUP(Worksheet!A336,MeasureCode_Lookup,6,FALSE),\"\")","v":""},null,null,{"$f":"IFERROR(IF(Worksheet!U336=0,Worksheet!T336/I318,Worksheet!U336/R318),0)","v":0},"W Controlled",null,null,{"$f":"IF(N(Worksheet!P336)=0,N(Worksheet!O336),N(Worksheet!P336))","v":0},{"$f":"IFERROR(Worksheet!R336/Worksheet!O336,0)","v":0},{"$f":"Worksheet!Z336","v":0},{"$f":"Worksheet!Y336","v":0},0,{"$f":"IF(Worksheet!AG336=0,0,Worksheet!AG336/I318)","v":0},0,null,null,null,{"$f":"IFERROR(Worksheet!S336/Worksheet!P336,0)","v":0},{"$f":"IF(Worksheet!E336=\"\",\"\",Worksheet!E336)","v":""},{"$f":"IF(Worksheet!B336=\"\",\"\",Worksheet!B336)","v":""},{"$f":"IF(Worksheet!D336=\"\",\"\",Worksheet!D336)","v":""}]
[{"$f":"IF(ISBLANK(Worksheet!F337)=FALSE,VLOOKUP(Worksheet!A337,MeasureCode_Lookup,6,FALSE),\"\")","v":""},null,null,{"$f":"IFERROR(IF(Worksheet!U337=0,Worksheet!T337/I319,Worksheet!U337/R319),0)","v":0},"W Controlled",null,null,{"$f":"IF(N(Worksheet!P337)=0,N(Worksheet!O337),N(Worksheet!P337))","v":0},{"$f":"IFERROR(Worksheet!R337/Worksheet!O337,0)","v":0},{"$f":"Worksheet!Z337","v":0},{"$f":"Worksheet!Y337","v":0},0,{"$f":"IF(Worksheet!AG337=0,0,Worksheet!AG337/I319)","v":0},0,null,null,null,{"$f":"IFERROR(Worksheet!S337/Worksheet!P337,0)","v":0},{"$f":"IF(Worksheet!E337=\"\",\"\",Worksheet!E337)","v":""},{"$f":"IF(Worksheet!B337=\"\",\"\",Worksheet!B337)","v":""},{"$f":"IF(Worksheet!D337=\"\",\"\",Worksheet!D337)","v":""}]
[{"$f":"IF(ISBLANK(Worksheet!F338)=FALSE,VLOOKUP(Worksheet!A338,MeasureCode_Lookup,6,FALSE),\"\")","v":""},null,null,{"$f":"IFERROR(IF(Worksheet!U338=0,Worksheet!T338/I320,Worksheet!U338/R320),0)","v":0},"W Controlled",null,null,{"$f":"IF(N(Worksheet!P338)=0,N(Worksheet!O338),N(Worksheet!P338))","v":0},{"$f":"IFERROR(Worksheet!R338/Worksheet!O338,0)","v":0},{"$f":"Worksheet!Z338","v":0},{"$f":"Worksheet!Y338","v":0},0,{"$f":"IF(Worksheet!AG338=0,0,Worksheet!AG338/I320)","v":0},0,null,null,null,{"$f":"IFERROR(Worksheet!S338/Worksheet!P338,0)","v":0},{"$f":"IF(Worksheet!E338=\"\",\"\",Worksheet!E338)","v":""},{"$f":"IF(Worksheet!B338=\"\",\"\",Worksheet!B338)","v":""},{"$f":"IF(Worksheet!D338=\"\",\"\",Worksheet!D338)","v":""}]
[{"$f":"IF(ISBLANK(Worksheet!F339)=FALSE,VLOOKUP(Worksheet!A339,MeasureCode_Lookup,6,FALSE),\"\")","v":""},null,null,{"$f":"IFERROR(IF(Worksheet!U339=0,Worksheet!T339/I321,Worksheet!U339/R321),0)","v":0},"W Controlled",null,null,{"$f":"IF(N(Worksheet!P339)=0,N(Worksheet!O339),N(Worksheet!P339))","v":0},{"$f":"IFERROR(Worksheet!R339/Worksheet!O339,0)","v":0},{"$f":"Worksheet!Z339","v":0},{"$f":"Worksheet!Y339","v":0},0,{"$f":"IF(Worksheet!AG339=0,0,Worksheet!AG339/I321)","v":0},0,null,null,null,{"$f":"IFERROR(Worksheet!S339/Worksheet!P339,0)","v":0},{"$f":"IF(Worksheet!E339=\"\",\"\",Worksheet!E339)","v":""},{"$f":"IF(Worksheet!B339=\"\",\"\",Worksheet!B339)","v":""},{"$f":"IF(Worksheet!D339=\"\",\"\",Worksheet!D339)","v":""}]
[{"$f":"IF(ISBLANK(Worksheet!F340)=FALSE,VLOOKUP(Worksheet!A340,MeasureCode_Lookup,6,FALSE),\"\")","v":""},null,null,{"$f":"IFERROR(IF(Worksheet!U340=0,Worksheet!T340/I322,Worksheet!U340/R322),0)","v":0},"W Controlled",null,null,{"$f":"IF(N(Worksheet!P340)=0,N(Worksheet!O340),N(Worksheet!P340))","v":0},{"$f":"IFERROR(Worksheet!R340/Worksheet!O340,0)","v":0},{"$f":"Worksheet!Z340","v":0},{"$f":"Worksheet!Y340","v":0},0,{"$f":"IF(Worksheet!AG340=0,0,Worksheet!AG340/I322)","v":0},0,null,null,null,{"$f":"IFERROR(Worksheet!S340/Worksheet!P340,0)","v":0},{"$f":"IF(Worksheet!E340=\"\",\"\",Worksheet!E340)","v":""},{"$f":"IF(Worksheet!B340=\"\",\"\",Worksheet!B340)","v":""},{"$f":"IF(Worksheet!D340=\"\",\"\",Worksheet!D340)","v":""}]
[{"$f":"IF(ISBLANK(Worksheet!F341)=FALSE,VLOOKUP(Worksheet!A341,MeasureCode_Lookup,6,FALSE),\"\")","v":""},null,null,{"$f":"IFERROR(IF(Worksheet!U341=0,Worksheet!T341/I323,Worksheet!U341/R323),0)","v":0},"W Controlled",null,null,{"$f":"IF(N(Worksheet!P341)=0,N(Worksheet!O341),N(Worksheet!P341))","v":0},{"$f":"IFERROR(Worksheet!R341/Worksheet!O341,0)","v":0},{"$f":"Worksheet!Z341","v":0},{"$f":"Worksheet!Y341","v":0},{"$f":"J323*8","v":0},{"$f":"IF(Worksheet!AG341=0,0,Worksheet!AG341/I323)","v":0},{"$f":"M323*8","v":0},null,null,null,{"$f":"IFERROR(Worksheet!S341/Worksheet!P341,0)","v":0},{"$f":"IF(Worksheet!E341=\"\",\"\",Worksheet!E341)","v":""},{"$f":"IF(Worksheet!B341=\"\",\"\",Worksheet!B341)","v":""},{"$f":"IF(Worksheet!D341=\"\",\"\",Worksheet!D341)","v":""}]
[{"$f":"IF(ISBLANK(Worksheet!F342)=FALSE,VLOOKUP(Worksheet!A342,MeasureCode_Lookup,6,FALSE),\"\")","v":""},null,null,{"$f":"IFERROR(IF(Worksheet!U342=0,Worksheet!T342/I324,Worksheet!U342/R324),0)","v":0},"W Controlled",null,null,{"$f":"IF(N(Worksheet!P342)=0,N(Worksheet!O342),N(Worksheet!P342))","v":0},{"$f":"IFERROR(Worksheet!R342/Worksheet!O342,0)","v":0},{"$f":"Worksheet!Z342","v":0},{"$f":"Worksheet!Y342","v":0},0,{"$f":"IF(Worksheet!AG342=0,0,Worksheet!AG342/I324)","v":0},0,null,null,null,{"$f":"IFERROR(Worksheet!S342/Worksheet!P342,0)","v":0},{"$f":"IF(Worksheet!E342=\"\",\"\",Worksheet!E342)","v":""},{"$f":"IF(Worksheet!B342=\"\",\"\",Worksheet!B342)","v":""},{"$f":"IF(Worksheet!D342=\"\",\"\",Worksheet!D342)","v":""}]
[{"$f":"IF(ISBLANK(Worksheet!F343)=FALSE,VLOOKUP(Worksheet!A343,MeasureCode_Lookup,6,FALSE),\"\")","v":""},null,null,{"$f":"IFERROR(IF(Worksheet!U343=0,Worksheet!T343/I325,Worksheet!U343/R325),0)","v":0},"W Controlled",null,null,{"$f":"IF(N(Worksheet!P343)=0,N(Worksheet!O343),N(Worksheet!P343))","v":0},{"$f":"IFERROR(Worksheet!R343/Worksheet!O343,0)","v":0},{"$f":"Worksheet!Z343","v":0},{"$f":"Worksheet!Y343","v":0},0,{"$f":"IF(Worksheet!AG343=0,0,Worksheet!AG343/I325)","v":0},0,null,null,null,{"$f":"IFERROR(Worksheet!S343/Worksheet!P343,0)","v":0},{"$f":"IF(Worksheet!E343=\"\",\"\",Worksheet!E343)","v":""},{"$f":"IF(Worksheet!B343=\"\",\"\",Worksheet!B343)","v":""},{"$f":"IF(Worksheet!D343=\"\",\"\",Worksheet!D343)","v":""}]
[{"$f":"IF(ISBLANK(Worksheet!F344)=FALSE,VLOOKUP(Worksheet!A344,MeasureCode_Lookup,6,FALSE),\"\")","v":""},null,null,{"$f":"IFERROR(IF(Worksheet!U344=0,Worksheet!T344/I326,Worksheet!U344/R326),0)","v":0},"W Controlled",null,null,{"$f":"IF(N(Worksheet!P344)=0,N(Worksheet!O344),N(Worksheet!P344))","v":0},{"$f":"IFERROR(Worksheet!R344/Worksheet!O344,0)","v":0},{"$f":"Worksheet!Z344","v":0},{"$f":"Worksheet!Y344","v":0},0,{"$f":"IF(Worksheet!AG344=0,0,Worksheet!AG344/I326)","v":0},0,null,null,null,{"$f":"IFERROR(Worksheet!S344/Worksheet!P344,0)","v":0},{"$f":"IF(Worksheet!E344=\"\",\"\",Worksheet!E344)","v":""},{"$f":"IF(Worksheet!B344=\"\",\"\",Worksheet!B344)","v":""},{"$f":"IF(Worksheet!D344=\"\",\"\",Worksheet!D344)","v":""}]
[{"$f":"IF(ISBLANK(Worksheet!F345)=FALSE,VLOOKUP(Worksheet!A345,MeasureCode_Lookup,6,FALSE),\"\")","v":""},null,null,{"$f":"IFERROR(IF(Worksheet!U345=0,Worksheet!T345/I327,Worksheet!U345/R327),0)","v":0},"W Controlled",null,null,{"$f":"IF(N(Worksheet!P345)=0,N(Worksheet!O345),N(Worksheet!P345))","v":0},{"$f":"IFERROR(Worksheet!R345/Worksheet!O345,0)","v":0},{"$f":"Worksheet!Z345","v":0},{"$f":"Worksheet!Y345","v":0},0,{"$f":"IF(Worksheet!AG345=0,0,Worksheet!AG345/I327)","v":0},0,null,null,null,{"$f":"IFERROR(Worksheet!S345/Worksheet!P345,0)","v":0},{"$f":"IF(Worksheet!E345=\"\",\"\",Worksheet!E345)","v":""},{"$f":"IF(Worksheet!B345=\"\",\"\",Worksheet!B345)","v":""},{"$f":"IF(Worksheet!D345=\"\",\"\",Worksheet!D345)","v":""}]
[{"$f":"IF(ISBLANK(Worksheet!F346)=FALSE,VLOOKUP(Worksheet!A346,MeasureCode_Lookup,6,FALSE),\"\")","v":""},null,null,{"$f":"IFERROR(IF(Worksheet!U346=0,Worksheet!T346/I328,Worksheet!U346/R328),0)","v":0},"W Controlled",null,null,{"$f":"IF(N(Worksheet!P346)=0,N(Worksheet!O346),N(Worksheet!P346))","v":0},{"$f":"IFERROR(Worksheet!R346/Worksheet!O346,0)","v":0},{"$f":"Worksheet!Z346","v":0},{"$f":"Worksheet!Y346","v":0},0,{"$f":"IF(Worksheet!AG346=0,0,Worksheet!AG346/I328)","v":0},0,null,null,null,{"$f":"IFERROR(Worksheet!S346/Worksheet!P346,0)","v":0},{"$f":"IF(Worksheet!E346=\"\",\"\",Worksheet!E346)","v":""},{"$f":"IF(Worksheet!B346=\"\",\"\",Worksheet!B346)","v":""},{"$f":"IF(Worksheet!D346=\"\",\"\",Worksheet!D346)","v":""}]
[{"$f":"IF(ISBLANK(Worksheet!F347)=FALSE,VLOOKUP(Worksheet!A347,MeasureCode_Lookup,6,FALSE),\"\")","v":""},null,null,{"$f":"IFERROR(IF(Worksheet!U347=0,Worksheet!T347/I329,Worksheet!U347/R329),0)","v":0},"W Controlled",null,null,{"$f":"IF(N(Worksheet!P347)=0,N(Worksheet!O347),N(Worksheet!P347))","v":0},{"$f":"IFERROR(Worksheet!R347/Worksheet!O347,0)","v":0},{"$f":"Worksheet!Z347","v":0},{"$f":"Worksheet!Y347","v":0},0,{"$f":"IF(Worksheet!AG347=0,0,Worksheet!AG347/I329)","v":0},0,null,null,null,{"$f":"IFERROR(Worksheet!S347/Worksheet!P347,0)","v":0},{"$f":"IF(Worksheet!E347=\"\",\"\",Worksheet!E347)","v":""},{"$f":"IF(Worksheet!B347=\"\",\"\",Worksheet!B347)","v":""},{"$f":"IF(Worksheet!D347=\"\",\"\",Worksheet!D347)","v":""}]
[{"$f":"IF(ISBLANK(Worksheet!F348)=FALSE,VLOOKUP(Worksheet!A348,MeasureCode_Lookup,6,FALSE),\"\")","v":""},null,null,{"$f":"IFERROR(IF(Worksheet!U348=0,Worksheet!T348/I330,Worksheet!U348/R330),0)","v":0},"W Controlled",null,null,{"$f":"IF(N(Worksheet!P348)=0,N(Worksheet!O348),N(Worksheet!P348))","v":0},{"$f":"IFERROR(Worksheet!R348/Worksheet!O348,0)","v":0},{"$f":"Worksheet!Z348","v":0},{"$f":"Worksheet!Y348","v":0},0,{"$f":"IF(Worksheet!AG348=0,0,Worksheet!AG348/I330)","v":0},0,null,null,null,{"$f":"IFERROR(Worksheet!S348/Worksheet!P348,0)","v":0},{"$f":"IF(Worksheet!E348=\"\",\"\",Worksheet!E348)","v":""},{"$f":"IF(Worksheet!B348=\"\",\"\",Worksheet!B348)","v":""},{"$f":"IF(Worksheet!D348=\"\",\"\",Worksheet!D348)","v":""}]
[{"$f":"IF(ISBLANK(Worksheet!F349)=FALSE,VLOOKUP(Worksheet!A349,MeasureCode_Lookup,6,FALSE),\"\")","v":""},null,null,{"$f":"IFERROR(IF(Worksheet!U349=0,Worksheet!T349/I331,Worksheet!U349/R331),0)","v":0},"W Controlled",null,null,{"$f":"IF(N(Worksheet!P349)=0,N(Worksheet!O349),N(Worksheet!P349))","v":0},{"$f":"IFERROR(Worksheet!R349/Worksheet!O349,0)","v":0},{"$f":"Worksheet!Z349","v":0},{"$f":"Worksheet!Y349","v":0},0,{"$f":"IF(Worksheet!AG349=0,0,Worksheet!AG349/I331)","v":0},0,null,null,null,{"$f":"IFERROR(Worksheet!S349/Worksheet!P349,0)","v":0},{"$f":"IF(Worksheet!E349=\"\",\"\",Worksheet!E349)","v":""},{"$f":"IF(Worksheet!B349=\"\",\"\",Worksheet!B349)","v":""},{"$f":"IF(Worksheet!D349=\"\",\"\",Worksheet!D349)","v":""}]
[{"$f":"IF(ISBLANK(Worksheet!F350)=FALSE,VLOOKUP(Worksheet!A350,MeasureCode_Lookup,6,FALSE),\"\")","v":""},null,null,{"$f":"IFERROR(IF(Worksheet!U350=0,Worksheet!T350/I332,Worksheet!U350/R332),0)","v":0},"W Controlled",null,null,{"$f":"IF(N(Worksheet!P350)=0,N(Worksheet!O350),N(Worksheet!P350))","v":0},{"$f":"IFERROR(Worksheet!R350/Worksheet!O350,0)","v":0},{"$f":"Worksheet!Z350","v":0},{"$f":"Worksheet!Y350","v":0},0,{"$f":"IF(Worksheet!AG350=0,0,Worksheet!AG350/I332)","v":0},0,null,null,null,{"$f":"IFERROR(Worksheet!S350/Worksheet!P350,0)","v":0},{"$f":"IF(Worksheet!E350=\"\",\"\",Worksheet!E350)","v":""},{"$f":"IF(Worksheet!B350=\"\",\"\",Worksheet!B350)","v":""},{"$f":"IF(Worksheet!D350=\"\",\"\",Worksheet!D350)","v":""}]
[{"$f":"IF(ISBLANK(Worksheet!F351)=FALSE,VLOOKUP(Worksheet!A351,MeasureCode_Lookup,6,FALSE),\"\")","v":""},null,null,{"$f":"IFERROR(IF(Worksheet!U351=0,Worksheet!T351/I333,Worksheet!U351/R333),0)","v":0},"W Controlled",null,null,{"$f":"IF(N(Worksheet!P351)=0,N(Worksheet!O351),N(Worksheet!P351))","v":0},{"$f":"IFERROR(Worksheet!R351/Worksheet!O351,0)","v":0},{"$f":"Worksheet!Z351","v":0},{"$f":"Worksheet!Y351","v":0},0,{"$f":"IF(Worksheet!AG351=0,0,Worksheet!AG351/I333)","v":0},0,null,null,null,{"$f":"IFERROR(Worksheet!S351/Worksheet!P351,0)","v":0},{"$f":"IF(Worksheet!E351=\"\",\"\",Worksheet!E351)","v":""},{"$f":"IF(Worksheet!B351=\"\",\"\",Worksheet!B351)","v":""},{"$f":"IF(Worksheet!D351=\"\",\"\",Worksheet!D351)","v":""}]
[{"$f":"IF(ISBLANK(Worksheet!F352)=FALSE,VLOOKUP(Worksheet!A352,MeasureCode_Lookup,6,FALSE),\"\")","v":""},null,null,{"$f":"IFERROR(IF(Worksheet!U352=0,Worksheet!T352/I334,Worksheet!U352/R334),0)","v":0},"W Controlled",null,null,{"$f":"IF(N(Worksheet!P352)=0,N(Worksheet!O352),N(Worksheet!P352))","v":0},{"$f":"IFERROR(Worksheet!R352/Worksheet!O352,0)","v":0},{"$f":"Worksheet!Z352","v":0},{"$f":"Worksheet!Y352","v":0},0,{"$f":"IF(Worksheet!AG352=0,0,Worksheet!AG352/I334)","v":0},0,null,null,null,{"$f":"IFERROR(Worksheet!S352/Worksheet!P352,0)","v":0},{"$f":"IF(Worksheet!E352=\"\",\"\",Worksheet!E352)","v":""},{"$f":"IF(Worksheet!B352=\"\",\"\",Worksheet!B352)","v":""},{"$f":"IF(Worksheet!D352=\"\",\"\",Worksheet!D352)","v":""}]
[{"$f":"IF(ISBLANK(Worksheet!F353)=FALSE,VLOOKUP(Worksheet!A353,MeasureCode_Lookup,6,FALSE),\"\")","v":""},null,null,{"$f":"IFERROR(IF(Worksheet!U353=0,Worksheet!T353/I335,Worksheet!U353/R335),0)","v":0},"W Controlled",null,null,{"$f":"IF(N(Worksheet!P353)=0,N(Worksheet!O353),N(Worksheet!P353))","v":0},{"$f":"IFERROR(Worksheet!R353/Worksheet!O353,0)","v":0},{"$f":"Worksheet!Z353","v":0},{"$f":"Worksheet!Y353","v":0},0,{"$f":"IF(Worksheet!AG353=0,0,Worksheet!AG353/I335)","v":0},0,null,null,null,{"$f":"IFERROR(Worksheet!S353/Worksheet!P353,0)","v":0},{"$f":"IF(Worksheet!E353=\"\",\"\",Worksheet!E353)","v":""},{"$f":"IF(Worksheet!B353=\"\",\"\",Worksheet!B353)","v":""},{"$f":"IF(Worksheet!D353=\"\",\"\",Worksheet!D353)","v":""}]
[{"$f":"IF(ISBLANK(Worksheet!F354)=FALSE,VLOOKUP(Worksheet!A354,MeasureCode_Lookup,6,FALSE),\"\")","v":""},null,null,{"$f":"IFERROR(IF(Worksheet!U354=0,Worksheet!T354/I336,Worksheet!U354/R336),0)","v":0},"W Controlled",null,null,{"$f":"IF(N(Worksheet!P354)=0,N(Worksheet!O354),N(Worksheet!P354))","v":0},{"$f":"IFERROR(Worksheet!R354/Worksheet!O354,0)","v":0},{"$f":"Worksheet!Z354","v":0},{"$f":"Worksheet!Y354","v":0},0,{"$f":"IF(Worksheet!AG354=0,0,Worksheet!AG354/I336)","v":0},0,null,null,null,{"$f":"IFERROR(Worksheet!S354/Worksheet!P354,0)","v":0},{"$f":"IF(Worksheet!E354=\"\",\"\",Worksheet!E354)","v":""},{"$f":"IF(Worksheet!B354=\"\",\"\",Worksheet!B354)","v":""},{"$f":"IF(Worksheet!D354=\"\",\"\",Worksheet!D354)","v":""}]
[{"$f":"IF(ISBLANK(Worksheet!F355)=FALSE,VLOOKUP(Worksheet!A355,MeasureCode_Lookup,6,FALSE),\"\")","v":""},null,null,{"$f":"IFERROR(IF(Worksheet!U355=0,Worksheet!T355/I337,Worksheet!U355/R337),0)","v":0},"W Controlled",null,null,{"$f":"IF(N(Worksheet!P355)=0,N(Worksheet!O355),N(Worksheet!P355))","v":0},{"$f":"IFERROR(Worksheet!R355/Worksheet!O355,0)","v":0},{"$f":"Worksheet!Z355","v":0},{"$f":"Worksheet!Y355","v":0},0,{"$f":"IF(Worksheet!AG355=0,0,Worksheet!AG355/I337)","v":0},0,null,null,null,{"$f":"IFERROR(Worksheet!S355/Worksheet!P355,0)","v":0},{"$f":"IF(Worksheet!E355=\"\",\"\",Worksheet!E355)","v":""},{"$f":"IF(Worksheet!B355=\"\",\"\",Worksheet!B355)","v":""},{"$f":"IF(Worksheet!D355=\"\",\"\",Worksheet!D355)","v":""}]
[{"$f":"IF(ISBLANK(Worksheet!F356)=FALSE,VLOOKUP(Worksheet!A356,MeasureCode_Lookup,6,FALSE),\"\")","v":""},null,null,{"$f":"IFERROR(IF(Worksheet!U356=0,Worksheet!T356/I338,Worksheet!U356/R338),0)","v":0},"W Controlled",null,null,{"$f":"IF(N(Worksheet!P356)=0,N(Worksheet!O356),N(Worksheet!P356))","v":0},{"$f":"IFERROR(Worksheet!R356/Worksheet!O356,0)","v":0},{"$f":"Worksheet!Z356","v":0},{"$f":"Worksheet!Y356","v":0},0,{"$f":"IF(Worksheet!AG356=0,0,Worksheet!AG356/I338)","v":0},0,null,null,null,{"$f":"IFERROR(Worksheet!S356/Worksheet!P356,0)","v":0},{"$f":"IF(Worksheet!E356=\"\",\"\",Worksheet!E356)","v":""},{"$f":"IF(Worksheet!B356=\"\",\"\",Worksheet!B356)","v":""},{"$f":"IF(Worksheet!D356=\"\",\"\",Worksheet!D356)","v":""}]
[{"$f":"IF(ISBLANK(Worksheet!F357)=FALSE,VLOOKUP(Worksheet!A357,MeasureCode_Lookup,6,FALSE),\"\")","v":""},null,null,{"$f":"IFERROR(IF(Worksheet!U357=0,Worksheet!T357/I339,Worksheet!U357/R339),0)","v":0},"W Controlled",null,null,{"$f":"IF(N(Worksheet!P357)=0,N(Worksheet!O357),N(Worksheet!P357))","v":0},{"$f":"IFERROR(Worksheet!R357/Worksheet!O357,0)","v":0},{"$f":"Worksheet!Z357","v":0},{"$f":"Worksheet!Y357","v":0},0,{"$f":"IF(Worksheet!AG357=0,0,Worksheet!AG357/I339)","v":0},0,null,null,null,{"$f":"IFERROR(Worksheet!S357/Worksheet!P357,0)","v":0},{"$f":"IF(Worksheet!E357=\"\",\"\",Worksheet!E357)","v":""},{"$f":"IF(Worksheet!B357=\"\",\"\",Worksheet!B357)","v":""},{"$f":"IF(Worksheet!D357=\"\",\"\",Worksheet!D357)","v":""}]
[{"$f":"IF(ISBLANK(Worksheet!F358)=FALSE,VLOOKUP(Worksheet!A358,MeasureCode_Lookup,6,FALSE),\"\")","v":""},null,null,{"$f":"IFERROR(IF(Worksheet!U358=0,Worksheet!T358/I340,Worksheet!U358/R340),0)","v":0},"W Controlled",null,null,{"$f":"IF(N(Worksheet!P358)=0,N(Worksheet!O358),N(Worksheet!P358))","v":0},{"$f":"IFERROR(Worksheet!R358/Worksheet!O358,0)","v":0},{"$f":"Worksheet!Z358","v":0},{"$f":"Worksheet!Y358","v":0},0,{"$f":"IF(Worksheet!AG358=0,0,Worksheet!AG358/I340)","v":0},0,null,null,null,{"$f":"IFERROR(Worksheet!S358/Worksheet!P358,0)","v":0},{"$f":"IF(Worksheet!E358=\"\",\"\",Worksheet!E358)","v":""},{"$f":"IF(Worksheet!B358=\"\",\"\",Worksheet!B358)","v":""},{"$f":"IF(Worksheet!D358=\"\",\"\",Worksheet!D358)","v":""}]
[{"$f":"IF(ISBLANK(Worksheet!F359)=FALSE,VLOOKUP(Worksheet!A359,MeasureCode_Lookup,6,FALSE),\"\")","v":""},null,null,{"$f":"IFERROR(IF(Worksheet!U359=0,Worksheet!T359/I341,Worksheet!U359/R341),0)","v":0},"W Controlled",null,null,{"$f":"IF(N(Worksheet!P359)=0,N(Worksheet!O359),N(Worksheet!P359))","v":0},{"$f":"IFERROR(Worksheet!R359/Worksheet!O359,0)","v":0},{"$f":"Worksheet!Z359","v":0},{"$f":"Worksheet!Y359","v":0},0,{"$f":"IF(Worksheet!AG359=0,0,Worksheet!AG359/I341)","v":0},0,null,null,null,{"$f":"IFERROR(Worksheet!S359/Worksheet!P359,0)","v":0},{"$f":"IF(Worksheet!E359=\"\",\"\",Worksheet!E359)","v":""},{"$f":"IF(Worksheet!B359=\"\",\"\",Worksheet!B359)","v":""},{"$f":"IF(Worksheet!D359=\"\",\"\",Worksheet!D359)","v":""}]
[{"$f":"IF(ISBLANK(Worksheet!F360)=FALSE,VLOOKUP(Worksheet!A360,MeasureCode_Lookup,6,FALSE),\"\")","v":""},null,null,{"$f":"IFERROR(IF(Worksheet!U360=0,Worksheet!T360/I342,Worksheet!U360/R342),0)","v":0},"W Controlled",null,null,{"$f":"IF(N(Worksheet!P360)=0,N(Worksheet!O360),N(Worksheet!P360))","v":0},{"$f":"IFERROR(Worksheet!R360/Worksheet!O360,0)","v":0},{"$f":"Worksheet!Z360","v":0},{"$f":"Worksheet!Y360","v":0},0,{"$f":"IF(Worksheet!AG360=0,0,Worksheet!AG360/I342)","v":0},0,null,null,null,{"$f":"IFERROR(Worksheet!S360/Worksheet!P360,0)","v":0},{"$f":"IF(Worksheet!E360=\"\",\"\",Worksheet!E360)","v":""},{"$f":"IF(Worksheet!B360=\"\",\"\",Worksheet!B360)","v":""},{"$f":"IF(Worksheet!D360=\"\",\"\",Worksheet!D360)","v":""}]
[{"$f":"IF(ISBLANK(Worksheet!F361)=FALSE,VLOOKUP(Worksheet!A361,MeasureCode_Lookup,6,FALSE),\"\")","v":""},null,null,{"$f":"IFERROR(IF(Worksheet!U361=0,Worksheet!T361/I343,Worksheet!U361/R343),0)","v":0},"W Controlled",null,null,{"$f":"IF(N(Worksheet!P361)=0,N(Worksheet!O361),N(Worksheet!P361))","v":0},{"$f":"IFERROR(Worksheet!R361/Worksheet!O361,0)","v":0},{"$f":"Worksheet!Z361","v":0},{"$f":"Worksheet!Y361","v":0},0,{"$f":"IF(Worksheet!AG361=0,0,Worksheet!AG361/I343)","v":0},0,null,null,null,{"$f":"IFERROR(Worksheet!S361/Worksheet!P361,0)","v":0},{"$f":"IF(Worksheet!E361=\"\",\"\",Worksheet!E361)","v":""},{"$f":"IF(Worksheet!B361=\"\",\"\",Worksheet!B361)","v":""},{"$f":"IF(Worksheet!D361=\"\",\"\",Worksheet!D361)","v":""}]
[{"$f":"IF(ISBLANK(Worksheet!F362)=FALSE,VLOOKUP(Worksheet!A362,MeasureCode_Lookup,6,FALSE),\"\")","v":""},null,null,{"$f":"IFERROR(IF(Worksheet!U362=0,Worksheet!T362/I344,Worksheet!U362/R344),0)","v":0},"W Controlled",null,null,{"$f":"IF(N(Worksheet!P362)=0,N(Worksheet!O362),N(Worksheet!P362))","v":0},{"$f":"IFERROR(Worksheet!R362/Worksheet!O362,0)","v":0},{"$f":"Worksheet!Z362","v":0},{"$f":"Worksheet!Y362","v":0},0,{"$f":"IF(Worksheet!AG362=0,0,Worksheet!AG362/I344)","v":0},0,null,null,null,{"$f":"IFERROR(Worksheet!S362/Worksheet!P362,0)","v":0},{"$f":"IF(Worksheet!E362=\"\",\"\",Worksheet!E362)","v":""},{"$f":"IF(Worksheet!B362=\"\",\"\",Worksheet!B362)","v":""},{"$f":"IF(Worksheet!D362=\"\",\"\",Worksheet!D362)","v":""}]
[{"$f":"IF(ISBLANK(Worksheet!F363)=FALSE,VLOOKUP(Worksheet!A363,MeasureCode_Lookup,6,FALSE),\"\")","v":""},null,null,{"$f":"IFERROR(IF(Worksheet!U363=0,Worksheet!T363/I345,Worksheet!U363/R345),0)","v":0},"W Controlled",null,null,{"$f":"IF(N(Worksheet!P363)=0,N(Worksheet!O363),N(Worksheet!P363))","v":0},{"$f":"IFERROR(Worksheet!R363/Worksheet!O363,0)","v":0},{"$f":"Worksheet!Z363","v":0},{"$f":"Worksheet!Y363","v":0},0,{"$f":"IF(Worksheet!AG363=0,0,Worksheet!AG363/I345)","v":0},0,null,null,null,{"$f":"IFERROR(Worksheet!S363/Worksheet!P363,0)","v":0},{"$f":"IF(Worksheet!E363=\"\",\"\",Worksheet!E363)","v":""},{"$f":"IF(Worksheet!B363=\"\",\"\",Worksheet!B363)","v":""},{"$f":"IF(Worksheet!D363=\"\",\"\",Worksheet!D363)","v":""}]
[{"$f":"IF(ISBLANK(Worksheet!F364)=FALSE,VLOOKUP(Worksheet!A364,MeasureCode_Lookup,6,FALSE),\"\")","v":""},null,null,{"$f":"IFERROR(IF(Worksheet!U364=0,Worksheet!T364/I346,Worksheet!U364/R346),0)","v":0},"W Controlled",null,null,{"$f":"IF(N(Worksheet!P364)=0,N(Worksheet!O364),N(Worksheet!P364))","v":0},{"$f":"IFERROR(Worksheet!R364/Worksheet!O364,0)","v":0},{"$f":"Worksheet!Z364","v":0},{"$f":"Worksheet!Y364","v":0},0,{"$f":"IF(Worksheet!AG364=0,0,Worksheet!AG364/I346)","v":0},0,null,null,null,{"$f":"IFERROR(Worksheet!S364/Worksheet!P364,0)","v":0},{"$f":"IF(Worksheet!E364=\"\",\"\",Worksheet!E364)","v":""},{"$f":"IF(Worksheet!B364=\"\",\"\",Worksheet!B364)","v":""},{"$f":"IF(Worksheet!D364=\"\",\"\",Worksheet!D364)","v":""}]
[{"$f":"IF(ISBLANK(Worksheet!F365)=FALSE,VLOOKUP(Worksheet!A365,MeasureCode_Lookup,6,FALSE),\"\")","v":""},null,null,{"$f":"IFERROR(IF(Worksheet!U365=0,Worksheet!T365/I347,Worksheet!U365/R347),0)","v":0},"W Controlled",null,null,{"$f":"IF(N(Worksheet!P365)=0,N(Worksheet!O365),N(Worksheet!P365))","v":0},{"$f":"IFERROR(Worksheet!R365/Worksheet!O365,0)","v":0},{"$f":"Worksheet!Z365","v":0},{"$f":"Worksheet!Y365","v":0},0,{"$f":"IF(Worksheet!AG365=0,0,Worksheet!AG365/I347)","v":0},0,null,null,null,{"$f":"IFERROR(Worksheet!S365/Worksheet!P365,0)","v":0},{"$f":"IF(Worksheet!E365=\"\",\"\",Worksheet!E365)","v":""},{"$f":"IF(Worksheet!B365=\"\",\"\",Worksheet!B365)","v":""},{"$f":"IF(Worksheet!D365=\"\",\"\",Worksheet!D365)","v":""}]
[{"$f":"IF(ISBLANK(Worksheet!F366)=FALSE,VLOOKUP(Worksheet!A366,MeasureCode_Lookup,6,FALSE),\"\")","v":""},null,null,{"$f":"IFERROR(IF(Worksheet!U366=0,Worksheet!T366/I348,Worksheet!U366/R348),0)","v":0},"W Controlled",null,null,{"$f":"IF(N(Worksheet!P366)=0,N(Worksheet!O366),N(Worksheet!P366))","v":0},{"$f":"IFERROR(Worksheet!R366/Worksheet!O366,0)","v":0},{"$f":"Worksheet!Z366","v":0},{"$f":"Worksheet!Y366","v":0},0,{"$f":"IF(Worksheet!AG366=0,0,Worksheet!AG366/I348)","v":0},0,null,null,null,{"$f":"IFERROR(Worksheet!S366/Worksheet!P366,0)","v":0},{"$f":"IF(Worksheet!E366=\"\",\"\",Worksheet!E366)","v":""},{"$f":"IF(Worksheet!B366=\"\",\"\",Worksheet!B366)","v":""},{"$f":"IF(Worksheet!D366=\"\",\"\",Worksheet!D366)","v":""}]
[{"$f":"IF(ISBLANK(Worksheet!F367)=FALSE,VLOOKUP(Worksheet!A367,MeasureCode_Lookup,6,FALSE),\"\")","v":""},null,null,{"$f":"IFERROR(IF(Worksheet!U367=0,Worksheet!T367/I349,Worksheet!U367/R349),0)","v":0},"W Controlled",null,null,{"$f":"IF(N(Worksheet!P367)=0,N(Worksheet!O367),N(Worksheet!P367))","v":0},{"$f":"IFERROR(Worksheet!R367/Worksheet!O367,0)","v":0},{"$f":"Worksheet!Z367","v":0},{"$f":"Worksheet!Y367","v":0},0,{"$f":"IF(Worksheet!AG367=0,0,Worksheet!AG367/I349)","v":0},0,null,null,null,{"$f":"IFERROR(Worksheet!S367/Worksheet!P367,0)","v":0},{"$f":"IF(Worksheet!E367=\"\",\"\",Worksheet!E367)","v":""},{"$f":"IF(Worksheet!B367=\"\",\"\",Worksheet!B367)","v":""},{"$f":"IF(Worksheet!D367=\"\",\"\",Worksheet!D367)","v":""}]
[{"$f":"IF(ISBLANK(Worksheet!F368)=FALSE,VLOOKUP(Worksheet!A368,MeasureCode_Lookup,6,FALSE),\"\")","v":""},null,null,{"$f":"IFERROR(IF(Worksheet!U368=0,Worksheet!T368/I350,Worksheet!U368/R350),0)","v":0},"W Controlled",null,null,{"$f":"IF(N(Worksheet!P368)=0,N(Worksheet!O368),N(Worksheet!P368))","v":0},{"$f":"IFERROR(Worksheet!R368/Worksheet!O368,0)","v":0},{"$f":"Worksheet!Z368","v":0},{"$f":"Worksheet!Y368","v":0},0,{"$f":"IF(Worksheet!AG368=0,0,Worksheet!AG368/I350)","v":0},0,null,null,null,{"$f":"IFERROR(Worksheet!S368/Worksheet!P368,0)","v":0},{"$f":"IF(Worksheet!E368=\"\",\"\",Worksheet!E368)","v":""},{"$f":"IF(Worksheet!B368=\"\",\"\",Worksheet!B368)","v":""},{"$f":"IF(Worksheet!D368=\"\",\"\",Worksheet!D368)","v":""}]
[{"$f":"IF(ISBLANK(Worksheet!F369)=FALSE,VLOOKUP(Worksheet!A369,MeasureCode_Lookup,6,FALSE),\"\")","v":""},null,null,{"$f":"IFERROR(IF(Worksheet!U369=0,Worksheet!T369/I351,Worksheet!U369/R351),0)","v":0},"W Controlled",null,null,{"$f":"IF(N(Worksheet!P369)=0,N(Worksheet!O369),N(Worksheet!P369))","v":0},{"$f":"IFERROR(Worksheet!R369/Worksheet!O369,0)","v":0},{"$f":"Worksheet!Z369","v":0},{"$f":"Worksheet!Y369","v":0},0,{"$f":"IF(Worksheet!AG369=0,0,Worksheet!AG369/I351)","v":0},0,null,null,null,{"$f":"IFERROR(Worksheet!S369/Worksheet!P369,0)","v":0},{"$f":"IF(Worksheet!E369=\"\",\"\",Worksheet!E369)","v":""},{"$f":"IF(Worksheet!B369=\"\",\"\",Worksheet!B369)","v":""},{"$f":"IF(Worksheet!D369=\"\",\"\",Worksheet!D369)","v":""}]
[{"$f":"IF(ISBLANK(Worksheet!F370)=FALSE,VLOOKUP(Worksheet!A370,MeasureCode_Lookup,6,FALSE),\"\")","v":""},null,null,{"$f":"IFERROR(IF(Worksheet!U370=0,Worksheet!T370/I352,Worksheet!U370/R352),0)","v":0},"W Controlled",null,null,{"$f":"IF(N(Worksheet!P370)=0,N(Worksheet!O370),N(Worksheet!P370))","v":0},{"$f":"IFERROR(Worksheet!R370/Worksheet!O370,0)","v":0},{"$f":"Worksheet!Z370","v":0},{"$f":"Worksheet!Y370","v":0},0,{"$f":"IF(Worksheet!AG370=0,0,Worksheet!AG370/I352)","v":0},0,null,null,null,{"$f":"IFERROR(Worksheet!S370/Worksheet!P370,0)","v":0},{"$f":"IF(Worksheet!E370=\"\",\"\",Worksheet!E370)","v":""},{"$f":"IF(Worksheet!B370=\"\",\"\",Worksheet!B370)","v":""},{"$f":"IF(Worksheet!D370=\"\",\"\",Worksheet!D370)","v":""}]
[{"$f":"IF(ISBLANK(Worksheet!F371)=FALSE,VLOOKUP(Worksheet!A371,MeasureCode_Lookup,6,FALSE),\"\")","v":""},null,null,{"$f":"IFERROR(IF(Worksheet!U371=0,Worksheet!T371/I353,Worksheet!U371/R353),0)","v":0},"W Controlled",null,null,{"$f":"IF(N(Worksheet!P371)=0,N(Worksheet!O371),N(Worksheet!P371))","v":0},{"$f":"IFERROR(Worksheet!R371/Worksheet!O371,0)","v":0},{"$f":"Worksheet!Z371","v":0},{"$f":"Worksheet!Y371","v":0},0,{"$f":"IF(Worksheet!AG371=0,0,Worksheet!AG371/I353)","v":0},0,null,null,null,{"$f":"IFERROR(Worksheet!S371/Worksheet!P371,0)","v":0},{"$f":"IF(Worksheet!E371=\"\",\"\",Worksheet!E371)","v":""},{"$f":"IF(Worksheet!B371=\"\",\"\",Worksheet!B371)","v":""},{"$f":"IF(Worksheet!D371=\"\",\"\",Worksheet!D371)","v":""}]
[{"$f":"IF(ISBLANK(Worksheet!F372)=FALSE,VLOOKUP(Worksheet!A372,MeasureCode_Lookup,6,FALSE),\"\")","v":""},null,null,{"$f":"IFERROR(IF(Worksheet!U372=0,Worksheet!T372/I354,Worksheet!U372/R354),0)","v":0},"W Controlled",null,null,{"$f":"IF(N(Worksheet!P372)=0,N(Worksheet!O372),N(Worksheet!P372))","v":0},{"$f":"IFERROR(Worksheet!R372/Worksheet!O372,0)","v":0},{"$f":"Worksheet!Z372","v":0},{"$f":"Worksheet!Y372","v":0},0,{"$f":"IF(Worksheet!AG372=0,0,Worksheet!AG372/I354)","v":0},0,null,null,null,{"$f":"IFERROR(Worksheet!S372/Worksheet!P372,0)","v":0},{"$f":"IF(Worksheet!E372=\"\",\"\",Worksheet!E372)","v":""},{"$f":"IF(Worksheet!B372=\"\",\"\",Worksheet!B372)","v":""},{"$f":"IF(Worksheet!D372=\"\",\"\",Worksheet!D372)","v":""}]
[{"$f":"IF(ISBLANK(Worksheet!F373)=FALSE,VLOOKUP(Worksheet!A373,MeasureCode_Lookup,6,FALSE),\"\")","v":""},null,null,{"$f":"IFERROR(IF(Worksheet!U373=0,Worksheet!T373/I355,Worksheet!U373/R355),0)","v":0},"W Controlled",null,null,{"$f":"IF(N(Worksheet!P373)=0,N(Worksheet!O373),N(Worksheet!P373))","v":0},{"$f":"IFERROR(Worksheet!R373/Worksheet!O373,0)","v":0},{"$f":"Worksheet!Z373","v":0},{"$f":"Worksheet!Y373","v":0},0,{"$f":"IF(Worksheet!AG373=0,0,Worksheet!AG373/I355)","v":0},0,null,null,null,{"$f":"IFERROR(Worksheet!S373/Worksheet!P373,0)","v":0},{"$f":"IF(Worksheet!E373=\"\",\"\",Worksheet!E373)","v":""},{"$f":"IF(Worksheet!B373=\"\",\"\",Worksheet!B373)","v":""},{"$f":"IF(Worksheet!D373=\"\",\"\",Worksheet!D373)","v":""}]
[{"$f":"IF(ISBLANK(Worksheet!F374)=FALSE,VLOOKUP(Worksheet!A374,MeasureCode_Lookup,6,FALSE),\"\")","v":""},null,null,{"$f":"IFERROR(IF(Worksheet!U374=0,Worksheet!T374/I356,Worksheet!U374/R356),0)","v":0},"W Controlled",null,null,{"$f":"IF(N(Worksheet!P374)=0,N(Worksheet!O374),N(Worksheet!P374))","v":0},{"$f":"IFERROR(Worksheet!R374/Worksheet!O374,0)","v":0},{"$f":"Worksheet!Z374","v":0},{"$f":"Worksheet!Y374","v":0},0,{"$f":"IF(Worksheet!AG374=0,0,Worksheet!AG374/I356)","v":0},0,null,null,null,{"$f":"IFERROR(Worksheet!S374/Worksheet!P374,0)","v":0},{"$f":"IF(Worksheet!E374=\"\",\"\",Worksheet!E374)","v":""},{"$f":"IF(Worksheet!B374=\"\",\"\",Worksheet!B374)","v":""},{"$f":"IF(Worksheet!D374=\"\",\"\",Worksheet!D374)","v":""}]
[{"$f":"IF(ISBLANK(Worksheet!F375)=FALSE,VLOOKUP(Worksheet!A375,MeasureCode_Lookup,6,FALSE),\"\")","v":""},null,null,{"$f":"IFERROR(IF(Worksheet!U375=0,Worksheet!T375/I357,Worksheet!U375/R357),0)","v":0},"W Controlled",null,null,{"$f":"IF(N(Worksheet!P375)=0,N(Worksheet!O375),N(Worksheet!P375))","v":0},{"$f":"IFERROR(Worksheet!R375/Worksheet!O375,0)","v":0},{"$f":"Worksheet!Z375","v":0},{"$f":"Worksheet!Y375","v":0},0,{"$f":"IF(Worksheet!AG375=0,0,Worksheet!AG375/I357)","v":0},0,null,null,null,{"$f":"IFERROR(Worksheet!S375/Worksheet!P375,0)","v":0},{"$f":"IF(Worksheet!E375=\"\",\"\",Worksheet!E375)","v":""},{"$f":"IF(Worksheet!B375=\"\",\"\",Worksheet!B375)","v":""},{"$f":"IF(Worksheet!D375=\"\",\"\",Worksheet!D375)","v":""}]
[{"$f":"IF(ISBLANK(Worksheet!F376)=FALSE,VLOOKUP(Worksheet!A376,MeasureCode_Lookup,6,FALSE),\"\")","v":""},null,null,{"$f":"IFERROR(IF(Worksheet!U376=0,Worksheet!T376/I358,Worksheet!U376/R358),0)","v":0},"W Controlled",null,null,{"$f":"IF(N(Worksheet!P376)=0,N(Worksheet!O376),N(Worksheet!P376))","v":0},{"$f":"IFERROR(Worksheet!R376/Worksheet!O376,0)","v":0},{"$f":"Worksheet!Z376","v":0},{"$f":"Worksheet!Y376","v":0},0,{"$f":"IF(Worksheet!AG376=0,0,Worksheet!AG376/I358)","v":0},0,null,null,null,{"$f":"IFERROR(Worksheet!S376/Worksheet!P376,0)","v":0},{"$f":"IF(Worksheet!E376=\"\",\"\",Worksheet!E376)","v":""},{"$f":"IF(Worksheet!B376=\"\",\"\",Worksheet!B376)","v":""},{"$f":"IF(Worksheet!D376=\"\",\"\",Worksheet!D376)","v":""}]
[{"$f":"IF(ISBLANK(Worksheet!F377)=FALSE,VLOOKUP(Worksheet!A377,MeasureCode_Lookup,6,FALSE),\"\")","v":""},null,null,{"$f":"IFERROR(IF(Worksheet!U377=0,Worksheet!T377/I359,Worksheet!U377/R359),0)","v":0},"W Controlled",null,null,{"$f":"IF(N(Worksheet!P377)=0,N(Worksheet!O377),N(Worksheet!P377))","v":0},{"$f":"IFERROR(Worksheet!R377/Worksheet!O377,0)","v":0},{"$f":"Worksheet!Z377","v":0},{"$f":"Worksheet!Y377","v":0},0,{"$f":"IF(Worksheet!AG377=0,0,Worksheet!AG377/I359)","v":0},0,null,null,null,{"$f":"IFERROR(Worksheet!S377/Worksheet!P377,0)","v":0},{"$f":"IF(Worksheet!E377=\"\",\"\",Worksheet!E377)","v":""},{"$f":"IF(Worksheet!B377=\"\",\"\",Worksheet!B377)","v":""},{"$f":"IF(Worksheet!D377=\"\",\"\",Worksheet!D377)","v":""}]
[{"$f":"IF(ISBLANK(Worksheet!F378)=FALSE,VLOOKUP(Worksheet!A378,MeasureCode_Lookup,6,FALSE),\"\")","v":""},null,null,{"$f":"IFERROR(IF(Worksheet!U378=0,Worksheet!T378/I360,Worksheet!U378/R360),0)","v":0},"W Controlled",null,null,{"$f":"IF(N(Worksheet!P378)=0,N(Worksheet!O378),N(Worksheet!P378))","v":0},{"$f":"IFERROR(Worksheet!R378/Worksheet!O378,0)","v":0},{"$f":"Worksheet!Z378","v":0},{"$f":"Worksheet!Y378","v":0},0,{"$f":"IF(Worksheet!AG378=0,0,Worksheet!AG378/I360)","v":0},0,null,null,null,{"$f":"IFERROR(Worksheet!S378/Worksheet!P378,0)","v":0},{"$f":"IF(Worksheet!E378=\"\",\"\",Worksheet!E378)","v":""},{"$f":"IF(Worksheet!B378=\"\",\"\",Worksheet!B378)","v":""},{"$f":"IF(Worksheet!D378=\"\",\"\",Worksheet!D378)","v":""}]
[{"$f":"IF(ISBLANK(Worksheet!F379)=FALSE,VLOOKUP(Worksheet!A379,MeasureCode_Lookup,6,FALSE),\"\")","v":""},null,null,{"$f":"IFERROR(IF(Worksheet!U379=0,Worksheet!T379/I361,Worksheet!U379/R361),0)","v":0},"W Controlled",null,null,{"$f":"IF(N(Worksheet!P379)=0,N(Worksheet!O379),N(Worksheet!P379))","v":0},{"$f":"IFERROR(Worksheet!R379/Worksheet!O379,0)","v":0},{"$f":"Worksheet!Z379","v":0},{"$f":"Worksheet!Y379","v":0},0,{"$f":"IF(Worksheet!AG379=0,0,Worksheet!AG379/I361)","v":0},0,null,null,null,{"$f":"IFERROR(Worksheet!S379/Worksheet!P379,0)","v":0},{"$f":"IF(Worksheet!E379=\"\",\"\",Worksheet!E379)","v":""},{"$f":"IF(Worksheet!B379=\"\",\"\",Worksheet!B379)","v":""},{"$f":"IF(Worksheet!D379=\"\",\"\",Worksheet!D379)","v":""}]
[{"$f":"IF(ISBLANK(Worksheet!F380)=FALSE,VLOOKUP(Worksheet!A380,MeasureCode_Lookup,6,FALSE),\"\")","v":""},null,null,{"$f":"IFERROR(IF(Worksheet!U380=0,Worksheet!T380/I362,Worksheet!U380/R362),0)","v":0},"W Controlled",null,null,{"$f":"IF(N(Worksheet!P380)=0,N(Worksheet!O380),N(Worksheet!P380))","v":0},{"$f":"IFERROR(Worksheet!R380/Worksheet!O380,0)","v":0},{"$f":"Worksheet!Z380","v":0},{"$f":"Worksheet!Y380","v":0},0,{"$f":"IF(Worksheet!AG380=0,0,Worksheet!AG380/I362)","v":0},0,null,null,null,{"$f":"IFERROR(Worksheet!S380/Worksheet!P380,0)","v":0},{"$f":"IF(Worksheet!E380=\"\",\"\",Worksheet!E380)","v":""},{"$f":"IF(Worksheet!B380=\"\",\"\",Worksheet!B380)","v":""},{"$f":"IF(Worksheet!D380=\"\",\"\",Worksheet!D380)","v":""}]
[{"$f":"IF(ISBLANK(Worksheet!F381)=FALSE,VLOOKUP(Worksheet!A381,MeasureCode_Lookup,6,FALSE),\"\")","v":""},null,null,{"$f":"IFERROR(IF(Worksheet!U381=0,Worksheet!T381/I363,Worksheet!U381/R363),0)","v":0},"W Controlled",null,null,{"$f":"IF(N(Worksheet!P381)=0,N(Worksheet!O381),N(Worksheet!P381))","v":0},{"$f":"IFERROR(Worksheet!R381/Worksheet!O381,0)","v":0},{"$f":"Worksheet!Z381","v":0},{"$f":"Worksheet!Y381","v":0},0,{"$f":"IF(Worksheet!AG381=0,0,Worksheet!AG381/I363)","v":0},0,null,null,null,{"$f":"IFERROR(Worksheet!S381/Worksheet!P381,0)","v":0},{"$f":"IF(Worksheet!E381=\"\",\"\",Worksheet!E381)","v":""},{"$f":"IF(Worksheet!B381=\"\",\"\",Worksheet!B381)","v":""},{"$f":"IF(Worksheet!D381=\"\",\"\",Worksheet!D381)","v":""}]
[{"$f":"IF(ISBLANK(Worksheet!F382)=FALSE,VLOOKUP(Worksheet!A382,MeasureCode_Lookup,6,FALSE),\"\")","v":""},null,null,{"$f":"IFERROR(IF(Worksheet!U382=0,Worksheet!T382/I364,Worksheet!U382/R364),0)","v":0},"W Controlled",null,null,{"$f":"IF(N(Worksheet!P382)=0,N(Worksheet!O382),N(Worksheet!P382))","v":0},{"$f":"IFERROR(Worksheet!R382/Worksheet!O382,0)","v":0},{"$f":"Worksheet!Z382","v":0},{"$f":"Worksheet!Y382","v":0},0,{"$f":"IF(Worksheet!AG382=0,0,Worksheet!AG382/I364)","v":0},0,null,null,null,{"$f":"IFERROR(Worksheet!S382/Worksheet!P382,0)","v":0},{"$f":"IF(Worksheet!E382=\"\",\"\",Worksheet!E382)","v":""},{"$f":"IF(Worksheet!B382=\"\",\"\",Worksheet!B382)","v":""},{"$f":"IF(Worksheet!D382=\"\",\"\",Worksheet!D382)","v":""}]
[{"$f":"IF(ISBLANK(Worksheet!F383)=FALSE,VLOOKUP(Worksheet!A383,MeasureCode_Lookup,6,FALSE),\"\")","v":""},null,null,{"$f":"IFERROR(IF(Worksheet!U383=0,Worksheet!T383/I365,Worksheet!U383/R365),0)","v":0},"W Controlled",null,null,{"$f":"IF(N(Worksheet!P383)=0,N(Worksheet!O383),N(Worksheet!P383))","v":0},{"$f":"IFERROR(Worksheet!R383/Worksheet!O383,0)","v":0},{"$f":"Worksheet!Z383","v":0},{"$f":"Worksheet!Y383","v":0},0,{"$f":"IF(Worksheet!AG383=0,0,Worksheet!AG383/I365)","v":0},0,null,null,null,{"$f":"IFERROR(Worksheet!S383/Worksheet!P383,0)","v":0},{"$f":"IF(Worksheet!E383=\"\",\"\",Worksheet!E383)","v":""},{"$f":"IF(Worksheet!B383=\"\",\"\",Worksheet!B383)","v":""},{"$f":"IF(Worksheet!D383=\"\",\"\",Worksheet!D383)","v":""}]
[{"$f":"IF(ISBLANK(Worksheet!F384)=FALSE,VLOOKUP(Worksheet!A384,MeasureCode_Lookup,6,FALSE),\"\")","v":""},null,null,{"$f":"IFERROR(IF(Worksheet!U384=0,Worksheet!T384/I366,Worksheet!U384/R366),0)","v":0},"W Controlled",null,null,{"$f":"IF(N(Worksheet!P384)=0,N(Worksheet!O384),N(Worksheet!P384))","v":0},{"$f":"IFERROR(Worksheet!R384/Worksheet!O384,0)","v":0},{"$f":"Worksheet!Z384","v":0},{"$f":"Worksheet!Y384","v":0},0,{"$f":"IF(Worksheet!AG384=0,0,Worksheet!AG384/I366)","v":0},0,null,null,null,{"$f":"IFERROR(Worksheet!S384/Worksheet!P384,0)","v":0},{"$f":"IF(Worksheet!E384=\"\",\"\",Worksheet!E384)","v":""},{"$f":"IF(Worksheet!B384=\"\",\"\",Worksheet!B384)","v":""},{"$f":"IF(Worksheet!D384=\"\",\"\",Worksheet!D384)","v":""}]
[{"$f":"IF(ISBLANK(Worksheet!F385)=FALSE,VLOOKUP(Worksheet!A385,MeasureCode_Lookup,6,FALSE),\"\")","v":""},null,null,{"$f":"IFERROR(IF(Worksheet!U385=0,Worksheet!T385/I367,Worksheet!U385/R367),0)","v":0},"W Controlled",null,null,{"$f":"IF(N(Worksheet!P385)=0,N(Worksheet!O385),N(Worksheet!P385))","v":0},{"$f":"IFERROR(Worksheet!R385/Worksheet!O385,0)","v":0},{"$f":"Worksheet!Z385","v":0},{"$f":"Worksheet!Y385","v":0},0,{"$f":"IF(Worksheet!AG385=0,0,Worksheet!AG385/I367)","v":0},0,null,null,null,{"$f":"IFERROR(Worksheet!S385/Worksheet!P385,0)","v":0},{"$f":"IF(Worksheet!E385=\"\",\"\",Worksheet!E385)","v":""},{"$f":"IF(Worksheet!B385=\"\",\"\",Worksheet!B385)","v":""},{"$f":"IF(Worksheet!D385=\"\",\"\",Worksheet!D385)","v":""}]
[{"$f":"IF(ISBLANK(Worksheet!F386)=FALSE,VLOOKUP(Worksheet!A386,MeasureCode_Lookup,6,FALSE),\"\")","v":""},null,null,{"$f":"IFERROR(IF(Worksheet!U386=0,Worksheet!T386/I368,Worksheet!U386/R368),0)","v":0},"W Controlled",null,null,{"$f":"IF(N(Worksheet!P386)=0,N(Worksheet!O386),N(Worksheet!P386))","v":0},{"$f":"IFERROR(Worksheet!R386/Worksheet!O386,0)","v":0},{"$f":"Worksheet!Z386","v":0},{"$f":"Worksheet!Y386","v":0},0,{"$f":"IF(Worksheet!AG386=0,0,Worksheet!AG386/I368)","v":0},0,null,null,null,{"$f":"IFERROR(Worksheet!S386/Worksheet!P386,0)","v":0},{"$f":"IF(Worksheet!E386=\"\",\"\",Worksheet!E386)","v":""},{"$f":"IF(Worksheet!B386=\"\",\"\",Worksheet!B386)","v":""},{"$f":"IF(Worksheet!D386=\"\",\"\",Worksheet!D386)","v":""}]
[{"$f":"IF(ISBLANK(Worksheet!F387)=FALSE,VLOOKUP(Worksheet!A387,MeasureCode_Lookup,6,FALSE),\"\")","v":""},null,null,{"$f":"IFERROR(IF(Worksheet!U387=0,Worksheet!T387/I369,Worksheet!U387/R369),0)","v":0},"W Controlled",null,null,{"$f":"IF(N(Worksheet!P387)=0,N(Worksheet!O387),N(Worksheet!P387))","v":0},{"$f":"IFERROR(Worksheet!R387/Worksheet!O387,0)","v":0},{"$f":"Worksheet!Z387","v":0},{"$f":"Worksheet!Y387","v":0},0,{"$f":"IF(Worksheet!AG387=0,0,Worksheet!AG387/I369)","v":0},0,null,null,null,{"$f":"IFERROR(Worksheet!S387/Worksheet!P387,0)","v":0},{"$f":"IF(Worksheet!E387=\"\",\"\",Worksheet!E387)","v":""},{"$f":"IF(Worksheet!B387=\"\",\"\",Worksheet!B387)","v":""},{"$f":"IF(Worksheet!D387=\"\",\"\",Worksheet!D387)","v":""}]
[{"$f":"IF(ISBLANK(Worksheet!F388)=FALSE,VLOOKUP(Worksheet!A388,MeasureCode_Lookup,6,FALSE),\"\")","v":""},null,null,{"$f":"IFERROR(IF(Worksheet!U388=0,Worksheet!T388/I370,Worksheet!U388/R370),0)","v":0},"W Controlled",null,null,{"$f":"IF(N(Worksheet!P388)=0,N(Worksheet!O388),N(Worksheet!P388))","v":0},{"$f":"IFERROR(Worksheet!R388/Worksheet!O388,0)","v":0},{"$f":"Worksheet!Z388","v":0},{"$f":"Worksheet!Y388","v":0},0,{"$f":"IF(Worksheet!AG388=0,0,Worksheet!AG388/I370)","v":0},0,null,null,null,{"$f":"IFERROR(Worksheet!S388/Worksheet!P388,0)","v":0},{"$f":"IF(Worksheet!E388=\"\",\"\",Worksheet!E388)","v":""},{"$f":"IF(Worksheet!B388=\"\",\"\",Worksheet!B388)","v":""},{"$f":"IF(Worksheet!D388=\"\",\"\",Worksheet!D388)","v":""}]
[{"$f":"IF(ISBLANK(Worksheet!F389)=FALSE,VLOOKUP(Worksheet!A389,MeasureCode_Lookup,6,FALSE),\"\")","v":""},null,null,{"$f":"IFERROR(IF(Worksheet!U389=0,Worksheet!T389/I371,Worksheet!U389/R371),0)","v":0},"W Controlled",null,null,{"$f":"IF(N(Worksheet!P389)=0,N(Worksheet!O389),N(Worksheet!P389))","v":0},{"$f":"IFERROR(Worksheet!R389/Worksheet!O389,0)","v":0},{"$f":"Worksheet!Z389","v":0},{"$f":"Worksheet!Y389","v":0},0,{"$f":"IF(Worksheet!AG389=0,0,Worksheet!AG389/I371)","v":0},0,null,null,null,{"$f":"IFERROR(Worksheet!S389/Worksheet!P389,0)","v":0},{"$f":"IF(Worksheet!E389=\"\",\"\",Worksheet!E389)","v":""},{"$f":"IF(Worksheet!B389=\"\",\"\",Worksheet!B389)","v":""},{"$f":"IF(Worksheet!D389=\"\",\"\",Worksheet!D389)","v":""}]
[{"$f":"IF(ISBLANK(Worksheet!F390)=FALSE,VLOOKUP(Worksheet!A390,MeasureCode_Lookup,6,FALSE),\"\")","v":""},null,null,{"$f":"IFERROR(IF(Worksheet!U390=0,Worksheet!T390/I372,Worksheet!U390/R372),0)","v":0},"W Controlled",null,null,{"$f":"IF(N(Worksheet!P390)=0,N(Worksheet!O390),N(Worksheet!P390))","v":0},{"$f":"IFERROR(Worksheet!R390/Worksheet!O390,0)","v":0},{"$f":"Worksheet!Z390","v":0},{"$f":"Worksheet!Y390","v":0},0,{"$f":"IF(Worksheet!AG390=0,0,Worksheet!AG390/I372)","v":0},0,null,null,null,{"$f":"IFERROR(Worksheet!S390/Worksheet!P390,0)","v":0},{"$f":"IF(Worksheet!E390=\"\",\"\",Worksheet!E390)","v":""},{"$f":"IF(Worksheet!B390=\"\",\"\",Worksheet!B390)","v":""},{"$f":"IF(Worksheet!D390=\"\",\"\",Worksheet!D390)","v":""}]
[{"$f":"IF(ISBLANK(Worksheet!F391)=FALSE,VLOOKUP(Worksheet!A391,MeasureCode_Lookup,6,FALSE),\"\")","v":""},null,null,{"$f":"IFERROR(IF(Worksheet!U391=0,Worksheet!T391/I373,Worksheet!U391/R373),0)","v":0},"W Controlled",null,null,{"$f":"IF(N(Worksheet!P391)=0,N(Worksheet!O391),N(Worksheet!P391))","v":0},{"$f":"IFERROR(Worksheet!R391/Worksheet!O391,0)","v":0},{"$f":"Worksheet!Z391","v":0},{"$f":"Worksheet!Y391","v":0},0,{"$f":"IF(Worksheet!AG391=0,0,Worksheet!AG391/I373)","v":0},0,null,null,null,{"$f":"IFERROR(Worksheet!S391/Worksheet!P391,0)","v":0},{"$f":"IF(Worksheet!E391=\"\",\"\",Worksheet!E391)","v":""},{"$f":"IF(Worksheet!B391=\"\",\"\",Worksheet!B391)","v":""},{"$f":"IF(Worksheet!D391=\"\",\"\",Worksheet!D391)","v":""}]
[{"$f":"IF(ISBLANK(Worksheet!F392)=FALSE,VLOOKUP(Worksheet!A392,MeasureCode_Lookup,6,FALSE),\"\")","v":""},null,null,{"$f":"IFERROR(IF(Worksheet!U392=0,Worksheet!T392/I374,Worksheet!U392/R374),0)","v":0},"W Controlled",null,null,{"$f":"IF(N(Worksheet!P392)=0,N(Worksheet!O392),N(Worksheet!P392))","v":0},{"$f":"IFERROR(Worksheet!R392/Worksheet!O392,0)","v":0},{"$f":"Worksheet!Z392","v":0},{"$f":"Worksheet!Y392","v":0},0,{"$f":"IF(Worksheet!AG392=0,0,Worksheet!AG392/I374)","v":0},0,null,null,null,{"$f":"IFERROR(Worksheet!S392/Worksheet!P392,0)","v":0},{"$f":"IF(Worksheet!E392=\"\",\"\",Worksheet!E392)","v":""},{"$f":"IF(Worksheet!B392=\"\",\"\",Worksheet!B392)","v":""},{"$f":"IF(Worksheet!D392=\"\",\"\",Worksheet!D392)","v":""}]
[{"$f":"IF(ISBLANK(Worksheet!F393)=FALSE,VLOOKUP(Worksheet!A393,MeasureCode_Lookup,6,FALSE),\"\")","v":""},null,null,{"$f":"IFERROR(IF(Worksheet!U393=0,Worksheet!T393/I375,Worksheet!U393/R375),0)","v":0},"W Controlled",null,null,{"$f":"IF(N(Worksheet!P393)=0,N(Worksheet!O393),N(Worksheet!P393))","v":0},{"$f":"IFERROR(Worksheet!R393/Worksheet!O393,0)","v":0},{"$f":"Worksheet!Z393","v":0},{"$f":"Worksheet!Y393","v":0},0,{"$f":"IF(Worksheet!AG393=0,0,Worksheet!AG393/I375)","v":0},0,null,null,null,{"$f":"IFERROR(Worksheet!S393/Worksheet!P393,0)","v":0},{"$f":"IF(Worksheet!E393=\"\",\"\",Worksheet!E393)","v":""},{"$f":"IF(Worksheet!B393=\"\",\"\",Worksheet!B393)","v":""},{"$f":"IF(Worksheet!D393=\"\",\"\",Worksheet!D393)","v":""}]
[{"$f":"IF(ISBLANK(Worksheet!F394)=FALSE,VLOOKUP(Worksheet!A394,MeasureCode_Lookup,6,FALSE),\"\")","v":""},null,null,{"$f":"IFERROR(IF(Worksheet!U394=0,Worksheet!T394/I376,Worksheet!U394/R376),0)","v":0},"W Controlled",null,null,{"$f":"IF(N(Worksheet!P394)=0,N(Worksheet!O394),N(Worksheet!P394))","v":0},{"$f":"IFERROR(Worksheet!R394/Worksheet!O394,0)","v":0},{"$f":"Worksheet!Z394","v":0},{"$f":"Worksheet!Y394","v":0},0,{"$f":"IF(Worksheet!AG394=0,0,Worksheet!AG394/I376)","v":0},0,null,null,null,{"$f":"IFERROR(Worksheet!S394/Worksheet!P394,0)","v":0},{"$f":"IF(Worksheet!E394=\"\",\"\",Worksheet!E394)","v":""},{"$f":"IF(Worksheet!B394=\"\",\"\",Worksheet!B394)","v":""},{"$f":"IF(Worksheet!D394=\"\",\"\",Worksheet!D394)","v":""}]
[{"$f":"IF(ISBLANK(Worksheet!F395)=FALSE,VLOOKUP(Worksheet!A395,MeasureCode_Lookup,6,FALSE),\"\")","v":""},null,null,{"$f":"IFERROR(IF(Worksheet!U395=0,Worksheet!T395/I377,Worksheet!U395/R377),0)","v":0},"W Controlled",null,null,{"$f":"IF(N(Worksheet!P395)=0,N(Worksheet!O395),N(Worksheet!P395))","v":0},{"$f":"IFERROR(Worksheet!R395/Worksheet!O395,0)","v":0},{"$f":"Worksheet!Z395","v":0},{"$f":"Worksheet!Y395","v":0},0,{"$f":"IF(Worksheet!AG395=0,0,Worksheet!AG395/I377)","v":0},0,null,null,null,{"$f":"IFERROR(Worksheet!S395/Worksheet!P395,0)","v":0},{"$f":"IF(Worksheet!E395=\"\",\"\",Worksheet!E395)","v":""},{"$f":"IF(Worksheet!B395=\"\",\"\",Worksheet!B395)","v":""},{"$f":"IF(Worksheet!D395=\"\",\"\",Worksheet!D395)","v":""}]
[{"$f":"IF(ISBLANK(Worksheet!F396)=FALSE,VLOOKUP(Worksheet!A396,MeasureCode_Lookup,6,FALSE),\"\")","v":""},null,null,{"$f":"IFERROR(IF(Worksheet!U396=0,Worksheet!T396/I378,Worksheet!U396/R378),0)","v":0},"W Controlled",null,null,{"$f":"IF(N(Worksheet!P396)=0,N(Worksheet!O396),N(Worksheet!P396))","v":0},{"$f":"IFERROR(Worksheet!R396/Worksheet!O396,0)","v":0},{"$f":"Worksheet!Z396","v":0},{"$f":"Worksheet!Y396","v":0},0,{"$f":"IF(Worksheet!AG396=0,0,Worksheet!AG396/I378)","v":0},0,null,null,null,{"$f":"IFERROR(Worksheet!S396/Worksheet!P396,0)","v":0},{"$f":"IF(Worksheet!E396=\"\",\"\",Worksheet!E396)","v":""},{"$f":"IF(Worksheet!B396=\"\",\"\",Worksheet!B396)","v":""},{"$f":"IF(Worksheet!D396=\"\",\"\",Worksheet!D396)","v":""}]
[{"$f":"IF(ISBLANK(Worksheet!F397)=FALSE,VLOOKUP(Worksheet!A397,MeasureCode_Lookup,6,FALSE),\"\")","v":""},null,null,{"$f":"IFERROR(IF(Worksheet!U397=0,Worksheet!T397/I379,Worksheet!U397/R379),0)","v":0},"W Controlled",null,null,{"$f":"IF(N(Worksheet!P397)=0,N(Worksheet!O397),N(Worksheet!P397))","v":0},{"$f":"IFERROR(Worksheet!R397/Worksheet!O397,0)","v":0},{"$f":"Worksheet!Z397","v":0},{"$f":"Worksheet!Y397","v":0},0,{"$f":"IF(Worksheet!AG397=0,0,Worksheet!AG397/I379)","v":0},0,null,null,null,{"$f":"IFERROR(Worksheet!S397/Worksheet!P397,0)","v":0},{"$f":"IF(Worksheet!E397=\"\",\"\",Worksheet!E397)","v":""},{"$f":"IF(Worksheet!B397=\"\",\"\",Worksheet!B397)","v":""},{"$f":"IF(Worksheet!D397=\"\",\"\",Worksheet!D397)","v":""}]
[{"$f":"IF(ISBLANK(Worksheet!F398)=FALSE,VLOOKUP(Worksheet!A398,MeasureCode_Lookup,6,FALSE),\"\")","v":""},null,null,{"$f":"IFERROR(IF(Worksheet!U398=0,Worksheet!T398/I380,Worksheet!U398/R380),0)","v":0},"W Controlled",null,null,{"$f":"IF(N(Worksheet!P398)=0,N(Worksheet!O398),N(Worksheet!P398))","v":0},{"$f":"IFERROR(Worksheet!R398/Worksheet!O398,0)","v":0},{"$f":"Worksheet!Z398","v":0},{"$f":"Worksheet!Y398","v":0},0,{"$f":"IF(Worksheet!AG398=0,0,Worksheet!AG398/I380)","v":0},0,null,null,null,{"$f":"IFERROR(Worksheet!S398/Worksheet!P398,0)","v":0},{"$f":"IF(Worksheet!E398=\"\",\"\",Worksheet!E398)","v":""},{"$f":"IF(Worksheet!B398=\"\",\"\",Worksheet!B398)","v":""},{"$f":"IF(Worksheet!D398=\"\",\"\",Worksheet!D398)","v":""}]
[{"$f":"IF(ISBLANK(Worksheet!F399)=FALSE,VLOOKUP(Worksheet!A399,MeasureCode_Lookup,6,FALSE),\"\")","v":""},null,null,{"$f":"IFERROR(IF(Worksheet!U399=0,Worksheet!T399/I381,Worksheet!U399/R381),0)","v":0},"W Controlled",null,null,{"$f":"IF(N(Worksheet!P399)=0,N(Worksheet!O399),N(Worksheet!P399))","v":0},{"$f":"IFERROR(Worksheet!R399/Worksheet!O399,0)","v":0},{"$f":"Worksheet!Z399","v":0},{"$f":"Worksheet!Y399","v":0},0,{"$f":"IF(Worksheet!AG399=0,0,Worksheet!AG399/I381)","v":0},0,null,null,null,{"$f":"IFERROR(Worksheet!S399/Worksheet!P399,0)","v":0},{"$f":"IF(Worksheet!E399=\"\",\"\",Worksheet!E399)","v":""},{"$f":"IF(Worksheet!B399=\"\",\"\",Worksheet!B399)","v":""},{"$f":"IF(Worksheet!D399=\"\",\"\",Worksheet!D399)","v":""}]
[{"$f":"IF(ISBLANK(Worksheet!F400)=FALSE,VLOOKUP(Worksheet!A400,MeasureCode_Lookup,6,FALSE),\"\")","v":""},null,null,{"$f":"IFERROR(IF(Worksheet!U400=0,Worksheet!T400/I382,Worksheet!U400/R382),0)","v":0},"W Controlled",null,null,{"$f":"IF(N(Worksheet!P400)=0,N(Worksheet!O400),N(Worksheet!P400))","v":0},{"$f":"IFERROR(Worksheet!R400/Worksheet!O400,0)","v":0},{"$f":"Worksheet!Z400","v":0},{"$f":"Worksheet!Y400","v":0},0,{"$f":"IF(Worksheet!AG400=0,0,Worksheet!AG400/I382)","v":0},0,null,null,null,{"$f":"IFERROR(Worksheet!S400/Worksheet!P400,0)","v":0},{"$f":"IF(Worksheet!E400=\"\",\"\",Worksheet!E400)","v":""},{"$f":"IF(Worksheet!B400=\"\",\"\",Worksheet!B400)","v":""},{"$f":"IF(Worksheet!D400=\"\",\"\",Worksheet!D400)","v":""}]
[{"$f":"IF(ISBLANK(Worksheet!F401)=FALSE,VLOOKUP(Worksheet!A401,MeasureCode_Lookup,6,FALSE),\"\")","v":""},null,null,{"$f":"IFERROR(IF(Worksheet!U401=0,Worksheet!T401/I383,Worksheet!U401/R383),0)","v":0},"W Controlled",null,null,{"$f":"IF(N(Worksheet!P401)=0,N(Worksheet!O401),N(Worksheet!P401))","v":0},{"$f":"IFERROR(Worksheet!R401/Worksheet!O401,0)","v":0},{"$f":"Worksheet!Z401","v":0},{"$f":"Worksheet!Y401","v":0},0,{"$f":"IF(Worksheet!AG401=0,0,Worksheet!AG401/I383)","v":0},0,null,null,null,{"$f":"IFERROR(Worksheet!S401/Worksheet!P401,0)","v":0},{"$f":"IF(Worksheet!E401=\"\",\"\",Worksheet!E401)","v":""},{"$f":"IF(Worksheet!B401=\"\",\"\",Worksheet!B401)","v":""},{"$f":"IF(Worksheet!D401=\"\",\"\",Worksheet!D401)","v":""}]
[{"$f":"IF(ISBLANK(Worksheet!F402)=FALSE,VLOOKUP(Worksheet!A402,MeasureCode_Lookup,6,FALSE),\"\")","v":""},null,null,{"$f":"IFERROR(IF(Worksheet!U402=0,Worksheet!T402/I384,Worksheet!U402/R384),0)","v":0},"W Controlled",null,null,{"$f":"IF(N(Worksheet!P402)=0,N(Worksheet!O402),N(Worksheet!P402))","v":0},{"$f":"IFERROR(Worksheet!R402/Worksheet!O402,0)","v":0},{"$f":"Worksheet!Z402","v":0},{"$f":"Worksheet!Y402","v":0},0,{"$f":"IF(Worksheet!AG402=0,0,Worksheet!AG402/I384)","v":0},0,null,null,null,{"$f":"IFERROR(Worksheet!S402/Worksheet!P402,0)","v":0},{"$f":"IF(Worksheet!E402=\"\",\"\",Worksheet!E402)","v":""},{"$f":"IF(Worksheet!B402=\"\",\"\",Worksheet!B402)","v":""},{"$f":"IF(Worksheet!D402=\"\",\"\",Worksheet!D402)","v":""}]
[{"$f":"IF(ISBLANK(Worksheet!F403)=FALSE,VLOOKUP(Worksheet!A403,MeasureCode_Lookup,6,FALSE),\"\")","v":""},null,null,{"$f":"IFERROR(IF(Worksheet!U403=0,Worksheet!T403/I385,Worksheet!U403/R385),0)","v":0},"W Controlled",null,null,{"$f":"IF(N(Worksheet!P403)=0,N(Worksheet!O403),N(Worksheet!P403))","v":0},{"$f":"IFERROR(Worksheet!R403/Worksheet!O403,0)","v":0},{"$f":"Worksheet!Z403","v":0},{"$f":"Worksheet!Y403","v":0},0,{"$f":"IF(Worksheet!AG403=0,0,Worksheet!AG403/I385)","v":0},0,null,null,null,{"$f":"IFERROR(Worksheet!S403/Worksheet!P403,0)","v":0},{"$f":"IF(Worksheet!E403=\"\",\"\",Worksheet!E403)","v":""},{"$f":"IF(Worksheet!B403=\"\",\"\",Worksheet!B403)","v":""},{"$f":"IF(Worksheet!D403=\"\",\"\",Worksheet!D403)","v":""}]
[{"$f":"IF(ISBLANK(Worksheet!F404)=FALSE,VLOOKUP(Worksheet!A404,MeasureCode_Lookup,6,FALSE),\"\")","v":""},null,null,{"$f":"IFERROR(IF(Worksheet!U404=0,Worksheet!T404/I386,Worksheet!U404/R386),0)","v":0},"W Controlled",null,null,{"$f":"IF(N(Worksheet!P404)=0,N(Worksheet!O404),N(Worksheet!P404))","v":0},{"$f":"IFERROR(Worksheet!R404/Worksheet!O404,0)","v":0},{"$f":"Worksheet!Z404","v":0},{"$f":"Worksheet!Y404","v":0},0,{"$f":"IF(Worksheet!AG404=0,0,Worksheet!AG404/I386)","v":0},0,null,null,null,{"$f":"IFERROR(Worksheet!S404/Worksheet!P404,0)","v":0},{"$f":"IF(Worksheet!E404=\"\",\"\",Worksheet!E404)","v":""},{"$f":"IF(Worksheet!B404=\"\",\"\",Worksheet!B404)","v":""},{"$f":"IF(Worksheet!D404=\"\",\"\",Worksheet!D404)","v":""}]
[{"$f":"IF(ISBLANK(Worksheet!F405)=FALSE,VLOOKUP(Worksheet!A405,MeasureCode_Lookup,6,FALSE),\"\")","v":""},null,null,{"$f":"IFERROR(IF(Worksheet!U405=0,Worksheet!T405/I387,Worksheet!U405/R387),0)","v":0},"W Controlled",null,null,{"$f":"IF(N(Worksheet!P405)=0,N(Worksheet!O405),N(Worksheet!P405))","v":0},{"$f":"IFERROR(Worksheet!R405/Worksheet!O405,0)","v":0},{"$f":"Worksheet!Z405","v":0},{"$f":"Worksheet!Y405","v":0},{"$f":"J387*8","v":0},{"$f":"IF(Worksheet!AG405=0,0,Worksheet!AG405/I387)","v":0},{"$f":"M387*8","v":0},null,null,null,{"$f":"IFERROR(Worksheet!S405/Worksheet!P405,0)","v":0},{"$f":"IF(Worksheet!E405=\"\",\"\",Worksheet!E405)","v":""},{"$f":"IF(Worksheet!B405=\"\",\"\",Worksheet!B405)","v":""},{"$f":"IF(Worksheet!D405=\"\",\"\",Worksheet!D405)","v":""}]
[{"$f":"IF(ISBLANK(Worksheet!F406)=FALSE,VLOOKUP(Worksheet!A406,MeasureCode_Lookup,6,FALSE),\"\")","v":""},null,null,{"$f":"IFERROR(IF(Worksheet!U406=0,Worksheet!T406/I388,Worksheet!U406/R388),0)","v":0},"W Controlled",null,null,{"$f":"IF(N(Worksheet!P406)=0,N(Worksheet!O406),N(Worksheet!P406))","v":0},{"$f":"IFERROR(Worksheet!R406/Worksheet!O406,0)","v":0},{"$f":"Worksheet!Z406","v":0},{"$f":"Worksheet!Y406","v":0},0,{"$f":"IF(Worksheet!AG406=0,0,Worksheet!AG406/I388)","v":0},0,null,null,null,{"$f":"IFERROR(Worksheet!S406/Worksheet!P406,0)","v":0},{"$f":"IF(Worksheet!E406=\"\",\"\",Worksheet!E406)","v":""},{"$f":"IF(Worksheet!B406=\"\",\"\",Worksheet!B406)","v":""},{"$f":"IF(Worksheet!D406=\"\",\"\",Worksheet!D406)","v":""}]
[{"$f":"IF(ISBLANK(Worksheet!F407)=FALSE,VLOOKUP(Worksheet!A407,MeasureCode_Lookup,6,FALSE),\"\")","v":""},null,null,{"$f":"IFERROR(IF(Worksheet!U407=0,Worksheet!T407/I389,Worksheet!U407/R389),0)","v":0},"W Controlled",null,null,{"$f":"IF(N(Worksheet!P407)=0,N(Worksheet!O407),N(Worksheet!P407))","v":0},{"$f":"IFERROR(Worksheet!R407/Worksheet!O407,0)","v":0},{"$f":"Worksheet!Z407","v":0},{"$f":"Worksheet!Y407","v":0},0,{"$f":"IF(Worksheet!AG407=0,0,Worksheet!AG407/I389)","v":0},0,null,null,null,{"$f":"IFERROR(Worksheet!S407/Worksheet!P407,0)","v":0},{"$f":"IF(Worksheet!E407=\"\",\"\",Worksheet!E407)","v":""},{"$f":"IF(Worksheet!B407=\"\",\"\",Worksheet!B407)","v":""},{"$f":"IF(Worksheet!D407=\"\",\"\",Worksheet!D407)","v":""}]
[{"$f":"IF(ISBLANK(Worksheet!F408)=FALSE,VLOOKUP(Worksheet!A408,MeasureCode_Lookup,6,FALSE),\"\")","v":""},null,null,{"$f":"IFERROR(IF(Worksheet!U408=0,Worksheet!T408/I390,Worksheet!U408/R390),0)","v":0},"W Controlled",null,null,{"$f":"IF(N(Worksheet!P408)=0,N(Worksheet!O408),N(Worksheet!P408))","v":0},{"$f":"IFERROR(Worksheet!R408/Worksheet!O408,0)","v":0},{"$f":"Worksheet!Z408","v":0},{"$f":"Worksheet!Y408","v":0},0,{"$f":"IF(Worksheet!AG408=0,0,Worksheet!AG408/I390)","v":0},0,null,null,null,{"$f":"IFERROR(Worksheet!S408/Worksheet!P408,0)","v":0},{"$f":"IF(Worksheet!E408=\"\",\"\",Worksheet!E408)","v":""},{"$f":"IF(Worksheet!B408=\"\",\"\",Worksheet!B408)","v":""},{"$f":"IF(Worksheet!D408=\"\",\"\",Worksheet!D408)","v":""}]
[{"$f":"IF(ISBLANK(Worksheet!F409)=FALSE,VLOOKUP(Worksheet!A409,MeasureCode_Lookup,6,FALSE),\"\")","v":""},null,null,{"$f":"IFERROR(IF(Worksheet!U409=0,Worksheet!T409/I391,Worksheet!U409/R391),0)","v":0},"W Controlled",null,null,{"$f":"IF(N(Worksheet!P409)=0,N(Worksheet!O409),N(Worksheet!P409))","v":0},{"$f":"IFERROR(Worksheet!R409/Worksheet!O409,0)","v":0},{"$f":"Worksheet!Z409","v":0},{"$f":"Worksheet!Y409","v":0},0,{"$f":"IF(Worksheet!AG409=0,0,Worksheet!AG409/I391)","v":0},0,null,null,null,{"$f":"IFERROR(Worksheet!S409/Worksheet!P409,0)","v":0},{"$f":"IF(Worksheet!E409=\"\",\"\",Worksheet!E409)","v":""},{"$f":"IF(Worksheet!B409=\"\",\"\",Worksheet!B409)","v":""},{"$f":"IF(Worksheet!D409=\"\",\"\",Worksheet!D409)","v":""}]
[{"$f":"IF(ISBLANK(Worksheet!F410)=FALSE,VLOOKUP(Worksheet!A410,MeasureCode_Lookup,6,FALSE),\"\")","v":""},null,null,{"$f":"IFERROR(IF(Worksheet!U410=0,Worksheet!T410/I392,Worksheet!U410/R392),0)","v":0},"W Controlled",null,null,{"$f":"IF(N(Worksheet!P410)=0,N(Worksheet!O410),N(Worksheet!P410))","v":0},{"$f":"IFERROR(Worksheet!R410/Worksheet!O410,0)","v":0},{"$f":"Worksheet!Z410","v":0},{"$f":"Worksheet!Y410","v":0},0,{"$f":"IF(Worksheet!AG410=0,0,Worksheet!AG410/I392)","v":0},0,null,null,null,{"$f":"IFERROR(Worksheet!S410/Worksheet!P410,0)","v":0},{"$f":"IF(Worksheet!E410=\"\",\"\",Worksheet!E410)","v":""},{"$f":"IF(Worksheet!B410=\"\",\"\",Worksheet!B410)","v":""},{"$f":"IF(Worksheet!D410=\"\",\"\",Worksheet!D410)","v":""}]
[{"$f":"IF(ISBLANK(Worksheet!F411)=FALSE,VLOOKUP(Worksheet!A411,MeasureCode_Lookup,6,FALSE),\"\")","v":""},null,null,{"$f":"IFERROR(IF(Worksheet!U411=0,Worksheet!T411/I393,Worksheet!U411/R393),0)","v":0},"W Controlled",null,null,{"$f":"IF(N(Worksheet!P411)=0,N(Worksheet!O411),N(Worksheet!P411))","v":0},{"$f":"IFERROR(Worksheet!R411/Worksheet!O411,0)","v":0},{"$f":"Worksheet!Z411","v":0},{"$f":"Worksheet!Y411","v":0},0,{"$f":"IF(Worksheet!AG411=0,0,Worksheet!AG411/I393)","v":0},0,null,null,null,{"$f":"IFERROR(Worksheet!S411/Worksheet!P411,0)","v":0},{"$f":"IF(Worksheet!E411=\"\",\"\",Worksheet!E411)","v":""},{"$f":"IF(Worksheet!B411=\"\",\"\",Worksheet!B411)","v":""},{"$f":"IF(Worksheet!D411=\"\",\"\",Worksheet!D411)","v":""}]
[{"$f":"IF(ISBLANK(Worksheet!F412)=FALSE,VLOOKUP(Worksheet!A412,MeasureCode_Lookup,6,FALSE),\"\")","v":""},null,null,{"$f":"IFERROR(IF(Worksheet!U412=0,Worksheet!T412/I394,Worksheet!U412/R394),0)","v":0},"W Controlled",null,null,{"$f":"IF(N(Worksheet!P412)=0,N(Worksheet!O412),N(Worksheet!P412))","v":0},{"$f":"IFERROR(Worksheet!R412/Worksheet!O412,0)","v":0},{"$f":"Worksheet!Z412","v":0},{"$f":"Worksheet!Y412","v":0},0,{"$f":"IF(Worksheet!AG412=0,0,Worksheet!AG412/I394)","v":0},0,null,null,null,{"$f":"IFERROR(Worksheet!S412/Worksheet!P412,0)","v":0},{"$f":"IF(Worksheet!E412=\"\",\"\",Worksheet!E412)","v":""},{"$f":"IF(Worksheet!B412=\"\",\"\",Worksheet!B412)","v":""},{"$f":"IF(Worksheet!D412=\"\",\"\",Worksheet!D412)","v":""}]
[{"$f":"IF(ISBLANK(Worksheet!F413)=FALSE,VLOOKUP(Worksheet!A413,MeasureCode_Lookup,6,FALSE),\"\")","v":""},null,null,{"$f":"IFERROR(IF(Worksheet!U413=0,Worksheet!T413/I395,Worksheet!U413/R395),0)","v":0},"W Controlled",null,null,{"$f":"IF(N(Worksheet!P413)=0,N(Worksheet!O413),N(Worksheet!P413))","v":0},{"$f":"IFERROR(Worksheet!R413/Worksheet!O413,0)","v":0},{"$f":"Worksheet!Z413","v":0},{"$f":"Worksheet!Y413","v":0},0,{"$f":"IF(Worksheet!AG413=0,0,Worksheet!AG413/I395)","v":0},0,null,null,null,{"$f":"IFERROR(Worksheet!S413/Worksheet!P413,0)","v":0},{"$f":"IF(Worksheet!E413=\"\",\"\",Worksheet!E413)","v":""},{"$f":"IF(Worksheet!B413=\"\",\"\",Worksheet!B413)","v":""},{"$f":"IF(Worksheet!D413=\"\",\"\",Worksheet!D413)","v":""}]
[{"$f":"IF(ISBLANK(Worksheet!F414)=FALSE,VLOOKUP(Worksheet!A414,MeasureCode_Lookup,6,FALSE),\"\")","v":""},null,null,{"$f":"IFERROR(IF(Worksheet!U414=0,Worksheet!T414/I396,Worksheet!U414/R396),0)","v":0},"W Controlled",null,null,{"$f":"IF(N(Worksheet!P414)=0,N(Worksheet!O414),N(Worksheet!P414))","v":0},{"$f":"IFERROR(Worksheet!R414/Worksheet!O414,0)","v":0},{"$f":"Worksheet!Z414","v":0},{"$f":"Worksheet!Y414","v":0},0,{"$f":"IF(Worksheet!AG414=0,0,Worksheet!AG414/I396)","v":0},0,null,null,null,{"$f":"IFERROR(Worksheet!S414/Worksheet!P414,0)","v":0},{"$f":"IF(Worksheet!E414=\"\",\"\",Worksheet!E414)","v":""},{"$f":"IF(Worksheet!B414=\"\",\"\",Worksheet!B414)","v":""},{"$f":"IF(Worksheet!D414=\"\",\"\",Worksheet!D414)","v":""}]
[{"$f":"IF(ISBLANK(Worksheet!F415)=FALSE,VLOOKUP(Worksheet!A415,MeasureCode_Lookup,6,FALSE),\"\")","v":""},null,null,{"$f":"IFERROR(IF(Worksheet!U415=0,Worksheet!T415/I397,Worksheet!U415/R397),0)","v":0},"W Controlled",null,null,{"$f":"IF(N(Worksheet!P415)=0,N(Worksheet!O415),N(Worksheet!P415))","v":0},{"$f":"IFERROR(Worksheet!R415/Worksheet!O415,0)","v":0},{"$f":"Worksheet!Z415","v":0},{"$f":"Worksheet!Y415","v":0},0,{"$f":"IF(Worksheet!AG415=0,0,Worksheet!AG415/I397)","v":0},0,null,null,null,{"$f":"IFERROR(Worksheet!S415/Worksheet!P415,0)","v":0},{"$f":"IF(Worksheet!E415=\"\",\"\",Worksheet!E415)","v":""},{"$f":"IF(Worksheet!B415=\"\",\"\",Worksheet!B415)","v":""},{"$f":"IF(Worksheet!D415=\"\",\"\",Worksheet!D415)","v":""}]
[{"$f":"IF(ISBLANK(Worksheet!F416)=FALSE,VLOOKUP(Worksheet!A416,MeasureCode_Lookup,6,FALSE),\"\")","v":""},null,null,{"$f":"IFERROR(IF(Worksheet!U416=0,Worksheet!T416/I398,Worksheet!U416/R398),0)","v":0},"W Controlled",null,null,{"$f":"IF(N(Worksheet!P416)=0,N(Worksheet!O416),N(Worksheet!P416))","v":0},{"$f":"IFERROR(Worksheet!R416/Worksheet!O416,0)","v":0},{"$f":"Worksheet!Z416","v":0},{"$f":"Worksheet!Y416","v":0},0,{"$f":"IF(Worksheet!AG416=0,0,Worksheet!AG416/I398)","v":0},0,null,null,null,{"$f":"IFERROR(Worksheet!S416/Worksheet!P416,0)","v":0},{"$f":"IF(Worksheet!E416=\"\",\"\",Worksheet!E416)","v":""},{"$f":"IF(Worksheet!B416=\"\",\"\",Worksheet!B416)","v":""},{"$f":"IF(Worksheet!D416=\"\",\"\",Worksheet!D416)","v":""}]
[{"$f":"IF(ISBLANK(Worksheet!F417)=FALSE,VLOOKUP(Worksheet!A417,MeasureCode_Lookup,6,FALSE),\"\")","v":""},null,null,{"$f":"IFERROR(IF(Worksheet!U417=0,Worksheet!T417/I399,Worksheet!U417/R399),0)","v":0},"W Controlled",null,null,{"$f":"IF(N(Worksheet!P417)=0,N(Worksheet!O417),N(Worksheet!P417))","v":0},{"$f":"IFERROR(Worksheet!R417/Worksheet!O417,0)","v":0},{"$f":"Worksheet!Z417","v":0},{"$f":"Worksheet!Y417","v":0},0,{"$f":"IF(Worksheet!AG417=0,0,Worksheet!AG417/I399)","v":0},0,null,null,null,{"$f":"IFERROR(Worksheet!S417/Worksheet!P417,0)","v":0},{"$f":"IF(Worksheet!E417=\"\",\"\",Worksheet!E417)","v":""},{"$f":"IF(Worksheet!B417=\"\",\"\",Worksheet!B417)","v":""},{"$f":"IF(Worksheet!D417=\"\",\"\",Worksheet!D417)","v":""}]
[{"$f":"IF(ISBLANK(Worksheet!F418)=FALSE,VLOOKUP(Worksheet!A418,MeasureCode_Lookup,6,FALSE),\"\")","v":""},null,null,{"$f":"IFERROR(IF(Worksheet!U418=0,Worksheet!T418/I400,Worksheet!U418/R400),0)","v":0},"W Controlled",null,null,{"$f":"IF(N(Worksheet!P418)=0,N(Worksheet!O418),N(Worksheet!P418))","v":0},{"$f":"IFERROR(Worksheet!R418/Worksheet!O418,0)","v":0},{"$f":"Worksheet!Z418","v":0},{"$f":"Worksheet!Y418","v":0},0,{"$f":"IF(Worksheet!AG418=0,0,Worksheet!AG418/I400)","v":0},0,null,null,null,{"$f":"IFERROR(Worksheet!S418/Worksheet!P418,0)","v":0},{"$f":"IF(Worksheet!E418=\"\",\"\",Worksheet!E418)","v":""},{"$f":"IF(Worksheet!B418=\"\",\"\",Worksheet!B418)","v":""},{"$f":"IF(Worksheet!D418=\"\",\"\",Worksheet!D418)","v":""}]
[{"$f":"IF(ISBLANK(Worksheet!F419)=FALSE,VLOOKUP(Worksheet!A419,MeasureCode_Lookup,6,FALSE),\"\")","v":""},null,null,{"$f":"IFERROR(IF(Worksheet!U419=0,Worksheet!T419/I401,Worksheet!U419/R401),0)","v":0},"W Controlled",null,null,{"$f":"IF(N(Worksheet!P419)=0,N(Worksheet!O419),N(Worksheet!P419))","v":0},{"$f":"IFERROR(Worksheet!R419/Worksheet!O419,0)","v":0},{"$f":"Worksheet!Z419","v":0},{"$f":"Worksheet!Y419","v":0},0,{"$f":"IF(Worksheet!AG419=0,0,Worksheet!AG419/I401)","v":0},0,null,null,null,{"$f":"IFERROR(Worksheet!S419/Worksheet!P419,0)","v":0},{"$f":"IF(Worksheet!E419=\"\",\"\",Worksheet!E419)","v":""},{"$f":"IF(Worksheet!B419=\"\",\"\",Worksheet!B419)","v":""},{"$f":"IF(Worksheet!D419=\"\",\"\",Worksheet!D419)","v":""}]
[{"$f":"IF(ISBLANK(Worksheet!F420)=FALSE,VLOOKUP(Worksheet!A420,MeasureCode_Lookup,6,FALSE),\"\")","v":""},null,null,{"$f":"IFERROR(IF(Worksheet!U420=0,Worksheet!T420/I402,Worksheet!U420/R402),0)","v":0},"W Controlled",null,null,{"$f":"IF(N(Worksheet!P420)=0,N(Worksheet!O420),N(Worksheet!P420))","v":0},{"$f":"IFERROR(Worksheet!R420/Worksheet!O420,0)","v":0},{"$f":"Worksheet!Z420","v":0},{"$f":"Worksheet!Y420","v":0},0,{"$f":"IF(Worksheet!AG420=0,0,Worksheet!AG420/I402)","v":0},0,null,null,null,{"$f":"IFERROR(Worksheet!S420/Worksheet!P420,0)","v":0},{"$f":"IF(Worksheet!E420=\"\",\"\",Worksheet!E420)","v":""},{"$f":"IF(Worksheet!B420=\"\",\"\",Worksheet!B420)","v":""},{"$f":"IF(Worksheet!D420=\"\",\"\",Worksheet!D420)","v":""}]
[{"$f":"IF(ISBLANK(Worksheet!F421)=FALSE,VLOOKUP(Worksheet!A421,MeasureCode_Lookup,6,FALSE),\"\")","v":""},null,null,{"$f":"IFERROR(IF(Worksheet!U421=0,Worksheet!T421/I403,Worksheet!U421/R403),0)","v":0},"W Controlled",null,null,{"$f":"IF(N(Worksheet!P421)=0,N(Worksheet!O421),N(Worksheet!P421))","v":0},{"$f":"IFERROR(Worksheet!R421/Worksheet!O421,0)","v":0},{"$f":"Worksheet!Z421","v":0},{"$f":"Worksheet!Y421","v":0},0,{"$f":"IF(Worksheet!AG421=0,0,Worksheet!AG421/I403)","v":0},0,null,null,null,{"$f":"IFERROR(Worksheet!S421/Worksheet!P421,0)","v":0},{"$f":"IF(Worksheet!E421=\"\",\"\",Worksheet!E421)","v":""},{"$f":"IF(Worksheet!B421=\"\",\"\",Worksheet!B421)","v":""},{"$f":"IF(Worksheet!D421=\"\",\"\",Worksheet!D421)","v":""}]
[{"$f":"IF(ISBLANK(Worksheet!F422)=FALSE,VLOOKUP(Worksheet!A422,MeasureCode_Lookup,6,FALSE),\"\")","v":""},null,null,{"$f":"IFERROR(IF(Worksheet!U422=0,Worksheet!T422/I404,Worksheet!U422/R404),0)","v":0},"W Controlled",null,null,{"$f":"IF(N(Worksheet!P422)=0,N(Worksheet!O422),N(Worksheet!P422))","v":0},{"$f":"IFERROR(Worksheet!R422/Worksheet!O422,0)","v":0},{"$f":"Worksheet!Z422","v":0},{"$f":"Worksheet!Y422","v":0},0,{"$f":"IF(Worksheet!AG422=0,0,Worksheet!AG422/I404)","v":0},0,null,null,null,{"$f":"IFERROR(Worksheet!S422/Worksheet!P422,0)","v":0},{"$f":"IF(Worksheet!E422=\"\",\"\",Worksheet!E422)","v":""},{"$f":"IF(Worksheet!B422=\"\",\"\",Worksheet!B422)","v":""},{"$f":"IF(Worksheet!D422=\"\",\"\",Worksheet!D422)","v":""}]
[{"$f":"IF(ISBLANK(Worksheet!F423)=FALSE,VLOOKUP(Worksheet!A423,MeasureCode_Lookup,6,FALSE),\"\")","v":""},null,null,{"$f":"IFERROR(IF(Worksheet!U423=0,Worksheet!T423/I405,Worksheet!U423/R405),0)","v":0},"W Controlled",null,null,{"$f":"IF(N(Worksheet!P423)=0,N(Worksheet!O423),N(Worksheet!P423))","v":0},{"$f":"IFERROR(Worksheet!R423/Worksheet!O423,0)","v":0},{"$f":"Worksheet!Z423","v":0},{"$f":"Worksheet!Y423","v":0},0,{"$f":"IF(Worksheet!AG423=0,0,Worksheet!AG423/I405)","v":0},0,null,null,null,{"$f":"IFERROR(Worksheet!S423/Worksheet!P423,0)","v":0},{"$f":"IF(Worksheet!E423=\"\",\"\",Worksheet!E423)","v":""},{"$f":"IF(Worksheet!B423=\"\",\"\",Worksheet!B423)","v":""},{"$f":"IF(Worksheet!D423=\"\",\"\",Worksheet!D423)","v":""}]
[{"$f":"IF(ISBLANK(Worksheet!F424)=FALSE,VLOOKUP(Worksheet!A424,MeasureCode_Lookup,6,FALSE),\"\")","v":""},null,null,{"$f":"IFERROR(IF(Worksheet!U424=0,Worksheet!T424/I406,Worksheet!U424/R406),0)","v":0},"W Controlled",null,null,{"$f":"IF(N(Worksheet!P424)=0,N(Worksheet!O424),N(Worksheet!P424))","v":0},{"$f":"IFERROR(Worksheet!R424/Worksheet!O424,0)","v":0},{"$f":"Worksheet!Z424","v":0},{"$f":"Worksheet!Y424","v":0},0,{"$f":"IF(Worksheet!AG424=0,0,Worksheet!AG424/I406)","v":0},0,null,null,null,{"$f":"IFERROR(Worksheet!S424/Worksheet!P424,0)","v":0},{"$f":"IF(Worksheet!E424=\"\",\"\",Worksheet!E424)","v":""},{"$f":"IF(Worksheet!B424=\"\",\"\",Worksheet!B424)","v":""},{"$f":"IF(Worksheet!D424=\"\",\"\",Worksheet!D424)","v":""}]
[{"$f":"IF(ISBLANK(Worksheet!F425)=FALSE,VLOOKUP(Worksheet!A425,MeasureCode_Lookup,6,FALSE),\"\")","v":""},null,null,{"$f":"IFERROR(IF(Worksheet!U425=0,Worksheet!T425/I407,Worksheet!U425/R407),0)","v":0},"W Controlled",null,null,{"$f":"IF(N(Worksheet!P425)=0,N(Worksheet!O425),N(Worksheet!P425))","v":0},{"$f":"IFERROR(Worksheet!R425/Worksheet!O425,0)","v":0},{"$f":"Worksheet!Z425","v":0},{"$f":"Worksheet!Y425","v":0},0,{"$f":"IF(Worksheet!AG425=0,0,Worksheet!AG425/I407)","v":0},0,null,null,null,{"$f":"IFERROR(Worksheet!S425/Worksheet!P425,0)","v":0},{"$f":"IF(Worksheet!E425=\"\",\"\",Worksheet!E425)","v":""},{"$f":"IF(Worksheet!B425=\"\",\"\",Worksheet!B425)","v":""},{"$f":"IF(Worksheet!D425=\"\",\"\",Worksheet!D425)","v":""}]
[{"$f":"IF(ISBLANK(Worksheet!F426)=FALSE,VLOOKUP(Worksheet!A426,MeasureCode_Lookup,6,FALSE),\"\")","v":""},null,null,{"$f":"IFERROR(IF(Worksheet!U426=0,Worksheet!T426/I408,Worksheet!U426/R408),0)","v":0},"W Controlled",null,null,{"$f":"IF(N(Worksheet!P426)=0,N(Worksheet!O426),N(Worksheet!P426))","v":0},{"$f":"IFERROR(Worksheet!R426/Worksheet!O426,0)","v":0},{"$f":"Worksheet!Z426","v":0},{"$f":"Worksheet!Y426","v":0},0,{"$f":"IF(Worksheet!AG426=0,0,Worksheet!AG426/I408)","v":0},0,null,null,null,{"$f":"IFERROR(Worksheet!S426/Worksheet!P426,0)","v":0},{"$f":"IF(Worksheet!E426=\"\",\"\",Worksheet!E426)","v":""},{"$f":"IF(Worksheet!B426=\"\",\"\",Worksheet!B426)","v":""},{"$f":"IF(Worksheet!D426=\"\",\"\",Worksheet!D426)","v":""}]
[{"$f":"IF(ISBLANK(Worksheet!F427)=FALSE,VLOOKUP(Worksheet!A427,MeasureCode_Lookup,6,FALSE),\"\")","v":""},null,null,{"$f":"IFERROR(IF(Worksheet!U427=0,Worksheet!T427/I409,Worksheet!U427/R409),0)","v":0},"W Controlled",null,null,{"$f":"IF(N(Worksheet!P427)=0,N(Worksheet!O427),N(Worksheet!P427))","v":0},{"$f":"IFERROR(Worksheet!R427/Worksheet!O427,0)","v":0},{"$f":"Worksheet!Z427","v":0},{"$f":"Worksheet!Y427","v":0},0,{"$f":"IF(Worksheet!AG427=0,0,Worksheet!AG427/I409)","v":0},0,null,null,null,{"$f":"IFERROR(Worksheet!S427/Worksheet!P427,0)","v":0},{"$f":"IF(Worksheet!E427=\"\",\"\",Worksheet!E427)","v":""},{"$f":"IF(Worksheet!B427=\"\",\"\",Worksheet!B427)","v":""},{"$f":"IF(Worksheet!D427=\"\",\"\",Worksheet!D427)","v":""}]
[{"$f":"IF(ISBLANK(Worksheet!F428)=FALSE,VLOOKUP(Worksheet!A428,MeasureCode_Lookup,6,FALSE),\"\")","v":""},null,null,{"$f":"IFERROR(IF(Worksheet!U428=0,Worksheet!T428/I410,Worksheet!U428/R410),0)","v":0},"W Controlled",null,null,{"$f":"IF(N(Worksheet!P428)=0,N(Worksheet!O428),N(Worksheet!P428))","v":0},{"$f":"IFERROR(Worksheet!R428/Worksheet!O428,0)","v":0},{"$f":"Worksheet!Z428","v":0},{"$f":"Worksheet!Y428","v":0},0,{"$f":"IF(Worksheet!AG428=0,0,Worksheet!AG428/I410)","v":0},0,null,null,null,{"$f":"IFERROR(Worksheet!S428/Worksheet!P428,0)","v":0},{"$f":"IF(Worksheet!E428=\"\",\"\",Worksheet!E428)","v":""},{"$f":"IF(Worksheet!B428=\"\",\"\",Worksheet!B428)","v":""},{"$f":"IF(Worksheet!D428=\"\",\"\",Worksheet!D428)","v":""}]
[{"$f":"IF(ISBLANK(Worksheet!F429)=FALSE,VLOOKUP(Worksheet!A429,MeasureCode_Lookup,6,FALSE),\"\")","v":""},null,null,{"$f":"IFERROR(IF(Worksheet!U429=0,Worksheet!T429/I411,Worksheet!U429/R411),0)","v":0},"W Controlled",null,null,{"$f":"IF(N(Worksheet!P429)=0,N(Worksheet!O429),N(Worksheet!P429))","v":0},{"$f":"IFERROR(Worksheet!R429/Worksheet!O429,0)","v":0},{"$f":"Worksheet!Z429","v":0},{"$f":"Worksheet!Y429","v":0},0,{"$f":"IF(Worksheet!AG429=0,0,Worksheet!AG429/I411)","v":0},0,null,null,null,{"$f":"IFERROR(Worksheet!S429/Worksheet!P429,0)","v":0},{"$f":"IF(Worksheet!E429=\"\",\"\",Worksheet!E429)","v":""},{"$f":"IF(Worksheet!B429=\"\",\"\",Worksheet!B429)","v":""},{"$f":"IF(Worksheet!D429=\"\",\"\",Worksheet!D429)","v":""}]
[{"$f":"IF(ISBLANK(Worksheet!F430)=FALSE,VLOOKUP(Worksheet!A430,MeasureCode_Lookup,6,FALSE),\"\")","v":""},null,null,{"$f":"IFERROR(IF(Worksheet!U430=0,Worksheet!T430/I412,Worksheet!U430/R412),0)","v":0},"W Controlled",null,null,{"$f":"IF(N(Worksheet!P430)=0,N(Worksheet!O430),N(Worksheet!P430))","v":0},{"$f":"IFERROR(Worksheet!R430/Worksheet!O430,0)","v":0},{"$f":"Worksheet!Z430","v":0},{"$f":"Worksheet!Y430","v":0},0,{"$f":"IF(Worksheet!AG430=0,0,Worksheet!AG430/I412)","v":0},0,null,null,null,{"$f":"IFERROR(Worksheet!S430/Worksheet!P430,0)","v":0},{"$f":"IF(Worksheet!E430=\"\",\"\",Worksheet!E430)","v":""},{"$f":"IF(Worksheet!B430=\"\",\"\",Worksheet!B430)","v":""},{"$f":"IF(Worksheet!D430=\"\",\"\",Worksheet!D430)","v":""}]
[{"$f":"IF(ISBLANK(Worksheet!F431)=FALSE,VLOOKUP(Worksheet!A431,MeasureCode_Lookup,6,FALSE),\"\")","v":""},null,null,{"$f":"IFERROR(IF(Worksheet!U431=0,Worksheet!T431/I413,Worksheet!U431/R413),0)","v":0},"W Controlled",null,null,{"$f":"IF(N(Worksheet!P431)=0,N(Worksheet!O431),N(Worksheet!P431))","v":0},{"$f":"IFERROR(Worksheet!R431/Worksheet!O431,0)","v":0},{"$f":"Worksheet!Z431","v":0},{"$f":"Worksheet!Y431","v":0},0,{"$f":"IF(Worksheet!AG431=0,0,Worksheet!AG431/I413)","v":0},0,null,null,null,{"$f":"IFERROR(Worksheet!S431/Worksheet!P431,0)","v":0},{"$f":"IF(Worksheet!E431=\"\",\"\",Worksheet!E431)","v":""},{"$f":"IF(Worksheet!B431=\"\",\"\",Worksheet!B431)","v":""},{"$f":"IF(Worksheet!D431=\"\",\"\",Worksheet!D431)","v":""}]
[{"$f":"IF(ISBLANK(Worksheet!F432)=FALSE,VLOOKUP(Worksheet!A432,MeasureCode_Lookup,6,FALSE),\"\")","v":""},null,null,{"$f":"IFERROR(IF(Worksheet!U432=0,Worksheet!T432/I414,Worksheet!U432/R414),0)","v":0},"W Controlled",null,null,{"$f":"IF(N(Worksheet!P432)=0,N(Worksheet!O432),N(Worksheet!P432))","v":0},{"$f":"IFERROR(Worksheet!R432/Worksheet!O432,0)","v":0},{"$f":"Worksheet!Z432","v":0},{"$f":"Worksheet!Y432","v":0},0,{"$f":"IF(Worksheet!AG432=0,0,Worksheet!AG432/I414)","v":0},0,null,null,null,{"$f":"IFERROR(Worksheet!S432/Worksheet!P432,0)","v":0},{"$f":"IF(Worksheet!E432=\"\",\"\",Worksheet!E432)","v":""},{"$f":"IF(Worksheet!B432=\"\",\"\",Worksheet!B432)","v":""},{"$f":"IF(Worksheet!D432=\"\",\"\",Worksheet!D432)","v":""}]
[{"$f":"IF(ISBLANK(Worksheet!F433)=FALSE,VLOOKUP(Worksheet!A433,MeasureCode_Lookup,6,FALSE),\"\")","v":""},null,null,{"$f":"IFERROR(IF(Worksheet!U433=0,Worksheet!T433/I415,Worksheet!U433/R415),0)","v":0},"W Controlled",null,null,{"$f":"IF(N(Worksheet!P433)=0,N(Worksheet!O433),N(Worksheet!P433))","v":0},{"$f":"IFERROR(Worksheet!R433/Worksheet!O433,0)","v":0},{"$f":"Worksheet!Z433","v":0},{"$f":"Worksheet!Y433","v":0},0,{"$f":"IF(Worksheet!AG433=0,0,Worksheet!AG433/I415)","v":0},0,null,null,null,{"$f":"IFERROR(Worksheet!S433/Worksheet!P433,0)","v":0},{"$f":"IF(Worksheet!E433=\"\",\"\",Worksheet!E433)","v":""},{"$f":"IF(Worksheet!B433=\"\",\"\",Worksheet!B433)","v":""},{"$f":"IF(Worksheet!D433=\"\",\"\",Worksheet!D433)","v":""}]
[{"$f":"IF(ISBLANK(Worksheet!F434)=FALSE,VLOOKUP(Worksheet!A434,MeasureCode_Lookup,6,FALSE),\"\")","v":""},null,null,{"$f":"IFERROR(IF(Worksheet!U434=0,Worksheet!T434/I416,Worksheet!U434/R416),0)","v":0},"W Controlled",null,null,{"$f":"IF(N(Worksheet!P434)=0,N(Worksheet!O434),N(Worksheet!P434))","v":0},{"$f":"IFERROR(Worksheet!R434/Worksheet!O434,0)","v":0},{"$f":"Worksheet!Z434","v":0},{"$f":"Worksheet!Y434","v":0},0,{"$f":"IF(Worksheet!AG434=0,0,Worksheet!AG434/I416)","v":0},0,null,null,null,{"$f":"IFERROR(Worksheet!S434/Worksheet!P434,0)","v":0},{"$f":"IF(Worksheet!E434=\"\",\"\",Worksheet!E434)","v":""},{"$f":"IF(Worksheet!B434=\"\",\"\",Worksheet!B434)","v":""},{"$f":"IF(Worksheet!D434=\"\",\"\",Worksheet!D434)","v":""}]
[{"$f":"IF(ISBLANK(Worksheet!F435)=FALSE,VLOOKUP(Worksheet!A435,MeasureCode_Lookup,6,FALSE),\"\")","v":""},null,null,{"$f":"IFERROR(IF(Worksheet!U435=0,Worksheet!T435/I417,Worksheet!U435/R417),0)","v":0},"W Controlled",null,null,{"$f":"IF(N(Worksheet!P435)=0,N(Worksheet!O435),N(Worksheet!P435))","v":0},{"$f":"IFERROR(Worksheet!R435/Worksheet!O435,0)","v":0},{"$f":"Worksheet!Z435","v":0},{"$f":"Worksheet!Y435","v":0},0,{"$f":"IF(Worksheet!AG435=0,0,Worksheet!AG435/I417)","v":0},0,null,null,null,{"$f":"IFERROR(Worksheet!S435/Worksheet!P435,0)","v":0},{"$f":"IF(Worksheet!E435=\"\",\"\",Worksheet!E435)","v":""},{"$f":"IF(Worksheet!B435=\"\",\"\",Worksheet!B435)","v":""},{"$f":"IF(Worksheet!D435=\"\",\"\",Worksheet!D435)","v":""}]
[{"$f":"IF(ISBLANK(Worksheet!F436)=FALSE,VLOOKUP(Worksheet!A436,MeasureCode_Lookup,6,FALSE),\"\")","v":""},null,null,{"$f":"IFERROR(IF(Worksheet!U436=0,Worksheet!T436/I418,Worksheet!U436/R418),0)","v":0},"W Controlled",null,null,{"$f":"IF(N(Worksheet!P436)=0,N(Worksheet!O436),N(Worksheet!P436))","v":0},{"$f":"IFERROR(Worksheet!R436/Worksheet!O436,0)","v":0},{"$f":"Worksheet!Z436","v":0},{"$f":"Worksheet!Y436","v":0},0,{"$f":"IF(Worksheet!AG436=0,0,Worksheet!AG436/I418)","v":0},0,null,null,null,{"$f":"IFERROR(Worksheet!S436/Worksheet!P436,0)","v":0},{"$f":"IF(Worksheet!E436=\"\",\"\",Worksheet!E436)","v":""},{"$f":"IF(Worksheet!B436=\"\",\"\",Worksheet!B436)","v":""},{"$f":"IF(Worksheet!D436=\"\",\"\",Worksheet!D436)","v":""}]
[{"$f":"IF(ISBLANK(Worksheet!F437)=FALSE,VLOOKUP(Worksheet!A437,MeasureCode_Lookup,6,FALSE),\"\")","v":""},null,null,{"$f":"IFERROR(IF(Worksheet!U437=0,Worksheet!T437/I419,Worksheet!U437/R419),0)","v":0},"W Controlled",null,null,{"$f":"IF(N(Worksheet!P437)=0,N(Worksheet!O437),N(Worksheet!P437))","v":0},{"$f":"IFERROR(Worksheet!R437/Worksheet!O437,0)","v":0},{"$f":"Worksheet!Z437","v":0},{"$f":"Worksheet!Y437","v":0},0,{"$f":"IF(Worksheet!AG437=0,0,Worksheet!AG437/I419)","v":0},0,null,null,null,{"$f":"IFERROR(Worksheet!S437/Worksheet!P437,0)","v":0},{"$f":"IF(Worksheet!E437=\"\",\"\",Worksheet!E437)","v":""},{"$f":"IF(Worksheet!B437=\"\",\"\",Worksheet!B437)","v":""},{"$f":"IF(Worksheet!D437=\"\",\"\",Worksheet!D437)","v":""}]
[{"$f":"IF(ISBLANK(Worksheet!F438)=FALSE,VLOOKUP(Worksheet!A438,MeasureCode_Lookup,6,FALSE),\"\")","v":""},null,null,{"$f":"IFERROR(IF(Worksheet!U438=0,Worksheet!T438/I420,Worksheet!U438/R420),0)","v":0},"W Controlled",null,null,{"$f":"IF(N(Worksheet!P438)=0,N(Worksheet!O438),N(Worksheet!P438))","v":0},{"$f":"IFERROR(Worksheet!R438/Worksheet!O438,0)","v":0},{"$f":"Worksheet!Z438","v":0},{"$f":"Worksheet!Y438","v":0},0,{"$f":"IF(Worksheet!AG438=0,0,Worksheet!AG438/I420)","v":0},0,null,null,null,{"$f":"IFERROR(Worksheet!S438/Worksheet!P438,0)","v":0},{"$f":"IF(Worksheet!E438=\"\",\"\",Worksheet!E438)","v":""},{"$f":"IF(Worksheet!B438=\"\",\"\",Worksheet!B438)","v":""},{"$f":"IF(Worksheet!D438=\"\",\"\",Worksheet!D438)","v":""}]
[{"$f":"IF(ISBLANK(Worksheet!F439)=FALSE,VLOOKUP(Worksheet!A439,MeasureCode_Lookup,6,FALSE),\"\")","v":""},null,null,{"$f":"IFERROR(IF(Worksheet!U439=0,Worksheet!T439/I421,Worksheet!U439/R421),0)","v":0},"W Controlled",null,null,{"$f":"IF(N(Worksheet!P439)=0,N(Worksheet!O439),N(Worksheet!P439))","v":0},{"$f":"IFERROR(Worksheet!R439/Worksheet!O439,0)","v":0},{"$f":"Worksheet!Z439","v":0},{"$f":"Worksheet!Y439","v":0},0,{"$f":"IF(Worksheet!AG439=0,0,Worksheet!AG439/I421)","v":0},0,null,null,null,{"$f":"IFERROR(Worksheet!S439/Worksheet!P439,0)","v":0},{"$f":"IF(Worksheet!E439=\"\",\"\",Worksheet!E439)","v":""},{"$f":"IF(Worksheet!B439=\"\",\"\",Worksheet!B439)","v":""},{"$f":"IF(Worksheet!D439=\"\",\"\",Worksheet!D439)","v":""}]
[{"$f":"IF(ISBLANK(Worksheet!F440)=FALSE,VLOOKUP(Worksheet!A440,MeasureCode_Lookup,6,FALSE),\"\")","v":""},null,null,{"$f":"IFERROR(IF(Worksheet!U440=0,Worksheet!T440/I422,Worksheet!U440/R422),0)","v":0},"W Controlled",null,null,{"$f":"IF(N(Worksheet!P440)=0,N(Worksheet!O440),N(Worksheet!P440))","v":0},{"$f":"IFERROR(Worksheet!R440/Worksheet!O440,0)","v":0},{"$f":"Worksheet!Z440","v":0},{"$f":"Worksheet!Y440","v":0},0,{"$f":"IF(Worksheet!AG440=0,0,Worksheet!AG440/I422)","v":0},0,null,null,null,{"$f":"IFERROR(Worksheet!S440/Worksheet!P440,0)","v":0},{"$f":"IF(Worksheet!E440=\"\",\"\",Worksheet!E440)","v":""},{"$f":"IF(Worksheet!B440=\"\",\"\",Worksheet!B440)","v":""},{"$f":"IF(Worksheet!D440=\"\",\"\",Worksheet!D440)","v":""}]
[{"$f":"IF(ISBLANK(Worksheet!F441)=FALSE,VLOOKUP(Worksheet!A441,MeasureCode_Lookup,6,FALSE),\"\")","v":""},null,null,{"$f":"IFERROR(IF(Worksheet!U441=0,Worksheet!T441/I423,Worksheet!U441/R423),0)","v":0},"W Controlled",null,null,{"$f":"IF(N(Worksheet!P441)=0,N(Worksheet!O441),N(Worksheet!P441))","v":0},{"$f":"IFERROR(Worksheet!R441/Worksheet!O441,0)","v":0},{"$f":"Worksheet!Z441","v":0},{"$f":"Worksheet!Y441","v":0},0,{"$f":"IF(Worksheet!AG441=0,0,Worksheet!AG441/I423)","v":0},0,null,null,null,{"$f":"IFERROR(Worksheet!S441/Worksheet!P441,0)","v":0},{"$f":"IF(Worksheet!E441=\"\",\"\",Worksheet!E441)","v":""},{"$f":"IF(Worksheet!B441=\"\",\"\",Worksheet!B441)","v":""},{"$f":"IF(Worksheet!D441=\"\",\"\",Worksheet!D441)","v":""}]
[{"$f":"IF(ISBLANK(Worksheet!F442)=FALSE,VLOOKUP(Worksheet!A442,MeasureCode_Lookup,6,FALSE),\"\")","v":""},null,null,{"$f":"IFERROR(IF(Worksheet!U442=0,Worksheet!T442/I424,Worksheet!U442/R424),0)","v":0},"W Controlled",null,null,{"$f":"IF(N(Worksheet!P442)=0,N(Worksheet!O442),N(Worksheet!P442))","v":0},{"$f":"IFERROR(Worksheet!R442/Worksheet!O442,0)","v":0},{"$f":"Worksheet!Z442","v":0},{"$f":"Worksheet!Y442","v":0},0,{"$f":"IF(Worksheet!AG442=0,0,Worksheet!AG442/I424)","v":0},0,null,null,null,{"$f":"IFERROR(Worksheet!S442/Worksheet!P442,0)","v":0},{"$f":"IF(Worksheet!E442=\"\",\"\",Worksheet!E442)","v":""},{"$f":"IF(Worksheet!B442=\"\",\"\",Worksheet!B442)","v":""},{"$f":"IF(Worksheet!D442=\"\",\"\",Worksheet!D442)","v":""}]
[{"$f":"IF(ISBLANK(Worksheet!F443)=FALSE,VLOOKUP(Worksheet!A443,MeasureCode_Lookup,6,FALSE),\"\")","v":""},null,null,{"$f":"IFERROR(IF(Worksheet!U443=0,Worksheet!T443/I425,Worksheet!U443/R425),0)","v":0},"W Controlled",null,null,{"$f":"IF(N(Worksheet!P443)=0,N(Worksheet!O443),N(Worksheet!P443))","v":0},{"$f":"IFERROR(Worksheet!R443/Worksheet!O443,0)","v":0},{"$f":"Worksheet!Z443","v":0},{"$f":"Worksheet!Y443","v":0},0,{"$f":"IF(Worksheet!AG443=0,0,Worksheet!AG443/I425)","v":0},0,null,null,null,{"$f":"IFERROR(Worksheet!S443/Worksheet!P443,0)","v":0},{"$f":"IF(Worksheet!E443=\"\",\"\",Worksheet!E443)","v":""},{"$f":"IF(Worksheet!B443=\"\",\"\",Worksheet!B443)","v":""},{"$f":"IF(Worksheet!D443=\"\",\"\",Worksheet!D443)","v":""}]
[{"$f":"IF(ISBLANK(Worksheet!F444)=FALSE,VLOOKUP(Worksheet!A444,MeasureCode_Lookup,6,FALSE),\"\")","v":""},null,null,{"$f":"IFERROR(IF(Worksheet!U444=0,Worksheet!T444/I426,Worksheet!U444/R426),0)","v":0},"W Controlled",null,null,{"$f":"IF(N(Worksheet!P444)=0,N(Worksheet!O444),N(Worksheet!P444))","v":0},{"$f":"IFERROR(Worksheet!R444/Worksheet!O444,0)","v":0},{"$f":"Worksheet!Z444","v":0},{"$f":"Worksheet!Y444","v":0},0,{"$f":"IF(Worksheet!AG444=0,0,Worksheet!AG444/I426)","v":0},0,null,null,null,{"$f":"IFERROR(Worksheet!S444/Worksheet!P444,0)","v":0},{"$f":"IF(Worksheet!E444=\"\",\"\",Worksheet!E444)","v":""},{"$f":"IF(Worksheet!B444=\"\",\"\",Worksheet!B444)","v":""},{"$f":"IF(Worksheet!D444=\"\",\"\",Worksheet!D444)","v":""}]
[{"$f":"IF(ISBLANK(Worksheet!F445)=FALSE,VLOOKUP(Worksheet!A445,MeasureCode_Lookup,6,FALSE),\"\")","v":""},null,null,{"$f":"IFERROR(IF(Worksheet!U445=0,Worksheet!T445/I427,Worksheet!U445/R427),0)","v":0},"W Controlled",null,null,{"$f":"IF(N(Worksheet!P445)=0,N(Worksheet!O445),N(Worksheet!P445))","v":0},{"$f":"IFERROR(Worksheet!R445/Worksheet!O445,0)","v":0},{"$f":"Worksheet!Z445","v":0},{"$f":"Worksheet!Y445","v":0},0,{"$f":"IF(Worksheet!AG445=0,0,Worksheet!AG445/I427)","v":0},0,null,null,null,{"$f":"IFERROR(Worksheet!S445/Worksheet!P445,0)","v":0},{"$f":"IF(Worksheet!E445=\"\",\"\",Worksheet!E445)","v":""},{"$f":"IF(Worksheet!B445=\"\",\"\",Worksheet!B445)","v":""},{"$f":"IF(Worksheet!D445=\"\",\"\",Worksheet!D445)","v":""}]
[{"$f":"IF(ISBLANK(Worksheet!F446)=FALSE,VLOOKUP(Worksheet!A446,MeasureCode_Lookup,6,FALSE),\"\")","v":""},null,null,{"$f":"IFERROR(IF(Worksheet!U446=0,Worksheet!T446/I428,Worksheet!U446/R428),0)","v":0},"W Controlled",null,null,{"$f":"IF(N(Worksheet!P446)=0,N(Worksheet!O446),N(Worksheet!P446))","v":0},{"$f":"IFERROR(Worksheet!R446/Worksheet!O446,0)","v":0},{"$f":"Worksheet!Z446","v":0},{"$f":"Worksheet!Y446","v":0},0,{"$f":"IF(Worksheet!AG446=0,0,Worksheet!AG446/I428)","v":0},0,null,null,null,{"$f":"IFERROR(Worksheet!S446/Worksheet!P446,0)","v":0},{"$f":"IF(Worksheet!E446=\"\",\"\",Worksheet!E446)","v":""},{"$f":"IF(Worksheet!B446=\"\",\"\",Worksheet!B446)","v":""},{"$f":"IF(Worksheet!D446=\"\",\"\",Worksheet!D446)","v":""}]
[{"$f":"IF(ISBLANK(Worksheet!F447)=FALSE,VLOOKUP(Worksheet!A447,MeasureCode_Lookup,6,FALSE),\"\")","v":""},null,null,{"$f":"IFERROR(IF(Worksheet!U447=0,Worksheet!T447/I429,Worksheet!U447/R429),0)","v":0},"W Controlled",null,null,{"$f":"IF(N(Worksheet!P447)=0,N(Worksheet!O447),N(Worksheet!P447))","v":0},{"$f":"IFERROR(Worksheet!R447/Worksheet!O447,0)","v":0},{"$f":"Worksheet!Z447","v":0},{"$f":"Worksheet!Y447","v":0},0,{"$f":"IF(Worksheet!AG447=0,0,Worksheet!AG447/I429)","v":0},0,null,null,null,{"$f":"IFERROR(Worksheet!S447/Worksheet!P447,0)","v":0},{"$f":"IF(Worksheet!E447=\"\",\"\",Worksheet!E447)","v":""},{"$f":"IF(Worksheet!B447=\"\",\"\",Worksheet!B447)","v":""},{"$f":"IF(Worksheet!D447=\"\",\"\",Worksheet!D447)","v":""}]
[{"$f":"IF(ISBLANK(Worksheet!F448)=FALSE,VLOOKUP(Worksheet!A448,MeasureCode_Lookup,6,FALSE),\"\")","v":""},null,null,{"$f":"IFERROR(IF(Worksheet!U448=0,Worksheet!T448/I430,Worksheet!U448/R430),0)","v":0},"W Controlled",null,null,{"$f":"IF(N(Worksheet!P448)=0,N(Worksheet!O448),N(Worksheet!P448))","v":0},{"$f":"IFERROR(Worksheet!R448/Worksheet!O448,0)","v":0},{"$f":"Worksheet!Z448","v":0},{"$f":"Worksheet!Y448","v":0},0,{"$f":"IF(Worksheet!AG448=0,0,Worksheet!AG448/I430)","v":0},0,null,null,null,{"$f":"IFERROR(Worksheet!S448/Worksheet!P448,0)","v":0},{"$f":"IF(Worksheet!E448=\"\",\"\",Worksheet!E448)","v":""},{"$f":"IF(Worksheet!B448=\"\",\"\",Worksheet!B448)","v":""},{"$f":"IF(Worksheet!D448=\"\",\"\",Worksheet!D448)","v":""}]
[{"$f":"IF(ISBLANK(Worksheet!F449)=FALSE,VLOOKUP(Worksheet!A449,MeasureCode_Lookup,6,FALSE),\"\")","v":""},null,null,{"$f":"IFERROR(IF(Worksheet!U449=0,Worksheet!T449/I431,Worksheet!U449/R431),0)","v":0},"W Controlled",null,null,{"$f":"IF(N(Worksheet!P449)=0,N(Worksheet!O449),N(Worksheet!P449))","v":0},{"$f":"IFERROR(Worksheet!R449/Worksheet!O449,0)","v":0},{"$f":"Worksheet!Z449","v":0},{"$f":"Worksheet!Y449","v":0},0,{"$f":"IF(Worksheet!AG449=0,0,Worksheet!AG449/I431)","v":0},0,null,null,null,{"$f":"IFERROR(Worksheet!S449/Worksheet!P449,0)","v":0},{"$f":"IF(Worksheet!E449=\"\",\"\",Worksheet!E449)","v":""},{"$f":"IF(Worksheet!B449=\"\",\"\",Worksheet!B449)","v":""},{"$f":"IF(Worksheet!D449=\"\",\"\",Worksheet!D449)","v":""}]
[{"$f":"IF(ISBLANK(Worksheet!F450)=FALSE,VLOOKUP(Worksheet!A450,MeasureCode_Lookup,6,FALSE),\"\")","v":""},null,null,{"$f":"IFERROR(IF(Worksheet!U450=0,Worksheet!T450/I432,Worksheet!U450/R432),0)","v":0},"W Controlled",null,null,{"$f":"IF(N(Worksheet!P450)=0,N(Worksheet!O450),N(Worksheet!P450))","v":0},{"$f":"IFERROR(Worksheet!R450/Worksheet!O450,0)","v":0},{"$f":"Worksheet!Z450","v":0},{"$f":"Worksheet!Y450","v":0},0,{"$f":"IF(Worksheet!AG450=0,0,Worksheet!AG450/I432)","v":0},0,null,null,null,{"$f":"IFERROR(Worksheet!S450/Worksheet!P450,0)","v":0},{"$f":"IF(Worksheet!E450=\"\",\"\",Worksheet!E450)","v":""},{"$f":"IF(Worksheet!B450=\"\",\"\",Worksheet!B450)","v":""},{"$f":"IF(Worksheet!D450=\"\",\"\",Worksheet!D450)","v":""}]
[{"$f":"IF(ISBLANK(Worksheet!F451)=FALSE,VLOOKUP(Worksheet!A451,MeasureCode_Lookup,6,FALSE),\"\")","v":""},null,null,{"$f":"IFERROR(IF(Worksheet!U451=0,Worksheet!T451/I433,Worksheet!U451/R433),0)","v":0},"W Controlled",null,null,{"$f":"IF(N(Worksheet!P451)=0,N(Worksheet!O451),N(Worksheet!P451))","v":0},{"$f":"IFERROR(Worksheet!R451/Worksheet!O451,0)","v":0},{"$f":"Worksheet!Z451","v":0},{"$f":"Worksheet!Y451","v":0},0,{"$f":"IF(Worksheet!AG451=0,0,Worksheet!AG451/I433)","v":0},0,null,null,null,{"$f":"IFERROR(Worksheet!S451/Worksheet!P451,0)","v":0},{"$f":"IF(Worksheet!E451=\"\",\"\",Worksheet!E451)","v":""},{"$f":"IF(Worksheet!B451=\"\",\"\",Worksheet!B451)","v":""},{"$f":"IF(Worksheet!D451=\"\",\"\",Worksheet!D451)","v":""}]
[{"$f":"IF(ISBLANK(Worksheet!F452)=FALSE,VLOOKUP(Worksheet!A452,MeasureCode_Lookup,6,FALSE),\"\")","v":""},null,null,{"$f":"IFERROR(IF(Worksheet!U452=0,Worksheet!T452/I434,Worksheet!U452/R434),0)","v":0},"W Controlled",null,null,{"$f":"IF(N(Worksheet!P452)=0,N(Worksheet!O452),N(Worksheet!P452))","v":0},{"$f":"IFERROR(Worksheet!R452/Worksheet!O452,0)","v":0},{"$f":"Worksheet!Z452","v":0},{"$f":"Worksheet!Y452","v":0},0,{"$f":"IF(Worksheet!AG452=0,0,Worksheet!AG452/I434)","v":0},0,null,null,null,{"$f":"IFERROR(Worksheet!S452/Worksheet!P452,0)","v":0},{"$f":"IF(Worksheet!E452=\"\",\"\",Worksheet!E452)","v":""},{"$f":"IF(Worksheet!B452=\"\",\"\",Worksheet!B452)","v":""},{"$f":"IF(Worksheet!D452=\"\",\"\",Worksheet!D452)","v":""}]
[{"$f":"IF(ISBLANK(Worksheet!F453)=FALSE,VLOOKUP(Worksheet!A453,MeasureCode_Lookup,6,FALSE),\"\")","v":""},null,null,{"$f":"IFERROR(IF(Worksheet!U453=0,Worksheet!T453/I435,Worksheet!U453/R435),0)","v":0},"W Controlled",null,null,{"$f":"IF(N(Worksheet!P453)=0,N(Worksheet!O453),N(Worksheet!P453))","v":0},{"$f":"IFERROR(Worksheet!R453/Worksheet!O453,0)","v":0},{"$f":"Worksheet!Z453","v":0},{"$f":"Worksheet!Y453","v":0},0,{"$f":"IF(Worksheet!AG453=0,0,Worksheet!AG453/I435)","v":0},0,null,null,null,{"$f":"IFERROR(Worksheet!S453/Worksheet!P453,0)","v":0},{"$f":"IF(Worksheet!E453=\"\",\"\",Worksheet!E453)","v":""},{"$f":"IF(Worksheet!B453=\"\",\"\",Worksheet!B453)","v":""},{"$f":"IF(Worksheet!D453=\"\",\"\",Worksheet!D453)","v":""}]
[{"$f":"IF(ISBLANK(Worksheet!F454)=FALSE,VLOOKUP(Worksheet!A454,MeasureCode_Lookup,6,FALSE),\"\")","v":""},null,null,{"$f":"IFERROR(IF(Worksheet!U454=0,Worksheet!T454/I436,Worksheet!U454/R436),0)","v":0},"W Controlled",null,null,{"$f":"IF(N(Worksheet!P454)=0,N(Worksheet!O454),N(Worksheet!P454))","v":0},{"$f":"IFERROR(Worksheet!R454/Worksheet!O454,0)","v":0},{"$f":"Worksheet!Z454","v":0},{"$f":"Worksheet!Y454","v":0},0,{"$f":"IF(Worksheet!AG454=0,0,Worksheet!AG454/I436)","v":0},0,null,null,null,{"$f":"IFERROR(Worksheet!S454/Worksheet!P454,0)","v":0},{"$f":"IF(Worksheet!E454=\"\",\"\",Worksheet!E454)","v":""},{"$f":"IF(Worksheet!B454=\"\",\"\",Worksheet!B454)","v":""},{"$f":"IF(Worksheet!D454=\"\",\"\",Worksheet!D454)","v":""}]
[{"$f":"IF(ISBLANK(Worksheet!F455)=FALSE,VLOOKUP(Worksheet!A455,MeasureCode_Lookup,6,FALSE),\"\")","v":""},null,null,{"$f":"IFERROR(IF(Worksheet!U455=0,Worksheet!T455/I437,Worksheet!U455/R437),0)","v":0},"W Controlled",null,null,{"$f":"IF(N(Worksheet!P455)=0,N(Worksheet!O455),N(Worksheet!P455))","v":0},{"$f":"IFERROR(Worksheet!R455/Worksheet!O455,0)","v":0},{"$f":"Worksheet!Z455","v":0},{"$f":"Worksheet!Y455","v":0},0,{"$f":"IF(Worksheet!AG455=0,0,Worksheet!AG455/I437)","v":0},0,null,null,null,{"$f":"IFERROR(Worksheet!S455/Worksheet!P455,0)","v":0},{"$f":"IF(Worksheet!E455=\"\",\"\",Worksheet!E455)","v":""},{"$f":"IF(Worksheet!B455=\"\",\"\",Worksheet!B455)","v":""},{"$f":"IF(Worksheet!D455=\"\",\"\",Worksheet!D455)","v":""}]
[{"$f":"IF(ISBLANK(Worksheet!F456)=FALSE,VLOOKUP(Worksheet!A456,MeasureCode_Lookup,6,FALSE),\"\")","v":""},null,null,{"$f":"IFERROR(IF(Worksheet!U456=0,Worksheet!T456/I438,Worksheet!U456/R438),0)","v":0},"W Controlled",null,null,{"$f":"IF(N(Worksheet!P456)=0,N(Worksheet!O456),N(Worksheet!P456))","v":0},{"$f":"IFERROR(Worksheet!R456/Worksheet!O456,0)","v":0},{"$f":"Worksheet!Z456","v":0},{"$f":"Worksheet!Y456","v":0},0,{"$f":"IF(Worksheet!AG456=0,0,Worksheet!AG456/I438)","v":0},0,null,null,null,{"$f":"IFERROR(Worksheet!S456/Worksheet!P456,0)","v":0},{"$f":"IF(Worksheet!E456=\"\",\"\",Worksheet!E456)","v":""},{"$f":"IF(Worksheet!B456=\"\",\"\",Worksheet!B456)","v":""},{"$f":"IF(Worksheet!D456=\"\",\"\",Worksheet!D456)","v":""}]
[{"$f":"IF(ISBLANK(Worksheet!F457)=FALSE,VLOOKUP(Worksheet!A457,MeasureCode_Lookup,6,FALSE),\"\")","v":""},null,null,{"$f":"IFERROR(IF(Worksheet!U457=0,Worksheet!T457/I439,Worksheet!U457/R439),0)","v":0},"W Controlled",null,null,{"$f":"IF(N(Worksheet!P457)=0,N(Worksheet!O457),N(Worksheet!P457))","v":0},{"$f":"IFERROR(Worksheet!R457/Worksheet!O457,0)","v":0},{"$f":"Worksheet!Z457","v":0},{"$f":"Worksheet!Y457","v":0},0,{"$f":"IF(Worksheet!AG457=0,0,Worksheet!AG457/I439)","v":0},0,null,null,null,{"$f":"IFERROR(Worksheet!S457/Worksheet!P457,0)","v":0},{"$f":"IF(Worksheet!E457=\"\",\"\",Worksheet!E457)","v":""},{"$f":"IF(Worksheet!B457=\"\",\"\",Worksheet!B457)","v":""},{"$f":"IF(Worksheet!D457=\"\",\"\",Worksheet!D457)","v":""}]
[{"$f":"IF(ISBLANK(Worksheet!F458)=FALSE,VLOOKUP(Worksheet!A458,MeasureCode_Lookup,6,FALSE),\"\")","v":""},null,null,{"$f":"IFERROR(IF(Worksheet!U458=0,Worksheet!T458/I440,Worksheet!U458/R440),0)","v":0},"W Controlled",null,null,{"$f":"IF(N(Worksheet!P458)=0,N(Worksheet!O458),N(Worksheet!P458))","v":0},{"$f":"IFERROR(Worksheet!R458/Worksheet!O458,0)","v":0},{"$f":"Worksheet!Z458","v":0},{"$f":"Worksheet!Y458","v":0},0,{"$f":"IF(Worksheet!AG458=0,0,Worksheet!AG458/I440)","v":0},0,null,null,null,{"$f":"IFERROR(Worksheet!S458/Worksheet!P458,0)","v":0},{"$f":"IF(Worksheet!E458=\"\",\"\",Worksheet!E458)","v":""},{"$f":"IF(Worksheet!B458=\"\",\"\",Worksheet!B458)","v":""},{"$f":"IF(Worksheet!D458=\"\",\"\",Worksheet!D458)","v":""}]
[{"$f":"IF(ISBLANK(Worksheet!F459)=FALSE,VLOOKUP(Worksheet!A459,MeasureCode_Lookup,6,FALSE),\"\")","v":""},null,null,{"$f":"IFERROR(IF(Worksheet!U459=0,Worksheet!T459/I441,Worksheet!U459/R441),0)","v":0},"W Controlled",null,null,{"$f":"IF(N(Worksheet!P459)=0,N(Worksheet!O459),N(Worksheet!P459))","v":0},{"$f":"IFERROR(Worksheet!R459/Worksheet!O459,0)","v":0},{"$f":"Worksheet!Z459","v":0},{"$f":"Worksheet!Y459","v":0},0,{"$f":"IF(Worksheet!AG459=0,0,Worksheet!AG459/I441)","v":0},0,null,null,null,{"$f":"IFERROR(Worksheet!S459/Worksheet!P459,0)","v":0},{"$f":"IF(Worksheet!E459=\"\",\"\",Worksheet!E459)","v":""},{"$f":"IF(Worksheet!B459=\"\",\"\",Worksheet!B459)","v":""},{"$f":"IF(Worksheet!D459=\"\",\"\",Worksheet!D459)","v":""}]
[{"$f":"IF(ISBLANK(Worksheet!F460)=FALSE,VLOOKUP(Worksheet!A460,MeasureCode_Lookup,6,FALSE),\"\")","v":""},null,null,{"$f":"IFERROR(IF(Worksheet!U460=0,Worksheet!T460/I442,Worksheet!U460/R442),0)","v":0},"W Controlled",null,null,{"$f":"IF(N(Worksheet!P460)=0,N(Worksheet!O460),N(Worksheet!P460))","v":0},{"$f":"IFERROR(Worksheet!R460/Worksheet!O460,0)","v":0},{"$f":"Worksheet!Z460","v":0},{"$f":"Worksheet!Y460","v":0},0,{"$f":"IF(Worksheet!AG460=0,0,Worksheet!AG460/I442)","v":0},0,null,null,null,{"$f":"IFERROR(Worksheet!S460/Worksheet!P460,0)","v":0},{"$f":"IF(Worksheet!E460=\"\",\"\",Worksheet!E460)","v":""},{"$f":"IF(Worksheet!B460=\"\",\"\",Worksheet!B460)","v":""},{"$f":"IF(Worksheet!D460=\"\",\"\",Worksheet!D460)","v":""}]
[{"$f":"IF(ISBLANK(Worksheet!F461)=FALSE,VLOOKUP(Worksheet!A461,MeasureCode_Lookup,6,FALSE),\"\")","v":""},null,null,{"$f":"IFERROR(IF(Worksheet!U461=0,Worksheet!T461/I443,Worksheet!U461/R443),0)","v":0},"W Controlled",null,null,{"$f":"IF(N(Worksheet!P461)=0,N(Worksheet!O461),N(Worksheet!P461))","v":0},{"$f":"IFERROR(Worksheet!R461/Worksheet!O461,0)","v":0},{"$f":"Worksheet!Z461","v":0},{"$f":"Worksheet!Y461","v":0},0,{"$f":"IF(Worksheet!AG461=0,0,Worksheet!AG461/I443)","v":0},0,null,null,null,{"$f":"IFERROR(Worksheet!S461/Worksheet!P461,0)","v":0},{"$f":"IF(Worksheet!E461=\"\",\"\",Worksheet!E461)","v":""},{"$f":"IF(Worksheet!B461=\"\",\"\",Worksheet!B461)","v":""},{"$f":"IF(Worksheet!D461=\"\",\"\",Worksheet!D461)","v":""}]
[{"$f":"IF(ISBLANK(Worksheet!F462)=FALSE,VLOOKUP(Worksheet!A462,MeasureCode_Lookup,6,FALSE),\"\")","v":""},null,null,{"$f":"IFERROR(IF(Worksheet!U462=0,Worksheet!T462/I444,Worksheet!U462/R444),0)","v":0},"W Controlled",null,null,{"$f":"IF(N(Worksheet!P462)=0,N(Worksheet!O462),N(Worksheet!P462))","v":0},{"$f":"IFERROR(Worksheet!R462/Worksheet!O462,0)","v":0},{"$f":"Worksheet!Z462","v":0},{"$f":"Worksheet!Y462","v":0},0,{"$f":"IF(Worksheet!AG462=0,0,Worksheet!AG462/I444)","v":0},0,null,null,null,{"$f":"IFERROR(Worksheet!S462/Worksheet!P462,0)","v":0},{"$f":"IF(Worksheet!E462=\"\",\"\",Worksheet!E462)","v":""},{"$f":"IF(Worksheet!B462=\"\",\"\",Worksheet!B462)","v":""},{"$f":"IF(Worksheet!D462=\"\",\"\",Worksheet!D462)","v":""}]
[{"$f":"IF(ISBLANK(Worksheet!F463)=FALSE,VLOOKUP(Worksheet!A463,MeasureCode_Lookup,6,FALSE),\"\")","v":""},null,null,{"$f":"IFERROR(IF(Worksheet!U463=0,Worksheet!T463/I445,Worksheet!U463/R445),0)","v":0},"W Controlled",null,null,{"$f":"IF(N(Worksheet!P463)=0,N(Worksheet!O463),N(Worksheet!P463))","v":0},{"$f":"IFERROR(Worksheet!R463/Worksheet!O463,0)","v":0},{"$f":"Worksheet!Z463","v":0},{"$f":"Worksheet!Y463","v":0},0,{"$f":"IF(Worksheet!AG463=0,0,Worksheet!AG463/I445)","v":0},0,null,null,null,{"$f":"IFERROR(Worksheet!S463/Worksheet!P463,0)","v":0},{"$f":"IF(Worksheet!E463=\"\",\"\",Worksheet!E463)","v":""},{"$f":"IF(Worksheet!B463=\"\",\"\",Worksheet!B463)","v":""},{"$f":"IF(Worksheet!D463=\"\",\"\",Worksheet!D463)","v":""}]
[{"$f":"IF(ISBLANK(Worksheet!F464)=FALSE,VLOOKUP(Worksheet!A464,MeasureCode_Lookup,6,FALSE),\"\")","v":""},null,null,{"$f":"IFERROR(IF(Worksheet!U464=0,Worksheet!T464/I446,Worksheet!U464/R446),0)","v":0},"W Controlled",null,null,{"$f":"IF(N(Worksheet!P464)=0,N(Worksheet!O464),N(Worksheet!P464))","v":0},{"$f":"IFERROR(Worksheet!R464/Worksheet!O464,0)","v":0},{"$f":"Worksheet!Z464","v":0},{"$f":"Worksheet!Y464","v":0},0,{"$f":"IF(Worksheet!AG464=0,0,Worksheet!AG464/I446)","v":0},0,null,null,null,{"$f":"IFERROR(Worksheet!S464/Worksheet!P464,0)","v":0},{"$f":"IF(Worksheet!E464=\"\",\"\",Worksheet!E464)","v":""},{"$f":"IF(Worksheet!B464=\"\",\"\",Worksheet!B464)","v":""},{"$f":"IF(Worksheet!D464=\"\",\"\",Worksheet!D464)","v":""}]
[{"$f":"IF(ISBLANK(Worksheet!F465)=FALSE,VLOOKUP(Worksheet!A465,MeasureCode_Lookup,6,FALSE),\"\")","v":""},null,null,{"$f":"IFERROR(IF(Worksheet!U465=0,Worksheet!T465/I447,Worksheet!U465/R447),0)","v":0},"W Controlled",null,null,{"$f":"IF(N(Worksheet!P465)=0,N(Worksheet!O465),N(Worksheet!P465))","v":0},{"$f":"IFERROR(Worksheet!R465/Worksheet!O465,0)","v":0},{"$f":"Worksheet!Z465","v":0},{"$f":"Worksheet!Y465","v":0},0,{"$f":"IF(Worksheet!AG465=0,0,Worksheet!AG465/I447)","v":0},0,null,null,null,{"$f":"IFERROR(Worksheet!S465/Worksheet!P465,0)","v":0},{"$f":"IF(Worksheet!E465=\"\",\"\",Worksheet!E465)","v":""},{"$f":"IF(Worksheet!B465=\"\",\"\",Worksheet!B465)","v":""},{"$f":"IF(Worksheet!D465=\"\",\"\",Worksheet!D465)","v":""}]
[{"$f":"IF(ISBLANK(Worksheet!F466)=FALSE,VLOOKUP(Worksheet!A466,MeasureCode_Lookup,6,FALSE),\"\")","v":""},null,null,{"$f":"IFERROR(IF(Worksheet!U466=0,Worksheet!T466/I448,Worksheet!U466/R448),0)","v":0},"W Controlled",null,null,{"$f":"IF(N(Worksheet!P466)=0,N(Worksheet!O466),N(Worksheet!P466))","v":0},{"$f":"IFERROR(Worksheet!R466/Worksheet!O466,0)","v":0},{"$f":"Worksheet!Z466","v":0},{"$f":"Worksheet!Y466","v":0},0,{"$f":"IF(Worksheet!AG466=0,0,Worksheet!AG466/I448)","v":0},0,null,null,null,{"$f":"IFERROR(Worksheet!S466/Worksheet!P466,0)","v":0},{"$f":"IF(Worksheet!E466=\"\",\"\",Worksheet!E466)","v":""},{"$f":"IF(Worksheet!B466=\"\",\"\",Worksheet!B466)","v":""},{"$f":"IF(Worksheet!D466=\"\",\"\",Worksheet!D466)","v":""}]
[{"$f":"IF(ISBLANK(Worksheet!F467)=FALSE,VLOOKUP(Worksheet!A467,MeasureCode_Lookup,6,FALSE),\"\")","v":""},null,null,{"$f":"IFERROR(IF(Worksheet!U467=0,Worksheet!T467/I449,Worksheet!U467/R449),0)","v":0},"W Controlled",null,null,{"$f":"IF(N(Worksheet!P467)=0,N(Worksheet!O467),N(Worksheet!P467))","v":0},{"$f":"IFERROR(Worksheet!R467/Worksheet!O467,0)","v":0},{"$f":"Worksheet!Z467","v":0},{"$f":"Worksheet!Y467","v":0},0,{"$f":"IF(Worksheet!AG467=0,0,Worksheet!AG467/I449)","v":0},0,null,null,null,{"$f":"IFERROR(Worksheet!S467/Worksheet!P467,0)","v":0},{"$f":"IF(Worksheet!E467=\"\",\"\",Worksheet!E467)","v":""},{"$f":"IF(Worksheet!B467=\"\",\"\",Worksheet!B467)","v":""},{"$f":"IF(Worksheet!D467=\"\",\"\",Worksheet!D467)","v":""}]
[{"$f":"IF(ISBLANK(Worksheet!F468)=FALSE,VLOOKUP(Worksheet!A468,MeasureCode_Lookup,6,FALSE),\"\")","v":""},null,null,{"$f":"IFERROR(IF(Worksheet!U468=0,Worksheet!T468/I450,Worksheet!U468/R450),0)","v":0},"W Controlled",null,null,{"$f":"IF(N(Worksheet!P468)=0,N(Worksheet!O468),N(Worksheet!P468))","v":0},{"$f":"IFERROR(Worksheet!R468/Worksheet!O468,0)","v":0},{"$f":"Worksheet!Z468","v":0},{"$f":"Worksheet!Y468","v":0},0,{"$f":"IF(Worksheet!AG468=0,0,Worksheet!AG468/I450)","v":0},0,null,null,null,{"$f":"IFERROR(Worksheet!S468/Worksheet!P468,0)","v":0},{"$f":"IF(Worksheet!E468=\"\",\"\",Worksheet!E468)","v":""},{"$f":"IF(Worksheet!B468=\"\",\"\",Worksheet!B468)","v":""},{"$f":"IF(Worksheet!D468=\"\",\"\",Worksheet!D468)","v":""}]
[{"$f":"IF(ISBLANK(Worksheet!F469)=FALSE,VLOOKUP(Worksheet!A469,MeasureCode_Lookup,6,FALSE),\"\")","v":""},null,null,{"$f":"IFERROR(IF(Worksheet!U469=0,Worksheet!T469/I451,Worksheet!U469/R451),0)","v":0},"W Controlled",null,null,{"$f":"IF(N(Worksheet!P469)=0,N(Worksheet!O469),N(Worksheet!P469))","v":0},{"$f":"IFERROR(Worksheet!R469/Worksheet!O469,0)","v":0},{"$f":"Worksheet!Z469","v":0},{"$f":"Worksheet!Y469","v":0},{"$f":"J451*8","v":0},{"$f":"IF(Worksheet!AG469=0,0,Worksheet!AG469/I451)","v":0},{"$f":"M451*8","v":0},null,null,null,{"$f":"IFERROR(Worksheet!S469/Worksheet!P469,0)","v":0},{"$f":"IF(Worksheet!E469=\"\",\"\",Worksheet!E469)","v":""},{"$f":"IF(Worksheet!B469=\"\",\"\",Worksheet!B469)","v":""},{"$f":"IF(Worksheet!D469=\"\",\"\",Worksheet!D469)","v":""}]
[{"$f":"IF(ISBLANK(Worksheet!F470)=FALSE,VLOOKUP(Worksheet!A470,MeasureCode_Lookup,6,FALSE),\"\")","v":""},null,null,{"$f":"IFERROR(IF(Worksheet!U470=0,Worksheet!T470/I452,Worksheet!U470/R452),0)","v":0},"W Controlled",null,null,{"$f":"IF(N(Worksheet!P470)=0,N(Worksheet!O470),N(Worksheet!P470))","v":0},{"$f":"IFERROR(Worksheet!R470/Worksheet!O470,0)","v":0},{"$f":"Worksheet!Z470","v":0},{"$f":"Worksheet!Y470","v":0},0,{"$f":"IF(Worksheet!AG470=0,0,Worksheet!AG470/I452)","v":0},0,null,null,null,{"$f":"IFERROR(Worksheet!S470/Worksheet!P470,0)","v":0},{"$f":"IF(Worksheet!E470=\"\",\"\",Worksheet!E470)","v":""},{"$f":"IF(Worksheet!B470=\"\",\"\",Worksheet!B470)","v":""},{"$f":"IF(Worksheet!D470=\"\",\"\",Worksheet!D470)","v":""}]
[{"$f":"IF(ISBLANK(Worksheet!F471)=FALSE,VLOOKUP(Worksheet!A471,MeasureCode_Lookup,6,FALSE),\"\")","v":""},null,null,{"$f":"IFERROR(IF(Worksheet!U471=0,Worksheet!T471/I453,Worksheet!U471/R453),0)","v":0},"W Controlled",null,null,{"$f":"IF(N(Worksheet!P471)=0,N(Worksheet!O471),N(Worksheet!P471))","v":0},{"$f":"IFERROR(Worksheet!R471/Worksheet!O471,0)","v":0},{"$f":"Worksheet!Z471","v":0},{"$f":"Worksheet!Y471","v":0},0,{"$f":"IF(Worksheet!AG471=0,0,Worksheet!AG471/I453)","v":0},0,null,null,null,{"$f":"IFERROR(Worksheet!S471/Worksheet!P471,0)","v":0},{"$f":"IF(Worksheet!E471=\"\",\"\",Worksheet!E471)","v":""},{"$f":"IF(Worksheet!B471=\"\",\"\",Worksheet!B471)","v":""},{"$f":"IF(Worksheet!D471=\"\",\"\",Worksheet!D471)","v":""}]
[{"$f":"IF(ISBLANK(Worksheet!F472)=FALSE,VLOOKUP(Worksheet!A472,MeasureCode_Lookup,6,FALSE),\"\")","v":""},null,null,{"$f":"IFERROR(IF(Worksheet!U472=0,Worksheet!T472/I454,Worksheet!U472/R454),0)","v":0},"W Controlled",null,null,{"$f":"IF(N(Worksheet!P472)=0,N(Worksheet!O472),N(Worksheet!P472))","v":0},{"$f":"IFERROR(Worksheet!R472/Worksheet!O472,0)","v":0},{"$f":"Worksheet!Z472","v":0},{"$f":"Worksheet!Y472","v":0},0,{"$f":"IF(Worksheet!AG472=0,0,Worksheet!AG472/I454)","v":0},0,null,null,null,{"$f":"IFERROR(Worksheet!S472/Worksheet!P472,0)","v":0},{"$f":"IF(Worksheet!E472=\"\",\"\",Worksheet!E472)","v":""},{"$f":"IF(Worksheet!B472=\"\",\"\",Worksheet!B472)","v":""},{"$f":"IF(Worksheet!D472=\"\",\"\",Worksheet!D472)","v":""}]
[{"$f":"IF(ISBLANK(Worksheet!F473)=FALSE,VLOOKUP(Worksheet!A473,MeasureCode_Lookup,6,FALSE),\"\")","v":""},null,null,{"$f":"IFERROR(IF(Worksheet!U473=0,Worksheet!T473/I455,Worksheet!U473/R455),0)","v":0},"W Controlled",null,null,{"$f":"IF(N(Worksheet!P473)=0,N(Worksheet!O473),N(Worksheet!P473))","v":0},{"$f":"IFERROR(Worksheet!R473/Worksheet!O473,0)","v":0},{"$f":"Worksheet!Z473","v":0},{"$f":"Worksheet!Y473","v":0},0,{"$f":"IF(Worksheet!AG473=0,0,Worksheet!AG473/I455)","v":0},0,null,null,null,{"$f":"IFERROR(Worksheet!S473/Worksheet!P473,0)","v":0},{"$f":"IF(Worksheet!E473=\"\",\"\",Worksheet!E473)","v":""},{"$f":"IF(Worksheet!B473=\"\",\"\",Worksheet!B473)","v":""},{"$f":"IF(Worksheet!D473=\"\",\"\",Worksheet!D473)","v":""}]
[{"$f":"IF(ISBLANK(Worksheet!F474)=FALSE,VLOOKUP(Worksheet!A474,MeasureCode_Lookup,6,FALSE),\"\")","v":""},null,null,{"$f":"IFERROR(IF(Worksheet!U474=0,Worksheet!T474/I456,Worksheet!U474/R456),0)","v":0},"W Controlled",null,null,{"$f":"IF(N(Worksheet!P474)=0,N(Worksheet!O474),N(Worksheet!P474))","v":0},{"$f":"IFERROR(Worksheet!R474/Worksheet!O474,0)","v":0},{"$f":"Worksheet!Z474","v":0},{"$f":"Worksheet!Y474","v":0},0,{"$f":"IF(Worksheet!AG474=0,0,Worksheet!AG474/I456)","v":0},0,null,null,null,{"$f":"IFERROR(Worksheet!S474/Worksheet!P474,0)","v":0},{"$f":"IF(Worksheet!E474=\"\",\"\",Worksheet!E474)","v":""},{"$f":"IF(Worksheet!B474=\"\",\"\",Worksheet!B474)","v":""},{"$f":"IF(Worksheet!D474=\"\",\"\",Worksheet!D474)","v":""}]
[{"$f":"IF(ISBLANK(Worksheet!F475)=FALSE,VLOOKUP(Worksheet!A475,MeasureCode_Lookup,6,FALSE),\"\")","v":""},null,null,{"$f":"IFERROR(IF(Worksheet!U475=0,Worksheet!T475/I457,Worksheet!U475/R457),0)","v":0},"W Controlled",null,null,{"$f":"IF(N(Worksheet!P475)=0,N(Worksheet!O475),N(Worksheet!P475))","v":0},{"$f":"IFERROR(Worksheet!R475/Worksheet!O475,0)","v":0},{"$f":"Worksheet!Z475","v":0},{"$f":"Worksheet!Y475","v":0},0,{"$f":"IF(Worksheet!AG475=0,0,Worksheet!AG475/I457)","v":0},0,null,null,null,{"$f":"IFERROR(Worksheet!S475/Worksheet!P475,0)","v":0},{"$f":"IF(Worksheet!E475=\"\",\"\",Worksheet!E475)","v":""},{"$f":"IF(Worksheet!B475=\"\",\"\",Worksheet!B475)","v":""},{"$f":"IF(Worksheet!D475=\"\",\"\",Worksheet!D475)","v":""}]
[{"$f":"IF(ISBLANK(Worksheet!F476)=FALSE,VLOOKUP(Worksheet!A476,MeasureCode_Lookup,6,FALSE),\"\")","v":""},null,null,{"$f":"IFERROR(IF(Worksheet!U476=0,Worksheet!T476/I458,Worksheet!U476/R458),0)","v":0},"W Controlled",null,null,{"$f":"IF(N(Worksheet!P476)=0,N(Worksheet!O476),N(Worksheet!P476))","v":0},{"$f":"IFERROR(Worksheet!R476/Worksheet!O476,0)","v":0},{"$f":"Worksheet!Z476","v":0},{"$f":"Worksheet!Y476","v":0},0,{"$f":"IF(Worksheet!AG476=0,0,Worksheet!AG476/I458)","v":0},0,null,null,null,{"$f":"IFERROR(Worksheet!S476/Worksheet!P476,0)","v":0},{"$f":"IF(Worksheet!E476=\"\",\"\",Worksheet!E476)","v":""},{"$f":"IF(Worksheet!B476=\"\",\"\",Worksheet!B476)","v":""},{"$f":"IF(Worksheet!D476=\"\",\"\",Worksheet!D476)","v":""}]
[{"$f":"IF(ISBLANK(Worksheet!F477)=FALSE,VLOOKUP(Worksheet!A477,MeasureCode_Lookup,6,FALSE),\"\")","v":""},null,null,{"$f":"IFERROR(IF(Worksheet!U477=0,Worksheet!T477/I459,Worksheet!U477/R459),0)","v":0},"W Controlled",null,null,{"$f":"IF(N(Worksheet!P477)=0,N(Worksheet!O477),N(Worksheet!P477))","v":0},{"$f":"IFERROR(Worksheet!R477/Worksheet!O477,0)","v":0},{"$f":"Worksheet!Z477","v":0},{"$f":"Worksheet!Y477","v":0},0,{"$f":"IF(Worksheet!AG477=0,0,Worksheet!AG477/I459)","v":0},0,null,null,null,{"$f":"IFERROR(Worksheet!S477/Worksheet!P477,0)","v":0},{"$f":"IF(Worksheet!E477=\"\",\"\",Worksheet!E477)","v":""},{"$f":"IF(Worksheet!B477=\"\",\"\",Worksheet!B477)","v":""},{"$f":"IF(Worksheet!D477=\"\",\"\",Worksheet!D477)","v":""}]
[{"$f":"IF(ISBLANK(Worksheet!F478)=FALSE,VLOOKUP(Worksheet!A478,MeasureCode_Lookup,6,FALSE),\"\")","v":""},null,null,{"$f":"IFERROR(IF(Worksheet!U478=0,Worksheet!T478/I460,Worksheet!U478/R460),0)","v":0},"W Controlled",null,null,{"$f":"IF(N(Worksheet!P478)=0,N(Worksheet!O478),N(Worksheet!P478))","v":0},{"$f":"IFERROR(Worksheet!R478/Worksheet!O478,0)","v":0},{"$f":"Worksheet!Z478","v":0},{"$f":"Worksheet!Y478","v":0},0,{"$f":"IF(Worksheet!AG478=0,0,Worksheet!AG478/I460)","v":0},0,null,null,null,{"$f":"IFERROR(Worksheet!S478/Worksheet!P478,0)","v":0},{"$f":"IF(Worksheet!E478=\"\",\"\",Worksheet!E478)","v":""},{"$f":"IF(Worksheet!B478=\"\",\"\",Worksheet!B478)","v":""},{"$f":"IF(Worksheet!D478=\"\",\"\",Worksheet!D478)","v":""}]
[{"$f":"IF(ISBLANK(Worksheet!F479)=FALSE,VLOOKUP(Worksheet!A479,MeasureCode_Lookup,6,FALSE),\"\")","v":""},null,null,{"$f":"IFERROR(IF(Worksheet!U479=0,Worksheet!T479/I461,Worksheet!U479/R461),0)","v":0},"W Controlled",null,null,{"$f":"IF(N(Worksheet!P479)=0,N(Worksheet!O479),N(Worksheet!P479))","v":0},{"$f":"IFERROR(Worksheet!R479/Worksheet!O479,0)","v":0},{"$f":"Worksheet!Z479","v":0},{"$f":"Worksheet!Y479","v":0},0,{"$f":"IF(Worksheet!AG479=0,0,Worksheet!AG479/I461)","v":0},0,null,null,null,{"$f":"IFERROR(Worksheet!S479/Worksheet!P479,0)","v":0},{"$f":"IF(Worksheet!E479=\"\",\"\",Worksheet!E479)","v":""},{"$f":"IF(Worksheet!B479=\"\",\"\",Worksheet!B479)","v":""},{"$f":"IF(Worksheet!D479=\"\",\"\",Worksheet!D479)","v":""}]
[{"$f":"IF(ISBLANK(Worksheet!F480)=FALSE,VLOOKUP(Worksheet!A480,MeasureCode_Lookup,6,FALSE),\"\")","v":""},null,null,{"$f":"IFERROR(IF(Worksheet!U480=0,Worksheet!T480/I462,Worksheet!U480/R462),0)","v":0},"W Controlled",null,null,{"$f":"IF(N(Worksheet!P480)=0,N(Worksheet!O480),N(Worksheet!P480))","v":0},{"$f":"IFERROR(Worksheet!R480/Worksheet!O480,0)","v":0},{"$f":"Worksheet!Z480","v":0},{"$f":"Worksheet!Y480","v":0},0,{"$f":"IF(Worksheet!AG480=0,0,Worksheet!AG480/I462)","v":0},0,null,null,null,{"$f":"IFERROR(Worksheet!S480/Worksheet!P480,0)","v":0},{"$f":"IF(Worksheet!E480=\"\",\"\",Worksheet!E480)","v":""},{"$f":"IF(Worksheet!B480=\"\",\"\",Worksheet!B480)","v":""},{"$f":"IF(Worksheet!D480=\"\",\"\",Worksheet!D480)","v":""}]
[{"$f":"IF(ISBLANK(Worksheet!F481)=FALSE,VLOOKUP(Worksheet!A481,MeasureCode_Lookup,6,FALSE),\"\")","v":""},null,null,{"$f":"IFERROR(IF(Worksheet!U481=0,Worksheet!T481/I463,Worksheet!U481/R463),0)","v":0},"W Controlled",null,null,{"$f":"IF(N(Worksheet!P481)=0,N(Worksheet!O481),N(Worksheet!P481))","v":0},{"$f":"IFERROR(Worksheet!R481/Worksheet!O481,0)","v":0},{"$f":"Worksheet!Z481","v":0},{"$f":"Worksheet!Y481","v":0},0,{"$f":"IF(Worksheet!AG481=0,0,Worksheet!AG481/I463)","v":0},0,null,null,null,{"$f":"IFERROR(Worksheet!S481/Worksheet!P481,0)","v":0},{"$f":"IF(Worksheet!E481=\"\",\"\",Worksheet!E481)","v":""},{"$f":"IF(Worksheet!B481=\"\",\"\",Worksheet!B481)","v":""},{"$f":"IF(Worksheet!D481=\"\",\"\",Worksheet!D481)","v":""}]
[{"$f":"IF(ISBLANK(Worksheet!F482)=FALSE,VLOOKUP(Worksheet!A482,MeasureCode_Lookup,6,FALSE),\"\")","v":""},null,null,{"$f":"IFERROR(IF(Worksheet!U482=0,Worksheet!T482/I464,Worksheet!U482/R464),0)","v":0},"W Controlled",null,null,{"$f":"IF(N(Worksheet!P482)=0,N(Worksheet!O482),N(Worksheet!P482))","v":0},{"$f":"IFERROR(Worksheet!R482/Worksheet!O482,0)","v":0},{"$f":"Worksheet!Z482","v":0},{"$f":"Worksheet!Y482","v":0},0,{"$f":"IF(Worksheet!AG482=0,0,Worksheet!AG482/I464)","v":0},0,null,null,null,{"$f":"IFERROR(Worksheet!S482/Worksheet!P482,0)","v":0},{"$f":"IF(Worksheet!E482=\"\",\"\",Worksheet!E482)","v":""},{"$f":"IF(Worksheet!B482=\"\",\"\",Worksheet!B482)","v":""},{"$f":"IF(Worksheet!D482=\"\",\"\",Worksheet!D482)","v":""}]
[{"$f":"IF(ISBLANK(Worksheet!F483)=FALSE,VLOOKUP(Worksheet!A483,MeasureCode_Lookup,6,FALSE),\"\")","v":""},null,null,{"$f":"IFERROR(IF(Worksheet!U483=0,Worksheet!T483/I465,Worksheet!U483/R465),0)","v":0},"W Controlled",null,null,{"$f":"IF(N(Worksheet!P483)=0,N(Worksheet!O483),N(Worksheet!P483))","v":0},{"$f":"IFERROR(Worksheet!R483/Worksheet!O483,0)","v":0},{"$f":"Worksheet!Z483","v":0},{"$f":"Worksheet!Y483","v":0},0,{"$f":"IF(Worksheet!AG483=0,0,Worksheet!AG483/I465)","v":0},0,null,null,null,{"$f":"IFERROR(Worksheet!S483/Worksheet!P483,0)","v":0},{"$f":"IF(Worksheet!E483=\"\",\"\",Worksheet!E483)","v":""},{"$f":"IF(Worksheet!B483=\"\",\"\",Worksheet!B483)","v":""},{"$f":"IF(Worksheet!D483=\"\",\"\",Worksheet!D483)","v":""}]
[{"$f":"IF(ISBLANK(Worksheet!F484)=FALSE,VLOOKUP(Worksheet!A484,MeasureCode_Lookup,6,FALSE),\"\")","v":""},null,null,{"$f":"IFERROR(IF(Worksheet!U484=0,Worksheet!T484/I466,Worksheet!U484/R466),0)","v":0},"W Controlled",null,null,{"$f":"IF(N(Worksheet!P484)=0,N(Worksheet!O484),N(Worksheet!P484))","v":0},{"$f":"IFERROR(Worksheet!R484/Worksheet!O484,0)","v":0},{"$f":"Worksheet!Z484","v":0},{"$f":"Worksheet!Y484","v":0},0,{"$f":"IF(Worksheet!AG484=0,0,Worksheet!AG484/I466)","v":0},0,null,null,null,{"$f":"IFERROR(Worksheet!S484/Worksheet!P484,0)","v":0},{"$f":"IF(Worksheet!E484=\"\",\"\",Worksheet!E484)","v":""},{"$f":"IF(Worksheet!B484=\"\",\"\",Worksheet!B484)","v":""},{"$f":"IF(Worksheet!D484=\"\",\"\",Worksheet!D484)","v":""}]
[{"$f":"IF(ISBLANK(Worksheet!F485)=FALSE,VLOOKUP(Worksheet!A485,MeasureCode_Lookup,6,FALSE),\"\")","v":""},null,null,{"$f":"IFERROR(IF(Worksheet!U485=0,Worksheet!T485/I467,Worksheet!U485/R467),0)","v":0},"W Controlled",null,null,{"$f":"IF(N(Worksheet!P485)=0,N(Worksheet!O485),N(Worksheet!P485))","v":0},{"$f":"IFERROR(Worksheet!R485/Worksheet!O485,0)","v":0},{"$f":"Worksheet!Z485","v":0},{"$f":"Worksheet!Y485","v":0},0,{"$f":"IF(Worksheet!AG485=0,0,Worksheet!AG485/I467)","v":0},0,null,null,null,{"$f":"IFERROR(Worksheet!S485/Worksheet!P485,0)","v":0},{"$f":"IF(Worksheet!E485=\"\",\"\",Worksheet!E485)","v":""},{"$f":"IF(Worksheet!B485=\"\",\"\",Worksheet!B485)","v":""},{"$f":"IF(Worksheet!D485=\"\",\"\",Worksheet!D485)","v":""}]
[{"$f":"IF(ISBLANK(Worksheet!F486)=FALSE,VLOOKUP(Worksheet!A486,MeasureCode_Lookup,6,FALSE),\"\")","v":""},null,null,{"$f":"IFERROR(IF(Worksheet!U486=0,Worksheet!T486/I468,Worksheet!U486/R468),0)","v":0},"W Controlled",null,null,{"$f":"IF(N(Worksheet!P486)=0,N(Worksheet!O486),N(Worksheet!P486))","v":0},{"$f":"IFERROR(Worksheet!R486/Worksheet!O486,0)","v":0},{"$f":"Worksheet!Z486","v":0},{"$f":"Worksheet!Y486","v":0},0,{"$f":"IF(Worksheet!AG486=0,0,Worksheet!AG486/I468)","v":0},0,null,null,null,{"$f":"IFERROR(Worksheet!S486/Worksheet!P486,0)","v":0},{"$f":"IF(Worksheet!E486=\"\",\"\",Worksheet!E486)","v":""},{"$f":"IF(Worksheet!B486=\"\",\"\",Worksheet!B486)","v":""},{"$f":"IF(Worksheet!D486=\"\",\"\",Worksheet!D486)","v":""}]
[{"$f":"IF(ISBLANK(Worksheet!F487)=FALSE,VLOOKUP(Worksheet!A487,MeasureCode_Lookup,6,FALSE),\"\")","v":""},null,null,{"$f":"IFERROR(IF(Worksheet!U487=0,Worksheet!T487/I469,Worksheet!U487/R469),0)","v":0},"W Controlled",null,null,{"$f":"IF(N(Worksheet!P487)=0,N(Worksheet!O487),N(Worksheet!P487))","v":0},{"$f":"IFERROR(Worksheet!R487/Worksheet!O487,0)","v":0},{"$f":"Worksheet!Z487","v":0},{"$f":"Worksheet!Y487","v":0},0,{"$f":"IF(Worksheet!AG487=0,0,Worksheet!AG487/I469)","v":0},0,null,null,null,{"$f":"IFERROR(Worksheet!S487/Worksheet!P487,0)","v":0},{"$f":"IF(Worksheet!E487=\"\",\"\",Worksheet!E487)","v":""},{"$f":"IF(Worksheet!B487=\"\",\"\",Worksheet!B487)","v":""},{"$f":"IF(Worksheet!D487=\"\",\"\",Worksheet!D487)","v":""}]
[{"$f":"IF(ISBLANK(Worksheet!F488)=FALSE,VLOOKUP(Worksheet!A488,MeasureCode_Lookup,6,FALSE),\"\")","v":""},null,null,{"$f":"IFERROR(IF(Worksheet!U488=0,Worksheet!T488/I470,Worksheet!U488/R470),0)","v":0},"W Controlled",null,null,{"$f":"IF(N(Worksheet!P488)=0,N(Worksheet!O488),N(Worksheet!P488))","v":0},{"$f":"IFERROR(Worksheet!R488/Worksheet!O488,0)","v":0},{"$f":"Worksheet!Z488","v":0},{"$f":"Worksheet!Y488","v":0},0,{"$f":"IF(Worksheet!AG488=0,0,Worksheet!AG488/I470)","v":0},0,null,null,null,{"$f":"IFERROR(Worksheet!S488/Worksheet!P488,0)","v":0},{"$f":"IF(Worksheet!E488=\"\",\"\",Worksheet!E488)","v":""},{"$f":"IF(Worksheet!B488=\"\",\"\",Worksheet!B488)","v":""},{"$f":"IF(Worksheet!D488=\"\",\"\",Worksheet!D488)","v":""}]
[{"$f":"IF(ISBLANK(Worksheet!F489)=FALSE,VLOOKUP(Worksheet!A489,MeasureCode_Lookup,6,FALSE),\"\")","v":""},null,null,{"$f":"IFERROR(IF(Worksheet!U489=0,Worksheet!T489/I471,Worksheet!U489/R471),0)","v":0},"W Controlled",null,null,{"$f":"IF(N(Worksheet!P489)=0,N(Worksheet!O489),N(Worksheet!P489))","v":0},{"$f":"IFERROR(Worksheet!R489/Worksheet!O489,0)","v":0},{"$f":"Worksheet!Z489","v":0},{"$f":"Worksheet!Y489","v":0},0,{"$f":"IF(Worksheet!AG489=0,0,Worksheet!AG489/I471)","v":0},0,null,null,null,{"$f":"IFERROR(Worksheet!S489/Worksheet!P489,0)","v":0},{"$f":"IF(Worksheet!E489=\"\",\"\",Worksheet!E489)","v":""},{"$f":"IF(Worksheet!B489=\"\",\"\",Worksheet!B489)","v":""},{"$f":"IF(Worksheet!D489=\"\",\"\",Worksheet!D489)","v":""}]
[{"$f":"IF(ISBLANK(Worksheet!F490)=FALSE,VLOOKUP(Worksheet!A490,MeasureCode_Lookup,6,FALSE),\"\")","v":""},null,null,{"$f":"IFERROR(IF(Worksheet!U490=0,Worksheet!T490/I472,Worksheet!U490/R472),0)","v":0},"W Controlled",null,null,{"$f":"IF(N(Worksheet!P490)=0,N(Worksheet!O490),N(Worksheet!P490))","v":0},{"$f":"IFERROR(Worksheet!R490/Worksheet!O490,0)","v":0},{"$f":"Worksheet!Z490","v":0},{"$f":"Worksheet!Y490","v":0},0,{"$f":"IF(Worksheet!AG490=0,0,Worksheet!AG490/I472)","v":0},0,null,null,null,{"$f":"IFERROR(Worksheet!S490/Worksheet!P490,0)","v":0},{"$f":"IF(Worksheet!E490=\"\",\"\",Worksheet!E490)","v":""},{"$f":"IF(Worksheet!B490=\"\",\"\",Worksheet!B490)","v":""},{"$f":"IF(Worksheet!D490=\"\",\"\",Worksheet!D490)","v":""}]
[{"$f":"IF(ISBLANK(Worksheet!F491)=FALSE,VLOOKUP(Worksheet!A491,MeasureCode_Lookup,6,FALSE),\"\")","v":""},null,null,{"$f":"IFERROR(IF(Worksheet!U491=0,Worksheet!T491/I473,Worksheet!U491/R473),0)","v":0},"W Controlled",null,null,{"$f":"IF(N(Worksheet!P491)=0,N(Worksheet!O491),N(Worksheet!P491))","v":0},{"$f":"IFERROR(Worksheet!R491/Worksheet!O491,0)","v":0},{"$f":"Worksheet!Z491","v":0},{"$f":"Worksheet!Y491","v":0},0,{"$f":"IF(Worksheet!AG491=0,0,Worksheet!AG491/I473)","v":0},0,null,null,null,{"$f":"IFERROR(Worksheet!S491/Worksheet!P491,0)","v":0},{"$f":"IF(Worksheet!E491=\"\",\"\",Worksheet!E491)","v":""},{"$f":"IF(Worksheet!B491=\"\",\"\",Worksheet!B491)","v":""},{"$f":"IF(Worksheet!D491=\"\",\"\",Worksheet!D491)","v":""}]
[{"$f":"IF(ISBLANK(Worksheet!F492)=FALSE,VLOOKUP(Worksheet!A492,MeasureCode_Lookup,6,FALSE),\"\")","v":""},null,null,{"$f":"IFERROR(IF(Worksheet!U492=0,Worksheet!T492/I474,Worksheet!U492/R474),0)","v":0},"W Controlled",null,null,{"$f":"IF(N(Worksheet!P492)=0,N(Worksheet!O492),N(Worksheet!P492))","v":0},{"$f":"IFERROR(Worksheet!R492/Worksheet!O492,0)","v":0},{"$f":"Worksheet!Z492","v":0},{"$f":"Worksheet!Y492","v":0},0,{"$f":"IF(Worksheet!AG492=0,0,Worksheet!AG492/I474)","v":0},0,null,null,null,{"$f":"IFERROR(Worksheet!S492/Worksheet!P492,0)","v":0},{"$f":"IF(Worksheet!E492=\"\",\"\",Worksheet!E492)","v":""},{"$f":"IF(Worksheet!B492=\"\",\"\",Worksheet!B492)","v":""},{"$f":"IF(Worksheet!D492=\"\",\"\",Worksheet!D492)","v":""}]
[{"$f":"IF(ISBLANK(Worksheet!F493)=FALSE,VLOOKUP(Worksheet!A493,MeasureCode_Lookup,6,FALSE),\"\")","v":""},null,null,{"$f":"IFERROR(IF(Worksheet!U493=0,Worksheet!T493/I475,Worksheet!U493/R475),0)","v":0},"W Controlled",null,null,{"$f":"IF(N(Worksheet!P493)=0,N(Worksheet!O493),N(Worksheet!P493))","v":0},{"$f":"IFERROR(Worksheet!R493/Worksheet!O493,0)","v":0},{"$f":"Worksheet!Z493","v":0},{"$f":"Worksheet!Y493","v":0},0,{"$f":"IF(Worksheet!AG493=0,0,Worksheet!AG493/I475)","v":0},0,null,null,null,{"$f":"IFERROR(Worksheet!S493/Worksheet!P493,0)","v":0},{"$f":"IF(Worksheet!E493=\"\",\"\",Worksheet!E493)","v":""},{"$f":"IF(Worksheet!B493=\"\",\"\",Worksheet!B493)","v":""},{"$f":"IF(Worksheet!D493=\"\",\"\",Worksheet!D493)","v":""}]
[{"$f":"IF(ISBLANK(Worksheet!F494)=FALSE,VLOOKUP(Worksheet!A494,MeasureCode_Lookup,6,FALSE),\"\")","v":""},null,null,{"$f":"IFERROR(IF(Worksheet!U494=0,Worksheet!T494/I476,Worksheet!U494/R476),0)","v":0},"W Controlled",null,null,{"$f":"IF(N(Worksheet!P494)=0,N(Worksheet!O494),N(Worksheet!P494))","v":0},{"$f":"IFERROR(Worksheet!R494/Worksheet!O494,0)","v":0},{"$f":"Worksheet!Z494","v":0},{"$f":"Worksheet!Y494","v":0},0,{"$f":"IF(Worksheet!AG494=0,0,Worksheet!AG494/I476)","v":0},0,null,null,null,{"$f":"IFERROR(Worksheet!S494/Worksheet!P494,0)","v":0},{"$f":"IF(Worksheet!E494=\"\",\"\",Worksheet!E494)","v":""},{"$f":"IF(Worksheet!B494=\"\",\"\",Worksheet!B494)","v":""},{"$f":"IF(Worksheet!D494=\"\",\"\",Worksheet!D494)","v":""}]
[{"$f":"IF(ISBLANK(Worksheet!F495)=FALSE,VLOOKUP(Worksheet!A495,MeasureCode_Lookup,6,FALSE),\"\")","v":""},null,null,{"$f":"IFERROR(IF(Worksheet!U495=0,Worksheet!T495/I477,Worksheet!U495/R477),0)","v":0},"W Controlled",null,null,{"$f":"IF(N(Worksheet!P495)=0,N(Worksheet!O495),N(Worksheet!P495))","v":0},{"$f":"IFERROR(Worksheet!R495/Worksheet!O495,0)","v":0},{"$f":"Worksheet!Z495","v":0},{"$f":"Worksheet!Y495","v":0},0,{"$f":"IF(Worksheet!AG495=0,0,Worksheet!AG495/I477)","v":0},0,null,null,null,{"$f":"IFERROR(Worksheet!S495/Worksheet!P495,0)","v":0},{"$f":"IF(Worksheet!E495=\"\",\"\",Worksheet!E495)","v":""},{"$f":"IF(Worksheet!B495=\"\",\"\",Worksheet!B495)","v":""},{"$f":"IF(Worksheet!D495=\"\",\"\",Worksheet!D495)","v":""}]
[{"$f":"IF(ISBLANK(Worksheet!F496)=FALSE,VLOOKUP(Worksheet!A496,MeasureCode_Lookup,6,FALSE),\"\")","v":""},null,null,{"$f":"IFERROR(IF(Worksheet!U496=0,Worksheet!T496/I478,Worksheet!U496/R478),0)","v":0},"W Controlled",null,null,{"$f":"IF(N(Worksheet!P496)=0,N(Worksheet!O496),N(Worksheet!P496))","v":0},{"$f":"IFERROR(Worksheet!R496/Worksheet!O496,0)","v":0},{"$f":"Worksheet!Z496","v":0},{"$f":"Worksheet!Y496","v":0},0,{"$f":"IF(Worksheet!AG496=0,0,Worksheet!AG496/I478)","v":0},0,null,null,null,{"$f":"IFERROR(Worksheet!S496/Worksheet!P496,0)","v":0},{"$f":"IF(Worksheet!E496=\"\",\"\",Worksheet!E496)","v":""},{"$f":"IF(Worksheet!B496=\"\",\"\",Worksheet!B496)","v":""},{"$f":"IF(Worksheet!D496=\"\",\"\",Worksheet!D496)","v":""}]
[{"$f":"IF(ISBLANK(Worksheet!F497)=FALSE,VLOOKUP(Worksheet!A497,MeasureCode_Lookup,6,FALSE),\"\")","v":""},null,null,{"$f":"IFERROR(IF(Worksheet!U497=0,Worksheet!T497/I479,Worksheet!U497/R479),0)","v":0},"W Controlled",null,null,{"$f":"IF(N(Worksheet!P497)=0,N(Worksheet!O497),N(Worksheet!P497))","v":0},{"$f":"IFERROR(Worksheet!R497/Worksheet!O497,0)","v":0},{"$f":"Worksheet!Z497","v":0},{"$f":"Worksheet!Y497","v":0},0,{"$f":"IF(Worksheet!AG497=0,0,Worksheet!AG497/I479)","v":0},0,null,null,null,{"$f":"IFERROR(Worksheet!S497/Worksheet!P497,0)","v":0},{"$f":"IF(Worksheet!E497=\"\",\"\",Worksheet!E497)","v":""},{"$f":"IF(Worksheet!B497=\"\",\"\",Worksheet!B497)","v":""},{"$f":"IF(Worksheet!D497=\"\",\"\",Worksheet!D497)","v":""}]
[{"$f":"IF(ISBLANK(Worksheet!F498)=FALSE,VLOOKUP(Worksheet!A498,MeasureCode_Lookup,6,FALSE),\"\")","v":""},null,null,{"$f":"IFERROR(IF(Worksheet!U498=0,Worksheet!T498/I480,Worksheet!U498/R480),0)","v":0},"W Controlled",null,null,{"$f":"IF(N(Worksheet!P498)=0,N(Worksheet!O498),N(Worksheet!P498))","v":0},{"$f":"IFERROR(Worksheet!R498/Worksheet!O498,0)","v":0},{"$f":"Worksheet!Z498","v":0},{"$f":"Worksheet!Y498","v":0},0,{"$f":"IF(Worksheet!AG498=0,0,Worksheet!AG498/I480)","v":0},0,null,null,null,{"$f":"IFERROR(Worksheet!S498/Worksheet!P498,0)","v":0},{"$f":"IF(Worksheet!E498=\"\",\"\",Worksheet!E498)","v":""},{"$f":"IF(Worksheet!B498=\"\",\"\",Worksheet!B498)","v":""},{"$f":"IF(Worksheet!D498=\"\",\"\",Worksheet!D498)","v":""}]
[{"$f":"IF(ISBLANK(Worksheet!F499)=FALSE,VLOOKUP(Worksheet!A499,MeasureCode_Lookup,6,FALSE),\"\")","v":""},null,null,{"$f":"IFERROR(IF(Worksheet!U499=0,Worksheet!T499/I481,Worksheet!U499/R481),0)","v":0},"W Controlled",null,null,{"$f":"IF(N(Worksheet!P499)=0,N(Worksheet!O499),N(Worksheet!P499))","v":0},{"$f":"IFERROR(Worksheet!R499/Worksheet!O499,0)","v":0},{"$f":"Worksheet!Z499","v":0},{"$f":"Worksheet!Y499","v":0},0,{"$f":"IF(Worksheet!AG499=0,0,Worksheet!AG499/I481)","v":0},0,null,null,null,{"$f":"IFERROR(Worksheet!S499/Worksheet!P499,0)","v":0},{"$f":"IF(Worksheet!E499=\"\",\"\",Worksheet!E499)","v":""},{"$f":"IF(Worksheet!B499=\"\",\"\",Worksheet!B499)","v":""},{"$f":"IF(Worksheet!D499=\"\",\"\",Worksheet!D499)","v":""}]
[{"$f":"IF(ISBLANK(Worksheet!F500)=FALSE,VLOOKUP(Worksheet!A500,MeasureCode_Lookup,6,FALSE),\"\")","v":""},null,null,{"$f":"IFERROR(IF(Worksheet!U500=0,Worksheet!T500/I482,Worksheet!U500/R482),0)","v":0},"W Controlled",null,null,{"$f":"IF(N(Worksheet!P500)=0,N(Worksheet!O500),N(Worksheet!P500))","v":0},{"$f":"IFERROR(Worksheet!R500/Worksheet!O500,0)","v":0},{"$f":"Worksheet!Z500","v":0},{"$f":"Worksheet!Y500","v":0},0,{"$f":"IF(Worksheet!AG500=0,0,Worksheet!AG500/I482)","v":0},0,null,null,null,{"$f":"IFERROR(Worksheet!S500/Worksheet!P500,0)","v":0},{"$f":"IF(Worksheet!E500=\"\",\"\",Worksheet!E500)","v":""},{"$f":"IF(Worksheet!B500=\"\",\"\",Worksheet!B500)","v":""},{"$f":"IF(Worksheet!D500=\"\",\"\",Worksheet!D500)","v":""}]
[{"$f":"IF(ISBLANK(Worksheet!F501)=FALSE,VLOOKUP(Worksheet!A501,MeasureCode_Lookup,6,FALSE),\"\")","v":""},null,null,{"$f":"IFERROR(IF(Worksheet!U501=0,Worksheet!T501/I483,Worksheet!U501/R483),0)","v":0},"W Controlled",null,null,{"$f":"IF(N(Worksheet!P501)=0,N(Worksheet!O501),N(Worksheet!P501))","v":0},{"$f":"IFERROR(Worksheet!R501/Worksheet!O501,0)","v":0},{"$f":"Worksheet!Z501","v":0},{"$f":"Worksheet!Y501","v":0},0,{"$f":"IF(Worksheet!AG501=0,0,Worksheet!AG501/I483)","v":0},0,null,null,null,{"$f":"IFERROR(Worksheet!S501/Worksheet!P501,0)","v":0},{"$f":"IF(Worksheet!E501=\"\",\"\",Worksheet!E501)","v":""},{"$f":"IF(Worksheet!B501=\"\",\"\",Worksheet!B501)","v":""},{"$f":"IF(Worksheet!D501=\"\",\"\",Worksheet!D501)","v":""}]
[{"$f":"IF(ISBLANK(Worksheet!F502)=FALSE,VLOOKUP(Worksheet!A502,MeasureCode_Lookup,6,FALSE),\"\")","v":""},null,null,{"$f":"IFERROR(IF(Worksheet!U502=0,Worksheet!T502/I484,Worksheet!U502/R484),0)","v":0},"W Controlled",null,null,{"$f":"IF(N(Worksheet!P502)=0,N(Worksheet!O502),N(Worksheet!P502))","v":0},{"$f":"IFERROR(Worksheet!R502/Worksheet!O502,0)","v":0},{"$f":"Worksheet!Z502","v":0},{"$f":"Worksheet!Y502","v":0},0,{"$f":"IF(Worksheet!AG502=0,0,Worksheet!AG502/I484)","v":0},0,null,null,null,{"$f":"IFERROR(Worksheet!S502/Worksheet!P502,0)","v":0},{"$f":"IF(Worksheet!E502=\"\",\"\",Worksheet!E502)","v":""},{"$f":"IF(Worksheet!B502=\"\",\"\",Worksheet!B502)","v":""},{"$f":"IF(Worksheet!D502=\"\",\"\",Worksheet!D502)","v":""}]
[{"$f":"IF(ISBLANK(Worksheet!F503)=FALSE,VLOOKUP(Worksheet!A503,MeasureCode_Lookup,6,FALSE),\"\")","v":""},null,null,{"$f":"IFERROR(IF(Worksheet!U503=0,Worksheet!T503/I485,Worksheet!U503/R485),0)","v":0},"W Controlled",null,null,{"$f":"IF(N(Worksheet!P503)=0,N(Worksheet!O503),N(Worksheet!P503))","v":0},{"$f":"IFERROR(Worksheet!R503/Worksheet!O503,0)","v":0},{"$f":"Worksheet!Z503","v":0},{"$f":"Worksheet!Y503","v":0},0,{"$f":"IF(Worksheet!AG503=0,0,Worksheet!AG503/I485)","v":0},0,null,null,null,{"$f":"IFERROR(Worksheet!S503/Worksheet!P503,0)","v":0},{"$f":"IF(Worksheet!E503=\"\",\"\",Worksheet!E503)","v":""},{"$f":"IF(Worksheet!B503=\"\",\"\",Worksheet!B503)","v":""},{"$f":"IF(Worksheet!D503=\"\",\"\",Worksheet!D503)","v":""}]
[{"$f":"IF(ISBLANK(Worksheet!F504)=FALSE,VLOOKUP(Worksheet!A504,MeasureCode_Lookup,6,FALSE),\"\")","v":""},null,null,{"$f":"IFERROR(IF(Worksheet!U504=0,Worksheet!T504/I486,Worksheet!U504/R486),0)","v":0},"W Controlled",null,null,{"$f":"IF(N(Worksheet!P504)=0,N(Worksheet!O504),N(Worksheet!P504))","v":0},{"$f":"IFERROR(Worksheet!R504/Worksheet!O504,0)","v":0},{"$f":"Worksheet!Z504","v":0},{"$f":"Worksheet!Y504","v":0},0,{"$f":"IF(Worksheet!AG504=0,0,Worksheet!AG504/I486)","v":0},0,null,null,null,{"$f":"IFERROR(Worksheet!S504/Worksheet!P504,0)","v":0},{"$f":"IF(Worksheet!E504=\"\",\"\",Worksheet!E504)","v":""},{"$f":"IF(Worksheet!B504=\"\",\"\",Worksheet!B504)","v":""},{"$f":"IF(Worksheet!D504=\"\",\"\",Worksheet!D504)","v":""}]
[{"$f":"IF(ISBLANK(Worksheet!F505)=FALSE,VLOOKUP(Worksheet!A505,MeasureCode_Lookup,6,FALSE),\"\")","v":""},null,null,{"$f":"IFERROR(IF(Worksheet!U505=0,Worksheet!T505/I487,Worksheet!U505/R487),0)","v":0},"W Controlled",null,null,{"$f":"IF(N(Worksheet!P505)=0,N(Worksheet!O505),N(Worksheet!P505))","v":0},{"$f":"IFERROR(Worksheet!R505/Worksheet!O505,0)","v":0},{"$f":"Worksheet!Z505","v":0},{"$f":"Worksheet!Y505","v":0},0,{"$f":"IF(Worksheet!AG505=0,0,Worksheet!AG505/I487)","v":0},0,null,null,null,{"$f":"IFERROR(Worksheet!S505/Worksheet!P505,0)","v":0},{"$f":"IF(Worksheet!E505=\"\",\"\",Worksheet!E505)","v":""},{"$f":"IF(Worksheet!B505=\"\",\"\",Worksheet!B505)","v":""},{"$f":"IF(Worksheet!D505=\"\",\"\",Worksheet!D505)","v":""}]
[{"$f":"IF(ISBLANK(Worksheet!F506)=FALSE,VLOOKUP(Worksheet!A506,MeasureCode_Lookup,6,FALSE),\"\")","v":""},null,null,{"$f":"IFERROR(IF(Worksheet!U506=0,Worksheet!T506/I488,Worksheet!U506/R488),0)","v":0},"W Controlled",null,null,{"$f":"IF(N(Worksheet!P506)=0,N(Worksheet!O506),N(Worksheet!P506))","v":0},{"$f":"IFERROR(Worksheet!R506/Worksheet!O506,0)","v":0},{"$f":"Worksheet!Z506","v":0},{"$f":"Worksheet!Y506","v":0},0,{"$f":"IF(Worksheet!AG506=0,0,Worksheet!AG506/I488)","v":0},0,null,null,null,{"$f":"IFERROR(Worksheet!S506/Worksheet!P506,0)","v":0},{"$f":"IF(Worksheet!E506=\"\",\"\",Worksheet!E506)","v":""},{"$f":"IF(Worksheet!B506=\"\",\"\",Worksheet!B506)","v":""},{"$f":"IF(Worksheet!D506=\"\",\"\",Worksheet!D506)","v":""}]
[{"$f":"IF(ISBLANK(Worksheet!F507)=FALSE,VLOOKUP(Worksheet!A507,MeasureCode_Lookup,6,FALSE),\"\")","v":""},null,null,{"$f":"IFERROR(IF(Worksheet!U507=0,Worksheet!T507/I489,Worksheet!U507/R489),0)","v":0},"W Controlled",null,null,{"$f":"IF(N(Worksheet!P507)=0,N(Worksheet!O507),N(Worksheet!P507))","v":0},{"$f":"IFERROR(Worksheet!R507/Worksheet!O507,0)","v":0},{"$f":"Worksheet!Z507","v":0},{"$f":"Worksheet!Y507","v":0},0,{"$f":"IF(Worksheet!AG507=0,0,Worksheet!AG507/I489)","v":0},0,null,null,null,{"$f":"IFERROR(Worksheet!S507/Worksheet!P507,0)","v":0},{"$f":"IF(Worksheet!E507=\"\",\"\",Worksheet!E507)","v":""},{"$f":"IF(Worksheet!B507=\"\",\"\",Worksheet!B507)","v":""},{"$f":"IF(Worksheet!D507=\"\",\"\",Worksheet!D507)","v":""}]
[{"$f":"IF(ISBLANK(Worksheet!F508)=FALSE,VLOOKUP(Worksheet!A508,MeasureCode_Lookup,6,FALSE),\"\")","v":""},null,null,{"$f":"IFERROR(IF(Worksheet!U508=0,Worksheet!T508/I490,Worksheet!U508/R490),0)","v":0},"W Controlled",null,null,{"$f":"IF(N(Worksheet!P508)=0,N(Worksheet!O508),N(Worksheet!P508))","v":0},{"$f":"IFERROR(Worksheet!R508/Worksheet!O508,0)","v":0},{"$f":"Worksheet!Z508","v":0},{"$f":"Worksheet!Y508","v":0},0,{"$f":"IF(Worksheet!AG508=0,0,Worksheet!AG508/I490)","v":0},0,null,null,null,{"$f":"IFERROR(Worksheet!S508/Worksheet!P508,0)","v":0},{"$f":"IF(Worksheet!E508=\"\",\"\",Worksheet!E508)","v":""},{"$f":"IF(Worksheet!B508=\"\",\"\",Worksheet!B508)","v":""},{"$f":"IF(Worksheet!D508=\"\",\"\",Worksheet!D508)","v":""}]
[{"$f":"IF(ISBLANK(Worksheet!F509)=FALSE,VLOOKUP(Worksheet!A509,MeasureCode_Lookup,6,FALSE),\"\")","v":""},null,null,{"$f":"IFERROR(IF(Worksheet!U509=0,Worksheet!T509/I491,Worksheet!U509/R491),0)","v":0},"W Controlled",null,null,{"$f":"IF(N(Worksheet!P509)=0,N(Worksheet!O509),N(Worksheet!P509))","v":0},{"$f":"IFERROR(Worksheet!R509/Worksheet!O509,0)","v":0},{"$f":"Worksheet!Z509","v":0},{"$f":"Worksheet!Y509","v":0},0,{"$f":"IF(Worksheet!AG509=0,0,Worksheet!AG509/I491)","v":0},0,null,null,null,{"$f":"IFERROR(Worksheet!S509/Worksheet!P509,0)","v":0},{"$f":"IF(Worksheet!E509=\"\",\"\",Worksheet!E509)","v":""},{"$f":"IF(Worksheet!B509=\"\",\"\",Worksheet!B509)","v":""},{"$f":"IF(Worksheet!D509=\"\",\"\",Worksheet!D509)","v":""}]
[{"$f":"IF(ISBLANK(Worksheet!F510)=FALSE,VLOOKUP(Worksheet!A510,MeasureCode_Lookup,6,FALSE),\"\")","v":""},null,null,{"$f":"IFERROR(IF(Worksheet!U510=0,Worksheet!T510/I492,Worksheet!U510/R492),0)","v":0},"W Controlled",null,null,{"$f":"IF(N(Worksheet!P510)=0,N(Worksheet!O510),N(Worksheet!P510))","v":0},{"$f":"IFERROR(Worksheet!R510/Worksheet!O510,0)","v":0},{"$f":"Worksheet!Z510","v":0},{"$f":"Worksheet!Y510","v":0},0,{"$f":"IF(Worksheet!AG510=0,0,Worksheet!AG510/I492)","v":0},0,null,null,null,{"$f":"IFERROR(Worksheet!S510/Worksheet!P510,0)","v":0},{"$f":"IF(Worksheet!E510=\"\",\"\",Worksheet!E510)","v":""},{"$f":"IF(Worksheet!B510=\"\",\"\",Worksheet!B510)","v":""},{"$f":"IF(Worksheet!D510=\"\",\"\",Worksheet!D510)","v":""}]
[{"$f":"IF(ISBLANK(Worksheet!F511)=FALSE,VLOOKUP(Worksheet!A511,MeasureCode_Lookup,6,FALSE),\"\")","v":""},null,null,{"$f":"IFERROR(IF(Worksheet!U511=0,Worksheet!T511/I493,Worksheet!U511/R493),0)","v":0},"W Controlled",null,null,{"$f":"IF(N(Worksheet!P511)=0,N(Worksheet!O511),N(Worksheet!P511))","v":0},{"$f":"IFERROR(Worksheet!R511/Worksheet!O511,0)","v":0},{"$f":"Worksheet!Z511","v":0},{"$f":"Worksheet!Y511","v":0},0,{"$f":"IF(Worksheet!AG511=0,0,Worksheet!AG511/I493)","v":0},0,null,null,null,{"$f":"IFERROR(Worksheet!S511/Worksheet!P511,0)","v":0},{"$f":"IF(Worksheet!E511=\"\",\"\",Worksheet!E511)","v":""},{"$f":"IF(Worksheet!B511=\"\",\"\",Worksheet!B511)","v":""},{"$f":"IF(Worksheet!D511=\"\",\"\",Worksheet!D511)","v":""}]
[{"$f":"IF(ISBLANK(Worksheet!F512)=FALSE,VLOOKUP(Worksheet!A512,MeasureCode_Lookup,6,FALSE),\"\")","v":""},null,null,{"$f":"IFERROR(IF(Worksheet!U512=0,Worksheet!T512/I494,Worksheet!U512/R494),0)","v":0},"W Controlled",null,null,{"$f":"IF(N(Worksheet!P512)=0,N(Worksheet!O512),N(Worksheet!P512))","v":0},{"$f":"IFERROR(Worksheet!R512/Worksheet!O512,0)","v":0},{"$f":"Worksheet!Z512","v":0},{"$f":"Worksheet!Y512","v":0},0,{"$f":"IF(Worksheet!AG512=0,0,Worksheet!AG512/I494)","v":0},0,null,null,null,{"$f":"IFERROR(Worksheet!S512/Worksheet!P512,0)","v":0},{"$f":"IF(Worksheet!E512=\"\",\"\",Worksheet!E512)","v":""},{"$f":"IF(Worksheet!B512=\"\",\"\",Worksheet!B512)","v":""},{"$f":"IF(Worksheet!D512=\"\",\"\",Worksheet!D512)","v":""}]
[{"$f":"IF(ISBLANK(Worksheet!F513)=FALSE,VLOOKUP(Worksheet!A513,MeasureCode_Lookup,6,FALSE),\"\")","v":""},null,null,{"$f":"IFERROR(IF(Worksheet!U513=0,Worksheet!T513/I495,Worksheet!U513/R495),0)","v":0},"W Controlled",null,null,{"$f":"IF(N(Worksheet!P513)=0,N(Worksheet!O513),N(Worksheet!P513))","v":0},{"$f":"IFERROR(Worksheet!R513/Worksheet!O513,0)","v":0},{"$f":"Worksheet!Z513","v":0},{"$f":"Worksheet!Y513","v":0},0,{"$f":"IF(Worksheet!AG513=0,0,Worksheet!AG513/I495)","v":0},0,null,null,null,{"$f":"IFERROR(Worksheet!S513/Worksheet!P513,0)","v":0},{"$f":"IF(Worksheet!E513=\"\",\"\",Worksheet!E513)","v":""},{"$f":"IF(Worksheet!B513=\"\",\"\",Worksheet!B513)","v":""},{"$f":"IF(Worksheet!D513=\"\",\"\",Worksheet!D513)","v":""}]
[{"$f":"IF(ISBLANK(Worksheet!F514)=FALSE,VLOOKUP(Worksheet!A514,MeasureCode_Lookup,6,FALSE),\"\")","v":""},null,null,{"$f":"IFERROR(IF(Worksheet!U514=0,Worksheet!T514/I496,Worksheet!U514/R496),0)","v":0},"W Controlled",null,null,{"$f":"IF(N(Worksheet!P514)=0,N(Worksheet!O514),N(Worksheet!P514))","v":0},{"$f":"IFERROR(Worksheet!R514/Worksheet!O514,0)","v":0},{"$f":"Worksheet!Z514","v":0},{"$f":"Worksheet!Y514","v":0},0,{"$f":"IF(Worksheet!AG514=0,0,Worksheet!AG514/I496)","v":0},0,null,null,null,{"$f":"IFERROR(Worksheet!S514/Worksheet!P514,0)","v":0},{"$f":"IF(Worksheet!E514=\"\",\"\",Worksheet!E514)","v":""},{"$f":"IF(Worksheet!B514=\"\",\"\",Worksheet!B514)","v":""},{"$f":"IF(Worksheet!D514=\"\",\"\",Worksheet!D514)","v":""}]
[{"$f":"IF(ISBLANK(Worksheet!F515)=FALSE,VLOOKUP(Worksheet!A515,MeasureCode_Lookup,6,FALSE),\"\")","v":""},null,null,{"$f":"IFERROR(IF(Worksheet!U515=0,Worksheet!T515/I497,Worksheet!U515/R497),0)","v":0},"W Controlled",null,null,{"$f":"IF(N(Worksheet!P515)=0,N(Worksheet!O515),N(Worksheet!P515))","v":0},{"$f":"IFERROR(Worksheet!R515/Worksheet!O515,0)","v":0},{"$f":"Worksheet!Z515","v":0},{"$f":"Worksheet!Y515","v":0},0,{"$f":"IF(Worksheet!AG515=0,0,Worksheet!AG515/I497)","v":0},0,null,null,null,{"$f":"IFERROR(Worksheet!S515/Worksheet!P515,0)","v":0},{"$f":"IF(Worksheet!E515=\"\",\"\",Worksheet!E515)","v":""},{"$f":"IF(Worksheet!B515=\"\",\"\",Worksheet!B515)","v":""},{"$f":"IF(Worksheet!D515=\"\",\"\",Worksheet!D515)","v":""}]
[{"$f":"IF(ISBLANK(Worksheet!F516)=FALSE,VLOOKUP(Worksheet!A516,MeasureCode_Lookup,6,FALSE),\"\")","v":""},null,null,{"$f":"IFERROR(IF(Worksheet!U516=0,Worksheet!T516/I498,Worksheet!U516/R498),0)","v":0},"W Controlled",null,null,{"$f":"IF(N(Worksheet!P516)=0,N(Worksheet!O516),N(Worksheet!P516))","v":0},{"$f":"IFERROR(Worksheet!R516/Worksheet!O516,0)","v":0},{"$f":"Worksheet!Z516","v":0},{"$f":"Worksheet!Y516","v":0},0,{"$f":"IF(Worksheet!AG516=0,0,Worksheet!AG516/I498)","v":0},0,null,null,null,{"$f":"IFERROR(Worksheet!S516/Worksheet!P516,0)","v":0},{"$f":"IF(Worksheet!E516=\"\",\"\",Worksheet!E516)","v":""},{"$f":"IF(Worksheet!B516=\"\",\"\",Worksheet!B516)","v":""},{"$f":"IF(Worksheet!D516=\"\",\"\",Worksheet!D516)","v":""}]
[{"$f":"IF(ISBLANK(Worksheet!F517)=FALSE,VLOOKUP(Worksheet!A517,MeasureCode_Lookup,6,FALSE),\"\")","v":""},null,null,{"$f":"IFERROR(IF(Worksheet!U517=0,Worksheet!T517/I499,Worksheet!U517/R499),0)","v":0},"W Controlled",null,null,{"$f":"IF(N(Worksheet!P517)=0,N(Worksheet!O517),N(Worksheet!P517))","v":0},{"$f":"IFERROR(Worksheet!R517/Worksheet!O517,0)","v":0},{"$f":"Worksheet!Z517","v":0},{"$f":"Worksheet!Y517","v":0},0,{"$f":"IF(Worksheet!AG517=0,0,Worksheet!AG517/I499)","v":0},0,null,null,null,{"$f":"IFERROR(Worksheet!S517/Worksheet!P517,0)","v":0},{"$f":"IF(Worksheet!E517=\"\",\"\",Worksheet!E517)","v":""},{"$f":"IF(Worksheet!B517=\"\",\"\",Worksheet!B517)","v":""},{"$f":"IF(Worksheet!D517=\"\",\"\",Worksheet!D517)","v":""}]
[{"$f":"IF(ISBLANK(Worksheet!F518)=FALSE,VLOOKUP(Worksheet!A518,MeasureCode_Lookup,6,FALSE),\"\")","v":""},null,null,{"$f":"IFERROR(IF(Worksheet!U518=0,Worksheet!T518/I500,Worksheet!U518/R500),0)","v":0},"W Controlled",null,null,{"$f":"IF(N(Worksheet!P518)=0,N(Worksheet!O518),N(Worksheet!P518))","v":0},{"$f":"IFERROR(Worksheet!R518/Worksheet!O518,0)","v":0},{"$f":"Worksheet!Z518","v":0},{"$f":"Worksheet!Y518","v":0},0,{"$f":"IF(Worksheet!AG518=0,0,Worksheet!AG518/I500)","v":0},0,null,null,null,{"$f":"IFERROR(Worksheet!S518/Worksheet!P518,0)","v":0},{"$f":"IF(Worksheet!E518=\"\",\"\",Worksheet!E518)","v":""},{"$f":"IF(Worksheet!B518=\"\",\"\",Worksheet!B518)","v":""},{"$f":"IF(Worksheet!D518=\"\",\"\",Worksheet!D518)","v":""}]
[{"$f":"IF(ISBLANK(Worksheet!F519)=FALSE,VLOOKUP(Worksheet!A519,MeasureCode_Lookup,6,FALSE),\"\")","v":""},null,null,{"$f":"IFERROR(IF(Worksheet!U519=0,Worksheet!T519/I501,Worksheet!U519/R501),0)","v":0},"W Controlled",null,null,{"$f":"IF(N(Worksheet!P519)=0,N(Worksheet!O519),N(Worksheet!P519))","v":0},{"$f":"IFERROR(Worksheet!R519/Worksheet!O519,0)","v":0},{"$f":"Worksheet!Z519","v":0},{"$f":"Worksheet!Y519","v":0},0,{"$f":"IF(Worksheet!AG519=0,0,Worksheet!AG519/I501)","v":0},0,null,null,null,{"$f":"IFERROR(Worksheet!S519/Worksheet!P519,0)","v":0},{"$f":"IF(Worksheet!E519=\"\",\"\",Worksheet!E519)","v":""},{"$f":"IF(Worksheet!B519=\"\",\"\",Worksheet!B519)","v":""},{"$f":"IF(Worksheet!D519=\"\",\"\",Worksheet!D519)","v":""}]

{"sheet":"Version Log","index":4,"n_rows":3,"n_cols":2,"rows_kept":3,"cut":false,"hidden":true,"merged":[]}
["Version #","Notes"]
["V11.1","1. First combined customer/internal workbook."]
["V12","1. Updated to align with FY19 Protocols"]