{"text_format":"1","workbook":"xlsx","n_sheets":11,"sheets":["Worksheet","code","scode","LEDs","ASHRAE 90.1 2007 - CST","ASHRAE 90.1 2007 - BSST","ASHRAE 90.1 2013 - CST","ASHRAE 90.1 2013 - BSST","Savings Support","Export","Version"],"not_rendered":{"charts":0,"images":0,"macros":1,"external_links":0,"defined_names":35,"comments":1,"pivot_tables":0},"unopened":[],"bounds":{"document_bytes":16777216,"sheet_cells":100000,"rows_first":2000,"rows_last":500,"rows_between":2000,"halvings":0,"cell_chars":16384,"cell_head_chars":4096},"cells_cut":0,"cells_raw":0,"read":"whole","date_system":"1900"}

{"sheet":"Worksheet","index":0,"n_rows":504,"n_cols":46,"rows_kept":504,"cut":false,"hidden":false,"merged":[[16,0,16,1],[16,2,16,4],[5,39,8,42],[2,24,2,30],[7,24,7,30],[8,24,8,30],[15,35,15,36],[6,24,6,30],[4,39,4,42],[2,35,2,36],[5,35,8,38],[2,37,2,38],[4,35,4,38],[4,1,4,3],[18,0,18,15],[21,6,21,7],[21,19,22,19],[18,18,18,34],[21,18,22,18],[22,6,23,6],[19,27,19,33],[21,23,21,25],[21,31,21,34],[0,24,0,30],[15,2,15,4],[15,0,15,1],[4,24,4,30],[3,24,3,30],[5,24,5,30],[3,1,3,3],[3,5,3,11],[5,1,5,3],[8,1,8,2],[14,0,14,1],[13,0,13,1],[7,5,7,11],[8,5,8,6],[7,1,7,2],[8,7,8,9]]}
["FY20","Performance Lighting-03",null,null,null,null,null,null,null,null,null,null,null,null,null,null,null,null,null,null,null,null,null,null,"INCENTIVE CALCULATION",null,null,null,null,null,null,"Committed","Installed"]
[]
["Customer Information",null,null,null,null,null,null,null,null,null,null,null,null,null,null,null,null,null,null,null,null,null,null,null,"Total Number of Luminaires Qualified",null,null,null,null,null,null,{"$f":"AH24","v":0},{"$f":"AI24","v":0},null,null,"Inspection Type"]
["Name",null,null,null,"Address",null,null,null,null,null,null,null,null,null,null,null,null,null,null,null,null,null,null,null,"Lighting Power Limit for Qualified Space",null,null,null,null,null,null,{"$f":"SUMIF(AB25:AB504,\"Y\",AE25:AE504)","v":0},{"$f":"SUMIF(AC25:AC504,\"Y\",AE25:AE504)","v":0}]
["Application ",null,null,null,"Date",null,null,null,null,null,null,null,null,null,null,null,null,null,null,null,null,null,null,null,"Connected Watts for Qualified Space",null,null,null,null,null,null,{"$f":"AF24","v":0},{"$f":"AG24","v":0},null,null,"Pre-Inspection Notes",null,null,null,"Post-Inspection Notes"]
["Contact",null,null,null,null,null,null,null,null,null,null,null,null,null,null,null,null,null,null,null,null,null,null,null,"Lighting Level Incentive  [ Lighting Power Limit) - (Connected Watts) x $1 ] ",null,null,null,null,null,null,{"$f":"AF4-AF5","v":0},{"$f":"AG4-AG5","v":0}]
["Contractor/Vendor Information",null,null,null,null,null,null,null,null,null,null,null,null,null,null,null,null,null,null,null,null,null,null,null,"Fixture Maximum  [ ∑ Eligible Luminaires x  $30 ] ",null,null,null,null,null,null,{"$f":"AF3*30","v":0},{"$f":"AG3*30","v":0}]
["Name",null,null,null,"Address",null,null,null,null,null,null,null,null,null,null,null,null,null,null,null,null,null,null,null,"Program Incentive ",null,null,null,null,null,null,{"$f":"ROUND(MIN(AF7,AF6),0)","v":0},{"$f":"ROUND(MIN(AG7,AG6),0)","v":0}]
["Contact",null,null,null,"Phone",null,null,null,null,null,null,null,null,null,null,null,null,null,null,null,null,null,null,null,"Enhanced Incentive",null,null,null,null,null,null,{"$f":"IF(OR($A$11=TRUE,$A$12=TRUE,$B$11=TRUE,$B$12=TRUE,$C$11=TRUE,$C$12=TRUE)=TRUE,AF8,0)","v":0},{"$f":"IF(OR($A$11=TRUE,$A$12=TRUE,$B$11=TRUE,$B$12=TRUE,$C$11=TRUE,$C$12=TRUE)=TRUE,AG8,0)","v":0}]
["Enhanced Incentive Eligibility"]
[false,false,false]
[false,false,false]
[null,"Incentive amounts below are estimated based on standard program incentives. These values and any additional enhancements will be verified by the Program Manager prior to approval.",null,null,null,null,null,null,null,null,null,null,null,null,null,null,null,null,null,null,null,null,null,null,"Incentive amounts are estimates provided for planning purposes only."]
["Applicable ASHRAE Code",null,2013,null,null,null,null,null,null,null,null,null,null,null,null,null,null,null,null,null,null,null,null,null,null,null,null,null,null,"NOTE: Applications with an incentive ≥$100,000, including any eligible incentive enhancement, must receive pre-approval through the Program prior to installation. "]
["Select Exterior Lighting Zone"]
["Select Building Type",null,null,null,null,"Building Size",null,null,null,null,null,null,null,null,null,null,null,null,"Total Comm Connected kW Reduction",null,null,{"$f":"IF(AF3>0, (AF4-AF5)/1000, 0)","v":0},null,null,null,null,null,null,null,null,null,null,null,null,null,"POST INSPECTION RESULTS"]
["Select Construction Type ",null,null,null,null,"HVAC type",null,null,null,null,null,null,null,null,null,null,null,null,"Total Inst Connected kW Reduction",null,null,{"$f":"IF(AG3>0, (AG4-AG5)/1000, 0)","v":0},null,null,null,null,null,null,null,null,null,null,null,null,null,"Inspector/Sign-off","Date"]
[null,null,null,null,null,null,null,null,null,null,null,null,"Summary of Details Worksheet"]
["INPUT FROM CUSTOMER APPLICATION",null,null,null,null,null,null,null,null,null,null,null,null,null,null,null,null,null,"PROGRAM CALCULATIONS ",null,null,null,null,null,null,null,null,null,null,null,null,null,null,null,null,"FOUND POST",null,"Square"]
["Text ID","JC",null,null,"JC","Basis for Process","Must Match IES/ASHRAE \n(Look-up Available)","Must Match IES/ASHRAE\n(Look-up Available)",null,"Was from Detail Sheet\nUse Drop-Down\n(or use Customer Input)",null,"Was from Detail Sheet","Was from Detail Sheet",null,null,"Use default or overwrite w/ verified cust value",null,null,"From IES & ASHRAE","Strict Calc for New or Existing","Calc Only","Calc Only",null,"sums up to 3 rows (or fixture types)",null,null,null,"Applies statewide program practice: \n\"If any space exceeds the Program Limit (Watts/sq. ft.) … remove that space from the work sheet.\""]
["A","B",null,null,"C","D","E","F",null,"G",null,"H1","H2","I","J","K",null,null,"L","M","N","O1","O2","P1","P1","Q1","Q2","R1","R2","S","T","U",null,"V1","V2","(Type)","Count","Feet","SEQ",null,null,null,"Total sum of Weighted Eff.",{"$f":"SUM(AR25:AR504)","v":0}]
[null,null,null,null,null,null,"Select Area Type",null,null,null,null,null,null,null,null,null,null,null," Code UPD\n(w/sf or w/ft)\nshould match app","Program ULPA Limit\n(w/sf or w/ft) \n= Code",null,null,null,"ROLL-UP for SPACE",null,null,null,null,null,null,null,"QUALIFIED SPACE SUMS (per statewide pgm)"]
["Space Description\n(blank for additional luminaire types in space)","Gross Lighted \nArea \n(sqft or linear feet)","Committed Luminaires","Installed Luminaires","Default Count","Total Gross Lighted Area \n(sf = B * C)) ","Common Space Types Note: the following exterior lighting space types take linear feet instead of square footage: Walkway (<10 ft Wide), Main Entry, Other Entry Door, Street Frontage for Vehicle Sales (in addition to \"Open Area\" allowance)","Building Specific Space Types \n\n(Select from this list only when  area type is not listed under Common Space Types)","Room Height (ft)\n(Atrium Only)"," Luminaire Description","Qualified Luminaire?","Total Number of Luminaires Committed","Total Number of Luminaires Installed","Luminaire Type","LED Type","Watts per Luminaire","Fixture Manufacturer","Fixture Model Number",null,null,"Program Power Limit (watts)","Total Connected Watts (Committed)","Total Connected Watts (Installed)","Sum of Committed Wattage in Space","Sum of Installed Wattage in Space","Sum of Qualified Committed Fixtures in Space","Sum of Qualified Installed Fixtures in Space","Does Space Meet Program UPLA Limit? (C)","Does Space Meet Program UPLA Limit? (I)","Space Area (Yellow - DNQ Comm, Orange - DNQ Inst, Red - DNQ All)","Space Power Limit","Committed  Space Wattage","Installed Space Wattage","Committed Space Fixture Count","Installed Space Fixture Count"]
[" ",null,null,null,null,{"$f":"SUM(F25:F504)","v":0},null,null,null,null,null,{"$f":"SUM(L25:L504)","v":0},{"$f":"SUM(M25:M504)","v":0},null,null,null,null,null,null,null,"[M * D]","[H1 * K]","(H2 * K)",{"$f":"SUM(X25:X504)","v":0},{"$f":"SUM(Y25:Y504)","v":0},{"$f":"SUM(Z25:Z504)","v":0},{"$f":"SUM(AA25:AA504)","v":0},null,null,null,"SUMS:",{"$f":"SUM(AF25:AF504)","v":0},{"$f":"SUM(AG25:AG504)","v":0},{"$f":"SUM(AH25:AH504)","v":0},{"$f":"SUM(AI25:AI504)","v":0},null,null,null,null,"Total Wattage of Fixtures","Efficacy","Allocated Incentive","Allocated kW Savings","Weighted Efficiency","Installed Incentive","Installed Savings"]
[null,null,null,null,1,{"$f":"B25*E25","v":0},null,null,null,null,null,{"$f":"C25*$E25","v":0},{"$f":"D25*$E25","v":0},null,null,null,null,null,{"$f":"IF(OR(ISBLANK($C$14),ISBLANK($C$16),ISBLANK($G$16),ISBLANK($G$17),AND(LEFT(G25,6)=\"Atrium\",ISBLANK(I25))=TRUE)=TRUE,0,IF(LEFT(G25,6)=\"Atrium\",IF(G25='ASHRAE 90.1 2013 - CST'!$D$2,0.4+I25*0.02,I25*0.03),IF(ISBLANK(G25),IF(ISBLANK(H25),\"0\",VLOOKUP(H25,INDIRECT(\"BSSTTable_\"&$C$14),2,FALSE)),INDEX(INDIRECT(\"CSTTable_\"&$C$14),MATCH($C$16,INDIRECT(\"BldgTypes_\"&$C$14),0),MATCH(G25,INDIRECT(\"CSTTableTypes_\"&$C$14),0)))))","v":0},{"$f":"S25","v":0},{"$f":"T25*F25","v":0},{"$f":"L25*P25","v":0},{"$f":"M25*P25","v":0},{"$f":"spaceSum(ROW(V25), COLUMN(V25))","v":0},{"$f":"spaceSum(ROW(W25), COLUMN(W25))","v":0},{"$f":"spaceSumIfYes(ROW(L25), COLUMN(L25), COLUMN(K25))","v":0},{"$f":"spaceSumIfYes(ROW(M25), COLUMN(M25), COLUMN(K25))","v":0},{"$f":"IF(B25=0,0,IF(AND(Z25>0,(U25-X25>0)),\"Y\",\"N\"))","v":0},{"$f":"IF(B25=0,0,IF(AND(AA25>0,(U25-Y25>0)),\"Y\",\"N\"))","v":0},{"$f":"IF(AND(NOT(ISNA(T25))),F25,0)","v":0},{"$f":"IF(NOT(ISNA(U25)),U25,0)","v":0},{"$f":"IF(AND(NOT(ISNA(V25)),$AB25=\"y\"),X25,0)","v":0},{"$f":"IF(AND(NOT(ISNA(W25)),$AC25=\"y\"),Y25,0)","v":0},{"$f":"IF(AND(NOT(ISNA(X25)),$AB25=\"y\"),Z25,0)","v":0},{"$f":"IF(AND(NOT(ISNA(Y25)),$AC25=\"y\"),AA25,0)","v":0},null,null,null,1,{"$f":"IF(V25>0, IF(ISERROR(V25)=FALSE,V25),IF(ISERROR(W25)=FALSE,W25))","v":0},{"$f":"VLOOKUP(Worksheet!N25,code!$K$3:$M$13,3,FALSE)","v":{"$error":"#N/A"}},{"$f":"IF($AR$21<>0, $AF$8/$AR$21*AR25, \"\")","v":""},{"$f":"IF($AR$21<>0, $V$16/$AR$21*AR25, \"\")","v":""},{"$f":"IF(ISERROR(AN25)=FALSE,IF(ISERROR(AO25)=FALSE,AO25*AN25,\"\"),\"\")","v":""},{"$f":"IF($AR$21<>0, $AG$8/$AR$21*$AR25, \"\")","v":""},{"$f":"IF($AR$21<>0, $V$17/$AR$21*$AR25, \"\")","v":""}]
["-",null,null,null,1,0,null,null,null,null,null,{"$f":"C26*$E26","v":0},{"$f":"D26*$E26","v":0},null,null,null,null,null,{"$f":"IF(OR(ISBLANK($C$14),ISBLANK($C$16),ISBLANK($G$16),ISBLANK($G$17),AND(LEFT(G26,6)=\"Atrium\",ISBLANK(I26))=TRUE)=TRUE,0,IF(LEFT(G26,6)=\"Atrium\",IF(G26='ASHRAE 90.1 2013 - CST'!$D$2,0.4+I26*0.02,I26*0.03),IF(ISBLANK(G26),IF(ISBLANK(H26),\"0\",VLOOKUP(H26,INDIRECT(\"BSSTTable_\"&$C$14),2,FALSE)),INDEX(INDIRECT(\"CSTTable_\"&$C$14),MATCH($C$16,INDIRECT(\"BldgTypes_\"&$C$14),0),MATCH(G26,INDIRECT(\"CSTTableTypes_\"&$C$14),0)))))","v":0},{"$f":"S26","v":0},{"$f":"T26*F26","v":0},{"$f":"L26*P26","v":0},{"$f":"M26*P26","v":0},{"$f":"spaceSum(ROW(V26), COLUMN(V26))","v":0},{"$f":"spaceSum(ROW(W26), COLUMN(W26))","v":0},{"$f":"spaceSumIfYes(ROW(L26), COLUMN(L26), COLUMN(K26))","v":0},{"$f":"spaceSumIfYes(ROW(M26), COLUMN(M26), COLUMN(K26))","v":0},{"$f":"IF(B26=0,0,IF(AND(Z26>0,(U26-X26>0)),\"Y\",\"N\"))","v":0},{"$f":"IF(B26=0,0,IF(AND(AA26>0,(U26-Y26>0)),\"Y\",\"N\"))","v":0},{"$f":"IF(AND(NOT(ISNA(T26))),F26,0)","v":0},{"$f":"IF(NOT(ISNA(U26)),U26,0)","v":0},0,{"$f":"IF(AND(NOT(ISNA(W26)),$AC26=\"y\"),Y26,0)","v":0},{"$f":"IF(AND(NOT(ISNA(X26)),$AB26=\"y\"),Z26,0)","v":0},{"$f":"IF(AND(NOT(ISNA(Y26)),$AC26=\"y\"),AA26,0)","v":0},null,null,null,{"$f":"AM25+1","v":2},{"$f":"IF(V26>0, IF(ISERROR(V26)=FALSE,V26),IF(ISERROR(W26)=FALSE,W26))","v":0},{"$f":"VLOOKUP(Worksheet!N26,code!$K$3:$M$13,3,FALSE)","v":{"$error":"#N/A"}},"",{"$f":"IF($AR$21<>0, $V$16/$AR$21*AR26, \"\")","v":""},{"$f":"IF(ISERROR(AN26)=FALSE,IF(ISERROR(AO26)=FALSE,AO26*AN26,\"\"),\"\")","v":""},"",{"$f":"IF($AR$21<>0, $V$17/$AR$21*$AR26, \"\")","v":""}]
["-",null,null,null,1,0,null,null,null,null,null,0,0,null,null,null,null,null,{"$f":"IF(OR(ISBLANK($C$14),ISBLANK($C$16),ISBLANK($G$16),ISBLANK($G$17),AND(LEFT(G27,6)=\"Atrium\",ISBLANK(I27))=TRUE)=TRUE,0,IF(LEFT(G27,6)=\"Atrium\",IF(G27='ASHRAE 90.1 2013 - CST'!$D$2,0.4+I27*0.02,I27*0.03),IF(ISBLANK(G27),IF(ISBLANK(H27),\"0\",VLOOKUP(H27,INDIRECT(\"BSSTTable_\"&$C$14),2,FALSE)),INDEX(INDIRECT(\"CSTTable_\"&$C$14),MATCH($C$16,INDIRECT(\"BldgTypes_\"&$C$14),0),MATCH(G27,INDIRECT(\"CSTTableTypes_\"&$C$14),0)))))","v":0},0,0,0,0,0,0,0,0,0,0,0,0,0,0,0,0,null,null,null,{"$f":"AM26+1","v":3},0,{"$f":"VLOOKUP(Worksheet!N27,code!$K$3:$M$13,3,FALSE)","v":{"$error":"#N/A"}},"",{"$f":"IF($AR$21<>0, $V$16/$AR$21*AR27, \"\")","v":""},"","",""]
["-",null,null,null,1,0,null,null,null,null,null,0,0,null,null,null,null,null,{"$f":"IF(OR(ISBLANK($C$14),ISBLANK($C$16),ISBLANK($G$16),ISBLANK($G$17),AND(LEFT(G28,6)=\"Atrium\",ISBLANK(I28))=TRUE)=TRUE,0,IF(LEFT(G28,6)=\"Atrium\",IF(G28='ASHRAE 90.1 2013 - CST'!$D$2,0.4+I28*0.02,I28*0.03),IF(ISBLANK(G28),IF(ISBLANK(H28),\"0\",VLOOKUP(H28,INDIRECT(\"BSSTTable_\"&$C$14),2,FALSE)),INDEX(INDIRECT(\"CSTTable_\"&$C$14),MATCH($C$16,INDIRECT(\"BldgTypes_\"&$C$14),0),MATCH(G28,INDIRECT(\"CSTTableTypes_\"&$C$14),0)))))","v":0},0,0,0,0,0,0,0,0,0,0,0,0,0,0,0,0,null,null,null,4,0,{"$f":"VLOOKUP(Worksheet!N28,code!$K$3:$M$13,3,FALSE)","v":{"$error":"#N/A"}},"","","","",""]
["-",null,null,null,1,0,null,null,null,null,null,0,0,null,null,null,null,null,{"$f":"IF(OR(ISBLANK($C$14),ISBLANK($C$16),ISBLANK($G$16),ISBLANK($G$17),AND(LEFT(G29,6)=\"Atrium\",ISBLANK(I29))=TRUE)=TRUE,0,IF(LEFT(G29,6)=\"Atrium\",IF(G29='ASHRAE 90.1 2013 - CST'!$D$2,0.4+I29*0.02,I29*0.03),IF(ISBLANK(G29),IF(ISBLANK(H29),\"0\",VLOOKUP(H29,INDIRECT(\"BSSTTable_\"&$C$14),2,FALSE)),INDEX(INDIRECT(\"CSTTable_\"&$C$14),MATCH($C$16,INDIRECT(\"BldgTypes_\"&$C$14),0),MATCH(G29,INDIRECT(\"CSTTableTypes_\"&$C$14),0)))))","v":0},0,0,0,0,0,0,0,0,0,0,0,0,0,0,0,0,null,null,null,5,0,{"$f":"VLOOKUP(Worksheet!N29,code!$K$3:$M$13,3,FALSE)","v":{"$error":"#N/A"}},"","","","",""]
["-",null,null,null,1,0,null,null,null,null,null,0,0,null,null,null,null,null,{"$f":"IF(OR(ISBLANK($C$14),ISBLANK($C$16),ISBLANK($G$16),ISBLANK($G$17),AND(LEFT(G30,6)=\"Atrium\",ISBLANK(I30))=TRUE)=TRUE,0,IF(LEFT(G30,6)=\"Atrium\",IF(G30='ASHRAE 90.1 2013 - CST'!$D$2,0.4+I30*0.02,I30*0.03),IF(ISBLANK(G30),IF(ISBLANK(H30),\"0\",VLOOKUP(H30,INDIRECT(\"BSSTTable_\"&$C$14),2,FALSE)),INDEX(INDIRECT(\"CSTTable_\"&$C$14),MATCH($C$16,INDIRECT(\"BldgTypes_\"&$C$14),0),MATCH(G30,INDIRECT(\"CSTTableTypes_\"&$C$14),0)))))","v":0},0,0,0,0,0,0,0,0,0,0,0,0,0,0,0,0,null,null,null,6,0,{"$f":"VLOOKUP(Worksheet!N30,code!$K$3:$M$13,3,FALSE)","v":{"$error":"#N/A"}},"","","","",""]
["-",null,null,null,1,0,null,null,null,null,null,0,0,null,null,null,null,null,{"$f":"IF(OR(ISBLANK($C$14),ISBLANK($C$16),ISBLANK($G$16),ISBLANK($G$17),AND(LEFT(G31,6)=\"Atrium\",ISBLANK(I31))=TRUE)=TRUE,0,IF(LEFT(G31,6)=\"Atrium\",IF(G31='ASHRAE 90.1 2013 - CST'!$D$2,0.4+I31*0.02,I31*0.03),IF(ISBLANK(G31),IF(ISBLANK(H31),\"0\",VLOOKUP(H31,INDIRECT(\"BSSTTable_\"&$C$14),2,FALSE)),INDEX(INDIRECT(\"CSTTable_\"&$C$14),MATCH($C$16,INDIRECT(\"BldgTypes_\"&$C$14),0),MATCH(G31,INDIRECT(\"CSTTableTypes_\"&$C$14),0)))))","v":0},0,0,0,0,0,0,0,0,0,0,0,0,{"$f":"IF(AND(NOT(ISNA(V31)),$AB31=\"y\"),X31,0)","v":0},0,0,0,null,null,null,7,0,{"$f":"VLOOKUP(Worksheet!N31,code!$K$3:$M$13,3,FALSE)","v":{"$error":"#N/A"}},"","","","",""]
["-",null,null,null,1,0,null,null,null,null,null,0,0,null,null,null,null,null,{"$f":"IF(OR(ISBLANK($C$14),ISBLANK($C$16),ISBLANK($G$16),ISBLANK($G$17),AND(LEFT(G32,6)=\"Atrium\",ISBLANK(I32))=TRUE)=TRUE,0,IF(LEFT(G32,6)=\"Atrium\",IF(G32='ASHRAE 90.1 2013 - CST'!$D$2,0.4+I32*0.02,I32*0.03),IF(ISBLANK(G32),IF(ISBLANK(H32),\"0\",VLOOKUP(H32,INDIRECT(\"BSSTTable_\"&$C$14),2,FALSE)),INDEX(INDIRECT(\"CSTTable_\"&$C$14),MATCH($C$16,INDIRECT(\"BldgTypes_\"&$C$14),0),MATCH(G32,INDIRECT(\"CSTTableTypes_\"&$C$14),0)))))","v":0},0,0,0,0,0,0,0,0,0,0,0,0,0,0,0,0,null,null,null,8,0,{"$f":"VLOOKUP(Worksheet!N32,code!$K$3:$M$13,3,FALSE)","v":{"$error":"#N/A"}},"","","","",""]
["-",null,null,null,1,0,null,null,null,null,null,0,0,null,null,null,null,null,{"$f":"IF(OR(ISBLANK($C$14),ISBLANK($C$16),ISBLANK($G$16),ISBLANK($G$17),AND(LEFT(G33,6)=\"Atrium\",ISBLANK(I33))=TRUE)=TRUE,0,IF(LEFT(G33,6)=\"Atrium\",IF(G33='ASHRAE 90.1 2013 - CST'!$D$2,0.4+I33*0.02,I33*0.03),IF(ISBLANK(G33),IF(ISBLANK(H33),\"0\",VLOOKUP(H33,INDIRECT(\"BSSTTable_\"&$C$14),2,FALSE)),INDEX(INDIRECT(\"CSTTable_\"&$C$14),MATCH($C$16,INDIRECT(\"BldgTypes_\"&$C$14),0),MATCH(G33,INDIRECT(\"CSTTableTypes_\"&$C$14),0)))))","v":0},0,0,0,0,0,0,0,0,0,0,0,0,0,0,0,0,null,null,null,9,0,{"$f":"VLOOKUP(Worksheet!N33,code!$K$3:$M$13,3,FALSE)","v":{"$error":"#N/A"}},"","","","",""]
["-",null,null,null,1,0,null,null,null,null,null,0,0,null,null,null,null,null,{"$f":"IF(OR(ISBLANK($C$14),ISBLANK($C$16),ISBLANK($G$16),ISBLANK($G$17),AND(LEFT(G34,6)=\"Atrium\",ISBLANK(I34))=TRUE)=TRUE,0,IF(LEFT(G34,6)=\"Atrium\",IF(G34='ASHRAE 90.1 2013 - CST'!$D$2,0.4+I34*0.02,I34*0.03),IF(ISBLANK(G34),IF(ISBLANK(H34),\"0\",VLOOKUP(H34,INDIRECT(\"BSSTTable_\"&$C$14),2,FALSE)),INDEX(INDIRECT(\"CSTTable_\"&$C$14),MATCH($C$16,INDIRECT(\"BldgTypes_\"&$C$14),0),MATCH(G34,INDIRECT(\"CSTTableTypes_\"&$C$14),0)))))","v":0},0,0,0,0,0,0,0,0,0,0,0,0,0,0,0,0,null,null,null,10,0,{"$f":"VLOOKUP(Worksheet!N34,code!$K$3:$M$13,3,FALSE)","v":{"$error":"#N/A"}},"","","","",""]
["-",null,null,null,1,0,null,null,null,null,null,0,0,null,null,null,null,null,{"$f":"IF(OR(ISBLANK($C$14),ISBLANK($C$16),ISBLANK($G$16),ISBLANK($G$17),AND(LEFT(G35,6)=\"Atrium\",ISBLANK(I35))=TRUE)=TRUE,0,IF(LEFT(G35,6)=\"Atrium\",IF(G35='ASHRAE 90.1 2013 - CST'!$D$2,0.4+I35*0.02,I35*0.03),IF(ISBLANK(G35),IF(ISBLANK(H35),\"0\",VLOOKUP(H35,INDIRECT(\"BSSTTable_\"&$C$14),2,FALSE)),INDEX(INDIRECT(\"CSTTable_\"&$C$14),MATCH($C$16,INDIRECT(\"BldgTypes_\"&$C$14),0),MATCH(G35,INDIRECT(\"CSTTableTypes_\"&$C$14),0)))))","v":0},0,0,0,0,0,0,0,0,0,0,0,0,0,0,0,0,null,null,null,11,0,{"$f":"VLOOKUP(Worksheet!N35,code!$K$3:$M$13,3,FALSE)","v":{"$error":"#N/A"}},"","","","",""]
["-",null,null,null,1,0,null,null,null,null,null,0,0,null,null,null,null,null,{"$f":"IF(OR(ISBLANK($C$14),ISBLANK($C$16),ISBLANK($G$16),ISBLANK($G$17),AND(LEFT(G36,6)=\"Atrium\",ISBLANK(I36))=TRUE)=TRUE,0,IF(LEFT(G36,6)=\"Atrium\",IF(G36='ASHRAE 90.1 2013 - CST'!$D$2,0.4+I36*0.02,I36*0.03),IF(ISBLANK(G36),IF(ISBLANK(H36),\"0\",VLOOKUP(H36,INDIRECT(\"BSSTTable_\"&$C$14),2,FALSE)),INDEX(INDIRECT(\"CSTTable_\"&$C$14),MATCH($C$16,INDIRECT(\"BldgTypes_\"&$C$14),0),MATCH(G36,INDIRECT(\"CSTTableTypes_\"&$C$14),0)))))","v":0},0,0,0,0,0,0,0,0,0,0,0,0,0,0,0,0,null,null,null,12,0,{"$f":"VLOOKUP(Worksheet!N36,code!$K$3:$M$13,3,FALSE)","v":{"$error":"#N/A"}},"","","","",""]
["-",null,null,null,1,0,null,null,null,null,null,0,0,null,null,null,null,null,{"$f":"IF(OR(ISBLANK($C$14),ISBLANK($C$16),ISBLANK($G$16),ISBLANK($G$17),AND(LEFT(G37,6)=\"Atrium\",ISBLANK(I37))=TRUE)=TRUE,0,IF(LEFT(G37,6)=\"Atrium\",IF(G37='ASHRAE 90.1 2013 - CST'!$D$2,0.4+I37*0.02,I37*0.03),IF(ISBLANK(G37),IF(ISBLANK(H37),\"0\",VLOOKUP(H37,INDIRECT(\"BSSTTable_\"&$C$14),2,FALSE)),INDEX(INDIRECT(\"CSTTable_\"&$C$14),MATCH($C$16,INDIRECT(\"BldgTypes_\"&$C$14),0),MATCH(G37,INDIRECT(\"CSTTableTypes_\"&$C$14),0)))))","v":0},0,0,0,0,0,0,0,0,0,0,0,0,0,0,0,0,null,null,null,{"$f":"AM36+1","v":13},0,{"$f":"VLOOKUP(Worksheet!N37,code!$K$3:$M$13,3,FALSE)","v":{"$error":"#N/A"}},"","","","",""]
["-",null,null,null,1,0,null,null,null,null,null,0,0,null,null,null,null,null,{"$f":"IF(OR(ISBLANK($C$14),ISBLANK($C$16),ISBLANK($G$16),ISBLANK($G$17),AND(LEFT(G38,6)=\"Atrium\",ISBLANK(I38))=TRUE)=TRUE,0,IF(LEFT(G38,6)=\"Atrium\",IF(G38='ASHRAE 90.1 2013 - CST'!$D$2,0.4+I38*0.02,I38*0.03),IF(ISBLANK(G38),IF(ISBLANK(H38),\"0\",VLOOKUP(H38,INDIRECT(\"BSSTTable_\"&$C$14),2,FALSE)),INDEX(INDIRECT(\"CSTTable_\"&$C$14),MATCH($C$16,INDIRECT(\"BldgTypes_\"&$C$14),0),MATCH(G38,INDIRECT(\"CSTTableTypes_\"&$C$14),0)))))","v":0},0,0,0,0,0,0,0,0,0,0,0,0,0,0,0,0,null,null,null,{"$f":"AM37+1","v":14},0,{"$f":"VLOOKUP(Worksheet!N38,code!$K$3:$M$13,3,FALSE)","v":{"$error":"#N/A"}},"","","","",""]
["-",null,null,null,1,0,null,null,null,null,null,0,0,null,null,null,null,null,{"$f":"IF(OR(ISBLANK($C$14),ISBLANK($C$16),ISBLANK($G$16),ISBLANK($G$17),AND(LEFT(G39,6)=\"Atrium\",ISBLANK(I39))=TRUE)=TRUE,0,IF(LEFT(G39,6)=\"Atrium\",IF(G39='ASHRAE 90.1 2013 - CST'!$D$2,0.4+I39*0.02,I39*0.03),IF(ISBLANK(G39),IF(ISBLANK(H39),\"0\",VLOOKUP(H39,INDIRECT(\"BSSTTable_\"&$C$14),2,FALSE)),INDEX(INDIRECT(\"CSTTable_\"&$C$14),MATCH($C$16,INDIRECT(\"BldgTypes_\"&$C$14),0),MATCH(G39,INDIRECT(\"CSTTableTypes_\"&$C$14),0)))))","v":0},0,0,0,0,0,0,0,0,0,0,0,0,0,0,0,0,null,null,null,15,0,{"$f":"VLOOKUP(Worksheet!N39,code!$K$3:$M$13,3,FALSE)","v":{"$error":"#N/A"}},"","","","",""]
["-",null,null,null,1,0,null,null,null,null,null,0,0,null,null,null,null,null,{"$f":"IF(OR(ISBLANK($C$14),ISBLANK($C$16),ISBLANK($G$16),ISBLANK($G$17),AND(LEFT(G40,6)=\"Atrium\",ISBLANK(I40))=TRUE)=TRUE,0,IF(LEFT(G40,6)=\"Atrium\",IF(G40='ASHRAE 90.1 2013 - CST'!$D$2,0.4+I40*0.02,I40*0.03),IF(ISBLANK(G40),IF(ISBLANK(H40),\"0\",VLOOKUP(H40,INDIRECT(\"BSSTTable_\"&$C$14),2,FALSE)),INDEX(INDIRECT(\"CSTTable_\"&$C$14),MATCH($C$16,INDIRECT(\"BldgTypes_\"&$C$14),0),MATCH(G40,INDIRECT(\"CSTTableTypes_\"&$C$14),0)))))","v":0},0,0,0,0,0,0,0,0,0,0,0,0,0,0,0,0,null,null,null,16,0,{"$f":"VLOOKUP(Worksheet!N40,code!$K$3:$M$13,3,FALSE)","v":{"$error":"#N/A"}},"","","","",""]
["-",null,null,null,1,0,null,null,null,null,null,0,0,null,null,null,null,null,{"$f":"IF(OR(ISBLANK($C$14),ISBLANK($C$16),ISBLANK($G$16),ISBLANK($G$17),AND(LEFT(G41,6)=\"Atrium\",ISBLANK(I41))=TRUE)=TRUE,0,IF(LEFT(G41,6)=\"Atrium\",IF(G41='ASHRAE 90.1 2013 - CST'!$D$2,0.4+I41*0.02,I41*0.03),IF(ISBLANK(G41),IF(ISBLANK(H41),\"0\",VLOOKUP(H41,INDIRECT(\"BSSTTable_\"&$C$14),2,FALSE)),INDEX(INDIRECT(\"CSTTable_\"&$C$14),MATCH($C$16,INDIRECT(\"BldgTypes_\"&$C$14),0),MATCH(G41,INDIRECT(\"CSTTableTypes_\"&$C$14),0)))))","v":0},0,0,0,0,0,0,0,0,0,0,0,0,0,0,0,0,null,null,null,17,0,{"$f":"VLOOKUP(Worksheet!N41,code!$K$3:$M$13,3,FALSE)","v":{"$error":"#N/A"}},"","","","",""]
["-",null,null,null,1,0,null,null,null,null,null,0,0,null,null,null,null,null,{"$f":"IF(OR(ISBLANK($C$14),ISBLANK($C$16),ISBLANK($G$16),ISBLANK($G$17),AND(LEFT(G42,6)=\"Atrium\",ISBLANK(I42))=TRUE)=TRUE,0,IF(LEFT(G42,6)=\"Atrium\",IF(G42='ASHRAE 90.1 2013 - CST'!$D$2,0.4+I42*0.02,I42*0.03),IF(ISBLANK(G42),IF(ISBLANK(H42),\"0\",VLOOKUP(H42,INDIRECT(\"BSSTTable_\"&$C$14),2,FALSE)),INDEX(INDIRECT(\"CSTTable_\"&$C$14),MATCH($C$16,INDIRECT(\"BldgTypes_\"&$C$14),0),MATCH(G42,INDIRECT(\"CSTTableTypes_\"&$C$14),0)))))","v":0},0,0,0,0,0,0,0,0,0,0,0,0,0,0,0,0,null,null,null,18,0,{"$f":"VLOOKUP(Worksheet!N42,code!$K$3:$M$13,3,FALSE)","v":{"$error":"#N/A"}},"","","","",""]
["-",null,null,null,1,0,null,null,null,null,null,0,0,null,null,null,null,null,{"$f":"IF(OR(ISBLANK($C$14),ISBLANK($C$16),ISBLANK($G$16),ISBLANK($G$17),AND(LEFT(G43,6)=\"Atrium\",ISBLANK(I43))=TRUE)=TRUE,0,IF(LEFT(G43,6)=\"Atrium\",IF(G43='ASHRAE 90.1 2013 - CST'!$D$2,0.4+I43*0.02,I43*0.03),IF(ISBLANK(G43),IF(ISBLANK(H43),\"0\",VLOOKUP(H43,INDIRECT(\"BSSTTable_\"&$C$14),2,FALSE)),INDEX(INDIRECT(\"CSTTable_\"&$C$14),MATCH($C$16,INDIRECT(\"BldgTypes_\"&$C$14),0),MATCH(G43,INDIRECT(\"CSTTableTypes_\"&$C$14),0)))))","v":0},0,0,0,0,0,0,0,0,0,0,0,0,0,0,0,0,null,null,null,19,0,{"$f":"VLOOKUP(Worksheet!N43,code!$K$3:$M$13,3,FALSE)","v":{"$error":"#N/A"}},"","","","",""]
["-",null,null,null,1,0,null,null,null,null,null,0,0,null,null,null,null,null,{"$f":"IF(OR(ISBLANK($C$14),ISBLANK($C$16),ISBLANK($G$16),ISBLANK($G$17),AND(LEFT(G44,6)=\"Atrium\",ISBLANK(I44))=TRUE)=TRUE,0,IF(LEFT(G44,6)=\"Atrium\",IF(G44='ASHRAE 90.1 2013 - CST'!$D$2,0.4+I44*0.02,I44*0.03),IF(ISBLANK(G44),IF(ISBLANK(H44),\"0\",VLOOKUP(H44,INDIRECT(\"BSSTTable_\"&$C$14),2,FALSE)),INDEX(INDIRECT(\"CSTTable_\"&$C$14),MATCH($C$16,INDIRECT(\"BldgTypes_\"&$C$14),0),MATCH(G44,INDIRECT(\"CSTTableTypes_\"&$C$14),0)))))","v":0},0,0,0,0,0,0,0,0,0,0,0,0,0,0,0,0,null,null,null,20,0,{"$f":"VLOOKUP(Worksheet!N44,code!$K$3:$M$13,3,FALSE)","v":{"$error":"#N/A"}},"","","","",""]
["-",null,null,null,1,0,null,null,null,null,null,0,0,null,null,null,null,null,{"$f":"IF(OR(ISBLANK($C$14),ISBLANK($C$16),ISBLANK($G$16),ISBLANK($G$17),AND(LEFT(G45,6)=\"Atrium\",ISBLANK(I45))=TRUE)=TRUE,0,IF(LEFT(G45,6)=\"Atrium\",IF(G45='ASHRAE 90.1 2013 - CST'!$D$2,0.4+I45*0.02,I45*0.03),IF(ISBLANK(G45),IF(ISBLANK(H45),\"0\",VLOOKUP(H45,INDIRECT(\"BSSTTable_\"&$C$14),2,FALSE)),INDEX(INDIRECT(\"CSTTable_\"&$C$14),MATCH($C$16,INDIRECT(\"BldgTypes_\"&$C$14),0),MATCH(G45,INDIRECT(\"CSTTableTypes_\"&$C$14),0)))))","v":0},0,0,0,0,0,0,0,0,0,0,0,0,0,0,0,0,null,null,null,21,0,{"$f":"VLOOKUP(Worksheet!N45,code!$K$3:$M$13,3,FALSE)","v":{"$error":"#N/A"}},"","","","",""]
["-",null,null,null,1,0,null,null,null,null,null,0,0,null,null,null,null,null,{"$f":"IF(OR(ISBLANK($C$14),ISBLANK($C$16),ISBLANK($G$16),ISBLANK($G$17),AND(LEFT(G46,6)=\"Atrium\",ISBLANK(I46))=TRUE)=TRUE,0,IF(LEFT(G46,6)=\"Atrium\",IF(G46='ASHRAE 90.1 2013 - CST'!$D$2,0.4+I46*0.02,I46*0.03),IF(ISBLANK(G46),IF(ISBLANK(H46),\"0\",VLOOKUP(H46,INDIRECT(\"BSSTTable_\"&$C$14),2,FALSE)),INDEX(INDIRECT(\"CSTTable_\"&$C$14),MATCH($C$16,INDIRECT(\"BldgTypes_\"&$C$14),0),MATCH(G46,INDIRECT(\"CSTTableTypes_\"&$C$14),0)))))","v":0},0,0,0,0,0,0,0,0,0,0,0,0,0,0,0,0,null,null,null,22,0,{"$f":"VLOOKUP(Worksheet!N46,code!$K$3:$M$13,3,FALSE)","v":{"$error":"#N/A"}},"","","","",""]
["-",null,null,null,1,0,null,null,null,null,null,0,0,null,null,null,null,null,{"$f":"IF(OR(ISBLANK($C$14),ISBLANK($C$16),ISBLANK($G$16),ISBLANK($G$17),AND(LEFT(G47,6)=\"Atrium\",ISBLANK(I47))=TRUE)=TRUE,0,IF(LEFT(G47,6)=\"Atrium\",IF(G47='ASHRAE 90.1 2013 - CST'!$D$2,0.4+I47*0.02,I47*0.03),IF(ISBLANK(G47),IF(ISBLANK(H47),\"0\",VLOOKUP(H47,INDIRECT(\"BSSTTable_\"&$C$14),2,FALSE)),INDEX(INDIRECT(\"CSTTable_\"&$C$14),MATCH($C$16,INDIRECT(\"BldgTypes_\"&$C$14),0),MATCH(G47,INDIRECT(\"CSTTableTypes_\"&$C$14),0)))))","v":0},0,0,0,0,0,0,0,0,0,0,0,0,0,0,0,0,null,null,null,23,0,{"$f":"VLOOKUP(Worksheet!N47,code!$K$3:$M$13,3,FALSE)","v":{"$error":"#N/A"}},"","","","",""]
["-",null,null,null,1,0,null,null,null,null,null,0,0,null,null,null,null,null,{"$f":"IF(OR(ISBLANK($C$14),ISBLANK($C$16),ISBLANK($G$16),ISBLANK($G$17),AND(LEFT(G48,6)=\"Atrium\",ISBLANK(I48))=TRUE)=TRUE,0,IF(LEFT(G48,6)=\"Atrium\",IF(G48='ASHRAE 90.1 2013 - CST'!$D$2,0.4+I48*0.02,I48*0.03),IF(ISBLANK(G48),IF(ISBLANK(H48),\"0\",VLOOKUP(H48,INDIRECT(\"BSSTTable_\"&$C$14),2,FALSE)),INDEX(INDIRECT(\"CSTTable_\"&$C$14),MATCH($C$16,INDIRECT(\"BldgTypes_\"&$C$14),0),MATCH(G48,INDIRECT(\"CSTTableTypes_\"&$C$14),0)))))","v":0},0,0,0,0,0,0,0,0,0,0,0,0,0,0,0,0,null,null,null,24,0,{"$f":"VLOOKUP(Worksheet!N48,code!$K$3:$M$13,3,FALSE)","v":{"$error":"#N/A"}},"","","","",""]
["-",null,null,null,1,0,null,null,null,null,null,0,0,null,null,null,null,null,{"$f":"IF(OR(ISBLANK($C$14),ISBLANK($C$16),ISBLANK($G$16),ISBLANK($G$17),AND(LEFT(G49,6)=\"Atrium\",ISBLANK(I49))=TRUE)=TRUE,0,IF(LEFT(G49,6)=\"Atrium\",IF(G49='ASHRAE 90.1 2013 - CST'!$D$2,0.4+I49*0.02,I49*0.03),IF(ISBLANK(G49),IF(ISBLANK(H49),\"0\",VLOOKUP(H49,INDIRECT(\"BSSTTable_\"&$C$14),2,FALSE)),INDEX(INDIRECT(\"CSTTable_\"&$C$14),MATCH($C$16,INDIRECT(\"BldgTypes_\"&$C$14),0),MATCH(G49,INDIRECT(\"CSTTableTypes_\"&$C$14),0)))))","v":0},0,0,0,0,0,0,0,0,0,0,0,0,0,0,0,0,null,null,null,25,0,{"$f":"VLOOKUP(Worksheet!N49,code!$K$3:$M$13,3,FALSE)","v":{"$error":"#N/A"}},"","","","",""]
["-",null,null,null,1,0,null,null,null,null,null,0,0,null,null,null,null,null,{"$f":"IF(OR(ISBLANK($C$14),ISBLANK($C$16),ISBLANK($G$16),ISBLANK($G$17),AND(LEFT(G50,6)=\"Atrium\",ISBLANK(I50))=TRUE)=TRUE,0,IF(LEFT(G50,6)=\"Atrium\",IF(G50='ASHRAE 90.1 2013 - CST'!$D$2,0.4+I50*0.02,I50*0.03),IF(ISBLANK(G50),IF(ISBLANK(H50),\"0\",VLOOKUP(H50,INDIRECT(\"BSSTTable_\"&$C$14),2,FALSE)),INDEX(INDIRECT(\"CSTTable_\"&$C$14),MATCH($C$16,INDIRECT(\"BldgTypes_\"&$C$14),0),MATCH(G50,INDIRECT(\"CSTTableTypes_\"&$C$14),0)))))","v":0},0,0,0,0,0,0,0,0,0,0,0,0,0,0,0,0,null,null,null,26,0,{"$f":"VLOOKUP(Worksheet!N50,code!$K$3:$M$13,3,FALSE)","v":{"$error":"#N/A"}},"","","","",""]
["-",null,null,null,1,0,null,null,null,null,null,0,0,null,null,null,null,null,{"$f":"IF(OR(ISBLANK($C$14),ISBLANK($C$16),ISBLANK($G$16),ISBLANK($G$17),AND(LEFT(G51,6)=\"Atrium\",ISBLANK(I51))=TRUE)=TRUE,0,IF(LEFT(G51,6)=\"Atrium\",IF(G51='ASHRAE 90.1 2013 - CST'!$D$2,0.4+I51*0.02,I51*0.03),IF(ISBLANK(G51),IF(ISBLANK(H51),\"0\",VLOOKUP(H51,INDIRECT(\"BSSTTable_\"&$C$14),2,FALSE)),INDEX(INDIRECT(\"CSTTable_\"&$C$14),MATCH($C$16,INDIRECT(\"BldgTypes_\"&$C$14),0),MATCH(G51,INDIRECT(\"CSTTableTypes_\"&$C$14),0)))))","v":0},0,0,0,0,0,0,0,0,0,0,0,0,0,0,0,0,null,null,null,27,0,{"$f":"VLOOKUP(Worksheet!N51,code!$K$3:$M$13,3,FALSE)","v":{"$error":"#N/A"}},"","","","",""]
["-",null,null,null,1,0,null,null,null,null,null,0,0,null,null,null,null,null,{"$f":"IF(OR(ISBLANK($C$14),ISBLANK($C$16),ISBLANK($G$16),ISBLANK($G$17),AND(LEFT(G52,6)=\"Atrium\",ISBLANK(I52))=TRUE)=TRUE,0,IF(LEFT(G52,6)=\"Atrium\",IF(G52='ASHRAE 90.1 2013 - CST'!$D$2,0.4+I52*0.02,I52*0.03),IF(ISBLANK(G52),IF(ISBLANK(H52),\"0\",VLOOKUP(H52,INDIRECT(\"BSSTTable_\"&$C$14),2,FALSE)),INDEX(INDIRECT(\"CSTTable_\"&$C$14),MATCH($C$16,INDIRECT(\"BldgTypes_\"&$C$14),0),MATCH(G52,INDIRECT(\"CSTTableTypes_\"&$C$14),0)))))","v":0},0,0,0,0,0,0,0,0,0,0,0,0,0,0,0,0,null,null,null,28,0,{"$f":"VLOOKUP(Worksheet!N52,code!$K$3:$M$13,3,FALSE)","v":{"$error":"#N/A"}},"","","","",""]
["-",null,null,null,1,0,null,null,null,null,null,0,0,null,null,null,null,null,{"$f":"IF(OR(ISBLANK($C$14),ISBLANK($C$16),ISBLANK($G$16),ISBLANK($G$17),AND(LEFT(G53,6)=\"Atrium\",ISBLANK(I53))=TRUE)=TRUE,0,IF(LEFT(G53,6)=\"Atrium\",IF(G53='ASHRAE 90.1 2013 - CST'!$D$2,0.4+I53*0.02,I53*0.03),IF(ISBLANK(G53),IF(ISBLANK(H53),\"0\",VLOOKUP(H53,INDIRECT(\"BSSTTable_\"&$C$14),2,FALSE)),INDEX(INDIRECT(\"CSTTable_\"&$C$14),MATCH($C$16,INDIRECT(\"BldgTypes_\"&$C$14),0),MATCH(G53,INDIRECT(\"CSTTableTypes_\"&$C$14),0)))))","v":0},0,0,0,0,0,0,0,0,0,0,0,0,0,0,0,0,null,null,null,29,0,{"$f":"VLOOKUP(Worksheet!N53,code!$K$3:$M$13,3,FALSE)","v":{"$error":"#N/A"}},"","","","",""]
["-",null,null,null,1,0,null,null,null,null,null,0,0,null,null,null,null,null,{"$f":"IF(OR(ISBLANK($C$14),ISBLANK($C$16),ISBLANK($G$16),ISBLANK($G$17),AND(LEFT(G54,6)=\"Atrium\",ISBLANK(I54))=TRUE)=TRUE,0,IF(LEFT(G54,6)=\"Atrium\",IF(G54='ASHRAE 90.1 2013 - CST'!$D$2,0.4+I54*0.02,I54*0.03),IF(ISBLANK(G54),IF(ISBLANK(H54),\"0\",VLOOKUP(H54,INDIRECT(\"BSSTTable_\"&$C$14),2,FALSE)),INDEX(INDIRECT(\"CSTTable_\"&$C$14),MATCH($C$16,INDIRECT(\"BldgTypes_\"&$C$14),0),MATCH(G54,INDIRECT(\"CSTTableTypes_\"&$C$14),0)))))","v":0},0,0,0,0,0,0,0,0,0,0,0,0,0,0,0,0,null,null,null,30,0,{"$f":"VLOOKUP(Worksheet!N54,code!$K$3:$M$13,3,FALSE)","v":{"$error":"#N/A"}},"","","","",""]
["-",null,null,null,1,0,null,null,null,null,null,0,0,null,null,null,null,null,{"$f":"IF(OR(ISBLANK($C$14),ISBLANK($C$16),ISBLANK($G$16),ISBLANK($G$17),AND(LEFT(G55,6)=\"Atrium\",ISBLANK(I55))=TRUE)=TRUE,0,IF(LEFT(G55,6)=\"Atrium\",IF(G55='ASHRAE 90.1 2013 - CST'!$D$2,0.4+I55*0.02,I55*0.03),IF(ISBLANK(G55),IF(ISBLANK(H55),\"0\",VLOOKUP(H55,INDIRECT(\"BSSTTable_\"&$C$14),2,FALSE)),INDEX(INDIRECT(\"CSTTable_\"&$C$14),MATCH($C$16,INDIRECT(\"BldgTypes_\"&$C$14),0),MATCH(G55,INDIRECT(\"CSTTableTypes_\"&$C$14),0)))))","v":0},0,0,0,0,0,0,0,0,0,0,0,0,{"$f":"IF(AND(NOT(ISNA(V55)),$AB55=\"y\"),X55,0)","v":0},0,0,0,null,null,null,31,0,{"$f":"VLOOKUP(Worksheet!N55,code!$K$3:$M$13,3,FALSE)","v":{"$error":"#N/A"}},"","","","",""]
["-",null,null,null,1,0,null,null,null,null,null,0,0,null,null,null,null,null,{"$f":"IF(OR(ISBLANK($C$14),ISBLANK($C$16),ISBLANK($G$16),ISBLANK($G$17),AND(LEFT(G56,6)=\"Atrium\",ISBLANK(I56))=TRUE)=TRUE,0,IF(LEFT(G56,6)=\"Atrium\",IF(G56='ASHRAE 90.1 2013 - CST'!$D$2,0.4+I56*0.02,I56*0.03),IF(ISBLANK(G56),IF(ISBLANK(H56),\"0\",VLOOKUP(H56,INDIRECT(\"BSSTTable_\"&$C$14),2,FALSE)),INDEX(INDIRECT(\"CSTTable_\"&$C$14),MATCH($C$16,INDIRECT(\"BldgTypes_\"&$C$14),0),MATCH(G56,INDIRECT(\"CSTTableTypes_\"&$C$14),0)))))","v":0},0,0,0,0,0,0,0,0,0,0,0,0,0,0,0,0,null,null,null,32,0,{"$f":"VLOOKUP(Worksheet!N56,code!$K$3:$M$13,3,FALSE)","v":{"$error":"#N/A"}},"","","","",""]
["-",null,null,null,1,0,null,null,null,null,null,0,0,null,null,null,null,null,{"$f":"IF(OR(ISBLANK($C$14),ISBLANK($C$16),ISBLANK($G$16),ISBLANK($G$17),AND(LEFT(G57,6)=\"Atrium\",ISBLANK(I57))=TRUE)=TRUE,0,IF(LEFT(G57,6)=\"Atrium\",IF(G57='ASHRAE 90.1 2013 - CST'!$D$2,0.4+I57*0.02,I57*0.03),IF(ISBLANK(G57),IF(ISBLANK(H57),\"0\",VLOOKUP(H57,INDIRECT(\"BSSTTable_\"&$C$14),2,FALSE)),INDEX(INDIRECT(\"CSTTable_\"&$C$14),MATCH($C$16,INDIRECT(\"BldgTypes_\"&$C$14),0),MATCH(G57,INDIRECT(\"CSTTableTypes_\"&$C$14),0)))))","v":0},0,0,0,0,0,0,0,0,0,0,0,0,0,0,0,0,null,null,null,33,0,{"$f":"VLOOKUP(Worksheet!N57,code!$K$3:$M$13,3,FALSE)","v":{"$error":"#N/A"}},"","","","",""]
["-",null,null,null,1,0,null,null,null,null,null,0,0,null,null,null,null,null,{"$f":"IF(OR(ISBLANK($C$14),ISBLANK($C$16),ISBLANK($G$16),ISBLANK($G$17),AND(LEFT(G58,6)=\"Atrium\",ISBLANK(I58))=TRUE)=TRUE,0,IF(LEFT(G58,6)=\"Atrium\",IF(G58='ASHRAE 90.1 2013 - CST'!$D$2,0.4+I58*0.02,I58*0.03),IF(ISBLANK(G58),IF(ISBLANK(H58),\"0\",VLOOKUP(H58,INDIRECT(\"BSSTTable_\"&$C$14),2,FALSE)),INDEX(INDIRECT(\"CSTTable_\"&$C$14),MATCH($C$16,INDIRECT(\"BldgTypes_\"&$C$14),0),MATCH(G58,INDIRECT(\"CSTTableTypes_\"&$C$14),0)))))","v":0},0,0,0,0,0,0,0,0,0,0,0,0,0,0,0,0,null,null,null,34,0,{"$f":"VLOOKUP(Worksheet!N58,code!$K$3:$M$13,3,FALSE)","v":{"$error":"#N/A"}},"","","","",""]
["-",null,null,null,1,0,null,null,null,null,null,0,0,null,null,null,null,null,{"$f":"IF(OR(ISBLANK($C$14),ISBLANK($C$16),ISBLANK($G$16),ISBLANK($G$17),AND(LEFT(G59,6)=\"Atrium\",ISBLANK(I59))=TRUE)=TRUE,0,IF(LEFT(G59,6)=\"Atrium\",IF(G59='ASHRAE 90.1 2013 - CST'!$D$2,0.4+I59*0.02,I59*0.03),IF(ISBLANK(G59),IF(ISBLANK(H59),\"0\",VLOOKUP(H59,INDIRECT(\"BSSTTable_\"&$C$14),2,FALSE)),INDEX(INDIRECT(\"CSTTable_\"&$C$14),MATCH($C$16,INDIRECT(\"BldgTypes_\"&$C$14),0),MATCH(G59,INDIRECT(\"CSTTableTypes_\"&$C$14),0)))))","v":0},0,0,0,0,0,0,0,0,0,0,0,0,0,0,0,0,null,null,null,35,0,{"$f":"VLOOKUP(Worksheet!N59,code!$K$3:$M$13,3,FALSE)","v":{"$error":"#N/A"}},"","","","",""]
["-",null,null,null,1,0,null,null,null,null,null,0,0,null,null,null,null,null,{"$f":"IF(OR(ISBLANK($C$14),ISBLANK($C$16),ISBLANK($G$16),ISBLANK($G$17),AND(LEFT(G60,6)=\"Atrium\",ISBLANK(I60))=TRUE)=TRUE,0,IF(LEFT(G60,6)=\"Atrium\",IF(G60='ASHRAE 90.1 2013 - CST'!$D$2,0.4+I60*0.02,I60*0.03),IF(ISBLANK(G60),IF(ISBLANK(H60),\"0\",VLOOKUP(H60,INDIRECT(\"BSSTTable_\"&$C$14),2,FALSE)),INDEX(INDIRECT(\"CSTTable_\"&$C$14),MATCH($C$16,INDIRECT(\"BldgTypes_\"&$C$14),0),MATCH(G60,INDIRECT(\"CSTTableTypes_\"&$C$14),0)))))","v":0},0,0,0,0,0,0,0,0,0,0,0,0,0,0,0,0,null,null,null,36,0,{"$f":"VLOOKUP(Worksheet!N60,code!$K$3:$M$13,3,FALSE)","v":{"$error":"#N/A"}},"","","","",""]
["-",null,null,null,1,0,null,null,null,null,null,0,0,null,null,null,null,null,{"$f":"IF(OR(ISBLANK($C$14),ISBLANK($C$16),ISBLANK($G$16),ISBLANK($G$17),AND(LEFT(G61,6)=\"Atrium\",ISBLANK(I61))=TRUE)=TRUE,0,IF(LEFT(G61,6)=\"Atrium\",IF(G61='ASHRAE 90.1 2013 - CST'!$D$2,0.4+I61*0.02,I61*0.03),IF(ISBLANK(G61),IF(ISBLANK(H61),\"0\",VLOOKUP(H61,INDIRECT(\"BSSTTable_\"&$C$14),2,FALSE)),INDEX(INDIRECT(\"CSTTable_\"&$C$14),MATCH($C$16,INDIRECT(\"BldgTypes_\"&$C$14),0),MATCH(G61,INDIRECT(\"CSTTableTypes_\"&$C$14),0)))))","v":0},0,0,0,0,0,0,0,0,0,0,0,0,0,0,0,0,null,null,null,37,0,{"$f":"VLOOKUP(Worksheet!N61,code!$K$3:$M$13,3,FALSE)","v":{"$error":"#N/A"}},"","","","",""]
["-",null,null,null,1,0,null,null,null,null,null,0,0,null,null,null,null,null,{"$f":"IF(OR(ISBLANK($C$14),ISBLANK($C$16),ISBLANK($G$16),ISBLANK($G$17),AND(LEFT(G62,6)=\"Atrium\",ISBLANK(I62))=TRUE)=TRUE,0,IF(LEFT(G62,6)=\"Atrium\",IF(G62='ASHRAE 90.1 2013 - CST'!$D$2,0.4+I62*0.02,I62*0.03),IF(ISBLANK(G62),IF(ISBLANK(H62),\"0\",VLOOKUP(H62,INDIRECT(\"BSSTTable_\"&$C$14),2,FALSE)),INDEX(INDIRECT(\"CSTTable_\"&$C$14),MATCH($C$16,INDIRECT(\"BldgTypes_\"&$C$14),0),MATCH(G62,INDIRECT(\"CSTTableTypes_\"&$C$14),0)))))","v":0},0,0,0,0,0,0,0,0,0,0,0,0,0,0,0,0,null,null,null,38,0,{"$f":"VLOOKUP(Worksheet!N62,code!$K$3:$M$13,3,FALSE)","v":{"$error":"#N/A"}},"","","","",""]
["-",null,null,null,1,0,null,null,null,null,null,0,0,null,null,null,null,null,{"$f":"IF(OR(ISBLANK($C$14),ISBLANK($C$16),ISBLANK($G$16),ISBLANK($G$17),AND(LEFT(G63,6)=\"Atrium\",ISBLANK(I63))=TRUE)=TRUE,0,IF(LEFT(G63,6)=\"Atrium\",IF(G63='ASHRAE 90.1 2013 - CST'!$D$2,0.4+I63*0.02,I63*0.03),IF(ISBLANK(G63),IF(ISBLANK(H63),\"0\",VLOOKUP(H63,INDIRECT(\"BSSTTable_\"&$C$14),2,FALSE)),INDEX(INDIRECT(\"CSTTable_\"&$C$14),MATCH($C$16,INDIRECT(\"BldgTypes_\"&$C$14),0),MATCH(G63,INDIRECT(\"CSTTableTypes_\"&$C$14),0)))))","v":0},0,0,0,0,0,0,0,0,0,0,0,0,0,0,0,0,null,null,null,39,0,{"$f":"VLOOKUP(Worksheet!N63,code!$K$3:$M$13,3,FALSE)","v":{"$error":"#N/A"}},"","","","",""]
["-",null,null,null,1,0,null,null,null,null,null,0,0,null,null,null,null,null,{"$f":"IF(OR(ISBLANK($C$14),ISBLANK($C$16),ISBLANK($G$16),ISBLANK($G$17),AND(LEFT(G64,6)=\"Atrium\",ISBLANK(I64))=TRUE)=TRUE,0,IF(LEFT(G64,6)=\"Atrium\",IF(G64='ASHRAE 90.1 2013 - CST'!$D$2,0.4+I64*0.02,I64*0.03),IF(ISBLANK(G64),IF(ISBLANK(H64),\"0\",VLOOKUP(H64,INDIRECT(\"BSSTTable_\"&$C$14),2,FALSE)),INDEX(INDIRECT(\"CSTTable_\"&$C$14),MATCH($C$16,INDIRECT(\"BldgTypes_\"&$C$14),0),MATCH(G64,INDIRECT(\"CSTTableTypes_\"&$C$14),0)))))","v":0},0,0,0,0,0,0,0,0,0,0,0,0,0,0,0,0,null,null,null,40,0,{"$f":"VLOOKUP(Worksheet!N64,code!$K$3:$M$13,3,FALSE)","v":{"$error":"#N/A"}},"","","","",""]
["-",null,null,null,1,0,null,null,null,null,null,0,0,null,null,null,null,null,{"$f":"IF(OR(ISBLANK($C$14),ISBLANK($C$16),ISBLANK($G$16),ISBLANK($G$17),AND(LEFT(G65,6)=\"Atrium\",ISBLANK(I65))=TRUE)=TRUE,0,IF(LEFT(G65,6)=\"Atrium\",IF(G65='ASHRAE 90.1 2013 - CST'!$D$2,0.4+I65*0.02,I65*0.03),IF(ISBLANK(G65),IF(ISBLANK(H65),\"0\",VLOOKUP(H65,INDIRECT(\"BSSTTable_\"&$C$14),2,FALSE)),INDEX(INDIRECT(\"CSTTable_\"&$C$14),MATCH($C$16,INDIRECT(\"BldgTypes_\"&$C$14),0),MATCH(G65,INDIRECT(\"CSTTableTypes_\"&$C$14),0)))))","v":0},0,0,0,0,0,0,0,0,0,0,0,0,0,0,0,0,null,null,null,41,0,{"$f":"VLOOKUP(Worksheet!N65,code!$K$3:$M$13,3,FALSE)","v":{"$error":"#N/A"}},"","","","",""]
["-",null,null,null,1,0,null,null,null,null,null,0,0,null,null,null,null,null,{"$f":"IF(OR(ISBLANK($C$14),ISBLANK($C$16),ISBLANK($G$16),ISBLANK($G$17),AND(LEFT(G66,6)=\"Atrium\",ISBLANK(I66))=TRUE)=TRUE,0,IF(LEFT(G66,6)=\"Atrium\",IF(G66='ASHRAE 90.1 2013 - CST'!$D$2,0.4+I66*0.02,I66*0.03),IF(ISBLANK(G66),IF(ISBLANK(H66),\"0\",VLOOKUP(H66,INDIRECT(\"BSSTTable_\"&$C$14),2,FALSE)),INDEX(INDIRECT(\"CSTTable_\"&$C$14),MATCH($C$16,INDIRECT(\"BldgTypes_\"&$C$14),0),MATCH(G66,INDIRECT(\"CSTTableTypes_\"&$C$14),0)))))","v":0},0,0,0,0,0,0,0,0,0,0,0,0,0,0,0,0,null,null,null,42,0,{"$f":"VLOOKUP(Worksheet!N66,code!$K$3:$M$13,3,FALSE)","v":{"$error":"#N/A"}},"","","","",""]
["-",null,null,null,1,0,null,null,null,null,null,0,0,null,null,null,null,null,{"$f":"IF(OR(ISBLANK($C$14),ISBLANK($C$16),ISBLANK($G$16),ISBLANK($G$17),AND(LEFT(G67,6)=\"Atrium\",ISBLANK(I67))=TRUE)=TRUE,0,IF(LEFT(G67,6)=\"Atrium\",IF(G67='ASHRAE 90.1 2013 - CST'!$D$2,0.4+I67*0.02,I67*0.03),IF(ISBLANK(G67),IF(ISBLANK(H67),\"0\",VLOOKUP(H67,INDIRECT(\"BSSTTable_\"&$C$14),2,FALSE)),INDEX(INDIRECT(\"CSTTable_\"&$C$14),MATCH($C$16,INDIRECT(\"BldgTypes_\"&$C$14),0),MATCH(G67,INDIRECT(\"CSTTableTypes_\"&$C$14),0)))))","v":0},0,0,0,0,0,0,0,0,0,0,0,0,0,0,0,0,null,null,null,43,0,{"$f":"VLOOKUP(Worksheet!N67,code!$K$3:$M$13,3,FALSE)","v":{"$error":"#N/A"}},"","","","",""]
["-",null,null,null,1,0,null,null,null,null,null,0,0,null,null,null,null,null,{"$f":"IF(OR(ISBLANK($C$14),ISBLANK($C$16),ISBLANK($G$16),ISBLANK($G$17),AND(LEFT(G68,6)=\"Atrium\",ISBLANK(I68))=TRUE)=TRUE,0,IF(LEFT(G68,6)=\"Atrium\",IF(G68='ASHRAE 90.1 2013 - CST'!$D$2,0.4+I68*0.02,I68*0.03),IF(ISBLANK(G68),IF(ISBLANK(H68),\"0\",VLOOKUP(H68,INDIRECT(\"BSSTTable_\"&$C$14),2,FALSE)),INDEX(INDIRECT(\"CSTTable_\"&$C$14),MATCH($C$16,INDIRECT(\"BldgTypes_\"&$C$14),0),MATCH(G68,INDIRECT(\"CSTTableTypes_\"&$C$14),0)))))","v":0},0,0,0,0,0,0,0,0,0,0,0,0,0,0,0,0,null,null,null,44,0,{"$f":"VLOOKUP(Worksheet!N68,code!$K$3:$M$13,3,FALSE)","v":{"$error":"#N/A"}},"","","","",""]
["-",null,null,null,1,0,null,null,null,null,null,0,0,null,null,null,null,null,{"$f":"IF(OR(ISBLANK($C$14),ISBLANK($C$16),ISBLANK($G$16),ISBLANK($G$17),AND(LEFT(G69,6)=\"Atrium\",ISBLANK(I69))=TRUE)=TRUE,0,IF(LEFT(G69,6)=\"Atrium\",IF(G69='ASHRAE 90.1 2013 - CST'!$D$2,0.4+I69*0.02,I69*0.03),IF(ISBLANK(G69),IF(ISBLANK(H69),\"0\",VLOOKUP(H69,INDIRECT(\"BSSTTable_\"&$C$14),2,FALSE)),INDEX(INDIRECT(\"CSTTable_\"&$C$14),MATCH($C$16,INDIRECT(\"BldgTypes_\"&$C$14),0),MATCH(G69,INDIRECT(\"CSTTableTypes_\"&$C$14),0)))))","v":0},0,0,0,0,0,0,0,0,0,0,0,0,0,0,0,0,null,null,null,45,0,{"$f":"VLOOKUP(Worksheet!N69,code!$K$3:$M$13,3,FALSE)","v":{"$error":"#N/A"}},"","","","",""]
["-",null,null,null,1,0,null,null,null,null,null,0,0,null,null,null,null,null,{"$f":"IF(OR(ISBLANK($C$14),ISBLANK($C$16),ISBLANK($G$16),ISBLANK($G$17),AND(LEFT(G70,6)=\"Atrium\",ISBLANK(I70))=TRUE)=TRUE,0,IF(LEFT(G70,6)=\"Atrium\",IF(G70='ASHRAE 90.1 2013 - CST'!$D$2,0.4+I70*0.02,I70*0.03),IF(ISBLANK(G70),IF(ISBLANK(H70),\"0\",VLOOKUP(H70,INDIRECT(\"BSSTTable_\"&$C$14),2,FALSE)),INDEX(INDIRECT(\"CSTTable_\"&$C$14),MATCH($C$16,INDIRECT(\"BldgTypes_\"&$C$14),0),MATCH(G70,INDIRECT(\"CSTTableTypes_\"&$C$14),0)))))","v":0},0,0,0,0,0,0,0,0,0,0,0,0,0,0,0,0,null,null,null,46,0,{"$f":"VLOOKUP(Worksheet!N70,code!$K$3:$M$13,3,FALSE)","v":{"$error":"#N/A"}},"","","","",""]
["-",null,null,null,1,0,null,null,null,null,null,0,0,null,null,null,null,null,{"$f":"IF(OR(ISBLANK($C$14),ISBLANK($C$16),ISBLANK($G$16),ISBLANK($G$17),AND(LEFT(G71,6)=\"Atrium\",ISBLANK(I71))=TRUE)=TRUE,0,IF(LEFT(G71,6)=\"Atrium\",IF(G71='ASHRAE 90.1 2013 - CST'!$D$2,0.4+I71*0.02,I71*0.03),IF(ISBLANK(G71),IF(ISBLANK(H71),\"0\",VLOOKUP(H71,INDIRECT(\"BSSTTable_\"&$C$14),2,FALSE)),INDEX(INDIRECT(\"CSTTable_\"&$C$14),MATCH($C$16,INDIRECT(\"BldgTypes_\"&$C$14),0),MATCH(G71,INDIRECT(\"CSTTableTypes_\"&$C$14),0)))))","v":0},0,0,0,0,0,0,0,0,0,0,0,0,0,0,0,0,null,null,null,47,0,{"$f":"VLOOKUP(Worksheet!N71,code!$K$3:$M$13,3,FALSE)","v":{"$error":"#N/A"}},"","","","",""]
["-",null,null,null,1,0,null,null,null,null,null,0,0,null,null,null,null,null,{"$f":"IF(OR(ISBLANK($C$14),ISBLANK($C$16),ISBLANK($G$16),ISBLANK($G$17),AND(LEFT(G72,6)=\"Atrium\",ISBLANK(I72))=TRUE)=TRUE,0,IF(LEFT(G72,6)=\"Atrium\",IF(G72='ASHRAE 90.1 2013 - CST'!$D$2,0.4+I72*0.02,I72*0.03),IF(ISBLANK(G72),IF(ISBLANK(H72),\"0\",VLOOKUP(H72,INDIRECT(\"BSSTTable_\"&$C$14),2,FALSE)),INDEX(INDIRECT(\"CSTTable_\"&$C$14),MATCH($C$16,INDIRECT(\"BldgTypes_\"&$C$14),0),MATCH(G72,INDIRECT(\"CSTTableTypes_\"&$C$14),0)))))","v":0},0,0,0,0,0,0,0,0,0,0,0,0,0,0,0,0,null,null,null,48,0,{"$f":"VLOOKUP(Worksheet!N72,code!$K$3:$M$13,3,FALSE)","v":{"$error":"#N/A"}},"","","","",""]
["-",null,null,null,1,0,null,null,null,null,null,0,0,null,null,null,null,null,{"$f":"IF(OR(ISBLANK($C$14),ISBLANK($C$16),ISBLANK($G$16),ISBLANK($G$17),AND(LEFT(G73,6)=\"Atrium\",ISBLANK(I73))=TRUE)=TRUE,0,IF(LEFT(G73,6)=\"Atrium\",IF(G73='ASHRAE 90.1 2013 - CST'!$D$2,0.4+I73*0.02,I73*0.03),IF(ISBLANK(G73),IF(ISBLANK(H73),\"0\",VLOOKUP(H73,INDIRECT(\"BSSTTable_\"&$C$14),2,FALSE)),INDEX(INDIRECT(\"CSTTable_\"&$C$14),MATCH($C$16,INDIRECT(\"BldgTypes_\"&$C$14),0),MATCH(G73,INDIRECT(\"CSTTableTypes_\"&$C$14),0)))))","v":0},0,0,0,0,0,0,0,0,0,0,0,0,0,0,0,0,null,null,null,49,0,{"$f":"VLOOKUP(Worksheet!N73,code!$K$3:$M$13,3,FALSE)","v":{"$error":"#N/A"}},"","","","",""]
["-",null,null,null,1,0,null,null,null,null,null,0,0,null,null,null,null,null,{"$f":"IF(OR(ISBLANK($C$14),ISBLANK($C$16),ISBLANK($G$16),ISBLANK($G$17),AND(LEFT(G74,6)=\"Atrium\",ISBLANK(I74))=TRUE)=TRUE,0,IF(LEFT(G74,6)=\"Atrium\",IF(G74='ASHRAE 90.1 2013 - CST'!$D$2,0.4+I74*0.02,I74*0.03),IF(ISBLANK(G74),IF(ISBLANK(H74),\"0\",VLOOKUP(H74,INDIRECT(\"BSSTTable_\"&$C$14),2,FALSE)),INDEX(INDIRECT(\"CSTTable_\"&$C$14),MATCH($C$16,INDIRECT(\"BldgTypes_\"&$C$14),0),MATCH(G74,INDIRECT(\"CSTTableTypes_\"&$C$14),0)))))","v":0},0,0,0,0,0,0,0,0,0,0,0,0,0,0,0,0,null,null,null,50,0,{"$f":"VLOOKUP(Worksheet!N74,code!$K$3:$M$13,3,FALSE)","v":{"$error":"#N/A"}},"","","","",""]
["-",null,null,null,1,0,null,null,null,null,null,0,0,null,null,null,null,null,{"$f":"IF(OR(ISBLANK($C$14),ISBLANK($C$16),ISBLANK($G$16),ISBLANK($G$17),AND(LEFT(G75,6)=\"Atrium\",ISBLANK(I75))=TRUE)=TRUE,0,IF(LEFT(G75,6)=\"Atrium\",IF(G75='ASHRAE 90.1 2013 - CST'!$D$2,0.4+I75*0.02,I75*0.03),IF(ISBLANK(G75),IF(ISBLANK(H75),\"0\",VLOOKUP(H75,INDIRECT(\"BSSTTable_\"&$C$14),2,FALSE)),INDEX(INDIRECT(\"CSTTable_\"&$C$14),MATCH($C$16,INDIRECT(\"BldgTypes_\"&$C$14),0),MATCH(G75,INDIRECT(\"CSTTableTypes_\"&$C$14),0)))))","v":0},0,0,0,0,0,0,0,0,0,0,0,0,0,0,0,0,null,null,null,51,0,{"$f":"VLOOKUP(Worksheet!N75,code!$K$3:$M$13,3,FALSE)","v":{"$error":"#N/A"}},"","","","",""]
["-",null,null,null,1,0,null,null,null,null,null,0,0,null,null,null,null,null,{"$f":"IF(OR(ISBLANK($C$14),ISBLANK($C$16),ISBLANK($G$16),ISBLANK($G$17),AND(LEFT(G76,6)=\"Atrium\",ISBLANK(I76))=TRUE)=TRUE,0,IF(LEFT(G76,6)=\"Atrium\",IF(G76='ASHRAE 90.1 2013 - CST'!$D$2,0.4+I76*0.02,I76*0.03),IF(ISBLANK(G76),IF(ISBLANK(H76),\"0\",VLOOKUP(H76,INDIRECT(\"BSSTTable_\"&$C$14),2,FALSE)),INDEX(INDIRECT(\"CSTTable_\"&$C$14),MATCH($C$16,INDIRECT(\"BldgTypes_\"&$C$14),0),MATCH(G76,INDIRECT(\"CSTTableTypes_\"&$C$14),0)))))","v":0},0,0,0,0,0,0,0,0,0,0,0,0,0,0,0,0,null,null,null,52,0,{"$f":"VLOOKUP(Worksheet!N76,code!$K$3:$M$13,3,FALSE)","v":{"$error":"#N/A"}},"","","","",""]
["-",null,null,null,1,0,null,null,null,null,null,0,0,null,null,null,null,null,{"$f":"IF(OR(ISBLANK($C$14),ISBLANK($C$16),ISBLANK($G$16),ISBLANK($G$17),AND(LEFT(G77,6)=\"Atrium\",ISBLANK(I77))=TRUE)=TRUE,0,IF(LEFT(G77,6)=\"Atrium\",IF(G77='ASHRAE 90.1 2013 - CST'!$D$2,0.4+I77*0.02,I77*0.03),IF(ISBLANK(G77),IF(ISBLANK(H77),\"0\",VLOOKUP(H77,INDIRECT(\"BSSTTable_\"&$C$14),2,FALSE)),INDEX(INDIRECT(\"CSTTable_\"&$C$14),MATCH($C$16,INDIRECT(\"BldgTypes_\"&$C$14),0),MATCH(G77,INDIRECT(\"CSTTableTypes_\"&$C$14),0)))))","v":0},0,0,0,0,0,0,0,0,0,0,0,0,0,0,0,0,null,null,null,53,0,{"$f":"VLOOKUP(Worksheet!N77,code!$K$3:$M$13,3,FALSE)","v":{"$error":"#N/A"}},"","","","",""]
["-",null,null,null,1,0,null,null,null,null,null,0,0,null,null,null,null,null,{"$f":"IF(OR(ISBLANK($C$14),ISBLANK($C$16),ISBLANK($G$16),ISBLANK($G$17),AND(LEFT(G78,6)=\"Atrium\",ISBLANK(I78))=TRUE)=TRUE,0,IF(LEFT(G78,6)=\"Atrium\",IF(G78='ASHRAE 90.1 2013 - CST'!$D$2,0.4+I78*0.02,I78*0.03),IF(ISBLANK(G78),IF(ISBLANK(H78),\"0\",VLOOKUP(H78,INDIRECT(\"BSSTTable_\"&$C$14),2,FALSE)),INDEX(INDIRECT(\"CSTTable_\"&$C$14),MATCH($C$16,INDIRECT(\"BldgTypes_\"&$C$14),0),MATCH(G78,INDIRECT(\"CSTTableTypes_\"&$C$14),0)))))","v":0},0,0,0,0,0,0,0,0,0,0,0,0,0,0,0,0,null,null,null,54,0,{"$f":"VLOOKUP(Worksheet!N78,code!$K$3:$M$13,3,FALSE)","v":{"$error":"#N/A"}},"","","","",""]
["-",null,null,null,1,0,null,null,null,null,null,0,0,null,null,null,null,null,{"$f":"IF(OR(ISBLANK($C$14),ISBLANK($C$16),ISBLANK($G$16),ISBLANK($G$17),AND(LEFT(G79,6)=\"Atrium\",ISBLANK(I79))=TRUE)=TRUE,0,IF(LEFT(G79,6)=\"Atrium\",IF(G79='ASHRAE 90.1 2013 - CST'!$D$2,0.4+I79*0.02,I79*0.03),IF(ISBLANK(G79),IF(ISBLANK(H79),\"0\",VLOOKUP(H79,INDIRECT(\"BSSTTable_\"&$C$14),2,FALSE)),INDEX(INDIRECT(\"CSTTable_\"&$C$14),MATCH($C$16,INDIRECT(\"BldgTypes_\"&$C$14),0),MATCH(G79,INDIRECT(\"CSTTableTypes_\"&$C$14),0)))))","v":0},0,0,0,0,0,0,0,0,0,0,0,0,0,0,0,0,null,null,null,55,0,{"$f":"VLOOKUP(Worksheet!N79,code!$K$3:$M$13,3,FALSE)","v":{"$error":"#N/A"}},"","","","",""]
["-",null,null,null,1,0,null,null,null,null,null,0,0,null,null,null,null,null,{"$f":"IF(OR(ISBLANK($C$14),ISBLANK($C$16),ISBLANK($G$16),ISBLANK($G$17),AND(LEFT(G80,6)=\"Atrium\",ISBLANK(I80))=TRUE)=TRUE,0,IF(LEFT(G80,6)=\"Atrium\",IF(G80='ASHRAE 90.1 2013 - CST'!$D$2,0.4+I80*0.02,I80*0.03),IF(ISBLANK(G80),IF(ISBLANK(H80),\"0\",VLOOKUP(H80,INDIRECT(\"BSSTTable_\"&$C$14),2,FALSE)),INDEX(INDIRECT(\"CSTTable_\"&$C$14),MATCH($C$16,INDIRECT(\"BldgTypes_\"&$C$14),0),MATCH(G80,INDIRECT(\"CSTTableTypes_\"&$C$14),0)))))","v":0},0,0,0,0,0,0,0,0,0,0,0,0,0,0,0,0,null,null,null,56,0,{"$f":"VLOOKUP(Worksheet!N80,code!$K$3:$M$13,3,FALSE)","v":{"$error":"#N/A"}},"","","","",""]
["-",null,null,null,1,0,null,null,null,null,null,0,0,null,null,null,null,null,{"$f":"IF(OR(ISBLANK($C$14),ISBLANK($C$16),ISBLANK($G$16),ISBLANK($G$17),AND(LEFT(G81,6)=\"Atrium\",ISBLANK(I81))=TRUE)=TRUE,0,IF(LEFT(G81,6)=\"Atrium\",IF(G81='ASHRAE 90.1 2013 - CST'!$D$2,0.4+I81*0.02,I81*0.03),IF(ISBLANK(G81),IF(ISBLANK(H81),\"0\",VLOOKUP(H81,INDIRECT(\"BSSTTable_\"&$C$14),2,FALSE)),INDEX(INDIRECT(\"CSTTable_\"&$C$14),MATCH($C$16,INDIRECT(\"BldgTypes_\"&$C$14),0),MATCH(G81,INDIRECT(\"CSTTableTypes_\"&$C$14),0)))))","v":0},0,0,0,0,0,0,0,0,0,0,0,0,0,0,0,0,null,null,null,57,0,{"$f":"VLOOKUP(Worksheet!N81,code!$K$3:$M$13,3,FALSE)","v":{"$error":"#N/A"}},"","","","",""]
["-",null,null,null,1,0,null,null,null,null,null,0,0,null,null,null,null,null,{"$f":"IF(OR(ISBLANK($C$14),ISBLANK($C$16),ISBLANK($G$16),ISBLANK($G$17),AND(LEFT(G82,6)=\"Atrium\",ISBLANK(I82))=TRUE)=TRUE,0,IF(LEFT(G82,6)=\"Atrium\",IF(G82='ASHRAE 90.1 2013 - CST'!$D$2,0.4+I82*0.02,I82*0.03),IF(ISBLANK(G82),IF(ISBLANK(H82),\"0\",VLOOKUP(H82,INDIRECT(\"BSSTTable_\"&$C$14),2,FALSE)),INDEX(INDIRECT(\"CSTTable_\"&$C$14),MATCH($C$16,INDIRECT(\"BldgTypes_\"&$C$14),0),MATCH(G82,INDIRECT(\"CSTTableTypes_\"&$C$14),0)))))","v":0},0,0,0,0,0,0,0,0,0,0,0,0,0,0,0,0,null,null,null,58,0,{"$f":"VLOOKUP(Worksheet!N82,code!$K$3:$M$13,3,FALSE)","v":{"$error":"#N/A"}},"","","","",""]
["-",null,null,null,1,0,null,null,null,null,null,0,0,null,null,null,null,null,{"$f":"IF(OR(ISBLANK($C$14),ISBLANK($C$16),ISBLANK($G$16),ISBLANK($G$17),AND(LEFT(G83,6)=\"Atrium\",ISBLANK(I83))=TRUE)=TRUE,0,IF(LEFT(G83,6)=\"Atrium\",IF(G83='ASHRAE 90.1 2013 - CST'!$D$2,0.4+I83*0.02,I83*0.03),IF(ISBLANK(G83),IF(ISBLANK(H83),\"0\",VLOOKUP(H83,INDIRECT(\"BSSTTable_\"&$C$14),2,FALSE)),INDEX(INDIRECT(\"CSTTable_\"&$C$14),MATCH($C$16,INDIRECT(\"BldgTypes_\"&$C$14),0),MATCH(G83,INDIRECT(\"CSTTableTypes_\"&$C$14),0)))))","v":0},0,0,0,0,0,0,0,0,0,0,0,0,0,0,0,0,null,null,null,59,0,{"$f":"VLOOKUP(Worksheet!N83,code!$K$3:$M$13,3,FALSE)","v":{"$error":"#N/A"}},"","","","",""]
["-",null,null,null,1,0,null,null,null,null,null,0,0,null,null,null,null,null,{"$f":"IF(OR(ISBLANK($C$14),ISBLANK($C$16),ISBLANK($G$16),ISBLANK($G$17),AND(LEFT(G84,6)=\"Atrium\",ISBLANK(I84))=TRUE)=TRUE,0,IF(LEFT(G84,6)=\"Atrium\",IF(G84='ASHRAE 90.1 2013 - CST'!$D$2,0.4+I84*0.02,I84*0.03),IF(ISBLANK(G84),IF(ISBLANK(H84),\"0\",VLOOKUP(H84,INDIRECT(\"BSSTTable_\"&$C$14),2,FALSE)),INDEX(INDIRECT(\"CSTTable_\"&$C$14),MATCH($C$16,INDIRECT(\"BldgTypes_\"&$C$14),0),MATCH(G84,INDIRECT(\"CSTTableTypes_\"&$C$14),0)))))","v":0},0,0,0,0,0,0,0,0,0,0,0,0,0,0,0,0,null,null,null,60,0,{"$f":"VLOOKUP(Worksheet!N84,code!$K$3:$M$13,3,FALSE)","v":{"$error":"#N/A"}},"","","","",""]
["-",null,null,null,1,0,null,null,null,null,null,0,0,null,null,null,null,null,{"$f":"IF(OR(ISBLANK($C$14),ISBLANK($C$16),ISBLANK($G$16),ISBLANK($G$17),AND(LEFT(G85,6)=\"Atrium\",ISBLANK(I85))=TRUE)=TRUE,0,IF(LEFT(G85,6)=\"Atrium\",IF(G85='ASHRAE 90.1 2013 - CST'!$D$2,0.4+I85*0.02,I85*0.03),IF(ISBLANK(G85),IF(ISBLANK(H85),\"0\",VLOOKUP(H85,INDIRECT(\"BSSTTable_\"&$C$14),2,FALSE)),INDEX(INDIRECT(\"CSTTable_\"&$C$14),MATCH($C$16,INDIRECT(\"BldgTypes_\"&$C$14),0),MATCH(G85,INDIRECT(\"CSTTableTypes_\"&$C$14),0)))))","v":0},0,0,0,0,0,0,0,0,0,0,0,0,0,0,0,0,null,null,null,61,0,{"$f":"VLOOKUP(Worksheet!N85,code!$K$3:$M$13,3,FALSE)","v":{"$error":"#N/A"}},"","","","",""]
["-",null,null,null,1,0,null,null,null,null,null,0,0,null,null,null,null,null,{"$f":"IF(OR(ISBLANK($C$14),ISBLANK($C$16),ISBLANK($G$16),ISBLANK($G$17),AND(LEFT(G86,6)=\"Atrium\",ISBLANK(I86))=TRUE)=TRUE,0,IF(LEFT(G86,6)=\"Atrium\",IF(G86='ASHRAE 90.1 2013 - CST'!$D$2,0.4+I86*0.02,I86*0.03),IF(ISBLANK(G86),IF(ISBLANK(H86),\"0\",VLOOKUP(H86,INDIRECT(\"BSSTTable_\"&$C$14),2,FALSE)),INDEX(INDIRECT(\"CSTTable_\"&$C$14),MATCH($C$16,INDIRECT(\"BldgTypes_\"&$C$14),0),MATCH(G86,INDIRECT(\"CSTTableTypes_\"&$C$14),0)))))","v":0},0,0,0,0,0,0,0,0,0,0,0,0,0,0,0,0,null,null,null,62,0,{"$f":"VLOOKUP(Worksheet!N86,code!$K$3:$M$13,3,FALSE)","v":{"$error":"#N/A"}},"","","","",""]
["-",null,null,null,1,0,null,null,null,null,null,0,0,null,null,null,null,null,{"$f":"IF(OR(ISBLANK($C$14),ISBLANK($C$16),ISBLANK($G$16),ISBLANK($G$17),AND(LEFT(G87,6)=\"Atrium\",ISBLANK(I87))=TRUE)=TRUE,0,IF(LEFT(G87,6)=\"Atrium\",IF(G87='ASHRAE 90.1 2013 - CST'!$D$2,0.4+I87*0.02,I87*0.03),IF(ISBLANK(G87),IF(ISBLANK(H87),\"0\",VLOOKUP(H87,INDIRECT(\"BSSTTable_\"&$C$14),2,FALSE)),INDEX(INDIRECT(\"CSTTable_\"&$C$14),MATCH($C$16,INDIRECT(\"BldgTypes_\"&$C$14),0),MATCH(G87,INDIRECT(\"CSTTableTypes_\"&$C$14),0)))))","v":0},0,0,0,0,0,0,0,0,0,0,0,0,0,0,0,0,null,null,null,63,0,{"$f":"VLOOKUP(Worksheet!N87,code!$K$3:$M$13,3,FALSE)","v":{"$error":"#N/A"}},"","","","",""]
["-",null,null,null,1,0,null,null,null,null,null,0,0,null,null,null,null,null,{"$f":"IF(OR(ISBLANK($C$14),ISBLANK($C$16),ISBLANK($G$16),ISBLANK($G$17),AND(LEFT(G88,6)=\"Atrium\",ISBLANK(I88))=TRUE)=TRUE,0,IF(LEFT(G88,6)=\"Atrium\",IF(G88='ASHRAE 90.1 2013 - CST'!$D$2,0.4+I88*0.02,I88*0.03),IF(ISBLANK(G88),IF(ISBLANK(H88),\"0\",VLOOKUP(H88,INDIRECT(\"BSSTTable_\"&$C$14),2,FALSE)),INDEX(INDIRECT(\"CSTTable_\"&$C$14),MATCH($C$16,INDIRECT(\"BldgTypes_\"&$C$14),0),MATCH(G88,INDIRECT(\"CSTTableTypes_\"&$C$14),0)))))","v":0},0,0,0,0,0,0,0,0,0,0,0,0,0,0,0,0,null,null,null,64,0,{"$f":"VLOOKUP(Worksheet!N88,code!$K$3:$M$13,3,FALSE)","v":{"$error":"#N/A"}},"","","","",""]
["-",null,null,null,1,{"$f":"B89*E89","v":0},null,null,null,null,null,0,0,null,null,null,null,null,{"$f":"IF(OR(ISBLANK($C$14),ISBLANK($C$16),ISBLANK($G$16),ISBLANK($G$17),AND(LEFT(G89,6)=\"Atrium\",ISBLANK(I89))=TRUE)=TRUE,0,IF(LEFT(G89,6)=\"Atrium\",IF(G89='ASHRAE 90.1 2013 - CST'!$D$2,0.4+I89*0.02,I89*0.03),IF(ISBLANK(G89),IF(ISBLANK(H89),\"0\",VLOOKUP(H89,INDIRECT(\"BSSTTable_\"&$C$14),2,FALSE)),INDEX(INDIRECT(\"CSTTable_\"&$C$14),MATCH($C$16,INDIRECT(\"BldgTypes_\"&$C$14),0),MATCH(G89,INDIRECT(\"CSTTableTypes_\"&$C$14),0)))))","v":0},0,0,0,0,0,0,0,0,0,0,0,0,0,0,0,0,null,null,null,65,0,{"$f":"VLOOKUP(Worksheet!N89,code!$K$3:$M$13,3,FALSE)","v":{"$error":"#N/A"}},{"$f":"IF($AR$21<>0, $AF$8/$AR$21*AR89, \"\")","v":""},"","",{"$f":"IF($AR$21<>0, $AG$8/$AR$21*$AR89, \"\")","v":""},""]
["-",null,null,null,1,0,null,null,null,null,null,{"$f":"C90*$E90","v":0},{"$f":"D90*$E90","v":0},null,null,null,null,null,{"$f":"IF(OR(ISBLANK($C$14),ISBLANK($C$16),ISBLANK($G$16),ISBLANK($G$17),AND(LEFT(G90,6)=\"Atrium\",ISBLANK(I90))=TRUE)=TRUE,0,IF(LEFT(G90,6)=\"Atrium\",IF(G90='ASHRAE 90.1 2013 - CST'!$D$2,0.4+I90*0.02,I90*0.03),IF(ISBLANK(G90),IF(ISBLANK(H90),\"0\",VLOOKUP(H90,INDIRECT(\"BSSTTable_\"&$C$14),2,FALSE)),INDEX(INDIRECT(\"CSTTable_\"&$C$14),MATCH($C$16,INDIRECT(\"BldgTypes_\"&$C$14),0),MATCH(G90,INDIRECT(\"CSTTableTypes_\"&$C$14),0)))))","v":0},{"$f":"S90","v":0},{"$f":"T90*F90","v":0},{"$f":"L90*P90","v":0},{"$f":"M90*P90","v":0},{"$f":"spaceSum(ROW(V90), COLUMN(V90))","v":0},{"$f":"spaceSum(ROW(W90), COLUMN(W90))","v":0},{"$f":"spaceSumIfYes(ROW(L90), COLUMN(L90), COLUMN(K90))","v":0},{"$f":"spaceSumIfYes(ROW(M90), COLUMN(M90), COLUMN(K90))","v":0},{"$f":"IF(B90=0,0,IF(AND(Z90>0,(U90-X90>0)),\"Y\",\"N\"))","v":0},{"$f":"IF(B90=0,0,IF(AND(AA90>0,(U90-Y90>0)),\"Y\",\"N\"))","v":0},{"$f":"IF(AND(NOT(ISNA(T90))),F90,0)","v":0},{"$f":"IF(NOT(ISNA(U90)),U90,0)","v":0},0,{"$f":"IF(AND(NOT(ISNA(W90)),$AC90=\"y\"),Y90,0)","v":0},{"$f":"IF(AND(NOT(ISNA(X90)),$AB90=\"y\"),Z90,0)","v":0},{"$f":"IF(AND(NOT(ISNA(Y90)),$AC90=\"y\"),AA90,0)","v":0},null,null,null,66,{"$f":"IF(V90>0, IF(ISERROR(V90)=FALSE,V90),IF(ISERROR(W90)=FALSE,W90))","v":0},{"$f":"VLOOKUP(Worksheet!N90,code!$K$3:$M$13,3,FALSE)","v":{"$error":"#N/A"}},"",{"$f":"IF($AR$21<>0, $V$16/$AR$21*AR90, \"\")","v":""},{"$f":"IF(ISERROR(AN90)=FALSE,IF(ISERROR(AO90)=FALSE,AO90*AN90,\"\"),\"\")","v":""},"",{"$f":"IF($AR$21<>0, $V$17/$AR$21*$AR90, \"\")","v":""}]
["-",null,null,null,1,0,null,null,null,null,null,0,0,null,null,null,null,null,{"$f":"IF(OR(ISBLANK($C$14),ISBLANK($C$16),ISBLANK($G$16),ISBLANK($G$17),AND(LEFT(G91,6)=\"Atrium\",ISBLANK(I91))=TRUE)=TRUE,0,IF(LEFT(G91,6)=\"Atrium\",IF(G91='ASHRAE 90.1 2013 - CST'!$D$2,0.4+I91*0.02,I91*0.03),IF(ISBLANK(G91),IF(ISBLANK(H91),\"0\",VLOOKUP(H91,INDIRECT(\"BSSTTable_\"&$C$14),2,FALSE)),INDEX(INDIRECT(\"CSTTable_\"&$C$14),MATCH($C$16,INDIRECT(\"BldgTypes_\"&$C$14),0),MATCH(G91,INDIRECT(\"CSTTableTypes_\"&$C$14),0)))))","v":0},0,0,0,0,0,0,0,0,0,0,0,0,0,0,0,0,null,null,null,{"$f":"AM90+1","v":67},0,{"$f":"VLOOKUP(Worksheet!N91,code!$K$3:$M$13,3,FALSE)","v":{"$error":"#N/A"}},"","","","",""]
["-",null,null,null,1,0,null,null,null,null,null,0,0,null,null,null,null,null,{"$f":"IF(OR(ISBLANK($C$14),ISBLANK($C$16),ISBLANK($G$16),ISBLANK($G$17),AND(LEFT(G92,6)=\"Atrium\",ISBLANK(I92))=TRUE)=TRUE,0,IF(LEFT(G92,6)=\"Atrium\",IF(G92='ASHRAE 90.1 2013 - CST'!$D$2,0.4+I92*0.02,I92*0.03),IF(ISBLANK(G92),IF(ISBLANK(H92),\"0\",VLOOKUP(H92,INDIRECT(\"BSSTTable_\"&$C$14),2,FALSE)),INDEX(INDIRECT(\"CSTTable_\"&$C$14),MATCH($C$16,INDIRECT(\"BldgTypes_\"&$C$14),0),MATCH(G92,INDIRECT(\"CSTTableTypes_\"&$C$14),0)))))","v":0},0,0,0,0,0,0,0,0,0,0,0,0,0,0,0,0,null,null,null,68,0,{"$f":"VLOOKUP(Worksheet!N92,code!$K$3:$M$13,3,FALSE)","v":{"$error":"#N/A"}},"","","","",""]
["-",null,null,null,1,0,null,null,null,null,null,0,0,null,null,null,null,null,{"$f":"IF(OR(ISBLANK($C$14),ISBLANK($C$16),ISBLANK($G$16),ISBLANK($G$17),AND(LEFT(G93,6)=\"Atrium\",ISBLANK(I93))=TRUE)=TRUE,0,IF(LEFT(G93,6)=\"Atrium\",IF(G93='ASHRAE 90.1 2013 - CST'!$D$2,0.4+I93*0.02,I93*0.03),IF(ISBLANK(G93),IF(ISBLANK(H93),\"0\",VLOOKUP(H93,INDIRECT(\"BSSTTable_\"&$C$14),2,FALSE)),INDEX(INDIRECT(\"CSTTable_\"&$C$14),MATCH($C$16,INDIRECT(\"BldgTypes_\"&$C$14),0),MATCH(G93,INDIRECT(\"CSTTableTypes_\"&$C$14),0)))))","v":0},0,0,0,0,0,0,0,0,0,0,0,0,0,0,0,0,null,null,null,69,0,{"$f":"VLOOKUP(Worksheet!N93,code!$K$3:$M$13,3,FALSE)","v":{"$error":"#N/A"}},"","","","",""]
["-",null,null,null,1,0,null,null,null,null,null,0,0,null,null,null,null,null,{"$f":"IF(OR(ISBLANK($C$14),ISBLANK($C$16),ISBLANK($G$16),ISBLANK($G$17),AND(LEFT(G94,6)=\"Atrium\",ISBLANK(I94))=TRUE)=TRUE,0,IF(LEFT(G94,6)=\"Atrium\",IF(G94='ASHRAE 90.1 2013 - CST'!$D$2,0.4+I94*0.02,I94*0.03),IF(ISBLANK(G94),IF(ISBLANK(H94),\"0\",VLOOKUP(H94,INDIRECT(\"BSSTTable_\"&$C$14),2,FALSE)),INDEX(INDIRECT(\"CSTTable_\"&$C$14),MATCH($C$16,INDIRECT(\"BldgTypes_\"&$C$14),0),MATCH(G94,INDIRECT(\"CSTTableTypes_\"&$C$14),0)))))","v":0},0,0,0,0,0,0,0,0,0,0,0,0,0,0,0,0,null,null,null,70,0,{"$f":"VLOOKUP(Worksheet!N94,code!$K$3:$M$13,3,FALSE)","v":{"$error":"#N/A"}},"","","","",""]
["-",null,null,null,1,0,null,null,null,null,null,0,0,null,null,null,null,null,{"$f":"IF(OR(ISBLANK($C$14),ISBLANK($C$16),ISBLANK($G$16),ISBLANK($G$17),AND(LEFT(G95,6)=\"Atrium\",ISBLANK(I95))=TRUE)=TRUE,0,IF(LEFT(G95,6)=\"Atrium\",IF(G95='ASHRAE 90.1 2013 - CST'!$D$2,0.4+I95*0.02,I95*0.03),IF(ISBLANK(G95),IF(ISBLANK(H95),\"0\",VLOOKUP(H95,INDIRECT(\"BSSTTable_\"&$C$14),2,FALSE)),INDEX(INDIRECT(\"CSTTable_\"&$C$14),MATCH($C$16,INDIRECT(\"BldgTypes_\"&$C$14),0),MATCH(G95,INDIRECT(\"CSTTableTypes_\"&$C$14),0)))))","v":0},0,0,0,0,0,0,0,0,0,0,0,0,0,0,0,0,null,null,null,71,0,{"$f":"VLOOKUP(Worksheet!N95,code!$K$3:$M$13,3,FALSE)","v":{"$error":"#N/A"}},"","","","",""]
["-",null,null,null,1,0,null,null,null,null,null,0,0,null,null,null,null,null,{"$f":"IF(OR(ISBLANK($C$14),ISBLANK($C$16),ISBLANK($G$16),ISBLANK($G$17),AND(LEFT(G96,6)=\"Atrium\",ISBLANK(I96))=TRUE)=TRUE,0,IF(LEFT(G96,6)=\"Atrium\",IF(G96='ASHRAE 90.1 2013 - CST'!$D$2,0.4+I96*0.02,I96*0.03),IF(ISBLANK(G96),IF(ISBLANK(H96),\"0\",VLOOKUP(H96,INDIRECT(\"BSSTTable_\"&$C$14),2,FALSE)),INDEX(INDIRECT(\"CSTTable_\"&$C$14),MATCH($C$16,INDIRECT(\"BldgTypes_\"&$C$14),0),MATCH(G96,INDIRECT(\"CSTTableTypes_\"&$C$14),0)))))","v":0},0,0,0,0,0,0,0,0,0,0,0,0,0,0,0,0,null,null,null,72,0,{"$f":"VLOOKUP(Worksheet!N96,code!$K$3:$M$13,3,FALSE)","v":{"$error":"#N/A"}},"","","","",""]
["-",null,null,null,1,0,null,null,null,null,null,0,0,null,null,null,null,null,{"$f":"IF(OR(ISBLANK($C$14),ISBLANK($C$16),ISBLANK($G$16),ISBLANK($G$17),AND(LEFT(G97,6)=\"Atrium\",ISBLANK(I97))=TRUE)=TRUE,0,IF(LEFT(G97,6)=\"Atrium\",IF(G97='ASHRAE 90.1 2013 - CST'!$D$2,0.4+I97*0.02,I97*0.03),IF(ISBLANK(G97),IF(ISBLANK(H97),\"0\",VLOOKUP(H97,INDIRECT(\"BSSTTable_\"&$C$14),2,FALSE)),INDEX(INDIRECT(\"CSTTable_\"&$C$14),MATCH($C$16,INDIRECT(\"BldgTypes_\"&$C$14),0),MATCH(G97,INDIRECT(\"CSTTableTypes_\"&$C$14),0)))))","v":0},0,0,0,0,0,0,0,0,0,0,0,0,0,0,0,0,null,null,null,73,0,{"$f":"VLOOKUP(Worksheet!N97,code!$K$3:$M$13,3,FALSE)","v":{"$error":"#N/A"}},"","","","",""]
["-",null,null,null,1,0,null,null,null,null,null,0,0,null,null,null,null,null,{"$f":"IF(OR(ISBLANK($C$14),ISBLANK($C$16),ISBLANK($G$16),ISBLANK($G$17),AND(LEFT(G98,6)=\"Atrium\",ISBLANK(I98))=TRUE)=TRUE,0,IF(LEFT(G98,6)=\"Atrium\",IF(G98='ASHRAE 90.1 2013 - CST'!$D$2,0.4+I98*0.02,I98*0.03),IF(ISBLANK(G98),IF(ISBLANK(H98),\"0\",VLOOKUP(H98,INDIRECT(\"BSSTTable_\"&$C$14),2,FALSE)),INDEX(INDIRECT(\"CSTTable_\"&$C$14),MATCH($C$16,INDIRECT(\"BldgTypes_\"&$C$14),0),MATCH(G98,INDIRECT(\"CSTTableTypes_\"&$C$14),0)))))","v":0},0,0,0,0,0,0,0,0,0,0,0,0,0,0,0,0,null,null,null,74,0,{"$f":"VLOOKUP(Worksheet!N98,code!$K$3:$M$13,3,FALSE)","v":{"$error":"#N/A"}},"","","","",""]
["-",null,null,null,1,0,null,null,null,null,null,0,0,null,null,null,null,null,{"$f":"IF(OR(ISBLANK($C$14),ISBLANK($C$16),ISBLANK($G$16),ISBLANK($G$17),AND(LEFT(G99,6)=\"Atrium\",ISBLANK(I99))=TRUE)=TRUE,0,IF(LEFT(G99,6)=\"Atrium\",IF(G99='ASHRAE 90.1 2013 - CST'!$D$2,0.4+I99*0.02,I99*0.03),IF(ISBLANK(G99),IF(ISBLANK(H99),\"0\",VLOOKUP(H99,INDIRECT(\"BSSTTable_\"&$C$14),2,FALSE)),INDEX(INDIRECT(\"CSTTable_\"&$C$14),MATCH($C$16,INDIRECT(\"BldgTypes_\"&$C$14),0),MATCH(G99,INDIRECT(\"CSTTableTypes_\"&$C$14),0)))))","v":0},0,0,0,0,0,0,0,0,0,0,0,0,0,0,0,0,null,null,null,75,0,{"$f":"VLOOKUP(Worksheet!N99,code!$K$3:$M$13,3,FALSE)","v":{"$error":"#N/A"}},"","","","",""]
["-",null,null,null,1,0,null,null,null,null,null,0,0,null,null,null,null,null,{"$f":"IF(OR(ISBLANK($C$14),ISBLANK($C$16),ISBLANK($G$16),ISBLANK($G$17),AND(LEFT(G100,6)=\"Atrium\",ISBLANK(I100))=TRUE)=TRUE,0,IF(LEFT(G100,6)=\"Atrium\",IF(G100='ASHRAE 90.1 2013 - CST'!$D$2,0.4+I100*0.02,I100*0.03),IF(ISBLANK(G100),IF(ISBLANK(H100),\"0\",VLOOKUP(H100,INDIRECT(\"BSSTTable_\"&$C$14),2,FALSE)),INDEX(INDIRECT(\"CSTTable_\"&$C$14),MATCH($C$16,INDIRECT(\"BldgTypes_\"&$C$14),0),MATCH(G100,INDIRECT(\"CSTTableTypes_\"&$C$14),0)))))","v":0},0,0,0,0,0,0,0,0,0,0,0,0,0,0,0,0,null,null,null,76,0,{"$f":"VLOOKUP(Worksheet!N100,code!$K$3:$M$13,3,FALSE)","v":{"$error":"#N/A"}},"","","","",""]
["-",null,null,null,1,0,null,null,null,null,null,0,0,null,null,null,null,null,{"$f":"IF(OR(ISBLANK($C$14),ISBLANK($C$16),ISBLANK($G$16),ISBLANK($G$17),AND(LEFT(G101,6)=\"Atrium\",ISBLANK(I101))=TRUE)=TRUE,0,IF(LEFT(G101,6)=\"Atrium\",IF(G101='ASHRAE 90.1 2013 - CST'!$D$2,0.4+I101*0.02,I101*0.03),IF(ISBLANK(G101),IF(ISBLANK(H101),\"0\",VLOOKUP(H101,INDIRECT(\"BSSTTable_\"&$C$14),2,FALSE)),INDEX(INDIRECT(\"CSTTable_\"&$C$14),MATCH($C$16,INDIRECT(\"BldgTypes_\"&$C$14),0),MATCH(G101,INDIRECT(\"CSTTableTypes_\"&$C$14),0)))))","v":0},0,0,0,0,0,0,0,0,0,0,0,0,0,0,0,0,null,null,null,77,0,{"$f":"VLOOKUP(Worksheet!N101,code!$K$3:$M$13,3,FALSE)","v":{"$error":"#N/A"}},"","","","",""]
["-",null,null,null,1,0,null,null,null,null,null,0,0,null,null,null,null,null,{"$f":"IF(OR(ISBLANK($C$14),ISBLANK($C$16),ISBLANK($G$16),ISBLANK($G$17),AND(LEFT(G102,6)=\"Atrium\",ISBLANK(I102))=TRUE)=TRUE,0,IF(LEFT(G102,6)=\"Atrium\",IF(G102='ASHRAE 90.1 2013 - CST'!$D$2,0.4+I102*0.02,I102*0.03),IF(ISBLANK(G102),IF(ISBLANK(H102),\"0\",VLOOKUP(H102,INDIRECT(\"BSSTTable_\"&$C$14),2,FALSE)),INDEX(INDIRECT(\"CSTTable_\"&$C$14),MATCH($C$16,INDIRECT(\"BldgTypes_\"&$C$14),0),MATCH(G102,INDIRECT(\"CSTTableTypes_\"&$C$14),0)))))","v":0},0,0,0,0,0,0,0,0,0,0,0,0,0,0,0,0,null,null,null,78,0,{"$f":"VLOOKUP(Worksheet!N102,code!$K$3:$M$13,3,FALSE)","v":{"$error":"#N/A"}},"","","","",""]
["-",null,null,null,1,0,null,null,null,null,null,0,0,null,null,null,null,null,{"$f":"IF(OR(ISBLANK($C$14),ISBLANK($C$16),ISBLANK($G$16),ISBLANK($G$17),AND(LEFT(G103,6)=\"Atrium\",ISBLANK(I103))=TRUE)=TRUE,0,IF(LEFT(G103,6)=\"Atrium\",IF(G103='ASHRAE 90.1 2013 - CST'!$D$2,0.4+I103*0.02,I103*0.03),IF(ISBLANK(G103),IF(ISBLANK(H103),\"0\",VLOOKUP(H103,INDIRECT(\"BSSTTable_\"&$C$14),2,FALSE)),INDEX(INDIRECT(\"CSTTable_\"&$C$14),MATCH($C$16,INDIRECT(\"BldgTypes_\"&$C$14),0),MATCH(G103,INDIRECT(\"CSTTableTypes_\"&$C$14),0)))))","v":0},0,0,0,0,0,0,0,0,0,0,0,0,0,0,0,0,null,null,null,79,0,{"$f":"VLOOKUP(Worksheet!N103,code!$K$3:$M$13,3,FALSE)","v":{"$error":"#N/A"}},"","","","",""]
["-",null,null,null,1,0,null,null,null,null,null,0,0,null,null,null,null,null,{"$f":"IF(OR(ISBLANK($C$14),ISBLANK($C$16),ISBLANK($G$16),ISBLANK($G$17),AND(LEFT(G104,6)=\"Atrium\",ISBLANK(I104))=TRUE)=TRUE,0,IF(LEFT(G104,6)=\"Atrium\",IF(G104='ASHRAE 90.1 2013 - CST'!$D$2,0.4+I104*0.02,I104*0.03),IF(ISBLANK(G104),IF(ISBLANK(H104),\"0\",VLOOKUP(H104,INDIRECT(\"BSSTTable_\"&$C$14),2,FALSE)),INDEX(INDIRECT(\"CSTTable_\"&$C$14),MATCH($C$16,INDIRECT(\"BldgTypes_\"&$C$14),0),MATCH(G104,INDIRECT(\"CSTTableTypes_\"&$C$14),0)))))","v":0},0,0,0,0,0,0,0,0,0,0,0,0,0,0,0,0,null,null,null,80,0,{"$f":"VLOOKUP(Worksheet!N104,code!$K$3:$M$13,3,FALSE)","v":{"$error":"#N/A"}},"","","","",""]
["-",null,null,null,1,0,null,null,null,null,null,0,0,null,null,null,null,null,{"$f":"IF(OR(ISBLANK($C$14),ISBLANK($C$16),ISBLANK($G$16),ISBLANK($G$17),AND(LEFT(G105,6)=\"Atrium\",ISBLANK(I105))=TRUE)=TRUE,0,IF(LEFT(G105,6)=\"Atrium\",IF(G105='ASHRAE 90.1 2013 - CST'!$D$2,0.4+I105*0.02,I105*0.03),IF(ISBLANK(G105),IF(ISBLANK(H105),\"0\",VLOOKUP(H105,INDIRECT(\"BSSTTable_\"&$C$14),2,FALSE)),INDEX(INDIRECT(\"CSTTable_\"&$C$14),MATCH($C$16,INDIRECT(\"BldgTypes_\"&$C$14),0),MATCH(G105,INDIRECT(\"CSTTableTypes_\"&$C$14),0)))))","v":0},0,0,0,0,0,0,0,0,0,0,0,0,0,0,0,0,null,null,null,81,0,{"$f":"VLOOKUP(Worksheet!N105,code!$K$3:$M$13,3,FALSE)","v":{"$error":"#N/A"}},"","","","",""]
["-",null,null,null,1,0,null,null,null,null,null,0,0,null,null,null,null,null,{"$f":"IF(OR(ISBLANK($C$14),ISBLANK($C$16),ISBLANK($G$16),ISBLANK($G$17),AND(LEFT(G106,6)=\"Atrium\",ISBLANK(I106))=TRUE)=TRUE,0,IF(LEFT(G106,6)=\"Atrium\",IF(G106='ASHRAE 90.1 2013 - CST'!$D$2,0.4+I106*0.02,I106*0.03),IF(ISBLANK(G106),IF(ISBLANK(H106),\"0\",VLOOKUP(H106,INDIRECT(\"BSSTTable_\"&$C$14),2,FALSE)),INDEX(INDIRECT(\"CSTTable_\"&$C$14),MATCH($C$16,INDIRECT(\"BldgTypes_\"&$C$14),0),MATCH(G106,INDIRECT(\"CSTTableTypes_\"&$C$14),0)))))","v":0},0,0,0,0,0,0,0,0,0,0,0,0,0,0,0,0,null,null,null,82,0,{"$f":"VLOOKUP(Worksheet!N106,code!$K$3:$M$13,3,FALSE)","v":{"$error":"#N/A"}},"","","","",""]
["-",null,null,null,1,0,null,null,null,null,null,0,0,null,null,null,null,null,{"$f":"IF(OR(ISBLANK($C$14),ISBLANK($C$16),ISBLANK($G$16),ISBLANK($G$17),AND(LEFT(G107,6)=\"Atrium\",ISBLANK(I107))=TRUE)=TRUE,0,IF(LEFT(G107,6)=\"Atrium\",IF(G107='ASHRAE 90.1 2013 - CST'!$D$2,0.4+I107*0.02,I107*0.03),IF(ISBLANK(G107),IF(ISBLANK(H107),\"0\",VLOOKUP(H107,INDIRECT(\"BSSTTable_\"&$C$14),2,FALSE)),INDEX(INDIRECT(\"CSTTable_\"&$C$14),MATCH($C$16,INDIRECT(\"BldgTypes_\"&$C$14),0),MATCH(G107,INDIRECT(\"CSTTableTypes_\"&$C$14),0)))))","v":0},0,0,0,0,0,0,0,0,0,0,0,0,0,0,0,0,null,null,null,83,0,{"$f":"VLOOKUP(Worksheet!N107,code!$K$3:$M$13,3,FALSE)","v":{"$error":"#N/A"}},"","","","",""]
["-",null,null,null,1,{"$f":"B108*E108","v":0},null,null,null,null,null,0,0,null,null,null,null,null,{"$f":"IF(OR(ISBLANK($C$14),ISBLANK($C$16),ISBLANK($G$16),ISBLANK($G$17),AND(LEFT(G108,6)=\"Atrium\",ISBLANK(I108))=TRUE)=TRUE,0,IF(LEFT(G108,6)=\"Atrium\",IF(G108='ASHRAE 90.1 2013 - CST'!$D$2,0.4+I108*0.02,I108*0.03),IF(ISBLANK(G108),IF(ISBLANK(H108),\"0\",VLOOKUP(H108,INDIRECT(\"BSSTTable_\"&$C$14),2,FALSE)),INDEX(INDIRECT(\"CSTTable_\"&$C$14),MATCH($C$16,INDIRECT(\"BldgTypes_\"&$C$14),0),MATCH(G108,INDIRECT(\"CSTTableTypes_\"&$C$14),0)))))","v":0},0,0,0,0,0,0,0,0,0,0,0,0,0,0,0,0,null,null,null,84,0,{"$f":"VLOOKUP(Worksheet!N108,code!$K$3:$M$13,3,FALSE)","v":{"$error":"#N/A"}},"","","","",""]
["-",null,null,null,1,0,null,null,null,null,null,0,0,null,null,null,null,null,{"$f":"IF(OR(ISBLANK($C$14),ISBLANK($C$16),ISBLANK($G$16),ISBLANK($G$17),AND(LEFT(G109,6)=\"Atrium\",ISBLANK(I109))=TRUE)=TRUE,0,IF(LEFT(G109,6)=\"Atrium\",IF(G109='ASHRAE 90.1 2013 - CST'!$D$2,0.4+I109*0.02,I109*0.03),IF(ISBLANK(G109),IF(ISBLANK(H109),\"0\",VLOOKUP(H109,INDIRECT(\"BSSTTable_\"&$C$14),2,FALSE)),INDEX(INDIRECT(\"CSTTable_\"&$C$14),MATCH($C$16,INDIRECT(\"BldgTypes_\"&$C$14),0),MATCH(G109,INDIRECT(\"CSTTableTypes_\"&$C$14),0)))))","v":0},0,0,0,0,0,0,0,0,0,0,0,0,0,0,0,0,null,null,null,85,0,{"$f":"VLOOKUP(Worksheet!N109,code!$K$3:$M$13,3,FALSE)","v":{"$error":"#N/A"}},"","","","",""]
["-",null,null,null,1,0,null,null,null,null,null,0,0,null,null,null,null,null,{"$f":"IF(OR(ISBLANK($C$14),ISBLANK($C$16),ISBLANK($G$16),ISBLANK($G$17),AND(LEFT(G110,6)=\"Atrium\",ISBLANK(I110))=TRUE)=TRUE,0,IF(LEFT(G110,6)=\"Atrium\",IF(G110='ASHRAE 90.1 2013 - CST'!$D$2,0.4+I110*0.02,I110*0.03),IF(ISBLANK(G110),IF(ISBLANK(H110),\"0\",VLOOKUP(H110,INDIRECT(\"BSSTTable_\"&$C$14),2,FALSE)),INDEX(INDIRECT(\"CSTTable_\"&$C$14),MATCH($C$16,INDIRECT(\"BldgTypes_\"&$C$14),0),MATCH(G110,INDIRECT(\"CSTTableTypes_\"&$C$14),0)))))","v":0},0,0,0,0,0,0,0,0,0,0,0,0,0,0,0,0,null,null,null,86,0,{"$f":"VLOOKUP(Worksheet!N110,code!$K$3:$M$13,3,FALSE)","v":{"$error":"#N/A"}},"","","","",""]
["-",null,null,null,1,0,null,null,null,null,null,0,0,null,null,null,null,null,{"$f":"IF(OR(ISBLANK($C$14),ISBLANK($C$16),ISBLANK($G$16),ISBLANK($G$17),AND(LEFT(G111,6)=\"Atrium\",ISBLANK(I111))=TRUE)=TRUE,0,IF(LEFT(G111,6)=\"Atrium\",IF(G111='ASHRAE 90.1 2013 - CST'!$D$2,0.4+I111*0.02,I111*0.03),IF(ISBLANK(G111),IF(ISBLANK(H111),\"0\",VLOOKUP(H111,INDIRECT(\"BSSTTable_\"&$C$14),2,FALSE)),INDEX(INDIRECT(\"CSTTable_\"&$C$14),MATCH($C$16,INDIRECT(\"BldgTypes_\"&$C$14),0),MATCH(G111,INDIRECT(\"CSTTableTypes_\"&$C$14),0)))))","v":0},0,0,0,0,0,0,0,0,0,0,0,0,0,0,0,0,null,null,null,87,0,{"$f":"VLOOKUP(Worksheet!N111,code!$K$3:$M$13,3,FALSE)","v":{"$error":"#N/A"}},"","","","",""]
["-",null,null,null,1,0,null,null,null,null,null,0,0,null,null,null,null,null,{"$f":"IF(OR(ISBLANK($C$14),ISBLANK($C$16),ISBLANK($G$16),ISBLANK($G$17),AND(LEFT(G112,6)=\"Atrium\",ISBLANK(I112))=TRUE)=TRUE,0,IF(LEFT(G112,6)=\"Atrium\",IF(G112='ASHRAE 90.1 2013 - CST'!$D$2,0.4+I112*0.02,I112*0.03),IF(ISBLANK(G112),IF(ISBLANK(H112),\"0\",VLOOKUP(H112,INDIRECT(\"BSSTTable_\"&$C$14),2,FALSE)),INDEX(INDIRECT(\"CSTTable_\"&$C$14),MATCH($C$16,INDIRECT(\"BldgTypes_\"&$C$14),0),MATCH(G112,INDIRECT(\"CSTTableTypes_\"&$C$14),0)))))","v":0},0,0,0,0,0,0,0,0,0,0,0,0,0,0,0,0,null,null,null,88,0,{"$f":"VLOOKUP(Worksheet!N112,code!$K$3:$M$13,3,FALSE)","v":{"$error":"#N/A"}},"","","","",""]
["-",null,null,null,1,0,null,null,null,null,null,0,0,null,null,null,null,null,{"$f":"IF(OR(ISBLANK($C$14),ISBLANK($C$16),ISBLANK($G$16),ISBLANK($G$17),AND(LEFT(G113,6)=\"Atrium\",ISBLANK(I113))=TRUE)=TRUE,0,IF(LEFT(G113,6)=\"Atrium\",IF(G113='ASHRAE 90.1 2013 - CST'!$D$2,0.4+I113*0.02,I113*0.03),IF(ISBLANK(G113),IF(ISBLANK(H113),\"0\",VLOOKUP(H113,INDIRECT(\"BSSTTable_\"&$C$14),2,FALSE)),INDEX(INDIRECT(\"CSTTable_\"&$C$14),MATCH($C$16,INDIRECT(\"BldgTypes_\"&$C$14),0),MATCH(G113,INDIRECT(\"CSTTableTypes_\"&$C$14),0)))))","v":0},0,0,0,0,0,0,0,0,0,0,0,0,0,0,0,0,null,null,null,89,0,{"$f":"VLOOKUP(Worksheet!N113,code!$K$3:$M$13,3,FALSE)","v":{"$error":"#N/A"}},"","","","",""]
["-",null,null,null,1,0,null,null,null,null,null,0,0,null,null,null,null,null,{"$f":"IF(OR(ISBLANK($C$14),ISBLANK($C$16),ISBLANK($G$16),ISBLANK($G$17),AND(LEFT(G114,6)=\"Atrium\",ISBLANK(I114))=TRUE)=TRUE,0,IF(LEFT(G114,6)=\"Atrium\",IF(G114='ASHRAE 90.1 2013 - CST'!$D$2,0.4+I114*0.02,I114*0.03),IF(ISBLANK(G114),IF(ISBLANK(H114),\"0\",VLOOKUP(H114,INDIRECT(\"BSSTTable_\"&$C$14),2,FALSE)),INDEX(INDIRECT(\"CSTTable_\"&$C$14),MATCH($C$16,INDIRECT(\"BldgTypes_\"&$C$14),0),MATCH(G114,INDIRECT(\"CSTTableTypes_\"&$C$14),0)))))","v":0},0,0,0,0,0,0,0,0,0,0,0,0,0,0,0,0,null,null,null,90,0,{"$f":"VLOOKUP(Worksheet!N114,code!$K$3:$M$13,3,FALSE)","v":{"$error":"#N/A"}},"","","","",""]
["-",null,null,null,1,0,null,null,null,null,null,0,0,null,null,null,null,null,{"$f":"IF(OR(ISBLANK($C$14),ISBLANK($C$16),ISBLANK($G$16),ISBLANK($G$17),AND(LEFT(G115,6)=\"Atrium\",ISBLANK(I115))=TRUE)=TRUE,0,IF(LEFT(G115,6)=\"Atrium\",IF(G115='ASHRAE 90.1 2013 - CST'!$D$2,0.4+I115*0.02,I115*0.03),IF(ISBLANK(G115),IF(ISBLANK(H115),\"0\",VLOOKUP(H115,INDIRECT(\"BSSTTable_\"&$C$14),2,FALSE)),INDEX(INDIRECT(\"CSTTable_\"&$C$14),MATCH($C$16,INDIRECT(\"BldgTypes_\"&$C$14),0),MATCH(G115,INDIRECT(\"CSTTableTypes_\"&$C$14),0)))))","v":0},0,0,0,0,0,0,0,0,0,0,0,0,0,0,0,0,null,null,null,91,0,{"$f":"VLOOKUP(Worksheet!N115,code!$K$3:$M$13,3,FALSE)","v":{"$error":"#N/A"}},"","","","",""]
["-",null,null,null,1,0,null,null,null,null,null,0,0,null,null,null,null,null,{"$f":"IF(OR(ISBLANK($C$14),ISBLANK($C$16),ISBLANK($G$16),ISBLANK($G$17),AND(LEFT(G116,6)=\"Atrium\",ISBLANK(I116))=TRUE)=TRUE,0,IF(LEFT(G116,6)=\"Atrium\",IF(G116='ASHRAE 90.1 2013 - CST'!$D$2,0.4+I116*0.02,I116*0.03),IF(ISBLANK(G116),IF(ISBLANK(H116),\"0\",VLOOKUP(H116,INDIRECT(\"BSSTTable_\"&$C$14),2,FALSE)),INDEX(INDIRECT(\"CSTTable_\"&$C$14),MATCH($C$16,INDIRECT(\"BldgTypes_\"&$C$14),0),MATCH(G116,INDIRECT(\"CSTTableTypes_\"&$C$14),0)))))","v":0},0,0,0,0,0,0,0,0,0,0,0,0,0,0,0,0,null,null,null,92,0,{"$f":"VLOOKUP(Worksheet!N116,code!$K$3:$M$13,3,FALSE)","v":{"$error":"#N/A"}},"","","","",""]
["-",null,null,null,1,0,null,null,null,null,null,0,0,null,null,null,null,null,{"$f":"IF(OR(ISBLANK($C$14),ISBLANK($C$16),ISBLANK($G$16),ISBLANK($G$17),AND(LEFT(G117,6)=\"Atrium\",ISBLANK(I117))=TRUE)=TRUE,0,IF(LEFT(G117,6)=\"Atrium\",IF(G117='ASHRAE 90.1 2013 - CST'!$D$2,0.4+I117*0.02,I117*0.03),IF(ISBLANK(G117),IF(ISBLANK(H117),\"0\",VLOOKUP(H117,INDIRECT(\"BSSTTable_\"&$C$14),2,FALSE)),INDEX(INDIRECT(\"CSTTable_\"&$C$14),MATCH($C$16,INDIRECT(\"BldgTypes_\"&$C$14),0),MATCH(G117,INDIRECT(\"CSTTableTypes_\"&$C$14),0)))))","v":0},0,0,0,0,0,0,0,0,0,0,0,0,0,0,0,0,null,null,null,93,0,{"$f":"VLOOKUP(Worksheet!N117,code!$K$3:$M$13,3,FALSE)","v":{"$error":"#N/A"}},"","","","",""]
["-",null,null,null,1,0,null,null,null,null,null,0,0,null,null,null,null,null,{"$f":"IF(OR(ISBLANK($C$14),ISBLANK($C$16),ISBLANK($G$16),ISBLANK($G$17),AND(LEFT(G118,6)=\"Atrium\",ISBLANK(I118))=TRUE)=TRUE,0,IF(LEFT(G118,6)=\"Atrium\",IF(G118='ASHRAE 90.1 2013 - CST'!$D$2,0.4+I118*0.02,I118*0.03),IF(ISBLANK(G118),IF(ISBLANK(H118),\"0\",VLOOKUP(H118,INDIRECT(\"BSSTTable_\"&$C$14),2,FALSE)),INDEX(INDIRECT(\"CSTTable_\"&$C$14),MATCH($C$16,INDIRECT(\"BldgTypes_\"&$C$14),0),MATCH(G118,INDIRECT(\"CSTTableTypes_\"&$C$14),0)))))","v":0},0,0,0,0,0,0,0,0,0,0,0,0,0,0,0,0,null,null,null,94,0,{"$f":"VLOOKUP(Worksheet!N118,code!$K$3:$M$13,3,FALSE)","v":{"$error":"#N/A"}},"","","","",""]
["-",null,null,null,1,{"$f":"B119*E119","v":0},null,null,null,null,null,0,0,null,null,null,null,null,{"$f":"IF(OR(ISBLANK($C$14),ISBLANK($C$16),ISBLANK($G$16),ISBLANK($G$17),AND(LEFT(G119,6)=\"Atrium\",ISBLANK(I119))=TRUE)=TRUE,0,IF(LEFT(G119,6)=\"Atrium\",IF(G119='ASHRAE 90.1 2013 - CST'!$D$2,0.4+I119*0.02,I119*0.03),IF(ISBLANK(G119),IF(ISBLANK(H119),\"0\",VLOOKUP(H119,INDIRECT(\"BSSTTable_\"&$C$14),2,FALSE)),INDEX(INDIRECT(\"CSTTable_\"&$C$14),MATCH($C$16,INDIRECT(\"BldgTypes_\"&$C$14),0),MATCH(G119,INDIRECT(\"CSTTableTypes_\"&$C$14),0)))))","v":0},0,0,0,0,0,0,0,0,0,0,0,0,{"$f":"IF(AND(NOT(ISNA(V119)),$AB119=\"y\"),X119,0)","v":0},0,0,0,null,null,null,95,0,{"$f":"VLOOKUP(Worksheet!N119,code!$K$3:$M$13,3,FALSE)","v":{"$error":"#N/A"}},"","","","",""]
["-",null,null,null,1,0,null,null,null,null,null,0,0,null,null,null,null,null,{"$f":"IF(OR(ISBLANK($C$14),ISBLANK($C$16),ISBLANK($G$16),ISBLANK($G$17),AND(LEFT(G120,6)=\"Atrium\",ISBLANK(I120))=TRUE)=TRUE,0,IF(LEFT(G120,6)=\"Atrium\",IF(G120='ASHRAE 90.1 2013 - CST'!$D$2,0.4+I120*0.02,I120*0.03),IF(ISBLANK(G120),IF(ISBLANK(H120),\"0\",VLOOKUP(H120,INDIRECT(\"BSSTTable_\"&$C$14),2,FALSE)),INDEX(INDIRECT(\"CSTTable_\"&$C$14),MATCH($C$16,INDIRECT(\"BldgTypes_\"&$C$14),0),MATCH(G120,INDIRECT(\"CSTTableTypes_\"&$C$14),0)))))","v":0},0,0,0,0,0,0,0,0,0,0,0,0,0,0,0,0,null,null,null,96,0,{"$f":"VLOOKUP(Worksheet!N120,code!$K$3:$M$13,3,FALSE)","v":{"$error":"#N/A"}},"","","","",""]
["-",null,null,null,1,0,null,null,null,null,null,0,0,null,null,null,null,null,{"$f":"IF(OR(ISBLANK($C$14),ISBLANK($C$16),ISBLANK($G$16),ISBLANK($G$17),AND(LEFT(G121,6)=\"Atrium\",ISBLANK(I121))=TRUE)=TRUE,0,IF(LEFT(G121,6)=\"Atrium\",IF(G121='ASHRAE 90.1 2013 - CST'!$D$2,0.4+I121*0.02,I121*0.03),IF(ISBLANK(G121),IF(ISBLANK(H121),\"0\",VLOOKUP(H121,INDIRECT(\"BSSTTable_\"&$C$14),2,FALSE)),INDEX(INDIRECT(\"CSTTable_\"&$C$14),MATCH($C$16,INDIRECT(\"BldgTypes_\"&$C$14),0),MATCH(G121,INDIRECT(\"CSTTableTypes_\"&$C$14),0)))))","v":0},0,0,0,0,0,0,0,0,0,0,0,0,0,0,0,0,null,null,null,97,0,{"$f":"VLOOKUP(Worksheet!N121,code!$K$3:$M$13,3,FALSE)","v":{"$error":"#N/A"}},"","","","",""]
["-",null,null,null,1,0,null,null,null,null,null,0,0,null,null,null,null,null,{"$f":"IF(OR(ISBLANK($C$14),ISBLANK($C$16),ISBLANK($G$16),ISBLANK($G$17),AND(LEFT(G122,6)=\"Atrium\",ISBLANK(I122))=TRUE)=TRUE,0,IF(LEFT(G122,6)=\"Atrium\",IF(G122='ASHRAE 90.1 2013 - CST'!$D$2,0.4+I122*0.02,I122*0.03),IF(ISBLANK(G122),IF(ISBLANK(H122),\"0\",VLOOKUP(H122,INDIRECT(\"BSSTTable_\"&$C$14),2,FALSE)),INDEX(INDIRECT(\"CSTTable_\"&$C$14),MATCH($C$16,INDIRECT(\"BldgTypes_\"&$C$14),0),MATCH(G122,INDIRECT(\"CSTTableTypes_\"&$C$14),0)))))","v":0},0,0,0,0,0,0,0,0,0,0,0,0,0,0,0,0,null,null,null,98,0,{"$f":"VLOOKUP(Worksheet!N122,code!$K$3:$M$13,3,FALSE)","v":{"$error":"#N/A"}},"","","","",""]
["-",null,null,null,1,0,null,null,null,null,null,0,0,null,null,null,null,null,{"$f":"IF(OR(ISBLANK($C$14),ISBLANK($C$16),ISBLANK($G$16),ISBLANK($G$17),AND(LEFT(G123,6)=\"Atrium\",ISBLANK(I123))=TRUE)=TRUE,0,IF(LEFT(G123,6)=\"Atrium\",IF(G123='ASHRAE 90.1 2013 - CST'!$D$2,0.4+I123*0.02,I123*0.03),IF(ISBLANK(G123),IF(ISBLANK(H123),\"0\",VLOOKUP(H123,INDIRECT(\"BSSTTable_\"&$C$14),2,FALSE)),INDEX(INDIRECT(\"CSTTable_\"&$C$14),MATCH($C$16,INDIRECT(\"BldgTypes_\"&$C$14),0),MATCH(G123,INDIRECT(\"CSTTableTypes_\"&$C$14),0)))))","v":0},0,0,0,0,0,0,0,0,0,0,0,0,0,0,0,0,null,null,null,99,0,{"$f":"VLOOKUP(Worksheet!N123,code!$K$3:$M$13,3,FALSE)","v":{"$error":"#N/A"}},"","","","",""]
["-",null,null,null,1,0,null,null,null,null,null,0,0,null,null,null,null,null,{"$f":"IF(OR(ISBLANK($C$14),ISBLANK($C$16),ISBLANK($G$16),ISBLANK($G$17),AND(LEFT(G124,6)=\"Atrium\",ISBLANK(I124))=TRUE)=TRUE,0,IF(LEFT(G124,6)=\"Atrium\",IF(G124='ASHRAE 90.1 2013 - CST'!$D$2,0.4+I124*0.02,I124*0.03),IF(ISBLANK(G124),IF(ISBLANK(H124),\"0\",VLOOKUP(H124,INDIRECT(\"BSSTTable_\"&$C$14),2,FALSE)),INDEX(INDIRECT(\"CSTTable_\"&$C$14),MATCH($C$16,INDIRECT(\"BldgTypes_\"&$C$14),0),MATCH(G124,INDIRECT(\"CSTTableTypes_\"&$C$14),0)))))","v":0},0,0,0,0,0,0,0,0,0,0,0,0,0,0,0,0,null,null,null,100,0,{"$f":"VLOOKUP(Worksheet!N124,code!$K$3:$M$13,3,FALSE)","v":{"$error":"#N/A"}},"","","","",""]
["-",null,null,null,1,{"$f":"B125*E125","v":0},null,null,null,null,null,0,0,null,null,null,null,null,{"$f":"IF(OR(ISBLANK($C$14),ISBLANK($C$16),ISBLANK($G$16),ISBLANK($G$17),AND(LEFT(G125,6)=\"Atrium\",ISBLANK(I125))=TRUE)=TRUE,0,IF(LEFT(G125,6)=\"Atrium\",IF(G125='ASHRAE 90.1 2013 - CST'!$D$2,0.4+I125*0.02,I125*0.03),IF(ISBLANK(G125),IF(ISBLANK(H125),\"0\",VLOOKUP(H125,INDIRECT(\"BSSTTable_\"&$C$14),2,FALSE)),INDEX(INDIRECT(\"CSTTable_\"&$C$14),MATCH($C$16,INDIRECT(\"BldgTypes_\"&$C$14),0),MATCH(G125,INDIRECT(\"CSTTableTypes_\"&$C$14),0)))))","v":0},0,0,0,0,0,0,0,0,0,0,0,0,{"$f":"IF(AND(NOT(ISNA(V125)),$AB125=\"y\"),X125,0)","v":0},0,0,0,null,null,null,101,0,{"$f":"VLOOKUP(Worksheet!N125,code!$K$3:$M$13,3,FALSE)","v":{"$error":"#N/A"}},"","","","",""]
["-",null,null,null,1,0,null,null,null,null,null,0,0,null,null,null,null,null,{"$f":"IF(OR(ISBLANK($C$14),ISBLANK($C$16),ISBLANK($G$16),ISBLANK($G$17),AND(LEFT(G126,6)=\"Atrium\",ISBLANK(I126))=TRUE)=TRUE,0,IF(LEFT(G126,6)=\"Atrium\",IF(G126='ASHRAE 90.1 2013 - CST'!$D$2,0.4+I126*0.02,I126*0.03),IF(ISBLANK(G126),IF(ISBLANK(H126),\"0\",VLOOKUP(H126,INDIRECT(\"BSSTTable_\"&$C$14),2,FALSE)),INDEX(INDIRECT(\"CSTTable_\"&$C$14),MATCH($C$16,INDIRECT(\"BldgTypes_\"&$C$14),0),MATCH(G126,INDIRECT(\"CSTTableTypes_\"&$C$14),0)))))","v":0},0,0,0,0,0,0,0,0,0,0,0,0,0,0,0,0,null,null,null,102,0,{"$f":"VLOOKUP(Worksheet!N126,code!$K$3:$M$13,3,FALSE)","v":{"$error":"#N/A"}},"","","","",""]
["-",null,null,null,1,0,null,null,null,null,null,0,0,null,null,null,null,null,{"$f":"IF(OR(ISBLANK($C$14),ISBLANK($C$16),ISBLANK($G$16),ISBLANK($G$17),AND(LEFT(G127,6)=\"Atrium\",ISBLANK(I127))=TRUE)=TRUE,0,IF(LEFT(G127,6)=\"Atrium\",IF(G127='ASHRAE 90.1 2013 - CST'!$D$2,0.4+I127*0.02,I127*0.03),IF(ISBLANK(G127),IF(ISBLANK(H127),\"0\",VLOOKUP(H127,INDIRECT(\"BSSTTable_\"&$C$14),2,FALSE)),INDEX(INDIRECT(\"CSTTable_\"&$C$14),MATCH($C$16,INDIRECT(\"BldgTypes_\"&$C$14),0),MATCH(G127,INDIRECT(\"CSTTableTypes_\"&$C$14),0)))))","v":0},0,0,0,0,0,0,0,0,0,0,0,0,0,0,0,0,null,null,null,103,0,{"$f":"VLOOKUP(Worksheet!N127,code!$K$3:$M$13,3,FALSE)","v":{"$error":"#N/A"}},"","","","",""]
["-",null,null,null,1,0,null,null,null,null,null,0,0,null,null,null,null,null,{"$f":"IF(OR(ISBLANK($C$14),ISBLANK($C$16),ISBLANK($G$16),ISBLANK($G$17),AND(LEFT(G128,6)=\"Atrium\",ISBLANK(I128))=TRUE)=TRUE,0,IF(LEFT(G128,6)=\"Atrium\",IF(G128='ASHRAE 90.1 2013 - CST'!$D$2,0.4+I128*0.02,I128*0.03),IF(ISBLANK(G128),IF(ISBLANK(H128),\"0\",VLOOKUP(H128,INDIRECT(\"BSSTTable_\"&$C$14),2,FALSE)),INDEX(INDIRECT(\"CSTTable_\"&$C$14),MATCH($C$16,INDIRECT(\"BldgTypes_\"&$C$14),0),MATCH(G128,INDIRECT(\"CSTTableTypes_\"&$C$14),0)))))","v":0},0,0,0,0,0,0,0,0,0,0,0,0,0,0,0,0,null,null,null,104,0,{"$f":"VLOOKUP(Worksheet!N128,code!$K$3:$M$13,3,FALSE)","v":{"$error":"#N/A"}},"","","","",""]
["-",null,null,null,1,0,null,null,null,null,null,0,0,null,null,null,null,null,{"$f":"IF(OR(ISBLANK($C$14),ISBLANK($C$16),ISBLANK($G$16),ISBLANK($G$17),AND(LEFT(G129,6)=\"Atrium\",ISBLANK(I129))=TRUE)=TRUE,0,IF(LEFT(G129,6)=\"Atrium\",IF(G129='ASHRAE 90.1 2013 - CST'!$D$2,0.4+I129*0.02,I129*0.03),IF(ISBLANK(G129),IF(ISBLANK(H129),\"0\",VLOOKUP(H129,INDIRECT(\"BSSTTable_\"&$C$14),2,FALSE)),INDEX(INDIRECT(\"CSTTable_\"&$C$14),MATCH($C$16,INDIRECT(\"BldgTypes_\"&$C$14),0),MATCH(G129,INDIRECT(\"CSTTableTypes_\"&$C$14),0)))))","v":0},0,0,0,0,0,0,0,0,0,0,0,0,0,0,0,0,null,null,null,105,0,{"$f":"VLOOKUP(Worksheet!N129,code!$K$3:$M$13,3,FALSE)","v":{"$error":"#N/A"}},"","","","",""]
["-",null,null,null,1,0,null,null,null,null,null,0,0,null,null,null,null,null,{"$f":"IF(OR(ISBLANK($C$14),ISBLANK($C$16),ISBLANK($G$16),ISBLANK($G$17),AND(LEFT(G130,6)=\"Atrium\",ISBLANK(I130))=TRUE)=TRUE,0,IF(LEFT(G130,6)=\"Atrium\",IF(G130='ASHRAE 90.1 2013 - CST'!$D$2,0.4+I130*0.02,I130*0.03),IF(ISBLANK(G130),IF(ISBLANK(H130),\"0\",VLOOKUP(H130,INDIRECT(\"BSSTTable_\"&$C$14),2,FALSE)),INDEX(INDIRECT(\"CSTTable_\"&$C$14),MATCH($C$16,INDIRECT(\"BldgTypes_\"&$C$14),0),MATCH(G130,INDIRECT(\"CSTTableTypes_\"&$C$14),0)))))","v":0},0,0,0,0,0,0,0,0,0,0,0,0,0,0,0,0,null,null,null,106,0,{"$f":"VLOOKUP(Worksheet!N130,code!$K$3:$M$13,3,FALSE)","v":{"$error":"#N/A"}},"","","","",""]
["-",null,null,null,1,0,null,null,null,null,null,0,0,null,null,null,null,null,{"$f":"IF(OR(ISBLANK($C$14),ISBLANK($C$16),ISBLANK($G$16),ISBLANK($G$17),AND(LEFT(G131,6)=\"Atrium\",ISBLANK(I131))=TRUE)=TRUE,0,IF(LEFT(G131,6)=\"Atrium\",IF(G131='ASHRAE 90.1 2013 - CST'!$D$2,0.4+I131*0.02,I131*0.03),IF(ISBLANK(G131),IF(ISBLANK(H131),\"0\",VLOOKUP(H131,INDIRECT(\"BSSTTable_\"&$C$14),2,FALSE)),INDEX(INDIRECT(\"CSTTable_\"&$C$14),MATCH($C$16,INDIRECT(\"BldgTypes_\"&$C$14),0),MATCH(G131,INDIRECT(\"CSTTableTypes_\"&$C$14),0)))))","v":0},0,0,0,0,0,0,0,0,0,0,0,0,0,0,0,0,null,null,null,107,0,{"$f":"VLOOKUP(Worksheet!N131,code!$K$3:$M$13,3,FALSE)","v":{"$error":"#N/A"}},"","","","",""]
["-",null,null,null,1,0,null,null,null,null,null,0,0,null,null,null,null,null,{"$f":"IF(OR(ISBLANK($C$14),ISBLANK($C$16),ISBLANK($G$16),ISBLANK($G$17),AND(LEFT(G132,6)=\"Atrium\",ISBLANK(I132))=TRUE)=TRUE,0,IF(LEFT(G132,6)=\"Atrium\",IF(G132='ASHRAE 90.1 2013 - CST'!$D$2,0.4+I132*0.02,I132*0.03),IF(ISBLANK(G132),IF(ISBLANK(H132),\"0\",VLOOKUP(H132,INDIRECT(\"BSSTTable_\"&$C$14),2,FALSE)),INDEX(INDIRECT(\"CSTTable_\"&$C$14),MATCH($C$16,INDIRECT(\"BldgTypes_\"&$C$14),0),MATCH(G132,INDIRECT(\"CSTTableTypes_\"&$C$14),0)))))","v":0},0,0,0,0,0,0,0,0,0,0,0,0,0,0,0,0,null,null,null,108,0,{"$f":"VLOOKUP(Worksheet!N132,code!$K$3:$M$13,3,FALSE)","v":{"$error":"#N/A"}},"","","","",""]
["-",null,null,null,1,0,null,null,null,null,null,0,0,null,null,null,null,null,{"$f":"IF(OR(ISBLANK($C$14),ISBLANK($C$16),ISBLANK($G$16),ISBLANK($G$17),AND(LEFT(G133,6)=\"Atrium\",ISBLANK(I133))=TRUE)=TRUE,0,IF(LEFT(G133,6)=\"Atrium\",IF(G133='ASHRAE 90.1 2013 - CST'!$D$2,0.4+I133*0.02,I133*0.03),IF(ISBLANK(G133),IF(ISBLANK(H133),\"0\",VLOOKUP(H133,INDIRECT(\"BSSTTable_\"&$C$14),2,FALSE)),INDEX(INDIRECT(\"CSTTable_\"&$C$14),MATCH($C$16,INDIRECT(\"BldgTypes_\"&$C$14),0),MATCH(G133,INDIRECT(\"CSTTableTypes_\"&$C$14),0)))))","v":0},0,0,0,0,0,0,0,0,0,0,0,0,0,0,0,0,null,null,null,109,0,{"$f":"VLOOKUP(Worksheet!N133,code!$K$3:$M$13,3,FALSE)","v":{"$error":"#N/A"}},"","","","",""]
["-",null,null,null,1,0,null,null,null,null,null,0,0,null,null,null,null,null,{"$f":"IF(OR(ISBLANK($C$14),ISBLANK($C$16),ISBLANK($G$16),ISBLANK($G$17),AND(LEFT(G134,6)=\"Atrium\",ISBLANK(I134))=TRUE)=TRUE,0,IF(LEFT(G134,6)=\"Atrium\",IF(G134='ASHRAE 90.1 2013 - CST'!$D$2,0.4+I134*0.02,I134*0.03),IF(ISBLANK(G134),IF(ISBLANK(H134),\"0\",VLOOKUP(H134,INDIRECT(\"BSSTTable_\"&$C$14),2,FALSE)),INDEX(INDIRECT(\"CSTTable_\"&$C$14),MATCH($C$16,INDIRECT(\"BldgTypes_\"&$C$14),0),MATCH(G134,INDIRECT(\"CSTTableTypes_\"&$C$14),0)))))","v":0},0,0,0,0,0,0,0,0,0,0,0,0,0,0,0,0,null,null,null,110,0,{"$f":"VLOOKUP(Worksheet!N134,code!$K$3:$M$13,3,FALSE)","v":{"$error":"#N/A"}},"","","","",""]
["-",null,null,null,1,0,null,null,null,null,null,0,0,null,null,null,null,null,{"$f":"IF(OR(ISBLANK($C$14),ISBLANK($C$16),ISBLANK($G$16),ISBLANK($G$17),AND(LEFT(G135,6)=\"Atrium\",ISBLANK(I135))=TRUE)=TRUE,0,IF(LEFT(G135,6)=\"Atrium\",IF(G135='ASHRAE 90.1 2013 - CST'!$D$2,0.4+I135*0.02,I135*0.03),IF(ISBLANK(G135),IF(ISBLANK(H135),\"0\",VLOOKUP(H135,INDIRECT(\"BSSTTable_\"&$C$14),2,FALSE)),INDEX(INDIRECT(\"CSTTable_\"&$C$14),MATCH($C$16,INDIRECT(\"BldgTypes_\"&$C$14),0),MATCH(G135,INDIRECT(\"CSTTableTypes_\"&$C$14),0)))))","v":0},0,0,0,0,0,0,0,0,0,0,0,0,0,0,0,0,null,null,null,111,0,{"$f":"VLOOKUP(Worksheet!N135,code!$K$3:$M$13,3,FALSE)","v":{"$error":"#N/A"}},"","","","",""]
["-",null,null,null,1,0,null,null,null,null,null,0,0,null,null,null,null,null,{"$f":"IF(OR(ISBLANK($C$14),ISBLANK($C$16),ISBLANK($G$16),ISBLANK($G$17),AND(LEFT(G136,6)=\"Atrium\",ISBLANK(I136))=TRUE)=TRUE,0,IF(LEFT(G136,6)=\"Atrium\",IF(G136='ASHRAE 90.1 2013 - CST'!$D$2,0.4+I136*0.02,I136*0.03),IF(ISBLANK(G136),IF(ISBLANK(H136),\"0\",VLOOKUP(H136,INDIRECT(\"BSSTTable_\"&$C$14),2,FALSE)),INDEX(INDIRECT(\"CSTTable_\"&$C$14),MATCH($C$16,INDIRECT(\"BldgTypes_\"&$C$14),0),MATCH(G136,INDIRECT(\"CSTTableTypes_\"&$C$14),0)))))","v":0},0,0,0,0,0,0,0,0,0,0,0,0,0,0,0,0,null,null,null,112,0,{"$f":"VLOOKUP(Worksheet!N136,code!$K$3:$M$13,3,FALSE)","v":{"$error":"#N/A"}},"","","","",""]
["-",null,null,null,1,0,null,null,null,null,null,0,0,null,null,null,null,null,{"$f":"IF(OR(ISBLANK($C$14),ISBLANK($C$16),ISBLANK($G$16),ISBLANK($G$17),AND(LEFT(G137,6)=\"Atrium\",ISBLANK(I137))=TRUE)=TRUE,0,IF(LEFT(G137,6)=\"Atrium\",IF(G137='ASHRAE 90.1 2013 - CST'!$D$2,0.4+I137*0.02,I137*0.03),IF(ISBLANK(G137),IF(ISBLANK(H137),\"0\",VLOOKUP(H137,INDIRECT(\"BSSTTable_\"&$C$14),2,FALSE)),INDEX(INDIRECT(\"CSTTable_\"&$C$14),MATCH($C$16,INDIRECT(\"BldgTypes_\"&$C$14),0),MATCH(G137,INDIRECT(\"CSTTableTypes_\"&$C$14),0)))))","v":0},0,0,0,0,0,0,0,0,0,0,0,0,0,0,0,0,null,null,null,113,0,{"$f":"VLOOKUP(Worksheet!N137,code!$K$3:$M$13,3,FALSE)","v":{"$error":"#N/A"}},"","","","",""]
["-",null,null,null,1,0,null,null,null,null,null,0,0,null,null,null,null,null,{"$f":"IF(OR(ISBLANK($C$14),ISBLANK($C$16),ISBLANK($G$16),ISBLANK($G$17),AND(LEFT(G138,6)=\"Atrium\",ISBLANK(I138))=TRUE)=TRUE,0,IF(LEFT(G138,6)=\"Atrium\",IF(G138='ASHRAE 90.1 2013 - CST'!$D$2,0.4+I138*0.02,I138*0.03),IF(ISBLANK(G138),IF(ISBLANK(H138),\"0\",VLOOKUP(H138,INDIRECT(\"BSSTTable_\"&$C$14),2,FALSE)),INDEX(INDIRECT(\"CSTTable_\"&$C$14),MATCH($C$16,INDIRECT(\"BldgTypes_\"&$C$14),0),MATCH(G138,INDIRECT(\"CSTTableTypes_\"&$C$14),0)))))","v":0},0,0,0,0,0,0,0,0,0,0,0,0,0,0,0,0,null,null,null,114,0,{"$f":"VLOOKUP(Worksheet!N138,code!$K$3:$M$13,3,FALSE)","v":{"$error":"#N/A"}},"","","","",""]
["-",null,null,null,1,0,null,null,null,null,null,0,0,null,null,null,null,null,{"$f":"IF(OR(ISBLANK($C$14),ISBLANK($C$16),ISBLANK($G$16),ISBLANK($G$17),AND(LEFT(G139,6)=\"Atrium\",ISBLANK(I139))=TRUE)=TRUE,0,IF(LEFT(G139,6)=\"Atrium\",IF(G139='ASHRAE 90.1 2013 - CST'!$D$2,0.4+I139*0.02,I139*0.03),IF(ISBLANK(G139),IF(ISBLANK(H139),\"0\",VLOOKUP(H139,INDIRECT(\"BSSTTable_\"&$C$14),2,FALSE)),INDEX(INDIRECT(\"CSTTable_\"&$C$14),MATCH($C$16,INDIRECT(\"BldgTypes_\"&$C$14),0),MATCH(G139,INDIRECT(\"CSTTableTypes_\"&$C$14),0)))))","v":0},0,0,0,0,0,0,0,0,0,0,0,0,0,0,0,0,null,null,null,115,0,{"$f":"VLOOKUP(Worksheet!N139,code!$K$3:$M$13,3,FALSE)","v":{"$error":"#N/A"}},"","","","",""]
["-",null,null,null,1,0,null,null,null,null,null,0,0,null,null,null,null,null,{"$f":"IF(OR(ISBLANK($C$14),ISBLANK($C$16),ISBLANK($G$16),ISBLANK($G$17),AND(LEFT(G140,6)=\"Atrium\",ISBLANK(I140))=TRUE)=TRUE,0,IF(LEFT(G140,6)=\"Atrium\",IF(G140='ASHRAE 90.1 2013 - CST'!$D$2,0.4+I140*0.02,I140*0.03),IF(ISBLANK(G140),IF(ISBLANK(H140),\"0\",VLOOKUP(H140,INDIRECT(\"BSSTTable_\"&$C$14),2,FALSE)),INDEX(INDIRECT(\"CSTTable_\"&$C$14),MATCH($C$16,INDIRECT(\"BldgTypes_\"&$C$14),0),MATCH(G140,INDIRECT(\"CSTTableTypes_\"&$C$14),0)))))","v":0},0,0,0,0,0,0,0,0,0,0,0,0,0,0,0,0,null,null,null,116,0,{"$f":"VLOOKUP(Worksheet!N140,code!$K$3:$M$13,3,FALSE)","v":{"$error":"#N/A"}},"","","","",""]
["-",null,null,null,1,0,null,null,null,null,null,0,0,null,null,null,null,null,{"$f":"IF(OR(ISBLANK($C$14),ISBLANK($C$16),ISBLANK($G$16),ISBLANK($G$17),AND(LEFT(G141,6)=\"Atrium\",ISBLANK(I141))=TRUE)=TRUE,0,IF(LEFT(G141,6)=\"Atrium\",IF(G141='ASHRAE 90.1 2013 - CST'!$D$2,0.4+I141*0.02,I141*0.03),IF(ISBLANK(G141),IF(ISBLANK(H141),\"0\",VLOOKUP(H141,INDIRECT(\"BSSTTable_\"&$C$14),2,FALSE)),INDEX(INDIRECT(\"CSTTable_\"&$C$14),MATCH($C$16,INDIRECT(\"BldgTypes_\"&$C$14),0),MATCH(G141,INDIRECT(\"CSTTableTypes_\"&$C$14),0)))))","v":0},0,0,0,0,0,0,0,0,0,0,0,0,0,0,0,0,null,null,null,117,0,{"$f":"VLOOKUP(Worksheet!N141,code!$K$3:$M$13,3,FALSE)","v":{"$error":"#N/A"}},"","","","",""]
["-",null,null,null,1,0,null,null,null,null,null,0,0,null,null,null,null,null,{"$f":"IF(OR(ISBLANK($C$14),ISBLANK($C$16),ISBLANK($G$16),ISBLANK($G$17),AND(LEFT(G142,6)=\"Atrium\",ISBLANK(I142))=TRUE)=TRUE,0,IF(LEFT(G142,6)=\"Atrium\",IF(G142='ASHRAE 90.1 2013 - CST'!$D$2,0.4+I142*0.02,I142*0.03),IF(ISBLANK(G142),IF(ISBLANK(H142),\"0\",VLOOKUP(H142,INDIRECT(\"BSSTTable_\"&$C$14),2,FALSE)),INDEX(INDIRECT(\"CSTTable_\"&$C$14),MATCH($C$16,INDIRECT(\"BldgTypes_\"&$C$14),0),MATCH(G142,INDIRECT(\"CSTTableTypes_\"&$C$14),0)))))","v":0},0,0,0,0,0,0,0,0,0,0,0,0,0,0,0,0,null,null,null,118,0,{"$f":"VLOOKUP(Worksheet!N142,code!$K$3:$M$13,3,FALSE)","v":{"$error":"#N/A"}},"","","","",""]
["-",null,null,null,1,0,null,null,null,null,null,0,0,null,null,null,null,null,{"$f":"IF(OR(ISBLANK($C$14),ISBLANK($C$16),ISBLANK($G$16),ISBLANK($G$17),AND(LEFT(G143,6)=\"Atrium\",ISBLANK(I143))=TRUE)=TRUE,0,IF(LEFT(G143,6)=\"Atrium\",IF(G143='ASHRAE 90.1 2013 - CST'!$D$2,0.4+I143*0.02,I143*0.03),IF(ISBLANK(G143),IF(ISBLANK(H143),\"0\",VLOOKUP(H143,INDIRECT(\"BSSTTable_\"&$C$14),2,FALSE)),INDEX(INDIRECT(\"CSTTable_\"&$C$14),MATCH($C$16,INDIRECT(\"BldgTypes_\"&$C$14),0),MATCH(G143,INDIRECT(\"CSTTableTypes_\"&$C$14),0)))))","v":0},0,0,0,0,0,0,0,0,0,0,0,0,0,0,0,0,null,null,null,119,0,{"$f":"VLOOKUP(Worksheet!N143,code!$K$3:$M$13,3,FALSE)","v":{"$error":"#N/A"}},"","","","",""]
["-",null,null,null,1,0,null,null,null,null,null,0,0,null,null,null,null,null,{"$f":"IF(OR(ISBLANK($C$14),ISBLANK($C$16),ISBLANK($G$16),ISBLANK($G$17),AND(LEFT(G144,6)=\"Atrium\",ISBLANK(I144))=TRUE)=TRUE,0,IF(LEFT(G144,6)=\"Atrium\",IF(G144='ASHRAE 90.1 2013 - CST'!$D$2,0.4+I144*0.02,I144*0.03),IF(ISBLANK(G144),IF(ISBLANK(H144),\"0\",VLOOKUP(H144,INDIRECT(\"BSSTTable_\"&$C$14),2,FALSE)),INDEX(INDIRECT(\"CSTTable_\"&$C$14),MATCH($C$16,INDIRECT(\"BldgTypes_\"&$C$14),0),MATCH(G144,INDIRECT(\"CSTTableTypes_\"&$C$14),0)))))","v":0},0,0,0,0,0,0,0,0,0,0,0,0,0,0,0,0,null,null,null,120,0,{"$f":"VLOOKUP(Worksheet!N144,code!$K$3:$M$13,3,FALSE)","v":{"$error":"#N/A"}},"","","","",""]
["-",null,null,null,1,0,null,null,null,null,null,0,0,null,null,null,null,null,{"$f":"IF(OR(ISBLANK($C$14),ISBLANK($C$16),ISBLANK($G$16),ISBLANK($G$17),AND(LEFT(G145,6)=\"Atrium\",ISBLANK(I145))=TRUE)=TRUE,0,IF(LEFT(G145,6)=\"Atrium\",IF(G145='ASHRAE 90.1 2013 - CST'!$D$2,0.4+I145*0.02,I145*0.03),IF(ISBLANK(G145),IF(ISBLANK(H145),\"0\",VLOOKUP(H145,INDIRECT(\"BSSTTable_\"&$C$14),2,FALSE)),INDEX(INDIRECT(\"CSTTable_\"&$C$14),MATCH($C$16,INDIRECT(\"BldgTypes_\"&$C$14),0),MATCH(G145,INDIRECT(\"CSTTableTypes_\"&$C$14),0)))))","v":0},0,0,0,0,0,0,0,0,0,0,0,0,0,0,0,0,null,null,null,121,0,{"$f":"VLOOKUP(Worksheet!N145,code!$K$3:$M$13,3,FALSE)","v":{"$error":"#N/A"}},"","","","",""]
["-",null,null,null,1,0,null,null,null,null,null,0,0,null,null,null,null,null,{"$f":"IF(OR(ISBLANK($C$14),ISBLANK($C$16),ISBLANK($G$16),ISBLANK($G$17),AND(LEFT(G146,6)=\"Atrium\",ISBLANK(I146))=TRUE)=TRUE,0,IF(LEFT(G146,6)=\"Atrium\",IF(G146='ASHRAE 90.1 2013 - CST'!$D$2,0.4+I146*0.02,I146*0.03),IF(ISBLANK(G146),IF(ISBLANK(H146),\"0\",VLOOKUP(H146,INDIRECT(\"BSSTTable_\"&$C$14),2,FALSE)),INDEX(INDIRECT(\"CSTTable_\"&$C$14),MATCH($C$16,INDIRECT(\"BldgTypes_\"&$C$14),0),MATCH(G146,INDIRECT(\"CSTTableTypes_\"&$C$14),0)))))","v":0},0,0,0,0,0,0,0,0,0,0,0,0,0,0,0,0,null,null,null,122,0,{"$f":"VLOOKUP(Worksheet!N146,code!$K$3:$M$13,3,FALSE)","v":{"$error":"#N/A"}},"","","","",""]
["-",null,null,null,1,0,null,null,null,null,null,0,0,null,null,null,null,null,{"$f":"IF(OR(ISBLANK($C$14),ISBLANK($C$16),ISBLANK($G$16),ISBLANK($G$17),AND(LEFT(G147,6)=\"Atrium\",ISBLANK(I147))=TRUE)=TRUE,0,IF(LEFT(G147,6)=\"Atrium\",IF(G147='ASHRAE 90.1 2013 - CST'!$D$2,0.4+I147*0.02,I147*0.03),IF(ISBLANK(G147),IF(ISBLANK(H147),\"0\",VLOOKUP(H147,INDIRECT(\"BSSTTable_\"&$C$14),2,FALSE)),INDEX(INDIRECT(\"CSTTable_\"&$C$14),MATCH($C$16,INDIRECT(\"BldgTypes_\"&$C$14),0),MATCH(G147,INDIRECT(\"CSTTableTypes_\"&$C$14),0)))))","v":0},0,0,0,0,0,0,0,0,0,0,0,0,0,0,0,0,null,null,null,123,0,{"$f":"VLOOKUP(Worksheet!N147,code!$K$3:$M$13,3,FALSE)","v":{"$error":"#N/A"}},"","","","",""]
["-",null,null,null,1,0,null,null,null,null,null,0,0,null,null,null,null,null,{"$f":"IF(OR(ISBLANK($C$14),ISBLANK($C$16),ISBLANK($G$16),ISBLANK($G$17),AND(LEFT(G148,6)=\"Atrium\",ISBLANK(I148))=TRUE)=TRUE,0,IF(LEFT(G148,6)=\"Atrium\",IF(G148='ASHRAE 90.1 2013 - CST'!$D$2,0.4+I148*0.02,I148*0.03),IF(ISBLANK(G148),IF(ISBLANK(H148),\"0\",VLOOKUP(H148,INDIRECT(\"BSSTTable_\"&$C$14),2,FALSE)),INDEX(INDIRECT(\"CSTTable_\"&$C$14),MATCH($C$16,INDIRECT(\"BldgTypes_\"&$C$14),0),MATCH(G148,INDIRECT(\"CSTTableTypes_\"&$C$14),0)))))","v":0},0,0,0,0,0,0,0,0,0,0,0,0,0,0,0,0,null,null,null,124,0,{"$f":"VLOOKUP(Worksheet!N148,code!$K$3:$M$13,3,FALSE)","v":{"$error":"#N/A"}},"","","","",""]
["-",null,null,null,1,0,null,null,null,null,null,0,0,null,null,null,null,null,{"$f":"IF(OR(ISBLANK($C$14),ISBLANK($C$16),ISBLANK($G$16),ISBLANK($G$17),AND(LEFT(G149,6)=\"Atrium\",ISBLANK(I149))=TRUE)=TRUE,0,IF(LEFT(G149,6)=\"Atrium\",IF(G149='ASHRAE 90.1 2013 - CST'!$D$2,0.4+I149*0.02,I149*0.03),IF(ISBLANK(G149),IF(ISBLANK(H149),\"0\",VLOOKUP(H149,INDIRECT(\"BSSTTable_\"&$C$14),2,FALSE)),INDEX(INDIRECT(\"CSTTable_\"&$C$14),MATCH($C$16,INDIRECT(\"BldgTypes_\"&$C$14),0),MATCH(G149,INDIRECT(\"CSTTableTypes_\"&$C$14),0)))))","v":0},0,0,0,0,0,0,0,0,0,0,0,0,0,0,0,0,null,null,null,125,0,{"$f":"VLOOKUP(Worksheet!N149,code!$K$3:$M$13,3,FALSE)","v":{"$error":"#N/A"}},"","","","",""]
["-",null,null,null,1,0,null,null,null,null,null,0,0,null,null,null,null,null,{"$f":"IF(OR(ISBLANK($C$14),ISBLANK($C$16),ISBLANK($G$16),ISBLANK($G$17),AND(LEFT(G150,6)=\"Atrium\",ISBLANK(I150))=TRUE)=TRUE,0,IF(LEFT(G150,6)=\"Atrium\",IF(G150='ASHRAE 90.1 2013 - CST'!$D$2,0.4+I150*0.02,I150*0.03),IF(ISBLANK(G150),IF(ISBLANK(H150),\"0\",VLOOKUP(H150,INDIRECT(\"BSSTTable_\"&$C$14),2,FALSE)),INDEX(INDIRECT(\"CSTTable_\"&$C$14),MATCH($C$16,INDIRECT(\"BldgTypes_\"&$C$14),0),MATCH(G150,INDIRECT(\"CSTTableTypes_\"&$C$14),0)))))","v":0},0,0,0,0,0,0,0,0,0,0,0,0,0,0,0,0,null,null,null,126,0,{"$f":"VLOOKUP(Worksheet!N150,code!$K$3:$M$13,3,FALSE)","v":{"$error":"#N/A"}},"","","","",""]
["-",null,null,null,1,0,null,null,null,null,null,0,0,null,null,null,null,null,{"$f":"IF(OR(ISBLANK($C$14),ISBLANK($C$16),ISBLANK($G$16),ISBLANK($G$17),AND(LEFT(G151,6)=\"Atrium\",ISBLANK(I151))=TRUE)=TRUE,0,IF(LEFT(G151,6)=\"Atrium\",IF(G151='ASHRAE 90.1 2013 - CST'!$D$2,0.4+I151*0.02,I151*0.03),IF(ISBLANK(G151),IF(ISBLANK(H151),\"0\",VLOOKUP(H151,INDIRECT(\"BSSTTable_\"&$C$14),2,FALSE)),INDEX(INDIRECT(\"CSTTable_\"&$C$14),MATCH($C$16,INDIRECT(\"BldgTypes_\"&$C$14),0),MATCH(G151,INDIRECT(\"CSTTableTypes_\"&$C$14),0)))))","v":0},0,0,0,0,0,0,0,0,0,0,0,0,0,0,0,0,null,null,null,127,0,{"$f":"VLOOKUP(Worksheet!N151,code!$K$3:$M$13,3,FALSE)","v":{"$error":"#N/A"}},"","","","",""]
["-",null,null,null,1,0,null,null,null,null,null,0,0,null,null,null,null,null,{"$f":"IF(OR(ISBLANK($C$14),ISBLANK($C$16),ISBLANK($G$16),ISBLANK($G$17),AND(LEFT(G152,6)=\"Atrium\",ISBLANK(I152))=TRUE)=TRUE,0,IF(LEFT(G152,6)=\"Atrium\",IF(G152='ASHRAE 90.1 2013 - CST'!$D$2,0.4+I152*0.02,I152*0.03),IF(ISBLANK(G152),IF(ISBLANK(H152),\"0\",VLOOKUP(H152,INDIRECT(\"BSSTTable_\"&$C$14),2,FALSE)),INDEX(INDIRECT(\"CSTTable_\"&$C$14),MATCH($C$16,INDIRECT(\"BldgTypes_\"&$C$14),0),MATCH(G152,INDIRECT(\"CSTTableTypes_\"&$C$14),0)))))","v":0},0,0,0,0,0,0,0,0,0,0,0,0,0,0,0,0,null,null,null,128,0,{"$f":"VLOOKUP(Worksheet!N152,code!$K$3:$M$13,3,FALSE)","v":{"$error":"#N/A"}},"","","","",""]
["-",null,null,null,1,0,null,null,null,null,null,0,0,null,null,null,null,null,{"$f":"IF(OR(ISBLANK($C$14),ISBLANK($C$16),ISBLANK($G$16),ISBLANK($G$17),AND(LEFT(G153,6)=\"Atrium\",ISBLANK(I153))=TRUE)=TRUE,0,IF(LEFT(G153,6)=\"Atrium\",IF(G153='ASHRAE 90.1 2013 - CST'!$D$2,0.4+I153*0.02,I153*0.03),IF(ISBLANK(G153),IF(ISBLANK(H153),\"0\",VLOOKUP(H153,INDIRECT(\"BSSTTable_\"&$C$14),2,FALSE)),INDEX(INDIRECT(\"CSTTable_\"&$C$14),MATCH($C$16,INDIRECT(\"BldgTypes_\"&$C$14),0),MATCH(G153,INDIRECT(\"CSTTableTypes_\"&$C$14),0)))))","v":0},0,0,0,0,0,0,0,0,0,0,0,0,0,0,0,0,null,null,null,129,0,{"$f":"VLOOKUP(Worksheet!N153,code!$K$3:$M$13,3,FALSE)","v":{"$error":"#N/A"}},{"$f":"IF($AR$21<>0, $AF$8/$AR$21*AR153, \"\")","v":""},"","",{"$f":"IF($AR$21<>0, $AG$8/$AR$21*$AR153, \"\")","v":""},""]
["-",null,null,null,1,0,null,null,null,null,null,{"$f":"C154*$E154","v":0},{"$f":"D154*$E154","v":0},null,null,null,null,null,{"$f":"IF(OR(ISBLANK($C$14),ISBLANK($C$16),ISBLANK($G$16),ISBLANK($G$17),AND(LEFT(G154,6)=\"Atrium\",ISBLANK(I154))=TRUE)=TRUE,0,IF(LEFT(G154,6)=\"Atrium\",IF(G154='ASHRAE 90.1 2013 - CST'!$D$2,0.4+I154*0.02,I154*0.03),IF(ISBLANK(G154),IF(ISBLANK(H154),\"0\",VLOOKUP(H154,INDIRECT(\"BSSTTable_\"&$C$14),2,FALSE)),INDEX(INDIRECT(\"CSTTable_\"&$C$14),MATCH($C$16,INDIRECT(\"BldgTypes_\"&$C$14),0),MATCH(G154,INDIRECT(\"CSTTableTypes_\"&$C$14),0)))))","v":0},{"$f":"S154","v":0},{"$f":"T154*F154","v":0},{"$f":"L154*P154","v":0},{"$f":"M154*P154","v":0},{"$f":"spaceSum(ROW(V154), COLUMN(V154))","v":0},{"$f":"spaceSum(ROW(W154), COLUMN(W154))","v":0},{"$f":"spaceSumIfYes(ROW(L154), COLUMN(L154), COLUMN(K154))","v":0},{"$f":"spaceSumIfYes(ROW(M154), COLUMN(M154), COLUMN(K154))","v":0},{"$f":"IF(B154=0,0,IF(AND(Z154>0,(U154-X154>0)),\"Y\",\"N\"))","v":0},{"$f":"IF(B154=0,0,IF(AND(AA154>0,(U154-Y154>0)),\"Y\",\"N\"))","v":0},{"$f":"IF(AND(NOT(ISNA(T154))),F154,0)","v":0},{"$f":"IF(NOT(ISNA(U154)),U154,0)","v":0},0,{"$f":"IF(AND(NOT(ISNA(W154)),$AC154=\"y\"),Y154,0)","v":0},{"$f":"IF(AND(NOT(ISNA(X154)),$AB154=\"y\"),Z154,0)","v":0},{"$f":"IF(AND(NOT(ISNA(Y154)),$AC154=\"y\"),AA154,0)","v":0},null,null,null,130,{"$f":"IF(V154>0, IF(ISERROR(V154)=FALSE,V154),IF(ISERROR(W154)=FALSE,W154))","v":0},{"$f":"VLOOKUP(Worksheet!N154,code!$K$3:$M$13,3,FALSE)","v":{"$error":"#N/A"}},"",{"$f":"IF($AR$21<>0, $V$16/$AR$21*AR154, \"\")","v":""},{"$f":"IF(ISERROR(AN154)=FALSE,IF(ISERROR(AO154)=FALSE,AO154*AN154,\"\"),\"\")","v":""},"",{"$f":"IF($AR$21<>0, $V$17/$AR$21*$AR154, \"\")","v":""}]
["-",null,null,null,1,0,null,null,null,null,null,0,0,null,null,null,null,null,{"$f":"IF(OR(ISBLANK($C$14),ISBLANK($C$16),ISBLANK($G$16),ISBLANK($G$17),AND(LEFT(G155,6)=\"Atrium\",ISBLANK(I155))=TRUE)=TRUE,0,IF(LEFT(G155,6)=\"Atrium\",IF(G155='ASHRAE 90.1 2013 - CST'!$D$2,0.4+I155*0.02,I155*0.03),IF(ISBLANK(G155),IF(ISBLANK(H155),\"0\",VLOOKUP(H155,INDIRECT(\"BSSTTable_\"&$C$14),2,FALSE)),INDEX(INDIRECT(\"CSTTable_\"&$C$14),MATCH($C$16,INDIRECT(\"BldgTypes_\"&$C$14),0),MATCH(G155,INDIRECT(\"CSTTableTypes_\"&$C$14),0)))))","v":0},0,0,0,0,0,0,0,0,0,0,0,0,0,0,0,0,null,null,null,{"$f":"AM154+1","v":131},0,{"$f":"VLOOKUP(Worksheet!N155,code!$K$3:$M$13,3,FALSE)","v":{"$error":"#N/A"}},"","","","",""]
["-",null,null,null,1,0,null,null,null,null,null,0,0,null,null,null,null,null,{"$f":"IF(OR(ISBLANK($C$14),ISBLANK($C$16),ISBLANK($G$16),ISBLANK($G$17),AND(LEFT(G156,6)=\"Atrium\",ISBLANK(I156))=TRUE)=TRUE,0,IF(LEFT(G156,6)=\"Atrium\",IF(G156='ASHRAE 90.1 2013 - CST'!$D$2,0.4+I156*0.02,I156*0.03),IF(ISBLANK(G156),IF(ISBLANK(H156),\"0\",VLOOKUP(H156,INDIRECT(\"BSSTTable_\"&$C$14),2,FALSE)),INDEX(INDIRECT(\"CSTTable_\"&$C$14),MATCH($C$16,INDIRECT(\"BldgTypes_\"&$C$14),0),MATCH(G156,INDIRECT(\"CSTTableTypes_\"&$C$14),0)))))","v":0},0,0,0,0,0,0,0,0,0,0,0,0,0,0,0,0,null,null,null,132,0,{"$f":"VLOOKUP(Worksheet!N156,code!$K$3:$M$13,3,FALSE)","v":{"$error":"#N/A"}},"","","","",""]
["-",null,null,null,1,0,null,null,null,null,null,0,0,null,null,null,null,null,{"$f":"IF(OR(ISBLANK($C$14),ISBLANK($C$16),ISBLANK($G$16),ISBLANK($G$17),AND(LEFT(G157,6)=\"Atrium\",ISBLANK(I157))=TRUE)=TRUE,0,IF(LEFT(G157,6)=\"Atrium\",IF(G157='ASHRAE 90.1 2013 - CST'!$D$2,0.4+I157*0.02,I157*0.03),IF(ISBLANK(G157),IF(ISBLANK(H157),\"0\",VLOOKUP(H157,INDIRECT(\"BSSTTable_\"&$C$14),2,FALSE)),INDEX(INDIRECT(\"CSTTable_\"&$C$14),MATCH($C$16,INDIRECT(\"BldgTypes_\"&$C$14),0),MATCH(G157,INDIRECT(\"CSTTableTypes_\"&$C$14),0)))))","v":0},0,0,0,0,0,0,0,0,0,0,0,0,0,0,0,0,null,null,null,133,0,{"$f":"VLOOKUP(Worksheet!N157,code!$K$3:$M$13,3,FALSE)","v":{"$error":"#N/A"}},"","","","",""]
["-",null,null,null,1,0,null,null,null,null,null,0,0,null,null,null,null,null,{"$f":"IF(OR(ISBLANK($C$14),ISBLANK($C$16),ISBLANK($G$16),ISBLANK($G$17),AND(LEFT(G158,6)=\"Atrium\",ISBLANK(I158))=TRUE)=TRUE,0,IF(LEFT(G158,6)=\"Atrium\",IF(G158='ASHRAE 90.1 2013 - CST'!$D$2,0.4+I158*0.02,I158*0.03),IF(ISBLANK(G158),IF(ISBLANK(H158),\"0\",VLOOKUP(H158,INDIRECT(\"BSSTTable_\"&$C$14),2,FALSE)),INDEX(INDIRECT(\"CSTTable_\"&$C$14),MATCH($C$16,INDIRECT(\"BldgTypes_\"&$C$14),0),MATCH(G158,INDIRECT(\"CSTTableTypes_\"&$C$14),0)))))","v":0},0,0,0,0,0,0,0,0,0,0,0,0,0,0,0,0,null,null,null,134,0,{"$f":"VLOOKUP(Worksheet!N158,code!$K$3:$M$13,3,FALSE)","v":{"$error":"#N/A"}},"","","","",""]
["-",null,null,null,1,0,null,null,null,null,null,0,0,null,null,null,null,null,{"$f":"IF(OR(ISBLANK($C$14),ISBLANK($C$16),ISBLANK($G$16),ISBLANK($G$17),AND(LEFT(G159,6)=\"Atrium\",ISBLANK(I159))=TRUE)=TRUE,0,IF(LEFT(G159,6)=\"Atrium\",IF(G159='ASHRAE 90.1 2013 - CST'!$D$2,0.4+I159*0.02,I159*0.03),IF(ISBLANK(G159),IF(ISBLANK(H159),\"0\",VLOOKUP(H159,INDIRECT(\"BSSTTable_\"&$C$14),2,FALSE)),INDEX(INDIRECT(\"CSTTable_\"&$C$14),MATCH($C$16,INDIRECT(\"BldgTypes_\"&$C$14),0),MATCH(G159,INDIRECT(\"CSTTableTypes_\"&$C$14),0)))))","v":0},0,0,0,0,0,0,0,0,0,0,0,0,0,0,0,0,null,null,null,135,0,{"$f":"VLOOKUP(Worksheet!N159,code!$K$3:$M$13,3,FALSE)","v":{"$error":"#N/A"}},"","","","",""]
["-",null,null,null,1,0,null,null,null,null,null,0,0,null,null,null,null,null,{"$f":"IF(OR(ISBLANK($C$14),ISBLANK($C$16),ISBLANK($G$16),ISBLANK($G$17),AND(LEFT(G160,6)=\"Atrium\",ISBLANK(I160))=TRUE)=TRUE,0,IF(LEFT(G160,6)=\"Atrium\",IF(G160='ASHRAE 90.1 2013 - CST'!$D$2,0.4+I160*0.02,I160*0.03),IF(ISBLANK(G160),IF(ISBLANK(H160),\"0\",VLOOKUP(H160,INDIRECT(\"BSSTTable_\"&$C$14),2,FALSE)),INDEX(INDIRECT(\"CSTTable_\"&$C$14),MATCH($C$16,INDIRECT(\"BldgTypes_\"&$C$14),0),MATCH(G160,INDIRECT(\"CSTTableTypes_\"&$C$14),0)))))","v":0},0,0,0,0,0,0,0,0,0,0,0,0,0,0,0,0,null,null,null,136,0,{"$f":"VLOOKUP(Worksheet!N160,code!$K$3:$M$13,3,FALSE)","v":{"$error":"#N/A"}},"","","","",""]
["-",null,null,null,1,0,null,null,null,null,null,0,0,null,null,null,null,null,{"$f":"IF(OR(ISBLANK($C$14),ISBLANK($C$16),ISBLANK($G$16),ISBLANK($G$17),AND(LEFT(G161,6)=\"Atrium\",ISBLANK(I161))=TRUE)=TRUE,0,IF(LEFT(G161,6)=\"Atrium\",IF(G161='ASHRAE 90.1 2013 - CST'!$D$2,0.4+I161*0.02,I161*0.03),IF(ISBLANK(G161),IF(ISBLANK(H161),\"0\",VLOOKUP(H161,INDIRECT(\"BSSTTable_\"&$C$14),2,FALSE)),INDEX(INDIRECT(\"CSTTable_\"&$C$14),MATCH($C$16,INDIRECT(\"BldgTypes_\"&$C$14),0),MATCH(G161,INDIRECT(\"CSTTableTypes_\"&$C$14),0)))))","v":0},0,0,0,0,0,0,0,0,0,0,0,0,0,0,0,0,null,null,null,137,0,{"$f":"VLOOKUP(Worksheet!N161,code!$K$3:$M$13,3,FALSE)","v":{"$error":"#N/A"}},"","","","",""]
["-",null,null,null,1,0,null,null,null,null,null,0,0,null,null,null,null,null,{"$f":"IF(OR(ISBLANK($C$14),ISBLANK($C$16),ISBLANK($G$16),ISBLANK($G$17),AND(LEFT(G162,6)=\"Atrium\",ISBLANK(I162))=TRUE)=TRUE,0,IF(LEFT(G162,6)=\"Atrium\",IF(G162='ASHRAE 90.1 2013 - CST'!$D$2,0.4+I162*0.02,I162*0.03),IF(ISBLANK(G162),IF(ISBLANK(H162),\"0\",VLOOKUP(H162,INDIRECT(\"BSSTTable_\"&$C$14),2,FALSE)),INDEX(INDIRECT(\"CSTTable_\"&$C$14),MATCH($C$16,INDIRECT(\"BldgTypes_\"&$C$14),0),MATCH(G162,INDIRECT(\"CSTTableTypes_\"&$C$14),0)))))","v":0},0,0,0,0,0,0,0,0,0,0,0,0,0,0,0,0,null,null,null,138,0,{"$f":"VLOOKUP(Worksheet!N162,code!$K$3:$M$13,3,FALSE)","v":{"$error":"#N/A"}},"","","","",""]
["-",null,null,null,1,0,null,null,null,null,null,0,0,null,null,null,null,null,{"$f":"IF(OR(ISBLANK($C$14),ISBLANK($C$16),ISBLANK($G$16),ISBLANK($G$17),AND(LEFT(G163,6)=\"Atrium\",ISBLANK(I163))=TRUE)=TRUE,0,IF(LEFT(G163,6)=\"Atrium\",IF(G163='ASHRAE 90.1 2013 - CST'!$D$2,0.4+I163*0.02,I163*0.03),IF(ISBLANK(G163),IF(ISBLANK(H163),\"0\",VLOOKUP(H163,INDIRECT(\"BSSTTable_\"&$C$14),2,FALSE)),INDEX(INDIRECT(\"CSTTable_\"&$C$14),MATCH($C$16,INDIRECT(\"BldgTypes_\"&$C$14),0),MATCH(G163,INDIRECT(\"CSTTableTypes_\"&$C$14),0)))))","v":0},0,0,0,0,0,0,0,0,0,0,0,0,0,0,0,0,null,null,null,139,0,{"$f":"VLOOKUP(Worksheet!N163,code!$K$3:$M$13,3,FALSE)","v":{"$error":"#N/A"}},"","","","",""]
["-",null,null,null,1,0,null,null,null,null,null,0,0,null,null,null,null,null,{"$f":"IF(OR(ISBLANK($C$14),ISBLANK($C$16),ISBLANK($G$16),ISBLANK($G$17),AND(LEFT(G164,6)=\"Atrium\",ISBLANK(I164))=TRUE)=TRUE,0,IF(LEFT(G164,6)=\"Atrium\",IF(G164='ASHRAE 90.1 2013 - CST'!$D$2,0.4+I164*0.02,I164*0.03),IF(ISBLANK(G164),IF(ISBLANK(H164),\"0\",VLOOKUP(H164,INDIRECT(\"BSSTTable_\"&$C$14),2,FALSE)),INDEX(INDIRECT(\"CSTTable_\"&$C$14),MATCH($C$16,INDIRECT(\"BldgTypes_\"&$C$14),0),MATCH(G164,INDIRECT(\"CSTTableTypes_\"&$C$14),0)))))","v":0},0,0,0,0,0,0,0,0,0,0,0,0,0,0,0,0,null,null,null,140,0,{"$f":"VLOOKUP(Worksheet!N164,code!$K$3:$M$13,3,FALSE)","v":{"$error":"#N/A"}},"","","","",""]
["-",null,null,null,1,0,null,null,null,null,null,0,0,null,null,null,null,null,{"$f":"IF(OR(ISBLANK($C$14),ISBLANK($C$16),ISBLANK($G$16),ISBLANK($G$17),AND(LEFT(G165,6)=\"Atrium\",ISBLANK(I165))=TRUE)=TRUE,0,IF(LEFT(G165,6)=\"Atrium\",IF(G165='ASHRAE 90.1 2013 - CST'!$D$2,0.4+I165*0.02,I165*0.03),IF(ISBLANK(G165),IF(ISBLANK(H165),\"0\",VLOOKUP(H165,INDIRECT(\"BSSTTable_\"&$C$14),2,FALSE)),INDEX(INDIRECT(\"CSTTable_\"&$C$14),MATCH($C$16,INDIRECT(\"BldgTypes_\"&$C$14),0),MATCH(G165,INDIRECT(\"CSTTableTypes_\"&$C$14),0)))))","v":0},0,0,0,0,0,0,0,0,0,0,0,0,0,0,0,0,null,null,null,141,0,{"$f":"VLOOKUP(Worksheet!N165,code!$K$3:$M$13,3,FALSE)","v":{"$error":"#N/A"}},"","","","",""]
["-",null,null,null,1,0,null,null,null,null,null,0,0,null,null,null,null,null,{"$f":"IF(OR(ISBLANK($C$14),ISBLANK($C$16),ISBLANK($G$16),ISBLANK($G$17),AND(LEFT(G166,6)=\"Atrium\",ISBLANK(I166))=TRUE)=TRUE,0,IF(LEFT(G166,6)=\"Atrium\",IF(G166='ASHRAE 90.1 2013 - CST'!$D$2,0.4+I166*0.02,I166*0.03),IF(ISBLANK(G166),IF(ISBLANK(H166),\"0\",VLOOKUP(H166,INDIRECT(\"BSSTTable_\"&$C$14),2,FALSE)),INDEX(INDIRECT(\"CSTTable_\"&$C$14),MATCH($C$16,INDIRECT(\"BldgTypes_\"&$C$14),0),MATCH(G166,INDIRECT(\"CSTTableTypes_\"&$C$14),0)))))","v":0},0,0,0,0,0,0,0,0,0,0,0,0,0,0,0,0,null,null,null,142,0,{"$f":"VLOOKUP(Worksheet!N166,code!$K$3:$M$13,3,FALSE)","v":{"$error":"#N/A"}},"","","","",""]
["-",null,null,null,1,0,null,null,null,null,null,0,0,null,null,null,null,null,{"$f":"IF(OR(ISBLANK($C$14),ISBLANK($C$16),ISBLANK($G$16),ISBLANK($G$17),AND(LEFT(G167,6)=\"Atrium\",ISBLANK(I167))=TRUE)=TRUE,0,IF(LEFT(G167,6)=\"Atrium\",IF(G167='ASHRAE 90.1 2013 - CST'!$D$2,0.4+I167*0.02,I167*0.03),IF(ISBLANK(G167),IF(ISBLANK(H167),\"0\",VLOOKUP(H167,INDIRECT(\"BSSTTable_\"&$C$14),2,FALSE)),INDEX(INDIRECT(\"CSTTable_\"&$C$14),MATCH($C$16,INDIRECT(\"BldgTypes_\"&$C$14),0),MATCH(G167,INDIRECT(\"CSTTableTypes_\"&$C$14),0)))))","v":0},0,0,0,0,0,0,0,0,0,0,0,0,0,0,0,0,null,null,null,143,0,{"$f":"VLOOKUP(Worksheet!N167,code!$K$3:$M$13,3,FALSE)","v":{"$error":"#N/A"}},"","","","",""]
["-",null,null,null,1,0,null,null,null,null,null,0,0,null,null,null,null,null,{"$f":"IF(OR(ISBLANK($C$14),ISBLANK($C$16),ISBLANK($G$16),ISBLANK($G$17),AND(LEFT(G168,6)=\"Atrium\",ISBLANK(I168))=TRUE)=TRUE,0,IF(LEFT(G168,6)=\"Atrium\",IF(G168='ASHRAE 90.1 2013 - CST'!$D$2,0.4+I168*0.02,I168*0.03),IF(ISBLANK(G168),IF(ISBLANK(H168),\"0\",VLOOKUP(H168,INDIRECT(\"BSSTTable_\"&$C$14),2,FALSE)),INDEX(INDIRECT(\"CSTTable_\"&$C$14),MATCH($C$16,INDIRECT(\"BldgTypes_\"&$C$14),0),MATCH(G168,INDIRECT(\"CSTTableTypes_\"&$C$14),0)))))","v":0},0,0,0,0,0,0,0,0,0,0,0,0,0,0,0,0,null,null,null,144,0,{"$f":"VLOOKUP(Worksheet!N168,code!$K$3:$M$13,3,FALSE)","v":{"$error":"#N/A"}},"","","","",""]
["-",null,null,null,1,0,null,null,null,null,null,0,0,null,null,null,null,null,{"$f":"IF(OR(ISBLANK($C$14),ISBLANK($C$16),ISBLANK($G$16),ISBLANK($G$17),AND(LEFT(G169,6)=\"Atrium\",ISBLANK(I169))=TRUE)=TRUE,0,IF(LEFT(G169,6)=\"Atrium\",IF(G169='ASHRAE 90.1 2013 - CST'!$D$2,0.4+I169*0.02,I169*0.03),IF(ISBLANK(G169),IF(ISBLANK(H169),\"0\",VLOOKUP(H169,INDIRECT(\"BSSTTable_\"&$C$14),2,FALSE)),INDEX(INDIRECT(\"CSTTable_\"&$C$14),MATCH($C$16,INDIRECT(\"BldgTypes_\"&$C$14),0),MATCH(G169,INDIRECT(\"CSTTableTypes_\"&$C$14),0)))))","v":0},0,0,0,0,0,0,0,0,0,0,0,0,0,0,0,0,null,null,null,145,0,{"$f":"VLOOKUP(Worksheet!N169,code!$K$3:$M$13,3,FALSE)","v":{"$error":"#N/A"}},"","","","",""]
["-",null,null,null,1,0,null,null,null,null,null,0,0,null,null,null,null,null,{"$f":"IF(OR(ISBLANK($C$14),ISBLANK($C$16),ISBLANK($G$16),ISBLANK($G$17),AND(LEFT(G170,6)=\"Atrium\",ISBLANK(I170))=TRUE)=TRUE,0,IF(LEFT(G170,6)=\"Atrium\",IF(G170='ASHRAE 90.1 2013 - CST'!$D$2,0.4+I170*0.02,I170*0.03),IF(ISBLANK(G170),IF(ISBLANK(H170),\"0\",VLOOKUP(H170,INDIRECT(\"BSSTTable_\"&$C$14),2,FALSE)),INDEX(INDIRECT(\"CSTTable_\"&$C$14),MATCH($C$16,INDIRECT(\"BldgTypes_\"&$C$14),0),MATCH(G170,INDIRECT(\"CSTTableTypes_\"&$C$14),0)))))","v":0},0,0,0,0,0,0,0,0,0,0,0,0,0,0,0,0,null,null,null,146,0,{"$f":"VLOOKUP(Worksheet!N170,code!$K$3:$M$13,3,FALSE)","v":{"$error":"#N/A"}},"","","","",""]
["-",null,null,null,1,0,null,null,null,null,null,0,0,null,null,null,null,null,{"$f":"IF(OR(ISBLANK($C$14),ISBLANK($C$16),ISBLANK($G$16),ISBLANK($G$17),AND(LEFT(G171,6)=\"Atrium\",ISBLANK(I171))=TRUE)=TRUE,0,IF(LEFT(G171,6)=\"Atrium\",IF(G171='ASHRAE 90.1 2013 - CST'!$D$2,0.4+I171*0.02,I171*0.03),IF(ISBLANK(G171),IF(ISBLANK(H171),\"0\",VLOOKUP(H171,INDIRECT(\"BSSTTable_\"&$C$14),2,FALSE)),INDEX(INDIRECT(\"CSTTable_\"&$C$14),MATCH($C$16,INDIRECT(\"BldgTypes_\"&$C$14),0),MATCH(G171,INDIRECT(\"CSTTableTypes_\"&$C$14),0)))))","v":0},0,0,0,0,0,0,0,0,0,0,0,0,0,0,0,0,null,null,null,147,0,{"$f":"VLOOKUP(Worksheet!N171,code!$K$3:$M$13,3,FALSE)","v":{"$error":"#N/A"}},"","","","",""]
["-",null,null,null,1,0,null,null,null,null,null,0,0,null,null,null,null,null,{"$f":"IF(OR(ISBLANK($C$14),ISBLANK($C$16),ISBLANK($G$16),ISBLANK($G$17),AND(LEFT(G172,6)=\"Atrium\",ISBLANK(I172))=TRUE)=TRUE,0,IF(LEFT(G172,6)=\"Atrium\",IF(G172='ASHRAE 90.1 2013 - CST'!$D$2,0.4+I172*0.02,I172*0.03),IF(ISBLANK(G172),IF(ISBLANK(H172),\"0\",VLOOKUP(H172,INDIRECT(\"BSSTTable_\"&$C$14),2,FALSE)),INDEX(INDIRECT(\"CSTTable_\"&$C$14),MATCH($C$16,INDIRECT(\"BldgTypes_\"&$C$14),0),MATCH(G172,INDIRECT(\"CSTTableTypes_\"&$C$14),0)))))","v":0},0,0,0,0,0,0,0,0,0,0,0,0,0,0,0,0,null,null,null,148,0,{"$f":"VLOOKUP(Worksheet!N172,code!$K$3:$M$13,3,FALSE)","v":{"$error":"#N/A"}},"","","","",""]
["-",null,null,null,1,0,null,null,null,null,null,0,0,null,null,null,null,null,{"$f":"IF(OR(ISBLANK($C$14),ISBLANK($C$16),ISBLANK($G$16),ISBLANK($G$17),AND(LEFT(G173,6)=\"Atrium\",ISBLANK(I173))=TRUE)=TRUE,0,IF(LEFT(G173,6)=\"Atrium\",IF(G173='ASHRAE 90.1 2013 - CST'!$D$2,0.4+I173*0.02,I173*0.03),IF(ISBLANK(G173),IF(ISBLANK(H173),\"0\",VLOOKUP(H173,INDIRECT(\"BSSTTable_\"&$C$14),2,FALSE)),INDEX(INDIRECT(\"CSTTable_\"&$C$14),MATCH($C$16,INDIRECT(\"BldgTypes_\"&$C$14),0),MATCH(G173,INDIRECT(\"CSTTableTypes_\"&$C$14),0)))))","v":0},0,0,0,0,0,0,0,0,0,0,0,0,0,0,0,0,null,null,null,149,0,{"$f":"VLOOKUP(Worksheet!N173,code!$K$3:$M$13,3,FALSE)","v":{"$error":"#N/A"}},"","","","",""]
["-",null,null,null,1,0,null,null,null,null,null,0,0,null,null,null,null,null,{"$f":"IF(OR(ISBLANK($C$14),ISBLANK($C$16),ISBLANK($G$16),ISBLANK($G$17),AND(LEFT(G174,6)=\"Atrium\",ISBLANK(I174))=TRUE)=TRUE,0,IF(LEFT(G174,6)=\"Atrium\",IF(G174='ASHRAE 90.1 2013 - CST'!$D$2,0.4+I174*0.02,I174*0.03),IF(ISBLANK(G174),IF(ISBLANK(H174),\"0\",VLOOKUP(H174,INDIRECT(\"BSSTTable_\"&$C$14),2,FALSE)),INDEX(INDIRECT(\"CSTTable_\"&$C$14),MATCH($C$16,INDIRECT(\"BldgTypes_\"&$C$14),0),MATCH(G174,INDIRECT(\"CSTTableTypes_\"&$C$14),0)))))","v":0},0,0,0,0,0,0,0,0,0,0,0,0,0,0,0,0,null,null,null,150,0,{"$f":"VLOOKUP(Worksheet!N174,code!$K$3:$M$13,3,FALSE)","v":{"$error":"#N/A"}},"","","","",""]
["-",null,null,null,1,0,null,null,null,null,null,0,0,null,null,null,null,null,{"$f":"IF(OR(ISBLANK($C$14),ISBLANK($C$16),ISBLANK($G$16),ISBLANK($G$17),AND(LEFT(G175,6)=\"Atrium\",ISBLANK(I175))=TRUE)=TRUE,0,IF(LEFT(G175,6)=\"Atrium\",IF(G175='ASHRAE 90.1 2013 - CST'!$D$2,0.4+I175*0.02,I175*0.03),IF(ISBLANK(G175),IF(ISBLANK(H175),\"0\",VLOOKUP(H175,INDIRECT(\"BSSTTable_\"&$C$14),2,FALSE)),INDEX(INDIRECT(\"CSTTable_\"&$C$14),MATCH($C$16,INDIRECT(\"BldgTypes_\"&$C$14),0),MATCH(G175,INDIRECT(\"CSTTableTypes_\"&$C$14),0)))))","v":0},0,0,0,0,0,0,0,0,0,0,0,0,0,0,0,0,null,null,null,151,0,{"$f":"VLOOKUP(Worksheet!N175,code!$K$3:$M$13,3,FALSE)","v":{"$error":"#N/A"}},"","","","",""]
["-",null,null,null,1,0,null,null,null,null,null,0,0,null,null,null,null,null,{"$f":"IF(OR(ISBLANK($C$14),ISBLANK($C$16),ISBLANK($G$16),ISBLANK($G$17),AND(LEFT(G176,6)=\"Atrium\",ISBLANK(I176))=TRUE)=TRUE,0,IF(LEFT(G176,6)=\"Atrium\",IF(G176='ASHRAE 90.1 2013 - CST'!$D$2,0.4+I176*0.02,I176*0.03),IF(ISBLANK(G176),IF(ISBLANK(H176),\"0\",VLOOKUP(H176,INDIRECT(\"BSSTTable_\"&$C$14),2,FALSE)),INDEX(INDIRECT(\"CSTTable_\"&$C$14),MATCH($C$16,INDIRECT(\"BldgTypes_\"&$C$14),0),MATCH(G176,INDIRECT(\"CSTTableTypes_\"&$C$14),0)))))","v":0},0,0,0,0,0,0,0,0,0,0,0,0,0,0,0,0,null,null,null,152,0,{"$f":"VLOOKUP(Worksheet!N176,code!$K$3:$M$13,3,FALSE)","v":{"$error":"#N/A"}},"","","","",""]
["-",null,null,null,1,0,null,null,null,null,null,0,0,null,null,null,null,null,{"$f":"IF(OR(ISBLANK($C$14),ISBLANK($C$16),ISBLANK($G$16),ISBLANK($G$17),AND(LEFT(G177,6)=\"Atrium\",ISBLANK(I177))=TRUE)=TRUE,0,IF(LEFT(G177,6)=\"Atrium\",IF(G177='ASHRAE 90.1 2013 - CST'!$D$2,0.4+I177*0.02,I177*0.03),IF(ISBLANK(G177),IF(ISBLANK(H177),\"0\",VLOOKUP(H177,INDIRECT(\"BSSTTable_\"&$C$14),2,FALSE)),INDEX(INDIRECT(\"CSTTable_\"&$C$14),MATCH($C$16,INDIRECT(\"BldgTypes_\"&$C$14),0),MATCH(G177,INDIRECT(\"CSTTableTypes_\"&$C$14),0)))))","v":0},0,0,0,0,0,0,0,0,0,0,0,0,0,0,0,0,null,null,null,153,0,{"$f":"VLOOKUP(Worksheet!N177,code!$K$3:$M$13,3,FALSE)","v":{"$error":"#N/A"}},"","","","",""]
["-",null,null,null,1,0,null,null,null,null,null,0,0,null,null,null,null,null,{"$f":"IF(OR(ISBLANK($C$14),ISBLANK($C$16),ISBLANK($G$16),ISBLANK($G$17),AND(LEFT(G178,6)=\"Atrium\",ISBLANK(I178))=TRUE)=TRUE,0,IF(LEFT(G178,6)=\"Atrium\",IF(G178='ASHRAE 90.1 2013 - CST'!$D$2,0.4+I178*0.02,I178*0.03),IF(ISBLANK(G178),IF(ISBLANK(H178),\"0\",VLOOKUP(H178,INDIRECT(\"BSSTTable_\"&$C$14),2,FALSE)),INDEX(INDIRECT(\"CSTTable_\"&$C$14),MATCH($C$16,INDIRECT(\"BldgTypes_\"&$C$14),0),MATCH(G178,INDIRECT(\"CSTTableTypes_\"&$C$14),0)))))","v":0},0,0,0,0,0,0,0,0,0,0,0,0,0,0,0,0,null,null,null,154,0,{"$f":"VLOOKUP(Worksheet!N178,code!$K$3:$M$13,3,FALSE)","v":{"$error":"#N/A"}},"","","","",""]
["-",null,null,null,1,0,null,null,null,null,null,0,0,null,null,null,null,null,{"$f":"IF(OR(ISBLANK($C$14),ISBLANK($C$16),ISBLANK($G$16),ISBLANK($G$17),AND(LEFT(G179,6)=\"Atrium\",ISBLANK(I179))=TRUE)=TRUE,0,IF(LEFT(G179,6)=\"Atrium\",IF(G179='ASHRAE 90.1 2013 - CST'!$D$2,0.4+I179*0.02,I179*0.03),IF(ISBLANK(G179),IF(ISBLANK(H179),\"0\",VLOOKUP(H179,INDIRECT(\"BSSTTable_\"&$C$14),2,FALSE)),INDEX(INDIRECT(\"CSTTable_\"&$C$14),MATCH($C$16,INDIRECT(\"BldgTypes_\"&$C$14),0),MATCH(G179,INDIRECT(\"CSTTableTypes_\"&$C$14),0)))))","v":0},0,0,0,0,0,0,0,0,0,0,0,0,0,0,0,0,null,null,null,155,0,{"$f":"VLOOKUP(Worksheet!N179,code!$K$3:$M$13,3,FALSE)","v":{"$error":"#N/A"}},"","","","",""]
["-",null,null,null,1,0,null,null,null,null,null,0,0,null,null,null,null,null,{"$f":"IF(OR(ISBLANK($C$14),ISBLANK($C$16),ISBLANK($G$16),ISBLANK($G$17),AND(LEFT(G180,6)=\"Atrium\",ISBLANK(I180))=TRUE)=TRUE,0,IF(LEFT(G180,6)=\"Atrium\",IF(G180='ASHRAE 90.1 2013 - CST'!$D$2,0.4+I180*0.02,I180*0.03),IF(ISBLANK(G180),IF(ISBLANK(H180),\"0\",VLOOKUP(H180,INDIRECT(\"BSSTTable_\"&$C$14),2,FALSE)),INDEX(INDIRECT(\"CSTTable_\"&$C$14),MATCH($C$16,INDIRECT(\"BldgTypes_\"&$C$14),0),MATCH(G180,INDIRECT(\"CSTTableTypes_\"&$C$14),0)))))","v":0},0,0,0,0,0,0,0,0,0,0,0,0,0,0,0,0,null,null,null,156,0,{"$f":"VLOOKUP(Worksheet!N180,code!$K$3:$M$13,3,FALSE)","v":{"$error":"#N/A"}},"","","","",""]
["-",null,null,null,1,0,null,null,null,null,null,0,0,null,null,null,null,null,{"$f":"IF(OR(ISBLANK($C$14),ISBLANK($C$16),ISBLANK($G$16),ISBLANK($G$17),AND(LEFT(G181,6)=\"Atrium\",ISBLANK(I181))=TRUE)=TRUE,0,IF(LEFT(G181,6)=\"Atrium\",IF(G181='ASHRAE 90.1 2013 - CST'!$D$2,0.4+I181*0.02,I181*0.03),IF(ISBLANK(G181),IF(ISBLANK(H181),\"0\",VLOOKUP(H181,INDIRECT(\"BSSTTable_\"&$C$14),2,FALSE)),INDEX(INDIRECT(\"CSTTable_\"&$C$14),MATCH($C$16,INDIRECT(\"BldgTypes_\"&$C$14),0),MATCH(G181,INDIRECT(\"CSTTableTypes_\"&$C$14),0)))))","v":0},0,0,0,0,0,0,0,0,0,0,0,0,0,0,0,0,null,null,null,157,0,{"$f":"VLOOKUP(Worksheet!N181,code!$K$3:$M$13,3,FALSE)","v":{"$error":"#N/A"}},"","","","",""]
["-",null,null,null,1,0,null,null,null,null,null,0,0,null,null,null,null,null,{"$f":"IF(OR(ISBLANK($C$14),ISBLANK($C$16),ISBLANK($G$16),ISBLANK($G$17),AND(LEFT(G182,6)=\"Atrium\",ISBLANK(I182))=TRUE)=TRUE,0,IF(LEFT(G182,6)=\"Atrium\",IF(G182='ASHRAE 90.1 2013 - CST'!$D$2,0.4+I182*0.02,I182*0.03),IF(ISBLANK(G182),IF(ISBLANK(H182),\"0\",VLOOKUP(H182,INDIRECT(\"BSSTTable_\"&$C$14),2,FALSE)),INDEX(INDIRECT(\"CSTTable_\"&$C$14),MATCH($C$16,INDIRECT(\"BldgTypes_\"&$C$14),0),MATCH(G182,INDIRECT(\"CSTTableTypes_\"&$C$14),0)))))","v":0},0,0,0,0,0,0,0,0,0,0,0,0,0,0,0,0,null,null,null,158,0,{"$f":"VLOOKUP(Worksheet!N182,code!$K$3:$M$13,3,FALSE)","v":{"$error":"#N/A"}},"","","","",""]
["-",null,null,null,1,0,null,null,null,null,null,0,0,null,null,null,null,null,{"$f":"IF(OR(ISBLANK($C$14),ISBLANK($C$16),ISBLANK($G$16),ISBLANK($G$17),AND(LEFT(G183,6)=\"Atrium\",ISBLANK(I183))=TRUE)=TRUE,0,IF(LEFT(G183,6)=\"Atrium\",IF(G183='ASHRAE 90.1 2013 - CST'!$D$2,0.4+I183*0.02,I183*0.03),IF(ISBLANK(G183),IF(ISBLANK(H183),\"0\",VLOOKUP(H183,INDIRECT(\"BSSTTable_\"&$C$14),2,FALSE)),INDEX(INDIRECT(\"CSTTable_\"&$C$14),MATCH($C$16,INDIRECT(\"BldgTypes_\"&$C$14),0),MATCH(G183,INDIRECT(\"CSTTableTypes_\"&$C$14),0)))))","v":0},0,0,0,0,0,0,0,0,0,0,0,0,0,0,0,0,null,null,null,159,0,{"$f":"VLOOKUP(Worksheet!N183,code!$K$3:$M$13,3,FALSE)","v":{"$error":"#N/A"}},"","","","",""]
["-",null,null,null,1,0,null,null,null,null,null,0,0,null,null,null,null,null,{"$f":"IF(OR(ISBLANK($C$14),ISBLANK($C$16),ISBLANK($G$16),ISBLANK($G$17),AND(LEFT(G184,6)=\"Atrium\",ISBLANK(I184))=TRUE)=TRUE,0,IF(LEFT(G184,6)=\"Atrium\",IF(G184='ASHRAE 90.1 2013 - CST'!$D$2,0.4+I184*0.02,I184*0.03),IF(ISBLANK(G184),IF(ISBLANK(H184),\"0\",VLOOKUP(H184,INDIRECT(\"BSSTTable_\"&$C$14),2,FALSE)),INDEX(INDIRECT(\"CSTTable_\"&$C$14),MATCH($C$16,INDIRECT(\"BldgTypes_\"&$C$14),0),MATCH(G184,INDIRECT(\"CSTTableTypes_\"&$C$14),0)))))","v":0},0,0,0,0,0,0,0,0,0,0,0,0,0,0,0,0,null,null,null,160,0,{"$f":"VLOOKUP(Worksheet!N184,code!$K$3:$M$13,3,FALSE)","v":{"$error":"#N/A"}},"","","","",""]
["-",null,null,null,1,0,null,null,null,null,null,0,0,null,null,null,null,null,{"$f":"IF(OR(ISBLANK($C$14),ISBLANK($C$16),ISBLANK($G$16),ISBLANK($G$17),AND(LEFT(G185,6)=\"Atrium\",ISBLANK(I185))=TRUE)=TRUE,0,IF(LEFT(G185,6)=\"Atrium\",IF(G185='ASHRAE 90.1 2013 - CST'!$D$2,0.4+I185*0.02,I185*0.03),IF(ISBLANK(G185),IF(ISBLANK(H185),\"0\",VLOOKUP(H185,INDIRECT(\"BSSTTable_\"&$C$14),2,FALSE)),INDEX(INDIRECT(\"CSTTable_\"&$C$14),MATCH($C$16,INDIRECT(\"BldgTypes_\"&$C$14),0),MATCH(G185,INDIRECT(\"CSTTableTypes_\"&$C$14),0)))))","v":0},0,0,0,0,0,0,0,0,0,0,0,0,0,0,0,0,null,null,null,161,0,{"$f":"VLOOKUP(Worksheet!N185,code!$K$3:$M$13,3,FALSE)","v":{"$error":"#N/A"}},"","","","",""]
["-",null,null,null,1,0,null,null,null,null,null,0,0,null,null,null,null,null,{"$f":"IF(OR(ISBLANK($C$14),ISBLANK($C$16),ISBLANK($G$16),ISBLANK($G$17),AND(LEFT(G186,6)=\"Atrium\",ISBLANK(I186))=TRUE)=TRUE,0,IF(LEFT(G186,6)=\"Atrium\",IF(G186='ASHRAE 90.1 2013 - CST'!$D$2,0.4+I186*0.02,I186*0.03),IF(ISBLANK(G186),IF(ISBLANK(H186),\"0\",VLOOKUP(H186,INDIRECT(\"BSSTTable_\"&$C$14),2,FALSE)),INDEX(INDIRECT(\"CSTTable_\"&$C$14),MATCH($C$16,INDIRECT(\"BldgTypes_\"&$C$14),0),MATCH(G186,INDIRECT(\"CSTTableTypes_\"&$C$14),0)))))","v":0},0,0,0,0,0,0,0,0,0,0,0,0,0,0,0,0,null,null,null,162,0,{"$f":"VLOOKUP(Worksheet!N186,code!$K$3:$M$13,3,FALSE)","v":{"$error":"#N/A"}},"","","","",""]
["-",null,null,null,1,0,null,null,null,null,null,0,0,null,null,null,null,null,{"$f":"IF(OR(ISBLANK($C$14),ISBLANK($C$16),ISBLANK($G$16),ISBLANK($G$17),AND(LEFT(G187,6)=\"Atrium\",ISBLANK(I187))=TRUE)=TRUE,0,IF(LEFT(G187,6)=\"Atrium\",IF(G187='ASHRAE 90.1 2013 - CST'!$D$2,0.4+I187*0.02,I187*0.03),IF(ISBLANK(G187),IF(ISBLANK(H187),\"0\",VLOOKUP(H187,INDIRECT(\"BSSTTable_\"&$C$14),2,FALSE)),INDEX(INDIRECT(\"CSTTable_\"&$C$14),MATCH($C$16,INDIRECT(\"BldgTypes_\"&$C$14),0),MATCH(G187,INDIRECT(\"CSTTableTypes_\"&$C$14),0)))))","v":0},0,0,0,0,0,0,0,0,0,0,0,0,0,0,0,0,null,null,null,163,0,{"$f":"VLOOKUP(Worksheet!N187,code!$K$3:$M$13,3,FALSE)","v":{"$error":"#N/A"}},"","","","",""]
["-",null,null,null,1,0,null,null,null,null,null,0,0,null,null,null,null,null,{"$f":"IF(OR(ISBLANK($C$14),ISBLANK($C$16),ISBLANK($G$16),ISBLANK($G$17),AND(LEFT(G188,6)=\"Atrium\",ISBLANK(I188))=TRUE)=TRUE,0,IF(LEFT(G188,6)=\"Atrium\",IF(G188='ASHRAE 90.1 2013 - CST'!$D$2,0.4+I188*0.02,I188*0.03),IF(ISBLANK(G188),IF(ISBLANK(H188),\"0\",VLOOKUP(H188,INDIRECT(\"BSSTTable_\"&$C$14),2,FALSE)),INDEX(INDIRECT(\"CSTTable_\"&$C$14),MATCH($C$16,INDIRECT(\"BldgTypes_\"&$C$14),0),MATCH(G188,INDIRECT(\"CSTTableTypes_\"&$C$14),0)))))","v":0},0,0,0,0,0,0,0,0,0,0,0,0,0,0,0,0,null,null,null,164,0,{"$f":"VLOOKUP(Worksheet!N188,code!$K$3:$M$13,3,FALSE)","v":{"$error":"#N/A"}},"","","","",""]
["-",null,null,null,1,{"$f":"B189*E189","v":0},null,null,null,null,null,0,0,null,null,null,null,null,{"$f":"IF(OR(ISBLANK($C$14),ISBLANK($C$16),ISBLANK($G$16),ISBLANK($G$17),AND(LEFT(G189,6)=\"Atrium\",ISBLANK(I189))=TRUE)=TRUE,0,IF(LEFT(G189,6)=\"Atrium\",IF(G189='ASHRAE 90.1 2013 - CST'!$D$2,0.4+I189*0.02,I189*0.03),IF(ISBLANK(G189),IF(ISBLANK(H189),\"0\",VLOOKUP(H189,INDIRECT(\"BSSTTable_\"&$C$14),2,FALSE)),INDEX(INDIRECT(\"CSTTable_\"&$C$14),MATCH($C$16,INDIRECT(\"BldgTypes_\"&$C$14),0),MATCH(G189,INDIRECT(\"CSTTableTypes_\"&$C$14),0)))))","v":0},0,0,0,0,0,0,0,0,0,0,0,0,{"$f":"IF(AND(NOT(ISNA(V189)),$AB189=\"y\"),X189,0)","v":0},0,0,0,null,null,null,165,0,{"$f":"VLOOKUP(Worksheet!N189,code!$K$3:$M$13,3,FALSE)","v":{"$error":"#N/A"}},"","","","",""]
["-",null,null,null,1,0,null,null,null,null,null,0,0,null,null,null,null,null,{"$f":"IF(OR(ISBLANK($C$14),ISBLANK($C$16),ISBLANK($G$16),ISBLANK($G$17),AND(LEFT(G190,6)=\"Atrium\",ISBLANK(I190))=TRUE)=TRUE,0,IF(LEFT(G190,6)=\"Atrium\",IF(G190='ASHRAE 90.1 2013 - CST'!$D$2,0.4+I190*0.02,I190*0.03),IF(ISBLANK(G190),IF(ISBLANK(H190),\"0\",VLOOKUP(H190,INDIRECT(\"BSSTTable_\"&$C$14),2,FALSE)),INDEX(INDIRECT(\"CSTTable_\"&$C$14),MATCH($C$16,INDIRECT(\"BldgTypes_\"&$C$14),0),MATCH(G190,INDIRECT(\"CSTTableTypes_\"&$C$14),0)))))","v":0},0,0,0,0,0,0,0,0,0,0,0,0,0,0,0,0,null,null,null,166,0,{"$f":"VLOOKUP(Worksheet!N190,code!$K$3:$M$13,3,FALSE)","v":{"$error":"#N/A"}},"","","","",""]
["-",null,null,null,1,0,null,null,null,null,null,0,0,null,null,null,null,null,{"$f":"IF(OR(ISBLANK($C$14),ISBLANK($C$16),ISBLANK($G$16),ISBLANK($G$17),AND(LEFT(G191,6)=\"Atrium\",ISBLANK(I191))=TRUE)=TRUE,0,IF(LEFT(G191,6)=\"Atrium\",IF(G191='ASHRAE 90.1 2013 - CST'!$D$2,0.4+I191*0.02,I191*0.03),IF(ISBLANK(G191),IF(ISBLANK(H191),\"0\",VLOOKUP(H191,INDIRECT(\"BSSTTable_\"&$C$14),2,FALSE)),INDEX(INDIRECT(\"CSTTable_\"&$C$14),MATCH($C$16,INDIRECT(\"BldgTypes_\"&$C$14),0),MATCH(G191,INDIRECT(\"CSTTableTypes_\"&$C$14),0)))))","v":0},0,0,0,0,0,0,0,0,0,0,0,0,0,0,0,0,null,null,null,167,0,{"$f":"VLOOKUP(Worksheet!N191,code!$K$3:$M$13,3,FALSE)","v":{"$error":"#N/A"}},"","","","",""]
["-",null,null,null,1,0,null,null,null,null,null,0,0,null,null,null,null,null,{"$f":"IF(OR(ISBLANK($C$14),ISBLANK($C$16),ISBLANK($G$16),ISBLANK($G$17),AND(LEFT(G192,6)=\"Atrium\",ISBLANK(I192))=TRUE)=TRUE,0,IF(LEFT(G192,6)=\"Atrium\",IF(G192='ASHRAE 90.1 2013 - CST'!$D$2,0.4+I192*0.02,I192*0.03),IF(ISBLANK(G192),IF(ISBLANK(H192),\"0\",VLOOKUP(H192,INDIRECT(\"BSSTTable_\"&$C$14),2,FALSE)),INDEX(INDIRECT(\"CSTTable_\"&$C$14),MATCH($C$16,INDIRECT(\"BldgTypes_\"&$C$14),0),MATCH(G192,INDIRECT(\"CSTTableTypes_\"&$C$14),0)))))","v":0},0,0,0,0,0,0,0,0,0,0,0,0,0,0,0,0,null,null,null,168,0,{"$f":"VLOOKUP(Worksheet!N192,code!$K$3:$M$13,3,FALSE)","v":{"$error":"#N/A"}},"","","","",""]
["-",null,null,null,1,0,null,null,null,null,null,0,0,null,null,null,null,null,{"$f":"IF(OR(ISBLANK($C$14),ISBLANK($C$16),ISBLANK($G$16),ISBLANK($G$17),AND(LEFT(G193,6)=\"Atrium\",ISBLANK(I193))=TRUE)=TRUE,0,IF(LEFT(G193,6)=\"Atrium\",IF(G193='ASHRAE 90.1 2013 - CST'!$D$2,0.4+I193*0.02,I193*0.03),IF(ISBLANK(G193),IF(ISBLANK(H193),\"0\",VLOOKUP(H193,INDIRECT(\"BSSTTable_\"&$C$14),2,FALSE)),INDEX(INDIRECT(\"CSTTable_\"&$C$14),MATCH($C$16,INDIRECT(\"BldgTypes_\"&$C$14),0),MATCH(G193,INDIRECT(\"CSTTableTypes_\"&$C$14),0)))))","v":0},0,0,0,0,0,0,0,0,0,0,0,0,0,0,0,0,null,null,null,169,0,{"$f":"VLOOKUP(Worksheet!N193,code!$K$3:$M$13,3,FALSE)","v":{"$error":"#N/A"}},"","","","",""]
["-",null,null,null,1,0,null,null,null,null,null,0,0,null,null,null,null,null,{"$f":"IF(OR(ISBLANK($C$14),ISBLANK($C$16),ISBLANK($G$16),ISBLANK($G$17),AND(LEFT(G194,6)=\"Atrium\",ISBLANK(I194))=TRUE)=TRUE,0,IF(LEFT(G194,6)=\"Atrium\",IF(G194='ASHRAE 90.1 2013 - CST'!$D$2,0.4+I194*0.02,I194*0.03),IF(ISBLANK(G194),IF(ISBLANK(H194),\"0\",VLOOKUP(H194,INDIRECT(\"BSSTTable_\"&$C$14),2,FALSE)),INDEX(INDIRECT(\"CSTTable_\"&$C$14),MATCH($C$16,INDIRECT(\"BldgTypes_\"&$C$14),0),MATCH(G194,INDIRECT(\"CSTTableTypes_\"&$C$14),0)))))","v":0},0,0,0,0,0,0,0,0,0,0,0,0,0,0,0,0,null,null,null,170,0,{"$f":"VLOOKUP(Worksheet!N194,code!$K$3:$M$13,3,FALSE)","v":{"$error":"#N/A"}},"","","","",""]
["-",null,null,null,1,0,null,null,null,null,null,0,0,null,null,null,null,null,{"$f":"IF(OR(ISBLANK($C$14),ISBLANK($C$16),ISBLANK($G$16),ISBLANK($G$17),AND(LEFT(G195,6)=\"Atrium\",ISBLANK(I195))=TRUE)=TRUE,0,IF(LEFT(G195,6)=\"Atrium\",IF(G195='ASHRAE 90.1 2013 - CST'!$D$2,0.4+I195*0.02,I195*0.03),IF(ISBLANK(G195),IF(ISBLANK(H195),\"0\",VLOOKUP(H195,INDIRECT(\"BSSTTable_\"&$C$14),2,FALSE)),INDEX(INDIRECT(\"CSTTable_\"&$C$14),MATCH($C$16,INDIRECT(\"BldgTypes_\"&$C$14),0),MATCH(G195,INDIRECT(\"CSTTableTypes_\"&$C$14),0)))))","v":0},0,0,0,0,0,0,0,0,0,0,0,0,0,0,0,0,null,null,null,171,0,{"$f":"VLOOKUP(Worksheet!N195,code!$K$3:$M$13,3,FALSE)","v":{"$error":"#N/A"}},"","","","",""]
["-",null,null,null,1,0,null,null,null,null,null,0,0,null,null,null,null,null,{"$f":"IF(OR(ISBLANK($C$14),ISBLANK($C$16),ISBLANK($G$16),ISBLANK($G$17),AND(LEFT(G196,6)=\"Atrium\",ISBLANK(I196))=TRUE)=TRUE,0,IF(LEFT(G196,6)=\"Atrium\",IF(G196='ASHRAE 90.1 2013 - CST'!$D$2,0.4+I196*0.02,I196*0.03),IF(ISBLANK(G196),IF(ISBLANK(H196),\"0\",VLOOKUP(H196,INDIRECT(\"BSSTTable_\"&$C$14),2,FALSE)),INDEX(INDIRECT(\"CSTTable_\"&$C$14),MATCH($C$16,INDIRECT(\"BldgTypes_\"&$C$14),0),MATCH(G196,INDIRECT(\"CSTTableTypes_\"&$C$14),0)))))","v":0},0,0,0,0,0,0,0,0,0,0,0,0,0,0,0,0,null,null,null,172,0,{"$f":"VLOOKUP(Worksheet!N196,code!$K$3:$M$13,3,FALSE)","v":{"$error":"#N/A"}},"","","","",""]
["-",null,null,null,1,0,null,null,null,null,null,0,0,null,null,null,null,null,{"$f":"IF(OR(ISBLANK($C$14),ISBLANK($C$16),ISBLANK($G$16),ISBLANK($G$17),AND(LEFT(G197,6)=\"Atrium\",ISBLANK(I197))=TRUE)=TRUE,0,IF(LEFT(G197,6)=\"Atrium\",IF(G197='ASHRAE 90.1 2013 - CST'!$D$2,0.4+I197*0.02,I197*0.03),IF(ISBLANK(G197),IF(ISBLANK(H197),\"0\",VLOOKUP(H197,INDIRECT(\"BSSTTable_\"&$C$14),2,FALSE)),INDEX(INDIRECT(\"CSTTable_\"&$C$14),MATCH($C$16,INDIRECT(\"BldgTypes_\"&$C$14),0),MATCH(G197,INDIRECT(\"CSTTableTypes_\"&$C$14),0)))))","v":0},0,0,0,0,0,0,0,0,0,0,0,0,0,0,0,0,null,null,null,173,0,{"$f":"VLOOKUP(Worksheet!N197,code!$K$3:$M$13,3,FALSE)","v":{"$error":"#N/A"}},"","","","",""]
["-",null,null,null,1,0,null,null,null,null,null,0,0,null,null,null,null,null,{"$f":"IF(OR(ISBLANK($C$14),ISBLANK($C$16),ISBLANK($G$16),ISBLANK($G$17),AND(LEFT(G198,6)=\"Atrium\",ISBLANK(I198))=TRUE)=TRUE,0,IF(LEFT(G198,6)=\"Atrium\",IF(G198='ASHRAE 90.1 2013 - CST'!$D$2,0.4+I198*0.02,I198*0.03),IF(ISBLANK(G198),IF(ISBLANK(H198),\"0\",VLOOKUP(H198,INDIRECT(\"BSSTTable_\"&$C$14),2,FALSE)),INDEX(INDIRECT(\"CSTTable_\"&$C$14),MATCH($C$16,INDIRECT(\"BldgTypes_\"&$C$14),0),MATCH(G198,INDIRECT(\"CSTTableTypes_\"&$C$14),0)))))","v":0},0,0,0,0,0,0,0,0,0,0,0,0,0,0,0,0,null,null,null,174,0,{"$f":"VLOOKUP(Worksheet!N198,code!$K$3:$M$13,3,FALSE)","v":{"$error":"#N/A"}},"","","","",""]
["-",null,null,null,1,0,null,null,null,null,null,0,0,null,null,null,null,null,{"$f":"IF(OR(ISBLANK($C$14),ISBLANK($C$16),ISBLANK($G$16),ISBLANK($G$17),AND(LEFT(G199,6)=\"Atrium\",ISBLANK(I199))=TRUE)=TRUE,0,IF(LEFT(G199,6)=\"Atrium\",IF(G199='ASHRAE 90.1 2013 - CST'!$D$2,0.4+I199*0.02,I199*0.03),IF(ISBLANK(G199),IF(ISBLANK(H199),\"0\",VLOOKUP(H199,INDIRECT(\"BSSTTable_\"&$C$14),2,FALSE)),INDEX(INDIRECT(\"CSTTable_\"&$C$14),MATCH($C$16,INDIRECT(\"BldgTypes_\"&$C$14),0),MATCH(G199,INDIRECT(\"CSTTableTypes_\"&$C$14),0)))))","v":0},0,0,0,0,0,0,0,0,0,0,0,0,0,0,0,0,null,null,null,175,0,{"$f":"VLOOKUP(Worksheet!N199,code!$K$3:$M$13,3,FALSE)","v":{"$error":"#N/A"}},"","","","",""]
["-",null,null,null,1,0,null,null,null,null,null,0,0,null,null,null,null,null,{"$f":"IF(OR(ISBLANK($C$14),ISBLANK($C$16),ISBLANK($G$16),ISBLANK($G$17),AND(LEFT(G200,6)=\"Atrium\",ISBLANK(I200))=TRUE)=TRUE,0,IF(LEFT(G200,6)=\"Atrium\",IF(G200='ASHRAE 90.1 2013 - CST'!$D$2,0.4+I200*0.02,I200*0.03),IF(ISBLANK(G200),IF(ISBLANK(H200),\"0\",VLOOKUP(H200,INDIRECT(\"BSSTTable_\"&$C$14),2,FALSE)),INDEX(INDIRECT(\"CSTTable_\"&$C$14),MATCH($C$16,INDIRECT(\"BldgTypes_\"&$C$14),0),MATCH(G200,INDIRECT(\"CSTTableTypes_\"&$C$14),0)))))","v":0},0,0,0,0,0,0,0,0,0,0,0,0,0,0,0,0,null,null,null,176,0,{"$f":"VLOOKUP(Worksheet!N200,code!$K$3:$M$13,3,FALSE)","v":{"$error":"#N/A"}},"","","","",""]
["-",null,null,null,1,0,null,null,null,null,null,0,0,null,null,null,null,null,{"$f":"IF(OR(ISBLANK($C$14),ISBLANK($C$16),ISBLANK($G$16),ISBLANK($G$17),AND(LEFT(G201,6)=\"Atrium\",ISBLANK(I201))=TRUE)=TRUE,0,IF(LEFT(G201,6)=\"Atrium\",IF(G201='ASHRAE 90.1 2013 - CST'!$D$2,0.4+I201*0.02,I201*0.03),IF(ISBLANK(G201),IF(ISBLANK(H201),\"0\",VLOOKUP(H201,INDIRECT(\"BSSTTable_\"&$C$14),2,FALSE)),INDEX(INDIRECT(\"CSTTable_\"&$C$14),MATCH($C$16,INDIRECT(\"BldgTypes_\"&$C$14),0),MATCH(G201,INDIRECT(\"CSTTableTypes_\"&$C$14),0)))))","v":0},0,0,0,0,0,0,0,0,0,0,0,0,0,0,0,0,null,null,null,177,0,{"$f":"VLOOKUP(Worksheet!N201,code!$K$3:$M$13,3,FALSE)","v":{"$error":"#N/A"}},"","","","",""]
["-",null,null,null,1,0,null,null,null,null,null,0,0,null,null,null,null,null,{"$f":"IF(OR(ISBLANK($C$14),ISBLANK($C$16),ISBLANK($G$16),ISBLANK($G$17),AND(LEFT(G202,6)=\"Atrium\",ISBLANK(I202))=TRUE)=TRUE,0,IF(LEFT(G202,6)=\"Atrium\",IF(G202='ASHRAE 90.1 2013 - CST'!$D$2,0.4+I202*0.02,I202*0.03),IF(ISBLANK(G202),IF(ISBLANK(H202),\"0\",VLOOKUP(H202,INDIRECT(\"BSSTTable_\"&$C$14),2,FALSE)),INDEX(INDIRECT(\"CSTTable_\"&$C$14),MATCH($C$16,INDIRECT(\"BldgTypes_\"&$C$14),0),MATCH(G202,INDIRECT(\"CSTTableTypes_\"&$C$14),0)))))","v":0},0,0,0,0,0,0,0,0,0,0,0,0,0,0,0,0,null,null,null,178,0,{"$f":"VLOOKUP(Worksheet!N202,code!$K$3:$M$13,3,FALSE)","v":{"$error":"#N/A"}},"","","","",""]
["-",null,null,null,1,0,null,null,null,null,null,0,0,null,null,null,null,null,{"$f":"IF(OR(ISBLANK($C$14),ISBLANK($C$16),ISBLANK($G$16),ISBLANK($G$17),AND(LEFT(G203,6)=\"Atrium\",ISBLANK(I203))=TRUE)=TRUE,0,IF(LEFT(G203,6)=\"Atrium\",IF(G203='ASHRAE 90.1 2013 - CST'!$D$2,0.4+I203*0.02,I203*0.03),IF(ISBLANK(G203),IF(ISBLANK(H203),\"0\",VLOOKUP(H203,INDIRECT(\"BSSTTable_\"&$C$14),2,FALSE)),INDEX(INDIRECT(\"CSTTable_\"&$C$14),MATCH($C$16,INDIRECT(\"BldgTypes_\"&$C$14),0),MATCH(G203,INDIRECT(\"CSTTableTypes_\"&$C$14),0)))))","v":0},0,0,0,0,0,0,0,0,0,0,0,0,0,0,0,0,null,null,null,179,0,{"$f":"VLOOKUP(Worksheet!N203,code!$K$3:$M$13,3,FALSE)","v":{"$error":"#N/A"}},"","","","",""]
["-",null,null,null,1,0,null,null,null,null,null,0,0,null,null,null,null,null,{"$f":"IF(OR(ISBLANK($C$14),ISBLANK($C$16),ISBLANK($G$16),ISBLANK($G$17),AND(LEFT(G204,6)=\"Atrium\",ISBLANK(I204))=TRUE)=TRUE,0,IF(LEFT(G204,6)=\"Atrium\",IF(G204='ASHRAE 90.1 2013 - CST'!$D$2,0.4+I204*0.02,I204*0.03),IF(ISBLANK(G204),IF(ISBLANK(H204),\"0\",VLOOKUP(H204,INDIRECT(\"BSSTTable_\"&$C$14),2,FALSE)),INDEX(INDIRECT(\"CSTTable_\"&$C$14),MATCH($C$16,INDIRECT(\"BldgTypes_\"&$C$14),0),MATCH(G204,INDIRECT(\"CSTTableTypes_\"&$C$14),0)))))","v":0},0,0,0,0,0,0,0,0,0,0,0,0,0,0,0,0,null,null,null,180,0,{"$f":"VLOOKUP(Worksheet!N204,code!$K$3:$M$13,3,FALSE)","v":{"$error":"#N/A"}},"","","","",""]
["-",null,null,null,1,0,null,null,null,null,null,0,0,null,null,null,null,null,{"$f":"IF(OR(ISBLANK($C$14),ISBLANK($C$16),ISBLANK($G$16),ISBLANK($G$17),AND(LEFT(G205,6)=\"Atrium\",ISBLANK(I205))=TRUE)=TRUE,0,IF(LEFT(G205,6)=\"Atrium\",IF(G205='ASHRAE 90.1 2013 - CST'!$D$2,0.4+I205*0.02,I205*0.03),IF(ISBLANK(G205),IF(ISBLANK(H205),\"0\",VLOOKUP(H205,INDIRECT(\"BSSTTable_\"&$C$14),2,FALSE)),INDEX(INDIRECT(\"CSTTable_\"&$C$14),MATCH($C$16,INDIRECT(\"BldgTypes_\"&$C$14),0),MATCH(G205,INDIRECT(\"CSTTableTypes_\"&$C$14),0)))))","v":0},0,0,0,0,0,0,0,0,0,0,0,0,0,0,0,0,null,null,null,181,0,{"$f":"VLOOKUP(Worksheet!N205,code!$K$3:$M$13,3,FALSE)","v":{"$error":"#N/A"}},"","","","",""]
["-",null,null,null,1,0,null,null,null,null,null,0,0,null,null,null,null,null,{"$f":"IF(OR(ISBLANK($C$14),ISBLANK($C$16),ISBLANK($G$16),ISBLANK($G$17),AND(LEFT(G206,6)=\"Atrium\",ISBLANK(I206))=TRUE)=TRUE,0,IF(LEFT(G206,6)=\"Atrium\",IF(G206='ASHRAE 90.1 2013 - CST'!$D$2,0.4+I206*0.02,I206*0.03),IF(ISBLANK(G206),IF(ISBLANK(H206),\"0\",VLOOKUP(H206,INDIRECT(\"BSSTTable_\"&$C$14),2,FALSE)),INDEX(INDIRECT(\"CSTTable_\"&$C$14),MATCH($C$16,INDIRECT(\"BldgTypes_\"&$C$14),0),MATCH(G206,INDIRECT(\"CSTTableTypes_\"&$C$14),0)))))","v":0},0,0,0,0,0,0,0,0,0,0,0,0,0,0,0,0,null,null,null,182,0,{"$f":"VLOOKUP(Worksheet!N206,code!$K$3:$M$13,3,FALSE)","v":{"$error":"#N/A"}},"","","","",""]
["-",null,null,null,1,0,null,null,null,null,null,0,0,null,null,null,null,null,{"$f":"IF(OR(ISBLANK($C$14),ISBLANK($C$16),ISBLANK($G$16),ISBLANK($G$17),AND(LEFT(G207,6)=\"Atrium\",ISBLANK(I207))=TRUE)=TRUE,0,IF(LEFT(G207,6)=\"Atrium\",IF(G207='ASHRAE 90.1 2013 - CST'!$D$2,0.4+I207*0.02,I207*0.03),IF(ISBLANK(G207),IF(ISBLANK(H207),\"0\",VLOOKUP(H207,INDIRECT(\"BSSTTable_\"&$C$14),2,FALSE)),INDEX(INDIRECT(\"CSTTable_\"&$C$14),MATCH($C$16,INDIRECT(\"BldgTypes_\"&$C$14),0),MATCH(G207,INDIRECT(\"CSTTableTypes_\"&$C$14),0)))))","v":0},0,0,0,0,0,0,0,0,0,0,0,0,0,0,0,0,null,null,null,183,0,{"$f":"VLOOKUP(Worksheet!N207,code!$K$3:$M$13,3,FALSE)","v":{"$error":"#N/A"}},"","","","",""]
["-",null,null,null,1,0,null,null,null,null,null,0,0,null,null,null,null,null,{"$f":"IF(OR(ISBLANK($C$14),ISBLANK($C$16),ISBLANK($G$16),ISBLANK($G$17),AND(LEFT(G208,6)=\"Atrium\",ISBLANK(I208))=TRUE)=TRUE,0,IF(LEFT(G208,6)=\"Atrium\",IF(G208='ASHRAE 90.1 2013 - CST'!$D$2,0.4+I208*0.02,I208*0.03),IF(ISBLANK(G208),IF(ISBLANK(H208),\"0\",VLOOKUP(H208,INDIRECT(\"BSSTTable_\"&$C$14),2,FALSE)),INDEX(INDIRECT(\"CSTTable_\"&$C$14),MATCH($C$16,INDIRECT(\"BldgTypes_\"&$C$14),0),MATCH(G208,INDIRECT(\"CSTTableTypes_\"&$C$14),0)))))","v":0},0,0,0,0,0,0,0,0,0,0,0,0,0,0,0,0,null,null,null,184,0,{"$f":"VLOOKUP(Worksheet!N208,code!$K$3:$M$13,3,FALSE)","v":{"$error":"#N/A"}},"","","","",""]
["-",null,null,null,1,0,null,null,null,null,null,0,0,null,null,null,null,null,{"$f":"IF(OR(ISBLANK($C$14),ISBLANK($C$16),ISBLANK($G$16),ISBLANK($G$17),AND(LEFT(G209,6)=\"Atrium\",ISBLANK(I209))=TRUE)=TRUE,0,IF(LEFT(G209,6)=\"Atrium\",IF(G209='ASHRAE 90.1 2013 - CST'!$D$2,0.4+I209*0.02,I209*0.03),IF(ISBLANK(G209),IF(ISBLANK(H209),\"0\",VLOOKUP(H209,INDIRECT(\"BSSTTable_\"&$C$14),2,FALSE)),INDEX(INDIRECT(\"CSTTable_\"&$C$14),MATCH($C$16,INDIRECT(\"BldgTypes_\"&$C$14),0),MATCH(G209,INDIRECT(\"CSTTableTypes_\"&$C$14),0)))))","v":0},0,0,0,0,0,0,0,0,0,0,0,0,0,0,0,0,null,null,null,185,0,{"$f":"VLOOKUP(Worksheet!N209,code!$K$3:$M$13,3,FALSE)","v":{"$error":"#N/A"}},"","","","",""]
["-",null,null,null,1,0,null,null,null,null,null,0,0,null,null,null,null,null,{"$f":"IF(OR(ISBLANK($C$14),ISBLANK($C$16),ISBLANK($G$16),ISBLANK($G$17),AND(LEFT(G210,6)=\"Atrium\",ISBLANK(I210))=TRUE)=TRUE,0,IF(LEFT(G210,6)=\"Atrium\",IF(G210='ASHRAE 90.1 2013 - CST'!$D$2,0.4+I210*0.02,I210*0.03),IF(ISBLANK(G210),IF(ISBLANK(H210),\"0\",VLOOKUP(H210,INDIRECT(\"BSSTTable_\"&$C$14),2,FALSE)),INDEX(INDIRECT(\"CSTTable_\"&$C$14),MATCH($C$16,INDIRECT(\"BldgTypes_\"&$C$14),0),MATCH(G210,INDIRECT(\"CSTTableTypes_\"&$C$14),0)))))","v":0},0,0,0,0,0,0,0,0,0,0,0,0,0,0,0,0,null,null,null,186,0,{"$f":"VLOOKUP(Worksheet!N210,code!$K$3:$M$13,3,FALSE)","v":{"$error":"#N/A"}},"","","","",""]
["-",null,null,null,1,0,null,null,null,null,null,0,0,null,null,null,null,null,{"$f":"IF(OR(ISBLANK($C$14),ISBLANK($C$16),ISBLANK($G$16),ISBLANK($G$17),AND(LEFT(G211,6)=\"Atrium\",ISBLANK(I211))=TRUE)=TRUE,0,IF(LEFT(G211,6)=\"Atrium\",IF(G211='ASHRAE 90.1 2013 - CST'!$D$2,0.4+I211*0.02,I211*0.03),IF(ISBLANK(G211),IF(ISBLANK(H211),\"0\",VLOOKUP(H211,INDIRECT(\"BSSTTable_\"&$C$14),2,FALSE)),INDEX(INDIRECT(\"CSTTable_\"&$C$14),MATCH($C$16,INDIRECT(\"BldgTypes_\"&$C$14),0),MATCH(G211,INDIRECT(\"CSTTableTypes_\"&$C$14),0)))))","v":0},0,0,0,0,0,0,0,0,0,0,0,0,0,0,0,0,null,null,null,187,0,{"$f":"VLOOKUP(Worksheet!N211,code!$K$3:$M$13,3,FALSE)","v":{"$error":"#N/A"}},"","","","",""]
["-",null,null,null,1,0,null,null,null,null,null,0,0,null,null,null,null,null,{"$f":"IF(OR(ISBLANK($C$14),ISBLANK($C$16),ISBLANK($G$16),ISBLANK($G$17),AND(LEFT(G212,6)=\"Atrium\",ISBLANK(I212))=TRUE)=TRUE,0,IF(LEFT(G212,6)=\"Atrium\",IF(G212='ASHRAE 90.1 2013 - CST'!$D$2,0.4+I212*0.02,I212*0.03),IF(ISBLANK(G212),IF(ISBLANK(H212),\"0\",VLOOKUP(H212,INDIRECT(\"BSSTTable_\"&$C$14),2,FALSE)),INDEX(INDIRECT(\"CSTTable_\"&$C$14),MATCH($C$16,INDIRECT(\"BldgTypes_\"&$C$14),0),MATCH(G212,INDIRECT(\"CSTTableTypes_\"&$C$14),0)))))","v":0},0,0,0,0,0,0,0,0,0,0,0,0,0,0,0,0,null,null,null,188,0,{"$f":"VLOOKUP(Worksheet!N212,code!$K$3:$M$13,3,FALSE)","v":{"$error":"#N/A"}},"","","","",""]
["-",null,null,null,1,0,null,null,null,null,null,0,0,null,null,null,null,null,{"$f":"IF(OR(ISBLANK($C$14),ISBLANK($C$16),ISBLANK($G$16),ISBLANK($G$17),AND(LEFT(G213,6)=\"Atrium\",ISBLANK(I213))=TRUE)=TRUE,0,IF(LEFT(G213,6)=\"Atrium\",IF(G213='ASHRAE 90.1 2013 - CST'!$D$2,0.4+I213*0.02,I213*0.03),IF(ISBLANK(G213),IF(ISBLANK(H213),\"0\",VLOOKUP(H213,INDIRECT(\"BSSTTable_\"&$C$14),2,FALSE)),INDEX(INDIRECT(\"CSTTable_\"&$C$14),MATCH($C$16,INDIRECT(\"BldgTypes_\"&$C$14),0),MATCH(G213,INDIRECT(\"CSTTableTypes_\"&$C$14),0)))))","v":0},0,0,0,0,0,0,0,0,0,0,0,0,0,0,0,0,null,null,null,189,0,{"$f":"VLOOKUP(Worksheet!N213,code!$K$3:$M$13,3,FALSE)","v":{"$error":"#N/A"}},"","","","",""]
["-",null,null,null,1,0,null,null,null,null,null,0,0,null,null,null,null,null,{"$f":"IF(OR(ISBLANK($C$14),ISBLANK($C$16),ISBLANK($G$16),ISBLANK($G$17),AND(LEFT(G214,6)=\"Atrium\",ISBLANK(I214))=TRUE)=TRUE,0,IF(LEFT(G214,6)=\"Atrium\",IF(G214='ASHRAE 90.1 2013 - CST'!$D$2,0.4+I214*0.02,I214*0.03),IF(ISBLANK(G214),IF(ISBLANK(H214),\"0\",VLOOKUP(H214,INDIRECT(\"BSSTTable_\"&$C$14),2,FALSE)),INDEX(INDIRECT(\"CSTTable_\"&$C$14),MATCH($C$16,INDIRECT(\"BldgTypes_\"&$C$14),0),MATCH(G214,INDIRECT(\"CSTTableTypes_\"&$C$14),0)))))","v":0},0,0,0,0,0,0,0,0,0,0,0,0,0,0,0,0,null,null,null,190,0,{"$f":"VLOOKUP(Worksheet!N214,code!$K$3:$M$13,3,FALSE)","v":{"$error":"#N/A"}},"","","","",""]
["-",null,null,null,1,0,null,null,null,null,null,0,0,null,null,null,null,null,{"$f":"IF(OR(ISBLANK($C$14),ISBLANK($C$16),ISBLANK($G$16),ISBLANK($G$17),AND(LEFT(G215,6)=\"Atrium\",ISBLANK(I215))=TRUE)=TRUE,0,IF(LEFT(G215,6)=\"Atrium\",IF(G215='ASHRAE 90.1 2013 - CST'!$D$2,0.4+I215*0.02,I215*0.03),IF(ISBLANK(G215),IF(ISBLANK(H215),\"0\",VLOOKUP(H215,INDIRECT(\"BSSTTable_\"&$C$14),2,FALSE)),INDEX(INDIRECT(\"CSTTable_\"&$C$14),MATCH($C$16,INDIRECT(\"BldgTypes_\"&$C$14),0),MATCH(G215,INDIRECT(\"CSTTableTypes_\"&$C$14),0)))))","v":0},0,0,0,0,0,0,0,0,0,0,0,0,0,0,0,0,null,null,null,191,0,{"$f":"VLOOKUP(Worksheet!N215,code!$K$3:$M$13,3,FALSE)","v":{"$error":"#N/A"}},"","","","",""]
["-",null,null,null,1,0,null,null,null,null,null,0,0,null,null,null,null,null,{"$f":"IF(OR(ISBLANK($C$14),ISBLANK($C$16),ISBLANK($G$16),ISBLANK($G$17),AND(LEFT(G216,6)=\"Atrium\",ISBLANK(I216))=TRUE)=TRUE,0,IF(LEFT(G216,6)=\"Atrium\",IF(G216='ASHRAE 90.1 2013 - CST'!$D$2,0.4+I216*0.02,I216*0.03),IF(ISBLANK(G216),IF(ISBLANK(H216),\"0\",VLOOKUP(H216,INDIRECT(\"BSSTTable_\"&$C$14),2,FALSE)),INDEX(INDIRECT(\"CSTTable_\"&$C$14),MATCH($C$16,INDIRECT(\"BldgTypes_\"&$C$14),0),MATCH(G216,INDIRECT(\"CSTTableTypes_\"&$C$14),0)))))","v":0},0,0,0,0,0,0,0,0,0,0,0,0,0,0,0,0,null,null,null,192,0,{"$f":"VLOOKUP(Worksheet!N216,code!$K$3:$M$13,3,FALSE)","v":{"$error":"#N/A"}},"","","","",""]
["-",null,null,null,1,0,null,null,null,null,null,0,0,null,null,null,null,null,{"$f":"IF(OR(ISBLANK($C$14),ISBLANK($C$16),ISBLANK($G$16),ISBLANK($G$17),AND(LEFT(G217,6)=\"Atrium\",ISBLANK(I217))=TRUE)=TRUE,0,IF(LEFT(G217,6)=\"Atrium\",IF(G217='ASHRAE 90.1 2013 - CST'!$D$2,0.4+I217*0.02,I217*0.03),IF(ISBLANK(G217),IF(ISBLANK(H217),\"0\",VLOOKUP(H217,INDIRECT(\"BSSTTable_\"&$C$14),2,FALSE)),INDEX(INDIRECT(\"CSTTable_\"&$C$14),MATCH($C$16,INDIRECT(\"BldgTypes_\"&$C$14),0),MATCH(G217,INDIRECT(\"CSTTableTypes_\"&$C$14),0)))))","v":0},0,0,0,0,0,0,0,0,0,0,0,0,0,0,0,0,null,null,null,193,0,{"$f":"VLOOKUP(Worksheet!N217,code!$K$3:$M$13,3,FALSE)","v":{"$error":"#N/A"}},{"$f":"IF($AR$21<>0, $AF$8/$AR$21*AR217, \"\")","v":""},"","",{"$f":"IF($AR$21<>0, $AG$8/$AR$21*$AR217, \"\")","v":""},""]
["-",null,null,null,1,0,null,null,null,null,null,{"$f":"C218*$E218","v":0},{"$f":"D218*$E218","v":0},null,null,null,null,null,{"$f":"IF(OR(ISBLANK($C$14),ISBLANK($C$16),ISBLANK($G$16),ISBLANK($G$17),AND(LEFT(G218,6)=\"Atrium\",ISBLANK(I218))=TRUE)=TRUE,0,IF(LEFT(G218,6)=\"Atrium\",IF(G218='ASHRAE 90.1 2013 - CST'!$D$2,0.4+I218*0.02,I218*0.03),IF(ISBLANK(G218),IF(ISBLANK(H218),\"0\",VLOOKUP(H218,INDIRECT(\"BSSTTable_\"&$C$14),2,FALSE)),INDEX(INDIRECT(\"CSTTable_\"&$C$14),MATCH($C$16,INDIRECT(\"BldgTypes_\"&$C$14),0),MATCH(G218,INDIRECT(\"CSTTableTypes_\"&$C$14),0)))))","v":0},{"$f":"S218","v":0},{"$f":"T218*F218","v":0},{"$f":"L218*P218","v":0},{"$f":"M218*P218","v":0},{"$f":"spaceSum(ROW(V218), COLUMN(V218))","v":0},{"$f":"spaceSum(ROW(W218), COLUMN(W218))","v":0},{"$f":"spaceSumIfYes(ROW(L218), COLUMN(L218), COLUMN(K218))","v":0},{"$f":"spaceSumIfYes(ROW(M218), COLUMN(M218), COLUMN(K218))","v":0},{"$f":"IF(B218=0,0,IF(AND(Z218>0,(U218-X218>0)),\"Y\",\"N\"))","v":0},{"$f":"IF(B218=0,0,IF(AND(AA218>0,(U218-Y218>0)),\"Y\",\"N\"))","v":0},{"$f":"IF(AND(NOT(ISNA(T218))),F218,0)","v":0},{"$f":"IF(NOT(ISNA(U218)),U218,0)","v":0},0,{"$f":"IF(AND(NOT(ISNA(W218)),$AC218=\"y\"),Y218,0)","v":0},{"$f":"IF(AND(NOT(ISNA(X218)),$AB218=\"y\"),Z218,0)","v":0},{"$f":"IF(AND(NOT(ISNA(Y218)),$AC218=\"y\"),AA218,0)","v":0},null,null,null,194,{"$f":"IF(V218>0, IF(ISERROR(V218)=FALSE,V218),IF(ISERROR(W218)=FALSE,W218))","v":0},{"$f":"VLOOKUP(Worksheet!N218,code!$K$3:$M$13,3,FALSE)","v":{"$error":"#N/A"}},"",{"$f":"IF($AR$21<>0, $V$16/$AR$21*AR218, \"\")","v":""},{"$f":"IF(ISERROR(AN218)=FALSE,IF(ISERROR(AO218)=FALSE,AO218*AN218,\"\"),\"\")","v":""},"",{"$f":"IF($AR$21<>0, $V$17/$AR$21*$AR218, \"\")","v":""}]
["-",null,null,null,1,0,null,null,null,null,null,0,0,null,null,null,null,null,{"$f":"IF(OR(ISBLANK($C$14),ISBLANK($C$16),ISBLANK($G$16),ISBLANK($G$17),AND(LEFT(G219,6)=\"Atrium\",ISBLANK(I219))=TRUE)=TRUE,0,IF(LEFT(G219,6)=\"Atrium\",IF(G219='ASHRAE 90.1 2013 - CST'!$D$2,0.4+I219*0.02,I219*0.03),IF(ISBLANK(G219),IF(ISBLANK(H219),\"0\",VLOOKUP(H219,INDIRECT(\"BSSTTable_\"&$C$14),2,FALSE)),INDEX(INDIRECT(\"CSTTable_\"&$C$14),MATCH($C$16,INDIRECT(\"BldgTypes_\"&$C$14),0),MATCH(G219,INDIRECT(\"CSTTableTypes_\"&$C$14),0)))))","v":0},0,0,0,0,0,0,0,0,0,0,0,0,0,0,0,0,null,null,null,{"$f":"AM218+1","v":195},0,{"$f":"VLOOKUP(Worksheet!N219,code!$K$3:$M$13,3,FALSE)","v":{"$error":"#N/A"}},"","","","",""]
["-",null,null,null,1,0,null,null,null,null,null,0,0,null,null,null,null,null,{"$f":"IF(OR(ISBLANK($C$14),ISBLANK($C$16),ISBLANK($G$16),ISBLANK($G$17),AND(LEFT(G220,6)=\"Atrium\",ISBLANK(I220))=TRUE)=TRUE,0,IF(LEFT(G220,6)=\"Atrium\",IF(G220='ASHRAE 90.1 2013 - CST'!$D$2,0.4+I220*0.02,I220*0.03),IF(ISBLANK(G220),IF(ISBLANK(H220),\"0\",VLOOKUP(H220,INDIRECT(\"BSSTTable_\"&$C$14),2,FALSE)),INDEX(INDIRECT(\"CSTTable_\"&$C$14),MATCH($C$16,INDIRECT(\"BldgTypes_\"&$C$14),0),MATCH(G220,INDIRECT(\"CSTTableTypes_\"&$C$14),0)))))","v":0},0,0,0,0,0,0,0,0,0,0,0,0,0,0,0,0,null,null,null,196,0,{"$f":"VLOOKUP(Worksheet!N220,code!$K$3:$M$13,3,FALSE)","v":{"$error":"#N/A"}},"","","","",""]
["-",null,null,null,1,0,null,null,null,null,null,0,0,null,null,null,null,null,{"$f":"IF(OR(ISBLANK($C$14),ISBLANK($C$16),ISBLANK($G$16),ISBLANK($G$17),AND(LEFT(G221,6)=\"Atrium\",ISBLANK(I221))=TRUE)=TRUE,0,IF(LEFT(G221,6)=\"Atrium\",IF(G221='ASHRAE 90.1 2013 - CST'!$D$2,0.4+I221*0.02,I221*0.03),IF(ISBLANK(G221),IF(ISBLANK(H221),\"0\",VLOOKUP(H221,INDIRECT(\"BSSTTable_\"&$C$14),2,FALSE)),INDEX(INDIRECT(\"CSTTable_\"&$C$14),MATCH($C$16,INDIRECT(\"BldgTypes_\"&$C$14),0),MATCH(G221,INDIRECT(\"CSTTableTypes_\"&$C$14),0)))))","v":0},0,0,0,0,0,0,0,0,0,0,0,0,0,0,0,0,null,null,null,197,0,{"$f":"VLOOKUP(Worksheet!N221,code!$K$3:$M$13,3,FALSE)","v":{"$error":"#N/A"}},"","","","",""]
["-",null,null,null,1,0,null,null,null,null,null,0,0,null,null,null,null,null,{"$f":"IF(OR(ISBLANK($C$14),ISBLANK($C$16),ISBLANK($G$16),ISBLANK($G$17),AND(LEFT(G222,6)=\"Atrium\",ISBLANK(I222))=TRUE)=TRUE,0,IF(LEFT(G222,6)=\"Atrium\",IF(G222='ASHRAE 90.1 2013 - CST'!$D$2,0.4+I222*0.02,I222*0.03),IF(ISBLANK(G222),IF(ISBLANK(H222),\"0\",VLOOKUP(H222,INDIRECT(\"BSSTTable_\"&$C$14),2,FALSE)),INDEX(INDIRECT(\"CSTTable_\"&$C$14),MATCH($C$16,INDIRECT(\"BldgTypes_\"&$C$14),0),MATCH(G222,INDIRECT(\"CSTTableTypes_\"&$C$14),0)))))","v":0},0,0,0,0,0,0,0,0,0,0,0,0,0,0,0,0,null,null,null,198,0,{"$f":"VLOOKUP(Worksheet!N222,code!$K$3:$M$13,3,FALSE)","v":{"$error":"#N/A"}},"","","","",""]
["-",null,null,null,1,0,null,null,null,null,null,0,0,null,null,null,null,null,{"$f":"IF(OR(ISBLANK($C$14),ISBLANK($C$16),ISBLANK($G$16),ISBLANK($G$17),AND(LEFT(G223,6)=\"Atrium\",ISBLANK(I223))=TRUE)=TRUE,0,IF(LEFT(G223,6)=\"Atrium\",IF(G223='ASHRAE 90.1 2013 - CST'!$D$2,0.4+I223*0.02,I223*0.03),IF(ISBLANK(G223),IF(ISBLANK(H223),\"0\",VLOOKUP(H223,INDIRECT(\"BSSTTable_\"&$C$14),2,FALSE)),INDEX(INDIRECT(\"CSTTable_\"&$C$14),MATCH($C$16,INDIRECT(\"BldgTypes_\"&$C$14),0),MATCH(G223,INDIRECT(\"CSTTableTypes_\"&$C$14),0)))))","v":0},0,0,0,0,0,0,0,0,0,0,0,0,0,0,0,0,null,null,null,199,0,{"$f":"VLOOKUP(Worksheet!N223,code!$K$3:$M$13,3,FALSE)","v":{"$error":"#N/A"}},"","","","",""]
["-",null,null,null,1,0,null,null,null,null,null,0,0,null,null,null,null,null,{"$f":"IF(OR(ISBLANK($C$14),ISBLANK($C$16),ISBLANK($G$16),ISBLANK($G$17),AND(LEFT(G224,6)=\"Atrium\",ISBLANK(I224))=TRUE)=TRUE,0,IF(LEFT(G224,6)=\"Atrium\",IF(G224='ASHRAE 90.1 2013 - CST'!$D$2,0.4+I224*0.02,I224*0.03),IF(ISBLANK(G224),IF(ISBLANK(H224),\"0\",VLOOKUP(H224,INDIRECT(\"BSSTTable_\"&$C$14),2,FALSE)),INDEX(INDIRECT(\"CSTTable_\"&$C$14),MATCH($C$16,INDIRECT(\"BldgTypes_\"&$C$14),0),MATCH(G224,INDIRECT(\"CSTTableTypes_\"&$C$14),0)))))","v":0},0,0,0,0,0,0,0,0,0,0,0,0,0,0,0,0,null,null,null,200,0,{"$f":"VLOOKUP(Worksheet!N224,code!$K$3:$M$13,3,FALSE)","v":{"$error":"#N/A"}},"","","","",""]
["-",null,null,null,1,0,null,null,null,null,null,0,0,null,null,null,null,null,{"$f":"IF(OR(ISBLANK($C$14),ISBLANK($C$16),ISBLANK($G$16),ISBLANK($G$17),AND(LEFT(G225,6)=\"Atrium\",ISBLANK(I225))=TRUE)=TRUE,0,IF(LEFT(G225,6)=\"Atrium\",IF(G225='ASHRAE 90.1 2013 - CST'!$D$2,0.4+I225*0.02,I225*0.03),IF(ISBLANK(G225),IF(ISBLANK(H225),\"0\",VLOOKUP(H225,INDIRECT(\"BSSTTable_\"&$C$14),2,FALSE)),INDEX(INDIRECT(\"CSTTable_\"&$C$14),MATCH($C$16,INDIRECT(\"BldgTypes_\"&$C$14),0),MATCH(G225,INDIRECT(\"CSTTableTypes_\"&$C$14),0)))))","v":0},0,0,0,0,0,0,0,0,0,0,0,0,0,0,0,0,null,null,null,201,0,{"$f":"VLOOKUP(Worksheet!N225,code!$K$3:$M$13,3,FALSE)","v":{"$error":"#N/A"}},"","","","",""]
["-",null,null,null,1,0,null,null,null,null,null,0,0,null,null,null,null,null,{"$f":"IF(OR(ISBLANK($C$14),ISBLANK($C$16),ISBLANK($G$16),ISBLANK($G$17),AND(LEFT(G226,6)=\"Atrium\",ISBLANK(I226))=TRUE)=TRUE,0,IF(LEFT(G226,6)=\"Atrium\",IF(G226='ASHRAE 90.1 2013 - CST'!$D$2,0.4+I226*0.02,I226*0.03),IF(ISBLANK(G226),IF(ISBLANK(H226),\"0\",VLOOKUP(H226,INDIRECT(\"BSSTTable_\"&$C$14),2,FALSE)),INDEX(INDIRECT(\"CSTTable_\"&$C$14),MATCH($C$16,INDIRECT(\"BldgTypes_\"&$C$14),0),MATCH(G226,INDIRECT(\"CSTTableTypes_\"&$C$14),0)))))","v":0},0,0,0,0,0,0,0,0,0,0,0,0,0,0,0,0,null,null,null,202,0,{"$f":"VLOOKUP(Worksheet!N226,code!$K$3:$M$13,3,FALSE)","v":{"$error":"#N/A"}},"","","","",""]
["-",null,null,null,1,0,null,null,null,null,null,0,0,null,null,null,null,null,{"$f":"IF(OR(ISBLANK($C$14),ISBLANK($C$16),ISBLANK($G$16),ISBLANK($G$17),AND(LEFT(G227,6)=\"Atrium\",ISBLANK(I227))=TRUE)=TRUE,0,IF(LEFT(G227,6)=\"Atrium\",IF(G227='ASHRAE 90.1 2013 - CST'!$D$2,0.4+I227*0.02,I227*0.03),IF(ISBLANK(G227),IF(ISBLANK(H227),\"0\",VLOOKUP(H227,INDIRECT(\"BSSTTable_\"&$C$14),2,FALSE)),INDEX(INDIRECT(\"CSTTable_\"&$C$14),MATCH($C$16,INDIRECT(\"BldgTypes_\"&$C$14),0),MATCH(G227,INDIRECT(\"CSTTableTypes_\"&$C$14),0)))))","v":0},0,0,0,0,0,0,0,0,0,0,0,0,0,0,0,0,null,null,null,203,0,{"$f":"VLOOKUP(Worksheet!N227,code!$K$3:$M$13,3,FALSE)","v":{"$error":"#N/A"}},"","","","",""]
["-",null,null,null,1,0,null,null,null,null,null,0,0,null,null,null,null,null,{"$f":"IF(OR(ISBLANK($C$14),ISBLANK($C$16),ISBLANK($G$16),ISBLANK($G$17),AND(LEFT(G228,6)=\"Atrium\",ISBLANK(I228))=TRUE)=TRUE,0,IF(LEFT(G228,6)=\"Atrium\",IF(G228='ASHRAE 90.1 2013 - CST'!$D$2,0.4+I228*0.02,I228*0.03),IF(ISBLANK(G228),IF(ISBLANK(H228),\"0\",VLOOKUP(H228,INDIRECT(\"BSSTTable_\"&$C$14),2,FALSE)),INDEX(INDIRECT(\"CSTTable_\"&$C$14),MATCH($C$16,INDIRECT(\"BldgTypes_\"&$C$14),0),MATCH(G228,INDIRECT(\"CSTTableTypes_\"&$C$14),0)))))","v":0},0,0,0,0,0,0,0,0,0,0,0,0,0,0,0,0,null,null,null,204,0,{"$f":"VLOOKUP(Worksheet!N228,code!$K$3:$M$13,3,FALSE)","v":{"$error":"#N/A"}},"","","","",""]
["-",null,null,null,1,0,null,null,null,null,null,0,0,null,null,null,null,null,{"$f":"IF(OR(ISBLANK($C$14),ISBLANK($C$16),ISBLANK($G$16),ISBLANK($G$17),AND(LEFT(G229,6)=\"Atrium\",ISBLANK(I229))=TRUE)=TRUE,0,IF(LEFT(G229,6)=\"Atrium\",IF(G229='ASHRAE 90.1 2013 - CST'!$D$2,0.4+I229*0.02,I229*0.03),IF(ISBLANK(G229),IF(ISBLANK(H229),\"0\",VLOOKUP(H229,INDIRECT(\"BSSTTable_\"&$C$14),2,FALSE)),INDEX(INDIRECT(\"CSTTable_\"&$C$14),MATCH($C$16,INDIRECT(\"BldgTypes_\"&$C$14),0),MATCH(G229,INDIRECT(\"CSTTableTypes_\"&$C$14),0)))))","v":0},0,0,0,0,0,0,0,0,0,0,0,0,0,0,0,0,null,null,null,205,0,{"$f":"VLOOKUP(Worksheet!N229,code!$K$3:$M$13,3,FALSE)","v":{"$error":"#N/A"}},"","","","",""]
["-",null,null,null,1,0,null,null,null,null,null,0,0,null,null,null,null,null,{"$f":"IF(OR(ISBLANK($C$14),ISBLANK($C$16),ISBLANK($G$16),ISBLANK($G$17),AND(LEFT(G230,6)=\"Atrium\",ISBLANK(I230))=TRUE)=TRUE,0,IF(LEFT(G230,6)=\"Atrium\",IF(G230='ASHRAE 90.1 2013 - CST'!$D$2,0.4+I230*0.02,I230*0.03),IF(ISBLANK(G230),IF(ISBLANK(H230),\"0\",VLOOKUP(H230,INDIRECT(\"BSSTTable_\"&$C$14),2,FALSE)),INDEX(INDIRECT(\"CSTTable_\"&$C$14),MATCH($C$16,INDIRECT(\"BldgTypes_\"&$C$14),0),MATCH(G230,INDIRECT(\"CSTTableTypes_\"&$C$14),0)))))","v":0},0,0,0,0,0,0,0,0,0,0,0,0,0,0,0,0,null,null,null,206,0,{"$f":"VLOOKUP(Worksheet!N230,code!$K$3:$M$13,3,FALSE)","v":{"$error":"#N/A"}},"","","","",""]
["-",null,null,null,1,0,null,null,null,null,null,0,0,null,null,null,null,null,{"$f":"IF(OR(ISBLANK($C$14),ISBLANK($C$16),ISBLANK($G$16),ISBLANK($G$17),AND(LEFT(G231,6)=\"Atrium\",ISBLANK(I231))=TRUE)=TRUE,0,IF(LEFT(G231,6)=\"Atrium\",IF(G231='ASHRAE 90.1 2013 - CST'!$D$2,0.4+I231*0.02,I231*0.03),IF(ISBLANK(G231),IF(ISBLANK(H231),\"0\",VLOOKUP(H231,INDIRECT(\"BSSTTable_\"&$C$14),2,FALSE)),INDEX(INDIRECT(\"CSTTable_\"&$C$14),MATCH($C$16,INDIRECT(\"BldgTypes_\"&$C$14),0),MATCH(G231,INDIRECT(\"CSTTableTypes_\"&$C$14),0)))))","v":0},0,0,0,0,0,0,0,0,0,0,0,0,0,0,0,0,null,null,null,207,0,{"$f":"VLOOKUP(Worksheet!N231,code!$K$3:$M$13,3,FALSE)","v":{"$error":"#N/A"}},"","","","",""]
["-",null,null,null,1,0,null,null,null,null,null,0,0,null,null,null,null,null,{"$f":"IF(OR(ISBLANK($C$14),ISBLANK($C$16),ISBLANK($G$16),ISBLANK($G$17),AND(LEFT(G232,6)=\"Atrium\",ISBLANK(I232))=TRUE)=TRUE,0,IF(LEFT(G232,6)=\"Atrium\",IF(G232='ASHRAE 90.1 2013 - CST'!$D$2,0.4+I232*0.02,I232*0.03),IF(ISBLANK(G232),IF(ISBLANK(H232),\"0\",VLOOKUP(H232,INDIRECT(\"BSSTTable_\"&$C$14),2,FALSE)),INDEX(INDIRECT(\"CSTTable_\"&$C$14),MATCH($C$16,INDIRECT(\"BldgTypes_\"&$C$14),0),MATCH(G232,INDIRECT(\"CSTTableTypes_\"&$C$14),0)))))","v":0},0,0,0,0,0,0,0,0,0,0,0,0,0,0,0,0,null,null,null,208,0,{"$f":"VLOOKUP(Worksheet!N232,code!$K$3:$M$13,3,FALSE)","v":{"$error":"#N/A"}},"","","","",""]
["-",null,null,null,1,0,null,null,null,null,null,0,0,null,null,null,null,null,{"$f":"IF(OR(ISBLANK($C$14),ISBLANK($C$16),ISBLANK($G$16),ISBLANK($G$17),AND(LEFT(G233,6)=\"Atrium\",ISBLANK(I233))=TRUE)=TRUE,0,IF(LEFT(G233,6)=\"Atrium\",IF(G233='ASHRAE 90.1 2013 - CST'!$D$2,0.4+I233*0.02,I233*0.03),IF(ISBLANK(G233),IF(ISBLANK(H233),\"0\",VLOOKUP(H233,INDIRECT(\"BSSTTable_\"&$C$14),2,FALSE)),INDEX(INDIRECT(\"CSTTable_\"&$C$14),MATCH($C$16,INDIRECT(\"BldgTypes_\"&$C$14),0),MATCH(G233,INDIRECT(\"CSTTableTypes_\"&$C$14),0)))))","v":0},0,0,0,0,0,0,0,0,0,0,0,0,0,0,0,0,null,null,null,209,0,{"$f":"VLOOKUP(Worksheet!N233,code!$K$3:$M$13,3,FALSE)","v":{"$error":"#N/A"}},"","","","",""]
["-",null,null,null,1,0,null,null,null,null,null,0,0,null,null,null,null,null,{"$f":"IF(OR(ISBLANK($C$14),ISBLANK($C$16),ISBLANK($G$16),ISBLANK($G$17),AND(LEFT(G234,6)=\"Atrium\",ISBLANK(I234))=TRUE)=TRUE,0,IF(LEFT(G234,6)=\"Atrium\",IF(G234='ASHRAE 90.1 2013 - CST'!$D$2,0.4+I234*0.02,I234*0.03),IF(ISBLANK(G234),IF(ISBLANK(H234),\"0\",VLOOKUP(H234,INDIRECT(\"BSSTTable_\"&$C$14),2,FALSE)),INDEX(INDIRECT(\"CSTTable_\"&$C$14),MATCH($C$16,INDIRECT(\"BldgTypes_\"&$C$14),0),MATCH(G234,INDIRECT(\"CSTTableTypes_\"&$C$14),0)))))","v":0},0,0,0,0,0,0,0,0,0,0,0,0,0,0,0,0,null,null,null,210,0,{"$f":"VLOOKUP(Worksheet!N234,code!$K$3:$M$13,3,FALSE)","v":{"$error":"#N/A"}},"","","","",""]
["-",null,null,null,1,0,null,null,null,null,null,0,0,null,null,null,null,null,{"$f":"IF(OR(ISBLANK($C$14),ISBLANK($C$16),ISBLANK($G$16),ISBLANK($G$17),AND(LEFT(G235,6)=\"Atrium\",ISBLANK(I235))=TRUE)=TRUE,0,IF(LEFT(G235,6)=\"Atrium\",IF(G235='ASHRAE 90.1 2013 - CST'!$D$2,0.4+I235*0.02,I235*0.03),IF(ISBLANK(G235),IF(ISBLANK(H235),\"0\",VLOOKUP(H235,INDIRECT(\"BSSTTable_\"&$C$14),2,FALSE)),INDEX(INDIRECT(\"CSTTable_\"&$C$14),MATCH($C$16,INDIRECT(\"BldgTypes_\"&$C$14),0),MATCH(G235,INDIRECT(\"CSTTableTypes_\"&$C$14),0)))))","v":0},0,0,0,0,0,0,0,0,0,0,0,0,0,0,0,0,null,null,null,211,0,{"$f":"VLOOKUP(Worksheet!N235,code!$K$3:$M$13,3,FALSE)","v":{"$error":"#N/A"}},"","","","",""]
["-",null,null,null,1,0,null,null,null,null,null,0,0,null,null,null,null,null,{"$f":"IF(OR(ISBLANK($C$14),ISBLANK($C$16),ISBLANK($G$16),ISBLANK($G$17),AND(LEFT(G236,6)=\"Atrium\",ISBLANK(I236))=TRUE)=TRUE,0,IF(LEFT(G236,6)=\"Atrium\",IF(G236='ASHRAE 90.1 2013 - CST'!$D$2,0.4+I236*0.02,I236*0.03),IF(ISBLANK(G236),IF(ISBLANK(H236),\"0\",VLOOKUP(H236,INDIRECT(\"BSSTTable_\"&$C$14),2,FALSE)),INDEX(INDIRECT(\"CSTTable_\"&$C$14),MATCH($C$16,INDIRECT(\"BldgTypes_\"&$C$14),0),MATCH(G236,INDIRECT(\"CSTTableTypes_\"&$C$14),0)))))","v":0},0,0,0,0,0,0,0,0,0,0,0,0,0,0,0,0,null,null,null,212,0,{"$f":"VLOOKUP(Worksheet!N236,code!$K$3:$M$13,3,FALSE)","v":{"$error":"#N/A"}},"","","","",""]
["-",null,null,null,1,0,null,null,null,null,null,0,0,null,null,null,null,null,{"$f":"IF(OR(ISBLANK($C$14),ISBLANK($C$16),ISBLANK($G$16),ISBLANK($G$17),AND(LEFT(G237,6)=\"Atrium\",ISBLANK(I237))=TRUE)=TRUE,0,IF(LEFT(G237,6)=\"Atrium\",IF(G237='ASHRAE 90.1 2013 - CST'!$D$2,0.4+I237*0.02,I237*0.03),IF(ISBLANK(G237),IF(ISBLANK(H237),\"0\",VLOOKUP(H237,INDIRECT(\"BSSTTable_\"&$C$14),2,FALSE)),INDEX(INDIRECT(\"CSTTable_\"&$C$14),MATCH($C$16,INDIRECT(\"BldgTypes_\"&$C$14),0),MATCH(G237,INDIRECT(\"CSTTableTypes_\"&$C$14),0)))))","v":0},0,0,0,0,0,0,0,0,0,0,0,0,0,0,0,0,null,null,null,213,0,{"$f":"VLOOKUP(Worksheet!N237,code!$K$3:$M$13,3,FALSE)","v":{"$error":"#N/A"}},"","","","",""]
["-",null,null,null,1,0,null,null,null,null,null,0,0,null,null,null,null,null,{"$f":"IF(OR(ISBLANK($C$14),ISBLANK($C$16),ISBLANK($G$16),ISBLANK($G$17),AND(LEFT(G238,6)=\"Atrium\",ISBLANK(I238))=TRUE)=TRUE,0,IF(LEFT(G238,6)=\"Atrium\",IF(G238='ASHRAE 90.1 2013 - CST'!$D$2,0.4+I238*0.02,I238*0.03),IF(ISBLANK(G238),IF(ISBLANK(H238),\"0\",VLOOKUP(H238,INDIRECT(\"BSSTTable_\"&$C$14),2,FALSE)),INDEX(INDIRECT(\"CSTTable_\"&$C$14),MATCH($C$16,INDIRECT(\"BldgTypes_\"&$C$14),0),MATCH(G238,INDIRECT(\"CSTTableTypes_\"&$C$14),0)))))","v":0},0,0,0,0,0,0,0,0,0,0,0,0,0,0,0,0,null,null,null,214,0,{"$f":"VLOOKUP(Worksheet!N238,code!$K$3:$M$13,3,FALSE)","v":{"$error":"#N/A"}},"","","","",""]
["-",null,null,null,1,0,null,null,null,null,null,0,0,null,null,null,null,null,{"$f":"IF(OR(ISBLANK($C$14),ISBLANK($C$16),ISBLANK($G$16),ISBLANK($G$17),AND(LEFT(G239,6)=\"Atrium\",ISBLANK(I239))=TRUE)=TRUE,0,IF(LEFT(G239,6)=\"Atrium\",IF(G239='ASHRAE 90.1 2013 - CST'!$D$2,0.4+I239*0.02,I239*0.03),IF(ISBLANK(G239),IF(ISBLANK(H239),\"0\",VLOOKUP(H239,INDIRECT(\"BSSTTable_\"&$C$14),2,FALSE)),INDEX(INDIRECT(\"CSTTable_\"&$C$14),MATCH($C$16,INDIRECT(\"BldgTypes_\"&$C$14),0),MATCH(G239,INDIRECT(\"CSTTableTypes_\"&$C$14),0)))))","v":0},0,0,0,0,0,0,0,0,0,0,0,0,0,0,0,0,null,null,null,215,0,{"$f":"VLOOKUP(Worksheet!N239,code!$K$3:$M$13,3,FALSE)","v":{"$error":"#N/A"}},"","","","",""]
["-",null,null,null,1,0,null,null,null,null,null,0,0,null,null,null,null,null,{"$f":"IF(OR(ISBLANK($C$14),ISBLANK($C$16),ISBLANK($G$16),ISBLANK($G$17),AND(LEFT(G240,6)=\"Atrium\",ISBLANK(I240))=TRUE)=TRUE,0,IF(LEFT(G240,6)=\"Atrium\",IF(G240='ASHRAE 90.1 2013 - CST'!$D$2,0.4+I240*0.02,I240*0.03),IF(ISBLANK(G240),IF(ISBLANK(H240),\"0\",VLOOKUP(H240,INDIRECT(\"BSSTTable_\"&$C$14),2,FALSE)),INDEX(INDIRECT(\"CSTTable_\"&$C$14),MATCH($C$16,INDIRECT(\"BldgTypes_\"&$C$14),0),MATCH(G240,INDIRECT(\"CSTTableTypes_\"&$C$14),0)))))","v":0},0,0,0,0,0,0,0,0,0,0,0,0,0,0,0,0,null,null,null,216,0,{"$f":"VLOOKUP(Worksheet!N240,code!$K$3:$M$13,3,FALSE)","v":{"$error":"#N/A"}},"","","","",""]
["-",null,null,null,1,0,null,null,null,null,null,0,0,null,null,null,null,null,{"$f":"IF(OR(ISBLANK($C$14),ISBLANK($C$16),ISBLANK($G$16),ISBLANK($G$17),AND(LEFT(G241,6)=\"Atrium\",ISBLANK(I241))=TRUE)=TRUE,0,IF(LEFT(G241,6)=\"Atrium\",IF(G241='ASHRAE 90.1 2013 - CST'!$D$2,0.4+I241*0.02,I241*0.03),IF(ISBLANK(G241),IF(ISBLANK(H241),\"0\",VLOOKUP(H241,INDIRECT(\"BSSTTable_\"&$C$14),2,FALSE)),INDEX(INDIRECT(\"CSTTable_\"&$C$14),MATCH($C$16,INDIRECT(\"BldgTypes_\"&$C$14),0),MATCH(G241,INDIRECT(\"CSTTableTypes_\"&$C$14),0)))))","v":0},0,0,0,0,0,0,0,0,0,0,0,0,0,0,0,0,null,null,null,217,0,{"$f":"VLOOKUP(Worksheet!N241,code!$K$3:$M$13,3,FALSE)","v":{"$error":"#N/A"}},"","","","",""]
["-",null,null,null,1,0,null,null,null,null,null,0,0,null,null,null,null,null,{"$f":"IF(OR(ISBLANK($C$14),ISBLANK($C$16),ISBLANK($G$16),ISBLANK($G$17),AND(LEFT(G242,6)=\"Atrium\",ISBLANK(I242))=TRUE)=TRUE,0,IF(LEFT(G242,6)=\"Atrium\",IF(G242='ASHRAE 90.1 2013 - CST'!$D$2,0.4+I242*0.02,I242*0.03),IF(ISBLANK(G242),IF(ISBLANK(H242),\"0\",VLOOKUP(H242,INDIRECT(\"BSSTTable_\"&$C$14),2,FALSE)),INDEX(INDIRECT(\"CSTTable_\"&$C$14),MATCH($C$16,INDIRECT(\"BldgTypes_\"&$C$14),0),MATCH(G242,INDIRECT(\"CSTTableTypes_\"&$C$14),0)))))","v":0},0,0,0,0,0,0,0,0,0,0,0,0,0,0,0,0,null,null,null,218,0,{"$f":"VLOOKUP(Worksheet!N242,code!$K$3:$M$13,3,FALSE)","v":{"$error":"#N/A"}},"","","","",""]
["-",null,null,null,1,0,null,null,null,null,null,0,0,null,null,null,null,null,{"$f":"IF(OR(ISBLANK($C$14),ISBLANK($C$16),ISBLANK($G$16),ISBLANK($G$17),AND(LEFT(G243,6)=\"Atrium\",ISBLANK(I243))=TRUE)=TRUE,0,IF(LEFT(G243,6)=\"Atrium\",IF(G243='ASHRAE 90.1 2013 - CST'!$D$2,0.4+I243*0.02,I243*0.03),IF(ISBLANK(G243),IF(ISBLANK(H243),\"0\",VLOOKUP(H243,INDIRECT(\"BSSTTable_\"&$C$14),2,FALSE)),INDEX(INDIRECT(\"CSTTable_\"&$C$14),MATCH($C$16,INDIRECT(\"BldgTypes_\"&$C$14),0),MATCH(G243,INDIRECT(\"CSTTableTypes_\"&$C$14),0)))))","v":0},0,0,0,0,0,0,0,0,0,0,0,0,0,0,0,0,null,null,null,219,0,{"$f":"VLOOKUP(Worksheet!N243,code!$K$3:$M$13,3,FALSE)","v":{"$error":"#N/A"}},"","","","",""]
["-",null,null,null,1,0,null,null,null,null,null,0,0,null,null,null,null,null,{"$f":"IF(OR(ISBLANK($C$14),ISBLANK($C$16),ISBLANK($G$16),ISBLANK($G$17),AND(LEFT(G244,6)=\"Atrium\",ISBLANK(I244))=TRUE)=TRUE,0,IF(LEFT(G244,6)=\"Atrium\",IF(G244='ASHRAE 90.1 2013 - CST'!$D$2,0.4+I244*0.02,I244*0.03),IF(ISBLANK(G244),IF(ISBLANK(H244),\"0\",VLOOKUP(H244,INDIRECT(\"BSSTTable_\"&$C$14),2,FALSE)),INDEX(INDIRECT(\"CSTTable_\"&$C$14),MATCH($C$16,INDIRECT(\"BldgTypes_\"&$C$14),0),MATCH(G244,INDIRECT(\"CSTTableTypes_\"&$C$14),0)))))","v":0},0,0,0,0,0,0,0,0,0,0,0,0,0,0,0,0,null,null,null,220,0,{"$f":"VLOOKUP(Worksheet!N244,code!$K$3:$M$13,3,FALSE)","v":{"$error":"#N/A"}},"","","","",""]
["-",null,null,null,1,0,null,null,null,null,null,0,0,null,null,null,null,null,{"$f":"IF(OR(ISBLANK($C$14),ISBLANK($C$16),ISBLANK($G$16),ISBLANK($G$17),AND(LEFT(G245,6)=\"Atrium\",ISBLANK(I245))=TRUE)=TRUE,0,IF(LEFT(G245,6)=\"Atrium\",IF(G245='ASHRAE 90.1 2013 - CST'!$D$2,0.4+I245*0.02,I245*0.03),IF(ISBLANK(G245),IF(ISBLANK(H245),\"0\",VLOOKUP(H245,INDIRECT(\"BSSTTable_\"&$C$14),2,FALSE)),INDEX(INDIRECT(\"CSTTable_\"&$C$14),MATCH($C$16,INDIRECT(\"BldgTypes_\"&$C$14),0),MATCH(G245,INDIRECT(\"CSTTableTypes_\"&$C$14),0)))))","v":0},0,0,0,0,0,0,0,0,0,0,0,0,0,0,0,0,null,null,null,221,0,{"$f":"VLOOKUP(Worksheet!N245,code!$K$3:$M$13,3,FALSE)","v":{"$error":"#N/A"}},"","","","",""]
["-",null,null,null,1,0,null,null,null,null,null,0,0,null,null,null,null,null,{"$f":"IF(OR(ISBLANK($C$14),ISBLANK($C$16),ISBLANK($G$16),ISBLANK($G$17),AND(LEFT(G246,6)=\"Atrium\",ISBLANK(I246))=TRUE)=TRUE,0,IF(LEFT(G246,6)=\"Atrium\",IF(G246='ASHRAE 90.1 2013 - CST'!$D$2,0.4+I246*0.02,I246*0.03),IF(ISBLANK(G246),IF(ISBLANK(H246),\"0\",VLOOKUP(H246,INDIRECT(\"BSSTTable_\"&$C$14),2,FALSE)),INDEX(INDIRECT(\"CSTTable_\"&$C$14),MATCH($C$16,INDIRECT(\"BldgTypes_\"&$C$14),0),MATCH(G246,INDIRECT(\"CSTTableTypes_\"&$C$14),0)))))","v":0},0,0,0,0,0,0,0,0,0,0,0,0,0,0,0,0,null,null,null,222,0,{"$f":"VLOOKUP(Worksheet!N246,code!$K$3:$M$13,3,FALSE)","v":{"$error":"#N/A"}},"","","","",""]
["-",null,null,null,1,0,null,null,null,null,null,0,0,null,null,null,null,null,{"$f":"IF(OR(ISBLANK($C$14),ISBLANK($C$16),ISBLANK($G$16),ISBLANK($G$17),AND(LEFT(G247,6)=\"Atrium\",ISBLANK(I247))=TRUE)=TRUE,0,IF(LEFT(G247,6)=\"Atrium\",IF(G247='ASHRAE 90.1 2013 - CST'!$D$2,0.4+I247*0.02,I247*0.03),IF(ISBLANK(G247),IF(ISBLANK(H247),\"0\",VLOOKUP(H247,INDIRECT(\"BSSTTable_\"&$C$14),2,FALSE)),INDEX(INDIRECT(\"CSTTable_\"&$C$14),MATCH($C$16,INDIRECT(\"BldgTypes_\"&$C$14),0),MATCH(G247,INDIRECT(\"CSTTableTypes_\"&$C$14),0)))))","v":0},0,0,0,0,0,0,0,0,0,0,0,0,0,0,0,0,null,null,null,223,0,{"$f":"VLOOKUP(Worksheet!N247,code!$K$3:$M$13,3,FALSE)","v":{"$error":"#N/A"}},"","","","",""]
["-",null,null,null,1,0,null,null,null,null,null,0,0,null,null,null,null,null,{"$f":"IF(OR(ISBLANK($C$14),ISBLANK($C$16),ISBLANK($G$16),ISBLANK($G$17),AND(LEFT(G248,6)=\"Atrium\",ISBLANK(I248))=TRUE)=TRUE,0,IF(LEFT(G248,6)=\"Atrium\",IF(G248='ASHRAE 90.1 2013 - CST'!$D$2,0.4+I248*0.02,I248*0.03),IF(ISBLANK(G248),IF(ISBLANK(H248),\"0\",VLOOKUP(H248,INDIRECT(\"BSSTTable_\"&$C$14),2,FALSE)),INDEX(INDIRECT(\"CSTTable_\"&$C$14),MATCH($C$16,INDIRECT(\"BldgTypes_\"&$C$14),0),MATCH(G248,INDIRECT(\"CSTTableTypes_\"&$C$14),0)))))","v":0},0,0,0,0,0,0,0,0,0,0,0,0,0,0,0,0,null,null,null,224,0,{"$f":"VLOOKUP(Worksheet!N248,code!$K$3:$M$13,3,FALSE)","v":{"$error":"#N/A"}},"","","","",""]
["-",null,null,null,1,0,null,null,null,null,null,0,0,null,null,null,null,null,{"$f":"IF(OR(ISBLANK($C$14),ISBLANK($C$16),ISBLANK($G$16),ISBLANK($G$17),AND(LEFT(G249,6)=\"Atrium\",ISBLANK(I249))=TRUE)=TRUE,0,IF(LEFT(G249,6)=\"Atrium\",IF(G249='ASHRAE 90.1 2013 - CST'!$D$2,0.4+I249*0.02,I249*0.03),IF(ISBLANK(G249),IF(ISBLANK(H249),\"0\",VLOOKUP(H249,INDIRECT(\"BSSTTable_\"&$C$14),2,FALSE)),INDEX(INDIRECT(\"CSTTable_\"&$C$14),MATCH($C$16,INDIRECT(\"BldgTypes_\"&$C$14),0),MATCH(G249,INDIRECT(\"CSTTableTypes_\"&$C$14),0)))))","v":0},0,0,0,0,0,0,0,0,0,0,0,0,0,0,0,0,null,null,null,225,0,{"$f":"VLOOKUP(Worksheet!N249,code!$K$3:$M$13,3,FALSE)","v":{"$error":"#N/A"}},"","","","",""]
["-",null,null,null,1,0,null,null,null,null,null,0,0,null,null,null,null,null,{"$f":"IF(OR(ISBLANK($C$14),ISBLANK($C$16),ISBLANK($G$16),ISBLANK($G$17),AND(LEFT(G250,6)=\"Atrium\",ISBLANK(I250))=TRUE)=TRUE,0,IF(LEFT(G250,6)=\"Atrium\",IF(G250='ASHRAE 90.1 2013 - CST'!$D$2,0.4+I250*0.02,I250*0.03),IF(ISBLANK(G250),IF(ISBLANK(H250),\"0\",VLOOKUP(H250,INDIRECT(\"BSSTTable_\"&$C$14),2,FALSE)),INDEX(INDIRECT(\"CSTTable_\"&$C$14),MATCH($C$16,INDIRECT(\"BldgTypes_\"&$C$14),0),MATCH(G250,INDIRECT(\"CSTTableTypes_\"&$C$14),0)))))","v":0},0,0,0,0,0,0,0,0,0,0,0,0,0,0,0,0,null,null,null,226,0,{"$f":"VLOOKUP(Worksheet!N250,code!$K$3:$M$13,3,FALSE)","v":{"$error":"#N/A"}},"","","","",""]
["-",null,null,null,1,0,null,null,null,null,null,0,0,null,null,null,null,null,{"$f":"IF(OR(ISBLANK($C$14),ISBLANK($C$16),ISBLANK($G$16),ISBLANK($G$17),AND(LEFT(G251,6)=\"Atrium\",ISBLANK(I251))=TRUE)=TRUE,0,IF(LEFT(G251,6)=\"Atrium\",IF(G251='ASHRAE 90.1 2013 - CST'!$D$2,0.4+I251*0.02,I251*0.03),IF(ISBLANK(G251),IF(ISBLANK(H251),\"0\",VLOOKUP(H251,INDIRECT(\"BSSTTable_\"&$C$14),2,FALSE)),INDEX(INDIRECT(\"CSTTable_\"&$C$14),MATCH($C$16,INDIRECT(\"BldgTypes_\"&$C$14),0),MATCH(G251,INDIRECT(\"CSTTableTypes_\"&$C$14),0)))))","v":0},0,0,0,0,0,0,0,0,0,0,0,0,0,0,0,0,null,null,null,227,0,{"$f":"VLOOKUP(Worksheet!N251,code!$K$3:$M$13,3,FALSE)","v":{"$error":"#N/A"}},"","","","",""]
["-",null,null,null,1,0,null,null,null,null,null,0,0,null,null,null,null,null,{"$f":"IF(OR(ISBLANK($C$14),ISBLANK($C$16),ISBLANK($G$16),ISBLANK($G$17),AND(LEFT(G252,6)=\"Atrium\",ISBLANK(I252))=TRUE)=TRUE,0,IF(LEFT(G252,6)=\"Atrium\",IF(G252='ASHRAE 90.1 2013 - CST'!$D$2,0.4+I252*0.02,I252*0.03),IF(ISBLANK(G252),IF(ISBLANK(H252),\"0\",VLOOKUP(H252,INDIRECT(\"BSSTTable_\"&$C$14),2,FALSE)),INDEX(INDIRECT(\"CSTTable_\"&$C$14),MATCH($C$16,INDIRECT(\"BldgTypes_\"&$C$14),0),MATCH(G252,INDIRECT(\"CSTTableTypes_\"&$C$14),0)))))","v":0},0,0,0,0,0,0,0,0,0,0,0,0,0,0,0,0,null,null,null,228,0,{"$f":"VLOOKUP(Worksheet!N252,code!$K$3:$M$13,3,FALSE)","v":{"$error":"#N/A"}},"","","","",""]
["-",null,null,null,1,{"$f":"B253*E253","v":0},null,null,null,null,null,0,0,null,null,null,null,null,{"$f":"IF(OR(ISBLANK($C$14),ISBLANK($C$16),ISBLANK($G$16),ISBLANK($G$17),AND(LEFT(G253,6)=\"Atrium\",ISBLANK(I253))=TRUE)=TRUE,0,IF(LEFT(G253,6)=\"Atrium\",IF(G253='ASHRAE 90.1 2013 - CST'!$D$2,0.4+I253*0.02,I253*0.03),IF(ISBLANK(G253),IF(ISBLANK(H253),\"0\",VLOOKUP(H253,INDIRECT(\"BSSTTable_\"&$C$14),2,FALSE)),INDEX(INDIRECT(\"CSTTable_\"&$C$14),MATCH($C$16,INDIRECT(\"BldgTypes_\"&$C$14),0),MATCH(G253,INDIRECT(\"CSTTableTypes_\"&$C$14),0)))))","v":0},0,0,0,0,0,0,0,0,0,0,0,0,{"$f":"IF(AND(NOT(ISNA(V253)),$AB253=\"y\"),X253,0)","v":0},0,0,0,null,null,null,229,0,{"$f":"VLOOKUP(Worksheet!N253,code!$K$3:$M$13,3,FALSE)","v":{"$error":"#N/A"}},"","","","",""]
["-",null,null,null,1,0,null,null,null,null,null,0,0,null,null,null,null,null,{"$f":"IF(OR(ISBLANK($C$14),ISBLANK($C$16),ISBLANK($G$16),ISBLANK($G$17),AND(LEFT(G254,6)=\"Atrium\",ISBLANK(I254))=TRUE)=TRUE,0,IF(LEFT(G254,6)=\"Atrium\",IF(G254='ASHRAE 90.1 2013 - CST'!$D$2,0.4+I254*0.02,I254*0.03),IF(ISBLANK(G254),IF(ISBLANK(H254),\"0\",VLOOKUP(H254,INDIRECT(\"BSSTTable_\"&$C$14),2,FALSE)),INDEX(INDIRECT(\"CSTTable_\"&$C$14),MATCH($C$16,INDIRECT(\"BldgTypes_\"&$C$14),0),MATCH(G254,INDIRECT(\"CSTTableTypes_\"&$C$14),0)))))","v":0},0,0,0,0,0,0,0,0,0,0,0,0,0,0,0,0,null,null,null,230,0,{"$f":"VLOOKUP(Worksheet!N254,code!$K$3:$M$13,3,FALSE)","v":{"$error":"#N/A"}},"","","","",""]
["-",null,null,null,1,0,null,null,null,null,null,0,0,null,null,null,null,null,{"$f":"IF(OR(ISBLANK($C$14),ISBLANK($C$16),ISBLANK($G$16),ISBLANK($G$17),AND(LEFT(G255,6)=\"Atrium\",ISBLANK(I255))=TRUE)=TRUE,0,IF(LEFT(G255,6)=\"Atrium\",IF(G255='ASHRAE 90.1 2013 - CST'!$D$2,0.4+I255*0.02,I255*0.03),IF(ISBLANK(G255),IF(ISBLANK(H255),\"0\",VLOOKUP(H255,INDIRECT(\"BSSTTable_\"&$C$14),2,FALSE)),INDEX(INDIRECT(\"CSTTable_\"&$C$14),MATCH($C$16,INDIRECT(\"BldgTypes_\"&$C$14),0),MATCH(G255,INDIRECT(\"CSTTableTypes_\"&$C$14),0)))))","v":0},0,0,0,0,0,0,0,0,0,0,0,0,0,0,0,0,null,null,null,231,0,{"$f":"VLOOKUP(Worksheet!N255,code!$K$3:$M$13,3,FALSE)","v":{"$error":"#N/A"}},"","","","",""]
["-",null,null,null,1,0,null,null,null,null,null,0,0,null,null,null,null,null,{"$f":"IF(OR(ISBLANK($C$14),ISBLANK($C$16),ISBLANK($G$16),ISBLANK($G$17),AND(LEFT(G256,6)=\"Atrium\",ISBLANK(I256))=TRUE)=TRUE,0,IF(LEFT(G256,6)=\"Atrium\",IF(G256='ASHRAE 90.1 2013 - CST'!$D$2,0.4+I256*0.02,I256*0.03),IF(ISBLANK(G256),IF(ISBLANK(H256),\"0\",VLOOKUP(H256,INDIRECT(\"BSSTTable_\"&$C$14),2,FALSE)),INDEX(INDIRECT(\"CSTTable_\"&$C$14),MATCH($C$16,INDIRECT(\"BldgTypes_\"&$C$14),0),MATCH(G256,INDIRECT(\"CSTTableTypes_\"&$C$14),0)))))","v":0},0,0,0,0,0,0,0,0,0,0,0,0,0,0,0,0,null,null,null,232,0,{"$f":"VLOOKUP(Worksheet!N256,code!$K$3:$M$13,3,FALSE)","v":{"$error":"#N/A"}},"","","","",""]
["-",null,null,null,1,0,null,null,null,null,null,0,0,null,null,null,null,null,{"$f":"IF(OR(ISBLANK($C$14),ISBLANK($C$16),ISBLANK($G$16),ISBLANK($G$17),AND(LEFT(G257,6)=\"Atrium\",ISBLANK(I257))=TRUE)=TRUE,0,IF(LEFT(G257,6)=\"Atrium\",IF(G257='ASHRAE 90.1 2013 - CST'!$D$2,0.4+I257*0.02,I257*0.03),IF(ISBLANK(G257),IF(ISBLANK(H257),\"0\",VLOOKUP(H257,INDIRECT(\"BSSTTable_\"&$C$14),2,FALSE)),INDEX(INDIRECT(\"CSTTable_\"&$C$14),MATCH($C$16,INDIRECT(\"BldgTypes_\"&$C$14),0),MATCH(G257,INDIRECT(\"CSTTableTypes_\"&$C$14),0)))))","v":0},0,0,0,0,0,0,0,0,0,0,0,0,0,0,0,0,null,null,null,233,0,{"$f":"VLOOKUP(Worksheet!N257,code!$K$3:$M$13,3,FALSE)","v":{"$error":"#N/A"}},"","","","",""]
["-",null,null,null,1,0,null,null,null,null,null,0,0,null,null,null,null,null,{"$f":"IF(OR(ISBLANK($C$14),ISBLANK($C$16),ISBLANK($G$16),ISBLANK($G$17),AND(LEFT(G258,6)=\"Atrium\",ISBLANK(I258))=TRUE)=TRUE,0,IF(LEFT(G258,6)=\"Atrium\",IF(G258='ASHRAE 90.1 2013 - CST'!$D$2,0.4+I258*0.02,I258*0.03),IF(ISBLANK(G258),IF(ISBLANK(H258),\"0\",VLOOKUP(H258,INDIRECT(\"BSSTTable_\"&$C$14),2,FALSE)),INDEX(INDIRECT(\"CSTTable_\"&$C$14),MATCH($C$16,INDIRECT(\"BldgTypes_\"&$C$14),0),MATCH(G258,INDIRECT(\"CSTTableTypes_\"&$C$14),0)))))","v":0},0,0,0,0,0,0,0,0,0,0,0,0,0,0,0,0,null,null,null,234,0,{"$f":"VLOOKUP(Worksheet!N258,code!$K$3:$M$13,3,FALSE)","v":{"$error":"#N/A"}},"","","","",""]
["-",null,null,null,1,0,null,null,null,null,null,0,0,null,null,null,null,null,{"$f":"IF(OR(ISBLANK($C$14),ISBLANK($C$16),ISBLANK($G$16),ISBLANK($G$17),AND(LEFT(G259,6)=\"Atrium\",ISBLANK(I259))=TRUE)=TRUE,0,IF(LEFT(G259,6)=\"Atrium\",IF(G259='ASHRAE 90.1 2013 - CST'!$D$2,0.4+I259*0.02,I259*0.03),IF(ISBLANK(G259),IF(ISBLANK(H259),\"0\",VLOOKUP(H259,INDIRECT(\"BSSTTable_\"&$C$14),2,FALSE)),INDEX(INDIRECT(\"CSTTable_\"&$C$14),MATCH($C$16,INDIRECT(\"BldgTypes_\"&$C$14),0),MATCH(G259,INDIRECT(\"CSTTableTypes_\"&$C$14),0)))))","v":0},0,0,0,0,0,0,0,0,0,0,0,0,0,0,0,0,null,null,null,235,0,{"$f":"VLOOKUP(Worksheet!N259,code!$K$3:$M$13,3,FALSE)","v":{"$error":"#N/A"}},"","","","",""]
["-",null,null,null,1,0,null,null,null,null,null,0,0,null,null,null,null,null,{"$f":"IF(OR(ISBLANK($C$14),ISBLANK($C$16),ISBLANK($G$16),ISBLANK($G$17),AND(LEFT(G260,6)=\"Atrium\",ISBLANK(I260))=TRUE)=TRUE,0,IF(LEFT(G260,6)=\"Atrium\",IF(G260='ASHRAE 90.1 2013 - CST'!$D$2,0.4+I260*0.02,I260*0.03),IF(ISBLANK(G260),IF(ISBLANK(H260),\"0\",VLOOKUP(H260,INDIRECT(\"BSSTTable_\"&$C$14),2,FALSE)),INDEX(INDIRECT(\"CSTTable_\"&$C$14),MATCH($C$16,INDIRECT(\"BldgTypes_\"&$C$14),0),MATCH(G260,INDIRECT(\"CSTTableTypes_\"&$C$14),0)))))","v":0},0,0,0,0,0,0,0,0,0,0,0,0,0,0,0,0,null,null,null,236,0,{"$f":"VLOOKUP(Worksheet!N260,code!$K$3:$M$13,3,FALSE)","v":{"$error":"#N/A"}},"","","","",""]
["-",null,null,null,1,0,null,null,null,null,null,0,0,null,null,null,null,null,{"$f":"IF(OR(ISBLANK($C$14),ISBLANK($C$16),ISBLANK($G$16),ISBLANK($G$17),AND(LEFT(G261,6)=\"Atrium\",ISBLANK(I261))=TRUE)=TRUE,0,IF(LEFT(G261,6)=\"Atrium\",IF(G261='ASHRAE 90.1 2013 - CST'!$D$2,0.4+I261*0.02,I261*0.03),IF(ISBLANK(G261),IF(ISBLANK(H261),\"0\",VLOOKUP(H261,INDIRECT(\"BSSTTable_\"&$C$14),2,FALSE)),INDEX(INDIRECT(\"CSTTable_\"&$C$14),MATCH($C$16,INDIRECT(\"BldgTypes_\"&$C$14),0),MATCH(G261,INDIRECT(\"CSTTableTypes_\"&$C$14),0)))))","v":0},0,0,0,0,0,0,0,0,0,0,0,0,0,0,0,0,null,null,null,237,0,{"$f":"VLOOKUP(Worksheet!N261,code!$K$3:$M$13,3,FALSE)","v":{"$error":"#N/A"}},"","","","",""]
["-",null,null,null,1,0,null,null,null,null,null,0,0,null,null,null,null,null,{"$f":"IF(OR(ISBLANK($C$14),ISBLANK($C$16),ISBLANK($G$16),ISBLANK($G$17),AND(LEFT(G262,6)=\"Atrium\",ISBLANK(I262))=TRUE)=TRUE,0,IF(LEFT(G262,6)=\"Atrium\",IF(G262='ASHRAE 90.1 2013 - CST'!$D$2,0.4+I262*0.02,I262*0.03),IF(ISBLANK(G262),IF(ISBLANK(H262),\"0\",VLOOKUP(H262,INDIRECT(\"BSSTTable_\"&$C$14),2,FALSE)),INDEX(INDIRECT(\"CSTTable_\"&$C$14),MATCH($C$16,INDIRECT(\"BldgTypes_\"&$C$14),0),MATCH(G262,INDIRECT(\"CSTTableTypes_\"&$C$14),0)))))","v":0},0,0,0,0,0,0,0,0,0,0,0,0,0,0,0,0,null,null,null,238,0,{"$f":"VLOOKUP(Worksheet!N262,code!$K$3:$M$13,3,FALSE)","v":{"$error":"#N/A"}},"","","","",""]
["-",null,null,null,1,0,null,null,null,null,null,0,0,null,null,null,null,null,{"$f":"IF(OR(ISBLANK($C$14),ISBLANK($C$16),ISBLANK($G$16),ISBLANK($G$17),AND(LEFT(G263,6)=\"Atrium\",ISBLANK(I263))=TRUE)=TRUE,0,IF(LEFT(G263,6)=\"Atrium\",IF(G263='ASHRAE 90.1 2013 - CST'!$D$2,0.4+I263*0.02,I263*0.03),IF(ISBLANK(G263),IF(ISBLANK(H263),\"0\",VLOOKUP(H263,INDIRECT(\"BSSTTable_\"&$C$14),2,FALSE)),INDEX(INDIRECT(\"CSTTable_\"&$C$14),MATCH($C$16,INDIRECT(\"BldgTypes_\"&$C$14),0),MATCH(G263,INDIRECT(\"CSTTableTypes_\"&$C$14),0)))))","v":0},0,0,0,0,0,0,0,0,0,0,0,0,0,0,0,0,null,null,null,239,0,{"$f":"VLOOKUP(Worksheet!N263,code!$K$3:$M$13,3,FALSE)","v":{"$error":"#N/A"}},"","","","",""]
["-",null,null,null,1,0,null,null,null,null,null,0,0,null,null,null,null,null,{"$f":"IF(OR(ISBLANK($C$14),ISBLANK($C$16),ISBLANK($G$16),ISBLANK($G$17),AND(LEFT(G264,6)=\"Atrium\",ISBLANK(I264))=TRUE)=TRUE,0,IF(LEFT(G264,6)=\"Atrium\",IF(G264='ASHRAE 90.1 2013 - CST'!$D$2,0.4+I264*0.02,I264*0.03),IF(ISBLANK(G264),IF(ISBLANK(H264),\"0\",VLOOKUP(H264,INDIRECT(\"BSSTTable_\"&$C$14),2,FALSE)),INDEX(INDIRECT(\"CSTTable_\"&$C$14),MATCH($C$16,INDIRECT(\"BldgTypes_\"&$C$14),0),MATCH(G264,INDIRECT(\"CSTTableTypes_\"&$C$14),0)))))","v":0},0,0,0,0,0,0,0,0,0,0,0,0,0,0,0,0,null,null,null,240,0,{"$f":"VLOOKUP(Worksheet!N264,code!$K$3:$M$13,3,FALSE)","v":{"$error":"#N/A"}},"","","","",""]
["-",null,null,null,1,0,null,null,null,null,null,0,0,null,null,null,null,null,{"$f":"IF(OR(ISBLANK($C$14),ISBLANK($C$16),ISBLANK($G$16),ISBLANK($G$17),AND(LEFT(G265,6)=\"Atrium\",ISBLANK(I265))=TRUE)=TRUE,0,IF(LEFT(G265,6)=\"Atrium\",IF(G265='ASHRAE 90.1 2013 - CST'!$D$2,0.4+I265*0.02,I265*0.03),IF(ISBLANK(G265),IF(ISBLANK(H265),\"0\",VLOOKUP(H265,INDIRECT(\"BSSTTable_\"&$C$14),2,FALSE)),INDEX(INDIRECT(\"CSTTable_\"&$C$14),MATCH($C$16,INDIRECT(\"BldgTypes_\"&$C$14),0),MATCH(G265,INDIRECT(\"CSTTableTypes_\"&$C$14),0)))))","v":0},0,0,0,0,0,0,0,0,0,0,0,0,0,0,0,0,null,null,null,241,0,{"$f":"VLOOKUP(Worksheet!N265,code!$K$3:$M$13,3,FALSE)","v":{"$error":"#N/A"}},"","","","",""]
["-",null,null,null,1,0,null,null,null,null,null,0,0,null,null,null,null,null,{"$f":"IF(OR(ISBLANK($C$14),ISBLANK($C$16),ISBLANK($G$16),ISBLANK($G$17),AND(LEFT(G266,6)=\"Atrium\",ISBLANK(I266))=TRUE)=TRUE,0,IF(LEFT(G266,6)=\"Atrium\",IF(G266='ASHRAE 90.1 2013 - CST'!$D$2,0.4+I266*0.02,I266*0.03),IF(ISBLANK(G266),IF(ISBLANK(H266),\"0\",VLOOKUP(H266,INDIRECT(\"BSSTTable_\"&$C$14),2,FALSE)),INDEX(INDIRECT(\"CSTTable_\"&$C$14),MATCH($C$16,INDIRECT(\"BldgTypes_\"&$C$14),0),MATCH(G266,INDIRECT(\"CSTTableTypes_\"&$C$14),0)))))","v":0},0,0,0,0,0,0,0,0,0,0,0,0,0,0,0,0,null,null,null,242,0,{"$f":"VLOOKUP(Worksheet!N266,code!$K$3:$M$13,3,FALSE)","v":{"$error":"#N/A"}},"","","","",""]
["-",null,null,null,1,0,null,null,null,null,null,0,0,null,null,null,null,null,{"$f":"IF(OR(ISBLANK($C$14),ISBLANK($C$16),ISBLANK($G$16),ISBLANK($G$17),AND(LEFT(G267,6)=\"Atrium\",ISBLANK(I267))=TRUE)=TRUE,0,IF(LEFT(G267,6)=\"Atrium\",IF(G267='ASHRAE 90.1 2013 - CST'!$D$2,0.4+I267*0.02,I267*0.03),IF(ISBLANK(G267),IF(ISBLANK(H267),\"0\",VLOOKUP(H267,INDIRECT(\"BSSTTable_\"&$C$14),2,FALSE)),INDEX(INDIRECT(\"CSTTable_\"&$C$14),MATCH($C$16,INDIRECT(\"BldgTypes_\"&$C$14),0),MATCH(G267,INDIRECT(\"CSTTableTypes_\"&$C$14),0)))))","v":0},0,0,0,0,0,0,0,0,0,0,0,0,0,0,0,0,null,null,null,243,0,{"$f":"VLOOKUP(Worksheet!N267,code!$K$3:$M$13,3,FALSE)","v":{"$error":"#N/A"}},"","","","",""]
["-",null,null,null,1,0,null,null,null,null,null,0,0,null,null,null,null,null,{"$f":"IF(OR(ISBLANK($C$14),ISBLANK($C$16),ISBLANK($G$16),ISBLANK($G$17),AND(LEFT(G268,6)=\"Atrium\",ISBLANK(I268))=TRUE)=TRUE,0,IF(LEFT(G268,6)=\"Atrium\",IF(G268='ASHRAE 90.1 2013 - CST'!$D$2,0.4+I268*0.02,I268*0.03),IF(ISBLANK(G268),IF(ISBLANK(H268),\"0\",VLOOKUP(H268,INDIRECT(\"BSSTTable_\"&$C$14),2,FALSE)),INDEX(INDIRECT(\"CSTTable_\"&$C$14),MATCH($C$16,INDIRECT(\"BldgTypes_\"&$C$14),0),MATCH(G268,INDIRECT(\"CSTTableTypes_\"&$C$14),0)))))","v":0},0,0,0,0,0,0,0,0,0,0,0,0,0,0,0,0,null,null,null,244,0,{"$f":"VLOOKUP(Worksheet!N268,code!$K$3:$M$13,3,FALSE)","v":{"$error":"#N/A"}},"","","","",""]
["-",null,null,null,1,0,null,null,null,null,null,0,0,null,null,null,null,null,{"$f":"IF(OR(ISBLANK($C$14),ISBLANK($C$16),ISBLANK($G$16),ISBLANK($G$17),AND(LEFT(G269,6)=\"Atrium\",ISBLANK(I269))=TRUE)=TRUE,0,IF(LEFT(G269,6)=\"Atrium\",IF(G269='ASHRAE 90.1 2013 - CST'!$D$2,0.4+I269*0.02,I269*0.03),IF(ISBLANK(G269),IF(ISBLANK(H269),\"0\",VLOOKUP(H269,INDIRECT(\"BSSTTable_\"&$C$14),2,FALSE)),INDEX(INDIRECT(\"CSTTable_\"&$C$14),MATCH($C$16,INDIRECT(\"BldgTypes_\"&$C$14),0),MATCH(G269,INDIRECT(\"CSTTableTypes_\"&$C$14),0)))))","v":0},0,0,0,0,0,0,0,0,0,0,0,0,0,0,0,0,null,null,null,245,0,{"$f":"VLOOKUP(Worksheet!N269,code!$K$3:$M$13,3,FALSE)","v":{"$error":"#N/A"}},"","","","",""]
["-",null,null,null,1,0,null,null,null,null,null,0,0,null,null,null,null,null,{"$f":"IF(OR(ISBLANK($C$14),ISBLANK($C$16),ISBLANK($G$16),ISBLANK($G$17),AND(LEFT(G270,6)=\"Atrium\",ISBLANK(I270))=TRUE)=TRUE,0,IF(LEFT(G270,6)=\"Atrium\",IF(G270='ASHRAE 90.1 2013 - CST'!$D$2,0.4+I270*0.02,I270*0.03),IF(ISBLANK(G270),IF(ISBLANK(H270),\"0\",VLOOKUP(H270,INDIRECT(\"BSSTTable_\"&$C$14),2,FALSE)),INDEX(INDIRECT(\"CSTTable_\"&$C$14),MATCH($C$16,INDIRECT(\"BldgTypes_\"&$C$14),0),MATCH(G270,INDIRECT(\"CSTTableTypes_\"&$C$14),0)))))","v":0},0,0,0,0,0,0,0,0,0,0,0,0,0,0,0,0,null,null,null,246,0,{"$f":"VLOOKUP(Worksheet!N270,code!$K$3:$M$13,3,FALSE)","v":{"$error":"#N/A"}},"","","","",""]
["-",null,null,null,1,0,null,null,null,null,null,0,0,null,null,null,null,null,{"$f":"IF(OR(ISBLANK($C$14),ISBLANK($C$16),ISBLANK($G$16),ISBLANK($G$17),AND(LEFT(G271,6)=\"Atrium\",ISBLANK(I271))=TRUE)=TRUE,0,IF(LEFT(G271,6)=\"Atrium\",IF(G271='ASHRAE 90.1 2013 - CST'!$D$2,0.4+I271*0.02,I271*0.03),IF(ISBLANK(G271),IF(ISBLANK(H271),\"0\",VLOOKUP(H271,INDIRECT(\"BSSTTable_\"&$C$14),2,FALSE)),INDEX(INDIRECT(\"CSTTable_\"&$C$14),MATCH($C$16,INDIRECT(\"BldgTypes_\"&$C$14),0),MATCH(G271,INDIRECT(\"CSTTableTypes_\"&$C$14),0)))))","v":0},0,0,0,0,0,0,0,0,0,0,0,0,0,0,0,0,null,null,null,247,0,{"$f":"VLOOKUP(Worksheet!N271,code!$K$3:$M$13,3,FALSE)","v":{"$error":"#N/A"}},"","","","",""]
["-",null,null,null,1,0,null,null,null,null,null,0,0,null,null,null,null,null,{"$f":"IF(OR(ISBLANK($C$14),ISBLANK($C$16),ISBLANK($G$16),ISBLANK($G$17),AND(LEFT(G272,6)=\"Atrium\",ISBLANK(I272))=TRUE)=TRUE,0,IF(LEFT(G272,6)=\"Atrium\",IF(G272='ASHRAE 90.1 2013 - CST'!$D$2,0.4+I272*0.02,I272*0.03),IF(ISBLANK(G272),IF(ISBLANK(H272),\"0\",VLOOKUP(H272,INDIRECT(\"BSSTTable_\"&$C$14),2,FALSE)),INDEX(INDIRECT(\"CSTTable_\"&$C$14),MATCH($C$16,INDIRECT(\"BldgTypes_\"&$C$14),0),MATCH(G272,INDIRECT(\"CSTTableTypes_\"&$C$14),0)))))","v":0},0,0,0,0,0,0,0,0,0,0,0,0,0,0,0,0,null,null,null,248,0,{"$f":"VLOOKUP(Worksheet!N272,code!$K$3:$M$13,3,FALSE)","v":{"$error":"#N/A"}},"","","","",""]
["-",null,null,null,1,0,null,null,null,null,null,0,0,null,null,null,null,null,{"$f":"IF(OR(ISBLANK($C$14),ISBLANK($C$16),ISBLANK($G$16),ISBLANK($G$17),AND(LEFT(G273,6)=\"Atrium\",ISBLANK(I273))=TRUE)=TRUE,0,IF(LEFT(G273,6)=\"Atrium\",IF(G273='ASHRAE 90.1 2013 - CST'!$D$2,0.4+I273*0.02,I273*0.03),IF(ISBLANK(G273),IF(ISBLANK(H273),\"0\",VLOOKUP(H273,INDIRECT(\"BSSTTable_\"&$C$14),2,FALSE)),INDEX(INDIRECT(\"CSTTable_\"&$C$14),MATCH($C$16,INDIRECT(\"BldgTypes_\"&$C$14),0),MATCH(G273,INDIRECT(\"CSTTableTypes_\"&$C$14),0)))))","v":0},0,0,0,0,0,0,0,0,0,0,0,0,0,0,0,0,null,null,null,249,0,{"$f":"VLOOKUP(Worksheet!N273,code!$K$3:$M$13,3,FALSE)","v":{"$error":"#N/A"}},"","","","",""]
["-",null,null,null,1,0,null,null,null,null,null,0,0,null,null,null,null,null,{"$f":"IF(OR(ISBLANK($C$14),ISBLANK($C$16),ISBLANK($G$16),ISBLANK($G$17),AND(LEFT(G274,6)=\"Atrium\",ISBLANK(I274))=TRUE)=TRUE,0,IF(LEFT(G274,6)=\"Atrium\",IF(G274='ASHRAE 90.1 2013 - CST'!$D$2,0.4+I274*0.02,I274*0.03),IF(ISBLANK(G274),IF(ISBLANK(H274),\"0\",VLOOKUP(H274,INDIRECT(\"BSSTTable_\"&$C$14),2,FALSE)),INDEX(INDIRECT(\"CSTTable_\"&$C$14),MATCH($C$16,INDIRECT(\"BldgTypes_\"&$C$14),0),MATCH(G274,INDIRECT(\"CSTTableTypes_\"&$C$14),0)))))","v":0},0,0,0,0,0,0,0,0,0,0,0,0,0,0,0,0,null,null,null,250,0,{"$f":"VLOOKUP(Worksheet!N274,code!$K$3:$M$13,3,FALSE)","v":{"$error":"#N/A"}},"","","","",""]
["-",null,null,null,1,0,null,null,null,null,null,0,0,null,null,null,null,null,{"$f":"IF(OR(ISBLANK($C$14),ISBLANK($C$16),ISBLANK($G$16),ISBLANK($G$17),AND(LEFT(G275,6)=\"Atrium\",ISBLANK(I275))=TRUE)=TRUE,0,IF(LEFT(G275,6)=\"Atrium\",IF(G275='ASHRAE 90.1 2013 - CST'!$D$2,0.4+I275*0.02,I275*0.03),IF(ISBLANK(G275),IF(ISBLANK(H275),\"0\",VLOOKUP(H275,INDIRECT(\"BSSTTable_\"&$C$14),2,FALSE)),INDEX(INDIRECT(\"CSTTable_\"&$C$14),MATCH($C$16,INDIRECT(\"BldgTypes_\"&$C$14),0),MATCH(G275,INDIRECT(\"CSTTableTypes_\"&$C$14),0)))))","v":0},0,0,0,0,0,0,0,0,0,0,0,0,0,0,0,0,null,null,null,251,0,{"$f":"VLOOKUP(Worksheet!N275,code!$K$3:$M$13,3,FALSE)","v":{"$error":"#N/A"}},"","","","",""]
["-",null,null,null,1,0,null,null,null,null,null,0,0,null,null,null,null,null,{"$f":"IF(OR(ISBLANK($C$14),ISBLANK($C$16),ISBLANK($G$16),ISBLANK($G$17),AND(LEFT(G276,6)=\"Atrium\",ISBLANK(I276))=TRUE)=TRUE,0,IF(LEFT(G276,6)=\"Atrium\",IF(G276='ASHRAE 90.1 2013 - CST'!$D$2,0.4+I276*0.02,I276*0.03),IF(ISBLANK(G276),IF(ISBLANK(H276),\"0\",VLOOKUP(H276,INDIRECT(\"BSSTTable_\"&$C$14),2,FALSE)),INDEX(INDIRECT(\"CSTTable_\"&$C$14),MATCH($C$16,INDIRECT(\"BldgTypes_\"&$C$14),0),MATCH(G276,INDIRECT(\"CSTTableTypes_\"&$C$14),0)))))","v":0},0,0,0,0,0,0,0,0,0,0,0,0,0,0,0,0,null,null,null,252,0,{"$f":"VLOOKUP(Worksheet!N276,code!$K$3:$M$13,3,FALSE)","v":{"$error":"#N/A"}},"","","","",""]
["-",null,null,null,1,0,null,null,null,null,null,0,0,null,null,null,null,null,{"$f":"IF(OR(ISBLANK($C$14),ISBLANK($C$16),ISBLANK($G$16),ISBLANK($G$17),AND(LEFT(G277,6)=\"Atrium\",ISBLANK(I277))=TRUE)=TRUE,0,IF(LEFT(G277,6)=\"Atrium\",IF(G277='ASHRAE 90.1 2013 - CST'!$D$2,0.4+I277*0.02,I277*0.03),IF(ISBLANK(G277),IF(ISBLANK(H277),\"0\",VLOOKUP(H277,INDIRECT(\"BSSTTable_\"&$C$14),2,FALSE)),INDEX(INDIRECT(\"CSTTable_\"&$C$14),MATCH($C$16,INDIRECT(\"BldgTypes_\"&$C$14),0),MATCH(G277,INDIRECT(\"CSTTableTypes_\"&$C$14),0)))))","v":0},0,0,0,0,0,0,0,0,0,0,0,0,0,0,0,0,null,null,null,253,0,{"$f":"VLOOKUP(Worksheet!N277,code!$K$3:$M$13,3,FALSE)","v":{"$error":"#N/A"}},"","","","",""]
["-",null,null,null,1,0,null,null,null,null,null,0,0,null,null,null,null,null,{"$f":"IF(OR(ISBLANK($C$14),ISBLANK($C$16),ISBLANK($G$16),ISBLANK($G$17),AND(LEFT(G278,6)=\"Atrium\",ISBLANK(I278))=TRUE)=TRUE,0,IF(LEFT(G278,6)=\"Atrium\",IF(G278='ASHRAE 90.1 2013 - CST'!$D$2,0.4+I278*0.02,I278*0.03),IF(ISBLANK(G278),IF(ISBLANK(H278),\"0\",VLOOKUP(H278,INDIRECT(\"BSSTTable_\"&$C$14),2,FALSE)),INDEX(INDIRECT(\"CSTTable_\"&$C$14),MATCH($C$16,INDIRECT(\"BldgTypes_\"&$C$14),0),MATCH(G278,INDIRECT(\"CSTTableTypes_\"&$C$14),0)))))","v":0},0,0,0,0,0,0,0,0,0,0,0,0,0,0,0,0,null,null,null,254,0,{"$f":"VLOOKUP(Worksheet!N278,code!$K$3:$M$13,3,FALSE)","v":{"$error":"#N/A"}},"","","","",""]
["-",null,null,null,1,0,null,null,null,null,null,0,0,null,null,null,null,null,{"$f":"IF(OR(ISBLANK($C$14),ISBLANK($C$16),ISBLANK($G$16),ISBLANK($G$17),AND(LEFT(G279,6)=\"Atrium\",ISBLANK(I279))=TRUE)=TRUE,0,IF(LEFT(G279,6)=\"Atrium\",IF(G279='ASHRAE 90.1 2013 - CST'!$D$2,0.4+I279*0.02,I279*0.03),IF(ISBLANK(G279),IF(ISBLANK(H279),\"0\",VLOOKUP(H279,INDIRECT(\"BSSTTable_\"&$C$14),2,FALSE)),INDEX(INDIRECT(\"CSTTable_\"&$C$14),MATCH($C$16,INDIRECT(\"BldgTypes_\"&$C$14),0),MATCH(G279,INDIRECT(\"CSTTableTypes_\"&$C$14),0)))))","v":0},0,0,0,0,0,0,0,0,0,0,0,0,0,0,0,0,null,null,null,255,0,{"$f":"VLOOKUP(Worksheet!N279,code!$K$3:$M$13,3,FALSE)","v":{"$error":"#N/A"}},"","","","",""]
["-",null,null,null,1,0,null,null,null,null,null,0,0,null,null,null,null,null,{"$f":"IF(OR(ISBLANK($C$14),ISBLANK($C$16),ISBLANK($G$16),ISBLANK($G$17),AND(LEFT(G280,6)=\"Atrium\",ISBLANK(I280))=TRUE)=TRUE,0,IF(LEFT(G280,6)=\"Atrium\",IF(G280='ASHRAE 90.1 2013 - CST'!$D$2,0.4+I280*0.02,I280*0.03),IF(ISBLANK(G280),IF(ISBLANK(H280),\"0\",VLOOKUP(H280,INDIRECT(\"BSSTTable_\"&$C$14),2,FALSE)),INDEX(INDIRECT(\"CSTTable_\"&$C$14),MATCH($C$16,INDIRECT(\"BldgTypes_\"&$C$14),0),MATCH(G280,INDIRECT(\"CSTTableTypes_\"&$C$14),0)))))","v":0},0,0,0,0,0,0,0,0,0,0,0,0,0,0,0,0,null,null,null,256,0,{"$f":"VLOOKUP(Worksheet!N280,code!$K$3:$M$13,3,FALSE)","v":{"$error":"#N/A"}},"","","","",""]
["-",null,null,null,1,0,null,null,null,null,null,0,0,null,null,null,null,null,{"$f":"IF(OR(ISBLANK($C$14),ISBLANK($C$16),ISBLANK($G$16),ISBLANK($G$17),AND(LEFT(G281,6)=\"Atrium\",ISBLANK(I281))=TRUE)=TRUE,0,IF(LEFT(G281,6)=\"Atrium\",IF(G281='ASHRAE 90.1 2013 - CST'!$D$2,0.4+I281*0.02,I281*0.03),IF(ISBLANK(G281),IF(ISBLANK(H281),\"0\",VLOOKUP(H281,INDIRECT(\"BSSTTable_\"&$C$14),2,FALSE)),INDEX(INDIRECT(\"CSTTable_\"&$C$14),MATCH($C$16,INDIRECT(\"BldgTypes_\"&$C$14),0),MATCH(G281,INDIRECT(\"CSTTableTypes_\"&$C$14),0)))))","v":0},0,0,0,0,0,0,0,0,0,0,0,0,0,0,0,0,null,null,null,257,0,{"$f":"VLOOKUP(Worksheet!N281,code!$K$3:$M$13,3,FALSE)","v":{"$error":"#N/A"}},{"$f":"IF($AR$21<>0, $AF$8/$AR$21*AR281, \"\")","v":""},"","",{"$f":"IF($AR$21<>0, $AG$8/$AR$21*$AR281, \"\")","v":""},""]
["-",null,null,null,1,0,null,null,null,null,null,{"$f":"C282*$E282","v":0},{"$f":"D282*$E282","v":0},null,null,null,null,null,{"$f":"IF(OR(ISBLANK($C$14),ISBLANK($C$16),ISBLANK($G$16),ISBLANK($G$17),AND(LEFT(G282,6)=\"Atrium\",ISBLANK(I282))=TRUE)=TRUE,0,IF(LEFT(G282,6)=\"Atrium\",IF(G282='ASHRAE 90.1 2013 - CST'!$D$2,0.4+I282*0.02,I282*0.03),IF(ISBLANK(G282),IF(ISBLANK(H282),\"0\",VLOOKUP(H282,INDIRECT(\"BSSTTable_\"&$C$14),2,FALSE)),INDEX(INDIRECT(\"CSTTable_\"&$C$14),MATCH($C$16,INDIRECT(\"BldgTypes_\"&$C$14),0),MATCH(G282,INDIRECT(\"CSTTableTypes_\"&$C$14),0)))))","v":0},{"$f":"S282","v":0},{"$f":"T282*F282","v":0},{"$f":"L282*P282","v":0},{"$f":"M282*P282","v":0},{"$f":"spaceSum(ROW(V282), COLUMN(V282))","v":0},{"$f":"spaceSum(ROW(W282), COLUMN(W282))","v":0},{"$f":"spaceSumIfYes(ROW(L282), COLUMN(L282), COLUMN(K282))","v":0},{"$f":"spaceSumIfYes(ROW(M282), COLUMN(M282), COLUMN(K282))","v":0},{"$f":"IF(B282=0,0,IF(AND(Z282>0,(U282-X282>0)),\"Y\",\"N\"))","v":0},{"$f":"IF(B282=0,0,IF(AND(AA282>0,(U282-Y282>0)),\"Y\",\"N\"))","v":0},{"$f":"IF(AND(NOT(ISNA(T282))),F282,0)","v":0},{"$f":"IF(NOT(ISNA(U282)),U282,0)","v":0},0,{"$f":"IF(AND(NOT(ISNA(W282)),$AC282=\"y\"),Y282,0)","v":0},{"$f":"IF(AND(NOT(ISNA(X282)),$AB282=\"y\"),Z282,0)","v":0},{"$f":"IF(AND(NOT(ISNA(Y282)),$AC282=\"y\"),AA282,0)","v":0},null,null,null,258,{"$f":"IF(V282>0, IF(ISERROR(V282)=FALSE,V282),IF(ISERROR(W282)=FALSE,W282))","v":0},{"$f":"VLOOKUP(Worksheet!N282,code!$K$3:$M$13,3,FALSE)","v":{"$error":"#N/A"}},"",{"$f":"IF($AR$21<>0, $V$16/$AR$21*AR282, \"\")","v":""},{"$f":"IF(ISERROR(AN282)=FALSE,IF(ISERROR(AO282)=FALSE,AO282*AN282,\"\"),\"\")","v":""},"",{"$f":"IF($AR$21<>0, $V$17/$AR$21*$AR282, \"\")","v":""}]
["-",null,null,null,1,0,null,null,null,null,null,0,0,null,null,null,null,null,{"$f":"IF(OR(ISBLANK($C$14),ISBLANK($C$16),ISBLANK($G$16),ISBLANK($G$17),AND(LEFT(G283,6)=\"Atrium\",ISBLANK(I283))=TRUE)=TRUE,0,IF(LEFT(G283,6)=\"Atrium\",IF(G283='ASHRAE 90.1 2013 - CST'!$D$2,0.4+I283*0.02,I283*0.03),IF(ISBLANK(G283),IF(ISBLANK(H283),\"0\",VLOOKUP(H283,INDIRECT(\"BSSTTable_\"&$C$14),2,FALSE)),INDEX(INDIRECT(\"CSTTable_\"&$C$14),MATCH($C$16,INDIRECT(\"BldgTypes_\"&$C$14),0),MATCH(G283,INDIRECT(\"CSTTableTypes_\"&$C$14),0)))))","v":0},0,0,0,0,0,0,0,0,0,0,0,0,0,0,0,0,null,null,null,{"$f":"AM282+1","v":259},0,{"$f":"VLOOKUP(Worksheet!N283,code!$K$3:$M$13,3,FALSE)","v":{"$error":"#N/A"}},"","","","",""]
["-",null,null,null,1,0,null,null,null,null,null,0,0,null,null,null,null,null,{"$f":"IF(OR(ISBLANK($C$14),ISBLANK($C$16),ISBLANK($G$16),ISBLANK($G$17),AND(LEFT(G284,6)=\"Atrium\",ISBLANK(I284))=TRUE)=TRUE,0,IF(LEFT(G284,6)=\"Atrium\",IF(G284='ASHRAE 90.1 2013 - CST'!$D$2,0.4+I284*0.02,I284*0.03),IF(ISBLANK(G284),IF(ISBLANK(H284),\"0\",VLOOKUP(H284,INDIRECT(\"BSSTTable_\"&$C$14),2,FALSE)),INDEX(INDIRECT(\"CSTTable_\"&$C$14),MATCH($C$16,INDIRECT(\"BldgTypes_\"&$C$14),0),MATCH(G284,INDIRECT(\"CSTTableTypes_\"&$C$14),0)))))","v":0},0,0,0,0,0,0,0,0,0,0,0,0,0,0,0,0,null,null,null,260,0,{"$f":"VLOOKUP(Worksheet!N284,code!$K$3:$M$13,3,FALSE)","v":{"$error":"#N/A"}},"","","","",""]
["-",null,null,null,1,0,null,null,null,null,null,0,0,null,null,null,null,null,{"$f":"IF(OR(ISBLANK($C$14),ISBLANK($C$16),ISBLANK($G$16),ISBLANK($G$17),AND(LEFT(G285,6)=\"Atrium\",ISBLANK(I285))=TRUE)=TRUE,0,IF(LEFT(G285,6)=\"Atrium\",IF(G285='ASHRAE 90.1 2013 - CST'!$D$2,0.4+I285*0.02,I285*0.03),IF(ISBLANK(G285),IF(ISBLANK(H285),\"0\",VLOOKUP(H285,INDIRECT(\"BSSTTable_\"&$C$14),2,FALSE)),INDEX(INDIRECT(\"CSTTable_\"&$C$14),MATCH($C$16,INDIRECT(\"BldgTypes_\"&$C$14),0),MATCH(G285,INDIRECT(\"CSTTableTypes_\"&$C$14),0)))))","v":0},0,0,0,0,0,0,0,0,0,0,0,0,0,0,0,0,null,null,null,261,0,{"$f":"VLOOKUP(Worksheet!N285,code!$K$3:$M$13,3,FALSE)","v":{"$error":"#N/A"}},"","","","",""]
["-",null,null,null,1,0,null,null,null,null,null,0,0,null,null,null,null,null,{"$f":"IF(OR(ISBLANK($C$14),ISBLANK($C$16),ISBLANK($G$16),ISBLANK($G$17),AND(LEFT(G286,6)=\"Atrium\",ISBLANK(I286))=TRUE)=TRUE,0,IF(LEFT(G286,6)=\"Atrium\",IF(G286='ASHRAE 90.1 2013 - CST'!$D$2,0.4+I286*0.02,I286*0.03),IF(ISBLANK(G286),IF(ISBLANK(H286),\"0\",VLOOKUP(H286,INDIRECT(\"BSSTTable_\"&$C$14),2,FALSE)),INDEX(INDIRECT(\"CSTTable_\"&$C$14),MATCH($C$16,INDIRECT(\"BldgTypes_\"&$C$14),0),MATCH(G286,INDIRECT(\"CSTTableTypes_\"&$C$14),0)))))","v":0},0,0,0,0,0,0,0,0,0,0,0,0,0,0,0,0,null,null,null,262,0,{"$f":"VLOOKUP(Worksheet!N286,code!$K$3:$M$13,3,FALSE)","v":{"$error":"#N/A"}},"","","","",""]
["-",null,null,null,1,0,null,null,null,null,null,0,0,null,null,null,null,null,{"$f":"IF(OR(ISBLANK($C$14),ISBLANK($C$16),ISBLANK($G$16),ISBLANK($G$17),AND(LEFT(G287,6)=\"Atrium\",ISBLANK(I287))=TRUE)=TRUE,0,IF(LEFT(G287,6)=\"Atrium\",IF(G287='ASHRAE 90.1 2013 - CST'!$D$2,0.4+I287*0.02,I287*0.03),IF(ISBLANK(G287),IF(ISBLANK(H287),\"0\",VLOOKUP(H287,INDIRECT(\"BSSTTable_\"&$C$14),2,FALSE)),INDEX(INDIRECT(\"CSTTable_\"&$C$14),MATCH($C$16,INDIRECT(\"BldgTypes_\"&$C$14),0),MATCH(G287,INDIRECT(\"CSTTableTypes_\"&$C$14),0)))))","v":0},0,0,0,0,0,0,0,0,0,0,0,0,0,0,0,0,null,null,null,263,0,{"$f":"VLOOKUP(Worksheet!N287,code!$K$3:$M$13,3,FALSE)","v":{"$error":"#N/A"}},"","","","",""]
["-",null,null,null,1,0,null,null,null,null,null,0,0,null,null,null,null,null,{"$f":"IF(OR(ISBLANK($C$14),ISBLANK($C$16),ISBLANK($G$16),ISBLANK($G$17),AND(LEFT(G288,6)=\"Atrium\",ISBLANK(I288))=TRUE)=TRUE,0,IF(LEFT(G288,6)=\"Atrium\",IF(G288='ASHRAE 90.1 2013 - CST'!$D$2,0.4+I288*0.02,I288*0.03),IF(ISBLANK(G288),IF(ISBLANK(H288),\"0\",VLOOKUP(H288,INDIRECT(\"BSSTTable_\"&$C$14),2,FALSE)),INDEX(INDIRECT(\"CSTTable_\"&$C$14),MATCH($C$16,INDIRECT(\"BldgTypes_\"&$C$14),0),MATCH(G288,INDIRECT(\"CSTTableTypes_\"&$C$14),0)))))","v":0},0,0,0,0,0,0,0,0,0,0,0,0,0,0,0,0,null,null,null,264,0,{"$f":"VLOOKUP(Worksheet!N288,code!$K$3:$M$13,3,FALSE)","v":{"$error":"#N/A"}},"","","","",""]
["-",null,null,null,1,0,null,null,null,null,null,0,0,null,null,null,null,null,{"$f":"IF(OR(ISBLANK($C$14),ISBLANK($C$16),ISBLANK($G$16),ISBLANK($G$17),AND(LEFT(G289,6)=\"Atrium\",ISBLANK(I289))=TRUE)=TRUE,0,IF(LEFT(G289,6)=\"Atrium\",IF(G289='ASHRAE 90.1 2013 - CST'!$D$2,0.4+I289*0.02,I289*0.03),IF(ISBLANK(G289),IF(ISBLANK(H289),\"0\",VLOOKUP(H289,INDIRECT(\"BSSTTable_\"&$C$14),2,FALSE)),INDEX(INDIRECT(\"CSTTable_\"&$C$14),MATCH($C$16,INDIRECT(\"BldgTypes_\"&$C$14),0),MATCH(G289,INDIRECT(\"CSTTableTypes_\"&$C$14),0)))))","v":0},0,0,0,0,0,0,0,0,0,0,0,0,0,0,0,0,null,null,null,265,0,{"$f":"VLOOKUP(Worksheet!N289,code!$K$3:$M$13,3,FALSE)","v":{"$error":"#N/A"}},"","","","",""]
["-",null,null,null,1,0,null,null,null,null,null,0,0,null,null,null,null,null,{"$f":"IF(OR(ISBLANK($C$14),ISBLANK($C$16),ISBLANK($G$16),ISBLANK($G$17),AND(LEFT(G290,6)=\"Atrium\",ISBLANK(I290))=TRUE)=TRUE,0,IF(LEFT(G290,6)=\"Atrium\",IF(G290='ASHRAE 90.1 2013 - CST'!$D$2,0.4+I290*0.02,I290*0.03),IF(ISBLANK(G290),IF(ISBLANK(H290),\"0\",VLOOKUP(H290,INDIRECT(\"BSSTTable_\"&$C$14),2,FALSE)),INDEX(INDIRECT(\"CSTTable_\"&$C$14),MATCH($C$16,INDIRECT(\"BldgTypes_\"&$C$14),0),MATCH(G290,INDIRECT(\"CSTTableTypes_\"&$C$14),0)))))","v":0},0,0,0,0,0,0,0,0,0,0,0,0,0,0,0,0,null,null,null,266,0,{"$f":"VLOOKUP(Worksheet!N290,code!$K$3:$M$13,3,FALSE)","v":{"$error":"#N/A"}},"","","","",""]
["-",null,null,null,1,0,null,null,null,null,null,0,0,null,null,null,null,null,{"$f":"IF(OR(ISBLANK($C$14),ISBLANK($C$16),ISBLANK($G$16),ISBLANK($G$17),AND(LEFT(G291,6)=\"Atrium\",ISBLANK(I291))=TRUE)=TRUE,0,IF(LEFT(G291,6)=\"Atrium\",IF(G291='ASHRAE 90.1 2013 - CST'!$D$2,0.4+I291*0.02,I291*0.03),IF(ISBLANK(G291),IF(ISBLANK(H291),\"0\",VLOOKUP(H291,INDIRECT(\"BSSTTable_\"&$C$14),2,FALSE)),INDEX(INDIRECT(\"CSTTable_\"&$C$14),MATCH($C$16,INDIRECT(\"BldgTypes_\"&$C$14),0),MATCH(G291,INDIRECT(\"CSTTableTypes_\"&$C$14),0)))))","v":0},0,0,0,0,0,0,0,0,0,0,0,0,0,0,0,0,null,null,null,267,0,{"$f":"VLOOKUP(Worksheet!N291,code!$K$3:$M$13,3,FALSE)","v":{"$error":"#N/A"}},"","","","",""]
["-",null,null,null,1,0,null,null,null,null,null,0,0,null,null,null,null,null,{"$f":"IF(OR(ISBLANK($C$14),ISBLANK($C$16),ISBLANK($G$16),ISBLANK($G$17),AND(LEFT(G292,6)=\"Atrium\",ISBLANK(I292))=TRUE)=TRUE,0,IF(LEFT(G292,6)=\"Atrium\",IF(G292='ASHRAE 90.1 2013 - CST'!$D$2,0.4+I292*0.02,I292*0.03),IF(ISBLANK(G292),IF(ISBLANK(H292),\"0\",VLOOKUP(H292,INDIRECT(\"BSSTTable_\"&$C$14),2,FALSE)),INDEX(INDIRECT(\"CSTTable_\"&$C$14),MATCH($C$16,INDIRECT(\"BldgTypes_\"&$C$14),0),MATCH(G292,INDIRECT(\"CSTTableTypes_\"&$C$14),0)))))","v":0},0,0,0,0,0,0,0,0,0,0,0,0,0,0,0,0,null,null,null,268,0,{"$f":"VLOOKUP(Worksheet!N292,code!$K$3:$M$13,3,FALSE)","v":{"$error":"#N/A"}},"","","","",""]
["-",null,null,null,1,0,null,null,null,null,null,0,0,null,null,null,null,null,{"$f":"IF(OR(ISBLANK($C$14),ISBLANK($C$16),ISBLANK($G$16),ISBLANK($G$17),AND(LEFT(G293,6)=\"Atrium\",ISBLANK(I293))=TRUE)=TRUE,0,IF(LEFT(G293,6)=\"Atrium\",IF(G293='ASHRAE 90.1 2013 - CST'!$D$2,0.4+I293*0.02,I293*0.03),IF(ISBLANK(G293),IF(ISBLANK(H293),\"0\",VLOOKUP(H293,INDIRECT(\"BSSTTable_\"&$C$14),2,FALSE)),INDEX(INDIRECT(\"CSTTable_\"&$C$14),MATCH($C$16,INDIRECT(\"BldgTypes_\"&$C$14),0),MATCH(G293,INDIRECT(\"CSTTableTypes_\"&$C$14),0)))))","v":0},0,0,0,0,0,0,0,0,0,0,0,0,0,0,0,0,null,null,null,269,0,{"$f":"VLOOKUP(Worksheet!N293,code!$K$3:$M$13,3,FALSE)","v":{"$error":"#N/A"}},"","","","",""]
["-",null,null,null,1,0,null,null,null,null,null,0,0,null,null,null,null,null,{"$f":"IF(OR(ISBLANK($C$14),ISBLANK($C$16),ISBLANK($G$16),ISBLANK($G$17),AND(LEFT(G294,6)=\"Atrium\",ISBLANK(I294))=TRUE)=TRUE,0,IF(LEFT(G294,6)=\"Atrium\",IF(G294='ASHRAE 90.1 2013 - CST'!$D$2,0.4+I294*0.02,I294*0.03),IF(ISBLANK(G294),IF(ISBLANK(H294),\"0\",VLOOKUP(H294,INDIRECT(\"BSSTTable_\"&$C$14),2,FALSE)),INDEX(INDIRECT(\"CSTTable_\"&$C$14),MATCH($C$16,INDIRECT(\"BldgTypes_\"&$C$14),0),MATCH(G294,INDIRECT(\"CSTTableTypes_\"&$C$14),0)))))","v":0},0,0,0,0,0,0,0,0,0,0,0,0,0,0,0,0,null,null,null,270,0,{"$f":"VLOOKUP(Worksheet!N294,code!$K$3:$M$13,3,FALSE)","v":{"$error":"#N/A"}},"","","","",""]
["-",null,null,null,1,0,null,null,null,null,null,0,0,null,null,null,null,null,{"$f":"IF(OR(ISBLANK($C$14),ISBLANK($C$16),ISBLANK($G$16),ISBLANK($G$17),AND(LEFT(G295,6)=\"Atrium\",ISBLANK(I295))=TRUE)=TRUE,0,IF(LEFT(G295,6)=\"Atrium\",IF(G295='ASHRAE 90.1 2013 - CST'!$D$2,0.4+I295*0.02,I295*0.03),IF(ISBLANK(G295),IF(ISBLANK(H295),\"0\",VLOOKUP(H295,INDIRECT(\"BSSTTable_\"&$C$14),2,FALSE)),INDEX(INDIRECT(\"CSTTable_\"&$C$14),MATCH($C$16,INDIRECT(\"BldgTypes_\"&$C$14),0),MATCH(G295,INDIRECT(\"CSTTableTypes_\"&$C$14),0)))))","v":0},0,0,0,0,0,0,0,0,0,0,0,0,0,0,0,0,null,null,null,271,0,{"$f":"VLOOKUP(Worksheet!N295,code!$K$3:$M$13,3,FALSE)","v":{"$error":"#N/A"}},"","","","",""]
["-",null,null,null,1,0,null,null,null,null,null,0,0,null,null,null,null,null,{"$f":"IF(OR(ISBLANK($C$14),ISBLANK($C$16),ISBLANK($G$16),ISBLANK($G$17),AND(LEFT(G296,6)=\"Atrium\",ISBLANK(I296))=TRUE)=TRUE,0,IF(LEFT(G296,6)=\"Atrium\",IF(G296='ASHRAE 90.1 2013 - CST'!$D$2,0.4+I296*0.02,I296*0.03),IF(ISBLANK(G296),IF(ISBLANK(H296),\"0\",VLOOKUP(H296,INDIRECT(\"BSSTTable_\"&$C$14),2,FALSE)),INDEX(INDIRECT(\"CSTTable_\"&$C$14),MATCH($C$16,INDIRECT(\"BldgTypes_\"&$C$14),0),MATCH(G296,INDIRECT(\"CSTTableTypes_\"&$C$14),0)))))","v":0},0,0,0,0,0,0,0,0,0,0,0,0,0,0,0,0,null,null,null,272,0,{"$f":"VLOOKUP(Worksheet!N296,code!$K$3:$M$13,3,FALSE)","v":{"$error":"#N/A"}},"","","","",""]
["-",null,null,null,1,0,null,null,null,null,null,0,0,null,null,null,null,null,{"$f":"IF(OR(ISBLANK($C$14),ISBLANK($C$16),ISBLANK($G$16),ISBLANK($G$17),AND(LEFT(G297,6)=\"Atrium\",ISBLANK(I297))=TRUE)=TRUE,0,IF(LEFT(G297,6)=\"Atrium\",IF(G297='ASHRAE 90.1 2013 - CST'!$D$2,0.4+I297*0.02,I297*0.03),IF(ISBLANK(G297),IF(ISBLANK(H297),\"0\",VLOOKUP(H297,INDIRECT(\"BSSTTable_\"&$C$14),2,FALSE)),INDEX(INDIRECT(\"CSTTable_\"&$C$14),MATCH($C$16,INDIRECT(\"BldgTypes_\"&$C$14),0),MATCH(G297,INDIRECT(\"CSTTableTypes_\"&$C$14),0)))))","v":0},0,0,0,0,0,0,0,0,0,0,0,0,0,0,0,0,null,null,null,273,0,{"$f":"VLOOKUP(Worksheet!N297,code!$K$3:$M$13,3,FALSE)","v":{"$error":"#N/A"}},"","","","",""]
["-",null,null,null,1,0,null,null,null,null,null,0,0,null,null,null,null,null,{"$f":"IF(OR(ISBLANK($C$14),ISBLANK($C$16),ISBLANK($G$16),ISBLANK($G$17),AND(LEFT(G298,6)=\"Atrium\",ISBLANK(I298))=TRUE)=TRUE,0,IF(LEFT(G298,6)=\"Atrium\",IF(G298='ASHRAE 90.1 2013 - CST'!$D$2,0.4+I298*0.02,I298*0.03),IF(ISBLANK(G298),IF(ISBLANK(H298),\"0\",VLOOKUP(H298,INDIRECT(\"BSSTTable_\"&$C$14),2,FALSE)),INDEX(INDIRECT(\"CSTTable_\"&$C$14),MATCH($C$16,INDIRECT(\"BldgTypes_\"&$C$14),0),MATCH(G298,INDIRECT(\"CSTTableTypes_\"&$C$14),0)))))","v":0},0,0,0,0,0,0,0,0,0,0,0,0,0,0,0,0,null,null,null,274,0,{"$f":"VLOOKUP(Worksheet!N298,code!$K$3:$M$13,3,FALSE)","v":{"$error":"#N/A"}},"","","","",""]
["-",null,null,null,1,0,null,null,null,null,null,0,0,null,null,null,null,null,{"$f":"IF(OR(ISBLANK($C$14),ISBLANK($C$16),ISBLANK($G$16),ISBLANK($G$17),AND(LEFT(G299,6)=\"Atrium\",ISBLANK(I299))=TRUE)=TRUE,0,IF(LEFT(G299,6)=\"Atrium\",IF(G299='ASHRAE 90.1 2013 - CST'!$D$2,0.4+I299*0.02,I299*0.03),IF(ISBLANK(G299),IF(ISBLANK(H299),\"0\",VLOOKUP(H299,INDIRECT(\"BSSTTable_\"&$C$14),2,FALSE)),INDEX(INDIRECT(\"CSTTable_\"&$C$14),MATCH($C$16,INDIRECT(\"BldgTypes_\"&$C$14),0),MATCH(G299,INDIRECT(\"CSTTableTypes_\"&$C$14),0)))))","v":0},0,0,0,0,0,0,0,0,0,0,0,0,0,0,0,0,null,null,null,275,0,{"$f":"VLOOKUP(Worksheet!N299,code!$K$3:$M$13,3,FALSE)","v":{"$error":"#N/A"}},"","","","",""]
["-",null,null,null,1,0,null,null,null,null,null,0,0,null,null,null,null,null,{"$f":"IF(OR(ISBLANK($C$14),ISBLANK($C$16),ISBLANK($G$16),ISBLANK($G$17),AND(LEFT(G300,6)=\"Atrium\",ISBLANK(I300))=TRUE)=TRUE,0,IF(LEFT(G300,6)=\"Atrium\",IF(G300='ASHRAE 90.1 2013 - CST'!$D$2,0.4+I300*0.02,I300*0.03),IF(ISBLANK(G300),IF(ISBLANK(H300),\"0\",VLOOKUP(H300,INDIRECT(\"BSSTTable_\"&$C$14),2,FALSE)),INDEX(INDIRECT(\"CSTTable_\"&$C$14),MATCH($C$16,INDIRECT(\"BldgTypes_\"&$C$14),0),MATCH(G300,INDIRECT(\"CSTTableTypes_\"&$C$14),0)))))","v":0},0,0,0,0,0,0,0,0,0,0,0,0,0,0,0,0,null,null,null,276,0,{"$f":"VLOOKUP(Worksheet!N300,code!$K$3:$M$13,3,FALSE)","v":{"$error":"#N/A"}},"","","","",""]
["-",null,null,null,1,0,null,null,null,null,null,0,0,null,null,null,null,null,{"$f":"IF(OR(ISBLANK($C$14),ISBLANK($C$16),ISBLANK($G$16),ISBLANK($G$17),AND(LEFT(G301,6)=\"Atrium\",ISBLANK(I301))=TRUE)=TRUE,0,IF(LEFT(G301,6)=\"Atrium\",IF(G301='ASHRAE 90.1 2013 - CST'!$D$2,0.4+I301*0.02,I301*0.03),IF(ISBLANK(G301),IF(ISBLANK(H301),\"0\",VLOOKUP(H301,INDIRECT(\"BSSTTable_\"&$C$14),2,FALSE)),INDEX(INDIRECT(\"CSTTable_\"&$C$14),MATCH($C$16,INDIRECT(\"BldgTypes_\"&$C$14),0),MATCH(G301,INDIRECT(\"CSTTableTypes_\"&$C$14),0)))))","v":0},0,0,0,0,0,0,0,0,0,0,0,0,0,0,0,0,null,null,null,277,0,{"$f":"VLOOKUP(Worksheet!N301,code!$K$3:$M$13,3,FALSE)","v":{"$error":"#N/A"}},"","","","",""]
["-",null,null,null,1,0,null,null,null,null,null,0,0,null,null,null,null,null,{"$f":"IF(OR(ISBLANK($C$14),ISBLANK($C$16),ISBLANK($G$16),ISBLANK($G$17),AND(LEFT(G302,6)=\"Atrium\",ISBLANK(I302))=TRUE)=TRUE,0,IF(LEFT(G302,6)=\"Atrium\",IF(G302='ASHRAE 90.1 2013 - CST'!$D$2,0.4+I302*0.02,I302*0.03),IF(ISBLANK(G302),IF(ISBLANK(H302),\"0\",VLOOKUP(H302,INDIRECT(\"BSSTTable_\"&$C$14),2,FALSE)),INDEX(INDIRECT(\"CSTTable_\"&$C$14),MATCH($C$16,INDIRECT(\"BldgTypes_\"&$C$14),0),MATCH(G302,INDIRECT(\"CSTTableTypes_\"&$C$14),0)))))","v":0},0,0,0,0,0,0,0,0,0,0,0,0,0,0,0,0,null,null,null,278,0,{"$f":"VLOOKUP(Worksheet!N302,code!$K$3:$M$13,3,FALSE)","v":{"$error":"#N/A"}},"","","","",""]
["-",null,null,null,1,0,null,null,null,null,null,0,0,null,null,null,null,null,{"$f":"IF(OR(ISBLANK($C$14),ISBLANK($C$16),ISBLANK($G$16),ISBLANK($G$17),AND(LEFT(G303,6)=\"Atrium\",ISBLANK(I303))=TRUE)=TRUE,0,IF(LEFT(G303,6)=\"Atrium\",IF(G303='ASHRAE 90.1 2013 - CST'!$D$2,0.4+I303*0.02,I303*0.03),IF(ISBLANK(G303),IF(ISBLANK(H303),\"0\",VLOOKUP(H303,INDIRECT(\"BSSTTable_\"&$C$14),2,FALSE)),INDEX(INDIRECT(\"CSTTable_\"&$C$14),MATCH($C$16,INDIRECT(\"BldgTypes_\"&$C$14),0),MATCH(G303,INDIRECT(\"CSTTableTypes_\"&$C$14),0)))))","v":0},0,0,0,0,0,0,0,0,0,0,0,0,0,0,0,0,null,null,null,279,0,{"$f":"VLOOKUP(Worksheet!N303,code!$K$3:$M$13,3,FALSE)","v":{"$error":"#N/A"}},"","","","",""]
["-",null,null,null,1,0,null,null,null,null,null,0,0,null,null,null,null,null,{"$f":"IF(OR(ISBLANK($C$14),ISBLANK($C$16),ISBLANK($G$16),ISBLANK($G$17),AND(LEFT(G304,6)=\"Atrium\",ISBLANK(I304))=TRUE)=TRUE,0,IF(LEFT(G304,6)=\"Atrium\",IF(G304='ASHRAE 90.1 2013 - CST'!$D$2,0.4+I304*0.02,I304*0.03),IF(ISBLANK(G304),IF(ISBLANK(H304),\"0\",VLOOKUP(H304,INDIRECT(\"BSSTTable_\"&$C$14),2,FALSE)),INDEX(INDIRECT(\"CSTTable_\"&$C$14),MATCH($C$16,INDIRECT(\"BldgTypes_\"&$C$14),0),MATCH(G304,INDIRECT(\"CSTTableTypes_\"&$C$14),0)))))","v":0},0,0,0,0,0,0,0,0,0,0,0,0,0,0,0,0,null,null,null,280,0,{"$f":"VLOOKUP(Worksheet!N304,code!$K$3:$M$13,3,FALSE)","v":{"$error":"#N/A"}},"","","","",""]
["-",null,null,null,1,{"$f":"B305*E305","v":0},null,null,null,null,null,0,0,null,null,null,null,null,{"$f":"IF(OR(ISBLANK($C$14),ISBLANK($C$16),ISBLANK($G$16),ISBLANK($G$17),AND(LEFT(G305,6)=\"Atrium\",ISBLANK(I305))=TRUE)=TRUE,0,IF(LEFT(G305,6)=\"Atrium\",IF(G305='ASHRAE 90.1 2013 - CST'!$D$2,0.4+I305*0.02,I305*0.03),IF(ISBLANK(G305),IF(ISBLANK(H305),\"0\",VLOOKUP(H305,INDIRECT(\"BSSTTable_\"&$C$14),2,FALSE)),INDEX(INDIRECT(\"CSTTable_\"&$C$14),MATCH($C$16,INDIRECT(\"BldgTypes_\"&$C$14),0),MATCH(G305,INDIRECT(\"CSTTableTypes_\"&$C$14),0)))))","v":0},0,0,0,0,0,0,0,0,0,0,0,0,{"$f":"IF(AND(NOT(ISNA(V305)),$AB305=\"y\"),X305,0)","v":0},{"$f":"IF(AND(NOT(ISNA(W305)),$AC305=\"y\"),Y305,0)","v":0},0,0,null,null,null,{"$f":"AM304+1","v":281},0,{"$f":"VLOOKUP(Worksheet!N305,code!$K$3:$M$13,3,FALSE)","v":{"$error":"#N/A"}},"","","","",""]
["-",null,null,null,1,0,null,null,null,null,null,0,0,null,null,null,null,null,{"$f":"IF(OR(ISBLANK($C$14),ISBLANK($C$16),ISBLANK($G$16),ISBLANK($G$17),AND(LEFT(G306,6)=\"Atrium\",ISBLANK(I306))=TRUE)=TRUE,0,IF(LEFT(G306,6)=\"Atrium\",IF(G306='ASHRAE 90.1 2013 - CST'!$D$2,0.4+I306*0.02,I306*0.03),IF(ISBLANK(G306),IF(ISBLANK(H306),\"0\",VLOOKUP(H306,INDIRECT(\"BSSTTable_\"&$C$14),2,FALSE)),INDEX(INDIRECT(\"CSTTable_\"&$C$14),MATCH($C$16,INDIRECT(\"BldgTypes_\"&$C$14),0),MATCH(G306,INDIRECT(\"CSTTableTypes_\"&$C$14),0)))))","v":0},0,0,0,0,0,0,0,0,0,0,0,0,0,0,0,0,null,null,null,282,0,{"$f":"VLOOKUP(Worksheet!N306,code!$K$3:$M$13,3,FALSE)","v":{"$error":"#N/A"}},"","","","",""]
["-",null,null,null,1,0,null,null,null,null,null,0,0,null,null,null,null,null,{"$f":"IF(OR(ISBLANK($C$14),ISBLANK($C$16),ISBLANK($G$16),ISBLANK($G$17),AND(LEFT(G307,6)=\"Atrium\",ISBLANK(I307))=TRUE)=TRUE,0,IF(LEFT(G307,6)=\"Atrium\",IF(G307='ASHRAE 90.1 2013 - CST'!$D$2,0.4+I307*0.02,I307*0.03),IF(ISBLANK(G307),IF(ISBLANK(H307),\"0\",VLOOKUP(H307,INDIRECT(\"BSSTTable_\"&$C$14),2,FALSE)),INDEX(INDIRECT(\"CSTTable_\"&$C$14),MATCH($C$16,INDIRECT(\"BldgTypes_\"&$C$14),0),MATCH(G307,INDIRECT(\"CSTTableTypes_\"&$C$14),0)))))","v":0},0,0,0,0,0,0,0,0,0,0,0,0,0,0,0,0,null,null,null,283,0,{"$f":"VLOOKUP(Worksheet!N307,code!$K$3:$M$13,3,FALSE)","v":{"$error":"#N/A"}},"","","","",""]
["-",null,null,null,1,0,null,null,null,null,null,0,0,null,null,null,null,null,{"$f":"IF(OR(ISBLANK($C$14),ISBLANK($C$16),ISBLANK($G$16),ISBLANK($G$17),AND(LEFT(G308,6)=\"Atrium\",ISBLANK(I308))=TRUE)=TRUE,0,IF(LEFT(G308,6)=\"Atrium\",IF(G308='ASHRAE 90.1 2013 - CST'!$D$2,0.4+I308*0.02,I308*0.03),IF(ISBLANK(G308),IF(ISBLANK(H308),\"0\",VLOOKUP(H308,INDIRECT(\"BSSTTable_\"&$C$14),2,FALSE)),INDEX(INDIRECT(\"CSTTable_\"&$C$14),MATCH($C$16,INDIRECT(\"BldgTypes_\"&$C$14),0),MATCH(G308,INDIRECT(\"CSTTableTypes_\"&$C$14),0)))))","v":0},0,0,0,0,0,0,0,0,0,0,0,0,0,0,0,0,null,null,null,284,0,{"$f":"VLOOKUP(Worksheet!N308,code!$K$3:$M$13,3,FALSE)","v":{"$error":"#N/A"}},"","","","",""]
["-",null,null,null,1,0,null,null,null,null,null,0,0,null,null,null,null,null,{"$f":"IF(OR(ISBLANK($C$14),ISBLANK($C$16),ISBLANK($G$16),ISBLANK($G$17),AND(LEFT(G309,6)=\"Atrium\",ISBLANK(I309))=TRUE)=TRUE,0,IF(LEFT(G309,6)=\"Atrium\",IF(G309='ASHRAE 90.1 2013 - CST'!$D$2,0.4+I309*0.02,I309*0.03),IF(ISBLANK(G309),IF(ISBLANK(H309),\"0\",VLOOKUP(H309,INDIRECT(\"BSSTTable_\"&$C$14),2,FALSE)),INDEX(INDIRECT(\"CSTTable_\"&$C$14),MATCH($C$16,INDIRECT(\"BldgTypes_\"&$C$14),0),MATCH(G309,INDIRECT(\"CSTTableTypes_\"&$C$14),0)))))","v":0},0,0,0,0,0,0,0,0,0,0,0,0,0,0,0,0,null,null,null,285,0,{"$f":"VLOOKUP(Worksheet!N309,code!$K$3:$M$13,3,FALSE)","v":{"$error":"#N/A"}},"","","","",""]
["-",null,null,null,1,0,null,null,null,null,null,0,0,null,null,null,null,null,{"$f":"IF(OR(ISBLANK($C$14),ISBLANK($C$16),ISBLANK($G$16),ISBLANK($G$17),AND(LEFT(G310,6)=\"Atrium\",ISBLANK(I310))=TRUE)=TRUE,0,IF(LEFT(G310,6)=\"Atrium\",IF(G310='ASHRAE 90.1 2013 - CST'!$D$2,0.4+I310*0.02,I310*0.03),IF(ISBLANK(G310),IF(ISBLANK(H310),\"0\",VLOOKUP(H310,INDIRECT(\"BSSTTable_\"&$C$14),2,FALSE)),INDEX(INDIRECT(\"CSTTable_\"&$C$14),MATCH($C$16,INDIRECT(\"BldgTypes_\"&$C$14),0),MATCH(G310,INDIRECT(\"CSTTableTypes_\"&$C$14),0)))))","v":0},0,0,0,0,0,0,0,0,0,0,0,0,0,0,0,0,null,null,null,286,0,{"$f":"VLOOKUP(Worksheet!N310,code!$K$3:$M$13,3,FALSE)","v":{"$error":"#N/A"}},"","","","",""]
["-",null,null,null,1,0,null,null,null,null,null,0,0,null,null,null,null,null,{"$f":"IF(OR(ISBLANK($C$14),ISBLANK($C$16),ISBLANK($G$16),ISBLANK($G$17),AND(LEFT(G311,6)=\"Atrium\",ISBLANK(I311))=TRUE)=TRUE,0,IF(LEFT(G311,6)=\"Atrium\",IF(G311='ASHRAE 90.1 2013 - CST'!$D$2,0.4+I311*0.02,I311*0.03),IF(ISBLANK(G311),IF(ISBLANK(H311),\"0\",VLOOKUP(H311,INDIRECT(\"BSSTTable_\"&$C$14),2,FALSE)),INDEX(INDIRECT(\"CSTTable_\"&$C$14),MATCH($C$16,INDIRECT(\"BldgTypes_\"&$C$14),0),MATCH(G311,INDIRECT(\"CSTTableTypes_\"&$C$14),0)))))","v":0},0,0,0,0,0,0,0,0,0,0,0,0,0,0,0,0,null,null,null,287,0,{"$f":"VLOOKUP(Worksheet!N311,code!$K$3:$M$13,3,FALSE)","v":{"$error":"#N/A"}},"","","","",""]
["-",null,null,null,1,0,null,null,null,null,null,0,0,null,null,null,null,null,{"$f":"IF(OR(ISBLANK($C$14),ISBLANK($C$16),ISBLANK($G$16),ISBLANK($G$17),AND(LEFT(G312,6)=\"Atrium\",ISBLANK(I312))=TRUE)=TRUE,0,IF(LEFT(G312,6)=\"Atrium\",IF(G312='ASHRAE 90.1 2013 - CST'!$D$2,0.4+I312*0.02,I312*0.03),IF(ISBLANK(G312),IF(ISBLANK(H312),\"0\",VLOOKUP(H312,INDIRECT(\"BSSTTable_\"&$C$14),2,FALSE)),INDEX(INDIRECT(\"CSTTable_\"&$C$14),MATCH($C$16,INDIRECT(\"BldgTypes_\"&$C$14),0),MATCH(G312,INDIRECT(\"CSTTableTypes_\"&$C$14),0)))))","v":0},0,0,0,0,0,0,0,0,0,0,0,0,0,0,0,0,null,null,null,288,0,{"$f":"VLOOKUP(Worksheet!N312,code!$K$3:$M$13,3,FALSE)","v":{"$error":"#N/A"}},"","","","",""]
["-",null,null,null,1,0,null,null,null,null,null,0,0,null,null,null,null,null,{"$f":"IF(OR(ISBLANK($C$14),ISBLANK($C$16),ISBLANK($G$16),ISBLANK($G$17),AND(LEFT(G313,6)=\"Atrium\",ISBLANK(I313))=TRUE)=TRUE,0,IF(LEFT(G313,6)=\"Atrium\",IF(G313='ASHRAE 90.1 2013 - CST'!$D$2,0.4+I313*0.02,I313*0.03),IF(ISBLANK(G313),IF(ISBLANK(H313),\"0\",VLOOKUP(H313,INDIRECT(\"BSSTTable_\"&$C$14),2,FALSE)),INDEX(INDIRECT(\"CSTTable_\"&$C$14),MATCH($C$16,INDIRECT(\"BldgTypes_\"&$C$14),0),MATCH(G313,INDIRECT(\"CSTTableTypes_\"&$C$14),0)))))","v":0},0,0,0,0,0,0,0,0,0,0,0,0,0,0,0,0,null,null,null,289,0,{"$f":"VLOOKUP(Worksheet!N313,code!$K$3:$M$13,3,FALSE)","v":{"$error":"#N/A"}},"","","","",""]
["-",null,null,null,1,0,null,null,null,null,null,0,0,null,null,null,null,null,{"$f":"IF(OR(ISBLANK($C$14),ISBLANK($C$16),ISBLANK($G$16),ISBLANK($G$17),AND(LEFT(G314,6)=\"Atrium\",ISBLANK(I314))=TRUE)=TRUE,0,IF(LEFT(G314,6)=\"Atrium\",IF(G314='ASHRAE 90.1 2013 - CST'!$D$2,0.4+I314*0.02,I314*0.03),IF(ISBLANK(G314),IF(ISBLANK(H314),\"0\",VLOOKUP(H314,INDIRECT(\"BSSTTable_\"&$C$14),2,FALSE)),INDEX(INDIRECT(\"CSTTable_\"&$C$14),MATCH($C$16,INDIRECT(\"BldgTypes_\"&$C$14),0),MATCH(G314,INDIRECT(\"CSTTableTypes_\"&$C$14),0)))))","v":0},0,0,0,0,0,0,0,0,0,0,0,0,0,0,0,0,null,null,null,290,0,{"$f":"VLOOKUP(Worksheet!N314,code!$K$3:$M$13,3,FALSE)","v":{"$error":"#N/A"}},"","","","",""]
["-",null,null,null,1,0,null,null,null,null,null,0,0,null,null,null,null,null,{"$f":"IF(OR(ISBLANK($C$14),ISBLANK($C$16),ISBLANK($G$16),ISBLANK($G$17),AND(LEFT(G315,6)=\"Atrium\",ISBLANK(I315))=TRUE)=TRUE,0,IF(LEFT(G315,6)=\"Atrium\",IF(G315='ASHRAE 90.1 2013 - CST'!$D$2,0.4+I315*0.02,I315*0.03),IF(ISBLANK(G315),IF(ISBLANK(H315),\"0\",VLOOKUP(H315,INDIRECT(\"BSSTTable_\"&$C$14),2,FALSE)),INDEX(INDIRECT(\"CSTTable_\"&$C$14),MATCH($C$16,INDIRECT(\"BldgTypes_\"&$C$14),0),MATCH(G315,INDIRECT(\"CSTTableTypes_\"&$C$14),0)))))","v":0},0,0,0,0,0,0,0,0,0,0,0,0,0,0,0,0,null,null,null,291,0,{"$f":"VLOOKUP(Worksheet!N315,code!$K$3:$M$13,3,FALSE)","v":{"$error":"#N/A"}},"","","","",""]
["-",null,null,null,1,0,null,null,null,null,null,0,0,null,null,null,null,null,{"$f":"IF(OR(ISBLANK($C$14),ISBLANK($C$16),ISBLANK($G$16),ISBLANK($G$17),AND(LEFT(G316,6)=\"Atrium\",ISBLANK(I316))=TRUE)=TRUE,0,IF(LEFT(G316,6)=\"Atrium\",IF(G316='ASHRAE 90.1 2013 - CST'!$D$2,0.4+I316*0.02,I316*0.03),IF(ISBLANK(G316),IF(ISBLANK(H316),\"0\",VLOOKUP(H316,INDIRECT(\"BSSTTable_\"&$C$14),2,FALSE)),INDEX(INDIRECT(\"CSTTable_\"&$C$14),MATCH($C$16,INDIRECT(\"BldgTypes_\"&$C$14),0),MATCH(G316,INDIRECT(\"CSTTableTypes_\"&$C$14),0)))))","v":0},0,0,0,0,0,0,0,0,0,0,0,0,0,0,0,0,null,null,null,292,0,{"$f":"VLOOKUP(Worksheet!N316,code!$K$3:$M$13,3,FALSE)","v":{"$error":"#N/A"}},"","","","",""]
["-",null,null,null,1,0,null,null,null,null,null,0,0,null,null,null,null,null,{"$f":"IF(OR(ISBLANK($C$14),ISBLANK($C$16),ISBLANK($G$16),ISBLANK($G$17),AND(LEFT(G317,6)=\"Atrium\",ISBLANK(I317))=TRUE)=TRUE,0,IF(LEFT(G317,6)=\"Atrium\",IF(G317='ASHRAE 90.1 2013 - CST'!$D$2,0.4+I317*0.02,I317*0.03),IF(ISBLANK(G317),IF(ISBLANK(H317),\"0\",VLOOKUP(H317,INDIRECT(\"BSSTTable_\"&$C$14),2,FALSE)),INDEX(INDIRECT(\"CSTTable_\"&$C$14),MATCH($C$16,INDIRECT(\"BldgTypes_\"&$C$14),0),MATCH(G317,INDIRECT(\"CSTTableTypes_\"&$C$14),0)))))","v":0},0,0,0,0,0,0,0,0,0,0,0,0,0,0,0,0,null,null,null,293,0,{"$f":"VLOOKUP(Worksheet!N317,code!$K$3:$M$13,3,FALSE)","v":{"$error":"#N/A"}},"","","","",""]
["-",null,null,null,1,0,null,null,null,null,null,0,0,null,null,null,null,null,{"$f":"IF(OR(ISBLANK($C$14),ISBLANK($C$16),ISBLANK($G$16),ISBLANK($G$17),AND(LEFT(G318,6)=\"Atrium\",ISBLANK(I318))=TRUE)=TRUE,0,IF(LEFT(G318,6)=\"Atrium\",IF(G318='ASHRAE 90.1 2013 - CST'!$D$2,0.4+I318*0.02,I318*0.03),IF(ISBLANK(G318),IF(ISBLANK(H318),\"0\",VLOOKUP(H318,INDIRECT(\"BSSTTable_\"&$C$14),2,FALSE)),INDEX(INDIRECT(\"CSTTable_\"&$C$14),MATCH($C$16,INDIRECT(\"BldgTypes_\"&$C$14),0),MATCH(G318,INDIRECT(\"CSTTableTypes_\"&$C$14),0)))))","v":0},0,0,0,0,0,0,0,0,0,0,0,0,0,0,0,0,null,null,null,294,0,{"$f":"VLOOKUP(Worksheet!N318,code!$K$3:$M$13,3,FALSE)","v":{"$error":"#N/A"}},"","","","",""]
["-",null,null,null,1,0,null,null,null,null,null,0,0,null,null,null,null,null,{"$f":"IF(OR(ISBLANK($C$14),ISBLANK($C$16),ISBLANK($G$16),ISBLANK($G$17),AND(LEFT(G319,6)=\"Atrium\",ISBLANK(I319))=TRUE)=TRUE,0,IF(LEFT(G319,6)=\"Atrium\",IF(G319='ASHRAE 90.1 2013 - CST'!$D$2,0.4+I319*0.02,I319*0.03),IF(ISBLANK(G319),IF(ISBLANK(H319),\"0\",VLOOKUP(H319,INDIRECT(\"BSSTTable_\"&$C$14),2,FALSE)),INDEX(INDIRECT(\"CSTTable_\"&$C$14),MATCH($C$16,INDIRECT(\"BldgTypes_\"&$C$14),0),MATCH(G319,INDIRECT(\"CSTTableTypes_\"&$C$14),0)))))","v":0},0,0,0,0,0,0,0,0,0,0,0,0,0,0,0,0,null,null,null,295,0,{"$f":"VLOOKUP(Worksheet!N319,code!$K$3:$M$13,3,FALSE)","v":{"$error":"#N/A"}},"","","","",""]
["-",null,null,null,1,0,null,null,null,null,null,0,0,null,null,null,null,null,{"$f":"IF(OR(ISBLANK($C$14),ISBLANK($C$16),ISBLANK($G$16),ISBLANK($G$17),AND(LEFT(G320,6)=\"Atrium\",ISBLANK(I320))=TRUE)=TRUE,0,IF(LEFT(G320,6)=\"Atrium\",IF(G320='ASHRAE 90.1 2013 - CST'!$D$2,0.4+I320*0.02,I320*0.03),IF(ISBLANK(G320),IF(ISBLANK(H320),\"0\",VLOOKUP(H320,INDIRECT(\"BSSTTable_\"&$C$14),2,FALSE)),INDEX(INDIRECT(\"CSTTable_\"&$C$14),MATCH($C$16,INDIRECT(\"BldgTypes_\"&$C$14),0),MATCH(G320,INDIRECT(\"CSTTableTypes_\"&$C$14),0)))))","v":0},0,0,0,0,0,0,0,0,0,0,0,0,0,0,0,0,null,null,null,296,0,{"$f":"VLOOKUP(Worksheet!N320,code!$K$3:$M$13,3,FALSE)","v":{"$error":"#N/A"}},"","","","",""]
["-",null,null,null,1,0,null,null,null,null,null,0,0,null,null,null,null,null,{"$f":"IF(OR(ISBLANK($C$14),ISBLANK($C$16),ISBLANK($G$16),ISBLANK($G$17),AND(LEFT(G321,6)=\"Atrium\",ISBLANK(I321))=TRUE)=TRUE,0,IF(LEFT(G321,6)=\"Atrium\",IF(G321='ASHRAE 90.1 2013 - CST'!$D$2,0.4+I321*0.02,I321*0.03),IF(ISBLANK(G321),IF(ISBLANK(H321),\"0\",VLOOKUP(H321,INDIRECT(\"BSSTTable_\"&$C$14),2,FALSE)),INDEX(INDIRECT(\"CSTTable_\"&$C$14),MATCH($C$16,INDIRECT(\"BldgTypes_\"&$C$14),0),MATCH(G321,INDIRECT(\"CSTTableTypes_\"&$C$14),0)))))","v":0},0,0,0,0,0,0,0,0,0,0,0,0,0,0,0,0,null,null,null,297,0,{"$f":"VLOOKUP(Worksheet!N321,code!$K$3:$M$13,3,FALSE)","v":{"$error":"#N/A"}},"","","","",""]
["-",null,null,null,1,0,null,null,null,null,null,0,0,null,null,null,null,null,{"$f":"IF(OR(ISBLANK($C$14),ISBLANK($C$16),ISBLANK($G$16),ISBLANK($G$17),AND(LEFT(G322,6)=\"Atrium\",ISBLANK(I322))=TRUE)=TRUE,0,IF(LEFT(G322,6)=\"Atrium\",IF(G322='ASHRAE 90.1 2013 - CST'!$D$2,0.4+I322*0.02,I322*0.03),IF(ISBLANK(G322),IF(ISBLANK(H322),\"0\",VLOOKUP(H322,INDIRECT(\"BSSTTable_\"&$C$14),2,FALSE)),INDEX(INDIRECT(\"CSTTable_\"&$C$14),MATCH($C$16,INDIRECT(\"BldgTypes_\"&$C$14),0),MATCH(G322,INDIRECT(\"CSTTableTypes_\"&$C$14),0)))))","v":0},0,0,0,0,0,0,0,0,0,0,0,0,0,0,0,0,null,null,null,298,0,{"$f":"VLOOKUP(Worksheet!N322,code!$K$3:$M$13,3,FALSE)","v":{"$error":"#N/A"}},"","","","",""]
["-",null,null,null,1,0,null,null,null,null,null,0,0,null,null,null,null,null,{"$f":"IF(OR(ISBLANK($C$14),ISBLANK($C$16),ISBLANK($G$16),ISBLANK($G$17),AND(LEFT(G323,6)=\"Atrium\",ISBLANK(I323))=TRUE)=TRUE,0,IF(LEFT(G323,6)=\"Atrium\",IF(G323='ASHRAE 90.1 2013 - CST'!$D$2,0.4+I323*0.02,I323*0.03),IF(ISBLANK(G323),IF(ISBLANK(H323),\"0\",VLOOKUP(H323,INDIRECT(\"BSSTTable_\"&$C$14),2,FALSE)),INDEX(INDIRECT(\"CSTTable_\"&$C$14),MATCH($C$16,INDIRECT(\"BldgTypes_\"&$C$14),0),MATCH(G323,INDIRECT(\"CSTTableTypes_\"&$C$14),0)))))","v":0},0,0,0,0,0,0,0,0,0,0,0,0,0,0,0,0,null,null,null,299,0,{"$f":"VLOOKUP(Worksheet!N323,code!$K$3:$M$13,3,FALSE)","v":{"$error":"#N/A"}},"","","","",""]
["-",null,null,null,1,0,null,null,null,null,null,0,0,null,null,null,null,null,{"$f":"IF(OR(ISBLANK($C$14),ISBLANK($C$16),ISBLANK($G$16),ISBLANK($G$17),AND(LEFT(G324,6)=\"Atrium\",ISBLANK(I324))=TRUE)=TRUE,0,IF(LEFT(G324,6)=\"Atrium\",IF(G324='ASHRAE 90.1 2013 - CST'!$D$2,0.4+I324*0.02,I324*0.03),IF(ISBLANK(G324),IF(ISBLANK(H324),\"0\",VLOOKUP(H324,INDIRECT(\"BSSTTable_\"&$C$14),2,FALSE)),INDEX(INDIRECT(\"CSTTable_\"&$C$14),MATCH($C$16,INDIRECT(\"BldgTypes_\"&$C$14),0),MATCH(G324,INDIRECT(\"CSTTableTypes_\"&$C$14),0)))))","v":0},0,0,0,0,0,0,0,0,0,0,0,0,0,0,0,0,null,null,null,300,0,{"$f":"VLOOKUP(Worksheet!N324,code!$K$3:$M$13,3,FALSE)","v":{"$error":"#N/A"}},"","","","",""]
["-",null,null,null,1,0,null,null,null,null,null,0,0,null,null,null,null,null,{"$f":"IF(OR(ISBLANK($C$14),ISBLANK($C$16),ISBLANK($G$16),ISBLANK($G$17),AND(LEFT(G325,6)=\"Atrium\",ISBLANK(I325))=TRUE)=TRUE,0,IF(LEFT(G325,6)=\"Atrium\",IF(G325='ASHRAE 90.1 2013 - CST'!$D$2,0.4+I325*0.02,I325*0.03),IF(ISBLANK(G325),IF(ISBLANK(H325),\"0\",VLOOKUP(H325,INDIRECT(\"BSSTTable_\"&$C$14),2,FALSE)),INDEX(INDIRECT(\"CSTTable_\"&$C$14),MATCH($C$16,INDIRECT(\"BldgTypes_\"&$C$14),0),MATCH(G325,INDIRECT(\"CSTTableTypes_\"&$C$14),0)))))","v":0},0,0,0,0,0,0,0,0,0,0,0,0,0,0,0,0,null,null,null,301,0,{"$f":"VLOOKUP(Worksheet!N325,code!$K$3:$M$13,3,FALSE)","v":{"$error":"#N/A"}},"","","","",""]
["-",null,null,null,1,0,null,null,null,null,null,0,0,null,null,null,null,null,{"$f":"IF(OR(ISBLANK($C$14),ISBLANK($C$16),ISBLANK($G$16),ISBLANK($G$17),AND(LEFT(G326,6)=\"Atrium\",ISBLANK(I326))=TRUE)=TRUE,0,IF(LEFT(G326,6)=\"Atrium\",IF(G326='ASHRAE 90.1 2013 - CST'!$D$2,0.4+I326*0.02,I326*0.03),IF(ISBLANK(G326),IF(ISBLANK(H326),\"0\",VLOOKUP(H326,INDIRECT(\"BSSTTable_\"&$C$14),2,FALSE)),INDEX(INDIRECT(\"CSTTable_\"&$C$14),MATCH($C$16,INDIRECT(\"BldgTypes_\"&$C$14),0),MATCH(G326,INDIRECT(\"CSTTableTypes_\"&$C$14),0)))))","v":0},0,0,0,0,0,0,0,0,0,0,0,0,0,0,0,0,null,null,null,302,0,{"$f":"VLOOKUP(Worksheet!N326,code!$K$3:$M$13,3,FALSE)","v":{"$error":"#N/A"}},"","","","",""]
["-",null,null,null,1,0,null,null,null,null,null,0,0,null,null,null,null,null,{"$f":"IF(OR(ISBLANK($C$14),ISBLANK($C$16),ISBLANK($G$16),ISBLANK($G$17),AND(LEFT(G327,6)=\"Atrium\",ISBLANK(I327))=TRUE)=TRUE,0,IF(LEFT(G327,6)=\"Atrium\",IF(G327='ASHRAE 90.1 2013 - CST'!$D$2,0.4+I327*0.02,I327*0.03),IF(ISBLANK(G327),IF(ISBLANK(H327),\"0\",VLOOKUP(H327,INDIRECT(\"BSSTTable_\"&$C$14),2,FALSE)),INDEX(INDIRECT(\"CSTTable_\"&$C$14),MATCH($C$16,INDIRECT(\"BldgTypes_\"&$C$14),0),MATCH(G327,INDIRECT(\"CSTTableTypes_\"&$C$14),0)))))","v":0},0,0,0,0,0,0,0,0,0,0,0,0,0,0,0,0,null,null,null,303,0,{"$f":"VLOOKUP(Worksheet!N327,code!$K$3:$M$13,3,FALSE)","v":{"$error":"#N/A"}},"","","","",""]
["-",null,null,null,1,0,null,null,null,null,null,0,0,null,null,null,null,null,{"$f":"IF(OR(ISBLANK($C$14),ISBLANK($C$16),ISBLANK($G$16),ISBLANK($G$17),AND(LEFT(G328,6)=\"Atrium\",ISBLANK(I328))=TRUE)=TRUE,0,IF(LEFT(G328,6)=\"Atrium\",IF(G328='ASHRAE 90.1 2013 - CST'!$D$2,0.4+I328*0.02,I328*0.03),IF(ISBLANK(G328),IF(ISBLANK(H328),\"0\",VLOOKUP(H328,INDIRECT(\"BSSTTable_\"&$C$14),2,FALSE)),INDEX(INDIRECT(\"CSTTable_\"&$C$14),MATCH($C$16,INDIRECT(\"BldgTypes_\"&$C$14),0),MATCH(G328,INDIRECT(\"CSTTableTypes_\"&$C$14),0)))))","v":0},0,0,0,0,0,0,0,0,0,0,0,0,0,0,0,0,null,null,null,304,0,{"$f":"VLOOKUP(Worksheet!N328,code!$K$3:$M$13,3,FALSE)","v":{"$error":"#N/A"}},"","","","",""]
["-",null,null,null,1,0,null,null,null,null,null,0,0,null,null,null,null,null,{"$f":"IF(OR(ISBLANK($C$14),ISBLANK($C$16),ISBLANK($G$16),ISBLANK($G$17),AND(LEFT(G329,6)=\"Atrium\",ISBLANK(I329))=TRUE)=TRUE,0,IF(LEFT(G329,6)=\"Atrium\",IF(G329='ASHRAE 90.1 2013 - CST'!$D$2,0.4+I329*0.02,I329*0.03),IF(ISBLANK(G329),IF(ISBLANK(H329),\"0\",VLOOKUP(H329,INDIRECT(\"BSSTTable_\"&$C$14),2,FALSE)),INDEX(INDIRECT(\"CSTTable_\"&$C$14),MATCH($C$16,INDIRECT(\"BldgTypes_\"&$C$14),0),MATCH(G329,INDIRECT(\"CSTTableTypes_\"&$C$14),0)))))","v":0},0,0,0,0,0,0,0,0,0,0,0,0,0,0,0,0,null,null,null,305,0,{"$f":"VLOOKUP(Worksheet!N329,code!$K$3:$M$13,3,FALSE)","v":{"$error":"#N/A"}},"","","","",""]
["-",null,null,null,1,0,null,null,null,null,null,0,0,null,null,null,null,null,{"$f":"IF(OR(ISBLANK($C$14),ISBLANK($C$16),ISBLANK($G$16),ISBLANK($G$17),AND(LEFT(G330,6)=\"Atrium\",ISBLANK(I330))=TRUE)=TRUE,0,IF(LEFT(G330,6)=\"Atrium\",IF(G330='ASHRAE 90.1 2013 - CST'!$D$2,0.4+I330*0.02,I330*0.03),IF(ISBLANK(G330),IF(ISBLANK(H330),\"0\",VLOOKUP(H330,INDIRECT(\"BSSTTable_\"&$C$14),2,FALSE)),INDEX(INDIRECT(\"CSTTable_\"&$C$14),MATCH($C$16,INDIRECT(\"BldgTypes_\"&$C$14),0),MATCH(G330,INDIRECT(\"CSTTableTypes_\"&$C$14),0)))))","v":0},0,0,0,0,0,0,0,0,0,0,0,0,0,0,0,0,null,null,null,306,0,{"$f":"VLOOKUP(Worksheet!N330,code!$K$3:$M$13,3,FALSE)","v":{"$error":"#N/A"}},"","","","",""]
["-",null,null,null,1,0,null,null,null,null,null,0,0,null,null,null,null,null,{"$f":"IF(OR(ISBLANK($C$14),ISBLANK($C$16),ISBLANK($G$16),ISBLANK($G$17),AND(LEFT(G331,6)=\"Atrium\",ISBLANK(I331))=TRUE)=TRUE,0,IF(LEFT(G331,6)=\"Atrium\",IF(G331='ASHRAE 90.1 2013 - CST'!$D$2,0.4+I331*0.02,I331*0.03),IF(ISBLANK(G331),IF(ISBLANK(H331),\"0\",VLOOKUP(H331,INDIRECT(\"BSSTTable_\"&$C$14),2,FALSE)),INDEX(INDIRECT(\"CSTTable_\"&$C$14),MATCH($C$16,INDIRECT(\"BldgTypes_\"&$C$14),0),MATCH(G331,INDIRECT(\"CSTTableTypes_\"&$C$14),0)))))","v":0},0,0,0,0,0,0,0,0,0,0,0,0,0,0,0,0,null,null,null,307,0,{"$f":"VLOOKUP(Worksheet!N331,code!$K$3:$M$13,3,FALSE)","v":{"$error":"#N/A"}},"","","","",""]
["-",null,null,null,1,0,null,null,null,null,null,0,0,null,null,null,null,null,{"$f":"IF(OR(ISBLANK($C$14),ISBLANK($C$16),ISBLANK($G$16),ISBLANK($G$17),AND(LEFT(G332,6)=\"Atrium\",ISBLANK(I332))=TRUE)=TRUE,0,IF(LEFT(G332,6)=\"Atrium\",IF(G332='ASHRAE 90.1 2013 - CST'!$D$2,0.4+I332*0.02,I332*0.03),IF(ISBLANK(G332),IF(ISBLANK(H332),\"0\",VLOOKUP(H332,INDIRECT(\"BSSTTable_\"&$C$14),2,FALSE)),INDEX(INDIRECT(\"CSTTable_\"&$C$14),MATCH($C$16,INDIRECT(\"BldgTypes_\"&$C$14),0),MATCH(G332,INDIRECT(\"CSTTableTypes_\"&$C$14),0)))))","v":0},0,0,0,0,0,0,0,0,0,0,0,0,0,0,0,0,null,null,null,308,0,{"$f":"VLOOKUP(Worksheet!N332,code!$K$3:$M$13,3,FALSE)","v":{"$error":"#N/A"}},"","","","",""]
["-",null,null,null,1,0,null,null,null,null,null,0,0,null,null,null,null,null,{"$f":"IF(OR(ISBLANK($C$14),ISBLANK($C$16),ISBLANK($G$16),ISBLANK($G$17),AND(LEFT(G333,6)=\"Atrium\",ISBLANK(I333))=TRUE)=TRUE,0,IF(LEFT(G333,6)=\"Atrium\",IF(G333='ASHRAE 90.1 2013 - CST'!$D$2,0.4+I333*0.02,I333*0.03),IF(ISBLANK(G333),IF(ISBLANK(H333),\"0\",VLOOKUP(H333,INDIRECT(\"BSSTTable_\"&$C$14),2,FALSE)),INDEX(INDIRECT(\"CSTTable_\"&$C$14),MATCH($C$16,INDIRECT(\"BldgTypes_\"&$C$14),0),MATCH(G333,INDIRECT(\"CSTTableTypes_\"&$C$14),0)))))","v":0},0,0,0,0,0,0,0,0,0,0,0,0,0,0,0,0,null,null,null,309,0,{"$f":"VLOOKUP(Worksheet!N333,code!$K$3:$M$13,3,FALSE)","v":{"$error":"#N/A"}},"","","","",""]
["-",null,null,null,1,0,null,null,null,null,null,0,0,null,null,null,null,null,{"$f":"IF(OR(ISBLANK($C$14),ISBLANK($C$16),ISBLANK($G$16),ISBLANK($G$17),AND(LEFT(G334,6)=\"Atrium\",ISBLANK(I334))=TRUE)=TRUE,0,IF(LEFT(G334,6)=\"Atrium\",IF(G334='ASHRAE 90.1 2013 - CST'!$D$2,0.4+I334*0.02,I334*0.03),IF(ISBLANK(G334),IF(ISBLANK(H334),\"0\",VLOOKUP(H334,INDIRECT(\"BSSTTable_\"&$C$14),2,FALSE)),INDEX(INDIRECT(\"CSTTable_\"&$C$14),MATCH($C$16,INDIRECT(\"BldgTypes_\"&$C$14),0),MATCH(G334,INDIRECT(\"CSTTableTypes_\"&$C$14),0)))))","v":0},0,0,0,0,0,0,0,0,0,0,0,0,0,0,0,0,null,null,null,310,0,{"$f":"VLOOKUP(Worksheet!N334,code!$K$3:$M$13,3,FALSE)","v":{"$error":"#N/A"}},"","","","",""]
["-",null,null,null,1,0,null,null,null,null,null,0,0,null,null,null,null,null,{"$f":"IF(OR(ISBLANK($C$14),ISBLANK($C$16),ISBLANK($G$16),ISBLANK($G$17),AND(LEFT(G335,6)=\"Atrium\",ISBLANK(I335))=TRUE)=TRUE,0,IF(LEFT(G335,6)=\"Atrium\",IF(G335='ASHRAE 90.1 2013 - CST'!$D$2,0.4+I335*0.02,I335*0.03),IF(ISBLANK(G335),IF(ISBLANK(H335),\"0\",VLOOKUP(H335,INDIRECT(\"BSSTTable_\"&$C$14),2,FALSE)),INDEX(INDIRECT(\"CSTTable_\"&$C$14),MATCH($C$16,INDIRECT(\"BldgTypes_\"&$C$14),0),MATCH(G335,INDIRECT(\"CSTTableTypes_\"&$C$14),0)))))","v":0},0,0,0,0,0,0,0,0,0,0,0,0,0,0,0,0,null,null,null,311,0,{"$f":"VLOOKUP(Worksheet!N335,code!$K$3:$M$13,3,FALSE)","v":{"$error":"#N/A"}},"","","","",""]
["-",null,null,null,1,0,null,null,null,null,null,0,0,null,null,null,null,null,{"$f":"IF(OR(ISBLANK($C$14),ISBLANK($C$16),ISBLANK($G$16),ISBLANK($G$17),AND(LEFT(G336,6)=\"Atrium\",ISBLANK(I336))=TRUE)=TRUE,0,IF(LEFT(G336,6)=\"Atrium\",IF(G336='ASHRAE 90.1 2013 - CST'!$D$2,0.4+I336*0.02,I336*0.03),IF(ISBLANK(G336),IF(ISBLANK(H336),\"0\",VLOOKUP(H336,INDIRECT(\"BSSTTable_\"&$C$14),2,FALSE)),INDEX(INDIRECT(\"CSTTable_\"&$C$14),MATCH($C$16,INDIRECT(\"BldgTypes_\"&$C$14),0),MATCH(G336,INDIRECT(\"CSTTableTypes_\"&$C$14),0)))))","v":0},0,0,0,0,0,0,0,0,0,0,0,0,0,0,0,0,null,null,null,312,0,{"$f":"VLOOKUP(Worksheet!N336,code!$K$3:$M$13,3,FALSE)","v":{"$error":"#N/A"}},"","","","",""]
["-",null,null,null,1,0,null,null,null,null,null,0,0,null,null,null,null,null,{"$f":"IF(OR(ISBLANK($C$14),ISBLANK($C$16),ISBLANK($G$16),ISBLANK($G$17),AND(LEFT(G337,6)=\"Atrium\",ISBLANK(I337))=TRUE)=TRUE,0,IF(LEFT(G337,6)=\"Atrium\",IF(G337='ASHRAE 90.1 2013 - CST'!$D$2,0.4+I337*0.02,I337*0.03),IF(ISBLANK(G337),IF(ISBLANK(H337),\"0\",VLOOKUP(H337,INDIRECT(\"BSSTTable_\"&$C$14),2,FALSE)),INDEX(INDIRECT(\"CSTTable_\"&$C$14),MATCH($C$16,INDIRECT(\"BldgTypes_\"&$C$14),0),MATCH(G337,INDIRECT(\"CSTTableTypes_\"&$C$14),0)))))","v":0},0,0,0,0,0,0,0,0,0,0,0,0,0,0,0,0,null,null,null,313,0,{"$f":"VLOOKUP(Worksheet!N337,code!$K$3:$M$13,3,FALSE)","v":{"$error":"#N/A"}},"","","","",""]
["-",null,null,null,1,0,null,null,null,null,null,0,0,null,null,null,null,null,{"$f":"IF(OR(ISBLANK($C$14),ISBLANK($C$16),ISBLANK($G$16),ISBLANK($G$17),AND(LEFT(G338,6)=\"Atrium\",ISBLANK(I338))=TRUE)=TRUE,0,IF(LEFT(G338,6)=\"Atrium\",IF(G338='ASHRAE 90.1 2013 - CST'!$D$2,0.4+I338*0.02,I338*0.03),IF(ISBLANK(G338),IF(ISBLANK(H338),\"0\",VLOOKUP(H338,INDIRECT(\"BSSTTable_\"&$C$14),2,FALSE)),INDEX(INDIRECT(\"CSTTable_\"&$C$14),MATCH($C$16,INDIRECT(\"BldgTypes_\"&$C$14),0),MATCH(G338,INDIRECT(\"CSTTableTypes_\"&$C$14),0)))))","v":0},0,0,0,0,0,0,0,0,0,0,0,0,0,0,0,0,null,null,null,314,0,{"$f":"VLOOKUP(Worksheet!N338,code!$K$3:$M$13,3,FALSE)","v":{"$error":"#N/A"}},"","","","",""]
["-",null,null,null,1,0,null,null,null,null,null,0,0,null,null,null,null,null,{"$f":"IF(OR(ISBLANK($C$14),ISBLANK($C$16),ISBLANK($G$16),ISBLANK($G$17),AND(LEFT(G339,6)=\"Atrium\",ISBLANK(I339))=TRUE)=TRUE,0,IF(LEFT(G339,6)=\"Atrium\",IF(G339='ASHRAE 90.1 2013 - CST'!$D$2,0.4+I339*0.02,I339*0.03),IF(ISBLANK(G339),IF(ISBLANK(H339),\"0\",VLOOKUP(H339,INDIRECT(\"BSSTTable_\"&$C$14),2,FALSE)),INDEX(INDIRECT(\"CSTTable_\"&$C$14),MATCH($C$16,INDIRECT(\"BldgTypes_\"&$C$14),0),MATCH(G339,INDIRECT(\"CSTTableTypes_\"&$C$14),0)))))","v":0},0,0,0,0,0,0,0,0,0,0,0,0,0,0,0,0,null,null,null,315,0,{"$f":"VLOOKUP(Worksheet!N339,code!$K$3:$M$13,3,FALSE)","v":{"$error":"#N/A"}},"","","","",""]
["-",null,null,null,1,0,null,null,null,null,null,0,0,null,null,null,null,null,{"$f":"IF(OR(ISBLANK($C$14),ISBLANK($C$16),ISBLANK($G$16),ISBLANK($G$17),AND(LEFT(G340,6)=\"Atrium\",ISBLANK(I340))=TRUE)=TRUE,0,IF(LEFT(G340,6)=\"Atrium\",IF(G340='ASHRAE 90.1 2013 - CST'!$D$2,0.4+I340*0.02,I340*0.03),IF(ISBLANK(G340),IF(ISBLANK(H340),\"0\",VLOOKUP(H340,INDIRECT(\"BSSTTable_\"&$C$14),2,FALSE)),INDEX(INDIRECT(\"CSTTable_\"&$C$14),MATCH($C$16,INDIRECT(\"BldgTypes_\"&$C$14),0),MATCH(G340,INDIRECT(\"CSTTableTypes_\"&$C$14),0)))))","v":0},0,0,0,0,0,0,0,0,0,0,0,0,0,0,0,0,null,null,null,316,0,{"$f":"VLOOKUP(Worksheet!N340,code!$K$3:$M$13,3,FALSE)","v":{"$error":"#N/A"}},"","","","",""]
["-",null,null,null,1,0,null,null,null,null,null,0,0,null,null,null,null,null,{"$f":"IF(OR(ISBLANK($C$14),ISBLANK($C$16),ISBLANK($G$16),ISBLANK($G$17),AND(LEFT(G341,6)=\"Atrium\",ISBLANK(I341))=TRUE)=TRUE,0,IF(LEFT(G341,6)=\"Atrium\",IF(G341='ASHRAE 90.1 2013 - CST'!$D$2,0.4+I341*0.02,I341*0.03),IF(ISBLANK(G341),IF(ISBLANK(H341),\"0\",VLOOKUP(H341,INDIRECT(\"BSSTTable_\"&$C$14),2,FALSE)),INDEX(INDIRECT(\"CSTTable_\"&$C$14),MATCH($C$16,INDIRECT(\"BldgTypes_\"&$C$14),0),MATCH(G341,INDIRECT(\"CSTTableTypes_\"&$C$14),0)))))","v":0},0,0,0,0,0,0,0,0,0,0,0,0,0,0,0,0,null,null,null,317,0,{"$f":"VLOOKUP(Worksheet!N341,code!$K$3:$M$13,3,FALSE)","v":{"$error":"#N/A"}},"","","","",""]
["-",null,null,null,1,0,null,null,null,null,null,0,0,null,null,null,null,null,{"$f":"IF(OR(ISBLANK($C$14),ISBLANK($C$16),ISBLANK($G$16),ISBLANK($G$17),AND(LEFT(G342,6)=\"Atrium\",ISBLANK(I342))=TRUE)=TRUE,0,IF(LEFT(G342,6)=\"Atrium\",IF(G342='ASHRAE 90.1 2013 - CST'!$D$2,0.4+I342*0.02,I342*0.03),IF(ISBLANK(G342),IF(ISBLANK(H342),\"0\",VLOOKUP(H342,INDIRECT(\"BSSTTable_\"&$C$14),2,FALSE)),INDEX(INDIRECT(\"CSTTable_\"&$C$14),MATCH($C$16,INDIRECT(\"BldgTypes_\"&$C$14),0),MATCH(G342,INDIRECT(\"CSTTableTypes_\"&$C$14),0)))))","v":0},0,0,0,0,0,0,0,0,0,0,0,0,0,0,0,0,null,null,null,318,0,{"$f":"VLOOKUP(Worksheet!N342,code!$K$3:$M$13,3,FALSE)","v":{"$error":"#N/A"}},"","","","",""]
["-",null,null,null,1,0,null,null,null,null,null,0,0,null,null,null,null,null,{"$f":"IF(OR(ISBLANK($C$14),ISBLANK($C$16),ISBLANK($G$16),ISBLANK($G$17),AND(LEFT(G343,6)=\"Atrium\",ISBLANK(I343))=TRUE)=TRUE,0,IF(LEFT(G343,6)=\"Atrium\",IF(G343='ASHRAE 90.1 2013 - CST'!$D$2,0.4+I343*0.02,I343*0.03),IF(ISBLANK(G343),IF(ISBLANK(H343),\"0\",VLOOKUP(H343,INDIRECT(\"BSSTTable_\"&$C$14),2,FALSE)),INDEX(INDIRECT(\"CSTTable_\"&$C$14),MATCH($C$16,INDIRECT(\"BldgTypes_\"&$C$14),0),MATCH(G343,INDIRECT(\"CSTTableTypes_\"&$C$14),0)))))","v":0},0,0,0,0,0,0,0,0,0,0,0,0,0,0,0,0,null,null,null,319,0,{"$f":"VLOOKUP(Worksheet!N343,code!$K$3:$M$13,3,FALSE)","v":{"$error":"#N/A"}},"","","","",""]
["-",null,null,null,1,0,null,null,null,null,null,0,0,null,null,null,null,null,{"$f":"IF(OR(ISBLANK($C$14),ISBLANK($C$16),ISBLANK($G$16),ISBLANK($G$17),AND(LEFT(G344,6)=\"Atrium\",ISBLANK(I344))=TRUE)=TRUE,0,IF(LEFT(G344,6)=\"Atrium\",IF(G344='ASHRAE 90.1 2013 - CST'!$D$2,0.4+I344*0.02,I344*0.03),IF(ISBLANK(G344),IF(ISBLANK(H344),\"0\",VLOOKUP(H344,INDIRECT(\"BSSTTable_\"&$C$14),2,FALSE)),INDEX(INDIRECT(\"CSTTable_\"&$C$14),MATCH($C$16,INDIRECT(\"BldgTypes_\"&$C$14),0),MATCH(G344,INDIRECT(\"CSTTableTypes_\"&$C$14),0)))))","v":0},0,0,0,0,0,0,0,0,0,0,0,0,0,0,0,0,null,null,null,320,0,{"$f":"VLOOKUP(Worksheet!N344,code!$K$3:$M$13,3,FALSE)","v":{"$error":"#N/A"}},"","","","",""]
["-",null,null,null,1,0,null,null,null,null,null,0,0,null,null,null,null,null,{"$f":"IF(OR(ISBLANK($C$14),ISBLANK($C$16),ISBLANK($G$16),ISBLANK($G$17),AND(LEFT(G345,6)=\"Atrium\",ISBLANK(I345))=TRUE)=TRUE,0,IF(LEFT(G345,6)=\"Atrium\",IF(G345='ASHRAE 90.1 2013 - CST'!$D$2,0.4+I345*0.02,I345*0.03),IF(ISBLANK(G345),IF(ISBLANK(H345),\"0\",VLOOKUP(H345,INDIRECT(\"BSSTTable_\"&$C$14),2,FALSE)),INDEX(INDIRECT(\"CSTTable_\"&$C$14),MATCH($C$16,INDIRECT(\"BldgTypes_\"&$C$14),0),MATCH(G345,INDIRECT(\"CSTTableTypes_\"&$C$14),0)))))","v":0},0,0,0,0,0,0,0,0,0,0,0,0,0,0,0,0,null,null,null,321,0,{"$f":"VLOOKUP(Worksheet!N345,code!$K$3:$M$13,3,FALSE)","v":{"$error":"#N/A"}},{"$f":"IF($AR$21<>0, $AF$8/$AR$21*AR345, \"\")","v":""},"","",{"$f":"IF($AR$21<>0, $AG$8/$AR$21*$AR345, \"\")","v":""},""]
["-",null,null,null,1,0,null,null,null,null,null,{"$f":"C346*$E346","v":0},{"$f":"D346*$E346","v":0},null,null,null,null,null,{"$f":"IF(OR(ISBLANK($C$14),ISBLANK($C$16),ISBLANK($G$16),ISBLANK($G$17),AND(LEFT(G346,6)=\"Atrium\",ISBLANK(I346))=TRUE)=TRUE,0,IF(LEFT(G346,6)=\"Atrium\",IF(G346='ASHRAE 90.1 2013 - CST'!$D$2,0.4+I346*0.02,I346*0.03),IF(ISBLANK(G346),IF(ISBLANK(H346),\"0\",VLOOKUP(H346,INDIRECT(\"BSSTTable_\"&$C$14),2,FALSE)),INDEX(INDIRECT(\"CSTTable_\"&$C$14),MATCH($C$16,INDIRECT(\"BldgTypes_\"&$C$14),0),MATCH(G346,INDIRECT(\"CSTTableTypes_\"&$C$14),0)))))","v":0},{"$f":"S346","v":0},{"$f":"T346*F346","v":0},{"$f":"L346*P346","v":0},{"$f":"M346*P346","v":0},{"$f":"spaceSum(ROW(V346), COLUMN(V346))","v":0},{"$f":"spaceSum(ROW(W346), COLUMN(W346))","v":0},{"$f":"spaceSumIfYes(ROW(L346), COLUMN(L346), COLUMN(K346))","v":0},{"$f":"spaceSumIfYes(ROW(M346), COLUMN(M346), COLUMN(K346))","v":0},{"$f":"IF(B346=0,0,IF(AND(Z346>0,(U346-X346>0)),\"Y\",\"N\"))","v":0},{"$f":"IF(B346=0,0,IF(AND(AA346>0,(U346-Y346>0)),\"Y\",\"N\"))","v":0},{"$f":"IF(AND(NOT(ISNA(T346))),F346,0)","v":0},{"$f":"IF(NOT(ISNA(U346)),U346,0)","v":0},0,0,{"$f":"IF(AND(NOT(ISNA(X346)),$AB346=\"y\"),Z346,0)","v":0},{"$f":"IF(AND(NOT(ISNA(Y346)),$AC346=\"y\"),AA346,0)","v":0},null,null,null,322,{"$f":"IF(V346>0, IF(ISERROR(V346)=FALSE,V346),IF(ISERROR(W346)=FALSE,W346))","v":0},{"$f":"VLOOKUP(Worksheet!N346,code!$K$3:$M$13,3,FALSE)","v":{"$error":"#N/A"}},"",{"$f":"IF($AR$21<>0, $V$16/$AR$21*AR346, \"\")","v":""},{"$f":"IF(ISERROR(AN346)=FALSE,IF(ISERROR(AO346)=FALSE,AO346*AN346,\"\"),\"\")","v":""},"",{"$f":"IF($AR$21<>0, $V$17/$AR$21*$AR346, \"\")","v":""}]
["-",null,null,null,1,0,null,null,null,null,null,0,0,null,null,null,null,null,{"$f":"IF(OR(ISBLANK($C$14),ISBLANK($C$16),ISBLANK($G$16),ISBLANK($G$17),AND(LEFT(G347,6)=\"Atrium\",ISBLANK(I347))=TRUE)=TRUE,0,IF(LEFT(G347,6)=\"Atrium\",IF(G347='ASHRAE 90.1 2013 - CST'!$D$2,0.4+I347*0.02,I347*0.03),IF(ISBLANK(G347),IF(ISBLANK(H347),\"0\",VLOOKUP(H347,INDIRECT(\"BSSTTable_\"&$C$14),2,FALSE)),INDEX(INDIRECT(\"CSTTable_\"&$C$14),MATCH($C$16,INDIRECT(\"BldgTypes_\"&$C$14),0),MATCH(G347,INDIRECT(\"CSTTableTypes_\"&$C$14),0)))))","v":0},0,0,0,0,0,0,0,0,0,0,0,0,0,0,0,0,null,null,null,323,0,{"$f":"VLOOKUP(Worksheet!N347,code!$K$3:$M$13,3,FALSE)","v":{"$error":"#N/A"}},"","","","",""]
["-",null,null,null,1,0,null,null,null,null,null,0,0,null,null,null,null,null,{"$f":"IF(OR(ISBLANK($C$14),ISBLANK($C$16),ISBLANK($G$16),ISBLANK($G$17),AND(LEFT(G348,6)=\"Atrium\",ISBLANK(I348))=TRUE)=TRUE,0,IF(LEFT(G348,6)=\"Atrium\",IF(G348='ASHRAE 90.1 2013 - CST'!$D$2,0.4+I348*0.02,I348*0.03),IF(ISBLANK(G348),IF(ISBLANK(H348),\"0\",VLOOKUP(H348,INDIRECT(\"BSSTTable_\"&$C$14),2,FALSE)),INDEX(INDIRECT(\"CSTTable_\"&$C$14),MATCH($C$16,INDIRECT(\"BldgTypes_\"&$C$14),0),MATCH(G348,INDIRECT(\"CSTTableTypes_\"&$C$14),0)))))","v":0},0,0,0,0,0,0,0,0,0,0,0,0,0,0,0,0,null,null,null,324,0,{"$f":"VLOOKUP(Worksheet!N348,code!$K$3:$M$13,3,FALSE)","v":{"$error":"#N/A"}},"","","","",""]
["-",null,null,null,1,0,null,null,null,null,null,0,0,null,null,null,null,null,{"$f":"IF(OR(ISBLANK($C$14),ISBLANK($C$16),ISBLANK($G$16),ISBLANK($G$17),AND(LEFT(G349,6)=\"Atrium\",ISBLANK(I349))=TRUE)=TRUE,0,IF(LEFT(G349,6)=\"Atrium\",IF(G349='ASHRAE 90.1 2013 - CST'!$D$2,0.4+I349*0.02,I349*0.03),IF(ISBLANK(G349),IF(ISBLANK(H349),\"0\",VLOOKUP(H349,INDIRECT(\"BSSTTable_\"&$C$14),2,FALSE)),INDEX(INDIRECT(\"CSTTable_\"&$C$14),MATCH($C$16,INDIRECT(\"BldgTypes_\"&$C$14),0),MATCH(G349,INDIRECT(\"CSTTableTypes_\"&$C$14),0)))))","v":0},0,0,0,0,0,0,0,0,0,0,0,0,0,0,0,0,null,null,null,325,0,{"$f":"VLOOKUP(Worksheet!N349,code!$K$3:$M$13,3,FALSE)","v":{"$error":"#N/A"}},"","","","",""]
["-",null,null,null,1,0,null,null,null,null,null,0,0,null,null,null,null,null,{"$f":"IF(OR(ISBLANK($C$14),ISBLANK($C$16),ISBLANK($G$16),ISBLANK($G$17),AND(LEFT(G350,6)=\"Atrium\",ISBLANK(I350))=TRUE)=TRUE,0,IF(LEFT(G350,6)=\"Atrium\",IF(G350='ASHRAE 90.1 2013 - CST'!$D$2,0.4+I350*0.02,I350*0.03),IF(ISBLANK(G350),IF(ISBLANK(H350),\"0\",VLOOKUP(H350,INDIRECT(\"BSSTTable_\"&$C$14),2,FALSE)),INDEX(INDIRECT(\"CSTTable_\"&$C$14),MATCH($C$16,INDIRECT(\"BldgTypes_\"&$C$14),0),MATCH(G350,INDIRECT(\"CSTTableTypes_\"&$C$14),0)))))","v":0},0,0,0,0,0,0,0,0,0,0,0,0,0,0,0,0,null,null,null,326,0,{"$f":"VLOOKUP(Worksheet!N350,code!$K$3:$M$13,3,FALSE)","v":{"$error":"#N/A"}},"","","","",""]
["-",null,null,null,1,0,null,null,null,null,null,0,0,null,null,null,null,null,{"$f":"IF(OR(ISBLANK($C$14),ISBLANK($C$16),ISBLANK($G$16),ISBLANK($G$17),AND(LEFT(G351,6)=\"Atrium\",ISBLANK(I351))=TRUE)=TRUE,0,IF(LEFT(G351,6)=\"Atrium\",IF(G351='ASHRAE 90.1 2013 - CST'!$D$2,0.4+I351*0.02,I351*0.03),IF(ISBLANK(G351),IF(ISBLANK(H351),\"0\",VLOOKUP(H351,INDIRECT(\"BSSTTable_\"&$C$14),2,FALSE)),INDEX(INDIRECT(\"CSTTable_\"&$C$14),MATCH($C$16,INDIRECT(\"BldgTypes_\"&$C$14),0),MATCH(G351,INDIRECT(\"CSTTableTypes_\"&$C$14),0)))))","v":0},0,0,0,0,0,0,0,0,0,0,0,0,0,0,0,0,null,null,null,327,0,{"$f":"VLOOKUP(Worksheet!N351,code!$K$3:$M$13,3,FALSE)","v":{"$error":"#N/A"}},"","","","",""]
["-",null,null,null,1,0,null,null,null,null,null,0,0,null,null,null,null,null,{"$f":"IF(OR(ISBLANK($C$14),ISBLANK($C$16),ISBLANK($G$16),ISBLANK($G$17),AND(LEFT(G352,6)=\"Atrium\",ISBLANK(I352))=TRUE)=TRUE,0,IF(LEFT(G352,6)=\"Atrium\",IF(G352='ASHRAE 90.1 2013 - CST'!$D$2,0.4+I352*0.02,I352*0.03),IF(ISBLANK(G352),IF(ISBLANK(H352),\"0\",VLOOKUP(H352,INDIRECT(\"BSSTTable_\"&$C$14),2,FALSE)),INDEX(INDIRECT(\"CSTTable_\"&$C$14),MATCH($C$16,INDIRECT(\"BldgTypes_\"&$C$14),0),MATCH(G352,INDIRECT(\"CSTTableTypes_\"&$C$14),0)))))","v":0},0,0,0,0,0,0,0,0,0,0,0,0,0,0,0,0,null,null,null,328,0,{"$f":"VLOOKUP(Worksheet!N352,code!$K$3:$M$13,3,FALSE)","v":{"$error":"#N/A"}},"","","","",""]
["-",null,null,null,1,0,null,null,null,null,null,0,0,null,null,null,null,null,{"$f":"IF(OR(ISBLANK($C$14),ISBLANK($C$16),ISBLANK($G$16),ISBLANK($G$17),AND(LEFT(G353,6)=\"Atrium\",ISBLANK(I353))=TRUE)=TRUE,0,IF(LEFT(G353,6)=\"Atrium\",IF(G353='ASHRAE 90.1 2013 - CST'!$D$2,0.4+I353*0.02,I353*0.03),IF(ISBLANK(G353),IF(ISBLANK(H353),\"0\",VLOOKUP(H353,INDIRECT(\"BSSTTable_\"&$C$14),2,FALSE)),INDEX(INDIRECT(\"CSTTable_\"&$C$14),MATCH($C$16,INDIRECT(\"BldgTypes_\"&$C$14),0),MATCH(G353,INDIRECT(\"CSTTableTypes_\"&$C$14),0)))))","v":0},0,0,0,0,0,0,0,0,0,0,0,0,0,0,0,0,null,null,null,329,0,{"$f":"VLOOKUP(Worksheet!N353,code!$K$3:$M$13,3,FALSE)","v":{"$error":"#N/A"}},"","","","",""]
["-",null,null,null,1,0,null,null,null,null,null,0,0,null,null,null,null,null,{"$f":"IF(OR(ISBLANK($C$14),ISBLANK($C$16),ISBLANK($G$16),ISBLANK($G$17),AND(LEFT(G354,6)=\"Atrium\",ISBLANK(I354))=TRUE)=TRUE,0,IF(LEFT(G354,6)=\"Atrium\",IF(G354='ASHRAE 90.1 2013 - CST'!$D$2,0.4+I354*0.02,I354*0.03),IF(ISBLANK(G354),IF(ISBLANK(H354),\"0\",VLOOKUP(H354,INDIRECT(\"BSSTTable_\"&$C$14),2,FALSE)),INDEX(INDIRECT(\"CSTTable_\"&$C$14),MATCH($C$16,INDIRECT(\"BldgTypes_\"&$C$14),0),MATCH(G354,INDIRECT(\"CSTTableTypes_\"&$C$14),0)))))","v":0},0,0,0,0,0,0,0,0,0,0,0,0,0,0,0,0,null,null,null,330,0,{"$f":"VLOOKUP(Worksheet!N354,code!$K$3:$M$13,3,FALSE)","v":{"$error":"#N/A"}},"","","","",""]
["-",null,null,null,1,0,null,null,null,null,null,0,0,null,null,null,null,null,{"$f":"IF(OR(ISBLANK($C$14),ISBLANK($C$16),ISBLANK($G$16),ISBLANK($G$17),AND(LEFT(G355,6)=\"Atrium\",ISBLANK(I355))=TRUE)=TRUE,0,IF(LEFT(G355,6)=\"Atrium\",IF(G355='ASHRAE 90.1 2013 - CST'!$D$2,0.4+I355*0.02,I355*0.03),IF(ISBLANK(G355),IF(ISBLANK(H355),\"0\",VLOOKUP(H355,INDIRECT(\"BSSTTable_\"&$C$14),2,FALSE)),INDEX(INDIRECT(\"CSTTable_\"&$C$14),MATCH($C$16,INDIRECT(\"BldgTypes_\"&$C$14),0),MATCH(G355,INDIRECT(\"CSTTableTypes_\"&$C$14),0)))))","v":0},0,0,0,0,0,0,0,0,0,0,0,0,0,0,0,0,null,null,null,331,0,{"$f":"VLOOKUP(Worksheet!N355,code!$K$3:$M$13,3,FALSE)","v":{"$error":"#N/A"}},"","","","",""]
["-",null,null,null,1,0,null,null,null,null,null,0,0,null,null,null,null,null,{"$f":"IF(OR(ISBLANK($C$14),ISBLANK($C$16),ISBLANK($G$16),ISBLANK($G$17),AND(LEFT(G356,6)=\"Atrium\",ISBLANK(I356))=TRUE)=TRUE,0,IF(LEFT(G356,6)=\"Atrium\",IF(G356='ASHRAE 90.1 2013 - CST'!$D$2,0.4+I356*0.02,I356*0.03),IF(ISBLANK(G356),IF(ISBLANK(H356),\"0\",VLOOKUP(H356,INDIRECT(\"BSSTTable_\"&$C$14),2,FALSE)),INDEX(INDIRECT(\"CSTTable_\"&$C$14),MATCH($C$16,INDIRECT(\"BldgTypes_\"&$C$14),0),MATCH(G356,INDIRECT(\"CSTTableTypes_\"&$C$14),0)))))","v":0},0,0,0,0,0,0,0,0,0,0,0,0,0,0,0,0,null,null,null,332,0,{"$f":"VLOOKUP(Worksheet!N356,code!$K$3:$M$13,3,FALSE)","v":{"$error":"#N/A"}},"","","","",""]
["-",null,null,null,1,0,null,null,null,null,null,0,0,null,null,null,null,null,{"$f":"IF(OR(ISBLANK($C$14),ISBLANK($C$16),ISBLANK($G$16),ISBLANK($G$17),AND(LEFT(G357,6)=\"Atrium\",ISBLANK(I357))=TRUE)=TRUE,0,IF(LEFT(G357,6)=\"Atrium\",IF(G357='ASHRAE 90.1 2013 - CST'!$D$2,0.4+I357*0.02,I357*0.03),IF(ISBLANK(G357),IF(ISBLANK(H357),\"0\",VLOOKUP(H357,INDIRECT(\"BSSTTable_\"&$C$14),2,FALSE)),INDEX(INDIRECT(\"CSTTable_\"&$C$14),MATCH($C$16,INDIRECT(\"BldgTypes_\"&$C$14),0),MATCH(G357,INDIRECT(\"CSTTableTypes_\"&$C$14),0)))))","v":0},0,0,0,0,0,0,0,0,0,0,0,0,0,0,0,0,null,null,null,333,0,{"$f":"VLOOKUP(Worksheet!N357,code!$K$3:$M$13,3,FALSE)","v":{"$error":"#N/A"}},"","","","",""]
["-",null,null,null,1,0,null,null,null,null,null,0,0,null,null,null,null,null,{"$f":"IF(OR(ISBLANK($C$14),ISBLANK($C$16),ISBLANK($G$16),ISBLANK($G$17),AND(LEFT(G358,6)=\"Atrium\",ISBLANK(I358))=TRUE)=TRUE,0,IF(LEFT(G358,6)=\"Atrium\",IF(G358='ASHRAE 90.1 2013 - CST'!$D$2,0.4+I358*0.02,I358*0.03),IF(ISBLANK(G358),IF(ISBLANK(H358),\"0\",VLOOKUP(H358,INDIRECT(\"BSSTTable_\"&$C$14),2,FALSE)),INDEX(INDIRECT(\"CSTTable_\"&$C$14),MATCH($C$16,INDIRECT(\"BldgTypes_\"&$C$14),0),MATCH(G358,INDIRECT(\"CSTTableTypes_\"&$C$14),0)))))","v":0},0,0,0,0,0,0,0,0,0,0,0,0,0,0,0,0,null,null,null,334,0,{"$f":"VLOOKUP(Worksheet!N358,code!$K$3:$M$13,3,FALSE)","v":{"$error":"#N/A"}},"","","","",""]
["-",null,null,null,1,0,null,null,null,null,null,0,0,null,null,null,null,null,{"$f":"IF(OR(ISBLANK($C$14),ISBLANK($C$16),ISBLANK($G$16),ISBLANK($G$17),AND(LEFT(G359,6)=\"Atrium\",ISBLANK(I359))=TRUE)=TRUE,0,IF(LEFT(G359,6)=\"Atrium\",IF(G359='ASHRAE 90.1 2013 - CST'!$D$2,0.4+I359*0.02,I359*0.03),IF(ISBLANK(G359),IF(ISBLANK(H359),\"0\",VLOOKUP(H359,INDIRECT(\"BSSTTable_\"&$C$14),2,FALSE)),INDEX(INDIRECT(\"CSTTable_\"&$C$14),MATCH($C$16,INDIRECT(\"BldgTypes_\"&$C$14),0),MATCH(G359,INDIRECT(\"CSTTableTypes_\"&$C$14),0)))))","v":0},0,0,0,0,0,0,0,0,0,0,0,0,0,0,0,0,null,null,null,335,0,{"$f":"VLOOKUP(Worksheet!N359,code!$K$3:$M$13,3,FALSE)","v":{"$error":"#N/A"}},"","","","",""]
["-",null,null,null,1,0,null,null,null,null,null,0,0,null,null,null,null,null,{"$f":"IF(OR(ISBLANK($C$14),ISBLANK($C$16),ISBLANK($G$16),ISBLANK($G$17),AND(LEFT(G360,6)=\"Atrium\",ISBLANK(I360))=TRUE)=TRUE,0,IF(LEFT(G360,6)=\"Atrium\",IF(G360='ASHRAE 90.1 2013 - CST'!$D$2,0.4+I360*0.02,I360*0.03),IF(ISBLANK(G360),IF(ISBLANK(H360),\"0\",VLOOKUP(H360,INDIRECT(\"BSSTTable_\"&$C$14),2,FALSE)),INDEX(INDIRECT(\"CSTTable_\"&$C$14),MATCH($C$16,INDIRECT(\"BldgTypes_\"&$C$14),0),MATCH(G360,INDIRECT(\"CSTTableTypes_\"&$C$14),0)))))","v":0},0,0,0,0,0,0,0,0,0,0,0,0,0,0,0,0,null,null,null,336,0,{"$f":"VLOOKUP(Worksheet!N360,code!$K$3:$M$13,3,FALSE)","v":{"$error":"#N/A"}},"","","","",""]
["-",null,null,null,1,0,null,null,null,null,null,0,0,null,null,null,null,null,{"$f":"IF(OR(ISBLANK($C$14),ISBLANK($C$16),ISBLANK($G$16),ISBLANK($G$17),AND(LEFT(G361,6)=\"Atrium\",ISBLANK(I361))=TRUE)=TRUE,0,IF(LEFT(G361,6)=\"Atrium\",IF(G361='ASHRAE 90.1 2013 - CST'!$D$2,0.4+I361*0.02,I361*0.03),IF(ISBLANK(G361),IF(ISBLANK(H361),\"0\",VLOOKUP(H361,INDIRECT(\"BSSTTable_\"&$C$14),2,FALSE)),INDEX(INDIRECT(\"CSTTable_\"&$C$14),MATCH($C$16,INDIRECT(\"BldgTypes_\"&$C$14),0),MATCH(G361,INDIRECT(\"CSTTableTypes_\"&$C$14),0)))))","v":0},0,0,0,0,0,0,0,0,0,0,0,0,0,0,0,0,null,null,null,337,0,{"$f":"VLOOKUP(Worksheet!N361,code!$K$3:$M$13,3,FALSE)","v":{"$error":"#N/A"}},"","","","",""]
["-",null,null,null,1,0,null,null,null,null,null,0,0,null,null,null,null,null,{"$f":"IF(OR(ISBLANK($C$14),ISBLANK($C$16),ISBLANK($G$16),ISBLANK($G$17),AND(LEFT(G362,6)=\"Atrium\",ISBLANK(I362))=TRUE)=TRUE,0,IF(LEFT(G362,6)=\"Atrium\",IF(G362='ASHRAE 90.1 2013 - CST'!$D$2,0.4+I362*0.02,I362*0.03),IF(ISBLANK(G362),IF(ISBLANK(H362),\"0\",VLOOKUP(H362,INDIRECT(\"BSSTTable_\"&$C$14),2,FALSE)),INDEX(INDIRECT(\"CSTTable_\"&$C$14),MATCH($C$16,INDIRECT(\"BldgTypes_\"&$C$14),0),MATCH(G362,INDIRECT(\"CSTTableTypes_\"&$C$14),0)))))","v":0},0,0,0,0,0,0,0,0,0,0,0,0,0,0,0,0,null,null,null,338,0,{"$f":"VLOOKUP(Worksheet!N362,code!$K$3:$M$13,3,FALSE)","v":{"$error":"#N/A"}},"","","","",""]
["-",null,null,null,1,0,null,null,null,null,null,0,0,null,null,null,null,null,{"$f":"IF(OR(ISBLANK($C$14),ISBLANK($C$16),ISBLANK($G$16),ISBLANK($G$17),AND(LEFT(G363,6)=\"Atrium\",ISBLANK(I363))=TRUE)=TRUE,0,IF(LEFT(G363,6)=\"Atrium\",IF(G363='ASHRAE 90.1 2013 - CST'!$D$2,0.4+I363*0.02,I363*0.03),IF(ISBLANK(G363),IF(ISBLANK(H363),\"0\",VLOOKUP(H363,INDIRECT(\"BSSTTable_\"&$C$14),2,FALSE)),INDEX(INDIRECT(\"CSTTable_\"&$C$14),MATCH($C$16,INDIRECT(\"BldgTypes_\"&$C$14),0),MATCH(G363,INDIRECT(\"CSTTableTypes_\"&$C$14),0)))))","v":0},0,0,0,0,0,0,0,0,0,0,0,0,0,0,0,0,null,null,null,339,0,{"$f":"VLOOKUP(Worksheet!N363,code!$K$3:$M$13,3,FALSE)","v":{"$error":"#N/A"}},"","","","",""]
["-",null,null,null,1,0,null,null,null,null,null,0,0,null,null,null,null,null,{"$f":"IF(OR(ISBLANK($C$14),ISBLANK($C$16),ISBLANK($G$16),ISBLANK($G$17),AND(LEFT(G364,6)=\"Atrium\",ISBLANK(I364))=TRUE)=TRUE,0,IF(LEFT(G364,6)=\"Atrium\",IF(G364='ASHRAE 90.1 2013 - CST'!$D$2,0.4+I364*0.02,I364*0.03),IF(ISBLANK(G364),IF(ISBLANK(H364),\"0\",VLOOKUP(H364,INDIRECT(\"BSSTTable_\"&$C$14),2,FALSE)),INDEX(INDIRECT(\"CSTTable_\"&$C$14),MATCH($C$16,INDIRECT(\"BldgTypes_\"&$C$14),0),MATCH(G364,INDIRECT(\"CSTTableTypes_\"&$C$14),0)))))","v":0},0,0,0,0,0,0,0,0,0,0,0,0,0,0,0,0,null,null,null,340,0,{"$f":"VLOOKUP(Worksheet!N364,code!$K$3:$M$13,3,FALSE)","v":{"$error":"#N/A"}},"","","","",""]
["-",null,null,null,1,0,null,null,null,null,null,0,0,null,null,null,null,null,{"$f":"IF(OR(ISBLANK($C$14),ISBLANK($C$16),ISBLANK($G$16),ISBLANK($G$17),AND(LEFT(G365,6)=\"Atrium\",ISBLANK(I365))=TRUE)=TRUE,0,IF(LEFT(G365,6)=\"Atrium\",IF(G365='ASHRAE 90.1 2013 - CST'!$D$2,0.4+I365*0.02,I365*0.03),IF(ISBLANK(G365),IF(ISBLANK(H365),\"0\",VLOOKUP(H365,INDIRECT(\"BSSTTable_\"&$C$14),2,FALSE)),INDEX(INDIRECT(\"CSTTable_\"&$C$14),MATCH($C$16,INDIRECT(\"BldgTypes_\"&$C$14),0),MATCH(G365,INDIRECT(\"CSTTableTypes_\"&$C$14),0)))))","v":0},0,0,0,0,0,0,0,0,0,0,0,0,0,0,0,0,null,null,null,341,0,{"$f":"VLOOKUP(Worksheet!N365,code!$K$3:$M$13,3,FALSE)","v":{"$error":"#N/A"}},"","","","",""]
["-",null,null,null,1,0,null,null,null,null,null,0,0,null,null,null,null,null,{"$f":"IF(OR(ISBLANK($C$14),ISBLANK($C$16),ISBLANK($G$16),ISBLANK($G$17),AND(LEFT(G366,6)=\"Atrium\",ISBLANK(I366))=TRUE)=TRUE,0,IF(LEFT(G366,6)=\"Atrium\",IF(G366='ASHRAE 90.1 2013 - CST'!$D$2,0.4+I366*0.02,I366*0.03),IF(ISBLANK(G366),IF(ISBLANK(H366),\"0\",VLOOKUP(H366,INDIRECT(\"BSSTTable_\"&$C$14),2,FALSE)),INDEX(INDIRECT(\"CSTTable_\"&$C$14),MATCH($C$16,INDIRECT(\"BldgTypes_\"&$C$14),0),MATCH(G366,INDIRECT(\"CSTTableTypes_\"&$C$14),0)))))","v":0},0,0,0,0,0,0,0,0,0,0,0,0,0,0,0,0,null,null,null,342,0,{"$f":"VLOOKUP(Worksheet!N366,code!$K$3:$M$13,3,FALSE)","v":{"$error":"#N/A"}},"","","","",""]
["-",null,null,null,1,0,null,null,null,null,null,0,0,null,null,null,null,null,{"$f":"IF(OR(ISBLANK($C$14),ISBLANK($C$16),ISBLANK($G$16),ISBLANK($G$17),AND(LEFT(G367,6)=\"Atrium\",ISBLANK(I367))=TRUE)=TRUE,0,IF(LEFT(G367,6)=\"Atrium\",IF(G367='ASHRAE 90.1 2013 - CST'!$D$2,0.4+I367*0.02,I367*0.03),IF(ISBLANK(G367),IF(ISBLANK(H367),\"0\",VLOOKUP(H367,INDIRECT(\"BSSTTable_\"&$C$14),2,FALSE)),INDEX(INDIRECT(\"CSTTable_\"&$C$14),MATCH($C$16,INDIRECT(\"BldgTypes_\"&$C$14),0),MATCH(G367,INDIRECT(\"CSTTableTypes_\"&$C$14),0)))))","v":0},0,0,0,0,0,0,0,0,0,0,0,0,0,0,0,0,null,null,null,343,0,{"$f":"VLOOKUP(Worksheet!N367,code!$K$3:$M$13,3,FALSE)","v":{"$error":"#N/A"}},"","","","",""]
["-",null,null,null,1,0,null,null,null,null,null,0,0,null,null,null,null,null,{"$f":"IF(OR(ISBLANK($C$14),ISBLANK($C$16),ISBLANK($G$16),ISBLANK($G$17),AND(LEFT(G368,6)=\"Atrium\",ISBLANK(I368))=TRUE)=TRUE,0,IF(LEFT(G368,6)=\"Atrium\",IF(G368='ASHRAE 90.1 2013 - CST'!$D$2,0.4+I368*0.02,I368*0.03),IF(ISBLANK(G368),IF(ISBLANK(H368),\"0\",VLOOKUP(H368,INDIRECT(\"BSSTTable_\"&$C$14),2,FALSE)),INDEX(INDIRECT(\"CSTTable_\"&$C$14),MATCH($C$16,INDIRECT(\"BldgTypes_\"&$C$14),0),MATCH(G368,INDIRECT(\"CSTTableTypes_\"&$C$14),0)))))","v":0},0,0,0,0,0,0,0,0,0,0,0,0,0,0,0,0,null,null,null,344,0,{"$f":"VLOOKUP(Worksheet!N368,code!$K$3:$M$13,3,FALSE)","v":{"$error":"#N/A"}},"","","","",""]
["-",null,null,null,1,{"$f":"B369*E369","v":0},null,null,null,null,null,0,0,null,null,null,null,null,{"$f":"IF(OR(ISBLANK($C$14),ISBLANK($C$16),ISBLANK($G$16),ISBLANK($G$17),AND(LEFT(G369,6)=\"Atrium\",ISBLANK(I369))=TRUE)=TRUE,0,IF(LEFT(G369,6)=\"Atrium\",IF(G369='ASHRAE 90.1 2013 - CST'!$D$2,0.4+I369*0.02,I369*0.03),IF(ISBLANK(G369),IF(ISBLANK(H369),\"0\",VLOOKUP(H369,INDIRECT(\"BSSTTable_\"&$C$14),2,FALSE)),INDEX(INDIRECT(\"CSTTable_\"&$C$14),MATCH($C$16,INDIRECT(\"BldgTypes_\"&$C$14),0),MATCH(G369,INDIRECT(\"CSTTableTypes_\"&$C$14),0)))))","v":0},0,0,0,0,0,0,0,0,0,0,0,0,{"$f":"IF(AND(NOT(ISNA(V369)),$AB369=\"y\"),X369,0)","v":0},{"$f":"IF(AND(NOT(ISNA(W369)),$AC369=\"y\"),Y369,0)","v":0},0,0,null,null,null,{"$f":"AM368+1","v":345},0,{"$f":"VLOOKUP(Worksheet!N369,code!$K$3:$M$13,3,FALSE)","v":{"$error":"#N/A"}},"","","","",""]
["-",null,null,null,1,0,null,null,null,null,null,0,0,null,null,null,null,null,{"$f":"IF(OR(ISBLANK($C$14),ISBLANK($C$16),ISBLANK($G$16),ISBLANK($G$17),AND(LEFT(G370,6)=\"Atrium\",ISBLANK(I370))=TRUE)=TRUE,0,IF(LEFT(G370,6)=\"Atrium\",IF(G370='ASHRAE 90.1 2013 - CST'!$D$2,0.4+I370*0.02,I370*0.03),IF(ISBLANK(G370),IF(ISBLANK(H370),\"0\",VLOOKUP(H370,INDIRECT(\"BSSTTable_\"&$C$14),2,FALSE)),INDEX(INDIRECT(\"CSTTable_\"&$C$14),MATCH($C$16,INDIRECT(\"BldgTypes_\"&$C$14),0),MATCH(G370,INDIRECT(\"CSTTableTypes_\"&$C$14),0)))))","v":0},0,0,0,0,0,0,0,0,0,0,0,0,0,0,0,0,null,null,null,346,0,{"$f":"VLOOKUP(Worksheet!N370,code!$K$3:$M$13,3,FALSE)","v":{"$error":"#N/A"}},"","","","",""]
["-",null,null,null,1,0,null,null,null,null,null,0,0,null,null,null,null,null,{"$f":"IF(OR(ISBLANK($C$14),ISBLANK($C$16),ISBLANK($G$16),ISBLANK($G$17),AND(LEFT(G371,6)=\"Atrium\",ISBLANK(I371))=TRUE)=TRUE,0,IF(LEFT(G371,6)=\"Atrium\",IF(G371='ASHRAE 90.1 2013 - CST'!$D$2,0.4+I371*0.02,I371*0.03),IF(ISBLANK(G371),IF(ISBLANK(H371),\"0\",VLOOKUP(H371,INDIRECT(\"BSSTTable_\"&$C$14),2,FALSE)),INDEX(INDIRECT(\"CSTTable_\"&$C$14),MATCH($C$16,INDIRECT(\"BldgTypes_\"&$C$14),0),MATCH(G371,INDIRECT(\"CSTTableTypes_\"&$C$14),0)))))","v":0},0,0,0,0,0,0,0,0,0,0,0,0,0,0,0,0,null,null,null,347,0,{"$f":"VLOOKUP(Worksheet!N371,code!$K$3:$M$13,3,FALSE)","v":{"$error":"#N/A"}},"","","","",""]
["-",null,null,null,1,0,null,null,null,null,null,0,0,null,null,null,null,null,{"$f":"IF(OR(ISBLANK($C$14),ISBLANK($C$16),ISBLANK($G$16),ISBLANK($G$17),AND(LEFT(G372,6)=\"Atrium\",ISBLANK(I372))=TRUE)=TRUE,0,IF(LEFT(G372,6)=\"Atrium\",IF(G372='ASHRAE 90.1 2013 - CST'!$D$2,0.4+I372*0.02,I372*0.03),IF(ISBLANK(G372),IF(ISBLANK(H372),\"0\",VLOOKUP(H372,INDIRECT(\"BSSTTable_\"&$C$14),2,FALSE)),INDEX(INDIRECT(\"CSTTable_\"&$C$14),MATCH($C$16,INDIRECT(\"BldgTypes_\"&$C$14),0),MATCH(G372,INDIRECT(\"CSTTableTypes_\"&$C$14),0)))))","v":0},0,0,0,0,0,0,0,0,0,0,0,0,0,0,0,0,null,null,null,348,0,{"$f":"VLOOKUP(Worksheet!N372,code!$K$3:$M$13,3,FALSE)","v":{"$error":"#N/A"}},"","","","",""]
["-",null,null,null,1,0,null,null,null,null,null,0,0,null,null,null,null,null,{"$f":"IF(OR(ISBLANK($C$14),ISBLANK($C$16),ISBLANK($G$16),ISBLANK($G$17),AND(LEFT(G373,6)=\"Atrium\",ISBLANK(I373))=TRUE)=TRUE,0,IF(LEFT(G373,6)=\"Atrium\",IF(G373='ASHRAE 90.1 2013 - CST'!$D$2,0.4+I373*0.02,I373*0.03),IF(ISBLANK(G373),IF(ISBLANK(H373),\"0\",VLOOKUP(H373,INDIRECT(\"BSSTTable_\"&$C$14),2,FALSE)),INDEX(INDIRECT(\"CSTTable_\"&$C$14),MATCH($C$16,INDIRECT(\"BldgTypes_\"&$C$14),0),MATCH(G373,INDIRECT(\"CSTTableTypes_\"&$C$14),0)))))","v":0},0,0,0,0,0,0,0,0,0,0,0,0,0,0,0,0,null,null,null,349,0,{"$f":"VLOOKUP(Worksheet!N373,code!$K$3:$M$13,3,FALSE)","v":{"$error":"#N/A"}},"","","","",""]
["-",null,null,null,1,0,null,null,null,null,null,0,0,null,null,null,null,null,{"$f":"IF(OR(ISBLANK($C$14),ISBLANK($C$16),ISBLANK($G$16),ISBLANK($G$17),AND(LEFT(G374,6)=\"Atrium\",ISBLANK(I374))=TRUE)=TRUE,0,IF(LEFT(G374,6)=\"Atrium\",IF(G374='ASHRAE 90.1 2013 - CST'!$D$2,0.4+I374*0.02,I374*0.03),IF(ISBLANK(G374),IF(ISBLANK(H374),\"0\",VLOOKUP(H374,INDIRECT(\"BSSTTable_\"&$C$14),2,FALSE)),INDEX(INDIRECT(\"CSTTable_\"&$C$14),MATCH($C$16,INDIRECT(\"BldgTypes_\"&$C$14),0),MATCH(G374,INDIRECT(\"CSTTableTypes_\"&$C$14),0)))))","v":0},0,0,0,0,0,0,0,0,0,0,0,0,0,0,0,0,null,null,null,350,0,{"$f":"VLOOKUP(Worksheet!N374,code!$K$3:$M$13,3,FALSE)","v":{"$error":"#N/A"}},"","","","",""]
["-",null,null,null,1,0,null,null,null,null,null,0,0,null,null,null,null,null,{"$f":"IF(OR(ISBLANK($C$14),ISBLANK($C$16),ISBLANK($G$16),ISBLANK($G$17),AND(LEFT(G375,6)=\"Atrium\",ISBLANK(I375))=TRUE)=TRUE,0,IF(LEFT(G375,6)=\"Atrium\",IF(G375='ASHRAE 90.1 2013 - CST'!$D$2,0.4+I375*0.02,I375*0.03),IF(ISBLANK(G375),IF(ISBLANK(H375),\"0\",VLOOKUP(H375,INDIRECT(\"BSSTTable_\"&$C$14),2,FALSE)),INDEX(INDIRECT(\"CSTTable_\"&$C$14),MATCH($C$16,INDIRECT(\"BldgTypes_\"&$C$14),0),MATCH(G375,INDIRECT(\"CSTTableTypes_\"&$C$14),0)))))","v":0},0,0,0,0,0,0,0,0,0,0,0,0,0,0,0,0,null,null,null,351,0,{"$f":"VLOOKUP(Worksheet!N375,code!$K$3:$M$13,3,FALSE)","v":{"$error":"#N/A"}},"","","","",""]
["-",null,null,null,1,0,null,null,null,null,null,0,0,null,null,null,null,null,{"$f":"IF(OR(ISBLANK($C$14),ISBLANK($C$16),ISBLANK($G$16),ISBLANK($G$17),AND(LEFT(G376,6)=\"Atrium\",ISBLANK(I376))=TRUE)=TRUE,0,IF(LEFT(G376,6)=\"Atrium\",IF(G376='ASHRAE 90.1 2013 - CST'!$D$2,0.4+I376*0.02,I376*0.03),IF(ISBLANK(G376),IF(ISBLANK(H376),\"0\",VLOOKUP(H376,INDIRECT(\"BSSTTable_\"&$C$14),2,FALSE)),INDEX(INDIRECT(\"CSTTable_\"&$C$14),MATCH($C$16,INDIRECT(\"BldgTypes_\"&$C$14),0),MATCH(G376,INDIRECT(\"CSTTableTypes_\"&$C$14),0)))))","v":0},0,0,0,0,0,0,0,0,0,0,0,0,0,0,0,0,null,null,null,352,0,{"$f":"VLOOKUP(Worksheet!N376,code!$K$3:$M$13,3,FALSE)","v":{"$error":"#N/A"}},"","","","",""]
["-",null,null,null,1,0,null,null,null,null,null,0,0,null,null,null,null,null,{"$f":"IF(OR(ISBLANK($C$14),ISBLANK($C$16),ISBLANK($G$16),ISBLANK($G$17),AND(LEFT(G377,6)=\"Atrium\",ISBLANK(I377))=TRUE)=TRUE,0,IF(LEFT(G377,6)=\"Atrium\",IF(G377='ASHRAE 90.1 2013 - CST'!$D$2,0.4+I377*0.02,I377*0.03),IF(ISBLANK(G377),IF(ISBLANK(H377),\"0\",VLOOKUP(H377,INDIRECT(\"BSSTTable_\"&$C$14),2,FALSE)),INDEX(INDIRECT(\"CSTTable_\"&$C$14),MATCH($C$16,INDIRECT(\"BldgTypes_\"&$C$14),0),MATCH(G377,INDIRECT(\"CSTTableTypes_\"&$C$14),0)))))","v":0},0,0,0,0,0,0,0,0,0,0,0,0,0,0,0,0,null,null,null,353,0,{"$f":"VLOOKUP(Worksheet!N377,code!$K$3:$M$13,3,FALSE)","v":{"$error":"#N/A"}},"","","","",""]
["-",null,null,null,1,0,null,null,null,null,null,0,0,null,null,null,null,null,{"$f":"IF(OR(ISBLANK($C$14),ISBLANK($C$16),ISBLANK($G$16),ISBLANK($G$17),AND(LEFT(G378,6)=\"Atrium\",ISBLANK(I378))=TRUE)=TRUE,0,IF(LEFT(G378,6)=\"Atrium\",IF(G378='ASHRAE 90.1 2013 - CST'!$D$2,0.4+I378*0.02,I378*0.03),IF(ISBLANK(G378),IF(ISBLANK(H378),\"0\",VLOOKUP(H378,INDIRECT(\"BSSTTable_\"&$C$14),2,FALSE)),INDEX(INDIRECT(\"CSTTable_\"&$C$14),MATCH($C$16,INDIRECT(\"BldgTypes_\"&$C$14),0),MATCH(G378,INDIRECT(\"CSTTableTypes_\"&$C$14),0)))))","v":0},0,0,0,0,0,0,0,0,0,0,0,0,0,0,0,0,null,null,null,354,0,{"$f":"VLOOKUP(Worksheet!N378,code!$K$3:$M$13,3,FALSE)","v":{"$error":"#N/A"}},"","","","",""]
["-",null,null,null,1,0,null,null,null,null,null,0,0,null,null,null,null,null,{"$f":"IF(OR(ISBLANK($C$14),ISBLANK($C$16),ISBLANK($G$16),ISBLANK($G$17),AND(LEFT(G379,6)=\"Atrium\",ISBLANK(I379))=TRUE)=TRUE,0,IF(LEFT(G379,6)=\"Atrium\",IF(G379='ASHRAE 90.1 2013 - CST'!$D$2,0.4+I379*0.02,I379*0.03),IF(ISBLANK(G379),IF(ISBLANK(H379),\"0\",VLOOKUP(H379,INDIRECT(\"BSSTTable_\"&$C$14),2,FALSE)),INDEX(INDIRECT(\"CSTTable_\"&$C$14),MATCH($C$16,INDIRECT(\"BldgTypes_\"&$C$14),0),MATCH(G379,INDIRECT(\"CSTTableTypes_\"&$C$14),0)))))","v":0},0,0,0,0,0,0,0,0,0,0,0,0,0,0,0,0,null,null,null,355,0,{"$f":"VLOOKUP(Worksheet!N379,code!$K$3:$M$13,3,FALSE)","v":{"$error":"#N/A"}},"","","","",""]
["-",null,null,null,1,0,null,null,null,null,null,0,0,null,null,null,null,null,{"$f":"IF(OR(ISBLANK($C$14),ISBLANK($C$16),ISBLANK($G$16),ISBLANK($G$17),AND(LEFT(G380,6)=\"Atrium\",ISBLANK(I380))=TRUE)=TRUE,0,IF(LEFT(G380,6)=\"Atrium\",IF(G380='ASHRAE 90.1 2013 - CST'!$D$2,0.4+I380*0.02,I380*0.03),IF(ISBLANK(G380),IF(ISBLANK(H380),\"0\",VLOOKUP(H380,INDIRECT(\"BSSTTable_\"&$C$14),2,FALSE)),INDEX(INDIRECT(\"CSTTable_\"&$C$14),MATCH($C$16,INDIRECT(\"BldgTypes_\"&$C$14),0),MATCH(G380,INDIRECT(\"CSTTableTypes_\"&$C$14),0)))))","v":0},0,0,0,0,0,0,0,0,0,0,0,0,0,0,0,0,null,null,null,356,0,{"$f":"VLOOKUP(Worksheet!N380,code!$K$3:$M$13,3,FALSE)","v":{"$error":"#N/A"}},"","","","",""]
["-",null,null,null,1,0,null,null,null,null,null,0,0,null,null,null,null,null,{"$f":"IF(OR(ISBLANK($C$14),ISBLANK($C$16),ISBLANK($G$16),ISBLANK($G$17),AND(LEFT(G381,6)=\"Atrium\",ISBLANK(I381))=TRUE)=TRUE,0,IF(LEFT(G381,6)=\"Atrium\",IF(G381='ASHRAE 90.1 2013 - CST'!$D$2,0.4+I381*0.02,I381*0.03),IF(ISBLANK(G381),IF(ISBLANK(H381),\"0\",VLOOKUP(H381,INDIRECT(\"BSSTTable_\"&$C$14),2,FALSE)),INDEX(INDIRECT(\"CSTTable_\"&$C$14),MATCH($C$16,INDIRECT(\"BldgTypes_\"&$C$14),0),MATCH(G381,INDIRECT(\"CSTTableTypes_\"&$C$14),0)))))","v":0},0,0,0,0,0,0,0,0,0,0,0,0,0,0,0,0,null,null,null,357,0,{"$f":"VLOOKUP(Worksheet!N381,code!$K$3:$M$13,3,FALSE)","v":{"$error":"#N/A"}},"","","","",""]
["-",null,null,null,1,0,null,null,null,null,null,0,0,null,null,null,null,null,{"$f":"IF(OR(ISBLANK($C$14),ISBLANK($C$16),ISBLANK($G$16),ISBLANK($G$17),AND(LEFT(G382,6)=\"Atrium\",ISBLANK(I382))=TRUE)=TRUE,0,IF(LEFT(G382,6)=\"Atrium\",IF(G382='ASHRAE 90.1 2013 - CST'!$D$2,0.4+I382*0.02,I382*0.03),IF(ISBLANK(G382),IF(ISBLANK(H382),\"0\",VLOOKUP(H382,INDIRECT(\"BSSTTable_\"&$C$14),2,FALSE)),INDEX(INDIRECT(\"CSTTable_\"&$C$14),MATCH($C$16,INDIRECT(\"BldgTypes_\"&$C$14),0),MATCH(G382,INDIRECT(\"CSTTableTypes_\"&$C$14),0)))))","v":0},0,0,0,0,0,0,0,0,0,0,0,0,0,0,0,0,null,null,null,358,0,{"$f":"VLOOKUP(Worksheet!N382,code!$K$3:$M$13,3,FALSE)","v":{"$error":"#N/A"}},"","","","",""]
["-",null,null,null,1,0,null,null,null,null,null,0,0,null,null,null,null,null,{"$f":"IF(OR(ISBLANK($C$14),ISBLANK($C$16),ISBLANK($G$16),ISBLANK($G$17),AND(LEFT(G383,6)=\"Atrium\",ISBLANK(I383))=TRUE)=TRUE,0,IF(LEFT(G383,6)=\"Atrium\",IF(G383='ASHRAE 90.1 2013 - CST'!$D$2,0.4+I383*0.02,I383*0.03),IF(ISBLANK(G383),IF(ISBLANK(H383),\"0\",VLOOKUP(H383,INDIRECT(\"BSSTTable_\"&$C$14),2,FALSE)),INDEX(INDIRECT(\"CSTTable_\"&$C$14),MATCH($C$16,INDIRECT(\"BldgTypes_\"&$C$14),0),MATCH(G383,INDIRECT(\"CSTTableTypes_\"&$C$14),0)))))","v":0},0,0,0,0,0,0,0,0,0,0,0,0,0,0,0,0,null,null,null,359,0,{"$f":"VLOOKUP(Worksheet!N383,code!$K$3:$M$13,3,FALSE)","v":{"$error":"#N/A"}},"","","","",""]
["-",null,null,null,1,0,null,null,null,null,null,0,0,null,null,null,null,null,{"$f":"IF(OR(ISBLANK($C$14),ISBLANK($C$16),ISBLANK($G$16),ISBLANK($G$17),AND(LEFT(G384,6)=\"Atrium\",ISBLANK(I384))=TRUE)=TRUE,0,IF(LEFT(G384,6)=\"Atrium\",IF(G384='ASHRAE 90.1 2013 - CST'!$D$2,0.4+I384*0.02,I384*0.03),IF(ISBLANK(G384),IF(ISBLANK(H384),\"0\",VLOOKUP(H384,INDIRECT(\"BSSTTable_\"&$C$14),2,FALSE)),INDEX(INDIRECT(\"CSTTable_\"&$C$14),MATCH($C$16,INDIRECT(\"BldgTypes_\"&$C$14),0),MATCH(G384,INDIRECT(\"CSTTableTypes_\"&$C$14),0)))))","v":0},0,0,0,0,0,0,0,0,0,0,0,0,0,0,0,0,null,null,null,360,0,{"$f":"VLOOKUP(Worksheet!N384,code!$K$3:$M$13,3,FALSE)","v":{"$error":"#N/A"}},"","","","",""]
["-",null,null,null,1,0,null,null,null,null,null,0,0,null,null,null,null,null,{"$f":"IF(OR(ISBLANK($C$14),ISBLANK($C$16),ISBLANK($G$16),ISBLANK($G$17),AND(LEFT(G385,6)=\"Atrium\",ISBLANK(I385))=TRUE)=TRUE,0,IF(LEFT(G385,6)=\"Atrium\",IF(G385='ASHRAE 90.1 2013 - CST'!$D$2,0.4+I385*0.02,I385*0.03),IF(ISBLANK(G385),IF(ISBLANK(H385),\"0\",VLOOKUP(H385,INDIRECT(\"BSSTTable_\"&$C$14),2,FALSE)),INDEX(INDIRECT(\"CSTTable_\"&$C$14),MATCH($C$16,INDIRECT(\"BldgTypes_\"&$C$14),0),MATCH(G385,INDIRECT(\"CSTTableTypes_\"&$C$14),0)))))","v":0},0,0,0,0,0,0,0,0,0,0,0,0,0,0,0,0,null,null,null,361,0,{"$f":"VLOOKUP(Worksheet!N385,code!$K$3:$M$13,3,FALSE)","v":{"$error":"#N/A"}},"","","","",""]
["-",null,null,null,1,0,null,null,null,null,null,0,0,null,null,null,null,null,{"$f":"IF(OR(ISBLANK($C$14),ISBLANK($C$16),ISBLANK($G$16),ISBLANK($G$17),AND(LEFT(G386,6)=\"Atrium\",ISBLANK(I386))=TRUE)=TRUE,0,IF(LEFT(G386,6)=\"Atrium\",IF(G386='ASHRAE 90.1 2013 - CST'!$D$2,0.4+I386*0.02,I386*0.03),IF(ISBLANK(G386),IF(ISBLANK(H386),\"0\",VLOOKUP(H386,INDIRECT(\"BSSTTable_\"&$C$14),2,FALSE)),INDEX(INDIRECT(\"CSTTable_\"&$C$14),MATCH($C$16,INDIRECT(\"BldgTypes_\"&$C$14),0),MATCH(G386,INDIRECT(\"CSTTableTypes_\"&$C$14),0)))))","v":0},0,0,0,0,0,0,0,0,0,0,0,0,0,0,0,0,null,null,null,362,0,{"$f":"VLOOKUP(Worksheet!N386,code!$K$3:$M$13,3,FALSE)","v":{"$error":"#N/A"}},"","","","",""]
["-",null,null,null,1,0,null,null,null,null,null,0,0,null,null,null,null,null,{"$f":"IF(OR(ISBLANK($C$14),ISBLANK($C$16),ISBLANK($G$16),ISBLANK($G$17),AND(LEFT(G387,6)=\"Atrium\",ISBLANK(I387))=TRUE)=TRUE,0,IF(LEFT(G387,6)=\"Atrium\",IF(G387='ASHRAE 90.1 2013 - CST'!$D$2,0.4+I387*0.02,I387*0.03),IF(ISBLANK(G387),IF(ISBLANK(H387),\"0\",VLOOKUP(H387,INDIRECT(\"BSSTTable_\"&$C$14),2,FALSE)),INDEX(INDIRECT(\"CSTTable_\"&$C$14),MATCH($C$16,INDIRECT(\"BldgTypes_\"&$C$14),0),MATCH(G387,INDIRECT(\"CSTTableTypes_\"&$C$14),0)))))","v":0},0,0,0,0,0,0,0,0,0,0,0,0,0,0,0,0,null,null,null,363,0,{"$f":"VLOOKUP(Worksheet!N387,code!$K$3:$M$13,3,FALSE)","v":{"$error":"#N/A"}},"","","","",""]
["-",null,null,null,1,0,null,null,null,null,null,0,0,null,null,null,null,null,{"$f":"IF(OR(ISBLANK($C$14),ISBLANK($C$16),ISBLANK($G$16),ISBLANK($G$17),AND(LEFT(G388,6)=\"Atrium\",ISBLANK(I388))=TRUE)=TRUE,0,IF(LEFT(G388,6)=\"Atrium\",IF(G388='ASHRAE 90.1 2013 - CST'!$D$2,0.4+I388*0.02,I388*0.03),IF(ISBLANK(G388),IF(ISBLANK(H388),\"0\",VLOOKUP(H388,INDIRECT(\"BSSTTable_\"&$C$14),2,FALSE)),INDEX(INDIRECT(\"CSTTable_\"&$C$14),MATCH($C$16,INDIRECT(\"BldgTypes_\"&$C$14),0),MATCH(G388,INDIRECT(\"CSTTableTypes_\"&$C$14),0)))))","v":0},0,0,0,0,0,0,0,0,0,0,0,0,0,0,0,0,null,null,null,364,0,{"$f":"VLOOKUP(Worksheet!N388,code!$K$3:$M$13,3,FALSE)","v":{"$error":"#N/A"}},"","","","",""]
["-",null,null,null,1,0,null,null,null,null,null,0,0,null,null,null,null,null,{"$f":"IF(OR(ISBLANK($C$14),ISBLANK($C$16),ISBLANK($G$16),ISBLANK($G$17),AND(LEFT(G389,6)=\"Atrium\",ISBLANK(I389))=TRUE)=TRUE,0,IF(LEFT(G389,6)=\"Atrium\",IF(G389='ASHRAE 90.1 2013 - CST'!$D$2,0.4+I389*0.02,I389*0.03),IF(ISBLANK(G389),IF(ISBLANK(H389),\"0\",VLOOKUP(H389,INDIRECT(\"BSSTTable_\"&$C$14),2,FALSE)),INDEX(INDIRECT(\"CSTTable_\"&$C$14),MATCH($C$16,INDIRECT(\"BldgTypes_\"&$C$14),0),MATCH(G389,INDIRECT(\"CSTTableTypes_\"&$C$14),0)))))","v":0},0,0,0,0,0,0,0,0,0,0,0,0,0,0,0,0,null,null,null,365,0,{"$f":"VLOOKUP(Worksheet!N389,code!$K$3:$M$13,3,FALSE)","v":{"$error":"#N/A"}},"","","","",""]
["-",null,null,null,1,0,null,null,null,null,null,0,0,null,null,null,null,null,{"$f":"IF(OR(ISBLANK($C$14),ISBLANK($C$16),ISBLANK($G$16),ISBLANK($G$17),AND(LEFT(G390,6)=\"Atrium\",ISBLANK(I390))=TRUE)=TRUE,0,IF(LEFT(G390,6)=\"Atrium\",IF(G390='ASHRAE 90.1 2013 - CST'!$D$2,0.4+I390*0.02,I390*0.03),IF(ISBLANK(G390),IF(ISBLANK(H390),\"0\",VLOOKUP(H390,INDIRECT(\"BSSTTable_\"&$C$14),2,FALSE)),INDEX(INDIRECT(\"CSTTable_\"&$C$14),MATCH($C$16,INDIRECT(\"BldgTypes_\"&$C$14),0),MATCH(G390,INDIRECT(\"CSTTableTypes_\"&$C$14),0)))))","v":0},0,0,0,0,0,0,0,0,0,0,0,0,0,0,0,0,null,null,null,366,0,{"$f":"VLOOKUP(Worksheet!N390,code!$K$3:$M$13,3,FALSE)","v":{"$error":"#N/A"}},"","","","",""]
["-",null,null,null,1,0,null,null,null,null,null,0,0,null,null,null,null,null,{"$f":"IF(OR(ISBLANK($C$14),ISBLANK($C$16),ISBLANK($G$16),ISBLANK($G$17),AND(LEFT(G391,6)=\"Atrium\",ISBLANK(I391))=TRUE)=TRUE,0,IF(LEFT(G391,6)=\"Atrium\",IF(G391='ASHRAE 90.1 2013 - CST'!$D$2,0.4+I391*0.02,I391*0.03),IF(ISBLANK(G391),IF(ISBLANK(H391),\"0\",VLOOKUP(H391,INDIRECT(\"BSSTTable_\"&$C$14),2,FALSE)),INDEX(INDIRECT(\"CSTTable_\"&$C$14),MATCH($C$16,INDIRECT(\"BldgTypes_\"&$C$14),0),MATCH(G391,INDIRECT(\"CSTTableTypes_\"&$C$14),0)))))","v":0},0,0,0,0,0,0,0,0,0,0,0,0,0,0,0,0,null,null,null,367,0,{"$f":"VLOOKUP(Worksheet!N391,code!$K$3:$M$13,3,FALSE)","v":{"$error":"#N/A"}},"","","","",""]
["-",null,null,null,1,0,null,null,null,null,null,0,0,null,null,null,null,null,{"$f":"IF(OR(ISBLANK($C$14),ISBLANK($C$16),ISBLANK($G$16),ISBLANK($G$17),AND(LEFT(G392,6)=\"Atrium\",ISBLANK(I392))=TRUE)=TRUE,0,IF(LEFT(G392,6)=\"Atrium\",IF(G392='ASHRAE 90.1 2013 - CST'!$D$2,0.4+I392*0.02,I392*0.03),IF(ISBLANK(G392),IF(ISBLANK(H392),\"0\",VLOOKUP(H392,INDIRECT(\"BSSTTable_\"&$C$14),2,FALSE)),INDEX(INDIRECT(\"CSTTable_\"&$C$14),MATCH($C$16,INDIRECT(\"BldgTypes_\"&$C$14),0),MATCH(G392,INDIRECT(\"CSTTableTypes_\"&$C$14),0)))))","v":0},0,0,0,0,0,0,0,0,0,0,0,0,0,0,0,0,null,null,null,368,0,{"$f":"VLOOKUP(Worksheet!N392,code!$K$3:$M$13,3,FALSE)","v":{"$error":"#N/A"}},"","","","",""]
["-",null,null,null,1,0,null,null,null,null,null,0,0,null,null,null,null,null,{"$f":"IF(OR(ISBLANK($C$14),ISBLANK($C$16),ISBLANK($G$16),ISBLANK($G$17),AND(LEFT(G393,6)=\"Atrium\",ISBLANK(I393))=TRUE)=TRUE,0,IF(LEFT(G393,6)=\"Atrium\",IF(G393='ASHRAE 90.1 2013 - CST'!$D$2,0.4+I393*0.02,I393*0.03),IF(ISBLANK(G393),IF(ISBLANK(H393),\"0\",VLOOKUP(H393,INDIRECT(\"BSSTTable_\"&$C$14),2,FALSE)),INDEX(INDIRECT(\"CSTTable_\"&$C$14),MATCH($C$16,INDIRECT(\"BldgTypes_\"&$C$14),0),MATCH(G393,INDIRECT(\"CSTTableTypes_\"&$C$14),0)))))","v":0},0,0,0,0,0,0,0,0,0,0,0,0,0,0,0,0,null,null,null,369,0,{"$f":"VLOOKUP(Worksheet!N393,code!$K$3:$M$13,3,FALSE)","v":{"$error":"#N/A"}},"","","","",""]
["-",null,null,null,1,0,null,null,null,null,null,0,0,null,null,null,null,null,{"$f":"IF(OR(ISBLANK($C$14),ISBLANK($C$16),ISBLANK($G$16),ISBLANK($G$17),AND(LEFT(G394,6)=\"Atrium\",ISBLANK(I394))=TRUE)=TRUE,0,IF(LEFT(G394,6)=\"Atrium\",IF(G394='ASHRAE 90.1 2013 - CST'!$D$2,0.4+I394*0.02,I394*0.03),IF(ISBLANK(G394),IF(ISBLANK(H394),\"0\",VLOOKUP(H394,INDIRECT(\"BSSTTable_\"&$C$14),2,FALSE)),INDEX(INDIRECT(\"CSTTable_\"&$C$14),MATCH($C$16,INDIRECT(\"BldgTypes_\"&$C$14),0),MATCH(G394,INDIRECT(\"CSTTableTypes_\"&$C$14),0)))))","v":0},0,0,0,0,0,0,0,0,0,0,0,0,0,0,0,0,null,null,null,370,0,{"$f":"VLOOKUP(Worksheet!N394,code!$K$3:$M$13,3,FALSE)","v":{"$error":"#N/A"}},"","","","",""]
["-",null,null,null,1,0,null,null,null,null,null,0,0,null,null,null,null,null,{"$f":"IF(OR(ISBLANK($C$14),ISBLANK($C$16),ISBLANK($G$16),ISBLANK($G$17),AND(LEFT(G395,6)=\"Atrium\",ISBLANK(I395))=TRUE)=TRUE,0,IF(LEFT(G395,6)=\"Atrium\",IF(G395='ASHRAE 90.1 2013 - CST'!$D$2,0.4+I395*0.02,I395*0.03),IF(ISBLANK(G395),IF(ISBLANK(H395),\"0\",VLOOKUP(H395,INDIRECT(\"BSSTTable_\"&$C$14),2,FALSE)),INDEX(INDIRECT(\"CSTTable_\"&$C$14),MATCH($C$16,INDIRECT(\"BldgTypes_\"&$C$14),0),MATCH(G395,INDIRECT(\"CSTTableTypes_\"&$C$14),0)))))","v":0},0,0,0,0,0,0,0,0,0,0,0,0,0,0,0,0,null,null,null,371,0,{"$f":"VLOOKUP(Worksheet!N395,code!$K$3:$M$13,3,FALSE)","v":{"$error":"#N/A"}},"","","","",""]
["-",null,null,null,1,0,null,null,null,null,null,0,0,null,null,null,null,null,{"$f":"IF(OR(ISBLANK($C$14),ISBLANK($C$16),ISBLANK($G$16),ISBLANK($G$17),AND(LEFT(G396,6)=\"Atrium\",ISBLANK(I396))=TRUE)=TRUE,0,IF(LEFT(G396,6)=\"Atrium\",IF(G396='ASHRAE 90.1 2013 - CST'!$D$2,0.4+I396*0.02,I396*0.03),IF(ISBLANK(G396),IF(ISBLANK(H396),\"0\",VLOOKUP(H396,INDIRECT(\"BSSTTable_\"&$C$14),2,FALSE)),INDEX(INDIRECT(\"CSTTable_\"&$C$14),MATCH($C$16,INDIRECT(\"BldgTypes_\"&$C$14),0),MATCH(G396,INDIRECT(\"CSTTableTypes_\"&$C$14),0)))))","v":0},0,0,0,0,0,0,0,0,0,0,0,0,0,0,0,0,null,null,null,372,0,{"$f":"VLOOKUP(Worksheet!N396,code!$K$3:$M$13,3,FALSE)","v":{"$error":"#N/A"}},"","","","",""]
["-",null,null,null,1,0,null,null,null,null,null,0,0,null,null,null,null,null,{"$f":"IF(OR(ISBLANK($C$14),ISBLANK($C$16),ISBLANK($G$16),ISBLANK($G$17),AND(LEFT(G397,6)=\"Atrium\",ISBLANK(I397))=TRUE)=TRUE,0,IF(LEFT(G397,6)=\"Atrium\",IF(G397='ASHRAE 90.1 2013 - CST'!$D$2,0.4+I397*0.02,I397*0.03),IF(ISBLANK(G397),IF(ISBLANK(H397),\"0\",VLOOKUP(H397,INDIRECT(\"BSSTTable_\"&$C$14),2,FALSE)),INDEX(INDIRECT(\"CSTTable_\"&$C$14),MATCH($C$16,INDIRECT(\"BldgTypes_\"&$C$14),0),MATCH(G397,INDIRECT(\"CSTTableTypes_\"&$C$14),0)))))","v":0},0,0,0,0,0,0,0,0,0,0,0,0,0,0,0,0,null,null,null,373,0,{"$f":"VLOOKUP(Worksheet!N397,code!$K$3:$M$13,3,FALSE)","v":{"$error":"#N/A"}},"","","","",""]
["-",null,null,null,1,0,null,null,null,null,null,0,0,null,null,null,null,null,{"$f":"IF(OR(ISBLANK($C$14),ISBLANK($C$16),ISBLANK($G$16),ISBLANK($G$17),AND(LEFT(G398,6)=\"Atrium\",ISBLANK(I398))=TRUE)=TRUE,0,IF(LEFT(G398,6)=\"Atrium\",IF(G398='ASHRAE 90.1 2013 - CST'!$D$2,0.4+I398*0.02,I398*0.03),IF(ISBLANK(G398),IF(ISBLANK(H398),\"0\",VLOOKUP(H398,INDIRECT(\"BSSTTable_\"&$C$14),2,FALSE)),INDEX(INDIRECT(\"CSTTable_\"&$C$14),MATCH($C$16,INDIRECT(\"BldgTypes_\"&$C$14),0),MATCH(G398,INDIRECT(\"CSTTableTypes_\"&$C$14),0)))))","v":0},0,0,0,0,0,0,0,0,0,0,0,0,0,0,0,0,null,null,null,374,0,{"$f":"VLOOKUP(Worksheet!N398,code!$K$3:$M$13,3,FALSE)","v":{"$error":"#N/A"}},"","","","",""]
["-",null,null,null,1,0,null,null,null,null,null,0,0,null,null,null,null,null,{"$f":"IF(OR(ISBLANK($C$14),ISBLANK($C$16),ISBLANK($G$16),ISBLANK($G$17),AND(LEFT(G399,6)=\"Atrium\",ISBLANK(I399))=TRUE)=TRUE,0,IF(LEFT(G399,6)=\"Atrium\",IF(G399='ASHRAE 90.1 2013 - CST'!$D$2,0.4+I399*0.02,I399*0.03),IF(ISBLANK(G399),IF(ISBLANK(H399),\"0\",VLOOKUP(H399,INDIRECT(\"BSSTTable_\"&$C$14),2,FALSE)),INDEX(INDIRECT(\"CSTTable_\"&$C$14),MATCH($C$16,INDIRECT(\"BldgTypes_\"&$C$14),0),MATCH(G399,INDIRECT(\"CSTTableTypes_\"&$C$14),0)))))","v":0},0,0,0,0,0,0,0,0,0,0,0,0,0,0,0,0,null,null,null,375,0,{"$f":"VLOOKUP(Worksheet!N399,code!$K$3:$M$13,3,FALSE)","v":{"$error":"#N/A"}},"","","","",""]
["-",null,null,null,1,0,null,null,null,null,null,0,0,null,null,null,null,null,{"$f":"IF(OR(ISBLANK($C$14),ISBLANK($C$16),ISBLANK($G$16),ISBLANK($G$17),AND(LEFT(G400,6)=\"Atrium\",ISBLANK(I400))=TRUE)=TRUE,0,IF(LEFT(G400,6)=\"Atrium\",IF(G400='ASHRAE 90.1 2013 - CST'!$D$2,0.4+I400*0.02,I400*0.03),IF(ISBLANK(G400),IF(ISBLANK(H400),\"0\",VLOOKUP(H400,INDIRECT(\"BSSTTable_\"&$C$14),2,FALSE)),INDEX(INDIRECT(\"CSTTable_\"&$C$14),MATCH($C$16,INDIRECT(\"BldgTypes_\"&$C$14),0),MATCH(G400,INDIRECT(\"CSTTableTypes_\"&$C$14),0)))))","v":0},0,0,0,0,0,0,0,0,0,0,0,0,0,0,0,0,null,null,null,376,0,{"$f":"VLOOKUP(Worksheet!N400,code!$K$3:$M$13,3,FALSE)","v":{"$error":"#N/A"}},"","","","",""]
["-",null,null,null,1,0,null,null,null,null,null,0,0,null,null,null,null,null,{"$f":"IF(OR(ISBLANK($C$14),ISBLANK($C$16),ISBLANK($G$16),ISBLANK($G$17),AND(LEFT(G401,6)=\"Atrium\",ISBLANK(I401))=TRUE)=TRUE,0,IF(LEFT(G401,6)=\"Atrium\",IF(G401='ASHRAE 90.1 2013 - CST'!$D$2,0.4+I401*0.02,I401*0.03),IF(ISBLANK(G401),IF(ISBLANK(H401),\"0\",VLOOKUP(H401,INDIRECT(\"BSSTTable_\"&$C$14),2,FALSE)),INDEX(INDIRECT(\"CSTTable_\"&$C$14),MATCH($C$16,INDIRECT(\"BldgTypes_\"&$C$14),0),MATCH(G401,INDIRECT(\"CSTTableTypes_\"&$C$14),0)))))","v":0},0,0,0,0,0,0,0,0,0,0,0,0,0,0,0,0,null,null,null,377,0,{"$f":"VLOOKUP(Worksheet!N401,code!$K$3:$M$13,3,FALSE)","v":{"$error":"#N/A"}},"","","","",""]
["-",null,null,null,1,0,null,null,null,null,null,0,0,null,null,null,null,null,{"$f":"IF(OR(ISBLANK($C$14),ISBLANK($C$16),ISBLANK($G$16),ISBLANK($G$17),AND(LEFT(G402,6)=\"Atrium\",ISBLANK(I402))=TRUE)=TRUE,0,IF(LEFT(G402,6)=\"Atrium\",IF(G402='ASHRAE 90.1 2013 - CST'!$D$2,0.4+I402*0.02,I402*0.03),IF(ISBLANK(G402),IF(ISBLANK(H402),\"0\",VLOOKUP(H402,INDIRECT(\"BSSTTable_\"&$C$14),2,FALSE)),INDEX(INDIRECT(\"CSTTable_\"&$C$14),MATCH($C$16,INDIRECT(\"BldgTypes_\"&$C$14),0),MATCH(G402,INDIRECT(\"CSTTableTypes_\"&$C$14),0)))))","v":0},0,0,0,0,0,0,0,0,0,0,0,0,0,0,0,0,null,null,null,378,0,{"$f":"VLOOKUP(Worksheet!N402,code!$K$3:$M$13,3,FALSE)","v":{"$error":"#N/A"}},"","","","",""]
["-",null,null,null,1,0,null,null,null,null,null,0,0,null,null,null,null,null,{"$f":"IF(OR(ISBLANK($C$14),ISBLANK($C$16),ISBLANK($G$16),ISBLANK($G$17),AND(LEFT(G403,6)=\"Atrium\",ISBLANK(I403))=TRUE)=TRUE,0,IF(LEFT(G403,6)=\"Atrium\",IF(G403='ASHRAE 90.1 2013 - CST'!$D$2,0.4+I403*0.02,I403*0.03),IF(ISBLANK(G403),IF(ISBLANK(H403),\"0\",VLOOKUP(H403,INDIRECT(\"BSSTTable_\"&$C$14),2,FALSE)),INDEX(INDIRECT(\"CSTTable_\"&$C$14),MATCH($C$16,INDIRECT(\"BldgTypes_\"&$C$14),0),MATCH(G403,INDIRECT(\"CSTTableTypes_\"&$C$14),0)))))","v":0},0,0,0,0,0,0,0,0,0,0,0,0,0,0,0,0,null,null,null,379,0,{"$f":"VLOOKUP(Worksheet!N403,code!$K$3:$M$13,3,FALSE)","v":{"$error":"#N/A"}},"","","","",""]
["-",null,null,null,1,0,null,null,null,null,null,0,0,null,null,null,null,null,{"$f":"IF(OR(ISBLANK($C$14),ISBLANK($C$16),ISBLANK($G$16),ISBLANK($G$17),AND(LEFT(G404,6)=\"Atrium\",ISBLANK(I404))=TRUE)=TRUE,0,IF(LEFT(G404,6)=\"Atrium\",IF(G404='ASHRAE 90.1 2013 - CST'!$D$2,0.4+I404*0.02,I404*0.03),IF(ISBLANK(G404),IF(ISBLANK(H404),\"0\",VLOOKUP(H404,INDIRECT(\"BSSTTable_\"&$C$14),2,FALSE)),INDEX(INDIRECT(\"CSTTable_\"&$C$14),MATCH($C$16,INDIRECT(\"BldgTypes_\"&$C$14),0),MATCH(G404,INDIRECT(\"CSTTableTypes_\"&$C$14),0)))))","v":0},0,0,0,0,0,0,0,0,0,0,0,0,0,0,0,0,null,null,null,380,0,{"$f":"VLOOKUP(Worksheet!N404,code!$K$3:$M$13,3,FALSE)","v":{"$error":"#N/A"}},"","","","",""]
["-",null,null,null,1,0,null,null,null,null,null,0,0,null,null,null,null,null,{"$f":"IF(OR(ISBLANK($C$14),ISBLANK($C$16),ISBLANK($G$16),ISBLANK($G$17),AND(LEFT(G405,6)=\"Atrium\",ISBLANK(I405))=TRUE)=TRUE,0,IF(LEFT(G405,6)=\"Atrium\",IF(G405='ASHRAE 90.1 2013 - CST'!$D$2,0.4+I405*0.02,I405*0.03),IF(ISBLANK(G405),IF(ISBLANK(H405),\"0\",VLOOKUP(H405,INDIRECT(\"BSSTTable_\"&$C$14),2,FALSE)),INDEX(INDIRECT(\"CSTTable_\"&$C$14),MATCH($C$16,INDIRECT(\"BldgTypes_\"&$C$14),0),MATCH(G405,INDIRECT(\"CSTTableTypes_\"&$C$14),0)))))","v":0},0,0,0,0,0,0,0,0,0,0,0,0,0,0,0,0,null,null,null,381,0,{"$f":"VLOOKUP(Worksheet!N405,code!$K$3:$M$13,3,FALSE)","v":{"$error":"#N/A"}},"","","","",""]
["-",null,null,null,1,0,null,null,null,null,null,0,0,null,null,null,null,null,{"$f":"IF(OR(ISBLANK($C$14),ISBLANK($C$16),ISBLANK($G$16),ISBLANK($G$17),AND(LEFT(G406,6)=\"Atrium\",ISBLANK(I406))=TRUE)=TRUE,0,IF(LEFT(G406,6)=\"Atrium\",IF(G406='ASHRAE 90.1 2013 - CST'!$D$2,0.4+I406*0.02,I406*0.03),IF(ISBLANK(G406),IF(ISBLANK(H406),\"0\",VLOOKUP(H406,INDIRECT(\"BSSTTable_\"&$C$14),2,FALSE)),INDEX(INDIRECT(\"CSTTable_\"&$C$14),MATCH($C$16,INDIRECT(\"BldgTypes_\"&$C$14),0),MATCH(G406,INDIRECT(\"CSTTableTypes_\"&$C$14),0)))))","v":0},0,0,0,0,0,0,0,0,0,0,0,0,0,0,0,0,null,null,null,382,0,{"$f":"VLOOKUP(Worksheet!N406,code!$K$3:$M$13,3,FALSE)","v":{"$error":"#N/A"}},"","","","",""]
["-",null,null,null,1,0,null,null,null,null,null,0,0,null,null,null,null,null,{"$f":"IF(OR(ISBLANK($C$14),ISBLANK($C$16),ISBLANK($G$16),ISBLANK($G$17),AND(LEFT(G407,6)=\"Atrium\",ISBLANK(I407))=TRUE)=TRUE,0,IF(LEFT(G407,6)=\"Atrium\",IF(G407='ASHRAE 90.1 2013 - CST'!$D$2,0.4+I407*0.02,I407*0.03),IF(ISBLANK(G407),IF(ISBLANK(H407),\"0\",VLOOKUP(H407,INDIRECT(\"BSSTTable_\"&$C$14),2,FALSE)),INDEX(INDIRECT(\"CSTTable_\"&$C$14),MATCH($C$16,INDIRECT(\"BldgTypes_\"&$C$14),0),MATCH(G407,INDIRECT(\"CSTTableTypes_\"&$C$14),0)))))","v":0},0,0,0,0,0,0,0,0,0,0,0,0,0,0,0,0,null,null,null,383,0,{"$f":"VLOOKUP(Worksheet!N407,code!$K$3:$M$13,3,FALSE)","v":{"$error":"#N/A"}},"","","","",""]
["-",null,null,null,1,0,null,null,null,null,null,0,0,null,null,null,null,null,{"$f":"IF(OR(ISBLANK($C$14),ISBLANK($C$16),ISBLANK($G$16),ISBLANK($G$17),AND(LEFT(G408,6)=\"Atrium\",ISBLANK(I408))=TRUE)=TRUE,0,IF(LEFT(G408,6)=\"Atrium\",IF(G408='ASHRAE 90.1 2013 - CST'!$D$2,0.4+I408*0.02,I408*0.03),IF(ISBLANK(G408),IF(ISBLANK(H408),\"0\",VLOOKUP(H408,INDIRECT(\"BSSTTable_\"&$C$14),2,FALSE)),INDEX(INDIRECT(\"CSTTable_\"&$C$14),MATCH($C$16,INDIRECT(\"BldgTypes_\"&$C$14),0),MATCH(G408,INDIRECT(\"CSTTableTypes_\"&$C$14),0)))))","v":0},0,0,0,0,0,0,0,0,0,0,0,0,0,0,0,0,null,null,null,384,0,{"$f":"VLOOKUP(Worksheet!N408,code!$K$3:$M$13,3,FALSE)","v":{"$error":"#N/A"}},"","","","",""]
["-",null,null,null,1,0,null,null,null,null,null,0,0,null,null,null,null,null,{"$f":"IF(OR(ISBLANK($C$14),ISBLANK($C$16),ISBLANK($G$16),ISBLANK($G$17),AND(LEFT(G409,6)=\"Atrium\",ISBLANK(I409))=TRUE)=TRUE,0,IF(LEFT(G409,6)=\"Atrium\",IF(G409='ASHRAE 90.1 2013 - CST'!$D$2,0.4+I409*0.02,I409*0.03),IF(ISBLANK(G409),IF(ISBLANK(H409),\"0\",VLOOKUP(H409,INDIRECT(\"BSSTTable_\"&$C$14),2,FALSE)),INDEX(INDIRECT(\"CSTTable_\"&$C$14),MATCH($C$16,INDIRECT(\"BldgTypes_\"&$C$14),0),MATCH(G409,INDIRECT(\"CSTTableTypes_\"&$C$14),0)))))","v":0},0,0,0,0,0,0,0,0,0,0,0,0,0,0,0,0,null,null,null,385,0,{"$f":"VLOOKUP(Worksheet!N409,code!$K$3:$M$13,3,FALSE)","v":{"$error":"#N/A"}},{"$f":"IF($AR$21<>0, $AF$8/$AR$21*AR409, \"\")","v":""},"","",{"$f":"IF($AR$21<>0, $AG$8/$AR$21*$AR409, \"\")","v":""},""]
["-",null,null,null,1,0,null,null,null,null,null,{"$f":"C410*$E410","v":0},{"$f":"D410*$E410","v":0},null,null,null,null,null,{"$f":"IF(OR(ISBLANK($C$14),ISBLANK($C$16),ISBLANK($G$16),ISBLANK($G$17),AND(LEFT(G410,6)=\"Atrium\",ISBLANK(I410))=TRUE)=TRUE,0,IF(LEFT(G410,6)=\"Atrium\",IF(G410='ASHRAE 90.1 2013 - CST'!$D$2,0.4+I410*0.02,I410*0.03),IF(ISBLANK(G410),IF(ISBLANK(H410),\"0\",VLOOKUP(H410,INDIRECT(\"BSSTTable_\"&$C$14),2,FALSE)),INDEX(INDIRECT(\"CSTTable_\"&$C$14),MATCH($C$16,INDIRECT(\"BldgTypes_\"&$C$14),0),MATCH(G410,INDIRECT(\"CSTTableTypes_\"&$C$14),0)))))","v":0},{"$f":"S410","v":0},{"$f":"T410*F410","v":0},{"$f":"L410*P410","v":0},{"$f":"M410*P410","v":0},{"$f":"spaceSum(ROW(V410), COLUMN(V410))","v":0},{"$f":"spaceSum(ROW(W410), COLUMN(W410))","v":0},{"$f":"spaceSumIfYes(ROW(L410), COLUMN(L410), COLUMN(K410))","v":0},{"$f":"spaceSumIfYes(ROW(M410), COLUMN(M410), COLUMN(K410))","v":0},{"$f":"IF(B410=0,0,IF(AND(Z410>0,(U410-X410>0)),\"Y\",\"N\"))","v":0},{"$f":"IF(B410=0,0,IF(AND(AA410>0,(U410-Y410>0)),\"Y\",\"N\"))","v":0},{"$f":"IF(AND(NOT(ISNA(T410))),F410,0)","v":0},{"$f":"IF(NOT(ISNA(U410)),U410,0)","v":0},0,0,{"$f":"IF(AND(NOT(ISNA(X410)),$AB410=\"y\"),Z410,0)","v":0},{"$f":"IF(AND(NOT(ISNA(Y410)),$AC410=\"y\"),AA410,0)","v":0},null,null,null,386,{"$f":"IF(V410>0, IF(ISERROR(V410)=FALSE,V410),IF(ISERROR(W410)=FALSE,W410))","v":0},{"$f":"VLOOKUP(Worksheet!N410,code!$K$3:$M$13,3,FALSE)","v":{"$error":"#N/A"}},"",{"$f":"IF($AR$21<>0, $V$16/$AR$21*AR410, \"\")","v":""},{"$f":"IF(ISERROR(AN410)=FALSE,IF(ISERROR(AO410)=FALSE,AO410*AN410,\"\"),\"\")","v":""},"",{"$f":"IF($AR$21<>0, $V$17/$AR$21*$AR410, \"\")","v":""}]
["-",null,null,null,1,0,null,null,null,null,null,0,0,null,null,null,null,null,{"$f":"IF(OR(ISBLANK($C$14),ISBLANK($C$16),ISBLANK($G$16),ISBLANK($G$17),AND(LEFT(G411,6)=\"Atrium\",ISBLANK(I411))=TRUE)=TRUE,0,IF(LEFT(G411,6)=\"Atrium\",IF(G411='ASHRAE 90.1 2013 - CST'!$D$2,0.4+I411*0.02,I411*0.03),IF(ISBLANK(G411),IF(ISBLANK(H411),\"0\",VLOOKUP(H411,INDIRECT(\"BSSTTable_\"&$C$14),2,FALSE)),INDEX(INDIRECT(\"CSTTable_\"&$C$14),MATCH($C$16,INDIRECT(\"BldgTypes_\"&$C$14),0),MATCH(G411,INDIRECT(\"CSTTableTypes_\"&$C$14),0)))))","v":0},0,0,0,0,0,0,0,0,0,0,0,0,0,0,0,0,null,null,null,387,0,{"$f":"VLOOKUP(Worksheet!N411,code!$K$3:$M$13,3,FALSE)","v":{"$error":"#N/A"}},"","","","",""]
["-",null,null,null,1,0,null,null,null,null,null,0,0,null,null,null,null,null,{"$f":"IF(OR(ISBLANK($C$14),ISBLANK($C$16),ISBLANK($G$16),ISBLANK($G$17),AND(LEFT(G412,6)=\"Atrium\",ISBLANK(I412))=TRUE)=TRUE,0,IF(LEFT(G412,6)=\"Atrium\",IF(G412='ASHRAE 90.1 2013 - CST'!$D$2,0.4+I412*0.02,I412*0.03),IF(ISBLANK(G412),IF(ISBLANK(H412),\"0\",VLOOKUP(H412,INDIRECT(\"BSSTTable_\"&$C$14),2,FALSE)),INDEX(INDIRECT(\"CSTTable_\"&$C$14),MATCH($C$16,INDIRECT(\"BldgTypes_\"&$C$14),0),MATCH(G412,INDIRECT(\"CSTTableTypes_\"&$C$14),0)))))","v":0},0,0,0,0,0,0,0,0,0,0,0,0,0,0,0,0,null,null,null,388,0,{"$f":"VLOOKUP(Worksheet!N412,code!$K$3:$M$13,3,FALSE)","v":{"$error":"#N/A"}},"","","","",""]
["-",null,null,null,1,0,null,null,null,null,null,0,0,null,null,null,null,null,{"$f":"IF(OR(ISBLANK($C$14),ISBLANK($C$16),ISBLANK($G$16),ISBLANK($G$17),AND(LEFT(G413,6)=\"Atrium\",ISBLANK(I413))=TRUE)=TRUE,0,IF(LEFT(G413,6)=\"Atrium\",IF(G413='ASHRAE 90.1 2013 - CST'!$D$2,0.4+I413*0.02,I413*0.03),IF(ISBLANK(G413),IF(ISBLANK(H413),\"0\",VLOOKUP(H413,INDIRECT(\"BSSTTable_\"&$C$14),2,FALSE)),INDEX(INDIRECT(\"CSTTable_\"&$C$14),MATCH($C$16,INDIRECT(\"BldgTypes_\"&$C$14),0),MATCH(G413,INDIRECT(\"CSTTableTypes_\"&$C$14),0)))))","v":0},0,0,0,0,0,0,0,0,0,0,0,0,0,0,0,0,null,null,null,389,0,{"$f":"VLOOKUP(Worksheet!N413,code!$K$3:$M$13,3,FALSE)","v":{"$error":"#N/A"}},"","","","",""]
["-",null,null,null,1,0,null,null,null,null,null,0,0,null,null,null,null,null,{"$f":"IF(OR(ISBLANK($C$14),ISBLANK($C$16),ISBLANK($G$16),ISBLANK($G$17),AND(LEFT(G414,6)=\"Atrium\",ISBLANK(I414))=TRUE)=TRUE,0,IF(LEFT(G414,6)=\"Atrium\",IF(G414='ASHRAE 90.1 2013 - CST'!$D$2,0.4+I414*0.02,I414*0.03),IF(ISBLANK(G414),IF(ISBLANK(H414),\"0\",VLOOKUP(H414,INDIRECT(\"BSSTTable_\"&$C$14),2,FALSE)),INDEX(INDIRECT(\"CSTTable_\"&$C$14),MATCH($C$16,INDIRECT(\"BldgTypes_\"&$C$14),0),MATCH(G414,INDIRECT(\"CSTTableTypes_\"&$C$14),0)))))","v":0},0,0,0,0,0,0,0,0,0,0,0,0,0,0,0,0,null,null,null,390,0,{"$f":"VLOOKUP(Worksheet!N414,code!$K$3:$M$13,3,FALSE)","v":{"$error":"#N/A"}},"","","","",""]
["-",null,null,null,1,0,null,null,null,null,null,0,0,null,null,null,null,null,{"$f":"IF(OR(ISBLANK($C$14),ISBLANK($C$16),ISBLANK($G$16),ISBLANK($G$17),AND(LEFT(G415,6)=\"Atrium\",ISBLANK(I415))=TRUE)=TRUE,0,IF(LEFT(G415,6)=\"Atrium\",IF(G415='ASHRAE 90.1 2013 - CST'!$D$2,0.4+I415*0.02,I415*0.03),IF(ISBLANK(G415),IF(ISBLANK(H415),\"0\",VLOOKUP(H415,INDIRECT(\"BSSTTable_\"&$C$14),2,FALSE)),INDEX(INDIRECT(\"CSTTable_\"&$C$14),MATCH($C$16,INDIRECT(\"BldgTypes_\"&$C$14),0),MATCH(G415,INDIRECT(\"CSTTableTypes_\"&$C$14),0)))))","v":0},0,0,0,0,0,0,0,0,0,0,0,0,0,0,0,0,null,null,null,391,0,{"$f":"VLOOKUP(Worksheet!N415,code!$K$3:$M$13,3,FALSE)","v":{"$error":"#N/A"}},"","","","",""]
["-",null,null,null,1,0,null,null,null,null,null,0,0,null,null,null,null,null,{"$f":"IF(OR(ISBLANK($C$14),ISBLANK($C$16),ISBLANK($G$16),ISBLANK($G$17),AND(LEFT(G416,6)=\"Atrium\",ISBLANK(I416))=TRUE)=TRUE,0,IF(LEFT(G416,6)=\"Atrium\",IF(G416='ASHRAE 90.1 2013 - CST'!$D$2,0.4+I416*0.02,I416*0.03),IF(ISBLANK(G416),IF(ISBLANK(H416),\"0\",VLOOKUP(H416,INDIRECT(\"BSSTTable_\"&$C$14),2,FALSE)),INDEX(INDIRECT(\"CSTTable_\"&$C$14),MATCH($C$16,INDIRECT(\"BldgTypes_\"&$C$14),0),MATCH(G416,INDIRECT(\"CSTTableTypes_\"&$C$14),0)))))","v":0},0,0,0,0,0,0,0,0,0,0,0,0,0,0,0,0,null,null,null,392,0,{"$f":"VLOOKUP(Worksheet!N416,code!$K$3:$M$13,3,FALSE)","v":{"$error":"#N/A"}},"","","","",""]
["-",null,null,null,1,0,null,null,null,null,null,0,0,null,null,null,null,null,{"$f":"IF(OR(ISBLANK($C$14),ISBLANK($C$16),ISBLANK($G$16),ISBLANK($G$17),AND(LEFT(G417,6)=\"Atrium\",ISBLANK(I417))=TRUE)=TRUE,0,IF(LEFT(G417,6)=\"Atrium\",IF(G417='ASHRAE 90.1 2013 - CST'!$D$2,0.4+I417*0.02,I417*0.03),IF(ISBLANK(G417),IF(ISBLANK(H417),\"0\",VLOOKUP(H417,INDIRECT(\"BSSTTable_\"&$C$14),2,FALSE)),INDEX(INDIRECT(\"CSTTable_\"&$C$14),MATCH($C$16,INDIRECT(\"BldgTypes_\"&$C$14),0),MATCH(G417,INDIRECT(\"CSTTableTypes_\"&$C$14),0)))))","v":0},0,0,0,0,0,0,0,0,0,0,0,0,0,0,0,0,null,null,null,393,0,{"$f":"VLOOKUP(Worksheet!N417,code!$K$3:$M$13,3,FALSE)","v":{"$error":"#N/A"}},"","","","",""]
["-",null,null,null,1,0,null,null,null,null,null,0,0,null,null,null,null,null,{"$f":"IF(OR(ISBLANK($C$14),ISBLANK($C$16),ISBLANK($G$16),ISBLANK($G$17),AND(LEFT(G418,6)=\"Atrium\",ISBLANK(I418))=TRUE)=TRUE,0,IF(LEFT(G418,6)=\"Atrium\",IF(G418='ASHRAE 90.1 2013 - CST'!$D$2,0.4+I418*0.02,I418*0.03),IF(ISBLANK(G418),IF(ISBLANK(H418),\"0\",VLOOKUP(H418,INDIRECT(\"BSSTTable_\"&$C$14),2,FALSE)),INDEX(INDIRECT(\"CSTTable_\"&$C$14),MATCH($C$16,INDIRECT(\"BldgTypes_\"&$C$14),0),MATCH(G418,INDIRECT(\"CSTTableTypes_\"&$C$14),0)))))","v":0},0,0,0,0,0,0,0,0,0,0,0,0,0,0,0,0,null,null,null,394,0,{"$f":"VLOOKUP(Worksheet!N418,code!$K$3:$M$13,3,FALSE)","v":{"$error":"#N/A"}},"","","","",""]
["-",null,null,null,1,0,null,null,null,null,null,0,0,null,null,null,null,null,{"$f":"IF(OR(ISBLANK($C$14),ISBLANK($C$16),ISBLANK($G$16),ISBLANK($G$17),AND(LEFT(G419,6)=\"Atrium\",ISBLANK(I419))=TRUE)=TRUE,0,IF(LEFT(G419,6)=\"Atrium\",IF(G419='ASHRAE 90.1 2013 - CST'!$D$2,0.4+I419*0.02,I419*0.03),IF(ISBLANK(G419),IF(ISBLANK(H419),\"0\",VLOOKUP(H419,INDIRECT(\"BSSTTable_\"&$C$14),2,FALSE)),INDEX(INDIRECT(\"CSTTable_\"&$C$14),MATCH($C$16,INDIRECT(\"BldgTypes_\"&$C$14),0),MATCH(G419,INDIRECT(\"CSTTableTypes_\"&$C$14),0)))))","v":0},0,0,0,0,0,0,0,0,0,0,0,0,0,0,0,0,null,null,null,395,0,{"$f":"VLOOKUP(Worksheet!N419,code!$K$3:$M$13,3,FALSE)","v":{"$error":"#N/A"}},"","","","",""]
["-",null,null,null,1,0,null,null,null,null,null,0,0,null,null,null,null,null,{"$f":"IF(OR(ISBLANK($C$14),ISBLANK($C$16),ISBLANK($G$16),ISBLANK($G$17),AND(LEFT(G420,6)=\"Atrium\",ISBLANK(I420))=TRUE)=TRUE,0,IF(LEFT(G420,6)=\"Atrium\",IF(G420='ASHRAE 90.1 2013 - CST'!$D$2,0.4+I420*0.02,I420*0.03),IF(ISBLANK(G420),IF(ISBLANK(H420),\"0\",VLOOKUP(H420,INDIRECT(\"BSSTTable_\"&$C$14),2,FALSE)),INDEX(INDIRECT(\"CSTTable_\"&$C$14),MATCH($C$16,INDIRECT(\"BldgTypes_\"&$C$14),0),MATCH(G420,INDIRECT(\"CSTTableTypes_\"&$C$14),0)))))","v":0},0,0,0,0,0,0,0,0,0,0,0,0,0,0,0,0,null,null,null,396,0,{"$f":"VLOOKUP(Worksheet!N420,code!$K$3:$M$13,3,FALSE)","v":{"$error":"#N/A"}},"","","","",""]
["-",null,null,null,1,0,null,null,null,null,null,0,0,null,null,null,null,null,{"$f":"IF(OR(ISBLANK($C$14),ISBLANK($C$16),ISBLANK($G$16),ISBLANK($G$17),AND(LEFT(G421,6)=\"Atrium\",ISBLANK(I421))=TRUE)=TRUE,0,IF(LEFT(G421,6)=\"Atrium\",IF(G421='ASHRAE 90.1 2013 - CST'!$D$2,0.4+I421*0.02,I421*0.03),IF(ISBLANK(G421),IF(ISBLANK(H421),\"0\",VLOOKUP(H421,INDIRECT(\"BSSTTable_\"&$C$14),2,FALSE)),INDEX(INDIRECT(\"CSTTable_\"&$C$14),MATCH($C$16,INDIRECT(\"BldgTypes_\"&$C$14),0),MATCH(G421,INDIRECT(\"CSTTableTypes_\"&$C$14),0)))))","v":0},0,0,0,0,0,0,0,0,0,0,0,0,0,0,0,0,null,null,null,397,0,{"$f":"VLOOKUP(Worksheet!N421,code!$K$3:$M$13,3,FALSE)","v":{"$error":"#N/A"}},"","","","",""]
["-",null,null,null,1,0,null,null,null,null,null,0,0,null,null,null,null,null,{"$f":"IF(OR(ISBLANK($C$14),ISBLANK($C$16),ISBLANK($G$16),ISBLANK($G$17),AND(LEFT(G422,6)=\"Atrium\",ISBLANK(I422))=TRUE)=TRUE,0,IF(LEFT(G422,6)=\"Atrium\",IF(G422='ASHRAE 90.1 2013 - CST'!$D$2,0.4+I422*0.02,I422*0.03),IF(ISBLANK(G422),IF(ISBLANK(H422),\"0\",VLOOKUP(H422,INDIRECT(\"BSSTTable_\"&$C$14),2,FALSE)),INDEX(INDIRECT(\"CSTTable_\"&$C$14),MATCH($C$16,INDIRECT(\"BldgTypes_\"&$C$14),0),MATCH(G422,INDIRECT(\"CSTTableTypes_\"&$C$14),0)))))","v":0},0,0,0,0,0,0,0,0,0,0,0,0,0,0,0,0,null,null,null,398,0,{"$f":"VLOOKUP(Worksheet!N422,code!$K$3:$M$13,3,FALSE)","v":{"$error":"#N/A"}},"","","","",""]
["-",null,null,null,1,0,null,null,null,null,null,0,0,null,null,null,null,null,{"$f":"IF(OR(ISBLANK($C$14),ISBLANK($C$16),ISBLANK($G$16),ISBLANK($G$17),AND(LEFT(G423,6)=\"Atrium\",ISBLANK(I423))=TRUE)=TRUE,0,IF(LEFT(G423,6)=\"Atrium\",IF(G423='ASHRAE 90.1 2013 - CST'!$D$2,0.4+I423*0.02,I423*0.03),IF(ISBLANK(G423),IF(ISBLANK(H423),\"0\",VLOOKUP(H423,INDIRECT(\"BSSTTable_\"&$C$14),2,FALSE)),INDEX(INDIRECT(\"CSTTable_\"&$C$14),MATCH($C$16,INDIRECT(\"BldgTypes_\"&$C$14),0),MATCH(G423,INDIRECT(\"CSTTableTypes_\"&$C$14),0)))))","v":0},0,0,0,0,0,0,0,0,0,0,0,0,0,0,0,0,null,null,null,399,0,{"$f":"VLOOKUP(Worksheet!N423,code!$K$3:$M$13,3,FALSE)","v":{"$error":"#N/A"}},"","","","",""]
["-",null,null,null,1,0,null,null,null,null,null,0,0,null,null,null,null,null,{"$f":"IF(OR(ISBLANK($C$14),ISBLANK($C$16),ISBLANK($G$16),ISBLANK($G$17),AND(LEFT(G424,6)=\"Atrium\",ISBLANK(I424))=TRUE)=TRUE,0,IF(LEFT(G424,6)=\"Atrium\",IF(G424='ASHRAE 90.1 2013 - CST'!$D$2,0.4+I424*0.02,I424*0.03),IF(ISBLANK(G424),IF(ISBLANK(H424),\"0\",VLOOKUP(H424,INDIRECT(\"BSSTTable_\"&$C$14),2,FALSE)),INDEX(INDIRECT(\"CSTTable_\"&$C$14),MATCH($C$16,INDIRECT(\"BldgTypes_\"&$C$14),0),MATCH(G424,INDIRECT(\"CSTTableTypes_\"&$C$14),0)))))","v":0},0,0,0,0,0,0,0,0,0,0,0,0,0,0,0,0,null,null,null,400,0,{"$f":"VLOOKUP(Worksheet!N424,code!$K$3:$M$13,3,FALSE)","v":{"$error":"#N/A"}},"","","","",""]
["-",null,null,null,1,0,null,null,null,null,null,0,0,null,null,null,null,null,{"$f":"IF(OR(ISBLANK($C$14),ISBLANK($C$16),ISBLANK($G$16),ISBLANK($G$17),AND(LEFT(G425,6)=\"Atrium\",ISBLANK(I425))=TRUE)=TRUE,0,IF(LEFT(G425,6)=\"Atrium\",IF(G425='ASHRAE 90.1 2013 - CST'!$D$2,0.4+I425*0.02,I425*0.03),IF(ISBLANK(G425),IF(ISBLANK(H425),\"0\",VLOOKUP(H425,INDIRECT(\"BSSTTable_\"&$C$14),2,FALSE)),INDEX(INDIRECT(\"CSTTable_\"&$C$14),MATCH($C$16,INDIRECT(\"BldgTypes_\"&$C$14),0),MATCH(G425,INDIRECT(\"CSTTableTypes_\"&$C$14),0)))))","v":0},0,0,0,0,0,0,0,0,0,0,0,0,0,0,0,0,null,null,null,401,0,{"$f":"VLOOKUP(Worksheet!N425,code!$K$3:$M$13,3,FALSE)","v":{"$error":"#N/A"}},"","","","",""]
["-",null,null,null,1,0,null,null,null,null,null,0,0,null,null,null,null,null,{"$f":"IF(OR(ISBLANK($C$14),ISBLANK($C$16),ISBLANK($G$16),ISBLANK($G$17),AND(LEFT(G426,6)=\"Atrium\",ISBLANK(I426))=TRUE)=TRUE,0,IF(LEFT(G426,6)=\"Atrium\",IF(G426='ASHRAE 90.1 2013 - CST'!$D$2,0.4+I426*0.02,I426*0.03),IF(ISBLANK(G426),IF(ISBLANK(H426),\"0\",VLOOKUP(H426,INDIRECT(\"BSSTTable_\"&$C$14),2,FALSE)),INDEX(INDIRECT(\"CSTTable_\"&$C$14),MATCH($C$16,INDIRECT(\"BldgTypes_\"&$C$14),0),MATCH(G426,INDIRECT(\"CSTTableTypes_\"&$C$14),0)))))","v":0},0,0,0,0,0,0,0,0,0,0,0,0,0,0,0,0,null,null,null,402,0,{"$f":"VLOOKUP(Worksheet!N426,code!$K$3:$M$13,3,FALSE)","v":{"$error":"#N/A"}},"","","","",""]
["-",null,null,null,1,0,null,null,null,null,null,0,0,null,null,null,null,null,{"$f":"IF(OR(ISBLANK($C$14),ISBLANK($C$16),ISBLANK($G$16),ISBLANK($G$17),AND(LEFT(G427,6)=\"Atrium\",ISBLANK(I427))=TRUE)=TRUE,0,IF(LEFT(G427,6)=\"Atrium\",IF(G427='ASHRAE 90.1 2013 - CST'!$D$2,0.4+I427*0.02,I427*0.03),IF(ISBLANK(G427),IF(ISBLANK(H427),\"0\",VLOOKUP(H427,INDIRECT(\"BSSTTable_\"&$C$14),2,FALSE)),INDEX(INDIRECT(\"CSTTable_\"&$C$14),MATCH($C$16,INDIRECT(\"BldgTypes_\"&$C$14),0),MATCH(G427,INDIRECT(\"CSTTableTypes_\"&$C$14),0)))))","v":0},0,0,0,0,0,0,0,0,0,0,0,0,0,0,0,0,null,null,null,403,0,{"$f":"VLOOKUP(Worksheet!N427,code!$K$3:$M$13,3,FALSE)","v":{"$error":"#N/A"}},"","","","",""]
["-",null,null,null,1,0,null,null,null,null,null,0,0,null,null,null,null,null,{"$f":"IF(OR(ISBLANK($C$14),ISBLANK($C$16),ISBLANK($G$16),ISBLANK($G$17),AND(LEFT(G428,6)=\"Atrium\",ISBLANK(I428))=TRUE)=TRUE,0,IF(LEFT(G428,6)=\"Atrium\",IF(G428='ASHRAE 90.1 2013 - CST'!$D$2,0.4+I428*0.02,I428*0.03),IF(ISBLANK(G428),IF(ISBLANK(H428),\"0\",VLOOKUP(H428,INDIRECT(\"BSSTTable_\"&$C$14),2,FALSE)),INDEX(INDIRECT(\"CSTTable_\"&$C$14),MATCH($C$16,INDIRECT(\"BldgTypes_\"&$C$14),0),MATCH(G428,INDIRECT(\"CSTTableTypes_\"&$C$14),0)))))","v":0},0,0,0,0,0,0,0,0,0,0,0,0,0,0,0,0,null,null,null,404,0,{"$f":"VLOOKUP(Worksheet!N428,code!$K$3:$M$13,3,FALSE)","v":{"$error":"#N/A"}},"","","","",""]
["-",null,null,null,1,0,null,null,null,null,null,0,0,null,null,null,null,null,{"$f":"IF(OR(ISBLANK($C$14),ISBLANK($C$16),ISBLANK($G$16),ISBLANK($G$17),AND(LEFT(G429,6)=\"Atrium\",ISBLANK(I429))=TRUE)=TRUE,0,IF(LEFT(G429,6)=\"Atrium\",IF(G429='ASHRAE 90.1 2013 - CST'!$D$2,0.4+I429*0.02,I429*0.03),IF(ISBLANK(G429),IF(ISBLANK(H429),\"0\",VLOOKUP(H429,INDIRECT(\"BSSTTable_\"&$C$14),2,FALSE)),INDEX(INDIRECT(\"CSTTable_\"&$C$14),MATCH($C$16,INDIRECT(\"BldgTypes_\"&$C$14),0),MATCH(G429,INDIRECT(\"CSTTableTypes_\"&$C$14),0)))))","v":0},0,0,0,0,0,0,0,0,0,0,0,0,0,0,0,0,null,null,null,405,0,{"$f":"VLOOKUP(Worksheet!N429,code!$K$3:$M$13,3,FALSE)","v":{"$error":"#N/A"}},"","","","",""]
["-",null,null,null,1,0,null,null,null,null,null,0,0,null,null,null,null,null,{"$f":"IF(OR(ISBLANK($C$14),ISBLANK($C$16),ISBLANK($G$16),ISBLANK($G$17),AND(LEFT(G430,6)=\"Atrium\",ISBLANK(I430))=TRUE)=TRUE,0,IF(LEFT(G430,6)=\"Atrium\",IF(G430='ASHRAE 90.1 2013 - CST'!$D$2,0.4+I430*0.02,I430*0.03),IF(ISBLANK(G430),IF(ISBLANK(H430),\"0\",VLOOKUP(H430,INDIRECT(\"BSSTTable_\"&$C$14),2,FALSE)),INDEX(INDIRECT(\"CSTTable_\"&$C$14),MATCH($C$16,INDIRECT(\"BldgTypes_\"&$C$14),0),MATCH(G430,INDIRECT(\"CSTTableTypes_\"&$C$14),0)))))","v":0},0,0,0,0,0,0,0,0,0,0,0,0,0,0,0,0,null,null,null,406,0,{"$f":"VLOOKUP(Worksheet!N430,code!$K$3:$M$13,3,FALSE)","v":{"$error":"#N/A"}},"","","","",""]
["-",null,null,null,1,0,null,null,null,null,null,0,0,null,null,null,null,null,{"$f":"IF(OR(ISBLANK($C$14),ISBLANK($C$16),ISBLANK($G$16),ISBLANK($G$17),AND(LEFT(G431,6)=\"Atrium\",ISBLANK(I431))=TRUE)=TRUE,0,IF(LEFT(G431,6)=\"Atrium\",IF(G431='ASHRAE 90.1 2013 - CST'!$D$2,0.4+I431*0.02,I431*0.03),IF(ISBLANK(G431),IF(ISBLANK(H431),\"0\",VLOOKUP(H431,INDIRECT(\"BSSTTable_\"&$C$14),2,FALSE)),INDEX(INDIRECT(\"CSTTable_\"&$C$14),MATCH($C$16,INDIRECT(\"BldgTypes_\"&$C$14),0),MATCH(G431,INDIRECT(\"CSTTableTypes_\"&$C$14),0)))))","v":0},0,0,0,0,0,0,0,0,0,0,0,0,0,0,0,0,null,null,null,407,0,{"$f":"VLOOKUP(Worksheet!N431,code!$K$3:$M$13,3,FALSE)","v":{"$error":"#N/A"}},"","","","",""]
["-",null,null,null,1,0,null,null,null,null,null,0,0,null,null,null,null,null,{"$f":"IF(OR(ISBLANK($C$14),ISBLANK($C$16),ISBLANK($G$16),ISBLANK($G$17),AND(LEFT(G432,6)=\"Atrium\",ISBLANK(I432))=TRUE)=TRUE,0,IF(LEFT(G432,6)=\"Atrium\",IF(G432='ASHRAE 90.1 2013 - CST'!$D$2,0.4+I432*0.02,I432*0.03),IF(ISBLANK(G432),IF(ISBLANK(H432),\"0\",VLOOKUP(H432,INDIRECT(\"BSSTTable_\"&$C$14),2,FALSE)),INDEX(INDIRECT(\"CSTTable_\"&$C$14),MATCH($C$16,INDIRECT(\"BldgTypes_\"&$C$14),0),MATCH(G432,INDIRECT(\"CSTTableTypes_\"&$C$14),0)))))","v":0},0,0,0,0,0,0,0,0,0,0,0,0,0,0,0,0,null,null,null,408,0,{"$f":"VLOOKUP(Worksheet!N432,code!$K$3:$M$13,3,FALSE)","v":{"$error":"#N/A"}},"","","","",""]
["-",null,null,null,1,{"$f":"B433*E433","v":0},null,null,null,null,null,0,0,null,null,null,null,null,{"$f":"IF(OR(ISBLANK($C$14),ISBLANK($C$16),ISBLANK($G$16),ISBLANK($G$17),AND(LEFT(G433,6)=\"Atrium\",ISBLANK(I433))=TRUE)=TRUE,0,IF(LEFT(G433,6)=\"Atrium\",IF(G433='ASHRAE 90.1 2013 - CST'!$D$2,0.4+I433*0.02,I433*0.03),IF(ISBLANK(G433),IF(ISBLANK(H433),\"0\",VLOOKUP(H433,INDIRECT(\"BSSTTable_\"&$C$14),2,FALSE)),INDEX(INDIRECT(\"CSTTable_\"&$C$14),MATCH($C$16,INDIRECT(\"BldgTypes_\"&$C$14),0),MATCH(G433,INDIRECT(\"CSTTableTypes_\"&$C$14),0)))))","v":0},0,0,0,0,0,0,0,0,0,0,0,0,{"$f":"IF(AND(NOT(ISNA(V433)),$AB433=\"y\"),X433,0)","v":0},{"$f":"IF(AND(NOT(ISNA(W433)),$AC433=\"y\"),Y433,0)","v":0},0,0,null,null,null,{"$f":"AM432+1","v":409},0,{"$f":"VLOOKUP(Worksheet!N433,code!$K$3:$M$13,3,FALSE)","v":{"$error":"#N/A"}},"","","","",""]
["-",null,null,null,1,0,null,null,null,null,null,0,0,null,null,null,null,null,{"$f":"IF(OR(ISBLANK($C$14),ISBLANK($C$16),ISBLANK($G$16),ISBLANK($G$17),AND(LEFT(G434,6)=\"Atrium\",ISBLANK(I434))=TRUE)=TRUE,0,IF(LEFT(G434,6)=\"Atrium\",IF(G434='ASHRAE 90.1 2013 - CST'!$D$2,0.4+I434*0.02,I434*0.03),IF(ISBLANK(G434),IF(ISBLANK(H434),\"0\",VLOOKUP(H434,INDIRECT(\"BSSTTable_\"&$C$14),2,FALSE)),INDEX(INDIRECT(\"CSTTable_\"&$C$14),MATCH($C$16,INDIRECT(\"BldgTypes_\"&$C$14),0),MATCH(G434,INDIRECT(\"CSTTableTypes_\"&$C$14),0)))))","v":0},0,0,0,0,0,0,0,0,0,0,0,0,0,0,0,0,null,null,null,410,0,{"$f":"VLOOKUP(Worksheet!N434,code!$K$3:$M$13,3,FALSE)","v":{"$error":"#N/A"}},"","","","",""]
["-",null,null,null,1,0,null,null,null,null,null,0,0,null,null,null,null,null,{"$f":"IF(OR(ISBLANK($C$14),ISBLANK($C$16),ISBLANK($G$16),ISBLANK($G$17),AND(LEFT(G435,6)=\"Atrium\",ISBLANK(I435))=TRUE)=TRUE,0,IF(LEFT(G435,6)=\"Atrium\",IF(G435='ASHRAE 90.1 2013 - CST'!$D$2,0.4+I435*0.02,I435*0.03),IF(ISBLANK(G435),IF(ISBLANK(H435),\"0\",VLOOKUP(H435,INDIRECT(\"BSSTTable_\"&$C$14),2,FALSE)),INDEX(INDIRECT(\"CSTTable_\"&$C$14),MATCH($C$16,INDIRECT(\"BldgTypes_\"&$C$14),0),MATCH(G435,INDIRECT(\"CSTTableTypes_\"&$C$14),0)))))","v":0},0,0,0,0,0,0,0,0,0,0,0,0,0,0,0,0,null,null,null,411,0,{"$f":"VLOOKUP(Worksheet!N435,code!$K$3:$M$13,3,FALSE)","v":{"$error":"#N/A"}},"","","","",""]
["-",null,null,null,1,0,null,null,null,null,null,0,0,null,null,null,null,null,{"$f":"IF(OR(ISBLANK($C$14),ISBLANK($C$16),ISBLANK($G$16),ISBLANK($G$17),AND(LEFT(G436,6)=\"Atrium\",ISBLANK(I436))=TRUE)=TRUE,0,IF(LEFT(G436,6)=\"Atrium\",IF(G436='ASHRAE 90.1 2013 - CST'!$D$2,0.4+I436*0.02,I436*0.03),IF(ISBLANK(G436),IF(ISBLANK(H436),\"0\",VLOOKUP(H436,INDIRECT(\"BSSTTable_\"&$C$14),2,FALSE)),INDEX(INDIRECT(\"CSTTable_\"&$C$14),MATCH($C$16,INDIRECT(\"BldgTypes_\"&$C$14),0),MATCH(G436,INDIRECT(\"CSTTableTypes_\"&$C$14),0)))))","v":0},0,0,0,0,0,0,0,0,0,0,0,0,0,0,0,0,null,null,null,412,0,{"$f":"VLOOKUP(Worksheet!N436,code!$K$3:$M$13,3,FALSE)","v":{"$error":"#N/A"}},"","","","",""]
["-",null,null,null,1,0,null,null,null,null,null,0,0,null,null,null,null,null,{"$f":"IF(OR(ISBLANK($C$14),ISBLANK($C$16),ISBLANK($G$16),ISBLANK($G$17),AND(LEFT(G437,6)=\"Atrium\",ISBLANK(I437))=TRUE)=TRUE,0,IF(LEFT(G437,6)=\"Atrium\",IF(G437='ASHRAE 90.1 2013 - CST'!$D$2,0.4+I437*0.02,I437*0.03),IF(ISBLANK(G437),IF(ISBLANK(H437),\"0\",VLOOKUP(H437,INDIRECT(\"BSSTTable_\"&$C$14),2,FALSE)),INDEX(INDIRECT(\"CSTTable_\"&$C$14),MATCH($C$16,INDIRECT(\"BldgTypes_\"&$C$14),0),MATCH(G437,INDIRECT(\"CSTTableTypes_\"&$C$14),0)))))","v":0},0,0,0,0,0,0,0,0,0,0,0,0,0,0,0,0,null,null,null,413,0,{"$f":"VLOOKUP(Worksheet!N437,code!$K$3:$M$13,3,FALSE)","v":{"$error":"#N/A"}},"","","","",""]
["-",null,null,null,1,0,null,null,null,null,null,0,0,null,null,null,null,null,{"$f":"IF(OR(ISBLANK($C$14),ISBLANK($C$16),ISBLANK($G$16),ISBLANK($G$17),AND(LEFT(G438,6)=\"Atrium\",ISBLANK(I438))=TRUE)=TRUE,0,IF(LEFT(G438,6)=\"Atrium\",IF(G438='ASHRAE 90.1 2013 - CST'!$D$2,0.4+I438*0.02,I438*0.03),IF(ISBLANK(G438),IF(ISBLANK(H438),\"0\",VLOOKUP(H438,INDIRECT(\"BSSTTable_\"&$C$14),2,FALSE)),INDEX(INDIRECT(\"CSTTable_\"&$C$14),MATCH($C$16,INDIRECT(\"BldgTypes_\"&$C$14),0),MATCH(G438,INDIRECT(\"CSTTableTypes_\"&$C$14),0)))))","v":0},0,0,0,0,0,0,0,0,0,0,0,0,0,0,0,0,null,null,null,414,0,{"$f":"VLOOKUP(Worksheet!N438,code!$K$3:$M$13,3,FALSE)","v":{"$error":"#N/A"}},"","","","",""]
["-",null,null,null,1,0,null,null,null,null,null,0,0,null,null,null,null,null,{"$f":"IF(OR(ISBLANK($C$14),ISBLANK($C$16),ISBLANK($G$16),ISBLANK($G$17),AND(LEFT(G439,6)=\"Atrium\",ISBLANK(I439))=TRUE)=TRUE,0,IF(LEFT(G439,6)=\"Atrium\",IF(G439='ASHRAE 90.1 2013 - CST'!$D$2,0.4+I439*0.02,I439*0.03),IF(ISBLANK(G439),IF(ISBLANK(H439),\"0\",VLOOKUP(H439,INDIRECT(\"BSSTTable_\"&$C$14),2,FALSE)),INDEX(INDIRECT(\"CSTTable_\"&$C$14),MATCH($C$16,INDIRECT(\"BldgTypes_\"&$C$14),0),MATCH(G439,INDIRECT(\"CSTTableTypes_\"&$C$14),0)))))","v":0},0,0,0,0,0,0,0,0,0,0,0,0,0,0,0,0,null,null,null,415,0,{"$f":"VLOOKUP(Worksheet!N439,code!$K$3:$M$13,3,FALSE)","v":{"$error":"#N/A"}},"","","","",""]
["-",null,null,null,1,0,null,null,null,null,null,0,0,null,null,null,null,null,{"$f":"IF(OR(ISBLANK($C$14),ISBLANK($C$16),ISBLANK($G$16),ISBLANK($G$17),AND(LEFT(G440,6)=\"Atrium\",ISBLANK(I440))=TRUE)=TRUE,0,IF(LEFT(G440,6)=\"Atrium\",IF(G440='ASHRAE 90.1 2013 - CST'!$D$2,0.4+I440*0.02,I440*0.03),IF(ISBLANK(G440),IF(ISBLANK(H440),\"0\",VLOOKUP(H440,INDIRECT(\"BSSTTable_\"&$C$14),2,FALSE)),INDEX(INDIRECT(\"CSTTable_\"&$C$14),MATCH($C$16,INDIRECT(\"BldgTypes_\"&$C$14),0),MATCH(G440,INDIRECT(\"CSTTableTypes_\"&$C$14),0)))))","v":0},0,0,0,0,0,0,0,0,0,0,0,0,0,0,0,0,null,null,null,416,0,{"$f":"VLOOKUP(Worksheet!N440,code!$K$3:$M$13,3,FALSE)","v":{"$error":"#N/A"}},"","","","",""]
["-",null,null,null,1,0,null,null,null,null,null,0,0,null,null,null,null,null,{"$f":"IF(OR(ISBLANK($C$14),ISBLANK($C$16),ISBLANK($G$16),ISBLANK($G$17),AND(LEFT(G441,6)=\"Atrium\",ISBLANK(I441))=TRUE)=TRUE,0,IF(LEFT(G441,6)=\"Atrium\",IF(G441='ASHRAE 90.1 2013 - CST'!$D$2,0.4+I441*0.02,I441*0.03),IF(ISBLANK(G441),IF(ISBLANK(H441),\"0\",VLOOKUP(H441,INDIRECT(\"BSSTTable_\"&$C$14),2,FALSE)),INDEX(INDIRECT(\"CSTTable_\"&$C$14),MATCH($C$16,INDIRECT(\"BldgTypes_\"&$C$14),0),MATCH(G441,INDIRECT(\"CSTTableTypes_\"&$C$14),0)))))","v":0},0,0,0,0,0,0,0,0,0,0,0,0,0,0,0,0,null,null,null,417,0,{"$f":"VLOOKUP(Worksheet!N441,code!$K$3:$M$13,3,FALSE)","v":{"$error":"#N/A"}},"","","","",""]
["-",null,null,null,1,0,null,null,null,null,null,0,0,null,null,null,null,null,{"$f":"IF(OR(ISBLANK($C$14),ISBLANK($C$16),ISBLANK($G$16),ISBLANK($G$17),AND(LEFT(G442,6)=\"Atrium\",ISBLANK(I442))=TRUE)=TRUE,0,IF(LEFT(G442,6)=\"Atrium\",IF(G442='ASHRAE 90.1 2013 - CST'!$D$2,0.4+I442*0.02,I442*0.03),IF(ISBLANK(G442),IF(ISBLANK(H442),\"0\",VLOOKUP(H442,INDIRECT(\"BSSTTable_\"&$C$14),2,FALSE)),INDEX(INDIRECT(\"CSTTable_\"&$C$14),MATCH($C$16,INDIRECT(\"BldgTypes_\"&$C$14),0),MATCH(G442,INDIRECT(\"CSTTableTypes_\"&$C$14),0)))))","v":0},0,0,0,0,0,0,0,0,0,0,0,0,0,0,0,0,null,null,null,418,0,{"$f":"VLOOKUP(Worksheet!N442,code!$K$3:$M$13,3,FALSE)","v":{"$error":"#N/A"}},"","","","",""]
["-",null,null,null,1,0,null,null,null,null,null,0,0,null,null,null,null,null,{"$f":"IF(OR(ISBLANK($C$14),ISBLANK($C$16),ISBLANK($G$16),ISBLANK($G$17),AND(LEFT(G443,6)=\"Atrium\",ISBLANK(I443))=TRUE)=TRUE,0,IF(LEFT(G443,6)=\"Atrium\",IF(G443='ASHRAE 90.1 2013 - CST'!$D$2,0.4+I443*0.02,I443*0.03),IF(ISBLANK(G443),IF(ISBLANK(H443),\"0\",VLOOKUP(H443,INDIRECT(\"BSSTTable_\"&$C$14),2,FALSE)),INDEX(INDIRECT(\"CSTTable_\"&$C$14),MATCH($C$16,INDIRECT(\"BldgTypes_\"&$C$14),0),MATCH(G443,INDIRECT(\"CSTTableTypes_\"&$C$14),0)))))","v":0},0,0,0,0,0,0,0,0,0,0,0,0,0,0,0,0,null,null,null,419,0,{"$f":"VLOOKUP(Worksheet!N443,code!$K$3:$M$13,3,FALSE)","v":{"$error":"#N/A"}},"","","","",""]
["-",null,null,null,1,0,null,null,null,null,null,0,0,null,null,null,null,null,{"$f":"IF(OR(ISBLANK($C$14),ISBLANK($C$16),ISBLANK($G$16),ISBLANK($G$17),AND(LEFT(G444,6)=\"Atrium\",ISBLANK(I444))=TRUE)=TRUE,0,IF(LEFT(G444,6)=\"Atrium\",IF(G444='ASHRAE 90.1 2013 - CST'!$D$2,0.4+I444*0.02,I444*0.03),IF(ISBLANK(G444),IF(ISBLANK(H444),\"0\",VLOOKUP(H444,INDIRECT(\"BSSTTable_\"&$C$14),2,FALSE)),INDEX(INDIRECT(\"CSTTable_\"&$C$14),MATCH($C$16,INDIRECT(\"BldgTypes_\"&$C$14),0),MATCH(G444,INDIRECT(\"CSTTableTypes_\"&$C$14),0)))))","v":0},0,0,0,0,0,0,0,0,0,0,0,0,0,0,0,0,null,null,null,420,0,{"$f":"VLOOKUP(Worksheet!N444,code!$K$3:$M$13,3,FALSE)","v":{"$error":"#N/A"}},"","","","",""]
["-",null,null,null,1,0,null,null,null,null,null,0,0,null,null,null,null,null,{"$f":"IF(OR(ISBLANK($C$14),ISBLANK($C$16),ISBLANK($G$16),ISBLANK($G$17),AND(LEFT(G445,6)=\"Atrium\",ISBLANK(I445))=TRUE)=TRUE,0,IF(LEFT(G445,6)=\"Atrium\",IF(G445='ASHRAE 90.1 2013 - CST'!$D$2,0.4+I445*0.02,I445*0.03),IF(ISBLANK(G445),IF(ISBLANK(H445),\"0\",VLOOKUP(H445,INDIRECT(\"BSSTTable_\"&$C$14),2,FALSE)),INDEX(INDIRECT(\"CSTTable_\"&$C$14),MATCH($C$16,INDIRECT(\"BldgTypes_\"&$C$14),0),MATCH(G445,INDIRECT(\"CSTTableTypes_\"&$C$14),0)))))","v":0},0,0,0,0,0,0,0,0,0,0,0,0,0,0,0,0,null,null,null,421,0,{"$f":"VLOOKUP(Worksheet!N445,code!$K$3:$M$13,3,FALSE)","v":{"$error":"#N/A"}},"","","","",""]
["-",null,null,null,1,0,null,null,null,null,null,0,0,null,null,null,null,null,{"$f":"IF(OR(ISBLANK($C$14),ISBLANK($C$16),ISBLANK($G$16),ISBLANK($G$17),AND(LEFT(G446,6)=\"Atrium\",ISBLANK(I446))=TRUE)=TRUE,0,IF(LEFT(G446,6)=\"Atrium\",IF(G446='ASHRAE 90.1 2013 - CST'!$D$2,0.4+I446*0.02,I446*0.03),IF(ISBLANK(G446),IF(ISBLANK(H446),\"0\",VLOOKUP(H446,INDIRECT(\"BSSTTable_\"&$C$14),2,FALSE)),INDEX(INDIRECT(\"CSTTable_\"&$C$14),MATCH($C$16,INDIRECT(\"BldgTypes_\"&$C$14),0),MATCH(G446,INDIRECT(\"CSTTableTypes_\"&$C$14),0)))))","v":0},0,0,0,0,0,0,0,0,0,0,0,0,0,0,0,0,null,null,null,422,0,{"$f":"VLOOKUP(Worksheet!N446,code!$K$3:$M$13,3,FALSE)","v":{"$error":"#N/A"}},"","","","",""]
["-",null,null,null,1,0,null,null,null,null,null,0,0,null,null,null,null,null,{"$f":"IF(OR(ISBLANK($C$14),ISBLANK($C$16),ISBLANK($G$16),ISBLANK($G$17),AND(LEFT(G447,6)=\"Atrium\",ISBLANK(I447))=TRUE)=TRUE,0,IF(LEFT(G447,6)=\"Atrium\",IF(G447='ASHRAE 90.1 2013 - CST'!$D$2,0.4+I447*0.02,I447*0.03),IF(ISBLANK(G447),IF(ISBLANK(H447),\"0\",VLOOKUP(H447,INDIRECT(\"BSSTTable_\"&$C$14),2,FALSE)),INDEX(INDIRECT(\"CSTTable_\"&$C$14),MATCH($C$16,INDIRECT(\"BldgTypes_\"&$C$14),0),MATCH(G447,INDIRECT(\"CSTTableTypes_\"&$C$14),0)))))","v":0},0,0,0,0,0,0,0,0,0,0,0,0,0,0,0,0,null,null,null,423,0,{"$f":"VLOOKUP(Worksheet!N447,code!$K$3:$M$13,3,FALSE)","v":{"$error":"#N/A"}},"","","","",""]
["-",null,null,null,1,0,null,null,null,null,null,0,0,null,null,null,null,null,{"$f":"IF(OR(ISBLANK($C$14),ISBLANK($C$16),ISBLANK($G$16),ISBLANK($G$17),AND(LEFT(G448,6)=\"Atrium\",ISBLANK(I448))=TRUE)=TRUE,0,IF(LEFT(G448,6)=\"Atrium\",IF(G448='ASHRAE 90.1 2013 - CST'!$D$2,0.4+I448*0.02,I448*0.03),IF(ISBLANK(G448),IF(ISBLANK(H448),\"0\",VLOOKUP(H448,INDIRECT(\"BSSTTable_\"&$C$14),2,FALSE)),INDEX(INDIRECT(\"CSTTable_\"&$C$14),MATCH($C$16,INDIRECT(\"BldgTypes_\"&$C$14),0),MATCH(G448,INDIRECT(\"CSTTableTypes_\"&$C$14),0)))))","v":0},0,0,0,0,0,0,0,0,0,0,0,0,0,0,0,0,null,null,null,424,0,{"$f":"VLOOKUP(Worksheet!N448,code!$K$3:$M$13,3,FALSE)","v":{"$error":"#N/A"}},"","","","",""]
["-",null,null,null,1,0,null,null,null,null,null,0,0,null,null,null,null,null,{"$f":"IF(OR(ISBLANK($C$14),ISBLANK($C$16),ISBLANK($G$16),ISBLANK($G$17),AND(LEFT(G449,6)=\"Atrium\",ISBLANK(I449))=TRUE)=TRUE,0,IF(LEFT(G449,6)=\"Atrium\",IF(G449='ASHRAE 90.1 2013 - CST'!$D$2,0.4+I449*0.02,I449*0.03),IF(ISBLANK(G449),IF(ISBLANK(H449),\"0\",VLOOKUP(H449,INDIRECT(\"BSSTTable_\"&$C$14),2,FALSE)),INDEX(INDIRECT(\"CSTTable_\"&$C$14),MATCH($C$16,INDIRECT(\"BldgTypes_\"&$C$14),0),MATCH(G449,INDIRECT(\"CSTTableTypes_\"&$C$14),0)))))","v":0},0,0,0,0,0,0,0,0,0,0,0,0,0,0,0,0,null,null,null,425,0,{"$f":"VLOOKUP(Worksheet!N449,code!$K$3:$M$13,3,FALSE)","v":{"$error":"#N/A"}},"","","","",""]
["-",null,null,null,1,0,null,null,null,null,null,0,0,null,null,null,null,null,{"$f":"IF(OR(ISBLANK($C$14),ISBLANK($C$16),ISBLANK($G$16),ISBLANK($G$17),AND(LEFT(G450,6)=\"Atrium\",ISBLANK(I450))=TRUE)=TRUE,0,IF(LEFT(G450,6)=\"Atrium\",IF(G450='ASHRAE 90.1 2013 - CST'!$D$2,0.4+I450*0.02,I450*0.03),IF(ISBLANK(G450),IF(ISBLANK(H450),\"0\",VLOOKUP(H450,INDIRECT(\"BSSTTable_\"&$C$14),2,FALSE)),INDEX(INDIRECT(\"CSTTable_\"&$C$14),MATCH($C$16,INDIRECT(\"BldgTypes_\"&$C$14),0),MATCH(G450,INDIRECT(\"CSTTableTypes_\"&$C$14),0)))))","v":0},0,0,0,0,0,0,0,0,0,0,0,0,0,0,0,0,null,null,null,426,0,{"$f":"VLOOKUP(Worksheet!N450,code!$K$3:$M$13,3,FALSE)","v":{"$error":"#N/A"}},"","","","",""]
["-",null,null,null,1,0,null,null,null,null,null,0,0,null,null,null,null,null,{"$f":"IF(OR(ISBLANK($C$14),ISBLANK($C$16),ISBLANK($G$16),ISBLANK($G$17),AND(LEFT(G451,6)=\"Atrium\",ISBLANK(I451))=TRUE)=TRUE,0,IF(LEFT(G451,6)=\"Atrium\",IF(G451='ASHRAE 90.1 2013 - CST'!$D$2,0.4+I451*0.02,I451*0.03),IF(ISBLANK(G451),IF(ISBLANK(H451),\"0\",VLOOKUP(H451,INDIRECT(\"BSSTTable_\"&$C$14),2,FALSE)),INDEX(INDIRECT(\"CSTTable_\"&$C$14),MATCH($C$16,INDIRECT(\"BldgTypes_\"&$C$14),0),MATCH(G451,INDIRECT(\"CSTTableTypes_\"&$C$14),0)))))","v":0},0,0,0,0,0,0,0,0,0,0,0,0,0,0,0,0,null,null,null,427,0,{"$f":"VLOOKUP(Worksheet!N451,code!$K$3:$M$13,3,FALSE)","v":{"$error":"#N/A"}},"","","","",""]
["-",null,null,null,1,0,null,null,null,null,null,0,0,null,null,null,null,null,{"$f":"IF(OR(ISBLANK($C$14),ISBLANK($C$16),ISBLANK($G$16),ISBLANK($G$17),AND(LEFT(G452,6)=\"Atrium\",ISBLANK(I452))=TRUE)=TRUE,0,IF(LEFT(G452,6)=\"Atrium\",IF(G452='ASHRAE 90.1 2013 - CST'!$D$2,0.4+I452*0.02,I452*0.03),IF(ISBLANK(G452),IF(ISBLANK(H452),\"0\",VLOOKUP(H452,INDIRECT(\"BSSTTable_\"&$C$14),2,FALSE)),INDEX(INDIRECT(\"CSTTable_\"&$C$14),MATCH($C$16,INDIRECT(\"BldgTypes_\"&$C$14),0),MATCH(G452,INDIRECT(\"CSTTableTypes_\"&$C$14),0)))))","v":0},0,0,0,0,0,0,0,0,0,0,0,0,0,0,0,0,null,null,null,428,0,{"$f":"VLOOKUP(Worksheet!N452,code!$K$3:$M$13,3,FALSE)","v":{"$error":"#N/A"}},"","","","",""]
["-",null,null,null,1,0,null,null,null,null,null,0,0,null,null,null,null,null,{"$f":"IF(OR(ISBLANK($C$14),ISBLANK($C$16),ISBLANK($G$16),ISBLANK($G$17),AND(LEFT(G453,6)=\"Atrium\",ISBLANK(I453))=TRUE)=TRUE,0,IF(LEFT(G453,6)=\"Atrium\",IF(G453='ASHRAE 90.1 2013 - CST'!$D$2,0.4+I453*0.02,I453*0.03),IF(ISBLANK(G453),IF(ISBLANK(H453),\"0\",VLOOKUP(H453,INDIRECT(\"BSSTTable_\"&$C$14),2,FALSE)),INDEX(INDIRECT(\"CSTTable_\"&$C$14),MATCH($C$16,INDIRECT(\"BldgTypes_\"&$C$14),0),MATCH(G453,INDIRECT(\"CSTTableTypes_\"&$C$14),0)))))","v":0},0,0,0,0,0,0,0,0,0,0,0,0,0,0,0,0,null,null,null,429,0,{"$f":"VLOOKUP(Worksheet!N453,code!$K$3:$M$13,3,FALSE)","v":{"$error":"#N/A"}},"","","","",""]
["-",null,null,null,1,0,null,null,null,null,null,0,0,null,null,null,null,null,{"$f":"IF(OR(ISBLANK($C$14),ISBLANK($C$16),ISBLANK($G$16),ISBLANK($G$17),AND(LEFT(G454,6)=\"Atrium\",ISBLANK(I454))=TRUE)=TRUE,0,IF(LEFT(G454,6)=\"Atrium\",IF(G454='ASHRAE 90.1 2013 - CST'!$D$2,0.4+I454*0.02,I454*0.03),IF(ISBLANK(G454),IF(ISBLANK(H454),\"0\",VLOOKUP(H454,INDIRECT(\"BSSTTable_\"&$C$14),2,FALSE)),INDEX(INDIRECT(\"CSTTable_\"&$C$14),MATCH($C$16,INDIRECT(\"BldgTypes_\"&$C$14),0),MATCH(G454,INDIRECT(\"CSTTableTypes_\"&$C$14),0)))))","v":0},0,0,0,0,0,0,0,0,0,0,0,0,0,0,0,0,null,null,null,430,0,{"$f":"VLOOKUP(Worksheet!N454,code!$K$3:$M$13,3,FALSE)","v":{"$error":"#N/A"}},"","","","",""]
["-",null,null,null,1,0,null,null,null,null,null,0,0,null,null,null,null,null,{"$f":"IF(OR(ISBLANK($C$14),ISBLANK($C$16),ISBLANK($G$16),ISBLANK($G$17),AND(LEFT(G455,6)=\"Atrium\",ISBLANK(I455))=TRUE)=TRUE,0,IF(LEFT(G455,6)=\"Atrium\",IF(G455='ASHRAE 90.1 2013 - CST'!$D$2,0.4+I455*0.02,I455*0.03),IF(ISBLANK(G455),IF(ISBLANK(H455),\"0\",VLOOKUP(H455,INDIRECT(\"BSSTTable_\"&$C$14),2,FALSE)),INDEX(INDIRECT(\"CSTTable_\"&$C$14),MATCH($C$16,INDIRECT(\"BldgTypes_\"&$C$14),0),MATCH(G455,INDIRECT(\"CSTTableTypes_\"&$C$14),0)))))","v":0},0,0,0,0,0,0,0,0,0,0,0,0,0,0,0,0,null,null,null,431,0,{"$f":"VLOOKUP(Worksheet!N455,code!$K$3:$M$13,3,FALSE)","v":{"$error":"#N/A"}},"","","","",""]
["-",null,null,null,1,0,null,null,null,null,null,0,0,null,null,null,null,null,{"$f":"IF(OR(ISBLANK($C$14),ISBLANK($C$16),ISBLANK($G$16),ISBLANK($G$17),AND(LEFT(G456,6)=\"Atrium\",ISBLANK(I456))=TRUE)=TRUE,0,IF(LEFT(G456,6)=\"Atrium\",IF(G456='ASHRAE 90.1 2013 - CST'!$D$2,0.4+I456*0.02,I456*0.03),IF(ISBLANK(G456),IF(ISBLANK(H456),\"0\",VLOOKUP(H456,INDIRECT(\"BSSTTable_\"&$C$14),2,FALSE)),INDEX(INDIRECT(\"CSTTable_\"&$C$14),MATCH($C$16,INDIRECT(\"BldgTypes_\"&$C$14),0),MATCH(G456,INDIRECT(\"CSTTableTypes_\"&$C$14),0)))))","v":0},0,0,0,0,0,0,0,0,0,0,0,0,0,0,0,0,null,null,null,432,0,{"$f":"VLOOKUP(Worksheet!N456,code!$K$3:$M$13,3,FALSE)","v":{"$error":"#N/A"}},"","","","",""]
["-",null,null,null,1,0,null,null,null,null,null,0,0,null,null,null,null,null,{"$f":"IF(OR(ISBLANK($C$14),ISBLANK($C$16),ISBLANK($G$16),ISBLANK($G$17),AND(LEFT(G457,6)=\"Atrium\",ISBLANK(I457))=TRUE)=TRUE,0,IF(LEFT(G457,6)=\"Atrium\",IF(G457='ASHRAE 90.1 2013 - CST'!$D$2,0.4+I457*0.02,I457*0.03),IF(ISBLANK(G457),IF(ISBLANK(H457),\"0\",VLOOKUP(H457,INDIRECT(\"BSSTTable_\"&$C$14),2,FALSE)),INDEX(INDIRECT(\"CSTTable_\"&$C$14),MATCH($C$16,INDIRECT(\"BldgTypes_\"&$C$14),0),MATCH(G457,INDIRECT(\"CSTTableTypes_\"&$C$14),0)))))","v":0},0,0,0,0,0,0,0,0,0,0,0,0,0,0,0,0,null,null,null,433,0,{"$f":"VLOOKUP(Worksheet!N457,code!$K$3:$M$13,3,FALSE)","v":{"$error":"#N/A"}},"","","","",""]
["-",null,null,null,1,0,null,null,null,null,null,0,0,null,null,null,null,null,{"$f":"IF(OR(ISBLANK($C$14),ISBLANK($C$16),ISBLANK($G$16),ISBLANK($G$17),AND(LEFT(G458,6)=\"Atrium\",ISBLANK(I458))=TRUE)=TRUE,0,IF(LEFT(G458,6)=\"Atrium\",IF(G458='ASHRAE 90.1 2013 - CST'!$D$2,0.4+I458*0.02,I458*0.03),IF(ISBLANK(G458),IF(ISBLANK(H458),\"0\",VLOOKUP(H458,INDIRECT(\"BSSTTable_\"&$C$14),2,FALSE)),INDEX(INDIRECT(\"CSTTable_\"&$C$14),MATCH($C$16,INDIRECT(\"BldgTypes_\"&$C$14),0),MATCH(G458,INDIRECT(\"CSTTableTypes_\"&$C$14),0)))))","v":0},0,0,0,0,0,0,0,0,0,0,0,0,0,0,0,0,null,null,null,434,0,{"$f":"VLOOKUP(Worksheet!N458,code!$K$3:$M$13,3,FALSE)","v":{"$error":"#N/A"}},"","","","",""]
["-",null,null,null,1,0,null,null,null,null,null,0,0,null,null,null,null,null,{"$f":"IF(OR(ISBLANK($C$14),ISBLANK($C$16),ISBLANK($G$16),ISBLANK($G$17),AND(LEFT(G459,6)=\"Atrium\",ISBLANK(I459))=TRUE)=TRUE,0,IF(LEFT(G459,6)=\"Atrium\",IF(G459='ASHRAE 90.1 2013 - CST'!$D$2,0.4+I459*0.02,I459*0.03),IF(ISBLANK(G459),IF(ISBLANK(H459),\"0\",VLOOKUP(H459,INDIRECT(\"BSSTTable_\"&$C$14),2,FALSE)),INDEX(INDIRECT(\"CSTTable_\"&$C$14),MATCH($C$16,INDIRECT(\"BldgTypes_\"&$C$14),0),MATCH(G459,INDIRECT(\"CSTTableTypes_\"&$C$14),0)))))","v":0},0,0,0,0,0,0,0,0,0,0,0,0,0,0,0,0,null,null,null,435,0,{"$f":"VLOOKUP(Worksheet!N459,code!$K$3:$M$13,3,FALSE)","v":{"$error":"#N/A"}},"","","","",""]
["-",null,null,null,1,0,null,null,null,null,null,0,0,null,null,null,null,null,{"$f":"IF(OR(ISBLANK($C$14),ISBLANK($C$16),ISBLANK($G$16),ISBLANK($G$17),AND(LEFT(G460,6)=\"Atrium\",ISBLANK(I460))=TRUE)=TRUE,0,IF(LEFT(G460,6)=\"Atrium\",IF(G460='ASHRAE 90.1 2013 - CST'!$D$2,0.4+I460*0.02,I460*0.03),IF(ISBLANK(G460),IF(ISBLANK(H460),\"0\",VLOOKUP(H460,INDIRECT(\"BSSTTable_\"&$C$14),2,FALSE)),INDEX(INDIRECT(\"CSTTable_\"&$C$14),MATCH($C$16,INDIRECT(\"BldgTypes_\"&$C$14),0),MATCH(G460,INDIRECT(\"CSTTableTypes_\"&$C$14),0)))))","v":0},0,0,0,0,0,0,0,0,0,0,0,0,0,0,0,0,null,null,null,436,0,{"$f":"VLOOKUP(Worksheet!N460,code!$K$3:$M$13,3,FALSE)","v":{"$error":"#N/A"}},"","","","",""]
["-",null,null,null,1,0,null,null,null,null,null,0,0,null,null,null,null,null,{"$f":"IF(OR(ISBLANK($C$14),ISBLANK($C$16),ISBLANK($G$16),ISBLANK($G$17),AND(LEFT(G461,6)=\"Atrium\",ISBLANK(I461))=TRUE)=TRUE,0,IF(LEFT(G461,6)=\"Atrium\",IF(G461='ASHRAE 90.1 2013 - CST'!$D$2,0.4+I461*0.02,I461*0.03),IF(ISBLANK(G461),IF(ISBLANK(H461),\"0\",VLOOKUP(H461,INDIRECT(\"BSSTTable_\"&$C$14),2,FALSE)),INDEX(INDIRECT(\"CSTTable_\"&$C$14),MATCH($C$16,INDIRECT(\"BldgTypes_\"&$C$14),0),MATCH(G461,INDIRECT(\"CSTTableTypes_\"&$C$14),0)))))","v":0},0,0,0,0,0,0,0,0,0,0,0,0,0,0,0,0,null,null,null,437,0,{"$f":"VLOOKUP(Worksheet!N461,code!$K$3:$M$13,3,FALSE)","v":{"$error":"#N/A"}},"","","","",""]
["-",null,null,null,1,0,null,null,null,null,null,0,0,null,null,null,null,null,{"$f":"IF(OR(ISBLANK($C$14),ISBLANK($C$16),ISBLANK($G$16),ISBLANK($G$17),AND(LEFT(G462,6)=\"Atrium\",ISBLANK(I462))=TRUE)=TRUE,0,IF(LEFT(G462,6)=\"Atrium\",IF(G462='ASHRAE 90.1 2013 - CST'!$D$2,0.4+I462*0.02,I462*0.03),IF(ISBLANK(G462),IF(ISBLANK(H462),\"0\",VLOOKUP(H462,INDIRECT(\"BSSTTable_\"&$C$14),2,FALSE)),INDEX(INDIRECT(\"CSTTable_\"&$C$14),MATCH($C$16,INDIRECT(\"BldgTypes_\"&$C$14),0),MATCH(G462,INDIRECT(\"CSTTableTypes_\"&$C$14),0)))))","v":0},0,0,0,0,0,0,0,0,0,0,0,0,0,0,0,0,null,null,null,438,0,{"$f":"VLOOKUP(Worksheet!N462,code!$K$3:$M$13,3,FALSE)","v":{"$error":"#N/A"}},"","","","",""]
["-",null,null,null,1,0,null,null,null,null,null,0,0,null,null,null,null,null,{"$f":"IF(OR(ISBLANK($C$14),ISBLANK($C$16),ISBLANK($G$16),ISBLANK($G$17),AND(LEFT(G463,6)=\"Atrium\",ISBLANK(I463))=TRUE)=TRUE,0,IF(LEFT(G463,6)=\"Atrium\",IF(G463='ASHRAE 90.1 2013 - CST'!$D$2,0.4+I463*0.02,I463*0.03),IF(ISBLANK(G463),IF(ISBLANK(H463),\"0\",VLOOKUP(H463,INDIRECT(\"BSSTTable_\"&$C$14),2,FALSE)),INDEX(INDIRECT(\"CSTTable_\"&$C$14),MATCH($C$16,INDIRECT(\"BldgTypes_\"&$C$14),0),MATCH(G463,INDIRECT(\"CSTTableTypes_\"&$C$14),0)))))","v":0},0,0,0,0,0,0,0,0,0,0,0,0,0,0,0,0,null,null,null,439,0,{"$f":"VLOOKUP(Worksheet!N463,code!$K$3:$M$13,3,FALSE)","v":{"$error":"#N/A"}},"","","","",""]
["-",null,null,null,1,0,null,null,null,null,null,0,0,null,null,null,null,null,{"$f":"IF(OR(ISBLANK($C$14),ISBLANK($C$16),ISBLANK($G$16),ISBLANK($G$17),AND(LEFT(G464,6)=\"Atrium\",ISBLANK(I464))=TRUE)=TRUE,0,IF(LEFT(G464,6)=\"Atrium\",IF(G464='ASHRAE 90.1 2013 - CST'!$D$2,0.4+I464*0.02,I464*0.03),IF(ISBLANK(G464),IF(ISBLANK(H464),\"0\",VLOOKUP(H464,INDIRECT(\"BSSTTable_\"&$C$14),2,FALSE)),INDEX(INDIRECT(\"CSTTable_\"&$C$14),MATCH($C$16,INDIRECT(\"BldgTypes_\"&$C$14),0),MATCH(G464,INDIRECT(\"CSTTableTypes_\"&$C$14),0)))))","v":0},0,0,0,0,0,0,0,0,0,0,0,0,0,0,0,0,null,null,null,440,0,{"$f":"VLOOKUP(Worksheet!N464,code!$K$3:$M$13,3,FALSE)","v":{"$error":"#N/A"}},"","","","",""]
["-",null,null,null,1,0,null,null,null,null,null,0,0,null,null,null,null,null,{"$f":"IF(OR(ISBLANK($C$14),ISBLANK($C$16),ISBLANK($G$16),ISBLANK($G$17),AND(LEFT(G465,6)=\"Atrium\",ISBLANK(I465))=TRUE)=TRUE,0,IF(LEFT(G465,6)=\"Atrium\",IF(G465='ASHRAE 90.1 2013 - CST'!$D$2,0.4+I465*0.02,I465*0.03),IF(ISBLANK(G465),IF(ISBLANK(H465),\"0\",VLOOKUP(H465,INDIRECT(\"BSSTTable_\"&$C$14),2,FALSE)),INDEX(INDIRECT(\"CSTTable_\"&$C$14),MATCH($C$16,INDIRECT(\"BldgTypes_\"&$C$14),0),MATCH(G465,INDIRECT(\"CSTTableTypes_\"&$C$14),0)))))","v":0},0,0,0,0,0,0,0,0,0,0,0,0,0,0,0,0,null,null,null,441,0,{"$f":"VLOOKUP(Worksheet!N465,code!$K$3:$M$13,3,FALSE)","v":{"$error":"#N/A"}},"","","","",""]
["-",null,null,null,1,0,null,null,null,null,null,0,0,null,null,null,null,null,{"$f":"IF(OR(ISBLANK($C$14),ISBLANK($C$16),ISBLANK($G$16),ISBLANK($G$17),AND(LEFT(G466,6)=\"Atrium\",ISBLANK(I466))=TRUE)=TRUE,0,IF(LEFT(G466,6)=\"Atrium\",IF(G466='ASHRAE 90.1 2013 - CST'!$D$2,0.4+I466*0.02,I466*0.03),IF(ISBLANK(G466),IF(ISBLANK(H466),\"0\",VLOOKUP(H466,INDIRECT(\"BSSTTable_\"&$C$14),2,FALSE)),INDEX(INDIRECT(\"CSTTable_\"&$C$14),MATCH($C$16,INDIRECT(\"BldgTypes_\"&$C$14),0),MATCH(G466,INDIRECT(\"CSTTableTypes_\"&$C$14),0)))))","v":0},0,0,0,0,0,0,0,0,0,0,0,0,0,0,0,0,null,null,null,442,0,{"$f":"VLOOKUP(Worksheet!N466,code!$K$3:$M$13,3,FALSE)","v":{"$error":"#N/A"}},"","","","",""]
["-",null,null,null,1,0,null,null,null,null,null,0,0,null,null,null,null,null,{"$f":"IF(OR(ISBLANK($C$14),ISBLANK($C$16),ISBLANK($G$16),ISBLANK($G$17),AND(LEFT(G467,6)=\"Atrium\",ISBLANK(I467))=TRUE)=TRUE,0,IF(LEFT(G467,6)=\"Atrium\",IF(G467='ASHRAE 90.1 2013 - CST'!$D$2,0.4+I467*0.02,I467*0.03),IF(ISBLANK(G467),IF(ISBLANK(H467),\"0\",VLOOKUP(H467,INDIRECT(\"BSSTTable_\"&$C$14),2,FALSE)),INDEX(INDIRECT(\"CSTTable_\"&$C$14),MATCH($C$16,INDIRECT(\"BldgTypes_\"&$C$14),0),MATCH(G467,INDIRECT(\"CSTTableTypes_\"&$C$14),0)))))","v":0},0,0,0,0,0,0,0,0,0,0,0,0,0,0,0,0,null,null,null,443,0,{"$f":"VLOOKUP(Worksheet!N467,code!$K$3:$M$13,3,FALSE)","v":{"$error":"#N/A"}},"","","","",""]
["-",null,null,null,1,0,null,null,null,null,null,0,0,null,null,null,null,null,{"$f":"IF(OR(ISBLANK($C$14),ISBLANK($C$16),ISBLANK($G$16),ISBLANK($G$17),AND(LEFT(G468,6)=\"Atrium\",ISBLANK(I468))=TRUE)=TRUE,0,IF(LEFT(G468,6)=\"Atrium\",IF(G468='ASHRAE 90.1 2013 - CST'!$D$2,0.4+I468*0.02,I468*0.03),IF(ISBLANK(G468),IF(ISBLANK(H468),\"0\",VLOOKUP(H468,INDIRECT(\"BSSTTable_\"&$C$14),2,FALSE)),INDEX(INDIRECT(\"CSTTable_\"&$C$14),MATCH($C$16,INDIRECT(\"BldgTypes_\"&$C$14),0),MATCH(G468,INDIRECT(\"CSTTableTypes_\"&$C$14),0)))))","v":0},0,0,0,0,0,0,0,0,0,0,0,0,0,0,0,0,null,null,null,444,0,{"$f":"VLOOKUP(Worksheet!N468,code!$K$3:$M$13,3,FALSE)","v":{"$error":"#N/A"}},"","","","",""]
["-",null,null,null,1,0,null,null,null,null,null,0,0,null,null,null,null,null,{"$f":"IF(OR(ISBLANK($C$14),ISBLANK($C$16),ISBLANK($G$16),ISBLANK($G$17),AND(LEFT(G469,6)=\"Atrium\",ISBLANK(I469))=TRUE)=TRUE,0,IF(LEFT(G469,6)=\"Atrium\",IF(G469='ASHRAE 90.1 2013 - CST'!$D$2,0.4+I469*0.02,I469*0.03),IF(ISBLANK(G469),IF(ISBLANK(H469),\"0\",VLOOKUP(H469,INDIRECT(\"BSSTTable_\"&$C$14),2,FALSE)),INDEX(INDIRECT(\"CSTTable_\"&$C$14),MATCH($C$16,INDIRECT(\"BldgTypes_\"&$C$14),0),MATCH(G469,INDIRECT(\"CSTTableTypes_\"&$C$14),0)))))","v":0},0,0,0,0,0,0,0,0,0,0,0,0,0,0,0,0,null,null,null,445,0,{"$f":"VLOOKUP(Worksheet!N469,code!$K$3:$M$13,3,FALSE)","v":{"$error":"#N/A"}},"","","","",""]
["-",null,null,null,1,0,null,null,null,null,null,0,0,null,null,null,null,null,{"$f":"IF(OR(ISBLANK($C$14),ISBLANK($C$16),ISBLANK($G$16),ISBLANK($G$17),AND(LEFT(G470,6)=\"Atrium\",ISBLANK(I470))=TRUE)=TRUE,0,IF(LEFT(G470,6)=\"Atrium\",IF(G470='ASHRAE 90.1 2013 - CST'!$D$2,0.4+I470*0.02,I470*0.03),IF(ISBLANK(G470),IF(ISBLANK(H470),\"0\",VLOOKUP(H470,INDIRECT(\"BSSTTable_\"&$C$14),2,FALSE)),INDEX(INDIRECT(\"CSTTable_\"&$C$14),MATCH($C$16,INDIRECT(\"BldgTypes_\"&$C$14),0),MATCH(G470,INDIRECT(\"CSTTableTypes_\"&$C$14),0)))))","v":0},0,0,0,0,0,0,0,0,0,0,0,0,0,0,0,0,null,null,null,446,0,{"$f":"VLOOKUP(Worksheet!N470,code!$K$3:$M$13,3,FALSE)","v":{"$error":"#N/A"}},"","","","",""]
["-",null,null,null,1,0,null,null,null,null,null,0,0,null,null,null,null,null,{"$f":"IF(OR(ISBLANK($C$14),ISBLANK($C$16),ISBLANK($G$16),ISBLANK($G$17),AND(LEFT(G471,6)=\"Atrium\",ISBLANK(I471))=TRUE)=TRUE,0,IF(LEFT(G471,6)=\"Atrium\",IF(G471='ASHRAE 90.1 2013 - CST'!$D$2,0.4+I471*0.02,I471*0.03),IF(ISBLANK(G471),IF(ISBLANK(H471),\"0\",VLOOKUP(H471,INDIRECT(\"BSSTTable_\"&$C$14),2,FALSE)),INDEX(INDIRECT(\"CSTTable_\"&$C$14),MATCH($C$16,INDIRECT(\"BldgTypes_\"&$C$14),0),MATCH(G471,INDIRECT(\"CSTTableTypes_\"&$C$14),0)))))","v":0},0,0,0,0,0,0,0,0,0,0,0,0,0,0,0,0,null,null,null,447,0,{"$f":"VLOOKUP(Worksheet!N471,code!$K$3:$M$13,3,FALSE)","v":{"$error":"#N/A"}},"","","","",""]
["-",null,null,null,1,0,null,null,null,null,null,0,0,null,null,null,null,null,{"$f":"IF(OR(ISBLANK($C$14),ISBLANK($C$16),ISBLANK($G$16),ISBLANK($G$17),AND(LEFT(G472,6)=\"Atrium\",ISBLANK(I472))=TRUE)=TRUE,0,IF(LEFT(G472,6)=\"Atrium\",IF(G472='ASHRAE 90.1 2013 - CST'!$D$2,0.4+I472*0.02,I472*0.03),IF(ISBLANK(G472),IF(ISBLANK(H472),\"0\",VLOOKUP(H472,INDIRECT(\"BSSTTable_\"&$C$14),2,FALSE)),INDEX(INDIRECT(\"CSTTable_\"&$C$14),MATCH($C$16,INDIRECT(\"BldgTypes_\"&$C$14),0),MATCH(G472,INDIRECT(\"CSTTableTypes_\"&$C$14),0)))))","v":0},0,0,0,0,0,0,0,0,0,0,0,0,0,0,0,0,null,null,null,448,0,{"$f":"VLOOKUP(Worksheet!N472,code!$K$3:$M$13,3,FALSE)","v":{"$error":"#N/A"}},"","","","",""]
["-",null,null,null,1,0,null,null,null,null,null,0,0,null,null,null,null,null,{"$f":"IF(OR(ISBLANK($C$14),ISBLANK($C$16),ISBLANK($G$16),ISBLANK($G$17),AND(LEFT(G473,6)=\"Atrium\",ISBLANK(I473))=TRUE)=TRUE,0,IF(LEFT(G473,6)=\"Atrium\",IF(G473='ASHRAE 90.1 2013 - CST'!$D$2,0.4+I473*0.02,I473*0.03),IF(ISBLANK(G473),IF(ISBLANK(H473),\"0\",VLOOKUP(H473,INDIRECT(\"BSSTTable_\"&$C$14),2,FALSE)),INDEX(INDIRECT(\"CSTTable_\"&$C$14),MATCH($C$16,INDIRECT(\"BldgTypes_\"&$C$14),0),MATCH(G473,INDIRECT(\"CSTTableTypes_\"&$C$14),0)))))","v":0},0,0,0,0,0,0,0,0,0,0,0,0,0,0,0,0,null,null,null,449,0,{"$f":"VLOOKUP(Worksheet!N473,code!$K$3:$M$13,3,FALSE)","v":{"$error":"#N/A"}},{"$f":"IF($AR$21<>0, $AF$8/$AR$21*AR473, \"\")","v":""},"","",{"$f":"IF($AR$21<>0, $AG$8/$AR$21*$AR473, \"\")","v":""},""]
["-",null,null,null,1,0,null,null,null,null,null,{"$f":"C474*$E474","v":0},{"$f":"D474*$E474","v":0},null,null,null,null,null,{"$f":"IF(OR(ISBLANK($C$14),ISBLANK($C$16),ISBLANK($G$16),ISBLANK($G$17),AND(LEFT(G474,6)=\"Atrium\",ISBLANK(I474))=TRUE)=TRUE,0,IF(LEFT(G474,6)=\"Atrium\",IF(G474='ASHRAE 90.1 2013 - CST'!$D$2,0.4+I474*0.02,I474*0.03),IF(ISBLANK(G474),IF(ISBLANK(H474),\"0\",VLOOKUP(H474,INDIRECT(\"BSSTTable_\"&$C$14),2,FALSE)),INDEX(INDIRECT(\"CSTTable_\"&$C$14),MATCH($C$16,INDIRECT(\"BldgTypes_\"&$C$14),0),MATCH(G474,INDIRECT(\"CSTTableTypes_\"&$C$14),0)))))","v":0},{"$f":"S474","v":0},{"$f":"T474*F474","v":0},{"$f":"L474*P474","v":0},{"$f":"M474*P474","v":0},{"$f":"spaceSum(ROW(V474), COLUMN(V474))","v":0},{"$f":"spaceSum(ROW(W474), COLUMN(W474))","v":0},{"$f":"spaceSumIfYes(ROW(L474), COLUMN(L474), COLUMN(K474))","v":0},{"$f":"spaceSumIfYes(ROW(M474), COLUMN(M474), COLUMN(K474))","v":0},{"$f":"IF(B474=0,0,IF(AND(Z474>0,(U474-X474>0)),\"Y\",\"N\"))","v":0},{"$f":"IF(B474=0,0,IF(AND(AA474>0,(U474-Y474>0)),\"Y\",\"N\"))","v":0},{"$f":"IF(AND(NOT(ISNA(T474))),F474,0)","v":0},{"$f":"IF(NOT(ISNA(U474)),U474,0)","v":0},0,0,{"$f":"IF(AND(NOT(ISNA(X474)),$AB474=\"y\"),Z474,0)","v":0},{"$f":"IF(AND(NOT(ISNA(Y474)),$AC474=\"y\"),AA474,0)","v":0},null,null,null,450,{"$f":"IF(V474>0, IF(ISERROR(V474)=FALSE,V474),IF(ISERROR(W474)=FALSE,W474))","v":0},{"$f":"VLOOKUP(Worksheet!N474,code!$K$3:$M$13,3,FALSE)","v":{"$error":"#N/A"}},"",{"$f":"IF($AR$21<>0, $V$16/$AR$21*AR474, \"\")","v":""},{"$f":"IF(ISERROR(AN474)=FALSE,IF(ISERROR(AO474)=FALSE,AO474*AN474,\"\"),\"\")","v":""},"",{"$f":"IF($AR$21<>0, $V$17/$AR$21*$AR474, \"\")","v":""}]
["-",null,null,null,1,0,null,null,null,null,null,0,0,null,null,null,null,null,{"$f":"IF(OR(ISBLANK($C$14),ISBLANK($C$16),ISBLANK($G$16),ISBLANK($G$17),AND(LEFT(G475,6)=\"Atrium\",ISBLANK(I475))=TRUE)=TRUE,0,IF(LEFT(G475,6)=\"Atrium\",IF(G475='ASHRAE 90.1 2013 - CST'!$D$2,0.4+I475*0.02,I475*0.03),IF(ISBLANK(G475),IF(ISBLANK(H475),\"0\",VLOOKUP(H475,INDIRECT(\"BSSTTable_\"&$C$14),2,FALSE)),INDEX(INDIRECT(\"CSTTable_\"&$C$14),MATCH($C$16,INDIRECT(\"BldgTypes_\"&$C$14),0),MATCH(G475,INDIRECT(\"CSTTableTypes_\"&$C$14),0)))))","v":0},0,0,0,0,0,0,0,0,0,0,0,0,0,0,0,0,null,null,null,451,0,{"$f":"VLOOKUP(Worksheet!N475,code!$K$3:$M$13,3,FALSE)","v":{"$error":"#N/A"}},"","","","",""]
["-",null,null,null,1,0,null,null,null,null,null,0,0,null,null,null,null,null,{"$f":"IF(OR(ISBLANK($C$14),ISBLANK($C$16),ISBLANK($G$16),ISBLANK($G$17),AND(LEFT(G476,6)=\"Atrium\",ISBLANK(I476))=TRUE)=TRUE,0,IF(LEFT(G476,6)=\"Atrium\",IF(G476='ASHRAE 90.1 2013 - CST'!$D$2,0.4+I476*0.02,I476*0.03),IF(ISBLANK(G476),IF(ISBLANK(H476),\"0\",VLOOKUP(H476,INDIRECT(\"BSSTTable_\"&$C$14),2,FALSE)),INDEX(INDIRECT(\"CSTTable_\"&$C$14),MATCH($C$16,INDIRECT(\"BldgTypes_\"&$C$14),0),MATCH(G476,INDIRECT(\"CSTTableTypes_\"&$C$14),0)))))","v":0},0,0,0,0,0,0,0,0,0,0,0,0,0,0,0,0,null,null,null,452,0,{"$f":"VLOOKUP(Worksheet!N476,code!$K$3:$M$13,3,FALSE)","v":{"$error":"#N/A"}},"","","","",""]
["-",null,null,null,1,0,null,null,null,null,null,0,0,null,null,null,null,null,{"$f":"IF(OR(ISBLANK($C$14),ISBLANK($C$16),ISBLANK($G$16),ISBLANK($G$17),AND(LEFT(G477,6)=\"Atrium\",ISBLANK(I477))=TRUE)=TRUE,0,IF(LEFT(G477,6)=\"Atrium\",IF(G477='ASHRAE 90.1 2013 - CST'!$D$2,0.4+I477*0.02,I477*0.03),IF(ISBLANK(G477),IF(ISBLANK(H477),\"0\",VLOOKUP(H477,INDIRECT(\"BSSTTable_\"&$C$14),2,FALSE)),INDEX(INDIRECT(\"CSTTable_\"&$C$14),MATCH($C$16,INDIRECT(\"BldgTypes_\"&$C$14),0),MATCH(G477,INDIRECT(\"CSTTableTypes_\"&$C$14),0)))))","v":0},0,0,0,0,0,0,0,0,0,0,0,0,0,0,0,0,null,null,null,453,0,{"$f":"VLOOKUP(Worksheet!N477,code!$K$3:$M$13,3,FALSE)","v":{"$error":"#N/A"}},"","","","",""]
["-",null,null,null,1,0,null,null,null,null,null,0,0,null,null,null,null,null,{"$f":"IF(OR(ISBLANK($C$14),ISBLANK($C$16),ISBLANK($G$16),ISBLANK($G$17),AND(LEFT(G478,6)=\"Atrium\",ISBLANK(I478))=TRUE)=TRUE,0,IF(LEFT(G478,6)=\"Atrium\",IF(G478='ASHRAE 90.1 2013 - CST'!$D$2,0.4+I478*0.02,I478*0.03),IF(ISBLANK(G478),IF(ISBLANK(H478),\"0\",VLOOKUP(H478,INDIRECT(\"BSSTTable_\"&$C$14),2,FALSE)),INDEX(INDIRECT(\"CSTTable_\"&$C$14),MATCH($C$16,INDIRECT(\"BldgTypes_\"&$C$14),0),MATCH(G478,INDIRECT(\"CSTTableTypes_\"&$C$14),0)))))","v":0},0,0,0,0,0,0,0,0,0,0,0,0,0,0,0,0,null,null,null,454,0,{"$f":"VLOOKUP(Worksheet!N478,code!$K$3:$M$13,3,FALSE)","v":{"$error":"#N/A"}},"","","","",""]
["-",null,null,null,1,0,null,null,null,null,null,0,0,null,null,null,null,null,{"$f":"IF(OR(ISBLANK($C$14),ISBLANK($C$16),ISBLANK($G$16),ISBLANK($G$17),AND(LEFT(G479,6)=\"Atrium\",ISBLANK(I479))=TRUE)=TRUE,0,IF(LEFT(G479,6)=\"Atrium\",IF(G479='ASHRAE 90.1 2013 - CST'!$D$2,0.4+I479*0.02,I479*0.03),IF(ISBLANK(G479),IF(ISBLANK(H479),\"0\",VLOOKUP(H479,INDIRECT(\"BSSTTable_\"&$C$14),2,FALSE)),INDEX(INDIRECT(\"CSTTable_\"&$C$14),MATCH($C$16,INDIRECT(\"BldgTypes_\"&$C$14),0),MATCH(G479,INDIRECT(\"CSTTableTypes_\"&$C$14),0)))))","v":0},0,0,0,0,0,0,0,0,0,0,0,0,0,0,0,0,null,null,null,455,0,{"$f":"VLOOKUP(Worksheet!N479,code!$K$3:$M$13,3,FALSE)","v":{"$error":"#N/A"}},"","","","",""]
["-",null,null,null,1,0,null,null,null,null,null,0,0,null,null,null,null,null,{"$f":"IF(OR(ISBLANK($C$14),ISBLANK($C$16),ISBLANK($G$16),ISBLANK($G$17),AND(LEFT(G480,6)=\"Atrium\",ISBLANK(I480))=TRUE)=TRUE,0,IF(LEFT(G480,6)=\"Atrium\",IF(G480='ASHRAE 90.1 2013 - CST'!$D$2,0.4+I480*0.02,I480*0.03),IF(ISBLANK(G480),IF(ISBLANK(H480),\"0\",VLOOKUP(H480,INDIRECT(\"BSSTTable_\"&$C$14),2,FALSE)),INDEX(INDIRECT(\"CSTTable_\"&$C$14),MATCH($C$16,INDIRECT(\"BldgTypes_\"&$C$14),0),MATCH(G480,INDIRECT(\"CSTTableTypes_\"&$C$14),0)))))","v":0},0,0,0,0,0,0,0,0,0,0,0,0,0,0,0,0,null,null,null,456,0,{"$f":"VLOOKUP(Worksheet!N480,code!$K$3:$M$13,3,FALSE)","v":{"$error":"#N/A"}},"","","","",""]
["-",null,null,null,1,0,null,null,null,null,null,0,0,null,null,null,null,null,{"$f":"IF(OR(ISBLANK($C$14),ISBLANK($C$16),ISBLANK($G$16),ISBLANK($G$17),AND(LEFT(G481,6)=\"Atrium\",ISBLANK(I481))=TRUE)=TRUE,0,IF(LEFT(G481,6)=\"Atrium\",IF(G481='ASHRAE 90.1 2013 - CST'!$D$2,0.4+I481*0.02,I481*0.03),IF(ISBLANK(G481),IF(ISBLANK(H481),\"0\",VLOOKUP(H481,INDIRECT(\"BSSTTable_\"&$C$14),2,FALSE)),INDEX(INDIRECT(\"CSTTable_\"&$C$14),MATCH($C$16,INDIRECT(\"BldgTypes_\"&$C$14),0),MATCH(G481,INDIRECT(\"CSTTableTypes_\"&$C$14),0)))))","v":0},0,0,0,0,0,0,0,0,0,0,0,0,0,0,0,0,null,null,null,457,0,{"$f":"VLOOKUP(Worksheet!N481,code!$K$3:$M$13,3,FALSE)","v":{"$error":"#N/A"}},"","","","",""]
["-",null,null,null,1,0,null,null,null,null,null,0,0,null,null,null,null,null,{"$f":"IF(OR(ISBLANK($C$14),ISBLANK($C$16),ISBLANK($G$16),ISBLANK($G$17),AND(LEFT(G482,6)=\"Atrium\",ISBLANK(I482))=TRUE)=TRUE,0,IF(LEFT(G482,6)=\"Atrium\",IF(G482='ASHRAE 90.1 2013 - CST'!$D$2,0.4+I482*0.02,I482*0.03),IF(ISBLANK(G482),IF(ISBLANK(H482),\"0\",VLOOKUP(H482,INDIRECT(\"BSSTTable_\"&$C$14),2,FALSE)),INDEX(INDIRECT(\"CSTTable_\"&$C$14),MATCH($C$16,INDIRECT(\"BldgTypes_\"&$C$14),0),MATCH(G482,INDIRECT(\"CSTTableTypes_\"&$C$14),0)))))","v":0},0,0,0,0,0,0,0,0,0,0,0,0,0,0,0,0,null,null,null,458,0,{"$f":"VLOOKUP(Worksheet!N482,code!$K$3:$M$13,3,FALSE)","v":{"$error":"#N/A"}},"","","","",""]
["-",null,null,null,1,0,null,null,null,null,null,0,0,null,null,null,null,null,{"$f":"IF(OR(ISBLANK($C$14),ISBLANK($C$16),ISBLANK($G$16),ISBLANK($G$17),AND(LEFT(G483,6)=\"Atrium\",ISBLANK(I483))=TRUE)=TRUE,0,IF(LEFT(G483,6)=\"Atrium\",IF(G483='ASHRAE 90.1 2013 - CST'!$D$2,0.4+I483*0.02,I483*0.03),IF(ISBLANK(G483),IF(ISBLANK(H483),\"0\",VLOOKUP(H483,INDIRECT(\"BSSTTable_\"&$C$14),2,FALSE)),INDEX(INDIRECT(\"CSTTable_\"&$C$14),MATCH($C$16,INDIRECT(\"BldgTypes_\"&$C$14),0),MATCH(G483,INDIRECT(\"CSTTableTypes_\"&$C$14),0)))))","v":0},0,0,0,0,0,0,0,0,0,0,0,0,0,0,0,0,null,null,null,459,0,{"$f":"VLOOKUP(Worksheet!N483,code!$K$3:$M$13,3,FALSE)","v":{"$error":"#N/A"}},"","","","",""]
["-",null,null,null,1,0,null,null,null,null,null,0,0,null,null,null,null,null,{"$f":"IF(OR(ISBLANK($C$14),ISBLANK($C$16),ISBLANK($G$16),ISBLANK($G$17),AND(LEFT(G484,6)=\"Atrium\",ISBLANK(I484))=TRUE)=TRUE,0,IF(LEFT(G484,6)=\"Atrium\",IF(G484='ASHRAE 90.1 2013 - CST'!$D$2,0.4+I484*0.02,I484*0.03),IF(ISBLANK(G484),IF(ISBLANK(H484),\"0\",VLOOKUP(H484,INDIRECT(\"BSSTTable_\"&$C$14),2,FALSE)),INDEX(INDIRECT(\"CSTTable_\"&$C$14),MATCH($C$16,INDIRECT(\"BldgTypes_\"&$C$14),0),MATCH(G484,INDIRECT(\"CSTTableTypes_\"&$C$14),0)))))","v":0},0,0,0,0,0,0,0,0,0,0,0,0,0,0,0,0,null,null,null,460,0,{"$f":"VLOOKUP(Worksheet!N484,code!$K$3:$M$13,3,FALSE)","v":{"$error":"#N/A"}},"","","","",""]
["-",null,null,null,1,0,null,null,null,null,null,0,0,null,null,null,null,null,{"$f":"IF(OR(ISBLANK($C$14),ISBLANK($C$16),ISBLANK($G$16),ISBLANK($G$17),AND(LEFT(G485,6)=\"Atrium\",ISBLANK(I485))=TRUE)=TRUE,0,IF(LEFT(G485,6)=\"Atrium\",IF(G485='ASHRAE 90.1 2013 - CST'!$D$2,0.4+I485*0.02,I485*0.03),IF(ISBLANK(G485),IF(ISBLANK(H485),\"0\",VLOOKUP(H485,INDIRECT(\"BSSTTable_\"&$C$14),2,FALSE)),INDEX(INDIRECT(\"CSTTable_\"&$C$14),MATCH($C$16,INDIRECT(\"BldgTypes_\"&$C$14),0),MATCH(G485,INDIRECT(\"CSTTableTypes_\"&$C$14),0)))))","v":0},0,0,0,0,0,0,0,0,0,0,0,0,0,0,0,0,null,null,null,461,0,{"$f":"VLOOKUP(Worksheet!N485,code!$K$3:$M$13,3,FALSE)","v":{"$error":"#N/A"}},"","","","",""]
["-",null,null,null,1,0,null,null,null,null,null,0,0,null,null,null,null,null,{"$f":"IF(OR(ISBLANK($C$14),ISBLANK($C$16),ISBLANK($G$16),ISBLANK($G$17),AND(LEFT(G486,6)=\"Atrium\",ISBLANK(I486))=TRUE)=TRUE,0,IF(LEFT(G486,6)=\"Atrium\",IF(G486='ASHRAE 90.1 2013 - CST'!$D$2,0.4+I486*0.02,I486*0.03),IF(ISBLANK(G486),IF(ISBLANK(H486),\"0\",VLOOKUP(H486,INDIRECT(\"BSSTTable_\"&$C$14),2,FALSE)),INDEX(INDIRECT(\"CSTTable_\"&$C$14),MATCH($C$16,INDIRECT(\"BldgTypes_\"&$C$14),0),MATCH(G486,INDIRECT(\"CSTTableTypes_\"&$C$14),0)))))","v":0},0,0,0,0,0,0,0,0,0,0,0,0,0,0,0,0,null,null,null,462,0,{"$f":"VLOOKUP(Worksheet!N486,code!$K$3:$M$13,3,FALSE)","v":{"$error":"#N/A"}},"","","","",""]
["-",null,null,null,1,0,null,null,null,null,null,0,0,null,null,null,null,null,{"$f":"IF(OR(ISBLANK($C$14),ISBLANK($C$16),ISBLANK($G$16),ISBLANK($G$17),AND(LEFT(G487,6)=\"Atrium\",ISBLANK(I487))=TRUE)=TRUE,0,IF(LEFT(G487,6)=\"Atrium\",IF(G487='ASHRAE 90.1 2013 - CST'!$D$2,0.4+I487*0.02,I487*0.03),IF(ISBLANK(G487),IF(ISBLANK(H487),\"0\",VLOOKUP(H487,INDIRECT(\"BSSTTable_\"&$C$14),2,FALSE)),INDEX(INDIRECT(\"CSTTable_\"&$C$14),MATCH($C$16,INDIRECT(\"BldgTypes_\"&$C$14),0),MATCH(G487,INDIRECT(\"CSTTableTypes_\"&$C$14),0)))))","v":0},0,0,0,0,0,0,0,0,0,0,0,0,0,0,0,0,null,null,null,463,0,{"$f":"VLOOKUP(Worksheet!N487,code!$K$3:$M$13,3,FALSE)","v":{"$error":"#N/A"}},"","","","",""]
["-",null,null,null,1,0,null,null,null,null,null,0,0,null,null,null,null,null,{"$f":"IF(OR(ISBLANK($C$14),ISBLANK($C$16),ISBLANK($G$16),ISBLANK($G$17),AND(LEFT(G488,6)=\"Atrium\",ISBLANK(I488))=TRUE)=TRUE,0,IF(LEFT(G488,6)=\"Atrium\",IF(G488='ASHRAE 90.1 2013 - CST'!$D$2,0.4+I488*0.02,I488*0.03),IF(ISBLANK(G488),IF(ISBLANK(H488),\"0\",VLOOKUP(H488,INDIRECT(\"BSSTTable_\"&$C$14),2,FALSE)),INDEX(INDIRECT(\"CSTTable_\"&$C$14),MATCH($C$16,INDIRECT(\"BldgTypes_\"&$C$14),0),MATCH(G488,INDIRECT(\"CSTTableTypes_\"&$C$14),0)))))","v":0},0,0,0,0,0,0,0,0,0,0,0,0,0,0,0,0,null,null,null,464,0,{"$f":"VLOOKUP(Worksheet!N488,code!$K$3:$M$13,3,FALSE)","v":{"$error":"#N/A"}},"","","","",""]
["-",null,null,null,1,0,null,null,null,null,null,0,0,null,null,null,null,null,{"$f":"IF(OR(ISBLANK($C$14),ISBLANK($C$16),ISBLANK($G$16),ISBLANK($G$17),AND(LEFT(G489,6)=\"Atrium\",ISBLANK(I489))=TRUE)=TRUE,0,IF(LEFT(G489,6)=\"Atrium\",IF(G489='ASHRAE 90.1 2013 - CST'!$D$2,0.4+I489*0.02,I489*0.03),IF(ISBLANK(G489),IF(ISBLANK(H489),\"0\",VLOOKUP(H489,INDIRECT(\"BSSTTable_\"&$C$14),2,FALSE)),INDEX(INDIRECT(\"CSTTable_\"&$C$14),MATCH($C$16,INDIRECT(\"BldgTypes_\"&$C$14),0),MATCH(G489,INDIRECT(\"CSTTableTypes_\"&$C$14),0)))))","v":0},0,0,0,0,0,0,0,0,0,0,0,0,0,0,0,0,null,null,null,465,0,{"$f":"VLOOKUP(Worksheet!N489,code!$K$3:$M$13,3,FALSE)","v":{"$error":"#N/A"}},"","","","",""]
["-",null,null,null,1,0,null,null,null,null,null,0,0,null,null,null,null,null,{"$f":"IF(OR(ISBLANK($C$14),ISBLANK($C$16),ISBLANK($G$16),ISBLANK($G$17),AND(LEFT(G490,6)=\"Atrium\",ISBLANK(I490))=TRUE)=TRUE,0,IF(LEFT(G490,6)=\"Atrium\",IF(G490='ASHRAE 90.1 2013 - CST'!$D$2,0.4+I490*0.02,I490*0.03),IF(ISBLANK(G490),IF(ISBLANK(H490),\"0\",VLOOKUP(H490,INDIRECT(\"BSSTTable_\"&$C$14),2,FALSE)),INDEX(INDIRECT(\"CSTTable_\"&$C$14),MATCH($C$16,INDIRECT(\"BldgTypes_\"&$C$14),0),MATCH(G490,INDIRECT(\"CSTTableTypes_\"&$C$14),0)))))","v":0},0,0,0,0,0,0,0,0,0,0,0,0,0,0,0,0,null,null,null,466,0,{"$f":"VLOOKUP(Worksheet!N490,code!$K$3:$M$13,3,FALSE)","v":{"$error":"#N/A"}},"","","","",""]
["-",null,null,null,1,0,null,null,null,null,null,0,0,null,null,null,null,null,{"$f":"IF(OR(ISBLANK($C$14),ISBLANK($C$16),ISBLANK($G$16),ISBLANK($G$17),AND(LEFT(G491,6)=\"Atrium\",ISBLANK(I491))=TRUE)=TRUE,0,IF(LEFT(G491,6)=\"Atrium\",IF(G491='ASHRAE 90.1 2013 - CST'!$D$2,0.4+I491*0.02,I491*0.03),IF(ISBLANK(G491),IF(ISBLANK(H491),\"0\",VLOOKUP(H491,INDIRECT(\"BSSTTable_\"&$C$14),2,FALSE)),INDEX(INDIRECT(\"CSTTable_\"&$C$14),MATCH($C$16,INDIRECT(\"BldgTypes_\"&$C$14),0),MATCH(G491,INDIRECT(\"CSTTableTypes_\"&$C$14),0)))))","v":0},0,0,0,0,0,0,0,0,0,0,0,0,0,0,0,0,null,null,null,467,0,{"$f":"VLOOKUP(Worksheet!N491,code!$K$3:$M$13,3,FALSE)","v":{"$error":"#N/A"}},"","","","",""]
["-",null,null,null,1,0,null,null,null,null,null,0,0,null,null,null,null,null,{"$f":"IF(OR(ISBLANK($C$14),ISBLANK($C$16),ISBLANK($G$16),ISBLANK($G$17),AND(LEFT(G492,6)=\"Atrium\",ISBLANK(I492))=TRUE)=TRUE,0,IF(LEFT(G492,6)=\"Atrium\",IF(G492='ASHRAE 90.1 2013 - CST'!$D$2,0.4+I492*0.02,I492*0.03),IF(ISBLANK(G492),IF(ISBLANK(H492),\"0\",VLOOKUP(H492,INDIRECT(\"BSSTTable_\"&$C$14),2,FALSE)),INDEX(INDIRECT(\"CSTTable_\"&$C$14),MATCH($C$16,INDIRECT(\"BldgTypes_\"&$C$14),0),MATCH(G492,INDIRECT(\"CSTTableTypes_\"&$C$14),0)))))","v":0},0,0,0,0,0,0,0,0,0,0,0,0,0,0,0,0,null,null,null,468,0,{"$f":"VLOOKUP(Worksheet!N492,code!$K$3:$M$13,3,FALSE)","v":{"$error":"#N/A"}},"","","","",""]
["-",null,null,null,1,0,null,null,null,null,null,0,0,null,null,null,null,null,{"$f":"IF(OR(ISBLANK($C$14),ISBLANK($C$16),ISBLANK($G$16),ISBLANK($G$17),AND(LEFT(G493,6)=\"Atrium\",ISBLANK(I493))=TRUE)=TRUE,0,IF(LEFT(G493,6)=\"Atrium\",IF(G493='ASHRAE 90.1 2013 - CST'!$D$2,0.4+I493*0.02,I493*0.03),IF(ISBLANK(G493),IF(ISBLANK(H493),\"0\",VLOOKUP(H493,INDIRECT(\"BSSTTable_\"&$C$14),2,FALSE)),INDEX(INDIRECT(\"CSTTable_\"&$C$14),MATCH($C$16,INDIRECT(\"BldgTypes_\"&$C$14),0),MATCH(G493,INDIRECT(\"CSTTableTypes_\"&$C$14),0)))))","v":0},0,0,0,0,0,0,0,0,0,0,0,0,0,0,0,0,null,null,null,469,0,{"$f":"VLOOKUP(Worksheet!N493,code!$K$3:$M$13,3,FALSE)","v":{"$error":"#N/A"}},"","","","",""]
["-",null,null,null,1,0,null,null,null,null,null,0,0,null,null,null,null,null,{"$f":"IF(OR(ISBLANK($C$14),ISBLANK($C$16),ISBLANK($G$16),ISBLANK($G$17),AND(LEFT(G494,6)=\"Atrium\",ISBLANK(I494))=TRUE)=TRUE,0,IF(LEFT(G494,6)=\"Atrium\",IF(G494='ASHRAE 90.1 2013 - CST'!$D$2,0.4+I494*0.02,I494*0.03),IF(ISBLANK(G494),IF(ISBLANK(H494),\"0\",VLOOKUP(H494,INDIRECT(\"BSSTTable_\"&$C$14),2,FALSE)),INDEX(INDIRECT(\"CSTTable_\"&$C$14),MATCH($C$16,INDIRECT(\"BldgTypes_\"&$C$14),0),MATCH(G494,INDIRECT(\"CSTTableTypes_\"&$C$14),0)))))","v":0},0,0,0,0,0,0,0,0,0,0,0,0,0,0,0,0,null,null,null,470,0,{"$f":"VLOOKUP(Worksheet!N494,code!$K$3:$M$13,3,FALSE)","v":{"$error":"#N/A"}},"","","","",""]
["-",null,null,null,1,0,null,null,null,null,null,0,0,null,null,null,null,null,{"$f":"IF(OR(ISBLANK($C$14),ISBLANK($C$16),ISBLANK($G$16),ISBLANK($G$17),AND(LEFT(G495,6)=\"Atrium\",ISBLANK(I495))=TRUE)=TRUE,0,IF(LEFT(G495,6)=\"Atrium\",IF(G495='ASHRAE 90.1 2013 - CST'!$D$2,0.4+I495*0.02,I495*0.03),IF(ISBLANK(G495),IF(ISBLANK(H495),\"0\",VLOOKUP(H495,INDIRECT(\"BSSTTable_\"&$C$14),2,FALSE)),INDEX(INDIRECT(\"CSTTable_\"&$C$14),MATCH($C$16,INDIRECT(\"BldgTypes_\"&$C$14),0),MATCH(G495,INDIRECT(\"CSTTableTypes_\"&$C$14),0)))))","v":0},0,0,0,0,0,0,0,0,0,0,0,0,0,0,0,0,null,null,null,471,0,{"$f":"VLOOKUP(Worksheet!N495,code!$K$3:$M$13,3,FALSE)","v":{"$error":"#N/A"}},"","","","",""]
["-",null,null,null,1,0,null,null,null,null,null,0,0,null,null,null,null,null,{"$f":"IF(OR(ISBLANK($C$14),ISBLANK($C$16),ISBLANK($G$16),ISBLANK($G$17),AND(LEFT(G496,6)=\"Atrium\",ISBLANK(I496))=TRUE)=TRUE,0,IF(LEFT(G496,6)=\"Atrium\",IF(G496='ASHRAE 90.1 2013 - CST'!$D$2,0.4+I496*0.02,I496*0.03),IF(ISBLANK(G496),IF(ISBLANK(H496),\"0\",VLOOKUP(H496,INDIRECT(\"BSSTTable_\"&$C$14),2,FALSE)),INDEX(INDIRECT(\"CSTTable_\"&$C$14),MATCH($C$16,INDIRECT(\"BldgTypes_\"&$C$14),0),MATCH(G496,INDIRECT(\"CSTTableTypes_\"&$C$14),0)))))","v":0},0,0,0,0,0,0,0,0,0,0,0,0,0,0,0,0,null,null,null,472,0,{"$f":"VLOOKUP(Worksheet!N496,code!$K$3:$M$13,3,FALSE)","v":{"$error":"#N/A"}},"","","","",""]
["-",null,null,null,1,{"$f":"B497*E497","v":0},null,null,null,null,null,0,0,null,null,null,null,null,{"$f":"IF(OR(ISBLANK($C$14),ISBLANK($C$16),ISBLANK($G$16),ISBLANK($G$17),AND(LEFT(G497,6)=\"Atrium\",ISBLANK(I497))=TRUE)=TRUE,0,IF(LEFT(G497,6)=\"Atrium\",IF(G497='ASHRAE 90.1 2013 - CST'!$D$2,0.4+I497*0.02,I497*0.03),IF(ISBLANK(G497),IF(ISBLANK(H497),\"0\",VLOOKUP(H497,INDIRECT(\"BSSTTable_\"&$C$14),2,FALSE)),INDEX(INDIRECT(\"CSTTable_\"&$C$14),MATCH($C$16,INDIRECT(\"BldgTypes_\"&$C$14),0),MATCH(G497,INDIRECT(\"CSTTableTypes_\"&$C$14),0)))))","v":0},0,0,0,0,0,0,0,0,0,0,0,0,{"$f":"IF(AND(NOT(ISNA(V497)),$AB497=\"y\"),X497,0)","v":0},{"$f":"IF(AND(NOT(ISNA(W497)),$AC497=\"y\"),Y497,0)","v":0},0,0,null,null,null,{"$f":"AM496+1","v":473},0,{"$f":"VLOOKUP(Worksheet!N497,code!$K$3:$M$13,3,FALSE)","v":{"$error":"#N/A"}},"","","","",""]
["-",null,null,null,1,0,null,null,null,null,null,0,0,null,null,null,null,null,{"$f":"IF(OR(ISBLANK($C$14),ISBLANK($C$16),ISBLANK($G$16),ISBLANK($G$17),AND(LEFT(G498,6)=\"Atrium\",ISBLANK(I498))=TRUE)=TRUE,0,IF(LEFT(G498,6)=\"Atrium\",IF(G498='ASHRAE 90.1 2013 - CST'!$D$2,0.4+I498*0.02,I498*0.03),IF(ISBLANK(G498),IF(ISBLANK(H498),\"0\",VLOOKUP(H498,INDIRECT(\"BSSTTable_\"&$C$14),2,FALSE)),INDEX(INDIRECT(\"CSTTable_\"&$C$14),MATCH($C$16,INDIRECT(\"BldgTypes_\"&$C$14),0),MATCH(G498,INDIRECT(\"CSTTableTypes_\"&$C$14),0)))))","v":0},0,0,0,0,0,0,0,0,0,0,0,0,0,0,0,0,null,null,null,474,0,{"$f":"VLOOKUP(Worksheet!N498,code!$K$3:$M$13,3,FALSE)","v":{"$error":"#N/A"}},"","","","",""]
["-",null,null,null,1,0,null,null,null,null,null,0,0,null,null,null,null,null,{"$f":"IF(OR(ISBLANK($C$14),ISBLANK($C$16),ISBLANK($G$16),ISBLANK($G$17),AND(LEFT(G499,6)=\"Atrium\",ISBLANK(I499))=TRUE)=TRUE,0,IF(LEFT(G499,6)=\"Atrium\",IF(G499='ASHRAE 90.1 2013 - CST'!$D$2,0.4+I499*0.02,I499*0.03),IF(ISBLANK(G499),IF(ISBLANK(H499),\"0\",VLOOKUP(H499,INDIRECT(\"BSSTTable_\"&$C$14),2,FALSE)),INDEX(INDIRECT(\"CSTTable_\"&$C$14),MATCH($C$16,INDIRECT(\"BldgTypes_\"&$C$14),0),MATCH(G499,INDIRECT(\"CSTTableTypes_\"&$C$14),0)))))","v":0},0,0,0,0,0,0,0,0,0,0,0,0,0,0,0,0,null,null,null,475,0,{"$f":"VLOOKUP(Worksheet!N499,code!$K$3:$M$13,3,FALSE)","v":{"$error":"#N/A"}},"","","","",""]
["-",null,null,null,1,0,null,null,null,null,null,0,0,null,null,null,null,null,{"$f":"IF(OR(ISBLANK($C$14),ISBLANK($C$16),ISBLANK($G$16),ISBLANK($G$17),AND(LEFT(G500,6)=\"Atrium\",ISBLANK(I500))=TRUE)=TRUE,0,IF(LEFT(G500,6)=\"Atrium\",IF(G500='ASHRAE 90.1 2013 - CST'!$D$2,0.4+I500*0.02,I500*0.03),IF(ISBLANK(G500),IF(ISBLANK(H500),\"0\",VLOOKUP(H500,INDIRECT(\"BSSTTable_\"&$C$14),2,FALSE)),INDEX(INDIRECT(\"CSTTable_\"&$C$14),MATCH($C$16,INDIRECT(\"BldgTypes_\"&$C$14),0),MATCH(G500,INDIRECT(\"CSTTableTypes_\"&$C$14),0)))))","v":0},0,0,0,0,0,0,0,0,0,0,0,0,0,0,0,0,null,null,null,476,0,{"$f":"VLOOKUP(Worksheet!N500,code!$K$3:$M$13,3,FALSE)","v":{"$error":"#N/A"}},"","","","",""]
["-",null,null,null,1,0,null,null,null,null,null,0,0,null,null,null,null,null,{"$f":"IF(OR(ISBLANK($C$14),ISBLANK($C$16),ISBLANK($G$16),ISBLANK($G$17),AND(LEFT(G501,6)=\"Atrium\",ISBLANK(I501))=TRUE)=TRUE,0,IF(LEFT(G501,6)=\"Atrium\",IF(G501='ASHRAE 90.1 2013 - CST'!$D$2,0.4+I501*0.02,I501*0.03),IF(ISBLANK(G501),IF(ISBLANK(H501),\"0\",VLOOKUP(H501,INDIRECT(\"BSSTTable_\"&$C$14),2,FALSE)),INDEX(INDIRECT(\"CSTTable_\"&$C$14),MATCH($C$16,INDIRECT(\"BldgTypes_\"&$C$14),0),MATCH(G501,INDIRECT(\"CSTTableTypes_\"&$C$14),0)))))","v":0},0,0,0,0,0,0,0,0,0,0,0,0,0,0,0,0,null,null,null,477,0,{"$f":"VLOOKUP(Worksheet!N501,code!$K$3:$M$13,3,FALSE)","v":{"$error":"#N/A"}},"","","","",""]
["-",null,null,null,1,0,null,null,null,null,null,0,0,null,null,null,null,null,{"$f":"IF(OR(ISBLANK($C$14),ISBLANK($C$16),ISBLANK($G$16),ISBLANK($G$17),AND(LEFT(G502,6)=\"Atrium\",ISBLANK(I502))=TRUE)=TRUE,0,IF(LEFT(G502,6)=\"Atrium\",IF(G502='ASHRAE 90.1 2013 - CST'!$D$2,0.4+I502*0.02,I502*0.03),IF(ISBLANK(G502),IF(ISBLANK(H502),\"0\",VLOOKUP(H502,INDIRECT(\"BSSTTable_\"&$C$14),2,FALSE)),INDEX(INDIRECT(\"CSTTable_\"&$C$14),MATCH($C$16,INDIRECT(\"BldgTypes_\"&$C$14),0),MATCH(G502,INDIRECT(\"CSTTableTypes_\"&$C$14),0)))))","v":0},0,0,0,0,0,0,0,0,0,0,0,0,0,0,0,0,null,null,null,478,0,{"$f":"VLOOKUP(Worksheet!N502,code!$K$3:$M$13,3,FALSE)","v":{"$error":"#N/A"}},"","","","",""]
["-",null,null,null,1,0,null,null,null,null,null,0,0,null,null,null,null,null,{"$f":"IF(OR(ISBLANK($C$14),ISBLANK($C$16),ISBLANK($G$16),ISBLANK($G$17),AND(LEFT(G503,6)=\"Atrium\",ISBLANK(I503))=TRUE)=TRUE,0,IF(LEFT(G503,6)=\"Atrium\",IF(G503='ASHRAE 90.1 2013 - CST'!$D$2,0.4+I503*0.02,I503*0.03),IF(ISBLANK(G503),IF(ISBLANK(H503),\"0\",VLOOKUP(H503,INDIRECT(\"BSSTTable_\"&$C$14),2,FALSE)),INDEX(INDIRECT(\"CSTTable_\"&$C$14),MATCH($C$16,INDIRECT(\"BldgTypes_\"&$C$14),0),MATCH(G503,INDIRECT(\"CSTTableTypes_\"&$C$14),0)))))","v":0},0,0,0,0,0,0,0,0,0,0,0,0,0,0,0,0,null,null,null,479,0,{"$f":"VLOOKUP(Worksheet!N503,code!$K$3:$M$13,3,FALSE)","v":{"$error":"#N/A"}},"","","","",""]
["-",null,null,null,1,0,null,null,null,null,null,0,0,null,null,null,null,null,{"$f":"IF(OR(ISBLANK($C$14),ISBLANK($C$16),ISBLANK($G$16),ISBLANK($G$17),AND(LEFT(G504,6)=\"Atrium\",ISBLANK(I504))=TRUE)=TRUE,0,IF(LEFT(G504,6)=\"Atrium\",IF(G504='ASHRAE 90.1 2013 - CST'!$D$2,0.4+I504*0.02,I504*0.03),IF(ISBLANK(G504),IF(ISBLANK(H504),\"0\",VLOOKUP(H504,INDIRECT(\"BSSTTable_\"&$C$14),2,FALSE)),INDEX(INDIRECT(\"CSTTable_\"&$C$14),MATCH($C$16,INDIRECT(\"BldgTypes_\"&$C$14),0),MATCH(G504,INDIRECT(\"CSTTableTypes_\"&$C$14),0)))))","v":0},0,0,0,0,0,0,0,0,0,0,0,0,0,0,0,0,null,null,null,480,0,{"$f":"VLOOKUP(Worksheet!N504,code!$K$3:$M$13,3,FALSE)","v":{"$error":"#N/A"}},"","","","",""]

{"sheet":"code","index":1,"n_rows":291,"n_cols":14,"rows_kept":291,"cut":false,"hidden":true,"merged":[[0,10,0,11]]}
["Seq","ITEM_UCODE","COMP_DESC","GWATTS","Fixture Type","ID #",null,null,null,null,"Measure Table"]
[128,"001001","001001-INCANDESCENTS    20W INCANDESCENT",20,"Incandescent",118,null,15,null,null,"Description","ID","Efficacy"]
[129,"003001","003001-INCANDESCENTS    25W INCANDESCENT",25,"Incandescent",118,null,15,null,null,"Incandescent",118,14]
[130,"004001","004001-INCANDESCENTS    30W INCANDESCENT",30,"Incandescent",118,null,15,null,null,"CFL",40,47]
[131,"005001","005001-INCANDESCENTS    34W INCANDESCENT",34,"Incandescent",118,null,15,null,null,"Fluorescent",115,75]
[132,"007001","007001-INCANDESCENTS    36W INCANDESCENT",36,"Incandescent",118,null,15,null,null,"Halogen",121,17]
[133,"009001","009001-INCANDESCENTS    40W INCANDESCENT",40,"Incandescent",118,null,15,null,null,"Other HID",117,95]
[134,"011001","011001-INCANDESCENTS    42W INCANDESCENT",42,"Incandescent",118,null,15,null,null,"Metal Halide",119,92]
[135,"013001","013001-INCANDESCENTS    45W INCANDESCENT",45,"Incandescent",118,null,15,null,null,"Mercury Vapor",120,46]
[136,"015001","015001-INCANDESCENTS    50W INCANDESCENT",50,"Incandescent",118,null,15,null,null,"LED - DLC Fixture",308,80,"LEDDLCFix"]
[137,"017001","017001-INCANDESCENTS    52W INCANDESCENT",52,"Incandescent",118,null,15,null,null,"LED - ENERGY STAR Screw-In/Plug-In",308,80,"LEDScrewIn"]
[138,"019001","019001-INCANDESCENTS    55W INCANDESCENT",55,"Incandescent",118,null,15,null,null,"LED - ENERGY STAR Commercial Fixture",308,80,"LEDESFix"]
[139,"021001","021001-INCANDESCENTS    60W INCANDESCENT",60,"Incandescent",118,null,15,null,null,"Other Lighting",122,0]
[140,"023001","023001-INCANDESCENTS    65W INCANDESCENT",65,"Incandescent",118,null,15]
[141,"025001","025001-INCANDESCENTS    67W INCANDESCENT",67,"Incandescent",118,null,15]
[142,"026001","026001-INCANDESCENTS    69W INCANDESCENT",69,"Incandescent",118,null,15]
[143,"027001","027001-INCANDESCENTS    72W INCANDESCENT",72,"Incandescent",118,null,15]
[144,"029001","029001-INCANDESCENTS    75W INCANDESCENT",75,"Incandescent",118,null,15]
[145,"031001","031001-INCANDESCENTS    80W INCANDESCENT",80,"Incandescent",118,null,15]
[146,"033001","033001-INCANDESCENTS    85W INCANDESCENT",85,"Incandescent",118,null,15]
[147,"035001","035001-INCANDESCENTS    90W INCANDESCENT",90,"Incandescent",118,null,15]
[148,"037001","037001-INCANDESCENTS    100W INCANDESCENT",100,"Incandescent",118,null,15]
[149,"039001","039001-INCANDESCENTS    120W INCANDESCENT",120,"Incandescent",118,null,15]
[150,"041001","041001-INCANDESCENTS    125W INCANDESCENT",125,"Incandescent",118,null,15]
[151,"043001","043001-INCANDESCENTS    135W INCANDESCENT",135,"Incandescent",118,null,15]
[152,"045001","045001-INCANDESCENTS    150W INCANDESCENT",150,"Incandescent",118,null,15]
[153,"047001","047001-INCANDESCENTS    200W INCANDESCENT",200,"Incandescent",118,null,15]
[154,"048001","048001-INCANDESCENTS    250W INCANDESCENT",250,"Incandescent",118,null,15]
[155,"049001","049001-INCANDESCENTS    300W INCANDESCENT",300,"Incandescent",118,null,15]
[156,"051001","051001-INCANDESCENTS    500W INCANDESCENT",500,"Incandescent",118,null,15]
[157,"053001","053001-INCANDESCENTS    750W INCANDESCENT",750,"Incandescent",118,null,15]
[158,"055001","055001-INCANDESCENTS    1000W INCANDESCENT",1000,"Incandescent",118,null,15]
[159,"057001","057001-INCANDESCENTS    1500W INCANDESCENT",1500,"Incandescent",118,null,15]
[161,"061001","061001-INCANDESCENTS    50W QUARTZ",50,"Incandescent",118,null,15]
[162,"063001","063001-INCANDESCENTS    75W QUARTZ",75,"Incandescent",118,null,15]
[163,"065001","065001-INCANDESCENTS    100W QUARTZ",100,"Incandescent",118,null,15]
[164,"067001","067001-INCANDESCENTS    150W QUARTZ",150,"Incandescent",118,null,15]
[165,"069001","069001-INCANDESCENTS    200W QUARTZ",200,"Incandescent",118,null,15]
[166,"071001","071001-INCANDESCENTS    250W QUARTZ",250,"Incandescent",118,null,15]
[167,"073001","073001-INCANDESCENTS    300W QUARTZ",300,"Incandescent",118,null,15]
[168,"075001","075001-INCANDESCENTS    350W QUARTZ",350,"Incandescent",118,null,15]
[169,"077001","077001-INCANDESCENTS    400W QUARTZ",400,"Incandescent",118,null,15]
[170,"079001","079001-INCANDESCENTS    425W QUARTZ",425,"Incandescent",118,null,15]
[171,"081001","081001-INCANDESCENTS    500W QUARTZ",500,"Incandescent",118,null,15]
[172,"083001","083001-INCANDESCENTS    750W QUARTZ",750,"Incandescent",118,null,15]
[173,"085001","085001-INCANDESCENTS    900W QUARTZ",900,"Incandescent",118,null,15]
[174,"087001","087001-INCANDESCENTS    1000W QUARTZ",1000,"Incandescent",118,null,15]
[175,"089001","089001-INCANDESCENTS    1500W QUARTZ",1500,"Incandescent",118,null,15]
[12,"105001","105001-COMPACT FLUORESCENT    5W CF",7,"CFL",40,null,52]
[13,"105003","105003-COMPACT FLUORESCENT    5W CF/ HI",10,"CFL",40,null,52]
[14,"113001","113001-COMPACT FLUORESCENT    7W CF/ INT",7,"CFL",40,null,52]
[15,"115001","115001-COMPACT FLUORESCENT    7W CF",10,"CFL",40,null,52]
[16,"120002","120002-COMPACT FLUORESCENT    9W CF/ LO",10,"CFL",40,null,52]
[18,"120003","120003-COMPACT FLUORESCENT    9W CF/ HI",14,"CFL",40,null,52]
[17,"125001","125001-COMPACT FLUORESCENT    9W CF",11,"CFL",40,null,52]
[19,"133001","133001-COMPACT FLUORESCENT    11W CF/ INT",11,"CFL",40,null,52]
[20,"135001","135001-COMPACT FLUORESCENT    11W CF",13,"CFL",40,null,52]
[21,"140002","140002-COMPACT FLUORESCENT    13W CF/ LO",13,"CFL",40,null,52]
[22,"145001","145001-COMPACT FLUORESCENT    13W CF",15,"CFL",40,null,52]
[23,"145003","145003-COMPACT FLUORESCENT    13W CF/ HI",17,"CFL",40,null,52]
[24,"153001","153001-COMPACT FLUORESCENT    15W CF/ INT",15,"CFL",40,null,52]
[25,"156001","156001-COMPACT FLUORESCENT    16W CF/ INT",16,"CFL",40,null,52]
[26,"157001","157001-COMPACT FLUORESCENT    17W CF/ INT",17,"CFL",40,null,52]
[28,"161001","161001-COMPACT FLUORESCENT    18W QD/ELEC",22,"CFL",40,null,52]
[54,"162001","162001-COMPACT FLUORESCENT    (2) 18W QD/ELEC",38,"CFL",40,null,52]
[55,"162003","162003-COMPACT FLUORESCENT    (2) 18W QD/ELEC HI",40,"CFL",40,null,52]
[27,"164001","164001-COMPACT FLUORESCENT    18W CF",19,"CFL",40,null,52]
[30,"165001","165001-COMPACT FLUORESCENT    20W CF",22,"CFL",40,null,52]
[53,"166001","166001-COMPACT FLUORESCENT    (2)  18W CF",36,"CFL",40,null,52]
[63,"167001","167001-COMPACT FLUORESCENT    (3)  18W CF",50,"CFL",40,null,52]
[29,"168001","168001-COMPACT FLUORESCENT    20W CF/ INT",20,"CFL",40,null,52]
[31,"169001","169001-COMPACT FLUORESCENT    22W QD/ELEC",26,"CFL",40,null,52]
[32,"170001","170001-COMPACT FLUORESCENT    23W CF",24,"CFL",40,null,52]
[33,"171001","171001-COMPACT FLUORESCENT    25W CF",25,"CFL",40,null,52]
[36,"181001","181001-COMPACT FLUORESCENT    26W QD/ELEC",27,"CFL",40,null,52]
[59,"182001","182001-COMPACT FLUORESCENT    (2) 26W QD/ELEC",54,"CFL",40,null,52]
[57,"182002","182002-COMPACT FLUORESCENT    (2) 26W QD/ELEC LO",50,"CFL",40,null,52]
[34,"185001","185001-COMPACT FLUORESCENT    26W CF",28,"CFL",40,null,52]
[35,"185002","185002-COMPACT FLUORESCENT    26W CF/ HI",31,"CFL",40,null,52]
[58,"186001","186001-COMPACT FLUORESCENT    (2) 26W CF",53,"CFL",40,null,52]
[56,"186002","186002-COMPACT FLUORESCENT    (2) 26W CF/HW LO",50,"CFL",40,null,52]
[38,"187001","187001-COMPACT FLUORESCENT    27W CF",27,"CFL",40,null,52]
[37,"188002","188002-COMPACT FLUORESCENT    27W CF/ LO",24,"CFL",40,null,52]
[39,"193001","193001-COMPACT FLUORESCENT    28W CF/ INT",28,"CFL",40,null,52]
[40,"195001","195001-COMPACT FLUORESCENT    28W CF",30,"CFL",40,null,52]
[41,"196001","196001-COMPACT FLUORESCENT    30W CF",29,"CFL",40,null,52]
[42,"200001","200001-COMPACT FLUORESCENT    32W CF",34,"CFL",40,null,52]
[43,"203001","203001-COMPACT FLUORESCENT    36W CF",41,"CFL",40,null,52]
[44,"204001","204001-COMPACT FLUORESCENT    40W CF",45,"CFL",40,null,52]
[45,"205001","205001-COMPACT FLUORESCENT    44W CF",44,"CFL",40,null,52]
[47,"210001","210001-COMPACT FLUORESCENT    (2) 5W CF",14,"CFL",40,null,52]
[48,"215001","215001-COMPACT FLUORESCENT    (2) 7W CF",18,"CFL",40,null,52]
[49,"220001","220001-COMPACT FLUORESCENT    (2) 9W CF",22,"CFL",40,null,52]
[61,"225001","225001-COMPACT FLUORESCENT    (3) 9W CF",33,"CFL",40,null,52]
[50,"230001","230001-COMPACT FLUORESCENT    (2) 11W CF",26,"CFL",40,null,52]
[52,"235001","235001-COMPACT FLUORESCENT    (2) 13W CF",30,"CFL",40,null,52]
[51,"235002","235002-COMPACT FLUORESCENT    (2) 13W CF/ LO",29,"CFL",40,null,52]
[62,"240001","224001-COMPACT FLUORESCENT    (3) 13W CF",45,"CFL",40,null,52]
[1,"250001","250001-2D FLUORESCENT    10W2DFLZ/ELEC",12,"Fluorescent fixture",115,null,52]
[2,"251001","251001-2D FLUORESCENT    16W2DFLZ/ELEC",15,"Fluorescent fixture",115,null,52]
[3,"252001","252101-2D FLUORESCENT    21W2DFLZ/ELEC",21,"Fluorescent fixture",115,null,52]
[5,"253001","253001-2D FLUORESCENT    28W2DFLZ/ELEC",30,"Fluorescent fixture",115,null,52]
[4,"253002","253002-2D FLUORESCENT    28W2DFLZ/ELEC LO",29,"Fluorescent fixture",115,null,52]
[7,"254001","254001-2D FLUORESCENT    38W2DFLZ/ELEC",36,"Fluorescent fixture",115,null,52]
[6,"254002","254002-2D FLUORESCENT    38W2DF3Z/ELEC LO",34,"Fluorescent fixture",115,null,52]
[8,"254003","254003-2D FLUORESCENT    38W2DFLZ/ELEC HI",39,"Fluorescent fixture",115,null,52]
[10,"258001","258001-2D FLUORESCENT    (2) 28W2DFLZ/ELEC",54,"Fluorescent fixture",115,null,52]
[96,"270001","270001-HALOGEN    42W HALOGEN",42,"Halogen",121,null,15]
[98,"272001","272001-HALOGEN    45W HALOGEN",45,"Halogen",121,null,15]
[99,"273003","273003-HALOGEN    50W HALOGEN",50,"Halogen",121,null,15]
[101,"274001","274001-HALOGEN    52W HALOGEN",52,"Halogen",121,null,15]
[102,"276001","276001-HALOGEN    60W HALOGEN",60,"Halogen",121,null,15]
[105,"278001","278001-HALOGEN    72W HALOGEN",72,"Halogen",121,null,15]
[106,"279001","279001-HALOGEN    75W HALOGEN",75,"Halogen",121,null,15]
[108,"280001","280001-HALOGEN    90W HALOGEN",90,"Halogen",121,null,15]
[93,"285001","285001-HALOGEN    20W LV HALOGEN",30,"Halogen",121,null,15]
[94,"287001","287001-HALOGEN    25W LV HALOGEN",35,"Halogen",121,null,15]
[95,"289001","289001-HALOGEN    35W LV HALOGEN",45,"Halogen",121,null,15]
[97,"291001","291001-HALOGEN    42W LV HALOGEN",52,"Halogen",121,null,15]
[100,"293001","293001-HALOGEN    50W LV HALOGEN",60,"Halogen",121,null,15]
[103,"294001","294001-HALOGEN    60W LV HALOGEN",70,"Halogen",121,null,15]
[104,"295001","295001-HALOGEN    65W LV HALOGEN",75,"Halogen",121,null,15]
[107,"297001","297001-HALOGEN    75W LV HALOGEN",85,"Halogen",121,null,15]
[224,"392003","392003-T-5 1L FP24T5/ELEC HO",28,"Fluorescent fixture",115,null,80]
[225,"393002","393002-T-5 2L FP24T5/ELEC HO",54,"Fluorescent fixture",115,null,80]
[226,"394001","394001-T-5 1L FP39T5/ELEC HO",42,"Fluorescent fixture",115,null,80]
[227,"395001","395001-T-5 2L FP39T5/ELEC HO",87,"Fluorescent fixture",115,null,80]
[228,"396001","396001-T-5 1L FP54T5/ELEC HO",60,"Fluorescent fixture",115,null,80]
[229,"397001","397001-T-5 2L FP54T5/ELEC HO",120,"Fluorescent fixture",115,null,80]
[230,"398001","398001-T-5 1L FP28T5/800",33,"Fluorescent fixture",115,null,80]
[231,"398003","398003-T-5 2L FP28T5/800",62,"Fluorescent fixture",115,null,80]
[232,"399002","399002-T-5 1L F8T5",10,"Fluorescent fixture",115,null,80]
[273,"441001","441001-T-8 OCTRONS    1L4' T8/EEMAG",38,"Fluorescent fixture",115,null,80]
[274,"441003","441003-T-8 OCTRONS    1L4' T8/EEMAG HI",42,"Fluorescent fixture",115,null,80]
[284,"442001","442001-T-8 OCTRONS    2L4' T8/EEMAG",72,"Fluorescent fixture",115,null,80]
[301,"443001","443001-T-8 OCTRONS    3L4' T8/EEMAG",110,"Fluorescent fixture",115,null,80]
[308,"444001","444001-T-8 OCTRONS    4L4' T8/EEMAG",144,"Fluorescent fixture",115,null,80]
[309,"444JC1","444JC1-T-8 OCTRONS    6L4' T8/ELEC HI",224,"Fluorescent fixture",115,null,80]
[271,"446001","446001-T-8 OCTRONS    1L4' T8/ELEC",31,"Fluorescent fixture",115,null,80]
[270,"446002","446002-T-8 OCTRONS    1L4' T8/ELEC LO",28,"Fluorescent fixture",115,null,80]
[272,"446003","446003-T-8 OCTRONS    1L4' T8/ELEC HI",34,"Fluorescent fixture",115,null,80]
[283,"447001","447001-T-8 OCTRONS    2L4' T8/ELEC",61,"Fluorescent fixture",115,null,80]
[282,"447002","447002-T-8 OCTRONS    2L4' T8/ELEC LO",55,"Fluorescent fixture",115,null,80]
[286,"447003","447003-T-8 OCTRONS    2L4' T8/ELEC HI",82,"Fluorescent fixture",115,null,80]
[281,"447004","447004-T-8 OCTRONS    2L4' T8/ELEC LO (51W)",51,"Fluorescent fixture",115,null,80]
[285,"447005","447005-T-8 OCTRONS    2L4' T8/ELEC HI (76W)",76,"Fluorescent fixture",115,null,80]
[287,"447006","447006-T-8 OCTRONS    2L4' T8/ELEC HI (88W)",88,"Fluorescent fixture",115,null,80]
[299,"448001","448001-T-8 OCTRONS    3L4' T8/ELEC",89,"Fluorescent fixture",115,null,80]
[298,"448002","448002-T-8 OCTRONS    3L4' T8/ELEC LO",79,"Fluorescent fixture",115,null,80]
[300,"448003","448003-T-8 OCTRONS    3L4' T8/ELEC HI",97,"Fluorescent fixture",115,null,80]
[306,"449001","449001--8 OCTRONS    4L4' T8/ELEC",110,"Fluorescent fixture",115,null,80]
[305,"449002","449002-T-8 OCTRONS    4L4' T8/ELEC LO",99,"Fluorescent fixture",115,null,80]
[307,"449003","449003-T-8 OCTRONS    4L4' T8/ELEC HI",115,"Fluorescent fixture",115,null,80]
[268,"452001","452001-T-8 OCTRONS    (2) FO36T8/EB",78,"Fluorescent fixture",115,null,80]
[239,"506001","506001-T-8 OCTRONS    (1) FO17T8/EEMAG",24,"Fluorescent fixture",115,null,80]
[243,"507001","507001-T-8 OCTRONS    (2) F017T8/EEMAG",43,"Fluorescent fixture",115,null,80]
[247,"508001","508001-T-8 OCTRONS    (3) F017T8/EEMAG",67,"Fluorescent fixture",115,null,80]
[251,"509001","509001-T-8 OCTRONS    (4) F017T8/EEMAG",86,"Fluorescent fixture",115,null,80]
[237,"511001","511001-T-8 OCTRONS    (1) FO17T8/ELEC",18,"Fluorescent fixture",115,null,80]
[238,"511003","511003-T-8 OCTRONS    (1) F017T8/ELEC HI",20,"Fluorescent fixture",115,null,80]
[241,"512001","512001-T-8 OCTRONS    (2) F017T8/ELEC",34,"Fluorescent fixture",115,null,80]
[240,"512002","512002-T-8 OCTRONS    (2) F017T8/ELEC LO",25,"Fluorescent fixture",115,null,80]
[242,"512003","512003-T-8 OCTRONS    (2) F017T8/ELEC HI",37,"Fluorescent fixture",115,null,80]
[245,"513001","513001-T-8 OCTRONS    (3) F017T8/ELEC",50,"Fluorescent fixture",115,null,80]
[244,"513002","513002-T-8 OCTRONS    (3) F017T8/ELEC LO",47,"Fluorescent fixture",115,null,80]
[246,"513003","513003-T-8 OCTRONS    (3) F017T8/ELEC HI",53,"Fluorescent fixture",115,null,80]
[249,"514001","514001-T-8 OCTRONS    (4) F017T8/ELEC",62,"Fluorescent fixture",115,null,80]
[248,"514002","514002-T-8 OCTRONS    (4) F017T8/ELEC LO",58,"Fluorescent fixture",115,null,80]
[250,"514003","514003-T-8 OCTRONS    (4) F017T8/ELEC HI",66,"Fluorescent fixture",115,null,80]
[87,"530001","530001-ELECTRONIC BIAX    (3) F40 BX/ELEC",99,"CFL",23,null,52]
[88,"530002","530002-ELECTRONIC BIAX    (3) F40 BX/ELEC LO",91,"CFL",23,null,52]
[255,"531001","531001-T-8 OCTRONS    (1) F025T8/EEMAG",30,"Fluorescent fixture",115,null,80]
[259,"532001","532001-T-8 OCTRONS    (2) F025T8/EEMAG",58,"Fluorescent fixture",115,null,80]
[262,"533001","533001-T-8 OCTRONS    (3) F025T8/EEMAG",88,"Fluorescent fixture",115,null,80]
[266,"534001","534001-T-8 OCTRONS    (4) F025T8/EEMAG",116,"Fluorescent fixture",115,null,80]
[254,"536001","536001-T-8 OCTRONS    (1) FO25T8/ELEC",30,"Fluorescent fixture",115,null,80]
[253,"536002","536002-T-8 OCTRONS    (1) F025T8/ELEC LO",25,"Fluorescent fixture",115,null,80]
[257,"537001","537001-T-8 OCTRONS    (2) F025T8/ELEC",48,"Fluorescent fixture",115,null,80]
[256,"537002","537002-T-8 OCTRONS    (2) F025T8/ELEC LO",45,"Fluorescent fixture",115,null,80]
[258,"537003","537003-T-8 OCTRONS    (2) F025T8/ELEC HI",58,"Fluorescent fixture",115,null,80]
[260,"538001","538001-T-8 OCTRONS    (3) F025T8/ELEC",68,"Fluorescent fixture",115,null,80]
[261,"538003","538003-T-8 OCTRONS    (3) F025T8/ELEC HI",72,"Fluorescent fixture",115,null,80]
[264,"539001","539001-T-8 OCTRONS    (4) F025T8/ELEC",90,"Fluorescent fixture",115,null,80]
[263,"539002","539002-T-8 OCTRONS    (4) F025T8/ELEC LO",85,"Fluorescent fixture",115,null,80]
[265,"539003","539003-T-8 OCTRONS    (4) F025T8/ELEC HI",95,"Fluorescent fixture",115,null,80]
[316,"551001","551001-T-8 OCTRONS- 2 LEVEL    1L4' T8/ELEC/2STEP",36,"Fluorescent fixture",115,null,80]
[317,"552001","552001-T-8 OCTRONS- 2 LEVEL    2L4' T8/ELEC/2STEP",65,"Fluorescent fixture",115,null,80]
[318,"553001","553001-T-8 OCTRONS- 2 LEVEL    3L4' T8/ELEC/2STEP",95,"Fluorescent fixture",115,null,80]
[91,"562001","562001-F40 BX    2L4' F40STD/ELEC-BX",66,"CFL",23,null,52]
[275,"576001","576001-T-8 OCTRONS    1L5' T8/ELEC",44,"Fluorescent fixture",115,null,80]
[276,"576003","576003-T-8 OCTRONS    1L5' T8/ELEC HI",47,"Fluorescent fixture",115,null,80]
[289,"577001","577001-T-8 OCTRONS    2L5' T8/ELEC",73,"Fluorescent fixture",115,null,80]
[290,"577003","577003-T-8 OCTRONS    2L5' T8/ELEC HI",79,"Fluorescent fixture",115,null,80]
[303,"578001","578001-T-8 OCTRONS    3L5' T8/ELEC",108,"Fluorescent fixture",115,null,80]
[310,"579001","579001-T-8 OCTRONS    4L6' T8/ELEC",216,"Fluorescent fixture",115,null,80]
[292,"580001","580001-T-8 OCTRONS    2L6' T8/ELEC",108,"Fluorescent fixture",115,null,80]
[66,"581001","581001-ELECTRONIC BIAX    (1) F39 BX/ELEC",43,"CFL",23,null,52]
[65,"581002","581002-ELECTRONIC BIAX    (1) F39 BX/ELEC LO",38,"CFL",23,null,52]
[67,"581003","581003-ELECTRONIC BIAX    (1) F39 BX/ELEC HI",47,"CFL",23,null,52]
[75,"582001","582001-ELECTRONIC BIAX    (2) F39 BX/ELEC",71,"CFL",23,null,52]
[76,"582003","582003-ELECTRONIC BIAX    (2) F39 BX/ELEC HI",78,"CFL",23,null,52]
[85,"583001","583001-ELECTRONIC BIAX    (3) F39 BX/ELEC",105,"CFL",23,null,52]
[70,"585001","585001-ELECTRONIC BIAX    (1) F40 BX/ELEC",36,"CFL",23,null,52]
[69,"585002","585002-ELECTRONIC BIAX    (1) F40 BX/ELEC LO",26,"CFL",23,null,52]
[71,"585003","585003-ELECTRONIC BIAX    (1) F40 BX/ELEC HI",39,"CFL",23,null,52]
[79,"586001","586001-ELECTRONIC BIAX    (2) F40 BX/ELEC",71,"CFL",23,null,52]
[78,"586002","586002-ELECTRONIC BIAX    (2) F40 BX/ELEC LO",66,"CFL",23,null,52]
[80,"586003","586003-ELECTRONIC BIAX    (2) F40 BX/ELEC HI",78,"CFL",23,null,52]
[73,"589001","589001-ELECTRONIC BIAX    (1) F50 BX/ELEC",55,"CFL",23,null,52]
[83,"592001","592001-ELECTRONIC BIAX    (2) F50 BX/ELEC",105,"CFL",23,null,52]
[82,"592002","592002-ELECTRONIC BIAX    (2) F50 BX/ELEC LO",92,"CFL",23,null,52]
[90,"593002","593002-F40 BX    2L4' F40STD/ELEC-BX LO",61,"CFL",23,null,52]
[296,"595001","595001-T-8 OCTRONS    2L8' T8/HO/ELEC",160,"Fluorescent fixture",115,null,80]
[278,"628101","628101-T-8 OCTRONS    1L8' T8/ELEC",67,"Fluorescent fixture",115,null,80]
[277,"628102","628102-T-8 OCTRONS    1L8' T8/ELEC LO",59,"Fluorescent fixture",115,null,80]
[279,"628103","628103-T-8 OCTRONS    1L8' T8/ELEC HI",88,"Fluorescent fixture",115,null,80]
[295,"629001","629001-T-8 OCTRONS    2L8' T8/ELEC",118,"Fluorescent fixture",115,null,80]
[294,"629002","629002-T-8 OCTRONS    2L8' T8/ELEC LO",103,"Fluorescent fixture",115,null,80]
[314,"630001","630001-T-8 OCTRONS    4L8' T8/ELEC",233,"Fluorescent fixture",115,null,80]
[313,"630002","630002-T-8 OCTRONS    4L8' T8/ELEC LO",206,"Fluorescent fixture",115,null,80]
[312,"660001","660001-T8 OCTRONS 2L8' T8 HO/ELEC",158,"Fluorescent fixture",115,null,80]
[327,"675001","675001-T-9 (CIRCLINE)    1L8\"\" (DIA) EE/ELEC\"",22,"Fluorescent fixture",115,null,80]
[328,"676001","676001-T-9 (CIRCLINE)    1L12\"\" (DIA) EE/ELEC\"",32,"Fluorescent fixture",115,null,80]
[329,"678001","678001-T-9 (CIRCLINE)    1L12\"\" (DIA) EE/ELEC\"",54,"Fluorescent fixture",115,null,80]
[320,"685001","685001-T-8 U-TUBE OCTIC    2L10\"\"\"",34,"Fluorescent fixture",115,null,80]
[322,"687001","687001-T-8 U-TUBE    2L16\"\"\"",48,"Fluorescent fixture",115,null,80]
[321,"688001","688001-T-8 U-TUBE    1L22\"\"\"",39,"Fluorescent fixture",115,null,80]
[324,"689001","689001-T-8 U-TUBE    2L22\"\"\"",62,"Fluorescent fixture",115,null,80]
[323,"689002","689002-T-8 U-TUBE    2L22 \" LO",55,"Fluorescent fixture",115,null,80]
[325,"690001","690001-T-8 U-TUBE    3L22\"\"\"",101,"Fluorescent fixture",115,null,80]
[177,"695001","695001-MERCURY VAPOR 81W QL INDUCTION",81,"HID",117,"Mercury Vapor",35]
[179,"701001","701001-MERCURY VAPOR    40W MV/BALLAST",50,"HID",117,"Mercury Vapor",35]
[180,"703001","703001-MERCURY VAPOR    50W MV/BALLAST",75,"HID",117,"Mercury Vapor",35]
[181,"705001","705001-MERCURY VAPOR    75W MV/BALLAST",95,"HID",117,"Mercury Vapor",35]
[182,"707001","707001-MERCURY VAPOR    100W MV/BALLAST",120,"HID",117,"Mercury Vapor",35]
[183,"709001","709001-MERCURY VAPOR    175W MV/BALLAST",205,"HID",117,"Mercury Vapor",35]
[184,"711001","711001-MERCURY VAPOR    250W MV/BALLAST",290,"HID",117,"Mercury Vapor",35]
[185,"713001","713001-MERCURY VAPOR    400W MV/BALLAST",450,"HID",117,"Mercury Vapor",35]
[189,"715001","715001-MERCURY VAPOR    (2) 400W MV/BALLAST",880,"HID",117,"Mercury Vapor",35]
[186,"717001","717001-MERCURY VAPOR    700W MV/BALLAST",775,"HID",117,"Mercury Vapor",35]
[187,"719001","719001-MERCURY VAPOR    1000W MV/BALLAST",1075,"HID",117,"Mercury Vapor",35]
[191,"721001","721001-METAL HALIDE    32W MH/BALLAST",40,"HID",117,"Metal Halide",90]
[192,"723001","723001-METAL HALIDE    70W MH/BALLAST",95,"HID",117,"Metal Halide",90]
[193,"724001","724001-METAL HALIDE    82W MH/BALLAST",81,"HID",117,"Metal Halide",90]
[194,"725001","725001-METAL HALIDE    100W MH/BALLAST",120,"HID",117,"Metal Halide",90]
[195,"727001","727001-METAL HALIDE    150W MH/BALLAST",195,"HID",117,"Metal Halide",90]
[197,"729001","729001-METAL HALIDE    175W MH/BALLAST",215,"HID",117,"Metal Halide",90]
[196,"729002","729002-METAL HALIDE    175W MH/BALLAST",200,"HID",117,"Metal Halide",90]
[198,"731001","731001-METAL HALIDE    250W MH/BALLAST",286,"HID",117,"Metal Halide",90]
[200,"732002","732002-METAL HALIDE    350W MH/BALLAST",385,"HID",117,"Metal Halide",90]
[199,"732003","732003-METAL HALIDE    350W MH/BALLAST LO",375,"HID",117,"Metal Halide",90]
[201,"733001","733001-METAL HALIDE    400W MH/BALLAST",445,"HID",117,"Metal Halide",90]
[202,"735002","735002-METAL HALIDE  750W MH/BALLAST",795,"HID",117,"Metal Halide",90]
[203,"737001","737001-METAL HALIDE    1000W MH/BALLAST",1070,"HID",117,"Metal Halide",90]
[204,"739001","739001-METAL HALIDE    1500W MH/BALLAST",1625,"HID",117,"Metal Halide",90]
[110,"741001","741001-LP SODIUM    35W LPS/BALLAST",60,"HID",117,"Low Pressure Sodium",170]
[111,"743001","743001-LP SODIUM    55W LPS/BALLAST",85,"HID",117,"Low Pressure Sodium",170]
[112,"745001","745001-LP SODIUM    90W LPS/BALLAST",130,"HID",117,"Low Pressure Sodium",170]
[113,"747001","747001-LP SODIUM    135W LPS/BALLAST",180,"HID",117,"Low Pressure Sodium",170]
[114,"749001","749001-LP SODIUM    180W LPS/BALLAST",230,"HID",117,"Low Pressure Sodium",170]
[116,"751001","751001-HP SODIUM    35W HPS/BALLAST",45,"HID",117,"High Pressure Sodium",150]
[117,"753001","753001-HP SODIUM    50W HPS/BALLAST",60,"HID",117,"High Pressure Sodium",150]
[118,"755001","755001-HP SODIUM    70W HPS/BALLAST",92,"HID",117,"High Pressure Sodium",150]
[119,"757001","757001-HP SODIUM    100W HPS/BALLAST",130,"HID",117,"High Pressure Sodium",150]
[120,"759001","759001-HP SODIUM    150W HPS/BALLAST",190,"HID",117,"High Pressure Sodium",150]
[121,"761001","761001-HP SODIUM    215W HPS/BALLAST",255,"HID",117,"High Pressure Sodium",150]
[123,"763001","763001-HP SODIUM    250W HPS/BALLAST",295,"HID",117,"High Pressure Sodium",150]
[122,"763002","763002-HP SODIUM    250W HPS/BALLAST LO",275,"HID",117,"High Pressure Sodium",150]
[124,"765001","765001-HP SODIUM    360W HPS/BALLAST",400,"HID",117,"High Pressure Sodium",150]
[125,"767001","767001-HP SODIUM    400W HPS/BALLAST",450,"HID",117,"High Pressure Sodium",150]
[126,"769001","769001-HP SODIUM    1000W HPS/BALLAST",1080,"HID",117,"High Pressure Sodium",150]
[206,"780JC1","780JC1-PULSE START METAL HALIDE  50 W",68,"HID",117,"Pulse-Start Metal Halide",90]
[207,"781JC1","781JC1-PULSE START METAL HALIDE  70 W",90,"HID",117,"Pulse-Start Metal Halide",90]
[208,"782JC1","782JC1-PULSE START METAL HALIDE  100 W",125,"HID",117,"Pulse-Start Metal Halide",90]
[209,"783JC1","783JC1-PULSE START METAL HALIDE  125 W",150,"HID",117,"Pulse-Start Metal Halide",90]
[210,"784JC1","784JC1-PULSE START METAL HALIDE 150 W",190,"HID",117,"Pulse-Start Metal Halide",90]
[211,"785JC1","785JC1-PULSE START METAL HALIDE  175 W",208,"HID",117,"Pulse-Start Metal Halide",90]
[212,"786JC1","786JC1-PULSE START METAL HALIDE  200 W",235,"HID",117,"Pulse-Start Metal Halide",90]
[213,"787JC1","787JC1-PULSE START METAL HALIDE  250 W",288,"HID",117,"Pulse-Start Metal Halide",90]
[214,"788JC1","788JC1-PULSE START METAL HALIDE 300 W",342,"HID",117,"Pulse-Start Metal Halide",90]
[215,"789JC1","789JC1-PULSE START METAL HALIDE  320 W",368,"HID",117,"Pulse-Start Metal Halide",90]
[216,"790JC1","790JC1-PULSE START METAL HALIDE  350 W",400,"HID",117,"Pulse-Start Metal Halide",90]
[217,"791JC1","791JC1-PULSE START METAL HALIDE  400 W",450,"HID",117,"Pulse-Start Metal Halide",90]
[218,"792JC1","792JC1-PULSE START METAL HALIDE  450 W",510,"HID",117,"Pulse-Start Metal Halide",90]
[219,"793JC1","793JC1-PULSE START METAL HALIDE  750 W",815,"HID",117,"Pulse-Start Metal Halide",90]
[220,"794JC1","794JC1-PULSE START METAL HALIDE  875 W",940,"HID",117,"Pulse-Start Metal Halide",90]
[221,"795JC1","795JC1-PULSE START METAL HALIDE  1000 W",1080,"HID",117,"Pulse-Start Metal Halide",90]
[222,"796JC1","796JC1-PULSE START METAL HALIDE  2000 W",2140,"HID",117,"Pulse-Start Metal Halide",90]
[233,"900102","900102-T-5   3L FP54/T5/Elec/Ho",179,"Fluorescent fixture",115,null,80]
[234,"900103","900103-T-5   4L FP54/T5/Elec/Ho",234,"Fluorescent fixture",115,null,80]
[235,"900104","900104-T-5  6L FP54/T5/Elec/Ho",351,"Fluorescent fixture",115,null,80]

{"sheet":"scode","index":2,"n_rows":290,"n_cols":1,"rows_kept":290,"cut":false,"hidden":true,"merged":[]}
["ITEM_UCODE"]
["001001"]
["003001"]
["004001"]
["005001"]
["007001"]
["009001"]
["011001"]
["013001"]
["015001"]
["017001"]
["019001"]
["021001"]
["023001"]
["025001"]
["026001"]
["027001"]
["029001"]
["031001"]
["033001"]
["035001"]
["037001"]
["039001"]
["041001"]
["043001"]
["045001"]
["047001"]
["048001"]
["049001"]
["051001"]
["053001"]
["055001"]
["057001"]
["061001"]
["063001"]
["065001"]
["067001"]
["069001"]
["071001"]
["073001"]
["075001"]
["077001"]
["079001"]
["081001"]
["083001"]
["085001"]
["087001"]
["089001"]
["105001"]
["105003"]
["113001"]
["115001"]
["120002"]
["120003"]
["125001"]
["133001"]
["135001"]
["140002"]
["145001"]
["145003"]
["153001"]
["156001"]
["157001"]
["161001"]
["162001"]
["162003"]
["164001"]
["165001"]
["166001"]
["167001"]
["168001"]
["169001"]
["170001"]
["171001"]
["181001"]
["182001"]
["182002"]
["185001"]
["185002"]
["186001"]
["186002"]
["187001"]
["188002"]
["193001"]
["195001"]
["196001"]
["200001"]
["203001"]
["204001"]
["205001"]
["210001"]
["215001"]
["220001"]
["225001"]
["230001"]
["235001"]
["235002"]
["240001"]
["250001"]
["251001"]
["252001"]
["253001"]
["253002"]
["254001"]
["254002"]
["254003"]
["258001"]
["270001"]
["272001"]
["273003"]
["274001"]
["276001"]
["278001"]
["279001"]
["280001"]
["285001"]
["287001"]
["289001"]
["291001"]
["293001"]
["294001"]
["295001"]
["297001"]
["392003"]
["393002"]
["394001"]
["395001"]
["396001"]
["397001"]
["398001"]
["398003"]
["399002"]
["441001"]
["441003"]
["442001"]
["443001"]
["444001"]
["446001"]
["446002"]
["446003"]
["447001"]
["447002"]
["447003"]
["447004"]
["447005"]
["447006"]
["448001"]
["448002"]
["448003"]
["449001"]
["449002"]
["449003"]
["452001"]
["506001"]
["507001"]
["508001"]
["509001"]
["511001"]
["511003"]
["512001"]
["512002"]
["512003"]
["513001"]
["513002"]
["513003"]
["514001"]
["514002"]
["514003"]
["530001"]
["530002"]
["531001"]
["532001"]
["533001"]
["534001"]
["536001"]
["536002"]
["537001"]
["537002"]
["537003"]
["538001"]
["538003"]
["539001"]
["539002"]
["539003"]
["551001"]
["552001"]
["553001"]
["562001"]
["576001"]
["576003"]
["577001"]
["577003"]
["578001"]
["579001"]
["580001"]
["581001"]
["581002"]
["581003"]
["582001"]
["582003"]
["583001"]
["585001"]
["585002"]
["585003"]
["586001"]
["586002"]
["586003"]
["589001"]
["592001"]
["592002"]
["593002"]
["595001"]
["628101"]
["628102"]
["628103"]
["629001"]
["629002"]
["630001"]
["630002"]
["660001"]
["675001"]
["676001"]
["678001"]
["685001"]
["687001"]
["688001"]
["689001"]
["689002"]
["690001"]
["695001"]
["701001"]
["703001"]
["705001"]
["707001"]
["709001"]
["711001"]
["713001"]
["715001"]
["717001"]
["719001"]
["721001"]
["723001"]
["724001"]
["725001"]
["727001"]
["729001"]
["729002"]
["731001"]
["732002"]
["732003"]
["733001"]
["735002"]
["737001"]
["739001"]
["741001"]
["743001"]
["745001"]
["747001"]
["749001"]
["751001"]
["753001"]
["755001"]
["757001"]
["759001"]
["761001"]
["763001"]
["763002"]
["765001"]
["767001"]
["769001"]
["780JC1"]
["781JC1"]
["782JC1"]
["783JC1"]
["784JC1"]
["785JC1"]
["786JC1"]
["787JC1"]
["788JC1"]
["789JC1"]
["790JC1"]
["791JC1"]
["792JC1"]
["793JC1"]
["794JC1"]
["795JC1"]
["796JC1"]
["900102"]
["900103"]
["900104"]

{"sheet":"LEDs","index":3,"n_rows":78,"n_cols":10,"rows_kept":78,"cut":false,"hidden":true,"merged":[]}
["*****DLC Fixtures*****"]
["LED Tube – 2' Linear Replacement Lamps",null,null,null,null,null,null,null,null,"Qualified Luminaire?"]
["LED Tube – 3' Linear Replacement Lamps"]
["LED Tube – 4' Linear Replacement Lamps",null,null,null,null,null,null,null,null,"Yes"]
["LED Tube – 8' Linear Replacement Lamps",null,null,null,null,null,null,null,null,"No"]
["LED Tube – U-Bend Replacement Lamps"]
["LED Luminaire for Ambient Lighting of Commercial Spaces - 1x4"]
["LED Luminaire for Ambient Lighting of Commercial Spaces - 2x2"]
["LED Luminaire for Ambient Lighting of Commercial Spaces - 2x4"]
["LED High-Bay and Low-Bay Fixtures"]
["LED High-Bay-Aisle Lighting"]
["LED Luminaire Ambient - 2' - Indirect, Indirect/Direct, Direct/Indirect & Direct"]
["LED Luminaire Ambient - 3' - Indirect, Indirect/Direct, Direct/Indirect & Direct"]
["LED Luminaire Ambient - 4' - Indirect, Indirect/Direct, Direct/Indirect & Direct"]
["LED Luminaire Ambient - 6' - Indirect, Indirect/Direct, Direct/Indirect & Direct"]
["LED Luminaire Ambient - 8' - Indirect, Indirect/Direct, Direct/Indirect & Direct"]
["LED Stairwell and Passageway Lighting"]
["LED Track or Mono-Point Directional Lighting Fixtures"]
["LED Wall-Wash Lights"]
["LED Four Pin-Base CFL Replacement"]
["LED Architectural Flood and Spot Luminaires"]
["LED Bollard Fixtures"]
["LED Fuel Pump Canopy"]
["LED Outdoor Wall-Mounted Area Luminaires"]
["LED Outdoor Pole/Arm-Mounted Area and Roadway Luminaires"]
["LED Outdoor Pole/Arm-Mounted Decorative Luminaires"]
["LED Parking Garage Luminaires"]
["LED Large Outdoor Pole/Arm-Mounted Area and Roadway Luminaires"]
["LED Mogul Screw-Base (E39) Replacements for HID Lamps"]
["LED Display Case Lighting"]
["LED Wall-Wash Lights"]
["LED Wrapped Lens"]
["*****ENERGY STAR Screw-Ins/Plug-Ins*****"]
["LED A15"]
["LED A19"]
["LED A21"]
["LED B10"]
["LED B13"]
["LED BA10"]
["LED BR30"]
["LED BR40"]
["LED CA10"]
["LED F10"]
["LED F15"]
["LED G16.5"]
["LED G25"]
["LED MR16"]
["LED MRX16"]
["LED PAR16"]
["LED PAR20"]
["LED PAR30"]
["LED PAR30L"]
["LED PAR38"]
["LED R20"]
["LED R30"]
["LED R40"]
["*****ENERGY STAR Commercial Fixtures*****"]
["Accent Line Voltage"]
["Bath Vanity"]
["Ceiling Mount"]
["Close to Ceiling Mount"]
["Cove Mount"]
["Decorative Pendant"]
["Downlight Pendant"]
["Downlight Recessed"]
["Downlight Solid State Retrofit"]
["Downlight Surface Mount"]
["Linear Strip"]
["Other"]
["Outdoor Porch Wall Mount"]
["Outdoor Post-Mount"]
["Porch (Wall Mounted)"]
["Portable Desk Task Light"]
["Security"]
["Torchiere"]
["Under Cabinet"]
["Wall Sconces"]
["Wrapped Lens"]

{"sheet":"ASHRAE 90.1 2007 - CST","index":4,"n_rows":76,"n_cols":34,"rows_kept":76,"cut":false,"hidden":true,"merged":[[0,1,0,21],[0,22,0,33]]}
["Common Space Types (CSTTable_2007)","Space Type and Associated LPD Limit (Interior Spaces)",null,null,null,null,null,null,null,null,null,null,null,null,null,null,null,null,null,null,null,null,"Space Type and Associated LPD Limit (Exterior Spaces)"]
["Facility Type","Office - Enclosed","Office - Open Plan","Conference/ Meeting/ Multipurpose","Classroom/ Lecture/ Training","Lobby","Audience/ Seating Area","Atrium - First Three Floors","Atrium - Each Additional Floor","Lounge/ Recreation","Dining Area","Food Preparation","Laboratory","Restrooms","Dressing/ Locker/ Fitting Room","Corridor/ Transition","Stairs - Active","Active Storage","Inactive Storage","Electrical/ Mechanical","Workshop","Sales Area","Building Façade","Uncovered Parking Area","Walkway (<10 ft Wide)","Walkway (≥10 ft Wide)","Plaza Area","Special Feature Area","Stairway","Main Entry","Other Entry Door","Canopy/ Overhang","Open Sales Area","Street Frontage for Vehicle Sales (in addition to \"Open Area\" allowance)"]
["Automotive Facility",1.1000000000000001,1.1000000000000001,1.3,1.4,1.3,0.9,0.6,0.2,1.2,0.9,1.2,1.4,0.9,0.6,0.5,0.6,0.8,0.3,1.5,1.9,1.7,0.2,0.15,1,0.2,0.2,0.2,1,30,20,1.25,0.5,20]
["Community College",1.1000000000000001,1.1000000000000001,1.3,1.4,1.3,0.9,0.6,0.2,1.2,0.9,1.2,1.4,0.9,0.6,0.5,0.6,0.8,0.3,1.5,1.9,1.7,0.2,0.15,1,0.2,0.2,0.2,1,30,20,1.25,0.5,20]
["Convention Center",1.1000000000000001,1.1000000000000001,1.3,1.4,1.3,0.7,0.6,0.2,1.2,0.9,1.2,1.4,0.9,0.6,0.5,0.6,0.8,0.3,1.5,1.9,1.7,0.2,0.15,1,0.2,0.2,0.2,1,30,20,1.25,0.5,20]
["Courthouse",1.1000000000000001,1.1000000000000001,1.3,1.4,1.3,0.9,0.6,0.2,1.2,0.9,1.2,1.4,0.9,0.6,0.5,0.6,0.8,0.3,1.5,1.9,1.7,0.2,0.15,1,0.2,0.2,0.2,1,30,20,1.25,0.5,20]
["Dining: Bar Lounge/ Leisure",1.1000000000000001,1.1000000000000001,1.3,1.4,1.3,0.9,0.6,0.2,1.2,1.4,1.2,1.4,0.9,0.6,0.5,0.6,0.8,0.3,1.5,1.9,1.7,0.2,0.15,1,0.2,0.2,0.2,1,30,20,1.25,0.5,20]
["Dining: Cafeteria/ Fast Food",1.1000000000000001,1.1000000000000001,1.3,1.4,1.3,0.9,0.6,0.2,1.2,0.9,1.2,1.4,0.9,0.6,0.5,0.6,0.8,0.3,1.5,1.9,1.7,0.2,0.15,1,0.2,0.2,0.2,1,30,20,1.25,0.5,20]
["Dining: Family",1.1000000000000001,1.1000000000000001,1.3,1.4,1.3,0.9,0.6,0.2,1.2,2.1,1.2,1.4,0.9,0.6,0.5,0.6,0.8,0.3,1.5,1.9,1.7,0.2,0.15,1,0.2,0.2,0.2,1,30,20,1.25,0.5,20]
["Dormitory",1.1000000000000001,1.1000000000000001,1.3,1.4,1.3,0.9,0.6,0.2,1.2,0.9,1.2,1.4,0.9,0.6,0.5,0.6,0.8,0.3,1.5,1.9,1.7,0.2,0.15,1,0.2,0.2,0.2,1,30,20,1.25,0.5,20]
["Exercise Center",1.1000000000000001,1.1000000000000001,1.3,1.4,1.3,0.3,0.6,0.2,1.2,0.9,1.2,1.4,0.9,0.6,0.5,0.6,0.8,0.3,1.5,1.9,1.7,0.2,0.15,1,0.2,0.2,0.2,1,30,20,1.25,0.5,20]
["Fire Station",1.1000000000000001,1.1000000000000001,1.3,1.4,1.3,0.9,0.6,0.2,1.2,0.9,1.2,1.4,0.9,0.6,0.5,0.6,0.8,0.3,1.5,1.9,1.7,0.2,0.15,1,0.2,0.2,0.2,1,30,20,1.25,0.5,20]
["Gymnasium",1.1000000000000001,1.1000000000000001,1.3,1.4,1.3,0.4,0.6,0.2,1.2,0.9,1.2,1.4,0.9,0.6,0.5,0.6,0.8,0.3,1.5,1.9,1.7,0.2,0.15,1,0.2,0.2,0.2,1,30,20,1.25,0.5,20]
["Healthcare Clinic",1.1000000000000001,1.1000000000000001,1.3,1.4,1.3,0.9,0.6,0.2,1.2,0.9,1.2,1.4,0.9,0.6,0.5,0.6,0.8,0.3,1.5,1.9,1.7,0.2,0.15,1,0.2,0.2,0.2,1,30,20,1.25,0.5,20]
["Hospital",1.1000000000000001,1.1000000000000001,1.3,1.4,1.3,0.9,0.6,0.2,0.8,0.9,1.2,1.4,0.9,0.6,1,0.6,0.9,0.3,1.5,1.9,1.7,0.2,0.15,1,0.2,0.2,0.2,1,30,20,1.25,0.5,20]
["Hotel",1.1000000000000001,1.1000000000000001,1.3,1.4,1.1000000000000001,0.9,0.6,0.2,1.2,1.3,1.2,1.4,0.9,0.6,0.5,0.6,0.8,0.3,1.5,1.9,1.7,0.2,0.15,1,0.2,0.2,0.2,1,30,20,1.25,0.5,20]
["Library",1.1000000000000001,1.1000000000000001,1.3,1.4,1.3,0.9,0.6,0.2,1.2,0.9,1.2,1.4,0.9,0.6,0.5,0.6,0.8,0.3,1.5,1.9,1.7,0.2,0.15,1,0.2,0.2,0.2,1,30,20,1.25,0.5,20]
["Manufacturing Facility",1.1000000000000001,1.1000000000000001,1.3,1.4,1.3,0.9,0.6,0.2,1.2,0.9,1.2,1.4,0.9,0.6,0.5,0.6,0.8,0.3,1.5,1.9,1.7,0.2,0.15,1,0.2,0.2,0.2,1,30,20,1.25,0.5,20]
["Motel",1.1000000000000001,1.1000000000000001,1.3,1.4,1.3,0.9,0.6,0.2,1.2,1.2,1.2,1.4,0.9,0.6,0.5,0.6,0.8,0.3,1.5,1.9,1.7,0.2,0.15,1,0.2,0.2,0.2,1,30,20,1.25,0.5,20]
["Motion Picture Theater",1.1000000000000001,1.1000000000000001,1.3,1.4,1.1000000000000001,1.2,0.6,0.2,1.2,0.9,1.2,1.4,0.9,0.6,0.5,0.6,0.8,0.3,1.5,1.9,1.7,0.2,0.15,1,0.2,0.2,0.2,1,30,20,1.25,0.5,20]
["Multifamily",1.1000000000000001,1.1000000000000001,1.3,1.4,1.3,0.9,0.6,0.2,1.2,0.9,1.2,1.4,0.9,0.6,0.5,0.6,0.8,0.3,1.5,1.9,1.7,0.2,0.15,1,0.2,0.2,0.2,1,30,20,1.25,0.5,20]
["Museum",1.1000000000000001,1.1000000000000001,1.3,1.4,1.3,0.9,0.6,0.2,1.2,0.9,1.2,1.4,0.9,0.6,0.5,0.6,0.8,0.8,1.5,1.9,1.7,0.2,0.15,1,0.2,0.2,0.2,1,30,20,1.25,0.5,20]
["Office",1.1000000000000001,1.1000000000000001,1.3,1.4,1.3,0.9,0.6,0.2,1.2,0.9,1.2,1.4,0.9,0.6,0.5,0.6,0.8,0.3,1.5,1.9,1.7,0.2,0.15,1,0.2,0.2,0.2,1,30,20,1.25,0.5,20]
["Parking Garage",1.1000000000000001,1.1000000000000001,1.3,1.4,1.3,0.9,0.6,0.2,1.2,0.9,1.2,1.4,0.9,0.6,0.5,0.6,0.8,0.3,1.5,1.9,1.7,0.2,0.15,1,0.2,0.2,0.2,1,30,20,1.25,0.5,20]
["Penitentiary",1.1000000000000001,1.1000000000000001,1.3,1.3,1.3,0.7,0.6,0.2,1.2,1.3,1.2,1.4,0.9,0.6,0.5,0.6,0.8,0.3,1.5,1.9,1.7,0.2,0.15,1,0.2,0.2,0.2,1,30,20,1.25,0.5,20]
["Performing Arts Theater",1.1000000000000001,1.1000000000000001,1.3,1.4,3.3,2.6,0.6,0.2,1.2,0.9,1.2,1.4,0.9,0.6,0.5,0.6,0.8,0.3,1.5,1.9,1.7,0.2,0.15,1,0.2,0.2,0.2,1,30,20,1.25,0.5,20]
["Police Station",1.1000000000000001,1.1000000000000001,1.3,1.4,1.3,0.9,0.6,0.2,1.2,0.9,1.2,1.4,0.9,0.6,0.5,0.6,0.8,0.3,1.5,1.9,1.7,0.2,0.15,1,0.2,0.2,0.2,1,30,20,1.25,0.5,20]
["Post Office",1.1000000000000001,1.1000000000000001,1.3,1.4,1.3,0.9,0.6,0.2,1.2,0.9,1.2,1.4,0.9,0.6,0.5,0.6,0.8,0.3,1.5,1.9,1.7,0.2,0.15,1,0.2,0.2,0.2,1,30,20,1.25,0.5,20]
["Primary School",1.1000000000000001,1.1000000000000001,1.3,1.4,1.3,0.9,0.6,0.2,1.2,0.9,1.2,1.4,0.9,0.6,0.5,0.6,0.8,0.3,1.5,1.9,1.7,0.2,0.15,1,0.2,0.2,0.2,1,30,20,1.25,0.5,20]
["Religious Building",1.1000000000000001,1.1000000000000001,1.3,1.4,1.3,1.7,0.6,0.2,1.2,0.9,1.2,1.4,0.9,0.6,0.5,0.6,0.8,0.3,1.5,1.9,1.7,0.2,0.15,1,0.2,0.2,0.2,1,30,20,1.25,0.5,20]
["Retail",1.1000000000000001,1.1000000000000001,1.3,1.4,1.3,0.9,0.6,0.2,1.2,0.9,1.2,1.4,0.9,0.6,0.5,0.6,0.8,0.3,1.5,1.9,1.7,0.2,0.15,1,0.2,0.2,0.2,1,30,20,1.25,0.5,20]
["Secondary School",1.1000000000000001,1.1000000000000001,1.3,1.4,1.3,0.9,0.6,0.2,1.2,0.9,1.2,1.4,0.9,0.6,0.5,0.6,0.8,0.3,1.5,1.9,1.7,0.2,0.15,1,0.2,0.2,0.2,1,30,20,1.25,0.5,20]
["Sports Arena",1.1000000000000001,1.1000000000000001,1.3,1.4,1.3,0.4,0.6,0.2,1.2,0.9,1.2,1.4,0.9,0.6,0.5,0.6,0.8,0.3,1.5,1.9,1.7,0.2,0.15,1,0.2,0.2,0.2,1,30,20,1.25,0.5,20]
["Town Hall",1.1000000000000001,1.1000000000000001,1.3,1.4,1.3,0.9,0.6,0.2,1.2,0.9,1.2,1.4,0.9,0.6,0.5,0.6,0.8,0.3,1.5,1.9,1.7,0.2,0.15,1,0.2,0.2,0.2,1,30,20,1.25,0.5,20]
["Transportation",1.1000000000000001,1.1000000000000001,1.3,1.4,1.3,0.5,0.6,0.2,1.2,0.9,1.2,1.4,0.9,0.6,0.5,0.6,0.8,0.3,1.5,1.9,1.7,0.2,0.15,1,0.2,0.2,0.2,1,30,20,1.25,0.5,20]
["University",1.1000000000000001,1.1000000000000001,1.3,1.4,1.3,0.9,0.6,0.2,1.2,0.9,1.2,1.4,0.9,0.6,0.5,0.6,0.8,0.3,1.5,1.9,1.7,0.2,0.15,1,0.2,0.2,0.2,1,30,20,1.25,0.5,20]
["Warehouse",1.1000000000000001,1.1000000000000001,1.3,1.4,1.3,0.9,0.6,0.2,1.2,0.9,1.2,1.4,0.9,0.6,0.5,0.6,0.8,0.3,1.5,1.9,1.7,0.2,0.15,1,0.2,0.2,0.2,1,30,20,1.25,0.5,20]
["Workshop",1.1000000000000001,1.1000000000000001,1.3,1.4,1.3,0.9,0.6,0.2,1.2,0.9,1.2,1.4,0.9,0.6,0.5,0.6,0.8,0.3,1.5,1.9,1.7,0.2,0.15,1,0.2,0.2,0.2,1,30,20,1.25,0.5,20]
[]
["CSTTypes_2007"]
["***INTERIOR LIGHTING***"]
["Office - Enclosed"]
["Office - Open Plan"]
["Conference/ Meeting/ Multipurpose"]
["Classroom/ Lecture/ Training"]
["Lobby"]
["Audience/ Seating Area"]
["Atrium - First Three Floors"]
["Atrium - Each Additional Floor"]
["Lounge/ Recreation"]
["Dining Area"]
["Food Preparation"]
["Laboratory"]
["Restrooms"]
["Dressing/ Locker/ Fitting Room"]
["Corridor/ Transition"]
["Stairs - Active"]
["Active Storage"]
["Inactive Storage"]
["Electrical/ Mechanical"]
["Workshop"]
["Sales Area"]
[]
["***EXTERIOR LIGHTING***"]
["Building Façade"]
["Uncovered Parking Area"]
["Walkway (<10 ft Wide)"]
["Walkway (≥10 ft Wide)"]
["Plaza Area"]
["Special Feature Area"]
["Stairway"]
["Main Entry"]
["Other Entry Door"]
["Canopy/ Overhang"]
["Open Sales Area"]
["Street Frontage for Vehicle Sales (in addition to \"Open Area\" allowance)"]

{"sheet":"ASHRAE 90.1 2007 - BSST","index":5,"n_rows":50,"n_cols":2,"rows_kept":50,"cut":false,"hidden":true,"merged":[[0,0,0,1]]}
["Building-Specific Space Types (BSSTTable_2007)"]
["Space Type","LPD Allowance\n(W/SF)"]
["Gymnasium/ Exercise Center - Playing Area",1.4]
["Gymnasium/ Exercise Center - Exercise Area",0.9]
["Courthouse/ Police Station/ Penitentiary - Courtroom",1.9]
["Courthouse/ Police Station/ Penitentiary - Confinement Cells",0.9]
["Courthouse/ Police Station/ Penitentiary - Judges' Chambers",1.3]
["Fire Station - Engine Room",0.8]
["Fire Station - Sleeping Quarters",0.3]
["Post Office - Sorting Area",1.2]
["Convention Center - Exhibit Space",1.3]
["Library - Card File and Cataloging",1.1000000000000001]
["Library - Stacks",1.7]
["Library - Reading Area",1.2]
["Hospital - Emergency",2.7]
["Hospital - Recovery",0.8]
["Hospital - Nurses' Station",1]
["Hospital - Exam/Treatment",1.5]
["Hospital - Pharmacy",1.2]
["Hospital - Patient Room",0.7]
["Hospital - Operating Room",2.2000000000000002]
["Hospital - Nursery",0.6]
["Hospital - Medical Supply",1.4]
["Hospital - Physical Therapy",0.9]
["Hospital - Radiology",0.4]
["Hospital - Laundry/ Washing",0.6]
["Automotive - Service/ Repair",0.7]
["Manufacturing - Low Bay (<25 ft Floor to Ceiling Height)",1.2]
["Manufacturing - High Bay (≥25 ft Floor to Ceiling Height)",1.7]
["Manufacturing - Detailed Manufacturing",2.1]
["Manufacturing - Equipment Room",1.2]
["Manufacturing - Control Room",0.5]
["Hotel/ Motel - Guest Rooms",1.1000000000000001]
["Dormitory - Living Quarters",1.1000000000000001]
["Museum - General Exhibition",1]
["Museum - Restoration",1.7]
["Bank/ Office - Banking Activity Area",1.5]
["Religious Building - Worship/ Pulpit/ Choir",2.4]
["Religious Building - Fellowship Hall",0.9]
["Retail - Sales Area",1.7]
["Retail - Mall Concourse",1.7]
["Sports Arena - Ring Sports Arena",2.7]
["Sports Arena - Court Sports Arena",2.2999999999999998]
["Sports Arena - Indoor Playing Field Area",1.4]
["Warehouse - Fine Material Storage",1.4]
["Warehouse - Medium/ Bulky Material Storage",0.9]
["Parking Garage - Garage Area",0.2]
["Transportation - Airport - Concourse",0.6]
["Transportation - Air/ Train/ Bus - Baggage Area",1]
["Transportation - Terminal - Ticket Counter",1.5]

{"sheet":"ASHRAE 90.1 2013 - CST","index":6,"n_rows":99,"n_cols":64,"rows_kept":99,"cut":false,"hidden":true,"merged":[[0,1,0,40],[1,59,1,63],[0,58,0,63],[0,41,0,56]]}
["Common Space Types (CSTTable_2013)","Space Type and Associated LPD Limit (Interior Spaces)",null,null,null,null,null,null,null,null,null,null,null,null,null,null,null,null,null,null,null,null,null,null,null,null,null,null,null,null,null,null,null,null,null,null,null,null,null,null,null,"Space Type and Associated LPD Limit (Exterior Spaces)",null,null,null,null,null,null,null,null,null,null,null,null,null,null,null,null,"Space Type and Associated LPD Limit (Exterior Spaces)"]
["Facility Type","Atrium - Height: <20 ft","Atrium - Height: 20 - 40 ft","Atrium - Height: >40 ft","Audience Seating Area","Audience Seating Area - Auditorium","Banking Activity Area","Classroom/ Lecture Hall/ Training Room","Conference/ Meeting/ Multipurpose Room","Confinement Cells","Copy/ Print Room","Corridor","Courtroom","Computer Room","Dining Area","Electrical/ Mechanical Room","Emergency Vehicle Garage","Food Preparation Area","Guest Room","Laboratory (Non-Classroom)","Laboratory (Classroom)","Laundry/ Washing Area","Loading Dock, Interior","Lobby","Lobby - Elevator","Locker Room","Lounge/ Breakroom","Office - Enclosed (≤250 SF)","Office - Enclosed (>250 SF)","Office - Open Plan","Parking Area, Interior","Pharmacy Area","Restroom","Sales Area","Seating Area, General","Stairwell","Storage Room (<50 SF)","Storage Room (50 - 1000 SF)","Storage Room (>1000 SF)","Vehicular Maintenance Area","Workshop","Building Façade","Uncovered Parking Area","Walkway (<10 ft Wide)","Walkway (≥10 ft Wide)","Plaza Area","Special Feature Area","Stairway","Pedestrian Tunnel","Landscaping","Main Entry","Other Entry Door","Entry Canopy","Loading Dock","Sales Canopy","Open Sales Area","Street Frontage for Vehicle Sales (in addition to \"Open Area\" allowance)",null,"Space Type","Zone"]
["Automotive Facility",0.03,0.03,0.02,0.43,0.63,1.01,1.24,1.23,0.81,0.72,0.66,1.72,1.71,0.65,0.42,0.56000000000000005,1.21,0.91,1.81,1.43,0.6,0.47,0.9,0.64,0.75,0.73,1.1100000000000001,1.1100000000000001,0.98,0.19,1.68,0.98,1.44,0.54,0.69,1.24,0.63,0.63,0.67,1.59,{"$f":"IF(Worksheet!$C$15=\"\",\"N/A\",INDEX($BH$4:$BL$19,MATCH(AP$2,$BG$4:$BG$19,0),MATCH(Worksheet!$C$15,$BH$3:$BL$3,0)))","v":"N/A"},{"$f":"IF(Worksheet!$C$15=\"\",\"N/A\",INDEX($BH$4:$BL$19,MATCH(AQ$2,$BG$4:$BG$19,0),MATCH(Worksheet!$C$15,$BH$3:$BL$3,0)))","v":"N/A"},{"$f":"IF(Worksheet!$C$15=\"\",\"N/A\",INDEX($BH$4:$BL$19,MATCH(AR$2,$BG$4:$BG$19,0),MATCH(Worksheet!$C$15,$BH$3:$BL$3,0)))","v":"N/A"},{"$f":"IF(Worksheet!$C$15=\"\",\"N/A\",INDEX($BH$4:$BL$19,MATCH(AS$2,$BG$4:$BG$19,0),MATCH(Worksheet!$C$15,$BH$3:$BL$3,0)))","v":"N/A"},{"$f":"IF(Worksheet!$C$15=\"\",\"N/A\",INDEX($BH$4:$BL$19,MATCH(AT$2,$BG$4:$BG$19,0),MATCH(Worksheet!$C$15,$BH$3:$BL$3,0)))","v":"N/A"},{"$f":"IF(Worksheet!$C$15=\"\",\"N/A\",INDEX($BH$4:$BL$19,MATCH(AU$2,$BG$4:$BG$19,0),MATCH(Worksheet!$C$15,$BH$3:$BL$3,0)))","v":"N/A"},{"$f":"IF(Worksheet!$C$15=\"\",\"N/A\",INDEX($BH$4:$BL$19,MATCH(AV$2,$BG$4:$BG$19,0),MATCH(Worksheet!$C$15,$BH$3:$BL$3,0)))","v":"N/A"},{"$f":"IF(Worksheet!$C$15=\"\",\"N/A\",INDEX($BH$4:$BL$19,MATCH(AW$2,$BG$4:$BG$19,0),MATCH(Worksheet!$C$15,$BH$3:$BL$3,0)))","v":"N/A"},{"$f":"IF(Worksheet!$C$15=\"\",\"N/A\",INDEX($BH$4:$BL$19,MATCH(AX$2,$BG$4:$BG$19,0),MATCH(Worksheet!$C$15,$BH$3:$BL$3,0)))","v":"N/A"},{"$f":"IF(Worksheet!$C$15=\"\",\"N/A\",INDEX($BH$4:$BL$19,MATCH(AY$2,$BG$4:$BG$19,0),MATCH(Worksheet!$C$15,$BH$3:$BL$3,0)))","v":"N/A"},{"$f":"IF(Worksheet!$C$15=\"\",\"N/A\",INDEX($BH$4:$BL$19,MATCH(AZ$2,$BG$4:$BG$19,0),MATCH(Worksheet!$C$15,$BH$3:$BL$3,0)))","v":"N/A"},{"$f":"IF(Worksheet!$C$15=\"\",\"N/A\",INDEX($BH$4:$BL$19,MATCH(BA$2,$BG$4:$BG$19,0),MATCH(Worksheet!$C$15,$BH$3:$BL$3,0)))","v":"N/A"},{"$f":"IF(Worksheet!$C$15=\"\",\"N/A\",INDEX($BH$4:$BL$19,MATCH(BB$2,$BG$4:$BG$19,0),MATCH(Worksheet!$C$15,$BH$3:$BL$3,0)))","v":"N/A"},{"$f":"IF(Worksheet!$C$15=\"\",\"N/A\",INDEX($BH$4:$BL$19,MATCH(BC$2,$BG$4:$BG$19,0),MATCH(Worksheet!$C$15,$BH$3:$BL$3,0)))","v":"N/A"},{"$f":"IF(Worksheet!$C$15=\"\",\"N/A\",INDEX($BH$4:$BL$19,MATCH(BD$2,$BG$4:$BG$19,0),MATCH(Worksheet!$C$15,$BH$3:$BL$3,0)))","v":"N/A"},{"$f":"IF(Worksheet!$C$15=\"\",\"N/A\",INDEX($BH$4:$BL$19,MATCH(BE$2,$BG$4:$BG$19,0),MATCH(Worksheet!$C$15,$BH$3:$BL$3,0)))","v":"N/A"},null,null,0,1,2,3,4]
["Community College",0.03,0.03,0.02,0.43,0.63,1.01,1.24,1.23,0.81,0.72,0.66,1.72,1.71,0.65,0.42,0.56000000000000005,1.21,0.91,1.81,1.43,0.6,0.47,0.9,0.64,0.75,0.73,1.1100000000000001,1.1100000000000001,0.98,0.19,1.68,0.98,1.44,0.54,0.69,1.24,0.63,0.63,0.67,1.59,{"$f":"IF(Worksheet!$C$15=\"\",\"N/A\",INDEX($BH$4:$BL$19,MATCH(AP$2,$BG$4:$BG$19,0),MATCH(Worksheet!$C$15,$BH$3:$BL$3,0)))","v":"N/A"},{"$f":"IF(Worksheet!$C$15=\"\",\"N/A\",INDEX($BH$4:$BL$19,MATCH(AQ$2,$BG$4:$BG$19,0),MATCH(Worksheet!$C$15,$BH$3:$BL$3,0)))","v":"N/A"},{"$f":"IF(Worksheet!$C$15=\"\",\"N/A\",INDEX($BH$4:$BL$19,MATCH(AR$2,$BG$4:$BG$19,0),MATCH(Worksheet!$C$15,$BH$3:$BL$3,0)))","v":"N/A"},{"$f":"IF(Worksheet!$C$15=\"\",\"N/A\",INDEX($BH$4:$BL$19,MATCH(AS$2,$BG$4:$BG$19,0),MATCH(Worksheet!$C$15,$BH$3:$BL$3,0)))","v":"N/A"},{"$f":"IF(Worksheet!$C$15=\"\",\"N/A\",INDEX($BH$4:$BL$19,MATCH(AT$2,$BG$4:$BG$19,0),MATCH(Worksheet!$C$15,$BH$3:$BL$3,0)))","v":"N/A"},{"$f":"IF(Worksheet!$C$15=\"\",\"N/A\",INDEX($BH$4:$BL$19,MATCH(AU$2,$BG$4:$BG$19,0),MATCH(Worksheet!$C$15,$BH$3:$BL$3,0)))","v":"N/A"},{"$f":"IF(Worksheet!$C$15=\"\",\"N/A\",INDEX($BH$4:$BL$19,MATCH(AV$2,$BG$4:$BG$19,0),MATCH(Worksheet!$C$15,$BH$3:$BL$3,0)))","v":"N/A"},{"$f":"IF(Worksheet!$C$15=\"\",\"N/A\",INDEX($BH$4:$BL$19,MATCH(AW$2,$BG$4:$BG$19,0),MATCH(Worksheet!$C$15,$BH$3:$BL$3,0)))","v":"N/A"},{"$f":"IF(Worksheet!$C$15=\"\",\"N/A\",INDEX($BH$4:$BL$19,MATCH(AX$2,$BG$4:$BG$19,0),MATCH(Worksheet!$C$15,$BH$3:$BL$3,0)))","v":"N/A"},{"$f":"IF(Worksheet!$C$15=\"\",\"N/A\",INDEX($BH$4:$BL$19,MATCH(AY$2,$BG$4:$BG$19,0),MATCH(Worksheet!$C$15,$BH$3:$BL$3,0)))","v":"N/A"},{"$f":"IF(Worksheet!$C$15=\"\",\"N/A\",INDEX($BH$4:$BL$19,MATCH(AZ$2,$BG$4:$BG$19,0),MATCH(Worksheet!$C$15,$BH$3:$BL$3,0)))","v":"N/A"},{"$f":"IF(Worksheet!$C$15=\"\",\"N/A\",INDEX($BH$4:$BL$19,MATCH(BA$2,$BG$4:$BG$19,0),MATCH(Worksheet!$C$15,$BH$3:$BL$3,0)))","v":"N/A"},{"$f":"IF(Worksheet!$C$15=\"\",\"N/A\",INDEX($BH$4:$BL$19,MATCH(BB$2,$BG$4:$BG$19,0),MATCH(Worksheet!$C$15,$BH$3:$BL$3,0)))","v":"N/A"},{"$f":"IF(Worksheet!$C$15=\"\",\"N/A\",INDEX($BH$4:$BL$19,MATCH(BC$2,$BG$4:$BG$19,0),MATCH(Worksheet!$C$15,$BH$3:$BL$3,0)))","v":"N/A"},{"$f":"IF(Worksheet!$C$15=\"\",\"N/A\",INDEX($BH$4:$BL$19,MATCH(BD$2,$BG$4:$BG$19,0),MATCH(Worksheet!$C$15,$BH$3:$BL$3,0)))","v":"N/A"},{"$f":"IF(Worksheet!$C$15=\"\",\"N/A\",INDEX($BH$4:$BL$19,MATCH(BE$2,$BG$4:$BG$19,0),MATCH(Worksheet!$C$15,$BH$3:$BL$3,0)))","v":"N/A"},null,"Building Façade",0,0,0.1,0.15,0.2]
["Convention Center",0.03,0.03,0.02,0.82,0.63,1.01,1.24,1.23,0.81,0.72,0.66,1.72,1.71,0.65,0.42,0.56000000000000005,1.21,0.91,1.81,1.43,0.6,0.47,0.9,0.64,0.75,0.73,1.1100000000000001,1.1100000000000001,0.98,0.19,1.68,0.98,1.44,0.54,0.69,1.24,0.63,0.63,0.67,1.59,{"$f":"IF(Worksheet!$C$15=\"\",\"N/A\",INDEX($BH$4:$BL$19,MATCH(AP$2,$BG$4:$BG$19,0),MATCH(Worksheet!$C$15,$BH$3:$BL$3,0)))","v":"N/A"},{"$f":"IF(Worksheet!$C$15=\"\",\"N/A\",INDEX($BH$4:$BL$19,MATCH(AQ$2,$BG$4:$BG$19,0),MATCH(Worksheet!$C$15,$BH$3:$BL$3,0)))","v":"N/A"},{"$f":"IF(Worksheet!$C$15=\"\",\"N/A\",INDEX($BH$4:$BL$19,MATCH(AR$2,$BG$4:$BG$19,0),MATCH(Worksheet!$C$15,$BH$3:$BL$3,0)))","v":"N/A"},{"$f":"IF(Worksheet!$C$15=\"\",\"N/A\",INDEX($BH$4:$BL$19,MATCH(AS$2,$BG$4:$BG$19,0),MATCH(Worksheet!$C$15,$BH$3:$BL$3,0)))","v":"N/A"},{"$f":"IF(Worksheet!$C$15=\"\",\"N/A\",INDEX($BH$4:$BL$19,MATCH(AT$2,$BG$4:$BG$19,0),MATCH(Worksheet!$C$15,$BH$3:$BL$3,0)))","v":"N/A"},{"$f":"IF(Worksheet!$C$15=\"\",\"N/A\",INDEX($BH$4:$BL$19,MATCH(AU$2,$BG$4:$BG$19,0),MATCH(Worksheet!$C$15,$BH$3:$BL$3,0)))","v":"N/A"},{"$f":"IF(Worksheet!$C$15=\"\",\"N/A\",INDEX($BH$4:$BL$19,MATCH(AV$2,$BG$4:$BG$19,0),MATCH(Worksheet!$C$15,$BH$3:$BL$3,0)))","v":"N/A"},{"$f":"IF(Worksheet!$C$15=\"\",\"N/A\",INDEX($BH$4:$BL$19,MATCH(AW$2,$BG$4:$BG$19,0),MATCH(Worksheet!$C$15,$BH$3:$BL$3,0)))","v":"N/A"},{"$f":"IF(Worksheet!$C$15=\"\",\"N/A\",INDEX($BH$4:$BL$19,MATCH(AX$2,$BG$4:$BG$19,0),MATCH(Worksheet!$C$15,$BH$3:$BL$3,0)))","v":"N/A"},{"$f":"IF(Worksheet!$C$15=\"\",\"N/A\",INDEX($BH$4:$BL$19,MATCH(AY$2,$BG$4:$BG$19,0),MATCH(Worksheet!$C$15,$BH$3:$BL$3,0)))","v":"N/A"},{"$f":"IF(Worksheet!$C$15=\"\",\"N/A\",INDEX($BH$4:$BL$19,MATCH(AZ$2,$BG$4:$BG$19,0),MATCH(Worksheet!$C$15,$BH$3:$BL$3,0)))","v":"N/A"},{"$f":"IF(Worksheet!$C$15=\"\",\"N/A\",INDEX($BH$4:$BL$19,MATCH(BA$2,$BG$4:$BG$19,0),MATCH(Worksheet!$C$15,$BH$3:$BL$3,0)))","v":"N/A"},{"$f":"IF(Worksheet!$C$15=\"\",\"N/A\",INDEX($BH$4:$BL$19,MATCH(BB$2,$BG$4:$BG$19,0),MATCH(Worksheet!$C$15,$BH$3:$BL$3,0)))","v":"N/A"},{"$f":"IF(Worksheet!$C$15=\"\",\"N/A\",INDEX($BH$4:$BL$19,MATCH(BC$2,$BG$4:$BG$19,0),MATCH(Worksheet!$C$15,$BH$3:$BL$3,0)))","v":"N/A"},{"$f":"IF(Worksheet!$C$15=\"\",\"N/A\",INDEX($BH$4:$BL$19,MATCH(BD$2,$BG$4:$BG$19,0),MATCH(Worksheet!$C$15,$BH$3:$BL$3,0)))","v":"N/A"},{"$f":"IF(Worksheet!$C$15=\"\",\"N/A\",INDEX($BH$4:$BL$19,MATCH(BE$2,$BG$4:$BG$19,0),MATCH(Worksheet!$C$15,$BH$3:$BL$3,0)))","v":"N/A"},null,"Uncovered Parking Area",0,0.04,0.06,0.1,0.13]
["Courthouse",0.03,0.03,0.02,0.43,0.63,1.01,1.24,1.23,0.81,0.72,0.66,1.72,1.71,0.65,0.42,0.56000000000000005,1.21,0.91,1.81,1.43,0.6,0.47,0.9,0.64,0.75,0.73,1.1100000000000001,1.1100000000000001,0.98,0.19,1.68,0.98,1.44,0.54,0.69,1.24,0.63,0.63,0.67,1.59,{"$f":"IF(Worksheet!$C$15=\"\",\"N/A\",INDEX($BH$4:$BL$19,MATCH(AP$2,$BG$4:$BG$19,0),MATCH(Worksheet!$C$15,$BH$3:$BL$3,0)))","v":"N/A"},{"$f":"IF(Worksheet!$C$15=\"\",\"N/A\",INDEX($BH$4:$BL$19,MATCH(AQ$2,$BG$4:$BG$19,0),MATCH(Worksheet!$C$15,$BH$3:$BL$3,0)))","v":"N/A"},{"$f":"IF(Worksheet!$C$15=\"\",\"N/A\",INDEX($BH$4:$BL$19,MATCH(AR$2,$BG$4:$BG$19,0),MATCH(Worksheet!$C$15,$BH$3:$BL$3,0)))","v":"N/A"},{"$f":"IF(Worksheet!$C$15=\"\",\"N/A\",INDEX($BH$4:$BL$19,MATCH(AS$2,$BG$4:$BG$19,0),MATCH(Worksheet!$C$15,$BH$3:$BL$3,0)))","v":"N/A"},{"$f":"IF(Worksheet!$C$15=\"\",\"N/A\",INDEX($BH$4:$BL$19,MATCH(AT$2,$BG$4:$BG$19,0),MATCH(Worksheet!$C$15,$BH$3:$BL$3,0)))","v":"N/A"},{"$f":"IF(Worksheet!$C$15=\"\",\"N/A\",INDEX($BH$4:$BL$19,MATCH(AU$2,$BG$4:$BG$19,0),MATCH(Worksheet!$C$15,$BH$3:$BL$3,0)))","v":"N/A"},{"$f":"IF(Worksheet!$C$15=\"\",\"N/A\",INDEX($BH$4:$BL$19,MATCH(AV$2,$BG$4:$BG$19,0),MATCH(Worksheet!$C$15,$BH$3:$BL$3,0)))","v":"N/A"},{"$f":"IF(Worksheet!$C$15=\"\",\"N/A\",INDEX($BH$4:$BL$19,MATCH(AW$2,$BG$4:$BG$19,0),MATCH(Worksheet!$C$15,$BH$3:$BL$3,0)))","v":"N/A"},{"$f":"IF(Worksheet!$C$15=\"\",\"N/A\",INDEX($BH$4:$BL$19,MATCH(AX$2,$BG$4:$BG$19,0),MATCH(Worksheet!$C$15,$BH$3:$BL$3,0)))","v":"N/A"},{"$f":"IF(Worksheet!$C$15=\"\",\"N/A\",INDEX($BH$4:$BL$19,MATCH(AY$2,$BG$4:$BG$19,0),MATCH(Worksheet!$C$15,$BH$3:$BL$3,0)))","v":"N/A"},{"$f":"IF(Worksheet!$C$15=\"\",\"N/A\",INDEX($BH$4:$BL$19,MATCH(AZ$2,$BG$4:$BG$19,0),MATCH(Worksheet!$C$15,$BH$3:$BL$3,0)))","v":"N/A"},{"$f":"IF(Worksheet!$C$15=\"\",\"N/A\",INDEX($BH$4:$BL$19,MATCH(BA$2,$BG$4:$BG$19,0),MATCH(Worksheet!$C$15,$BH$3:$BL$3,0)))","v":"N/A"},{"$f":"IF(Worksheet!$C$15=\"\",\"N/A\",INDEX($BH$4:$BL$19,MATCH(BB$2,$BG$4:$BG$19,0),MATCH(Worksheet!$C$15,$BH$3:$BL$3,0)))","v":"N/A"},{"$f":"IF(Worksheet!$C$15=\"\",\"N/A\",INDEX($BH$4:$BL$19,MATCH(BC$2,$BG$4:$BG$19,0),MATCH(Worksheet!$C$15,$BH$3:$BL$3,0)))","v":"N/A"},{"$f":"IF(Worksheet!$C$15=\"\",\"N/A\",INDEX($BH$4:$BL$19,MATCH(BD$2,$BG$4:$BG$19,0),MATCH(Worksheet!$C$15,$BH$3:$BL$3,0)))","v":"N/A"},{"$f":"IF(Worksheet!$C$15=\"\",\"N/A\",INDEX($BH$4:$BL$19,MATCH(BE$2,$BG$4:$BG$19,0),MATCH(Worksheet!$C$15,$BH$3:$BL$3,0)))","v":"N/A"},null,"Walkway (<10 ft Wide)",0,0.7,0.7,0.8,1]
["Dining: Bar Lounge/ Leisure",0.03,0.03,0.02,0.43,0.63,1.01,1.24,1.23,0.81,0.72,0.66,1.72,1.71,1.07,0.42,0.56000000000000005,1.21,0.91,1.81,1.43,0.6,0.47,0.9,0.64,0.75,0.73,1.1100000000000001,1.1100000000000001,0.98,0.19,1.68,0.98,1.44,0.54,0.69,1.24,0.63,0.63,0.67,1.59,{"$f":"IF(Worksheet!$C$15=\"\",\"N/A\",INDEX($BH$4:$BL$19,MATCH(AP$2,$BG$4:$BG$19,0),MATCH(Worksheet!$C$15,$BH$3:$BL$3,0)))","v":"N/A"},{"$f":"IF(Worksheet!$C$15=\"\",\"N/A\",INDEX($BH$4:$BL$19,MATCH(AQ$2,$BG$4:$BG$19,0),MATCH(Worksheet!$C$15,$BH$3:$BL$3,0)))","v":"N/A"},{"$f":"IF(Worksheet!$C$15=\"\",\"N/A\",INDEX($BH$4:$BL$19,MATCH(AR$2,$BG$4:$BG$19,0),MATCH(Worksheet!$C$15,$BH$3:$BL$3,0)))","v":"N/A"},{"$f":"IF(Worksheet!$C$15=\"\",\"N/A\",INDEX($BH$4:$BL$19,MATCH(AS$2,$BG$4:$BG$19,0),MATCH(Worksheet!$C$15,$BH$3:$BL$3,0)))","v":"N/A"},{"$f":"IF(Worksheet!$C$15=\"\",\"N/A\",INDEX($BH$4:$BL$19,MATCH(AT$2,$BG$4:$BG$19,0),MATCH(Worksheet!$C$15,$BH$3:$BL$3,0)))","v":"N/A"},{"$f":"IF(Worksheet!$C$15=\"\",\"N/A\",INDEX($BH$4:$BL$19,MATCH(AU$2,$BG$4:$BG$19,0),MATCH(Worksheet!$C$15,$BH$3:$BL$3,0)))","v":"N/A"},{"$f":"IF(Worksheet!$C$15=\"\",\"N/A\",INDEX($BH$4:$BL$19,MATCH(AV$2,$BG$4:$BG$19,0),MATCH(Worksheet!$C$15,$BH$3:$BL$3,0)))","v":"N/A"},{"$f":"IF(Worksheet!$C$15=\"\",\"N/A\",INDEX($BH$4:$BL$19,MATCH(AW$2,$BG$4:$BG$19,0),MATCH(Worksheet!$C$15,$BH$3:$BL$3,0)))","v":"N/A"},{"$f":"IF(Worksheet!$C$15=\"\",\"N/A\",INDEX($BH$4:$BL$19,MATCH(AX$2,$BG$4:$BG$19,0),MATCH(Worksheet!$C$15,$BH$3:$BL$3,0)))","v":"N/A"},{"$f":"IF(Worksheet!$C$15=\"\",\"N/A\",INDEX($BH$4:$BL$19,MATCH(AY$2,$BG$4:$BG$19,0),MATCH(Worksheet!$C$15,$BH$3:$BL$3,0)))","v":"N/A"},{"$f":"IF(Worksheet!$C$15=\"\",\"N/A\",INDEX($BH$4:$BL$19,MATCH(AZ$2,$BG$4:$BG$19,0),MATCH(Worksheet!$C$15,$BH$3:$BL$3,0)))","v":"N/A"},{"$f":"IF(Worksheet!$C$15=\"\",\"N/A\",INDEX($BH$4:$BL$19,MATCH(BA$2,$BG$4:$BG$19,0),MATCH(Worksheet!$C$15,$BH$3:$BL$3,0)))","v":"N/A"},{"$f":"IF(Worksheet!$C$15=\"\",\"N/A\",INDEX($BH$4:$BL$19,MATCH(BB$2,$BG$4:$BG$19,0),MATCH(Worksheet!$C$15,$BH$3:$BL$3,0)))","v":"N/A"},{"$f":"IF(Worksheet!$C$15=\"\",\"N/A\",INDEX($BH$4:$BL$19,MATCH(BC$2,$BG$4:$BG$19,0),MATCH(Worksheet!$C$15,$BH$3:$BL$3,0)))","v":"N/A"},{"$f":"IF(Worksheet!$C$15=\"\",\"N/A\",INDEX($BH$4:$BL$19,MATCH(BD$2,$BG$4:$BG$19,0),MATCH(Worksheet!$C$15,$BH$3:$BL$3,0)))","v":"N/A"},{"$f":"IF(Worksheet!$C$15=\"\",\"N/A\",INDEX($BH$4:$BL$19,MATCH(BE$2,$BG$4:$BG$19,0),MATCH(Worksheet!$C$15,$BH$3:$BL$3,0)))","v":"N/A"},null,"Walkway (≥10 ft Wide)",0,0.14000000000000001,0.14000000000000001,0.16,0.2]
["Dining: Cafeteria/ Fast Food",0.03,0.03,0.02,0.43,0.63,1.01,1.24,1.23,0.81,0.72,0.66,1.72,1.71,0.65,0.42,0.56000000000000005,1.21,0.91,1.81,1.43,0.6,0.47,0.9,0.64,0.75,0.73,1.1100000000000001,1.1100000000000001,0.98,0.19,1.68,0.98,1.44,0.54,0.69,1.24,0.63,0.63,0.67,1.59,{"$f":"IF(Worksheet!$C$15=\"\",\"N/A\",INDEX($BH$4:$BL$19,MATCH(AP$2,$BG$4:$BG$19,0),MATCH(Worksheet!$C$15,$BH$3:$BL$3,0)))","v":"N/A"},{"$f":"IF(Worksheet!$C$15=\"\",\"N/A\",INDEX($BH$4:$BL$19,MATCH(AQ$2,$BG$4:$BG$19,0),MATCH(Worksheet!$C$15,$BH$3:$BL$3,0)))","v":"N/A"},{"$f":"IF(Worksheet!$C$15=\"\",\"N/A\",INDEX($BH$4:$BL$19,MATCH(AR$2,$BG$4:$BG$19,0),MATCH(Worksheet!$C$15,$BH$3:$BL$3,0)))","v":"N/A"},{"$f":"IF(Worksheet!$C$15=\"\",\"N/A\",INDEX($BH$4:$BL$19,MATCH(AS$2,$BG$4:$BG$19,0),MATCH(Worksheet!$C$15,$BH$3:$BL$3,0)))","v":"N/A"},{"$f":"IF(Worksheet!$C$15=\"\",\"N/A\",INDEX($BH$4:$BL$19,MATCH(AT$2,$BG$4:$BG$19,0),MATCH(Worksheet!$C$15,$BH$3:$BL$3,0)))","v":"N/A"},{"$f":"IF(Worksheet!$C$15=\"\",\"N/A\",INDEX($BH$4:$BL$19,MATCH(AU$2,$BG$4:$BG$19,0),MATCH(Worksheet!$C$15,$BH$3:$BL$3,0)))","v":"N/A"},{"$f":"IF(Worksheet!$C$15=\"\",\"N/A\",INDEX($BH$4:$BL$19,MATCH(AV$2,$BG$4:$BG$19,0),MATCH(Worksheet!$C$15,$BH$3:$BL$3,0)))","v":"N/A"},{"$f":"IF(Worksheet!$C$15=\"\",\"N/A\",INDEX($BH$4:$BL$19,MATCH(AW$2,$BG$4:$BG$19,0),MATCH(Worksheet!$C$15,$BH$3:$BL$3,0)))","v":"N/A"},{"$f":"IF(Worksheet!$C$15=\"\",\"N/A\",INDEX($BH$4:$BL$19,MATCH(AX$2,$BG$4:$BG$19,0),MATCH(Worksheet!$C$15,$BH$3:$BL$3,0)))","v":"N/A"},{"$f":"IF(Worksheet!$C$15=\"\",\"N/A\",INDEX($BH$4:$BL$19,MATCH(AY$2,$BG$4:$BG$19,0),MATCH(Worksheet!$C$15,$BH$3:$BL$3,0)))","v":"N/A"},{"$f":"IF(Worksheet!$C$15=\"\",\"N/A\",INDEX($BH$4:$BL$19,MATCH(AZ$2,$BG$4:$BG$19,0),MATCH(Worksheet!$C$15,$BH$3:$BL$3,0)))","v":"N/A"},{"$f":"IF(Worksheet!$C$15=\"\",\"N/A\",INDEX($BH$4:$BL$19,MATCH(BA$2,$BG$4:$BG$19,0),MATCH(Worksheet!$C$15,$BH$3:$BL$3,0)))","v":"N/A"},{"$f":"IF(Worksheet!$C$15=\"\",\"N/A\",INDEX($BH$4:$BL$19,MATCH(BB$2,$BG$4:$BG$19,0),MATCH(Worksheet!$C$15,$BH$3:$BL$3,0)))","v":"N/A"},{"$f":"IF(Worksheet!$C$15=\"\",\"N/A\",INDEX($BH$4:$BL$19,MATCH(BC$2,$BG$4:$BG$19,0),MATCH(Worksheet!$C$15,$BH$3:$BL$3,0)))","v":"N/A"},{"$f":"IF(Worksheet!$C$15=\"\",\"N/A\",INDEX($BH$4:$BL$19,MATCH(BD$2,$BG$4:$BG$19,0),MATCH(Worksheet!$C$15,$BH$3:$BL$3,0)))","v":"N/A"},{"$f":"IF(Worksheet!$C$15=\"\",\"N/A\",INDEX($BH$4:$BL$19,MATCH(BE$2,$BG$4:$BG$19,0),MATCH(Worksheet!$C$15,$BH$3:$BL$3,0)))","v":"N/A"},null,"Plaza Area",0,0.14000000000000001,0.14000000000000001,0.16,0.2]
["Dining: Family",0.03,0.03,0.02,0.43,0.63,1.01,1.24,1.23,0.81,0.72,0.66,1.72,1.71,0.89,0.42,0.56000000000000005,1.21,0.91,1.81,1.43,0.6,0.47,0.9,0.64,0.75,0.73,1.1100000000000001,1.1100000000000001,0.98,0.19,1.68,0.98,1.44,0.54,0.69,1.24,0.63,0.63,0.67,1.59,{"$f":"IF(Worksheet!$C$15=\"\",\"N/A\",INDEX($BH$4:$BL$19,MATCH(AP$2,$BG$4:$BG$19,0),MATCH(Worksheet!$C$15,$BH$3:$BL$3,0)))","v":"N/A"},{"$f":"IF(Worksheet!$C$15=\"\",\"N/A\",INDEX($BH$4:$BL$19,MATCH(AQ$2,$BG$4:$BG$19,0),MATCH(Worksheet!$C$15,$BH$3:$BL$3,0)))","v":"N/A"},{"$f":"IF(Worksheet!$C$15=\"\",\"N/A\",INDEX($BH$4:$BL$19,MATCH(AR$2,$BG$4:$BG$19,0),MATCH(Worksheet!$C$15,$BH$3:$BL$3,0)))","v":"N/A"},{"$f":"IF(Worksheet!$C$15=\"\",\"N/A\",INDEX($BH$4:$BL$19,MATCH(AS$2,$BG$4:$BG$19,0),MATCH(Worksheet!$C$15,$BH$3:$BL$3,0)))","v":"N/A"},{"$f":"IF(Worksheet!$C$15=\"\",\"N/A\",INDEX($BH$4:$BL$19,MATCH(AT$2,$BG$4:$BG$19,0),MATCH(Worksheet!$C$15,$BH$3:$BL$3,0)))","v":"N/A"},{"$f":"IF(Worksheet!$C$15=\"\",\"N/A\",INDEX($BH$4:$BL$19,MATCH(AU$2,$BG$4:$BG$19,0),MATCH(Worksheet!$C$15,$BH$3:$BL$3,0)))","v":"N/A"},{"$f":"IF(Worksheet!$C$15=\"\",\"N/A\",INDEX($BH$4:$BL$19,MATCH(AV$2,$BG$4:$BG$19,0),MATCH(Worksheet!$C$15,$BH$3:$BL$3,0)))","v":"N/A"},{"$f":"IF(Worksheet!$C$15=\"\",\"N/A\",INDEX($BH$4:$BL$19,MATCH(AW$2,$BG$4:$BG$19,0),MATCH(Worksheet!$C$15,$BH$3:$BL$3,0)))","v":"N/A"},{"$f":"IF(Worksheet!$C$15=\"\",\"N/A\",INDEX($BH$4:$BL$19,MATCH(AX$2,$BG$4:$BG$19,0),MATCH(Worksheet!$C$15,$BH$3:$BL$3,0)))","v":"N/A"},{"$f":"IF(Worksheet!$C$15=\"\",\"N/A\",INDEX($BH$4:$BL$19,MATCH(AY$2,$BG$4:$BG$19,0),MATCH(Worksheet!$C$15,$BH$3:$BL$3,0)))","v":"N/A"},{"$f":"IF(Worksheet!$C$15=\"\",\"N/A\",INDEX($BH$4:$BL$19,MATCH(AZ$2,$BG$4:$BG$19,0),MATCH(Worksheet!$C$15,$BH$3:$BL$3,0)))","v":"N/A"},{"$f":"IF(Worksheet!$C$15=\"\",\"N/A\",INDEX($BH$4:$BL$19,MATCH(BA$2,$BG$4:$BG$19,0),MATCH(Worksheet!$C$15,$BH$3:$BL$3,0)))","v":"N/A"},{"$f":"IF(Worksheet!$C$15=\"\",\"N/A\",INDEX($BH$4:$BL$19,MATCH(BB$2,$BG$4:$BG$19,0),MATCH(Worksheet!$C$15,$BH$3:$BL$3,0)))","v":"N/A"},{"$f":"IF(Worksheet!$C$15=\"\",\"N/A\",INDEX($BH$4:$BL$19,MATCH(BC$2,$BG$4:$BG$19,0),MATCH(Worksheet!$C$15,$BH$3:$BL$3,0)))","v":"N/A"},{"$f":"IF(Worksheet!$C$15=\"\",\"N/A\",INDEX($BH$4:$BL$19,MATCH(BD$2,$BG$4:$BG$19,0),MATCH(Worksheet!$C$15,$BH$3:$BL$3,0)))","v":"N/A"},{"$f":"IF(Worksheet!$C$15=\"\",\"N/A\",INDEX($BH$4:$BL$19,MATCH(BE$2,$BG$4:$BG$19,0),MATCH(Worksheet!$C$15,$BH$3:$BL$3,0)))","v":"N/A"},null,"Special Feature Area",0,0.14000000000000001,0.14000000000000001,0.16,0.2]
["Dormitory",0.03,0.03,0.02,0.43,0.63,1.01,1.24,1.23,0.81,0.72,0.66,1.72,1.71,0.65,0.42,0.56000000000000005,1.21,0.91,1.81,1.43,0.6,0.47,0.9,0.64,0.75,0.73,1.1100000000000001,1.1100000000000001,0.98,0.19,1.68,0.98,1.44,0.54,0.69,1.24,0.63,0.63,0.67,1.59,{"$f":"IF(Worksheet!$C$15=\"\",\"N/A\",INDEX($BH$4:$BL$19,MATCH(AP$2,$BG$4:$BG$19,0),MATCH(Worksheet!$C$15,$BH$3:$BL$3,0)))","v":"N/A"},{"$f":"IF(Worksheet!$C$15=\"\",\"N/A\",INDEX($BH$4:$BL$19,MATCH(AQ$2,$BG$4:$BG$19,0),MATCH(Worksheet!$C$15,$BH$3:$BL$3,0)))","v":"N/A"},{"$f":"IF(Worksheet!$C$15=\"\",\"N/A\",INDEX($BH$4:$BL$19,MATCH(AR$2,$BG$4:$BG$19,0),MATCH(Worksheet!$C$15,$BH$3:$BL$3,0)))","v":"N/A"},{"$f":"IF(Worksheet!$C$15=\"\",\"N/A\",INDEX($BH$4:$BL$19,MATCH(AS$2,$BG$4:$BG$19,0),MATCH(Worksheet!$C$15,$BH$3:$BL$3,0)))","v":"N/A"},{"$f":"IF(Worksheet!$C$15=\"\",\"N/A\",INDEX($BH$4:$BL$19,MATCH(AT$2,$BG$4:$BG$19,0),MATCH(Worksheet!$C$15,$BH$3:$BL$3,0)))","v":"N/A"},{"$f":"IF(Worksheet!$C$15=\"\",\"N/A\",INDEX($BH$4:$BL$19,MATCH(AU$2,$BG$4:$BG$19,0),MATCH(Worksheet!$C$15,$BH$3:$BL$3,0)))","v":"N/A"},{"$f":"IF(Worksheet!$C$15=\"\",\"N/A\",INDEX($BH$4:$BL$19,MATCH(AV$2,$BG$4:$BG$19,0),MATCH(Worksheet!$C$15,$BH$3:$BL$3,0)))","v":"N/A"},{"$f":"IF(Worksheet!$C$15=\"\",\"N/A\",INDEX($BH$4:$BL$19,MATCH(AW$2,$BG$4:$BG$19,0),MATCH(Worksheet!$C$15,$BH$3:$BL$3,0)))","v":"N/A"},{"$f":"IF(Worksheet!$C$15=\"\",\"N/A\",INDEX($BH$4:$BL$19,MATCH(AX$2,$BG$4:$BG$19,0),MATCH(Worksheet!$C$15,$BH$3:$BL$3,0)))","v":"N/A"},{"$f":"IF(Worksheet!$C$15=\"\",\"N/A\",INDEX($BH$4:$BL$19,MATCH(AY$2,$BG$4:$BG$19,0),MATCH(Worksheet!$C$15,$BH$3:$BL$3,0)))","v":"N/A"},{"$f":"IF(Worksheet!$C$15=\"\",\"N/A\",INDEX($BH$4:$BL$19,MATCH(AZ$2,$BG$4:$BG$19,0),MATCH(Worksheet!$C$15,$BH$3:$BL$3,0)))","v":"N/A"},{"$f":"IF(Worksheet!$C$15=\"\",\"N/A\",INDEX($BH$4:$BL$19,MATCH(BA$2,$BG$4:$BG$19,0),MATCH(Worksheet!$C$15,$BH$3:$BL$3,0)))","v":"N/A"},{"$f":"IF(Worksheet!$C$15=\"\",\"N/A\",INDEX($BH$4:$BL$19,MATCH(BB$2,$BG$4:$BG$19,0),MATCH(Worksheet!$C$15,$BH$3:$BL$3,0)))","v":"N/A"},{"$f":"IF(Worksheet!$C$15=\"\",\"N/A\",INDEX($BH$4:$BL$19,MATCH(BC$2,$BG$4:$BG$19,0),MATCH(Worksheet!$C$15,$BH$3:$BL$3,0)))","v":"N/A"},{"$f":"IF(Worksheet!$C$15=\"\",\"N/A\",INDEX($BH$4:$BL$19,MATCH(BD$2,$BG$4:$BG$19,0),MATCH(Worksheet!$C$15,$BH$3:$BL$3,0)))","v":"N/A"},{"$f":"IF(Worksheet!$C$15=\"\",\"N/A\",INDEX($BH$4:$BL$19,MATCH(BE$2,$BG$4:$BG$19,0),MATCH(Worksheet!$C$15,$BH$3:$BL$3,0)))","v":"N/A"},null,"Stairway",0,0.75,1,1,1]
["Exercise Center",0.03,0.03,0.02,0.43,0.63,1.01,1.24,1.23,0.81,0.72,0.66,1.72,1.71,0.65,0.42,0.56000000000000005,1.21,0.91,1.81,1.43,0.6,0.47,0.9,0.64,0.75,0.73,1.1100000000000001,1.1100000000000001,0.98,0.19,1.68,0.98,1.44,0.54,0.69,1.24,0.63,0.63,0.67,1.59,{"$f":"IF(Worksheet!$C$15=\"\",\"N/A\",INDEX($BH$4:$BL$19,MATCH(AP$2,$BG$4:$BG$19,0),MATCH(Worksheet!$C$15,$BH$3:$BL$3,0)))","v":"N/A"},{"$f":"IF(Worksheet!$C$15=\"\",\"N/A\",INDEX($BH$4:$BL$19,MATCH(AQ$2,$BG$4:$BG$19,0),MATCH(Worksheet!$C$15,$BH$3:$BL$3,0)))","v":"N/A"},{"$f":"IF(Worksheet!$C$15=\"\",\"N/A\",INDEX($BH$4:$BL$19,MATCH(AR$2,$BG$4:$BG$19,0),MATCH(Worksheet!$C$15,$BH$3:$BL$3,0)))","v":"N/A"},{"$f":"IF(Worksheet!$C$15=\"\",\"N/A\",INDEX($BH$4:$BL$19,MATCH(AS$2,$BG$4:$BG$19,0),MATCH(Worksheet!$C$15,$BH$3:$BL$3,0)))","v":"N/A"},{"$f":"IF(Worksheet!$C$15=\"\",\"N/A\",INDEX($BH$4:$BL$19,MATCH(AT$2,$BG$4:$BG$19,0),MATCH(Worksheet!$C$15,$BH$3:$BL$3,0)))","v":"N/A"},{"$f":"IF(Worksheet!$C$15=\"\",\"N/A\",INDEX($BH$4:$BL$19,MATCH(AU$2,$BG$4:$BG$19,0),MATCH(Worksheet!$C$15,$BH$3:$BL$3,0)))","v":"N/A"},{"$f":"IF(Worksheet!$C$15=\"\",\"N/A\",INDEX($BH$4:$BL$19,MATCH(AV$2,$BG$4:$BG$19,0),MATCH(Worksheet!$C$15,$BH$3:$BL$3,0)))","v":"N/A"},{"$f":"IF(Worksheet!$C$15=\"\",\"N/A\",INDEX($BH$4:$BL$19,MATCH(AW$2,$BG$4:$BG$19,0),MATCH(Worksheet!$C$15,$BH$3:$BL$3,0)))","v":"N/A"},{"$f":"IF(Worksheet!$C$15=\"\",\"N/A\",INDEX($BH$4:$BL$19,MATCH(AX$2,$BG$4:$BG$19,0),MATCH(Worksheet!$C$15,$BH$3:$BL$3,0)))","v":"N/A"},{"$f":"IF(Worksheet!$C$15=\"\",\"N/A\",INDEX($BH$4:$BL$19,MATCH(AY$2,$BG$4:$BG$19,0),MATCH(Worksheet!$C$15,$BH$3:$BL$3,0)))","v":"N/A"},{"$f":"IF(Worksheet!$C$15=\"\",\"N/A\",INDEX($BH$4:$BL$19,MATCH(AZ$2,$BG$4:$BG$19,0),MATCH(Worksheet!$C$15,$BH$3:$BL$3,0)))","v":"N/A"},{"$f":"IF(Worksheet!$C$15=\"\",\"N/A\",INDEX($BH$4:$BL$19,MATCH(BA$2,$BG$4:$BG$19,0),MATCH(Worksheet!$C$15,$BH$3:$BL$3,0)))","v":"N/A"},{"$f":"IF(Worksheet!$C$15=\"\",\"N/A\",INDEX($BH$4:$BL$19,MATCH(BB$2,$BG$4:$BG$19,0),MATCH(Worksheet!$C$15,$BH$3:$BL$3,0)))","v":"N/A"},{"$f":"IF(Worksheet!$C$15=\"\",\"N/A\",INDEX($BH$4:$BL$19,MATCH(BC$2,$BG$4:$BG$19,0),MATCH(Worksheet!$C$15,$BH$3:$BL$3,0)))","v":"N/A"},{"$f":"IF(Worksheet!$C$15=\"\",\"N/A\",INDEX($BH$4:$BL$19,MATCH(BD$2,$BG$4:$BG$19,0),MATCH(Worksheet!$C$15,$BH$3:$BL$3,0)))","v":"N/A"},{"$f":"IF(Worksheet!$C$15=\"\",\"N/A\",INDEX($BH$4:$BL$19,MATCH(BE$2,$BG$4:$BG$19,0),MATCH(Worksheet!$C$15,$BH$3:$BL$3,0)))","v":"N/A"},null,"Pedestrian Tunnel",0,0.15,0.15,0.2,0.3]
["Fire Station",0.03,0.03,0.02,0.43,0.63,1.01,1.24,1.23,0.81,0.72,0.66,1.72,1.71,0.65,0.42,0.56000000000000005,1.21,0.91,1.81,1.43,0.6,0.47,0.9,0.64,0.75,0.73,1.1100000000000001,1.1100000000000001,0.98,0.19,1.68,0.98,1.44,0.54,0.69,1.24,0.63,0.63,0.67,1.59,{"$f":"IF(Worksheet!$C$15=\"\",\"N/A\",INDEX($BH$4:$BL$19,MATCH(AP$2,$BG$4:$BG$19,0),MATCH(Worksheet!$C$15,$BH$3:$BL$3,0)))","v":"N/A"},{"$f":"IF(Worksheet!$C$15=\"\",\"N/A\",INDEX($BH$4:$BL$19,MATCH(AQ$2,$BG$4:$BG$19,0),MATCH(Worksheet!$C$15,$BH$3:$BL$3,0)))","v":"N/A"},{"$f":"IF(Worksheet!$C$15=\"\",\"N/A\",INDEX($BH$4:$BL$19,MATCH(AR$2,$BG$4:$BG$19,0),MATCH(Worksheet!$C$15,$BH$3:$BL$3,0)))","v":"N/A"},{"$f":"IF(Worksheet!$C$15=\"\",\"N/A\",INDEX($BH$4:$BL$19,MATCH(AS$2,$BG$4:$BG$19,0),MATCH(Worksheet!$C$15,$BH$3:$BL$3,0)))","v":"N/A"},{"$f":"IF(Worksheet!$C$15=\"\",\"N/A\",INDEX($BH$4:$BL$19,MATCH(AT$2,$BG$4:$BG$19,0),MATCH(Worksheet!$C$15,$BH$3:$BL$3,0)))","v":"N/A"},{"$f":"IF(Worksheet!$C$15=\"\",\"N/A\",INDEX($BH$4:$BL$19,MATCH(AU$2,$BG$4:$BG$19,0),MATCH(Worksheet!$C$15,$BH$3:$BL$3,0)))","v":"N/A"},{"$f":"IF(Worksheet!$C$15=\"\",\"N/A\",INDEX($BH$4:$BL$19,MATCH(AV$2,$BG$4:$BG$19,0),MATCH(Worksheet!$C$15,$BH$3:$BL$3,0)))","v":"N/A"},{"$f":"IF(Worksheet!$C$15=\"\",\"N/A\",INDEX($BH$4:$BL$19,MATCH(AW$2,$BG$4:$BG$19,0),MATCH(Worksheet!$C$15,$BH$3:$BL$3,0)))","v":"N/A"},{"$f":"IF(Worksheet!$C$15=\"\",\"N/A\",INDEX($BH$4:$BL$19,MATCH(AX$2,$BG$4:$BG$19,0),MATCH(Worksheet!$C$15,$BH$3:$BL$3,0)))","v":"N/A"},{"$f":"IF(Worksheet!$C$15=\"\",\"N/A\",INDEX($BH$4:$BL$19,MATCH(AY$2,$BG$4:$BG$19,0),MATCH(Worksheet!$C$15,$BH$3:$BL$3,0)))","v":"N/A"},{"$f":"IF(Worksheet!$C$15=\"\",\"N/A\",INDEX($BH$4:$BL$19,MATCH(AZ$2,$BG$4:$BG$19,0),MATCH(Worksheet!$C$15,$BH$3:$BL$3,0)))","v":"N/A"},{"$f":"IF(Worksheet!$C$15=\"\",\"N/A\",INDEX($BH$4:$BL$19,MATCH(BA$2,$BG$4:$BG$19,0),MATCH(Worksheet!$C$15,$BH$3:$BL$3,0)))","v":"N/A"},{"$f":"IF(Worksheet!$C$15=\"\",\"N/A\",INDEX($BH$4:$BL$19,MATCH(BB$2,$BG$4:$BG$19,0),MATCH(Worksheet!$C$15,$BH$3:$BL$3,0)))","v":"N/A"},{"$f":"IF(Worksheet!$C$15=\"\",\"N/A\",INDEX($BH$4:$BL$19,MATCH(BC$2,$BG$4:$BG$19,0),MATCH(Worksheet!$C$15,$BH$3:$BL$3,0)))","v":"N/A"},{"$f":"IF(Worksheet!$C$15=\"\",\"N/A\",INDEX($BH$4:$BL$19,MATCH(BD$2,$BG$4:$BG$19,0),MATCH(Worksheet!$C$15,$BH$3:$BL$3,0)))","v":"N/A"},{"$f":"IF(Worksheet!$C$15=\"\",\"N/A\",INDEX($BH$4:$BL$19,MATCH(BE$2,$BG$4:$BG$19,0),MATCH(Worksheet!$C$15,$BH$3:$BL$3,0)))","v":"N/A"},null,"Landscaping",0,0.04,0.05,0.05,0.05]
["Gymnasium",0.03,0.03,0.02,0.65,0.63,1.01,1.24,1.23,0.81,0.72,0.66,1.72,1.71,0.65,0.42,0.56000000000000005,1.21,0.91,1.81,1.43,0.6,0.47,0.9,0.64,0.75,0.73,1.1100000000000001,1.1100000000000001,0.98,0.19,1.68,0.98,1.44,0.54,0.69,1.24,0.63,0.63,0.67,1.59,{"$f":"IF(Worksheet!$C$15=\"\",\"N/A\",INDEX($BH$4:$BL$19,MATCH(AP$2,$BG$4:$BG$19,0),MATCH(Worksheet!$C$15,$BH$3:$BL$3,0)))","v":"N/A"},{"$f":"IF(Worksheet!$C$15=\"\",\"N/A\",INDEX($BH$4:$BL$19,MATCH(AQ$2,$BG$4:$BG$19,0),MATCH(Worksheet!$C$15,$BH$3:$BL$3,0)))","v":"N/A"},{"$f":"IF(Worksheet!$C$15=\"\",\"N/A\",INDEX($BH$4:$BL$19,MATCH(AR$2,$BG$4:$BG$19,0),MATCH(Worksheet!$C$15,$BH$3:$BL$3,0)))","v":"N/A"},{"$f":"IF(Worksheet!$C$15=\"\",\"N/A\",INDEX($BH$4:$BL$19,MATCH(AS$2,$BG$4:$BG$19,0),MATCH(Worksheet!$C$15,$BH$3:$BL$3,0)))","v":"N/A"},{"$f":"IF(Worksheet!$C$15=\"\",\"N/A\",INDEX($BH$4:$BL$19,MATCH(AT$2,$BG$4:$BG$19,0),MATCH(Worksheet!$C$15,$BH$3:$BL$3,0)))","v":"N/A"},{"$f":"IF(Worksheet!$C$15=\"\",\"N/A\",INDEX($BH$4:$BL$19,MATCH(AU$2,$BG$4:$BG$19,0),MATCH(Worksheet!$C$15,$BH$3:$BL$3,0)))","v":"N/A"},{"$f":"IF(Worksheet!$C$15=\"\",\"N/A\",INDEX($BH$4:$BL$19,MATCH(AV$2,$BG$4:$BG$19,0),MATCH(Worksheet!$C$15,$BH$3:$BL$3,0)))","v":"N/A"},{"$f":"IF(Worksheet!$C$15=\"\",\"N/A\",INDEX($BH$4:$BL$19,MATCH(AW$2,$BG$4:$BG$19,0),MATCH(Worksheet!$C$15,$BH$3:$BL$3,0)))","v":"N/A"},{"$f":"IF(Worksheet!$C$15=\"\",\"N/A\",INDEX($BH$4:$BL$19,MATCH(AX$2,$BG$4:$BG$19,0),MATCH(Worksheet!$C$15,$BH$3:$BL$3,0)))","v":"N/A"},{"$f":"IF(Worksheet!$C$15=\"\",\"N/A\",INDEX($BH$4:$BL$19,MATCH(AY$2,$BG$4:$BG$19,0),MATCH(Worksheet!$C$15,$BH$3:$BL$3,0)))","v":"N/A"},{"$f":"IF(Worksheet!$C$15=\"\",\"N/A\",INDEX($BH$4:$BL$19,MATCH(AZ$2,$BG$4:$BG$19,0),MATCH(Worksheet!$C$15,$BH$3:$BL$3,0)))","v":"N/A"},{"$f":"IF(Worksheet!$C$15=\"\",\"N/A\",INDEX($BH$4:$BL$19,MATCH(BA$2,$BG$4:$BG$19,0),MATCH(Worksheet!$C$15,$BH$3:$BL$3,0)))","v":"N/A"},{"$f":"IF(Worksheet!$C$15=\"\",\"N/A\",INDEX($BH$4:$BL$19,MATCH(BB$2,$BG$4:$BG$19,0),MATCH(Worksheet!$C$15,$BH$3:$BL$3,0)))","v":"N/A"},{"$f":"IF(Worksheet!$C$15=\"\",\"N/A\",INDEX($BH$4:$BL$19,MATCH(BC$2,$BG$4:$BG$19,0),MATCH(Worksheet!$C$15,$BH$3:$BL$3,0)))","v":"N/A"},{"$f":"IF(Worksheet!$C$15=\"\",\"N/A\",INDEX($BH$4:$BL$19,MATCH(BD$2,$BG$4:$BG$19,0),MATCH(Worksheet!$C$15,$BH$3:$BL$3,0)))","v":"N/A"},{"$f":"IF(Worksheet!$C$15=\"\",\"N/A\",INDEX($BH$4:$BL$19,MATCH(BE$2,$BG$4:$BG$19,0),MATCH(Worksheet!$C$15,$BH$3:$BL$3,0)))","v":"N/A"},null,"Main Entry",0,20,20,30,30]
["Healthcare Clinic",0.03,0.03,0.02,0.43,0.63,1.01,1.24,1.23,0.81,0.72,0.66,1.72,1.71,0.65,0.42,0.56000000000000005,1.21,0.91,1.81,1.43,0.6,0.47,0.9,0.64,0.75,0.92,1.1100000000000001,1.1100000000000001,0.98,0.19,1.68,0.98,1.44,0.54,0.69,1.24,0.63,0.63,0.67,1.59,{"$f":"IF(Worksheet!$C$15=\"\",\"N/A\",INDEX($BH$4:$BL$19,MATCH(AP$2,$BG$4:$BG$19,0),MATCH(Worksheet!$C$15,$BH$3:$BL$3,0)))","v":"N/A"},{"$f":"IF(Worksheet!$C$15=\"\",\"N/A\",INDEX($BH$4:$BL$19,MATCH(AQ$2,$BG$4:$BG$19,0),MATCH(Worksheet!$C$15,$BH$3:$BL$3,0)))","v":"N/A"},{"$f":"IF(Worksheet!$C$15=\"\",\"N/A\",INDEX($BH$4:$BL$19,MATCH(AR$2,$BG$4:$BG$19,0),MATCH(Worksheet!$C$15,$BH$3:$BL$3,0)))","v":"N/A"},{"$f":"IF(Worksheet!$C$15=\"\",\"N/A\",INDEX($BH$4:$BL$19,MATCH(AS$2,$BG$4:$BG$19,0),MATCH(Worksheet!$C$15,$BH$3:$BL$3,0)))","v":"N/A"},{"$f":"IF(Worksheet!$C$15=\"\",\"N/A\",INDEX($BH$4:$BL$19,MATCH(AT$2,$BG$4:$BG$19,0),MATCH(Worksheet!$C$15,$BH$3:$BL$3,0)))","v":"N/A"},{"$f":"IF(Worksheet!$C$15=\"\",\"N/A\",INDEX($BH$4:$BL$19,MATCH(AU$2,$BG$4:$BG$19,0),MATCH(Worksheet!$C$15,$BH$3:$BL$3,0)))","v":"N/A"},{"$f":"IF(Worksheet!$C$15=\"\",\"N/A\",INDEX($BH$4:$BL$19,MATCH(AV$2,$BG$4:$BG$19,0),MATCH(Worksheet!$C$15,$BH$3:$BL$3,0)))","v":"N/A"},{"$f":"IF(Worksheet!$C$15=\"\",\"N/A\",INDEX($BH$4:$BL$19,MATCH(AW$2,$BG$4:$BG$19,0),MATCH(Worksheet!$C$15,$BH$3:$BL$3,0)))","v":"N/A"},{"$f":"IF(Worksheet!$C$15=\"\",\"N/A\",INDEX($BH$4:$BL$19,MATCH(AX$2,$BG$4:$BG$19,0),MATCH(Worksheet!$C$15,$BH$3:$BL$3,0)))","v":"N/A"},{"$f":"IF(Worksheet!$C$15=\"\",\"N/A\",INDEX($BH$4:$BL$19,MATCH(AY$2,$BG$4:$BG$19,0),MATCH(Worksheet!$C$15,$BH$3:$BL$3,0)))","v":"N/A"},{"$f":"IF(Worksheet!$C$15=\"\",\"N/A\",INDEX($BH$4:$BL$19,MATCH(AZ$2,$BG$4:$BG$19,0),MATCH(Worksheet!$C$15,$BH$3:$BL$3,0)))","v":"N/A"},{"$f":"IF(Worksheet!$C$15=\"\",\"N/A\",INDEX($BH$4:$BL$19,MATCH(BA$2,$BG$4:$BG$19,0),MATCH(Worksheet!$C$15,$BH$3:$BL$3,0)))","v":"N/A"},{"$f":"IF(Worksheet!$C$15=\"\",\"N/A\",INDEX($BH$4:$BL$19,MATCH(BB$2,$BG$4:$BG$19,0),MATCH(Worksheet!$C$15,$BH$3:$BL$3,0)))","v":"N/A"},{"$f":"IF(Worksheet!$C$15=\"\",\"N/A\",INDEX($BH$4:$BL$19,MATCH(BC$2,$BG$4:$BG$19,0),MATCH(Worksheet!$C$15,$BH$3:$BL$3,0)))","v":"N/A"},{"$f":"IF(Worksheet!$C$15=\"\",\"N/A\",INDEX($BH$4:$BL$19,MATCH(BD$2,$BG$4:$BG$19,0),MATCH(Worksheet!$C$15,$BH$3:$BL$3,0)))","v":"N/A"},{"$f":"IF(Worksheet!$C$15=\"\",\"N/A\",INDEX($BH$4:$BL$19,MATCH(BE$2,$BG$4:$BG$19,0),MATCH(Worksheet!$C$15,$BH$3:$BL$3,0)))","v":"N/A"},null,"Other Entry Door",0,20,20,20,20]
["Hospital",0.03,0.03,0.02,0.43,0.63,1.01,1.24,1.23,0.81,0.72,0.99,1.72,1.71,0.65,0.42,0.56000000000000005,1.21,0.91,1.81,1.43,0.6,0.47,0.9,0.64,0.75,0.92,1.1100000000000001,1.1100000000000001,0.98,0.19,1.68,0.98,1.44,0.54,0.69,1.24,0.63,0.63,0.67,1.59,{"$f":"IF(Worksheet!$C$15=\"\",\"N/A\",INDEX($BH$4:$BL$19,MATCH(AP$2,$BG$4:$BG$19,0),MATCH(Worksheet!$C$15,$BH$3:$BL$3,0)))","v":"N/A"},{"$f":"IF(Worksheet!$C$15=\"\",\"N/A\",INDEX($BH$4:$BL$19,MATCH(AQ$2,$BG$4:$BG$19,0),MATCH(Worksheet!$C$15,$BH$3:$BL$3,0)))","v":"N/A"},{"$f":"IF(Worksheet!$C$15=\"\",\"N/A\",INDEX($BH$4:$BL$19,MATCH(AR$2,$BG$4:$BG$19,0),MATCH(Worksheet!$C$15,$BH$3:$BL$3,0)))","v":"N/A"},{"$f":"IF(Worksheet!$C$15=\"\",\"N/A\",INDEX($BH$4:$BL$19,MATCH(AS$2,$BG$4:$BG$19,0),MATCH(Worksheet!$C$15,$BH$3:$BL$3,0)))","v":"N/A"},{"$f":"IF(Worksheet!$C$15=\"\",\"N/A\",INDEX($BH$4:$BL$19,MATCH(AT$2,$BG$4:$BG$19,0),MATCH(Worksheet!$C$15,$BH$3:$BL$3,0)))","v":"N/A"},{"$f":"IF(Worksheet!$C$15=\"\",\"N/A\",INDEX($BH$4:$BL$19,MATCH(AU$2,$BG$4:$BG$19,0),MATCH(Worksheet!$C$15,$BH$3:$BL$3,0)))","v":"N/A"},{"$f":"IF(Worksheet!$C$15=\"\",\"N/A\",INDEX($BH$4:$BL$19,MATCH(AV$2,$BG$4:$BG$19,0),MATCH(Worksheet!$C$15,$BH$3:$BL$3,0)))","v":"N/A"},{"$f":"IF(Worksheet!$C$15=\"\",\"N/A\",INDEX($BH$4:$BL$19,MATCH(AW$2,$BG$4:$BG$19,0),MATCH(Worksheet!$C$15,$BH$3:$BL$3,0)))","v":"N/A"},{"$f":"IF(Worksheet!$C$15=\"\",\"N/A\",INDEX($BH$4:$BL$19,MATCH(AX$2,$BG$4:$BG$19,0),MATCH(Worksheet!$C$15,$BH$3:$BL$3,0)))","v":"N/A"},{"$f":"IF(Worksheet!$C$15=\"\",\"N/A\",INDEX($BH$4:$BL$19,MATCH(AY$2,$BG$4:$BG$19,0),MATCH(Worksheet!$C$15,$BH$3:$BL$3,0)))","v":"N/A"},{"$f":"IF(Worksheet!$C$15=\"\",\"N/A\",INDEX($BH$4:$BL$19,MATCH(AZ$2,$BG$4:$BG$19,0),MATCH(Worksheet!$C$15,$BH$3:$BL$3,0)))","v":"N/A"},{"$f":"IF(Worksheet!$C$15=\"\",\"N/A\",INDEX($BH$4:$BL$19,MATCH(BA$2,$BG$4:$BG$19,0),MATCH(Worksheet!$C$15,$BH$3:$BL$3,0)))","v":"N/A"},{"$f":"IF(Worksheet!$C$15=\"\",\"N/A\",INDEX($BH$4:$BL$19,MATCH(BB$2,$BG$4:$BG$19,0),MATCH(Worksheet!$C$15,$BH$3:$BL$3,0)))","v":"N/A"},{"$f":"IF(Worksheet!$C$15=\"\",\"N/A\",INDEX($BH$4:$BL$19,MATCH(BC$2,$BG$4:$BG$19,0),MATCH(Worksheet!$C$15,$BH$3:$BL$3,0)))","v":"N/A"},{"$f":"IF(Worksheet!$C$15=\"\",\"N/A\",INDEX($BH$4:$BL$19,MATCH(BD$2,$BG$4:$BG$19,0),MATCH(Worksheet!$C$15,$BH$3:$BL$3,0)))","v":"N/A"},{"$f":"IF(Worksheet!$C$15=\"\",\"N/A\",INDEX($BH$4:$BL$19,MATCH(BE$2,$BG$4:$BG$19,0),MATCH(Worksheet!$C$15,$BH$3:$BL$3,0)))","v":"N/A"},null,"Entry Canopy",0,0.25,0.25,0.4,0.4]
["Hotel",0.03,0.03,0.02,0.43,0.63,1.01,1.24,1.23,0.81,0.72,0.66,1.72,1.71,0.65,0.42,0.56000000000000005,1.21,0.91,1.81,1.43,0.6,0.47,1.06,0.64,0.75,0.73,1.1100000000000001,1.1100000000000001,0.98,0.19,1.68,0.98,1.44,0.54,0.69,1.24,0.63,0.63,0.67,1.59,{"$f":"IF(Worksheet!$C$15=\"\",\"N/A\",INDEX($BH$4:$BL$19,MATCH(AP$2,$BG$4:$BG$19,0),MATCH(Worksheet!$C$15,$BH$3:$BL$3,0)))","v":"N/A"},{"$f":"IF(Worksheet!$C$15=\"\",\"N/A\",INDEX($BH$4:$BL$19,MATCH(AQ$2,$BG$4:$BG$19,0),MATCH(Worksheet!$C$15,$BH$3:$BL$3,0)))","v":"N/A"},{"$f":"IF(Worksheet!$C$15=\"\",\"N/A\",INDEX($BH$4:$BL$19,MATCH(AR$2,$BG$4:$BG$19,0),MATCH(Worksheet!$C$15,$BH$3:$BL$3,0)))","v":"N/A"},{"$f":"IF(Worksheet!$C$15=\"\",\"N/A\",INDEX($BH$4:$BL$19,MATCH(AS$2,$BG$4:$BG$19,0),MATCH(Worksheet!$C$15,$BH$3:$BL$3,0)))","v":"N/A"},{"$f":"IF(Worksheet!$C$15=\"\",\"N/A\",INDEX($BH$4:$BL$19,MATCH(AT$2,$BG$4:$BG$19,0),MATCH(Worksheet!$C$15,$BH$3:$BL$3,0)))","v":"N/A"},{"$f":"IF(Worksheet!$C$15=\"\",\"N/A\",INDEX($BH$4:$BL$19,MATCH(AU$2,$BG$4:$BG$19,0),MATCH(Worksheet!$C$15,$BH$3:$BL$3,0)))","v":"N/A"},{"$f":"IF(Worksheet!$C$15=\"\",\"N/A\",INDEX($BH$4:$BL$19,MATCH(AV$2,$BG$4:$BG$19,0),MATCH(Worksheet!$C$15,$BH$3:$BL$3,0)))","v":"N/A"},{"$f":"IF(Worksheet!$C$15=\"\",\"N/A\",INDEX($BH$4:$BL$19,MATCH(AW$2,$BG$4:$BG$19,0),MATCH(Worksheet!$C$15,$BH$3:$BL$3,0)))","v":"N/A"},{"$f":"IF(Worksheet!$C$15=\"\",\"N/A\",INDEX($BH$4:$BL$19,MATCH(AX$2,$BG$4:$BG$19,0),MATCH(Worksheet!$C$15,$BH$3:$BL$3,0)))","v":"N/A"},{"$f":"IF(Worksheet!$C$15=\"\",\"N/A\",INDEX($BH$4:$BL$19,MATCH(AY$2,$BG$4:$BG$19,0),MATCH(Worksheet!$C$15,$BH$3:$BL$3,0)))","v":"N/A"},{"$f":"IF(Worksheet!$C$15=\"\",\"N/A\",INDEX($BH$4:$BL$19,MATCH(AZ$2,$BG$4:$BG$19,0),MATCH(Worksheet!$C$15,$BH$3:$BL$3,0)))","v":"N/A"},{"$f":"IF(Worksheet!$C$15=\"\",\"N/A\",INDEX($BH$4:$BL$19,MATCH(BA$2,$BG$4:$BG$19,0),MATCH(Worksheet!$C$15,$BH$3:$BL$3,0)))","v":"N/A"},{"$f":"IF(Worksheet!$C$15=\"\",\"N/A\",INDEX($BH$4:$BL$19,MATCH(BB$2,$BG$4:$BG$19,0),MATCH(Worksheet!$C$15,$BH$3:$BL$3,0)))","v":"N/A"},{"$f":"IF(Worksheet!$C$15=\"\",\"N/A\",INDEX($BH$4:$BL$19,MATCH(BC$2,$BG$4:$BG$19,0),MATCH(Worksheet!$C$15,$BH$3:$BL$3,0)))","v":"N/A"},{"$f":"IF(Worksheet!$C$15=\"\",\"N/A\",INDEX($BH$4:$BL$19,MATCH(BD$2,$BG$4:$BG$19,0),MATCH(Worksheet!$C$15,$BH$3:$BL$3,0)))","v":"N/A"},{"$f":"IF(Worksheet!$C$15=\"\",\"N/A\",INDEX($BH$4:$BL$19,MATCH(BE$2,$BG$4:$BG$19,0),MATCH(Worksheet!$C$15,$BH$3:$BL$3,0)))","v":"N/A"},null,"Loading Dock",0,0.5,0.5,0.5,0.5]
["Library",0.03,0.03,0.02,0.43,0.63,1.01,1.24,1.23,0.81,0.72,0.66,1.72,1.71,0.65,0.42,0.56000000000000005,1.21,0.91,1.81,1.43,0.6,0.47,0.9,0.64,0.75,0.73,1.1100000000000001,1.1100000000000001,0.98,0.19,1.68,0.98,1.44,0.54,0.69,1.24,0.63,0.63,0.67,1.59,{"$f":"IF(Worksheet!$C$15=\"\",\"N/A\",INDEX($BH$4:$BL$19,MATCH(AP$2,$BG$4:$BG$19,0),MATCH(Worksheet!$C$15,$BH$3:$BL$3,0)))","v":"N/A"},{"$f":"IF(Worksheet!$C$15=\"\",\"N/A\",INDEX($BH$4:$BL$19,MATCH(AQ$2,$BG$4:$BG$19,0),MATCH(Worksheet!$C$15,$BH$3:$BL$3,0)))","v":"N/A"},{"$f":"IF(Worksheet!$C$15=\"\",\"N/A\",INDEX($BH$4:$BL$19,MATCH(AR$2,$BG$4:$BG$19,0),MATCH(Worksheet!$C$15,$BH$3:$BL$3,0)))","v":"N/A"},{"$f":"IF(Worksheet!$C$15=\"\",\"N/A\",INDEX($BH$4:$BL$19,MATCH(AS$2,$BG$4:$BG$19,0),MATCH(Worksheet!$C$15,$BH$3:$BL$3,0)))","v":"N/A"},{"$f":"IF(Worksheet!$C$15=\"\",\"N/A\",INDEX($BH$4:$BL$19,MATCH(AT$2,$BG$4:$BG$19,0),MATCH(Worksheet!$C$15,$BH$3:$BL$3,0)))","v":"N/A"},{"$f":"IF(Worksheet!$C$15=\"\",\"N/A\",INDEX($BH$4:$BL$19,MATCH(AU$2,$BG$4:$BG$19,0),MATCH(Worksheet!$C$15,$BH$3:$BL$3,0)))","v":"N/A"},{"$f":"IF(Worksheet!$C$15=\"\",\"N/A\",INDEX($BH$4:$BL$19,MATCH(AV$2,$BG$4:$BG$19,0),MATCH(Worksheet!$C$15,$BH$3:$BL$3,0)))","v":"N/A"},{"$f":"IF(Worksheet!$C$15=\"\",\"N/A\",INDEX($BH$4:$BL$19,MATCH(AW$2,$BG$4:$BG$19,0),MATCH(Worksheet!$C$15,$BH$3:$BL$3,0)))","v":"N/A"},{"$f":"IF(Worksheet!$C$15=\"\",\"N/A\",INDEX($BH$4:$BL$19,MATCH(AX$2,$BG$4:$BG$19,0),MATCH(Worksheet!$C$15,$BH$3:$BL$3,0)))","v":"N/A"},{"$f":"IF(Worksheet!$C$15=\"\",\"N/A\",INDEX($BH$4:$BL$19,MATCH(AY$2,$BG$4:$BG$19,0),MATCH(Worksheet!$C$15,$BH$3:$BL$3,0)))","v":"N/A"},{"$f":"IF(Worksheet!$C$15=\"\",\"N/A\",INDEX($BH$4:$BL$19,MATCH(AZ$2,$BG$4:$BG$19,0),MATCH(Worksheet!$C$15,$BH$3:$BL$3,0)))","v":"N/A"},{"$f":"IF(Worksheet!$C$15=\"\",\"N/A\",INDEX($BH$4:$BL$19,MATCH(BA$2,$BG$4:$BG$19,0),MATCH(Worksheet!$C$15,$BH$3:$BL$3,0)))","v":"N/A"},{"$f":"IF(Worksheet!$C$15=\"\",\"N/A\",INDEX($BH$4:$BL$19,MATCH(BB$2,$BG$4:$BG$19,0),MATCH(Worksheet!$C$15,$BH$3:$BL$3,0)))","v":"N/A"},{"$f":"IF(Worksheet!$C$15=\"\",\"N/A\",INDEX($BH$4:$BL$19,MATCH(BC$2,$BG$4:$BG$19,0),MATCH(Worksheet!$C$15,$BH$3:$BL$3,0)))","v":"N/A"},{"$f":"IF(Worksheet!$C$15=\"\",\"N/A\",INDEX($BH$4:$BL$19,MATCH(BD$2,$BG$4:$BG$19,0),MATCH(Worksheet!$C$15,$BH$3:$BL$3,0)))","v":"N/A"},{"$f":"IF(Worksheet!$C$15=\"\",\"N/A\",INDEX($BH$4:$BL$19,MATCH(BE$2,$BG$4:$BG$19,0),MATCH(Worksheet!$C$15,$BH$3:$BL$3,0)))","v":"N/A"},null,"Sales Canopy",0,0.6,0.6,0.8,1]
["Manufacturing Facility",0.03,0.03,0.02,0.43,0.63,1.01,1.24,1.23,0.81,0.72,0.41,1.72,1.71,0.65,0.42,0.56000000000000005,1.21,0.91,1.81,1.43,0.6,0.47,0.9,0.64,0.75,0.73,1.1100000000000001,1.1100000000000001,0.98,0.19,1.68,0.98,1.44,0.54,0.69,1.24,0.63,0.63,0.67,1.59,{"$f":"IF(Worksheet!$C$15=\"\",\"N/A\",INDEX($BH$4:$BL$19,MATCH(AP$2,$BG$4:$BG$19,0),MATCH(Worksheet!$C$15,$BH$3:$BL$3,0)))","v":"N/A"},{"$f":"IF(Worksheet!$C$15=\"\",\"N/A\",INDEX($BH$4:$BL$19,MATCH(AQ$2,$BG$4:$BG$19,0),MATCH(Worksheet!$C$15,$BH$3:$BL$3,0)))","v":"N/A"},{"$f":"IF(Worksheet!$C$15=\"\",\"N/A\",INDEX($BH$4:$BL$19,MATCH(AR$2,$BG$4:$BG$19,0),MATCH(Worksheet!$C$15,$BH$3:$BL$3,0)))","v":"N/A"},{"$f":"IF(Worksheet!$C$15=\"\",\"N/A\",INDEX($BH$4:$BL$19,MATCH(AS$2,$BG$4:$BG$19,0),MATCH(Worksheet!$C$15,$BH$3:$BL$3,0)))","v":"N/A"},{"$f":"IF(Worksheet!$C$15=\"\",\"N/A\",INDEX($BH$4:$BL$19,MATCH(AT$2,$BG$4:$BG$19,0),MATCH(Worksheet!$C$15,$BH$3:$BL$3,0)))","v":"N/A"},{"$f":"IF(Worksheet!$C$15=\"\",\"N/A\",INDEX($BH$4:$BL$19,MATCH(AU$2,$BG$4:$BG$19,0),MATCH(Worksheet!$C$15,$BH$3:$BL$3,0)))","v":"N/A"},{"$f":"IF(Worksheet!$C$15=\"\",\"N/A\",INDEX($BH$4:$BL$19,MATCH(AV$2,$BG$4:$BG$19,0),MATCH(Worksheet!$C$15,$BH$3:$BL$3,0)))","v":"N/A"},{"$f":"IF(Worksheet!$C$15=\"\",\"N/A\",INDEX($BH$4:$BL$19,MATCH(AW$2,$BG$4:$BG$19,0),MATCH(Worksheet!$C$15,$BH$3:$BL$3,0)))","v":"N/A"},{"$f":"IF(Worksheet!$C$15=\"\",\"N/A\",INDEX($BH$4:$BL$19,MATCH(AX$2,$BG$4:$BG$19,0),MATCH(Worksheet!$C$15,$BH$3:$BL$3,0)))","v":"N/A"},{"$f":"IF(Worksheet!$C$15=\"\",\"N/A\",INDEX($BH$4:$BL$19,MATCH(AY$2,$BG$4:$BG$19,0),MATCH(Worksheet!$C$15,$BH$3:$BL$3,0)))","v":"N/A"},{"$f":"IF(Worksheet!$C$15=\"\",\"N/A\",INDEX($BH$4:$BL$19,MATCH(AZ$2,$BG$4:$BG$19,0),MATCH(Worksheet!$C$15,$BH$3:$BL$3,0)))","v":"N/A"},{"$f":"IF(Worksheet!$C$15=\"\",\"N/A\",INDEX($BH$4:$BL$19,MATCH(BA$2,$BG$4:$BG$19,0),MATCH(Worksheet!$C$15,$BH$3:$BL$3,0)))","v":"N/A"},{"$f":"IF(Worksheet!$C$15=\"\",\"N/A\",INDEX($BH$4:$BL$19,MATCH(BB$2,$BG$4:$BG$19,0),MATCH(Worksheet!$C$15,$BH$3:$BL$3,0)))","v":"N/A"},{"$f":"IF(Worksheet!$C$15=\"\",\"N/A\",INDEX($BH$4:$BL$19,MATCH(BC$2,$BG$4:$BG$19,0),MATCH(Worksheet!$C$15,$BH$3:$BL$3,0)))","v":"N/A"},{"$f":"IF(Worksheet!$C$15=\"\",\"N/A\",INDEX($BH$4:$BL$19,MATCH(BD$2,$BG$4:$BG$19,0),MATCH(Worksheet!$C$15,$BH$3:$BL$3,0)))","v":"N/A"},{"$f":"IF(Worksheet!$C$15=\"\",\"N/A\",INDEX($BH$4:$BL$19,MATCH(BE$2,$BG$4:$BG$19,0),MATCH(Worksheet!$C$15,$BH$3:$BL$3,0)))","v":"N/A"},null,"Open Sales Area",0,0.25,0.25,0.5,0.7]
["Motel",0.03,0.03,0.02,0.43,0.63,1.01,1.24,1.23,0.81,0.72,0.66,1.72,1.71,0.65,0.42,0.56000000000000005,1.21,0.91,1.81,1.43,0.6,0.47,0.9,0.64,0.75,0.73,1.1100000000000001,1.1100000000000001,0.98,0.19,1.68,0.98,1.44,0.54,0.69,1.24,0.63,0.63,0.67,1.59,{"$f":"IF(Worksheet!$C$15=\"\",\"N/A\",INDEX($BH$4:$BL$19,MATCH(AP$2,$BG$4:$BG$19,0),MATCH(Worksheet!$C$15,$BH$3:$BL$3,0)))","v":"N/A"},{"$f":"IF(Worksheet!$C$15=\"\",\"N/A\",INDEX($BH$4:$BL$19,MATCH(AQ$2,$BG$4:$BG$19,0),MATCH(Worksheet!$C$15,$BH$3:$BL$3,0)))","v":"N/A"},{"$f":"IF(Worksheet!$C$15=\"\",\"N/A\",INDEX($BH$4:$BL$19,MATCH(AR$2,$BG$4:$BG$19,0),MATCH(Worksheet!$C$15,$BH$3:$BL$3,0)))","v":"N/A"},{"$f":"IF(Worksheet!$C$15=\"\",\"N/A\",INDEX($BH$4:$BL$19,MATCH(AS$2,$BG$4:$BG$19,0),MATCH(Worksheet!$C$15,$BH$3:$BL$3,0)))","v":"N/A"},{"$f":"IF(Worksheet!$C$15=\"\",\"N/A\",INDEX($BH$4:$BL$19,MATCH(AT$2,$BG$4:$BG$19,0),MATCH(Worksheet!$C$15,$BH$3:$BL$3,0)))","v":"N/A"},{"$f":"IF(Worksheet!$C$15=\"\",\"N/A\",INDEX($BH$4:$BL$19,MATCH(AU$2,$BG$4:$BG$19,0),MATCH(Worksheet!$C$15,$BH$3:$BL$3,0)))","v":"N/A"},{"$f":"IF(Worksheet!$C$15=\"\",\"N/A\",INDEX($BH$4:$BL$19,MATCH(AV$2,$BG$4:$BG$19,0),MATCH(Worksheet!$C$15,$BH$3:$BL$3,0)))","v":"N/A"},{"$f":"IF(Worksheet!$C$15=\"\",\"N/A\",INDEX($BH$4:$BL$19,MATCH(AW$2,$BG$4:$BG$19,0),MATCH(Worksheet!$C$15,$BH$3:$BL$3,0)))","v":"N/A"},{"$f":"IF(Worksheet!$C$15=\"\",\"N/A\",INDEX($BH$4:$BL$19,MATCH(AX$2,$BG$4:$BG$19,0),MATCH(Worksheet!$C$15,$BH$3:$BL$3,0)))","v":"N/A"},{"$f":"IF(Worksheet!$C$15=\"\",\"N/A\",INDEX($BH$4:$BL$19,MATCH(AY$2,$BG$4:$BG$19,0),MATCH(Worksheet!$C$15,$BH$3:$BL$3,0)))","v":"N/A"},{"$f":"IF(Worksheet!$C$15=\"\",\"N/A\",INDEX($BH$4:$BL$19,MATCH(AZ$2,$BG$4:$BG$19,0),MATCH(Worksheet!$C$15,$BH$3:$BL$3,0)))","v":"N/A"},{"$f":"IF(Worksheet!$C$15=\"\",\"N/A\",INDEX($BH$4:$BL$19,MATCH(BA$2,$BG$4:$BG$19,0),MATCH(Worksheet!$C$15,$BH$3:$BL$3,0)))","v":"N/A"},{"$f":"IF(Worksheet!$C$15=\"\",\"N/A\",INDEX($BH$4:$BL$19,MATCH(BB$2,$BG$4:$BG$19,0),MATCH(Worksheet!$C$15,$BH$3:$BL$3,0)))","v":"N/A"},{"$f":"IF(Worksheet!$C$15=\"\",\"N/A\",INDEX($BH$4:$BL$19,MATCH(BC$2,$BG$4:$BG$19,0),MATCH(Worksheet!$C$15,$BH$3:$BL$3,0)))","v":"N/A"},{"$f":"IF(Worksheet!$C$15=\"\",\"N/A\",INDEX($BH$4:$BL$19,MATCH(BD$2,$BG$4:$BG$19,0),MATCH(Worksheet!$C$15,$BH$3:$BL$3,0)))","v":"N/A"},{"$f":"IF(Worksheet!$C$15=\"\",\"N/A\",INDEX($BH$4:$BL$19,MATCH(BE$2,$BG$4:$BG$19,0),MATCH(Worksheet!$C$15,$BH$3:$BL$3,0)))","v":"N/A"},null,"Street Frontage for Vehicle Sales (in addition to \"Open Area\" allowance)",0,0,10,10,30]
["Motion Picture Theater",0.03,0.03,0.02,1.1399999999999999,0.63,1.01,1.24,1.23,0.81,0.72,0.66,1.72,1.71,0.65,0.42,0.56000000000000005,1.21,0.91,1.81,1.43,0.6,0.47,0.59,0.64,0.75,0.73,1.1100000000000001,1.1100000000000001,0.98,0.19,1.68,0.98,1.44,0.54,0.69,1.24,0.63,0.63,0.67,1.59,{"$f":"IF(Worksheet!$C$15=\"\",\"N/A\",INDEX($BH$4:$BL$19,MATCH(AP$2,$BG$4:$BG$19,0),MATCH(Worksheet!$C$15,$BH$3:$BL$3,0)))","v":"N/A"},{"$f":"IF(Worksheet!$C$15=\"\",\"N/A\",INDEX($BH$4:$BL$19,MATCH(AQ$2,$BG$4:$BG$19,0),MATCH(Worksheet!$C$15,$BH$3:$BL$3,0)))","v":"N/A"},{"$f":"IF(Worksheet!$C$15=\"\",\"N/A\",INDEX($BH$4:$BL$19,MATCH(AR$2,$BG$4:$BG$19,0),MATCH(Worksheet!$C$15,$BH$3:$BL$3,0)))","v":"N/A"},{"$f":"IF(Worksheet!$C$15=\"\",\"N/A\",INDEX($BH$4:$BL$19,MATCH(AS$2,$BG$4:$BG$19,0),MATCH(Worksheet!$C$15,$BH$3:$BL$3,0)))","v":"N/A"},{"$f":"IF(Worksheet!$C$15=\"\",\"N/A\",INDEX($BH$4:$BL$19,MATCH(AT$2,$BG$4:$BG$19,0),MATCH(Worksheet!$C$15,$BH$3:$BL$3,0)))","v":"N/A"},{"$f":"IF(Worksheet!$C$15=\"\",\"N/A\",INDEX($BH$4:$BL$19,MATCH(AU$2,$BG$4:$BG$19,0),MATCH(Worksheet!$C$15,$BH$3:$BL$3,0)))","v":"N/A"},{"$f":"IF(Worksheet!$C$15=\"\",\"N/A\",INDEX($BH$4:$BL$19,MATCH(AV$2,$BG$4:$BG$19,0),MATCH(Worksheet!$C$15,$BH$3:$BL$3,0)))","v":"N/A"},{"$f":"IF(Worksheet!$C$15=\"\",\"N/A\",INDEX($BH$4:$BL$19,MATCH(AW$2,$BG$4:$BG$19,0),MATCH(Worksheet!$C$15,$BH$3:$BL$3,0)))","v":"N/A"},{"$f":"IF(Worksheet!$C$15=\"\",\"N/A\",INDEX($BH$4:$BL$19,MATCH(AX$2,$BG$4:$BG$19,0),MATCH(Worksheet!$C$15,$BH$3:$BL$3,0)))","v":"N/A"},{"$f":"IF(Worksheet!$C$15=\"\",\"N/A\",INDEX($BH$4:$BL$19,MATCH(AY$2,$BG$4:$BG$19,0),MATCH(Worksheet!$C$15,$BH$3:$BL$3,0)))","v":"N/A"},{"$f":"IF(Worksheet!$C$15=\"\",\"N/A\",INDEX($BH$4:$BL$19,MATCH(AZ$2,$BG$4:$BG$19,0),MATCH(Worksheet!$C$15,$BH$3:$BL$3,0)))","v":"N/A"},{"$f":"IF(Worksheet!$C$15=\"\",\"N/A\",INDEX($BH$4:$BL$19,MATCH(BA$2,$BG$4:$BG$19,0),MATCH(Worksheet!$C$15,$BH$3:$BL$3,0)))","v":"N/A"},{"$f":"IF(Worksheet!$C$15=\"\",\"N/A\",INDEX($BH$4:$BL$19,MATCH(BB$2,$BG$4:$BG$19,0),MATCH(Worksheet!$C$15,$BH$3:$BL$3,0)))","v":"N/A"},{"$f":"IF(Worksheet!$C$15=\"\",\"N/A\",INDEX($BH$4:$BL$19,MATCH(BC$2,$BG$4:$BG$19,0),MATCH(Worksheet!$C$15,$BH$3:$BL$3,0)))","v":"N/A"},{"$f":"IF(Worksheet!$C$15=\"\",\"N/A\",INDEX($BH$4:$BL$19,MATCH(BD$2,$BG$4:$BG$19,0),MATCH(Worksheet!$C$15,$BH$3:$BL$3,0)))","v":"N/A"},{"$f":"IF(Worksheet!$C$15=\"\",\"N/A\",INDEX($BH$4:$BL$19,MATCH(BE$2,$BG$4:$BG$19,0),MATCH(Worksheet!$C$15,$BH$3:$BL$3,0)))","v":"N/A"}]
["Multifamily",0.03,0.03,0.02,0.43,0.63,1.01,1.24,1.23,0.81,0.72,0.66,1.72,1.71,0.65,0.42,0.56000000000000005,1.21,0.91,1.81,1.43,0.6,0.47,0.9,0.64,0.75,0.73,1.1100000000000001,1.1100000000000001,0.98,0.19,1.68,0.98,1.44,0.54,0.69,1.24,0.63,0.63,0.67,1.59,{"$f":"IF(Worksheet!$C$15=\"\",\"N/A\",INDEX($BH$4:$BL$19,MATCH(AP$2,$BG$4:$BG$19,0),MATCH(Worksheet!$C$15,$BH$3:$BL$3,0)))","v":"N/A"},{"$f":"IF(Worksheet!$C$15=\"\",\"N/A\",INDEX($BH$4:$BL$19,MATCH(AQ$2,$BG$4:$BG$19,0),MATCH(Worksheet!$C$15,$BH$3:$BL$3,0)))","v":"N/A"},{"$f":"IF(Worksheet!$C$15=\"\",\"N/A\",INDEX($BH$4:$BL$19,MATCH(AR$2,$BG$4:$BG$19,0),MATCH(Worksheet!$C$15,$BH$3:$BL$3,0)))","v":"N/A"},{"$f":"IF(Worksheet!$C$15=\"\",\"N/A\",INDEX($BH$4:$BL$19,MATCH(AS$2,$BG$4:$BG$19,0),MATCH(Worksheet!$C$15,$BH$3:$BL$3,0)))","v":"N/A"},{"$f":"IF(Worksheet!$C$15=\"\",\"N/A\",INDEX($BH$4:$BL$19,MATCH(AT$2,$BG$4:$BG$19,0),MATCH(Worksheet!$C$15,$BH$3:$BL$3,0)))","v":"N/A"},{"$f":"IF(Worksheet!$C$15=\"\",\"N/A\",INDEX($BH$4:$BL$19,MATCH(AU$2,$BG$4:$BG$19,0),MATCH(Worksheet!$C$15,$BH$3:$BL$3,0)))","v":"N/A"},{"$f":"IF(Worksheet!$C$15=\"\",\"N/A\",INDEX($BH$4:$BL$19,MATCH(AV$2,$BG$4:$BG$19,0),MATCH(Worksheet!$C$15,$BH$3:$BL$3,0)))","v":"N/A"},{"$f":"IF(Worksheet!$C$15=\"\",\"N/A\",INDEX($BH$4:$BL$19,MATCH(AW$2,$BG$4:$BG$19,0),MATCH(Worksheet!$C$15,$BH$3:$BL$3,0)))","v":"N/A"},{"$f":"IF(Worksheet!$C$15=\"\",\"N/A\",INDEX($BH$4:$BL$19,MATCH(AX$2,$BG$4:$BG$19,0),MATCH(Worksheet!$C$15,$BH$3:$BL$3,0)))","v":"N/A"},{"$f":"IF(Worksheet!$C$15=\"\",\"N/A\",INDEX($BH$4:$BL$19,MATCH(AY$2,$BG$4:$BG$19,0),MATCH(Worksheet!$C$15,$BH$3:$BL$3,0)))","v":"N/A"},{"$f":"IF(Worksheet!$C$15=\"\",\"N/A\",INDEX($BH$4:$BL$19,MATCH(AZ$2,$BG$4:$BG$19,0),MATCH(Worksheet!$C$15,$BH$3:$BL$3,0)))","v":"N/A"},{"$f":"IF(Worksheet!$C$15=\"\",\"N/A\",INDEX($BH$4:$BL$19,MATCH(BA$2,$BG$4:$BG$19,0),MATCH(Worksheet!$C$15,$BH$3:$BL$3,0)))","v":"N/A"},{"$f":"IF(Worksheet!$C$15=\"\",\"N/A\",INDEX($BH$4:$BL$19,MATCH(BB$2,$BG$4:$BG$19,0),MATCH(Worksheet!$C$15,$BH$3:$BL$3,0)))","v":"N/A"},{"$f":"IF(Worksheet!$C$15=\"\",\"N/A\",INDEX($BH$4:$BL$19,MATCH(BC$2,$BG$4:$BG$19,0),MATCH(Worksheet!$C$15,$BH$3:$BL$3,0)))","v":"N/A"},{"$f":"IF(Worksheet!$C$15=\"\",\"N/A\",INDEX($BH$4:$BL$19,MATCH(BD$2,$BG$4:$BG$19,0),MATCH(Worksheet!$C$15,$BH$3:$BL$3,0)))","v":"N/A"},{"$f":"IF(Worksheet!$C$15=\"\",\"N/A\",INDEX($BH$4:$BL$19,MATCH(BE$2,$BG$4:$BG$19,0),MATCH(Worksheet!$C$15,$BH$3:$BL$3,0)))","v":"N/A"}]
["Museum",0.03,0.03,0.02,0.43,0.63,1.01,1.24,1.23,0.81,0.72,0.66,1.72,1.71,0.65,0.42,0.56000000000000005,1.21,0.91,1.81,1.43,0.6,0.47,0.9,0.64,0.75,0.73,1.1100000000000001,1.1100000000000001,0.98,0.19,1.68,0.98,1.44,0.54,0.69,1.24,0.63,0.63,0.67,1.59,{"$f":"IF(Worksheet!$C$15=\"\",\"N/A\",INDEX($BH$4:$BL$19,MATCH(AP$2,$BG$4:$BG$19,0),MATCH(Worksheet!$C$15,$BH$3:$BL$3,0)))","v":"N/A"},{"$f":"IF(Worksheet!$C$15=\"\",\"N/A\",INDEX($BH$4:$BL$19,MATCH(AQ$2,$BG$4:$BG$19,0),MATCH(Worksheet!$C$15,$BH$3:$BL$3,0)))","v":"N/A"},{"$f":"IF(Worksheet!$C$15=\"\",\"N/A\",INDEX($BH$4:$BL$19,MATCH(AR$2,$BG$4:$BG$19,0),MATCH(Worksheet!$C$15,$BH$3:$BL$3,0)))","v":"N/A"},{"$f":"IF(Worksheet!$C$15=\"\",\"N/A\",INDEX($BH$4:$BL$19,MATCH(AS$2,$BG$4:$BG$19,0),MATCH(Worksheet!$C$15,$BH$3:$BL$3,0)))","v":"N/A"},{"$f":"IF(Worksheet!$C$15=\"\",\"N/A\",INDEX($BH$4:$BL$19,MATCH(AT$2,$BG$4:$BG$19,0),MATCH(Worksheet!$C$15,$BH$3:$BL$3,0)))","v":"N/A"},{"$f":"IF(Worksheet!$C$15=\"\",\"N/A\",INDEX($BH$4:$BL$19,MATCH(AU$2,$BG$4:$BG$19,0),MATCH(Worksheet!$C$15,$BH$3:$BL$3,0)))","v":"N/A"},{"$f":"IF(Worksheet!$C$15=\"\",\"N/A\",INDEX($BH$4:$BL$19,MATCH(AV$2,$BG$4:$BG$19,0),MATCH(Worksheet!$C$15,$BH$3:$BL$3,0)))","v":"N/A"},{"$f":"IF(Worksheet!$C$15=\"\",\"N/A\",INDEX($BH$4:$BL$19,MATCH(AW$2,$BG$4:$BG$19,0),MATCH(Worksheet!$C$15,$BH$3:$BL$3,0)))","v":"N/A"},{"$f":"IF(Worksheet!$C$15=\"\",\"N/A\",INDEX($BH$4:$BL$19,MATCH(AX$2,$BG$4:$BG$19,0),MATCH(Worksheet!$C$15,$BH$3:$BL$3,0)))","v":"N/A"},{"$f":"IF(Worksheet!$C$15=\"\",\"N/A\",INDEX($BH$4:$BL$19,MATCH(AY$2,$BG$4:$BG$19,0),MATCH(Worksheet!$C$15,$BH$3:$BL$3,0)))","v":"N/A"},{"$f":"IF(Worksheet!$C$15=\"\",\"N/A\",INDEX($BH$4:$BL$19,MATCH(AZ$2,$BG$4:$BG$19,0),MATCH(Worksheet!$C$15,$BH$3:$BL$3,0)))","v":"N/A"},{"$f":"IF(Worksheet!$C$15=\"\",\"N/A\",INDEX($BH$4:$BL$19,MATCH(BA$2,$BG$4:$BG$19,0),MATCH(Worksheet!$C$15,$BH$3:$BL$3,0)))","v":"N/A"},{"$f":"IF(Worksheet!$C$15=\"\",\"N/A\",INDEX($BH$4:$BL$19,MATCH(BB$2,$BG$4:$BG$19,0),MATCH(Worksheet!$C$15,$BH$3:$BL$3,0)))","v":"N/A"},{"$f":"IF(Worksheet!$C$15=\"\",\"N/A\",INDEX($BH$4:$BL$19,MATCH(BC$2,$BG$4:$BG$19,0),MATCH(Worksheet!$C$15,$BH$3:$BL$3,0)))","v":"N/A"},{"$f":"IF(Worksheet!$C$15=\"\",\"N/A\",INDEX($BH$4:$BL$19,MATCH(BD$2,$BG$4:$BG$19,0),MATCH(Worksheet!$C$15,$BH$3:$BL$3,0)))","v":"N/A"},{"$f":"IF(Worksheet!$C$15=\"\",\"N/A\",INDEX($BH$4:$BL$19,MATCH(BE$2,$BG$4:$BG$19,0),MATCH(Worksheet!$C$15,$BH$3:$BL$3,0)))","v":"N/A"}]
["Office",0.03,0.03,0.02,0.43,0.63,1.01,1.24,1.23,0.81,0.72,0.66,1.72,1.71,0.65,0.42,0.56000000000000005,1.21,0.91,1.81,1.43,0.6,0.47,0.9,0.64,0.75,0.73,1.1100000000000001,1.1100000000000001,0.98,0.19,1.68,0.98,1.44,0.54,0.69,1.24,0.63,0.63,0.67,1.59,{"$f":"IF(Worksheet!$C$15=\"\",\"N/A\",INDEX($BH$4:$BL$19,MATCH(AP$2,$BG$4:$BG$19,0),MATCH(Worksheet!$C$15,$BH$3:$BL$3,0)))","v":"N/A"},{"$f":"IF(Worksheet!$C$15=\"\",\"N/A\",INDEX($BH$4:$BL$19,MATCH(AQ$2,$BG$4:$BG$19,0),MATCH(Worksheet!$C$15,$BH$3:$BL$3,0)))","v":"N/A"},{"$f":"IF(Worksheet!$C$15=\"\",\"N/A\",INDEX($BH$4:$BL$19,MATCH(AR$2,$BG$4:$BG$19,0),MATCH(Worksheet!$C$15,$BH$3:$BL$3,0)))","v":"N/A"},{"$f":"IF(Worksheet!$C$15=\"\",\"N/A\",INDEX($BH$4:$BL$19,MATCH(AS$2,$BG$4:$BG$19,0),MATCH(Worksheet!$C$15,$BH$3:$BL$3,0)))","v":"N/A"},{"$f":"IF(Worksheet!$C$15=\"\",\"N/A\",INDEX($BH$4:$BL$19,MATCH(AT$2,$BG$4:$BG$19,0),MATCH(Worksheet!$C$15,$BH$3:$BL$3,0)))","v":"N/A"},{"$f":"IF(Worksheet!$C$15=\"\",\"N/A\",INDEX($BH$4:$BL$19,MATCH(AU$2,$BG$4:$BG$19,0),MATCH(Worksheet!$C$15,$BH$3:$BL$3,0)))","v":"N/A"},{"$f":"IF(Worksheet!$C$15=\"\",\"N/A\",INDEX($BH$4:$BL$19,MATCH(AV$2,$BG$4:$BG$19,0),MATCH(Worksheet!$C$15,$BH$3:$BL$3,0)))","v":"N/A"},{"$f":"IF(Worksheet!$C$15=\"\",\"N/A\",INDEX($BH$4:$BL$19,MATCH(AW$2,$BG$4:$BG$19,0),MATCH(Worksheet!$C$15,$BH$3:$BL$3,0)))","v":"N/A"},{"$f":"IF(Worksheet!$C$15=\"\",\"N/A\",INDEX($BH$4:$BL$19,MATCH(AX$2,$BG$4:$BG$19,0),MATCH(Worksheet!$C$15,$BH$3:$BL$3,0)))","v":"N/A"},{"$f":"IF(Worksheet!$C$15=\"\",\"N/A\",INDEX($BH$4:$BL$19,MATCH(AY$2,$BG$4:$BG$19,0),MATCH(Worksheet!$C$15,$BH$3:$BL$3,0)))","v":"N/A"},{"$f":"IF(Worksheet!$C$15=\"\",\"N/A\",INDEX($BH$4:$BL$19,MATCH(AZ$2,$BG$4:$BG$19,0),MATCH(Worksheet!$C$15,$BH$3:$BL$3,0)))","v":"N/A"},{"$f":"IF(Worksheet!$C$15=\"\",\"N/A\",INDEX($BH$4:$BL$19,MATCH(BA$2,$BG$4:$BG$19,0),MATCH(Worksheet!$C$15,$BH$3:$BL$3,0)))","v":"N/A"},{"$f":"IF(Worksheet!$C$15=\"\",\"N/A\",INDEX($BH$4:$BL$19,MATCH(BB$2,$BG$4:$BG$19,0),MATCH(Worksheet!$C$15,$BH$3:$BL$3,0)))","v":"N/A"},{"$f":"IF(Worksheet!$C$15=\"\",\"N/A\",INDEX($BH$4:$BL$19,MATCH(BC$2,$BG$4:$BG$19,0),MATCH(Worksheet!$C$15,$BH$3:$BL$3,0)))","v":"N/A"},{"$f":"IF(Worksheet!$C$15=\"\",\"N/A\",INDEX($BH$4:$BL$19,MATCH(BD$2,$BG$4:$BG$19,0),MATCH(Worksheet!$C$15,$BH$3:$BL$3,0)))","v":"N/A"},{"$f":"IF(Worksheet!$C$15=\"\",\"N/A\",INDEX($BH$4:$BL$19,MATCH(BE$2,$BG$4:$BG$19,0),MATCH(Worksheet!$C$15,$BH$3:$BL$3,0)))","v":"N/A"}]
["Parking Garage",0.03,0.03,0.02,0.43,0.63,1.01,1.24,1.23,0.81,0.72,0.66,1.72,1.71,0.65,0.42,0.56000000000000005,1.21,0.91,1.81,1.43,0.6,0.47,0.9,0.64,0.75,0.73,1.1100000000000001,1.1100000000000001,0.98,0.19,1.68,0.98,1.44,0.54,0.69,1.24,0.63,0.63,0.67,1.59,{"$f":"IF(Worksheet!$C$15=\"\",\"N/A\",INDEX($BH$4:$BL$19,MATCH(AP$2,$BG$4:$BG$19,0),MATCH(Worksheet!$C$15,$BH$3:$BL$3,0)))","v":"N/A"},{"$f":"IF(Worksheet!$C$15=\"\",\"N/A\",INDEX($BH$4:$BL$19,MATCH(AQ$2,$BG$4:$BG$19,0),MATCH(Worksheet!$C$15,$BH$3:$BL$3,0)))","v":"N/A"},{"$f":"IF(Worksheet!$C$15=\"\",\"N/A\",INDEX($BH$4:$BL$19,MATCH(AR$2,$BG$4:$BG$19,0),MATCH(Worksheet!$C$15,$BH$3:$BL$3,0)))","v":"N/A"},{"$f":"IF(Worksheet!$C$15=\"\",\"N/A\",INDEX($BH$4:$BL$19,MATCH(AS$2,$BG$4:$BG$19,0),MATCH(Worksheet!$C$15,$BH$3:$BL$3,0)))","v":"N/A"},{"$f":"IF(Worksheet!$C$15=\"\",\"N/A\",INDEX($BH$4:$BL$19,MATCH(AT$2,$BG$4:$BG$19,0),MATCH(Worksheet!$C$15,$BH$3:$BL$3,0)))","v":"N/A"},{"$f":"IF(Worksheet!$C$15=\"\",\"N/A\",INDEX($BH$4:$BL$19,MATCH(AU$2,$BG$4:$BG$19,0),MATCH(Worksheet!$C$15,$BH$3:$BL$3,0)))","v":"N/A"},{"$f":"IF(Worksheet!$C$15=\"\",\"N/A\",INDEX($BH$4:$BL$19,MATCH(AV$2,$BG$4:$BG$19,0),MATCH(Worksheet!$C$15,$BH$3:$BL$3,0)))","v":"N/A"},{"$f":"IF(Worksheet!$C$15=\"\",\"N/A\",INDEX($BH$4:$BL$19,MATCH(AW$2,$BG$4:$BG$19,0),MATCH(Worksheet!$C$15,$BH$3:$BL$3,0)))","v":"N/A"},{"$f":"IF(Worksheet!$C$15=\"\",\"N/A\",INDEX($BH$4:$BL$19,MATCH(AX$2,$BG$4:$BG$19,0),MATCH(Worksheet!$C$15,$BH$3:$BL$3,0)))","v":"N/A"},{"$f":"IF(Worksheet!$C$15=\"\",\"N/A\",INDEX($BH$4:$BL$19,MATCH(AY$2,$BG$4:$BG$19,0),MATCH(Worksheet!$C$15,$BH$3:$BL$3,0)))","v":"N/A"},{"$f":"IF(Worksheet!$C$15=\"\",\"N/A\",INDEX($BH$4:$BL$19,MATCH(AZ$2,$BG$4:$BG$19,0),MATCH(Worksheet!$C$15,$BH$3:$BL$3,0)))","v":"N/A"},{"$f":"IF(Worksheet!$C$15=\"\",\"N/A\",INDEX($BH$4:$BL$19,MATCH(BA$2,$BG$4:$BG$19,0),MATCH(Worksheet!$C$15,$BH$3:$BL$3,0)))","v":"N/A"},{"$f":"IF(Worksheet!$C$15=\"\",\"N/A\",INDEX($BH$4:$BL$19,MATCH(BB$2,$BG$4:$BG$19,0),MATCH(Worksheet!$C$15,$BH$3:$BL$3,0)))","v":"N/A"},{"$f":"IF(Worksheet!$C$15=\"\",\"N/A\",INDEX($BH$4:$BL$19,MATCH(BC$2,$BG$4:$BG$19,0),MATCH(Worksheet!$C$15,$BH$3:$BL$3,0)))","v":"N/A"},{"$f":"IF(Worksheet!$C$15=\"\",\"N/A\",INDEX($BH$4:$BL$19,MATCH(BD$2,$BG$4:$BG$19,0),MATCH(Worksheet!$C$15,$BH$3:$BL$3,0)))","v":"N/A"},{"$f":"IF(Worksheet!$C$15=\"\",\"N/A\",INDEX($BH$4:$BL$19,MATCH(BE$2,$BG$4:$BG$19,0),MATCH(Worksheet!$C$15,$BH$3:$BL$3,0)))","v":"N/A"}]
["Penitentiary",0.03,0.03,0.02,0.28000000000000003,0.63,1.01,1.34,1.23,0.81,0.72,0.66,1.72,1.71,0.96,0.42,0.56000000000000005,1.21,0.91,1.81,1.43,0.6,0.47,0.9,0.64,0.75,0.73,1.1100000000000001,1.1100000000000001,0.98,0.19,1.68,0.98,1.44,0.54,0.69,1.24,0.63,0.63,0.67,1.59,{"$f":"IF(Worksheet!$C$15=\"\",\"N/A\",INDEX($BH$4:$BL$19,MATCH(AP$2,$BG$4:$BG$19,0),MATCH(Worksheet!$C$15,$BH$3:$BL$3,0)))","v":"N/A"},{"$f":"IF(Worksheet!$C$15=\"\",\"N/A\",INDEX($BH$4:$BL$19,MATCH(AQ$2,$BG$4:$BG$19,0),MATCH(Worksheet!$C$15,$BH$3:$BL$3,0)))","v":"N/A"},{"$f":"IF(Worksheet!$C$15=\"\",\"N/A\",INDEX($BH$4:$BL$19,MATCH(AR$2,$BG$4:$BG$19,0),MATCH(Worksheet!$C$15,$BH$3:$BL$3,0)))","v":"N/A"},{"$f":"IF(Worksheet!$C$15=\"\",\"N/A\",INDEX($BH$4:$BL$19,MATCH(AS$2,$BG$4:$BG$19,0),MATCH(Worksheet!$C$15,$BH$3:$BL$3,0)))","v":"N/A"},{"$f":"IF(Worksheet!$C$15=\"\",\"N/A\",INDEX($BH$4:$BL$19,MATCH(AT$2,$BG$4:$BG$19,0),MATCH(Worksheet!$C$15,$BH$3:$BL$3,0)))","v":"N/A"},{"$f":"IF(Worksheet!$C$15=\"\",\"N/A\",INDEX($BH$4:$BL$19,MATCH(AU$2,$BG$4:$BG$19,0),MATCH(Worksheet!$C$15,$BH$3:$BL$3,0)))","v":"N/A"},{"$f":"IF(Worksheet!$C$15=\"\",\"N/A\",INDEX($BH$4:$BL$19,MATCH(AV$2,$BG$4:$BG$19,0),MATCH(Worksheet!$C$15,$BH$3:$BL$3,0)))","v":"N/A"},{"$f":"IF(Worksheet!$C$15=\"\",\"N/A\",INDEX($BH$4:$BL$19,MATCH(AW$2,$BG$4:$BG$19,0),MATCH(Worksheet!$C$15,$BH$3:$BL$3,0)))","v":"N/A"},{"$f":"IF(Worksheet!$C$15=\"\",\"N/A\",INDEX($BH$4:$BL$19,MATCH(AX$2,$BG$4:$BG$19,0),MATCH(Worksheet!$C$15,$BH$3:$BL$3,0)))","v":"N/A"},{"$f":"IF(Worksheet!$C$15=\"\",\"N/A\",INDEX($BH$4:$BL$19,MATCH(AY$2,$BG$4:$BG$19,0),MATCH(Worksheet!$C$15,$BH$3:$BL$3,0)))","v":"N/A"},{"$f":"IF(Worksheet!$C$15=\"\",\"N/A\",INDEX($BH$4:$BL$19,MATCH(AZ$2,$BG$4:$BG$19,0),MATCH(Worksheet!$C$15,$BH$3:$BL$3,0)))","v":"N/A"},{"$f":"IF(Worksheet!$C$15=\"\",\"N/A\",INDEX($BH$4:$BL$19,MATCH(BA$2,$BG$4:$BG$19,0),MATCH(Worksheet!$C$15,$BH$3:$BL$3,0)))","v":"N/A"},{"$f":"IF(Worksheet!$C$15=\"\",\"N/A\",INDEX($BH$4:$BL$19,MATCH(BB$2,$BG$4:$BG$19,0),MATCH(Worksheet!$C$15,$BH$3:$BL$3,0)))","v":"N/A"},{"$f":"IF(Worksheet!$C$15=\"\",\"N/A\",INDEX($BH$4:$BL$19,MATCH(BC$2,$BG$4:$BG$19,0),MATCH(Worksheet!$C$15,$BH$3:$BL$3,0)))","v":"N/A"},{"$f":"IF(Worksheet!$C$15=\"\",\"N/A\",INDEX($BH$4:$BL$19,MATCH(BD$2,$BG$4:$BG$19,0),MATCH(Worksheet!$C$15,$BH$3:$BL$3,0)))","v":"N/A"},{"$f":"IF(Worksheet!$C$15=\"\",\"N/A\",INDEX($BH$4:$BL$19,MATCH(BE$2,$BG$4:$BG$19,0),MATCH(Worksheet!$C$15,$BH$3:$BL$3,0)))","v":"N/A"}]
["Performing Arts Theater",0.03,0.03,0.02,2.4300000000000002,0.63,1.01,1.24,1.23,0.81,0.72,0.66,1.72,1.71,0.65,0.42,0.56000000000000005,1.21,0.91,1.81,1.43,0.6,0.47,2,0.64,0.75,0.73,1.1100000000000001,1.1100000000000001,0.98,0.19,1.68,0.98,1.44,0.54,0.69,1.24,0.63,0.63,0.67,1.59,{"$f":"IF(Worksheet!$C$15=\"\",\"N/A\",INDEX($BH$4:$BL$19,MATCH(AP$2,$BG$4:$BG$19,0),MATCH(Worksheet!$C$15,$BH$3:$BL$3,0)))","v":"N/A"},{"$f":"IF(Worksheet!$C$15=\"\",\"N/A\",INDEX($BH$4:$BL$19,MATCH(AQ$2,$BG$4:$BG$19,0),MATCH(Worksheet!$C$15,$BH$3:$BL$3,0)))","v":"N/A"},{"$f":"IF(Worksheet!$C$15=\"\",\"N/A\",INDEX($BH$4:$BL$19,MATCH(AR$2,$BG$4:$BG$19,0),MATCH(Worksheet!$C$15,$BH$3:$BL$3,0)))","v":"N/A"},{"$f":"IF(Worksheet!$C$15=\"\",\"N/A\",INDEX($BH$4:$BL$19,MATCH(AS$2,$BG$4:$BG$19,0),MATCH(Worksheet!$C$15,$BH$3:$BL$3,0)))","v":"N/A"},{"$f":"IF(Worksheet!$C$15=\"\",\"N/A\",INDEX($BH$4:$BL$19,MATCH(AT$2,$BG$4:$BG$19,0),MATCH(Worksheet!$C$15,$BH$3:$BL$3,0)))","v":"N/A"},{"$f":"IF(Worksheet!$C$15=\"\",\"N/A\",INDEX($BH$4:$BL$19,MATCH(AU$2,$BG$4:$BG$19,0),MATCH(Worksheet!$C$15,$BH$3:$BL$3,0)))","v":"N/A"},{"$f":"IF(Worksheet!$C$15=\"\",\"N/A\",INDEX($BH$4:$BL$19,MATCH(AV$2,$BG$4:$BG$19,0),MATCH(Worksheet!$C$15,$BH$3:$BL$3,0)))","v":"N/A"},{"$f":"IF(Worksheet!$C$15=\"\",\"N/A\",INDEX($BH$4:$BL$19,MATCH(AW$2,$BG$4:$BG$19,0),MATCH(Worksheet!$C$15,$BH$3:$BL$3,0)))","v":"N/A"},{"$f":"IF(Worksheet!$C$15=\"\",\"N/A\",INDEX($BH$4:$BL$19,MATCH(AX$2,$BG$4:$BG$19,0),MATCH(Worksheet!$C$15,$BH$3:$BL$3,0)))","v":"N/A"},{"$f":"IF(Worksheet!$C$15=\"\",\"N/A\",INDEX($BH$4:$BL$19,MATCH(AY$2,$BG$4:$BG$19,0),MATCH(Worksheet!$C$15,$BH$3:$BL$3,0)))","v":"N/A"},{"$f":"IF(Worksheet!$C$15=\"\",\"N/A\",INDEX($BH$4:$BL$19,MATCH(AZ$2,$BG$4:$BG$19,0),MATCH(Worksheet!$C$15,$BH$3:$BL$3,0)))","v":"N/A"},{"$f":"IF(Worksheet!$C$15=\"\",\"N/A\",INDEX($BH$4:$BL$19,MATCH(BA$2,$BG$4:$BG$19,0),MATCH(Worksheet!$C$15,$BH$3:$BL$3,0)))","v":"N/A"},{"$f":"IF(Worksheet!$C$15=\"\",\"N/A\",INDEX($BH$4:$BL$19,MATCH(BB$2,$BG$4:$BG$19,0),MATCH(Worksheet!$C$15,$BH$3:$BL$3,0)))","v":"N/A"},{"$f":"IF(Worksheet!$C$15=\"\",\"N/A\",INDEX($BH$4:$BL$19,MATCH(BC$2,$BG$4:$BG$19,0),MATCH(Worksheet!$C$15,$BH$3:$BL$3,0)))","v":"N/A"},{"$f":"IF(Worksheet!$C$15=\"\",\"N/A\",INDEX($BH$4:$BL$19,MATCH(BD$2,$BG$4:$BG$19,0),MATCH(Worksheet!$C$15,$BH$3:$BL$3,0)))","v":"N/A"},{"$f":"IF(Worksheet!$C$15=\"\",\"N/A\",INDEX($BH$4:$BL$19,MATCH(BE$2,$BG$4:$BG$19,0),MATCH(Worksheet!$C$15,$BH$3:$BL$3,0)))","v":"N/A"}]
["Police Station",0.03,0.03,0.02,0.43,0.63,1.01,1.24,1.23,0.81,0.72,0.66,1.72,1.71,0.65,0.42,0.56000000000000005,1.21,0.91,1.81,1.43,0.6,0.47,0.9,0.64,0.75,0.73,1.1100000000000001,1.1100000000000001,0.98,0.19,1.68,0.98,1.44,0.54,0.69,1.24,0.63,0.63,0.67,1.59,{"$f":"IF(Worksheet!$C$15=\"\",\"N/A\",INDEX($BH$4:$BL$19,MATCH(AP$2,$BG$4:$BG$19,0),MATCH(Worksheet!$C$15,$BH$3:$BL$3,0)))","v":"N/A"},{"$f":"IF(Worksheet!$C$15=\"\",\"N/A\",INDEX($BH$4:$BL$19,MATCH(AQ$2,$BG$4:$BG$19,0),MATCH(Worksheet!$C$15,$BH$3:$BL$3,0)))","v":"N/A"},{"$f":"IF(Worksheet!$C$15=\"\",\"N/A\",INDEX($BH$4:$BL$19,MATCH(AR$2,$BG$4:$BG$19,0),MATCH(Worksheet!$C$15,$BH$3:$BL$3,0)))","v":"N/A"},{"$f":"IF(Worksheet!$C$15=\"\",\"N/A\",INDEX($BH$4:$BL$19,MATCH(AS$2,$BG$4:$BG$19,0),MATCH(Worksheet!$C$15,$BH$3:$BL$3,0)))","v":"N/A"},{"$f":"IF(Worksheet!$C$15=\"\",\"N/A\",INDEX($BH$4:$BL$19,MATCH(AT$2,$BG$4:$BG$19,0),MATCH(Worksheet!$C$15,$BH$3:$BL$3,0)))","v":"N/A"},{"$f":"IF(Worksheet!$C$15=\"\",\"N/A\",INDEX($BH$4:$BL$19,MATCH(AU$2,$BG$4:$BG$19,0),MATCH(Worksheet!$C$15,$BH$3:$BL$3,0)))","v":"N/A"},{"$f":"IF(Worksheet!$C$15=\"\",\"N/A\",INDEX($BH$4:$BL$19,MATCH(AV$2,$BG$4:$BG$19,0),MATCH(Worksheet!$C$15,$BH$3:$BL$3,0)))","v":"N/A"},{"$f":"IF(Worksheet!$C$15=\"\",\"N/A\",INDEX($BH$4:$BL$19,MATCH(AW$2,$BG$4:$BG$19,0),MATCH(Worksheet!$C$15,$BH$3:$BL$3,0)))","v":"N/A"},{"$f":"IF(Worksheet!$C$15=\"\",\"N/A\",INDEX($BH$4:$BL$19,MATCH(AX$2,$BG$4:$BG$19,0),MATCH(Worksheet!$C$15,$BH$3:$BL$3,0)))","v":"N/A"},{"$f":"IF(Worksheet!$C$15=\"\",\"N/A\",INDEX($BH$4:$BL$19,MATCH(AY$2,$BG$4:$BG$19,0),MATCH(Worksheet!$C$15,$BH$3:$BL$3,0)))","v":"N/A"},{"$f":"IF(Worksheet!$C$15=\"\",\"N/A\",INDEX($BH$4:$BL$19,MATCH(AZ$2,$BG$4:$BG$19,0),MATCH(Worksheet!$C$15,$BH$3:$BL$3,0)))","v":"N/A"},{"$f":"IF(Worksheet!$C$15=\"\",\"N/A\",INDEX($BH$4:$BL$19,MATCH(BA$2,$BG$4:$BG$19,0),MATCH(Worksheet!$C$15,$BH$3:$BL$3,0)))","v":"N/A"},{"$f":"IF(Worksheet!$C$15=\"\",\"N/A\",INDEX($BH$4:$BL$19,MATCH(BB$2,$BG$4:$BG$19,0),MATCH(Worksheet!$C$15,$BH$3:$BL$3,0)))","v":"N/A"},{"$f":"IF(Worksheet!$C$15=\"\",\"N/A\",INDEX($BH$4:$BL$19,MATCH(BC$2,$BG$4:$BG$19,0),MATCH(Worksheet!$C$15,$BH$3:$BL$3,0)))","v":"N/A"},{"$f":"IF(Worksheet!$C$15=\"\",\"N/A\",INDEX($BH$4:$BL$19,MATCH(BD$2,$BG$4:$BG$19,0),MATCH(Worksheet!$C$15,$BH$3:$BL$3,0)))","v":"N/A"},{"$f":"IF(Worksheet!$C$15=\"\",\"N/A\",INDEX($BH$4:$BL$19,MATCH(BE$2,$BG$4:$BG$19,0),MATCH(Worksheet!$C$15,$BH$3:$BL$3,0)))","v":"N/A"}]
["Post Office",0.03,0.03,0.02,0.43,0.63,1.01,1.24,1.23,0.81,0.72,0.66,1.72,1.71,0.65,0.42,0.56000000000000005,1.21,0.91,1.81,1.43,0.6,0.47,0.9,0.64,0.75,0.73,1.1100000000000001,1.1100000000000001,0.98,0.19,1.68,0.98,1.44,0.54,0.69,1.24,0.63,0.63,0.67,1.59,{"$f":"IF(Worksheet!$C$15=\"\",\"N/A\",INDEX($BH$4:$BL$19,MATCH(AP$2,$BG$4:$BG$19,0),MATCH(Worksheet!$C$15,$BH$3:$BL$3,0)))","v":"N/A"},{"$f":"IF(Worksheet!$C$15=\"\",\"N/A\",INDEX($BH$4:$BL$19,MATCH(AQ$2,$BG$4:$BG$19,0),MATCH(Worksheet!$C$15,$BH$3:$BL$3,0)))","v":"N/A"},{"$f":"IF(Worksheet!$C$15=\"\",\"N/A\",INDEX($BH$4:$BL$19,MATCH(AR$2,$BG$4:$BG$19,0),MATCH(Worksheet!$C$15,$BH$3:$BL$3,0)))","v":"N/A"},{"$f":"IF(Worksheet!$C$15=\"\",\"N/A\",INDEX($BH$4:$BL$19,MATCH(AS$2,$BG$4:$BG$19,0),MATCH(Worksheet!$C$15,$BH$3:$BL$3,0)))","v":"N/A"},{"$f":"IF(Worksheet!$C$15=\"\",\"N/A\",INDEX($BH$4:$BL$19,MATCH(AT$2,$BG$4:$BG$19,0),MATCH(Worksheet!$C$15,$BH$3:$BL$3,0)))","v":"N/A"},{"$f":"IF(Worksheet!$C$15=\"\",\"N/A\",INDEX($BH$4:$BL$19,MATCH(AU$2,$BG$4:$BG$19,0),MATCH(Worksheet!$C$15,$BH$3:$BL$3,0)))","v":"N/A"},{"$f":"IF(Worksheet!$C$15=\"\",\"N/A\",INDEX($BH$4:$BL$19,MATCH(AV$2,$BG$4:$BG$19,0),MATCH(Worksheet!$C$15,$BH$3:$BL$3,0)))","v":"N/A"},{"$f":"IF(Worksheet!$C$15=\"\",\"N/A\",INDEX($BH$4:$BL$19,MATCH(AW$2,$BG$4:$BG$19,0),MATCH(Worksheet!$C$15,$BH$3:$BL$3,0)))","v":"N/A"},{"$f":"IF(Worksheet!$C$15=\"\",\"N/A\",INDEX($BH$4:$BL$19,MATCH(AX$2,$BG$4:$BG$19,0),MATCH(Worksheet!$C$15,$BH$3:$BL$3,0)))","v":"N/A"},{"$f":"IF(Worksheet!$C$15=\"\",\"N/A\",INDEX($BH$4:$BL$19,MATCH(AY$2,$BG$4:$BG$19,0),MATCH(Worksheet!$C$15,$BH$3:$BL$3,0)))","v":"N/A"},{"$f":"IF(Worksheet!$C$15=\"\",\"N/A\",INDEX($BH$4:$BL$19,MATCH(AZ$2,$BG$4:$BG$19,0),MATCH(Worksheet!$C$15,$BH$3:$BL$3,0)))","v":"N/A"},{"$f":"IF(Worksheet!$C$15=\"\",\"N/A\",INDEX($BH$4:$BL$19,MATCH(BA$2,$BG$4:$BG$19,0),MATCH(Worksheet!$C$15,$BH$3:$BL$3,0)))","v":"N/A"},{"$f":"IF(Worksheet!$C$15=\"\",\"N/A\",INDEX($BH$4:$BL$19,MATCH(BB$2,$BG$4:$BG$19,0),MATCH(Worksheet!$C$15,$BH$3:$BL$3,0)))","v":"N/A"},{"$f":"IF(Worksheet!$C$15=\"\",\"N/A\",INDEX($BH$4:$BL$19,MATCH(BC$2,$BG$4:$BG$19,0),MATCH(Worksheet!$C$15,$BH$3:$BL$3,0)))","v":"N/A"},{"$f":"IF(Worksheet!$C$15=\"\",\"N/A\",INDEX($BH$4:$BL$19,MATCH(BD$2,$BG$4:$BG$19,0),MATCH(Worksheet!$C$15,$BH$3:$BL$3,0)))","v":"N/A"},{"$f":"IF(Worksheet!$C$15=\"\",\"N/A\",INDEX($BH$4:$BL$19,MATCH(BE$2,$BG$4:$BG$19,0),MATCH(Worksheet!$C$15,$BH$3:$BL$3,0)))","v":"N/A"}]
["Primary School",0.03,0.03,0.02,0.43,0.63,1.01,1.24,1.23,0.81,0.72,0.66,1.72,1.71,0.65,0.42,0.56000000000000005,1.21,0.91,1.81,1.43,0.6,0.47,0.9,0.64,0.75,0.73,1.1100000000000001,1.1100000000000001,0.98,0.19,1.68,0.98,1.44,0.54,0.69,1.24,0.63,0.63,0.67,1.59,{"$f":"IF(Worksheet!$C$15=\"\",\"N/A\",INDEX($BH$4:$BL$19,MATCH(AP$2,$BG$4:$BG$19,0),MATCH(Worksheet!$C$15,$BH$3:$BL$3,0)))","v":"N/A"},{"$f":"IF(Worksheet!$C$15=\"\",\"N/A\",INDEX($BH$4:$BL$19,MATCH(AQ$2,$BG$4:$BG$19,0),MATCH(Worksheet!$C$15,$BH$3:$BL$3,0)))","v":"N/A"},{"$f":"IF(Worksheet!$C$15=\"\",\"N/A\",INDEX($BH$4:$BL$19,MATCH(AR$2,$BG$4:$BG$19,0),MATCH(Worksheet!$C$15,$BH$3:$BL$3,0)))","v":"N/A"},{"$f":"IF(Worksheet!$C$15=\"\",\"N/A\",INDEX($BH$4:$BL$19,MATCH(AS$2,$BG$4:$BG$19,0),MATCH(Worksheet!$C$15,$BH$3:$BL$3,0)))","v":"N/A"},{"$f":"IF(Worksheet!$C$15=\"\",\"N/A\",INDEX($BH$4:$BL$19,MATCH(AT$2,$BG$4:$BG$19,0),MATCH(Worksheet!$C$15,$BH$3:$BL$3,0)))","v":"N/A"},{"$f":"IF(Worksheet!$C$15=\"\",\"N/A\",INDEX($BH$4:$BL$19,MATCH(AU$2,$BG$4:$BG$19,0),MATCH(Worksheet!$C$15,$BH$3:$BL$3,0)))","v":"N/A"},{"$f":"IF(Worksheet!$C$15=\"\",\"N/A\",INDEX($BH$4:$BL$19,MATCH(AV$2,$BG$4:$BG$19,0),MATCH(Worksheet!$C$15,$BH$3:$BL$3,0)))","v":"N/A"},{"$f":"IF(Worksheet!$C$15=\"\",\"N/A\",INDEX($BH$4:$BL$19,MATCH(AW$2,$BG$4:$BG$19,0),MATCH(Worksheet!$C$15,$BH$3:$BL$3,0)))","v":"N/A"},{"$f":"IF(Worksheet!$C$15=\"\",\"N/A\",INDEX($BH$4:$BL$19,MATCH(AX$2,$BG$4:$BG$19,0),MATCH(Worksheet!$C$15,$BH$3:$BL$3,0)))","v":"N/A"},{"$f":"IF(Worksheet!$C$15=\"\",\"N/A\",INDEX($BH$4:$BL$19,MATCH(AY$2,$BG$4:$BG$19,0),MATCH(Worksheet!$C$15,$BH$3:$BL$3,0)))","v":"N/A"},{"$f":"IF(Worksheet!$C$15=\"\",\"N/A\",INDEX($BH$4:$BL$19,MATCH(AZ$2,$BG$4:$BG$19,0),MATCH(Worksheet!$C$15,$BH$3:$BL$3,0)))","v":"N/A"},{"$f":"IF(Worksheet!$C$15=\"\",\"N/A\",INDEX($BH$4:$BL$19,MATCH(BA$2,$BG$4:$BG$19,0),MATCH(Worksheet!$C$15,$BH$3:$BL$3,0)))","v":"N/A"},{"$f":"IF(Worksheet!$C$15=\"\",\"N/A\",INDEX($BH$4:$BL$19,MATCH(BB$2,$BG$4:$BG$19,0),MATCH(Worksheet!$C$15,$BH$3:$BL$3,0)))","v":"N/A"},{"$f":"IF(Worksheet!$C$15=\"\",\"N/A\",INDEX($BH$4:$BL$19,MATCH(BC$2,$BG$4:$BG$19,0),MATCH(Worksheet!$C$15,$BH$3:$BL$3,0)))","v":"N/A"},{"$f":"IF(Worksheet!$C$15=\"\",\"N/A\",INDEX($BH$4:$BL$19,MATCH(BD$2,$BG$4:$BG$19,0),MATCH(Worksheet!$C$15,$BH$3:$BL$3,0)))","v":"N/A"},{"$f":"IF(Worksheet!$C$15=\"\",\"N/A\",INDEX($BH$4:$BL$19,MATCH(BE$2,$BG$4:$BG$19,0),MATCH(Worksheet!$C$15,$BH$3:$BL$3,0)))","v":"N/A"}]
["Religious Building",0.03,0.03,0.02,1.53,0.63,1.01,1.24,1.23,0.81,0.72,0.66,1.72,1.71,0.65,0.42,0.56000000000000005,1.21,0.91,1.81,1.43,0.6,0.47,0.9,0.64,0.75,0.73,1.1100000000000001,1.1100000000000001,0.98,0.19,1.68,0.98,1.44,0.54,0.69,1.24,0.63,0.63,0.67,1.59,{"$f":"IF(Worksheet!$C$15=\"\",\"N/A\",INDEX($BH$4:$BL$19,MATCH(AP$2,$BG$4:$BG$19,0),MATCH(Worksheet!$C$15,$BH$3:$BL$3,0)))","v":"N/A"},{"$f":"IF(Worksheet!$C$15=\"\",\"N/A\",INDEX($BH$4:$BL$19,MATCH(AQ$2,$BG$4:$BG$19,0),MATCH(Worksheet!$C$15,$BH$3:$BL$3,0)))","v":"N/A"},{"$f":"IF(Worksheet!$C$15=\"\",\"N/A\",INDEX($BH$4:$BL$19,MATCH(AR$2,$BG$4:$BG$19,0),MATCH(Worksheet!$C$15,$BH$3:$BL$3,0)))","v":"N/A"},{"$f":"IF(Worksheet!$C$15=\"\",\"N/A\",INDEX($BH$4:$BL$19,MATCH(AS$2,$BG$4:$BG$19,0),MATCH(Worksheet!$C$15,$BH$3:$BL$3,0)))","v":"N/A"},{"$f":"IF(Worksheet!$C$15=\"\",\"N/A\",INDEX($BH$4:$BL$19,MATCH(AT$2,$BG$4:$BG$19,0),MATCH(Worksheet!$C$15,$BH$3:$BL$3,0)))","v":"N/A"},{"$f":"IF(Worksheet!$C$15=\"\",\"N/A\",INDEX($BH$4:$BL$19,MATCH(AU$2,$BG$4:$BG$19,0),MATCH(Worksheet!$C$15,$BH$3:$BL$3,0)))","v":"N/A"},{"$f":"IF(Worksheet!$C$15=\"\",\"N/A\",INDEX($BH$4:$BL$19,MATCH(AV$2,$BG$4:$BG$19,0),MATCH(Worksheet!$C$15,$BH$3:$BL$3,0)))","v":"N/A"},{"$f":"IF(Worksheet!$C$15=\"\",\"N/A\",INDEX($BH$4:$BL$19,MATCH(AW$2,$BG$4:$BG$19,0),MATCH(Worksheet!$C$15,$BH$3:$BL$3,0)))","v":"N/A"},{"$f":"IF(Worksheet!$C$15=\"\",\"N/A\",INDEX($BH$4:$BL$19,MATCH(AX$2,$BG$4:$BG$19,0),MATCH(Worksheet!$C$15,$BH$3:$BL$3,0)))","v":"N/A"},{"$f":"IF(Worksheet!$C$15=\"\",\"N/A\",INDEX($BH$4:$BL$19,MATCH(AY$2,$BG$4:$BG$19,0),MATCH(Worksheet!$C$15,$BH$3:$BL$3,0)))","v":"N/A"},{"$f":"IF(Worksheet!$C$15=\"\",\"N/A\",INDEX($BH$4:$BL$19,MATCH(AZ$2,$BG$4:$BG$19,0),MATCH(Worksheet!$C$15,$BH$3:$BL$3,0)))","v":"N/A"},{"$f":"IF(Worksheet!$C$15=\"\",\"N/A\",INDEX($BH$4:$BL$19,MATCH(BA$2,$BG$4:$BG$19,0),MATCH(Worksheet!$C$15,$BH$3:$BL$3,0)))","v":"N/A"},{"$f":"IF(Worksheet!$C$15=\"\",\"N/A\",INDEX($BH$4:$BL$19,MATCH(BB$2,$BG$4:$BG$19,0),MATCH(Worksheet!$C$15,$BH$3:$BL$3,0)))","v":"N/A"},{"$f":"IF(Worksheet!$C$15=\"\",\"N/A\",INDEX($BH$4:$BL$19,MATCH(BC$2,$BG$4:$BG$19,0),MATCH(Worksheet!$C$15,$BH$3:$BL$3,0)))","v":"N/A"},{"$f":"IF(Worksheet!$C$15=\"\",\"N/A\",INDEX($BH$4:$BL$19,MATCH(BD$2,$BG$4:$BG$19,0),MATCH(Worksheet!$C$15,$BH$3:$BL$3,0)))","v":"N/A"},{"$f":"IF(Worksheet!$C$15=\"\",\"N/A\",INDEX($BH$4:$BL$19,MATCH(BE$2,$BG$4:$BG$19,0),MATCH(Worksheet!$C$15,$BH$3:$BL$3,0)))","v":"N/A"}]
["Retail",0.03,0.03,0.02,0.43,0.63,1.01,1.24,1.23,0.81,0.72,0.66,1.72,1.71,0.65,0.42,0.56000000000000005,1.21,0.91,1.81,1.43,0.6,0.47,0.9,0.64,0.75,0.73,1.1100000000000001,1.1100000000000001,0.98,0.19,1.68,0.98,1.44,0.54,0.69,1.24,0.63,0.63,0.67,1.59,{"$f":"IF(Worksheet!$C$15=\"\",\"N/A\",INDEX($BH$4:$BL$19,MATCH(AP$2,$BG$4:$BG$19,0),MATCH(Worksheet!$C$15,$BH$3:$BL$3,0)))","v":"N/A"},{"$f":"IF(Worksheet!$C$15=\"\",\"N/A\",INDEX($BH$4:$BL$19,MATCH(AQ$2,$BG$4:$BG$19,0),MATCH(Worksheet!$C$15,$BH$3:$BL$3,0)))","v":"N/A"},{"$f":"IF(Worksheet!$C$15=\"\",\"N/A\",INDEX($BH$4:$BL$19,MATCH(AR$2,$BG$4:$BG$19,0),MATCH(Worksheet!$C$15,$BH$3:$BL$3,0)))","v":"N/A"},{"$f":"IF(Worksheet!$C$15=\"\",\"N/A\",INDEX($BH$4:$BL$19,MATCH(AS$2,$BG$4:$BG$19,0),MATCH(Worksheet!$C$15,$BH$3:$BL$3,0)))","v":"N/A"},{"$f":"IF(Worksheet!$C$15=\"\",\"N/A\",INDEX($BH$4:$BL$19,MATCH(AT$2,$BG$4:$BG$19,0),MATCH(Worksheet!$C$15,$BH$3:$BL$3,0)))","v":"N/A"},{"$f":"IF(Worksheet!$C$15=\"\",\"N/A\",INDEX($BH$4:$BL$19,MATCH(AU$2,$BG$4:$BG$19,0),MATCH(Worksheet!$C$15,$BH$3:$BL$3,0)))","v":"N/A"},{"$f":"IF(Worksheet!$C$15=\"\",\"N/A\",INDEX($BH$4:$BL$19,MATCH(AV$2,$BG$4:$BG$19,0),MATCH(Worksheet!$C$15,$BH$3:$BL$3,0)))","v":"N/A"},{"$f":"IF(Worksheet!$C$15=\"\",\"N/A\",INDEX($BH$4:$BL$19,MATCH(AW$2,$BG$4:$BG$19,0),MATCH(Worksheet!$C$15,$BH$3:$BL$3,0)))","v":"N/A"},{"$f":"IF(Worksheet!$C$15=\"\",\"N/A\",INDEX($BH$4:$BL$19,MATCH(AX$2,$BG$4:$BG$19,0),MATCH(Worksheet!$C$15,$BH$3:$BL$3,0)))","v":"N/A"},{"$f":"IF(Worksheet!$C$15=\"\",\"N/A\",INDEX($BH$4:$BL$19,MATCH(AY$2,$BG$4:$BG$19,0),MATCH(Worksheet!$C$15,$BH$3:$BL$3,0)))","v":"N/A"},{"$f":"IF(Worksheet!$C$15=\"\",\"N/A\",INDEX($BH$4:$BL$19,MATCH(AZ$2,$BG$4:$BG$19,0),MATCH(Worksheet!$C$15,$BH$3:$BL$3,0)))","v":"N/A"},{"$f":"IF(Worksheet!$C$15=\"\",\"N/A\",INDEX($BH$4:$BL$19,MATCH(BA$2,$BG$4:$BG$19,0),MATCH(Worksheet!$C$15,$BH$3:$BL$3,0)))","v":"N/A"},{"$f":"IF(Worksheet!$C$15=\"\",\"N/A\",INDEX($BH$4:$BL$19,MATCH(BB$2,$BG$4:$BG$19,0),MATCH(Worksheet!$C$15,$BH$3:$BL$3,0)))","v":"N/A"},{"$f":"IF(Worksheet!$C$15=\"\",\"N/A\",INDEX($BH$4:$BL$19,MATCH(BC$2,$BG$4:$BG$19,0),MATCH(Worksheet!$C$15,$BH$3:$BL$3,0)))","v":"N/A"},{"$f":"IF(Worksheet!$C$15=\"\",\"N/A\",INDEX($BH$4:$BL$19,MATCH(BD$2,$BG$4:$BG$19,0),MATCH(Worksheet!$C$15,$BH$3:$BL$3,0)))","v":"N/A"},{"$f":"IF(Worksheet!$C$15=\"\",\"N/A\",INDEX($BH$4:$BL$19,MATCH(BE$2,$BG$4:$BG$19,0),MATCH(Worksheet!$C$15,$BH$3:$BL$3,0)))","v":"N/A"}]
["Secondary School",0.03,0.03,0.02,0.43,0.63,1.01,1.24,1.23,0.81,0.72,0.66,1.72,1.71,0.65,0.42,0.56000000000000005,1.21,0.91,1.81,1.43,0.6,0.47,0.9,0.64,0.75,0.73,1.1100000000000001,1.1100000000000001,0.98,0.19,1.68,0.98,1.44,0.54,0.69,1.24,0.63,0.63,0.67,1.59,{"$f":"IF(Worksheet!$C$15=\"\",\"N/A\",INDEX($BH$4:$BL$19,MATCH(AP$2,$BG$4:$BG$19,0),MATCH(Worksheet!$C$15,$BH$3:$BL$3,0)))","v":"N/A"},{"$f":"IF(Worksheet!$C$15=\"\",\"N/A\",INDEX($BH$4:$BL$19,MATCH(AQ$2,$BG$4:$BG$19,0),MATCH(Worksheet!$C$15,$BH$3:$BL$3,0)))","v":"N/A"},{"$f":"IF(Worksheet!$C$15=\"\",\"N/A\",INDEX($BH$4:$BL$19,MATCH(AR$2,$BG$4:$BG$19,0),MATCH(Worksheet!$C$15,$BH$3:$BL$3,0)))","v":"N/A"},{"$f":"IF(Worksheet!$C$15=\"\",\"N/A\",INDEX($BH$4:$BL$19,MATCH(AS$2,$BG$4:$BG$19,0),MATCH(Worksheet!$C$15,$BH$3:$BL$3,0)))","v":"N/A"},{"$f":"IF(Worksheet!$C$15=\"\",\"N/A\",INDEX($BH$4:$BL$19,MATCH(AT$2,$BG$4:$BG$19,0),MATCH(Worksheet!$C$15,$BH$3:$BL$3,0)))","v":"N/A"},{"$f":"IF(Worksheet!$C$15=\"\",\"N/A\",INDEX($BH$4:$BL$19,MATCH(AU$2,$BG$4:$BG$19,0),MATCH(Worksheet!$C$15,$BH$3:$BL$3,0)))","v":"N/A"},{"$f":"IF(Worksheet!$C$15=\"\",\"N/A\",INDEX($BH$4:$BL$19,MATCH(AV$2,$BG$4:$BG$19,0),MATCH(Worksheet!$C$15,$BH$3:$BL$3,0)))","v":"N/A"},{"$f":"IF(Worksheet!$C$15=\"\",\"N/A\",INDEX($BH$4:$BL$19,MATCH(AW$2,$BG$4:$BG$19,0),MATCH(Worksheet!$C$15,$BH$3:$BL$3,0)))","v":"N/A"},{"$f":"IF(Worksheet!$C$15=\"\",\"N/A\",INDEX($BH$4:$BL$19,MATCH(AX$2,$BG$4:$BG$19,0),MATCH(Worksheet!$C$15,$BH$3:$BL$3,0)))","v":"N/A"},{"$f":"IF(Worksheet!$C$15=\"\",\"N/A\",INDEX($BH$4:$BL$19,MATCH(AY$2,$BG$4:$BG$19,0),MATCH(Worksheet!$C$15,$BH$3:$BL$3,0)))","v":"N/A"},{"$f":"IF(Worksheet!$C$15=\"\",\"N/A\",INDEX($BH$4:$BL$19,MATCH(AZ$2,$BG$4:$BG$19,0),MATCH(Worksheet!$C$15,$BH$3:$BL$3,0)))","v":"N/A"},{"$f":"IF(Worksheet!$C$15=\"\",\"N/A\",INDEX($BH$4:$BL$19,MATCH(BA$2,$BG$4:$BG$19,0),MATCH(Worksheet!$C$15,$BH$3:$BL$3,0)))","v":"N/A"},{"$f":"IF(Worksheet!$C$15=\"\",\"N/A\",INDEX($BH$4:$BL$19,MATCH(BB$2,$BG$4:$BG$19,0),MATCH(Worksheet!$C$15,$BH$3:$BL$3,0)))","v":"N/A"},{"$f":"IF(Worksheet!$C$15=\"\",\"N/A\",INDEX($BH$4:$BL$19,MATCH(BC$2,$BG$4:$BG$19,0),MATCH(Worksheet!$C$15,$BH$3:$BL$3,0)))","v":"N/A"},{"$f":"IF(Worksheet!$C$15=\"\",\"N/A\",INDEX($BH$4:$BL$19,MATCH(BD$2,$BG$4:$BG$19,0),MATCH(Worksheet!$C$15,$BH$3:$BL$3,0)))","v":"N/A"},{"$f":"IF(Worksheet!$C$15=\"\",\"N/A\",INDEX($BH$4:$BL$19,MATCH(BE$2,$BG$4:$BG$19,0),MATCH(Worksheet!$C$15,$BH$3:$BL$3,0)))","v":"N/A"}]
["Sports Arena",0.03,0.03,0.02,0.43,0.63,1.01,1.24,1.23,0.81,0.72,0.66,1.72,1.71,0.65,0.42,0.56000000000000005,1.21,0.91,1.81,1.43,0.6,0.47,0.9,0.64,0.75,0.73,1.1100000000000001,1.1100000000000001,0.98,0.19,1.68,0.98,1.44,0.54,0.69,1.24,0.63,0.63,0.67,1.59,{"$f":"IF(Worksheet!$C$15=\"\",\"N/A\",INDEX($BH$4:$BL$19,MATCH(AP$2,$BG$4:$BG$19,0),MATCH(Worksheet!$C$15,$BH$3:$BL$3,0)))","v":"N/A"},{"$f":"IF(Worksheet!$C$15=\"\",\"N/A\",INDEX($BH$4:$BL$19,MATCH(AQ$2,$BG$4:$BG$19,0),MATCH(Worksheet!$C$15,$BH$3:$BL$3,0)))","v":"N/A"},{"$f":"IF(Worksheet!$C$15=\"\",\"N/A\",INDEX($BH$4:$BL$19,MATCH(AR$2,$BG$4:$BG$19,0),MATCH(Worksheet!$C$15,$BH$3:$BL$3,0)))","v":"N/A"},{"$f":"IF(Worksheet!$C$15=\"\",\"N/A\",INDEX($BH$4:$BL$19,MATCH(AS$2,$BG$4:$BG$19,0),MATCH(Worksheet!$C$15,$BH$3:$BL$3,0)))","v":"N/A"},{"$f":"IF(Worksheet!$C$15=\"\",\"N/A\",INDEX($BH$4:$BL$19,MATCH(AT$2,$BG$4:$BG$19,0),MATCH(Worksheet!$C$15,$BH$3:$BL$3,0)))","v":"N/A"},{"$f":"IF(Worksheet!$C$15=\"\",\"N/A\",INDEX($BH$4:$BL$19,MATCH(AU$2,$BG$4:$BG$19,0),MATCH(Worksheet!$C$15,$BH$3:$BL$3,0)))","v":"N/A"},{"$f":"IF(Worksheet!$C$15=\"\",\"N/A\",INDEX($BH$4:$BL$19,MATCH(AV$2,$BG$4:$BG$19,0),MATCH(Worksheet!$C$15,$BH$3:$BL$3,0)))","v":"N/A"},{"$f":"IF(Worksheet!$C$15=\"\",\"N/A\",INDEX($BH$4:$BL$19,MATCH(AW$2,$BG$4:$BG$19,0),MATCH(Worksheet!$C$15,$BH$3:$BL$3,0)))","v":"N/A"},{"$f":"IF(Worksheet!$C$15=\"\",\"N/A\",INDEX($BH$4:$BL$19,MATCH(AX$2,$BG$4:$BG$19,0),MATCH(Worksheet!$C$15,$BH$3:$BL$3,0)))","v":"N/A"},{"$f":"IF(Worksheet!$C$15=\"\",\"N/A\",INDEX($BH$4:$BL$19,MATCH(AY$2,$BG$4:$BG$19,0),MATCH(Worksheet!$C$15,$BH$3:$BL$3,0)))","v":"N/A"},{"$f":"IF(Worksheet!$C$15=\"\",\"N/A\",INDEX($BH$4:$BL$19,MATCH(AZ$2,$BG$4:$BG$19,0),MATCH(Worksheet!$C$15,$BH$3:$BL$3,0)))","v":"N/A"},{"$f":"IF(Worksheet!$C$15=\"\",\"N/A\",INDEX($BH$4:$BL$19,MATCH(BA$2,$BG$4:$BG$19,0),MATCH(Worksheet!$C$15,$BH$3:$BL$3,0)))","v":"N/A"},{"$f":"IF(Worksheet!$C$15=\"\",\"N/A\",INDEX($BH$4:$BL$19,MATCH(BB$2,$BG$4:$BG$19,0),MATCH(Worksheet!$C$15,$BH$3:$BL$3,0)))","v":"N/A"},{"$f":"IF(Worksheet!$C$15=\"\",\"N/A\",INDEX($BH$4:$BL$19,MATCH(BC$2,$BG$4:$BG$19,0),MATCH(Worksheet!$C$15,$BH$3:$BL$3,0)))","v":"N/A"},{"$f":"IF(Worksheet!$C$15=\"\",\"N/A\",INDEX($BH$4:$BL$19,MATCH(BD$2,$BG$4:$BG$19,0),MATCH(Worksheet!$C$15,$BH$3:$BL$3,0)))","v":"N/A"},{"$f":"IF(Worksheet!$C$15=\"\",\"N/A\",INDEX($BH$4:$BL$19,MATCH(BE$2,$BG$4:$BG$19,0),MATCH(Worksheet!$C$15,$BH$3:$BL$3,0)))","v":"N/A"}]
["Town Hall",0.03,0.03,0.02,0.43,0.63,1.01,1.24,1.23,0.81,0.72,0.66,1.72,1.71,0.65,0.42,0.56000000000000005,1.21,0.91,1.81,1.43,0.6,0.47,0.9,0.64,0.75,0.73,1.1100000000000001,1.1100000000000001,0.98,0.19,1.68,0.98,1.44,0.54,0.69,1.24,0.63,0.63,0.67,1.59,{"$f":"IF(Worksheet!$C$15=\"\",\"N/A\",INDEX($BH$4:$BL$19,MATCH(AP$2,$BG$4:$BG$19,0),MATCH(Worksheet!$C$15,$BH$3:$BL$3,0)))","v":"N/A"},{"$f":"IF(Worksheet!$C$15=\"\",\"N/A\",INDEX($BH$4:$BL$19,MATCH(AQ$2,$BG$4:$BG$19,0),MATCH(Worksheet!$C$15,$BH$3:$BL$3,0)))","v":"N/A"},{"$f":"IF(Worksheet!$C$15=\"\",\"N/A\",INDEX($BH$4:$BL$19,MATCH(AR$2,$BG$4:$BG$19,0),MATCH(Worksheet!$C$15,$BH$3:$BL$3,0)))","v":"N/A"},{"$f":"IF(Worksheet!$C$15=\"\",\"N/A\",INDEX($BH$4:$BL$19,MATCH(AS$2,$BG$4:$BG$19,0),MATCH(Worksheet!$C$15,$BH$3:$BL$3,0)))","v":"N/A"},{"$f":"IF(Worksheet!$C$15=\"\",\"N/A\",INDEX($BH$4:$BL$19,MATCH(AT$2,$BG$4:$BG$19,0),MATCH(Worksheet!$C$15,$BH$3:$BL$3,0)))","v":"N/A"},{"$f":"IF(Worksheet!$C$15=\"\",\"N/A\",INDEX($BH$4:$BL$19,MATCH(AU$2,$BG$4:$BG$19,0),MATCH(Worksheet!$C$15,$BH$3:$BL$3,0)))","v":"N/A"},{"$f":"IF(Worksheet!$C$15=\"\",\"N/A\",INDEX($BH$4:$BL$19,MATCH(AV$2,$BG$4:$BG$19,0),MATCH(Worksheet!$C$15,$BH$3:$BL$3,0)))","v":"N/A"},{"$f":"IF(Worksheet!$C$15=\"\",\"N/A\",INDEX($BH$4:$BL$19,MATCH(AW$2,$BG$4:$BG$19,0),MATCH(Worksheet!$C$15,$BH$3:$BL$3,0)))","v":"N/A"},{"$f":"IF(Worksheet!$C$15=\"\",\"N/A\",INDEX($BH$4:$BL$19,MATCH(AX$2,$BG$4:$BG$19,0),MATCH(Worksheet!$C$15,$BH$3:$BL$3,0)))","v":"N/A"},{"$f":"IF(Worksheet!$C$15=\"\",\"N/A\",INDEX($BH$4:$BL$19,MATCH(AY$2,$BG$4:$BG$19,0),MATCH(Worksheet!$C$15,$BH$3:$BL$3,0)))","v":"N/A"},{"$f":"IF(Worksheet!$C$15=\"\",\"N/A\",INDEX($BH$4:$BL$19,MATCH(AZ$2,$BG$4:$BG$19,0),MATCH(Worksheet!$C$15,$BH$3:$BL$3,0)))","v":"N/A"},{"$f":"IF(Worksheet!$C$15=\"\",\"N/A\",INDEX($BH$4:$BL$19,MATCH(BA$2,$BG$4:$BG$19,0),MATCH(Worksheet!$C$15,$BH$3:$BL$3,0)))","v":"N/A"},{"$f":"IF(Worksheet!$C$15=\"\",\"N/A\",INDEX($BH$4:$BL$19,MATCH(BB$2,$BG$4:$BG$19,0),MATCH(Worksheet!$C$15,$BH$3:$BL$3,0)))","v":"N/A"},{"$f":"IF(Worksheet!$C$15=\"\",\"N/A\",INDEX($BH$4:$BL$19,MATCH(BC$2,$BG$4:$BG$19,0),MATCH(Worksheet!$C$15,$BH$3:$BL$3,0)))","v":"N/A"},{"$f":"IF(Worksheet!$C$15=\"\",\"N/A\",INDEX($BH$4:$BL$19,MATCH(BD$2,$BG$4:$BG$19,0),MATCH(Worksheet!$C$15,$BH$3:$BL$3,0)))","v":"N/A"},{"$f":"IF(Worksheet!$C$15=\"\",\"N/A\",INDEX($BH$4:$BL$19,MATCH(BE$2,$BG$4:$BG$19,0),MATCH(Worksheet!$C$15,$BH$3:$BL$3,0)))","v":"N/A"}]
["Transportation",0.03,0.03,0.02,0.43,0.63,1.01,1.24,1.23,0.81,0.72,0.66,1.72,1.71,0.65,0.42,0.56000000000000005,1.21,0.91,1.81,1.43,0.6,0.47,0.9,0.64,0.75,0.73,1.1100000000000001,1.1100000000000001,0.98,0.19,1.68,0.98,1.44,0.54,0.69,1.24,0.63,0.63,0.67,1.59,{"$f":"IF(Worksheet!$C$15=\"\",\"N/A\",INDEX($BH$4:$BL$19,MATCH(AP$2,$BG$4:$BG$19,0),MATCH(Worksheet!$C$15,$BH$3:$BL$3,0)))","v":"N/A"},{"$f":"IF(Worksheet!$C$15=\"\",\"N/A\",INDEX($BH$4:$BL$19,MATCH(AQ$2,$BG$4:$BG$19,0),MATCH(Worksheet!$C$15,$BH$3:$BL$3,0)))","v":"N/A"},{"$f":"IF(Worksheet!$C$15=\"\",\"N/A\",INDEX($BH$4:$BL$19,MATCH(AR$2,$BG$4:$BG$19,0),MATCH(Worksheet!$C$15,$BH$3:$BL$3,0)))","v":"N/A"},{"$f":"IF(Worksheet!$C$15=\"\",\"N/A\",INDEX($BH$4:$BL$19,MATCH(AS$2,$BG$4:$BG$19,0),MATCH(Worksheet!$C$15,$BH$3:$BL$3,0)))","v":"N/A"},{"$f":"IF(Worksheet!$C$15=\"\",\"N/A\",INDEX($BH$4:$BL$19,MATCH(AT$2,$BG$4:$BG$19,0),MATCH(Worksheet!$C$15,$BH$3:$BL$3,0)))","v":"N/A"},{"$f":"IF(Worksheet!$C$15=\"\",\"N/A\",INDEX($BH$4:$BL$19,MATCH(AU$2,$BG$4:$BG$19,0),MATCH(Worksheet!$C$15,$BH$3:$BL$3,0)))","v":"N/A"},{"$f":"IF(Worksheet!$C$15=\"\",\"N/A\",INDEX($BH$4:$BL$19,MATCH(AV$2,$BG$4:$BG$19,0),MATCH(Worksheet!$C$15,$BH$3:$BL$3,0)))","v":"N/A"},{"$f":"IF(Worksheet!$C$15=\"\",\"N/A\",INDEX($BH$4:$BL$19,MATCH(AW$2,$BG$4:$BG$19,0),MATCH(Worksheet!$C$15,$BH$3:$BL$3,0)))","v":"N/A"},{"$f":"IF(Worksheet!$C$15=\"\",\"N/A\",INDEX($BH$4:$BL$19,MATCH(AX$2,$BG$4:$BG$19,0),MATCH(Worksheet!$C$15,$BH$3:$BL$3,0)))","v":"N/A"},{"$f":"IF(Worksheet!$C$15=\"\",\"N/A\",INDEX($BH$4:$BL$19,MATCH(AY$2,$BG$4:$BG$19,0),MATCH(Worksheet!$C$15,$BH$3:$BL$3,0)))","v":"N/A"},{"$f":"IF(Worksheet!$C$15=\"\",\"N/A\",INDEX($BH$4:$BL$19,MATCH(AZ$2,$BG$4:$BG$19,0),MATCH(Worksheet!$C$15,$BH$3:$BL$3,0)))","v":"N/A"},{"$f":"IF(Worksheet!$C$15=\"\",\"N/A\",INDEX($BH$4:$BL$19,MATCH(BA$2,$BG$4:$BG$19,0),MATCH(Worksheet!$C$15,$BH$3:$BL$3,0)))","v":"N/A"},{"$f":"IF(Worksheet!$C$15=\"\",\"N/A\",INDEX($BH$4:$BL$19,MATCH(BB$2,$BG$4:$BG$19,0),MATCH(Worksheet!$C$15,$BH$3:$BL$3,0)))","v":"N/A"},{"$f":"IF(Worksheet!$C$15=\"\",\"N/A\",INDEX($BH$4:$BL$19,MATCH(BC$2,$BG$4:$BG$19,0),MATCH(Worksheet!$C$15,$BH$3:$BL$3,0)))","v":"N/A"},{"$f":"IF(Worksheet!$C$15=\"\",\"N/A\",INDEX($BH$4:$BL$19,MATCH(BD$2,$BG$4:$BG$19,0),MATCH(Worksheet!$C$15,$BH$3:$BL$3,0)))","v":"N/A"},{"$f":"IF(Worksheet!$C$15=\"\",\"N/A\",INDEX($BH$4:$BL$19,MATCH(BE$2,$BG$4:$BG$19,0),MATCH(Worksheet!$C$15,$BH$3:$BL$3,0)))","v":"N/A"}]
["University",0.03,0.03,0.02,0.43,0.63,1.01,1.24,1.23,0.81,0.72,0.66,1.72,1.71,0.65,0.42,0.56000000000000005,1.21,0.91,1.81,1.43,0.6,0.47,0.9,0.64,0.75,0.73,1.1100000000000001,1.1100000000000001,0.98,0.19,1.68,0.98,1.44,0.54,0.69,1.24,0.63,0.63,0.67,1.59,{"$f":"IF(Worksheet!$C$15=\"\",\"N/A\",INDEX($BH$4:$BL$19,MATCH(AP$2,$BG$4:$BG$19,0),MATCH(Worksheet!$C$15,$BH$3:$BL$3,0)))","v":"N/A"},{"$f":"IF(Worksheet!$C$15=\"\",\"N/A\",INDEX($BH$4:$BL$19,MATCH(AQ$2,$BG$4:$BG$19,0),MATCH(Worksheet!$C$15,$BH$3:$BL$3,0)))","v":"N/A"},{"$f":"IF(Worksheet!$C$15=\"\",\"N/A\",INDEX($BH$4:$BL$19,MATCH(AR$2,$BG$4:$BG$19,0),MATCH(Worksheet!$C$15,$BH$3:$BL$3,0)))","v":"N/A"},{"$f":"IF(Worksheet!$C$15=\"\",\"N/A\",INDEX($BH$4:$BL$19,MATCH(AS$2,$BG$4:$BG$19,0),MATCH(Worksheet!$C$15,$BH$3:$BL$3,0)))","v":"N/A"},{"$f":"IF(Worksheet!$C$15=\"\",\"N/A\",INDEX($BH$4:$BL$19,MATCH(AT$2,$BG$4:$BG$19,0),MATCH(Worksheet!$C$15,$BH$3:$BL$3,0)))","v":"N/A"},{"$f":"IF(Worksheet!$C$15=\"\",\"N/A\",INDEX($BH$4:$BL$19,MATCH(AU$2,$BG$4:$BG$19,0),MATCH(Worksheet!$C$15,$BH$3:$BL$3,0)))","v":"N/A"},{"$f":"IF(Worksheet!$C$15=\"\",\"N/A\",INDEX($BH$4:$BL$19,MATCH(AV$2,$BG$4:$BG$19,0),MATCH(Worksheet!$C$15,$BH$3:$BL$3,0)))","v":"N/A"},{"$f":"IF(Worksheet!$C$15=\"\",\"N/A\",INDEX($BH$4:$BL$19,MATCH(AW$2,$BG$4:$BG$19,0),MATCH(Worksheet!$C$15,$BH$3:$BL$3,0)))","v":"N/A"},{"$f":"IF(Worksheet!$C$15=\"\",\"N/A\",INDEX($BH$4:$BL$19,MATCH(AX$2,$BG$4:$BG$19,0),MATCH(Worksheet!$C$15,$BH$3:$BL$3,0)))","v":"N/A"},{"$f":"IF(Worksheet!$C$15=\"\",\"N/A\",INDEX($BH$4:$BL$19,MATCH(AY$2,$BG$4:$BG$19,0),MATCH(Worksheet!$C$15,$BH$3:$BL$3,0)))","v":"N/A"},{"$f":"IF(Worksheet!$C$15=\"\",\"N/A\",INDEX($BH$4:$BL$19,MATCH(AZ$2,$BG$4:$BG$19,0),MATCH(Worksheet!$C$15,$BH$3:$BL$3,0)))","v":"N/A"},{"$f":"IF(Worksheet!$C$15=\"\",\"N/A\",INDEX($BH$4:$BL$19,MATCH(BA$2,$BG$4:$BG$19,0),MATCH(Worksheet!$C$15,$BH$3:$BL$3,0)))","v":"N/A"},{"$f":"IF(Worksheet!$C$15=\"\",\"N/A\",INDEX($BH$4:$BL$19,MATCH(BB$2,$BG$4:$BG$19,0),MATCH(Worksheet!$C$15,$BH$3:$BL$3,0)))","v":"N/A"},{"$f":"IF(Worksheet!$C$15=\"\",\"N/A\",INDEX($BH$4:$BL$19,MATCH(BC$2,$BG$4:$BG$19,0),MATCH(Worksheet!$C$15,$BH$3:$BL$3,0)))","v":"N/A"},{"$f":"IF(Worksheet!$C$15=\"\",\"N/A\",INDEX($BH$4:$BL$19,MATCH(BD$2,$BG$4:$BG$19,0),MATCH(Worksheet!$C$15,$BH$3:$BL$3,0)))","v":"N/A"},{"$f":"IF(Worksheet!$C$15=\"\",\"N/A\",INDEX($BH$4:$BL$19,MATCH(BE$2,$BG$4:$BG$19,0),MATCH(Worksheet!$C$15,$BH$3:$BL$3,0)))","v":"N/A"}]
["Warehouse",0.03,0.03,0.02,0.43,0.63,1.01,1.24,1.23,0.81,0.72,0.66,1.72,1.71,0.65,0.42,0.56000000000000005,1.21,0.91,1.81,1.43,0.6,0.47,0.9,0.64,0.75,0.73,1.1100000000000001,1.1100000000000001,0.98,0.19,1.68,0.98,1.44,0.54,0.69,1.24,0.63,0.63,0.67,1.59,{"$f":"IF(Worksheet!$C$15=\"\",\"N/A\",INDEX($BH$4:$BL$19,MATCH(AP$2,$BG$4:$BG$19,0),MATCH(Worksheet!$C$15,$BH$3:$BL$3,0)))","v":"N/A"},{"$f":"IF(Worksheet!$C$15=\"\",\"N/A\",INDEX($BH$4:$BL$19,MATCH(AQ$2,$BG$4:$BG$19,0),MATCH(Worksheet!$C$15,$BH$3:$BL$3,0)))","v":"N/A"},{"$f":"IF(Worksheet!$C$15=\"\",\"N/A\",INDEX($BH$4:$BL$19,MATCH(AR$2,$BG$4:$BG$19,0),MATCH(Worksheet!$C$15,$BH$3:$BL$3,0)))","v":"N/A"},{"$f":"IF(Worksheet!$C$15=\"\",\"N/A\",INDEX($BH$4:$BL$19,MATCH(AS$2,$BG$4:$BG$19,0),MATCH(Worksheet!$C$15,$BH$3:$BL$3,0)))","v":"N/A"},{"$f":"IF(Worksheet!$C$15=\"\",\"N/A\",INDEX($BH$4:$BL$19,MATCH(AT$2,$BG$4:$BG$19,0),MATCH(Worksheet!$C$15,$BH$3:$BL$3,0)))","v":"N/A"},{"$f":"IF(Worksheet!$C$15=\"\",\"N/A\",INDEX($BH$4:$BL$19,MATCH(AU$2,$BG$4:$BG$19,0),MATCH(Worksheet!$C$15,$BH$3:$BL$3,0)))","v":"N/A"},{"$f":"IF(Worksheet!$C$15=\"\",\"N/A\",INDEX($BH$4:$BL$19,MATCH(AV$2,$BG$4:$BG$19,0),MATCH(Worksheet!$C$15,$BH$3:$BL$3,0)))","v":"N/A"},{"$f":"IF(Worksheet!$C$15=\"\",\"N/A\",INDEX($BH$4:$BL$19,MATCH(AW$2,$BG$4:$BG$19,0),MATCH(Worksheet!$C$15,$BH$3:$BL$3,0)))","v":"N/A"},{"$f":"IF(Worksheet!$C$15=\"\",\"N/A\",INDEX($BH$4:$BL$19,MATCH(AX$2,$BG$4:$BG$19,0),MATCH(Worksheet!$C$15,$BH$3:$BL$3,0)))","v":"N/A"},{"$f":"IF(Worksheet!$C$15=\"\",\"N/A\",INDEX($BH$4:$BL$19,MATCH(AY$2,$BG$4:$BG$19,0),MATCH(Worksheet!$C$15,$BH$3:$BL$3,0)))","v":"N/A"},{"$f":"IF(Worksheet!$C$15=\"\",\"N/A\",INDEX($BH$4:$BL$19,MATCH(AZ$2,$BG$4:$BG$19,0),MATCH(Worksheet!$C$15,$BH$3:$BL$3,0)))","v":"N/A"},{"$f":"IF(Worksheet!$C$15=\"\",\"N/A\",INDEX($BH$4:$BL$19,MATCH(BA$2,$BG$4:$BG$19,0),MATCH(Worksheet!$C$15,$BH$3:$BL$3,0)))","v":"N/A"},{"$f":"IF(Worksheet!$C$15=\"\",\"N/A\",INDEX($BH$4:$BL$19,MATCH(BB$2,$BG$4:$BG$19,0),MATCH(Worksheet!$C$15,$BH$3:$BL$3,0)))","v":"N/A"},{"$f":"IF(Worksheet!$C$15=\"\",\"N/A\",INDEX($BH$4:$BL$19,MATCH(BC$2,$BG$4:$BG$19,0),MATCH(Worksheet!$C$15,$BH$3:$BL$3,0)))","v":"N/A"},{"$f":"IF(Worksheet!$C$15=\"\",\"N/A\",INDEX($BH$4:$BL$19,MATCH(BD$2,$BG$4:$BG$19,0),MATCH(Worksheet!$C$15,$BH$3:$BL$3,0)))","v":"N/A"},{"$f":"IF(Worksheet!$C$15=\"\",\"N/A\",INDEX($BH$4:$BL$19,MATCH(BE$2,$BG$4:$BG$19,0),MATCH(Worksheet!$C$15,$BH$3:$BL$3,0)))","v":"N/A"}]
["Workshop",0.03,0.03,0.02,0.43,0.63,1.01,1.24,1.23,0.81,0.72,0.66,1.72,1.71,0.65,0.42,0.56000000000000005,1.21,0.91,1.81,1.43,0.6,0.47,0.9,0.64,0.75,0.73,1.1100000000000001,1.1100000000000001,0.98,0.19,1.68,0.98,1.44,0.54,0.69,1.24,0.63,0.63,0.67,1.59,{"$f":"IF(Worksheet!$C$15=\"\",\"N/A\",INDEX($BH$4:$BL$19,MATCH(AP$2,$BG$4:$BG$19,0),MATCH(Worksheet!$C$15,$BH$3:$BL$3,0)))","v":"N/A"},{"$f":"IF(Worksheet!$C$15=\"\",\"N/A\",INDEX($BH$4:$BL$19,MATCH(AQ$2,$BG$4:$BG$19,0),MATCH(Worksheet!$C$15,$BH$3:$BL$3,0)))","v":"N/A"},{"$f":"IF(Worksheet!$C$15=\"\",\"N/A\",INDEX($BH$4:$BL$19,MATCH(AR$2,$BG$4:$BG$19,0),MATCH(Worksheet!$C$15,$BH$3:$BL$3,0)))","v":"N/A"},{"$f":"IF(Worksheet!$C$15=\"\",\"N/A\",INDEX($BH$4:$BL$19,MATCH(AS$2,$BG$4:$BG$19,0),MATCH(Worksheet!$C$15,$BH$3:$BL$3,0)))","v":"N/A"},{"$f":"IF(Worksheet!$C$15=\"\",\"N/A\",INDEX($BH$4:$BL$19,MATCH(AT$2,$BG$4:$BG$19,0),MATCH(Worksheet!$C$15,$BH$3:$BL$3,0)))","v":"N/A"},{"$f":"IF(Worksheet!$C$15=\"\",\"N/A\",INDEX($BH$4:$BL$19,MATCH(AU$2,$BG$4:$BG$19,0),MATCH(Worksheet!$C$15,$BH$3:$BL$3,0)))","v":"N/A"},{"$f":"IF(Worksheet!$C$15=\"\",\"N/A\",INDEX($BH$4:$BL$19,MATCH(AV$2,$BG$4:$BG$19,0),MATCH(Worksheet!$C$15,$BH$3:$BL$3,0)))","v":"N/A"},{"$f":"IF(Worksheet!$C$15=\"\",\"N/A\",INDEX($BH$4:$BL$19,MATCH(AW$2,$BG$4:$BG$19,0),MATCH(Worksheet!$C$15,$BH$3:$BL$3,0)))","v":"N/A"},{"$f":"IF(Worksheet!$C$15=\"\",\"N/A\",INDEX($BH$4:$BL$19,MATCH(AX$2,$BG$4:$BG$19,0),MATCH(Worksheet!$C$15,$BH$3:$BL$3,0)))","v":"N/A"},{"$f":"IF(Worksheet!$C$15=\"\",\"N/A\",INDEX($BH$4:$BL$19,MATCH(AY$2,$BG$4:$BG$19,0),MATCH(Worksheet!$C$15,$BH$3:$BL$3,0)))","v":"N/A"},{"$f":"IF(Worksheet!$C$15=\"\",\"N/A\",INDEX($BH$4:$BL$19,MATCH(AZ$2,$BG$4:$BG$19,0),MATCH(Worksheet!$C$15,$BH$3:$BL$3,0)))","v":"N/A"},{"$f":"IF(Worksheet!$C$15=\"\",\"N/A\",INDEX($BH$4:$BL$19,MATCH(BA$2,$BG$4:$BG$19,0),MATCH(Worksheet!$C$15,$BH$3:$BL$3,0)))","v":"N/A"},{"$f":"IF(Worksheet!$C$15=\"\",\"N/A\",INDEX($BH$4:$BL$19,MATCH(BB$2,$BG$4:$BG$19,0),MATCH(Worksheet!$C$15,$BH$3:$BL$3,0)))","v":"N/A"},{"$f":"IF(Worksheet!$C$15=\"\",\"N/A\",INDEX($BH$4:$BL$19,MATCH(BC$2,$BG$4:$BG$19,0),MATCH(Worksheet!$C$15,$BH$3:$BL$3,0)))","v":"N/A"},{"$f":"IF(Worksheet!$C$15=\"\",\"N/A\",INDEX($BH$4:$BL$19,MATCH(BD$2,$BG$4:$BG$19,0),MATCH(Worksheet!$C$15,$BH$3:$BL$3,0)))","v":"N/A"},{"$f":"IF(Worksheet!$C$15=\"\",\"N/A\",INDEX($BH$4:$BL$19,MATCH(BE$2,$BG$4:$BG$19,0),MATCH(Worksheet!$C$15,$BH$3:$BL$3,0)))","v":"N/A"}]
[]
["CSTTypes_2013"]
["***INTERIOR LIGHTING***"]
["Atrium - Height: <20 ft"]
["Atrium - Height: 20 - 40 ft"]
["Atrium - Height: >40 ft"]
["Audience Seating Area"]
["Audience Seating Area - Auditorium"]
["Banking Activity Area"]
["Classroom/ Lecture Hall/ Training Room"]
["Conference/ Meeting/ Multipurpose Room"]
["Confinement Cells"]
["Copy/ Print Room"]
["Corridor"]
["Courtroom"]
["Computer Room"]
["Dining Area"]
["Electrical/ Mechanical Room"]
["Emergency Vehicle Garage"]
["Food Preparation Area"]
["Guest Room"]
["Laboratory (Non-Classroom)"]
["Laboratory (Classroom)"]
["Laundry/ Washing Area"]
["Loading Dock, Interior"]
["Lobby"]
["Lobby - Elevator"]
["Locker Room"]
["Lounge/ Breakroom"]
["Office - Enclosed (≤250 SF)"]
["Office - Enclosed (>250 SF)"]
["Office - Open Plan"]
["Parking Area, Interior"]
["Pharmacy Area"]
["Restroom"]
["Sales Area"]
["Seating Area, General"]
["Stairwell"]
["Storage Room (<50 SF)"]
["Storage Room (50 - 1000 SF)"]
["Storage Room (>1000 SF)"]
["Vehicular Maintenance Area"]
["Workshop"]
[]
["***EXTERIOR LIGHTING***"]
["Building Façade"]
["Uncovered Parking Area"]
["Walkway (<10 ft Wide)"]
["Walkway (≥10 ft Wide)"]
["Plaza Area"]
["Special Feature Area"]
["Stairway"]
["Pedestrian Tunnel"]
["Landscaping"]
["Main Entry"]
["Other Entry Door"]
["Entry Canopy"]
["Loading Dock"]
["Sales Canopy"]
["Open Sales Area"]
["Street Frontage for Vehicle Sales (in addition to \"Open Area\" allowance)"]

{"sheet":"ASHRAE 90.1 2013 - BSST","index":7,"n_rows":46,"n_cols":2,"rows_kept":46,"cut":false,"hidden":true,"merged":[[0,0,0,1]]}
["Building-Specific Space Types (BSSTTable_2013)"]
["Space Type","LPD Allowance\n(W/SF)"]
["Facility for the Visually Impaired - Corridor",0.92]
["Facility for the Visually Impaired - Dining Area",2.65]
["Facility for the Visually Impaired - Lobby",1.8]
["Facility for the Visually Impaired - Restroom",1.21]
["Facility for the Visually Impaired - Chapel",2.21]
["Facility for the Visually Impaired - Recreation/ Common Living Room",2.41]
["Convention Center - Exhibit Space",1.45]
["Dormitory - Living Quarters",0.38]
["Fire Station - Sleeping Quarters",0.22]
["Gymnasium/ Fitness Center - Exercise Area",0.72]
["Gymnasium/ Fitness Center - Playing Area",1.2]
["Healthcare Facility - Exam/ Treatment Room",1.66]
["Healthcare Facility - Imaging Room",1.51]
["Healthcare Facility - Medical Supply Room",0.74]
["Healthcare Facility - Nursery",0.88]
["Healthcare Facility - Nurse's Station",0.71]
["Healthcare Facility - Operating Room",2.48]
["Healthcare Facility - Patient Room",0.62]
["Healthcare Facility - Physical Therapy Room",0.91]
["Healthcare Facility - Recovery Room",1.1499999999999999]
["Library - Reading Area",1.06]
["Library - Stacks",1.71]
["Manufacturing Facility - Detailed Manufacturing Area",1.29]
["Manufacturing Facility - Equipment Room",0.74]
["Manufacturing Facility - Extra High Bay Area (>50 ft Floor to Ceiling Height)",1.05]
["Manufacturing Facility - High Bay Area (25 - 50 ft Floor to Ceiling Height)",1.23]
["Manufacturing Facility - Low Bay Area (<25 ft Floor to Ceiling Height)",1.19]
["Museum - General Exhibition Area",1.05]
["Museum - Restoration Area",1.02]
["Performing Arts Theater - Dressing Room",0.61]
["Post Office - Sorting Area",0.94]
["Religious Building - Fellowship Hall",0.64]
["Religious Building - Worship/ Pulpit/ Choir",1.53]
["Retail Facility - Dressing/ Fitting Room",0.71]
["Retail Facility - Mall Concourse",1.1000000000000001]
["Sports Arena - Playing Area (Class I)",3.68]
["Sports Arena - Playing Area (Class II)",2.4]
["Sports Arena - Playing Area (Class III)",1.8]
["Sports Arena - Playing Area (Class IV)",1.2]
["Transportation Facility - Baggage/ Carousel Area",0.53]
["Transportation Facility - Airport Concourse",0.36]
["Transportation Facility - Terminal Ticket Counter",0.8]
["Warehouse - Storage Area (Medium to Bulky Palletized Items)",0.57999999999999996]
["Warehouse - Storage Area (Smaller, Hand-Carried Items)",0.95]

{"sheet":"Savings Support","index":8,"n_rows":38,"n_cols":16,"rows_kept":38,"cut":false,"hidden":true,"merged":[[0,4,0,9],[0,0,0,2],[0,12,0,13]]}
["SavingsSupportTable",null,null,"HVAC_d","HVAC_e",null,null,null,null,null,null,null,"HVAC_g"]
["Facility Type","CF","EFLH","AC","Electric Cooling & Gas Heat","Electric Cooling & Oil Heat","Electric Cooling & Propane Heat","Electric Cooling & Resistance Heat","Heat Pump","No Electric Cooling (Electric Resistance Heat Only)",null,"Fuel Type","Large Commercial","Small Commercial",null,"HVAC Options"]
["Automotive Facility",0.66,4573,0.32,0.08,0.08,0.08,-0.18,-7.0000000000000007E-2,-0.26,null,"Gas",-2.3000000000000001E-4,-1.075E-3,null,"Electric Cooling & Gas Heat"]
["Community College",0.5,2575,0.44,0.1,0.1,0.1,-0.19,-0.04,-0.28999999999999998,null,"Oil",-4.6000000000000001E-4,-1.2E-4,null,"Electric Cooling & Oil Heat"]
["Convention Center",0.66,4573,0.32,0.08,0.08,0.08,-0.18,-7.0000000000000007E-2,-0.26,null,"Propane",-4.6000000000000001E-4,-1.2E-4,null,"Electric Cooling & Propane Heat"]
["Courthouse",0.66,4573,0.32,0.08,0.08,0.08,-0.18,-7.0000000000000007E-2,-0.26,null,null,null,null,null,"Electric Cooling & Resistance Heat"]
["Dining: Bar Lounge/ Leisure",0.66,4573,0.32,0.08,0.08,0.08,-0.18,-7.0000000000000007E-2,-0.26,null,null,null,null,null,"Heat Pump"]
["Dining: Cafeteria/ Fast Food",0.66,4573,0.32,0.08,0.08,0.08,-0.18,-7.0000000000000007E-2,-0.26,null,null,null,null,null,"No Electric Cooling (Electric Resistance Heat Only)"]
["Dining: Family",0.66,4573,0.32,0.08,0.08,0.08,-0.18,-7.0000000000000007E-2,-0.26,null,null,null,null,null,"No Electric Cooling (Gas Heat Only)"]
["Dormitory",0.66,4573,0.32,0.08,0.08,0.08,-0.18,-7.0000000000000007E-2,-0.26,null,null,null,null,null,"No Electric Cooling (Oil Heat Only)"]
["Exercise Center",0.66,4573,0.32,0.08,0.08,0.08,-0.18,-7.0000000000000007E-2,-0.26,null,null,null,null,null,"No Electric Cooling (Propane Heat Only)"]
["Fire Station",0.66,4573,0.32,0.08,0.08,0.08,-0.18,-7.0000000000000007E-2,-0.26]
["Gymnasium",0.66,4573,0.32,0.08,0.08,0.08,-0.18,-7.0000000000000007E-2,-0.26]
["Healthcare Clinic",0.8,3909,0.32,0.08,0.08,0.08,-0.18,-7.0000000000000007E-2,-0.26]
["Hospital",0.8,8760,0.32,0.08,0.08,0.08,-0.18,-7.0000000000000007E-2,-0.26]
["Hotel",0.66,4573,0.32,0.08,0.08,0.08,-0.18,-7.0000000000000007E-2,-0.26]
["Library",0.66,4573,0.32,0.08,0.08,0.08,-0.18,-7.0000000000000007E-2,-0.26]
["Manufacturing Facility",0.69,4009,0.32,0.08,0.08,0.08,-0.18,-7.0000000000000007E-2,-0.26]
["Motel",0.66,4573,0.32,0.08,0.08,0.08,-0.18,-7.0000000000000007E-2,-0.26]
["Motion Picture Theater",0.66,4573,0.32,0.08,0.08,0.08,-0.18,-7.0000000000000007E-2,-0.26]
["Multifamily",0.66,4573,0.32,0.08,0.08,0.08,-0.18,-7.0000000000000007E-2,-0.26]
["Museum",0.66,4573,0.32,0.08,0.08,0.08,-0.18,-7.0000000000000007E-2,-0.26]
["Office",0.68,3642,0.32,0.1,0.1,0.1,-0.15,-0.06,-0.25]
["Parking Garage",0.66,4573,0.32,0.08,0.08,0.08,-0.18,-7.0000000000000007E-2,-0.26]
["Penitentiary",0.66,4573,0.32,0.08,0.08,0.08,-0.18,-7.0000000000000007E-2,-0.26]
["Performing Arts Theater",0.66,4573,0.32,0.08,0.08,0.08,-0.18,-7.0000000000000007E-2,-0.26]
["Police Station",0.66,4573,0.32,0.08,0.08,0.08,-0.18,-7.0000000000000007E-2,-0.26]
["Post Office",0.66,4573,0.32,0.08,0.08,0.08,-0.18,-7.0000000000000007E-2,-0.26]
["Primary School",0.5,2575,0.44,0.1,0.1,0.1,-0.19,-0.04,-0.28999999999999998]
["Religious Building",0.66,4573,0.32,0.08,0.08,0.08,-0.18,-7.0000000000000007E-2,-0.26]
["Retail",0.78,4103,0.26,0.06,0.06,0.06,-0.17,-0.05,-0.23]
["Secondary School",0.5,2575,0.44,0.1,0.1,0.1,-0.19,-0.04,-0.28999999999999998]
["Sports Arena",0.66,4573,0.32,0.08,0.08,0.08,-0.18,-7.0000000000000007E-2,-0.26]
["Town Hall",0.66,4573,0.32,0.08,0.08,0.08,-0.18,-7.0000000000000007E-2,-0.26]
["Transportation",0.66,4573,0.32,0.08,0.08,0.08,-0.18,-7.0000000000000007E-2,-0.26]
["University",0.5,2575,0.44,0.1,0.1,0.1,-0.19,-0.04,-0.28999999999999998]
["Warehouse",0.69,4009,0.23,0.02,0.02,0.02,-0.25,-0.11,-0.27]
["Workshop",0.66,4573,0.32,0.08,0.08,0.08,-0.18,-7.0000000000000007E-2,-0.26]

{"sheet":"Export","index":9,"n_rows":481,"n_cols":38,"rows_kept":481,"cut":false,"hidden":true,"merged":[]}
["Measure Type","Manufacturer","Model","Capacity/Size","Capacity/Size Units","EER Efficiency","SEER Efficiency","Incentive Per Unit","Quantity Committed","Annual Electricity Savings","Peak Demand Reduction","Lifetime Electricity Savings","Annual Gas Savings","Lifetime Gas Savings","Efficiency- other","Efficiency- other-type","Measure ID removed","Quantity Installed","Space Description (Location)","Common Space Type","Building Specific Space Types","Luminaire Type","LED Type","Gross Lighted Area","Watts per Luminaire","Project in UEZ","Project in OZ","Municipality","K-12 School","County","Affordable Housing","Enhanced Incentive per Unit",null,"Total Incentive Committed","Total Incentive Installed",null,"Total Comm Savings","Total Installed Savings"]
[{"$f":"IF(ISERROR(VLOOKUP(Worksheet!N25,MeasureLookup,2,FALSE))=FALSE,VLOOKUP(Worksheet!N25,MeasureLookup,2,FALSE),\"\")","v":""},{"$f":"Worksheet!Q25","v":0},{"$f":"Worksheet!R25","v":0},{"$f":"IF(ISERROR(Worksheet!P25)=FALSE,Worksheet!P25,\"\")","v":0},"Watts",null,null,{"$f":"IF(Worksheet!AP25<>\"\",IF(Worksheet!AP25>0,Worksheet!AP25/IF(Worksheet!M25>0,Worksheet!M25,Worksheet!L25),\"\"),\"\")","v":""},{"$f":"IF(ISBLANK(Worksheet!L25)=FALSE,Worksheet!L25,\"\")","v":0},{"$f":"IF(Worksheet!L25<>0, IFERROR(VLOOKUP(Worksheet!$C$16,SavingsSupportTable,3,FALSE)*Worksheet!AQ25*IFERROR(1+VLOOKUP(Worksheet!$C$16,SavingsSupportTable,MATCH(Worksheet!$G$17,HVACe_Options,0)+4,FALSE),1)/IF(Worksheet!M25>0,Worksheet!M25,Worksheet!L25),\"\"),\"\")","v":""},{"$f":"IF(Worksheet!L25<>0, IFERROR(VLOOKUP(Worksheet!$C$16,SavingsSupportTable,2,FALSE)*Worksheet!AQ25*IF(IFERROR(MATCH(Worksheet!$G$17,HVACe_Options,0),0)>0,1+VLOOKUP(Worksheet!$C$16,SavingsSupportTable,4,FALSE),1)/IF(Worksheet!M25>0,Worksheet!M25,Worksheet!L25),\"\"),\"\")","v":""},{"$f":"IF(ISERROR(J2*15)=FALSE,J2*15,\"\")","v":""},{"$f":"IF(Worksheet!L25<>0,IFERROR(VLOOKUP(Worksheet!$C$16,SavingsSupportTable,3,FALSE)*Worksheet!AQ25*IF(IFERROR(SEARCH(\"Gas\",Worksheet!$G$17),0)>0,VLOOKUP(\"Gas\",HVACg_Lookup,MATCH(Worksheet!$G$16,BuildingSize,0)+1,FALSE),IF(IFERROR(SEARCH(\"Oil\",Worksheet!$G$17),0)>0,VLOOKUP(\"Oil\",HVACg_Lookup,MATCH(Worksheet!$G$16,BuildingSize,0)+1,FALSE),IF(IFERROR(SEARCH(\"Propane\",Worksheet!$G$17),0)>0,VLOOKUP(\"Propane\",HVACg_Lookup,MATCH(Worksheet!$G$16,BuildingSize,0)+1,FALSE),0)))/IF(Worksheet!M25>0,Worksheet!M25,Worksheet!L25),0),\"\")","v":""},{"$f":"IF(ISERROR(M2*15)=FALSE,M2*15,\"\")","v":""},null,null,null,{"$f":"IF(ISBLANK(Worksheet!M25)=FALSE,Worksheet!M25,\"\")","v":0},{"$f":"IF(Worksheet!A25=\"-\",\"\",Worksheet!A25)","v":0},{"$f":"IF(S2=\"\",\"\",IF(Worksheet!G25=\"\",\"\",Worksheet!G25))","v":""},{"$f":"IF(S2=\"\",\"\",IF(Worksheet!H25=\"\",\"\",Worksheet!H25))","v":""},{"$f":"IF(Worksheet!N25=\"\",\"\",Worksheet!N25)","v":""},{"$f":"IF(Worksheet!O25=\"\",\"\",Worksheet!O25)","v":""},{"$f":"IF(Worksheet!F25=0,\"\",Worksheet!F25)","v":""},{"$f":"IF(Worksheet!P25=0,\"\",Worksheet!P25)","v":""},{"$f":"IF(Worksheet!$A$11=TRUE,\"Y\",\"N\")","v":"N"},{"$f":"IF(Worksheet!$A$12=TRUE,\"Y\",\"N\")","v":"N"},{"$f":"IF(Worksheet!$B$11=TRUE,\"Y\",\"N\")","v":"N"},{"$f":"IF(Worksheet!$B$12=TRUE,\"Y\",\"N\")","v":"N"},{"$f":"IF(Worksheet!$C$11=TRUE,\"Y\",\"N\")","v":"N"},{"$f":"IF(Worksheet!$C$12=TRUE,\"Y\",\"N\")","v":"N"},{"$f":"IFERROR(IF(OR(Z2=\"Y\",AA2=\"Y\",AB2=\"Y\",AC2=\"Y\",AD2=\"Y\",AE2=\"Y\")=TRUE,H2,\"\"),\"\")","v":""},null,{"$f":"Worksheet!AF8+Worksheet!AF9","v":0},{"$f":"Worksheet!AG8+Worksheet!AG9","v":0},null,{"$f":"Worksheet!V16","v":0},{"$f":"Worksheet!V17","v":0}]
[{"$f":"IF(ISERROR(VLOOKUP(Worksheet!N26,MeasureLookup,2,FALSE))=FALSE,VLOOKUP(Worksheet!N26,MeasureLookup,2,FALSE),\"\")","v":""},{"$f":"Worksheet!Q26","v":0},{"$f":"Worksheet!R26","v":0},{"$f":"IF(ISERROR(Worksheet!P26)=FALSE,Worksheet!P26,\"\")","v":0},"Watts",null,null,{"$f":"IF(Worksheet!AP26<>\"\",IF(Worksheet!AP26>0,Worksheet!AP26/IF(Worksheet!M26>0,Worksheet!M26,Worksheet!L26),\"\"),\"\")","v":""},{"$f":"IF(ISBLANK(Worksheet!L26)=FALSE,Worksheet!L26,\"\")","v":0},{"$f":"IF(Worksheet!L26<>0, IFERROR(VLOOKUP(Worksheet!$C$16,SavingsSupportTable,3,FALSE)*Worksheet!AQ26*IFERROR(1+VLOOKUP(Worksheet!$C$16,SavingsSupportTable,MATCH(Worksheet!$G$17,HVACe_Options,0)+4,FALSE),1)/IF(Worksheet!M26>0,Worksheet!M26,Worksheet!L26),\"\"),\"\")","v":""},{"$f":"IF(Worksheet!L26<>0, IFERROR(VLOOKUP(Worksheet!$C$16,SavingsSupportTable,2,FALSE)*Worksheet!AQ26*IF(IFERROR(MATCH(Worksheet!$G$17,HVACe_Options,0),0)>0,1+VLOOKUP(Worksheet!$C$16,SavingsSupportTable,4,FALSE),1)/IF(Worksheet!M26>0,Worksheet!M26,Worksheet!L26),\"\"),\"\")","v":""},{"$f":"IF(ISERROR(J3*15)=FALSE,J3*15,\"\")","v":""},{"$f":"IF(Worksheet!L26<>0,IFERROR(VLOOKUP(Worksheet!$C$16,SavingsSupportTable,3,FALSE)*Worksheet!AQ26*IF(IFERROR(SEARCH(\"Gas\",Worksheet!$G$17),0)>0,VLOOKUP(\"Gas\",HVACg_Lookup,MATCH(Worksheet!$G$16,BuildingSize,0)+1,FALSE),IF(IFERROR(SEARCH(\"Oil\",Worksheet!$G$17),0)>0,VLOOKUP(\"Oil\",HVACg_Lookup,MATCH(Worksheet!$G$16,BuildingSize,0)+1,FALSE),IF(IFERROR(SEARCH(\"Propane\",Worksheet!$G$17),0)>0,VLOOKUP(\"Propane\",HVACg_Lookup,MATCH(Worksheet!$G$16,BuildingSize,0)+1,FALSE),0)))/IF(Worksheet!M26>0,Worksheet!M26,Worksheet!L26),0),\"\")","v":""},{"$f":"IF(ISERROR(M3*15)=FALSE,M3*15,\"\")","v":""},null,null,null,{"$f":"IF(ISBLANK(Worksheet!M26)=FALSE,Worksheet!M26,\"\")","v":0},{"$f":"IF(Worksheet!A26=\"-\",\"\",IF(Worksheet!A26=\"\",S2,Worksheet!A26))","v":""},{"$f":"IF(S3=\"\",\"\",IF(AND(Worksheet!G26=\"\",Worksheet!H26=\"\")=TRUE,T2,IF(Worksheet!G26=\"\",\"\",Worksheet!G26)))","v":""},{"$f":"IF(S3=\"\",\"\",IF(AND(Worksheet!G26=\"\",Worksheet!H26=\"\")=TRUE,U2,IF(Worksheet!H26=\"\",\"\",Worksheet!H26)))","v":""},{"$f":"IF(Worksheet!N26=\"\",\"\",Worksheet!N26)","v":""},{"$f":"IF(Worksheet!O26=\"\",\"\",Worksheet!O26)","v":""},{"$f":"IF(Worksheet!F26=0,\"\",Worksheet!F26)","v":""},{"$f":"IF(Worksheet!P26=0,\"\",Worksheet!P26)","v":""},{"$f":"IF(Worksheet!$A$11=TRUE,\"Y\",\"N\")","v":"N"},{"$f":"IF(Worksheet!$A$12=TRUE,\"Y\",\"N\")","v":"N"},{"$f":"IF(Worksheet!$B$11=TRUE,\"Y\",\"N\")","v":"N"},{"$f":"IF(Worksheet!$B$12=TRUE,\"Y\",\"N\")","v":"N"},{"$f":"IF(Worksheet!$C$11=TRUE,\"Y\",\"N\")","v":"N"},{"$f":"IF(Worksheet!$C$12=TRUE,\"Y\",\"N\")","v":"N"},{"$f":"IFERROR(IF(OR(Z3=\"Y\",AA3=\"Y\",AB3=\"Y\",AC3=\"Y\",AD3=\"Y\",AE3=\"Y\")=TRUE,H3,\"\"),\"\")","v":""},null,null,null,"annual",{"$f":"IF(ISERROR(VLOOKUP(Worksheet!$C$16,SavingsSupportTable,3,FALSE)*AK2)=FALSE, VLOOKUP(Worksheet!$C$16,SavingsSupportTable,3,FALSE)*AK2*(1+VLOOKUP(Worksheet!$C$16,SavingsSupportTable,MATCH(Worksheet!$G$17,HVACe_Options,0)+4,FALSE)),\"\")","v":""},{"$f":"IF(ISERROR(VLOOKUP(Worksheet!$C$16,SavingsSupportTable,3,FALSE)*AL2)=FALSE, VLOOKUP(Worksheet!$C$16,SavingsSupportTable,3,FALSE)*AL2*(1+VLOOKUP(Worksheet!$C$16,SavingsSupportTable,MATCH(Worksheet!$G$17,HVACe_Options,0)+4,FALSE)),\"\")","v":""}]
[{"$f":"IF(ISERROR(VLOOKUP(Worksheet!N27,MeasureLookup,2,FALSE))=FALSE,VLOOKUP(Worksheet!N27,MeasureLookup,2,FALSE),\"\")","v":""},{"$f":"Worksheet!Q27","v":0},{"$f":"Worksheet!R27","v":0},{"$f":"IF(ISERROR(Worksheet!P27)=FALSE,Worksheet!P27,\"\")","v":0},"Watts",null,null,{"$f":"IF(Worksheet!AP27<>\"\",IF(Worksheet!AP27>0,Worksheet!AP27/IF(Worksheet!M27>0,Worksheet!M27,Worksheet!L27),\"\"),\"\")","v":""},{"$f":"IF(ISBLANK(Worksheet!L27)=FALSE,Worksheet!L27,\"\")","v":0},{"$f":"IF(Worksheet!L27<>0, IFERROR(VLOOKUP(Worksheet!$C$16,SavingsSupportTable,3,FALSE)*Worksheet!AQ27*IFERROR(1+VLOOKUP(Worksheet!$C$16,SavingsSupportTable,MATCH(Worksheet!$G$17,HVACe_Options,0)+4,FALSE),1)/IF(Worksheet!M27>0,Worksheet!M27,Worksheet!L27),\"\"),\"\")","v":""},{"$f":"IF(Worksheet!L27<>0, IFERROR(VLOOKUP(Worksheet!$C$16,SavingsSupportTable,2,FALSE)*Worksheet!AQ27*IF(IFERROR(MATCH(Worksheet!$G$17,HVACe_Options,0),0)>0,1+VLOOKUP(Worksheet!$C$16,SavingsSupportTable,4,FALSE),1)/IF(Worksheet!M27>0,Worksheet!M27,Worksheet!L27),\"\"),\"\")","v":""},"",{"$f":"IF(Worksheet!L27<>0,IFERROR(VLOOKUP(Worksheet!$C$16,SavingsSupportTable,3,FALSE)*Worksheet!AQ27*IF(IFERROR(SEARCH(\"Gas\",Worksheet!$G$17),0)>0,VLOOKUP(\"Gas\",HVACg_Lookup,MATCH(Worksheet!$G$16,BuildingSize,0)+1,FALSE),IF(IFERROR(SEARCH(\"Oil\",Worksheet!$G$17),0)>0,VLOOKUP(\"Oil\",HVACg_Lookup,MATCH(Worksheet!$G$16,BuildingSize,0)+1,FALSE),IF(IFERROR(SEARCH(\"Propane\",Worksheet!$G$17),0)>0,VLOOKUP(\"Propane\",HVACg_Lookup,MATCH(Worksheet!$G$16,BuildingSize,0)+1,FALSE),0)))/IF(Worksheet!M27>0,Worksheet!M27,Worksheet!L27),0),\"\")","v":""},"",null,null,null,{"$f":"IF(ISBLANK(Worksheet!M27)=FALSE,Worksheet!M27,\"\")","v":0},{"$f":"IF(Worksheet!A27=\"-\",\"\",IF(Worksheet!A27=\"\",S3,Worksheet!A27))","v":""},{"$f":"IF(S4=\"\",\"\",IF(AND(Worksheet!G27=\"\",Worksheet!H27=\"\")=TRUE,T3,IF(Worksheet!G27=\"\",\"\",Worksheet!G27)))","v":""},{"$f":"IF(S4=\"\",\"\",IF(AND(Worksheet!G27=\"\",Worksheet!H27=\"\")=TRUE,U3,IF(Worksheet!H27=\"\",\"\",Worksheet!H27)))","v":""},{"$f":"IF(Worksheet!N27=\"\",\"\",Worksheet!N27)","v":""},{"$f":"IF(Worksheet!O27=\"\",\"\",Worksheet!O27)","v":""},{"$f":"IF(Worksheet!F27=0,\"\",Worksheet!F27)","v":""},{"$f":"IF(Worksheet!P27=0,\"\",Worksheet!P27)","v":""},{"$f":"IF(Worksheet!$A$11=TRUE,\"Y\",\"N\")","v":"N"},{"$f":"IF(Worksheet!$A$12=TRUE,\"Y\",\"N\")","v":"N"},{"$f":"IF(Worksheet!$B$11=TRUE,\"Y\",\"N\")","v":"N"},{"$f":"IF(Worksheet!$B$12=TRUE,\"Y\",\"N\")","v":"N"},{"$f":"IF(Worksheet!$C$11=TRUE,\"Y\",\"N\")","v":"N"},{"$f":"IF(Worksheet!$C$12=TRUE,\"Y\",\"N\")","v":"N"},"",null,null,null,"peak",{"$f":"IF(ISERROR(VLOOKUP(Worksheet!$C$16,SavingsSupportTable,2,FALSE)*AK2*(1+VLOOKUP(Worksheet!$C$16,SavingsSupportTable,4,FALSE)))=FALSE, VLOOKUP(Worksheet!$C$16,SavingsSupportTable,2,FALSE)*AK2*(1+VLOOKUP(Worksheet!$C$16,SavingsSupportTable,4,FALSE)),\"\")","v":""},{"$f":"IF(ISERROR(VLOOKUP(Worksheet!$C$16,SavingsSupportTable,2,FALSE)*AL2*(1+VLOOKUP(Worksheet!$C$16,SavingsSupportTable,4,FALSE)))=FALSE, VLOOKUP(Worksheet!$C$16,SavingsSupportTable,2,FALSE)*AL2*(1+VLOOKUP(Worksheet!$C$16,SavingsSupportTable,4,FALSE)),\"\")","v":""}]
[{"$f":"IF(ISERROR(VLOOKUP(Worksheet!N28,MeasureLookup,2,FALSE))=FALSE,VLOOKUP(Worksheet!N28,MeasureLookup,2,FALSE),\"\")","v":""},{"$f":"Worksheet!Q28","v":0},{"$f":"Worksheet!R28","v":0},{"$f":"IF(ISERROR(Worksheet!P28)=FALSE,Worksheet!P28,\"\")","v":0},"Watts",null,null,{"$f":"IF(Worksheet!AP28<>\"\",IF(Worksheet!AP28>0,Worksheet!AP28/IF(Worksheet!M28>0,Worksheet!M28,Worksheet!L28),\"\"),\"\")","v":""},{"$f":"IF(ISBLANK(Worksheet!L28)=FALSE,Worksheet!L28,\"\")","v":0},{"$f":"IF(Worksheet!L28<>0, IFERROR(VLOOKUP(Worksheet!$C$16,SavingsSupportTable,3,FALSE)*Worksheet!AQ28*IFERROR(1+VLOOKUP(Worksheet!$C$16,SavingsSupportTable,MATCH(Worksheet!$G$17,HVACe_Options,0)+4,FALSE),1)/IF(Worksheet!M28>0,Worksheet!M28,Worksheet!L28),\"\"),\"\")","v":""},{"$f":"IF(Worksheet!L28<>0, IFERROR(VLOOKUP(Worksheet!$C$16,SavingsSupportTable,2,FALSE)*Worksheet!AQ28*IF(IFERROR(MATCH(Worksheet!$G$17,HVACe_Options,0),0)>0,1+VLOOKUP(Worksheet!$C$16,SavingsSupportTable,4,FALSE),1)/IF(Worksheet!M28>0,Worksheet!M28,Worksheet!L28),\"\"),\"\")","v":""},"",{"$f":"IF(Worksheet!L28<>0,IFERROR(VLOOKUP(Worksheet!$C$16,SavingsSupportTable,3,FALSE)*Worksheet!AQ28*IF(IFERROR(SEARCH(\"Gas\",Worksheet!$G$17),0)>0,VLOOKUP(\"Gas\",HVACg_Lookup,MATCH(Worksheet!$G$16,BuildingSize,0)+1,FALSE),IF(IFERROR(SEARCH(\"Oil\",Worksheet!$G$17),0)>0,VLOOKUP(\"Oil\",HVACg_Lookup,MATCH(Worksheet!$G$16,BuildingSize,0)+1,FALSE),IF(IFERROR(SEARCH(\"Propane\",Worksheet!$G$17),0)>0,VLOOKUP(\"Propane\",HVACg_Lookup,MATCH(Worksheet!$G$16,BuildingSize,0)+1,FALSE),0)))/IF(Worksheet!M28>0,Worksheet!M28,Worksheet!L28),0),\"\")","v":""},"",null,null,null,{"$f":"IF(ISBLANK(Worksheet!M28)=FALSE,Worksheet!M28,\"\")","v":0},{"$f":"IF(Worksheet!A28=\"-\",\"\",IF(Worksheet!A28=\"\",S4,Worksheet!A28))","v":""},{"$f":"IF(S5=\"\",\"\",IF(AND(Worksheet!G28=\"\",Worksheet!H28=\"\")=TRUE,T4,IF(Worksheet!G28=\"\",\"\",Worksheet!G28)))","v":""},{"$f":"IF(S5=\"\",\"\",IF(AND(Worksheet!G28=\"\",Worksheet!H28=\"\")=TRUE,U4,IF(Worksheet!H28=\"\",\"\",Worksheet!H28)))","v":""},{"$f":"IF(Worksheet!N28=\"\",\"\",Worksheet!N28)","v":""},{"$f":"IF(Worksheet!O28=\"\",\"\",Worksheet!O28)","v":""},{"$f":"IF(Worksheet!F28=0,\"\",Worksheet!F28)","v":""},{"$f":"IF(Worksheet!P28=0,\"\",Worksheet!P28)","v":""},{"$f":"IF(Worksheet!$A$11=TRUE,\"Y\",\"N\")","v":"N"},{"$f":"IF(Worksheet!$A$12=TRUE,\"Y\",\"N\")","v":"N"},{"$f":"IF(Worksheet!$B$11=TRUE,\"Y\",\"N\")","v":"N"},{"$f":"IF(Worksheet!$B$12=TRUE,\"Y\",\"N\")","v":"N"},{"$f":"IF(Worksheet!$C$11=TRUE,\"Y\",\"N\")","v":"N"},{"$f":"IF(Worksheet!$C$12=TRUE,\"Y\",\"N\")","v":"N"},"",null,null,null,"lifetime",{"$f":"IF(ISERROR(AK3*15)=FALSE,AK3*15,\"\")","v":""},{"$f":"IF(ISERROR(AL3*15)=FALSE,AL3*15,\"\")","v":""}]
[{"$f":"IF(ISERROR(VLOOKUP(Worksheet!N29,MeasureLookup,2,FALSE))=FALSE,VLOOKUP(Worksheet!N29,MeasureLookup,2,FALSE),\"\")","v":""},{"$f":"Worksheet!Q29","v":0},{"$f":"Worksheet!R29","v":0},{"$f":"IF(ISERROR(Worksheet!P29)=FALSE,Worksheet!P29,\"\")","v":0},"Watts",null,null,{"$f":"IF(Worksheet!AP29<>\"\",IF(Worksheet!AP29>0,Worksheet!AP29/IF(Worksheet!M29>0,Worksheet!M29,Worksheet!L29),\"\"),\"\")","v":""},{"$f":"IF(ISBLANK(Worksheet!L29)=FALSE,Worksheet!L29,\"\")","v":0},{"$f":"IF(Worksheet!L29<>0, IFERROR(VLOOKUP(Worksheet!$C$16,SavingsSupportTable,3,FALSE)*Worksheet!AQ29*IFERROR(1+VLOOKUP(Worksheet!$C$16,SavingsSupportTable,MATCH(Worksheet!$G$17,HVACe_Options,0)+4,FALSE),1)/IF(Worksheet!M29>0,Worksheet!M29,Worksheet!L29),\"\"),\"\")","v":""},{"$f":"IF(Worksheet!L29<>0, IFERROR(VLOOKUP(Worksheet!$C$16,SavingsSupportTable,2,FALSE)*Worksheet!AQ29*IF(IFERROR(MATCH(Worksheet!$G$17,HVACe_Options,0),0)>0,1+VLOOKUP(Worksheet!$C$16,SavingsSupportTable,4,FALSE),1)/IF(Worksheet!M29>0,Worksheet!M29,Worksheet!L29),\"\"),\"\")","v":""},"",{"$f":"IF(Worksheet!L29<>0,IFERROR(VLOOKUP(Worksheet!$C$16,SavingsSupportTable,3,FALSE)*Worksheet!AQ29*IF(IFERROR(SEARCH(\"Gas\",Worksheet!$G$17),0)>0,VLOOKUP(\"Gas\",HVACg_Lookup,MATCH(Worksheet!$G$16,BuildingSize,0)+1,FALSE),IF(IFERROR(SEARCH(\"Oil\",Worksheet!$G$17),0)>0,VLOOKUP(\"Oil\",HVACg_Lookup,MATCH(Worksheet!$G$16,BuildingSize,0)+1,FALSE),IF(IFERROR(SEARCH(\"Propane\",Worksheet!$G$17),0)>0,VLOOKUP(\"Propane\",HVACg_Lookup,MATCH(Worksheet!$G$16,BuildingSize,0)+1,FALSE),0)))/IF(Worksheet!M29>0,Worksheet!M29,Worksheet!L29),0),\"\")","v":""},"",null,null,null,{"$f":"IF(ISBLANK(Worksheet!M29)=FALSE,Worksheet!M29,\"\")","v":0},{"$f":"IF(Worksheet!A29=\"-\",\"\",IF(Worksheet!A29=\"\",S5,Worksheet!A29))","v":""},{"$f":"IF(S6=\"\",\"\",IF(AND(Worksheet!G29=\"\",Worksheet!H29=\"\")=TRUE,T5,IF(Worksheet!G29=\"\",\"\",Worksheet!G29)))","v":""},{"$f":"IF(S6=\"\",\"\",IF(AND(Worksheet!G29=\"\",Worksheet!H29=\"\")=TRUE,U5,IF(Worksheet!H29=\"\",\"\",Worksheet!H29)))","v":""},{"$f":"IF(Worksheet!N29=\"\",\"\",Worksheet!N29)","v":""},{"$f":"IF(Worksheet!O29=\"\",\"\",Worksheet!O29)","v":""},{"$f":"IF(Worksheet!F29=0,\"\",Worksheet!F29)","v":""},{"$f":"IF(Worksheet!P29=0,\"\",Worksheet!P29)","v":""},{"$f":"IF(Worksheet!$A$11=TRUE,\"Y\",\"N\")","v":"N"},{"$f":"IF(Worksheet!$A$12=TRUE,\"Y\",\"N\")","v":"N"},{"$f":"IF(Worksheet!$B$11=TRUE,\"Y\",\"N\")","v":"N"},{"$f":"IF(Worksheet!$B$12=TRUE,\"Y\",\"N\")","v":"N"},{"$f":"IF(Worksheet!$C$11=TRUE,\"Y\",\"N\")","v":"N"},{"$f":"IF(Worksheet!$C$12=TRUE,\"Y\",\"N\")","v":"N"},""]
[{"$f":"IF(ISERROR(VLOOKUP(Worksheet!N30,MeasureLookup,2,FALSE))=FALSE,VLOOKUP(Worksheet!N30,MeasureLookup,2,FALSE),\"\")","v":""},{"$f":"Worksheet!Q30","v":0},{"$f":"Worksheet!R30","v":0},{"$f":"IF(ISERROR(Worksheet!P30)=FALSE,Worksheet!P30,\"\")","v":0},"Watts",null,null,{"$f":"IF(Worksheet!AP30<>\"\",IF(Worksheet!AP30>0,Worksheet!AP30/IF(Worksheet!M30>0,Worksheet!M30,Worksheet!L30),\"\"),\"\")","v":""},{"$f":"IF(ISBLANK(Worksheet!L30)=FALSE,Worksheet!L30,\"\")","v":0},{"$f":"IF(Worksheet!L30<>0, IFERROR(VLOOKUP(Worksheet!$C$16,SavingsSupportTable,3,FALSE)*Worksheet!AQ30*IFERROR(1+VLOOKUP(Worksheet!$C$16,SavingsSupportTable,MATCH(Worksheet!$G$17,HVACe_Options,0)+4,FALSE),1)/IF(Worksheet!M30>0,Worksheet!M30,Worksheet!L30),\"\"),\"\")","v":""},{"$f":"IF(Worksheet!L30<>0, IFERROR(VLOOKUP(Worksheet!$C$16,SavingsSupportTable,2,FALSE)*Worksheet!AQ30*IF(IFERROR(MATCH(Worksheet!$G$17,HVACe_Options,0),0)>0,1+VLOOKUP(Worksheet!$C$16,SavingsSupportTable,4,FALSE),1)/IF(Worksheet!M30>0,Worksheet!M30,Worksheet!L30),\"\"),\"\")","v":""},"",{"$f":"IF(Worksheet!L30<>0,IFERROR(VLOOKUP(Worksheet!$C$16,SavingsSupportTable,3,FALSE)*Worksheet!AQ30*IF(IFERROR(SEARCH(\"Gas\",Worksheet!$G$17),0)>0,VLOOKUP(\"Gas\",HVACg_Lookup,MATCH(Worksheet!$G$16,BuildingSize,0)+1,FALSE),IF(IFERROR(SEARCH(\"Oil\",Worksheet!$G$17),0)>0,VLOOKUP(\"Oil\",HVACg_Lookup,MATCH(Worksheet!$G$16,BuildingSize,0)+1,FALSE),IF(IFERROR(SEARCH(\"Propane\",Worksheet!$G$17),0)>0,VLOOKUP(\"Propane\",HVACg_Lookup,MATCH(Worksheet!$G$16,BuildingSize,0)+1,FALSE),0)))/IF(Worksheet!M30>0,Worksheet!M30,Worksheet!L30),0),\"\")","v":""},"",null,null,null,{"$f":"IF(ISBLANK(Worksheet!M30)=FALSE,Worksheet!M30,\"\")","v":0},{"$f":"IF(Worksheet!A30=\"-\",\"\",IF(Worksheet!A30=\"\",S6,Worksheet!A30))","v":""},{"$f":"IF(S7=\"\",\"\",IF(AND(Worksheet!G30=\"\",Worksheet!H30=\"\")=TRUE,T6,IF(Worksheet!G30=\"\",\"\",Worksheet!G30)))","v":""},{"$f":"IF(S7=\"\",\"\",IF(AND(Worksheet!G30=\"\",Worksheet!H30=\"\")=TRUE,U6,IF(Worksheet!H30=\"\",\"\",Worksheet!H30)))","v":""},{"$f":"IF(Worksheet!N30=\"\",\"\",Worksheet!N30)","v":""},{"$f":"IF(Worksheet!O30=\"\",\"\",Worksheet!O30)","v":""},{"$f":"IF(Worksheet!F30=0,\"\",Worksheet!F30)","v":""},{"$f":"IF(Worksheet!P30=0,\"\",Worksheet!P30)","v":""},{"$f":"IF(Worksheet!$A$11=TRUE,\"Y\",\"N\")","v":"N"},{"$f":"IF(Worksheet!$A$12=TRUE,\"Y\",\"N\")","v":"N"},{"$f":"IF(Worksheet!$B$11=TRUE,\"Y\",\"N\")","v":"N"},{"$f":"IF(Worksheet!$B$12=TRUE,\"Y\",\"N\")","v":"N"},{"$f":"IF(Worksheet!$C$11=TRUE,\"Y\",\"N\")","v":"N"},{"$f":"IF(Worksheet!$C$12=TRUE,\"Y\",\"N\")","v":"N"},""]
[{"$f":"IF(ISERROR(VLOOKUP(Worksheet!N31,MeasureLookup,2,FALSE))=FALSE,VLOOKUP(Worksheet!N31,MeasureLookup,2,FALSE),\"\")","v":""},{"$f":"Worksheet!Q31","v":0},{"$f":"Worksheet!R31","v":0},{"$f":"IF(ISERROR(Worksheet!P31)=FALSE,Worksheet!P31,\"\")","v":0},"Watts",null,null,{"$f":"IF(Worksheet!AP31<>\"\",IF(Worksheet!AP31>0,Worksheet!AP31/IF(Worksheet!M31>0,Worksheet!M31,Worksheet!L31),\"\"),\"\")","v":""},{"$f":"IF(ISBLANK(Worksheet!L31)=FALSE,Worksheet!L31,\"\")","v":0},{"$f":"IF(Worksheet!L31<>0, IFERROR(VLOOKUP(Worksheet!$C$16,SavingsSupportTable,3,FALSE)*Worksheet!AQ31*IFERROR(1+VLOOKUP(Worksheet!$C$16,SavingsSupportTable,MATCH(Worksheet!$G$17,HVACe_Options,0)+4,FALSE),1)/IF(Worksheet!M31>0,Worksheet!M31,Worksheet!L31),\"\"),\"\")","v":""},{"$f":"IF(Worksheet!L31<>0, IFERROR(VLOOKUP(Worksheet!$C$16,SavingsSupportTable,2,FALSE)*Worksheet!AQ31*IF(IFERROR(MATCH(Worksheet!$G$17,HVACe_Options,0),0)>0,1+VLOOKUP(Worksheet!$C$16,SavingsSupportTable,4,FALSE),1)/IF(Worksheet!M31>0,Worksheet!M31,Worksheet!L31),\"\"),\"\")","v":""},"",{"$f":"IF(Worksheet!L31<>0,IFERROR(VLOOKUP(Worksheet!$C$16,SavingsSupportTable,3,FALSE)*Worksheet!AQ31*IF(IFERROR(SEARCH(\"Gas\",Worksheet!$G$17),0)>0,VLOOKUP(\"Gas\",HVACg_Lookup,MATCH(Worksheet!$G$16,BuildingSize,0)+1,FALSE),IF(IFERROR(SEARCH(\"Oil\",Worksheet!$G$17),0)>0,VLOOKUP(\"Oil\",HVACg_Lookup,MATCH(Worksheet!$G$16,BuildingSize,0)+1,FALSE),IF(IFERROR(SEARCH(\"Propane\",Worksheet!$G$17),0)>0,VLOOKUP(\"Propane\",HVACg_Lookup,MATCH(Worksheet!$G$16,BuildingSize,0)+1,FALSE),0)))/IF(Worksheet!M31>0,Worksheet!M31,Worksheet!L31),0),\"\")","v":""},"",null,null,null,{"$f":"IF(ISBLANK(Worksheet!M31)=FALSE,Worksheet!M31,\"\")","v":0},{"$f":"IF(Worksheet!A31=\"-\",\"\",IF(Worksheet!A31=\"\",S7,Worksheet!A31))","v":""},{"$f":"IF(S8=\"\",\"\",IF(AND(Worksheet!G31=\"\",Worksheet!H31=\"\")=TRUE,T7,IF(Worksheet!G31=\"\",\"\",Worksheet!G31)))","v":""},{"$f":"IF(S8=\"\",\"\",IF(AND(Worksheet!G31=\"\",Worksheet!H31=\"\")=TRUE,U7,IF(Worksheet!H31=\"\",\"\",Worksheet!H31)))","v":""},{"$f":"IF(Worksheet!N31=\"\",\"\",Worksheet!N31)","v":""},{"$f":"IF(Worksheet!O31=\"\",\"\",Worksheet!O31)","v":""},{"$f":"IF(Worksheet!F31=0,\"\",Worksheet!F31)","v":""},{"$f":"IF(Worksheet!P31=0,\"\",Worksheet!P31)","v":""},{"$f":"IF(Worksheet!$A$11=TRUE,\"Y\",\"N\")","v":"N"},{"$f":"IF(Worksheet!$A$12=TRUE,\"Y\",\"N\")","v":"N"},{"$f":"IF(Worksheet!$B$11=TRUE,\"Y\",\"N\")","v":"N"},{"$f":"IF(Worksheet!$B$12=TRUE,\"Y\",\"N\")","v":"N"},{"$f":"IF(Worksheet!$C$11=TRUE,\"Y\",\"N\")","v":"N"},{"$f":"IF(Worksheet!$C$12=TRUE,\"Y\",\"N\")","v":"N"},""]
[{"$f":"IF(ISERROR(VLOOKUP(Worksheet!N32,MeasureLookup,2,FALSE))=FALSE,VLOOKUP(Worksheet!N32,MeasureLookup,2,FALSE),\"\")","v":""},{"$f":"Worksheet!Q32","v":0},{"$f":"Worksheet!R32","v":0},{"$f":"IF(ISERROR(Worksheet!P32)=FALSE,Worksheet!P32,\"\")","v":0},"Watts",null,null,{"$f":"IF(Worksheet!AP32<>\"\",IF(Worksheet!AP32>0,Worksheet!AP32/IF(Worksheet!M32>0,Worksheet!M32,Worksheet!L32),\"\"),\"\")","v":""},{"$f":"IF(ISBLANK(Worksheet!L32)=FALSE,Worksheet!L32,\"\")","v":0},{"$f":"IF(Worksheet!L32<>0, IFERROR(VLOOKUP(Worksheet!$C$16,SavingsSupportTable,3,FALSE)*Worksheet!AQ32*IFERROR(1+VLOOKUP(Worksheet!$C$16,SavingsSupportTable,MATCH(Worksheet!$G$17,HVACe_Options,0)+4,FALSE),1)/IF(Worksheet!M32>0,Worksheet!M32,Worksheet!L32),\"\"),\"\")","v":""},{"$f":"IF(Worksheet!L32<>0, IFERROR(VLOOKUP(Worksheet!$C$16,SavingsSupportTable,2,FALSE)*Worksheet!AQ32*IF(IFERROR(MATCH(Worksheet!$G$17,HVACe_Options,0),0)>0,1+VLOOKUP(Worksheet!$C$16,SavingsSupportTable,4,FALSE),1)/IF(Worksheet!M32>0,Worksheet!M32,Worksheet!L32),\"\"),\"\")","v":""},"",{"$f":"IF(Worksheet!L32<>0,IFERROR(VLOOKUP(Worksheet!$C$16,SavingsSupportTable,3,FALSE)*Worksheet!AQ32*IF(IFERROR(SEARCH(\"Gas\",Worksheet!$G$17),0)>0,VLOOKUP(\"Gas\",HVACg_Lookup,MATCH(Worksheet!$G$16,BuildingSize,0)+1,FALSE),IF(IFERROR(SEARCH(\"Oil\",Worksheet!$G$17),0)>0,VLOOKUP(\"Oil\",HVACg_Lookup,MATCH(Worksheet!$G$16,BuildingSize,0)+1,FALSE),IF(IFERROR(SEARCH(\"Propane\",Worksheet!$G$17),0)>0,VLOOKUP(\"Propane\",HVACg_Lookup,MATCH(Worksheet!$G$16,BuildingSize,0)+1,FALSE),0)))/IF(Worksheet!M32>0,Worksheet!M32,Worksheet!L32),0),\"\")","v":""},"",null,null,null,{"$f":"IF(ISBLANK(Worksheet!M32)=FALSE,Worksheet!M32,\"\")","v":0},{"$f":"IF(Worksheet!A32=\"-\",\"\",IF(Worksheet!A32=\"\",S8,Worksheet!A32))","v":""},{"$f":"IF(S9=\"\",\"\",IF(AND(Worksheet!G32=\"\",Worksheet!H32=\"\")=TRUE,T8,IF(Worksheet!G32=\"\",\"\",Worksheet!G32)))","v":""},{"$f":"IF(S9=\"\",\"\",IF(AND(Worksheet!G32=\"\",Worksheet!H32=\"\")=TRUE,U8,IF(Worksheet!H32=\"\",\"\",Worksheet!H32)))","v":""},{"$f":"IF(Worksheet!N32=\"\",\"\",Worksheet!N32)","v":""},{"$f":"IF(Worksheet!O32=\"\",\"\",Worksheet!O32)","v":""},{"$f":"IF(Worksheet!F32=0,\"\",Worksheet!F32)","v":""},{"$f":"IF(Worksheet!P32=0,\"\",Worksheet!P32)","v":""},{"$f":"IF(Worksheet!$A$11=TRUE,\"Y\",\"N\")","v":"N"},{"$f":"IF(Worksheet!$A$12=TRUE,\"Y\",\"N\")","v":"N"},{"$f":"IF(Worksheet!$B$11=TRUE,\"Y\",\"N\")","v":"N"},{"$f":"IF(Worksheet!$B$12=TRUE,\"Y\",\"N\")","v":"N"},{"$f":"IF(Worksheet!$C$11=TRUE,\"Y\",\"N\")","v":"N"},{"$f":"IF(Worksheet!$C$12=TRUE,\"Y\",\"N\")","v":"N"},""]
[{"$f":"IF(ISERROR(VLOOKUP(Worksheet!N33,MeasureLookup,2,FALSE))=FALSE,VLOOKUP(Worksheet!N33,MeasureLookup,2,FALSE),\"\")","v":""},{"$f":"Worksheet!Q33","v":0},{"$f":"Worksheet!R33","v":0},{"$f":"IF(ISERROR(Worksheet!P33)=FALSE,Worksheet!P33,\"\")","v":0},"Watts",null,null,{"$f":"IF(Worksheet!AP33<>\"\",IF(Worksheet!AP33>0,Worksheet!AP33/IF(Worksheet!M33>0,Worksheet!M33,Worksheet!L33),\"\"),\"\")","v":""},{"$f":"IF(ISBLANK(Worksheet!L33)=FALSE,Worksheet!L33,\"\")","v":0},{"$f":"IF(Worksheet!L33<>0, IFERROR(VLOOKUP(Worksheet!$C$16,SavingsSupportTable,3,FALSE)*Worksheet!AQ33*IFERROR(1+VLOOKUP(Worksheet!$C$16,SavingsSupportTable,MATCH(Worksheet!$G$17,HVACe_Options,0)+4,FALSE),1)/IF(Worksheet!M33>0,Worksheet!M33,Worksheet!L33),\"\"),\"\")","v":""},{"$f":"IF(Worksheet!L33<>0, IFERROR(VLOOKUP(Worksheet!$C$16,SavingsSupportTable,2,FALSE)*Worksheet!AQ33*IF(IFERROR(MATCH(Worksheet!$G$17,HVACe_Options,0),0)>0,1+VLOOKUP(Worksheet!$C$16,SavingsSupportTable,4,FALSE),1)/IF(Worksheet!M33>0,Worksheet!M33,Worksheet!L33),\"\"),\"\")","v":""},"",{"$f":"IF(Worksheet!L33<>0,IFERROR(VLOOKUP(Worksheet!$C$16,SavingsSupportTable,3,FALSE)*Worksheet!AQ33*IF(IFERROR(SEARCH(\"Gas\",Worksheet!$G$17),0)>0,VLOOKUP(\"Gas\",HVACg_Lookup,MATCH(Worksheet!$G$16,BuildingSize,0)+1,FALSE),IF(IFERROR(SEARCH(\"Oil\",Worksheet!$G$17),0)>0,VLOOKUP(\"Oil\",HVACg_Lookup,MATCH(Worksheet!$G$16,BuildingSize,0)+1,FALSE),IF(IFERROR(SEARCH(\"Propane\",Worksheet!$G$17),0)>0,VLOOKUP(\"Propane\",HVACg_Lookup,MATCH(Worksheet!$G$16,BuildingSize,0)+1,FALSE),0)))/IF(Worksheet!M33>0,Worksheet!M33,Worksheet!L33),0),\"\")","v":""},"",null,null,null,{"$f":"IF(ISBLANK(Worksheet!M33)=FALSE,Worksheet!M33,\"\")","v":0},{"$f":"IF(Worksheet!A33=\"-\",\"\",IF(Worksheet!A33=\"\",S9,Worksheet!A33))","v":""},{"$f":"IF(S10=\"\",\"\",IF(AND(Worksheet!G33=\"\",Worksheet!H33=\"\")=TRUE,T9,IF(Worksheet!G33=\"\",\"\",Worksheet!G33)))","v":""},{"$f":"IF(S10=\"\",\"\",IF(AND(Worksheet!G33=\"\",Worksheet!H33=\"\")=TRUE,U9,IF(Worksheet!H33=\"\",\"\",Worksheet!H33)))","v":""},{"$f":"IF(Worksheet!N33=\"\",\"\",Worksheet!N33)","v":""},{"$f":"IF(Worksheet!O33=\"\",\"\",Worksheet!O33)","v":""},{"$f":"IF(Worksheet!F33=0,\"\",Worksheet!F33)","v":""},{"$f":"IF(Worksheet!P33=0,\"\",Worksheet!P33)","v":""},{"$f":"IF(Worksheet!$A$11=TRUE,\"Y\",\"N\")","v":"N"},{"$f":"IF(Worksheet!$A$12=TRUE,\"Y\",\"N\")","v":"N"},{"$f":"IF(Worksheet!$B$11=TRUE,\"Y\",\"N\")","v":"N"},{"$f":"IF(Worksheet!$B$12=TRUE,\"Y\",\"N\")","v":"N"},{"$f":"IF(Worksheet!$C$11=TRUE,\"Y\",\"N\")","v":"N"},{"$f":"IF(Worksheet!$C$12=TRUE,\"Y\",\"N\")","v":"N"},""]
[{"$f":"IF(ISERROR(VLOOKUP(Worksheet!N34,MeasureLookup,2,FALSE))=FALSE,VLOOKUP(Worksheet!N34,MeasureLookup,2,FALSE),\"\")","v":""},{"$f":"Worksheet!Q34","v":0},{"$f":"Worksheet!R34","v":0},{"$f":"IF(ISERROR(Worksheet!P34)=FALSE,Worksheet!P34,\"\")","v":0},"Watts",null,null,{"$f":"IF(Worksheet!AP34<>\"\",IF(Worksheet!AP34>0,Worksheet!AP34/IF(Worksheet!M34>0,Worksheet!M34,Worksheet!L34),\"\"),\"\")","v":""},{"$f":"IF(ISBLANK(Worksheet!L34)=FALSE,Worksheet!L34,\"\")","v":0},{"$f":"IF(Worksheet!L34<>0, IFERROR(VLOOKUP(Worksheet!$C$16,SavingsSupportTable,3,FALSE)*Worksheet!AQ34*IFERROR(1+VLOOKUP(Worksheet!$C$16,SavingsSupportTable,MATCH(Worksheet!$G$17,HVACe_Options,0)+4,FALSE),1)/IF(Worksheet!M34>0,Worksheet!M34,Worksheet!L34),\"\"),\"\")","v":""},{"$f":"IF(Worksheet!L34<>0, IFERROR(VLOOKUP(Worksheet!$C$16,SavingsSupportTable,2,FALSE)*Worksheet!AQ34*IF(IFERROR(MATCH(Worksheet!$G$17,HVACe_Options,0),0)>0,1+VLOOKUP(Worksheet!$C$16,SavingsSupportTable,4,FALSE),1)/IF(Worksheet!M34>0,Worksheet!M34,Worksheet!L34),\"\"),\"\")","v":""},"",{"$f":"IF(Worksheet!L34<>0,IFERROR(VLOOKUP(Worksheet!$C$16,SavingsSupportTable,3,FALSE)*Worksheet!AQ34*IF(IFERROR(SEARCH(\"Gas\",Worksheet!$G$17),0)>0,VLOOKUP(\"Gas\",HVACg_Lookup,MATCH(Worksheet!$G$16,BuildingSize,0)+1,FALSE),IF(IFERROR(SEARCH(\"Oil\",Worksheet!$G$17),0)>0,VLOOKUP(\"Oil\",HVACg_Lookup,MATCH(Worksheet!$G$16,BuildingSize,0)+1,FALSE),IF(IFERROR(SEARCH(\"Propane\",Worksheet!$G$17),0)>0,VLOOKUP(\"Propane\",HVACg_Lookup,MATCH(Worksheet!$G$16,BuildingSize,0)+1,FALSE),0)))/IF(Worksheet!M34>0,Worksheet!M34,Worksheet!L34),0),\"\")","v":""},"",null,null,null,{"$f":"IF(ISBLANK(Worksheet!M34)=FALSE,Worksheet!M34,\"\")","v":0},{"$f":"IF(Worksheet!A34=\"-\",\"\",IF(Worksheet!A34=\"\",S10,Worksheet!A34))","v":""},{"$f":"IF(S11=\"\",\"\",IF(AND(Worksheet!G34=\"\",Worksheet!H34=\"\")=TRUE,T10,IF(Worksheet!G34=\"\",\"\",Worksheet!G34)))","v":""},{"$f":"IF(S11=\"\",\"\",IF(AND(Worksheet!G34=\"\",Worksheet!H34=\"\")=TRUE,U10,IF(Worksheet!H34=\"\",\"\",Worksheet!H34)))","v":""},{"$f":"IF(Worksheet!N34=\"\",\"\",Worksheet!N34)","v":""},{"$f":"IF(Worksheet!O34=\"\",\"\",Worksheet!O34)","v":""},{"$f":"IF(Worksheet!F34=0,\"\",Worksheet!F34)","v":""},{"$f":"IF(Worksheet!P34=0,\"\",Worksheet!P34)","v":""},{"$f":"IF(Worksheet!$A$11=TRUE,\"Y\",\"N\")","v":"N"},{"$f":"IF(Worksheet!$A$12=TRUE,\"Y\",\"N\")","v":"N"},{"$f":"IF(Worksheet!$B$11=TRUE,\"Y\",\"N\")","v":"N"},{"$f":"IF(Worksheet!$B$12=TRUE,\"Y\",\"N\")","v":"N"},{"$f":"IF(Worksheet!$C$11=TRUE,\"Y\",\"N\")","v":"N"},{"$f":"IF(Worksheet!$C$12=TRUE,\"Y\",\"N\")","v":"N"},""]
[{"$f":"IF(ISERROR(VLOOKUP(Worksheet!N35,MeasureLookup,2,FALSE))=FALSE,VLOOKUP(Worksheet!N35,MeasureLookup,2,FALSE),\"\")","v":""},{"$f":"Worksheet!Q35","v":0},{"$f":"Worksheet!R35","v":0},{"$f":"IF(ISERROR(Worksheet!P35)=FALSE,Worksheet!P35,\"\")","v":0},"Watts",null,null,{"$f":"IF(Worksheet!AP35<>\"\",IF(Worksheet!AP35>0,Worksheet!AP35/IF(Worksheet!M35>0,Worksheet!M35,Worksheet!L35),\"\"),\"\")","v":""},{"$f":"IF(ISBLANK(Worksheet!L35)=FALSE,Worksheet!L35,\"\")","v":0},{"$f":"IF(Worksheet!L35<>0, IFERROR(VLOOKUP(Worksheet!$C$16,SavingsSupportTable,3,FALSE)*Worksheet!AQ35*IFERROR(1+VLOOKUP(Worksheet!$C$16,SavingsSupportTable,MATCH(Worksheet!$G$17,HVACe_Options,0)+4,FALSE),1)/IF(Worksheet!M35>0,Worksheet!M35,Worksheet!L35),\"\"),\"\")","v":""},{"$f":"IF(Worksheet!L35<>0, IFERROR(VLOOKUP(Worksheet!$C$16,SavingsSupportTable,2,FALSE)*Worksheet!AQ35*IF(IFERROR(MATCH(Worksheet!$G$17,HVACe_Options,0),0)>0,1+VLOOKUP(Worksheet!$C$16,SavingsSupportTable,4,FALSE),1)/IF(Worksheet!M35>0,Worksheet!M35,Worksheet!L35),\"\"),\"\")","v":""},"",{"$f":"IF(Worksheet!L35<>0,IFERROR(VLOOKUP(Worksheet!$C$16,SavingsSupportTable,3,FALSE)*Worksheet!AQ35*IF(IFERROR(SEARCH(\"Gas\",Worksheet!$G$17),0)>0,VLOOKUP(\"Gas\",HVACg_Lookup,MATCH(Worksheet!$G$16,BuildingSize,0)+1,FALSE),IF(IFERROR(SEARCH(\"Oil\",Worksheet!$G$17),0)>0,VLOOKUP(\"Oil\",HVACg_Lookup,MATCH(Worksheet!$G$16,BuildingSize,0)+1,FALSE),IF(IFERROR(SEARCH(\"Propane\",Worksheet!$G$17),0)>0,VLOOKUP(\"Propane\",HVACg_Lookup,MATCH(Worksheet!$G$16,BuildingSize,0)+1,FALSE),0)))/IF(Worksheet!M35>0,Worksheet!M35,Worksheet!L35),0),\"\")","v":""},"",null,null,null,{"$f":"IF(ISBLANK(Worksheet!M35)=FALSE,Worksheet!M35,\"\")","v":0},{"$f":"IF(Worksheet!A35=\"-\",\"\",IF(Worksheet!A35=\"\",S11,Worksheet!A35))","v":""},{"$f":"IF(S12=\"\",\"\",IF(AND(Worksheet!G35=\"\",Worksheet!H35=\"\")=TRUE,T11,IF(Worksheet!G35=\"\",\"\",Worksheet!G35)))","v":""},{"$f":"IF(S12=\"\",\"\",IF(AND(Worksheet!G35=\"\",Worksheet!H35=\"\")=TRUE,U11,IF(Worksheet!H35=\"\",\"\",Worksheet!H35)))","v":""},{"$f":"IF(Worksheet!N35=\"\",\"\",Worksheet!N35)","v":""},{"$f":"IF(Worksheet!O35=\"\",\"\",Worksheet!O35)","v":""},{"$f":"IF(Worksheet!F35=0,\"\",Worksheet!F35)","v":""},{"$f":"IF(Worksheet!P35=0,\"\",Worksheet!P35)","v":""},{"$f":"IF(Worksheet!$A$11=TRUE,\"Y\",\"N\")","v":"N"},{"$f":"IF(Worksheet!$A$12=TRUE,\"Y\",\"N\")","v":"N"},{"$f":"IF(Worksheet!$B$11=TRUE,\"Y\",\"N\")","v":"N"},{"$f":"IF(Worksheet!$B$12=TRUE,\"Y\",\"N\")","v":"N"},{"$f":"IF(Worksheet!$C$11=TRUE,\"Y\",\"N\")","v":"N"},{"$f":"IF(Worksheet!$C$12=TRUE,\"Y\",\"N\")","v":"N"},""]
[{"$f":"IF(ISERROR(VLOOKUP(Worksheet!N36,MeasureLookup,2,FALSE))=FALSE,VLOOKUP(Worksheet!N36,MeasureLookup,2,FALSE),\"\")","v":""},{"$f":"Worksheet!Q36","v":0},{"$f":"Worksheet!R36","v":0},{"$f":"IF(ISERROR(Worksheet!P36)=FALSE,Worksheet!P36,\"\")","v":0},"Watts",null,null,{"$f":"IF(Worksheet!AP36<>\"\",IF(Worksheet!AP36>0,Worksheet!AP36/IF(Worksheet!M36>0,Worksheet!M36,Worksheet!L36),\"\"),\"\")","v":""},{"$f":"IF(ISBLANK(Worksheet!L36)=FALSE,Worksheet!L36,\"\")","v":0},{"$f":"IF(Worksheet!L36<>0, IFERROR(VLOOKUP(Worksheet!$C$16,SavingsSupportTable,3,FALSE)*Worksheet!AQ36*IFERROR(1+VLOOKUP(Worksheet!$C$16,SavingsSupportTable,MATCH(Worksheet!$G$17,HVACe_Options,0)+4,FALSE),1)/IF(Worksheet!M36>0,Worksheet!M36,Worksheet!L36),\"\"),\"\")","v":""},{"$f":"IF(Worksheet!L36<>0, IFERROR(VLOOKUP(Worksheet!$C$16,SavingsSupportTable,2,FALSE)*Worksheet!AQ36*IF(IFERROR(MATCH(Worksheet!$G$17,HVACe_Options,0),0)>0,1+VLOOKUP(Worksheet!$C$16,SavingsSupportTable,4,FALSE),1)/IF(Worksheet!M36>0,Worksheet!M36,Worksheet!L36),\"\"),\"\")","v":""},"",{"$f":"IF(Worksheet!L36<>0,IFERROR(VLOOKUP(Worksheet!$C$16,SavingsSupportTable,3,FALSE)*Worksheet!AQ36*IF(IFERROR(SEARCH(\"Gas\",Worksheet!$G$17),0)>0,VLOOKUP(\"Gas\",HVACg_Lookup,MATCH(Worksheet!$G$16,BuildingSize,0)+1,FALSE),IF(IFERROR(SEARCH(\"Oil\",Worksheet!$G$17),0)>0,VLOOKUP(\"Oil\",HVACg_Lookup,MATCH(Worksheet!$G$16,BuildingSize,0)+1,FALSE),IF(IFERROR(SEARCH(\"Propane\",Worksheet!$G$17),0)>0,VLOOKUP(\"Propane\",HVACg_Lookup,MATCH(Worksheet!$G$16,BuildingSize,0)+1,FALSE),0)))/IF(Worksheet!M36>0,Worksheet!M36,Worksheet!L36),0),\"\")","v":""},"",null,null,null,{"$f":"IF(ISBLANK(Worksheet!M36)=FALSE,Worksheet!M36,\"\")","v":0},{"$f":"IF(Worksheet!A36=\"-\",\"\",IF(Worksheet!A36=\"\",S12,Worksheet!A36))","v":""},{"$f":"IF(S13=\"\",\"\",IF(AND(Worksheet!G36=\"\",Worksheet!H36=\"\")=TRUE,T12,IF(Worksheet!G36=\"\",\"\",Worksheet!G36)))","v":""},{"$f":"IF(S13=\"\",\"\",IF(AND(Worksheet!G36=\"\",Worksheet!H36=\"\")=TRUE,U12,IF(Worksheet!H36=\"\",\"\",Worksheet!H36)))","v":""},{"$f":"IF(Worksheet!N36=\"\",\"\",Worksheet!N36)","v":""},{"$f":"IF(Worksheet!O36=\"\",\"\",Worksheet!O36)","v":""},{"$f":"IF(Worksheet!F36=0,\"\",Worksheet!F36)","v":""},{"$f":"IF(Worksheet!P36=0,\"\",Worksheet!P36)","v":""},{"$f":"IF(Worksheet!$A$11=TRUE,\"Y\",\"N\")","v":"N"},{"$f":"IF(Worksheet!$A$12=TRUE,\"Y\",\"N\")","v":"N"},{"$f":"IF(Worksheet!$B$11=TRUE,\"Y\",\"N\")","v":"N"},{"$f":"IF(Worksheet!$B$12=TRUE,\"Y\",\"N\")","v":"N"},{"$f":"IF(Worksheet!$C$11=TRUE,\"Y\",\"N\")","v":"N"},{"$f":"IF(Worksheet!$C$12=TRUE,\"Y\",\"N\")","v":"N"},""]
[{"$f":"IF(ISERROR(VLOOKUP(Worksheet!N37,MeasureLookup,2,FALSE))=FALSE,VLOOKUP(Worksheet!N37,MeasureLookup,2,FALSE),\"\")","v":""},{"$f":"Worksheet!Q37","v":0},{"$f":"Worksheet!R37","v":0},{"$f":"IF(ISERROR(Worksheet!P37)=FALSE,Worksheet!P37,\"\")","v":0},"Watts",null,null,{"$f":"IF(Worksheet!AP37<>\"\",IF(Worksheet!AP37>0,Worksheet!AP37/IF(Worksheet!M37>0,Worksheet!M37,Worksheet!L37),\"\"),\"\")","v":""},{"$f":"IF(ISBLANK(Worksheet!L37)=FALSE,Worksheet!L37,\"\")","v":0},{"$f":"IF(Worksheet!L37<>0, IFERROR(VLOOKUP(Worksheet!$C$16,SavingsSupportTable,3,FALSE)*Worksheet!AQ37*IFERROR(1+VLOOKUP(Worksheet!$C$16,SavingsSupportTable,MATCH(Worksheet!$G$17,HVACe_Options,0)+4,FALSE),1)/IF(Worksheet!M37>0,Worksheet!M37,Worksheet!L37),\"\"),\"\")","v":""},{"$f":"IF(Worksheet!L37<>0, IFERROR(VLOOKUP(Worksheet!$C$16,SavingsSupportTable,2,FALSE)*Worksheet!AQ37*IF(IFERROR(MATCH(Worksheet!$G$17,HVACe_Options,0),0)>0,1+VLOOKUP(Worksheet!$C$16,SavingsSupportTable,4,FALSE),1)/IF(Worksheet!M37>0,Worksheet!M37,Worksheet!L37),\"\"),\"\")","v":""},"",{"$f":"IF(Worksheet!L37<>0,IFERROR(VLOOKUP(Worksheet!$C$16,SavingsSupportTable,3,FALSE)*Worksheet!AQ37*IF(IFERROR(SEARCH(\"Gas\",Worksheet!$G$17),0)>0,VLOOKUP(\"Gas\",HVACg_Lookup,MATCH(Worksheet!$G$16,BuildingSize,0)+1,FALSE),IF(IFERROR(SEARCH(\"Oil\",Worksheet!$G$17),0)>0,VLOOKUP(\"Oil\",HVACg_Lookup,MATCH(Worksheet!$G$16,BuildingSize,0)+1,FALSE),IF(IFERROR(SEARCH(\"Propane\",Worksheet!$G$17),0)>0,VLOOKUP(\"Propane\",HVACg_Lookup,MATCH(Worksheet!$G$16,BuildingSize,0)+1,FALSE),0)))/IF(Worksheet!M37>0,Worksheet!M37,Worksheet!L37),0),\"\")","v":""},"",null,null,null,{"$f":"IF(ISBLANK(Worksheet!M37)=FALSE,Worksheet!M37,\"\")","v":0},{"$f":"IF(Worksheet!A37=\"-\",\"\",IF(Worksheet!A37=\"\",S13,Worksheet!A37))","v":""},{"$f":"IF(S14=\"\",\"\",IF(AND(Worksheet!G37=\"\",Worksheet!H37=\"\")=TRUE,T13,IF(Worksheet!G37=\"\",\"\",Worksheet!G37)))","v":""},{"$f":"IF(S14=\"\",\"\",IF(AND(Worksheet!G37=\"\",Worksheet!H37=\"\")=TRUE,U13,IF(Worksheet!H37=\"\",\"\",Worksheet!H37)))","v":""},{"$f":"IF(Worksheet!N37=\"\",\"\",Worksheet!N37)","v":""},{"$f":"IF(Worksheet!O37=\"\",\"\",Worksheet!O37)","v":""},{"$f":"IF(Worksheet!F37=0,\"\",Worksheet!F37)","v":""},{"$f":"IF(Worksheet!P37=0,\"\",Worksheet!P37)","v":""},{"$f":"IF(Worksheet!$A$11=TRUE,\"Y\",\"N\")","v":"N"},{"$f":"IF(Worksheet!$A$12=TRUE,\"Y\",\"N\")","v":"N"},{"$f":"IF(Worksheet!$B$11=TRUE,\"Y\",\"N\")","v":"N"},{"$f":"IF(Worksheet!$B$12=TRUE,\"Y\",\"N\")","v":"N"},{"$f":"IF(Worksheet!$C$11=TRUE,\"Y\",\"N\")","v":"N"},{"$f":"IF(Worksheet!$C$12=TRUE,\"Y\",\"N\")","v":"N"},""]
[{"$f":"IF(ISERROR(VLOOKUP(Worksheet!N38,MeasureLookup,2,FALSE))=FALSE,VLOOKUP(Worksheet!N38,MeasureLookup,2,FALSE),\"\")","v":""},{"$f":"Worksheet!Q38","v":0},{"$f":"Worksheet!R38","v":0},{"$f":"IF(ISERROR(Worksheet!P38)=FALSE,Worksheet!P38,\"\")","v":0},"Watts",null,null,{"$f":"IF(Worksheet!AP38<>\"\",IF(Worksheet!AP38>0,Worksheet!AP38/IF(Worksheet!M38>0,Worksheet!M38,Worksheet!L38),\"\"),\"\")","v":""},{"$f":"IF(ISBLANK(Worksheet!L38)=FALSE,Worksheet!L38,\"\")","v":0},{"$f":"IF(Worksheet!L38<>0, IFERROR(VLOOKUP(Worksheet!$C$16,SavingsSupportTable,3,FALSE)*Worksheet!AQ38*IFERROR(1+VLOOKUP(Worksheet!$C$16,SavingsSupportTable,MATCH(Worksheet!$G$17,HVACe_Options,0)+4,FALSE),1)/IF(Worksheet!M38>0,Worksheet!M38,Worksheet!L38),\"\"),\"\")","v":""},{"$f":"IF(Worksheet!L38<>0, IFERROR(VLOOKUP(Worksheet!$C$16,SavingsSupportTable,2,FALSE)*Worksheet!AQ38*IF(IFERROR(MATCH(Worksheet!$G$17,HVACe_Options,0),0)>0,1+VLOOKUP(Worksheet!$C$16,SavingsSupportTable,4,FALSE),1)/IF(Worksheet!M38>0,Worksheet!M38,Worksheet!L38),\"\"),\"\")","v":""},"",{"$f":"IF(Worksheet!L38<>0,IFERROR(VLOOKUP(Worksheet!$C$16,SavingsSupportTable,3,FALSE)*Worksheet!AQ38*IF(IFERROR(SEARCH(\"Gas\",Worksheet!$G$17),0)>0,VLOOKUP(\"Gas\",HVACg_Lookup,MATCH(Worksheet!$G$16,BuildingSize,0)+1,FALSE),IF(IFERROR(SEARCH(\"Oil\",Worksheet!$G$17),0)>0,VLOOKUP(\"Oil\",HVACg_Lookup,MATCH(Worksheet!$G$16,BuildingSize,0)+1,FALSE),IF(IFERROR(SEARCH(\"Propane\",Worksheet!$G$17),0)>0,VLOOKUP(\"Propane\",HVACg_Lookup,MATCH(Worksheet!$G$16,BuildingSize,0)+1,FALSE),0)))/IF(Worksheet!M38>0,Worksheet!M38,Worksheet!L38),0),\"\")","v":""},"",null,null,null,{"$f":"IF(ISBLANK(Worksheet!M38)=FALSE,Worksheet!M38,\"\")","v":0},{"$f":"IF(Worksheet!A38=\"-\",\"\",IF(Worksheet!A38=\"\",S14,Worksheet!A38))","v":""},{"$f":"IF(S15=\"\",\"\",IF(AND(Worksheet!G38=\"\",Worksheet!H38=\"\")=TRUE,T14,IF(Worksheet!G38=\"\",\"\",Worksheet!G38)))","v":""},{"$f":"IF(S15=\"\",\"\",IF(AND(Worksheet!G38=\"\",Worksheet!H38=\"\")=TRUE,U14,IF(Worksheet!H38=\"\",\"\",Worksheet!H38)))","v":""},{"$f":"IF(Worksheet!N38=\"\",\"\",Worksheet!N38)","v":""},{"$f":"IF(Worksheet!O38=\"\",\"\",Worksheet!O38)","v":""},{"$f":"IF(Worksheet!F38=0,\"\",Worksheet!F38)","v":""},{"$f":"IF(Worksheet!P38=0,\"\",Worksheet!P38)","v":""},{"$f":"IF(Worksheet!$A$11=TRUE,\"Y\",\"N\")","v":"N"},{"$f":"IF(Worksheet!$A$12=TRUE,\"Y\",\"N\")","v":"N"},{"$f":"IF(Worksheet!$B$11=TRUE,\"Y\",\"N\")","v":"N"},{"$f":"IF(Worksheet!$B$12=TRUE,\"Y\",\"N\")","v":"N"},{"$f":"IF(Worksheet!$C$11=TRUE,\"Y\",\"N\")","v":"N"},{"$f":"IF(Worksheet!$C$12=TRUE,\"Y\",\"N\")","v":"N"},""]
[{"$f":"IF(ISERROR(VLOOKUP(Worksheet!N39,MeasureLookup,2,FALSE))=FALSE,VLOOKUP(Worksheet!N39,MeasureLookup,2,FALSE),\"\")","v":""},{"$f":"Worksheet!Q39","v":0},{"$f":"Worksheet!R39","v":0},{"$f":"IF(ISERROR(Worksheet!P39)=FALSE,Worksheet!P39,\"\")","v":0},"Watts",null,null,{"$f":"IF(Worksheet!AP39<>\"\",IF(Worksheet!AP39>0,Worksheet!AP39/IF(Worksheet!M39>0,Worksheet!M39,Worksheet!L39),\"\"),\"\")","v":""},{"$f":"IF(ISBLANK(Worksheet!L39)=FALSE,Worksheet!L39,\"\")","v":0},{"$f":"IF(Worksheet!L39<>0, IFERROR(VLOOKUP(Worksheet!$C$16,SavingsSupportTable,3,FALSE)*Worksheet!AQ39*IFERROR(1+VLOOKUP(Worksheet!$C$16,SavingsSupportTable,MATCH(Worksheet!$G$17,HVACe_Options,0)+4,FALSE),1)/IF(Worksheet!M39>0,Worksheet!M39,Worksheet!L39),\"\"),\"\")","v":""},{"$f":"IF(Worksheet!L39<>0, IFERROR(VLOOKUP(Worksheet!$C$16,SavingsSupportTable,2,FALSE)*Worksheet!AQ39*IF(IFERROR(MATCH(Worksheet!$G$17,HVACe_Options,0),0)>0,1+VLOOKUP(Worksheet!$C$16,SavingsSupportTable,4,FALSE),1)/IF(Worksheet!M39>0,Worksheet!M39,Worksheet!L39),\"\"),\"\")","v":""},"",{"$f":"IF(Worksheet!L39<>0,IFERROR(VLOOKUP(Worksheet!$C$16,SavingsSupportTable,3,FALSE)*Worksheet!AQ39*IF(IFERROR(SEARCH(\"Gas\",Worksheet!$G$17),0)>0,VLOOKUP(\"Gas\",HVACg_Lookup,MATCH(Worksheet!$G$16,BuildingSize,0)+1,FALSE),IF(IFERROR(SEARCH(\"Oil\",Worksheet!$G$17),0)>0,VLOOKUP(\"Oil\",HVACg_Lookup,MATCH(Worksheet!$G$16,BuildingSize,0)+1,FALSE),IF(IFERROR(SEARCH(\"Propane\",Worksheet!$G$17),0)>0,VLOOKUP(\"Propane\",HVACg_Lookup,MATCH(Worksheet!$G$16,BuildingSize,0)+1,FALSE),0)))/IF(Worksheet!M39>0,Worksheet!M39,Worksheet!L39),0),\"\")","v":""},"",null,null,null,{"$f":"IF(ISBLANK(Worksheet!M39)=FALSE,Worksheet!M39,\"\")","v":0},{"$f":"IF(Worksheet!A39=\"-\",\"\",IF(Worksheet!A39=\"\",S15,Worksheet!A39))","v":""},{"$f":"IF(S16=\"\",\"\",IF(AND(Worksheet!G39=\"\",Worksheet!H39=\"\")=TRUE,T15,IF(Worksheet!G39=\"\",\"\",Worksheet!G39)))","v":""},{"$f":"IF(S16=\"\",\"\",IF(AND(Worksheet!G39=\"\",Worksheet!H39=\"\")=TRUE,U15,IF(Worksheet!H39=\"\",\"\",Worksheet!H39)))","v":""},{"$f":"IF(Worksheet!N39=\"\",\"\",Worksheet!N39)","v":""},{"$f":"IF(Worksheet!O39=\"\",\"\",Worksheet!O39)","v":""},{"$f":"IF(Worksheet!F39=0,\"\",Worksheet!F39)","v":""},{"$f":"IF(Worksheet!P39=0,\"\",Worksheet!P39)","v":""},{"$f":"IF(Worksheet!$A$11=TRUE,\"Y\",\"N\")","v":"N"},{"$f":"IF(Worksheet!$A$12=TRUE,\"Y\",\"N\")","v":"N"},{"$f":"IF(Worksheet!$B$11=TRUE,\"Y\",\"N\")","v":"N"},{"$f":"IF(Worksheet!$B$12=TRUE,\"Y\",\"N\")","v":"N"},{"$f":"IF(Worksheet!$C$11=TRUE,\"Y\",\"N\")","v":"N"},{"$f":"IF(Worksheet!$C$12=TRUE,\"Y\",\"N\")","v":"N"},""]
[{"$f":"IF(ISERROR(VLOOKUP(Worksheet!N40,MeasureLookup,2,FALSE))=FALSE,VLOOKUP(Worksheet!N40,MeasureLookup,2,FALSE),\"\")","v":""},{"$f":"Worksheet!Q40","v":0},{"$f":"Worksheet!R40","v":0},{"$f":"IF(ISERROR(Worksheet!P40)=FALSE,Worksheet!P40,\"\")","v":0},"Watts",null,null,{"$f":"IF(Worksheet!AP40<>\"\",IF(Worksheet!AP40>0,Worksheet!AP40/IF(Worksheet!M40>0,Worksheet!M40,Worksheet!L40),\"\"),\"\")","v":""},{"$f":"IF(ISBLANK(Worksheet!L40)=FALSE,Worksheet!L40,\"\")","v":0},{"$f":"IF(Worksheet!L40<>0, IFERROR(VLOOKUP(Worksheet!$C$16,SavingsSupportTable,3,FALSE)*Worksheet!AQ40*IFERROR(1+VLOOKUP(Worksheet!$C$16,SavingsSupportTable,MATCH(Worksheet!$G$17,HVACe_Options,0)+4,FALSE),1)/IF(Worksheet!M40>0,Worksheet!M40,Worksheet!L40),\"\"),\"\")","v":""},{"$f":"IF(Worksheet!L40<>0, IFERROR(VLOOKUP(Worksheet!$C$16,SavingsSupportTable,2,FALSE)*Worksheet!AQ40*IF(IFERROR(MATCH(Worksheet!$G$17,HVACe_Options,0),0)>0,1+VLOOKUP(Worksheet!$C$16,SavingsSupportTable,4,FALSE),1)/IF(Worksheet!M40>0,Worksheet!M40,Worksheet!L40),\"\"),\"\")","v":""},"",{"$f":"IF(Worksheet!L40<>0,IFERROR(VLOOKUP(Worksheet!$C$16,SavingsSupportTable,3,FALSE)*Worksheet!AQ40*IF(IFERROR(SEARCH(\"Gas\",Worksheet!$G$17),0)>0,VLOOKUP(\"Gas\",HVACg_Lookup,MATCH(Worksheet!$G$16,BuildingSize,0)+1,FALSE),IF(IFERROR(SEARCH(\"Oil\",Worksheet!$G$17),0)>0,VLOOKUP(\"Oil\",HVACg_Lookup,MATCH(Worksheet!$G$16,BuildingSize,0)+1,FALSE),IF(IFERROR(SEARCH(\"Propane\",Worksheet!$G$17),0)>0,VLOOKUP(\"Propane\",HVACg_Lookup,MATCH(Worksheet!$G$16,BuildingSize,0)+1,FALSE),0)))/IF(Worksheet!M40>0,Worksheet!M40,Worksheet!L40),0),\"\")","v":""},"",null,null,null,{"$f":"IF(ISBLANK(Worksheet!M40)=FALSE,Worksheet!M40,\"\")","v":0},{"$f":"IF(Worksheet!A40=\"-\",\"\",IF(Worksheet!A40=\"\",S16,Worksheet!A40))","v":""},{"$f":"IF(S17=\"\",\"\",IF(AND(Worksheet!G40=\"\",Worksheet!H40=\"\")=TRUE,T16,IF(Worksheet!G40=\"\",\"\",Worksheet!G40)))","v":""},{"$f":"IF(S17=\"\",\"\",IF(AND(Worksheet!G40=\"\",Worksheet!H40=\"\")=TRUE,U16,IF(Worksheet!H40=\"\",\"\",Worksheet!H40)))","v":""},{"$f":"IF(Worksheet!N40=\"\",\"\",Worksheet!N40)","v":""},{"$f":"IF(Worksheet!O40=\"\",\"\",Worksheet!O40)","v":""},{"$f":"IF(Worksheet!F40=0,\"\",Worksheet!F40)","v":""},{"$f":"IF(Worksheet!P40=0,\"\",Worksheet!P40)","v":""},{"$f":"IF(Worksheet!$A$11=TRUE,\"Y\",\"N\")","v":"N"},{"$f":"IF(Worksheet!$A$12=TRUE,\"Y\",\"N\")","v":"N"},{"$f":"IF(Worksheet!$B$11=TRUE,\"Y\",\"N\")","v":"N"},{"$f":"IF(Worksheet!$B$12=TRUE,\"Y\",\"N\")","v":"N"},{"$f":"IF(Worksheet!$C$11=TRUE,\"Y\",\"N\")","v":"N"},{"$f":"IF(Worksheet!$C$12=TRUE,\"Y\",\"N\")","v":"N"},""]
[{"$f":"IF(ISERROR(VLOOKUP(Worksheet!N41,MeasureLookup,2,FALSE))=FALSE,VLOOKUP(Worksheet!N41,MeasureLookup,2,FALSE),\"\")","v":""},{"$f":"Worksheet!Q41","v":0},{"$f":"Worksheet!R41","v":0},{"$f":"IF(ISERROR(Worksheet!P41)=FALSE,Worksheet!P41,\"\")","v":0},"Watts",null,null,{"$f":"IF(Worksheet!AP41<>\"\",IF(Worksheet!AP41>0,Worksheet!AP41/IF(Worksheet!M41>0,Worksheet!M41,Worksheet!L41),\"\"),\"\")","v":""},{"$f":"IF(ISBLANK(Worksheet!L41)=FALSE,Worksheet!L41,\"\")","v":0},{"$f":"IF(Worksheet!L41<>0, IFERROR(VLOOKUP(Worksheet!$C$16,SavingsSupportTable,3,FALSE)*Worksheet!AQ41*IFERROR(1+VLOOKUP(Worksheet!$C$16,SavingsSupportTable,MATCH(Worksheet!$G$17,HVACe_Options,0)+4,FALSE),1)/IF(Worksheet!M41>0,Worksheet!M41,Worksheet!L41),\"\"),\"\")","v":""},{"$f":"IF(Worksheet!L41<>0, IFERROR(VLOOKUP(Worksheet!$C$16,SavingsSupportTable,2,FALSE)*Worksheet!AQ41*IF(IFERROR(MATCH(Worksheet!$G$17,HVACe_Options,0),0)>0,1+VLOOKUP(Worksheet!$C$16,SavingsSupportTable,4,FALSE),1)/IF(Worksheet!M41>0,Worksheet!M41,Worksheet!L41),\"\"),\"\")","v":""},"",{"$f":"IF(Worksheet!L41<>0,IFERROR(VLOOKUP(Worksheet!$C$16,SavingsSupportTable,3,FALSE)*Worksheet!AQ41*IF(IFERROR(SEARCH(\"Gas\",Worksheet!$G$17),0)>0,VLOOKUP(\"Gas\",HVACg_Lookup,MATCH(Worksheet!$G$16,BuildingSize,0)+1,FALSE),IF(IFERROR(SEARCH(\"Oil\",Worksheet!$G$17),0)>0,VLOOKUP(\"Oil\",HVACg_Lookup,MATCH(Worksheet!$G$16,BuildingSize,0)+1,FALSE),IF(IFERROR(SEARCH(\"Propane\",Worksheet!$G$17),0)>0,VLOOKUP(\"Propane\",HVACg_Lookup,MATCH(Worksheet!$G$16,BuildingSize,0)+1,FALSE),0)))/IF(Worksheet!M41>0,Worksheet!M41,Worksheet!L41),0),\"\")","v":""},"",null,null,null,{"$f":"IF(ISBLANK(Worksheet!M41)=FALSE,Worksheet!M41,\"\")","v":0},{"$f":"IF(Worksheet!A41=\"-\",\"\",IF(Worksheet!A41=\"\",S17,Worksheet!A41))","v":""},{"$f":"IF(S18=\"\",\"\",IF(AND(Worksheet!G41=\"\",Worksheet!H41=\"\")=TRUE,T17,IF(Worksheet!G41=\"\",\"\",Worksheet!G41)))","v":""},{"$f":"IF(S18=\"\",\"\",IF(AND(Worksheet!G41=\"\",Worksheet!H41=\"\")=TRUE,U17,IF(Worksheet!H41=\"\",\"\",Worksheet!H41)))","v":""},{"$f":"IF(Worksheet!N41=\"\",\"\",Worksheet!N41)","v":""},{"$f":"IF(Worksheet!O41=\"\",\"\",Worksheet!O41)","v":""},{"$f":"IF(Worksheet!F41=0,\"\",Worksheet!F41)","v":""},{"$f":"IF(Worksheet!P41=0,\"\",Worksheet!P41)","v":""},{"$f":"IF(Worksheet!$A$11=TRUE,\"Y\",\"N\")","v":"N"},{"$f":"IF(Worksheet!$A$12=TRUE,\"Y\",\"N\")","v":"N"},{"$f":"IF(Worksheet!$B$11=TRUE,\"Y\",\"N\")","v":"N"},{"$f":"IF(Worksheet!$B$12=TRUE,\"Y\",\"N\")","v":"N"},{"$f":"IF(Worksheet!$C$11=TRUE,\"Y\",\"N\")","v":"N"},{"$f":"IF(Worksheet!$C$12=TRUE,\"Y\",\"N\")","v":"N"},""]
[{"$f":"IF(ISERROR(VLOOKUP(Worksheet!N42,MeasureLookup,2,FALSE))=FALSE,VLOOKUP(Worksheet!N42,MeasureLookup,2,FALSE),\"\")","v":""},{"$f":"Worksheet!Q42","v":0},{"$f":"Worksheet!R42","v":0},{"$f":"IF(ISERROR(Worksheet!P42)=FALSE,Worksheet!P42,\"\")","v":0},"Watts",null,null,{"$f":"IF(Worksheet!AP42<>\"\",IF(Worksheet!AP42>0,Worksheet!AP42/IF(Worksheet!M42>0,Worksheet!M42,Worksheet!L42),\"\"),\"\")","v":""},{"$f":"IF(ISBLANK(Worksheet!L42)=FALSE,Worksheet!L42,\"\")","v":0},{"$f":"IF(Worksheet!L42<>0, IFERROR(VLOOKUP(Worksheet!$C$16,SavingsSupportTable,3,FALSE)*Worksheet!AQ42*IFERROR(1+VLOOKUP(Worksheet!$C$16,SavingsSupportTable,MATCH(Worksheet!$G$17,HVACe_Options,0)+4,FALSE),1)/IF(Worksheet!M42>0,Worksheet!M42,Worksheet!L42),\"\"),\"\")","v":""},{"$f":"IF(Worksheet!L42<>0, IFERROR(VLOOKUP(Worksheet!$C$16,SavingsSupportTable,2,FALSE)*Worksheet!AQ42*IF(IFERROR(MATCH(Worksheet!$G$17,HVACe_Options,0),0)>0,1+VLOOKUP(Worksheet!$C$16,SavingsSupportTable,4,FALSE),1)/IF(Worksheet!M42>0,Worksheet!M42,Worksheet!L42),\"\"),\"\")","v":""},"",{"$f":"IF(Worksheet!L42<>0,IFERROR(VLOOKUP(Worksheet!$C$16,SavingsSupportTable,3,FALSE)*Worksheet!AQ42*IF(IFERROR(SEARCH(\"Gas\",Worksheet!$G$17),0)>0,VLOOKUP(\"Gas\",HVACg_Lookup,MATCH(Worksheet!$G$16,BuildingSize,0)+1,FALSE),IF(IFERROR(SEARCH(\"Oil\",Worksheet!$G$17),0)>0,VLOOKUP(\"Oil\",HVACg_Lookup,MATCH(Worksheet!$G$16,BuildingSize,0)+1,FALSE),IF(IFERROR(SEARCH(\"Propane\",Worksheet!$G$17),0)>0,VLOOKUP(\"Propane\",HVACg_Lookup,MATCH(Worksheet!$G$16,BuildingSize,0)+1,FALSE),0)))/IF(Worksheet!M42>0,Worksheet!M42,Worksheet!L42),0),\"\")","v":""},"",null,null,null,{"$f":"IF(ISBLANK(Worksheet!M42)=FALSE,Worksheet!M42,\"\")","v":0},{"$f":"IF(Worksheet!A42=\"-\",\"\",IF(Worksheet!A42=\"\",S18,Worksheet!A42))","v":""},{"$f":"IF(S19=\"\",\"\",IF(AND(Worksheet!G42=\"\",Worksheet!H42=\"\")=TRUE,T18,IF(Worksheet!G42=\"\",\"\",Worksheet!G42)))","v":""},{"$f":"IF(S19=\"\",\"\",IF(AND(Worksheet!G42=\"\",Worksheet!H42=\"\")=TRUE,U18,IF(Worksheet!H42=\"\",\"\",Worksheet!H42)))","v":""},{"$f":"IF(Worksheet!N42=\"\",\"\",Worksheet!N42)","v":""},{"$f":"IF(Worksheet!O42=\"\",\"\",Worksheet!O42)","v":""},{"$f":"IF(Worksheet!F42=0,\"\",Worksheet!F42)","v":""},{"$f":"IF(Worksheet!P42=0,\"\",Worksheet!P42)","v":""},{"$f":"IF(Worksheet!$A$11=TRUE,\"Y\",\"N\")","v":"N"},{"$f":"IF(Worksheet!$A$12=TRUE,\"Y\",\"N\")","v":"N"},{"$f":"IF(Worksheet!$B$11=TRUE,\"Y\",\"N\")","v":"N"},{"$f":"IF(Worksheet!$B$12=TRUE,\"Y\",\"N\")","v":"N"},{"$f":"IF(Worksheet!$C$11=TRUE,\"Y\",\"N\")","v":"N"},{"$f":"IF(Worksheet!$C$12=TRUE,\"Y\",\"N\")","v":"N"},""]
[{"$f":"IF(ISERROR(VLOOKUP(Worksheet!N43,MeasureLookup,2,FALSE))=FALSE,VLOOKUP(Worksheet!N43,MeasureLookup,2,FALSE),\"\")","v":""},{"$f":"Worksheet!Q43","v":0},{"$f":"Worksheet!R43","v":0},{"$f":"IF(ISERROR(Worksheet!P43)=FALSE,Worksheet!P43,\"\")","v":0},"Watts",null,null,{"$f":"IF(Worksheet!AP43<>\"\",IF(Worksheet!AP43>0,Worksheet!AP43/IF(Worksheet!M43>0,Worksheet!M43,Worksheet!L43),\"\"),\"\")","v":""},{"$f":"IF(ISBLANK(Worksheet!L43)=FALSE,Worksheet!L43,\"\")","v":0},{"$f":"IF(Worksheet!L43<>0, IFERROR(VLOOKUP(Worksheet!$C$16,SavingsSupportTable,3,FALSE)*Worksheet!AQ43*IFERROR(1+VLOOKUP(Worksheet!$C$16,SavingsSupportTable,MATCH(Worksheet!$G$17,HVACe_Options,0)+4,FALSE),1)/IF(Worksheet!M43>0,Worksheet!M43,Worksheet!L43),\"\"),\"\")","v":""},{"$f":"IF(Worksheet!L43<>0, IFERROR(VLOOKUP(Worksheet!$C$16,SavingsSupportTable,2,FALSE)*Worksheet!AQ43*IF(IFERROR(MATCH(Worksheet!$G$17,HVACe_Options,0),0)>0,1+VLOOKUP(Worksheet!$C$16,SavingsSupportTable,4,FALSE),1)/IF(Worksheet!M43>0,Worksheet!M43,Worksheet!L43),\"\"),\"\")","v":""},"",{"$f":"IF(Worksheet!L43<>0,IFERROR(VLOOKUP(Worksheet!$C$16,SavingsSupportTable,3,FALSE)*Worksheet!AQ43*IF(IFERROR(SEARCH(\"Gas\",Worksheet!$G$17),0)>0,VLOOKUP(\"Gas\",HVACg_Lookup,MATCH(Worksheet!$G$16,BuildingSize,0)+1,FALSE),IF(IFERROR(SEARCH(\"Oil\",Worksheet!$G$17),0)>0,VLOOKUP(\"Oil\",HVACg_Lookup,MATCH(Worksheet!$G$16,BuildingSize,0)+1,FALSE),IF(IFERROR(SEARCH(\"Propane\",Worksheet!$G$17),0)>0,VLOOKUP(\"Propane\",HVACg_Lookup,MATCH(Worksheet!$G$16,BuildingSize,0)+1,FALSE),0)))/IF(Worksheet!M43>0,Worksheet!M43,Worksheet!L43),0),\"\")","v":""},"",null,null,null,{"$f":"IF(ISBLANK(Worksheet!M43)=FALSE,Worksheet!M43,\"\")","v":0},{"$f":"IF(Worksheet!A43=\"-\",\"\",IF(Worksheet!A43=\"\",S19,Worksheet!A43))","v":""},{"$f":"IF(S20=\"\",\"\",IF(AND(Worksheet!G43=\"\",Worksheet!H43=\"\")=TRUE,T19,IF(Worksheet!G43=\"\",\"\",Worksheet!G43)))","v":""},{"$f":"IF(S20=\"\",\"\",IF(AND(Worksheet!G43=\"\",Worksheet!H43=\"\")=TRUE,U19,IF(Worksheet!H43=\"\",\"\",Worksheet!H43)))","v":""},{"$f":"IF(Worksheet!N43=\"\",\"\",Worksheet!N43)","v":""},{"$f":"IF(Worksheet!O43=\"\",\"\",Worksheet!O43)","v":""},{"$f":"IF(Worksheet!F43=0,\"\",Worksheet!F43)","v":""},{"$f":"IF(Worksheet!P43=0,\"\",Worksheet!P43)","v":""},{"$f":"IF(Worksheet!$A$11=TRUE,\"Y\",\"N\")","v":"N"},{"$f":"IF(Worksheet!$A$12=TRUE,\"Y\",\"N\")","v":"N"},{"$f":"IF(Worksheet!$B$11=TRUE,\"Y\",\"N\")","v":"N"},{"$f":"IF(Worksheet!$B$12=TRUE,\"Y\",\"N\")","v":"N"},{"$f":"IF(Worksheet!$C$11=TRUE,\"Y\",\"N\")","v":"N"},{"$f":"IF(Worksheet!$C$12=TRUE,\"Y\",\"N\")","v":"N"},""]
[{"$f":"IF(ISERROR(VLOOKUP(Worksheet!N44,MeasureLookup,2,FALSE))=FALSE,VLOOKUP(Worksheet!N44,MeasureLookup,2,FALSE),\"\")","v":""},{"$f":"Worksheet!Q44","v":0},{"$f":"Worksheet!R44","v":0},{"$f":"IF(ISERROR(Worksheet!P44)=FALSE,Worksheet!P44,\"\")","v":0},"Watts",null,null,{"$f":"IF(Worksheet!AP44<>\"\",IF(Worksheet!AP44>0,Worksheet!AP44/IF(Worksheet!M44>0,Worksheet!M44,Worksheet!L44),\"\"),\"\")","v":""},{"$f":"IF(ISBLANK(Worksheet!L44)=FALSE,Worksheet!L44,\"\")","v":0},{"$f":"IF(Worksheet!L44<>0, IFERROR(VLOOKUP(Worksheet!$C$16,SavingsSupportTable,3,FALSE)*Worksheet!AQ44*IFERROR(1+VLOOKUP(Worksheet!$C$16,SavingsSupportTable,MATCH(Worksheet!$G$17,HVACe_Options,0)+4,FALSE),1)/IF(Worksheet!M44>0,Worksheet!M44,Worksheet!L44),\"\"),\"\")","v":""},{"$f":"IF(Worksheet!L44<>0, IFERROR(VLOOKUP(Worksheet!$C$16,SavingsSupportTable,2,FALSE)*Worksheet!AQ44*IF(IFERROR(MATCH(Worksheet!$G$17,HVACe_Options,0),0)>0,1+VLOOKUP(Worksheet!$C$16,SavingsSupportTable,4,FALSE),1)/IF(Worksheet!M44>0,Worksheet!M44,Worksheet!L44),\"\"),\"\")","v":""},"",{"$f":"IF(Worksheet!L44<>0,IFERROR(VLOOKUP(Worksheet!$C$16,SavingsSupportTable,3,FALSE)*Worksheet!AQ44*IF(IFERROR(SEARCH(\"Gas\",Worksheet!$G$17),0)>0,VLOOKUP(\"Gas\",HVACg_Lookup,MATCH(Worksheet!$G$16,BuildingSize,0)+1,FALSE),IF(IFERROR(SEARCH(\"Oil\",Worksheet!$G$17),0)>0,VLOOKUP(\"Oil\",HVACg_Lookup,MATCH(Worksheet!$G$16,BuildingSize,0)+1,FALSE),IF(IFERROR(SEARCH(\"Propane\",Worksheet!$G$17),0)>0,VLOOKUP(\"Propane\",HVACg_Lookup,MATCH(Worksheet!$G$16,BuildingSize,0)+1,FALSE),0)))/IF(Worksheet!M44>0,Worksheet!M44,Worksheet!L44),0),\"\")","v":""},"",null,null,null,{"$f":"IF(ISBLANK(Worksheet!M44)=FALSE,Worksheet!M44,\"\")","v":0},{"$f":"IF(Worksheet!A44=\"-\",\"\",IF(Worksheet!A44=\"\",S20,Worksheet!A44))","v":""},{"$f":"IF(S21=\"\",\"\",IF(AND(Worksheet!G44=\"\",Worksheet!H44=\"\")=TRUE,T20,IF(Worksheet!G44=\"\",\"\",Worksheet!G44)))","v":""},{"$f":"IF(S21=\"\",\"\",IF(AND(Worksheet!G44=\"\",Worksheet!H44=\"\")=TRUE,U20,IF(Worksheet!H44=\"\",\"\",Worksheet!H44)))","v":""},{"$f":"IF(Worksheet!N44=\"\",\"\",Worksheet!N44)","v":""},{"$f":"IF(Worksheet!O44=\"\",\"\",Worksheet!O44)","v":""},{"$f":"IF(Worksheet!F44=0,\"\",Worksheet!F44)","v":""},{"$f":"IF(Worksheet!P44=0,\"\",Worksheet!P44)","v":""},{"$f":"IF(Worksheet!$A$11=TRUE,\"Y\",\"N\")","v":"N"},{"$f":"IF(Worksheet!$A$12=TRUE,\"Y\",\"N\")","v":"N"},{"$f":"IF(Worksheet!$B$11=TRUE,\"Y\",\"N\")","v":"N"},{"$f":"IF(Worksheet!$B$12=TRUE,\"Y\",\"N\")","v":"N"},{"$f":"IF(Worksheet!$C$11=TRUE,\"Y\",\"N\")","v":"N"},{"$f":"IF(Worksheet!$C$12=TRUE,\"Y\",\"N\")","v":"N"},""]
[{"$f":"IF(ISERROR(VLOOKUP(Worksheet!N45,MeasureLookup,2,FALSE))=FALSE,VLOOKUP(Worksheet!N45,MeasureLookup,2,FALSE),\"\")","v":""},{"$f":"Worksheet!Q45","v":0},{"$f":"Worksheet!R45","v":0},{"$f":"IF(ISERROR(Worksheet!P45)=FALSE,Worksheet!P45,\"\")","v":0},"Watts",null,null,{"$f":"IF(Worksheet!AP45<>\"\",IF(Worksheet!AP45>0,Worksheet!AP45/IF(Worksheet!M45>0,Worksheet!M45,Worksheet!L45),\"\"),\"\")","v":""},{"$f":"IF(ISBLANK(Worksheet!L45)=FALSE,Worksheet!L45,\"\")","v":0},{"$f":"IF(Worksheet!L45<>0, IFERROR(VLOOKUP(Worksheet!$C$16,SavingsSupportTable,3,FALSE)*Worksheet!AQ45*IFERROR(1+VLOOKUP(Worksheet!$C$16,SavingsSupportTable,MATCH(Worksheet!$G$17,HVACe_Options,0)+4,FALSE),1)/IF(Worksheet!M45>0,Worksheet!M45,Worksheet!L45),\"\"),\"\")","v":""},{"$f":"IF(Worksheet!L45<>0, IFERROR(VLOOKUP(Worksheet!$C$16,SavingsSupportTable,2,FALSE)*Worksheet!AQ45*IF(IFERROR(MATCH(Worksheet!$G$17,HVACe_Options,0),0)>0,1+VLOOKUP(Worksheet!$C$16,SavingsSupportTable,4,FALSE),1)/IF(Worksheet!M45>0,Worksheet!M45,Worksheet!L45),\"\"),\"\")","v":""},"",{"$f":"IF(Worksheet!L45<>0,IFERROR(VLOOKUP(Worksheet!$C$16,SavingsSupportTable,3,FALSE)*Worksheet!AQ45*IF(IFERROR(SEARCH(\"Gas\",Worksheet!$G$17),0)>0,VLOOKUP(\"Gas\",HVACg_Lookup,MATCH(Worksheet!$G$16,BuildingSize,0)+1,FALSE),IF(IFERROR(SEARCH(\"Oil\",Worksheet!$G$17),0)>0,VLOOKUP(\"Oil\",HVACg_Lookup,MATCH(Worksheet!$G$16,BuildingSize,0)+1,FALSE),IF(IFERROR(SEARCH(\"Propane\",Worksheet!$G$17),0)>0,VLOOKUP(\"Propane\",HVACg_Lookup,MATCH(Worksheet!$G$16,BuildingSize,0)+1,FALSE),0)))/IF(Worksheet!M45>0,Worksheet!M45,Worksheet!L45),0),\"\")","v":""},"",null,null,null,{"$f":"IF(ISBLANK(Worksheet!M45)=FALSE,Worksheet!M45,\"\")","v":0},{"$f":"IF(Worksheet!A45=\"-\",\"\",IF(Worksheet!A45=\"\",S21,Worksheet!A45))","v":""},{"$f":"IF(S22=\"\",\"\",IF(AND(Worksheet!G45=\"\",Worksheet!H45=\"\")=TRUE,T21,IF(Worksheet!G45=\"\",\"\",Worksheet!G45)))","v":""},{"$f":"IF(S22=\"\",\"\",IF(AND(Worksheet!G45=\"\",Worksheet!H45=\"\")=TRUE,U21,IF(Worksheet!H45=\"\",\"\",Worksheet!H45)))","v":""},{"$f":"IF(Worksheet!N45=\"\",\"\",Worksheet!N45)","v":""},{"$f":"IF(Worksheet!O45=\"\",\"\",Worksheet!O45)","v":""},{"$f":"IF(Worksheet!F45=0,\"\",Worksheet!F45)","v":""},{"$f":"IF(Worksheet!P45=0,\"\",Worksheet!P45)","v":""},{"$f":"IF(Worksheet!$A$11=TRUE,\"Y\",\"N\")","v":"N"},{"$f":"IF(Worksheet!$A$12=TRUE,\"Y\",\"N\")","v":"N"},{"$f":"IF(Worksheet!$B$11=TRUE,\"Y\",\"N\")","v":"N"},{"$f":"IF(Worksheet!$B$12=TRUE,\"Y\",\"N\")","v":"N"},{"$f":"IF(Worksheet!$C$11=TRUE,\"Y\",\"N\")","v":"N"},{"$f":"IF(Worksheet!$C$12=TRUE,\"Y\",\"N\")","v":"N"},""]
[{"$f":"IF(ISERROR(VLOOKUP(Worksheet!N46,MeasureLookup,2,FALSE))=FALSE,VLOOKUP(Worksheet!N46,MeasureLookup,2,FALSE),\"\")","v":""},{"$f":"Worksheet!Q46","v":0},{"$f":"Worksheet!R46","v":0},{"$f":"IF(ISERROR(Worksheet!P46)=FALSE,Worksheet!P46,\"\")","v":0},"Watts",null,null,{"$f":"IF(Worksheet!AP46<>\"\",IF(Worksheet!AP46>0,Worksheet!AP46/IF(Worksheet!M46>0,Worksheet!M46,Worksheet!L46),\"\"),\"\")","v":""},{"$f":"IF(ISBLANK(Worksheet!L46)=FALSE,Worksheet!L46,\"\")","v":0},{"$f":"IF(Worksheet!L46<>0, IFERROR(VLOOKUP(Worksheet!$C$16,SavingsSupportTable,3,FALSE)*Worksheet!AQ46*IFERROR(1+VLOOKUP(Worksheet!$C$16,SavingsSupportTable,MATCH(Worksheet!$G$17,HVACe_Options,0)+4,FALSE),1)/IF(Worksheet!M46>0,Worksheet!M46,Worksheet!L46),\"\"),\"\")","v":""},{"$f":"IF(Worksheet!L46<>0, IFERROR(VLOOKUP(Worksheet!$C$16,SavingsSupportTable,2,FALSE)*Worksheet!AQ46*IF(IFERROR(MATCH(Worksheet!$G$17,HVACe_Options,0),0)>0,1+VLOOKUP(Worksheet!$C$16,SavingsSupportTable,4,FALSE),1)/IF(Worksheet!M46>0,Worksheet!M46,Worksheet!L46),\"\"),\"\")","v":""},"",{"$f":"IF(Worksheet!L46<>0,IFERROR(VLOOKUP(Worksheet!$C$16,SavingsSupportTable,3,FALSE)*Worksheet!AQ46*IF(IFERROR(SEARCH(\"Gas\",Worksheet!$G$17),0)>0,VLOOKUP(\"Gas\",HVACg_Lookup,MATCH(Worksheet!$G$16,BuildingSize,0)+1,FALSE),IF(IFERROR(SEARCH(\"Oil\",Worksheet!$G$17),0)>0,VLOOKUP(\"Oil\",HVACg_Lookup,MATCH(Worksheet!$G$16,BuildingSize,0)+1,FALSE),IF(IFERROR(SEARCH(\"Propane\",Worksheet!$G$17),0)>0,VLOOKUP(\"Propane\",HVACg_Lookup,MATCH(Worksheet!$G$16,BuildingSize,0)+1,FALSE),0)))/IF(Worksheet!M46>0,Worksheet!M46,Worksheet!L46),0),\"\")","v":""},"",null,null,null,{"$f":"IF(ISBLANK(Worksheet!M46)=FALSE,Worksheet!M46,\"\")","v":0},{"$f":"IF(Worksheet!A46=\"-\",\"\",IF(Worksheet!A46=\"\",S22,Worksheet!A46))","v":""},{"$f":"IF(S23=\"\",\"\",IF(AND(Worksheet!G46=\"\",Worksheet!H46=\"\")=TRUE,T22,IF(Worksheet!G46=\"\",\"\",Worksheet!G46)))","v":""},{"$f":"IF(S23=\"\",\"\",IF(AND(Worksheet!G46=\"\",Worksheet!H46=\"\")=TRUE,U22,IF(Worksheet!H46=\"\",\"\",Worksheet!H46)))","v":""},{"$f":"IF(Worksheet!N46=\"\",\"\",Worksheet!N46)","v":""},{"$f":"IF(Worksheet!O46=\"\",\"\",Worksheet!O46)","v":""},{"$f":"IF(Worksheet!F46=0,\"\",Worksheet!F46)","v":""},{"$f":"IF(Worksheet!P46=0,\"\",Worksheet!P46)","v":""},{"$f":"IF(Worksheet!$A$11=TRUE,\"Y\",\"N\")","v":"N"},{"$f":"IF(Worksheet!$A$12=TRUE,\"Y\",\"N\")","v":"N"},{"$f":"IF(Worksheet!$B$11=TRUE,\"Y\",\"N\")","v":"N"},{"$f":"IF(Worksheet!$B$12=TRUE,\"Y\",\"N\")","v":"N"},{"$f":"IF(Worksheet!$C$11=TRUE,\"Y\",\"N\")","v":"N"},{"$f":"IF(Worksheet!$C$12=TRUE,\"Y\",\"N\")","v":"N"},""]
[{"$f":"IF(ISERROR(VLOOKUP(Worksheet!N47,MeasureLookup,2,FALSE))=FALSE,VLOOKUP(Worksheet!N47,MeasureLookup,2,FALSE),\"\")","v":""},{"$f":"Worksheet!Q47","v":0},{"$f":"Worksheet!R47","v":0},{"$f":"IF(ISERROR(Worksheet!P47)=FALSE,Worksheet!P47,\"\")","v":0},"Watts",null,null,{"$f":"IF(Worksheet!AP47<>\"\",IF(Worksheet!AP47>0,Worksheet!AP47/IF(Worksheet!M47>0,Worksheet!M47,Worksheet!L47),\"\"),\"\")","v":""},{"$f":"IF(ISBLANK(Worksheet!L47)=FALSE,Worksheet!L47,\"\")","v":0},{"$f":"IF(Worksheet!L47<>0, IFERROR(VLOOKUP(Worksheet!$C$16,SavingsSupportTable,3,FALSE)*Worksheet!AQ47*IFERROR(1+VLOOKUP(Worksheet!$C$16,SavingsSupportTable,MATCH(Worksheet!$G$17,HVACe_Options,0)+4,FALSE),1)/IF(Worksheet!M47>0,Worksheet!M47,Worksheet!L47),\"\"),\"\")","v":""},{"$f":"IF(Worksheet!L47<>0, IFERROR(VLOOKUP(Worksheet!$C$16,SavingsSupportTable,2,FALSE)*Worksheet!AQ47*IF(IFERROR(MATCH(Worksheet!$G$17,HVACe_Options,0),0)>0,1+VLOOKUP(Worksheet!$C$16,SavingsSupportTable,4,FALSE),1)/IF(Worksheet!M47>0,Worksheet!M47,Worksheet!L47),\"\"),\"\")","v":""},"",{"$f":"IF(Worksheet!L47<>0,IFERROR(VLOOKUP(Worksheet!$C$16,SavingsSupportTable,3,FALSE)*Worksheet!AQ47*IF(IFERROR(SEARCH(\"Gas\",Worksheet!$G$17),0)>0,VLOOKUP(\"Gas\",HVACg_Lookup,MATCH(Worksheet!$G$16,BuildingSize,0)+1,FALSE),IF(IFERROR(SEARCH(\"Oil\",Worksheet!$G$17),0)>0,VLOOKUP(\"Oil\",HVACg_Lookup,MATCH(Worksheet!$G$16,BuildingSize,0)+1,FALSE),IF(IFERROR(SEARCH(\"Propane\",Worksheet!$G$17),0)>0,VLOOKUP(\"Propane\",HVACg_Lookup,MATCH(Worksheet!$G$16,BuildingSize,0)+1,FALSE),0)))/IF(Worksheet!M47>0,Worksheet!M47,Worksheet!L47),0),\"\")","v":""},"",null,null,null,{"$f":"IF(ISBLANK(Worksheet!M47)=FALSE,Worksheet!M47,\"\")","v":0},{"$f":"IF(Worksheet!A47=\"-\",\"\",IF(Worksheet!A47=\"\",S23,Worksheet!A47))","v":""},{"$f":"IF(S24=\"\",\"\",IF(AND(Worksheet!G47=\"\",Worksheet!H47=\"\")=TRUE,T23,IF(Worksheet!G47=\"\",\"\",Worksheet!G47)))","v":""},{"$f":"IF(S24=\"\",\"\",IF(AND(Worksheet!G47=\"\",Worksheet!H47=\"\")=TRUE,U23,IF(Worksheet!H47=\"\",\"\",Worksheet!H47)))","v":""},{"$f":"IF(Worksheet!N47=\"\",\"\",Worksheet!N47)","v":""},{"$f":"IF(Worksheet!O47=\"\",\"\",Worksheet!O47)","v":""},{"$f":"IF(Worksheet!F47=0,\"\",Worksheet!F47)","v":""},{"$f":"IF(Worksheet!P47=0,\"\",Worksheet!P47)","v":""},{"$f":"IF(Worksheet!$A$11=TRUE,\"Y\",\"N\")","v":"N"},{"$f":"IF(Worksheet!$A$12=TRUE,\"Y\",\"N\")","v":"N"},{"$f":"IF(Worksheet!$B$11=TRUE,\"Y\",\"N\")","v":"N"},{"$f":"IF(Worksheet!$B$12=TRUE,\"Y\",\"N\")","v":"N"},{"$f":"IF(Worksheet!$C$11=TRUE,\"Y\",\"N\")","v":"N"},{"$f":"IF(Worksheet!$C$12=TRUE,\"Y\",\"N\")","v":"N"},""]
[{"$f":"IF(ISERROR(VLOOKUP(Worksheet!N48,MeasureLookup,2,FALSE))=FALSE,VLOOKUP(Worksheet!N48,MeasureLookup,2,FALSE),\"\")","v":""},{"$f":"Worksheet!Q48","v":0},{"$f":"Worksheet!R48","v":0},{"$f":"IF(ISERROR(Worksheet!P48)=FALSE,Worksheet!P48,\"\")","v":0},"Watts",null,null,{"$f":"IF(Worksheet!AP48<>\"\",IF(Worksheet!AP48>0,Worksheet!AP48/IF(Worksheet!M48>0,Worksheet!M48,Worksheet!L48),\"\"),\"\")","v":""},{"$f":"IF(ISBLANK(Worksheet!L48)=FALSE,Worksheet!L48,\"\")","v":0},{"$f":"IF(Worksheet!L48<>0, IFERROR(VLOOKUP(Worksheet!$C$16,SavingsSupportTable,3,FALSE)*Worksheet!AQ48*IFERROR(1+VLOOKUP(Worksheet!$C$16,SavingsSupportTable,MATCH(Worksheet!$G$17,HVACe_Options,0)+4,FALSE),1)/IF(Worksheet!M48>0,Worksheet!M48,Worksheet!L48),\"\"),\"\")","v":""},{"$f":"IF(Worksheet!L48<>0, IFERROR(VLOOKUP(Worksheet!$C$16,SavingsSupportTable,2,FALSE)*Worksheet!AQ48*IF(IFERROR(MATCH(Worksheet!$G$17,HVACe_Options,0),0)>0,1+VLOOKUP(Worksheet!$C$16,SavingsSupportTable,4,FALSE),1)/IF(Worksheet!M48>0,Worksheet!M48,Worksheet!L48),\"\"),\"\")","v":""},"",{"$f":"IF(Worksheet!L48<>0,IFERROR(VLOOKUP(Worksheet!$C$16,SavingsSupportTable,3,FALSE)*Worksheet!AQ48*IF(IFERROR(SEARCH(\"Gas\",Worksheet!$G$17),0)>0,VLOOKUP(\"Gas\",HVACg_Lookup,MATCH(Worksheet!$G$16,BuildingSize,0)+1,FALSE),IF(IFERROR(SEARCH(\"Oil\",Worksheet!$G$17),0)>0,VLOOKUP(\"Oil\",HVACg_Lookup,MATCH(Worksheet!$G$16,BuildingSize,0)+1,FALSE),IF(IFERROR(SEARCH(\"Propane\",Worksheet!$G$17),0)>0,VLOOKUP(\"Propane\",HVACg_Lookup,MATCH(Worksheet!$G$16,BuildingSize,0)+1,FALSE),0)))/IF(Worksheet!M48>0,Worksheet!M48,Worksheet!L48),0),\"\")","v":""},"",null,null,null,{"$f":"IF(ISBLANK(Worksheet!M48)=FALSE,Worksheet!M48,\"\")","v":0},{"$f":"IF(Worksheet!A48=\"-\",\"\",IF(Worksheet!A48=\"\",S24,Worksheet!A48))","v":""},{"$f":"IF(S25=\"\",\"\",IF(AND(Worksheet!G48=\"\",Worksheet!H48=\"\")=TRUE,T24,IF(Worksheet!G48=\"\",\"\",Worksheet!G48)))","v":""},{"$f":"IF(S25=\"\",\"\",IF(AND(Worksheet!G48=\"\",Worksheet!H48=\"\")=TRUE,U24,IF(Worksheet!H48=\"\",\"\",Worksheet!H48)))","v":""},{"$f":"IF(Worksheet!N48=\"\",\"\",Worksheet!N48)","v":""},{"$f":"IF(Worksheet!O48=\"\",\"\",Worksheet!O48)","v":""},{"$f":"IF(Worksheet!F48=0,\"\",Worksheet!F48)","v":""},{"$f":"IF(Worksheet!P48=0,\"\",Worksheet!P48)","v":""},{"$f":"IF(Worksheet!$A$11=TRUE,\"Y\",\"N\")","v":"N"},{"$f":"IF(Worksheet!$A$12=TRUE,\"Y\",\"N\")","v":"N"},{"$f":"IF(Worksheet!$B$11=TRUE,\"Y\",\"N\")","v":"N"},{"$f":"IF(Worksheet!$B$12=TRUE,\"Y\",\"N\")","v":"N"},{"$f":"IF(Worksheet!$C$11=TRUE,\"Y\",\"N\")","v":"N"},{"$f":"IF(Worksheet!$C$12=TRUE,\"Y\",\"N\")","v":"N"},""]
[{"$f":"IF(ISERROR(VLOOKUP(Worksheet!N49,MeasureLookup,2,FALSE))=FALSE,VLOOKUP(Worksheet!N49,MeasureLookup,2,FALSE),\"\")","v":""},{"$f":"Worksheet!Q49","v":0},{"$f":"Worksheet!R49","v":0},{"$f":"IF(ISERROR(Worksheet!P49)=FALSE,Worksheet!P49,\"\")","v":0},"Watts",null,null,{"$f":"IF(Worksheet!AP49<>\"\",IF(Worksheet!AP49>0,Worksheet!AP49/IF(Worksheet!M49>0,Worksheet!M49,Worksheet!L49),\"\"),\"\")","v":""},{"$f":"IF(ISBLANK(Worksheet!L49)=FALSE,Worksheet!L49,\"\")","v":0},{"$f":"IF(Worksheet!L49<>0, IFERROR(VLOOKUP(Worksheet!$C$16,SavingsSupportTable,3,FALSE)*Worksheet!AQ49*IFERROR(1+VLOOKUP(Worksheet!$C$16,SavingsSupportTable,MATCH(Worksheet!$G$17,HVACe_Options,0)+4,FALSE),1)/IF(Worksheet!M49>0,Worksheet!M49,Worksheet!L49),\"\"),\"\")","v":""},{"$f":"IF(Worksheet!L49<>0, IFERROR(VLOOKUP(Worksheet!$C$16,SavingsSupportTable,2,FALSE)*Worksheet!AQ49*IF(IFERROR(MATCH(Worksheet!$G$17,HVACe_Options,0),0)>0,1+VLOOKUP(Worksheet!$C$16,SavingsSupportTable,4,FALSE),1)/IF(Worksheet!M49>0,Worksheet!M49,Worksheet!L49),\"\"),\"\")","v":""},"",{"$f":"IF(Worksheet!L49<>0,IFERROR(VLOOKUP(Worksheet!$C$16,SavingsSupportTable,3,FALSE)*Worksheet!AQ49*IF(IFERROR(SEARCH(\"Gas\",Worksheet!$G$17),0)>0,VLOOKUP(\"Gas\",HVACg_Lookup,MATCH(Worksheet!$G$16,BuildingSize,0)+1,FALSE),IF(IFERROR(SEARCH(\"Oil\",Worksheet!$G$17),0)>0,VLOOKUP(\"Oil\",HVACg_Lookup,MATCH(Worksheet!$G$16,BuildingSize,0)+1,FALSE),IF(IFERROR(SEARCH(\"Propane\",Worksheet!$G$17),0)>0,VLOOKUP(\"Propane\",HVACg_Lookup,MATCH(Worksheet!$G$16,BuildingSize,0)+1,FALSE),0)))/IF(Worksheet!M49>0,Worksheet!M49,Worksheet!L49),0),\"\")","v":""},"",null,null,null,{"$f":"IF(ISBLANK(Worksheet!M49)=FALSE,Worksheet!M49,\"\")","v":0},{"$f":"IF(Worksheet!A49=\"-\",\"\",IF(Worksheet!A49=\"\",S25,Worksheet!A49))","v":""},{"$f":"IF(S26=\"\",\"\",IF(AND(Worksheet!G49=\"\",Worksheet!H49=\"\")=TRUE,T25,IF(Worksheet!G49=\"\",\"\",Worksheet!G49)))","v":""},{"$f":"IF(S26=\"\",\"\",IF(AND(Worksheet!G49=\"\",Worksheet!H49=\"\")=TRUE,U25,IF(Worksheet!H49=\"\",\"\",Worksheet!H49)))","v":""},{"$f":"IF(Worksheet!N49=\"\",\"\",Worksheet!N49)","v":""},{"$f":"IF(Worksheet!O49=\"\",\"\",Worksheet!O49)","v":""},{"$f":"IF(Worksheet!F49=0,\"\",Worksheet!F49)","v":""},{"$f":"IF(Worksheet!P49=0,\"\",Worksheet!P49)","v":""},{"$f":"IF(Worksheet!$A$11=TRUE,\"Y\",\"N\")","v":"N"},{"$f":"IF(Worksheet!$A$12=TRUE,\"Y\",\"N\")","v":"N"},{"$f":"IF(Worksheet!$B$11=TRUE,\"Y\",\"N\")","v":"N"},{"$f":"IF(Worksheet!$B$12=TRUE,\"Y\",\"N\")","v":"N"},{"$f":"IF(Worksheet!$C$11=TRUE,\"Y\",\"N\")","v":"N"},{"$f":"IF(Worksheet!$C$12=TRUE,\"Y\",\"N\")","v":"N"},""]
[{"$f":"IF(ISERROR(VLOOKUP(Worksheet!N50,MeasureLookup,2,FALSE))=FALSE,VLOOKUP(Worksheet!N50,MeasureLookup,2,FALSE),\"\")","v":""},{"$f":"Worksheet!Q50","v":0},{"$f":"Worksheet!R50","v":0},{"$f":"IF(ISERROR(Worksheet!P50)=FALSE,Worksheet!P50,\"\")","v":0},"Watts",null,null,{"$f":"IF(Worksheet!AP50<>\"\",IF(Worksheet!AP50>0,Worksheet!AP50/IF(Worksheet!M50>0,Worksheet!M50,Worksheet!L50),\"\"),\"\")","v":""},{"$f":"IF(ISBLANK(Worksheet!L50)=FALSE,Worksheet!L50,\"\")","v":0},{"$f":"IF(Worksheet!L50<>0, IFERROR(VLOOKUP(Worksheet!$C$16,SavingsSupportTable,3,FALSE)*Worksheet!AQ50*IFERROR(1+VLOOKUP(Worksheet!$C$16,SavingsSupportTable,MATCH(Worksheet!$G$17,HVACe_Options,0)+4,FALSE),1)/IF(Worksheet!M50>0,Worksheet!M50,Worksheet!L50),\"\"),\"\")","v":""},{"$f":"IF(Worksheet!L50<>0, IFERROR(VLOOKUP(Worksheet!$C$16,SavingsSupportTable,2,FALSE)*Worksheet!AQ50*IF(IFERROR(MATCH(Worksheet!$G$17,HVACe_Options,0),0)>0,1+VLOOKUP(Worksheet!$C$16,SavingsSupportTable,4,FALSE),1)/IF(Worksheet!M50>0,Worksheet!M50,Worksheet!L50),\"\"),\"\")","v":""},"",{"$f":"IF(Worksheet!L50<>0,IFERROR(VLOOKUP(Worksheet!$C$16,SavingsSupportTable,3,FALSE)*Worksheet!AQ50*IF(IFERROR(SEARCH(\"Gas\",Worksheet!$G$17),0)>0,VLOOKUP(\"Gas\",HVACg_Lookup,MATCH(Worksheet!$G$16,BuildingSize,0)+1,FALSE),IF(IFERROR(SEARCH(\"Oil\",Worksheet!$G$17),0)>0,VLOOKUP(\"Oil\",HVACg_Lookup,MATCH(Worksheet!$G$16,BuildingSize,0)+1,FALSE),IF(IFERROR(SEARCH(\"Propane\",Worksheet!$G$17),0)>0,VLOOKUP(\"Propane\",HVACg_Lookup,MATCH(Worksheet!$G$16,BuildingSize,0)+1,FALSE),0)))/IF(Worksheet!M50>0,Worksheet!M50,Worksheet!L50),0),\"\")","v":""},"",null,null,null,{"$f":"IF(ISBLANK(Worksheet!M50)=FALSE,Worksheet!M50,\"\")","v":0},{"$f":"IF(Worksheet!A50=\"-\",\"\",IF(Worksheet!A50=\"\",S26,Worksheet!A50))","v":""},{"$f":"IF(S27=\"\",\"\",IF(AND(Worksheet!G50=\"\",Worksheet!H50=\"\")=TRUE,T26,IF(Worksheet!G50=\"\",\"\",Worksheet!G50)))","v":""},{"$f":"IF(S27=\"\",\"\",IF(AND(Worksheet!G50=\"\",Worksheet!H50=\"\")=TRUE,U26,IF(Worksheet!H50=\"\",\"\",Worksheet!H50)))","v":""},{"$f":"IF(Worksheet!N50=\"\",\"\",Worksheet!N50)","v":""},{"$f":"IF(Worksheet!O50=\"\",\"\",Worksheet!O50)","v":""},{"$f":"IF(Worksheet!F50=0,\"\",Worksheet!F50)","v":""},{"$f":"IF(Worksheet!P50=0,\"\",Worksheet!P50)","v":""},{"$f":"IF(Worksheet!$A$11=TRUE,\"Y\",\"N\")","v":"N"},{"$f":"IF(Worksheet!$A$12=TRUE,\"Y\",\"N\")","v":"N"},{"$f":"IF(Worksheet!$B$11=TRUE,\"Y\",\"N\")","v":"N"},{"$f":"IF(Worksheet!$B$12=TRUE,\"Y\",\"N\")","v":"N"},{"$f":"IF(Worksheet!$C$11=TRUE,\"Y\",\"N\")","v":"N"},{"$f":"IF(Worksheet!$C$12=TRUE,\"Y\",\"N\")","v":"N"},""]
[{"$f":"IF(ISERROR(VLOOKUP(Worksheet!N51,MeasureLookup,2,FALSE))=FALSE,VLOOKUP(Worksheet!N51,MeasureLookup,2,FALSE),\"\")","v":""},{"$f":"Worksheet!Q51","v":0},{"$f":"Worksheet!R51","v":0},{"$f":"IF(ISERROR(Worksheet!P51)=FALSE,Worksheet!P51,\"\")","v":0},"Watts",null,null,{"$f":"IF(Worksheet!AP51<>\"\",IF(Worksheet!AP51>0,Worksheet!AP51/IF(Worksheet!M51>0,Worksheet!M51,Worksheet!L51),\"\"),\"\")","v":""},{"$f":"IF(ISBLANK(Worksheet!L51)=FALSE,Worksheet!L51,\"\")","v":0},{"$f":"IF(Worksheet!L51<>0, IFERROR(VLOOKUP(Worksheet!$C$16,SavingsSupportTable,3,FALSE)*Worksheet!AQ51*IFERROR(1+VLOOKUP(Worksheet!$C$16,SavingsSupportTable,MATCH(Worksheet!$G$17,HVACe_Options,0)+4,FALSE),1)/IF(Worksheet!M51>0,Worksheet!M51,Worksheet!L51),\"\"),\"\")","v":""},{"$f":"IF(Worksheet!L51<>0, IFERROR(VLOOKUP(Worksheet!$C$16,SavingsSupportTable,2,FALSE)*Worksheet!AQ51*IF(IFERROR(MATCH(Worksheet!$G$17,HVACe_Options,0),0)>0,1+VLOOKUP(Worksheet!$C$16,SavingsSupportTable,4,FALSE),1)/IF(Worksheet!M51>0,Worksheet!M51,Worksheet!L51),\"\"),\"\")","v":""},"",{"$f":"IF(Worksheet!L51<>0,IFERROR(VLOOKUP(Worksheet!$C$16,SavingsSupportTable,3,FALSE)*Worksheet!AQ51*IF(IFERROR(SEARCH(\"Gas\",Worksheet!$G$17),0)>0,VLOOKUP(\"Gas\",HVACg_Lookup,MATCH(Worksheet!$G$16,BuildingSize,0)+1,FALSE),IF(IFERROR(SEARCH(\"Oil\",Worksheet!$G$17),0)>0,VLOOKUP(\"Oil\",HVACg_Lookup,MATCH(Worksheet!$G$16,BuildingSize,0)+1,FALSE),IF(IFERROR(SEARCH(\"Propane\",Worksheet!$G$17),0)>0,VLOOKUP(\"Propane\",HVACg_Lookup,MATCH(Worksheet!$G$16,BuildingSize,0)+1,FALSE),0)))/IF(Worksheet!M51>0,Worksheet!M51,Worksheet!L51),0),\"\")","v":""},"",null,null,null,{"$f":"IF(ISBLANK(Worksheet!M51)=FALSE,Worksheet!M51,\"\")","v":0},{"$f":"IF(Worksheet!A51=\"-\",\"\",IF(Worksheet!A51=\"\",S27,Worksheet!A51))","v":""},{"$f":"IF(S28=\"\",\"\",IF(AND(Worksheet!G51=\"\",Worksheet!H51=\"\")=TRUE,T27,IF(Worksheet!G51=\"\",\"\",Worksheet!G51)))","v":""},{"$f":"IF(S28=\"\",\"\",IF(AND(Worksheet!G51=\"\",Worksheet!H51=\"\")=TRUE,U27,IF(Worksheet!H51=\"\",\"\",Worksheet!H51)))","v":""},{"$f":"IF(Worksheet!N51=\"\",\"\",Worksheet!N51)","v":""},{"$f":"IF(Worksheet!O51=\"\",\"\",Worksheet!O51)","v":""},{"$f":"IF(Worksheet!F51=0,\"\",Worksheet!F51)","v":""},{"$f":"IF(Worksheet!P51=0,\"\",Worksheet!P51)","v":""},{"$f":"IF(Worksheet!$A$11=TRUE,\"Y\",\"N\")","v":"N"},{"$f":"IF(Worksheet!$A$12=TRUE,\"Y\",\"N\")","v":"N"},{"$f":"IF(Worksheet!$B$11=TRUE,\"Y\",\"N\")","v":"N"},{"$f":"IF(Worksheet!$B$12=TRUE,\"Y\",\"N\")","v":"N"},{"$f":"IF(Worksheet!$C$11=TRUE,\"Y\",\"N\")","v":"N"},{"$f":"IF(Worksheet!$C$12=TRUE,\"Y\",\"N\")","v":"N"},""]
[{"$f":"IF(ISERROR(VLOOKUP(Worksheet!N52,MeasureLookup,2,FALSE))=FALSE,VLOOKUP(Worksheet!N52,MeasureLookup,2,FALSE),\"\")","v":""},{"$f":"Worksheet!Q52","v":0},{"$f":"Worksheet!R52","v":0},{"$f":"IF(ISERROR(Worksheet!P52)=FALSE,Worksheet!P52,\"\")","v":0},"Watts",null,null,{"$f":"IF(Worksheet!AP52<>\"\",IF(Worksheet!AP52>0,Worksheet!AP52/IF(Worksheet!M52>0,Worksheet!M52,Worksheet!L52),\"\"),\"\")","v":""},{"$f":"IF(ISBLANK(Worksheet!L52)=FALSE,Worksheet!L52,\"\")","v":0},{"$f":"IF(Worksheet!L52<>0, IFERROR(VLOOKUP(Worksheet!$C$16,SavingsSupportTable,3,FALSE)*Worksheet!AQ52*IFERROR(1+VLOOKUP(Worksheet!$C$16,SavingsSupportTable,MATCH(Worksheet!$G$17,HVACe_Options,0)+4,FALSE),1)/IF(Worksheet!M52>0,Worksheet!M52,Worksheet!L52),\"\"),\"\")","v":""},{"$f":"IF(Worksheet!L52<>0, IFERROR(VLOOKUP(Worksheet!$C$16,SavingsSupportTable,2,FALSE)*Worksheet!AQ52*IF(IFERROR(MATCH(Worksheet!$G$17,HVACe_Options,0),0)>0,1+VLOOKUP(Worksheet!$C$16,SavingsSupportTable,4,FALSE),1)/IF(Worksheet!M52>0,Worksheet!M52,Worksheet!L52),\"\"),\"\")","v":""},"",{"$f":"IF(Worksheet!L52<>0,IFERROR(VLOOKUP(Worksheet!$C$16,SavingsSupportTable,3,FALSE)*Worksheet!AQ52*IF(IFERROR(SEARCH(\"Gas\",Worksheet!$G$17),0)>0,VLOOKUP(\"Gas\",HVACg_Lookup,MATCH(Worksheet!$G$16,BuildingSize,0)+1,FALSE),IF(IFERROR(SEARCH(\"Oil\",Worksheet!$G$17),0)>0,VLOOKUP(\"Oil\",HVACg_Lookup,MATCH(Worksheet!$G$16,BuildingSize,0)+1,FALSE),IF(IFERROR(SEARCH(\"Propane\",Worksheet!$G$17),0)>0,VLOOKUP(\"Propane\",HVACg_Lookup,MATCH(Worksheet!$G$16,BuildingSize,0)+1,FALSE),0)))/IF(Worksheet!M52>0,Worksheet!M52,Worksheet!L52),0),\"\")","v":""},"",null,null,null,{"$f":"IF(ISBLANK(Worksheet!M52)=FALSE,Worksheet!M52,\"\")","v":0},{"$f":"IF(Worksheet!A52=\"-\",\"\",IF(Worksheet!A52=\"\",S28,Worksheet!A52))","v":""},{"$f":"IF(S29=\"\",\"\",IF(AND(Worksheet!G52=\"\",Worksheet!H52=\"\")=TRUE,T28,IF(Worksheet!G52=\"\",\"\",Worksheet!G52)))","v":""},{"$f":"IF(S29=\"\",\"\",IF(AND(Worksheet!G52=\"\",Worksheet!H52=\"\")=TRUE,U28,IF(Worksheet!H52=\"\",\"\",Worksheet!H52)))","v":""},{"$f":"IF(Worksheet!N52=\"\",\"\",Worksheet!N52)","v":""},{"$f":"IF(Worksheet!O52=\"\",\"\",Worksheet!O52)","v":""},{"$f":"IF(Worksheet!F52=0,\"\",Worksheet!F52)","v":""},{"$f":"IF(Worksheet!P52=0,\"\",Worksheet!P52)","v":""},{"$f":"IF(Worksheet!$A$11=TRUE,\"Y\",\"N\")","v":"N"},{"$f":"IF(Worksheet!$A$12=TRUE,\"Y\",\"N\")","v":"N"},{"$f":"IF(Worksheet!$B$11=TRUE,\"Y\",\"N\")","v":"N"},{"$f":"IF(Worksheet!$B$12=TRUE,\"Y\",\"N\")","v":"N"},{"$f":"IF(Worksheet!$C$11=TRUE,\"Y\",\"N\")","v":"N"},{"$f":"IF(Worksheet!$C$12=TRUE,\"Y\",\"N\")","v":"N"},""]
[{"$f":"IF(ISERROR(VLOOKUP(Worksheet!N53,MeasureLookup,2,FALSE))=FALSE,VLOOKUP(Worksheet!N53,MeasureLookup,2,FALSE),\"\")","v":""},{"$f":"Worksheet!Q53","v":0},{"$f":"Worksheet!R53","v":0},{"$f":"IF(ISERROR(Worksheet!P53)=FALSE,Worksheet!P53,\"\")","v":0},"Watts",null,null,{"$f":"IF(Worksheet!AP53<>\"\",IF(Worksheet!AP53>0,Worksheet!AP53/IF(Worksheet!M53>0,Worksheet!M53,Worksheet!L53),\"\"),\"\")","v":""},{"$f":"IF(ISBLANK(Worksheet!L53)=FALSE,Worksheet!L53,\"\")","v":0},{"$f":"IF(Worksheet!L53<>0, IFERROR(VLOOKUP(Worksheet!$C$16,SavingsSupportTable,3,FALSE)*Worksheet!AQ53*IFERROR(1+VLOOKUP(Worksheet!$C$16,SavingsSupportTable,MATCH(Worksheet!$G$17,HVACe_Options,0)+4,FALSE),1)/IF(Worksheet!M53>0,Worksheet!M53,Worksheet!L53),\"\"),\"\")","v":""},{"$f":"IF(Worksheet!L53<>0, IFERROR(VLOOKUP(Worksheet!$C$16,SavingsSupportTable,2,FALSE)*Worksheet!AQ53*IF(IFERROR(MATCH(Worksheet!$G$17,HVACe_Options,0),0)>0,1+VLOOKUP(Worksheet!$C$16,SavingsSupportTable,4,FALSE),1)/IF(Worksheet!M53>0,Worksheet!M53,Worksheet!L53),\"\"),\"\")","v":""},"",{"$f":"IF(Worksheet!L53<>0,IFERROR(VLOOKUP(Worksheet!$C$16,SavingsSupportTable,3,FALSE)*Worksheet!AQ53*IF(IFERROR(SEARCH(\"Gas\",Worksheet!$G$17),0)>0,VLOOKUP(\"Gas\",HVACg_Lookup,MATCH(Worksheet!$G$16,BuildingSize,0)+1,FALSE),IF(IFERROR(SEARCH(\"Oil\",Worksheet!$G$17),0)>0,VLOOKUP(\"Oil\",HVACg_Lookup,MATCH(Worksheet!$G$16,BuildingSize,0)+1,FALSE),IF(IFERROR(SEARCH(\"Propane\",Worksheet!$G$17),0)>0,VLOOKUP(\"Propane\",HVACg_Lookup,MATCH(Worksheet!$G$16,BuildingSize,0)+1,FALSE),0)))/IF(Worksheet!M53>0,Worksheet!M53,Worksheet!L53),0),\"\")","v":""},"",null,null,null,{"$f":"IF(ISBLANK(Worksheet!M53)=FALSE,Worksheet!M53,\"\")","v":0},{"$f":"IF(Worksheet!A53=\"-\",\"\",IF(Worksheet!A53=\"\",S29,Worksheet!A53))","v":""},{"$f":"IF(S30=\"\",\"\",IF(AND(Worksheet!G53=\"\",Worksheet!H53=\"\")=TRUE,T29,IF(Worksheet!G53=\"\",\"\",Worksheet!G53)))","v":""},{"$f":"IF(S30=\"\",\"\",IF(AND(Worksheet!G53=\"\",Worksheet!H53=\"\")=TRUE,U29,IF(Worksheet!H53=\"\",\"\",Worksheet!H53)))","v":""},{"$f":"IF(Worksheet!N53=\"\",\"\",Worksheet!N53)","v":""},{"$f":"IF(Worksheet!O53=\"\",\"\",Worksheet!O53)","v":""},{"$f":"IF(Worksheet!F53=0,\"\",Worksheet!F53)","v":""},{"$f":"IF(Worksheet!P53=0,\"\",Worksheet!P53)","v":""},{"$f":"IF(Worksheet!$A$11=TRUE,\"Y\",\"N\")","v":"N"},{"$f":"IF(Worksheet!$A$12=TRUE,\"Y\",\"N\")","v":"N"},{"$f":"IF(Worksheet!$B$11=TRUE,\"Y\",\"N\")","v":"N"},{"$f":"IF(Worksheet!$B$12=TRUE,\"Y\",\"N\")","v":"N"},{"$f":"IF(Worksheet!$C$11=TRUE,\"Y\",\"N\")","v":"N"},{"$f":"IF(Worksheet!$C$12=TRUE,\"Y\",\"N\")","v":"N"},""]
[{"$f":"IF(ISERROR(VLOOKUP(Worksheet!N54,MeasureLookup,2,FALSE))=FALSE,VLOOKUP(Worksheet!N54,MeasureLookup,2,FALSE),\"\")","v":""},{"$f":"Worksheet!Q54","v":0},{"$f":"Worksheet!R54","v":0},{"$f":"IF(ISERROR(Worksheet!P54)=FALSE,Worksheet!P54,\"\")","v":0},"Watts",null,null,{"$f":"IF(Worksheet!AP54<>\"\",IF(Worksheet!AP54>0,Worksheet!AP54/IF(Worksheet!M54>0,Worksheet!M54,Worksheet!L54),\"\"),\"\")","v":""},{"$f":"IF(ISBLANK(Worksheet!L54)=FALSE,Worksheet!L54,\"\")","v":0},{"$f":"IF(Worksheet!L54<>0, IFERROR(VLOOKUP(Worksheet!$C$16,SavingsSupportTable,3,FALSE)*Worksheet!AQ54*IFERROR(1+VLOOKUP(Worksheet!$C$16,SavingsSupportTable,MATCH(Worksheet!$G$17,HVACe_Options,0)+4,FALSE),1)/IF(Worksheet!M54>0,Worksheet!M54,Worksheet!L54),\"\"),\"\")","v":""},{"$f":"IF(Worksheet!L54<>0, IFERROR(VLOOKUP(Worksheet!$C$16,SavingsSupportTable,2,FALSE)*Worksheet!AQ54*IF(IFERROR(MATCH(Worksheet!$G$17,HVACe_Options,0),0)>0,1+VLOOKUP(Worksheet!$C$16,SavingsSupportTable,4,FALSE),1)/IF(Worksheet!M54>0,Worksheet!M54,Worksheet!L54),\"\"),\"\")","v":""},"",{"$f":"IF(Worksheet!L54<>0,IFERROR(VLOOKUP(Worksheet!$C$16,SavingsSupportTable,3,FALSE)*Worksheet!AQ54*IF(IFERROR(SEARCH(\"Gas\",Worksheet!$G$17),0)>0,VLOOKUP(\"Gas\",HVACg_Lookup,MATCH(Worksheet!$G$16,BuildingSize,0)+1,FALSE),IF(IFERROR(SEARCH(\"Oil\",Worksheet!$G$17),0)>0,VLOOKUP(\"Oil\",HVACg_Lookup,MATCH(Worksheet!$G$16,BuildingSize,0)+1,FALSE),IF(IFERROR(SEARCH(\"Propane\",Worksheet!$G$17),0)>0,VLOOKUP(\"Propane\",HVACg_Lookup,MATCH(Worksheet!$G$16,BuildingSize,0)+1,FALSE),0)))/IF(Worksheet!M54>0,Worksheet!M54,Worksheet!L54),0),\"\")","v":""},"",null,null,null,{"$f":"IF(ISBLANK(Worksheet!M54)=FALSE,Worksheet!M54,\"\")","v":0},{"$f":"IF(Worksheet!A54=\"-\",\"\",IF(Worksheet!A54=\"\",S30,Worksheet!A54))","v":""},{"$f":"IF(S31=\"\",\"\",IF(AND(Worksheet!G54=\"\",Worksheet!H54=\"\")=TRUE,T30,IF(Worksheet!G54=\"\",\"\",Worksheet!G54)))","v":""},{"$f":"IF(S31=\"\",\"\",IF(AND(Worksheet!G54=\"\",Worksheet!H54=\"\")=TRUE,U30,IF(Worksheet!H54=\"\",\"\",Worksheet!H54)))","v":""},{"$f":"IF(Worksheet!N54=\"\",\"\",Worksheet!N54)","v":""},{"$f":"IF(Worksheet!O54=\"\",\"\",Worksheet!O54)","v":""},{"$f":"IF(Worksheet!F54=0,\"\",Worksheet!F54)","v":""},{"$f":"IF(Worksheet!P54=0,\"\",Worksheet!P54)","v":""},{"$f":"IF(Worksheet!$A$11=TRUE,\"Y\",\"N\")","v":"N"},{"$f":"IF(Worksheet!$A$12=TRUE,\"Y\",\"N\")","v":"N"},{"$f":"IF(Worksheet!$B$11=TRUE,\"Y\",\"N\")","v":"N"},{"$f":"IF(Worksheet!$B$12=TRUE,\"Y\",\"N\")","v":"N"},{"$f":"IF(Worksheet!$C$11=TRUE,\"Y\",\"N\")","v":"N"},{"$f":"IF(Worksheet!$C$12=TRUE,\"Y\",\"N\")","v":"N"},""]
[{"$f":"IF(ISERROR(VLOOKUP(Worksheet!N55,MeasureLookup,2,FALSE))=FALSE,VLOOKUP(Worksheet!N55,MeasureLookup,2,FALSE),\"\")","v":""},{"$f":"Worksheet!Q55","v":0},{"$f":"Worksheet!R55","v":0},{"$f":"IF(ISERROR(Worksheet!P55)=FALSE,Worksheet!P55,\"\")","v":0},"Watts",null,null,{"$f":"IF(Worksheet!AP55<>\"\",IF(Worksheet!AP55>0,Worksheet!AP55/IF(Worksheet!M55>0,Worksheet!M55,Worksheet!L55),\"\"),\"\")","v":""},{"$f":"IF(ISBLANK(Worksheet!L55)=FALSE,Worksheet!L55,\"\")","v":0},{"$f":"IF(Worksheet!L55<>0, IFERROR(VLOOKUP(Worksheet!$C$16,SavingsSupportTable,3,FALSE)*Worksheet!AQ55*IFERROR(1+VLOOKUP(Worksheet!$C$16,SavingsSupportTable,MATCH(Worksheet!$G$17,HVACe_Options,0)+4,FALSE),1)/IF(Worksheet!M55>0,Worksheet!M55,Worksheet!L55),\"\"),\"\")","v":""},{"$f":"IF(Worksheet!L55<>0, IFERROR(VLOOKUP(Worksheet!$C$16,SavingsSupportTable,2,FALSE)*Worksheet!AQ55*IF(IFERROR(MATCH(Worksheet!$G$17,HVACe_Options,0),0)>0,1+VLOOKUP(Worksheet!$C$16,SavingsSupportTable,4,FALSE),1)/IF(Worksheet!M55>0,Worksheet!M55,Worksheet!L55),\"\"),\"\")","v":""},"",{"$f":"IF(Worksheet!L55<>0,IFERROR(VLOOKUP(Worksheet!$C$16,SavingsSupportTable,3,FALSE)*Worksheet!AQ55*IF(IFERROR(SEARCH(\"Gas\",Worksheet!$G$17),0)>0,VLOOKUP(\"Gas\",HVACg_Lookup,MATCH(Worksheet!$G$16,BuildingSize,0)+1,FALSE),IF(IFERROR(SEARCH(\"Oil\",Worksheet!$G$17),0)>0,VLOOKUP(\"Oil\",HVACg_Lookup,MATCH(Worksheet!$G$16,BuildingSize,0)+1,FALSE),IF(IFERROR(SEARCH(\"Propane\",Worksheet!$G$17),0)>0,VLOOKUP(\"Propane\",HVACg_Lookup,MATCH(Worksheet!$G$16,BuildingSize,0)+1,FALSE),0)))/IF(Worksheet!M55>0,Worksheet!M55,Worksheet!L55),0),\"\")","v":""},"",null,null,null,{"$f":"IF(ISBLANK(Worksheet!M55)=FALSE,Worksheet!M55,\"\")","v":0},{"$f":"IF(Worksheet!A55=\"-\",\"\",IF(Worksheet!A55=\"\",S31,Worksheet!A55))","v":""},{"$f":"IF(S32=\"\",\"\",IF(AND(Worksheet!G55=\"\",Worksheet!H55=\"\")=TRUE,T31,IF(Worksheet!G55=\"\",\"\",Worksheet!G55)))","v":""},{"$f":"IF(S32=\"\",\"\",IF(AND(Worksheet!G55=\"\",Worksheet!H55=\"\")=TRUE,U31,IF(Worksheet!H55=\"\",\"\",Worksheet!H55)))","v":""},{"$f":"IF(Worksheet!N55=\"\",\"\",Worksheet!N55)","v":""},{"$f":"IF(Worksheet!O55=\"\",\"\",Worksheet!O55)","v":""},{"$f":"IF(Worksheet!F55=0,\"\",Worksheet!F55)","v":""},{"$f":"IF(Worksheet!P55=0,\"\",Worksheet!P55)","v":""},{"$f":"IF(Worksheet!$A$11=TRUE,\"Y\",\"N\")","v":"N"},{"$f":"IF(Worksheet!$A$12=TRUE,\"Y\",\"N\")","v":"N"},{"$f":"IF(Worksheet!$B$11=TRUE,\"Y\",\"N\")","v":"N"},{"$f":"IF(Worksheet!$B$12=TRUE,\"Y\",\"N\")","v":"N"},{"$f":"IF(Worksheet!$C$11=TRUE,\"Y\",\"N\")","v":"N"},{"$f":"IF(Worksheet!$C$12=TRUE,\"Y\",\"N\")","v":"N"},""]
[{"$f":"IF(ISERROR(VLOOKUP(Worksheet!N56,MeasureLookup,2,FALSE))=FALSE,VLOOKUP(Worksheet!N56,MeasureLookup,2,FALSE),\"\")","v":""},{"$f":"Worksheet!Q56","v":0},{"$f":"Worksheet!R56","v":0},{"$f":"IF(ISERROR(Worksheet!P56)=FALSE,Worksheet!P56,\"\")","v":0},"Watts",null,null,{"$f":"IF(Worksheet!AP56<>\"\",IF(Worksheet!AP56>0,Worksheet!AP56/IF(Worksheet!M56>0,Worksheet!M56,Worksheet!L56),\"\"),\"\")","v":""},{"$f":"IF(ISBLANK(Worksheet!L56)=FALSE,Worksheet!L56,\"\")","v":0},{"$f":"IF(Worksheet!L56<>0, IFERROR(VLOOKUP(Worksheet!$C$16,SavingsSupportTable,3,FALSE)*Worksheet!AQ56*IFERROR(1+VLOOKUP(Worksheet!$C$16,SavingsSupportTable,MATCH(Worksheet!$G$17,HVACe_Options,0)+4,FALSE),1)/IF(Worksheet!M56>0,Worksheet!M56,Worksheet!L56),\"\"),\"\")","v":""},{"$f":"IF(Worksheet!L56<>0, IFERROR(VLOOKUP(Worksheet!$C$16,SavingsSupportTable,2,FALSE)*Worksheet!AQ56*IF(IFERROR(MATCH(Worksheet!$G$17,HVACe_Options,0),0)>0,1+VLOOKUP(Worksheet!$C$16,SavingsSupportTable,4,FALSE),1)/IF(Worksheet!M56>0,Worksheet!M56,Worksheet!L56),\"\"),\"\")","v":""},"",{"$f":"IF(Worksheet!L56<>0,IFERROR(VLOOKUP(Worksheet!$C$16,SavingsSupportTable,3,FALSE)*Worksheet!AQ56*IF(IFERROR(SEARCH(\"Gas\",Worksheet!$G$17),0)>0,VLOOKUP(\"Gas\",HVACg_Lookup,MATCH(Worksheet!$G$16,BuildingSize,0)+1,FALSE),IF(IFERROR(SEARCH(\"Oil\",Worksheet!$G$17),0)>0,VLOOKUP(\"Oil\",HVACg_Lookup,MATCH(Worksheet!$G$16,BuildingSize,0)+1,FALSE),IF(IFERROR(SEARCH(\"Propane\",Worksheet!$G$17),0)>0,VLOOKUP(\"Propane\",HVACg_Lookup,MATCH(Worksheet!$G$16,BuildingSize,0)+1,FALSE),0)))/IF(Worksheet!M56>0,Worksheet!M56,Worksheet!L56),0),\"\")","v":""},"",null,null,null,{"$f":"IF(ISBLANK(Worksheet!M56)=FALSE,Worksheet!M56,\"\")","v":0},{"$f":"IF(Worksheet!A56=\"-\",\"\",IF(Worksheet!A56=\"\",S32,Worksheet!A56))","v":""},{"$f":"IF(S33=\"\",\"\",IF(AND(Worksheet!G56=\"\",Worksheet!H56=\"\")=TRUE,T32,IF(Worksheet!G56=\"\",\"\",Worksheet!G56)))","v":""},{"$f":"IF(S33=\"\",\"\",IF(AND(Worksheet!G56=\"\",Worksheet!H56=\"\")=TRUE,U32,IF(Worksheet!H56=\"\",\"\",Worksheet!H56)))","v":""},{"$f":"IF(Worksheet!N56=\"\",\"\",Worksheet!N56)","v":""},{"$f":"IF(Worksheet!O56=\"\",\"\",Worksheet!O56)","v":""},{"$f":"IF(Worksheet!F56=0,\"\",Worksheet!F56)","v":""},{"$f":"IF(Worksheet!P56=0,\"\",Worksheet!P56)","v":""},{"$f":"IF(Worksheet!$A$11=TRUE,\"Y\",\"N\")","v":"N"},{"$f":"IF(Worksheet!$A$12=TRUE,\"Y\",\"N\")","v":"N"},{"$f":"IF(Worksheet!$B$11=TRUE,\"Y\",\"N\")","v":"N"},{"$f":"IF(Worksheet!$B$12=TRUE,\"Y\",\"N\")","v":"N"},{"$f":"IF(Worksheet!$C$11=TRUE,\"Y\",\"N\")","v":"N"},{"$f":"IF(Worksheet!$C$12=TRUE,\"Y\",\"N\")","v":"N"},""]
[{"$f":"IF(ISERROR(VLOOKUP(Worksheet!N57,MeasureLookup,2,FALSE))=FALSE,VLOOKUP(Worksheet!N57,MeasureLookup,2,FALSE),\"\")","v":""},{"$f":"Worksheet!Q57","v":0},{"$f":"Worksheet!R57","v":0},{"$f":"IF(ISERROR(Worksheet!P57)=FALSE,Worksheet!P57,\"\")","v":0},"Watts",null,null,{"$f":"IF(Worksheet!AP57<>\"\",IF(Worksheet!AP57>0,Worksheet!AP57/IF(Worksheet!M57>0,Worksheet!M57,Worksheet!L57),\"\"),\"\")","v":""},{"$f":"IF(ISBLANK(Worksheet!L57)=FALSE,Worksheet!L57,\"\")","v":0},{"$f":"IF(Worksheet!L57<>0, IFERROR(VLOOKUP(Worksheet!$C$16,SavingsSupportTable,3,FALSE)*Worksheet!AQ57*IFERROR(1+VLOOKUP(Worksheet!$C$16,SavingsSupportTable,MATCH(Worksheet!$G$17,HVACe_Options,0)+4,FALSE),1)/IF(Worksheet!M57>0,Worksheet!M57,Worksheet!L57),\"\"),\"\")","v":""},{"$f":"IF(Worksheet!L57<>0, IFERROR(VLOOKUP(Worksheet!$C$16,SavingsSupportTable,2,FALSE)*Worksheet!AQ57*IF(IFERROR(MATCH(Worksheet!$G$17,HVACe_Options,0),0)>0,1+VLOOKUP(Worksheet!$C$16,SavingsSupportTable,4,FALSE),1)/IF(Worksheet!M57>0,Worksheet!M57,Worksheet!L57),\"\"),\"\")","v":""},"",{"$f":"IF(Worksheet!L57<>0,IFERROR(VLOOKUP(Worksheet!$C$16,SavingsSupportTable,3,FALSE)*Worksheet!AQ57*IF(IFERROR(SEARCH(\"Gas\",Worksheet!$G$17),0)>0,VLOOKUP(\"Gas\",HVACg_Lookup,MATCH(Worksheet!$G$16,BuildingSize,0)+1,FALSE),IF(IFERROR(SEARCH(\"Oil\",Worksheet!$G$17),0)>0,VLOOKUP(\"Oil\",HVACg_Lookup,MATCH(Worksheet!$G$16,BuildingSize,0)+1,FALSE),IF(IFERROR(SEARCH(\"Propane\",Worksheet!$G$17),0)>0,VLOOKUP(\"Propane\",HVACg_Lookup,MATCH(Worksheet!$G$16,BuildingSize,0)+1,FALSE),0)))/IF(Worksheet!M57>0,Worksheet!M57,Worksheet!L57),0),\"\")","v":""},"",null,null,null,{"$f":"IF(ISBLANK(Worksheet!M57)=FALSE,Worksheet!M57,\"\")","v":0},{"$f":"IF(Worksheet!A57=\"-\",\"\",IF(Worksheet!A57=\"\",S33,Worksheet!A57))","v":""},{"$f":"IF(S34=\"\",\"\",IF(AND(Worksheet!G57=\"\",Worksheet!H57=\"\")=TRUE,T33,IF(Worksheet!G57=\"\",\"\",Worksheet!G57)))","v":""},{"$f":"IF(S34=\"\",\"\",IF(AND(Worksheet!G57=\"\",Worksheet!H57=\"\")=TRUE,U33,IF(Worksheet!H57=\"\",\"\",Worksheet!H57)))","v":""},{"$f":"IF(Worksheet!N57=\"\",\"\",Worksheet!N57)","v":""},{"$f":"IF(Worksheet!O57=\"\",\"\",Worksheet!O57)","v":""},{"$f":"IF(Worksheet!F57=0,\"\",Worksheet!F57)","v":""},{"$f":"IF(Worksheet!P57=0,\"\",Worksheet!P57)","v":""},{"$f":"IF(Worksheet!$A$11=TRUE,\"Y\",\"N\")","v":"N"},{"$f":"IF(Worksheet!$A$12=TRUE,\"Y\",\"N\")","v":"N"},{"$f":"IF(Worksheet!$B$11=TRUE,\"Y\",\"N\")","v":"N"},{"$f":"IF(Worksheet!$B$12=TRUE,\"Y\",\"N\")","v":"N"},{"$f":"IF(Worksheet!$C$11=TRUE,\"Y\",\"N\")","v":"N"},{"$f":"IF(Worksheet!$C$12=TRUE,\"Y\",\"N\")","v":"N"},""]
[{"$f":"IF(ISERROR(VLOOKUP(Worksheet!N58,MeasureLookup,2,FALSE))=FALSE,VLOOKUP(Worksheet!N58,MeasureLookup,2,FALSE),\"\")","v":""},{"$f":"Worksheet!Q58","v":0},{"$f":"Worksheet!R58","v":0},{"$f":"IF(ISERROR(Worksheet!P58)=FALSE,Worksheet!P58,\"\")","v":0},"Watts",null,null,{"$f":"IF(Worksheet!AP58<>\"\",IF(Worksheet!AP58>0,Worksheet!AP58/IF(Worksheet!M58>0,Worksheet!M58,Worksheet!L58),\"\"),\"\")","v":""},{"$f":"IF(ISBLANK(Worksheet!L58)=FALSE,Worksheet!L58,\"\")","v":0},{"$f":"IF(Worksheet!L58<>0, IFERROR(VLOOKUP(Worksheet!$C$16,SavingsSupportTable,3,FALSE)*Worksheet!AQ58*IFERROR(1+VLOOKUP(Worksheet!$C$16,SavingsSupportTable,MATCH(Worksheet!$G$17,HVACe_Options,0)+4,FALSE),1)/IF(Worksheet!M58>0,Worksheet!M58,Worksheet!L58),\"\"),\"\")","v":""},{"$f":"IF(Worksheet!L58<>0, IFERROR(VLOOKUP(Worksheet!$C$16,SavingsSupportTable,2,FALSE)*Worksheet!AQ58*IF(IFERROR(MATCH(Worksheet!$G$17,HVACe_Options,0),0)>0,1+VLOOKUP(Worksheet!$C$16,SavingsSupportTable,4,FALSE),1)/IF(Worksheet!M58>0,Worksheet!M58,Worksheet!L58),\"\"),\"\")","v":""},"",{"$f":"IF(Worksheet!L58<>0,IFERROR(VLOOKUP(Worksheet!$C$16,SavingsSupportTable,3,FALSE)*Worksheet!AQ58*IF(IFERROR(SEARCH(\"Gas\",Worksheet!$G$17),0)>0,VLOOKUP(\"Gas\",HVACg_Lookup,MATCH(Worksheet!$G$16,BuildingSize,0)+1,FALSE),IF(IFERROR(SEARCH(\"Oil\",Worksheet!$G$17),0)>0,VLOOKUP(\"Oil\",HVACg_Lookup,MATCH(Worksheet!$G$16,BuildingSize,0)+1,FALSE),IF(IFERROR(SEARCH(\"Propane\",Worksheet!$G$17),0)>0,VLOOKUP(\"Propane\",HVACg_Lookup,MATCH(Worksheet!$G$16,BuildingSize,0)+1,FALSE),0)))/IF(Worksheet!M58>0,Worksheet!M58,Worksheet!L58),0),\"\")","v":""},"",null,null,null,{"$f":"IF(ISBLANK(Worksheet!M58)=FALSE,Worksheet!M58,\"\")","v":0},{"$f":"IF(Worksheet!A58=\"-\",\"\",IF(Worksheet!A58=\"\",S34,Worksheet!A58))","v":""},{"$f":"IF(S35=\"\",\"\",IF(AND(Worksheet!G58=\"\",Worksheet!H58=\"\")=TRUE,T34,IF(Worksheet!G58=\"\",\"\",Worksheet!G58)))","v":""},{"$f":"IF(S35=\"\",\"\",IF(AND(Worksheet!G58=\"\",Worksheet!H58=\"\")=TRUE,U34,IF(Worksheet!H58=\"\",\"\",Worksheet!H58)))","v":""},{"$f":"IF(Worksheet!N58=\"\",\"\",Worksheet!N58)","v":""},{"$f":"IF(Worksheet!O58=\"\",\"\",Worksheet!O58)","v":""},{"$f":"IF(Worksheet!F58=0,\"\",Worksheet!F58)","v":""},{"$f":"IF(Worksheet!P58=0,\"\",Worksheet!P58)","v":""},{"$f":"IF(Worksheet!$A$11=TRUE,\"Y\",\"N\")","v":"N"},{"$f":"IF(Worksheet!$A$12=TRUE,\"Y\",\"N\")","v":"N"},{"$f":"IF(Worksheet!$B$11=TRUE,\"Y\",\"N\")","v":"N"},{"$f":"IF(Worksheet!$B$12=TRUE,\"Y\",\"N\")","v":"N"},{"$f":"IF(Worksheet!$C$11=TRUE,\"Y\",\"N\")","v":"N"},{"$f":"IF(Worksheet!$C$12=TRUE,\"Y\",\"N\")","v":"N"},""]
[{"$f":"IF(ISERROR(VLOOKUP(Worksheet!N59,MeasureLookup,2,FALSE))=FALSE,VLOOKUP(Worksheet!N59,MeasureLookup,2,FALSE),\"\")","v":""},{"$f":"Worksheet!Q59","v":0},{"$f":"Worksheet!R59","v":0},{"$f":"IF(ISERROR(Worksheet!P59)=FALSE,Worksheet!P59,\"\")","v":0},"Watts",null,null,{"$f":"IF(Worksheet!AP59<>\"\",IF(Worksheet!AP59>0,Worksheet!AP59/IF(Worksheet!M59>0,Worksheet!M59,Worksheet!L59),\"\"),\"\")","v":""},{"$f":"IF(ISBLANK(Worksheet!L59)=FALSE,Worksheet!L59,\"\")","v":0},{"$f":"IF(Worksheet!L59<>0, IFERROR(VLOOKUP(Worksheet!$C$16,SavingsSupportTable,3,FALSE)*Worksheet!AQ59*IFERROR(1+VLOOKUP(Worksheet!$C$16,SavingsSupportTable,MATCH(Worksheet!$G$17,HVACe_Options,0)+4,FALSE),1)/IF(Worksheet!M59>0,Worksheet!M59,Worksheet!L59),\"\"),\"\")","v":""},{"$f":"IF(Worksheet!L59<>0, IFERROR(VLOOKUP(Worksheet!$C$16,SavingsSupportTable,2,FALSE)*Worksheet!AQ59*IF(IFERROR(MATCH(Worksheet!$G$17,HVACe_Options,0),0)>0,1+VLOOKUP(Worksheet!$C$16,SavingsSupportTable,4,FALSE),1)/IF(Worksheet!M59>0,Worksheet!M59,Worksheet!L59),\"\"),\"\")","v":""},"",{"$f":"IF(Worksheet!L59<>0,IFERROR(VLOOKUP(Worksheet!$C$16,SavingsSupportTable,3,FALSE)*Worksheet!AQ59*IF(IFERROR(SEARCH(\"Gas\",Worksheet!$G$17),0)>0,VLOOKUP(\"Gas\",HVACg_Lookup,MATCH(Worksheet!$G$16,BuildingSize,0)+1,FALSE),IF(IFERROR(SEARCH(\"Oil\",Worksheet!$G$17),0)>0,VLOOKUP(\"Oil\",HVACg_Lookup,MATCH(Worksheet!$G$16,BuildingSize,0)+1,FALSE),IF(IFERROR(SEARCH(\"Propane\",Worksheet!$G$17),0)>0,VLOOKUP(\"Propane\",HVACg_Lookup,MATCH(Worksheet!$G$16,BuildingSize,0)+1,FALSE),0)))/IF(Worksheet!M59>0,Worksheet!M59,Worksheet!L59),0),\"\")","v":""},"",null,null,null,{"$f":"IF(ISBLANK(Worksheet!M59)=FALSE,Worksheet!M59,\"\")","v":0},{"$f":"IF(Worksheet!A59=\"-\",\"\",IF(Worksheet!A59=\"\",S35,Worksheet!A59))","v":""},{"$f":"IF(S36=\"\",\"\",IF(AND(Worksheet!G59=\"\",Worksheet!H59=\"\")=TRUE,T35,IF(Worksheet!G59=\"\",\"\",Worksheet!G59)))","v":""},{"$f":"IF(S36=\"\",\"\",IF(AND(Worksheet!G59=\"\",Worksheet!H59=\"\")=TRUE,U35,IF(Worksheet!H59=\"\",\"\",Worksheet!H59)))","v":""},{"$f":"IF(Worksheet!N59=\"\",\"\",Worksheet!N59)","v":""},{"$f":"IF(Worksheet!O59=\"\",\"\",Worksheet!O59)","v":""},{"$f":"IF(Worksheet!F59=0,\"\",Worksheet!F59)","v":""},{"$f":"IF(Worksheet!P59=0,\"\",Worksheet!P59)","v":""},{"$f":"IF(Worksheet!$A$11=TRUE,\"Y\",\"N\")","v":"N"},{"$f":"IF(Worksheet!$A$12=TRUE,\"Y\",\"N\")","v":"N"},{"$f":"IF(Worksheet!$B$11=TRUE,\"Y\",\"N\")","v":"N"},{"$f":"IF(Worksheet!$B$12=TRUE,\"Y\",\"N\")","v":"N"},{"$f":"IF(Worksheet!$C$11=TRUE,\"Y\",\"N\")","v":"N"},{"$f":"IF(Worksheet!$C$12=TRUE,\"Y\",\"N\")","v":"N"},""]
[{"$f":"IF(ISERROR(VLOOKUP(Worksheet!N60,MeasureLookup,2,FALSE))=FALSE,VLOOKUP(Worksheet!N60,MeasureLookup,2,FALSE),\"\")","v":""},{"$f":"Worksheet!Q60","v":0},{"$f":"Worksheet!R60","v":0},{"$f":"IF(ISERROR(Worksheet!P60)=FALSE,Worksheet!P60,\"\")","v":0},"Watts",null,null,{"$f":"IF(Worksheet!AP60<>\"\",IF(Worksheet!AP60>0,Worksheet!AP60/IF(Worksheet!M60>0,Worksheet!M60,Worksheet!L60),\"\"),\"\")","v":""},{"$f":"IF(ISBLANK(Worksheet!L60)=FALSE,Worksheet!L60,\"\")","v":0},{"$f":"IF(Worksheet!L60<>0, IFERROR(VLOOKUP(Worksheet!$C$16,SavingsSupportTable,3,FALSE)*Worksheet!AQ60*IFERROR(1+VLOOKUP(Worksheet!$C$16,SavingsSupportTable,MATCH(Worksheet!$G$17,HVACe_Options,0)+4,FALSE),1)/IF(Worksheet!M60>0,Worksheet!M60,Worksheet!L60),\"\"),\"\")","v":""},{"$f":"IF(Worksheet!L60<>0, IFERROR(VLOOKUP(Worksheet!$C$16,SavingsSupportTable,2,FALSE)*Worksheet!AQ60*IF(IFERROR(MATCH(Worksheet!$G$17,HVACe_Options,0),0)>0,1+VLOOKUP(Worksheet!$C$16,SavingsSupportTable,4,FALSE),1)/IF(Worksheet!M60>0,Worksheet!M60,Worksheet!L60),\"\"),\"\")","v":""},"",{"$f":"IF(Worksheet!L60<>0,IFERROR(VLOOKUP(Worksheet!$C$16,SavingsSupportTable,3,FALSE)*Worksheet!AQ60*IF(IFERROR(SEARCH(\"Gas\",Worksheet!$G$17),0)>0,VLOOKUP(\"Gas\",HVACg_Lookup,MATCH(Worksheet!$G$16,BuildingSize,0)+1,FALSE),IF(IFERROR(SEARCH(\"Oil\",Worksheet!$G$17),0)>0,VLOOKUP(\"Oil\",HVACg_Lookup,MATCH(Worksheet!$G$16,BuildingSize,0)+1,FALSE),IF(IFERROR(SEARCH(\"Propane\",Worksheet!$G$17),0)>0,VLOOKUP(\"Propane\",HVACg_Lookup,MATCH(Worksheet!$G$16,BuildingSize,0)+1,FALSE),0)))/IF(Worksheet!M60>0,Worksheet!M60,Worksheet!L60),0),\"\")","v":""},"",null,null,null,{"$f":"IF(ISBLANK(Worksheet!M60)=FALSE,Worksheet!M60,\"\")","v":0},{"$f":"IF(Worksheet!A60=\"-\",\"\",IF(Worksheet!A60=\"\",S36,Worksheet!A60))","v":""},{"$f":"IF(S37=\"\",\"\",IF(AND(Worksheet!G60=\"\",Worksheet!H60=\"\")=TRUE,T36,IF(Worksheet!G60=\"\",\"\",Worksheet!G60)))","v":""},{"$f":"IF(S37=\"\",\"\",IF(AND(Worksheet!G60=\"\",Worksheet!H60=\"\")=TRUE,U36,IF(Worksheet!H60=\"\",\"\",Worksheet!H60)))","v":""},{"$f":"IF(Worksheet!N60=\"\",\"\",Worksheet!N60)","v":""},{"$f":"IF(Worksheet!O60=\"\",\"\",Worksheet!O60)","v":""},{"$f":"IF(Worksheet!F60=0,\"\",Worksheet!F60)","v":""},{"$f":"IF(Worksheet!P60=0,\"\",Worksheet!P60)","v":""},{"$f":"IF(Worksheet!$A$11=TRUE,\"Y\",\"N\")","v":"N"},{"$f":"IF(Worksheet!$A$12=TRUE,\"Y\",\"N\")","v":"N"},{"$f":"IF(Worksheet!$B$11=TRUE,\"Y\",\"N\")","v":"N"},{"$f":"IF(Worksheet!$B$12=TRUE,\"Y\",\"N\")","v":"N"},{"$f":"IF(Worksheet!$C$11=TRUE,\"Y\",\"N\")","v":"N"},{"$f":"IF(Worksheet!$C$12=TRUE,\"Y\",\"N\")","v":"N"},""]
[{"$f":"IF(ISERROR(VLOOKUP(Worksheet!N61,MeasureLookup,2,FALSE))=FALSE,VLOOKUP(Worksheet!N61,MeasureLookup,2,FALSE),\"\")","v":""},{"$f":"Worksheet!Q61","v":0},{"$f":"Worksheet!R61","v":0},{"$f":"IF(ISERROR(Worksheet!P61)=FALSE,Worksheet!P61,\"\")","v":0},"Watts",null,null,{"$f":"IF(Worksheet!AP61<>\"\",IF(Worksheet!AP61>0,Worksheet!AP61/IF(Worksheet!M61>0,Worksheet!M61,Worksheet!L61),\"\"),\"\")","v":""},{"$f":"IF(ISBLANK(Worksheet!L61)=FALSE,Worksheet!L61,\"\")","v":0},{"$f":"IF(Worksheet!L61<>0, IFERROR(VLOOKUP(Worksheet!$C$16,SavingsSupportTable,3,FALSE)*Worksheet!AQ61*IFERROR(1+VLOOKUP(Worksheet!$C$16,SavingsSupportTable,MATCH(Worksheet!$G$17,HVACe_Options,0)+4,FALSE),1)/IF(Worksheet!M61>0,Worksheet!M61,Worksheet!L61),\"\"),\"\")","v":""},{"$f":"IF(Worksheet!L61<>0, IFERROR(VLOOKUP(Worksheet!$C$16,SavingsSupportTable,2,FALSE)*Worksheet!AQ61*IF(IFERROR(MATCH(Worksheet!$G$17,HVACe_Options,0),0)>0,1+VLOOKUP(Worksheet!$C$16,SavingsSupportTable,4,FALSE),1)/IF(Worksheet!M61>0,Worksheet!M61,Worksheet!L61),\"\"),\"\")","v":""},"",{"$f":"IF(Worksheet!L61<>0,IFERROR(VLOOKUP(Worksheet!$C$16,SavingsSupportTable,3,FALSE)*Worksheet!AQ61*IF(IFERROR(SEARCH(\"Gas\",Worksheet!$G$17),0)>0,VLOOKUP(\"Gas\",HVACg_Lookup,MATCH(Worksheet!$G$16,BuildingSize,0)+1,FALSE),IF(IFERROR(SEARCH(\"Oil\",Worksheet!$G$17),0)>0,VLOOKUP(\"Oil\",HVACg_Lookup,MATCH(Worksheet!$G$16,BuildingSize,0)+1,FALSE),IF(IFERROR(SEARCH(\"Propane\",Worksheet!$G$17),0)>0,VLOOKUP(\"Propane\",HVACg_Lookup,MATCH(Worksheet!$G$16,BuildingSize,0)+1,FALSE),0)))/IF(Worksheet!M61>0,Worksheet!M61,Worksheet!L61),0),\"\")","v":""},"",null,null,null,{"$f":"IF(ISBLANK(Worksheet!M61)=FALSE,Worksheet!M61,\"\")","v":0},{"$f":"IF(Worksheet!A61=\"-\",\"\",IF(Worksheet!A61=\"\",S37,Worksheet!A61))","v":""},{"$f":"IF(S38=\"\",\"\",IF(AND(Worksheet!G61=\"\",Worksheet!H61=\"\")=TRUE,T37,IF(Worksheet!G61=\"\",\"\",Worksheet!G61)))","v":""},{"$f":"IF(S38=\"\",\"\",IF(AND(Worksheet!G61=\"\",Worksheet!H61=\"\")=TRUE,U37,IF(Worksheet!H61=\"\",\"\",Worksheet!H61)))","v":""},{"$f":"IF(Worksheet!N61=\"\",\"\",Worksheet!N61)","v":""},{"$f":"IF(Worksheet!O61=\"\",\"\",Worksheet!O61)","v":""},{"$f":"IF(Worksheet!F61=0,\"\",Worksheet!F61)","v":""},{"$f":"IF(Worksheet!P61=0,\"\",Worksheet!P61)","v":""},{"$f":"IF(Worksheet!$A$11=TRUE,\"Y\",\"N\")","v":"N"},{"$f":"IF(Worksheet!$A$12=TRUE,\"Y\",\"N\")","v":"N"},{"$f":"IF(Worksheet!$B$11=TRUE,\"Y\",\"N\")","v":"N"},{"$f":"IF(Worksheet!$B$12=TRUE,\"Y\",\"N\")","v":"N"},{"$f":"IF(Worksheet!$C$11=TRUE,\"Y\",\"N\")","v":"N"},{"$f":"IF(Worksheet!$C$12=TRUE,\"Y\",\"N\")","v":"N"},""]
[{"$f":"IF(ISERROR(VLOOKUP(Worksheet!N62,MeasureLookup,2,FALSE))=FALSE,VLOOKUP(Worksheet!N62,MeasureLookup,2,FALSE),\"\")","v":""},{"$f":"Worksheet!Q62","v":0},{"$f":"Worksheet!R62","v":0},{"$f":"IF(ISERROR(Worksheet!P62)=FALSE,Worksheet!P62,\"\")","v":0},"Watts",null,null,{"$f":"IF(Worksheet!AP62<>\"\",IF(Worksheet!AP62>0,Worksheet!AP62/IF(Worksheet!M62>0,Worksheet!M62,Worksheet!L62),\"\"),\"\")","v":""},{"$f":"IF(ISBLANK(Worksheet!L62)=FALSE,Worksheet!L62,\"\")","v":0},{"$f":"IF(Worksheet!L62<>0, IFERROR(VLOOKUP(Worksheet!$C$16,SavingsSupportTable,3,FALSE)*Worksheet!AQ62*IFERROR(1+VLOOKUP(Worksheet!$C$16,SavingsSupportTable,MATCH(Worksheet!$G$17,HVACe_Options,0)+4,FALSE),1)/IF(Worksheet!M62>0,Worksheet!M62,Worksheet!L62),\"\"),\"\")","v":""},{"$f":"IF(Worksheet!L62<>0, IFERROR(VLOOKUP(Worksheet!$C$16,SavingsSupportTable,2,FALSE)*Worksheet!AQ62*IF(IFERROR(MATCH(Worksheet!$G$17,HVACe_Options,0),0)>0,1+VLOOKUP(Worksheet!$C$16,SavingsSupportTable,4,FALSE),1)/IF(Worksheet!M62>0,Worksheet!M62,Worksheet!L62),\"\"),\"\")","v":""},"",{"$f":"IF(Worksheet!L62<>0,IFERROR(VLOOKUP(Worksheet!$C$16,SavingsSupportTable,3,FALSE)*Worksheet!AQ62*IF(IFERROR(SEARCH(\"Gas\",Worksheet!$G$17),0)>0,VLOOKUP(\"Gas\",HVACg_Lookup,MATCH(Worksheet!$G$16,BuildingSize,0)+1,FALSE),IF(IFERROR(SEARCH(\"Oil\",Worksheet!$G$17),0)>0,VLOOKUP(\"Oil\",HVACg_Lookup,MATCH(Worksheet!$G$16,BuildingSize,0)+1,FALSE),IF(IFERROR(SEARCH(\"Propane\",Worksheet!$G$17),0)>0,VLOOKUP(\"Propane\",HVACg_Lookup,MATCH(Worksheet!$G$16,BuildingSize,0)+1,FALSE),0)))/IF(Worksheet!M62>0,Worksheet!M62,Worksheet!L62),0),\"\")","v":""},"",null,null,null,{"$f":"IF(ISBLANK(Worksheet!M62)=FALSE,Worksheet!M62,\"\")","v":0},{"$f":"IF(Worksheet!A62=\"-\",\"\",IF(Worksheet!A62=\"\",S38,Worksheet!A62))","v":""},{"$f":"IF(S39=\"\",\"\",IF(AND(Worksheet!G62=\"\",Worksheet!H62=\"\")=TRUE,T38,IF(Worksheet!G62=\"\",\"\",Worksheet!G62)))","v":""},{"$f":"IF(S39=\"\",\"\",IF(AND(Worksheet!G62=\"\",Worksheet!H62=\"\")=TRUE,U38,IF(Worksheet!H62=\"\",\"\",Worksheet!H62)))","v":""},{"$f":"IF(Worksheet!N62=\"\",\"\",Worksheet!N62)","v":""},{"$f":"IF(Worksheet!O62=\"\",\"\",Worksheet!O62)","v":""},{"$f":"IF(Worksheet!F62=0,\"\",Worksheet!F62)","v":""},{"$f":"IF(Worksheet!P62=0,\"\",Worksheet!P62)","v":""},{"$f":"IF(Worksheet!$A$11=TRUE,\"Y\",\"N\")","v":"N"},{"$f":"IF(Worksheet!$A$12=TRUE,\"Y\",\"N\")","v":"N"},{"$f":"IF(Worksheet!$B$11=TRUE,\"Y\",\"N\")","v":"N"},{"$f":"IF(Worksheet!$B$12=TRUE,\"Y\",\"N\")","v":"N"},{"$f":"IF(Worksheet!$C$11=TRUE,\"Y\",\"N\")","v":"N"},{"$f":"IF(Worksheet!$C$12=TRUE,\"Y\",\"N\")","v":"N"},""]
[{"$f":"IF(ISERROR(VLOOKUP(Worksheet!N63,MeasureLookup,2,FALSE))=FALSE,VLOOKUP(Worksheet!N63,MeasureLookup,2,FALSE),\"\")","v":""},{"$f":"Worksheet!Q63","v":0},{"$f":"Worksheet!R63","v":0},{"$f":"IF(ISERROR(Worksheet!P63)=FALSE,Worksheet!P63,\"\")","v":0},"Watts",null,null,{"$f":"IF(Worksheet!AP63<>\"\",IF(Worksheet!AP63>0,Worksheet!AP63/IF(Worksheet!M63>0,Worksheet!M63,Worksheet!L63),\"\"),\"\")","v":""},{"$f":"IF(ISBLANK(Worksheet!L63)=FALSE,Worksheet!L63,\"\")","v":0},{"$f":"IF(Worksheet!L63<>0, IFERROR(VLOOKUP(Worksheet!$C$16,SavingsSupportTable,3,FALSE)*Worksheet!AQ63*IFERROR(1+VLOOKUP(Worksheet!$C$16,SavingsSupportTable,MATCH(Worksheet!$G$17,HVACe_Options,0)+4,FALSE),1)/IF(Worksheet!M63>0,Worksheet!M63,Worksheet!L63),\"\"),\"\")","v":""},{"$f":"IF(Worksheet!L63<>0, IFERROR(VLOOKUP(Worksheet!$C$16,SavingsSupportTable,2,FALSE)*Worksheet!AQ63*IF(IFERROR(MATCH(Worksheet!$G$17,HVACe_Options,0),0)>0,1+VLOOKUP(Worksheet!$C$16,SavingsSupportTable,4,FALSE),1)/IF(Worksheet!M63>0,Worksheet!M63,Worksheet!L63),\"\"),\"\")","v":""},"",{"$f":"IF(Worksheet!L63<>0,IFERROR(VLOOKUP(Worksheet!$C$16,SavingsSupportTable,3,FALSE)*Worksheet!AQ63*IF(IFERROR(SEARCH(\"Gas\",Worksheet!$G$17),0)>0,VLOOKUP(\"Gas\",HVACg_Lookup,MATCH(Worksheet!$G$16,BuildingSize,0)+1,FALSE),IF(IFERROR(SEARCH(\"Oil\",Worksheet!$G$17),0)>0,VLOOKUP(\"Oil\",HVACg_Lookup,MATCH(Worksheet!$G$16,BuildingSize,0)+1,FALSE),IF(IFERROR(SEARCH(\"Propane\",Worksheet!$G$17),0)>0,VLOOKUP(\"Propane\",HVACg_Lookup,MATCH(Worksheet!$G$16,BuildingSize,0)+1,FALSE),0)))/IF(Worksheet!M63>0,Worksheet!M63,Worksheet!L63),0),\"\")","v":""},"",null,null,null,{"$f":"IF(ISBLANK(Worksheet!M63)=FALSE,Worksheet!M63,\"\")","v":0},{"$f":"IF(Worksheet!A63=\"-\",\"\",IF(Worksheet!A63=\"\",S39,Worksheet!A63))","v":""},{"$f":"IF(S40=\"\",\"\",IF(AND(Worksheet!G63=\"\",Worksheet!H63=\"\")=TRUE,T39,IF(Worksheet!G63=\"\",\"\",Worksheet!G63)))","v":""},{"$f":"IF(S40=\"\",\"\",IF(AND(Worksheet!G63=\"\",Worksheet!H63=\"\")=TRUE,U39,IF(Worksheet!H63=\"\",\"\",Worksheet!H63)))","v":""},{"$f":"IF(Worksheet!N63=\"\",\"\",Worksheet!N63)","v":""},{"$f":"IF(Worksheet!O63=\"\",\"\",Worksheet!O63)","v":""},{"$f":"IF(Worksheet!F63=0,\"\",Worksheet!F63)","v":""},{"$f":"IF(Worksheet!P63=0,\"\",Worksheet!P63)","v":""},{"$f":"IF(Worksheet!$A$11=TRUE,\"Y\",\"N\")","v":"N"},{"$f":"IF(Worksheet!$A$12=TRUE,\"Y\",\"N\")","v":"N"},{"$f":"IF(Worksheet!$B$11=TRUE,\"Y\",\"N\")","v":"N"},{"$f":"IF(Worksheet!$B$12=TRUE,\"Y\",\"N\")","v":"N"},{"$f":"IF(Worksheet!$C$11=TRUE,\"Y\",\"N\")","v":"N"},{"$f":"IF(Worksheet!$C$12=TRUE,\"Y\",\"N\")","v":"N"},""]
[{"$f":"IF(ISERROR(VLOOKUP(Worksheet!N64,MeasureLookup,2,FALSE))=FALSE,VLOOKUP(Worksheet!N64,MeasureLookup,2,FALSE),\"\")","v":""},{"$f":"Worksheet!Q64","v":0},{"$f":"Worksheet!R64","v":0},{"$f":"IF(ISERROR(Worksheet!P64)=FALSE,Worksheet!P64,\"\")","v":0},"Watts",null,null,{"$f":"IF(Worksheet!AP64<>\"\",IF(Worksheet!AP64>0,Worksheet!AP64/IF(Worksheet!M64>0,Worksheet!M64,Worksheet!L64),\"\"),\"\")","v":""},{"$f":"IF(ISBLANK(Worksheet!L64)=FALSE,Worksheet!L64,\"\")","v":0},{"$f":"IF(Worksheet!L64<>0, IFERROR(VLOOKUP(Worksheet!$C$16,SavingsSupportTable,3,FALSE)*Worksheet!AQ64*IFERROR(1+VLOOKUP(Worksheet!$C$16,SavingsSupportTable,MATCH(Worksheet!$G$17,HVACe_Options,0)+4,FALSE),1)/IF(Worksheet!M64>0,Worksheet!M64,Worksheet!L64),\"\"),\"\")","v":""},{"$f":"IF(Worksheet!L64<>0, IFERROR(VLOOKUP(Worksheet!$C$16,SavingsSupportTable,2,FALSE)*Worksheet!AQ64*IF(IFERROR(MATCH(Worksheet!$G$17,HVACe_Options,0),0)>0,1+VLOOKUP(Worksheet!$C$16,SavingsSupportTable,4,FALSE),1)/IF(Worksheet!M64>0,Worksheet!M64,Worksheet!L64),\"\"),\"\")","v":""},"",{"$f":"IF(Worksheet!L64<>0,IFERROR(VLOOKUP(Worksheet!$C$16,SavingsSupportTable,3,FALSE)*Worksheet!AQ64*IF(IFERROR(SEARCH(\"Gas\",Worksheet!$G$17),0)>0,VLOOKUP(\"Gas\",HVACg_Lookup,MATCH(Worksheet!$G$16,BuildingSize,0)+1,FALSE),IF(IFERROR(SEARCH(\"Oil\",Worksheet!$G$17),0)>0,VLOOKUP(\"Oil\",HVACg_Lookup,MATCH(Worksheet!$G$16,BuildingSize,0)+1,FALSE),IF(IFERROR(SEARCH(\"Propane\",Worksheet!$G$17),0)>0,VLOOKUP(\"Propane\",HVACg_Lookup,MATCH(Worksheet!$G$16,BuildingSize,0)+1,FALSE),0)))/IF(Worksheet!M64>0,Worksheet!M64,Worksheet!L64),0),\"\")","v":""},"",null,null,null,{"$f":"IF(ISBLANK(Worksheet!M64)=FALSE,Worksheet!M64,\"\")","v":0},{"$f":"IF(Worksheet!A64=\"-\",\"\",IF(Worksheet!A64=\"\",S40,Worksheet!A64))","v":""},{"$f":"IF(S41=\"\",\"\",IF(AND(Worksheet!G64=\"\",Worksheet!H64=\"\")=TRUE,T40,IF(Worksheet!G64=\"\",\"\",Worksheet!G64)))","v":""},{"$f":"IF(S41=\"\",\"\",IF(AND(Worksheet!G64=\"\",Worksheet!H64=\"\")=TRUE,U40,IF(Worksheet!H64=\"\",\"\",Worksheet!H64)))","v":""},{"$f":"IF(Worksheet!N64=\"\",\"\",Worksheet!N64)","v":""},{"$f":"IF(Worksheet!O64=\"\",\"\",Worksheet!O64)","v":""},{"$f":"IF(Worksheet!F64=0,\"\",Worksheet!F64)","v":""},{"$f":"IF(Worksheet!P64=0,\"\",Worksheet!P64)","v":""},{"$f":"IF(Worksheet!$A$11=TRUE,\"Y\",\"N\")","v":"N"},{"$f":"IF(Worksheet!$A$12=TRUE,\"Y\",\"N\")","v":"N"},{"$f":"IF(Worksheet!$B$11=TRUE,\"Y\",\"N\")","v":"N"},{"$f":"IF(Worksheet!$B$12=TRUE,\"Y\",\"N\")","v":"N"},{"$f":"IF(Worksheet!$C$11=TRUE,\"Y\",\"N\")","v":"N"},{"$f":"IF(Worksheet!$C$12=TRUE,\"Y\",\"N\")","v":"N"},""]
[{"$f":"IF(ISERROR(VLOOKUP(Worksheet!N65,MeasureLookup,2,FALSE))=FALSE,VLOOKUP(Worksheet!N65,MeasureLookup,2,FALSE),\"\")","v":""},{"$f":"Worksheet!Q65","v":0},{"$f":"Worksheet!R65","v":0},{"$f":"IF(ISERROR(Worksheet!P65)=FALSE,Worksheet!P65,\"\")","v":0},"Watts",null,null,{"$f":"IF(Worksheet!AP65<>\"\",IF(Worksheet!AP65>0,Worksheet!AP65/IF(Worksheet!M65>0,Worksheet!M65,Worksheet!L65),\"\"),\"\")","v":""},{"$f":"IF(ISBLANK(Worksheet!L65)=FALSE,Worksheet!L65,\"\")","v":0},{"$f":"IF(Worksheet!L65<>0, IFERROR(VLOOKUP(Worksheet!$C$16,SavingsSupportTable,3,FALSE)*Worksheet!AQ65*IFERROR(1+VLOOKUP(Worksheet!$C$16,SavingsSupportTable,MATCH(Worksheet!$G$17,HVACe_Options,0)+4,FALSE),1)/IF(Worksheet!M65>0,Worksheet!M65,Worksheet!L65),\"\"),\"\")","v":""},{"$f":"IF(Worksheet!L65<>0, IFERROR(VLOOKUP(Worksheet!$C$16,SavingsSupportTable,2,FALSE)*Worksheet!AQ65*IF(IFERROR(MATCH(Worksheet!$G$17,HVACe_Options,0),0)>0,1+VLOOKUP(Worksheet!$C$16,SavingsSupportTable,4,FALSE),1)/IF(Worksheet!M65>0,Worksheet!M65,Worksheet!L65),\"\"),\"\")","v":""},"",{"$f":"IF(Worksheet!L65<>0,IFERROR(VLOOKUP(Worksheet!$C$16,SavingsSupportTable,3,FALSE)*Worksheet!AQ65*IF(IFERROR(SEARCH(\"Gas\",Worksheet!$G$17),0)>0,VLOOKUP(\"Gas\",HVACg_Lookup,MATCH(Worksheet!$G$16,BuildingSize,0)+1,FALSE),IF(IFERROR(SEARCH(\"Oil\",Worksheet!$G$17),0)>0,VLOOKUP(\"Oil\",HVACg_Lookup,MATCH(Worksheet!$G$16,BuildingSize,0)+1,FALSE),IF(IFERROR(SEARCH(\"Propane\",Worksheet!$G$17),0)>0,VLOOKUP(\"Propane\",HVACg_Lookup,MATCH(Worksheet!$G$16,BuildingSize,0)+1,FALSE),0)))/IF(Worksheet!M65>0,Worksheet!M65,Worksheet!L65),0),\"\")","v":""},"",null,null,null,{"$f":"IF(ISBLANK(Worksheet!M65)=FALSE,Worksheet!M65,\"\")","v":0},{"$f":"IF(Worksheet!A65=\"-\",\"\",IF(Worksheet!A65=\"\",S41,Worksheet!A65))","v":""},{"$f":"IF(S42=\"\",\"\",IF(AND(Worksheet!G65=\"\",Worksheet!H65=\"\")=TRUE,T41,IF(Worksheet!G65=\"\",\"\",Worksheet!G65)))","v":""},{"$f":"IF(S42=\"\",\"\",IF(AND(Worksheet!G65=\"\",Worksheet!H65=\"\")=TRUE,U41,IF(Worksheet!H65=\"\",\"\",Worksheet!H65)))","v":""},{"$f":"IF(Worksheet!N65=\"\",\"\",Worksheet!N65)","v":""},{"$f":"IF(Worksheet!O65=\"\",\"\",Worksheet!O65)","v":""},{"$f":"IF(Worksheet!F65=0,\"\",Worksheet!F65)","v":""},{"$f":"IF(Worksheet!P65=0,\"\",Worksheet!P65)","v":""},{"$f":"IF(Worksheet!$A$11=TRUE,\"Y\",\"N\")","v":"N"},{"$f":"IF(Worksheet!$A$12=TRUE,\"Y\",\"N\")","v":"N"},{"$f":"IF(Worksheet!$B$11=TRUE,\"Y\",\"N\")","v":"N"},{"$f":"IF(Worksheet!$B$12=TRUE,\"Y\",\"N\")","v":"N"},{"$f":"IF(Worksheet!$C$11=TRUE,\"Y\",\"N\")","v":"N"},{"$f":"IF(Worksheet!$C$12=TRUE,\"Y\",\"N\")","v":"N"},""]
[{"$f":"IF(ISERROR(VLOOKUP(Worksheet!N66,MeasureLookup,2,FALSE))=FALSE,VLOOKUP(Worksheet!N66,MeasureLookup,2,FALSE),\"\")","v":""},{"$f":"Worksheet!Q66","v":0},{"$f":"Worksheet!R66","v":0},{"$f":"IF(ISERROR(Worksheet!P66)=FALSE,Worksheet!P66,\"\")","v":0},"Watts",null,null,{"$f":"IF(Worksheet!AP66<>\"\",IF(Worksheet!AP66>0,Worksheet!AP66/IF(Worksheet!M66>0,Worksheet!M66,Worksheet!L66),\"\"),\"\")","v":""},{"$f":"IF(ISBLANK(Worksheet!L66)=FALSE,Worksheet!L66,\"\")","v":0},{"$f":"IF(Worksheet!L66<>0, IFERROR(VLOOKUP(Worksheet!$C$16,SavingsSupportTable,3,FALSE)*Worksheet!AQ66*IFERROR(1+VLOOKUP(Worksheet!$C$16,SavingsSupportTable,MATCH(Worksheet!$G$17,HVACe_Options,0)+4,FALSE),1)/IF(Worksheet!M66>0,Worksheet!M66,Worksheet!L66),\"\"),\"\")","v":""},{"$f":"IF(Worksheet!L66<>0, IFERROR(VLOOKUP(Worksheet!$C$16,SavingsSupportTable,2,FALSE)*Worksheet!AQ66*IF(IFERROR(MATCH(Worksheet!$G$17,HVACe_Options,0),0)>0,1+VLOOKUP(Worksheet!$C$16,SavingsSupportTable,4,FALSE),1)/IF(Worksheet!M66>0,Worksheet!M66,Worksheet!L66),\"\"),\"\")","v":""},"",{"$f":"IF(Worksheet!L66<>0,IFERROR(VLOOKUP(Worksheet!$C$16,SavingsSupportTable,3,FALSE)*Worksheet!AQ66*IF(IFERROR(SEARCH(\"Gas\",Worksheet!$G$17),0)>0,VLOOKUP(\"Gas\",HVACg_Lookup,MATCH(Worksheet!$G$16,BuildingSize,0)+1,FALSE),IF(IFERROR(SEARCH(\"Oil\",Worksheet!$G$17),0)>0,VLOOKUP(\"Oil\",HVACg_Lookup,MATCH(Worksheet!$G$16,BuildingSize,0)+1,FALSE),IF(IFERROR(SEARCH(\"Propane\",Worksheet!$G$17),0)>0,VLOOKUP(\"Propane\",HVACg_Lookup,MATCH(Worksheet!$G$16,BuildingSize,0)+1,FALSE),0)))/IF(Worksheet!M66>0,Worksheet!M66,Worksheet!L66),0),\"\")","v":""},"",null,null,null,{"$f":"IF(ISBLANK(Worksheet!M66)=FALSE,Worksheet!M66,\"\")","v":0},{"$f":"IF(Worksheet!A66=\"-\",\"\",IF(Worksheet!A66=\"\",S42,Worksheet!A66))","v":""},{"$f":"IF(S43=\"\",\"\",IF(AND(Worksheet!G66=\"\",Worksheet!H66=\"\")=TRUE,T42,IF(Worksheet!G66=\"\",\"\",Worksheet!G66)))","v":""},{"$f":"IF(S43=\"\",\"\",IF(AND(Worksheet!G66=\"\",Worksheet!H66=\"\")=TRUE,U42,IF(Worksheet!H66=\"\",\"\",Worksheet!H66)))","v":""},{"$f":"IF(Worksheet!N66=\"\",\"\",Worksheet!N66)","v":""},{"$f":"IF(Worksheet!O66=\"\",\"\",Worksheet!O66)","v":""},{"$f":"IF(Worksheet!F66=0,\"\",Worksheet!F66)","v":""},{"$f":"IF(Worksheet!P66=0,\"\",Worksheet!P66)","v":""},{"$f":"IF(Worksheet!$A$11=TRUE,\"Y\",\"N\")","v":"N"},{"$f":"IF(Worksheet!$A$12=TRUE,\"Y\",\"N\")","v":"N"},{"$f":"IF(Worksheet!$B$11=TRUE,\"Y\",\"N\")","v":"N"},{"$f":"IF(Worksheet!$B$12=TRUE,\"Y\",\"N\")","v":"N"},{"$f":"IF(Worksheet!$C$11=TRUE,\"Y\",\"N\")","v":"N"},{"$f":"IF(Worksheet!$C$12=TRUE,\"Y\",\"N\")","v":"N"},""]
[{"$f":"IF(ISERROR(VLOOKUP(Worksheet!N67,MeasureLookup,2,FALSE))=FALSE,VLOOKUP(Worksheet!N67,MeasureLookup,2,FALSE),\"\")","v":""},{"$f":"Worksheet!Q67","v":0},{"$f":"Worksheet!R67","v":0},{"$f":"IF(ISERROR(Worksheet!P67)=FALSE,Worksheet!P67,\"\")","v":0},"Watts",null,null,{"$f":"IF(Worksheet!AP67<>\"\",IF(Worksheet!AP67>0,Worksheet!AP67/IF(Worksheet!M67>0,Worksheet!M67,Worksheet!L67),\"\"),\"\")","v":""},{"$f":"IF(ISBLANK(Worksheet!L67)=FALSE,Worksheet!L67,\"\")","v":0},{"$f":"IF(Worksheet!L67<>0, IFERROR(VLOOKUP(Worksheet!$C$16,SavingsSupportTable,3,FALSE)*Worksheet!AQ67*IFERROR(1+VLOOKUP(Worksheet!$C$16,SavingsSupportTable,MATCH(Worksheet!$G$17,HVACe_Options,0)+4,FALSE),1)/IF(Worksheet!M67>0,Worksheet!M67,Worksheet!L67),\"\"),\"\")","v":""},{"$f":"IF(Worksheet!L67<>0, IFERROR(VLOOKUP(Worksheet!$C$16,SavingsSupportTable,2,FALSE)*Worksheet!AQ67*IF(IFERROR(MATCH(Worksheet!$G$17,HVACe_Options,0),0)>0,1+VLOOKUP(Worksheet!$C$16,SavingsSupportTable,4,FALSE),1)/IF(Worksheet!M67>0,Worksheet!M67,Worksheet!L67),\"\"),\"\")","v":""},"",{"$f":"IF(Worksheet!L67<>0,IFERROR(VLOOKUP(Worksheet!$C$16,SavingsSupportTable,3,FALSE)*Worksheet!AQ67*IF(IFERROR(SEARCH(\"Gas\",Worksheet!$G$17),0)>0,VLOOKUP(\"Gas\",HVACg_Lookup,MATCH(Worksheet!$G$16,BuildingSize,0)+1,FALSE),IF(IFERROR(SEARCH(\"Oil\",Worksheet!$G$17),0)>0,VLOOKUP(\"Oil\",HVACg_Lookup,MATCH(Worksheet!$G$16,BuildingSize,0)+1,FALSE),IF(IFERROR(SEARCH(\"Propane\",Worksheet!$G$17),0)>0,VLOOKUP(\"Propane\",HVACg_Lookup,MATCH(Worksheet!$G$16,BuildingSize,0)+1,FALSE),0)))/IF(Worksheet!M67>0,Worksheet!M67,Worksheet!L67),0),\"\")","v":""},"",null,null,null,{"$f":"IF(ISBLANK(Worksheet!M67)=FALSE,Worksheet!M67,\"\")","v":0},{"$f":"IF(Worksheet!A67=\"-\",\"\",IF(Worksheet!A67=\"\",S43,Worksheet!A67))","v":""},{"$f":"IF(S44=\"\",\"\",IF(AND(Worksheet!G67=\"\",Worksheet!H67=\"\")=TRUE,T43,IF(Worksheet!G67=\"\",\"\",Worksheet!G67)))","v":""},{"$f":"IF(S44=\"\",\"\",IF(AND(Worksheet!G67=\"\",Worksheet!H67=\"\")=TRUE,U43,IF(Worksheet!H67=\"\",\"\",Worksheet!H67)))","v":""},{"$f":"IF(Worksheet!N67=\"\",\"\",Worksheet!N67)","v":""},{"$f":"IF(Worksheet!O67=\"\",\"\",Worksheet!O67)","v":""},{"$f":"IF(Worksheet!F67=0,\"\",Worksheet!F67)","v":""},{"$f":"IF(Worksheet!P67=0,\"\",Worksheet!P67)","v":""},{"$f":"IF(Worksheet!$A$11=TRUE,\"Y\",\"N\")","v":"N"},{"$f":"IF(Worksheet!$A$12=TRUE,\"Y\",\"N\")","v":"N"},{"$f":"IF(Worksheet!$B$11=TRUE,\"Y\",\"N\")","v":"N"},{"$f":"IF(Worksheet!$B$12=TRUE,\"Y\",\"N\")","v":"N"},{"$f":"IF(Worksheet!$C$11=TRUE,\"Y\",\"N\")","v":"N"},{"$f":"IF(Worksheet!$C$12=TRUE,\"Y\",\"N\")","v":"N"},""]
[{"$f":"IF(ISERROR(VLOOKUP(Worksheet!N68,MeasureLookup,2,FALSE))=FALSE,VLOOKUP(Worksheet!N68,MeasureLookup,2,FALSE),\"\")","v":""},{"$f":"Worksheet!Q68","v":0},{"$f":"Worksheet!R68","v":0},{"$f":"IF(ISERROR(Worksheet!P68)=FALSE,Worksheet!P68,\"\")","v":0},"Watts",null,null,{"$f":"IF(Worksheet!AP68<>\"\",IF(Worksheet!AP68>0,Worksheet!AP68/IF(Worksheet!M68>0,Worksheet!M68,Worksheet!L68),\"\"),\"\")","v":""},{"$f":"IF(ISBLANK(Worksheet!L68)=FALSE,Worksheet!L68,\"\")","v":0},{"$f":"IF(Worksheet!L68<>0, IFERROR(VLOOKUP(Worksheet!$C$16,SavingsSupportTable,3,FALSE)*Worksheet!AQ68*IFERROR(1+VLOOKUP(Worksheet!$C$16,SavingsSupportTable,MATCH(Worksheet!$G$17,HVACe_Options,0)+4,FALSE),1)/IF(Worksheet!M68>0,Worksheet!M68,Worksheet!L68),\"\"),\"\")","v":""},{"$f":"IF(Worksheet!L68<>0, IFERROR(VLOOKUP(Worksheet!$C$16,SavingsSupportTable,2,FALSE)*Worksheet!AQ68*IF(IFERROR(MATCH(Worksheet!$G$17,HVACe_Options,0),0)>0,1+VLOOKUP(Worksheet!$C$16,SavingsSupportTable,4,FALSE),1)/IF(Worksheet!M68>0,Worksheet!M68,Worksheet!L68),\"\"),\"\")","v":""},"",{"$f":"IF(Worksheet!L68<>0,IFERROR(VLOOKUP(Worksheet!$C$16,SavingsSupportTable,3,FALSE)*Worksheet!AQ68*IF(IFERROR(SEARCH(\"Gas\",Worksheet!$G$17),0)>0,VLOOKUP(\"Gas\",HVACg_Lookup,MATCH(Worksheet!$G$16,BuildingSize,0)+1,FALSE),IF(IFERROR(SEARCH(\"Oil\",Worksheet!$G$17),0)>0,VLOOKUP(\"Oil\",HVACg_Lookup,MATCH(Worksheet!$G$16,BuildingSize,0)+1,FALSE),IF(IFERROR(SEARCH(\"Propane\",Worksheet!$G$17),0)>0,VLOOKUP(\"Propane\",HVACg_Lookup,MATCH(Worksheet!$G$16,BuildingSize,0)+1,FALSE),0)))/IF(Worksheet!M68>0,Worksheet!M68,Worksheet!L68),0),\"\")","v":""},"",null,null,null,{"$f":"IF(ISBLANK(Worksheet!M68)=FALSE,Worksheet!M68,\"\")","v":0},{"$f":"IF(Worksheet!A68=\"-\",\"\",IF(Worksheet!A68=\"\",S44,Worksheet!A68))","v":""},{"$f":"IF(S45=\"\",\"\",IF(AND(Worksheet!G68=\"\",Worksheet!H68=\"\")=TRUE,T44,IF(Worksheet!G68=\"\",\"\",Worksheet!G68)))","v":""},{"$f":"IF(S45=\"\",\"\",IF(AND(Worksheet!G68=\"\",Worksheet!H68=\"\")=TRUE,U44,IF(Worksheet!H68=\"\",\"\",Worksheet!H68)))","v":""},{"$f":"IF(Worksheet!N68=\"\",\"\",Worksheet!N68)","v":""},{"$f":"IF(Worksheet!O68=\"\",\"\",Worksheet!O68)","v":""},{"$f":"IF(Worksheet!F68=0,\"\",Worksheet!F68)","v":""},{"$f":"IF(Worksheet!P68=0,\"\",Worksheet!P68)","v":""},{"$f":"IF(Worksheet!$A$11=TRUE,\"Y\",\"N\")","v":"N"},{"$f":"IF(Worksheet!$A$12=TRUE,\"Y\",\"N\")","v":"N"},{"$f":"IF(Worksheet!$B$11=TRUE,\"Y\",\"N\")","v":"N"},{"$f":"IF(Worksheet!$B$12=TRUE,\"Y\",\"N\")","v":"N"},{"$f":"IF(Worksheet!$C$11=TRUE,\"Y\",\"N\")","v":"N"},{"$f":"IF(Worksheet!$C$12=TRUE,\"Y\",\"N\")","v":"N"},""]
[{"$f":"IF(ISERROR(VLOOKUP(Worksheet!N69,MeasureLookup,2,FALSE))=FALSE,VLOOKUP(Worksheet!N69,MeasureLookup,2,FALSE),\"\")","v":""},{"$f":"Worksheet!Q69","v":0},{"$f":"Worksheet!R69","v":0},{"$f":"IF(ISERROR(Worksheet!P69)=FALSE,Worksheet!P69,\"\")","v":0},"Watts",null,null,{"$f":"IF(Worksheet!AP69<>\"\",IF(Worksheet!AP69>0,Worksheet!AP69/IF(Worksheet!M69>0,Worksheet!M69,Worksheet!L69),\"\"),\"\")","v":""},{"$f":"IF(ISBLANK(Worksheet!L69)=FALSE,Worksheet!L69,\"\")","v":0},{"$f":"IF(Worksheet!L69<>0, IFERROR(VLOOKUP(Worksheet!$C$16,SavingsSupportTable,3,FALSE)*Worksheet!AQ69*IFERROR(1+VLOOKUP(Worksheet!$C$16,SavingsSupportTable,MATCH(Worksheet!$G$17,HVACe_Options,0)+4,FALSE),1)/IF(Worksheet!M69>0,Worksheet!M69,Worksheet!L69),\"\"),\"\")","v":""},{"$f":"IF(Worksheet!L69<>0, IFERROR(VLOOKUP(Worksheet!$C$16,SavingsSupportTable,2,FALSE)*Worksheet!AQ69*IF(IFERROR(MATCH(Worksheet!$G$17,HVACe_Options,0),0)>0,1+VLOOKUP(Worksheet!$C$16,SavingsSupportTable,4,FALSE),1)/IF(Worksheet!M69>0,Worksheet!M69,Worksheet!L69),\"\"),\"\")","v":""},"",{"$f":"IF(Worksheet!L69<>0,IFERROR(VLOOKUP(Worksheet!$C$16,SavingsSupportTable,3,FALSE)*Worksheet!AQ69*IF(IFERROR(SEARCH(\"Gas\",Worksheet!$G$17),0)>0,VLOOKUP(\"Gas\",HVACg_Lookup,MATCH(Worksheet!$G$16,BuildingSize,0)+1,FALSE),IF(IFERROR(SEARCH(\"Oil\",Worksheet!$G$17),0)>0,VLOOKUP(\"Oil\",HVACg_Lookup,MATCH(Worksheet!$G$16,BuildingSize,0)+1,FALSE),IF(IFERROR(SEARCH(\"Propane\",Worksheet!$G$17),0)>0,VLOOKUP(\"Propane\",HVACg_Lookup,MATCH(Worksheet!$G$16,BuildingSize,0)+1,FALSE),0)))/IF(Worksheet!M69>0,Worksheet!M69,Worksheet!L69),0),\"\")","v":""},"",null,null,null,{"$f":"IF(ISBLANK(Worksheet!M69)=FALSE,Worksheet!M69,\"\")","v":0},{"$f":"IF(Worksheet!A69=\"-\",\"\",IF(Worksheet!A69=\"\",S45,Worksheet!A69))","v":""},{"$f":"IF(S46=\"\",\"\",IF(AND(Worksheet!G69=\"\",Worksheet!H69=\"\")=TRUE,T45,IF(Worksheet!G69=\"\",\"\",Worksheet!G69)))","v":""},{"$f":"IF(S46=\"\",\"\",IF(AND(Worksheet!G69=\"\",Worksheet!H69=\"\")=TRUE,U45,IF(Worksheet!H69=\"\",\"\",Worksheet!H69)))","v":""},{"$f":"IF(Worksheet!N69=\"\",\"\",Worksheet!N69)","v":""},{"$f":"IF(Worksheet!O69=\"\",\"\",Worksheet!O69)","v":""},{"$f":"IF(Worksheet!F69=0,\"\",Worksheet!F69)","v":""},{"$f":"IF(Worksheet!P69=0,\"\",Worksheet!P69)","v":""},{"$f":"IF(Worksheet!$A$11=TRUE,\"Y\",\"N\")","v":"N"},{"$f":"IF(Worksheet!$A$12=TRUE,\"Y\",\"N\")","v":"N"},{"$f":"IF(Worksheet!$B$11=TRUE,\"Y\",\"N\")","v":"N"},{"$f":"IF(Worksheet!$B$12=TRUE,\"Y\",\"N\")","v":"N"},{"$f":"IF(Worksheet!$C$11=TRUE,\"Y\",\"N\")","v":"N"},{"$f":"IF(Worksheet!$C$12=TRUE,\"Y\",\"N\")","v":"N"},""]
[{"$f":"IF(ISERROR(VLOOKUP(Worksheet!N70,MeasureLookup,2,FALSE))=FALSE,VLOOKUP(Worksheet!N70,MeasureLookup,2,FALSE),\"\")","v":""},{"$f":"Worksheet!Q70","v":0},{"$f":"Worksheet!R70","v":0},{"$f":"IF(ISERROR(Worksheet!P70)=FALSE,Worksheet!P70,\"\")","v":0},"Watts",null,null,{"$f":"IF(Worksheet!AP70<>\"\",IF(Worksheet!AP70>0,Worksheet!AP70/IF(Worksheet!M70>0,Worksheet!M70,Worksheet!L70),\"\"),\"\")","v":""},{"$f":"IF(ISBLANK(Worksheet!L70)=FALSE,Worksheet!L70,\"\")","v":0},{"$f":"IF(Worksheet!L70<>0, IFERROR(VLOOKUP(Worksheet!$C$16,SavingsSupportTable,3,FALSE)*Worksheet!AQ70*IFERROR(1+VLOOKUP(Worksheet!$C$16,SavingsSupportTable,MATCH(Worksheet!$G$17,HVACe_Options,0)+4,FALSE),1)/IF(Worksheet!M70>0,Worksheet!M70,Worksheet!L70),\"\"),\"\")","v":""},{"$f":"IF(Worksheet!L70<>0, IFERROR(VLOOKUP(Worksheet!$C$16,SavingsSupportTable,2,FALSE)*Worksheet!AQ70*IF(IFERROR(MATCH(Worksheet!$G$17,HVACe_Options,0),0)>0,1+VLOOKUP(Worksheet!$C$16,SavingsSupportTable,4,FALSE),1)/IF(Worksheet!M70>0,Worksheet!M70,Worksheet!L70),\"\"),\"\")","v":""},"",{"$f":"IF(Worksheet!L70<>0,IFERROR(VLOOKUP(Worksheet!$C$16,SavingsSupportTable,3,FALSE)*Worksheet!AQ70*IF(IFERROR(SEARCH(\"Gas\",Worksheet!$G$17),0)>0,VLOOKUP(\"Gas\",HVACg_Lookup,MATCH(Worksheet!$G$16,BuildingSize,0)+1,FALSE),IF(IFERROR(SEARCH(\"Oil\",Worksheet!$G$17),0)>0,VLOOKUP(\"Oil\",HVACg_Lookup,MATCH(Worksheet!$G$16,BuildingSize,0)+1,FALSE),IF(IFERROR(SEARCH(\"Propane\",Worksheet!$G$17),0)>0,VLOOKUP(\"Propane\",HVACg_Lookup,MATCH(Worksheet!$G$16,BuildingSize,0)+1,FALSE),0)))/IF(Worksheet!M70>0,Worksheet!M70,Worksheet!L70),0),\"\")","v":""},"",null,null,null,{"$f":"IF(ISBLANK(Worksheet!M70)=FALSE,Worksheet!M70,\"\")","v":0},{"$f":"IF(Worksheet!A70=\"-\",\"\",IF(Worksheet!A70=\"\",S46,Worksheet!A70))","v":""},{"$f":"IF(S47=\"\",\"\",IF(AND(Worksheet!G70=\"\",Worksheet!H70=\"\")=TRUE,T46,IF(Worksheet!G70=\"\",\"\",Worksheet!G70)))","v":""},{"$f":"IF(S47=\"\",\"\",IF(AND(Worksheet!G70=\"\",Worksheet!H70=\"\")=TRUE,U46,IF(Worksheet!H70=\"\",\"\",Worksheet!H70)))","v":""},{"$f":"IF(Worksheet!N70=\"\",\"\",Worksheet!N70)","v":""},{"$f":"IF(Worksheet!O70=\"\",\"\",Worksheet!O70)","v":""},{"$f":"IF(Worksheet!F70=0,\"\",Worksheet!F70)","v":""},{"$f":"IF(Worksheet!P70=0,\"\",Worksheet!P70)","v":""},{"$f":"IF(Worksheet!$A$11=TRUE,\"Y\",\"N\")","v":"N"},{"$f":"IF(Worksheet!$A$12=TRUE,\"Y\",\"N\")","v":"N"},{"$f":"IF(Worksheet!$B$11=TRUE,\"Y\",\"N\")","v":"N"},{"$f":"IF(Worksheet!$B$12=TRUE,\"Y\",\"N\")","v":"N"},{"$f":"IF(Worksheet!$C$11=TRUE,\"Y\",\"N\")","v":"N"},{"$f":"IF(Worksheet!$C$12=TRUE,\"Y\",\"N\")","v":"N"},""]
[{"$f":"IF(ISERROR(VLOOKUP(Worksheet!N71,MeasureLookup,2,FALSE))=FALSE,VLOOKUP(Worksheet!N71,MeasureLookup,2,FALSE),\"\")","v":""},{"$f":"Worksheet!Q71","v":0},{"$f":"Worksheet!R71","v":0},{"$f":"IF(ISERROR(Worksheet!P71)=FALSE,Worksheet!P71,\"\")","v":0},"Watts",null,null,{"$f":"IF(Worksheet!AP71<>\"\",IF(Worksheet!AP71>0,Worksheet!AP71/IF(Worksheet!M71>0,Worksheet!M71,Worksheet!L71),\"\"),\"\")","v":""},{"$f":"IF(ISBLANK(Worksheet!L71)=FALSE,Worksheet!L71,\"\")","v":0},{"$f":"IF(Worksheet!L71<>0, IFERROR(VLOOKUP(Worksheet!$C$16,SavingsSupportTable,3,FALSE)*Worksheet!AQ71*IFERROR(1+VLOOKUP(Worksheet!$C$16,SavingsSupportTable,MATCH(Worksheet!$G$17,HVACe_Options,0)+4,FALSE),1)/IF(Worksheet!M71>0,Worksheet!M71,Worksheet!L71),\"\"),\"\")","v":""},{"$f":"IF(Worksheet!L71<>0, IFERROR(VLOOKUP(Worksheet!$C$16,SavingsSupportTable,2,FALSE)*Worksheet!AQ71*IF(IFERROR(MATCH(Worksheet!$G$17,HVACe_Options,0),0)>0,1+VLOOKUP(Worksheet!$C$16,SavingsSupportTable,4,FALSE),1)/IF(Worksheet!M71>0,Worksheet!M71,Worksheet!L71),\"\"),\"\")","v":""},"",{"$f":"IF(Worksheet!L71<>0,IFERROR(VLOOKUP(Worksheet!$C$16,SavingsSupportTable,3,FALSE)*Worksheet!AQ71*IF(IFERROR(SEARCH(\"Gas\",Worksheet!$G$17),0)>0,VLOOKUP(\"Gas\",HVACg_Lookup,MATCH(Worksheet!$G$16,BuildingSize,0)+1,FALSE),IF(IFERROR(SEARCH(\"Oil\",Worksheet!$G$17),0)>0,VLOOKUP(\"Oil\",HVACg_Lookup,MATCH(Worksheet!$G$16,BuildingSize,0)+1,FALSE),IF(IFERROR(SEARCH(\"Propane\",Worksheet!$G$17),0)>0,VLOOKUP(\"Propane\",HVACg_Lookup,MATCH(Worksheet!$G$16,BuildingSize,0)+1,FALSE),0)))/IF(Worksheet!M71>0,Worksheet!M71,Worksheet!L71),0),\"\")","v":""},"",null,null,null,{"$f":"IF(ISBLANK(Worksheet!M71)=FALSE,Worksheet!M71,\"\")","v":0},{"$f":"IF(Worksheet!A71=\"-\",\"\",IF(Worksheet!A71=\"\",S47,Worksheet!A71))","v":""},{"$f":"IF(S48=\"\",\"\",IF(AND(Worksheet!G71=\"\",Worksheet!H71=\"\")=TRUE,T47,IF(Worksheet!G71=\"\",\"\",Worksheet!G71)))","v":""},{"$f":"IF(S48=\"\",\"\",IF(AND(Worksheet!G71=\"\",Worksheet!H71=\"\")=TRUE,U47,IF(Worksheet!H71=\"\",\"\",Worksheet!H71)))","v":""},{"$f":"IF(Worksheet!N71=\"\",\"\",Worksheet!N71)","v":""},{"$f":"IF(Worksheet!O71=\"\",\"\",Worksheet!O71)","v":""},{"$f":"IF(Worksheet!F71=0,\"\",Worksheet!F71)","v":""},{"$f":"IF(Worksheet!P71=0,\"\",Worksheet!P71)","v":""},{"$f":"IF(Worksheet!$A$11=TRUE,\"Y\",\"N\")","v":"N"},{"$f":"IF(Worksheet!$A$12=TRUE,\"Y\",\"N\")","v":"N"},{"$f":"IF(Worksheet!$B$11=TRUE,\"Y\",\"N\")","v":"N"},{"$f":"IF(Worksheet!$B$12=TRUE,\"Y\",\"N\")","v":"N"},{"$f":"IF(Worksheet!$C$11=TRUE,\"Y\",\"N\")","v":"N"},{"$f":"IF(Worksheet!$C$12=TRUE,\"Y\",\"N\")","v":"N"},""]
[{"$f":"IF(ISERROR(VLOOKUP(Worksheet!N72,MeasureLookup,2,FALSE))=FALSE,VLOOKUP(Worksheet!N72,MeasureLookup,2,FALSE),\"\")","v":""},{"$f":"Worksheet!Q72","v":0},{"$f":"Worksheet!R72","v":0},{"$f":"IF(ISERROR(Worksheet!P72)=FALSE,Worksheet!P72,\"\")","v":0},"Watts",null,null,{"$f":"IF(Worksheet!AP72<>\"\",IF(Worksheet!AP72>0,Worksheet!AP72/IF(Worksheet!M72>0,Worksheet!M72,Worksheet!L72),\"\"),\"\")","v":""},{"$f":"IF(ISBLANK(Worksheet!L72)=FALSE,Worksheet!L72,\"\")","v":0},{"$f":"IF(Worksheet!L72<>0, IFERROR(VLOOKUP(Worksheet!$C$16,SavingsSupportTable,3,FALSE)*Worksheet!AQ72*IFERROR(1+VLOOKUP(Worksheet!$C$16,SavingsSupportTable,MATCH(Worksheet!$G$17,HVACe_Options,0)+4,FALSE),1)/IF(Worksheet!M72>0,Worksheet!M72,Worksheet!L72),\"\"),\"\")","v":""},{"$f":"IF(Worksheet!L72<>0, IFERROR(VLOOKUP(Worksheet!$C$16,SavingsSupportTable,2,FALSE)*Worksheet!AQ72*IF(IFERROR(MATCH(Worksheet!$G$17,HVACe_Options,0),0)>0,1+VLOOKUP(Worksheet!$C$16,SavingsSupportTable,4,FALSE),1)/IF(Worksheet!M72>0,Worksheet!M72,Worksheet!L72),\"\"),\"\")","v":""},"",{"$f":"IF(Worksheet!L72<>0,IFERROR(VLOOKUP(Worksheet!$C$16,SavingsSupportTable,3,FALSE)*Worksheet!AQ72*IF(IFERROR(SEARCH(\"Gas\",Worksheet!$G$17),0)>0,VLOOKUP(\"Gas\",HVACg_Lookup,MATCH(Worksheet!$G$16,BuildingSize,0)+1,FALSE),IF(IFERROR(SEARCH(\"Oil\",Worksheet!$G$17),0)>0,VLOOKUP(\"Oil\",HVACg_Lookup,MATCH(Worksheet!$G$16,BuildingSize,0)+1,FALSE),IF(IFERROR(SEARCH(\"Propane\",Worksheet!$G$17),0)>0,VLOOKUP(\"Propane\",HVACg_Lookup,MATCH(Worksheet!$G$16,BuildingSize,0)+1,FALSE),0)))/IF(Worksheet!M72>0,Worksheet!M72,Worksheet!L72),0),\"\")","v":""},"",null,null,null,{"$f":"IF(ISBLANK(Worksheet!M72)=FALSE,Worksheet!M72,\"\")","v":0},{"$f":"IF(Worksheet!A72=\"-\",\"\",IF(Worksheet!A72=\"\",S48,Worksheet!A72))","v":""},{"$f":"IF(S49=\"\",\"\",IF(AND(Worksheet!G72=\"\",Worksheet!H72=\"\")=TRUE,T48,IF(Worksheet!G72=\"\",\"\",Worksheet!G72)))","v":""},{"$f":"IF(S49=\"\",\"\",IF(AND(Worksheet!G72=\"\",Worksheet!H72=\"\")=TRUE,U48,IF(Worksheet!H72=\"\",\"\",Worksheet!H72)))","v":""},{"$f":"IF(Worksheet!N72=\"\",\"\",Worksheet!N72)","v":""},{"$f":"IF(Worksheet!O72=\"\",\"\",Worksheet!O72)","v":""},{"$f":"IF(Worksheet!F72=0,\"\",Worksheet!F72)","v":""},{"$f":"IF(Worksheet!P72=0,\"\",Worksheet!P72)","v":""},{"$f":"IF(Worksheet!$A$11=TRUE,\"Y\",\"N\")","v":"N"},{"$f":"IF(Worksheet!$A$12=TRUE,\"Y\",\"N\")","v":"N"},{"$f":"IF(Worksheet!$B$11=TRUE,\"Y\",\"N\")","v":"N"},{"$f":"IF(Worksheet!$B$12=TRUE,\"Y\",\"N\")","v":"N"},{"$f":"IF(Worksheet!$C$11=TRUE,\"Y\",\"N\")","v":"N"},{"$f":"IF(Worksheet!$C$12=TRUE,\"Y\",\"N\")","v":"N"},""]
[{"$f":"IF(ISERROR(VLOOKUP(Worksheet!N73,MeasureLookup,2,FALSE))=FALSE,VLOOKUP(Worksheet!N73,MeasureLookup,2,FALSE),\"\")","v":""},{"$f":"Worksheet!Q73","v":0},{"$f":"Worksheet!R73","v":0},{"$f":"IF(ISERROR(Worksheet!P73)=FALSE,Worksheet!P73,\"\")","v":0},"Watts",null,null,{"$f":"IF(Worksheet!AP73<>\"\",IF(Worksheet!AP73>0,Worksheet!AP73/IF(Worksheet!M73>0,Worksheet!M73,Worksheet!L73),\"\"),\"\")","v":""},{"$f":"IF(ISBLANK(Worksheet!L73)=FALSE,Worksheet!L73,\"\")","v":0},{"$f":"IF(Worksheet!L73<>0, IFERROR(VLOOKUP(Worksheet!$C$16,SavingsSupportTable,3,FALSE)*Worksheet!AQ73*IFERROR(1+VLOOKUP(Worksheet!$C$16,SavingsSupportTable,MATCH(Worksheet!$G$17,HVACe_Options,0)+4,FALSE),1)/IF(Worksheet!M73>0,Worksheet!M73,Worksheet!L73),\"\"),\"\")","v":""},{"$f":"IF(Worksheet!L73<>0, IFERROR(VLOOKUP(Worksheet!$C$16,SavingsSupportTable,2,FALSE)*Worksheet!AQ73*IF(IFERROR(MATCH(Worksheet!$G$17,HVACe_Options,0),0)>0,1+VLOOKUP(Worksheet!$C$16,SavingsSupportTable,4,FALSE),1)/IF(Worksheet!M73>0,Worksheet!M73,Worksheet!L73),\"\"),\"\")","v":""},"",{"$f":"IF(Worksheet!L73<>0,IFERROR(VLOOKUP(Worksheet!$C$16,SavingsSupportTable,3,FALSE)*Worksheet!AQ73*IF(IFERROR(SEARCH(\"Gas\",Worksheet!$G$17),0)>0,VLOOKUP(\"Gas\",HVACg_Lookup,MATCH(Worksheet!$G$16,BuildingSize,0)+1,FALSE),IF(IFERROR(SEARCH(\"Oil\",Worksheet!$G$17),0)>0,VLOOKUP(\"Oil\",HVACg_Lookup,MATCH(Worksheet!$G$16,BuildingSize,0)+1,FALSE),IF(IFERROR(SEARCH(\"Propane\",Worksheet!$G$17),0)>0,VLOOKUP(\"Propane\",HVACg_Lookup,MATCH(Worksheet!$G$16,BuildingSize,0)+1,FALSE),0)))/IF(Worksheet!M73>0,Worksheet!M73,Worksheet!L73),0),\"\")","v":""},"",null,null,null,{"$f":"IF(ISBLANK(Worksheet!M73)=FALSE,Worksheet!M73,\"\")","v":0},{"$f":"IF(Worksheet!A73=\"-\",\"\",IF(Worksheet!A73=\"\",S49,Worksheet!A73))","v":""},{"$f":"IF(S50=\"\",\"\",IF(AND(Worksheet!G73=\"\",Worksheet!H73=\"\")=TRUE,T49,IF(Worksheet!G73=\"\",\"\",Worksheet!G73)))","v":""},{"$f":"IF(S50=\"\",\"\",IF(AND(Worksheet!G73=\"\",Worksheet!H73=\"\")=TRUE,U49,IF(Worksheet!H73=\"\",\"\",Worksheet!H73)))","v":""},{"$f":"IF(Worksheet!N73=\"\",\"\",Worksheet!N73)","v":""},{"$f":"IF(Worksheet!O73=\"\",\"\",Worksheet!O73)","v":""},{"$f":"IF(Worksheet!F73=0,\"\",Worksheet!F73)","v":""},{"$f":"IF(Worksheet!P73=0,\"\",Worksheet!P73)","v":""},{"$f":"IF(Worksheet!$A$11=TRUE,\"Y\",\"N\")","v":"N"},{"$f":"IF(Worksheet!$A$12=TRUE,\"Y\",\"N\")","v":"N"},{"$f":"IF(Worksheet!$B$11=TRUE,\"Y\",\"N\")","v":"N"},{"$f":"IF(Worksheet!$B$12=TRUE,\"Y\",\"N\")","v":"N"},{"$f":"IF(Worksheet!$C$11=TRUE,\"Y\",\"N\")","v":"N"},{"$f":"IF(Worksheet!$C$12=TRUE,\"Y\",\"N\")","v":"N"},""]
[{"$f":"IF(ISERROR(VLOOKUP(Worksheet!N74,MeasureLookup,2,FALSE))=FALSE,VLOOKUP(Worksheet!N74,MeasureLookup,2,FALSE),\"\")","v":""},{"$f":"Worksheet!Q74","v":0},{"$f":"Worksheet!R74","v":0},{"$f":"IF(ISERROR(Worksheet!P74)=FALSE,Worksheet!P74,\"\")","v":0},"Watts",null,null,{"$f":"IF(Worksheet!AP74<>\"\",IF(Worksheet!AP74>0,Worksheet!AP74/IF(Worksheet!M74>0,Worksheet!M74,Worksheet!L74),\"\"),\"\")","v":""},{"$f":"IF(ISBLANK(Worksheet!L74)=FALSE,Worksheet!L74,\"\")","v":0},{"$f":"IF(Worksheet!L74<>0, IFERROR(VLOOKUP(Worksheet!$C$16,SavingsSupportTable,3,FALSE)*Worksheet!AQ74*IFERROR(1+VLOOKUP(Worksheet!$C$16,SavingsSupportTable,MATCH(Worksheet!$G$17,HVACe_Options,0)+4,FALSE),1)/IF(Worksheet!M74>0,Worksheet!M74,Worksheet!L74),\"\"),\"\")","v":""},{"$f":"IF(Worksheet!L74<>0, IFERROR(VLOOKUP(Worksheet!$C$16,SavingsSupportTable,2,FALSE)*Worksheet!AQ74*IF(IFERROR(MATCH(Worksheet!$G$17,HVACe_Options,0),0)>0,1+VLOOKUP(Worksheet!$C$16,SavingsSupportTable,4,FALSE),1)/IF(Worksheet!M74>0,Worksheet!M74,Worksheet!L74),\"\"),\"\")","v":""},"",{"$f":"IF(Worksheet!L74<>0,IFERROR(VLOOKUP(Worksheet!$C$16,SavingsSupportTable,3,FALSE)*Worksheet!AQ74*IF(IFERROR(SEARCH(\"Gas\",Worksheet!$G$17),0)>0,VLOOKUP(\"Gas\",HVACg_Lookup,MATCH(Worksheet!$G$16,BuildingSize,0)+1,FALSE),IF(IFERROR(SEARCH(\"Oil\",Worksheet!$G$17),0)>0,VLOOKUP(\"Oil\",HVACg_Lookup,MATCH(Worksheet!$G$16,BuildingSize,0)+1,FALSE),IF(IFERROR(SEARCH(\"Propane\",Worksheet!$G$17),0)>0,VLOOKUP(\"Propane\",HVACg_Lookup,MATCH(Worksheet!$G$16,BuildingSize,0)+1,FALSE),0)))/IF(Worksheet!M74>0,Worksheet!M74,Worksheet!L74),0),\"\")","v":""},"",null,null,null,{"$f":"IF(ISBLANK(Worksheet!M74)=FALSE,Worksheet!M74,\"\")","v":0},{"$f":"IF(Worksheet!A74=\"-\",\"\",IF(Worksheet!A74=\"\",S50,Worksheet!A74))","v":""},{"$f":"IF(S51=\"\",\"\",IF(AND(Worksheet!G74=\"\",Worksheet!H74=\"\")=TRUE,T50,IF(Worksheet!G74=\"\",\"\",Worksheet!G74)))","v":""},{"$f":"IF(S51=\"\",\"\",IF(AND(Worksheet!G74=\"\",Worksheet!H74=\"\")=TRUE,U50,IF(Worksheet!H74=\"\",\"\",Worksheet!H74)))","v":""},{"$f":"IF(Worksheet!N74=\"\",\"\",Worksheet!N74)","v":""},{"$f":"IF(Worksheet!O74=\"\",\"\",Worksheet!O74)","v":""},{"$f":"IF(Worksheet!F74=0,\"\",Worksheet!F74)","v":""},{"$f":"IF(Worksheet!P74=0,\"\",Worksheet!P74)","v":""},{"$f":"IF(Worksheet!$A$11=TRUE,\"Y\",\"N\")","v":"N"},{"$f":"IF(Worksheet!$A$12=TRUE,\"Y\",\"N\")","v":"N"},{"$f":"IF(Worksheet!$B$11=TRUE,\"Y\",\"N\")","v":"N"},{"$f":"IF(Worksheet!$B$12=TRUE,\"Y\",\"N\")","v":"N"},{"$f":"IF(Worksheet!$C$11=TRUE,\"Y\",\"N\")","v":"N"},{"$f":"IF(Worksheet!$C$12=TRUE,\"Y\",\"N\")","v":"N"},""]
[{"$f":"IF(ISERROR(VLOOKUP(Worksheet!N75,MeasureLookup,2,FALSE))=FALSE,VLOOKUP(Worksheet!N75,MeasureLookup,2,FALSE),\"\")","v":""},{"$f":"Worksheet!Q75","v":0},{"$f":"Worksheet!R75","v":0},{"$f":"IF(ISERROR(Worksheet!P75)=FALSE,Worksheet!P75,\"\")","v":0},"Watts",null,null,{"$f":"IF(Worksheet!AP75<>\"\",IF(Worksheet!AP75>0,Worksheet!AP75/IF(Worksheet!M75>0,Worksheet!M75,Worksheet!L75),\"\"),\"\")","v":""},{"$f":"IF(ISBLANK(Worksheet!L75)=FALSE,Worksheet!L75,\"\")","v":0},{"$f":"IF(Worksheet!L75<>0, IFERROR(VLOOKUP(Worksheet!$C$16,SavingsSupportTable,3,FALSE)*Worksheet!AQ75*IFERROR(1+VLOOKUP(Worksheet!$C$16,SavingsSupportTable,MATCH(Worksheet!$G$17,HVACe_Options,0)+4,FALSE),1)/IF(Worksheet!M75>0,Worksheet!M75,Worksheet!L75),\"\"),\"\")","v":""},{"$f":"IF(Worksheet!L75<>0, IFERROR(VLOOKUP(Worksheet!$C$16,SavingsSupportTable,2,FALSE)*Worksheet!AQ75*IF(IFERROR(MATCH(Worksheet!$G$17,HVACe_Options,0),0)>0,1+VLOOKUP(Worksheet!$C$16,SavingsSupportTable,4,FALSE),1)/IF(Worksheet!M75>0,Worksheet!M75,Worksheet!L75),\"\"),\"\")","v":""},"",{"$f":"IF(Worksheet!L75<>0,IFERROR(VLOOKUP(Worksheet!$C$16,SavingsSupportTable,3,FALSE)*Worksheet!AQ75*IF(IFERROR(SEARCH(\"Gas\",Worksheet!$G$17),0)>0,VLOOKUP(\"Gas\",HVACg_Lookup,MATCH(Worksheet!$G$16,BuildingSize,0)+1,FALSE),IF(IFERROR(SEARCH(\"Oil\",Worksheet!$G$17),0)>0,VLOOKUP(\"Oil\",HVACg_Lookup,MATCH(Worksheet!$G$16,BuildingSize,0)+1,FALSE),IF(IFERROR(SEARCH(\"Propane\",Worksheet!$G$17),0)>0,VLOOKUP(\"Propane\",HVACg_Lookup,MATCH(Worksheet!$G$16,BuildingSize,0)+1,FALSE),0)))/IF(Worksheet!M75>0,Worksheet!M75,Worksheet!L75),0),\"\")","v":""},"",null,null,null,{"$f":"IF(ISBLANK(Worksheet!M75)=FALSE,Worksheet!M75,\"\")","v":0},{"$f":"IF(Worksheet!A75=\"-\",\"\",IF(Worksheet!A75=\"\",S51,Worksheet!A75))","v":""},{"$f":"IF(S52=\"\",\"\",IF(AND(Worksheet!G75=\"\",Worksheet!H75=\"\")=TRUE,T51,IF(Worksheet!G75=\"\",\"\",Worksheet!G75)))","v":""},{"$f":"IF(S52=\"\",\"\",IF(AND(Worksheet!G75=\"\",Worksheet!H75=\"\")=TRUE,U51,IF(Worksheet!H75=\"\",\"\",Worksheet!H75)))","v":""},{"$f":"IF(Worksheet!N75=\"\",\"\",Worksheet!N75)","v":""},{"$f":"IF(Worksheet!O75=\"\",\"\",Worksheet!O75)","v":""},{"$f":"IF(Worksheet!F75=0,\"\",Worksheet!F75)","v":""},{"$f":"IF(Worksheet!P75=0,\"\",Worksheet!P75)","v":""},{"$f":"IF(Worksheet!$A$11=TRUE,\"Y\",\"N\")","v":"N"},{"$f":"IF(Worksheet!$A$12=TRUE,\"Y\",\"N\")","v":"N"},{"$f":"IF(Worksheet!$B$11=TRUE,\"Y\",\"N\")","v":"N"},{"$f":"IF(Worksheet!$B$12=TRUE,\"Y\",\"N\")","v":"N"},{"$f":"IF(Worksheet!$C$11=TRUE,\"Y\",\"N\")","v":"N"},{"$f":"IF(Worksheet!$C$12=TRUE,\"Y\",\"N\")","v":"N"},""]
[{"$f":"IF(ISERROR(VLOOKUP(Worksheet!N76,MeasureLookup,2,FALSE))=FALSE,VLOOKUP(Worksheet!N76,MeasureLookup,2,FALSE),\"\")","v":""},{"$f":"Worksheet!Q76","v":0},{"$f":"Worksheet!R76","v":0},{"$f":"IF(ISERROR(Worksheet!P76)=FALSE,Worksheet!P76,\"\")","v":0},"Watts",null,null,{"$f":"IF(Worksheet!AP76<>\"\",IF(Worksheet!AP76>0,Worksheet!AP76/IF(Worksheet!M76>0,Worksheet!M76,Worksheet!L76),\"\"),\"\")","v":""},{"$f":"IF(ISBLANK(Worksheet!L76)=FALSE,Worksheet!L76,\"\")","v":0},{"$f":"IF(Worksheet!L76<>0, IFERROR(VLOOKUP(Worksheet!$C$16,SavingsSupportTable,3,FALSE)*Worksheet!AQ76*IFERROR(1+VLOOKUP(Worksheet!$C$16,SavingsSupportTable,MATCH(Worksheet!$G$17,HVACe_Options,0)+4,FALSE),1)/IF(Worksheet!M76>0,Worksheet!M76,Worksheet!L76),\"\"),\"\")","v":""},{"$f":"IF(Worksheet!L76<>0, IFERROR(VLOOKUP(Worksheet!$C$16,SavingsSupportTable,2,FALSE)*Worksheet!AQ76*IF(IFERROR(MATCH(Worksheet!$G$17,HVACe_Options,0),0)>0,1+VLOOKUP(Worksheet!$C$16,SavingsSupportTable,4,FALSE),1)/IF(Worksheet!M76>0,Worksheet!M76,Worksheet!L76),\"\"),\"\")","v":""},"",{"$f":"IF(Worksheet!L76<>0,IFERROR(VLOOKUP(Worksheet!$C$16,SavingsSupportTable,3,FALSE)*Worksheet!AQ76*IF(IFERROR(SEARCH(\"Gas\",Worksheet!$G$17),0)>0,VLOOKUP(\"Gas\",HVACg_Lookup,MATCH(Worksheet!$G$16,BuildingSize,0)+1,FALSE),IF(IFERROR(SEARCH(\"Oil\",Worksheet!$G$17),0)>0,VLOOKUP(\"Oil\",HVACg_Lookup,MATCH(Worksheet!$G$16,BuildingSize,0)+1,FALSE),IF(IFERROR(SEARCH(\"Propane\",Worksheet!$G$17),0)>0,VLOOKUP(\"Propane\",HVACg_Lookup,MATCH(Worksheet!$G$16,BuildingSize,0)+1,FALSE),0)))/IF(Worksheet!M76>0,Worksheet!M76,Worksheet!L76),0),\"\")","v":""},"",null,null,null,{"$f":"IF(ISBLANK(Worksheet!M76)=FALSE,Worksheet!M76,\"\")","v":0},{"$f":"IF(Worksheet!A76=\"-\",\"\",IF(Worksheet!A76=\"\",S52,Worksheet!A76))","v":""},{"$f":"IF(S53=\"\",\"\",IF(AND(Worksheet!G76=\"\",Worksheet!H76=\"\")=TRUE,T52,IF(Worksheet!G76=\"\",\"\",Worksheet!G76)))","v":""},{"$f":"IF(S53=\"\",\"\",IF(AND(Worksheet!G76=\"\",Worksheet!H76=\"\")=TRUE,U52,IF(Worksheet!H76=\"\",\"\",Worksheet!H76)))","v":""},{"$f":"IF(Worksheet!N76=\"\",\"\",Worksheet!N76)","v":""},{"$f":"IF(Worksheet!O76=\"\",\"\",Worksheet!O76)","v":""},{"$f":"IF(Worksheet!F76=0,\"\",Worksheet!F76)","v":""},{"$f":"IF(Worksheet!P76=0,\"\",Worksheet!P76)","v":""},{"$f":"IF(Worksheet!$A$11=TRUE,\"Y\",\"N\")","v":"N"},{"$f":"IF(Worksheet!$A$12=TRUE,\"Y\",\"N\")","v":"N"},{"$f":"IF(Worksheet!$B$11=TRUE,\"Y\",\"N\")","v":"N"},{"$f":"IF(Worksheet!$B$12=TRUE,\"Y\",\"N\")","v":"N"},{"$f":"IF(Worksheet!$C$11=TRUE,\"Y\",\"N\")","v":"N"},{"$f":"IF(Worksheet!$C$12=TRUE,\"Y\",\"N\")","v":"N"},""]
[{"$f":"IF(ISERROR(VLOOKUP(Worksheet!N77,MeasureLookup,2,FALSE))=FALSE,VLOOKUP(Worksheet!N77,MeasureLookup,2,FALSE),\"\")","v":""},{"$f":"Worksheet!Q77","v":0},{"$f":"Worksheet!R77","v":0},{"$f":"IF(ISERROR(Worksheet!P77)=FALSE,Worksheet!P77,\"\")","v":0},"Watts",null,null,{"$f":"IF(Worksheet!AP77<>\"\",IF(Worksheet!AP77>0,Worksheet!AP77/IF(Worksheet!M77>0,Worksheet!M77,Worksheet!L77),\"\"),\"\")","v":""},{"$f":"IF(ISBLANK(Worksheet!L77)=FALSE,Worksheet!L77,\"\")","v":0},{"$f":"IF(Worksheet!L77<>0, IFERROR(VLOOKUP(Worksheet!$C$16,SavingsSupportTable,3,FALSE)*Worksheet!AQ77*IFERROR(1+VLOOKUP(Worksheet!$C$16,SavingsSupportTable,MATCH(Worksheet!$G$17,HVACe_Options,0)+4,FALSE),1)/IF(Worksheet!M77>0,Worksheet!M77,Worksheet!L77),\"\"),\"\")","v":""},{"$f":"IF(Worksheet!L77<>0, IFERROR(VLOOKUP(Worksheet!$C$16,SavingsSupportTable,2,FALSE)*Worksheet!AQ77*IF(IFERROR(MATCH(Worksheet!$G$17,HVACe_Options,0),0)>0,1+VLOOKUP(Worksheet!$C$16,SavingsSupportTable,4,FALSE),1)/IF(Worksheet!M77>0,Worksheet!M77,Worksheet!L77),\"\"),\"\")","v":""},"",{"$f":"IF(Worksheet!L77<>0,IFERROR(VLOOKUP(Worksheet!$C$16,SavingsSupportTable,3,FALSE)*Worksheet!AQ77*IF(IFERROR(SEARCH(\"Gas\",Worksheet!$G$17),0)>0,VLOOKUP(\"Gas\",HVACg_Lookup,MATCH(Worksheet!$G$16,BuildingSize,0)+1,FALSE),IF(IFERROR(SEARCH(\"Oil\",Worksheet!$G$17),0)>0,VLOOKUP(\"Oil\",HVACg_Lookup,MATCH(Worksheet!$G$16,BuildingSize,0)+1,FALSE),IF(IFERROR(SEARCH(\"Propane\",Worksheet!$G$17),0)>0,VLOOKUP(\"Propane\",HVACg_Lookup,MATCH(Worksheet!$G$16,BuildingSize,0)+1,FALSE),0)))/IF(Worksheet!M77>0,Worksheet!M77,Worksheet!L77),0),\"\")","v":""},"",null,null,null,{"$f":"IF(ISBLANK(Worksheet!M77)=FALSE,Worksheet!M77,\"\")","v":0},{"$f":"IF(Worksheet!A77=\"-\",\"\",IF(Worksheet!A77=\"\",S53,Worksheet!A77))","v":""},{"$f":"IF(S54=\"\",\"\",IF(AND(Worksheet!G77=\"\",Worksheet!H77=\"\")=TRUE,T53,IF(Worksheet!G77=\"\",\"\",Worksheet!G77)))","v":""},{"$f":"IF(S54=\"\",\"\",IF(AND(Worksheet!G77=\"\",Worksheet!H77=\"\")=TRUE,U53,IF(Worksheet!H77=\"\",\"\",Worksheet!H77)))","v":""},{"$f":"IF(Worksheet!N77=\"\",\"\",Worksheet!N77)","v":""},{"$f":"IF(Worksheet!O77=\"\",\"\",Worksheet!O77)","v":""},{"$f":"IF(Worksheet!F77=0,\"\",Worksheet!F77)","v":""},{"$f":"IF(Worksheet!P77=0,\"\",Worksheet!P77)","v":""},{"$f":"IF(Worksheet!$A$11=TRUE,\"Y\",\"N\")","v":"N"},{"$f":"IF(Worksheet!$A$12=TRUE,\"Y\",\"N\")","v":"N"},{"$f":"IF(Worksheet!$B$11=TRUE,\"Y\",\"N\")","v":"N"},{"$f":"IF(Worksheet!$B$12=TRUE,\"Y\",\"N\")","v":"N"},{"$f":"IF(Worksheet!$C$11=TRUE,\"Y\",\"N\")","v":"N"},{"$f":"IF(Worksheet!$C$12=TRUE,\"Y\",\"N\")","v":"N"},""]
[{"$f":"IF(ISERROR(VLOOKUP(Worksheet!N78,MeasureLookup,2,FALSE))=FALSE,VLOOKUP(Worksheet!N78,MeasureLookup,2,FALSE),\"\")","v":""},{"$f":"Worksheet!Q78","v":0},{"$f":"Worksheet!R78","v":0},{"$f":"IF(ISERROR(Worksheet!P78)=FALSE,Worksheet!P78,\"\")","v":0},"Watts",null,null,{"$f":"IF(Worksheet!AP78<>\"\",IF(Worksheet!AP78>0,Worksheet!AP78/IF(Worksheet!M78>0,Worksheet!M78,Worksheet!L78),\"\"),\"\")","v":""},{"$f":"IF(ISBLANK(Worksheet!L78)=FALSE,Worksheet!L78,\"\")","v":0},{"$f":"IF(Worksheet!L78<>0, IFERROR(VLOOKUP(Worksheet!$C$16,SavingsSupportTable,3,FALSE)*Worksheet!AQ78*IFERROR(1+VLOOKUP(Worksheet!$C$16,SavingsSupportTable,MATCH(Worksheet!$G$17,HVACe_Options,0)+4,FALSE),1)/IF(Worksheet!M78>0,Worksheet!M78,Worksheet!L78),\"\"),\"\")","v":""},{"$f":"IF(Worksheet!L78<>0, IFERROR(VLOOKUP(Worksheet!$C$16,SavingsSupportTable,2,FALSE)*Worksheet!AQ78*IF(IFERROR(MATCH(Worksheet!$G$17,HVACe_Options,0),0)>0,1+VLOOKUP(Worksheet!$C$16,SavingsSupportTable,4,FALSE),1)/IF(Worksheet!M78>0,Worksheet!M78,Worksheet!L78),\"\"),\"\")","v":""},"",{"$f":"IF(Worksheet!L78<>0,IFERROR(VLOOKUP(Worksheet!$C$16,SavingsSupportTable,3,FALSE)*Worksheet!AQ78*IF(IFERROR(SEARCH(\"Gas\",Worksheet!$G$17),0)>0,VLOOKUP(\"Gas\",HVACg_Lookup,MATCH(Worksheet!$G$16,BuildingSize,0)+1,FALSE),IF(IFERROR(SEARCH(\"Oil\",Worksheet!$G$17),0)>0,VLOOKUP(\"Oil\",HVACg_Lookup,MATCH(Worksheet!$G$16,BuildingSize,0)+1,FALSE),IF(IFERROR(SEARCH(\"Propane\",Worksheet!$G$17),0)>0,VLOOKUP(\"Propane\",HVACg_Lookup,MATCH(Worksheet!$G$16,BuildingSize,0)+1,FALSE),0)))/IF(Worksheet!M78>0,Worksheet!M78,Worksheet!L78),0),\"\")","v":""},"",null,null,null,{"$f":"IF(ISBLANK(Worksheet!M78)=FALSE,Worksheet!M78,\"\")","v":0},{"$f":"IF(Worksheet!A78=\"-\",\"\",IF(Worksheet!A78=\"\",S54,Worksheet!A78))","v":""},{"$f":"IF(S55=\"\",\"\",IF(AND(Worksheet!G78=\"\",Worksheet!H78=\"\")=TRUE,T54,IF(Worksheet!G78=\"\",\"\",Worksheet!G78)))","v":""},{"$f":"IF(S55=\"\",\"\",IF(AND(Worksheet!G78=\"\",Worksheet!H78=\"\")=TRUE,U54,IF(Worksheet!H78=\"\",\"\",Worksheet!H78)))","v":""},{"$f":"IF(Worksheet!N78=\"\",\"\",Worksheet!N78)","v":""},{"$f":"IF(Worksheet!O78=\"\",\"\",Worksheet!O78)","v":""},{"$f":"IF(Worksheet!F78=0,\"\",Worksheet!F78)","v":""},{"$f":"IF(Worksheet!P78=0,\"\",Worksheet!P78)","v":""},{"$f":"IF(Worksheet!$A$11=TRUE,\"Y\",\"N\")","v":"N"},{"$f":"IF(Worksheet!$A$12=TRUE,\"Y\",\"N\")","v":"N"},{"$f":"IF(Worksheet!$B$11=TRUE,\"Y\",\"N\")","v":"N"},{"$f":"IF(Worksheet!$B$12=TRUE,\"Y\",\"N\")","v":"N"},{"$f":"IF(Worksheet!$C$11=TRUE,\"Y\",\"N\")","v":"N"},{"$f":"IF(Worksheet!$C$12=TRUE,\"Y\",\"N\")","v":"N"},""]
[{"$f":"IF(ISERROR(VLOOKUP(Worksheet!N79,MeasureLookup,2,FALSE))=FALSE,VLOOKUP(Worksheet!N79,MeasureLookup,2,FALSE),\"\")","v":""},{"$f":"Worksheet!Q79","v":0},{"$f":"Worksheet!R79","v":0},{"$f":"IF(ISERROR(Worksheet!P79)=FALSE,Worksheet!P79,\"\")","v":0},"Watts",null,null,{"$f":"IF(Worksheet!AP79<>\"\",IF(Worksheet!AP79>0,Worksheet!AP79/IF(Worksheet!M79>0,Worksheet!M79,Worksheet!L79),\"\"),\"\")","v":""},{"$f":"IF(ISBLANK(Worksheet!L79)=FALSE,Worksheet!L79,\"\")","v":0},{"$f":"IF(Worksheet!L79<>0, IFERROR(VLOOKUP(Worksheet!$C$16,SavingsSupportTable,3,FALSE)*Worksheet!AQ79*IFERROR(1+VLOOKUP(Worksheet!$C$16,SavingsSupportTable,MATCH(Worksheet!$G$17,HVACe_Options,0)+4,FALSE),1)/IF(Worksheet!M79>0,Worksheet!M79,Worksheet!L79),\"\"),\"\")","v":""},{"$f":"IF(Worksheet!L79<>0, IFERROR(VLOOKUP(Worksheet!$C$16,SavingsSupportTable,2,FALSE)*Worksheet!AQ79*IF(IFERROR(MATCH(Worksheet!$G$17,HVACe_Options,0),0)>0,1+VLOOKUP(Worksheet!$C$16,SavingsSupportTable,4,FALSE),1)/IF(Worksheet!M79>0,Worksheet!M79,Worksheet!L79),\"\"),\"\")","v":""},"",{"$f":"IF(Worksheet!L79<>0,IFERROR(VLOOKUP(Worksheet!$C$16,SavingsSupportTable,3,FALSE)*Worksheet!AQ79*IF(IFERROR(SEARCH(\"Gas\",Worksheet!$G$17),0)>0,VLOOKUP(\"Gas\",HVACg_Lookup,MATCH(Worksheet!$G$16,BuildingSize,0)+1,FALSE),IF(IFERROR(SEARCH(\"Oil\",Worksheet!$G$17),0)>0,VLOOKUP(\"Oil\",HVACg_Lookup,MATCH(Worksheet!$G$16,BuildingSize,0)+1,FALSE),IF(IFERROR(SEARCH(\"Propane\",Worksheet!$G$17),0)>0,VLOOKUP(\"Propane\",HVACg_Lookup,MATCH(Worksheet!$G$16,BuildingSize,0)+1,FALSE),0)))/IF(Worksheet!M79>0,Worksheet!M79,Worksheet!L79),0),\"\")","v":""},"",null,null,null,{"$f":"IF(ISBLANK(Worksheet!M79)=FALSE,Worksheet!M79,\"\")","v":0},{"$f":"IF(Worksheet!A79=\"-\",\"\",IF(Worksheet!A79=\"\",S55,Worksheet!A79))","v":""},{"$f":"IF(S56=\"\",\"\",IF(AND(Worksheet!G79=\"\",Worksheet!H79=\"\")=TRUE,T55,IF(Worksheet!G79=\"\",\"\",Worksheet!G79)))","v":""},{"$f":"IF(S56=\"\",\"\",IF(AND(Worksheet!G79=\"\",Worksheet!H79=\"\")=TRUE,U55,IF(Worksheet!H79=\"\",\"\",Worksheet!H79)))","v":""},{"$f":"IF(Worksheet!N79=\"\",\"\",Worksheet!N79)","v":""},{"$f":"IF(Worksheet!O79=\"\",\"\",Worksheet!O79)","v":""},{"$f":"IF(Worksheet!F79=0,\"\",Worksheet!F79)","v":""},{"$f":"IF(Worksheet!P79=0,\"\",Worksheet!P79)","v":""},{"$f":"IF(Worksheet!$A$11=TRUE,\"Y\",\"N\")","v":"N"},{"$f":"IF(Worksheet!$A$12=TRUE,\"Y\",\"N\")","v":"N"},{"$f":"IF(Worksheet!$B$11=TRUE,\"Y\",\"N\")","v":"N"},{"$f":"IF(Worksheet!$B$12=TRUE,\"Y\",\"N\")","v":"N"},{"$f":"IF(Worksheet!$C$11=TRUE,\"Y\",\"N\")","v":"N"},{"$f":"IF(Worksheet!$C$12=TRUE,\"Y\",\"N\")","v":"N"},""]
[{"$f":"IF(ISERROR(VLOOKUP(Worksheet!N80,MeasureLookup,2,FALSE))=FALSE,VLOOKUP(Worksheet!N80,MeasureLookup,2,FALSE),\"\")","v":""},{"$f":"Worksheet!Q80","v":0},{"$f":"Worksheet!R80","v":0},{"$f":"IF(ISERROR(Worksheet!P80)=FALSE,Worksheet!P80,\"\")","v":0},"Watts",null,null,{"$f":"IF(Worksheet!AP80<>\"\",IF(Worksheet!AP80>0,Worksheet!AP80/IF(Worksheet!M80>0,Worksheet!M80,Worksheet!L80),\"\"),\"\")","v":""},{"$f":"IF(ISBLANK(Worksheet!L80)=FALSE,Worksheet!L80,\"\")","v":0},{"$f":"IF(Worksheet!L80<>0, IFERROR(VLOOKUP(Worksheet!$C$16,SavingsSupportTable,3,FALSE)*Worksheet!AQ80*IFERROR(1+VLOOKUP(Worksheet!$C$16,SavingsSupportTable,MATCH(Worksheet!$G$17,HVACe_Options,0)+4,FALSE),1)/IF(Worksheet!M80>0,Worksheet!M80,Worksheet!L80),\"\"),\"\")","v":""},{"$f":"IF(Worksheet!L80<>0, IFERROR(VLOOKUP(Worksheet!$C$16,SavingsSupportTable,2,FALSE)*Worksheet!AQ80*IF(IFERROR(MATCH(Worksheet!$G$17,HVACe_Options,0),0)>0,1+VLOOKUP(Worksheet!$C$16,SavingsSupportTable,4,FALSE),1)/IF(Worksheet!M80>0,Worksheet!M80,Worksheet!L80),\"\"),\"\")","v":""},"",{"$f":"IF(Worksheet!L80<>0,IFERROR(VLOOKUP(Worksheet!$C$16,SavingsSupportTable,3,FALSE)*Worksheet!AQ80*IF(IFERROR(SEARCH(\"Gas\",Worksheet!$G$17),0)>0,VLOOKUP(\"Gas\",HVACg_Lookup,MATCH(Worksheet!$G$16,BuildingSize,0)+1,FALSE),IF(IFERROR(SEARCH(\"Oil\",Worksheet!$G$17),0)>0,VLOOKUP(\"Oil\",HVACg_Lookup,MATCH(Worksheet!$G$16,BuildingSize,0)+1,FALSE),IF(IFERROR(SEARCH(\"Propane\",Worksheet!$G$17),0)>0,VLOOKUP(\"Propane\",HVACg_Lookup,MATCH(Worksheet!$G$16,BuildingSize,0)+1,FALSE),0)))/IF(Worksheet!M80>0,Worksheet!M80,Worksheet!L80),0),\"\")","v":""},"",null,null,null,{"$f":"IF(ISBLANK(Worksheet!M80)=FALSE,Worksheet!M80,\"\")","v":0},{"$f":"IF(Worksheet!A80=\"-\",\"\",IF(Worksheet!A80=\"\",S56,Worksheet!A80))","v":""},{"$f":"IF(S57=\"\",\"\",IF(AND(Worksheet!G80=\"\",Worksheet!H80=\"\")=TRUE,T56,IF(Worksheet!G80=\"\",\"\",Worksheet!G80)))","v":""},{"$f":"IF(S57=\"\",\"\",IF(AND(Worksheet!G80=\"\",Worksheet!H80=\"\")=TRUE,U56,IF(Worksheet!H80=\"\",\"\",Worksheet!H80)))","v":""},{"$f":"IF(Worksheet!N80=\"\",\"\",Worksheet!N80)","v":""},{"$f":"IF(Worksheet!O80=\"\",\"\",Worksheet!O80)","v":""},{"$f":"IF(Worksheet!F80=0,\"\",Worksheet!F80)","v":""},{"$f":"IF(Worksheet!P80=0,\"\",Worksheet!P80)","v":""},{"$f":"IF(Worksheet!$A$11=TRUE,\"Y\",\"N\")","v":"N"},{"$f":"IF(Worksheet!$A$12=TRUE,\"Y\",\"N\")","v":"N"},{"$f":"IF(Worksheet!$B$11=TRUE,\"Y\",\"N\")","v":"N"},{"$f":"IF(Worksheet!$B$12=TRUE,\"Y\",\"N\")","v":"N"},{"$f":"IF(Worksheet!$C$11=TRUE,\"Y\",\"N\")","v":"N"},{"$f":"IF(Worksheet!$C$12=TRUE,\"Y\",\"N\")","v":"N"},""]
[{"$f":"IF(ISERROR(VLOOKUP(Worksheet!N81,MeasureLookup,2,FALSE))=FALSE,VLOOKUP(Worksheet!N81,MeasureLookup,2,FALSE),\"\")","v":""},{"$f":"Worksheet!Q81","v":0},{"$f":"Worksheet!R81","v":0},{"$f":"IF(ISERROR(Worksheet!P81)=FALSE,Worksheet!P81,\"\")","v":0},"Watts",null,null,{"$f":"IF(Worksheet!AP81<>\"\",IF(Worksheet!AP81>0,Worksheet!AP81/IF(Worksheet!M81>0,Worksheet!M81,Worksheet!L81),\"\"),\"\")","v":""},{"$f":"IF(ISBLANK(Worksheet!L81)=FALSE,Worksheet!L81,\"\")","v":0},{"$f":"IF(Worksheet!L81<>0, IFERROR(VLOOKUP(Worksheet!$C$16,SavingsSupportTable,3,FALSE)*Worksheet!AQ81*IFERROR(1+VLOOKUP(Worksheet!$C$16,SavingsSupportTable,MATCH(Worksheet!$G$17,HVACe_Options,0)+4,FALSE),1)/IF(Worksheet!M81>0,Worksheet!M81,Worksheet!L81),\"\"),\"\")","v":""},{"$f":"IF(Worksheet!L81<>0, IFERROR(VLOOKUP(Worksheet!$C$16,SavingsSupportTable,2,FALSE)*Worksheet!AQ81*IF(IFERROR(MATCH(Worksheet!$G$17,HVACe_Options,0),0)>0,1+VLOOKUP(Worksheet!$C$16,SavingsSupportTable,4,FALSE),1)/IF(Worksheet!M81>0,Worksheet!M81,Worksheet!L81),\"\"),\"\")","v":""},"",{"$f":"IF(Worksheet!L81<>0,IFERROR(VLOOKUP(Worksheet!$C$16,SavingsSupportTable,3,FALSE)*Worksheet!AQ81*IF(IFERROR(SEARCH(\"Gas\",Worksheet!$G$17),0)>0,VLOOKUP(\"Gas\",HVACg_Lookup,MATCH(Worksheet!$G$16,BuildingSize,0)+1,FALSE),IF(IFERROR(SEARCH(\"Oil\",Worksheet!$G$17),0)>0,VLOOKUP(\"Oil\",HVACg_Lookup,MATCH(Worksheet!$G$16,BuildingSize,0)+1,FALSE),IF(IFERROR(SEARCH(\"Propane\",Worksheet!$G$17),0)>0,VLOOKUP(\"Propane\",HVACg_Lookup,MATCH(Worksheet!$G$16,BuildingSize,0)+1,FALSE),0)))/IF(Worksheet!M81>0,Worksheet!M81,Worksheet!L81),0),\"\")","v":""},"",null,null,null,{"$f":"IF(ISBLANK(Worksheet!M81)=FALSE,Worksheet!M81,\"\")","v":0},{"$f":"IF(Worksheet!A81=\"-\",\"\",IF(Worksheet!A81=\"\",S57,Worksheet!A81))","v":""},{"$f":"IF(S58=\"\",\"\",IF(AND(Worksheet!G81=\"\",Worksheet!H81=\"\")=TRUE,T57,IF(Worksheet!G81=\"\",\"\",Worksheet!G81)))","v":""},{"$f":"IF(S58=\"\",\"\",IF(AND(Worksheet!G81=\"\",Worksheet!H81=\"\")=TRUE,U57,IF(Worksheet!H81=\"\",\"\",Worksheet!H81)))","v":""},{"$f":"IF(Worksheet!N81=\"\",\"\",Worksheet!N81)","v":""},{"$f":"IF(Worksheet!O81=\"\",\"\",Worksheet!O81)","v":""},{"$f":"IF(Worksheet!F81=0,\"\",Worksheet!F81)","v":""},{"$f":"IF(Worksheet!P81=0,\"\",Worksheet!P81)","v":""},{"$f":"IF(Worksheet!$A$11=TRUE,\"Y\",\"N\")","v":"N"},{"$f":"IF(Worksheet!$A$12=TRUE,\"Y\",\"N\")","v":"N"},{"$f":"IF(Worksheet!$B$11=TRUE,\"Y\",\"N\")","v":"N"},{"$f":"IF(Worksheet!$B$12=TRUE,\"Y\",\"N\")","v":"N"},{"$f":"IF(Worksheet!$C$11=TRUE,\"Y\",\"N\")","v":"N"},{"$f":"IF(Worksheet!$C$12=TRUE,\"Y\",\"N\")","v":"N"},""]
[{"$f":"IF(ISERROR(VLOOKUP(Worksheet!N82,MeasureLookup,2,FALSE))=FALSE,VLOOKUP(Worksheet!N82,MeasureLookup,2,FALSE),\"\")","v":""},{"$f":"Worksheet!Q82","v":0},{"$f":"Worksheet!R82","v":0},{"$f":"IF(ISERROR(Worksheet!P82)=FALSE,Worksheet!P82,\"\")","v":0},"Watts",null,null,{"$f":"IF(Worksheet!AP82<>\"\",IF(Worksheet!AP82>0,Worksheet!AP82/IF(Worksheet!M82>0,Worksheet!M82,Worksheet!L82),\"\"),\"\")","v":""},{"$f":"IF(ISBLANK(Worksheet!L82)=FALSE,Worksheet!L82,\"\")","v":0},{"$f":"IF(Worksheet!L82<>0, IFERROR(VLOOKUP(Worksheet!$C$16,SavingsSupportTable,3,FALSE)*Worksheet!AQ82*IFERROR(1+VLOOKUP(Worksheet!$C$16,SavingsSupportTable,MATCH(Worksheet!$G$17,HVACe_Options,0)+4,FALSE),1)/IF(Worksheet!M82>0,Worksheet!M82,Worksheet!L82),\"\"),\"\")","v":""},{"$f":"IF(Worksheet!L82<>0, IFERROR(VLOOKUP(Worksheet!$C$16,SavingsSupportTable,2,FALSE)*Worksheet!AQ82*IF(IFERROR(MATCH(Worksheet!$G$17,HVACe_Options,0),0)>0,1+VLOOKUP(Worksheet!$C$16,SavingsSupportTable,4,FALSE),1)/IF(Worksheet!M82>0,Worksheet!M82,Worksheet!L82),\"\"),\"\")","v":""},"",{"$f":"IF(Worksheet!L82<>0,IFERROR(VLOOKUP(Worksheet!$C$16,SavingsSupportTable,3,FALSE)*Worksheet!AQ82*IF(IFERROR(SEARCH(\"Gas\",Worksheet!$G$17),0)>0,VLOOKUP(\"Gas\",HVACg_Lookup,MATCH(Worksheet!$G$16,BuildingSize,0)+1,FALSE),IF(IFERROR(SEARCH(\"Oil\",Worksheet!$G$17),0)>0,VLOOKUP(\"Oil\",HVACg_Lookup,MATCH(Worksheet!$G$16,BuildingSize,0)+1,FALSE),IF(IFERROR(SEARCH(\"Propane\",Worksheet!$G$17),0)>0,VLOOKUP(\"Propane\",HVACg_Lookup,MATCH(Worksheet!$G$16,BuildingSize,0)+1,FALSE),0)))/IF(Worksheet!M82>0,Worksheet!M82,Worksheet!L82),0),\"\")","v":""},"",null,null,null,{"$f":"IF(ISBLANK(Worksheet!M82)=FALSE,Worksheet!M82,\"\")","v":0},{"$f":"IF(Worksheet!A82=\"-\",\"\",IF(Worksheet!A82=\"\",S58,Worksheet!A82))","v":""},{"$f":"IF(S59=\"\",\"\",IF(AND(Worksheet!G82=\"\",Worksheet!H82=\"\")=TRUE,T58,IF(Worksheet!G82=\"\",\"\",Worksheet!G82)))","v":""},{"$f":"IF(S59=\"\",\"\",IF(AND(Worksheet!G82=\"\",Worksheet!H82=\"\")=TRUE,U58,IF(Worksheet!H82=\"\",\"\",Worksheet!H82)))","v":""},{"$f":"IF(Worksheet!N82=\"\",\"\",Worksheet!N82)","v":""},{"$f":"IF(Worksheet!O82=\"\",\"\",Worksheet!O82)","v":""},{"$f":"IF(Worksheet!F82=0,\"\",Worksheet!F82)","v":""},{"$f":"IF(Worksheet!P82=0,\"\",Worksheet!P82)","v":""},{"$f":"IF(Worksheet!$A$11=TRUE,\"Y\",\"N\")","v":"N"},{"$f":"IF(Worksheet!$A$12=TRUE,\"Y\",\"N\")","v":"N"},{"$f":"IF(Worksheet!$B$11=TRUE,\"Y\",\"N\")","v":"N"},{"$f":"IF(Worksheet!$B$12=TRUE,\"Y\",\"N\")","v":"N"},{"$f":"IF(Worksheet!$C$11=TRUE,\"Y\",\"N\")","v":"N"},{"$f":"IF(Worksheet!$C$12=TRUE,\"Y\",\"N\")","v":"N"},""]
[{"$f":"IF(ISERROR(VLOOKUP(Worksheet!N83,MeasureLookup,2,FALSE))=FALSE,VLOOKUP(Worksheet!N83,MeasureLookup,2,FALSE),\"\")","v":""},{"$f":"Worksheet!Q83","v":0},{"$f":"Worksheet!R83","v":0},{"$f":"IF(ISERROR(Worksheet!P83)=FALSE,Worksheet!P83,\"\")","v":0},"Watts",null,null,{"$f":"IF(Worksheet!AP83<>\"\",IF(Worksheet!AP83>0,Worksheet!AP83/IF(Worksheet!M83>0,Worksheet!M83,Worksheet!L83),\"\"),\"\")","v":""},{"$f":"IF(ISBLANK(Worksheet!L83)=FALSE,Worksheet!L83,\"\")","v":0},{"$f":"IF(Worksheet!L83<>0, IFERROR(VLOOKUP(Worksheet!$C$16,SavingsSupportTable,3,FALSE)*Worksheet!AQ83*IFERROR(1+VLOOKUP(Worksheet!$C$16,SavingsSupportTable,MATCH(Worksheet!$G$17,HVACe_Options,0)+4,FALSE),1)/IF(Worksheet!M83>0,Worksheet!M83,Worksheet!L83),\"\"),\"\")","v":""},{"$f":"IF(Worksheet!L83<>0, IFERROR(VLOOKUP(Worksheet!$C$16,SavingsSupportTable,2,FALSE)*Worksheet!AQ83*IF(IFERROR(MATCH(Worksheet!$G$17,HVACe_Options,0),0)>0,1+VLOOKUP(Worksheet!$C$16,SavingsSupportTable,4,FALSE),1)/IF(Worksheet!M83>0,Worksheet!M83,Worksheet!L83),\"\"),\"\")","v":""},"",{"$f":"IF(Worksheet!L83<>0,IFERROR(VLOOKUP(Worksheet!$C$16,SavingsSupportTable,3,FALSE)*Worksheet!AQ83*IF(IFERROR(SEARCH(\"Gas\",Worksheet!$G$17),0)>0,VLOOKUP(\"Gas\",HVACg_Lookup,MATCH(Worksheet!$G$16,BuildingSize,0)+1,FALSE),IF(IFERROR(SEARCH(\"Oil\",Worksheet!$G$17),0)>0,VLOOKUP(\"Oil\",HVACg_Lookup,MATCH(Worksheet!$G$16,BuildingSize,0)+1,FALSE),IF(IFERROR(SEARCH(\"Propane\",Worksheet!$G$17),0)>0,VLOOKUP(\"Propane\",HVACg_Lookup,MATCH(Worksheet!$G$16,BuildingSize,0)+1,FALSE),0)))/IF(Worksheet!M83>0,Worksheet!M83,Worksheet!L83),0),\"\")","v":""},"",null,null,null,{"$f":"IF(ISBLANK(Worksheet!M83)=FALSE,Worksheet!M83,\"\")","v":0},{"$f":"IF(Worksheet!A83=\"-\",\"\",IF(Worksheet!A83=\"\",S59,Worksheet!A83))","v":""},{"$f":"IF(S60=\"\",\"\",IF(AND(Worksheet!G83=\"\",Worksheet!H83=\"\")=TRUE,T59,IF(Worksheet!G83=\"\",\"\",Worksheet!G83)))","v":""},{"$f":"IF(S60=\"\",\"\",IF(AND(Worksheet!G83=\"\",Worksheet!H83=\"\")=TRUE,U59,IF(Worksheet!H83=\"\",\"\",Worksheet!H83)))","v":""},{"$f":"IF(Worksheet!N83=\"\",\"\",Worksheet!N83)","v":""},{"$f":"IF(Worksheet!O83=\"\",\"\",Worksheet!O83)","v":""},{"$f":"IF(Worksheet!F83=0,\"\",Worksheet!F83)","v":""},{"$f":"IF(Worksheet!P83=0,\"\",Worksheet!P83)","v":""},{"$f":"IF(Worksheet!$A$11=TRUE,\"Y\",\"N\")","v":"N"},{"$f":"IF(Worksheet!$A$12=TRUE,\"Y\",\"N\")","v":"N"},{"$f":"IF(Worksheet!$B$11=TRUE,\"Y\",\"N\")","v":"N"},{"$f":"IF(Worksheet!$B$12=TRUE,\"Y\",\"N\")","v":"N"},{"$f":"IF(Worksheet!$C$11=TRUE,\"Y\",\"N\")","v":"N"},{"$f":"IF(Worksheet!$C$12=TRUE,\"Y\",\"N\")","v":"N"},""]
[{"$f":"IF(ISERROR(VLOOKUP(Worksheet!N84,MeasureLookup,2,FALSE))=FALSE,VLOOKUP(Worksheet!N84,MeasureLookup,2,FALSE),\"\")","v":""},{"$f":"Worksheet!Q84","v":0},{"$f":"Worksheet!R84","v":0},{"$f":"IF(ISERROR(Worksheet!P84)=FALSE,Worksheet!P84,\"\")","v":0},"Watts",null,null,{"$f":"IF(Worksheet!AP84<>\"\",IF(Worksheet!AP84>0,Worksheet!AP84/IF(Worksheet!M84>0,Worksheet!M84,Worksheet!L84),\"\"),\"\")","v":""},{"$f":"IF(ISBLANK(Worksheet!L84)=FALSE,Worksheet!L84,\"\")","v":0},{"$f":"IF(Worksheet!L84<>0, IFERROR(VLOOKUP(Worksheet!$C$16,SavingsSupportTable,3,FALSE)*Worksheet!AQ84*IFERROR(1+VLOOKUP(Worksheet!$C$16,SavingsSupportTable,MATCH(Worksheet!$G$17,HVACe_Options,0)+4,FALSE),1)/IF(Worksheet!M84>0,Worksheet!M84,Worksheet!L84),\"\"),\"\")","v":""},{"$f":"IF(Worksheet!L84<>0, IFERROR(VLOOKUP(Worksheet!$C$16,SavingsSupportTable,2,FALSE)*Worksheet!AQ84*IF(IFERROR(MATCH(Worksheet!$G$17,HVACe_Options,0),0)>0,1+VLOOKUP(Worksheet!$C$16,SavingsSupportTable,4,FALSE),1)/IF(Worksheet!M84>0,Worksheet!M84,Worksheet!L84),\"\"),\"\")","v":""},"",{"$f":"IF(Worksheet!L84<>0,IFERROR(VLOOKUP(Worksheet!$C$16,SavingsSupportTable,3,FALSE)*Worksheet!AQ84*IF(IFERROR(SEARCH(\"Gas\",Worksheet!$G$17),0)>0,VLOOKUP(\"Gas\",HVACg_Lookup,MATCH(Worksheet!$G$16,BuildingSize,0)+1,FALSE),IF(IFERROR(SEARCH(\"Oil\",Worksheet!$G$17),0)>0,VLOOKUP(\"Oil\",HVACg_Lookup,MATCH(Worksheet!$G$16,BuildingSize,0)+1,FALSE),IF(IFERROR(SEARCH(\"Propane\",Worksheet!$G$17),0)>0,VLOOKUP(\"Propane\",HVACg_Lookup,MATCH(Worksheet!$G$16,BuildingSize,0)+1,FALSE),0)))/IF(Worksheet!M84>0,Worksheet!M84,Worksheet!L84),0),\"\")","v":""},"",null,null,null,{"$f":"IF(ISBLANK(Worksheet!M84)=FALSE,Worksheet!M84,\"\")","v":0},{"$f":"IF(Worksheet!A84=\"-\",\"\",IF(Worksheet!A84=\"\",S60,Worksheet!A84))","v":""},{"$f":"IF(S61=\"\",\"\",IF(AND(Worksheet!G84=\"\",Worksheet!H84=\"\")=TRUE,T60,IF(Worksheet!G84=\"\",\"\",Worksheet!G84)))","v":""},{"$f":"IF(S61=\"\",\"\",IF(AND(Worksheet!G84=\"\",Worksheet!H84=\"\")=TRUE,U60,IF(Worksheet!H84=\"\",\"\",Worksheet!H84)))","v":""},{"$f":"IF(Worksheet!N84=\"\",\"\",Worksheet!N84)","v":""},{"$f":"IF(Worksheet!O84=\"\",\"\",Worksheet!O84)","v":""},{"$f":"IF(Worksheet!F84=0,\"\",Worksheet!F84)","v":""},{"$f":"IF(Worksheet!P84=0,\"\",Worksheet!P84)","v":""},{"$f":"IF(Worksheet!$A$11=TRUE,\"Y\",\"N\")","v":"N"},{"$f":"IF(Worksheet!$A$12=TRUE,\"Y\",\"N\")","v":"N"},{"$f":"IF(Worksheet!$B$11=TRUE,\"Y\",\"N\")","v":"N"},{"$f":"IF(Worksheet!$B$12=TRUE,\"Y\",\"N\")","v":"N"},{"$f":"IF(Worksheet!$C$11=TRUE,\"Y\",\"N\")","v":"N"},{"$f":"IF(Worksheet!$C$12=TRUE,\"Y\",\"N\")","v":"N"},""]
[{"$f":"IF(ISERROR(VLOOKUP(Worksheet!N85,MeasureLookup,2,FALSE))=FALSE,VLOOKUP(Worksheet!N85,MeasureLookup,2,FALSE),\"\")","v":""},{"$f":"Worksheet!Q85","v":0},{"$f":"Worksheet!R85","v":0},{"$f":"IF(ISERROR(Worksheet!P85)=FALSE,Worksheet!P85,\"\")","v":0},"Watts",null,null,{"$f":"IF(Worksheet!AP85<>\"\",IF(Worksheet!AP85>0,Worksheet!AP85/IF(Worksheet!M85>0,Worksheet!M85,Worksheet!L85),\"\"),\"\")","v":""},{"$f":"IF(ISBLANK(Worksheet!L85)=FALSE,Worksheet!L85,\"\")","v":0},{"$f":"IF(Worksheet!L85<>0, IFERROR(VLOOKUP(Worksheet!$C$16,SavingsSupportTable,3,FALSE)*Worksheet!AQ85*IFERROR(1+VLOOKUP(Worksheet!$C$16,SavingsSupportTable,MATCH(Worksheet!$G$17,HVACe_Options,0)+4,FALSE),1)/IF(Worksheet!M85>0,Worksheet!M85,Worksheet!L85),\"\"),\"\")","v":""},{"$f":"IF(Worksheet!L85<>0, IFERROR(VLOOKUP(Worksheet!$C$16,SavingsSupportTable,2,FALSE)*Worksheet!AQ85*IF(IFERROR(MATCH(Worksheet!$G$17,HVACe_Options,0),0)>0,1+VLOOKUP(Worksheet!$C$16,SavingsSupportTable,4,FALSE),1)/IF(Worksheet!M85>0,Worksheet!M85,Worksheet!L85),\"\"),\"\")","v":""},"",{"$f":"IF(Worksheet!L85<>0,IFERROR(VLOOKUP(Worksheet!$C$16,SavingsSupportTable,3,FALSE)*Worksheet!AQ85*IF(IFERROR(SEARCH(\"Gas\",Worksheet!$G$17),0)>0,VLOOKUP(\"Gas\",HVACg_Lookup,MATCH(Worksheet!$G$16,BuildingSize,0)+1,FALSE),IF(IFERROR(SEARCH(\"Oil\",Worksheet!$G$17),0)>0,VLOOKUP(\"Oil\",HVACg_Lookup,MATCH(Worksheet!$G$16,BuildingSize,0)+1,FALSE),IF(IFERROR(SEARCH(\"Propane\",Worksheet!$G$17),0)>0,VLOOKUP(\"Propane\",HVACg_Lookup,MATCH(Worksheet!$G$16,BuildingSize,0)+1,FALSE),0)))/IF(Worksheet!M85>0,Worksheet!M85,Worksheet!L85),0),\"\")","v":""},"",null,null,null,{"$f":"IF(ISBLANK(Worksheet!M85)=FALSE,Worksheet!M85,\"\")","v":0},{"$f":"IF(Worksheet!A85=\"-\",\"\",IF(Worksheet!A85=\"\",S61,Worksheet!A85))","v":""},{"$f":"IF(S62=\"\",\"\",IF(AND(Worksheet!G85=\"\",Worksheet!H85=\"\")=TRUE,T61,IF(Worksheet!G85=\"\",\"\",Worksheet!G85)))","v":""},{"$f":"IF(S62=\"\",\"\",IF(AND(Worksheet!G85=\"\",Worksheet!H85=\"\")=TRUE,U61,IF(Worksheet!H85=\"\",\"\",Worksheet!H85)))","v":""},{"$f":"IF(Worksheet!N85=\"\",\"\",Worksheet!N85)","v":""},{"$f":"IF(Worksheet!O85=\"\",\"\",Worksheet!O85)","v":""},{"$f":"IF(Worksheet!F85=0,\"\",Worksheet!F85)","v":""},{"$f":"IF(Worksheet!P85=0,\"\",Worksheet!P85)","v":""},{"$f":"IF(Worksheet!$A$11=TRUE,\"Y\",\"N\")","v":"N"},{"$f":"IF(Worksheet!$A$12=TRUE,\"Y\",\"N\")","v":"N"},{"$f":"IF(Worksheet!$B$11=TRUE,\"Y\",\"N\")","v":"N"},{"$f":"IF(Worksheet!$B$12=TRUE,\"Y\",\"N\")","v":"N"},{"$f":"IF(Worksheet!$C$11=TRUE,\"Y\",\"N\")","v":"N"},{"$f":"IF(Worksheet!$C$12=TRUE,\"Y\",\"N\")","v":"N"},""]
[{"$f":"IF(ISERROR(VLOOKUP(Worksheet!N86,MeasureLookup,2,FALSE))=FALSE,VLOOKUP(Worksheet!N86,MeasureLookup,2,FALSE),\"\")","v":""},{"$f":"Worksheet!Q86","v":0},{"$f":"Worksheet!R86","v":0},{"$f":"IF(ISERROR(Worksheet!P86)=FALSE,Worksheet!P86,\"\")","v":0},"Watts",null,null,{"$f":"IF(Worksheet!AP86<>\"\",IF(Worksheet!AP86>0,Worksheet!AP86/IF(Worksheet!M86>0,Worksheet!M86,Worksheet!L86),\"\"),\"\")","v":""},{"$f":"IF(ISBLANK(Worksheet!L86)=FALSE,Worksheet!L86,\"\")","v":0},{"$f":"IF(Worksheet!L86<>0, IFERROR(VLOOKUP(Worksheet!$C$16,SavingsSupportTable,3,FALSE)*Worksheet!AQ86*IFERROR(1+VLOOKUP(Worksheet!$C$16,SavingsSupportTable,MATCH(Worksheet!$G$17,HVACe_Options,0)+4,FALSE),1)/IF(Worksheet!M86>0,Worksheet!M86,Worksheet!L86),\"\"),\"\")","v":""},{"$f":"IF(Worksheet!L86<>0, IFERROR(VLOOKUP(Worksheet!$C$16,SavingsSupportTable,2,FALSE)*Worksheet!AQ86*IF(IFERROR(MATCH(Worksheet!$G$17,HVACe_Options,0),0)>0,1+VLOOKUP(Worksheet!$C$16,SavingsSupportTable,4,FALSE),1)/IF(Worksheet!M86>0,Worksheet!M86,Worksheet!L86),\"\"),\"\")","v":""},"",{"$f":"IF(Worksheet!L86<>0,IFERROR(VLOOKUP(Worksheet!$C$16,SavingsSupportTable,3,FALSE)*Worksheet!AQ86*IF(IFERROR(SEARCH(\"Gas\",Worksheet!$G$17),0)>0,VLOOKUP(\"Gas\",HVACg_Lookup,MATCH(Worksheet!$G$16,BuildingSize,0)+1,FALSE),IF(IFERROR(SEARCH(\"Oil\",Worksheet!$G$17),0)>0,VLOOKUP(\"Oil\",HVACg_Lookup,MATCH(Worksheet!$G$16,BuildingSize,0)+1,FALSE),IF(IFERROR(SEARCH(\"Propane\",Worksheet!$G$17),0)>0,VLOOKUP(\"Propane\",HVACg_Lookup,MATCH(Worksheet!$G$16,BuildingSize,0)+1,FALSE),0)))/IF(Worksheet!M86>0,Worksheet!M86,Worksheet!L86),0),\"\")","v":""},"",null,null,null,{"$f":"IF(ISBLANK(Worksheet!M86)=FALSE,Worksheet!M86,\"\")","v":0},{"$f":"IF(Worksheet!A86=\"-\",\"\",IF(Worksheet!A86=\"\",S62,Worksheet!A86))","v":""},{"$f":"IF(S63=\"\",\"\",IF(AND(Worksheet!G86=\"\",Worksheet!H86=\"\")=TRUE,T62,IF(Worksheet!G86=\"\",\"\",Worksheet!G86)))","v":""},{"$f":"IF(S63=\"\",\"\",IF(AND(Worksheet!G86=\"\",Worksheet!H86=\"\")=TRUE,U62,IF(Worksheet!H86=\"\",\"\",Worksheet!H86)))","v":""},{"$f":"IF(Worksheet!N86=\"\",\"\",Worksheet!N86)","v":""},{"$f":"IF(Worksheet!O86=\"\",\"\",Worksheet!O86)","v":""},{"$f":"IF(Worksheet!F86=0,\"\",Worksheet!F86)","v":""},{"$f":"IF(Worksheet!P86=0,\"\",Worksheet!P86)","v":""},{"$f":"IF(Worksheet!$A$11=TRUE,\"Y\",\"N\")","v":"N"},{"$f":"IF(Worksheet!$A$12=TRUE,\"Y\",\"N\")","v":"N"},{"$f":"IF(Worksheet!$B$11=TRUE,\"Y\",\"N\")","v":"N"},{"$f":"IF(Worksheet!$B$12=TRUE,\"Y\",\"N\")","v":"N"},{"$f":"IF(Worksheet!$C$11=TRUE,\"Y\",\"N\")","v":"N"},{"$f":"IF(Worksheet!$C$12=TRUE,\"Y\",\"N\")","v":"N"},""]
[{"$f":"IF(ISERROR(VLOOKUP(Worksheet!N87,MeasureLookup,2,FALSE))=FALSE,VLOOKUP(Worksheet!N87,MeasureLookup,2,FALSE),\"\")","v":""},{"$f":"Worksheet!Q87","v":0},{"$f":"Worksheet!R87","v":0},{"$f":"IF(ISERROR(Worksheet!P87)=FALSE,Worksheet!P87,\"\")","v":0},"Watts",null,null,{"$f":"IF(Worksheet!AP87<>\"\",IF(Worksheet!AP87>0,Worksheet!AP87/IF(Worksheet!M87>0,Worksheet!M87,Worksheet!L87),\"\"),\"\")","v":""},{"$f":"IF(ISBLANK(Worksheet!L87)=FALSE,Worksheet!L87,\"\")","v":0},{"$f":"IF(Worksheet!L87<>0, IFERROR(VLOOKUP(Worksheet!$C$16,SavingsSupportTable,3,FALSE)*Worksheet!AQ87*IFERROR(1+VLOOKUP(Worksheet!$C$16,SavingsSupportTable,MATCH(Worksheet!$G$17,HVACe_Options,0)+4,FALSE),1)/IF(Worksheet!M87>0,Worksheet!M87,Worksheet!L87),\"\"),\"\")","v":""},{"$f":"IF(Worksheet!L87<>0, IFERROR(VLOOKUP(Worksheet!$C$16,SavingsSupportTable,2,FALSE)*Worksheet!AQ87*IF(IFERROR(MATCH(Worksheet!$G$17,HVACe_Options,0),0)>0,1+VLOOKUP(Worksheet!$C$16,SavingsSupportTable,4,FALSE),1)/IF(Worksheet!M87>0,Worksheet!M87,Worksheet!L87),\"\"),\"\")","v":""},"",{"$f":"IF(Worksheet!L87<>0,IFERROR(VLOOKUP(Worksheet!$C$16,SavingsSupportTable,3,FALSE)*Worksheet!AQ87*IF(IFERROR(SEARCH(\"Gas\",Worksheet!$G$17),0)>0,VLOOKUP(\"Gas\",HVACg_Lookup,MATCH(Worksheet!$G$16,BuildingSize,0)+1,FALSE),IF(IFERROR(SEARCH(\"Oil\",Worksheet!$G$17),0)>0,VLOOKUP(\"Oil\",HVACg_Lookup,MATCH(Worksheet!$G$16,BuildingSize,0)+1,FALSE),IF(IFERROR(SEARCH(\"Propane\",Worksheet!$G$17),0)>0,VLOOKUP(\"Propane\",HVACg_Lookup,MATCH(Worksheet!$G$16,BuildingSize,0)+1,FALSE),0)))/IF(Worksheet!M87>0,Worksheet!M87,Worksheet!L87),0),\"\")","v":""},"",null,null,null,{"$f":"IF(ISBLANK(Worksheet!M87)=FALSE,Worksheet!M87,\"\")","v":0},{"$f":"IF(Worksheet!A87=\"-\",\"\",IF(Worksheet!A87=\"\",S63,Worksheet!A87))","v":""},{"$f":"IF(S64=\"\",\"\",IF(AND(Worksheet!G87=\"\",Worksheet!H87=\"\")=TRUE,T63,IF(Worksheet!G87=\"\",\"\",Worksheet!G87)))","v":""},{"$f":"IF(S64=\"\",\"\",IF(AND(Worksheet!G87=\"\",Worksheet!H87=\"\")=TRUE,U63,IF(Worksheet!H87=\"\",\"\",Worksheet!H87)))","v":""},{"$f":"IF(Worksheet!N87=\"\",\"\",Worksheet!N87)","v":""},{"$f":"IF(Worksheet!O87=\"\",\"\",Worksheet!O87)","v":""},{"$f":"IF(Worksheet!F87=0,\"\",Worksheet!F87)","v":""},{"$f":"IF(Worksheet!P87=0,\"\",Worksheet!P87)","v":""},{"$f":"IF(Worksheet!$A$11=TRUE,\"Y\",\"N\")","v":"N"},{"$f":"IF(Worksheet!$A$12=TRUE,\"Y\",\"N\")","v":"N"},{"$f":"IF(Worksheet!$B$11=TRUE,\"Y\",\"N\")","v":"N"},{"$f":"IF(Worksheet!$B$12=TRUE,\"Y\",\"N\")","v":"N"},{"$f":"IF(Worksheet!$C$11=TRUE,\"Y\",\"N\")","v":"N"},{"$f":"IF(Worksheet!$C$12=TRUE,\"Y\",\"N\")","v":"N"},""]
[{"$f":"IF(ISERROR(VLOOKUP(Worksheet!N88,MeasureLookup,2,FALSE))=FALSE,VLOOKUP(Worksheet!N88,MeasureLookup,2,FALSE),\"\")","v":""},{"$f":"Worksheet!Q88","v":0},{"$f":"Worksheet!R88","v":0},{"$f":"IF(ISERROR(Worksheet!P88)=FALSE,Worksheet!P88,\"\")","v":0},"Watts",null,null,{"$f":"IF(Worksheet!AP88<>\"\",IF(Worksheet!AP88>0,Worksheet!AP88/IF(Worksheet!M88>0,Worksheet!M88,Worksheet!L88),\"\"),\"\")","v":""},{"$f":"IF(ISBLANK(Worksheet!L88)=FALSE,Worksheet!L88,\"\")","v":0},{"$f":"IF(Worksheet!L88<>0, IFERROR(VLOOKUP(Worksheet!$C$16,SavingsSupportTable,3,FALSE)*Worksheet!AQ88*IFERROR(1+VLOOKUP(Worksheet!$C$16,SavingsSupportTable,MATCH(Worksheet!$G$17,HVACe_Options,0)+4,FALSE),1)/IF(Worksheet!M88>0,Worksheet!M88,Worksheet!L88),\"\"),\"\")","v":""},{"$f":"IF(Worksheet!L88<>0, IFERROR(VLOOKUP(Worksheet!$C$16,SavingsSupportTable,2,FALSE)*Worksheet!AQ88*IF(IFERROR(MATCH(Worksheet!$G$17,HVACe_Options,0),0)>0,1+VLOOKUP(Worksheet!$C$16,SavingsSupportTable,4,FALSE),1)/IF(Worksheet!M88>0,Worksheet!M88,Worksheet!L88),\"\"),\"\")","v":""},"",{"$f":"IF(Worksheet!L88<>0,IFERROR(VLOOKUP(Worksheet!$C$16,SavingsSupportTable,3,FALSE)*Worksheet!AQ88*IF(IFERROR(SEARCH(\"Gas\",Worksheet!$G$17),0)>0,VLOOKUP(\"Gas\",HVACg_Lookup,MATCH(Worksheet!$G$16,BuildingSize,0)+1,FALSE),IF(IFERROR(SEARCH(\"Oil\",Worksheet!$G$17),0)>0,VLOOKUP(\"Oil\",HVACg_Lookup,MATCH(Worksheet!$G$16,BuildingSize,0)+1,FALSE),IF(IFERROR(SEARCH(\"Propane\",Worksheet!$G$17),0)>0,VLOOKUP(\"Propane\",HVACg_Lookup,MATCH(Worksheet!$G$16,BuildingSize,0)+1,FALSE),0)))/IF(Worksheet!M88>0,Worksheet!M88,Worksheet!L88),0),\"\")","v":""},"",null,null,null,{"$f":"IF(ISBLANK(Worksheet!M88)=FALSE,Worksheet!M88,\"\")","v":0},{"$f":"IF(Worksheet!A88=\"-\",\"\",IF(Worksheet!A88=\"\",S64,Worksheet!A88))","v":""},{"$f":"IF(S65=\"\",\"\",IF(AND(Worksheet!G88=\"\",Worksheet!H88=\"\")=TRUE,T64,IF(Worksheet!G88=\"\",\"\",Worksheet!G88)))","v":""},{"$f":"IF(S65=\"\",\"\",IF(AND(Worksheet!G88=\"\",Worksheet!H88=\"\")=TRUE,U64,IF(Worksheet!H88=\"\",\"\",Worksheet!H88)))","v":""},{"$f":"IF(Worksheet!N88=\"\",\"\",Worksheet!N88)","v":""},{"$f":"IF(Worksheet!O88=\"\",\"\",Worksheet!O88)","v":""},{"$f":"IF(Worksheet!F88=0,\"\",Worksheet!F88)","v":""},{"$f":"IF(Worksheet!P88=0,\"\",Worksheet!P88)","v":""},{"$f":"IF(Worksheet!$A$11=TRUE,\"Y\",\"N\")","v":"N"},{"$f":"IF(Worksheet!$A$12=TRUE,\"Y\",\"N\")","v":"N"},{"$f":"IF(Worksheet!$B$11=TRUE,\"Y\",\"N\")","v":"N"},{"$f":"IF(Worksheet!$B$12=TRUE,\"Y\",\"N\")","v":"N"},{"$f":"IF(Worksheet!$C$11=TRUE,\"Y\",\"N\")","v":"N"},{"$f":"IF(Worksheet!$C$12=TRUE,\"Y\",\"N\")","v":"N"},""]
[{"$f":"IF(ISERROR(VLOOKUP(Worksheet!N89,MeasureLookup,2,FALSE))=FALSE,VLOOKUP(Worksheet!N89,MeasureLookup,2,FALSE),\"\")","v":""},{"$f":"Worksheet!Q89","v":0},{"$f":"Worksheet!R89","v":0},{"$f":"IF(ISERROR(Worksheet!P89)=FALSE,Worksheet!P89,\"\")","v":0},"Watts",null,null,{"$f":"IF(Worksheet!AP89<>\"\",IF(Worksheet!AP89>0,Worksheet!AP89/IF(Worksheet!M89>0,Worksheet!M89,Worksheet!L89),\"\"),\"\")","v":""},{"$f":"IF(ISBLANK(Worksheet!L89)=FALSE,Worksheet!L89,\"\")","v":0},{"$f":"IF(Worksheet!L89<>0, IFERROR(VLOOKUP(Worksheet!$C$16,SavingsSupportTable,3,FALSE)*Worksheet!AQ89*IFERROR(1+VLOOKUP(Worksheet!$C$16,SavingsSupportTable,MATCH(Worksheet!$G$17,HVACe_Options,0)+4,FALSE),1)/IF(Worksheet!M89>0,Worksheet!M89,Worksheet!L89),\"\"),\"\")","v":""},{"$f":"IF(Worksheet!L89<>0, IFERROR(VLOOKUP(Worksheet!$C$16,SavingsSupportTable,2,FALSE)*Worksheet!AQ89*IF(IFERROR(MATCH(Worksheet!$G$17,HVACe_Options,0),0)>0,1+VLOOKUP(Worksheet!$C$16,SavingsSupportTable,4,FALSE),1)/IF(Worksheet!M89>0,Worksheet!M89,Worksheet!L89),\"\"),\"\")","v":""},"",{"$f":"IF(Worksheet!L89<>0,IFERROR(VLOOKUP(Worksheet!$C$16,SavingsSupportTable,3,FALSE)*Worksheet!AQ89*IF(IFERROR(SEARCH(\"Gas\",Worksheet!$G$17),0)>0,VLOOKUP(\"Gas\",HVACg_Lookup,MATCH(Worksheet!$G$16,BuildingSize,0)+1,FALSE),IF(IFERROR(SEARCH(\"Oil\",Worksheet!$G$17),0)>0,VLOOKUP(\"Oil\",HVACg_Lookup,MATCH(Worksheet!$G$16,BuildingSize,0)+1,FALSE),IF(IFERROR(SEARCH(\"Propane\",Worksheet!$G$17),0)>0,VLOOKUP(\"Propane\",HVACg_Lookup,MATCH(Worksheet!$G$16,BuildingSize,0)+1,FALSE),0)))/IF(Worksheet!M89>0,Worksheet!M89,Worksheet!L89),0),\"\")","v":""},"",null,null,null,{"$f":"IF(ISBLANK(Worksheet!M89)=FALSE,Worksheet!M89,\"\")","v":0},{"$f":"IF(Worksheet!A89=\"-\",\"\",IF(Worksheet!A89=\"\",S65,Worksheet!A89))","v":""},{"$f":"IF(S66=\"\",\"\",IF(AND(Worksheet!G89=\"\",Worksheet!H89=\"\")=TRUE,T65,IF(Worksheet!G89=\"\",\"\",Worksheet!G89)))","v":""},{"$f":"IF(S66=\"\",\"\",IF(AND(Worksheet!G89=\"\",Worksheet!H89=\"\")=TRUE,U65,IF(Worksheet!H89=\"\",\"\",Worksheet!H89)))","v":""},{"$f":"IF(Worksheet!N89=\"\",\"\",Worksheet!N89)","v":""},{"$f":"IF(Worksheet!O89=\"\",\"\",Worksheet!O89)","v":""},{"$f":"IF(Worksheet!F89=0,\"\",Worksheet!F89)","v":""},{"$f":"IF(Worksheet!P89=0,\"\",Worksheet!P89)","v":""},{"$f":"IF(Worksheet!$A$11=TRUE,\"Y\",\"N\")","v":"N"},{"$f":"IF(Worksheet!$A$12=TRUE,\"Y\",\"N\")","v":"N"},{"$f":"IF(Worksheet!$B$11=TRUE,\"Y\",\"N\")","v":"N"},{"$f":"IF(Worksheet!$B$12=TRUE,\"Y\",\"N\")","v":"N"},{"$f":"IF(Worksheet!$C$11=TRUE,\"Y\",\"N\")","v":"N"},{"$f":"IF(Worksheet!$C$12=TRUE,\"Y\",\"N\")","v":"N"},""]
[{"$f":"IF(ISERROR(VLOOKUP(Worksheet!N90,MeasureLookup,2,FALSE))=FALSE,VLOOKUP(Worksheet!N90,MeasureLookup,2,FALSE),\"\")","v":""},{"$f":"Worksheet!Q90","v":0},{"$f":"Worksheet!R90","v":0},{"$f":"IF(ISERROR(Worksheet!P90)=FALSE,Worksheet!P90,\"\")","v":0},"Watts",null,null,{"$f":"IF(Worksheet!AP90<>\"\",IF(Worksheet!AP90>0,Worksheet!AP90/IF(Worksheet!M90>0,Worksheet!M90,Worksheet!L90),\"\"),\"\")","v":""},{"$f":"IF(ISBLANK(Worksheet!L90)=FALSE,Worksheet!L90,\"\")","v":0},{"$f":"IF(Worksheet!L90<>0, IFERROR(VLOOKUP(Worksheet!$C$16,SavingsSupportTable,3,FALSE)*Worksheet!AQ90*IFERROR(1+VLOOKUP(Worksheet!$C$16,SavingsSupportTable,MATCH(Worksheet!$G$17,HVACe_Options,0)+4,FALSE),1)/IF(Worksheet!M90>0,Worksheet!M90,Worksheet!L90),\"\"),\"\")","v":""},{"$f":"IF(Worksheet!L90<>0, IFERROR(VLOOKUP(Worksheet!$C$16,SavingsSupportTable,2,FALSE)*Worksheet!AQ90*IF(IFERROR(MATCH(Worksheet!$G$17,HVACe_Options,0),0)>0,1+VLOOKUP(Worksheet!$C$16,SavingsSupportTable,4,FALSE),1)/IF(Worksheet!M90>0,Worksheet!M90,Worksheet!L90),\"\"),\"\")","v":""},{"$f":"IF(ISERROR(J67*15)=FALSE,J67*15,\"\")","v":""},{"$f":"IF(Worksheet!L90<>0,IFERROR(VLOOKUP(Worksheet!$C$16,SavingsSupportTable,3,FALSE)*Worksheet!AQ90*IF(IFERROR(SEARCH(\"Gas\",Worksheet!$G$17),0)>0,VLOOKUP(\"Gas\",HVACg_Lookup,MATCH(Worksheet!$G$16,BuildingSize,0)+1,FALSE),IF(IFERROR(SEARCH(\"Oil\",Worksheet!$G$17),0)>0,VLOOKUP(\"Oil\",HVACg_Lookup,MATCH(Worksheet!$G$16,BuildingSize,0)+1,FALSE),IF(IFERROR(SEARCH(\"Propane\",Worksheet!$G$17),0)>0,VLOOKUP(\"Propane\",HVACg_Lookup,MATCH(Worksheet!$G$16,BuildingSize,0)+1,FALSE),0)))/IF(Worksheet!M90>0,Worksheet!M90,Worksheet!L90),0),\"\")","v":""},{"$f":"IF(ISERROR(M67*15)=FALSE,M67*15,\"\")","v":""},null,null,null,{"$f":"IF(ISBLANK(Worksheet!M90)=FALSE,Worksheet!M90,\"\")","v":0},{"$f":"IF(Worksheet!A90=\"-\",\"\",IF(Worksheet!A90=\"\",S66,Worksheet!A90))","v":""},{"$f":"IF(S67=\"\",\"\",IF(AND(Worksheet!G90=\"\",Worksheet!H90=\"\")=TRUE,T66,IF(Worksheet!G90=\"\",\"\",Worksheet!G90)))","v":""},{"$f":"IF(S67=\"\",\"\",IF(AND(Worksheet!G90=\"\",Worksheet!H90=\"\")=TRUE,U66,IF(Worksheet!H90=\"\",\"\",Worksheet!H90)))","v":""},{"$f":"IF(Worksheet!N90=\"\",\"\",Worksheet!N90)","v":""},{"$f":"IF(Worksheet!O90=\"\",\"\",Worksheet!O90)","v":""},{"$f":"IF(Worksheet!F90=0,\"\",Worksheet!F90)","v":""},{"$f":"IF(Worksheet!P90=0,\"\",Worksheet!P90)","v":""},{"$f":"IF(Worksheet!$A$11=TRUE,\"Y\",\"N\")","v":"N"},{"$f":"IF(Worksheet!$A$12=TRUE,\"Y\",\"N\")","v":"N"},{"$f":"IF(Worksheet!$B$11=TRUE,\"Y\",\"N\")","v":"N"},{"$f":"IF(Worksheet!$B$12=TRUE,\"Y\",\"N\")","v":"N"},{"$f":"IF(Worksheet!$C$11=TRUE,\"Y\",\"N\")","v":"N"},{"$f":"IF(Worksheet!$C$12=TRUE,\"Y\",\"N\")","v":"N"},{"$f":"IFERROR(IF(OR(Z67=\"Y\",AA67=\"Y\",AB67=\"Y\",AC67=\"Y\",AD67=\"Y\",AE67=\"Y\")=TRUE,H67,\"\"),\"\")","v":""}]
[{"$f":"IF(ISERROR(VLOOKUP(Worksheet!N91,MeasureLookup,2,FALSE))=FALSE,VLOOKUP(Worksheet!N91,MeasureLookup,2,FALSE),\"\")","v":""},{"$f":"Worksheet!Q91","v":0},{"$f":"Worksheet!R91","v":0},{"$f":"IF(ISERROR(Worksheet!P91)=FALSE,Worksheet!P91,\"\")","v":0},"Watts",null,null,{"$f":"IF(Worksheet!AP91<>\"\",IF(Worksheet!AP91>0,Worksheet!AP91/IF(Worksheet!M91>0,Worksheet!M91,Worksheet!L91),\"\"),\"\")","v":""},{"$f":"IF(ISBLANK(Worksheet!L91)=FALSE,Worksheet!L91,\"\")","v":0},{"$f":"IF(Worksheet!L91<>0, IFERROR(VLOOKUP(Worksheet!$C$16,SavingsSupportTable,3,FALSE)*Worksheet!AQ91*IFERROR(1+VLOOKUP(Worksheet!$C$16,SavingsSupportTable,MATCH(Worksheet!$G$17,HVACe_Options,0)+4,FALSE),1)/IF(Worksheet!M91>0,Worksheet!M91,Worksheet!L91),\"\"),\"\")","v":""},{"$f":"IF(Worksheet!L91<>0, IFERROR(VLOOKUP(Worksheet!$C$16,SavingsSupportTable,2,FALSE)*Worksheet!AQ91*IF(IFERROR(MATCH(Worksheet!$G$17,HVACe_Options,0),0)>0,1+VLOOKUP(Worksheet!$C$16,SavingsSupportTable,4,FALSE),1)/IF(Worksheet!M91>0,Worksheet!M91,Worksheet!L91),\"\"),\"\")","v":""},"",{"$f":"IF(Worksheet!L91<>0,IFERROR(VLOOKUP(Worksheet!$C$16,SavingsSupportTable,3,FALSE)*Worksheet!AQ91*IF(IFERROR(SEARCH(\"Gas\",Worksheet!$G$17),0)>0,VLOOKUP(\"Gas\",HVACg_Lookup,MATCH(Worksheet!$G$16,BuildingSize,0)+1,FALSE),IF(IFERROR(SEARCH(\"Oil\",Worksheet!$G$17),0)>0,VLOOKUP(\"Oil\",HVACg_Lookup,MATCH(Worksheet!$G$16,BuildingSize,0)+1,FALSE),IF(IFERROR(SEARCH(\"Propane\",Worksheet!$G$17),0)>0,VLOOKUP(\"Propane\",HVACg_Lookup,MATCH(Worksheet!$G$16,BuildingSize,0)+1,FALSE),0)))/IF(Worksheet!M91>0,Worksheet!M91,Worksheet!L91),0),\"\")","v":""},"",null,null,null,{"$f":"IF(ISBLANK(Worksheet!M91)=FALSE,Worksheet!M91,\"\")","v":0},{"$f":"IF(Worksheet!A91=\"-\",\"\",IF(Worksheet!A91=\"\",S67,Worksheet!A91))","v":""},{"$f":"IF(S68=\"\",\"\",IF(AND(Worksheet!G91=\"\",Worksheet!H91=\"\")=TRUE,T67,IF(Worksheet!G91=\"\",\"\",Worksheet!G91)))","v":""},{"$f":"IF(S68=\"\",\"\",IF(AND(Worksheet!G91=\"\",Worksheet!H91=\"\")=TRUE,U67,IF(Worksheet!H91=\"\",\"\",Worksheet!H91)))","v":""},{"$f":"IF(Worksheet!N91=\"\",\"\",Worksheet!N91)","v":""},{"$f":"IF(Worksheet!O91=\"\",\"\",Worksheet!O91)","v":""},{"$f":"IF(Worksheet!F91=0,\"\",Worksheet!F91)","v":""},{"$f":"IF(Worksheet!P91=0,\"\",Worksheet!P91)","v":""},{"$f":"IF(Worksheet!$A$11=TRUE,\"Y\",\"N\")","v":"N"},{"$f":"IF(Worksheet!$A$12=TRUE,\"Y\",\"N\")","v":"N"},{"$f":"IF(Worksheet!$B$11=TRUE,\"Y\",\"N\")","v":"N"},{"$f":"IF(Worksheet!$B$12=TRUE,\"Y\",\"N\")","v":"N"},{"$f":"IF(Worksheet!$C$11=TRUE,\"Y\",\"N\")","v":"N"},{"$f":"IF(Worksheet!$C$12=TRUE,\"Y\",\"N\")","v":"N"},""]
[{"$f":"IF(ISERROR(VLOOKUP(Worksheet!N92,MeasureLookup,2,FALSE))=FALSE,VLOOKUP(Worksheet!N92,MeasureLookup,2,FALSE),\"\")","v":""},{"$f":"Worksheet!Q92","v":0},{"$f":"Worksheet!R92","v":0},{"$f":"IF(ISERROR(Worksheet!P92)=FALSE,Worksheet!P92,\"\")","v":0},"Watts",null,null,{"$f":"IF(Worksheet!AP92<>\"\",IF(Worksheet!AP92>0,Worksheet!AP92/IF(Worksheet!M92>0,Worksheet!M92,Worksheet!L92),\"\"),\"\")","v":""},{"$f":"IF(ISBLANK(Worksheet!L92)=FALSE,Worksheet!L92,\"\")","v":0},{"$f":"IF(Worksheet!L92<>0, IFERROR(VLOOKUP(Worksheet!$C$16,SavingsSupportTable,3,FALSE)*Worksheet!AQ92*IFERROR(1+VLOOKUP(Worksheet!$C$16,SavingsSupportTable,MATCH(Worksheet!$G$17,HVACe_Options,0)+4,FALSE),1)/IF(Worksheet!M92>0,Worksheet!M92,Worksheet!L92),\"\"),\"\")","v":""},{"$f":"IF(Worksheet!L92<>0, IFERROR(VLOOKUP(Worksheet!$C$16,SavingsSupportTable,2,FALSE)*Worksheet!AQ92*IF(IFERROR(MATCH(Worksheet!$G$17,HVACe_Options,0),0)>0,1+VLOOKUP(Worksheet!$C$16,SavingsSupportTable,4,FALSE),1)/IF(Worksheet!M92>0,Worksheet!M92,Worksheet!L92),\"\"),\"\")","v":""},"",{"$f":"IF(Worksheet!L92<>0,IFERROR(VLOOKUP(Worksheet!$C$16,SavingsSupportTable,3,FALSE)*Worksheet!AQ92*IF(IFERROR(SEARCH(\"Gas\",Worksheet!$G$17),0)>0,VLOOKUP(\"Gas\",HVACg_Lookup,MATCH(Worksheet!$G$16,BuildingSize,0)+1,FALSE),IF(IFERROR(SEARCH(\"Oil\",Worksheet!$G$17),0)>0,VLOOKUP(\"Oil\",HVACg_Lookup,MATCH(Worksheet!$G$16,BuildingSize,0)+1,FALSE),IF(IFERROR(SEARCH(\"Propane\",Worksheet!$G$17),0)>0,VLOOKUP(\"Propane\",HVACg_Lookup,MATCH(Worksheet!$G$16,BuildingSize,0)+1,FALSE),0)))/IF(Worksheet!M92>0,Worksheet!M92,Worksheet!L92),0),\"\")","v":""},"",null,null,null,{"$f":"IF(ISBLANK(Worksheet!M92)=FALSE,Worksheet!M92,\"\")","v":0},{"$f":"IF(Worksheet!A92=\"-\",\"\",IF(Worksheet!A92=\"\",S68,Worksheet!A92))","v":""},{"$f":"IF(S69=\"\",\"\",IF(AND(Worksheet!G92=\"\",Worksheet!H92=\"\")=TRUE,T68,IF(Worksheet!G92=\"\",\"\",Worksheet!G92)))","v":""},{"$f":"IF(S69=\"\",\"\",IF(AND(Worksheet!G92=\"\",Worksheet!H92=\"\")=TRUE,U68,IF(Worksheet!H92=\"\",\"\",Worksheet!H92)))","v":""},{"$f":"IF(Worksheet!N92=\"\",\"\",Worksheet!N92)","v":""},{"$f":"IF(Worksheet!O92=\"\",\"\",Worksheet!O92)","v":""},{"$f":"IF(Worksheet!F92=0,\"\",Worksheet!F92)","v":""},{"$f":"IF(Worksheet!P92=0,\"\",Worksheet!P92)","v":""},{"$f":"IF(Worksheet!$A$11=TRUE,\"Y\",\"N\")","v":"N"},{"$f":"IF(Worksheet!$A$12=TRUE,\"Y\",\"N\")","v":"N"},{"$f":"IF(Worksheet!$B$11=TRUE,\"Y\",\"N\")","v":"N"},{"$f":"IF(Worksheet!$B$12=TRUE,\"Y\",\"N\")","v":"N"},{"$f":"IF(Worksheet!$C$11=TRUE,\"Y\",\"N\")","v":"N"},{"$f":"IF(Worksheet!$C$12=TRUE,\"Y\",\"N\")","v":"N"},""]
[{"$f":"IF(ISERROR(VLOOKUP(Worksheet!N93,MeasureLookup,2,FALSE))=FALSE,VLOOKUP(Worksheet!N93,MeasureLookup,2,FALSE),\"\")","v":""},{"$f":"Worksheet!Q93","v":0},{"$f":"Worksheet!R93","v":0},{"$f":"IF(ISERROR(Worksheet!P93)=FALSE,Worksheet!P93,\"\")","v":0},"Watts",null,null,{"$f":"IF(Worksheet!AP93<>\"\",IF(Worksheet!AP93>0,Worksheet!AP93/IF(Worksheet!M93>0,Worksheet!M93,Worksheet!L93),\"\"),\"\")","v":""},{"$f":"IF(ISBLANK(Worksheet!L93)=FALSE,Worksheet!L93,\"\")","v":0},{"$f":"IF(Worksheet!L93<>0, IFERROR(VLOOKUP(Worksheet!$C$16,SavingsSupportTable,3,FALSE)*Worksheet!AQ93*IFERROR(1+VLOOKUP(Worksheet!$C$16,SavingsSupportTable,MATCH(Worksheet!$G$17,HVACe_Options,0)+4,FALSE),1)/IF(Worksheet!M93>0,Worksheet!M93,Worksheet!L93),\"\"),\"\")","v":""},{"$f":"IF(Worksheet!L93<>0, IFERROR(VLOOKUP(Worksheet!$C$16,SavingsSupportTable,2,FALSE)*Worksheet!AQ93*IF(IFERROR(MATCH(Worksheet!$G$17,HVACe_Options,0),0)>0,1+VLOOKUP(Worksheet!$C$16,SavingsSupportTable,4,FALSE),1)/IF(Worksheet!M93>0,Worksheet!M93,Worksheet!L93),\"\"),\"\")","v":""},"",{"$f":"IF(Worksheet!L93<>0,IFERROR(VLOOKUP(Worksheet!$C$16,SavingsSupportTable,3,FALSE)*Worksheet!AQ93*IF(IFERROR(SEARCH(\"Gas\",Worksheet!$G$17),0)>0,VLOOKUP(\"Gas\",HVACg_Lookup,MATCH(Worksheet!$G$16,BuildingSize,0)+1,FALSE),IF(IFERROR(SEARCH(\"Oil\",Worksheet!$G$17),0)>0,VLOOKUP(\"Oil\",HVACg_Lookup,MATCH(Worksheet!$G$16,BuildingSize,0)+1,FALSE),IF(IFERROR(SEARCH(\"Propane\",Worksheet!$G$17),0)>0,VLOOKUP(\"Propane\",HVACg_Lookup,MATCH(Worksheet!$G$16,BuildingSize,0)+1,FALSE),0)))/IF(Worksheet!M93>0,Worksheet!M93,Worksheet!L93),0),\"\")","v":""},"",null,null,null,{"$f":"IF(ISBLANK(Worksheet!M93)=FALSE,Worksheet!M93,\"\")","v":0},{"$f":"IF(Worksheet!A93=\"-\",\"\",IF(Worksheet!A93=\"\",S69,Worksheet!A93))","v":""},{"$f":"IF(S70=\"\",\"\",IF(AND(Worksheet!G93=\"\",Worksheet!H93=\"\")=TRUE,T69,IF(Worksheet!G93=\"\",\"\",Worksheet!G93)))","v":""},{"$f":"IF(S70=\"\",\"\",IF(AND(Worksheet!G93=\"\",Worksheet!H93=\"\")=TRUE,U69,IF(Worksheet!H93=\"\",\"\",Worksheet!H93)))","v":""},{"$f":"IF(Worksheet!N93=\"\",\"\",Worksheet!N93)","v":""},{"$f":"IF(Worksheet!O93=\"\",\"\",Worksheet!O93)","v":""},{"$f":"IF(Worksheet!F93=0,\"\",Worksheet!F93)","v":""},{"$f":"IF(Worksheet!P93=0,\"\",Worksheet!P93)","v":""},{"$f":"IF(Worksheet!$A$11=TRUE,\"Y\",\"N\")","v":"N"},{"$f":"IF(Worksheet!$A$12=TRUE,\"Y\",\"N\")","v":"N"},{"$f":"IF(Worksheet!$B$11=TRUE,\"Y\",\"N\")","v":"N"},{"$f":"IF(Worksheet!$B$12=TRUE,\"Y\",\"N\")","v":"N"},{"$f":"IF(Worksheet!$C$11=TRUE,\"Y\",\"N\")","v":"N"},{"$f":"IF(Worksheet!$C$12=TRUE,\"Y\",\"N\")","v":"N"},""]
[{"$f":"IF(ISERROR(VLOOKUP(Worksheet!N94,MeasureLookup,2,FALSE))=FALSE,VLOOKUP(Worksheet!N94,MeasureLookup,2,FALSE),\"\")","v":""},{"$f":"Worksheet!Q94","v":0},{"$f":"Worksheet!R94","v":0},{"$f":"IF(ISERROR(Worksheet!P94)=FALSE,Worksheet!P94,\"\")","v":0},"Watts",null,null,{"$f":"IF(Worksheet!AP94<>\"\",IF(Worksheet!AP94>0,Worksheet!AP94/IF(Worksheet!M94>0,Worksheet!M94,Worksheet!L94),\"\"),\"\")","v":""},{"$f":"IF(ISBLANK(Worksheet!L94)=FALSE,Worksheet!L94,\"\")","v":0},{"$f":"IF(Worksheet!L94<>0, IFERROR(VLOOKUP(Worksheet!$C$16,SavingsSupportTable,3,FALSE)*Worksheet!AQ94*IFERROR(1+VLOOKUP(Worksheet!$C$16,SavingsSupportTable,MATCH(Worksheet!$G$17,HVACe_Options,0)+4,FALSE),1)/IF(Worksheet!M94>0,Worksheet!M94,Worksheet!L94),\"\"),\"\")","v":""},{"$f":"IF(Worksheet!L94<>0, IFERROR(VLOOKUP(Worksheet!$C$16,SavingsSupportTable,2,FALSE)*Worksheet!AQ94*IF(IFERROR(MATCH(Worksheet!$G$17,HVACe_Options,0),0)>0,1+VLOOKUP(Worksheet!$C$16,SavingsSupportTable,4,FALSE),1)/IF(Worksheet!M94>0,Worksheet!M94,Worksheet!L94),\"\"),\"\")","v":""},"",{"$f":"IF(Worksheet!L94<>0,IFERROR(VLOOKUP(Worksheet!$C$16,SavingsSupportTable,3,FALSE)*Worksheet!AQ94*IF(IFERROR(SEARCH(\"Gas\",Worksheet!$G$17),0)>0,VLOOKUP(\"Gas\",HVACg_Lookup,MATCH(Worksheet!$G$16,BuildingSize,0)+1,FALSE),IF(IFERROR(SEARCH(\"Oil\",Worksheet!$G$17),0)>0,VLOOKUP(\"Oil\",HVACg_Lookup,MATCH(Worksheet!$G$16,BuildingSize,0)+1,FALSE),IF(IFERROR(SEARCH(\"Propane\",Worksheet!$G$17),0)>0,VLOOKUP(\"Propane\",HVACg_Lookup,MATCH(Worksheet!$G$16,BuildingSize,0)+1,FALSE),0)))/IF(Worksheet!M94>0,Worksheet!M94,Worksheet!L94),0),\"\")","v":""},"",null,null,null,{"$f":"IF(ISBLANK(Worksheet!M94)=FALSE,Worksheet!M94,\"\")","v":0},{"$f":"IF(Worksheet!A94=\"-\",\"\",IF(Worksheet!A94=\"\",S70,Worksheet!A94))","v":""},{"$f":"IF(S71=\"\",\"\",IF(AND(Worksheet!G94=\"\",Worksheet!H94=\"\")=TRUE,T70,IF(Worksheet!G94=\"\",\"\",Worksheet!G94)))","v":""},{"$f":"IF(S71=\"\",\"\",IF(AND(Worksheet!G94=\"\",Worksheet!H94=\"\")=TRUE,U70,IF(Worksheet!H94=\"\",\"\",Worksheet!H94)))","v":""},{"$f":"IF(Worksheet!N94=\"\",\"\",Worksheet!N94)","v":""},{"$f":"IF(Worksheet!O94=\"\",\"\",Worksheet!O94)","v":""},{"$f":"IF(Worksheet!F94=0,\"\",Worksheet!F94)","v":""},{"$f":"IF(Worksheet!P94=0,\"\",Worksheet!P94)","v":""},{"$f":"IF(Worksheet!$A$11=TRUE,\"Y\",\"N\")","v":"N"},{"$f":"IF(Worksheet!$A$12=TRUE,\"Y\",\"N\")","v":"N"},{"$f":"IF(Worksheet!$B$11=TRUE,\"Y\",\"N\")","v":"N"},{"$f":"IF(Worksheet!$B$12=TRUE,\"Y\",\"N\")","v":"N"},{"$f":"IF(Worksheet!$C$11=TRUE,\"Y\",\"N\")","v":"N"},{"$f":"IF(Worksheet!$C$12=TRUE,\"Y\",\"N\")","v":"N"},""]
[{"$f":"IF(ISERROR(VLOOKUP(Worksheet!N95,MeasureLookup,2,FALSE))=FALSE,VLOOKUP(Worksheet!N95,MeasureLookup,2,FALSE),\"\")","v":""},{"$f":"Worksheet!Q95","v":0},{"$f":"Worksheet!R95","v":0},{"$f":"IF(ISERROR(Worksheet!P95)=FALSE,Worksheet!P95,\"\")","v":0},"Watts",null,null,{"$f":"IF(Worksheet!AP95<>\"\",IF(Worksheet!AP95>0,Worksheet!AP95/IF(Worksheet!M95>0,Worksheet!M95,Worksheet!L95),\"\"),\"\")","v":""},{"$f":"IF(ISBLANK(Worksheet!L95)=FALSE,Worksheet!L95,\"\")","v":0},{"$f":"IF(Worksheet!L95<>0, IFERROR(VLOOKUP(Worksheet!$C$16,SavingsSupportTable,3,FALSE)*Worksheet!AQ95*IFERROR(1+VLOOKUP(Worksheet!$C$16,SavingsSupportTable,MATCH(Worksheet!$G$17,HVACe_Options,0)+4,FALSE),1)/IF(Worksheet!M95>0,Worksheet!M95,Worksheet!L95),\"\"),\"\")","v":""},{"$f":"IF(Worksheet!L95<>0, IFERROR(VLOOKUP(Worksheet!$C$16,SavingsSupportTable,2,FALSE)*Worksheet!AQ95*IF(IFERROR(MATCH(Worksheet!$G$17,HVACe_Options,0),0)>0,1+VLOOKUP(Worksheet!$C$16,SavingsSupportTable,4,FALSE),1)/IF(Worksheet!M95>0,Worksheet!M95,Worksheet!L95),\"\"),\"\")","v":""},"",{"$f":"IF(Worksheet!L95<>0,IFERROR(VLOOKUP(Worksheet!$C$16,SavingsSupportTable,3,FALSE)*Worksheet!AQ95*IF(IFERROR(SEARCH(\"Gas\",Worksheet!$G$17),0)>0,VLOOKUP(\"Gas\",HVACg_Lookup,MATCH(Worksheet!$G$16,BuildingSize,0)+1,FALSE),IF(IFERROR(SEARCH(\"Oil\",Worksheet!$G$17),0)>0,VLOOKUP(\"Oil\",HVACg_Lookup,MATCH(Worksheet!$G$16,BuildingSize,0)+1,FALSE),IF(IFERROR(SEARCH(\"Propane\",Worksheet!$G$17),0)>0,VLOOKUP(\"Propane\",HVACg_Lookup,MATCH(Worksheet!$G$16,BuildingSize,0)+1,FALSE),0)))/IF(Worksheet!M95>0,Worksheet!M95,Worksheet!L95),0),\"\")","v":""},"",null,null,null,{"$f":"IF(ISBLANK(Worksheet!M95)=FALSE,Worksheet!M95,\"\")","v":0},{"$f":"IF(Worksheet!A95=\"-\",\"\",IF(Worksheet!A95=\"\",S71,Worksheet!A95))","v":""},{"$f":"IF(S72=\"\",\"\",IF(AND(Worksheet!G95=\"\",Worksheet!H95=\"\")=TRUE,T71,IF(Worksheet!G95=\"\",\"\",Worksheet!G95)))","v":""},{"$f":"IF(S72=\"\",\"\",IF(AND(Worksheet!G95=\"\",Worksheet!H95=\"\")=TRUE,U71,IF(Worksheet!H95=\"\",\"\",Worksheet!H95)))","v":""},{"$f":"IF(Worksheet!N95=\"\",\"\",Worksheet!N95)","v":""},{"$f":"IF(Worksheet!O95=\"\",\"\",Worksheet!O95)","v":""},{"$f":"IF(Worksheet!F95=0,\"\",Worksheet!F95)","v":""},{"$f":"IF(Worksheet!P95=0,\"\",Worksheet!P95)","v":""},{"$f":"IF(Worksheet!$A$11=TRUE,\"Y\",\"N\")","v":"N"},{"$f":"IF(Worksheet!$A$12=TRUE,\"Y\",\"N\")","v":"N"},{"$f":"IF(Worksheet!$B$11=TRUE,\"Y\",\"N\")","v":"N"},{"$f":"IF(Worksheet!$B$12=TRUE,\"Y\",\"N\")","v":"N"},{"$f":"IF(Worksheet!$C$11=TRUE,\"Y\",\"N\")","v":"N"},{"$f":"IF(Worksheet!$C$12=TRUE,\"Y\",\"N\")","v":"N"},""]
[{"$f":"IF(ISERROR(VLOOKUP(Worksheet!N96,MeasureLookup,2,FALSE))=FALSE,VLOOKUP(Worksheet!N96,MeasureLookup,2,FALSE),\"\")","v":""},{"$f":"Worksheet!Q96","v":0},{"$f":"Worksheet!R96","v":0},{"$f":"IF(ISERROR(Worksheet!P96)=FALSE,Worksheet!P96,\"\")","v":0},"Watts",null,null,{"$f":"IF(Worksheet!AP96<>\"\",IF(Worksheet!AP96>0,Worksheet!AP96/IF(Worksheet!M96>0,Worksheet!M96,Worksheet!L96),\"\"),\"\")","v":""},{"$f":"IF(ISBLANK(Worksheet!L96)=FALSE,Worksheet!L96,\"\")","v":0},{"$f":"IF(Worksheet!L96<>0, IFERROR(VLOOKUP(Worksheet!$C$16,SavingsSupportTable,3,FALSE)*Worksheet!AQ96*IFERROR(1+VLOOKUP(Worksheet!$C$16,SavingsSupportTable,MATCH(Worksheet!$G$17,HVACe_Options,0)+4,FALSE),1)/IF(Worksheet!M96>0,Worksheet!M96,Worksheet!L96),\"\"),\"\")","v":""},{"$f":"IF(Worksheet!L96<>0, IFERROR(VLOOKUP(Worksheet!$C$16,SavingsSupportTable,2,FALSE)*Worksheet!AQ96*IF(IFERROR(MATCH(Worksheet!$G$17,HVACe_Options,0),0)>0,1+VLOOKUP(Worksheet!$C$16,SavingsSupportTable,4,FALSE),1)/IF(Worksheet!M96>0,Worksheet!M96,Worksheet!L96),\"\"),\"\")","v":""},"",{"$f":"IF(Worksheet!L96<>0,IFERROR(VLOOKUP(Worksheet!$C$16,SavingsSupportTable,3,FALSE)*Worksheet!AQ96*IF(IFERROR(SEARCH(\"Gas\",Worksheet!$G$17),0)>0,VLOOKUP(\"Gas\",HVACg_Lookup,MATCH(Worksheet!$G$16,BuildingSize,0)+1,FALSE),IF(IFERROR(SEARCH(\"Oil\",Worksheet!$G$17),0)>0,VLOOKUP(\"Oil\",HVACg_Lookup,MATCH(Worksheet!$G$16,BuildingSize,0)+1,FALSE),IF(IFERROR(SEARCH(\"Propane\",Worksheet!$G$17),0)>0,VLOOKUP(\"Propane\",HVACg_Lookup,MATCH(Worksheet!$G$16,BuildingSize,0)+1,FALSE),0)))/IF(Worksheet!M96>0,Worksheet!M96,Worksheet!L96),0),\"\")","v":""},"",null,null,null,{"$f":"IF(ISBLANK(Worksheet!M96)=FALSE,Worksheet!M96,\"\")","v":0},{"$f":"IF(Worksheet!A96=\"-\",\"\",IF(Worksheet!A96=\"\",S72,Worksheet!A96))","v":""},{"$f":"IF(S73=\"\",\"\",IF(AND(Worksheet!G96=\"\",Worksheet!H96=\"\")=TRUE,T72,IF(Worksheet!G96=\"\",\"\",Worksheet!G96)))","v":""},{"$f":"IF(S73=\"\",\"\",IF(AND(Worksheet!G96=\"\",Worksheet!H96=\"\")=TRUE,U72,IF(Worksheet!H96=\"\",\"\",Worksheet!H96)))","v":""},{"$f":"IF(Worksheet!N96=\"\",\"\",Worksheet!N96)","v":""},{"$f":"IF(Worksheet!O96=\"\",\"\",Worksheet!O96)","v":""},{"$f":"IF(Worksheet!F96=0,\"\",Worksheet!F96)","v":""},{"$f":"IF(Worksheet!P96=0,\"\",Worksheet!P96)","v":""},{"$f":"IF(Worksheet!$A$11=TRUE,\"Y\",\"N\")","v":"N"},{"$f":"IF(Worksheet!$A$12=TRUE,\"Y\",\"N\")","v":"N"},{"$f":"IF(Worksheet!$B$11=TRUE,\"Y\",\"N\")","v":"N"},{"$f":"IF(Worksheet!$B$12=TRUE,\"Y\",\"N\")","v":"N"},{"$f":"IF(Worksheet!$C$11=TRUE,\"Y\",\"N\")","v":"N"},{"$f":"IF(Worksheet!$C$12=TRUE,\"Y\",\"N\")","v":"N"},""]
[{"$f":"IF(ISERROR(VLOOKUP(Worksheet!N97,MeasureLookup,2,FALSE))=FALSE,VLOOKUP(Worksheet!N97,MeasureLookup,2,FALSE),\"\")","v":""},{"$f":"Worksheet!Q97","v":0},{"$f":"Worksheet!R97","v":0},{"$f":"IF(ISERROR(Worksheet!P97)=FALSE,Worksheet!P97,\"\")","v":0},"Watts",null,null,{"$f":"IF(Worksheet!AP97<>\"\",IF(Worksheet!AP97>0,Worksheet!AP97/IF(Worksheet!M97>0,Worksheet!M97,Worksheet!L97),\"\"),\"\")","v":""},{"$f":"IF(ISBLANK(Worksheet!L97)=FALSE,Worksheet!L97,\"\")","v":0},{"$f":"IF(Worksheet!L97<>0, IFERROR(VLOOKUP(Worksheet!$C$16,SavingsSupportTable,3,FALSE)*Worksheet!AQ97*IFERROR(1+VLOOKUP(Worksheet!$C$16,SavingsSupportTable,MATCH(Worksheet!$G$17,HVACe_Options,0)+4,FALSE),1)/IF(Worksheet!M97>0,Worksheet!M97,Worksheet!L97),\"\"),\"\")","v":""},{"$f":"IF(Worksheet!L97<>0, IFERROR(VLOOKUP(Worksheet!$C$16,SavingsSupportTable,2,FALSE)*Worksheet!AQ97*IF(IFERROR(MATCH(Worksheet!$G$17,HVACe_Options,0),0)>0,1+VLOOKUP(Worksheet!$C$16,SavingsSupportTable,4,FALSE),1)/IF(Worksheet!M97>0,Worksheet!M97,Worksheet!L97),\"\"),\"\")","v":""},"",{"$f":"IF(Worksheet!L97<>0,IFERROR(VLOOKUP(Worksheet!$C$16,SavingsSupportTable,3,FALSE)*Worksheet!AQ97*IF(IFERROR(SEARCH(\"Gas\",Worksheet!$G$17),0)>0,VLOOKUP(\"Gas\",HVACg_Lookup,MATCH(Worksheet!$G$16,BuildingSize,0)+1,FALSE),IF(IFERROR(SEARCH(\"Oil\",Worksheet!$G$17),0)>0,VLOOKUP(\"Oil\",HVACg_Lookup,MATCH(Worksheet!$G$16,BuildingSize,0)+1,FALSE),IF(IFERROR(SEARCH(\"Propane\",Worksheet!$G$17),0)>0,VLOOKUP(\"Propane\",HVACg_Lookup,MATCH(Worksheet!$G$16,BuildingSize,0)+1,FALSE),0)))/IF(Worksheet!M97>0,Worksheet!M97,Worksheet!L97),0),\"\")","v":""},"",null,null,null,{"$f":"IF(ISBLANK(Worksheet!M97)=FALSE,Worksheet!M97,\"\")","v":0},{"$f":"IF(Worksheet!A97=\"-\",\"\",IF(Worksheet!A97=\"\",S73,Worksheet!A97))","v":""},{"$f":"IF(S74=\"\",\"\",IF(AND(Worksheet!G97=\"\",Worksheet!H97=\"\")=TRUE,T73,IF(Worksheet!G97=\"\",\"\",Worksheet!G97)))","v":""},{"$f":"IF(S74=\"\",\"\",IF(AND(Worksheet!G97=\"\",Worksheet!H97=\"\")=TRUE,U73,IF(Worksheet!H97=\"\",\"\",Worksheet!H97)))","v":""},{"$f":"IF(Worksheet!N97=\"\",\"\",Worksheet!N97)","v":""},{"$f":"IF(Worksheet!O97=\"\",\"\",Worksheet!O97)","v":""},{"$f":"IF(Worksheet!F97=0,\"\",Worksheet!F97)","v":""},{"$f":"IF(Worksheet!P97=0,\"\",Worksheet!P97)","v":""},{"$f":"IF(Worksheet!$A$11=TRUE,\"Y\",\"N\")","v":"N"},{"$f":"IF(Worksheet!$A$12=TRUE,\"Y\",\"N\")","v":"N"},{"$f":"IF(Worksheet!$B$11=TRUE,\"Y\",\"N\")","v":"N"},{"$f":"IF(Worksheet!$B$12=TRUE,\"Y\",\"N\")","v":"N"},{"$f":"IF(Worksheet!$C$11=TRUE,\"Y\",\"N\")","v":"N"},{"$f":"IF(Worksheet!$C$12=TRUE,\"Y\",\"N\")","v":"N"},""]
[{"$f":"IF(ISERROR(VLOOKUP(Worksheet!N98,MeasureLookup,2,FALSE))=FALSE,VLOOKUP(Worksheet!N98,MeasureLookup,2,FALSE),\"\")","v":""},{"$f":"Worksheet!Q98","v":0},{"$f":"Worksheet!R98","v":0},{"$f":"IF(ISERROR(Worksheet!P98)=FALSE,Worksheet!P98,\"\")","v":0},"Watts",null,null,{"$f":"IF(Worksheet!AP98<>\"\",IF(Worksheet!AP98>0,Worksheet!AP98/IF(Worksheet!M98>0,Worksheet!M98,Worksheet!L98),\"\"),\"\")","v":""},{"$f":"IF(ISBLANK(Worksheet!L98)=FALSE,Worksheet!L98,\"\")","v":0},{"$f":"IF(Worksheet!L98<>0, IFERROR(VLOOKUP(Worksheet!$C$16,SavingsSupportTable,3,FALSE)*Worksheet!AQ98*IFERROR(1+VLOOKUP(Worksheet!$C$16,SavingsSupportTable,MATCH(Worksheet!$G$17,HVACe_Options,0)+4,FALSE),1)/IF(Worksheet!M98>0,Worksheet!M98,Worksheet!L98),\"\"),\"\")","v":""},{"$f":"IF(Worksheet!L98<>0, IFERROR(VLOOKUP(Worksheet!$C$16,SavingsSupportTable,2,FALSE)*Worksheet!AQ98*IF(IFERROR(MATCH(Worksheet!$G$17,HVACe_Options,0),0)>0,1+VLOOKUP(Worksheet!$C$16,SavingsSupportTable,4,FALSE),1)/IF(Worksheet!M98>0,Worksheet!M98,Worksheet!L98),\"\"),\"\")","v":""},"",{"$f":"IF(Worksheet!L98<>0,IFERROR(VLOOKUP(Worksheet!$C$16,SavingsSupportTable,3,FALSE)*Worksheet!AQ98*IF(IFERROR(SEARCH(\"Gas\",Worksheet!$G$17),0)>0,VLOOKUP(\"Gas\",HVACg_Lookup,MATCH(Worksheet!$G$16,BuildingSize,0)+1,FALSE),IF(IFERROR(SEARCH(\"Oil\",Worksheet!$G$17),0)>0,VLOOKUP(\"Oil\",HVACg_Lookup,MATCH(Worksheet!$G$16,BuildingSize,0)+1,FALSE),IF(IFERROR(SEARCH(\"Propane\",Worksheet!$G$17),0)>0,VLOOKUP(\"Propane\",HVACg_Lookup,MATCH(Worksheet!$G$16,BuildingSize,0)+1,FALSE),0)))/IF(Worksheet!M98>0,Worksheet!M98,Worksheet!L98),0),\"\")","v":""},"",null,null,null,{"$f":"IF(ISBLANK(Worksheet!M98)=FALSE,Worksheet!M98,\"\")","v":0},{"$f":"IF(Worksheet!A98=\"-\",\"\",IF(Worksheet!A98=\"\",S74,Worksheet!A98))","v":""},{"$f":"IF(S75=\"\",\"\",IF(AND(Worksheet!G98=\"\",Worksheet!H98=\"\")=TRUE,T74,IF(Worksheet!G98=\"\",\"\",Worksheet!G98)))","v":""},{"$f":"IF(S75=\"\",\"\",IF(AND(Worksheet!G98=\"\",Worksheet!H98=\"\")=TRUE,U74,IF(Worksheet!H98=\"\",\"\",Worksheet!H98)))","v":""},{"$f":"IF(Worksheet!N98=\"\",\"\",Worksheet!N98)","v":""},{"$f":"IF(Worksheet!O98=\"\",\"\",Worksheet!O98)","v":""},{"$f":"IF(Worksheet!F98=0,\"\",Worksheet!F98)","v":""},{"$f":"IF(Worksheet!P98=0,\"\",Worksheet!P98)","v":""},{"$f":"IF(Worksheet!$A$11=TRUE,\"Y\",\"N\")","v":"N"},{"$f":"IF(Worksheet!$A$12=TRUE,\"Y\",\"N\")","v":"N"},{"$f":"IF(Worksheet!$B$11=TRUE,\"Y\",\"N\")","v":"N"},{"$f":"IF(Worksheet!$B$12=TRUE,\"Y\",\"N\")","v":"N"},{"$f":"IF(Worksheet!$C$11=TRUE,\"Y\",\"N\")","v":"N"},{"$f":"IF(Worksheet!$C$12=TRUE,\"Y\",\"N\")","v":"N"},""]
[{"$f":"IF(ISERROR(VLOOKUP(Worksheet!N99,MeasureLookup,2,FALSE))=FALSE,VLOOKUP(Worksheet!N99,MeasureLookup,2,FALSE),\"\")","v":""},{"$f":"Worksheet!Q99","v":0},{"$f":"Worksheet!R99","v":0},{"$f":"IF(ISERROR(Worksheet!P99)=FALSE,Worksheet!P99,\"\")","v":0},"Watts",null,null,{"$f":"IF(Worksheet!AP99<>\"\",IF(Worksheet!AP99>0,Worksheet!AP99/IF(Worksheet!M99>0,Worksheet!M99,Worksheet!L99),\"\"),\"\")","v":""},{"$f":"IF(ISBLANK(Worksheet!L99)=FALSE,Worksheet!L99,\"\")","v":0},{"$f":"IF(Worksheet!L99<>0, IFERROR(VLOOKUP(Worksheet!$C$16,SavingsSupportTable,3,FALSE)*Worksheet!AQ99*IFERROR(1+VLOOKUP(Worksheet!$C$16,SavingsSupportTable,MATCH(Worksheet!$G$17,HVACe_Options,0)+4,FALSE),1)/IF(Worksheet!M99>0,Worksheet!M99,Worksheet!L99),\"\"),\"\")","v":""},{"$f":"IF(Worksheet!L99<>0, IFERROR(VLOOKUP(Worksheet!$C$16,SavingsSupportTable,2,FALSE)*Worksheet!AQ99*IF(IFERROR(MATCH(Worksheet!$G$17,HVACe_Options,0),0)>0,1+VLOOKUP(Worksheet!$C$16,SavingsSupportTable,4,FALSE),1)/IF(Worksheet!M99>0,Worksheet!M99,Worksheet!L99),\"\"),\"\")","v":""},"",{"$f":"IF(Worksheet!L99<>0,IFERROR(VLOOKUP(Worksheet!$C$16,SavingsSupportTable,3,FALSE)*Worksheet!AQ99*IF(IFERROR(SEARCH(\"Gas\",Worksheet!$G$17),0)>0,VLOOKUP(\"Gas\",HVACg_Lookup,MATCH(Worksheet!$G$16,BuildingSize,0)+1,FALSE),IF(IFERROR(SEARCH(\"Oil\",Worksheet!$G$17),0)>0,VLOOKUP(\"Oil\",HVACg_Lookup,MATCH(Worksheet!$G$16,BuildingSize,0)+1,FALSE),IF(IFERROR(SEARCH(\"Propane\",Worksheet!$G$17),0)>0,VLOOKUP(\"Propane\",HVACg_Lookup,MATCH(Worksheet!$G$16,BuildingSize,0)+1,FALSE),0)))/IF(Worksheet!M99>0,Worksheet!M99,Worksheet!L99),0),\"\")","v":""},"",null,null,null,{"$f":"IF(ISBLANK(Worksheet!M99)=FALSE,Worksheet!M99,\"\")","v":0},{"$f":"IF(Worksheet!A99=\"-\",\"\",IF(Worksheet!A99=\"\",S75,Worksheet!A99))","v":""},{"$f":"IF(S76=\"\",\"\",IF(AND(Worksheet!G99=\"\",Worksheet!H99=\"\")=TRUE,T75,IF(Worksheet!G99=\"\",\"\",Worksheet!G99)))","v":""},{"$f":"IF(S76=\"\",\"\",IF(AND(Worksheet!G99=\"\",Worksheet!H99=\"\")=TRUE,U75,IF(Worksheet!H99=\"\",\"\",Worksheet!H99)))","v":""},{"$f":"IF(Worksheet!N99=\"\",\"\",Worksheet!N99)","v":""},{"$f":"IF(Worksheet!O99=\"\",\"\",Worksheet!O99)","v":""},{"$f":"IF(Worksheet!F99=0,\"\",Worksheet!F99)","v":""},{"$f":"IF(Worksheet!P99=0,\"\",Worksheet!P99)","v":""},{"$f":"IF(Worksheet!$A$11=TRUE,\"Y\",\"N\")","v":"N"},{"$f":"IF(Worksheet!$A$12=TRUE,\"Y\",\"N\")","v":"N"},{"$f":"IF(Worksheet!$B$11=TRUE,\"Y\",\"N\")","v":"N"},{"$f":"IF(Worksheet!$B$12=TRUE,\"Y\",\"N\")","v":"N"},{"$f":"IF(Worksheet!$C$11=TRUE,\"Y\",\"N\")","v":"N"},{"$f":"IF(Worksheet!$C$12=TRUE,\"Y\",\"N\")","v":"N"},""]
[{"$f":"IF(ISERROR(VLOOKUP(Worksheet!N100,MeasureLookup,2,FALSE))=FALSE,VLOOKUP(Worksheet!N100,MeasureLookup,2,FALSE),\"\")","v":""},{"$f":"Worksheet!Q100","v":0},{"$f":"Worksheet!R100","v":0},{"$f":"IF(ISERROR(Worksheet!P100)=FALSE,Worksheet!P100,\"\")","v":0},"Watts",null,null,{"$f":"IF(Worksheet!AP100<>\"\",IF(Worksheet!AP100>0,Worksheet!AP100/IF(Worksheet!M100>0,Worksheet!M100,Worksheet!L100),\"\"),\"\")","v":""},{"$f":"IF(ISBLANK(Worksheet!L100)=FALSE,Worksheet!L100,\"\")","v":0},{"$f":"IF(Worksheet!L100<>0, IFERROR(VLOOKUP(Worksheet!$C$16,SavingsSupportTable,3,FALSE)*Worksheet!AQ100*IFERROR(1+VLOOKUP(Worksheet!$C$16,SavingsSupportTable,MATCH(Worksheet!$G$17,HVACe_Options,0)+4,FALSE),1)/IF(Worksheet!M100>0,Worksheet!M100,Worksheet!L100),\"\"),\"\")","v":""},{"$f":"IF(Worksheet!L100<>0, IFERROR(VLOOKUP(Worksheet!$C$16,SavingsSupportTable,2,FALSE)*Worksheet!AQ100*IF(IFERROR(MATCH(Worksheet!$G$17,HVACe_Options,0),0)>0,1+VLOOKUP(Worksheet!$C$16,SavingsSupportTable,4,FALSE),1)/IF(Worksheet!M100>0,Worksheet!M100,Worksheet!L100),\"\"),\"\")","v":""},"",{"$f":"IF(Worksheet!L100<>0,IFERROR(VLOOKUP(Worksheet!$C$16,SavingsSupportTable,3,FALSE)*Worksheet!AQ100*IF(IFERROR(SEARCH(\"Gas\",Worksheet!$G$17),0)>0,VLOOKUP(\"Gas\",HVACg_Lookup,MATCH(Worksheet!$G$16,BuildingSize,0)+1,FALSE),IF(IFERROR(SEARCH(\"Oil\",Worksheet!$G$17),0)>0,VLOOKUP(\"Oil\",HVACg_Lookup,MATCH(Worksheet!$G$16,BuildingSize,0)+1,FALSE),IF(IFERROR(SEARCH(\"Propane\",Worksheet!$G$17),0)>0,VLOOKUP(\"Propane\",HVACg_Lookup,MATCH(Worksheet!$G$16,BuildingSize,0)+1,FALSE),0)))/IF(Worksheet!M100>0,Worksheet!M100,Worksheet!L100),0),\"\")","v":""},"",null,null,null,{"$f":"IF(ISBLANK(Worksheet!M100)=FALSE,Worksheet!M100,\"\")","v":0},{"$f":"IF(Worksheet!A100=\"-\",\"\",IF(Worksheet!A100=\"\",S76,Worksheet!A100))","v":""},{"$f":"IF(S77=\"\",\"\",IF(AND(Worksheet!G100=\"\",Worksheet!H100=\"\")=TRUE,T76,IF(Worksheet!G100=\"\",\"\",Worksheet!G100)))","v":""},{"$f":"IF(S77=\"\",\"\",IF(AND(Worksheet!G100=\"\",Worksheet!H100=\"\")=TRUE,U76,IF(Worksheet!H100=\"\",\"\",Worksheet!H100)))","v":""},{"$f":"IF(Worksheet!N100=\"\",\"\",Worksheet!N100)","v":""},{"$f":"IF(Worksheet!O100=\"\",\"\",Worksheet!O100)","v":""},{"$f":"IF(Worksheet!F100=0,\"\",Worksheet!F100)","v":""},{"$f":"IF(Worksheet!P100=0,\"\",Worksheet!P100)","v":""},{"$f":"IF(Worksheet!$A$11=TRUE,\"Y\",\"N\")","v":"N"},{"$f":"IF(Worksheet!$A$12=TRUE,\"Y\",\"N\")","v":"N"},{"$f":"IF(Worksheet!$B$11=TRUE,\"Y\",\"N\")","v":"N"},{"$f":"IF(Worksheet!$B$12=TRUE,\"Y\",\"N\")","v":"N"},{"$f":"IF(Worksheet!$C$11=TRUE,\"Y\",\"N\")","v":"N"},{"$f":"IF(Worksheet!$C$12=TRUE,\"Y\",\"N\")","v":"N"},""]
[{"$f":"IF(ISERROR(VLOOKUP(Worksheet!N101,MeasureLookup,2,FALSE))=FALSE,VLOOKUP(Worksheet!N101,MeasureLookup,2,FALSE),\"\")","v":""},{"$f":"Worksheet!Q101","v":0},{"$f":"Worksheet!R101","v":0},{"$f":"IF(ISERROR(Worksheet!P101)=FALSE,Worksheet!P101,\"\")","v":0},"Watts",null,null,{"$f":"IF(Worksheet!AP101<>\"\",IF(Worksheet!AP101>0,Worksheet!AP101/IF(Worksheet!M101>0,Worksheet!M101,Worksheet!L101),\"\"),\"\")","v":""},{"$f":"IF(ISBLANK(Worksheet!L101)=FALSE,Worksheet!L101,\"\")","v":0},{"$f":"IF(Worksheet!L101<>0, IFERROR(VLOOKUP(Worksheet!$C$16,SavingsSupportTable,3,FALSE)*Worksheet!AQ101*IFERROR(1+VLOOKUP(Worksheet!$C$16,SavingsSupportTable,MATCH(Worksheet!$G$17,HVACe_Options,0)+4,FALSE),1)/IF(Worksheet!M101>0,Worksheet!M101,Worksheet!L101),\"\"),\"\")","v":""},{"$f":"IF(Worksheet!L101<>0, IFERROR(VLOOKUP(Worksheet!$C$16,SavingsSupportTable,2,FALSE)*Worksheet!AQ101*IF(IFERROR(MATCH(Worksheet!$G$17,HVACe_Options,0),0)>0,1+VLOOKUP(Worksheet!$C$16,SavingsSupportTable,4,FALSE),1)/IF(Worksheet!M101>0,Worksheet!M101,Worksheet!L101),\"\"),\"\")","v":""},"",{"$f":"IF(Worksheet!L101<>0,IFERROR(VLOOKUP(Worksheet!$C$16,SavingsSupportTable,3,FALSE)*Worksheet!AQ101*IF(IFERROR(SEARCH(\"Gas\",Worksheet!$G$17),0)>0,VLOOKUP(\"Gas\",HVACg_Lookup,MATCH(Worksheet!$G$16,BuildingSize,0)+1,FALSE),IF(IFERROR(SEARCH(\"Oil\",Worksheet!$G$17),0)>0,VLOOKUP(\"Oil\",HVACg_Lookup,MATCH(Worksheet!$G$16,BuildingSize,0)+1,FALSE),IF(IFERROR(SEARCH(\"Propane\",Worksheet!$G$17),0)>0,VLOOKUP(\"Propane\",HVACg_Lookup,MATCH(Worksheet!$G$16,BuildingSize,0)+1,FALSE),0)))/IF(Worksheet!M101>0,Worksheet!M101,Worksheet!L101),0),\"\")","v":""},"",null,null,null,{"$f":"IF(ISBLANK(Worksheet!M101)=FALSE,Worksheet!M101,\"\")","v":0},{"$f":"IF(Worksheet!A101=\"-\",\"\",IF(Worksheet!A101=\"\",S77,Worksheet!A101))","v":""},{"$f":"IF(S78=\"\",\"\",IF(AND(Worksheet!G101=\"\",Worksheet!H101=\"\")=TRUE,T77,IF(Worksheet!G101=\"\",\"\",Worksheet!G101)))","v":""},{"$f":"IF(S78=\"\",\"\",IF(AND(Worksheet!G101=\"\",Worksheet!H101=\"\")=TRUE,U77,IF(Worksheet!H101=\"\",\"\",Worksheet!H101)))","v":""},{"$f":"IF(Worksheet!N101=\"\",\"\",Worksheet!N101)","v":""},{"$f":"IF(Worksheet!O101=\"\",\"\",Worksheet!O101)","v":""},{"$f":"IF(Worksheet!F101=0,\"\",Worksheet!F101)","v":""},{"$f":"IF(Worksheet!P101=0,\"\",Worksheet!P101)","v":""},{"$f":"IF(Worksheet!$A$11=TRUE,\"Y\",\"N\")","v":"N"},{"$f":"IF(Worksheet!$A$12=TRUE,\"Y\",\"N\")","v":"N"},{"$f":"IF(Worksheet!$B$11=TRUE,\"Y\",\"N\")","v":"N"},{"$f":"IF(Worksheet!$B$12=TRUE,\"Y\",\"N\")","v":"N"},{"$f":"IF(Worksheet!$C$11=TRUE,\"Y\",\"N\")","v":"N"},{"$f":"IF(Worksheet!$C$12=TRUE,\"Y\",\"N\")","v":"N"},""]
[{"$f":"IF(ISERROR(VLOOKUP(Worksheet!N102,MeasureLookup,2,FALSE))=FALSE,VLOOKUP(Worksheet!N102,MeasureLookup,2,FALSE),\"\")","v":""},{"$f":"Worksheet!Q102","v":0},{"$f":"Worksheet!R102","v":0},{"$f":"IF(ISERROR(Worksheet!P102)=FALSE,Worksheet!P102,\"\")","v":0},"Watts",null,null,{"$f":"IF(Worksheet!AP102<>\"\",IF(Worksheet!AP102>0,Worksheet!AP102/IF(Worksheet!M102>0,Worksheet!M102,Worksheet!L102),\"\"),\"\")","v":""},{"$f":"IF(ISBLANK(Worksheet!L102)=FALSE,Worksheet!L102,\"\")","v":0},{"$f":"IF(Worksheet!L102<>0, IFERROR(VLOOKUP(Worksheet!$C$16,SavingsSupportTable,3,FALSE)*Worksheet!AQ102*IFERROR(1+VLOOKUP(Worksheet!$C$16,SavingsSupportTable,MATCH(Worksheet!$G$17,HVACe_Options,0)+4,FALSE),1)/IF(Worksheet!M102>0,Worksheet!M102,Worksheet!L102),\"\"),\"\")","v":""},{"$f":"IF(Worksheet!L102<>0, IFERROR(VLOOKUP(Worksheet!$C$16,SavingsSupportTable,2,FALSE)*Worksheet!AQ102*IF(IFERROR(MATCH(Worksheet!$G$17,HVACe_Options,0),0)>0,1+VLOOKUP(Worksheet!$C$16,SavingsSupportTable,4,FALSE),1)/IF(Worksheet!M102>0,Worksheet!M102,Worksheet!L102),\"\"),\"\")","v":""},"",{"$f":"IF(Worksheet!L102<>0,IFERROR(VLOOKUP(Worksheet!$C$16,SavingsSupportTable,3,FALSE)*Worksheet!AQ102*IF(IFERROR(SEARCH(\"Gas\",Worksheet!$G$17),0)>0,VLOOKUP(\"Gas\",HVACg_Lookup,MATCH(Worksheet!$G$16,BuildingSize,0)+1,FALSE),IF(IFERROR(SEARCH(\"Oil\",Worksheet!$G$17),0)>0,VLOOKUP(\"Oil\",HVACg_Lookup,MATCH(Worksheet!$G$16,BuildingSize,0)+1,FALSE),IF(IFERROR(SEARCH(\"Propane\",Worksheet!$G$17),0)>0,VLOOKUP(\"Propane\",HVACg_Lookup,MATCH(Worksheet!$G$16,BuildingSize,0)+1,FALSE),0)))/IF(Worksheet!M102>0,Worksheet!M102,Worksheet!L102),0),\"\")","v":""},"",null,null,null,{"$f":"IF(ISBLANK(Worksheet!M102)=FALSE,Worksheet!M102,\"\")","v":0},{"$f":"IF(Worksheet!A102=\"-\",\"\",IF(Worksheet!A102=\"\",S78,Worksheet!A102))","v":""},{"$f":"IF(S79=\"\",\"\",IF(AND(Worksheet!G102=\"\",Worksheet!H102=\"\")=TRUE,T78,IF(Worksheet!G102=\"\",\"\",Worksheet!G102)))","v":""},{"$f":"IF(S79=\"\",\"\",IF(AND(Worksheet!G102=\"\",Worksheet!H102=\"\")=TRUE,U78,IF(Worksheet!H102=\"\",\"\",Worksheet!H102)))","v":""},{"$f":"IF(Worksheet!N102=\"\",\"\",Worksheet!N102)","v":""},{"$f":"IF(Worksheet!O102=\"\",\"\",Worksheet!O102)","v":""},{"$f":"IF(Worksheet!F102=0,\"\",Worksheet!F102)","v":""},{"$f":"IF(Worksheet!P102=0,\"\",Worksheet!P102)","v":""},{"$f":"IF(Worksheet!$A$11=TRUE,\"Y\",\"N\")","v":"N"},{"$f":"IF(Worksheet!$A$12=TRUE,\"Y\",\"N\")","v":"N"},{"$f":"IF(Worksheet!$B$11=TRUE,\"Y\",\"N\")","v":"N"},{"$f":"IF(Worksheet!$B$12=TRUE,\"Y\",\"N\")","v":"N"},{"$f":"IF(Worksheet!$C$11=TRUE,\"Y\",\"N\")","v":"N"},{"$f":"IF(Worksheet!$C$12=TRUE,\"Y\",\"N\")","v":"N"},""]
[{"$f":"IF(ISERROR(VLOOKUP(Worksheet!N103,MeasureLookup,2,FALSE))=FALSE,VLOOKUP(Worksheet!N103,MeasureLookup,2,FALSE),\"\")","v":""},{"$f":"Worksheet!Q103","v":0},{"$f":"Worksheet!R103","v":0},{"$f":"IF(ISERROR(Worksheet!P103)=FALSE,Worksheet!P103,\"\")","v":0},"Watts",null,null,{"$f":"IF(Worksheet!AP103<>\"\",IF(Worksheet!AP103>0,Worksheet!AP103/IF(Worksheet!M103>0,Worksheet!M103,Worksheet!L103),\"\"),\"\")","v":""},{"$f":"IF(ISBLANK(Worksheet!L103)=FALSE,Worksheet!L103,\"\")","v":0},{"$f":"IF(Worksheet!L103<>0, IFERROR(VLOOKUP(Worksheet!$C$16,SavingsSupportTable,3,FALSE)*Worksheet!AQ103*IFERROR(1+VLOOKUP(Worksheet!$C$16,SavingsSupportTable,MATCH(Worksheet!$G$17,HVACe_Options,0)+4,FALSE),1)/IF(Worksheet!M103>0,Worksheet!M103,Worksheet!L103),\"\"),\"\")","v":""},{"$f":"IF(Worksheet!L103<>0, IFERROR(VLOOKUP(Worksheet!$C$16,SavingsSupportTable,2,FALSE)*Worksheet!AQ103*IF(IFERROR(MATCH(Worksheet!$G$17,HVACe_Options,0),0)>0,1+VLOOKUP(Worksheet!$C$16,SavingsSupportTable,4,FALSE),1)/IF(Worksheet!M103>0,Worksheet!M103,Worksheet!L103),\"\"),\"\")","v":""},"",{"$f":"IF(Worksheet!L103<>0,IFERROR(VLOOKUP(Worksheet!$C$16,SavingsSupportTable,3,FALSE)*Worksheet!AQ103*IF(IFERROR(SEARCH(\"Gas\",Worksheet!$G$17),0)>0,VLOOKUP(\"Gas\",HVACg_Lookup,MATCH(Worksheet!$G$16,BuildingSize,0)+1,FALSE),IF(IFERROR(SEARCH(\"Oil\",Worksheet!$G$17),0)>0,VLOOKUP(\"Oil\",HVACg_Lookup,MATCH(Worksheet!$G$16,BuildingSize,0)+1,FALSE),IF(IFERROR(SEARCH(\"Propane\",Worksheet!$G$17),0)>0,VLOOKUP(\"Propane\",HVACg_Lookup,MATCH(Worksheet!$G$16,BuildingSize,0)+1,FALSE),0)))/IF(Worksheet!M103>0,Worksheet!M103,Worksheet!L103),0),\"\")","v":""},"",null,null,null,{"$f":"IF(ISBLANK(Worksheet!M103)=FALSE,Worksheet!M103,\"\")","v":0},{"$f":"IF(Worksheet!A103=\"-\",\"\",IF(Worksheet!A103=\"\",S79,Worksheet!A103))","v":""},{"$f":"IF(S80=\"\",\"\",IF(AND(Worksheet!G103=\"\",Worksheet!H103=\"\")=TRUE,T79,IF(Worksheet!G103=\"\",\"\",Worksheet!G103)))","v":""},{"$f":"IF(S80=\"\",\"\",IF(AND(Worksheet!G103=\"\",Worksheet!H103=\"\")=TRUE,U79,IF(Worksheet!H103=\"\",\"\",Worksheet!H103)))","v":""},{"$f":"IF(Worksheet!N103=\"\",\"\",Worksheet!N103)","v":""},{"$f":"IF(Worksheet!O103=\"\",\"\",Worksheet!O103)","v":""},{"$f":"IF(Worksheet!F103=0,\"\",Worksheet!F103)","v":""},{"$f":"IF(Worksheet!P103=0,\"\",Worksheet!P103)","v":""},{"$f":"IF(Worksheet!$A$11=TRUE,\"Y\",\"N\")","v":"N"},{"$f":"IF(Worksheet!$A$12=TRUE,\"Y\",\"N\")","v":"N"},{"$f":"IF(Worksheet!$B$11=TRUE,\"Y\",\"N\")","v":"N"},{"$f":"IF(Worksheet!$B$12=TRUE,\"Y\",\"N\")","v":"N"},{"$f":"IF(Worksheet!$C$11=TRUE,\"Y\",\"N\")","v":"N"},{"$f":"IF(Worksheet!$C$12=TRUE,\"Y\",\"N\")","v":"N"},""]
[{"$f":"IF(ISERROR(VLOOKUP(Worksheet!N104,MeasureLookup,2,FALSE))=FALSE,VLOOKUP(Worksheet!N104,MeasureLookup,2,FALSE),\"\")","v":""},{"$f":"Worksheet!Q104","v":0},{"$f":"Worksheet!R104","v":0},{"$f":"IF(ISERROR(Worksheet!P104)=FALSE,Worksheet!P104,\"\")","v":0},"Watts",null,null,{"$f":"IF(Worksheet!AP104<>\"\",IF(Worksheet!AP104>0,Worksheet!AP104/IF(Worksheet!M104>0,Worksheet!M104,Worksheet!L104),\"\"),\"\")","v":""},{"$f":"IF(ISBLANK(Worksheet!L104)=FALSE,Worksheet!L104,\"\")","v":0},{"$f":"IF(Worksheet!L104<>0, IFERROR(VLOOKUP(Worksheet!$C$16,SavingsSupportTable,3,FALSE)*Worksheet!AQ104*IFERROR(1+VLOOKUP(Worksheet!$C$16,SavingsSupportTable,MATCH(Worksheet!$G$17,HVACe_Options,0)+4,FALSE),1)/IF(Worksheet!M104>0,Worksheet!M104,Worksheet!L104),\"\"),\"\")","v":""},{"$f":"IF(Worksheet!L104<>0, IFERROR(VLOOKUP(Worksheet!$C$16,SavingsSupportTable,2,FALSE)*Worksheet!AQ104*IF(IFERROR(MATCH(Worksheet!$G$17,HVACe_Options,0),0)>0,1+VLOOKUP(Worksheet!$C$16,SavingsSupportTable,4,FALSE),1)/IF(Worksheet!M104>0,Worksheet!M104,Worksheet!L104),\"\"),\"\")","v":""},"",{"$f":"IF(Worksheet!L104<>0,IFERROR(VLOOKUP(Worksheet!$C$16,SavingsSupportTable,3,FALSE)*Worksheet!AQ104*IF(IFERROR(SEARCH(\"Gas\",Worksheet!$G$17),0)>0,VLOOKUP(\"Gas\",HVACg_Lookup,MATCH(Worksheet!$G$16,BuildingSize,0)+1,FALSE),IF(IFERROR(SEARCH(\"Oil\",Worksheet!$G$17),0)>0,VLOOKUP(\"Oil\",HVACg_Lookup,MATCH(Worksheet!$G$16,BuildingSize,0)+1,FALSE),IF(IFERROR(SEARCH(\"Propane\",Worksheet!$G$17),0)>0,VLOOKUP(\"Propane\",HVACg_Lookup,MATCH(Worksheet!$G$16,BuildingSize,0)+1,FALSE),0)))/IF(Worksheet!M104>0,Worksheet!M104,Worksheet!L104),0),\"\")","v":""},"",null,null,null,{"$f":"IF(ISBLANK(Worksheet!M104)=FALSE,Worksheet!M104,\"\")","v":0},{"$f":"IF(Worksheet!A104=\"-\",\"\",IF(Worksheet!A104=\"\",S80,Worksheet!A104))","v":""},{"$f":"IF(S81=\"\",\"\",IF(AND(Worksheet!G104=\"\",Worksheet!H104=\"\")=TRUE,T80,IF(Worksheet!G104=\"\",\"\",Worksheet!G104)))","v":""},{"$f":"IF(S81=\"\",\"\",IF(AND(Worksheet!G104=\"\",Worksheet!H104=\"\")=TRUE,U80,IF(Worksheet!H104=\"\",\"\",Worksheet!H104)))","v":""},{"$f":"IF(Worksheet!N104=\"\",\"\",Worksheet!N104)","v":""},{"$f":"IF(Worksheet!O104=\"\",\"\",Worksheet!O104)","v":""},{"$f":"IF(Worksheet!F104=0,\"\",Worksheet!F104)","v":""},{"$f":"IF(Worksheet!P104=0,\"\",Worksheet!P104)","v":""},{"$f":"IF(Worksheet!$A$11=TRUE,\"Y\",\"N\")","v":"N"},{"$f":"IF(Worksheet!$A$12=TRUE,\"Y\",\"N\")","v":"N"},{"$f":"IF(Worksheet!$B$11=TRUE,\"Y\",\"N\")","v":"N"},{"$f":"IF(Worksheet!$B$12=TRUE,\"Y\",\"N\")","v":"N"},{"$f":"IF(Worksheet!$C$11=TRUE,\"Y\",\"N\")","v":"N"},{"$f":"IF(Worksheet!$C$12=TRUE,\"Y\",\"N\")","v":"N"},""]
[{"$f":"IF(ISERROR(VLOOKUP(Worksheet!N105,MeasureLookup,2,FALSE))=FALSE,VLOOKUP(Worksheet!N105,MeasureLookup,2,FALSE),\"\")","v":""},{"$f":"Worksheet!Q105","v":0},{"$f":"Worksheet!R105","v":0},{"$f":"IF(ISERROR(Worksheet!P105)=FALSE,Worksheet!P105,\"\")","v":0},"Watts",null,null,{"$f":"IF(Worksheet!AP105<>\"\",IF(Worksheet!AP105>0,Worksheet!AP105/IF(Worksheet!M105>0,Worksheet!M105,Worksheet!L105),\"\"),\"\")","v":""},{"$f":"IF(ISBLANK(Worksheet!L105)=FALSE,Worksheet!L105,\"\")","v":0},{"$f":"IF(Worksheet!L105<>0, IFERROR(VLOOKUP(Worksheet!$C$16,SavingsSupportTable,3,FALSE)*Worksheet!AQ105*IFERROR(1+VLOOKUP(Worksheet!$C$16,SavingsSupportTable,MATCH(Worksheet!$G$17,HVACe_Options,0)+4,FALSE),1)/IF(Worksheet!M105>0,Worksheet!M105,Worksheet!L105),\"\"),\"\")","v":""},{"$f":"IF(Worksheet!L105<>0, IFERROR(VLOOKUP(Worksheet!$C$16,SavingsSupportTable,2,FALSE)*Worksheet!AQ105*IF(IFERROR(MATCH(Worksheet!$G$17,HVACe_Options,0),0)>0,1+VLOOKUP(Worksheet!$C$16,SavingsSupportTable,4,FALSE),1)/IF(Worksheet!M105>0,Worksheet!M105,Worksheet!L105),\"\"),\"\")","v":""},"",{"$f":"IF(Worksheet!L105<>0,IFERROR(VLOOKUP(Worksheet!$C$16,SavingsSupportTable,3,FALSE)*Worksheet!AQ105*IF(IFERROR(SEARCH(\"Gas\",Worksheet!$G$17),0)>0,VLOOKUP(\"Gas\",HVACg_Lookup,MATCH(Worksheet!$G$16,BuildingSize,0)+1,FALSE),IF(IFERROR(SEARCH(\"Oil\",Worksheet!$G$17),0)>0,VLOOKUP(\"Oil\",HVACg_Lookup,MATCH(Worksheet!$G$16,BuildingSize,0)+1,FALSE),IF(IFERROR(SEARCH(\"Propane\",Worksheet!$G$17),0)>0,VLOOKUP(\"Propane\",HVACg_Lookup,MATCH(Worksheet!$G$16,BuildingSize,0)+1,FALSE),0)))/IF(Worksheet!M105>0,Worksheet!M105,Worksheet!L105),0),\"\")","v":""},"",null,null,null,{"$f":"IF(ISBLANK(Worksheet!M105)=FALSE,Worksheet!M105,\"\")","v":0},{"$f":"IF(Worksheet!A105=\"-\",\"\",IF(Worksheet!A105=\"\",S81,Worksheet!A105))","v":""},{"$f":"IF(S82=\"\",\"\",IF(AND(Worksheet!G105=\"\",Worksheet!H105=\"\")=TRUE,T81,IF(Worksheet!G105=\"\",\"\",Worksheet!G105)))","v":""},{"$f":"IF(S82=\"\",\"\",IF(AND(Worksheet!G105=\"\",Worksheet!H105=\"\")=TRUE,U81,IF(Worksheet!H105=\"\",\"\",Worksheet!H105)))","v":""},{"$f":"IF(Worksheet!N105=\"\",\"\",Worksheet!N105)","v":""},{"$f":"IF(Worksheet!O105=\"\",\"\",Worksheet!O105)","v":""},{"$f":"IF(Worksheet!F105=0,\"\",Worksheet!F105)","v":""},{"$f":"IF(Worksheet!P105=0,\"\",Worksheet!P105)","v":""},{"$f":"IF(Worksheet!$A$11=TRUE,\"Y\",\"N\")","v":"N"},{"$f":"IF(Worksheet!$A$12=TRUE,\"Y\",\"N\")","v":"N"},{"$f":"IF(Worksheet!$B$11=TRUE,\"Y\",\"N\")","v":"N"},{"$f":"IF(Worksheet!$B$12=TRUE,\"Y\",\"N\")","v":"N"},{"$f":"IF(Worksheet!$C$11=TRUE,\"Y\",\"N\")","v":"N"},{"$f":"IF(Worksheet!$C$12=TRUE,\"Y\",\"N\")","v":"N"},""]
[{"$f":"IF(ISERROR(VLOOKUP(Worksheet!N106,MeasureLookup,2,FALSE))=FALSE,VLOOKUP(Worksheet!N106,MeasureLookup,2,FALSE),\"\")","v":""},{"$f":"Worksheet!Q106","v":0},{"$f":"Worksheet!R106","v":0},{"$f":"IF(ISERROR(Worksheet!P106)=FALSE,Worksheet!P106,\"\")","v":0},"Watts",null,null,{"$f":"IF(Worksheet!AP106<>\"\",IF(Worksheet!AP106>0,Worksheet!AP106/IF(Worksheet!M106>0,Worksheet!M106,Worksheet!L106),\"\"),\"\")","v":""},{"$f":"IF(ISBLANK(Worksheet!L106)=FALSE,Worksheet!L106,\"\")","v":0},{"$f":"IF(Worksheet!L106<>0, IFERROR(VLOOKUP(Worksheet!$C$16,SavingsSupportTable,3,FALSE)*Worksheet!AQ106*IFERROR(1+VLOOKUP(Worksheet!$C$16,SavingsSupportTable,MATCH(Worksheet!$G$17,HVACe_Options,0)+4,FALSE),1)/IF(Worksheet!M106>0,Worksheet!M106,Worksheet!L106),\"\"),\"\")","v":""},{"$f":"IF(Worksheet!L106<>0, IFERROR(VLOOKUP(Worksheet!$C$16,SavingsSupportTable,2,FALSE)*Worksheet!AQ106*IF(IFERROR(MATCH(Worksheet!$G$17,HVACe_Options,0),0)>0,1+VLOOKUP(Worksheet!$C$16,SavingsSupportTable,4,FALSE),1)/IF(Worksheet!M106>0,Worksheet!M106,Worksheet!L106),\"\"),\"\")","v":""},"",{"$f":"IF(Worksheet!L106<>0,IFERROR(VLOOKUP(Worksheet!$C$16,SavingsSupportTable,3,FALSE)*Worksheet!AQ106*IF(IFERROR(SEARCH(\"Gas\",Worksheet!$G$17),0)>0,VLOOKUP(\"Gas\",HVACg_Lookup,MATCH(Worksheet!$G$16,BuildingSize,0)+1,FALSE),IF(IFERROR(SEARCH(\"Oil\",Worksheet!$G$17),0)>0,VLOOKUP(\"Oil\",HVACg_Lookup,MATCH(Worksheet!$G$16,BuildingSize,0)+1,FALSE),IF(IFERROR(SEARCH(\"Propane\",Worksheet!$G$17),0)>0,VLOOKUP(\"Propane\",HVACg_Lookup,MATCH(Worksheet!$G$16,BuildingSize,0)+1,FALSE),0)))/IF(Worksheet!M106>0,Worksheet!M106,Worksheet!L106),0),\"\")","v":""},"",null,null,null,{"$f":"IF(ISBLANK(Worksheet!M106)=FALSE,Worksheet!M106,\"\")","v":0},{"$f":"IF(Worksheet!A106=\"-\",\"\",IF(Worksheet!A106=\"\",S82,Worksheet!A106))","v":""},{"$f":"IF(S83=\"\",\"\",IF(AND(Worksheet!G106=\"\",Worksheet!H106=\"\")=TRUE,T82,IF(Worksheet!G106=\"\",\"\",Worksheet!G106)))","v":""},{"$f":"IF(S83=\"\",\"\",IF(AND(Worksheet!G106=\"\",Worksheet!H106=\"\")=TRUE,U82,IF(Worksheet!H106=\"\",\"\",Worksheet!H106)))","v":""},{"$f":"IF(Worksheet!N106=\"\",\"\",Worksheet!N106)","v":""},{"$f":"IF(Worksheet!O106=\"\",\"\",Worksheet!O106)","v":""},{"$f":"IF(Worksheet!F106=0,\"\",Worksheet!F106)","v":""},{"$f":"IF(Worksheet!P106=0,\"\",Worksheet!P106)","v":""},{"$f":"IF(Worksheet!$A$11=TRUE,\"Y\",\"N\")","v":"N"},{"$f":"IF(Worksheet!$A$12=TRUE,\"Y\",\"N\")","v":"N"},{"$f":"IF(Worksheet!$B$11=TRUE,\"Y\",\"N\")","v":"N"},{"$f":"IF(Worksheet!$B$12=TRUE,\"Y\",\"N\")","v":"N"},{"$f":"IF(Worksheet!$C$11=TRUE,\"Y\",\"N\")","v":"N"},{"$f":"IF(Worksheet!$C$12=TRUE,\"Y\",\"N\")","v":"N"},""]
[{"$f":"IF(ISERROR(VLOOKUP(Worksheet!N107,MeasureLookup,2,FALSE))=FALSE,VLOOKUP(Worksheet!N107,MeasureLookup,2,FALSE),\"\")","v":""},{"$f":"Worksheet!Q107","v":0},{"$f":"Worksheet!R107","v":0},{"$f":"IF(ISERROR(Worksheet!P107)=FALSE,Worksheet!P107,\"\")","v":0},"Watts",null,null,{"$f":"IF(Worksheet!AP107<>\"\",IF(Worksheet!AP107>0,Worksheet!AP107/IF(Worksheet!M107>0,Worksheet!M107,Worksheet!L107),\"\"),\"\")","v":""},{"$f":"IF(ISBLANK(Worksheet!L107)=FALSE,Worksheet!L107,\"\")","v":0},{"$f":"IF(Worksheet!L107<>0, IFERROR(VLOOKUP(Worksheet!$C$16,SavingsSupportTable,3,FALSE)*Worksheet!AQ107*IFERROR(1+VLOOKUP(Worksheet!$C$16,SavingsSupportTable,MATCH(Worksheet!$G$17,HVACe_Options,0)+4,FALSE),1)/IF(Worksheet!M107>0,Worksheet!M107,Worksheet!L107),\"\"),\"\")","v":""},{"$f":"IF(Worksheet!L107<>0, IFERROR(VLOOKUP(Worksheet!$C$16,SavingsSupportTable,2,FALSE)*Worksheet!AQ107*IF(IFERROR(MATCH(Worksheet!$G$17,HVACe_Options,0),0)>0,1+VLOOKUP(Worksheet!$C$16,SavingsSupportTable,4,FALSE),1)/IF(Worksheet!M107>0,Worksheet!M107,Worksheet!L107),\"\"),\"\")","v":""},"",{"$f":"IF(Worksheet!L107<>0,IFERROR(VLOOKUP(Worksheet!$C$16,SavingsSupportTable,3,FALSE)*Worksheet!AQ107*IF(IFERROR(SEARCH(\"Gas\",Worksheet!$G$17),0)>0,VLOOKUP(\"Gas\",HVACg_Lookup,MATCH(Worksheet!$G$16,BuildingSize,0)+1,FALSE),IF(IFERROR(SEARCH(\"Oil\",Worksheet!$G$17),0)>0,VLOOKUP(\"Oil\",HVACg_Lookup,MATCH(Worksheet!$G$16,BuildingSize,0)+1,FALSE),IF(IFERROR(SEARCH(\"Propane\",Worksheet!$G$17),0)>0,VLOOKUP(\"Propane\",HVACg_Lookup,MATCH(Worksheet!$G$16,BuildingSize,0)+1,FALSE),0)))/IF(Worksheet!M107>0,Worksheet!M107,Worksheet!L107),0),\"\")","v":""},"",null,null,null,{"$f":"IF(ISBLANK(Worksheet!M107)=FALSE,Worksheet!M107,\"\")","v":0},{"$f":"IF(Worksheet!A107=\"-\",\"\",IF(Worksheet!A107=\"\",S83,Worksheet!A107))","v":""},{"$f":"IF(S84=\"\",\"\",IF(AND(Worksheet!G107=\"\",Worksheet!H107=\"\")=TRUE,T83,IF(Worksheet!G107=\"\",\"\",Worksheet!G107)))","v":""},{"$f":"IF(S84=\"\",\"\",IF(AND(Worksheet!G107=\"\",Worksheet!H107=\"\")=TRUE,U83,IF(Worksheet!H107=\"\",\"\",Worksheet!H107)))","v":""},{"$f":"IF(Worksheet!N107=\"\",\"\",Worksheet!N107)","v":""},{"$f":"IF(Worksheet!O107=\"\",\"\",Worksheet!O107)","v":""},{"$f":"IF(Worksheet!F107=0,\"\",Worksheet!F107)","v":""},{"$f":"IF(Worksheet!P107=0,\"\",Worksheet!P107)","v":""},{"$f":"IF(Worksheet!$A$11=TRUE,\"Y\",\"N\")","v":"N"},{"$f":"IF(Worksheet!$A$12=TRUE,\"Y\",\"N\")","v":"N"},{"$f":"IF(Worksheet!$B$11=TRUE,\"Y\",\"N\")","v":"N"},{"$f":"IF(Worksheet!$B$12=TRUE,\"Y\",\"N\")","v":"N"},{"$f":"IF(Worksheet!$C$11=TRUE,\"Y\",\"N\")","v":"N"},{"$f":"IF(Worksheet!$C$12=TRUE,\"Y\",\"N\")","v":"N"},""]
[{"$f":"IF(ISERROR(VLOOKUP(Worksheet!N108,MeasureLookup,2,FALSE))=FALSE,VLOOKUP(Worksheet!N108,MeasureLookup,2,FALSE),\"\")","v":""},{"$f":"Worksheet!Q108","v":0},{"$f":"Worksheet!R108","v":0},{"$f":"IF(ISERROR(Worksheet!P108)=FALSE,Worksheet!P108,\"\")","v":0},"Watts",null,null,{"$f":"IF(Worksheet!AP108<>\"\",IF(Worksheet!AP108>0,Worksheet!AP108/IF(Worksheet!M108>0,Worksheet!M108,Worksheet!L108),\"\"),\"\")","v":""},{"$f":"IF(ISBLANK(Worksheet!L108)=FALSE,Worksheet!L108,\"\")","v":0},{"$f":"IF(Worksheet!L108<>0, IFERROR(VLOOKUP(Worksheet!$C$16,SavingsSupportTable,3,FALSE)*Worksheet!AQ108*IFERROR(1+VLOOKUP(Worksheet!$C$16,SavingsSupportTable,MATCH(Worksheet!$G$17,HVACe_Options,0)+4,FALSE),1)/IF(Worksheet!M108>0,Worksheet!M108,Worksheet!L108),\"\"),\"\")","v":""},{"$f":"IF(Worksheet!L108<>0, IFERROR(VLOOKUP(Worksheet!$C$16,SavingsSupportTable,2,FALSE)*Worksheet!AQ108*IF(IFERROR(MATCH(Worksheet!$G$17,HVACe_Options,0),0)>0,1+VLOOKUP(Worksheet!$C$16,SavingsSupportTable,4,FALSE),1)/IF(Worksheet!M108>0,Worksheet!M108,Worksheet!L108),\"\"),\"\")","v":""},"",{"$f":"IF(Worksheet!L108<>0,IFERROR(VLOOKUP(Worksheet!$C$16,SavingsSupportTable,3,FALSE)*Worksheet!AQ108*IF(IFERROR(SEARCH(\"Gas\",Worksheet!$G$17),0)>0,VLOOKUP(\"Gas\",HVACg_Lookup,MATCH(Worksheet!$G$16,BuildingSize,0)+1,FALSE),IF(IFERROR(SEARCH(\"Oil\",Worksheet!$G$17),0)>0,VLOOKUP(\"Oil\",HVACg_Lookup,MATCH(Worksheet!$G$16,BuildingSize,0)+1,FALSE),IF(IFERROR(SEARCH(\"Propane\",Worksheet!$G$17),0)>0,VLOOKUP(\"Propane\",HVACg_Lookup,MATCH(Worksheet!$G$16,BuildingSize,0)+1,FALSE),0)))/IF(Worksheet!M108>0,Worksheet!M108,Worksheet!L108),0),\"\")","v":""},"",null,null,null,{"$f":"IF(ISBLANK(Worksheet!M108)=FALSE,Worksheet!M108,\"\")","v":0},{"$f":"IF(Worksheet!A108=\"-\",\"\",IF(Worksheet!A108=\"\",S84,Worksheet!A108))","v":""},{"$f":"IF(S85=\"\",\"\",IF(AND(Worksheet!G108=\"\",Worksheet!H108=\"\")=TRUE,T84,IF(Worksheet!G108=\"\",\"\",Worksheet!G108)))","v":""},{"$f":"IF(S85=\"\",\"\",IF(AND(Worksheet!G108=\"\",Worksheet!H108=\"\")=TRUE,U84,IF(Worksheet!H108=\"\",\"\",Worksheet!H108)))","v":""},{"$f":"IF(Worksheet!N108=\"\",\"\",Worksheet!N108)","v":""},{"$f":"IF(Worksheet!O108=\"\",\"\",Worksheet!O108)","v":""},{"$f":"IF(Worksheet!F108=0,\"\",Worksheet!F108)","v":""},{"$f":"IF(Worksheet!P108=0,\"\",Worksheet!P108)","v":""},{"$f":"IF(Worksheet!$A$11=TRUE,\"Y\",\"N\")","v":"N"},{"$f":"IF(Worksheet!$A$12=TRUE,\"Y\",\"N\")","v":"N"},{"$f":"IF(Worksheet!$B$11=TRUE,\"Y\",\"N\")","v":"N"},{"$f":"IF(Worksheet!$B$12=TRUE,\"Y\",\"N\")","v":"N"},{"$f":"IF(Worksheet!$C$11=TRUE,\"Y\",\"N\")","v":"N"},{"$f":"IF(Worksheet!$C$12=TRUE,\"Y\",\"N\")","v":"N"},""]
[{"$f":"IF(ISERROR(VLOOKUP(Worksheet!N109,MeasureLookup,2,FALSE))=FALSE,VLOOKUP(Worksheet!N109,MeasureLookup,2,FALSE),\"\")","v":""},{"$f":"Worksheet!Q109","v":0},{"$f":"Worksheet!R109","v":0},{"$f":"IF(ISERROR(Worksheet!P109)=FALSE,Worksheet!P109,\"\")","v":0},"Watts",null,null,{"$f":"IF(Worksheet!AP109<>\"\",IF(Worksheet!AP109>0,Worksheet!AP109/IF(Worksheet!M109>0,Worksheet!M109,Worksheet!L109),\"\"),\"\")","v":""},{"$f":"IF(ISBLANK(Worksheet!L109)=FALSE,Worksheet!L109,\"\")","v":0},{"$f":"IF(Worksheet!L109<>0, IFERROR(VLOOKUP(Worksheet!$C$16,SavingsSupportTable,3,FALSE)*Worksheet!AQ109*IFERROR(1+VLOOKUP(Worksheet!$C$16,SavingsSupportTable,MATCH(Worksheet!$G$17,HVACe_Options,0)+4,FALSE),1)/IF(Worksheet!M109>0,Worksheet!M109,Worksheet!L109),\"\"),\"\")","v":""},{"$f":"IF(Worksheet!L109<>0, IFERROR(VLOOKUP(Worksheet!$C$16,SavingsSupportTable,2,FALSE)*Worksheet!AQ109*IF(IFERROR(MATCH(Worksheet!$G$17,HVACe_Options,0),0)>0,1+VLOOKUP(Worksheet!$C$16,SavingsSupportTable,4,FALSE),1)/IF(Worksheet!M109>0,Worksheet!M109,Worksheet!L109),\"\"),\"\")","v":""},"",{"$f":"IF(Worksheet!L109<>0,IFERROR(VLOOKUP(Worksheet!$C$16,SavingsSupportTable,3,FALSE)*Worksheet!AQ109*IF(IFERROR(SEARCH(\"Gas\",Worksheet!$G$17),0)>0,VLOOKUP(\"Gas\",HVACg_Lookup,MATCH(Worksheet!$G$16,BuildingSize,0)+1,FALSE),IF(IFERROR(SEARCH(\"Oil\",Worksheet!$G$17),0)>0,VLOOKUP(\"Oil\",HVACg_Lookup,MATCH(Worksheet!$G$16,BuildingSize,0)+1,FALSE),IF(IFERROR(SEARCH(\"Propane\",Worksheet!$G$17),0)>0,VLOOKUP(\"Propane\",HVACg_Lookup,MATCH(Worksheet!$G$16,BuildingSize,0)+1,FALSE),0)))/IF(Worksheet!M109>0,Worksheet!M109,Worksheet!L109),0),\"\")","v":""},"",null,null,null,{"$f":"IF(ISBLANK(Worksheet!M109)=FALSE,Worksheet!M109,\"\")","v":0},{"$f":"IF(Worksheet!A109=\"-\",\"\",IF(Worksheet!A109=\"\",S85,Worksheet!A109))","v":""},{"$f":"IF(S86=\"\",\"\",IF(AND(Worksheet!G109=\"\",Worksheet!H109=\"\")=TRUE,T85,IF(Worksheet!G109=\"\",\"\",Worksheet!G109)))","v":""},{"$f":"IF(S86=\"\",\"\",IF(AND(Worksheet!G109=\"\",Worksheet!H109=\"\")=TRUE,U85,IF(Worksheet!H109=\"\",\"\",Worksheet!H109)))","v":""},{"$f":"IF(Worksheet!N109=\"\",\"\",Worksheet!N109)","v":""},{"$f":"IF(Worksheet!O109=\"\",\"\",Worksheet!O109)","v":""},{"$f":"IF(Worksheet!F109=0,\"\",Worksheet!F109)","v":""},{"$f":"IF(Worksheet!P109=0,\"\",Worksheet!P109)","v":""},{"$f":"IF(Worksheet!$A$11=TRUE,\"Y\",\"N\")","v":"N"},{"$f":"IF(Worksheet!$A$12=TRUE,\"Y\",\"N\")","v":"N"},{"$f":"IF(Worksheet!$B$11=TRUE,\"Y\",\"N\")","v":"N"},{"$f":"IF(Worksheet!$B$12=TRUE,\"Y\",\"N\")","v":"N"},{"$f":"IF(Worksheet!$C$11=TRUE,\"Y\",\"N\")","v":"N"},{"$f":"IF(Worksheet!$C$12=TRUE,\"Y\",\"N\")","v":"N"},""]
[{"$f":"IF(ISERROR(VLOOKUP(Worksheet!N110,MeasureLookup,2,FALSE))=FALSE,VLOOKUP(Worksheet!N110,MeasureLookup,2,FALSE),\"\")","v":""},{"$f":"Worksheet!Q110","v":0},{"$f":"Worksheet!R110","v":0},{"$f":"IF(ISERROR(Worksheet!P110)=FALSE,Worksheet!P110,\"\")","v":0},"Watts",null,null,{"$f":"IF(Worksheet!AP110<>\"\",IF(Worksheet!AP110>0,Worksheet!AP110/IF(Worksheet!M110>0,Worksheet!M110,Worksheet!L110),\"\"),\"\")","v":""},{"$f":"IF(ISBLANK(Worksheet!L110)=FALSE,Worksheet!L110,\"\")","v":0},{"$f":"IF(Worksheet!L110<>0, IFERROR(VLOOKUP(Worksheet!$C$16,SavingsSupportTable,3,FALSE)*Worksheet!AQ110*IFERROR(1+VLOOKUP(Worksheet!$C$16,SavingsSupportTable,MATCH(Worksheet!$G$17,HVACe_Options,0)+4,FALSE),1)/IF(Worksheet!M110>0,Worksheet!M110,Worksheet!L110),\"\"),\"\")","v":""},{"$f":"IF(Worksheet!L110<>0, IFERROR(VLOOKUP(Worksheet!$C$16,SavingsSupportTable,2,FALSE)*Worksheet!AQ110*IF(IFERROR(MATCH(Worksheet!$G$17,HVACe_Options,0),0)>0,1+VLOOKUP(Worksheet!$C$16,SavingsSupportTable,4,FALSE),1)/IF(Worksheet!M110>0,Worksheet!M110,Worksheet!L110),\"\"),\"\")","v":""},"",{"$f":"IF(Worksheet!L110<>0,IFERROR(VLOOKUP(Worksheet!$C$16,SavingsSupportTable,3,FALSE)*Worksheet!AQ110*IF(IFERROR(SEARCH(\"Gas\",Worksheet!$G$17),0)>0,VLOOKUP(\"Gas\",HVACg_Lookup,MATCH(Worksheet!$G$16,BuildingSize,0)+1,FALSE),IF(IFERROR(SEARCH(\"Oil\",Worksheet!$G$17),0)>0,VLOOKUP(\"Oil\",HVACg_Lookup,MATCH(Worksheet!$G$16,BuildingSize,0)+1,FALSE),IF(IFERROR(SEARCH(\"Propane\",Worksheet!$G$17),0)>0,VLOOKUP(\"Propane\",HVACg_Lookup,MATCH(Worksheet!$G$16,BuildingSize,0)+1,FALSE),0)))/IF(Worksheet!M110>0,Worksheet!M110,Worksheet!L110),0),\"\")","v":""},"",null,null,null,{"$f":"IF(ISBLANK(Worksheet!M110)=FALSE,Worksheet!M110,\"\")","v":0},{"$f":"IF(Worksheet!A110=\"-\",\"\",IF(Worksheet!A110=\"\",S86,Worksheet!A110))","v":""},{"$f":"IF(S87=\"\",\"\",IF(AND(Worksheet!G110=\"\",Worksheet!H110=\"\")=TRUE,T86,IF(Worksheet!G110=\"\",\"\",Worksheet!G110)))","v":""},{"$f":"IF(S87=\"\",\"\",IF(AND(Worksheet!G110=\"\",Worksheet!H110=\"\")=TRUE,U86,IF(Worksheet!H110=\"\",\"\",Worksheet!H110)))","v":""},{"$f":"IF(Worksheet!N110=\"\",\"\",Worksheet!N110)","v":""},{"$f":"IF(Worksheet!O110=\"\",\"\",Worksheet!O110)","v":""},{"$f":"IF(Worksheet!F110=0,\"\",Worksheet!F110)","v":""},{"$f":"IF(Worksheet!P110=0,\"\",Worksheet!P110)","v":""},{"$f":"IF(Worksheet!$A$11=TRUE,\"Y\",\"N\")","v":"N"},{"$f":"IF(Worksheet!$A$12=TRUE,\"Y\",\"N\")","v":"N"},{"$f":"IF(Worksheet!$B$11=TRUE,\"Y\",\"N\")","v":"N"},{"$f":"IF(Worksheet!$B$12=TRUE,\"Y\",\"N\")","v":"N"},{"$f":"IF(Worksheet!$C$11=TRUE,\"Y\",\"N\")","v":"N"},{"$f":"IF(Worksheet!$C$12=TRUE,\"Y\",\"N\")","v":"N"},""]
[{"$f":"IF(ISERROR(VLOOKUP(Worksheet!N111,MeasureLookup,2,FALSE))=FALSE,VLOOKUP(Worksheet!N111,MeasureLookup,2,FALSE),\"\")","v":""},{"$f":"Worksheet!Q111","v":0},{"$f":"Worksheet!R111","v":0},{"$f":"IF(ISERROR(Worksheet!P111)=FALSE,Worksheet!P111,\"\")","v":0},"Watts",null,null,{"$f":"IF(Worksheet!AP111<>\"\",IF(Worksheet!AP111>0,Worksheet!AP111/IF(Worksheet!M111>0,Worksheet!M111,Worksheet!L111),\"\"),\"\")","v":""},{"$f":"IF(ISBLANK(Worksheet!L111)=FALSE,Worksheet!L111,\"\")","v":0},{"$f":"IF(Worksheet!L111<>0, IFERROR(VLOOKUP(Worksheet!$C$16,SavingsSupportTable,3,FALSE)*Worksheet!AQ111*IFERROR(1+VLOOKUP(Worksheet!$C$16,SavingsSupportTable,MATCH(Worksheet!$G$17,HVACe_Options,0)+4,FALSE),1)/IF(Worksheet!M111>0,Worksheet!M111,Worksheet!L111),\"\"),\"\")","v":""},{"$f":"IF(Worksheet!L111<>0, IFERROR(VLOOKUP(Worksheet!$C$16,SavingsSupportTable,2,FALSE)*Worksheet!AQ111*IF(IFERROR(MATCH(Worksheet!$G$17,HVACe_Options,0),0)>0,1+VLOOKUP(Worksheet!$C$16,SavingsSupportTable,4,FALSE),1)/IF(Worksheet!M111>0,Worksheet!M111,Worksheet!L111),\"\"),\"\")","v":""},"",{"$f":"IF(Worksheet!L111<>0,IFERROR(VLOOKUP(Worksheet!$C$16,SavingsSupportTable,3,FALSE)*Worksheet!AQ111*IF(IFERROR(SEARCH(\"Gas\",Worksheet!$G$17),0)>0,VLOOKUP(\"Gas\",HVACg_Lookup,MATCH(Worksheet!$G$16,BuildingSize,0)+1,FALSE),IF(IFERROR(SEARCH(\"Oil\",Worksheet!$G$17),0)>0,VLOOKUP(\"Oil\",HVACg_Lookup,MATCH(Worksheet!$G$16,BuildingSize,0)+1,FALSE),IF(IFERROR(SEARCH(\"Propane\",Worksheet!$G$17),0)>0,VLOOKUP(\"Propane\",HVACg_Lookup,MATCH(Worksheet!$G$16,BuildingSize,0)+1,FALSE),0)))/IF(Worksheet!M111>0,Worksheet!M111,Worksheet!L111),0),\"\")","v":""},"",null,null,null,{"$f":"IF(ISBLANK(Worksheet!M111)=FALSE,Worksheet!M111,\"\")","v":0},{"$f":"IF(Worksheet!A111=\"-\",\"\",IF(Worksheet!A111=\"\",S87,Worksheet!A111))","v":""},{"$f":"IF(S88=\"\",\"\",IF(AND(Worksheet!G111=\"\",Worksheet!H111=\"\")=TRUE,T87,IF(Worksheet!G111=\"\",\"\",Worksheet!G111)))","v":""},{"$f":"IF(S88=\"\",\"\",IF(AND(Worksheet!G111=\"\",Worksheet!H111=\"\")=TRUE,U87,IF(Worksheet!H111=\"\",\"\",Worksheet!H111)))","v":""},{"$f":"IF(Worksheet!N111=\"\",\"\",Worksheet!N111)","v":""},{"$f":"IF(Worksheet!O111=\"\",\"\",Worksheet!O111)","v":""},{"$f":"IF(Worksheet!F111=0,\"\",Worksheet!F111)","v":""},{"$f":"IF(Worksheet!P111=0,\"\",Worksheet!P111)","v":""},{"$f":"IF(Worksheet!$A$11=TRUE,\"Y\",\"N\")","v":"N"},{"$f":"IF(Worksheet!$A$12=TRUE,\"Y\",\"N\")","v":"N"},{"$f":"IF(Worksheet!$B$11=TRUE,\"Y\",\"N\")","v":"N"},{"$f":"IF(Worksheet!$B$12=TRUE,\"Y\",\"N\")","v":"N"},{"$f":"IF(Worksheet!$C$11=TRUE,\"Y\",\"N\")","v":"N"},{"$f":"IF(Worksheet!$C$12=TRUE,\"Y\",\"N\")","v":"N"},""]
[{"$f":"IF(ISERROR(VLOOKUP(Worksheet!N112,MeasureLookup,2,FALSE))=FALSE,VLOOKUP(Worksheet!N112,MeasureLookup,2,FALSE),\"\")","v":""},{"$f":"Worksheet!Q112","v":0},{"$f":"Worksheet!R112","v":0},{"$f":"IF(ISERROR(Worksheet!P112)=FALSE,Worksheet!P112,\"\")","v":0},"Watts",null,null,{"$f":"IF(Worksheet!AP112<>\"\",IF(Worksheet!AP112>0,Worksheet!AP112/IF(Worksheet!M112>0,Worksheet!M112,Worksheet!L112),\"\"),\"\")","v":""},{"$f":"IF(ISBLANK(Worksheet!L112)=FALSE,Worksheet!L112,\"\")","v":0},{"$f":"IF(Worksheet!L112<>0, IFERROR(VLOOKUP(Worksheet!$C$16,SavingsSupportTable,3,FALSE)*Worksheet!AQ112*IFERROR(1+VLOOKUP(Worksheet!$C$16,SavingsSupportTable,MATCH(Worksheet!$G$17,HVACe_Options,0)+4,FALSE),1)/IF(Worksheet!M112>0,Worksheet!M112,Worksheet!L112),\"\"),\"\")","v":""},{"$f":"IF(Worksheet!L112<>0, IFERROR(VLOOKUP(Worksheet!$C$16,SavingsSupportTable,2,FALSE)*Worksheet!AQ112*IF(IFERROR(MATCH(Worksheet!$G$17,HVACe_Options,0),0)>0,1+VLOOKUP(Worksheet!$C$16,SavingsSupportTable,4,FALSE),1)/IF(Worksheet!M112>0,Worksheet!M112,Worksheet!L112),\"\"),\"\")","v":""},"",{"$f":"IF(Worksheet!L112<>0,IFERROR(VLOOKUP(Worksheet!$C$16,SavingsSupportTable,3,FALSE)*Worksheet!AQ112*IF(IFERROR(SEARCH(\"Gas\",Worksheet!$G$17),0)>0,VLOOKUP(\"Gas\",HVACg_Lookup,MATCH(Worksheet!$G$16,BuildingSize,0)+1,FALSE),IF(IFERROR(SEARCH(\"Oil\",Worksheet!$G$17),0)>0,VLOOKUP(\"Oil\",HVACg_Lookup,MATCH(Worksheet!$G$16,BuildingSize,0)+1,FALSE),IF(IFERROR(SEARCH(\"Propane\",Worksheet!$G$17),0)>0,VLOOKUP(\"Propane\",HVACg_Lookup,MATCH(Worksheet!$G$16,BuildingSize,0)+1,FALSE),0)))/IF(Worksheet!M112>0,Worksheet!M112,Worksheet!L112),0),\"\")","v":""},"",null,null,null,{"$f":"IF(ISBLANK(Worksheet!M112)=FALSE,Worksheet!M112,\"\")","v":0},{"$f":"IF(Worksheet!A112=\"-\",\"\",IF(Worksheet!A112=\"\",S88,Worksheet!A112))","v":""},{"$f":"IF(S89=\"\",\"\",IF(AND(Worksheet!G112=\"\",Worksheet!H112=\"\")=TRUE,T88,IF(Worksheet!G112=\"\",\"\",Worksheet!G112)))","v":""},{"$f":"IF(S89=\"\",\"\",IF(AND(Worksheet!G112=\"\",Worksheet!H112=\"\")=TRUE,U88,IF(Worksheet!H112=\"\",\"\",Worksheet!H112)))","v":""},{"$f":"IF(Worksheet!N112=\"\",\"\",Worksheet!N112)","v":""},{"$f":"IF(Worksheet!O112=\"\",\"\",Worksheet!O112)","v":""},{"$f":"IF(Worksheet!F112=0,\"\",Worksheet!F112)","v":""},{"$f":"IF(Worksheet!P112=0,\"\",Worksheet!P112)","v":""},{"$f":"IF(Worksheet!$A$11=TRUE,\"Y\",\"N\")","v":"N"},{"$f":"IF(Worksheet!$A$12=TRUE,\"Y\",\"N\")","v":"N"},{"$f":"IF(Worksheet!$B$11=TRUE,\"Y\",\"N\")","v":"N"},{"$f":"IF(Worksheet!$B$12=TRUE,\"Y\",\"N\")","v":"N"},{"$f":"IF(Worksheet!$C$11=TRUE,\"Y\",\"N\")","v":"N"},{"$f":"IF(Worksheet!$C$12=TRUE,\"Y\",\"N\")","v":"N"},""]
[{"$f":"IF(ISERROR(VLOOKUP(Worksheet!N113,MeasureLookup,2,FALSE))=FALSE,VLOOKUP(Worksheet!N113,MeasureLookup,2,FALSE),\"\")","v":""},{"$f":"Worksheet!Q113","v":0},{"$f":"Worksheet!R113","v":0},{"$f":"IF(ISERROR(Worksheet!P113)=FALSE,Worksheet!P113,\"\")","v":0},"Watts",null,null,{"$f":"IF(Worksheet!AP113<>\"\",IF(Worksheet!AP113>0,Worksheet!AP113/IF(Worksheet!M113>0,Worksheet!M113,Worksheet!L113),\"\"),\"\")","v":""},{"$f":"IF(ISBLANK(Worksheet!L113)=FALSE,Worksheet!L113,\"\")","v":0},{"$f":"IF(Worksheet!L113<>0, IFERROR(VLOOKUP(Worksheet!$C$16,SavingsSupportTable,3,FALSE)*Worksheet!AQ113*IFERROR(1+VLOOKUP(Worksheet!$C$16,SavingsSupportTable,MATCH(Worksheet!$G$17,HVACe_Options,0)+4,FALSE),1)/IF(Worksheet!M113>0,Worksheet!M113,Worksheet!L113),\"\"),\"\")","v":""},{"$f":"IF(Worksheet!L113<>0, IFERROR(VLOOKUP(Worksheet!$C$16,SavingsSupportTable,2,FALSE)*Worksheet!AQ113*IF(IFERROR(MATCH(Worksheet!$G$17,HVACe_Options,0),0)>0,1+VLOOKUP(Worksheet!$C$16,SavingsSupportTable,4,FALSE),1)/IF(Worksheet!M113>0,Worksheet!M113,Worksheet!L113),\"\"),\"\")","v":""},"",{"$f":"IF(Worksheet!L113<>0,IFERROR(VLOOKUP(Worksheet!$C$16,SavingsSupportTable,3,FALSE)*Worksheet!AQ113*IF(IFERROR(SEARCH(\"Gas\",Worksheet!$G$17),0)>0,VLOOKUP(\"Gas\",HVACg_Lookup,MATCH(Worksheet!$G$16,BuildingSize,0)+1,FALSE),IF(IFERROR(SEARCH(\"Oil\",Worksheet!$G$17),0)>0,VLOOKUP(\"Oil\",HVACg_Lookup,MATCH(Worksheet!$G$16,BuildingSize,0)+1,FALSE),IF(IFERROR(SEARCH(\"Propane\",Worksheet!$G$17),0)>0,VLOOKUP(\"Propane\",HVACg_Lookup,MATCH(Worksheet!$G$16,BuildingSize,0)+1,FALSE),0)))/IF(Worksheet!M113>0,Worksheet!M113,Worksheet!L113),0),\"\")","v":""},"",null,null,null,{"$f":"IF(ISBLANK(Worksheet!M113)=FALSE,Worksheet!M113,\"\")","v":0},{"$f":"IF(Worksheet!A113=\"-\",\"\",IF(Worksheet!A113=\"\",S89,Worksheet!A113))","v":""},{"$f":"IF(S90=\"\",\"\",IF(AND(Worksheet!G113=\"\",Worksheet!H113=\"\")=TRUE,T89,IF(Worksheet!G113=\"\",\"\",Worksheet!G113)))","v":""},{"$f":"IF(S90=\"\",\"\",IF(AND(Worksheet!G113=\"\",Worksheet!H113=\"\")=TRUE,U89,IF(Worksheet!H113=\"\",\"\",Worksheet!H113)))","v":""},{"$f":"IF(Worksheet!N113=\"\",\"\",Worksheet!N113)","v":""},{"$f":"IF(Worksheet!O113=\"\",\"\",Worksheet!O113)","v":""},{"$f":"IF(Worksheet!F113=0,\"\",Worksheet!F113)","v":""},{"$f":"IF(Worksheet!P113=0,\"\",Worksheet!P113)","v":""},{"$f":"IF(Worksheet!$A$11=TRUE,\"Y\",\"N\")","v":"N"},{"$f":"IF(Worksheet!$A$12=TRUE,\"Y\",\"N\")","v":"N"},{"$f":"IF(Worksheet!$B$11=TRUE,\"Y\",\"N\")","v":"N"},{"$f":"IF(Worksheet!$B$12=TRUE,\"Y\",\"N\")","v":"N"},{"$f":"IF(Worksheet!$C$11=TRUE,\"Y\",\"N\")","v":"N"},{"$f":"IF(Worksheet!$C$12=TRUE,\"Y\",\"N\")","v":"N"},""]
[{"$f":"IF(ISERROR(VLOOKUP(Worksheet!N114,MeasureLookup,2,FALSE))=FALSE,VLOOKUP(Worksheet!N114,MeasureLookup,2,FALSE),\"\")","v":""},{"$f":"Worksheet!Q114","v":0},{"$f":"Worksheet!R114","v":0},{"$f":"IF(ISERROR(Worksheet!P114)=FALSE,Worksheet!P114,\"\")","v":0},"Watts",null,null,{"$f":"IF(Worksheet!AP114<>\"\",IF(Worksheet!AP114>0,Worksheet!AP114/IF(Worksheet!M114>0,Worksheet!M114,Worksheet!L114),\"\"),\"\")","v":""},{"$f":"IF(ISBLANK(Worksheet!L114)=FALSE,Worksheet!L114,\"\")","v":0},{"$f":"IF(Worksheet!L114<>0, IFERROR(VLOOKUP(Worksheet!$C$16,SavingsSupportTable,3,FALSE)*Worksheet!AQ114*IFERROR(1+VLOOKUP(Worksheet!$C$16,SavingsSupportTable,MATCH(Worksheet!$G$17,HVACe_Options,0)+4,FALSE),1)/IF(Worksheet!M114>0,Worksheet!M114,Worksheet!L114),\"\"),\"\")","v":""},{"$f":"IF(Worksheet!L114<>0, IFERROR(VLOOKUP(Worksheet!$C$16,SavingsSupportTable,2,FALSE)*Worksheet!AQ114*IF(IFERROR(MATCH(Worksheet!$G$17,HVACe_Options,0),0)>0,1+VLOOKUP(Worksheet!$C$16,SavingsSupportTable,4,FALSE),1)/IF(Worksheet!M114>0,Worksheet!M114,Worksheet!L114),\"\"),\"\")","v":""},"",{"$f":"IF(Worksheet!L114<>0,IFERROR(VLOOKUP(Worksheet!$C$16,SavingsSupportTable,3,FALSE)*Worksheet!AQ114*IF(IFERROR(SEARCH(\"Gas\",Worksheet!$G$17),0)>0,VLOOKUP(\"Gas\",HVACg_Lookup,MATCH(Worksheet!$G$16,BuildingSize,0)+1,FALSE),IF(IFERROR(SEARCH(\"Oil\",Worksheet!$G$17),0)>0,VLOOKUP(\"Oil\",HVACg_Lookup,MATCH(Worksheet!$G$16,BuildingSize,0)+1,FALSE),IF(IFERROR(SEARCH(\"Propane\",Worksheet!$G$17),0)>0,VLOOKUP(\"Propane\",HVACg_Lookup,MATCH(Worksheet!$G$16,BuildingSize,0)+1,FALSE),0)))/IF(Worksheet!M114>0,Worksheet!M114,Worksheet!L114),0),\"\")","v":""},"",null,null,null,{"$f":"IF(ISBLANK(Worksheet!M114)=FALSE,Worksheet!M114,\"\")","v":0},{"$f":"IF(Worksheet!A114=\"-\",\"\",IF(Worksheet!A114=\"\",S90,Worksheet!A114))","v":""},{"$f":"IF(S91=\"\",\"\",IF(AND(Worksheet!G114=\"\",Worksheet!H114=\"\")=TRUE,T90,IF(Worksheet!G114=\"\",\"\",Worksheet!G114)))","v":""},{"$f":"IF(S91=\"\",\"\",IF(AND(Worksheet!G114=\"\",Worksheet!H114=\"\")=TRUE,U90,IF(Worksheet!H114=\"\",\"\",Worksheet!H114)))","v":""},{"$f":"IF(Worksheet!N114=\"\",\"\",Worksheet!N114)","v":""},{"$f":"IF(Worksheet!O114=\"\",\"\",Worksheet!O114)","v":""},{"$f":"IF(Worksheet!F114=0,\"\",Worksheet!F114)","v":""},{"$f":"IF(Worksheet!P114=0,\"\",Worksheet!P114)","v":""},{"$f":"IF(Worksheet!$A$11=TRUE,\"Y\",\"N\")","v":"N"},{"$f":"IF(Worksheet!$A$12=TRUE,\"Y\",\"N\")","v":"N"},{"$f":"IF(Worksheet!$B$11=TRUE,\"Y\",\"N\")","v":"N"},{"$f":"IF(Worksheet!$B$12=TRUE,\"Y\",\"N\")","v":"N"},{"$f":"IF(Worksheet!$C$11=TRUE,\"Y\",\"N\")","v":"N"},{"$f":"IF(Worksheet!$C$12=TRUE,\"Y\",\"N\")","v":"N"},""]
[{"$f":"IF(ISERROR(VLOOKUP(Worksheet!N115,MeasureLookup,2,FALSE))=FALSE,VLOOKUP(Worksheet!N115,MeasureLookup,2,FALSE),\"\")","v":""},{"$f":"Worksheet!Q115","v":0},{"$f":"Worksheet!R115","v":0},{"$f":"IF(ISERROR(Worksheet!P115)=FALSE,Worksheet!P115,\"\")","v":0},"Watts",null,null,{"$f":"IF(Worksheet!AP115<>\"\",IF(Worksheet!AP115>0,Worksheet!AP115/IF(Worksheet!M115>0,Worksheet!M115,Worksheet!L115),\"\"),\"\")","v":""},{"$f":"IF(ISBLANK(Worksheet!L115)=FALSE,Worksheet!L115,\"\")","v":0},{"$f":"IF(Worksheet!L115<>0, IFERROR(VLOOKUP(Worksheet!$C$16,SavingsSupportTable,3,FALSE)*Worksheet!AQ115*IFERROR(1+VLOOKUP(Worksheet!$C$16,SavingsSupportTable,MATCH(Worksheet!$G$17,HVACe_Options,0)+4,FALSE),1)/IF(Worksheet!M115>0,Worksheet!M115,Worksheet!L115),\"\"),\"\")","v":""},{"$f":"IF(Worksheet!L115<>0, IFERROR(VLOOKUP(Worksheet!$C$16,SavingsSupportTable,2,FALSE)*Worksheet!AQ115*IF(IFERROR(MATCH(Worksheet!$G$17,HVACe_Options,0),0)>0,1+VLOOKUP(Worksheet!$C$16,SavingsSupportTable,4,FALSE),1)/IF(Worksheet!M115>0,Worksheet!M115,Worksheet!L115),\"\"),\"\")","v":""},"",{"$f":"IF(Worksheet!L115<>0,IFERROR(VLOOKUP(Worksheet!$C$16,SavingsSupportTable,3,FALSE)*Worksheet!AQ115*IF(IFERROR(SEARCH(\"Gas\",Worksheet!$G$17),0)>0,VLOOKUP(\"Gas\",HVACg_Lookup,MATCH(Worksheet!$G$16,BuildingSize,0)+1,FALSE),IF(IFERROR(SEARCH(\"Oil\",Worksheet!$G$17),0)>0,VLOOKUP(\"Oil\",HVACg_Lookup,MATCH(Worksheet!$G$16,BuildingSize,0)+1,FALSE),IF(IFERROR(SEARCH(\"Propane\",Worksheet!$G$17),0)>0,VLOOKUP(\"Propane\",HVACg_Lookup,MATCH(Worksheet!$G$16,BuildingSize,0)+1,FALSE),0)))/IF(Worksheet!M115>0,Worksheet!M115,Worksheet!L115),0),\"\")","v":""},"",null,null,null,{"$f":"IF(ISBLANK(Worksheet!M115)=FALSE,Worksheet!M115,\"\")","v":0},{"$f":"IF(Worksheet!A115=\"-\",\"\",IF(Worksheet!A115=\"\",S91,Worksheet!A115))","v":""},{"$f":"IF(S92=\"\",\"\",IF(AND(Worksheet!G115=\"\",Worksheet!H115=\"\")=TRUE,T91,IF(Worksheet!G115=\"\",\"\",Worksheet!G115)))","v":""},{"$f":"IF(S92=\"\",\"\",IF(AND(Worksheet!G115=\"\",Worksheet!H115=\"\")=TRUE,U91,IF(Worksheet!H115=\"\",\"\",Worksheet!H115)))","v":""},{"$f":"IF(Worksheet!N115=\"\",\"\",Worksheet!N115)","v":""},{"$f":"IF(Worksheet!O115=\"\",\"\",Worksheet!O115)","v":""},{"$f":"IF(Worksheet!F115=0,\"\",Worksheet!F115)","v":""},{"$f":"IF(Worksheet!P115=0,\"\",Worksheet!P115)","v":""},{"$f":"IF(Worksheet!$A$11=TRUE,\"Y\",\"N\")","v":"N"},{"$f":"IF(Worksheet!$A$12=TRUE,\"Y\",\"N\")","v":"N"},{"$f":"IF(Worksheet!$B$11=TRUE,\"Y\",\"N\")","v":"N"},{"$f":"IF(Worksheet!$B$12=TRUE,\"Y\",\"N\")","v":"N"},{"$f":"IF(Worksheet!$C$11=TRUE,\"Y\",\"N\")","v":"N"},{"$f":"IF(Worksheet!$C$12=TRUE,\"Y\",\"N\")","v":"N"},""]
[{"$f":"IF(ISERROR(VLOOKUP(Worksheet!N116,MeasureLookup,2,FALSE))=FALSE,VLOOKUP(Worksheet!N116,MeasureLookup,2,FALSE),\"\")","v":""},{"$f":"Worksheet!Q116","v":0},{"$f":"Worksheet!R116","v":0},{"$f":"IF(ISERROR(Worksheet!P116)=FALSE,Worksheet!P116,\"\")","v":0},"Watts",null,null,{"$f":"IF(Worksheet!AP116<>\"\",IF(Worksheet!AP116>0,Worksheet!AP116/IF(Worksheet!M116>0,Worksheet!M116,Worksheet!L116),\"\"),\"\")","v":""},{"$f":"IF(ISBLANK(Worksheet!L116)=FALSE,Worksheet!L116,\"\")","v":0},{"$f":"IF(Worksheet!L116<>0, IFERROR(VLOOKUP(Worksheet!$C$16,SavingsSupportTable,3,FALSE)*Worksheet!AQ116*IFERROR(1+VLOOKUP(Worksheet!$C$16,SavingsSupportTable,MATCH(Worksheet!$G$17,HVACe_Options,0)+4,FALSE),1)/IF(Worksheet!M116>0,Worksheet!M116,Worksheet!L116),\"\"),\"\")","v":""},{"$f":"IF(Worksheet!L116<>0, IFERROR(VLOOKUP(Worksheet!$C$16,SavingsSupportTable,2,FALSE)*Worksheet!AQ116*IF(IFERROR(MATCH(Worksheet!$G$17,HVACe_Options,0),0)>0,1+VLOOKUP(Worksheet!$C$16,SavingsSupportTable,4,FALSE),1)/IF(Worksheet!M116>0,Worksheet!M116,Worksheet!L116),\"\"),\"\")","v":""},"",{"$f":"IF(Worksheet!L116<>0,IFERROR(VLOOKUP(Worksheet!$C$16,SavingsSupportTable,3,FALSE)*Worksheet!AQ116*IF(IFERROR(SEARCH(\"Gas\",Worksheet!$G$17),0)>0,VLOOKUP(\"Gas\",HVACg_Lookup,MATCH(Worksheet!$G$16,BuildingSize,0)+1,FALSE),IF(IFERROR(SEARCH(\"Oil\",Worksheet!$G$17),0)>0,VLOOKUP(\"Oil\",HVACg_Lookup,MATCH(Worksheet!$G$16,BuildingSize,0)+1,FALSE),IF(IFERROR(SEARCH(\"Propane\",Worksheet!$G$17),0)>0,VLOOKUP(\"Propane\",HVACg_Lookup,MATCH(Worksheet!$G$16,BuildingSize,0)+1,FALSE),0)))/IF(Worksheet!M116>0,Worksheet!M116,Worksheet!L116),0),\"\")","v":""},"",null,null,null,{"$f":"IF(ISBLANK(Worksheet!M116)=FALSE,Worksheet!M116,\"\")","v":0},{"$f":"IF(Worksheet!A116=\"-\",\"\",IF(Worksheet!A116=\"\",S92,Worksheet!A116))","v":""},{"$f":"IF(S93=\"\",\"\",IF(AND(Worksheet!G116=\"\",Worksheet!H116=\"\")=TRUE,T92,IF(Worksheet!G116=\"\",\"\",Worksheet!G116)))","v":""},{"$f":"IF(S93=\"\",\"\",IF(AND(Worksheet!G116=\"\",Worksheet!H116=\"\")=TRUE,U92,IF(Worksheet!H116=\"\",\"\",Worksheet!H116)))","v":""},{"$f":"IF(Worksheet!N116=\"\",\"\",Worksheet!N116)","v":""},{"$f":"IF(Worksheet!O116=\"\",\"\",Worksheet!O116)","v":""},{"$f":"IF(Worksheet!F116=0,\"\",Worksheet!F116)","v":""},{"$f":"IF(Worksheet!P116=0,\"\",Worksheet!P116)","v":""},{"$f":"IF(Worksheet!$A$11=TRUE,\"Y\",\"N\")","v":"N"},{"$f":"IF(Worksheet!$A$12=TRUE,\"Y\",\"N\")","v":"N"},{"$f":"IF(Worksheet!$B$11=TRUE,\"Y\",\"N\")","v":"N"},{"$f":"IF(Worksheet!$B$12=TRUE,\"Y\",\"N\")","v":"N"},{"$f":"IF(Worksheet!$C$11=TRUE,\"Y\",\"N\")","v":"N"},{"$f":"IF(Worksheet!$C$12=TRUE,\"Y\",\"N\")","v":"N"},""]
[{"$f":"IF(ISERROR(VLOOKUP(Worksheet!N117,MeasureLookup,2,FALSE))=FALSE,VLOOKUP(Worksheet!N117,MeasureLookup,2,FALSE),\"\")","v":""},{"$f":"Worksheet!Q117","v":0},{"$f":"Worksheet!R117","v":0},{"$f":"IF(ISERROR(Worksheet!P117)=FALSE,Worksheet!P117,\"\")","v":0},"Watts",null,null,{"$f":"IF(Worksheet!AP117<>\"\",IF(Worksheet!AP117>0,Worksheet!AP117/IF(Worksheet!M117>0,Worksheet!M117,Worksheet!L117),\"\"),\"\")","v":""},{"$f":"IF(ISBLANK(Worksheet!L117)=FALSE,Worksheet!L117,\"\")","v":0},{"$f":"IF(Worksheet!L117<>0, IFERROR(VLOOKUP(Worksheet!$C$16,SavingsSupportTable,3,FALSE)*Worksheet!AQ117*IFERROR(1+VLOOKUP(Worksheet!$C$16,SavingsSupportTable,MATCH(Worksheet!$G$17,HVACe_Options,0)+4,FALSE),1)/IF(Worksheet!M117>0,Worksheet!M117,Worksheet!L117),\"\"),\"\")","v":""},{"$f":"IF(Worksheet!L117<>0, IFERROR(VLOOKUP(Worksheet!$C$16,SavingsSupportTable,2,FALSE)*Worksheet!AQ117*IF(IFERROR(MATCH(Worksheet!$G$17,HVACe_Options,0),0)>0,1+VLOOKUP(Worksheet!$C$16,SavingsSupportTable,4,FALSE),1)/IF(Worksheet!M117>0,Worksheet!M117,Worksheet!L117),\"\"),\"\")","v":""},"",{"$f":"IF(Worksheet!L117<>0,IFERROR(VLOOKUP(Worksheet!$C$16,SavingsSupportTable,3,FALSE)*Worksheet!AQ117*IF(IFERROR(SEARCH(\"Gas\",Worksheet!$G$17),0)>0,VLOOKUP(\"Gas\",HVACg_Lookup,MATCH(Worksheet!$G$16,BuildingSize,0)+1,FALSE),IF(IFERROR(SEARCH(\"Oil\",Worksheet!$G$17),0)>0,VLOOKUP(\"Oil\",HVACg_Lookup,MATCH(Worksheet!$G$16,BuildingSize,0)+1,FALSE),IF(IFERROR(SEARCH(\"Propane\",Worksheet!$G$17),0)>0,VLOOKUP(\"Propane\",HVACg_Lookup,MATCH(Worksheet!$G$16,BuildingSize,0)+1,FALSE),0)))/IF(Worksheet!M117>0,Worksheet!M117,Worksheet!L117),0),\"\")","v":""},"",null,null,null,{"$f":"IF(ISBLANK(Worksheet!M117)=FALSE,Worksheet!M117,\"\")","v":0},{"$f":"IF(Worksheet!A117=\"-\",\"\",IF(Worksheet!A117=\"\",S93,Worksheet!A117))","v":""},{"$f":"IF(S94=\"\",\"\",IF(AND(Worksheet!G117=\"\",Worksheet!H117=\"\")=TRUE,T93,IF(Worksheet!G117=\"\",\"\",Worksheet!G117)))","v":""},{"$f":"IF(S94=\"\",\"\",IF(AND(Worksheet!G117=\"\",Worksheet!H117=\"\")=TRUE,U93,IF(Worksheet!H117=\"\",\"\",Worksheet!H117)))","v":""},{"$f":"IF(Worksheet!N117=\"\",\"\",Worksheet!N117)","v":""},{"$f":"IF(Worksheet!O117=\"\",\"\",Worksheet!O117)","v":""},{"$f":"IF(Worksheet!F117=0,\"\",Worksheet!F117)","v":""},{"$f":"IF(Worksheet!P117=0,\"\",Worksheet!P117)","v":""},{"$f":"IF(Worksheet!$A$11=TRUE,\"Y\",\"N\")","v":"N"},{"$f":"IF(Worksheet!$A$12=TRUE,\"Y\",\"N\")","v":"N"},{"$f":"IF(Worksheet!$B$11=TRUE,\"Y\",\"N\")","v":"N"},{"$f":"IF(Worksheet!$B$12=TRUE,\"Y\",\"N\")","v":"N"},{"$f":"IF(Worksheet!$C$11=TRUE,\"Y\",\"N\")","v":"N"},{"$f":"IF(Worksheet!$C$12=TRUE,\"Y\",\"N\")","v":"N"},""]
[{"$f":"IF(ISERROR(VLOOKUP(Worksheet!N118,MeasureLookup,2,FALSE))=FALSE,VLOOKUP(Worksheet!N118,MeasureLookup,2,FALSE),\"\")","v":""},{"$f":"Worksheet!Q118","v":0},{"$f":"Worksheet!R118","v":0},{"$f":"IF(ISERROR(Worksheet!P118)=FALSE,Worksheet!P118,\"\")","v":0},"Watts",null,null,{"$f":"IF(Worksheet!AP118<>\"\",IF(Worksheet!AP118>0,Worksheet!AP118/IF(Worksheet!M118>0,Worksheet!M118,Worksheet!L118),\"\"),\"\")","v":""},{"$f":"IF(ISBLANK(Worksheet!L118)=FALSE,Worksheet!L118,\"\")","v":0},{"$f":"IF(Worksheet!L118<>0, IFERROR(VLOOKUP(Worksheet!$C$16,SavingsSupportTable,3,FALSE)*Worksheet!AQ118*IFERROR(1+VLOOKUP(Worksheet!$C$16,SavingsSupportTable,MATCH(Worksheet!$G$17,HVACe_Options,0)+4,FALSE),1)/IF(Worksheet!M118>0,Worksheet!M118,Worksheet!L118),\"\"),\"\")","v":""},{"$f":"IF(Worksheet!L118<>0, IFERROR(VLOOKUP(Worksheet!$C$16,SavingsSupportTable,2,FALSE)*Worksheet!AQ118*IF(IFERROR(MATCH(Worksheet!$G$17,HVACe_Options,0),0)>0,1+VLOOKUP(Worksheet!$C$16,SavingsSupportTable,4,FALSE),1)/IF(Worksheet!M118>0,Worksheet!M118,Worksheet!L118),\"\"),\"\")","v":""},"",{"$f":"IF(Worksheet!L118<>0,IFERROR(VLOOKUP(Worksheet!$C$16,SavingsSupportTable,3,FALSE)*Worksheet!AQ118*IF(IFERROR(SEARCH(\"Gas\",Worksheet!$G$17),0)>0,VLOOKUP(\"Gas\",HVACg_Lookup,MATCH(Worksheet!$G$16,BuildingSize,0)+1,FALSE),IF(IFERROR(SEARCH(\"Oil\",Worksheet!$G$17),0)>0,VLOOKUP(\"Oil\",HVACg_Lookup,MATCH(Worksheet!$G$16,BuildingSize,0)+1,FALSE),IF(IFERROR(SEARCH(\"Propane\",Worksheet!$G$17),0)>0,VLOOKUP(\"Propane\",HVACg_Lookup,MATCH(Worksheet!$G$16,BuildingSize,0)+1,FALSE),0)))/IF(Worksheet!M118>0,Worksheet!M118,Worksheet!L118),0),\"\")","v":""},"",null,null,null,{"$f":"IF(ISBLANK(Worksheet!M118)=FALSE,Worksheet!M118,\"\")","v":0},{"$f":"IF(Worksheet!A118=\"-\",\"\",IF(Worksheet!A118=\"\",S94,Worksheet!A118))","v":""},{"$f":"IF(S95=\"\",\"\",IF(AND(Worksheet!G118=\"\",Worksheet!H118=\"\")=TRUE,T94,IF(Worksheet!G118=\"\",\"\",Worksheet!G118)))","v":""},{"$f":"IF(S95=\"\",\"\",IF(AND(Worksheet!G118=\"\",Worksheet!H118=\"\")=TRUE,U94,IF(Worksheet!H118=\"\",\"\",Worksheet!H118)))","v":""},{"$f":"IF(Worksheet!N118=\"\",\"\",Worksheet!N118)","v":""},{"$f":"IF(Worksheet!O118=\"\",\"\",Worksheet!O118)","v":""},{"$f":"IF(Worksheet!F118=0,\"\",Worksheet!F118)","v":""},{"$f":"IF(Worksheet!P118=0,\"\",Worksheet!P118)","v":""},{"$f":"IF(Worksheet!$A$11=TRUE,\"Y\",\"N\")","v":"N"},{"$f":"IF(Worksheet!$A$12=TRUE,\"Y\",\"N\")","v":"N"},{"$f":"IF(Worksheet!$B$11=TRUE,\"Y\",\"N\")","v":"N"},{"$f":"IF(Worksheet!$B$12=TRUE,\"Y\",\"N\")","v":"N"},{"$f":"IF(Worksheet!$C$11=TRUE,\"Y\",\"N\")","v":"N"},{"$f":"IF(Worksheet!$C$12=TRUE,\"Y\",\"N\")","v":"N"},""]
[{"$f":"IF(ISERROR(VLOOKUP(Worksheet!N119,MeasureLookup,2,FALSE))=FALSE,VLOOKUP(Worksheet!N119,MeasureLookup,2,FALSE),\"\")","v":""},{"$f":"Worksheet!Q119","v":0},{"$f":"Worksheet!R119","v":0},{"$f":"IF(ISERROR(Worksheet!P119)=FALSE,Worksheet!P119,\"\")","v":0},"Watts",null,null,{"$f":"IF(Worksheet!AP119<>\"\",IF(Worksheet!AP119>0,Worksheet!AP119/IF(Worksheet!M119>0,Worksheet!M119,Worksheet!L119),\"\"),\"\")","v":""},{"$f":"IF(ISBLANK(Worksheet!L119)=FALSE,Worksheet!L119,\"\")","v":0},{"$f":"IF(Worksheet!L119<>0, IFERROR(VLOOKUP(Worksheet!$C$16,SavingsSupportTable,3,FALSE)*Worksheet!AQ119*IFERROR(1+VLOOKUP(Worksheet!$C$16,SavingsSupportTable,MATCH(Worksheet!$G$17,HVACe_Options,0)+4,FALSE),1)/IF(Worksheet!M119>0,Worksheet!M119,Worksheet!L119),\"\"),\"\")","v":""},{"$f":"IF(Worksheet!L119<>0, IFERROR(VLOOKUP(Worksheet!$C$16,SavingsSupportTable,2,FALSE)*Worksheet!AQ119*IF(IFERROR(MATCH(Worksheet!$G$17,HVACe_Options,0),0)>0,1+VLOOKUP(Worksheet!$C$16,SavingsSupportTable,4,FALSE),1)/IF(Worksheet!M119>0,Worksheet!M119,Worksheet!L119),\"\"),\"\")","v":""},"",{"$f":"IF(Worksheet!L119<>0,IFERROR(VLOOKUP(Worksheet!$C$16,SavingsSupportTable,3,FALSE)*Worksheet!AQ119*IF(IFERROR(SEARCH(\"Gas\",Worksheet!$G$17),0)>0,VLOOKUP(\"Gas\",HVACg_Lookup,MATCH(Worksheet!$G$16,BuildingSize,0)+1,FALSE),IF(IFERROR(SEARCH(\"Oil\",Worksheet!$G$17),0)>0,VLOOKUP(\"Oil\",HVACg_Lookup,MATCH(Worksheet!$G$16,BuildingSize,0)+1,FALSE),IF(IFERROR(SEARCH(\"Propane\",Worksheet!$G$17),0)>0,VLOOKUP(\"Propane\",HVACg_Lookup,MATCH(Worksheet!$G$16,BuildingSize,0)+1,FALSE),0)))/IF(Worksheet!M119>0,Worksheet!M119,Worksheet!L119),0),\"\")","v":""},"",null,null,null,{"$f":"IF(ISBLANK(Worksheet!M119)=FALSE,Worksheet!M119,\"\")","v":0},{"$f":"IF(Worksheet!A119=\"-\",\"\",IF(Worksheet!A119=\"\",S95,Worksheet!A119))","v":""},{"$f":"IF(S96=\"\",\"\",IF(AND(Worksheet!G119=\"\",Worksheet!H119=\"\")=TRUE,T95,IF(Worksheet!G119=\"\",\"\",Worksheet!G119)))","v":""},{"$f":"IF(S96=\"\",\"\",IF(AND(Worksheet!G119=\"\",Worksheet!H119=\"\")=TRUE,U95,IF(Worksheet!H119=\"\",\"\",Worksheet!H119)))","v":""},{"$f":"IF(Worksheet!N119=\"\",\"\",Worksheet!N119)","v":""},{"$f":"IF(Worksheet!O119=\"\",\"\",Worksheet!O119)","v":""},{"$f":"IF(Worksheet!F119=0,\"\",Worksheet!F119)","v":""},{"$f":"IF(Worksheet!P119=0,\"\",Worksheet!P119)","v":""},{"$f":"IF(Worksheet!$A$11=TRUE,\"Y\",\"N\")","v":"N"},{"$f":"IF(Worksheet!$A$12=TRUE,\"Y\",\"N\")","v":"N"},{"$f":"IF(Worksheet!$B$11=TRUE,\"Y\",\"N\")","v":"N"},{"$f":"IF(Worksheet!$B$12=TRUE,\"Y\",\"N\")","v":"N"},{"$f":"IF(Worksheet!$C$11=TRUE,\"Y\",\"N\")","v":"N"},{"$f":"IF(Worksheet!$C$12=TRUE,\"Y\",\"N\")","v":"N"},""]
[{"$f":"IF(ISERROR(VLOOKUP(Worksheet!N120,MeasureLookup,2,FALSE))=FALSE,VLOOKUP(Worksheet!N120,MeasureLookup,2,FALSE),\"\")","v":""},{"$f":"Worksheet!Q120","v":0},{"$f":"Worksheet!R120","v":0},{"$f":"IF(ISERROR(Worksheet!P120)=FALSE,Worksheet!P120,\"\")","v":0},"Watts",null,null,{"$f":"IF(Worksheet!AP120<>\"\",IF(Worksheet!AP120>0,Worksheet!AP120/IF(Worksheet!M120>0,Worksheet!M120,Worksheet!L120),\"\"),\"\")","v":""},{"$f":"IF(ISBLANK(Worksheet!L120)=FALSE,Worksheet!L120,\"\")","v":0},{"$f":"IF(Worksheet!L120<>0, IFERROR(VLOOKUP(Worksheet!$C$16,SavingsSupportTable,3,FALSE)*Worksheet!AQ120*IFERROR(1+VLOOKUP(Worksheet!$C$16,SavingsSupportTable,MATCH(Worksheet!$G$17,HVACe_Options,0)+4,FALSE),1)/IF(Worksheet!M120>0,Worksheet!M120,Worksheet!L120),\"\"),\"\")","v":""},{"$f":"IF(Worksheet!L120<>0, IFERROR(VLOOKUP(Worksheet!$C$16,SavingsSupportTable,2,FALSE)*Worksheet!AQ120*IF(IFERROR(MATCH(Worksheet!$G$17,HVACe_Options,0),0)>0,1+VLOOKUP(Worksheet!$C$16,SavingsSupportTable,4,FALSE),1)/IF(Worksheet!M120>0,Worksheet!M120,Worksheet!L120),\"\"),\"\")","v":""},"",{"$f":"IF(Worksheet!L120<>0,IFERROR(VLOOKUP(Worksheet!$C$16,SavingsSupportTable,3,FALSE)*Worksheet!AQ120*IF(IFERROR(SEARCH(\"Gas\",Worksheet!$G$17),0)>0,VLOOKUP(\"Gas\",HVACg_Lookup,MATCH(Worksheet!$G$16,BuildingSize,0)+1,FALSE),IF(IFERROR(SEARCH(\"Oil\",Worksheet!$G$17),0)>0,VLOOKUP(\"Oil\",HVACg_Lookup,MATCH(Worksheet!$G$16,BuildingSize,0)+1,FALSE),IF(IFERROR(SEARCH(\"Propane\",Worksheet!$G$17),0)>0,VLOOKUP(\"Propane\",HVACg_Lookup,MATCH(Worksheet!$G$16,BuildingSize,0)+1,FALSE),0)))/IF(Worksheet!M120>0,Worksheet!M120,Worksheet!L120),0),\"\")","v":""},"",null,null,null,{"$f":"IF(ISBLANK(Worksheet!M120)=FALSE,Worksheet!M120,\"\")","v":0},{"$f":"IF(Worksheet!A120=\"-\",\"\",IF(Worksheet!A120=\"\",S96,Worksheet!A120))","v":""},{"$f":"IF(S97=\"\",\"\",IF(AND(Worksheet!G120=\"\",Worksheet!H120=\"\")=TRUE,T96,IF(Worksheet!G120=\"\",\"\",Worksheet!G120)))","v":""},{"$f":"IF(S97=\"\",\"\",IF(AND(Worksheet!G120=\"\",Worksheet!H120=\"\")=TRUE,U96,IF(Worksheet!H120=\"\",\"\",Worksheet!H120)))","v":""},{"$f":"IF(Worksheet!N120=\"\",\"\",Worksheet!N120)","v":""},{"$f":"IF(Worksheet!O120=\"\",\"\",Worksheet!O120)","v":""},{"$f":"IF(Worksheet!F120=0,\"\",Worksheet!F120)","v":""},{"$f":"IF(Worksheet!P120=0,\"\",Worksheet!P120)","v":""},{"$f":"IF(Worksheet!$A$11=TRUE,\"Y\",\"N\")","v":"N"},{"$f":"IF(Worksheet!$A$12=TRUE,\"Y\",\"N\")","v":"N"},{"$f":"IF(Worksheet!$B$11=TRUE,\"Y\",\"N\")","v":"N"},{"$f":"IF(Worksheet!$B$12=TRUE,\"Y\",\"N\")","v":"N"},{"$f":"IF(Worksheet!$C$11=TRUE,\"Y\",\"N\")","v":"N"},{"$f":"IF(Worksheet!$C$12=TRUE,\"Y\",\"N\")","v":"N"},""]
[{"$f":"IF(ISERROR(VLOOKUP(Worksheet!N121,MeasureLookup,2,FALSE))=FALSE,VLOOKUP(Worksheet!N121,MeasureLookup,2,FALSE),\"\")","v":""},{"$f":"Worksheet!Q121","v":0},{"$f":"Worksheet!R121","v":0},{"$f":"IF(ISERROR(Worksheet!P121)=FALSE,Worksheet!P121,\"\")","v":0},"Watts",null,null,{"$f":"IF(Worksheet!AP121<>\"\",IF(Worksheet!AP121>0,Worksheet!AP121/IF(Worksheet!M121>0,Worksheet!M121,Worksheet!L121),\"\"),\"\")","v":""},{"$f":"IF(ISBLANK(Worksheet!L121)=FALSE,Worksheet!L121,\"\")","v":0},{"$f":"IF(Worksheet!L121<>0, IFERROR(VLOOKUP(Worksheet!$C$16,SavingsSupportTable,3,FALSE)*Worksheet!AQ121*IFERROR(1+VLOOKUP(Worksheet!$C$16,SavingsSupportTable,MATCH(Worksheet!$G$17,HVACe_Options,0)+4,FALSE),1)/IF(Worksheet!M121>0,Worksheet!M121,Worksheet!L121),\"\"),\"\")","v":""},{"$f":"IF(Worksheet!L121<>0, IFERROR(VLOOKUP(Worksheet!$C$16,SavingsSupportTable,2,FALSE)*Worksheet!AQ121*IF(IFERROR(MATCH(Worksheet!$G$17,HVACe_Options,0),0)>0,1+VLOOKUP(Worksheet!$C$16,SavingsSupportTable,4,FALSE),1)/IF(Worksheet!M121>0,Worksheet!M121,Worksheet!L121),\"\"),\"\")","v":""},"",{"$f":"IF(Worksheet!L121<>0,IFERROR(VLOOKUP(Worksheet!$C$16,SavingsSupportTable,3,FALSE)*Worksheet!AQ121*IF(IFERROR(SEARCH(\"Gas\",Worksheet!$G$17),0)>0,VLOOKUP(\"Gas\",HVACg_Lookup,MATCH(Worksheet!$G$16,BuildingSize,0)+1,FALSE),IF(IFERROR(SEARCH(\"Oil\",Worksheet!$G$17),0)>0,VLOOKUP(\"Oil\",HVACg_Lookup,MATCH(Worksheet!$G$16,BuildingSize,0)+1,FALSE),IF(IFERROR(SEARCH(\"Propane\",Worksheet!$G$17),0)>0,VLOOKUP(\"Propane\",HVACg_Lookup,MATCH(Worksheet!$G$16,BuildingSize,0)+1,FALSE),0)))/IF(Worksheet!M121>0,Worksheet!M121,Worksheet!L121),0),\"\")","v":""},"",null,null,null,{"$f":"IF(ISBLANK(Worksheet!M121)=FALSE,Worksheet!M121,\"\")","v":0},{"$f":"IF(Worksheet!A121=\"-\",\"\",IF(Worksheet!A121=\"\",S97,Worksheet!A121))","v":""},{"$f":"IF(S98=\"\",\"\",IF(AND(Worksheet!G121=\"\",Worksheet!H121=\"\")=TRUE,T97,IF(Worksheet!G121=\"\",\"\",Worksheet!G121)))","v":""},{"$f":"IF(S98=\"\",\"\",IF(AND(Worksheet!G121=\"\",Worksheet!H121=\"\")=TRUE,U97,IF(Worksheet!H121=\"\",\"\",Worksheet!H121)))","v":""},{"$f":"IF(Worksheet!N121=\"\",\"\",Worksheet!N121)","v":""},{"$f":"IF(Worksheet!O121=\"\",\"\",Worksheet!O121)","v":""},{"$f":"IF(Worksheet!F121=0,\"\",Worksheet!F121)","v":""},{"$f":"IF(Worksheet!P121=0,\"\",Worksheet!P121)","v":""},{"$f":"IF(Worksheet!$A$11=TRUE,\"Y\",\"N\")","v":"N"},{"$f":"IF(Worksheet!$A$12=TRUE,\"Y\",\"N\")","v":"N"},{"$f":"IF(Worksheet!$B$11=TRUE,\"Y\",\"N\")","v":"N"},{"$f":"IF(Worksheet!$B$12=TRUE,\"Y\",\"N\")","v":"N"},{"$f":"IF(Worksheet!$C$11=TRUE,\"Y\",\"N\")","v":"N"},{"$f":"IF(Worksheet!$C$12=TRUE,\"Y\",\"N\")","v":"N"},""]
[{"$f":"IF(ISERROR(VLOOKUP(Worksheet!N122,MeasureLookup,2,FALSE))=FALSE,VLOOKUP(Worksheet!N122,MeasureLookup,2,FALSE),\"\")","v":""},{"$f":"Worksheet!Q122","v":0},{"$f":"Worksheet!R122","v":0},{"$f":"IF(ISERROR(Worksheet!P122)=FALSE,Worksheet!P122,\"\")","v":0},"Watts",null,null,{"$f":"IF(Worksheet!AP122<>\"\",IF(Worksheet!AP122>0,Worksheet!AP122/IF(Worksheet!M122>0,Worksheet!M122,Worksheet!L122),\"\"),\"\")","v":""},{"$f":"IF(ISBLANK(Worksheet!L122)=FALSE,Worksheet!L122,\"\")","v":0},{"$f":"IF(Worksheet!L122<>0, IFERROR(VLOOKUP(Worksheet!$C$16,SavingsSupportTable,3,FALSE)*Worksheet!AQ122*IFERROR(1+VLOOKUP(Worksheet!$C$16,SavingsSupportTable,MATCH(Worksheet!$G$17,HVACe_Options,0)+4,FALSE),1)/IF(Worksheet!M122>0,Worksheet!M122,Worksheet!L122),\"\"),\"\")","v":""},{"$f":"IF(Worksheet!L122<>0, IFERROR(VLOOKUP(Worksheet!$C$16,SavingsSupportTable,2,FALSE)*Worksheet!AQ122*IF(IFERROR(MATCH(Worksheet!$G$17,HVACe_Options,0),0)>0,1+VLOOKUP(Worksheet!$C$16,SavingsSupportTable,4,FALSE),1)/IF(Worksheet!M122>0,Worksheet!M122,Worksheet!L122),\"\"),\"\")","v":""},"",{"$f":"IF(Worksheet!L122<>0,IFERROR(VLOOKUP(Worksheet!$C$16,SavingsSupportTable,3,FALSE)*Worksheet!AQ122*IF(IFERROR(SEARCH(\"Gas\",Worksheet!$G$17),0)>0,VLOOKUP(\"Gas\",HVACg_Lookup,MATCH(Worksheet!$G$16,BuildingSize,0)+1,FALSE),IF(IFERROR(SEARCH(\"Oil\",Worksheet!$G$17),0)>0,VLOOKUP(\"Oil\",HVACg_Lookup,MATCH(Worksheet!$G$16,BuildingSize,0)+1,FALSE),IF(IFERROR(SEARCH(\"Propane\",Worksheet!$G$17),0)>0,VLOOKUP(\"Propane\",HVACg_Lookup,MATCH(Worksheet!$G$16,BuildingSize,0)+1,FALSE),0)))/IF(Worksheet!M122>0,Worksheet!M122,Worksheet!L122),0),\"\")","v":""},"",null,null,null,{"$f":"IF(ISBLANK(Worksheet!M122)=FALSE,Worksheet!M122,\"\")","v":0},{"$f":"IF(Worksheet!A122=\"-\",\"\",IF(Worksheet!A122=\"\",S98,Worksheet!A122))","v":""},{"$f":"IF(S99=\"\",\"\",IF(AND(Worksheet!G122=\"\",Worksheet!H122=\"\")=TRUE,T98,IF(Worksheet!G122=\"\",\"\",Worksheet!G122)))","v":""},{"$f":"IF(S99=\"\",\"\",IF(AND(Worksheet!G122=\"\",Worksheet!H122=\"\")=TRUE,U98,IF(Worksheet!H122=\"\",\"\",Worksheet!H122)))","v":""},{"$f":"IF(Worksheet!N122=\"\",\"\",Worksheet!N122)","v":""},{"$f":"IF(Worksheet!O122=\"\",\"\",Worksheet!O122)","v":""},{"$f":"IF(Worksheet!F122=0,\"\",Worksheet!F122)","v":""},{"$f":"IF(Worksheet!P122=0,\"\",Worksheet!P122)","v":""},{"$f":"IF(Worksheet!$A$11=TRUE,\"Y\",\"N\")","v":"N"},{"$f":"IF(Worksheet!$A$12=TRUE,\"Y\",\"N\")","v":"N"},{"$f":"IF(Worksheet!$B$11=TRUE,\"Y\",\"N\")","v":"N"},{"$f":"IF(Worksheet!$B$12=TRUE,\"Y\",\"N\")","v":"N"},{"$f":"IF(Worksheet!$C$11=TRUE,\"Y\",\"N\")","v":"N"},{"$f":"IF(Worksheet!$C$12=TRUE,\"Y\",\"N\")","v":"N"},""]
[{"$f":"IF(ISERROR(VLOOKUP(Worksheet!N123,MeasureLookup,2,FALSE))=FALSE,VLOOKUP(Worksheet!N123,MeasureLookup,2,FALSE),\"\")","v":""},{"$f":"Worksheet!Q123","v":0},{"$f":"Worksheet!R123","v":0},{"$f":"IF(ISERROR(Worksheet!P123)=FALSE,Worksheet!P123,\"\")","v":0},"Watts",null,null,{"$f":"IF(Worksheet!AP123<>\"\",IF(Worksheet!AP123>0,Worksheet!AP123/IF(Worksheet!M123>0,Worksheet!M123,Worksheet!L123),\"\"),\"\")","v":""},{"$f":"IF(ISBLANK(Worksheet!L123)=FALSE,Worksheet!L123,\"\")","v":0},{"$f":"IF(Worksheet!L123<>0, IFERROR(VLOOKUP(Worksheet!$C$16,SavingsSupportTable,3,FALSE)*Worksheet!AQ123*IFERROR(1+VLOOKUP(Worksheet!$C$16,SavingsSupportTable,MATCH(Worksheet!$G$17,HVACe_Options,0)+4,FALSE),1)/IF(Worksheet!M123>0,Worksheet!M123,Worksheet!L123),\"\"),\"\")","v":""},{"$f":"IF(Worksheet!L123<>0, IFERROR(VLOOKUP(Worksheet!$C$16,SavingsSupportTable,2,FALSE)*Worksheet!AQ123*IF(IFERROR(MATCH(Worksheet!$G$17,HVACe_Options,0),0)>0,1+VLOOKUP(Worksheet!$C$16,SavingsSupportTable,4,FALSE),1)/IF(Worksheet!M123>0,Worksheet!M123,Worksheet!L123),\"\"),\"\")","v":""},"",{"$f":"IF(Worksheet!L123<>0,IFERROR(VLOOKUP(Worksheet!$C$16,SavingsSupportTable,3,FALSE)*Worksheet!AQ123*IF(IFERROR(SEARCH(\"Gas\",Worksheet!$G$17),0)>0,VLOOKUP(\"Gas\",HVACg_Lookup,MATCH(Worksheet!$G$16,BuildingSize,0)+1,FALSE),IF(IFERROR(SEARCH(\"Oil\",Worksheet!$G$17),0)>0,VLOOKUP(\"Oil\",HVACg_Lookup,MATCH(Worksheet!$G$16,BuildingSize,0)+1,FALSE),IF(IFERROR(SEARCH(\"Propane\",Worksheet!$G$17),0)>0,VLOOKUP(\"Propane\",HVACg_Lookup,MATCH(Worksheet!$G$16,BuildingSize,0)+1,FALSE),0)))/IF(Worksheet!M123>0,Worksheet!M123,Worksheet!L123),0),\"\")","v":""},"",null,null,null,{"$f":"IF(ISBLANK(Worksheet!M123)=FALSE,Worksheet!M123,\"\")","v":0},{"$f":"IF(Worksheet!A123=\"-\",\"\",IF(Worksheet!A123=\"\",S99,Worksheet!A123))","v":""},{"$f":"IF(S100=\"\",\"\",IF(AND(Worksheet!G123=\"\",Worksheet!H123=\"\")=TRUE,T99,IF(Worksheet!G123=\"\",\"\",Worksheet!G123)))","v":""},{"$f":"IF(S100=\"\",\"\",IF(AND(Worksheet!G123=\"\",Worksheet!H123=\"\")=TRUE,U99,IF(Worksheet!H123=\"\",\"\",Worksheet!H123)))","v":""},{"$f":"IF(Worksheet!N123=\"\",\"\",Worksheet!N123)","v":""},{"$f":"IF(Worksheet!O123=\"\",\"\",Worksheet!O123)","v":""},{"$f":"IF(Worksheet!F123=0,\"\",Worksheet!F123)","v":""},{"$f":"IF(Worksheet!P123=0,\"\",Worksheet!P123)","v":""},{"$f":"IF(Worksheet!$A$11=TRUE,\"Y\",\"N\")","v":"N"},{"$f":"IF(Worksheet!$A$12=TRUE,\"Y\",\"N\")","v":"N"},{"$f":"IF(Worksheet!$B$11=TRUE,\"Y\",\"N\")","v":"N"},{"$f":"IF(Worksheet!$B$12=TRUE,\"Y\",\"N\")","v":"N"},{"$f":"IF(Worksheet!$C$11=TRUE,\"Y\",\"N\")","v":"N"},{"$f":"IF(Worksheet!$C$12=TRUE,\"Y\",\"N\")","v":"N"},""]
[{"$f":"IF(ISERROR(VLOOKUP(Worksheet!N124,MeasureLookup,2,FALSE))=FALSE,VLOOKUP(Worksheet!N124,MeasureLookup,2,FALSE),\"\")","v":""},{"$f":"Worksheet!Q124","v":0},{"$f":"Worksheet!R124","v":0},{"$f":"IF(ISERROR(Worksheet!P124)=FALSE,Worksheet!P124,\"\")","v":0},"Watts",null,null,{"$f":"IF(Worksheet!AP124<>\"\",IF(Worksheet!AP124>0,Worksheet!AP124/IF(Worksheet!M124>0,Worksheet!M124,Worksheet!L124),\"\"),\"\")","v":""},{"$f":"IF(ISBLANK(Worksheet!L124)=FALSE,Worksheet!L124,\"\")","v":0},{"$f":"IF(Worksheet!L124<>0, IFERROR(VLOOKUP(Worksheet!$C$16,SavingsSupportTable,3,FALSE)*Worksheet!AQ124*IFERROR(1+VLOOKUP(Worksheet!$C$16,SavingsSupportTable,MATCH(Worksheet!$G$17,HVACe_Options,0)+4,FALSE),1)/IF(Worksheet!M124>0,Worksheet!M124,Worksheet!L124),\"\"),\"\")","v":""},{"$f":"IF(Worksheet!L124<>0, IFERROR(VLOOKUP(Worksheet!$C$16,SavingsSupportTable,2,FALSE)*Worksheet!AQ124*IF(IFERROR(MATCH(Worksheet!$G$17,HVACe_Options,0),0)>0,1+VLOOKUP(Worksheet!$C$16,SavingsSupportTable,4,FALSE),1)/IF(Worksheet!M124>0,Worksheet!M124,Worksheet!L124),\"\"),\"\")","v":""},"",{"$f":"IF(Worksheet!L124<>0,IFERROR(VLOOKUP(Worksheet!$C$16,SavingsSupportTable,3,FALSE)*Worksheet!AQ124*IF(IFERROR(SEARCH(\"Gas\",Worksheet!$G$17),0)>0,VLOOKUP(\"Gas\",HVACg_Lookup,MATCH(Worksheet!$G$16,BuildingSize,0)+1,FALSE),IF(IFERROR(SEARCH(\"Oil\",Worksheet!$G$17),0)>0,VLOOKUP(\"Oil\",HVACg_Lookup,MATCH(Worksheet!$G$16,BuildingSize,0)+1,FALSE),IF(IFERROR(SEARCH(\"Propane\",Worksheet!$G$17),0)>0,VLOOKUP(\"Propane\",HVACg_Lookup,MATCH(Worksheet!$G$16,BuildingSize,0)+1,FALSE),0)))/IF(Worksheet!M124>0,Worksheet!M124,Worksheet!L124),0),\"\")","v":""},"",null,null,null,{"$f":"IF(ISBLANK(Worksheet!M124)=FALSE,Worksheet!M124,\"\")","v":0},{"$f":"IF(Worksheet!A124=\"-\",\"\",IF(Worksheet!A124=\"\",S100,Worksheet!A124))","v":""},{"$f":"IF(S101=\"\",\"\",IF(AND(Worksheet!G124=\"\",Worksheet!H124=\"\")=TRUE,T100,IF(Worksheet!G124=\"\",\"\",Worksheet!G124)))","v":""},{"$f":"IF(S101=\"\",\"\",IF(AND(Worksheet!G124=\"\",Worksheet!H124=\"\")=TRUE,U100,IF(Worksheet!H124=\"\",\"\",Worksheet!H124)))","v":""},{"$f":"IF(Worksheet!N124=\"\",\"\",Worksheet!N124)","v":""},{"$f":"IF(Worksheet!O124=\"\",\"\",Worksheet!O124)","v":""},{"$f":"IF(Worksheet!F124=0,\"\",Worksheet!F124)","v":""},{"$f":"IF(Worksheet!P124=0,\"\",Worksheet!P124)","v":""},{"$f":"IF(Worksheet!$A$11=TRUE,\"Y\",\"N\")","v":"N"},{"$f":"IF(Worksheet!$A$12=TRUE,\"Y\",\"N\")","v":"N"},{"$f":"IF(Worksheet!$B$11=TRUE,\"Y\",\"N\")","v":"N"},{"$f":"IF(Worksheet!$B$12=TRUE,\"Y\",\"N\")","v":"N"},{"$f":"IF(Worksheet!$C$11=TRUE,\"Y\",\"N\")","v":"N"},{"$f":"IF(Worksheet!$C$12=TRUE,\"Y\",\"N\")","v":"N"},""]
[{"$f":"IF(ISERROR(VLOOKUP(Worksheet!N125,MeasureLookup,2,FALSE))=FALSE,VLOOKUP(Worksheet!N125,MeasureLookup,2,FALSE),\"\")","v":""},{"$f":"Worksheet!Q125","v":0},{"$f":"Worksheet!R125","v":0},{"$f":"IF(ISERROR(Worksheet!P125)=FALSE,Worksheet!P125,\"\")","v":0},"Watts",null,null,{"$f":"IF(Worksheet!AP125<>\"\",IF(Worksheet!AP125>0,Worksheet!AP125/IF(Worksheet!M125>0,Worksheet!M125,Worksheet!L125),\"\"),\"\")","v":""},{"$f":"IF(ISBLANK(Worksheet!L125)=FALSE,Worksheet!L125,\"\")","v":0},{"$f":"IF(Worksheet!L125<>0, IFERROR(VLOOKUP(Worksheet!$C$16,SavingsSupportTable,3,FALSE)*Worksheet!AQ125*IFERROR(1+VLOOKUP(Worksheet!$C$16,SavingsSupportTable,MATCH(Worksheet!$G$17,HVACe_Options,0)+4,FALSE),1)/IF(Worksheet!M125>0,Worksheet!M125,Worksheet!L125),\"\"),\"\")","v":""},{"$f":"IF(Worksheet!L125<>0, IFERROR(VLOOKUP(Worksheet!$C$16,SavingsSupportTable,2,FALSE)*Worksheet!AQ125*IF(IFERROR(MATCH(Worksheet!$G$17,HVACe_Options,0),0)>0,1+VLOOKUP(Worksheet!$C$16,SavingsSupportTable,4,FALSE),1)/IF(Worksheet!M125>0,Worksheet!M125,Worksheet!L125),\"\"),\"\")","v":""},"",{"$f":"IF(Worksheet!L125<>0,IFERROR(VLOOKUP(Worksheet!$C$16,SavingsSupportTable,3,FALSE)*Worksheet!AQ125*IF(IFERROR(SEARCH(\"Gas\",Worksheet!$G$17),0)>0,VLOOKUP(\"Gas\",HVACg_Lookup,MATCH(Worksheet!$G$16,BuildingSize,0)+1,FALSE),IF(IFERROR(SEARCH(\"Oil\",Worksheet!$G$17),0)>0,VLOOKUP(\"Oil\",HVACg_Lookup,MATCH(Worksheet!$G$16,BuildingSize,0)+1,FALSE),IF(IFERROR(SEARCH(\"Propane\",Worksheet!$G$17),0)>0,VLOOKUP(\"Propane\",HVACg_Lookup,MATCH(Worksheet!$G$16,BuildingSize,0)+1,FALSE),0)))/IF(Worksheet!M125>0,Worksheet!M125,Worksheet!L125),0),\"\")","v":""},"",null,null,null,{"$f":"IF(ISBLANK(Worksheet!M125)=FALSE,Worksheet!M125,\"\")","v":0},{"$f":"IF(Worksheet!A125=\"-\",\"\",IF(Worksheet!A125=\"\",S101,Worksheet!A125))","v":""},{"$f":"IF(S102=\"\",\"\",IF(AND(Worksheet!G125=\"\",Worksheet!H125=\"\")=TRUE,T101,IF(Worksheet!G125=\"\",\"\",Worksheet!G125)))","v":""},{"$f":"IF(S102=\"\",\"\",IF(AND(Worksheet!G125=\"\",Worksheet!H125=\"\")=TRUE,U101,IF(Worksheet!H125=\"\",\"\",Worksheet!H125)))","v":""},{"$f":"IF(Worksheet!N125=\"\",\"\",Worksheet!N125)","v":""},{"$f":"IF(Worksheet!O125=\"\",\"\",Worksheet!O125)","v":""},{"$f":"IF(Worksheet!F125=0,\"\",Worksheet!F125)","v":""},{"$f":"IF(Worksheet!P125=0,\"\",Worksheet!P125)","v":""},{"$f":"IF(Worksheet!$A$11=TRUE,\"Y\",\"N\")","v":"N"},{"$f":"IF(Worksheet!$A$12=TRUE,\"Y\",\"N\")","v":"N"},{"$f":"IF(Worksheet!$B$11=TRUE,\"Y\",\"N\")","v":"N"},{"$f":"IF(Worksheet!$B$12=TRUE,\"Y\",\"N\")","v":"N"},{"$f":"IF(Worksheet!$C$11=TRUE,\"Y\",\"N\")","v":"N"},{"$f":"IF(Worksheet!$C$12=TRUE,\"Y\",\"N\")","v":"N"},""]
[{"$f":"IF(ISERROR(VLOOKUP(Worksheet!N126,MeasureLookup,2,FALSE))=FALSE,VLOOKUP(Worksheet!N126,MeasureLookup,2,FALSE),\"\")","v":""},{"$f":"Worksheet!Q126","v":0},{"$f":"Worksheet!R126","v":0},{"$f":"IF(ISERROR(Worksheet!P126)=FALSE,Worksheet!P126,\"\")","v":0},"Watts",null,null,{"$f":"IF(Worksheet!AP126<>\"\",IF(Worksheet!AP126>0,Worksheet!AP126/IF(Worksheet!M126>0,Worksheet!M126,Worksheet!L126),\"\"),\"\")","v":""},{"$f":"IF(ISBLANK(Worksheet!L126)=FALSE,Worksheet!L126,\"\")","v":0},{"$f":"IF(Worksheet!L126<>0, IFERROR(VLOOKUP(Worksheet!$C$16,SavingsSupportTable,3,FALSE)*Worksheet!AQ126*IFERROR(1+VLOOKUP(Worksheet!$C$16,SavingsSupportTable,MATCH(Worksheet!$G$17,HVACe_Options,0)+4,FALSE),1)/IF(Worksheet!M126>0,Worksheet!M126,Worksheet!L126),\"\"),\"\")","v":""},{"$f":"IF(Worksheet!L126<>0, IFERROR(VLOOKUP(Worksheet!$C$16,SavingsSupportTable,2,FALSE)*Worksheet!AQ126*IF(IFERROR(MATCH(Worksheet!$G$17,HVACe_Options,0),0)>0,1+VLOOKUP(Worksheet!$C$16,SavingsSupportTable,4,FALSE),1)/IF(Worksheet!M126>0,Worksheet!M126,Worksheet!L126),\"\"),\"\")","v":""},"",{"$f":"IF(Worksheet!L126<>0,IFERROR(VLOOKUP(Worksheet!$C$16,SavingsSupportTable,3,FALSE)*Worksheet!AQ126*IF(IFERROR(SEARCH(\"Gas\",Worksheet!$G$17),0)>0,VLOOKUP(\"Gas\",HVACg_Lookup,MATCH(Worksheet!$G$16,BuildingSize,0)+1,FALSE),IF(IFERROR(SEARCH(\"Oil\",Worksheet!$G$17),0)>0,VLOOKUP(\"Oil\",HVACg_Lookup,MATCH(Worksheet!$G$16,BuildingSize,0)+1,FALSE),IF(IFERROR(SEARCH(\"Propane\",Worksheet!$G$17),0)>0,VLOOKUP(\"Propane\",HVACg_Lookup,MATCH(Worksheet!$G$16,BuildingSize,0)+1,FALSE),0)))/IF(Worksheet!M126>0,Worksheet!M126,Worksheet!L126),0),\"\")","v":""},"",null,null,null,{"$f":"IF(ISBLANK(Worksheet!M126)=FALSE,Worksheet!M126,\"\")","v":0},{"$f":"IF(Worksheet!A126=\"-\",\"\",IF(Worksheet!A126=\"\",S102,Worksheet!A126))","v":""},{"$f":"IF(S103=\"\",\"\",IF(AND(Worksheet!G126=\"\",Worksheet!H126=\"\")=TRUE,T102,IF(Worksheet!G126=\"\",\"\",Worksheet!G126)))","v":""},{"$f":"IF(S103=\"\",\"\",IF(AND(Worksheet!G126=\"\",Worksheet!H126=\"\")=TRUE,U102,IF(Worksheet!H126=\"\",\"\",Worksheet!H126)))","v":""},{"$f":"IF(Worksheet!N126=\"\",\"\",Worksheet!N126)","v":""},{"$f":"IF(Worksheet!O126=\"\",\"\",Worksheet!O126)","v":""},{"$f":"IF(Worksheet!F126=0,\"\",Worksheet!F126)","v":""},{"$f":"IF(Worksheet!P126=0,\"\",Worksheet!P126)","v":""},{"$f":"IF(Worksheet!$A$11=TRUE,\"Y\",\"N\")","v":"N"},{"$f":"IF(Worksheet!$A$12=TRUE,\"Y\",\"N\")","v":"N"},{"$f":"IF(Worksheet!$B$11=TRUE,\"Y\",\"N\")","v":"N"},{"$f":"IF(Worksheet!$B$12=TRUE,\"Y\",\"N\")","v":"N"},{"$f":"IF(Worksheet!$C$11=TRUE,\"Y\",\"N\")","v":"N"},{"$f":"IF(Worksheet!$C$12=TRUE,\"Y\",\"N\")","v":"N"},""]
[{"$f":"IF(ISERROR(VLOOKUP(Worksheet!N127,MeasureLookup,2,FALSE))=FALSE,VLOOKUP(Worksheet!N127,MeasureLookup,2,FALSE),\"\")","v":""},{"$f":"Worksheet!Q127","v":0},{"$f":"Worksheet!R127","v":0},{"$f":"IF(ISERROR(Worksheet!P127)=FALSE,Worksheet!P127,\"\")","v":0},"Watts",null,null,{"$f":"IF(Worksheet!AP127<>\"\",IF(Worksheet!AP127>0,Worksheet!AP127/IF(Worksheet!M127>0,Worksheet!M127,Worksheet!L127),\"\"),\"\")","v":""},{"$f":"IF(ISBLANK(Worksheet!L127)=FALSE,Worksheet!L127,\"\")","v":0},{"$f":"IF(Worksheet!L127<>0, IFERROR(VLOOKUP(Worksheet!$C$16,SavingsSupportTable,3,FALSE)*Worksheet!AQ127*IFERROR(1+VLOOKUP(Worksheet!$C$16,SavingsSupportTable,MATCH(Worksheet!$G$17,HVACe_Options,0)+4,FALSE),1)/IF(Worksheet!M127>0,Worksheet!M127,Worksheet!L127),\"\"),\"\")","v":""},{"$f":"IF(Worksheet!L127<>0, IFERROR(VLOOKUP(Worksheet!$C$16,SavingsSupportTable,2,FALSE)*Worksheet!AQ127*IF(IFERROR(MATCH(Worksheet!$G$17,HVACe_Options,0),0)>0,1+VLOOKUP(Worksheet!$C$16,SavingsSupportTable,4,FALSE),1)/IF(Worksheet!M127>0,Worksheet!M127,Worksheet!L127),\"\"),\"\")","v":""},"",{"$f":"IF(Worksheet!L127<>0,IFERROR(VLOOKUP(Worksheet!$C$16,SavingsSupportTable,3,FALSE)*Worksheet!AQ127*IF(IFERROR(SEARCH(\"Gas\",Worksheet!$G$17),0)>0,VLOOKUP(\"Gas\",HVACg_Lookup,MATCH(Worksheet!$G$16,BuildingSize,0)+1,FALSE),IF(IFERROR(SEARCH(\"Oil\",Worksheet!$G$17),0)>0,VLOOKUP(\"Oil\",HVACg_Lookup,MATCH(Worksheet!$G$16,BuildingSize,0)+1,FALSE),IF(IFERROR(SEARCH(\"Propane\",Worksheet!$G$17),0)>0,VLOOKUP(\"Propane\",HVACg_Lookup,MATCH(Worksheet!$G$16,BuildingSize,0)+1,FALSE),0)))/IF(Worksheet!M127>0,Worksheet!M127,Worksheet!L127),0),\"\")","v":""},"",null,null,null,{"$f":"IF(ISBLANK(Worksheet!M127)=FALSE,Worksheet!M127,\"\")","v":0},{"$f":"IF(Worksheet!A127=\"-\",\"\",IF(Worksheet!A127=\"\",S103,Worksheet!A127))","v":""},{"$f":"IF(S104=\"\",\"\",IF(AND(Worksheet!G127=\"\",Worksheet!H127=\"\")=TRUE,T103,IF(Worksheet!G127=\"\",\"\",Worksheet!G127)))","v":""},{"$f":"IF(S104=\"\",\"\",IF(AND(Worksheet!G127=\"\",Worksheet!H127=\"\")=TRUE,U103,IF(Worksheet!H127=\"\",\"\",Worksheet!H127)))","v":""},{"$f":"IF(Worksheet!N127=\"\",\"\",Worksheet!N127)","v":""},{"$f":"IF(Worksheet!O127=\"\",\"\",Worksheet!O127)","v":""},{"$f":"IF(Worksheet!F127=0,\"\",Worksheet!F127)","v":""},{"$f":"IF(Worksheet!P127=0,\"\",Worksheet!P127)","v":""},{"$f":"IF(Worksheet!$A$11=TRUE,\"Y\",\"N\")","v":"N"},{"$f":"IF(Worksheet!$A$12=TRUE,\"Y\",\"N\")","v":"N"},{"$f":"IF(Worksheet!$B$11=TRUE,\"Y\",\"N\")","v":"N"},{"$f":"IF(Worksheet!$B$12=TRUE,\"Y\",\"N\")","v":"N"},{"$f":"IF(Worksheet!$C$11=TRUE,\"Y\",\"N\")","v":"N"},{"$f":"IF(Worksheet!$C$12=TRUE,\"Y\",\"N\")","v":"N"},""]
[{"$f":"IF(ISERROR(VLOOKUP(Worksheet!N128,MeasureLookup,2,FALSE))=FALSE,VLOOKUP(Worksheet!N128,MeasureLookup,2,FALSE),\"\")","v":""},{"$f":"Worksheet!Q128","v":0},{"$f":"Worksheet!R128","v":0},{"$f":"IF(ISERROR(Worksheet!P128)=FALSE,Worksheet!P128,\"\")","v":0},"Watts",null,null,{"$f":"IF(Worksheet!AP128<>\"\",IF(Worksheet!AP128>0,Worksheet!AP128/IF(Worksheet!M128>0,Worksheet!M128,Worksheet!L128),\"\"),\"\")","v":""},{"$f":"IF(ISBLANK(Worksheet!L128)=FALSE,Worksheet!L128,\"\")","v":0},{"$f":"IF(Worksheet!L128<>0, IFERROR(VLOOKUP(Worksheet!$C$16,SavingsSupportTable,3,FALSE)*Worksheet!AQ128*IFERROR(1+VLOOKUP(Worksheet!$C$16,SavingsSupportTable,MATCH(Worksheet!$G$17,HVACe_Options,0)+4,FALSE),1)/IF(Worksheet!M128>0,Worksheet!M128,Worksheet!L128),\"\"),\"\")","v":""},{"$f":"IF(Worksheet!L128<>0, IFERROR(VLOOKUP(Worksheet!$C$16,SavingsSupportTable,2,FALSE)*Worksheet!AQ128*IF(IFERROR(MATCH(Worksheet!$G$17,HVACe_Options,0),0)>0,1+VLOOKUP(Worksheet!$C$16,SavingsSupportTable,4,FALSE),1)/IF(Worksheet!M128>0,Worksheet!M128,Worksheet!L128),\"\"),\"\")","v":""},"",{"$f":"IF(Worksheet!L128<>0,IFERROR(VLOOKUP(Worksheet!$C$16,SavingsSupportTable,3,FALSE)*Worksheet!AQ128*IF(IFERROR(SEARCH(\"Gas\",Worksheet!$G$17),0)>0,VLOOKUP(\"Gas\",HVACg_Lookup,MATCH(Worksheet!$G$16,BuildingSize,0)+1,FALSE),IF(IFERROR(SEARCH(\"Oil\",Worksheet!$G$17),0)>0,VLOOKUP(\"Oil\",HVACg_Lookup,MATCH(Worksheet!$G$16,BuildingSize,0)+1,FALSE),IF(IFERROR(SEARCH(\"Propane\",Worksheet!$G$17),0)>0,VLOOKUP(\"Propane\",HVACg_Lookup,MATCH(Worksheet!$G$16,BuildingSize,0)+1,FALSE),0)))/IF(Worksheet!M128>0,Worksheet!M128,Worksheet!L128),0),\"\")","v":""},"",null,null,null,{"$f":"IF(ISBLANK(Worksheet!M128)=FALSE,Worksheet!M128,\"\")","v":0},{"$f":"IF(Worksheet!A128=\"-\",\"\",IF(Worksheet!A128=\"\",S104,Worksheet!A128))","v":""},{"$f":"IF(S105=\"\",\"\",IF(AND(Worksheet!G128=\"\",Worksheet!H128=\"\")=TRUE,T104,IF(Worksheet!G128=\"\",\"\",Worksheet!G128)))","v":""},{"$f":"IF(S105=\"\",\"\",IF(AND(Worksheet!G128=\"\",Worksheet!H128=\"\")=TRUE,U104,IF(Worksheet!H128=\"\",\"\",Worksheet!H128)))","v":""},{"$f":"IF(Worksheet!N128=\"\",\"\",Worksheet!N128)","v":""},{"$f":"IF(Worksheet!O128=\"\",\"\",Worksheet!O128)","v":""},{"$f":"IF(Worksheet!F128=0,\"\",Worksheet!F128)","v":""},{"$f":"IF(Worksheet!P128=0,\"\",Worksheet!P128)","v":""},{"$f":"IF(Worksheet!$A$11=TRUE,\"Y\",\"N\")","v":"N"},{"$f":"IF(Worksheet!$A$12=TRUE,\"Y\",\"N\")","v":"N"},{"$f":"IF(Worksheet!$B$11=TRUE,\"Y\",\"N\")","v":"N"},{"$f":"IF(Worksheet!$B$12=TRUE,\"Y\",\"N\")","v":"N"},{"$f":"IF(Worksheet!$C$11=TRUE,\"Y\",\"N\")","v":"N"},{"$f":"IF(Worksheet!$C$12=TRUE,\"Y\",\"N\")","v":"N"},""]
[{"$f":"IF(ISERROR(VLOOKUP(Worksheet!N129,MeasureLookup,2,FALSE))=FALSE,VLOOKUP(Worksheet!N129,MeasureLookup,2,FALSE),\"\")","v":""},{"$f":"Worksheet!Q129","v":0},{"$f":"Worksheet!R129","v":0},{"$f":"IF(ISERROR(Worksheet!P129)=FALSE,Worksheet!P129,\"\")","v":0},"Watts",null,null,{"$f":"IF(Worksheet!AP129<>\"\",IF(Worksheet!AP129>0,Worksheet!AP129/IF(Worksheet!M129>0,Worksheet!M129,Worksheet!L129),\"\"),\"\")","v":""},{"$f":"IF(ISBLANK(Worksheet!L129)=FALSE,Worksheet!L129,\"\")","v":0},{"$f":"IF(Worksheet!L129<>0, IFERROR(VLOOKUP(Worksheet!$C$16,SavingsSupportTable,3,FALSE)*Worksheet!AQ129*IFERROR(1+VLOOKUP(Worksheet!$C$16,SavingsSupportTable,MATCH(Worksheet!$G$17,HVACe_Options,0)+4,FALSE),1)/IF(Worksheet!M129>0,Worksheet!M129,Worksheet!L129),\"\"),\"\")","v":""},{"$f":"IF(Worksheet!L129<>0, IFERROR(VLOOKUP(Worksheet!$C$16,SavingsSupportTable,2,FALSE)*Worksheet!AQ129*IF(IFERROR(MATCH(Worksheet!$G$17,HVACe_Options,0),0)>0,1+VLOOKUP(Worksheet!$C$16,SavingsSupportTable,4,FALSE),1)/IF(Worksheet!M129>0,Worksheet!M129,Worksheet!L129),\"\"),\"\")","v":""},"",{"$f":"IF(Worksheet!L129<>0,IFERROR(VLOOKUP(Worksheet!$C$16,SavingsSupportTable,3,FALSE)*Worksheet!AQ129*IF(IFERROR(SEARCH(\"Gas\",Worksheet!$G$17),0)>0,VLOOKUP(\"Gas\",HVACg_Lookup,MATCH(Worksheet!$G$16,BuildingSize,0)+1,FALSE),IF(IFERROR(SEARCH(\"Oil\",Worksheet!$G$17),0)>0,VLOOKUP(\"Oil\",HVACg_Lookup,MATCH(Worksheet!$G$16,BuildingSize,0)+1,FALSE),IF(IFERROR(SEARCH(\"Propane\",Worksheet!$G$17),0)>0,VLOOKUP(\"Propane\",HVACg_Lookup,MATCH(Worksheet!$G$16,BuildingSize,0)+1,FALSE),0)))/IF(Worksheet!M129>0,Worksheet!M129,Worksheet!L129),0),\"\")","v":""},"",null,null,null,{"$f":"IF(ISBLANK(Worksheet!M129)=FALSE,Worksheet!M129,\"\")","v":0},{"$f":"IF(Worksheet!A129=\"-\",\"\",IF(Worksheet!A129=\"\",S105,Worksheet!A129))","v":""},{"$f":"IF(S106=\"\",\"\",IF(AND(Worksheet!G129=\"\",Worksheet!H129=\"\")=TRUE,T105,IF(Worksheet!G129=\"\",\"\",Worksheet!G129)))","v":""},{"$f":"IF(S106=\"\",\"\",IF(AND(Worksheet!G129=\"\",Worksheet!H129=\"\")=TRUE,U105,IF(Worksheet!H129=\"\",\"\",Worksheet!H129)))","v":""},{"$f":"IF(Worksheet!N129=\"\",\"\",Worksheet!N129)","v":""},{"$f":"IF(Worksheet!O129=\"\",\"\",Worksheet!O129)","v":""},{"$f":"IF(Worksheet!F129=0,\"\",Worksheet!F129)","v":""},{"$f":"IF(Worksheet!P129=0,\"\",Worksheet!P129)","v":""},{"$f":"IF(Worksheet!$A$11=TRUE,\"Y\",\"N\")","v":"N"},{"$f":"IF(Worksheet!$A$12=TRUE,\"Y\",\"N\")","v":"N"},{"$f":"IF(Worksheet!$B$11=TRUE,\"Y\",\"N\")","v":"N"},{"$f":"IF(Worksheet!$B$12=TRUE,\"Y\",\"N\")","v":"N"},{"$f":"IF(Worksheet!$C$11=TRUE,\"Y\",\"N\")","v":"N"},{"$f":"IF(Worksheet!$C$12=TRUE,\"Y\",\"N\")","v":"N"},""]
[{"$f":"IF(ISERROR(VLOOKUP(Worksheet!N130,MeasureLookup,2,FALSE))=FALSE,VLOOKUP(Worksheet!N130,MeasureLookup,2,FALSE),\"\")","v":""},{"$f":"Worksheet!Q130","v":0},{"$f":"Worksheet!R130","v":0},{"$f":"IF(ISERROR(Worksheet!P130)=FALSE,Worksheet!P130,\"\")","v":0},"Watts",null,null,{"$f":"IF(Worksheet!AP130<>\"\",IF(Worksheet!AP130>0,Worksheet!AP130/IF(Worksheet!M130>0,Worksheet!M130,Worksheet!L130),\"\"),\"\")","v":""},{"$f":"IF(ISBLANK(Worksheet!L130)=FALSE,Worksheet!L130,\"\")","v":0},{"$f":"IF(Worksheet!L130<>0, IFERROR(VLOOKUP(Worksheet!$C$16,SavingsSupportTable,3,FALSE)*Worksheet!AQ130*IFERROR(1+VLOOKUP(Worksheet!$C$16,SavingsSupportTable,MATCH(Worksheet!$G$17,HVACe_Options,0)+4,FALSE),1)/IF(Worksheet!M130>0,Worksheet!M130,Worksheet!L130),\"\"),\"\")","v":""},{"$f":"IF(Worksheet!L130<>0, IFERROR(VLOOKUP(Worksheet!$C$16,SavingsSupportTable,2,FALSE)*Worksheet!AQ130*IF(IFERROR(MATCH(Worksheet!$G$17,HVACe_Options,0),0)>0,1+VLOOKUP(Worksheet!$C$16,SavingsSupportTable,4,FALSE),1)/IF(Worksheet!M130>0,Worksheet!M130,Worksheet!L130),\"\"),\"\")","v":""},"",{"$f":"IF(Worksheet!L130<>0,IFERROR(VLOOKUP(Worksheet!$C$16,SavingsSupportTable,3,FALSE)*Worksheet!AQ130*IF(IFERROR(SEARCH(\"Gas\",Worksheet!$G$17),0)>0,VLOOKUP(\"Gas\",HVACg_Lookup,MATCH(Worksheet!$G$16,BuildingSize,0)+1,FALSE),IF(IFERROR(SEARCH(\"Oil\",Worksheet!$G$17),0)>0,VLOOKUP(\"Oil\",HVACg_Lookup,MATCH(Worksheet!$G$16,BuildingSize,0)+1,FALSE),IF(IFERROR(SEARCH(\"Propane\",Worksheet!$G$17),0)>0,VLOOKUP(\"Propane\",HVACg_Lookup,MATCH(Worksheet!$G$16,BuildingSize,0)+1,FALSE),0)))/IF(Worksheet!M130>0,Worksheet!M130,Worksheet!L130),0),\"\")","v":""},"",null,null,null,{"$f":"IF(ISBLANK(Worksheet!M130)=FALSE,Worksheet!M130,\"\")","v":0},{"$f":"IF(Worksheet!A130=\"-\",\"\",IF(Worksheet!A130=\"\",S106,Worksheet!A130))","v":""},{"$f":"IF(S107=\"\",\"\",IF(AND(Worksheet!G130=\"\",Worksheet!H130=\"\")=TRUE,T106,IF(Worksheet!G130=\"\",\"\",Worksheet!G130)))","v":""},{"$f":"IF(S107=\"\",\"\",IF(AND(Worksheet!G130=\"\",Worksheet!H130=\"\")=TRUE,U106,IF(Worksheet!H130=\"\",\"\",Worksheet!H130)))","v":""},{"$f":"IF(Worksheet!N130=\"\",\"\",Worksheet!N130)","v":""},{"$f":"IF(Worksheet!O130=\"\",\"\",Worksheet!O130)","v":""},{"$f":"IF(Worksheet!F130=0,\"\",Worksheet!F130)","v":""},{"$f":"IF(Worksheet!P130=0,\"\",Worksheet!P130)","v":""},{"$f":"IF(Worksheet!$A$11=TRUE,\"Y\",\"N\")","v":"N"},{"$f":"IF(Worksheet!$A$12=TRUE,\"Y\",\"N\")","v":"N"},{"$f":"IF(Worksheet!$B$11=TRUE,\"Y\",\"N\")","v":"N"},{"$f":"IF(Worksheet!$B$12=TRUE,\"Y\",\"N\")","v":"N"},{"$f":"IF(Worksheet!$C$11=TRUE,\"Y\",\"N\")","v":"N"},{"$f":"IF(Worksheet!$C$12=TRUE,\"Y\",\"N\")","v":"N"},""]
[{"$f":"IF(ISERROR(VLOOKUP(Worksheet!N131,MeasureLookup,2,FALSE))=FALSE,VLOOKUP(Worksheet!N131,MeasureLookup,2,FALSE),\"\")","v":""},{"$f":"Worksheet!Q131","v":0},{"$f":"Worksheet!R131","v":0},{"$f":"IF(ISERROR(Worksheet!P131)=FALSE,Worksheet!P131,\"\")","v":0},"Watts",null,null,{"$f":"IF(Worksheet!AP131<>\"\",IF(Worksheet!AP131>0,Worksheet!AP131/IF(Worksheet!M131>0,Worksheet!M131,Worksheet!L131),\"\"),\"\")","v":""},{"$f":"IF(ISBLANK(Worksheet!L131)=FALSE,Worksheet!L131,\"\")","v":0},{"$f":"IF(Worksheet!L131<>0, IFERROR(VLOOKUP(Worksheet!$C$16,SavingsSupportTable,3,FALSE)*Worksheet!AQ131*IFERROR(1+VLOOKUP(Worksheet!$C$16,SavingsSupportTable,MATCH(Worksheet!$G$17,HVACe_Options,0)+4,FALSE),1)/IF(Worksheet!M131>0,Worksheet!M131,Worksheet!L131),\"\"),\"\")","v":""},{"$f":"IF(Worksheet!L131<>0, IFERROR(VLOOKUP(Worksheet!$C$16,SavingsSupportTable,2,FALSE)*Worksheet!AQ131*IF(IFERROR(MATCH(Worksheet!$G$17,HVACe_Options,0),0)>0,1+VLOOKUP(Worksheet!$C$16,SavingsSupportTable,4,FALSE),1)/IF(Worksheet!M131>0,Worksheet!M131,Worksheet!L131),\"\"),\"\")","v":""},"",{"$f":"IF(Worksheet!L131<>0,IFERROR(VLOOKUP(Worksheet!$C$16,SavingsSupportTable,3,FALSE)*Worksheet!AQ131*IF(IFERROR(SEARCH(\"Gas\",Worksheet!$G$17),0)>0,VLOOKUP(\"Gas\",HVACg_Lookup,MATCH(Worksheet!$G$16,BuildingSize,0)+1,FALSE),IF(IFERROR(SEARCH(\"Oil\",Worksheet!$G$17),0)>0,VLOOKUP(\"Oil\",HVACg_Lookup,MATCH(Worksheet!$G$16,BuildingSize,0)+1,FALSE),IF(IFERROR(SEARCH(\"Propane\",Worksheet!$G$17),0)>0,VLOOKUP(\"Propane\",HVACg_Lookup,MATCH(Worksheet!$G$16,BuildingSize,0)+1,FALSE),0)))/IF(Worksheet!M131>0,Worksheet!M131,Worksheet!L131),0),\"\")","v":""},"",null,null,null,{"$f":"IF(ISBLANK(Worksheet!M131)=FALSE,Worksheet!M131,\"\")","v":0},{"$f":"IF(Worksheet!A131=\"-\",\"\",IF(Worksheet!A131=\"\",S107,Worksheet!A131))","v":""},{"$f":"IF(S108=\"\",\"\",IF(AND(Worksheet!G131=\"\",Worksheet!H131=\"\")=TRUE,T107,IF(Worksheet!G131=\"\",\"\",Worksheet!G131)))","v":""},{"$f":"IF(S108=\"\",\"\",IF(AND(Worksheet!G131=\"\",Worksheet!H131=\"\")=TRUE,U107,IF(Worksheet!H131=\"\",\"\",Worksheet!H131)))","v":""},{"$f":"IF(Worksheet!N131=\"\",\"\",Worksheet!N131)","v":""},{"$f":"IF(Worksheet!O131=\"\",\"\",Worksheet!O131)","v":""},{"$f":"IF(Worksheet!F131=0,\"\",Worksheet!F131)","v":""},{"$f":"IF(Worksheet!P131=0,\"\",Worksheet!P131)","v":""},{"$f":"IF(Worksheet!$A$11=TRUE,\"Y\",\"N\")","v":"N"},{"$f":"IF(Worksheet!$A$12=TRUE,\"Y\",\"N\")","v":"N"},{"$f":"IF(Worksheet!$B$11=TRUE,\"Y\",\"N\")","v":"N"},{"$f":"IF(Worksheet!$B$12=TRUE,\"Y\",\"N\")","v":"N"},{"$f":"IF(Worksheet!$C$11=TRUE,\"Y\",\"N\")","v":"N"},{"$f":"IF(Worksheet!$C$12=TRUE,\"Y\",\"N\")","v":"N"},""]
[{"$f":"IF(ISERROR(VLOOKUP(Worksheet!N132,MeasureLookup,2,FALSE))=FALSE,VLOOKUP(Worksheet!N132,MeasureLookup,2,FALSE),\"\")","v":""},{"$f":"Worksheet!Q132","v":0},{"$f":"Worksheet!R132","v":0},{"$f":"IF(ISERROR(Worksheet!P132)=FALSE,Worksheet!P132,\"\")","v":0},"Watts",null,null,{"$f":"IF(Worksheet!AP132<>\"\",IF(Worksheet!AP132>0,Worksheet!AP132/IF(Worksheet!M132>0,Worksheet!M132,Worksheet!L132),\"\"),\"\")","v":""},{"$f":"IF(ISBLANK(Worksheet!L132)=FALSE,Worksheet!L132,\"\")","v":0},{"$f":"IF(Worksheet!L132<>0, IFERROR(VLOOKUP(Worksheet!$C$16,SavingsSupportTable,3,FALSE)*Worksheet!AQ132*IFERROR(1+VLOOKUP(Worksheet!$C$16,SavingsSupportTable,MATCH(Worksheet!$G$17,HVACe_Options,0)+4,FALSE),1)/IF(Worksheet!M132>0,Worksheet!M132,Worksheet!L132),\"\"),\"\")","v":""},{"$f":"IF(Worksheet!L132<>0, IFERROR(VLOOKUP(Worksheet!$C$16,SavingsSupportTable,2,FALSE)*Worksheet!AQ132*IF(IFERROR(MATCH(Worksheet!$G$17,HVACe_Options,0),0)>0,1+VLOOKUP(Worksheet!$C$16,SavingsSupportTable,4,FALSE),1)/IF(Worksheet!M132>0,Worksheet!M132,Worksheet!L132),\"\"),\"\")","v":""},"",{"$f":"IF(Worksheet!L132<>0,IFERROR(VLOOKUP(Worksheet!$C$16,SavingsSupportTable,3,FALSE)*Worksheet!AQ132*IF(IFERROR(SEARCH(\"Gas\",Worksheet!$G$17),0)>0,VLOOKUP(\"Gas\",HVACg_Lookup,MATCH(Worksheet!$G$16,BuildingSize,0)+1,FALSE),IF(IFERROR(SEARCH(\"Oil\",Worksheet!$G$17),0)>0,VLOOKUP(\"Oil\",HVACg_Lookup,MATCH(Worksheet!$G$16,BuildingSize,0)+1,FALSE),IF(IFERROR(SEARCH(\"Propane\",Worksheet!$G$17),0)>0,VLOOKUP(\"Propane\",HVACg_Lookup,MATCH(Worksheet!$G$16,BuildingSize,0)+1,FALSE),0)))/IF(Worksheet!M132>0,Worksheet!M132,Worksheet!L132),0),\"\")","v":""},"",null,null,null,{"$f":"IF(ISBLANK(Worksheet!M132)=FALSE,Worksheet!M132,\"\")","v":0},{"$f":"IF(Worksheet!A132=\"-\",\"\",IF(Worksheet!A132=\"\",S108,Worksheet!A132))","v":""},{"$f":"IF(S109=\"\",\"\",IF(AND(Worksheet!G132=\"\",Worksheet!H132=\"\")=TRUE,T108,IF(Worksheet!G132=\"\",\"\",Worksheet!G132)))","v":""},{"$f":"IF(S109=\"\",\"\",IF(AND(Worksheet!G132=\"\",Worksheet!H132=\"\")=TRUE,U108,IF(Worksheet!H132=\"\",\"\",Worksheet!H132)))","v":""},{"$f":"IF(Worksheet!N132=\"\",\"\",Worksheet!N132)","v":""},{"$f":"IF(Worksheet!O132=\"\",\"\",Worksheet!O132)","v":""},{"$f":"IF(Worksheet!F132=0,\"\",Worksheet!F132)","v":""},{"$f":"IF(Worksheet!P132=0,\"\",Worksheet!P132)","v":""},{"$f":"IF(Worksheet!$A$11=TRUE,\"Y\",\"N\")","v":"N"},{"$f":"IF(Worksheet!$A$12=TRUE,\"Y\",\"N\")","v":"N"},{"$f":"IF(Worksheet!$B$11=TRUE,\"Y\",\"N\")","v":"N"},{"$f":"IF(Worksheet!$B$12=TRUE,\"Y\",\"N\")","v":"N"},{"$f":"IF(Worksheet!$C$11=TRUE,\"Y\",\"N\")","v":"N"},{"$f":"IF(Worksheet!$C$12=TRUE,\"Y\",\"N\")","v":"N"},""]
[{"$f":"IF(ISERROR(VLOOKUP(Worksheet!N133,MeasureLookup,2,FALSE))=FALSE,VLOOKUP(Worksheet!N133,MeasureLookup,2,FALSE),\"\")","v":""},{"$f":"Worksheet!Q133","v":0},{"$f":"Worksheet!R133","v":0},{"$f":"IF(ISERROR(Worksheet!P133)=FALSE,Worksheet!P133,\"\")","v":0},"Watts",null,null,{"$f":"IF(Worksheet!AP133<>\"\",IF(Worksheet!AP133>0,Worksheet!AP133/IF(Worksheet!M133>0,Worksheet!M133,Worksheet!L133),\"\"),\"\")","v":""},{"$f":"IF(ISBLANK(Worksheet!L133)=FALSE,Worksheet!L133,\"\")","v":0},{"$f":"IF(Worksheet!L133<>0, IFERROR(VLOOKUP(Worksheet!$C$16,SavingsSupportTable,3,FALSE)*Worksheet!AQ133*IFERROR(1+VLOOKUP(Worksheet!$C$16,SavingsSupportTable,MATCH(Worksheet!$G$17,HVACe_Options,0)+4,FALSE),1)/IF(Worksheet!M133>0,Worksheet!M133,Worksheet!L133),\"\"),\"\")","v":""},{"$f":"IF(Worksheet!L133<>0, IFERROR(VLOOKUP(Worksheet!$C$16,SavingsSupportTable,2,FALSE)*Worksheet!AQ133*IF(IFERROR(MATCH(Worksheet!$G$17,HVACe_Options,0),0)>0,1+VLOOKUP(Worksheet!$C$16,SavingsSupportTable,4,FALSE),1)/IF(Worksheet!M133>0,Worksheet!M133,Worksheet!L133),\"\"),\"\")","v":""},"",{"$f":"IF(Worksheet!L133<>0,IFERROR(VLOOKUP(Worksheet!$C$16,SavingsSupportTable,3,FALSE)*Worksheet!AQ133*IF(IFERROR(SEARCH(\"Gas\",Worksheet!$G$17),0)>0,VLOOKUP(\"Gas\",HVACg_Lookup,MATCH(Worksheet!$G$16,BuildingSize,0)+1,FALSE),IF(IFERROR(SEARCH(\"Oil\",Worksheet!$G$17),0)>0,VLOOKUP(\"Oil\",HVACg_Lookup,MATCH(Worksheet!$G$16,BuildingSize,0)+1,FALSE),IF(IFERROR(SEARCH(\"Propane\",Worksheet!$G$17),0)>0,VLOOKUP(\"Propane\",HVACg_Lookup,MATCH(Worksheet!$G$16,BuildingSize,0)+1,FALSE),0)))/IF(Worksheet!M133>0,Worksheet!M133,Worksheet!L133),0),\"\")","v":""},"",null,null,null,{"$f":"IF(ISBLANK(Worksheet!M133)=FALSE,Worksheet!M133,\"\")","v":0},{"$f":"IF(Worksheet!A133=\"-\",\"\",IF(Worksheet!A133=\"\",S109,Worksheet!A133))","v":""},{"$f":"IF(S110=\"\",\"\",IF(AND(Worksheet!G133=\"\",Worksheet!H133=\"\")=TRUE,T109,IF(Worksheet!G133=\"\",\"\",Worksheet!G133)))","v":""},{"$f":"IF(S110=\"\",\"\",IF(AND(Worksheet!G133=\"\",Worksheet!H133=\"\")=TRUE,U109,IF(Worksheet!H133=\"\",\"\",Worksheet!H133)))","v":""},{"$f":"IF(Worksheet!N133=\"\",\"\",Worksheet!N133)","v":""},{"$f":"IF(Worksheet!O133=\"\",\"\",Worksheet!O133)","v":""},{"$f":"IF(Worksheet!F133=0,\"\",Worksheet!F133)","v":""},{"$f":"IF(Worksheet!P133=0,\"\",Worksheet!P133)","v":""},{"$f":"IF(Worksheet!$A$11=TRUE,\"Y\",\"N\")","v":"N"},{"$f":"IF(Worksheet!$A$12=TRUE,\"Y\",\"N\")","v":"N"},{"$f":"IF(Worksheet!$B$11=TRUE,\"Y\",\"N\")","v":"N"},{"$f":"IF(Worksheet!$B$12=TRUE,\"Y\",\"N\")","v":"N"},{"$f":"IF(Worksheet!$C$11=TRUE,\"Y\",\"N\")","v":"N"},{"$f":"IF(Worksheet!$C$12=TRUE,\"Y\",\"N\")","v":"N"},""]
[{"$f":"IF(ISERROR(VLOOKUP(Worksheet!N134,MeasureLookup,2,FALSE))=FALSE,VLOOKUP(Worksheet!N134,MeasureLookup,2,FALSE),\"\")","v":""},{"$f":"Worksheet!Q134","v":0},{"$f":"Worksheet!R134","v":0},{"$f":"IF(ISERROR(Worksheet!P134)=FALSE,Worksheet!P134,\"\")","v":0},"Watts",null,null,{"$f":"IF(Worksheet!AP134<>\"\",IF(Worksheet!AP134>0,Worksheet!AP134/IF(Worksheet!M134>0,Worksheet!M134,Worksheet!L134),\"\"),\"\")","v":""},{"$f":"IF(ISBLANK(Worksheet!L134)=FALSE,Worksheet!L134,\"\")","v":0},{"$f":"IF(Worksheet!L134<>0, IFERROR(VLOOKUP(Worksheet!$C$16,SavingsSupportTable,3,FALSE)*Worksheet!AQ134*IFERROR(1+VLOOKUP(Worksheet!$C$16,SavingsSupportTable,MATCH(Worksheet!$G$17,HVACe_Options,0)+4,FALSE),1)/IF(Worksheet!M134>0,Worksheet!M134,Worksheet!L134),\"\"),\"\")","v":""},{"$f":"IF(Worksheet!L134<>0, IFERROR(VLOOKUP(Worksheet!$C$16,SavingsSupportTable,2,FALSE)*Worksheet!AQ134*IF(IFERROR(MATCH(Worksheet!$G$17,HVACe_Options,0),0)>0,1+VLOOKUP(Worksheet!$C$16,SavingsSupportTable,4,FALSE),1)/IF(Worksheet!M134>0,Worksheet!M134,Worksheet!L134),\"\"),\"\")","v":""},"",{"$f":"IF(Worksheet!L134<>0,IFERROR(VLOOKUP(Worksheet!$C$16,SavingsSupportTable,3,FALSE)*Worksheet!AQ134*IF(IFERROR(SEARCH(\"Gas\",Worksheet!$G$17),0)>0,VLOOKUP(\"Gas\",HVACg_Lookup,MATCH(Worksheet!$G$16,BuildingSize,0)+1,FALSE),IF(IFERROR(SEARCH(\"Oil\",Worksheet!$G$17),0)>0,VLOOKUP(\"Oil\",HVACg_Lookup,MATCH(Worksheet!$G$16,BuildingSize,0)+1,FALSE),IF(IFERROR(SEARCH(\"Propane\",Worksheet!$G$17),0)>0,VLOOKUP(\"Propane\",HVACg_Lookup,MATCH(Worksheet!$G$16,BuildingSize,0)+1,FALSE),0)))/IF(Worksheet!M134>0,Worksheet!M134,Worksheet!L134),0),\"\")","v":""},"",null,null,null,{"$f":"IF(ISBLANK(Worksheet!M134)=FALSE,Worksheet!M134,\"\")","v":0},{"$f":"IF(Worksheet!A134=\"-\",\"\",IF(Worksheet!A134=\"\",S110,Worksheet!A134))","v":""},{"$f":"IF(S111=\"\",\"\",IF(AND(Worksheet!G134=\"\",Worksheet!H134=\"\")=TRUE,T110,IF(Worksheet!G134=\"\",\"\",Worksheet!G134)))","v":""},{"$f":"IF(S111=\"\",\"\",IF(AND(Worksheet!G134=\"\",Worksheet!H134=\"\")=TRUE,U110,IF(Worksheet!H134=\"\",\"\",Worksheet!H134)))","v":""},{"$f":"IF(Worksheet!N134=\"\",\"\",Worksheet!N134)","v":""},{"$f":"IF(Worksheet!O134=\"\",\"\",Worksheet!O134)","v":""},{"$f":"IF(Worksheet!F134=0,\"\",Worksheet!F134)","v":""},{"$f":"IF(Worksheet!P134=0,\"\",Worksheet!P134)","v":""},{"$f":"IF(Worksheet!$A$11=TRUE,\"Y\",\"N\")","v":"N"},{"$f":"IF(Worksheet!$A$12=TRUE,\"Y\",\"N\")","v":"N"},{"$f":"IF(Worksheet!$B$11=TRUE,\"Y\",\"N\")","v":"N"},{"$f":"IF(Worksheet!$B$12=TRUE,\"Y\",\"N\")","v":"N"},{"$f":"IF(Worksheet!$C$11=TRUE,\"Y\",\"N\")","v":"N"},{"$f":"IF(Worksheet!$C$12=TRUE,\"Y\",\"N\")","v":"N"},""]
[{"$f":"IF(ISERROR(VLOOKUP(Worksheet!N135,MeasureLookup,2,FALSE))=FALSE,VLOOKUP(Worksheet!N135,MeasureLookup,2,FALSE),\"\")","v":""},{"$f":"Worksheet!Q135","v":0},{"$f":"Worksheet!R135","v":0},{"$f":"IF(ISERROR(Worksheet!P135)=FALSE,Worksheet!P135,\"\")","v":0},"Watts",null,null,{"$f":"IF(Worksheet!AP135<>\"\",IF(Worksheet!AP135>0,Worksheet!AP135/IF(Worksheet!M135>0,Worksheet!M135,Worksheet!L135),\"\"),\"\")","v":""},{"$f":"IF(ISBLANK(Worksheet!L135)=FALSE,Worksheet!L135,\"\")","v":0},{"$f":"IF(Worksheet!L135<>0, IFERROR(VLOOKUP(Worksheet!$C$16,SavingsSupportTable,3,FALSE)*Worksheet!AQ135*IFERROR(1+VLOOKUP(Worksheet!$C$16,SavingsSupportTable,MATCH(Worksheet!$G$17,HVACe_Options,0)+4,FALSE),1)/IF(Worksheet!M135>0,Worksheet!M135,Worksheet!L135),\"\"),\"\")","v":""},{"$f":"IF(Worksheet!L135<>0, IFERROR(VLOOKUP(Worksheet!$C$16,SavingsSupportTable,2,FALSE)*Worksheet!AQ135*IF(IFERROR(MATCH(Worksheet!$G$17,HVACe_Options,0),0)>0,1+VLOOKUP(Worksheet!$C$16,SavingsSupportTable,4,FALSE),1)/IF(Worksheet!M135>0,Worksheet!M135,Worksheet!L135),\"\"),\"\")","v":""},"",{"$f":"IF(Worksheet!L135<>0,IFERROR(VLOOKUP(Worksheet!$C$16,SavingsSupportTable,3,FALSE)*Worksheet!AQ135*IF(IFERROR(SEARCH(\"Gas\",Worksheet!$G$17),0)>0,VLOOKUP(\"Gas\",HVACg_Lookup,MATCH(Worksheet!$G$16,BuildingSize,0)+1,FALSE),IF(IFERROR(SEARCH(\"Oil\",Worksheet!$G$17),0)>0,VLOOKUP(\"Oil\",HVACg_Lookup,MATCH(Worksheet!$G$16,BuildingSize,0)+1,FALSE),IF(IFERROR(SEARCH(\"Propane\",Worksheet!$G$17),0)>0,VLOOKUP(\"Propane\",HVACg_Lookup,MATCH(Worksheet!$G$16,BuildingSize,0)+1,FALSE),0)))/IF(Worksheet!M135>0,Worksheet!M135,Worksheet!L135),0),\"\")","v":""},"",null,null,null,{"$f":"IF(ISBLANK(Worksheet!M135)=FALSE,Worksheet!M135,\"\")","v":0},{"$f":"IF(Worksheet!A135=\"-\",\"\",IF(Worksheet!A135=\"\",S111,Worksheet!A135))","v":""},{"$f":"IF(S112=\"\",\"\",IF(AND(Worksheet!G135=\"\",Worksheet!H135=\"\")=TRUE,T111,IF(Worksheet!G135=\"\",\"\",Worksheet!G135)))","v":""},{"$f":"IF(S112=\"\",\"\",IF(AND(Worksheet!G135=\"\",Worksheet!H135=\"\")=TRUE,U111,IF(Worksheet!H135=\"\",\"\",Worksheet!H135)))","v":""},{"$f":"IF(Worksheet!N135=\"\",\"\",Worksheet!N135)","v":""},{"$f":"IF(Worksheet!O135=\"\",\"\",Worksheet!O135)","v":""},{"$f":"IF(Worksheet!F135=0,\"\",Worksheet!F135)","v":""},{"$f":"IF(Worksheet!P135=0,\"\",Worksheet!P135)","v":""},{"$f":"IF(Worksheet!$A$11=TRUE,\"Y\",\"N\")","v":"N"},{"$f":"IF(Worksheet!$A$12=TRUE,\"Y\",\"N\")","v":"N"},{"$f":"IF(Worksheet!$B$11=TRUE,\"Y\",\"N\")","v":"N"},{"$f":"IF(Worksheet!$B$12=TRUE,\"Y\",\"N\")","v":"N"},{"$f":"IF(Worksheet!$C$11=TRUE,\"Y\",\"N\")","v":"N"},{"$f":"IF(Worksheet!$C$12=TRUE,\"Y\",\"N\")","v":"N"},""]
[{"$f":"IF(ISERROR(VLOOKUP(Worksheet!N136,MeasureLookup,2,FALSE))=FALSE,VLOOKUP(Worksheet!N136,MeasureLookup,2,FALSE),\"\")","v":""},{"$f":"Worksheet!Q136","v":0},{"$f":"Worksheet!R136","v":0},{"$f":"IF(ISERROR(Worksheet!P136)=FALSE,Worksheet!P136,\"\")","v":0},"Watts",null,null,{"$f":"IF(Worksheet!AP136<>\"\",IF(Worksheet!AP136>0,Worksheet!AP136/IF(Worksheet!M136>0,Worksheet!M136,Worksheet!L136),\"\"),\"\")","v":""},{"$f":"IF(ISBLANK(Worksheet!L136)=FALSE,Worksheet!L136,\"\")","v":0},{"$f":"IF(Worksheet!L136<>0, IFERROR(VLOOKUP(Worksheet!$C$16,SavingsSupportTable,3,FALSE)*Worksheet!AQ136*IFERROR(1+VLOOKUP(Worksheet!$C$16,SavingsSupportTable,MATCH(Worksheet!$G$17,HVACe_Options,0)+4,FALSE),1)/IF(Worksheet!M136>0,Worksheet!M136,Worksheet!L136),\"\"),\"\")","v":""},{"$f":"IF(Worksheet!L136<>0, IFERROR(VLOOKUP(Worksheet!$C$16,SavingsSupportTable,2,FALSE)*Worksheet!AQ136*IF(IFERROR(MATCH(Worksheet!$G$17,HVACe_Options,0),0)>0,1+VLOOKUP(Worksheet!$C$16,SavingsSupportTable,4,FALSE),1)/IF(Worksheet!M136>0,Worksheet!M136,Worksheet!L136),\"\"),\"\")","v":""},"",{"$f":"IF(Worksheet!L136<>0,IFERROR(VLOOKUP(Worksheet!$C$16,SavingsSupportTable,3,FALSE)*Worksheet!AQ136*IF(IFERROR(SEARCH(\"Gas\",Worksheet!$G$17),0)>0,VLOOKUP(\"Gas\",HVACg_Lookup,MATCH(Worksheet!$G$16,BuildingSize,0)+1,FALSE),IF(IFERROR(SEARCH(\"Oil\",Worksheet!$G$17),0)>0,VLOOKUP(\"Oil\",HVACg_Lookup,MATCH(Worksheet!$G$16,BuildingSize,0)+1,FALSE),IF(IFERROR(SEARCH(\"Propane\",Worksheet!$G$17),0)>0,VLOOKUP(\"Propane\",HVACg_Lookup,MATCH(Worksheet!$G$16,BuildingSize,0)+1,FALSE),0)))/IF(Worksheet!M136>0,Worksheet!M136,Worksheet!L136),0),\"\")","v":""},"",null,null,null,{"$f":"IF(ISBLANK(Worksheet!M136)=FALSE,Worksheet!M136,\"\")","v":0},{"$f":"IF(Worksheet!A136=\"-\",\"\",IF(Worksheet!A136=\"\",S112,Worksheet!A136))","v":""},{"$f":"IF(S113=\"\",\"\",IF(AND(Worksheet!G136=\"\",Worksheet!H136=\"\")=TRUE,T112,IF(Worksheet!G136=\"\",\"\",Worksheet!G136)))","v":""},{"$f":"IF(S113=\"\",\"\",IF(AND(Worksheet!G136=\"\",Worksheet!H136=\"\")=TRUE,U112,IF(Worksheet!H136=\"\",\"\",Worksheet!H136)))","v":""},{"$f":"IF(Worksheet!N136=\"\",\"\",Worksheet!N136)","v":""},{"$f":"IF(Worksheet!O136=\"\",\"\",Worksheet!O136)","v":""},{"$f":"IF(Worksheet!F136=0,\"\",Worksheet!F136)","v":""},{"$f":"IF(Worksheet!P136=0,\"\",Worksheet!P136)","v":""},{"$f":"IF(Worksheet!$A$11=TRUE,\"Y\",\"N\")","v":"N"},{"$f":"IF(Worksheet!$A$12=TRUE,\"Y\",\"N\")","v":"N"},{"$f":"IF(Worksheet!$B$11=TRUE,\"Y\",\"N\")","v":"N"},{"$f":"IF(Worksheet!$B$12=TRUE,\"Y\",\"N\")","v":"N"},{"$f":"IF(Worksheet!$C$11=TRUE,\"Y\",\"N\")","v":"N"},{"$f":"IF(Worksheet!$C$12=TRUE,\"Y\",\"N\")","v":"N"},""]
[{"$f":"IF(ISERROR(VLOOKUP(Worksheet!N137,MeasureLookup,2,FALSE))=FALSE,VLOOKUP(Worksheet!N137,MeasureLookup,2,FALSE),\"\")","v":""},{"$f":"Worksheet!Q137","v":0},{"$f":"Worksheet!R137","v":0},{"$f":"IF(ISERROR(Worksheet!P137)=FALSE,Worksheet!P137,\"\")","v":0},"Watts",null,null,{"$f":"IF(Worksheet!AP137<>\"\",IF(Worksheet!AP137>0,Worksheet!AP137/IF(Worksheet!M137>0,Worksheet!M137,Worksheet!L137),\"\"),\"\")","v":""},{"$f":"IF(ISBLANK(Worksheet!L137)=FALSE,Worksheet!L137,\"\")","v":0},{"$f":"IF(Worksheet!L137<>0, IFERROR(VLOOKUP(Worksheet!$C$16,SavingsSupportTable,3,FALSE)*Worksheet!AQ137*IFERROR(1+VLOOKUP(Worksheet!$C$16,SavingsSupportTable,MATCH(Worksheet!$G$17,HVACe_Options,0)+4,FALSE),1)/IF(Worksheet!M137>0,Worksheet!M137,Worksheet!L137),\"\"),\"\")","v":""},{"$f":"IF(Worksheet!L137<>0, IFERROR(VLOOKUP(Worksheet!$C$16,SavingsSupportTable,2,FALSE)*Worksheet!AQ137*IF(IFERROR(MATCH(Worksheet!$G$17,HVACe_Options,0),0)>0,1+VLOOKUP(Worksheet!$C$16,SavingsSupportTable,4,FALSE),1)/IF(Worksheet!M137>0,Worksheet!M137,Worksheet!L137),\"\"),\"\")","v":""},"",{"$f":"IF(Worksheet!L137<>0,IFERROR(VLOOKUP(Worksheet!$C$16,SavingsSupportTable,3,FALSE)*Worksheet!AQ137*IF(IFERROR(SEARCH(\"Gas\",Worksheet!$G$17),0)>0,VLOOKUP(\"Gas\",HVACg_Lookup,MATCH(Worksheet!$G$16,BuildingSize,0)+1,FALSE),IF(IFERROR(SEARCH(\"Oil\",Worksheet!$G$17),0)>0,VLOOKUP(\"Oil\",HVACg_Lookup,MATCH(Worksheet!$G$16,BuildingSize,0)+1,FALSE),IF(IFERROR(SEARCH(\"Propane\",Worksheet!$G$17),0)>0,VLOOKUP(\"Propane\",HVACg_Lookup,MATCH(Worksheet!$G$16,BuildingSize,0)+1,FALSE),0)))/IF(Worksheet!M137>0,Worksheet!M137,Worksheet!L137),0),\"\")","v":""},"",null,null,null,{"$f":"IF(ISBLANK(Worksheet!M137)=FALSE,Worksheet!M137,\"\")","v":0},{"$f":"IF(Worksheet!A137=\"-\",\"\",IF(Worksheet!A137=\"\",S113,Worksheet!A137))","v":""},{"$f":"IF(S114=\"\",\"\",IF(AND(Worksheet!G137=\"\",Worksheet!H137=\"\")=TRUE,T113,IF(Worksheet!G137=\"\",\"\",Worksheet!G137)))","v":""},{"$f":"IF(S114=\"\",\"\",IF(AND(Worksheet!G137=\"\",Worksheet!H137=\"\")=TRUE,U113,IF(Worksheet!H137=\"\",\"\",Worksheet!H137)))","v":""},{"$f":"IF(Worksheet!N137=\"\",\"\",Worksheet!N137)","v":""},{"$f":"IF(Worksheet!O137=\"\",\"\",Worksheet!O137)","v":""},{"$f":"IF(Worksheet!F137=0,\"\",Worksheet!F137)","v":""},{"$f":"IF(Worksheet!P137=0,\"\",Worksheet!P137)","v":""},{"$f":"IF(Worksheet!$A$11=TRUE,\"Y\",\"N\")","v":"N"},{"$f":"IF(Worksheet!$A$12=TRUE,\"Y\",\"N\")","v":"N"},{"$f":"IF(Worksheet!$B$11=TRUE,\"Y\",\"N\")","v":"N"},{"$f":"IF(Worksheet!$B$12=TRUE,\"Y\",\"N\")","v":"N"},{"$f":"IF(Worksheet!$C$11=TRUE,\"Y\",\"N\")","v":"N"},{"$f":"IF(Worksheet!$C$12=TRUE,\"Y\",\"N\")","v":"N"},""]
[{"$f":"IF(ISERROR(VLOOKUP(Worksheet!N138,MeasureLookup,2,FALSE))=FALSE,VLOOKUP(Worksheet!N138,MeasureLookup,2,FALSE),\"\")","v":""},{"$f":"Worksheet!Q138","v":0},{"$f":"Worksheet!R138","v":0},{"$f":"IF(ISERROR(Worksheet!P138)=FALSE,Worksheet!P138,\"\")","v":0},"Watts",null,null,{"$f":"IF(Worksheet!AP138<>\"\",IF(Worksheet!AP138>0,Worksheet!AP138/IF(Worksheet!M138>0,Worksheet!M138,Worksheet!L138),\"\"),\"\")","v":""},{"$f":"IF(ISBLANK(Worksheet!L138)=FALSE,Worksheet!L138,\"\")","v":0},{"$f":"IF(Worksheet!L138<>0, IFERROR(VLOOKUP(Worksheet!$C$16,SavingsSupportTable,3,FALSE)*Worksheet!AQ138*IFERROR(1+VLOOKUP(Worksheet!$C$16,SavingsSupportTable,MATCH(Worksheet!$G$17,HVACe_Options,0)+4,FALSE),1)/IF(Worksheet!M138>0,Worksheet!M138,Worksheet!L138),\"\"),\"\")","v":""},{"$f":"IF(Worksheet!L138<>0, IFERROR(VLOOKUP(Worksheet!$C$16,SavingsSupportTable,2,FALSE)*Worksheet!AQ138*IF(IFERROR(MATCH(Worksheet!$G$17,HVACe_Options,0),0)>0,1+VLOOKUP(Worksheet!$C$16,SavingsSupportTable,4,FALSE),1)/IF(Worksheet!M138>0,Worksheet!M138,Worksheet!L138),\"\"),\"\")","v":""},"",{"$f":"IF(Worksheet!L138<>0,IFERROR(VLOOKUP(Worksheet!$C$16,SavingsSupportTable,3,FALSE)*Worksheet!AQ138*IF(IFERROR(SEARCH(\"Gas\",Worksheet!$G$17),0)>0,VLOOKUP(\"Gas\",HVACg_Lookup,MATCH(Worksheet!$G$16,BuildingSize,0)+1,FALSE),IF(IFERROR(SEARCH(\"Oil\",Worksheet!$G$17),0)>0,VLOOKUP(\"Oil\",HVACg_Lookup,MATCH(Worksheet!$G$16,BuildingSize,0)+1,FALSE),IF(IFERROR(SEARCH(\"Propane\",Worksheet!$G$17),0)>0,VLOOKUP(\"Propane\",HVACg_Lookup,MATCH(Worksheet!$G$16,BuildingSize,0)+1,FALSE),0)))/IF(Worksheet!M138>0,Worksheet!M138,Worksheet!L138),0),\"\")","v":""},"",null,null,null,{"$f":"IF(ISBLANK(Worksheet!M138)=FALSE,Worksheet!M138,\"\")","v":0},{"$f":"IF(Worksheet!A138=\"-\",\"\",IF(Worksheet!A138=\"\",S114,Worksheet!A138))","v":""},{"$f":"IF(S115=\"\",\"\",IF(AND(Worksheet!G138=\"\",Worksheet!H138=\"\")=TRUE,T114,IF(Worksheet!G138=\"\",\"\",Worksheet!G138)))","v":""},{"$f":"IF(S115=\"\",\"\",IF(AND(Worksheet!G138=\"\",Worksheet!H138=\"\")=TRUE,U114,IF(Worksheet!H138=\"\",\"\",Worksheet!H138)))","v":""},{"$f":"IF(Worksheet!N138=\"\",\"\",Worksheet!N138)","v":""},{"$f":"IF(Worksheet!O138=\"\",\"\",Worksheet!O138)","v":""},{"$f":"IF(Worksheet!F138=0,\"\",Worksheet!F138)","v":""},{"$f":"IF(Worksheet!P138=0,\"\",Worksheet!P138)","v":""},{"$f":"IF(Worksheet!$A$11=TRUE,\"Y\",\"N\")","v":"N"},{"$f":"IF(Worksheet!$A$12=TRUE,\"Y\",\"N\")","v":"N"},{"$f":"IF(Worksheet!$B$11=TRUE,\"Y\",\"N\")","v":"N"},{"$f":"IF(Worksheet!$B$12=TRUE,\"Y\",\"N\")","v":"N"},{"$f":"IF(Worksheet!$C$11=TRUE,\"Y\",\"N\")","v":"N"},{"$f":"IF(Worksheet!$C$12=TRUE,\"Y\",\"N\")","v":"N"},""]
[{"$f":"IF(ISERROR(VLOOKUP(Worksheet!N139,MeasureLookup,2,FALSE))=FALSE,VLOOKUP(Worksheet!N139,MeasureLookup,2,FALSE),\"\")","v":""},{"$f":"Worksheet!Q139","v":0},{"$f":"Worksheet!R139","v":0},{"$f":"IF(ISERROR(Worksheet!P139)=FALSE,Worksheet!P139,\"\")","v":0},"Watts",null,null,{"$f":"IF(Worksheet!AP139<>\"\",IF(Worksheet!AP139>0,Worksheet!AP139/IF(Worksheet!M139>0,Worksheet!M139,Worksheet!L139),\"\"),\"\")","v":""},{"$f":"IF(ISBLANK(Worksheet!L139)=FALSE,Worksheet!L139,\"\")","v":0},{"$f":"IF(Worksheet!L139<>0, IFERROR(VLOOKUP(Worksheet!$C$16,SavingsSupportTable,3,FALSE)*Worksheet!AQ139*IFERROR(1+VLOOKUP(Worksheet!$C$16,SavingsSupportTable,MATCH(Worksheet!$G$17,HVACe_Options,0)+4,FALSE),1)/IF(Worksheet!M139>0,Worksheet!M139,Worksheet!L139),\"\"),\"\")","v":""},{"$f":"IF(Worksheet!L139<>0, IFERROR(VLOOKUP(Worksheet!$C$16,SavingsSupportTable,2,FALSE)*Worksheet!AQ139*IF(IFERROR(MATCH(Worksheet!$G$17,HVACe_Options,0),0)>0,1+VLOOKUP(Worksheet!$C$16,SavingsSupportTable,4,FALSE),1)/IF(Worksheet!M139>0,Worksheet!M139,Worksheet!L139),\"\"),\"\")","v":""},"",{"$f":"IF(Worksheet!L139<>0,IFERROR(VLOOKUP(Worksheet!$C$16,SavingsSupportTable,3,FALSE)*Worksheet!AQ139*IF(IFERROR(SEARCH(\"Gas\",Worksheet!$G$17),0)>0,VLOOKUP(\"Gas\",HVACg_Lookup,MATCH(Worksheet!$G$16,BuildingSize,0)+1,FALSE),IF(IFERROR(SEARCH(\"Oil\",Worksheet!$G$17),0)>0,VLOOKUP(\"Oil\",HVACg_Lookup,MATCH(Worksheet!$G$16,BuildingSize,0)+1,FALSE),IF(IFERROR(SEARCH(\"Propane\",Worksheet!$G$17),0)>0,VLOOKUP(\"Propane\",HVACg_Lookup,MATCH(Worksheet!$G$16,BuildingSize,0)+1,FALSE),0)))/IF(Worksheet!M139>0,Worksheet!M139,Worksheet!L139),0),\"\")","v":""},"",null,null,null,{"$f":"IF(ISBLANK(Worksheet!M139)=FALSE,Worksheet!M139,\"\")","v":0},{"$f":"IF(Worksheet!A139=\"-\",\"\",IF(Worksheet!A139=\"\",S115,Worksheet!A139))","v":""},{"$f":"IF(S116=\"\",\"\",IF(AND(Worksheet!G139=\"\",Worksheet!H139=\"\")=TRUE,T115,IF(Worksheet!G139=\"\",\"\",Worksheet!G139)))","v":""},{"$f":"IF(S116=\"\",\"\",IF(AND(Worksheet!G139=\"\",Worksheet!H139=\"\")=TRUE,U115,IF(Worksheet!H139=\"\",\"\",Worksheet!H139)))","v":""},{"$f":"IF(Worksheet!N139=\"\",\"\",Worksheet!N139)","v":""},{"$f":"IF(Worksheet!O139=\"\",\"\",Worksheet!O139)","v":""},{"$f":"IF(Worksheet!F139=0,\"\",Worksheet!F139)","v":""},{"$f":"IF(Worksheet!P139=0,\"\",Worksheet!P139)","v":""},{"$f":"IF(Worksheet!$A$11=TRUE,\"Y\",\"N\")","v":"N"},{"$f":"IF(Worksheet!$A$12=TRUE,\"Y\",\"N\")","v":"N"},{"$f":"IF(Worksheet!$B$11=TRUE,\"Y\",\"N\")","v":"N"},{"$f":"IF(Worksheet!$B$12=TRUE,\"Y\",\"N\")","v":"N"},{"$f":"IF(Worksheet!$C$11=TRUE,\"Y\",\"N\")","v":"N"},{"$f":"IF(Worksheet!$C$12=TRUE,\"Y\",\"N\")","v":"N"},""]
[{"$f":"IF(ISERROR(VLOOKUP(Worksheet!N140,MeasureLookup,2,FALSE))=FALSE,VLOOKUP(Worksheet!N140,MeasureLookup,2,FALSE),\"\")","v":""},{"$f":"Worksheet!Q140","v":0},{"$f":"Worksheet!R140","v":0},{"$f":"IF(ISERROR(Worksheet!P140)=FALSE,Worksheet!P140,\"\")","v":0},"Watts",null,null,{"$f":"IF(Worksheet!AP140<>\"\",IF(Worksheet!AP140>0,Worksheet!AP140/IF(Worksheet!M140>0,Worksheet!M140,Worksheet!L140),\"\"),\"\")","v":""},{"$f":"IF(ISBLANK(Worksheet!L140)=FALSE,Worksheet!L140,\"\")","v":0},{"$f":"IF(Worksheet!L140<>0, IFERROR(VLOOKUP(Worksheet!$C$16,SavingsSupportTable,3,FALSE)*Worksheet!AQ140*IFERROR(1+VLOOKUP(Worksheet!$C$16,SavingsSupportTable,MATCH(Worksheet!$G$17,HVACe_Options,0)+4,FALSE),1)/IF(Worksheet!M140>0,Worksheet!M140,Worksheet!L140),\"\"),\"\")","v":""},{"$f":"IF(Worksheet!L140<>0, IFERROR(VLOOKUP(Worksheet!$C$16,SavingsSupportTable,2,FALSE)*Worksheet!AQ140*IF(IFERROR(MATCH(Worksheet!$G$17,HVACe_Options,0),0)>0,1+VLOOKUP(Worksheet!$C$16,SavingsSupportTable,4,FALSE),1)/IF(Worksheet!M140>0,Worksheet!M140,Worksheet!L140),\"\"),\"\")","v":""},"",{"$f":"IF(Worksheet!L140<>0,IFERROR(VLOOKUP(Worksheet!$C$16,SavingsSupportTable,3,FALSE)*Worksheet!AQ140*IF(IFERROR(SEARCH(\"Gas\",Worksheet!$G$17),0)>0,VLOOKUP(\"Gas\",HVACg_Lookup,MATCH(Worksheet!$G$16,BuildingSize,0)+1,FALSE),IF(IFERROR(SEARCH(\"Oil\",Worksheet!$G$17),0)>0,VLOOKUP(\"Oil\",HVACg_Lookup,MATCH(Worksheet!$G$16,BuildingSize,0)+1,FALSE),IF(IFERROR(SEARCH(\"Propane\",Worksheet!$G$17),0)>0,VLOOKUP(\"Propane\",HVACg_Lookup,MATCH(Worksheet!$G$16,BuildingSize,0)+1,FALSE),0)))/IF(Worksheet!M140>0,Worksheet!M140,Worksheet!L140),0),\"\")","v":""},"",null,null,null,{"$f":"IF(ISBLANK(Worksheet!M140)=FALSE,Worksheet!M140,\"\")","v":0},{"$f":"IF(Worksheet!A140=\"-\",\"\",IF(Worksheet!A140=\"\",S116,Worksheet!A140))","v":""},{"$f":"IF(S117=\"\",\"\",IF(AND(Worksheet!G140=\"\",Worksheet!H140=\"\")=TRUE,T116,IF(Worksheet!G140=\"\",\"\",Worksheet!G140)))","v":""},{"$f":"IF(S117=\"\",\"\",IF(AND(Worksheet!G140=\"\",Worksheet!H140=\"\")=TRUE,U116,IF(Worksheet!H140=\"\",\"\",Worksheet!H140)))","v":""},{"$f":"IF(Worksheet!N140=\"\",\"\",Worksheet!N140)","v":""},{"$f":"IF(Worksheet!O140=\"\",\"\",Worksheet!O140)","v":""},{"$f":"IF(Worksheet!F140=0,\"\",Worksheet!F140)","v":""},{"$f":"IF(Worksheet!P140=0,\"\",Worksheet!P140)","v":""},{"$f":"IF(Worksheet!$A$11=TRUE,\"Y\",\"N\")","v":"N"},{"$f":"IF(Worksheet!$A$12=TRUE,\"Y\",\"N\")","v":"N"},{"$f":"IF(Worksheet!$B$11=TRUE,\"Y\",\"N\")","v":"N"},{"$f":"IF(Worksheet!$B$12=TRUE,\"Y\",\"N\")","v":"N"},{"$f":"IF(Worksheet!$C$11=TRUE,\"Y\",\"N\")","v":"N"},{"$f":"IF(Worksheet!$C$12=TRUE,\"Y\",\"N\")","v":"N"},""]
[{"$f":"IF(ISERROR(VLOOKUP(Worksheet!N141,MeasureLookup,2,FALSE))=FALSE,VLOOKUP(Worksheet!N141,MeasureLookup,2,FALSE),\"\")","v":""},{"$f":"Worksheet!Q141","v":0},{"$f":"Worksheet!R141","v":0},{"$f":"IF(ISERROR(Worksheet!P141)=FALSE,Worksheet!P141,\"\")","v":0},"Watts",null,null,{"$f":"IF(Worksheet!AP141<>\"\",IF(Worksheet!AP141>0,Worksheet!AP141/IF(Worksheet!M141>0,Worksheet!M141,Worksheet!L141),\"\"),\"\")","v":""},{"$f":"IF(ISBLANK(Worksheet!L141)=FALSE,Worksheet!L141,\"\")","v":0},{"$f":"IF(Worksheet!L141<>0, IFERROR(VLOOKUP(Worksheet!$C$16,SavingsSupportTable,3,FALSE)*Worksheet!AQ141*IFERROR(1+VLOOKUP(Worksheet!$C$16,SavingsSupportTable,MATCH(Worksheet!$G$17,HVACe_Options,0)+4,FALSE),1)/IF(Worksheet!M141>0,Worksheet!M141,Worksheet!L141),\"\"),\"\")","v":""},{"$f":"IF(Worksheet!L141<>0, IFERROR(VLOOKUP(Worksheet!$C$16,SavingsSupportTable,2,FALSE)*Worksheet!AQ141*IF(IFERROR(MATCH(Worksheet!$G$17,HVACe_Options,0),0)>0,1+VLOOKUP(Worksheet!$C$16,SavingsSupportTable,4,FALSE),1)/IF(Worksheet!M141>0,Worksheet!M141,Worksheet!L141),\"\"),\"\")","v":""},"",{"$f":"IF(Worksheet!L141<>0,IFERROR(VLOOKUP(Worksheet!$C$16,SavingsSupportTable,3,FALSE)*Worksheet!AQ141*IF(IFERROR(SEARCH(\"Gas\",Worksheet!$G$17),0)>0,VLOOKUP(\"Gas\",HVACg_Lookup,MATCH(Worksheet!$G$16,BuildingSize,0)+1,FALSE),IF(IFERROR(SEARCH(\"Oil\",Worksheet!$G$17),0)>0,VLOOKUP(\"Oil\",HVACg_Lookup,MATCH(Worksheet!$G$16,BuildingSize,0)+1,FALSE),IF(IFERROR(SEARCH(\"Propane\",Worksheet!$G$17),0)>0,VLOOKUP(\"Propane\",HVACg_Lookup,MATCH(Worksheet!$G$16,BuildingSize,0)+1,FALSE),0)))/IF(Worksheet!M141>0,Worksheet!M141,Worksheet!L141),0),\"\")","v":""},"",null,null,null,{"$f":"IF(ISBLANK(Worksheet!M141)=FALSE,Worksheet!M141,\"\")","v":0},{"$f":"IF(Worksheet!A141=\"-\",\"\",IF(Worksheet!A141=\"\",S117,Worksheet!A141))","v":""},{"$f":"IF(S118=\"\",\"\",IF(AND(Worksheet!G141=\"\",Worksheet!H141=\"\")=TRUE,T117,IF(Worksheet!G141=\"\",\"\",Worksheet!G141)))","v":""},{"$f":"IF(S118=\"\",\"\",IF(AND(Worksheet!G141=\"\",Worksheet!H141=\"\")=TRUE,U117,IF(Worksheet!H141=\"\",\"\",Worksheet!H141)))","v":""},{"$f":"IF(Worksheet!N141=\"\",\"\",Worksheet!N141)","v":""},{"$f":"IF(Worksheet!O141=\"\",\"\",Worksheet!O141)","v":""},{"$f":"IF(Worksheet!F141=0,\"\",Worksheet!F141)","v":""},{"$f":"IF(Worksheet!P141=0,\"\",Worksheet!P141)","v":""},{"$f":"IF(Worksheet!$A$11=TRUE,\"Y\",\"N\")","v":"N"},{"$f":"IF(Worksheet!$A$12=TRUE,\"Y\",\"N\")","v":"N"},{"$f":"IF(Worksheet!$B$11=TRUE,\"Y\",\"N\")","v":"N"},{"$f":"IF(Worksheet!$B$12=TRUE,\"Y\",\"N\")","v":"N"},{"$f":"IF(Worksheet!$C$11=TRUE,\"Y\",\"N\")","v":"N"},{"$f":"IF(Worksheet!$C$12=TRUE,\"Y\",\"N\")","v":"N"},""]
[{"$f":"IF(ISERROR(VLOOKUP(Worksheet!N142,MeasureLookup,2,FALSE))=FALSE,VLOOKUP(Worksheet!N142,MeasureLookup,2,FALSE),\"\")","v":""},{"$f":"Worksheet!Q142","v":0},{"$f":"Worksheet!R142","v":0},{"$f":"IF(ISERROR(Worksheet!P142)=FALSE,Worksheet!P142,\"\")","v":0},"Watts",null,null,{"$f":"IF(Worksheet!AP142<>\"\",IF(Worksheet!AP142>0,Worksheet!AP142/IF(Worksheet!M142>0,Worksheet!M142,Worksheet!L142),\"\"),\"\")","v":""},{"$f":"IF(ISBLANK(Worksheet!L142)=FALSE,Worksheet!L142,\"\")","v":0},{"$f":"IF(Worksheet!L142<>0, IFERROR(VLOOKUP(Worksheet!$C$16,SavingsSupportTable,3,FALSE)*Worksheet!AQ142*IFERROR(1+VLOOKUP(Worksheet!$C$16,SavingsSupportTable,MATCH(Worksheet!$G$17,HVACe_Options,0)+4,FALSE),1)/IF(Worksheet!M142>0,Worksheet!M142,Worksheet!L142),\"\"),\"\")","v":""},{"$f":"IF(Worksheet!L142<>0, IFERROR(VLOOKUP(Worksheet!$C$16,SavingsSupportTable,2,FALSE)*Worksheet!AQ142*IF(IFERROR(MATCH(Worksheet!$G$17,HVACe_Options,0),0)>0,1+VLOOKUP(Worksheet!$C$16,SavingsSupportTable,4,FALSE),1)/IF(Worksheet!M142>0,Worksheet!M142,Worksheet!L142),\"\"),\"\")","v":""},"",{"$f":"IF(Worksheet!L142<>0,IFERROR(VLOOKUP(Worksheet!$C$16,SavingsSupportTable,3,FALSE)*Worksheet!AQ142*IF(IFERROR(SEARCH(\"Gas\",Worksheet!$G$17),0)>0,VLOOKUP(\"Gas\",HVACg_Lookup,MATCH(Worksheet!$G$16,BuildingSize,0)+1,FALSE),IF(IFERROR(SEARCH(\"Oil\",Worksheet!$G$17),0)>0,VLOOKUP(\"Oil\",HVACg_Lookup,MATCH(Worksheet!$G$16,BuildingSize,0)+1,FALSE),IF(IFERROR(SEARCH(\"Propane\",Worksheet!$G$17),0)>0,VLOOKUP(\"Propane\",HVACg_Lookup,MATCH(Worksheet!$G$16,BuildingSize,0)+1,FALSE),0)))/IF(Worksheet!M142>0,Worksheet!M142,Worksheet!L142),0),\"\")","v":""},"",null,null,null,{"$f":"IF(ISBLANK(Worksheet!M142)=FALSE,Worksheet!M142,\"\")","v":0},{"$f":"IF(Worksheet!A142=\"-\",\"\",IF(Worksheet!A142=\"\",S118,Worksheet!A142))","v":""},{"$f":"IF(S119=\"\",\"\",IF(AND(Worksheet!G142=\"\",Worksheet!H142=\"\")=TRUE,T118,IF(Worksheet!G142=\"\",\"\",Worksheet!G142)))","v":""},{"$f":"IF(S119=\"\",\"\",IF(AND(Worksheet!G142=\"\",Worksheet!H142=\"\")=TRUE,U118,IF(Worksheet!H142=\"\",\"\",Worksheet!H142)))","v":""},{"$f":"IF(Worksheet!N142=\"\",\"\",Worksheet!N142)","v":""},{"$f":"IF(Worksheet!O142=\"\",\"\",Worksheet!O142)","v":""},{"$f":"IF(Worksheet!F142=0,\"\",Worksheet!F142)","v":""},{"$f":"IF(Worksheet!P142=0,\"\",Worksheet!P142)","v":""},{"$f":"IF(Worksheet!$A$11=TRUE,\"Y\",\"N\")","v":"N"},{"$f":"IF(Worksheet!$A$12=TRUE,\"Y\",\"N\")","v":"N"},{"$f":"IF(Worksheet!$B$11=TRUE,\"Y\",\"N\")","v":"N"},{"$f":"IF(Worksheet!$B$12=TRUE,\"Y\",\"N\")","v":"N"},{"$f":"IF(Worksheet!$C$11=TRUE,\"Y\",\"N\")","v":"N"},{"$f":"IF(Worksheet!$C$12=TRUE,\"Y\",\"N\")","v":"N"},""]
[{"$f":"IF(ISERROR(VLOOKUP(Worksheet!N143,MeasureLookup,2,FALSE))=FALSE,VLOOKUP(Worksheet!N143,MeasureLookup,2,FALSE),\"\")","v":""},{"$f":"Worksheet!Q143","v":0},{"$f":"Worksheet!R143","v":0},{"$f":"IF(ISERROR(Worksheet!P143)=FALSE,Worksheet!P143,\"\")","v":0},"Watts",null,null,{"$f":"IF(Worksheet!AP143<>\"\",IF(Worksheet!AP143>0,Worksheet!AP143/IF(Worksheet!M143>0,Worksheet!M143,Worksheet!L143),\"\"),\"\")","v":""},{"$f":"IF(ISBLANK(Worksheet!L143)=FALSE,Worksheet!L143,\"\")","v":0},{"$f":"IF(Worksheet!L143<>0, IFERROR(VLOOKUP(Worksheet!$C$16,SavingsSupportTable,3,FALSE)*Worksheet!AQ143*IFERROR(1+VLOOKUP(Worksheet!$C$16,SavingsSupportTable,MATCH(Worksheet!$G$17,HVACe_Options,0)+4,FALSE),1)/IF(Worksheet!M143>0,Worksheet!M143,Worksheet!L143),\"\"),\"\")","v":""},{"$f":"IF(Worksheet!L143<>0, IFERROR(VLOOKUP(Worksheet!$C$16,SavingsSupportTable,2,FALSE)*Worksheet!AQ143*IF(IFERROR(MATCH(Worksheet!$G$17,HVACe_Options,0),0)>0,1+VLOOKUP(Worksheet!$C$16,SavingsSupportTable,4,FALSE),1)/IF(Worksheet!M143>0,Worksheet!M143,Worksheet!L143),\"\"),\"\")","v":""},"",{"$f":"IF(Worksheet!L143<>0,IFERROR(VLOOKUP(Worksheet!$C$16,SavingsSupportTable,3,FALSE)*Worksheet!AQ143*IF(IFERROR(SEARCH(\"Gas\",Worksheet!$G$17),0)>0,VLOOKUP(\"Gas\",HVACg_Lookup,MATCH(Worksheet!$G$16,BuildingSize,0)+1,FALSE),IF(IFERROR(SEARCH(\"Oil\",Worksheet!$G$17),0)>0,VLOOKUP(\"Oil\",HVACg_Lookup,MATCH(Worksheet!$G$16,BuildingSize,0)+1,FALSE),IF(IFERROR(SEARCH(\"Propane\",Worksheet!$G$17),0)>0,VLOOKUP(\"Propane\",HVACg_Lookup,MATCH(Worksheet!$G$16,BuildingSize,0)+1,FALSE),0)))/IF(Worksheet!M143>0,Worksheet!M143,Worksheet!L143),0),\"\")","v":""},"",null,null,null,{"$f":"IF(ISBLANK(Worksheet!M143)=FALSE,Worksheet!M143,\"\")","v":0},{"$f":"IF(Worksheet!A143=\"-\",\"\",IF(Worksheet!A143=\"\",S119,Worksheet!A143))","v":""},{"$f":"IF(S120=\"\",\"\",IF(AND(Worksheet!G143=\"\",Worksheet!H143=\"\")=TRUE,T119,IF(Worksheet!G143=\"\",\"\",Worksheet!G143)))","v":""},{"$f":"IF(S120=\"\",\"\",IF(AND(Worksheet!G143=\"\",Worksheet!H143=\"\")=TRUE,U119,IF(Worksheet!H143=\"\",\"\",Worksheet!H143)))","v":""},{"$f":"IF(Worksheet!N143=\"\",\"\",Worksheet!N143)","v":""},{"$f":"IF(Worksheet!O143=\"\",\"\",Worksheet!O143)","v":""},{"$f":"IF(Worksheet!F143=0,\"\",Worksheet!F143)","v":""},{"$f":"IF(Worksheet!P143=0,\"\",Worksheet!P143)","v":""},{"$f":"IF(Worksheet!$A$11=TRUE,\"Y\",\"N\")","v":"N"},{"$f":"IF(Worksheet!$A$12=TRUE,\"Y\",\"N\")","v":"N"},{"$f":"IF(Worksheet!$B$11=TRUE,\"Y\",\"N\")","v":"N"},{"$f":"IF(Worksheet!$B$12=TRUE,\"Y\",\"N\")","v":"N"},{"$f":"IF(Worksheet!$C$11=TRUE,\"Y\",\"N\")","v":"N"},{"$f":"IF(Worksheet!$C$12=TRUE,\"Y\",\"N\")","v":"N"},""]
[{"$f":"IF(ISERROR(VLOOKUP(Worksheet!N144,MeasureLookup,2,FALSE))=FALSE,VLOOKUP(Worksheet!N144,MeasureLookup,2,FALSE),\"\")","v":""},{"$f":"Worksheet!Q144","v":0},{"$f":"Worksheet!R144","v":0},{"$f":"IF(ISERROR(Worksheet!P144)=FALSE,Worksheet!P144,\"\")","v":0},"Watts",null,null,{"$f":"IF(Worksheet!AP144<>\"\",IF(Worksheet!AP144>0,Worksheet!AP144/IF(Worksheet!M144>0,Worksheet!M144,Worksheet!L144),\"\"),\"\")","v":""},{"$f":"IF(ISBLANK(Worksheet!L144)=FALSE,Worksheet!L144,\"\")","v":0},{"$f":"IF(Worksheet!L144<>0, IFERROR(VLOOKUP(Worksheet!$C$16,SavingsSupportTable,3,FALSE)*Worksheet!AQ144*IFERROR(1+VLOOKUP(Worksheet!$C$16,SavingsSupportTable,MATCH(Worksheet!$G$17,HVACe_Options,0)+4,FALSE),1)/IF(Worksheet!M144>0,Worksheet!M144,Worksheet!L144),\"\"),\"\")","v":""},{"$f":"IF(Worksheet!L144<>0, IFERROR(VLOOKUP(Worksheet!$C$16,SavingsSupportTable,2,FALSE)*Worksheet!AQ144*IF(IFERROR(MATCH(Worksheet!$G$17,HVACe_Options,0),0)>0,1+VLOOKUP(Worksheet!$C$16,SavingsSupportTable,4,FALSE),1)/IF(Worksheet!M144>0,Worksheet!M144,Worksheet!L144),\"\"),\"\")","v":""},"",{"$f":"IF(Worksheet!L144<>0,IFERROR(VLOOKUP(Worksheet!$C$16,SavingsSupportTable,3,FALSE)*Worksheet!AQ144*IF(IFERROR(SEARCH(\"Gas\",Worksheet!$G$17),0)>0,VLOOKUP(\"Gas\",HVACg_Lookup,MATCH(Worksheet!$G$16,BuildingSize,0)+1,FALSE),IF(IFERROR(SEARCH(\"Oil\",Worksheet!$G$17),0)>0,VLOOKUP(\"Oil\",HVACg_Lookup,MATCH(Worksheet!$G$16,BuildingSize,0)+1,FALSE),IF(IFERROR(SEARCH(\"Propane\",Worksheet!$G$17),0)>0,VLOOKUP(\"Propane\",HVACg_Lookup,MATCH(Worksheet!$G$16,BuildingSize,0)+1,FALSE),0)))/IF(Worksheet!M144>0,Worksheet!M144,Worksheet!L144),0),\"\")","v":""},"",null,null,null,{"$f":"IF(ISBLANK(Worksheet!M144)=FALSE,Worksheet!M144,\"\")","v":0},{"$f":"IF(Worksheet!A144=\"-\",\"\",IF(Worksheet!A144=\"\",S120,Worksheet!A144))","v":""},{"$f":"IF(S121=\"\",\"\",IF(AND(Worksheet!G144=\"\",Worksheet!H144=\"\")=TRUE,T120,IF(Worksheet!G144=\"\",\"\",Worksheet!G144)))","v":""},{"$f":"IF(S121=\"\",\"\",IF(AND(Worksheet!G144=\"\",Worksheet!H144=\"\")=TRUE,U120,IF(Worksheet!H144=\"\",\"\",Worksheet!H144)))","v":""},{"$f":"IF(Worksheet!N144=\"\",\"\",Worksheet!N144)","v":""},{"$f":"IF(Worksheet!O144=\"\",\"\",Worksheet!O144)","v":""},{"$f":"IF(Worksheet!F144=0,\"\",Worksheet!F144)","v":""},{"$f":"IF(Worksheet!P144=0,\"\",Worksheet!P144)","v":""},{"$f":"IF(Worksheet!$A$11=TRUE,\"Y\",\"N\")","v":"N"},{"$f":"IF(Worksheet!$A$12=TRUE,\"Y\",\"N\")","v":"N"},{"$f":"IF(Worksheet!$B$11=TRUE,\"Y\",\"N\")","v":"N"},{"$f":"IF(Worksheet!$B$12=TRUE,\"Y\",\"N\")","v":"N"},{"$f":"IF(Worksheet!$C$11=TRUE,\"Y\",\"N\")","v":"N"},{"$f":"IF(Worksheet!$C$12=TRUE,\"Y\",\"N\")","v":"N"},""]
[{"$f":"IF(ISERROR(VLOOKUP(Worksheet!N145,MeasureLookup,2,FALSE))=FALSE,VLOOKUP(Worksheet!N145,MeasureLookup,2,FALSE),\"\")","v":""},{"$f":"Worksheet!Q145","v":0},{"$f":"Worksheet!R145","v":0},{"$f":"IF(ISERROR(Worksheet!P145)=FALSE,Worksheet!P145,\"\")","v":0},"Watts",null,null,{"$f":"IF(Worksheet!AP145<>\"\",IF(Worksheet!AP145>0,Worksheet!AP145/IF(Worksheet!M145>0,Worksheet!M145,Worksheet!L145),\"\"),\"\")","v":""},{"$f":"IF(ISBLANK(Worksheet!L145)=FALSE,Worksheet!L145,\"\")","v":0},{"$f":"IF(Worksheet!L145<>0, IFERROR(VLOOKUP(Worksheet!$C$16,SavingsSupportTable,3,FALSE)*Worksheet!AQ145*IFERROR(1+VLOOKUP(Worksheet!$C$16,SavingsSupportTable,MATCH(Worksheet!$G$17,HVACe_Options,0)+4,FALSE),1)/IF(Worksheet!M145>0,Worksheet!M145,Worksheet!L145),\"\"),\"\")","v":""},{"$f":"IF(Worksheet!L145<>0, IFERROR(VLOOKUP(Worksheet!$C$16,SavingsSupportTable,2,FALSE)*Worksheet!AQ145*IF(IFERROR(MATCH(Worksheet!$G$17,HVACe_Options,0),0)>0,1+VLOOKUP(Worksheet!$C$16,SavingsSupportTable,4,FALSE),1)/IF(Worksheet!M145>0,Worksheet!M145,Worksheet!L145),\"\"),\"\")","v":""},"",{"$f":"IF(Worksheet!L145<>0,IFERROR(VLOOKUP(Worksheet!$C$16,SavingsSupportTable,3,FALSE)*Worksheet!AQ145*IF(IFERROR(SEARCH(\"Gas\",Worksheet!$G$17),0)>0,VLOOKUP(\"Gas\",HVACg_Lookup,MATCH(Worksheet!$G$16,BuildingSize,0)+1,FALSE),IF(IFERROR(SEARCH(\"Oil\",Worksheet!$G$17),0)>0,VLOOKUP(\"Oil\",HVACg_Lookup,MATCH(Worksheet!$G$16,BuildingSize,0)+1,FALSE),IF(IFERROR(SEARCH(\"Propane\",Worksheet!$G$17),0)>0,VLOOKUP(\"Propane\",HVACg_Lookup,MATCH(Worksheet!$G$16,BuildingSize,0)+1,FALSE),0)))/IF(Worksheet!M145>0,Worksheet!M145,Worksheet!L145),0),\"\")","v":""},"",null,null,null,{"$f":"IF(ISBLANK(Worksheet!M145)=FALSE,Worksheet!M145,\"\")","v":0},{"$f":"IF(Worksheet!A145=\"-\",\"\",IF(Worksheet!A145=\"\",S121,Worksheet!A145))","v":""},{"$f":"IF(S122=\"\",\"\",IF(AND(Worksheet!G145=\"\",Worksheet!H145=\"\")=TRUE,T121,IF(Worksheet!G145=\"\",\"\",Worksheet!G145)))","v":""},{"$f":"IF(S122=\"\",\"\",IF(AND(Worksheet!G145=\"\",Worksheet!H145=\"\")=TRUE,U121,IF(Worksheet!H145=\"\",\"\",Worksheet!H145)))","v":""},{"$f":"IF(Worksheet!N145=\"\",\"\",Worksheet!N145)","v":""},{"$f":"IF(Worksheet!O145=\"\",\"\",Worksheet!O145)","v":""},{"$f":"IF(Worksheet!F145=0,\"\",Worksheet!F145)","v":""},{"$f":"IF(Worksheet!P145=0,\"\",Worksheet!P145)","v":""},{"$f":"IF(Worksheet!$A$11=TRUE,\"Y\",\"N\")","v":"N"},{"$f":"IF(Worksheet!$A$12=TRUE,\"Y\",\"N\")","v":"N"},{"$f":"IF(Worksheet!$B$11=TRUE,\"Y\",\"N\")","v":"N"},{"$f":"IF(Worksheet!$B$12=TRUE,\"Y\",\"N\")","v":"N"},{"$f":"IF(Worksheet!$C$11=TRUE,\"Y\",\"N\")","v":"N"},{"$f":"IF(Worksheet!$C$12=TRUE,\"Y\",\"N\")","v":"N"},""]
[{"$f":"IF(ISERROR(VLOOKUP(Worksheet!N146,MeasureLookup,2,FALSE))=FALSE,VLOOKUP(Worksheet!N146,MeasureLookup,2,FALSE),\"\")","v":""},{"$f":"Worksheet!Q146","v":0},{"$f":"Worksheet!R146","v":0},{"$f":"IF(ISERROR(Worksheet!P146)=FALSE,Worksheet!P146,\"\")","v":0},"Watts",null,null,{"$f":"IF(Worksheet!AP146<>\"\",IF(Worksheet!AP146>0,Worksheet!AP146/IF(Worksheet!M146>0,Worksheet!M146,Worksheet!L146),\"\"),\"\")","v":""},{"$f":"IF(ISBLANK(Worksheet!L146)=FALSE,Worksheet!L146,\"\")","v":0},{"$f":"IF(Worksheet!L146<>0, IFERROR(VLOOKUP(Worksheet!$C$16,SavingsSupportTable,3,FALSE)*Worksheet!AQ146*IFERROR(1+VLOOKUP(Worksheet!$C$16,SavingsSupportTable,MATCH(Worksheet!$G$17,HVACe_Options,0)+4,FALSE),1)/IF(Worksheet!M146>0,Worksheet!M146,Worksheet!L146),\"\"),\"\")","v":""},{"$f":"IF(Worksheet!L146<>0, IFERROR(VLOOKUP(Worksheet!$C$16,SavingsSupportTable,2,FALSE)*Worksheet!AQ146*IF(IFERROR(MATCH(Worksheet!$G$17,HVACe_Options,0),0)>0,1+VLOOKUP(Worksheet!$C$16,SavingsSupportTable,4,FALSE),1)/IF(Worksheet!M146>0,Worksheet!M146,Worksheet!L146),\"\"),\"\")","v":""},"",{"$f":"IF(Worksheet!L146<>0,IFERROR(VLOOKUP(Worksheet!$C$16,SavingsSupportTable,3,FALSE)*Worksheet!AQ146*IF(IFERROR(SEARCH(\"Gas\",Worksheet!$G$17),0)>0,VLOOKUP(\"Gas\",HVACg_Lookup,MATCH(Worksheet!$G$16,BuildingSize,0)+1,FALSE),IF(IFERROR(SEARCH(\"Oil\",Worksheet!$G$17),0)>0,VLOOKUP(\"Oil\",HVACg_Lookup,MATCH(Worksheet!$G$16,BuildingSize,0)+1,FALSE),IF(IFERROR(SEARCH(\"Propane\",Worksheet!$G$17),0)>0,VLOOKUP(\"Propane\",HVACg_Lookup,MATCH(Worksheet!$G$16,BuildingSize,0)+1,FALSE),0)))/IF(Worksheet!M146>0,Worksheet!M146,Worksheet!L146),0),\"\")","v":""},"",null,null,null,{"$f":"IF(ISBLANK(Worksheet!M146)=FALSE,Worksheet!M146,\"\")","v":0},{"$f":"IF(Worksheet!A146=\"-\",\"\",IF(Worksheet!A146=\"\",S122,Worksheet!A146))","v":""},{"$f":"IF(S123=\"\",\"\",IF(AND(Worksheet!G146=\"\",Worksheet!H146=\"\")=TRUE,T122,IF(Worksheet!G146=\"\",\"\",Worksheet!G146)))","v":""},{"$f":"IF(S123=\"\",\"\",IF(AND(Worksheet!G146=\"\",Worksheet!H146=\"\")=TRUE,U122,IF(Worksheet!H146=\"\",\"\",Worksheet!H146)))","v":""},{"$f":"IF(Worksheet!N146=\"\",\"\",Worksheet!N146)","v":""},{"$f":"IF(Worksheet!O146=\"\",\"\",Worksheet!O146)","v":""},{"$f":"IF(Worksheet!F146=0,\"\",Worksheet!F146)","v":""},{"$f":"IF(Worksheet!P146=0,\"\",Worksheet!P146)","v":""},{"$f":"IF(Worksheet!$A$11=TRUE,\"Y\",\"N\")","v":"N"},{"$f":"IF(Worksheet!$A$12=TRUE,\"Y\",\"N\")","v":"N"},{"$f":"IF(Worksheet!$B$11=TRUE,\"Y\",\"N\")","v":"N"},{"$f":"IF(Worksheet!$B$12=TRUE,\"Y\",\"N\")","v":"N"},{"$f":"IF(Worksheet!$C$11=TRUE,\"Y\",\"N\")","v":"N"},{"$f":"IF(Worksheet!$C$12=TRUE,\"Y\",\"N\")","v":"N"},""]
[{"$f":"IF(ISERROR(VLOOKUP(Worksheet!N147,MeasureLookup,2,FALSE))=FALSE,VLOOKUP(Worksheet!N147,MeasureLookup,2,FALSE),\"\")","v":""},{"$f":"Worksheet!Q147","v":0},{"$f":"Worksheet!R147","v":0},{"$f":"IF(ISERROR(Worksheet!P147)=FALSE,Worksheet!P147,\"\")","v":0},"Watts",null,null,{"$f":"IF(Worksheet!AP147<>\"\",IF(Worksheet!AP147>0,Worksheet!AP147/IF(Worksheet!M147>0,Worksheet!M147,Worksheet!L147),\"\"),\"\")","v":""},{"$f":"IF(ISBLANK(Worksheet!L147)=FALSE,Worksheet!L147,\"\")","v":0},{"$f":"IF(Worksheet!L147<>0, IFERROR(VLOOKUP(Worksheet!$C$16,SavingsSupportTable,3,FALSE)*Worksheet!AQ147*IFERROR(1+VLOOKUP(Worksheet!$C$16,SavingsSupportTable,MATCH(Worksheet!$G$17,HVACe_Options,0)+4,FALSE),1)/IF(Worksheet!M147>0,Worksheet!M147,Worksheet!L147),\"\"),\"\")","v":""},{"$f":"IF(Worksheet!L147<>0, IFERROR(VLOOKUP(Worksheet!$C$16,SavingsSupportTable,2,FALSE)*Worksheet!AQ147*IF(IFERROR(MATCH(Worksheet!$G$17,HVACe_Options,0),0)>0,1+VLOOKUP(Worksheet!$C$16,SavingsSupportTable,4,FALSE),1)/IF(Worksheet!M147>0,Worksheet!M147,Worksheet!L147),\"\"),\"\")","v":""},"",{"$f":"IF(Worksheet!L147<>0,IFERROR(VLOOKUP(Worksheet!$C$16,SavingsSupportTable,3,FALSE)*Worksheet!AQ147*IF(IFERROR(SEARCH(\"Gas\",Worksheet!$G$17),0)>0,VLOOKUP(\"Gas\",HVACg_Lookup,MATCH(Worksheet!$G$16,BuildingSize,0)+1,FALSE),IF(IFERROR(SEARCH(\"Oil\",Worksheet!$G$17),0)>0,VLOOKUP(\"Oil\",HVACg_Lookup,MATCH(Worksheet!$G$16,BuildingSize,0)+1,FALSE),IF(IFERROR(SEARCH(\"Propane\",Worksheet!$G$17),0)>0,VLOOKUP(\"Propane\",HVACg_Lookup,MATCH(Worksheet!$G$16,BuildingSize,0)+1,FALSE),0)))/IF(Worksheet!M147>0,Worksheet!M147,Worksheet!L147),0),\"\")","v":""},"",null,null,null,{"$f":"IF(ISBLANK(Worksheet!M147)=FALSE,Worksheet!M147,\"\")","v":0},{"$f":"IF(Worksheet!A147=\"-\",\"\",IF(Worksheet!A147=\"\",S123,Worksheet!A147))","v":""},{"$f":"IF(S124=\"\",\"\",IF(AND(Worksheet!G147=\"\",Worksheet!H147=\"\")=TRUE,T123,IF(Worksheet!G147=\"\",\"\",Worksheet!G147)))","v":""},{"$f":"IF(S124=\"\",\"\",IF(AND(Worksheet!G147=\"\",Worksheet!H147=\"\")=TRUE,U123,IF(Worksheet!H147=\"\",\"\",Worksheet!H147)))","v":""},{"$f":"IF(Worksheet!N147=\"\",\"\",Worksheet!N147)","v":""},{"$f":"IF(Worksheet!O147=\"\",\"\",Worksheet!O147)","v":""},{"$f":"IF(Worksheet!F147=0,\"\",Worksheet!F147)","v":""},{"$f":"IF(Worksheet!P147=0,\"\",Worksheet!P147)","v":""},{"$f":"IF(Worksheet!$A$11=TRUE,\"Y\",\"N\")","v":"N"},{"$f":"IF(Worksheet!$A$12=TRUE,\"Y\",\"N\")","v":"N"},{"$f":"IF(Worksheet!$B$11=TRUE,\"Y\",\"N\")","v":"N"},{"$f":"IF(Worksheet!$B$12=TRUE,\"Y\",\"N\")","v":"N"},{"$f":"IF(Worksheet!$C$11=TRUE,\"Y\",\"N\")","v":"N"},{"$f":"IF(Worksheet!$C$12=TRUE,\"Y\",\"N\")","v":"N"},""]
[{"$f":"IF(ISERROR(VLOOKUP(Worksheet!N148,MeasureLookup,2,FALSE))=FALSE,VLOOKUP(Worksheet!N148,MeasureLookup,2,FALSE),\"\")","v":""},{"$f":"Worksheet!Q148","v":0},{"$f":"Worksheet!R148","v":0},{"$f":"IF(ISERROR(Worksheet!P148)=FALSE,Worksheet!P148,\"\")","v":0},"Watts",null,null,{"$f":"IF(Worksheet!AP148<>\"\",IF(Worksheet!AP148>0,Worksheet!AP148/IF(Worksheet!M148>0,Worksheet!M148,Worksheet!L148),\"\"),\"\")","v":""},{"$f":"IF(ISBLANK(Worksheet!L148)=FALSE,Worksheet!L148,\"\")","v":0},{"$f":"IF(Worksheet!L148<>0, IFERROR(VLOOKUP(Worksheet!$C$16,SavingsSupportTable,3,FALSE)*Worksheet!AQ148*IFERROR(1+VLOOKUP(Worksheet!$C$16,SavingsSupportTable,MATCH(Worksheet!$G$17,HVACe_Options,0)+4,FALSE),1)/IF(Worksheet!M148>0,Worksheet!M148,Worksheet!L148),\"\"),\"\")","v":""},{"$f":"IF(Worksheet!L148<>0, IFERROR(VLOOKUP(Worksheet!$C$16,SavingsSupportTable,2,FALSE)*Worksheet!AQ148*IF(IFERROR(MATCH(Worksheet!$G$17,HVACe_Options,0),0)>0,1+VLOOKUP(Worksheet!$C$16,SavingsSupportTable,4,FALSE),1)/IF(Worksheet!M148>0,Worksheet!M148,Worksheet!L148),\"\"),\"\")","v":""},"",{"$f":"IF(Worksheet!L148<>0,IFERROR(VLOOKUP(Worksheet!$C$16,SavingsSupportTable,3,FALSE)*Worksheet!AQ148*IF(IFERROR(SEARCH(\"Gas\",Worksheet!$G$17),0)>0,VLOOKUP(\"Gas\",HVACg_Lookup,MATCH(Worksheet!$G$16,BuildingSize,0)+1,FALSE),IF(IFERROR(SEARCH(\"Oil\",Worksheet!$G$17),0)>0,VLOOKUP(\"Oil\",HVACg_Lookup,MATCH(Worksheet!$G$16,BuildingSize,0)+1,FALSE),IF(IFERROR(SEARCH(\"Propane\",Worksheet!$G$17),0)>0,VLOOKUP(\"Propane\",HVACg_Lookup,MATCH(Worksheet!$G$16,BuildingSize,0)+1,FALSE),0)))/IF(Worksheet!M148>0,Worksheet!M148,Worksheet!L148),0),\"\")","v":""},"",null,null,null,{"$f":"IF(ISBLANK(Worksheet!M148)=FALSE,Worksheet!M148,\"\")","v":0},{"$f":"IF(Worksheet!A148=\"-\",\"\",IF(Worksheet!A148=\"\",S124,Worksheet!A148))","v":""},{"$f":"IF(S125=\"\",\"\",IF(AND(Worksheet!G148=\"\",Worksheet!H148=\"\")=TRUE,T124,IF(Worksheet!G148=\"\",\"\",Worksheet!G148)))","v":""},{"$f":"IF(S125=\"\",\"\",IF(AND(Worksheet!G148=\"\",Worksheet!H148=\"\")=TRUE,U124,IF(Worksheet!H148=\"\",\"\",Worksheet!H148)))","v":""},{"$f":"IF(Worksheet!N148=\"\",\"\",Worksheet!N148)","v":""},{"$f":"IF(Worksheet!O148=\"\",\"\",Worksheet!O148)","v":""},{"$f":"IF(Worksheet!F148=0,\"\",Worksheet!F148)","v":""},{"$f":"IF(Worksheet!P148=0,\"\",Worksheet!P148)","v":""},{"$f":"IF(Worksheet!$A$11=TRUE,\"Y\",\"N\")","v":"N"},{"$f":"IF(Worksheet!$A$12=TRUE,\"Y\",\"N\")","v":"N"},{"$f":"IF(Worksheet!$B$11=TRUE,\"Y\",\"N\")","v":"N"},{"$f":"IF(Worksheet!$B$12=TRUE,\"Y\",\"N\")","v":"N"},{"$f":"IF(Worksheet!$C$11=TRUE,\"Y\",\"N\")","v":"N"},{"$f":"IF(Worksheet!$C$12=TRUE,\"Y\",\"N\")","v":"N"},""]
[{"$f":"IF(ISERROR(VLOOKUP(Worksheet!N149,MeasureLookup,2,FALSE))=FALSE,VLOOKUP(Worksheet!N149,MeasureLookup,2,FALSE),\"\")","v":""},{"$f":"Worksheet!Q149","v":0},{"$f":"Worksheet!R149","v":0},{"$f":"IF(ISERROR(Worksheet!P149)=FALSE,Worksheet!P149,\"\")","v":0},"Watts",null,null,{"$f":"IF(Worksheet!AP149<>\"\",IF(Worksheet!AP149>0,Worksheet!AP149/IF(Worksheet!M149>0,Worksheet!M149,Worksheet!L149),\"\"),\"\")","v":""},{"$f":"IF(ISBLANK(Worksheet!L149)=FALSE,Worksheet!L149,\"\")","v":0},{"$f":"IF(Worksheet!L149<>0, IFERROR(VLOOKUP(Worksheet!$C$16,SavingsSupportTable,3,FALSE)*Worksheet!AQ149*IFERROR(1+VLOOKUP(Worksheet!$C$16,SavingsSupportTable,MATCH(Worksheet!$G$17,HVACe_Options,0)+4,FALSE),1)/IF(Worksheet!M149>0,Worksheet!M149,Worksheet!L149),\"\"),\"\")","v":""},{"$f":"IF(Worksheet!L149<>0, IFERROR(VLOOKUP(Worksheet!$C$16,SavingsSupportTable,2,FALSE)*Worksheet!AQ149*IF(IFERROR(MATCH(Worksheet!$G$17,HVACe_Options,0),0)>0,1+VLOOKUP(Worksheet!$C$16,SavingsSupportTable,4,FALSE),1)/IF(Worksheet!M149>0,Worksheet!M149,Worksheet!L149),\"\"),\"\")","v":""},"",{"$f":"IF(Worksheet!L149<>0,IFERROR(VLOOKUP(Worksheet!$C$16,SavingsSupportTable,3,FALSE)*Worksheet!AQ149*IF(IFERROR(SEARCH(\"Gas\",Worksheet!$G$17),0)>0,VLOOKUP(\"Gas\",HVACg_Lookup,MATCH(Worksheet!$G$16,BuildingSize,0)+1,FALSE),IF(IFERROR(SEARCH(\"Oil\",Worksheet!$G$17),0)>0,VLOOKUP(\"Oil\",HVACg_Lookup,MATCH(Worksheet!$G$16,BuildingSize,0)+1,FALSE),IF(IFERROR(SEARCH(\"Propane\",Worksheet!$G$17),0)>0,VLOOKUP(\"Propane\",HVACg_Lookup,MATCH(Worksheet!$G$16,BuildingSize,0)+1,FALSE),0)))/IF(Worksheet!M149>0,Worksheet!M149,Worksheet!L149),0),\"\")","v":""},"",null,null,null,{"$f":"IF(ISBLANK(Worksheet!M149)=FALSE,Worksheet!M149,\"\")","v":0},{"$f":"IF(Worksheet!A149=\"-\",\"\",IF(Worksheet!A149=\"\",S125,Worksheet!A149))","v":""},{"$f":"IF(S126=\"\",\"\",IF(AND(Worksheet!G149=\"\",Worksheet!H149=\"\")=TRUE,T125,IF(Worksheet!G149=\"\",\"\",Worksheet!G149)))","v":""},{"$f":"IF(S126=\"\",\"\",IF(AND(Worksheet!G149=\"\",Worksheet!H149=\"\")=TRUE,U125,IF(Worksheet!H149=\"\",\"\",Worksheet!H149)))","v":""},{"$f":"IF(Worksheet!N149=\"\",\"\",Worksheet!N149)","v":""},{"$f":"IF(Worksheet!O149=\"\",\"\",Worksheet!O149)","v":""},{"$f":"IF(Worksheet!F149=0,\"\",Worksheet!F149)","v":""},{"$f":"IF(Worksheet!P149=0,\"\",Worksheet!P149)","v":""},{"$f":"IF(Worksheet!$A$11=TRUE,\"Y\",\"N\")","v":"N"},{"$f":"IF(Worksheet!$A$12=TRUE,\"Y\",\"N\")","v":"N"},{"$f":"IF(Worksheet!$B$11=TRUE,\"Y\",\"N\")","v":"N"},{"$f":"IF(Worksheet!$B$12=TRUE,\"Y\",\"N\")","v":"N"},{"$f":"IF(Worksheet!$C$11=TRUE,\"Y\",\"N\")","v":"N"},{"$f":"IF(Worksheet!$C$12=TRUE,\"Y\",\"N\")","v":"N"},""]
[{"$f":"IF(ISERROR(VLOOKUP(Worksheet!N150,MeasureLookup,2,FALSE))=FALSE,VLOOKUP(Worksheet!N150,MeasureLookup,2,FALSE),\"\")","v":""},{"$f":"Worksheet!Q150","v":0},{"$f":"Worksheet!R150","v":0},{"$f":"IF(ISERROR(Worksheet!P150)=FALSE,Worksheet!P150,\"\")","v":0},"Watts",null,null,{"$f":"IF(Worksheet!AP150<>\"\",IF(Worksheet!AP150>0,Worksheet!AP150/IF(Worksheet!M150>0,Worksheet!M150,Worksheet!L150),\"\"),\"\")","v":""},{"$f":"IF(ISBLANK(Worksheet!L150)=FALSE,Worksheet!L150,\"\")","v":0},{"$f":"IF(Worksheet!L150<>0, IFERROR(VLOOKUP(Worksheet!$C$16,SavingsSupportTable,3,FALSE)*Worksheet!AQ150*IFERROR(1+VLOOKUP(Worksheet!$C$16,SavingsSupportTable,MATCH(Worksheet!$G$17,HVACe_Options,0)+4,FALSE),1)/IF(Worksheet!M150>0,Worksheet!M150,Worksheet!L150),\"\"),\"\")","v":""},{"$f":"IF(Worksheet!L150<>0, IFERROR(VLOOKUP(Worksheet!$C$16,SavingsSupportTable,2,FALSE)*Worksheet!AQ150*IF(IFERROR(MATCH(Worksheet!$G$17,HVACe_Options,0),0)>0,1+VLOOKUP(Worksheet!$C$16,SavingsSupportTable,4,FALSE),1)/IF(Worksheet!M150>0,Worksheet!M150,Worksheet!L150),\"\"),\"\")","v":""},"",{"$f":"IF(Worksheet!L150<>0,IFERROR(VLOOKUP(Worksheet!$C$16,SavingsSupportTable,3,FALSE)*Worksheet!AQ150*IF(IFERROR(SEARCH(\"Gas\",Worksheet!$G$17),0)>0,VLOOKUP(\"Gas\",HVACg_Lookup,MATCH(Worksheet!$G$16,BuildingSize,0)+1,FALSE),IF(IFERROR(SEARCH(\"Oil\",Worksheet!$G$17),0)>0,VLOOKUP(\"Oil\",HVACg_Lookup,MATCH(Worksheet!$G$16,BuildingSize,0)+1,FALSE),IF(IFERROR(SEARCH(\"Propane\",Worksheet!$G$17),0)>0,VLOOKUP(\"Propane\",HVACg_Lookup,MATCH(Worksheet!$G$16,BuildingSize,0)+1,FALSE),0)))/IF(Worksheet!M150>0,Worksheet!M150,Worksheet!L150),0),\"\")","v":""},"",null,null,null,{"$f":"IF(ISBLANK(Worksheet!M150)=FALSE,Worksheet!M150,\"\")","v":0},{"$f":"IF(Worksheet!A150=\"-\",\"\",IF(Worksheet!A150=\"\",S126,Worksheet!A150))","v":""},{"$f":"IF(S127=\"\",\"\",IF(AND(Worksheet!G150=\"\",Worksheet!H150=\"\")=TRUE,T126,IF(Worksheet!G150=\"\",\"\",Worksheet!G150)))","v":""},{"$f":"IF(S127=\"\",\"\",IF(AND(Worksheet!G150=\"\",Worksheet!H150=\"\")=TRUE,U126,IF(Worksheet!H150=\"\",\"\",Worksheet!H150)))","v":""},{"$f":"IF(Worksheet!N150=\"\",\"\",Worksheet!N150)","v":""},{"$f":"IF(Worksheet!O150=\"\",\"\",Worksheet!O150)","v":""},{"$f":"IF(Worksheet!F150=0,\"\",Worksheet!F150)","v":""},{"$f":"IF(Worksheet!P150=0,\"\",Worksheet!P150)","v":""},{"$f":"IF(Worksheet!$A$11=TRUE,\"Y\",\"N\")","v":"N"},{"$f":"IF(Worksheet!$A$12=TRUE,\"Y\",\"N\")","v":"N"},{"$f":"IF(Worksheet!$B$11=TRUE,\"Y\",\"N\")","v":"N"},{"$f":"IF(Worksheet!$B$12=TRUE,\"Y\",\"N\")","v":"N"},{"$f":"IF(Worksheet!$C$11=TRUE,\"Y\",\"N\")","v":"N"},{"$f":"IF(Worksheet!$C$12=TRUE,\"Y\",\"N\")","v":"N"},""]
[{"$f":"IF(ISERROR(VLOOKUP(Worksheet!N151,MeasureLookup,2,FALSE))=FALSE,VLOOKUP(Worksheet!N151,MeasureLookup,2,FALSE),\"\")","v":""},{"$f":"Worksheet!Q151","v":0},{"$f":"Worksheet!R151","v":0},{"$f":"IF(ISERROR(Worksheet!P151)=FALSE,Worksheet!P151,\"\")","v":0},"Watts",null,null,{"$f":"IF(Worksheet!AP151<>\"\",IF(Worksheet!AP151>0,Worksheet!AP151/IF(Worksheet!M151>0,Worksheet!M151,Worksheet!L151),\"\"),\"\")","v":""},{"$f":"IF(ISBLANK(Worksheet!L151)=FALSE,Worksheet!L151,\"\")","v":0},{"$f":"IF(Worksheet!L151<>0, IFERROR(VLOOKUP(Worksheet!$C$16,SavingsSupportTable,3,FALSE)*Worksheet!AQ151*IFERROR(1+VLOOKUP(Worksheet!$C$16,SavingsSupportTable,MATCH(Worksheet!$G$17,HVACe_Options,0)+4,FALSE),1)/IF(Worksheet!M151>0,Worksheet!M151,Worksheet!L151),\"\"),\"\")","v":""},{"$f":"IF(Worksheet!L151<>0, IFERROR(VLOOKUP(Worksheet!$C$16,SavingsSupportTable,2,FALSE)*Worksheet!AQ151*IF(IFERROR(MATCH(Worksheet!$G$17,HVACe_Options,0),0)>0,1+VLOOKUP(Worksheet!$C$16,SavingsSupportTable,4,FALSE),1)/IF(Worksheet!M151>0,Worksheet!M151,Worksheet!L151),\"\"),\"\")","v":""},"",{"$f":"IF(Worksheet!L151<>0,IFERROR(VLOOKUP(Worksheet!$C$16,SavingsSupportTable,3,FALSE)*Worksheet!AQ151*IF(IFERROR(SEARCH(\"Gas\",Worksheet!$G$17),0)>0,VLOOKUP(\"Gas\",HVACg_Lookup,MATCH(Worksheet!$G$16,BuildingSize,0)+1,FALSE),IF(IFERROR(SEARCH(\"Oil\",Worksheet!$G$17),0)>0,VLOOKUP(\"Oil\",HVACg_Lookup,MATCH(Worksheet!$G$16,BuildingSize,0)+1,FALSE),IF(IFERROR(SEARCH(\"Propane\",Worksheet!$G$17),0)>0,VLOOKUP(\"Propane\",HVACg_Lookup,MATCH(Worksheet!$G$16,BuildingSize,0)+1,FALSE),0)))/IF(Worksheet!M151>0,Worksheet!M151,Worksheet!L151),0),\"\")","v":""},"",null,null,null,{"$f":"IF(ISBLANK(Worksheet!M151)=FALSE,Worksheet!M151,\"\")","v":0},{"$f":"IF(Worksheet!A151=\"-\",\"\",IF(Worksheet!A151=\"\",S127,Worksheet!A151))","v":""},{"$f":"IF(S128=\"\",\"\",IF(AND(Worksheet!G151=\"\",Worksheet!H151=\"\")=TRUE,T127,IF(Worksheet!G151=\"\",\"\",Worksheet!G151)))","v":""},{"$f":"IF(S128=\"\",\"\",IF(AND(Worksheet!G151=\"\",Worksheet!H151=\"\")=TRUE,U127,IF(Worksheet!H151=\"\",\"\",Worksheet!H151)))","v":""},{"$f":"IF(Worksheet!N151=\"\",\"\",Worksheet!N151)","v":""},{"$f":"IF(Worksheet!O151=\"\",\"\",Worksheet!O151)","v":""},{"$f":"IF(Worksheet!F151=0,\"\",Worksheet!F151)","v":""},{"$f":"IF(Worksheet!P151=0,\"\",Worksheet!P151)","v":""},{"$f":"IF(Worksheet!$A$11=TRUE,\"Y\",\"N\")","v":"N"},{"$f":"IF(Worksheet!$A$12=TRUE,\"Y\",\"N\")","v":"N"},{"$f":"IF(Worksheet!$B$11=TRUE,\"Y\",\"N\")","v":"N"},{"$f":"IF(Worksheet!$B$12=TRUE,\"Y\",\"N\")","v":"N"},{"$f":"IF(Worksheet!$C$11=TRUE,\"Y\",\"N\")","v":"N"},{"$f":"IF(Worksheet!$C$12=TRUE,\"Y\",\"N\")","v":"N"},""]
[{"$f":"IF(ISERROR(VLOOKUP(Worksheet!N152,MeasureLookup,2,FALSE))=FALSE,VLOOKUP(Worksheet!N152,MeasureLookup,2,FALSE),\"\")","v":""},{"$f":"Worksheet!Q152","v":0},{"$f":"Worksheet!R152","v":0},{"$f":"IF(ISERROR(Worksheet!P152)=FALSE,Worksheet!P152,\"\")","v":0},"Watts",null,null,{"$f":"IF(Worksheet!AP152<>\"\",IF(Worksheet!AP152>0,Worksheet!AP152/IF(Worksheet!M152>0,Worksheet!M152,Worksheet!L152),\"\"),\"\")","v":""},{"$f":"IF(ISBLANK(Worksheet!L152)=FALSE,Worksheet!L152,\"\")","v":0},{"$f":"IF(Worksheet!L152<>0, IFERROR(VLOOKUP(Worksheet!$C$16,SavingsSupportTable,3,FALSE)*Worksheet!AQ152*IFERROR(1+VLOOKUP(Worksheet!$C$16,SavingsSupportTable,MATCH(Worksheet!$G$17,HVACe_Options,0)+4,FALSE),1)/IF(Worksheet!M152>0,Worksheet!M152,Worksheet!L152),\"\"),\"\")","v":""},{"$f":"IF(Worksheet!L152<>0, IFERROR(VLOOKUP(Worksheet!$C$16,SavingsSupportTable,2,FALSE)*Worksheet!AQ152*IF(IFERROR(MATCH(Worksheet!$G$17,HVACe_Options,0),0)>0,1+VLOOKUP(Worksheet!$C$16,SavingsSupportTable,4,FALSE),1)/IF(Worksheet!M152>0,Worksheet!M152,Worksheet!L152),\"\"),\"\")","v":""},"",{"$f":"IF(Worksheet!L152<>0,IFERROR(VLOOKUP(Worksheet!$C$16,SavingsSupportTable,3,FALSE)*Worksheet!AQ152*IF(IFERROR(SEARCH(\"Gas\",Worksheet!$G$17),0)>0,VLOOKUP(\"Gas\",HVACg_Lookup,MATCH(Worksheet!$G$16,BuildingSize,0)+1,FALSE),IF(IFERROR(SEARCH(\"Oil\",Worksheet!$G$17),0)>0,VLOOKUP(\"Oil\",HVACg_Lookup,MATCH(Worksheet!$G$16,BuildingSize,0)+1,FALSE),IF(IFERROR(SEARCH(\"Propane\",Worksheet!$G$17),0)>0,VLOOKUP(\"Propane\",HVACg_Lookup,MATCH(Worksheet!$G$16,BuildingSize,0)+1,FALSE),0)))/IF(Worksheet!M152>0,Worksheet!M152,Worksheet!L152),0),\"\")","v":""},"",null,null,null,{"$f":"IF(ISBLANK(Worksheet!M152)=FALSE,Worksheet!M152,\"\")","v":0},{"$f":"IF(Worksheet!A152=\"-\",\"\",IF(Worksheet!A152=\"\",S128,Worksheet!A152))","v":""},{"$f":"IF(S129=\"\",\"\",IF(AND(Worksheet!G152=\"\",Worksheet!H152=\"\")=TRUE,T128,IF(Worksheet!G152=\"\",\"\",Worksheet!G152)))","v":""},{"$f":"IF(S129=\"\",\"\",IF(AND(Worksheet!G152=\"\",Worksheet!H152=\"\")=TRUE,U128,IF(Worksheet!H152=\"\",\"\",Worksheet!H152)))","v":""},{"$f":"IF(Worksheet!N152=\"\",\"\",Worksheet!N152)","v":""},{"$f":"IF(Worksheet!O152=\"\",\"\",Worksheet!O152)","v":""},{"$f":"IF(Worksheet!F152=0,\"\",Worksheet!F152)","v":""},{"$f":"IF(Worksheet!P152=0,\"\",Worksheet!P152)","v":""},{"$f":"IF(Worksheet!$A$11=TRUE,\"Y\",\"N\")","v":"N"},{"$f":"IF(Worksheet!$A$12=TRUE,\"Y\",\"N\")","v":"N"},{"$f":"IF(Worksheet!$B$11=TRUE,\"Y\",\"N\")","v":"N"},{"$f":"IF(Worksheet!$B$12=TRUE,\"Y\",\"N\")","v":"N"},{"$f":"IF(Worksheet!$C$11=TRUE,\"Y\",\"N\")","v":"N"},{"$f":"IF(Worksheet!$C$12=TRUE,\"Y\",\"N\")","v":"N"},""]
[{"$f":"IF(ISERROR(VLOOKUP(Worksheet!N153,MeasureLookup,2,FALSE))=FALSE,VLOOKUP(Worksheet!N153,MeasureLookup,2,FALSE),\"\")","v":""},{"$f":"Worksheet!Q153","v":0},{"$f":"Worksheet!R153","v":0},{"$f":"IF(ISERROR(Worksheet!P153)=FALSE,Worksheet!P153,\"\")","v":0},"Watts",null,null,{"$f":"IF(Worksheet!AP153<>\"\",IF(Worksheet!AP153>0,Worksheet!AP153/IF(Worksheet!M153>0,Worksheet!M153,Worksheet!L153),\"\"),\"\")","v":""},{"$f":"IF(ISBLANK(Worksheet!L153)=FALSE,Worksheet!L153,\"\")","v":0},{"$f":"IF(Worksheet!L153<>0, IFERROR(VLOOKUP(Worksheet!$C$16,SavingsSupportTable,3,FALSE)*Worksheet!AQ153*IFERROR(1+VLOOKUP(Worksheet!$C$16,SavingsSupportTable,MATCH(Worksheet!$G$17,HVACe_Options,0)+4,FALSE),1)/IF(Worksheet!M153>0,Worksheet!M153,Worksheet!L153),\"\"),\"\")","v":""},{"$f":"IF(Worksheet!L153<>0, IFERROR(VLOOKUP(Worksheet!$C$16,SavingsSupportTable,2,FALSE)*Worksheet!AQ153*IF(IFERROR(MATCH(Worksheet!$G$17,HVACe_Options,0),0)>0,1+VLOOKUP(Worksheet!$C$16,SavingsSupportTable,4,FALSE),1)/IF(Worksheet!M153>0,Worksheet!M153,Worksheet!L153),\"\"),\"\")","v":""},"",{"$f":"IF(Worksheet!L153<>0,IFERROR(VLOOKUP(Worksheet!$C$16,SavingsSupportTable,3,FALSE)*Worksheet!AQ153*IF(IFERROR(SEARCH(\"Gas\",Worksheet!$G$17),0)>0,VLOOKUP(\"Gas\",HVACg_Lookup,MATCH(Worksheet!$G$16,BuildingSize,0)+1,FALSE),IF(IFERROR(SEARCH(\"Oil\",Worksheet!$G$17),0)>0,VLOOKUP(\"Oil\",HVACg_Lookup,MATCH(Worksheet!$G$16,BuildingSize,0)+1,FALSE),IF(IFERROR(SEARCH(\"Propane\",Worksheet!$G$17),0)>0,VLOOKUP(\"Propane\",HVACg_Lookup,MATCH(Worksheet!$G$16,BuildingSize,0)+1,FALSE),0)))/IF(Worksheet!M153>0,Worksheet!M153,Worksheet!L153),0),\"\")","v":""},"",null,null,null,{"$f":"IF(ISBLANK(Worksheet!M153)=FALSE,Worksheet!M153,\"\")","v":0},{"$f":"IF(Worksheet!A153=\"-\",\"\",IF(Worksheet!A153=\"\",S129,Worksheet!A153))","v":""},{"$f":"IF(S130=\"\",\"\",IF(AND(Worksheet!G153=\"\",Worksheet!H153=\"\")=TRUE,T129,IF(Worksheet!G153=\"\",\"\",Worksheet!G153)))","v":""},{"$f":"IF(S130=\"\",\"\",IF(AND(Worksheet!G153=\"\",Worksheet!H153=\"\")=TRUE,U129,IF(Worksheet!H153=\"\",\"\",Worksheet!H153)))","v":""},{"$f":"IF(Worksheet!N153=\"\",\"\",Worksheet!N153)","v":""},{"$f":"IF(Worksheet!O153=\"\",\"\",Worksheet!O153)","v":""},{"$f":"IF(Worksheet!F153=0,\"\",Worksheet!F153)","v":""},{"$f":"IF(Worksheet!P153=0,\"\",Worksheet!P153)","v":""},{"$f":"IF(Worksheet!$A$11=TRUE,\"Y\",\"N\")","v":"N"},{"$f":"IF(Worksheet!$A$12=TRUE,\"Y\",\"N\")","v":"N"},{"$f":"IF(Worksheet!$B$11=TRUE,\"Y\",\"N\")","v":"N"},{"$f":"IF(Worksheet!$B$12=TRUE,\"Y\",\"N\")","v":"N"},{"$f":"IF(Worksheet!$C$11=TRUE,\"Y\",\"N\")","v":"N"},{"$f":"IF(Worksheet!$C$12=TRUE,\"Y\",\"N\")","v":"N"},""]
[{"$f":"IF(ISERROR(VLOOKUP(Worksheet!N154,MeasureLookup,2,FALSE))=FALSE,VLOOKUP(Worksheet!N154,MeasureLookup,2,FALSE),\"\")","v":""},{"$f":"Worksheet!Q154","v":0},{"$f":"Worksheet!R154","v":0},{"$f":"IF(ISERROR(Worksheet!P154)=FALSE,Worksheet!P154,\"\")","v":0},"Watts",null,null,{"$f":"IF(Worksheet!AP154<>\"\",IF(Worksheet!AP154>0,Worksheet!AP154/IF(Worksheet!M154>0,Worksheet!M154,Worksheet!L154),\"\"),\"\")","v":""},{"$f":"IF(ISBLANK(Worksheet!L154)=FALSE,Worksheet!L154,\"\")","v":0},{"$f":"IF(Worksheet!L154<>0, IFERROR(VLOOKUP(Worksheet!$C$16,SavingsSupportTable,3,FALSE)*Worksheet!AQ154*IFERROR(1+VLOOKUP(Worksheet!$C$16,SavingsSupportTable,MATCH(Worksheet!$G$17,HVACe_Options,0)+4,FALSE),1)/IF(Worksheet!M154>0,Worksheet!M154,Worksheet!L154),\"\"),\"\")","v":""},{"$f":"IF(Worksheet!L154<>0, IFERROR(VLOOKUP(Worksheet!$C$16,SavingsSupportTable,2,FALSE)*Worksheet!AQ154*IF(IFERROR(MATCH(Worksheet!$G$17,HVACe_Options,0),0)>0,1+VLOOKUP(Worksheet!$C$16,SavingsSupportTable,4,FALSE),1)/IF(Worksheet!M154>0,Worksheet!M154,Worksheet!L154),\"\"),\"\")","v":""},{"$f":"IF(ISERROR(J131*15)=FALSE,J131*15,\"\")","v":""},{"$f":"IF(Worksheet!L154<>0,IFERROR(VLOOKUP(Worksheet!$C$16,SavingsSupportTable,3,FALSE)*Worksheet!AQ154*IF(IFERROR(SEARCH(\"Gas\",Worksheet!$G$17),0)>0,VLOOKUP(\"Gas\",HVACg_Lookup,MATCH(Worksheet!$G$16,BuildingSize,0)+1,FALSE),IF(IFERROR(SEARCH(\"Oil\",Worksheet!$G$17),0)>0,VLOOKUP(\"Oil\",HVACg_Lookup,MATCH(Worksheet!$G$16,BuildingSize,0)+1,FALSE),IF(IFERROR(SEARCH(\"Propane\",Worksheet!$G$17),0)>0,VLOOKUP(\"Propane\",HVACg_Lookup,MATCH(Worksheet!$G$16,BuildingSize,0)+1,FALSE),0)))/IF(Worksheet!M154>0,Worksheet!M154,Worksheet!L154),0),\"\")","v":""},{"$f":"IF(ISERROR(M131*15)=FALSE,M131*15,\"\")","v":""},null,null,null,{"$f":"IF(ISBLANK(Worksheet!M154)=FALSE,Worksheet!M154,\"\")","v":0},{"$f":"IF(Worksheet!A154=\"-\",\"\",IF(Worksheet!A154=\"\",S130,Worksheet!A154))","v":""},{"$f":"IF(S131=\"\",\"\",IF(AND(Worksheet!G154=\"\",Worksheet!H154=\"\")=TRUE,T130,IF(Worksheet!G154=\"\",\"\",Worksheet!G154)))","v":""},{"$f":"IF(S131=\"\",\"\",IF(AND(Worksheet!G154=\"\",Worksheet!H154=\"\")=TRUE,U130,IF(Worksheet!H154=\"\",\"\",Worksheet!H154)))","v":""},{"$f":"IF(Worksheet!N154=\"\",\"\",Worksheet!N154)","v":""},{"$f":"IF(Worksheet!O154=\"\",\"\",Worksheet!O154)","v":""},{"$f":"IF(Worksheet!F154=0,\"\",Worksheet!F154)","v":""},{"$f":"IF(Worksheet!P154=0,\"\",Worksheet!P154)","v":""},{"$f":"IF(Worksheet!$A$11=TRUE,\"Y\",\"N\")","v":"N"},{"$f":"IF(Worksheet!$A$12=TRUE,\"Y\",\"N\")","v":"N"},{"$f":"IF(Worksheet!$B$11=TRUE,\"Y\",\"N\")","v":"N"},{"$f":"IF(Worksheet!$B$12=TRUE,\"Y\",\"N\")","v":"N"},{"$f":"IF(Worksheet!$C$11=TRUE,\"Y\",\"N\")","v":"N"},{"$f":"IF(Worksheet!$C$12=TRUE,\"Y\",\"N\")","v":"N"},{"$f":"IFERROR(IF(OR(Z131=\"Y\",AA131=\"Y\",AB131=\"Y\",AC131=\"Y\",AD131=\"Y\",AE131=\"Y\")=TRUE,H131,\"\"),\"\")","v":""}]
[{"$f":"IF(ISERROR(VLOOKUP(Worksheet!N155,MeasureLookup,2,FALSE))=FALSE,VLOOKUP(Worksheet!N155,MeasureLookup,2,FALSE),\"\")","v":""},{"$f":"Worksheet!Q155","v":0},{"$f":"Worksheet!R155","v":0},{"$f":"IF(ISERROR(Worksheet!P155)=FALSE,Worksheet!P155,\"\")","v":0},"Watts",null,null,{"$f":"IF(Worksheet!AP155<>\"\",IF(Worksheet!AP155>0,Worksheet!AP155/IF(Worksheet!M155>0,Worksheet!M155,Worksheet!L155),\"\"),\"\")","v":""},{"$f":"IF(ISBLANK(Worksheet!L155)=FALSE,Worksheet!L155,\"\")","v":0},{"$f":"IF(Worksheet!L155<>0, IFERROR(VLOOKUP(Worksheet!$C$16,SavingsSupportTable,3,FALSE)*Worksheet!AQ155*IFERROR(1+VLOOKUP(Worksheet!$C$16,SavingsSupportTable,MATCH(Worksheet!$G$17,HVACe_Options,0)+4,FALSE),1)/IF(Worksheet!M155>0,Worksheet!M155,Worksheet!L155),\"\"),\"\")","v":""},{"$f":"IF(Worksheet!L155<>0, IFERROR(VLOOKUP(Worksheet!$C$16,SavingsSupportTable,2,FALSE)*Worksheet!AQ155*IF(IFERROR(MATCH(Worksheet!$G$17,HVACe_Options,0),0)>0,1+VLOOKUP(Worksheet!$C$16,SavingsSupportTable,4,FALSE),1)/IF(Worksheet!M155>0,Worksheet!M155,Worksheet!L155),\"\"),\"\")","v":""},"",{"$f":"IF(Worksheet!L155<>0,IFERROR(VLOOKUP(Worksheet!$C$16,SavingsSupportTable,3,FALSE)*Worksheet!AQ155*IF(IFERROR(SEARCH(\"Gas\",Worksheet!$G$17),0)>0,VLOOKUP(\"Gas\",HVACg_Lookup,MATCH(Worksheet!$G$16,BuildingSize,0)+1,FALSE),IF(IFERROR(SEARCH(\"Oil\",Worksheet!$G$17),0)>0,VLOOKUP(\"Oil\",HVACg_Lookup,MATCH(Worksheet!$G$16,BuildingSize,0)+1,FALSE),IF(IFERROR(SEARCH(\"Propane\",Worksheet!$G$17),0)>0,VLOOKUP(\"Propane\",HVACg_Lookup,MATCH(Worksheet!$G$16,BuildingSize,0)+1,FALSE),0)))/IF(Worksheet!M155>0,Worksheet!M155,Worksheet!L155),0),\"\")","v":""},"",null,null,null,{"$f":"IF(ISBLANK(Worksheet!M155)=FALSE,Worksheet!M155,\"\")","v":0},{"$f":"IF(Worksheet!A155=\"-\",\"\",IF(Worksheet!A155=\"\",S131,Worksheet!A155))","v":""},{"$f":"IF(S132=\"\",\"\",IF(AND(Worksheet!G155=\"\",Worksheet!H155=\"\")=TRUE,T131,IF(Worksheet!G155=\"\",\"\",Worksheet!G155)))","v":""},{"$f":"IF(S132=\"\",\"\",IF(AND(Worksheet!G155=\"\",Worksheet!H155=\"\")=TRUE,U131,IF(Worksheet!H155=\"\",\"\",Worksheet!H155)))","v":""},{"$f":"IF(Worksheet!N155=\"\",\"\",Worksheet!N155)","v":""},{"$f":"IF(Worksheet!O155=\"\",\"\",Worksheet!O155)","v":""},{"$f":"IF(Worksheet!F155=0,\"\",Worksheet!F155)","v":""},{"$f":"IF(Worksheet!P155=0,\"\",Worksheet!P155)","v":""},{"$f":"IF(Worksheet!$A$11=TRUE,\"Y\",\"N\")","v":"N"},{"$f":"IF(Worksheet!$A$12=TRUE,\"Y\",\"N\")","v":"N"},{"$f":"IF(Worksheet!$B$11=TRUE,\"Y\",\"N\")","v":"N"},{"$f":"IF(Worksheet!$B$12=TRUE,\"Y\",\"N\")","v":"N"},{"$f":"IF(Worksheet!$C$11=TRUE,\"Y\",\"N\")","v":"N"},{"$f":"IF(Worksheet!$C$12=TRUE,\"Y\",\"N\")","v":"N"},""]
[{"$f":"IF(ISERROR(VLOOKUP(Worksheet!N156,MeasureLookup,2,FALSE))=FALSE,VLOOKUP(Worksheet!N156,MeasureLookup,2,FALSE),\"\")","v":""},{"$f":"Worksheet!Q156","v":0},{"$f":"Worksheet!R156","v":0},{"$f":"IF(ISERROR(Worksheet!P156)=FALSE,Worksheet!P156,\"\")","v":0},"Watts",null,null,{"$f":"IF(Worksheet!AP156<>\"\",IF(Worksheet!AP156>0,Worksheet!AP156/IF(Worksheet!M156>0,Worksheet!M156,Worksheet!L156),\"\"),\"\")","v":""},{"$f":"IF(ISBLANK(Worksheet!L156)=FALSE,Worksheet!L156,\"\")","v":0},{"$f":"IF(Worksheet!L156<>0, IFERROR(VLOOKUP(Worksheet!$C$16,SavingsSupportTable,3,FALSE)*Worksheet!AQ156*IFERROR(1+VLOOKUP(Worksheet!$C$16,SavingsSupportTable,MATCH(Worksheet!$G$17,HVACe_Options,0)+4,FALSE),1)/IF(Worksheet!M156>0,Worksheet!M156,Worksheet!L156),\"\"),\"\")","v":""},{"$f":"IF(Worksheet!L156<>0, IFERROR(VLOOKUP(Worksheet!$C$16,SavingsSupportTable,2,FALSE)*Worksheet!AQ156*IF(IFERROR(MATCH(Worksheet!$G$17,HVACe_Options,0),0)>0,1+VLOOKUP(Worksheet!$C$16,SavingsSupportTable,4,FALSE),1)/IF(Worksheet!M156>0,Worksheet!M156,Worksheet!L156),\"\"),\"\")","v":""},"",{"$f":"IF(Worksheet!L156<>0,IFERROR(VLOOKUP(Worksheet!$C$16,SavingsSupportTable,3,FALSE)*Worksheet!AQ156*IF(IFERROR(SEARCH(\"Gas\",Worksheet!$G$17),0)>0,VLOOKUP(\"Gas\",HVACg_Lookup,MATCH(Worksheet!$G$16,BuildingSize,0)+1,FALSE),IF(IFERROR(SEARCH(\"Oil\",Worksheet!$G$17),0)>0,VLOOKUP(\"Oil\",HVACg_Lookup,MATCH(Worksheet!$G$16,BuildingSize,0)+1,FALSE),IF(IFERROR(SEARCH(\"Propane\",Worksheet!$G$17),0)>0,VLOOKUP(\"Propane\",HVACg_Lookup,MATCH(Worksheet!$G$16,BuildingSize,0)+1,FALSE),0)))/IF(Worksheet!M156>0,Worksheet!M156,Worksheet!L156),0),\"\")","v":""},"",null,null,null,{"$f":"IF(ISBLANK(Worksheet!M156)=FALSE,Worksheet!M156,\"\")","v":0},{"$f":"IF(Worksheet!A156=\"-\",\"\",IF(Worksheet!A156=\"\",S132,Worksheet!A156))","v":""},{"$f":"IF(S133=\"\",\"\",IF(AND(Worksheet!G156=\"\",Worksheet!H156=\"\")=TRUE,T132,IF(Worksheet!G156=\"\",\"\",Worksheet!G156)))","v":""},{"$f":"IF(S133=\"\",\"\",IF(AND(Worksheet!G156=\"\",Worksheet!H156=\"\")=TRUE,U132,IF(Worksheet!H156=\"\",\"\",Worksheet!H156)))","v":""},{"$f":"IF(Worksheet!N156=\"\",\"\",Worksheet!N156)","v":""},{"$f":"IF(Worksheet!O156=\"\",\"\",Worksheet!O156)","v":""},{"$f":"IF(Worksheet!F156=0,\"\",Worksheet!F156)","v":""},{"$f":"IF(Worksheet!P156=0,\"\",Worksheet!P156)","v":""},{"$f":"IF(Worksheet!$A$11=TRUE,\"Y\",\"N\")","v":"N"},{"$f":"IF(Worksheet!$A$12=TRUE,\"Y\",\"N\")","v":"N"},{"$f":"IF(Worksheet!$B$11=TRUE,\"Y\",\"N\")","v":"N"},{"$f":"IF(Worksheet!$B$12=TRUE,\"Y\",\"N\")","v":"N"},{"$f":"IF(Worksheet!$C$11=TRUE,\"Y\",\"N\")","v":"N"},{"$f":"IF(Worksheet!$C$12=TRUE,\"Y\",\"N\")","v":"N"},""]
[{"$f":"IF(ISERROR(VLOOKUP(Worksheet!N157,MeasureLookup,2,FALSE))=FALSE,VLOOKUP(Worksheet!N157,MeasureLookup,2,FALSE),\"\")","v":""},{"$f":"Worksheet!Q157","v":0},{"$f":"Worksheet!R157","v":0},{"$f":"IF(ISERROR(Worksheet!P157)=FALSE,Worksheet!P157,\"\")","v":0},"Watts",null,null,{"$f":"IF(Worksheet!AP157<>\"\",IF(Worksheet!AP157>0,Worksheet!AP157/IF(Worksheet!M157>0,Worksheet!M157,Worksheet!L157),\"\"),\"\")","v":""},{"$f":"IF(ISBLANK(Worksheet!L157)=FALSE,Worksheet!L157,\"\")","v":0},{"$f":"IF(Worksheet!L157<>0, IFERROR(VLOOKUP(Worksheet!$C$16,SavingsSupportTable,3,FALSE)*Worksheet!AQ157*IFERROR(1+VLOOKUP(Worksheet!$C$16,SavingsSupportTable,MATCH(Worksheet!$G$17,HVACe_Options,0)+4,FALSE),1)/IF(Worksheet!M157>0,Worksheet!M157,Worksheet!L157),\"\"),\"\")","v":""},{"$f":"IF(Worksheet!L157<>0, IFERROR(VLOOKUP(Worksheet!$C$16,SavingsSupportTable,2,FALSE)*Worksheet!AQ157*IF(IFERROR(MATCH(Worksheet!$G$17,HVACe_Options,0),0)>0,1+VLOOKUP(Worksheet!$C$16,SavingsSupportTable,4,FALSE),1)/IF(Worksheet!M157>0,Worksheet!M157,Worksheet!L157),\"\"),\"\")","v":""},"",{"$f":"IF(Worksheet!L157<>0,IFERROR(VLOOKUP(Worksheet!$C$16,SavingsSupportTable,3,FALSE)*Worksheet!AQ157*IF(IFERROR(SEARCH(\"Gas\",Worksheet!$G$17),0)>0,VLOOKUP(\"Gas\",HVACg_Lookup,MATCH(Worksheet!$G$16,BuildingSize,0)+1,FALSE),IF(IFERROR(SEARCH(\"Oil\",Worksheet!$G$17),0)>0,VLOOKUP(\"Oil\",HVACg_Lookup,MATCH(Worksheet!$G$16,BuildingSize,0)+1,FALSE),IF(IFERROR(SEARCH(\"Propane\",Worksheet!$G$17),0)>0,VLOOKUP(\"Propane\",HVACg_Lookup,MATCH(Worksheet!$G$16,BuildingSize,0)+1,FALSE),0)))/IF(Worksheet!M157>0,Worksheet!M157,Worksheet!L157),0),\"\")","v":""},"",null,null,null,{"$f":"IF(ISBLANK(Worksheet!M157)=FALSE,Worksheet!M157,\"\")","v":0},{"$f":"IF(Worksheet!A157=\"-\",\"\",IF(Worksheet!A157=\"\",S133,Worksheet!A157))","v":""},{"$f":"IF(S134=\"\",\"\",IF(AND(Worksheet!G157=\"\",Worksheet!H157=\"\")=TRUE,T133,IF(Worksheet!G157=\"\",\"\",Worksheet!G157)))","v":""},{"$f":"IF(S134=\"\",\"\",IF(AND(Worksheet!G157=\"\",Worksheet!H157=\"\")=TRUE,U133,IF(Worksheet!H157=\"\",\"\",Worksheet!H157)))","v":""},{"$f":"IF(Worksheet!N157=\"\",\"\",Worksheet!N157)","v":""},{"$f":"IF(Worksheet!O157=\"\",\"\",Worksheet!O157)","v":""},{"$f":"IF(Worksheet!F157=0,\"\",Worksheet!F157)","v":""},{"$f":"IF(Worksheet!P157=0,\"\",Worksheet!P157)","v":""},{"$f":"IF(Worksheet!$A$11=TRUE,\"Y\",\"N\")","v":"N"},{"$f":"IF(Worksheet!$A$12=TRUE,\"Y\",\"N\")","v":"N"},{"$f":"IF(Worksheet!$B$11=TRUE,\"Y\",\"N\")","v":"N"},{"$f":"IF(Worksheet!$B$12=TRUE,\"Y\",\"N\")","v":"N"},{"$f":"IF(Worksheet!$C$11=TRUE,\"Y\",\"N\")","v":"N"},{"$f":"IF(Worksheet!$C$12=TRUE,\"Y\",\"N\")","v":"N"},""]
[{"$f":"IF(ISERROR(VLOOKUP(Worksheet!N158,MeasureLookup,2,FALSE))=FALSE,VLOOKUP(Worksheet!N158,MeasureLookup,2,FALSE),\"\")","v":""},{"$f":"Worksheet!Q158","v":0},{"$f":"Worksheet!R158","v":0},{"$f":"IF(ISERROR(Worksheet!P158)=FALSE,Worksheet!P158,\"\")","v":0},"Watts",null,null,{"$f":"IF(Worksheet!AP158<>\"\",IF(Worksheet!AP158>0,Worksheet!AP158/IF(Worksheet!M158>0,Worksheet!M158,Worksheet!L158),\"\"),\"\")","v":""},{"$f":"IF(ISBLANK(Worksheet!L158)=FALSE,Worksheet!L158,\"\")","v":0},{"$f":"IF(Worksheet!L158<>0, IFERROR(VLOOKUP(Worksheet!$C$16,SavingsSupportTable,3,FALSE)*Worksheet!AQ158*IFERROR(1+VLOOKUP(Worksheet!$C$16,SavingsSupportTable,MATCH(Worksheet!$G$17,HVACe_Options,0)+4,FALSE),1)/IF(Worksheet!M158>0,Worksheet!M158,Worksheet!L158),\"\"),\"\")","v":""},{"$f":"IF(Worksheet!L158<>0, IFERROR(VLOOKUP(Worksheet!$C$16,SavingsSupportTable,2,FALSE)*Worksheet!AQ158*IF(IFERROR(MATCH(Worksheet!$G$17,HVACe_Options,0),0)>0,1+VLOOKUP(Worksheet!$C$16,SavingsSupportTable,4,FALSE),1)/IF(Worksheet!M158>0,Worksheet!M158,Worksheet!L158),\"\"),\"\")","v":""},"",{"$f":"IF(Worksheet!L158<>0,IFERROR(VLOOKUP(Worksheet!$C$16,SavingsSupportTable,3,FALSE)*Worksheet!AQ158*IF(IFERROR(SEARCH(\"Gas\",Worksheet!$G$17),0)>0,VLOOKUP(\"Gas\",HVACg_Lookup,MATCH(Worksheet!$G$16,BuildingSize,0)+1,FALSE),IF(IFERROR(SEARCH(\"Oil\",Worksheet!$G$17),0)>0,VLOOKUP(\"Oil\",HVACg_Lookup,MATCH(Worksheet!$G$16,BuildingSize,0)+1,FALSE),IF(IFERROR(SEARCH(\"Propane\",Worksheet!$G$17),0)>0,VLOOKUP(\"Propane\",HVACg_Lookup,MATCH(Worksheet!$G$16,BuildingSize,0)+1,FALSE),0)))/IF(Worksheet!M158>0,Worksheet!M158,Worksheet!L158),0),\"\")","v":""},"",null,null,null,{"$f":"IF(ISBLANK(Worksheet!M158)=FALSE,Worksheet!M158,\"\")","v":0},{"$f":"IF(Worksheet!A158=\"-\",\"\",IF(Worksheet!A158=\"\",S134,Worksheet!A158))","v":""},{"$f":"IF(S135=\"\",\"\",IF(AND(Worksheet!G158=\"\",Worksheet!H158=\"\")=TRUE,T134,IF(Worksheet!G158=\"\",\"\",Worksheet!G158)))","v":""},{"$f":"IF(S135=\"\",\"\",IF(AND(Worksheet!G158=\"\",Worksheet!H158=\"\")=TRUE,U134,IF(Worksheet!H158=\"\",\"\",Worksheet!H158)))","v":""},{"$f":"IF(Worksheet!N158=\"\",\"\",Worksheet!N158)","v":""},{"$f":"IF(Worksheet!O158=\"\",\"\",Worksheet!O158)","v":""},{"$f":"IF(Worksheet!F158=0,\"\",Worksheet!F158)","v":""},{"$f":"IF(Worksheet!P158=0,\"\",Worksheet!P158)","v":""},{"$f":"IF(Worksheet!$A$11=TRUE,\"Y\",\"N\")","v":"N"},{"$f":"IF(Worksheet!$A$12=TRUE,\"Y\",\"N\")","v":"N"},{"$f":"IF(Worksheet!$B$11=TRUE,\"Y\",\"N\")","v":"N"},{"$f":"IF(Worksheet!$B$12=TRUE,\"Y\",\"N\")","v":"N"},{"$f":"IF(Worksheet!$C$11=TRUE,\"Y\",\"N\")","v":"N"},{"$f":"IF(Worksheet!$C$12=TRUE,\"Y\",\"N\")","v":"N"},""]
[{"$f":"IF(ISERROR(VLOOKUP(Worksheet!N159,MeasureLookup,2,FALSE))=FALSE,VLOOKUP(Worksheet!N159,MeasureLookup,2,FALSE),\"\")","v":""},{"$f":"Worksheet!Q159","v":0},{"$f":"Worksheet!R159","v":0},{"$f":"IF(ISERROR(Worksheet!P159)=FALSE,Worksheet!P159,\"\")","v":0},"Watts",null,null,{"$f":"IF(Worksheet!AP159<>\"\",IF(Worksheet!AP159>0,Worksheet!AP159/IF(Worksheet!M159>0,Worksheet!M159,Worksheet!L159),\"\"),\"\")","v":""},{"$f":"IF(ISBLANK(Worksheet!L159)=FALSE,Worksheet!L159,\"\")","v":0},{"$f":"IF(Worksheet!L159<>0, IFERROR(VLOOKUP(Worksheet!$C$16,SavingsSupportTable,3,FALSE)*Worksheet!AQ159*IFERROR(1+VLOOKUP(Worksheet!$C$16,SavingsSupportTable,MATCH(Worksheet!$G$17,HVACe_Options,0)+4,FALSE),1)/IF(Worksheet!M159>0,Worksheet!M159,Worksheet!L159),\"\"),\"\")","v":""},{"$f":"IF(Worksheet!L159<>0, IFERROR(VLOOKUP(Worksheet!$C$16,SavingsSupportTable,2,FALSE)*Worksheet!AQ159*IF(IFERROR(MATCH(Worksheet!$G$17,HVACe_Options,0),0)>0,1+VLOOKUP(Worksheet!$C$16,SavingsSupportTable,4,FALSE),1)/IF(Worksheet!M159>0,Worksheet!M159,Worksheet!L159),\"\"),\"\")","v":""},"",{"$f":"IF(Worksheet!L159<>0,IFERROR(VLOOKUP(Worksheet!$C$16,SavingsSupportTable,3,FALSE)*Worksheet!AQ159*IF(IFERROR(SEARCH(\"Gas\",Worksheet!$G$17),0)>0,VLOOKUP(\"Gas\",HVACg_Lookup,MATCH(Worksheet!$G$16,BuildingSize,0)+1,FALSE),IF(IFERROR(SEARCH(\"Oil\",Worksheet!$G$17),0)>0,VLOOKUP(\"Oil\",HVACg_Lookup,MATCH(Worksheet!$G$16,BuildingSize,0)+1,FALSE),IF(IFERROR(SEARCH(\"Propane\",Worksheet!$G$17),0)>0,VLOOKUP(\"Propane\",HVACg_Lookup,MATCH(Worksheet!$G$16,BuildingSize,0)+1,FALSE),0)))/IF(Worksheet!M159>0,Worksheet!M159,Worksheet!L159),0),\"\")","v":""},"",null,null,null,{"$f":"IF(ISBLANK(Worksheet!M159)=FALSE,Worksheet!M159,\"\")","v":0},{"$f":"IF(Worksheet!A159=\"-\",\"\",IF(Worksheet!A159=\"\",S135,Worksheet!A159))","v":""},{"$f":"IF(S136=\"\",\"\",IF(AND(Worksheet!G159=\"\",Worksheet!H159=\"\")=TRUE,T135,IF(Worksheet!G159=\"\",\"\",Worksheet!G159)))","v":""},{"$f":"IF(S136=\"\",\"\",IF(AND(Worksheet!G159=\"\",Worksheet!H159=\"\")=TRUE,U135,IF(Worksheet!H159=\"\",\"\",Worksheet!H159)))","v":""},{"$f":"IF(Worksheet!N159=\"\",\"\",Worksheet!N159)","v":""},{"$f":"IF(Worksheet!O159=\"\",\"\",Worksheet!O159)","v":""},{"$f":"IF(Worksheet!F159=0,\"\",Worksheet!F159)","v":""},{"$f":"IF(Worksheet!P159=0,\"\",Worksheet!P159)","v":""},{"$f":"IF(Worksheet!$A$11=TRUE,\"Y\",\"N\")","v":"N"},{"$f":"IF(Worksheet!$A$12=TRUE,\"Y\",\"N\")","v":"N"},{"$f":"IF(Worksheet!$B$11=TRUE,\"Y\",\"N\")","v":"N"},{"$f":"IF(Worksheet!$B$12=TRUE,\"Y\",\"N\")","v":"N"},{"$f":"IF(Worksheet!$C$11=TRUE,\"Y\",\"N\")","v":"N"},{"$f":"IF(Worksheet!$C$12=TRUE,\"Y\",\"N\")","v":"N"},""]
[{"$f":"IF(ISERROR(VLOOKUP(Worksheet!N160,MeasureLookup,2,FALSE))=FALSE,VLOOKUP(Worksheet!N160,MeasureLookup,2,FALSE),\"\")","v":""},{"$f":"Worksheet!Q160","v":0},{"$f":"Worksheet!R160","v":0},{"$f":"IF(ISERROR(Worksheet!P160)=FALSE,Worksheet!P160,\"\")","v":0},"Watts",null,null,{"$f":"IF(Worksheet!AP160<>\"\",IF(Worksheet!AP160>0,Worksheet!AP160/IF(Worksheet!M160>0,Worksheet!M160,Worksheet!L160),\"\"),\"\")","v":""},{"$f":"IF(ISBLANK(Worksheet!L160)=FALSE,Worksheet!L160,\"\")","v":0},{"$f":"IF(Worksheet!L160<>0, IFERROR(VLOOKUP(Worksheet!$C$16,SavingsSupportTable,3,FALSE)*Worksheet!AQ160*IFERROR(1+VLOOKUP(Worksheet!$C$16,SavingsSupportTable,MATCH(Worksheet!$G$17,HVACe_Options,0)+4,FALSE),1)/IF(Worksheet!M160>0,Worksheet!M160,Worksheet!L160),\"\"),\"\")","v":""},{"$f":"IF(Worksheet!L160<>0, IFERROR(VLOOKUP(Worksheet!$C$16,SavingsSupportTable,2,FALSE)*Worksheet!AQ160*IF(IFERROR(MATCH(Worksheet!$G$17,HVACe_Options,0),0)>0,1+VLOOKUP(Worksheet!$C$16,SavingsSupportTable,4,FALSE),1)/IF(Worksheet!M160>0,Worksheet!M160,Worksheet!L160),\"\"),\"\")","v":""},"",{"$f":"IF(Worksheet!L160<>0,IFERROR(VLOOKUP(Worksheet!$C$16,SavingsSupportTable,3,FALSE)*Worksheet!AQ160*IF(IFERROR(SEARCH(\"Gas\",Worksheet!$G$17),0)>0,VLOOKUP(\"Gas\",HVACg_Lookup,MATCH(Worksheet!$G$16,BuildingSize,0)+1,FALSE),IF(IFERROR(SEARCH(\"Oil\",Worksheet!$G$17),0)>0,VLOOKUP(\"Oil\",HVACg_Lookup,MATCH(Worksheet!$G$16,BuildingSize,0)+1,FALSE),IF(IFERROR(SEARCH(\"Propane\",Worksheet!$G$17),0)>0,VLOOKUP(\"Propane\",HVACg_Lookup,MATCH(Worksheet!$G$16,BuildingSize,0)+1,FALSE),0)))/IF(Worksheet!M160>0,Worksheet!M160,Worksheet!L160),0),\"\")","v":""},"",null,null,null,{"$f":"IF(ISBLANK(Worksheet!M160)=FALSE,Worksheet!M160,\"\")","v":0},{"$f":"IF(Worksheet!A160=\"-\",\"\",IF(Worksheet!A160=\"\",S136,Worksheet!A160))","v":""},{"$f":"IF(S137=\"\",\"\",IF(AND(Worksheet!G160=\"\",Worksheet!H160=\"\")=TRUE,T136,IF(Worksheet!G160=\"\",\"\",Worksheet!G160)))","v":""},{"$f":"IF(S137=\"\",\"\",IF(AND(Worksheet!G160=\"\",Worksheet!H160=\"\")=TRUE,U136,IF(Worksheet!H160=\"\",\"\",Worksheet!H160)))","v":""},{"$f":"IF(Worksheet!N160=\"\",\"\",Worksheet!N160)","v":""},{"$f":"IF(Worksheet!O160=\"\",\"\",Worksheet!O160)","v":""},{"$f":"IF(Worksheet!F160=0,\"\",Worksheet!F160)","v":""},{"$f":"IF(Worksheet!P160=0,\"\",Worksheet!P160)","v":""},{"$f":"IF(Worksheet!$A$11=TRUE,\"Y\",\"N\")","v":"N"},{"$f":"IF(Worksheet!$A$12=TRUE,\"Y\",\"N\")","v":"N"},{"$f":"IF(Worksheet!$B$11=TRUE,\"Y\",\"N\")","v":"N"},{"$f":"IF(Worksheet!$B$12=TRUE,\"Y\",\"N\")","v":"N"},{"$f":"IF(Worksheet!$C$11=TRUE,\"Y\",\"N\")","v":"N"},{"$f":"IF(Worksheet!$C$12=TRUE,\"Y\",\"N\")","v":"N"},""]
[{"$f":"IF(ISERROR(VLOOKUP(Worksheet!N161,MeasureLookup,2,FALSE))=FALSE,VLOOKUP(Worksheet!N161,MeasureLookup,2,FALSE),\"\")","v":""},{"$f":"Worksheet!Q161","v":0},{"$f":"Worksheet!R161","v":0},{"$f":"IF(ISERROR(Worksheet!P161)=FALSE,Worksheet!P161,\"\")","v":0},"Watts",null,null,{"$f":"IF(Worksheet!AP161<>\"\",IF(Worksheet!AP161>0,Worksheet!AP161/IF(Worksheet!M161>0,Worksheet!M161,Worksheet!L161),\"\"),\"\")","v":""},{"$f":"IF(ISBLANK(Worksheet!L161)=FALSE,Worksheet!L161,\"\")","v":0},{"$f":"IF(Worksheet!L161<>0, IFERROR(VLOOKUP(Worksheet!$C$16,SavingsSupportTable,3,FALSE)*Worksheet!AQ161*IFERROR(1+VLOOKUP(Worksheet!$C$16,SavingsSupportTable,MATCH(Worksheet!$G$17,HVACe_Options,0)+4,FALSE),1)/IF(Worksheet!M161>0,Worksheet!M161,Worksheet!L161),\"\"),\"\")","v":""},{"$f":"IF(Worksheet!L161<>0, IFERROR(VLOOKUP(Worksheet!$C$16,SavingsSupportTable,2,FALSE)*Worksheet!AQ161*IF(IFERROR(MATCH(Worksheet!$G$17,HVACe_Options,0),0)>0,1+VLOOKUP(Worksheet!$C$16,SavingsSupportTable,4,FALSE),1)/IF(Worksheet!M161>0,Worksheet!M161,Worksheet!L161),\"\"),\"\")","v":""},"",{"$f":"IF(Worksheet!L161<>0,IFERROR(VLOOKUP(Worksheet!$C$16,SavingsSupportTable,3,FALSE)*Worksheet!AQ161*IF(IFERROR(SEARCH(\"Gas\",Worksheet!$G$17),0)>0,VLOOKUP(\"Gas\",HVACg_Lookup,MATCH(Worksheet!$G$16,BuildingSize,0)+1,FALSE),IF(IFERROR(SEARCH(\"Oil\",Worksheet!$G$17),0)>0,VLOOKUP(\"Oil\",HVACg_Lookup,MATCH(Worksheet!$G$16,BuildingSize,0)+1,FALSE),IF(IFERROR(SEARCH(\"Propane\",Worksheet!$G$17),0)>0,VLOOKUP(\"Propane\",HVACg_Lookup,MATCH(Worksheet!$G$16,BuildingSize,0)+1,FALSE),0)))/IF(Worksheet!M161>0,Worksheet!M161,Worksheet!L161),0),\"\")","v":""},"",null,null,null,{"$f":"IF(ISBLANK(Worksheet!M161)=FALSE,Worksheet!M161,\"\")","v":0},{"$f":"IF(Worksheet!A161=\"-\",\"\",IF(Worksheet!A161=\"\",S137,Worksheet!A161))","v":""},{"$f":"IF(S138=\"\",\"\",IF(AND(Worksheet!G161=\"\",Worksheet!H161=\"\")=TRUE,T137,IF(Worksheet!G161=\"\",\"\",Worksheet!G161)))","v":""},{"$f":"IF(S138=\"\",\"\",IF(AND(Worksheet!G161=\"\",Worksheet!H161=\"\")=TRUE,U137,IF(Worksheet!H161=\"\",\"\",Worksheet!H161)))","v":""},{"$f":"IF(Worksheet!N161=\"\",\"\",Worksheet!N161)","v":""},{"$f":"IF(Worksheet!O161=\"\",\"\",Worksheet!O161)","v":""},{"$f":"IF(Worksheet!F161=0,\"\",Worksheet!F161)","v":""},{"$f":"IF(Worksheet!P161=0,\"\",Worksheet!P161)","v":""},{"$f":"IF(Worksheet!$A$11=TRUE,\"Y\",\"N\")","v":"N"},{"$f":"IF(Worksheet!$A$12=TRUE,\"Y\",\"N\")","v":"N"},{"$f":"IF(Worksheet!$B$11=TRUE,\"Y\",\"N\")","v":"N"},{"$f":"IF(Worksheet!$B$12=TRUE,\"Y\",\"N\")","v":"N"},{"$f":"IF(Worksheet!$C$11=TRUE,\"Y\",\"N\")","v":"N"},{"$f":"IF(Worksheet!$C$12=TRUE,\"Y\",\"N\")","v":"N"},""]
[{"$f":"IF(ISERROR(VLOOKUP(Worksheet!N162,MeasureLookup,2,FALSE))=FALSE,VLOOKUP(Worksheet!N162,MeasureLookup,2,FALSE),\"\")","v":""},{"$f":"Worksheet!Q162","v":0},{"$f":"Worksheet!R162","v":0},{"$f":"IF(ISERROR(Worksheet!P162)=FALSE,Worksheet!P162,\"\")","v":0},"Watts",null,null,{"$f":"IF(Worksheet!AP162<>\"\",IF(Worksheet!AP162>0,Worksheet!AP162/IF(Worksheet!M162>0,Worksheet!M162,Worksheet!L162),\"\"),\"\")","v":""},{"$f":"IF(ISBLANK(Worksheet!L162)=FALSE,Worksheet!L162,\"\")","v":0},{"$f":"IF(Worksheet!L162<>0, IFERROR(VLOOKUP(Worksheet!$C$16,SavingsSupportTable,3,FALSE)*Worksheet!AQ162*IFERROR(1+VLOOKUP(Worksheet!$C$16,SavingsSupportTable,MATCH(Worksheet!$G$17,HVACe_Options,0)+4,FALSE),1)/IF(Worksheet!M162>0,Worksheet!M162,Worksheet!L162),\"\"),\"\")","v":""},{"$f":"IF(Worksheet!L162<>0, IFERROR(VLOOKUP(Worksheet!$C$16,SavingsSupportTable,2,FALSE)*Worksheet!AQ162*IF(IFERROR(MATCH(Worksheet!$G$17,HVACe_Options,0),0)>0,1+VLOOKUP(Worksheet!$C$16,SavingsSupportTable,4,FALSE),1)/IF(Worksheet!M162>0,Worksheet!M162,Worksheet!L162),\"\"),\"\")","v":""},"",{"$f":"IF(Worksheet!L162<>0,IFERROR(VLOOKUP(Worksheet!$C$16,SavingsSupportTable,3,FALSE)*Worksheet!AQ162*IF(IFERROR(SEARCH(\"Gas\",Worksheet!$G$17),0)>0,VLOOKUP(\"Gas\",HVACg_Lookup,MATCH(Worksheet!$G$16,BuildingSize,0)+1,FALSE),IF(IFERROR(SEARCH(\"Oil\",Worksheet!$G$17),0)>0,VLOOKUP(\"Oil\",HVACg_Lookup,MATCH(Worksheet!$G$16,BuildingSize,0)+1,FALSE),IF(IFERROR(SEARCH(\"Propane\",Worksheet!$G$17),0)>0,VLOOKUP(\"Propane\",HVACg_Lookup,MATCH(Worksheet!$G$16,BuildingSize,0)+1,FALSE),0)))/IF(Worksheet!M162>0,Worksheet!M162,Worksheet!L162),0),\"\")","v":""},"",null,null,null,{"$f":"IF(ISBLANK(Worksheet!M162)=FALSE,Worksheet!M162,\"\")","v":0},{"$f":"IF(Worksheet!A162=\"-\",\"\",IF(Worksheet!A162=\"\",S138,Worksheet!A162))","v":""},{"$f":"IF(S139=\"\",\"\",IF(AND(Worksheet!G162=\"\",Worksheet!H162=\"\")=TRUE,T138,IF(Worksheet!G162=\"\",\"\",Worksheet!G162)))","v":""},{"$f":"IF(S139=\"\",\"\",IF(AND(Worksheet!G162=\"\",Worksheet!H162=\"\")=TRUE,U138,IF(Worksheet!H162=\"\",\"\",Worksheet!H162)))","v":""},{"$f":"IF(Worksheet!N162=\"\",\"\",Worksheet!N162)","v":""},{"$f":"IF(Worksheet!O162=\"\",\"\",Worksheet!O162)","v":""},{"$f":"IF(Worksheet!F162=0,\"\",Worksheet!F162)","v":""},{"$f":"IF(Worksheet!P162=0,\"\",Worksheet!P162)","v":""},{"$f":"IF(Worksheet!$A$11=TRUE,\"Y\",\"N\")","v":"N"},{"$f":"IF(Worksheet!$A$12=TRUE,\"Y\",\"N\")","v":"N"},{"$f":"IF(Worksheet!$B$11=TRUE,\"Y\",\"N\")","v":"N"},{"$f":"IF(Worksheet!$B$12=TRUE,\"Y\",\"N\")","v":"N"},{"$f":"IF(Worksheet!$C$11=TRUE,\"Y\",\"N\")","v":"N"},{"$f":"IF(Worksheet!$C$12=TRUE,\"Y\",\"N\")","v":"N"},""]
[{"$f":"IF(ISERROR(VLOOKUP(Worksheet!N163,MeasureLookup,2,FALSE))=FALSE,VLOOKUP(Worksheet!N163,MeasureLookup,2,FALSE),\"\")","v":""},{"$f":"Worksheet!Q163","v":0},{"$f":"Worksheet!R163","v":0},{"$f":"IF(ISERROR(Worksheet!P163)=FALSE,Worksheet!P163,\"\")","v":0},"Watts",null,null,{"$f":"IF(Worksheet!AP163<>\"\",IF(Worksheet!AP163>0,Worksheet!AP163/IF(Worksheet!M163>0,Worksheet!M163,Worksheet!L163),\"\"),\"\")","v":""},{"$f":"IF(ISBLANK(Worksheet!L163)=FALSE,Worksheet!L163,\"\")","v":0},{"$f":"IF(Worksheet!L163<>0, IFERROR(VLOOKUP(Worksheet!$C$16,SavingsSupportTable,3,FALSE)*Worksheet!AQ163*IFERROR(1+VLOOKUP(Worksheet!$C$16,SavingsSupportTable,MATCH(Worksheet!$G$17,HVACe_Options,0)+4,FALSE),1)/IF(Worksheet!M163>0,Worksheet!M163,Worksheet!L163),\"\"),\"\")","v":""},{"$f":"IF(Worksheet!L163<>0, IFERROR(VLOOKUP(Worksheet!$C$16,SavingsSupportTable,2,FALSE)*Worksheet!AQ163*IF(IFERROR(MATCH(Worksheet!$G$17,HVACe_Options,0),0)>0,1+VLOOKUP(Worksheet!$C$16,SavingsSupportTable,4,FALSE),1)/IF(Worksheet!M163>0,Worksheet!M163,Worksheet!L163),\"\"),\"\")","v":""},"",{"$f":"IF(Worksheet!L163<>0,IFERROR(VLOOKUP(Worksheet!$C$16,SavingsSupportTable,3,FALSE)*Worksheet!AQ163*IF(IFERROR(SEARCH(\"Gas\",Worksheet!$G$17),0)>0,VLOOKUP(\"Gas\",HVACg_Lookup,MATCH(Worksheet!$G$16,BuildingSize,0)+1,FALSE),IF(IFERROR(SEARCH(\"Oil\",Worksheet!$G$17),0)>0,VLOOKUP(\"Oil\",HVACg_Lookup,MATCH(Worksheet!$G$16,BuildingSize,0)+1,FALSE),IF(IFERROR(SEARCH(\"Propane\",Worksheet!$G$17),0)>0,VLOOKUP(\"Propane\",HVACg_Lookup,MATCH(Worksheet!$G$16,BuildingSize,0)+1,FALSE),0)))/IF(Worksheet!M163>0,Worksheet!M163,Worksheet!L163),0),\"\")","v":""},"",null,null,null,{"$f":"IF(ISBLANK(Worksheet!M163)=FALSE,Worksheet!M163,\"\")","v":0},{"$f":"IF(Worksheet!A163=\"-\",\"\",IF(Worksheet!A163=\"\",S139,Worksheet!A163))","v":""},{"$f":"IF(S140=\"\",\"\",IF(AND(Worksheet!G163=\"\",Worksheet!H163=\"\")=TRUE,T139,IF(Worksheet!G163=\"\",\"\",Worksheet!G163)))","v":""},{"$f":"IF(S140=\"\",\"\",IF(AND(Worksheet!G163=\"\",Worksheet!H163=\"\")=TRUE,U139,IF(Worksheet!H163=\"\",\"\",Worksheet!H163)))","v":""},{"$f":"IF(Worksheet!N163=\"\",\"\",Worksheet!N163)","v":""},{"$f":"IF(Worksheet!O163=\"\",\"\",Worksheet!O163)","v":""},{"$f":"IF(Worksheet!F163=0,\"\",Worksheet!F163)","v":""},{"$f":"IF(Worksheet!P163=0,\"\",Worksheet!P163)","v":""},{"$f":"IF(Worksheet!$A$11=TRUE,\"Y\",\"N\")","v":"N"},{"$f":"IF(Worksheet!$A$12=TRUE,\"Y\",\"N\")","v":"N"},{"$f":"IF(Worksheet!$B$11=TRUE,\"Y\",\"N\")","v":"N"},{"$f":"IF(Worksheet!$B$12=TRUE,\"Y\",\"N\")","v":"N"},{"$f":"IF(Worksheet!$C$11=TRUE,\"Y\",\"N\")","v":"N"},{"$f":"IF(Worksheet!$C$12=TRUE,\"Y\",\"N\")","v":"N"},""]
[{"$f":"IF(ISERROR(VLOOKUP(Worksheet!N164,MeasureLookup,2,FALSE))=FALSE,VLOOKUP(Worksheet!N164,MeasureLookup,2,FALSE),\"\")","v":""},{"$f":"Worksheet!Q164","v":0},{"$f":"Worksheet!R164","v":0},{"$f":"IF(ISERROR(Worksheet!P164)=FALSE,Worksheet!P164,\"\")","v":0},"Watts",null,null,{"$f":"IF(Worksheet!AP164<>\"\",IF(Worksheet!AP164>0,Worksheet!AP164/IF(Worksheet!M164>0,Worksheet!M164,Worksheet!L164),\"\"),\"\")","v":""},{"$f":"IF(ISBLANK(Worksheet!L164)=FALSE,Worksheet!L164,\"\")","v":0},{"$f":"IF(Worksheet!L164<>0, IFERROR(VLOOKUP(Worksheet!$C$16,SavingsSupportTable,3,FALSE)*Worksheet!AQ164*IFERROR(1+VLOOKUP(Worksheet!$C$16,SavingsSupportTable,MATCH(Worksheet!$G$17,HVACe_Options,0)+4,FALSE),1)/IF(Worksheet!M164>0,Worksheet!M164,Worksheet!L164),\"\"),\"\")","v":""},{"$f":"IF(Worksheet!L164<>0, IFERROR(VLOOKUP(Worksheet!$C$16,SavingsSupportTable,2,FALSE)*Worksheet!AQ164*IF(IFERROR(MATCH(Worksheet!$G$17,HVACe_Options,0),0)>0,1+VLOOKUP(Worksheet!$C$16,SavingsSupportTable,4,FALSE),1)/IF(Worksheet!M164>0,Worksheet!M164,Worksheet!L164),\"\"),\"\")","v":""},"",{"$f":"IF(Worksheet!L164<>0,IFERROR(VLOOKUP(Worksheet!$C$16,SavingsSupportTable,3,FALSE)*Worksheet!AQ164*IF(IFERROR(SEARCH(\"Gas\",Worksheet!$G$17),0)>0,VLOOKUP(\"Gas\",HVACg_Lookup,MATCH(Worksheet!$G$16,BuildingSize,0)+1,FALSE),IF(IFERROR(SEARCH(\"Oil\",Worksheet!$G$17),0)>0,VLOOKUP(\"Oil\",HVACg_Lookup,MATCH(Worksheet!$G$16,BuildingSize,0)+1,FALSE),IF(IFERROR(SEARCH(\"Propane\",Worksheet!$G$17),0)>0,VLOOKUP(\"Propane\",HVACg_Lookup,MATCH(Worksheet!$G$16,BuildingSize,0)+1,FALSE),0)))/IF(Worksheet!M164>0,Worksheet!M164,Worksheet!L164),0),\"\")","v":""},"",null,null,null,{"$f":"IF(ISBLANK(Worksheet!M164)=FALSE,Worksheet!M164,\"\")","v":0},{"$f":"IF(Worksheet!A164=\"-\",\"\",IF(Worksheet!A164=\"\",S140,Worksheet!A164))","v":""},{"$f":"IF(S141=\"\",\"\",IF(AND(Worksheet!G164=\"\",Worksheet!H164=\"\")=TRUE,T140,IF(Worksheet!G164=\"\",\"\",Worksheet!G164)))","v":""},{"$f":"IF(S141=\"\",\"\",IF(AND(Worksheet!G164=\"\",Worksheet!H164=\"\")=TRUE,U140,IF(Worksheet!H164=\"\",\"\",Worksheet!H164)))","v":""},{"$f":"IF(Worksheet!N164=\"\",\"\",Worksheet!N164)","v":""},{"$f":"IF(Worksheet!O164=\"\",\"\",Worksheet!O164)","v":""},{"$f":"IF(Worksheet!F164=0,\"\",Worksheet!F164)","v":""},{"$f":"IF(Worksheet!P164=0,\"\",Worksheet!P164)","v":""},{"$f":"IF(Worksheet!$A$11=TRUE,\"Y\",\"N\")","v":"N"},{"$f":"IF(Worksheet!$A$12=TRUE,\"Y\",\"N\")","v":"N"},{"$f":"IF(Worksheet!$B$11=TRUE,\"Y\",\"N\")","v":"N"},{"$f":"IF(Worksheet!$B$12=TRUE,\"Y\",\"N\")","v":"N"},{"$f":"IF(Worksheet!$C$11=TRUE,\"Y\",\"N\")","v":"N"},{"$f":"IF(Worksheet!$C$12=TRUE,\"Y\",\"N\")","v":"N"},""]
[{"$f":"IF(ISERROR(VLOOKUP(Worksheet!N165,MeasureLookup,2,FALSE))=FALSE,VLOOKUP(Worksheet!N165,MeasureLookup,2,FALSE),\"\")","v":""},{"$f":"Worksheet!Q165","v":0},{"$f":"Worksheet!R165","v":0},{"$f":"IF(ISERROR(Worksheet!P165)=FALSE,Worksheet!P165,\"\")","v":0},"Watts",null,null,{"$f":"IF(Worksheet!AP165<>\"\",IF(Worksheet!AP165>0,Worksheet!AP165/IF(Worksheet!M165>0,Worksheet!M165,Worksheet!L165),\"\"),\"\")","v":""},{"$f":"IF(ISBLANK(Worksheet!L165)=FALSE,Worksheet!L165,\"\")","v":0},{"$f":"IF(Worksheet!L165<>0, IFERROR(VLOOKUP(Worksheet!$C$16,SavingsSupportTable,3,FALSE)*Worksheet!AQ165*IFERROR(1+VLOOKUP(Worksheet!$C$16,SavingsSupportTable,MATCH(Worksheet!$G$17,HVACe_Options,0)+4,FALSE),1)/IF(Worksheet!M165>0,Worksheet!M165,Worksheet!L165),\"\"),\"\")","v":""},{"$f":"IF(Worksheet!L165<>0, IFERROR(VLOOKUP(Worksheet!$C$16,SavingsSupportTable,2,FALSE)*Worksheet!AQ165*IF(IFERROR(MATCH(Worksheet!$G$17,HVACe_Options,0),0)>0,1+VLOOKUP(Worksheet!$C$16,SavingsSupportTable,4,FALSE),1)/IF(Worksheet!M165>0,Worksheet!M165,Worksheet!L165),\"\"),\"\")","v":""},"",{"$f":"IF(Worksheet!L165<>0,IFERROR(VLOOKUP(Worksheet!$C$16,SavingsSupportTable,3,FALSE)*Worksheet!AQ165*IF(IFERROR(SEARCH(\"Gas\",Worksheet!$G$17),0)>0,VLOOKUP(\"Gas\",HVACg_Lookup,MATCH(Worksheet!$G$16,BuildingSize,0)+1,FALSE),IF(IFERROR(SEARCH(\"Oil\",Worksheet!$G$17),0)>0,VLOOKUP(\"Oil\",HVACg_Lookup,MATCH(Worksheet!$G$16,BuildingSize,0)+1,FALSE),IF(IFERROR(SEARCH(\"Propane\",Worksheet!$G$17),0)>0,VLOOKUP(\"Propane\",HVACg_Lookup,MATCH(Worksheet!$G$16,BuildingSize,0)+1,FALSE),0)))/IF(Worksheet!M165>0,Worksheet!M165,Worksheet!L165),0),\"\")","v":""},"",null,null,null,{"$f":"IF(ISBLANK(Worksheet!M165)=FALSE,Worksheet!M165,\"\")","v":0},{"$f":"IF(Worksheet!A165=\"-\",\"\",IF(Worksheet!A165=\"\",S141,Worksheet!A165))","v":""},{"$f":"IF(S142=\"\",\"\",IF(AND(Worksheet!G165=\"\",Worksheet!H165=\"\")=TRUE,T141,IF(Worksheet!G165=\"\",\"\",Worksheet!G165)))","v":""},{"$f":"IF(S142=\"\",\"\",IF(AND(Worksheet!G165=\"\",Worksheet!H165=\"\")=TRUE,U141,IF(Worksheet!H165=\"\",\"\",Worksheet!H165)))","v":""},{"$f":"IF(Worksheet!N165=\"\",\"\",Worksheet!N165)","v":""},{"$f":"IF(Worksheet!O165=\"\",\"\",Worksheet!O165)","v":""},{"$f":"IF(Worksheet!F165=0,\"\",Worksheet!F165)","v":""},{"$f":"IF(Worksheet!P165=0,\"\",Worksheet!P165)","v":""},{"$f":"IF(Worksheet!$A$11=TRUE,\"Y\",\"N\")","v":"N"},{"$f":"IF(Worksheet!$A$12=TRUE,\"Y\",\"N\")","v":"N"},{"$f":"IF(Worksheet!$B$11=TRUE,\"Y\",\"N\")","v":"N"},{"$f":"IF(Worksheet!$B$12=TRUE,\"Y\",\"N\")","v":"N"},{"$f":"IF(Worksheet!$C$11=TRUE,\"Y\",\"N\")","v":"N"},{"$f":"IF(Worksheet!$C$12=TRUE,\"Y\",\"N\")","v":"N"},""]
[{"$f":"IF(ISERROR(VLOOKUP(Worksheet!N166,MeasureLookup,2,FALSE))=FALSE,VLOOKUP(Worksheet!N166,MeasureLookup,2,FALSE),\"\")","v":""},{"$f":"Worksheet!Q166","v":0},{"$f":"Worksheet!R166","v":0},{"$f":"IF(ISERROR(Worksheet!P166)=FALSE,Worksheet!P166,\"\")","v":0},"Watts",null,null,{"$f":"IF(Worksheet!AP166<>\"\",IF(Worksheet!AP166>0,Worksheet!AP166/IF(Worksheet!M166>0,Worksheet!M166,Worksheet!L166),\"\"),\"\")","v":""},{"$f":"IF(ISBLANK(Worksheet!L166)=FALSE,Worksheet!L166,\"\")","v":0},{"$f":"IF(Worksheet!L166<>0, IFERROR(VLOOKUP(Worksheet!$C$16,SavingsSupportTable,3,FALSE)*Worksheet!AQ166*IFERROR(1+VLOOKUP(Worksheet!$C$16,SavingsSupportTable,MATCH(Worksheet!$G$17,HVACe_Options,0)+4,FALSE),1)/IF(Worksheet!M166>0,Worksheet!M166,Worksheet!L166),\"\"),\"\")","v":""},{"$f":"IF(Worksheet!L166<>0, IFERROR(VLOOKUP(Worksheet!$C$16,SavingsSupportTable,2,FALSE)*Worksheet!AQ166*IF(IFERROR(MATCH(Worksheet!$G$17,HVACe_Options,0),0)>0,1+VLOOKUP(Worksheet!$C$16,SavingsSupportTable,4,FALSE),1)/IF(Worksheet!M166>0,Worksheet!M166,Worksheet!L166),\"\"),\"\")","v":""},"",{"$f":"IF(Worksheet!L166<>0,IFERROR(VLOOKUP(Worksheet!$C$16,SavingsSupportTable,3,FALSE)*Worksheet!AQ166*IF(IFERROR(SEARCH(\"Gas\",Worksheet!$G$17),0)>0,VLOOKUP(\"Gas\",HVACg_Lookup,MATCH(Worksheet!$G$16,BuildingSize,0)+1,FALSE),IF(IFERROR(SEARCH(\"Oil\",Worksheet!$G$17),0)>0,VLOOKUP(\"Oil\",HVACg_Lookup,MATCH(Worksheet!$G$16,BuildingSize,0)+1,FALSE),IF(IFERROR(SEARCH(\"Propane\",Worksheet!$G$17),0)>0,VLOOKUP(\"Propane\",HVACg_Lookup,MATCH(Worksheet!$G$16,BuildingSize,0)+1,FALSE),0)))/IF(Worksheet!M166>0,Worksheet!M166,Worksheet!L166),0),\"\")","v":""},"",null,null,null,{"$f":"IF(ISBLANK(Worksheet!M166)=FALSE,Worksheet!M166,\"\")","v":0},{"$f":"IF(Worksheet!A166=\"-\",\"\",IF(Worksheet!A166=\"\",S142,Worksheet!A166))","v":""},{"$f":"IF(S143=\"\",\"\",IF(AND(Worksheet!G166=\"\",Worksheet!H166=\"\")=TRUE,T142,IF(Worksheet!G166=\"\",\"\",Worksheet!G166)))","v":""},{"$f":"IF(S143=\"\",\"\",IF(AND(Worksheet!G166=\"\",Worksheet!H166=\"\")=TRUE,U142,IF(Worksheet!H166=\"\",\"\",Worksheet!H166)))","v":""},{"$f":"IF(Worksheet!N166=\"\",\"\",Worksheet!N166)","v":""},{"$f":"IF(Worksheet!O166=\"\",\"\",Worksheet!O166)","v":""},{"$f":"IF(Worksheet!F166=0,\"\",Worksheet!F166)","v":""},{"$f":"IF(Worksheet!P166=0,\"\",Worksheet!P166)","v":""},{"$f":"IF(Worksheet!$A$11=TRUE,\"Y\",\"N\")","v":"N"},{"$f":"IF(Worksheet!$A$12=TRUE,\"Y\",\"N\")","v":"N"},{"$f":"IF(Worksheet!$B$11=TRUE,\"Y\",\"N\")","v":"N"},{"$f":"IF(Worksheet!$B$12=TRUE,\"Y\",\"N\")","v":"N"},{"$f":"IF(Worksheet!$C$11=TRUE,\"Y\",\"N\")","v":"N"},{"$f":"IF(Worksheet!$C$12=TRUE,\"Y\",\"N\")","v":"N"},""]
[{"$f":"IF(ISERROR(VLOOKUP(Worksheet!N167,MeasureLookup,2,FALSE))=FALSE,VLOOKUP(Worksheet!N167,MeasureLookup,2,FALSE),\"\")","v":""},{"$f":"Worksheet!Q167","v":0},{"$f":"Worksheet!R167","v":0},{"$f":"IF(ISERROR(Worksheet!P167)=FALSE,Worksheet!P167,\"\")","v":0},"Watts",null,null,{"$f":"IF(Worksheet!AP167<>\"\",IF(Worksheet!AP167>0,Worksheet!AP167/IF(Worksheet!M167>0,Worksheet!M167,Worksheet!L167),\"\"),\"\")","v":""},{"$f":"IF(ISBLANK(Worksheet!L167)=FALSE,Worksheet!L167,\"\")","v":0},{"$f":"IF(Worksheet!L167<>0, IFERROR(VLOOKUP(Worksheet!$C$16,SavingsSupportTable,3,FALSE)*Worksheet!AQ167*IFERROR(1+VLOOKUP(Worksheet!$C$16,SavingsSupportTable,MATCH(Worksheet!$G$17,HVACe_Options,0)+4,FALSE),1)/IF(Worksheet!M167>0,Worksheet!M167,Worksheet!L167),\"\"),\"\")","v":""},{"$f":"IF(Worksheet!L167<>0, IFERROR(VLOOKUP(Worksheet!$C$16,SavingsSupportTable,2,FALSE)*Worksheet!AQ167*IF(IFERROR(MATCH(Worksheet!$G$17,HVACe_Options,0),0)>0,1+VLOOKUP(Worksheet!$C$16,SavingsSupportTable,4,FALSE),1)/IF(Worksheet!M167>0,Worksheet!M167,Worksheet!L167),\"\"),\"\")","v":""},"",{"$f":"IF(Worksheet!L167<>0,IFERROR(VLOOKUP(Worksheet!$C$16,SavingsSupportTable,3,FALSE)*Worksheet!AQ167*IF(IFERROR(SEARCH(\"Gas\",Worksheet!$G$17),0)>0,VLOOKUP(\"Gas\",HVACg_Lookup,MATCH(Worksheet!$G$16,BuildingSize,0)+1,FALSE),IF(IFERROR(SEARCH(\"Oil\",Worksheet!$G$17),0)>0,VLOOKUP(\"Oil\",HVACg_Lookup,MATCH(Worksheet!$G$16,BuildingSize,0)+1,FALSE),IF(IFERROR(SEARCH(\"Propane\",Worksheet!$G$17),0)>0,VLOOKUP(\"Propane\",HVACg_Lookup,MATCH(Worksheet!$G$16,BuildingSize,0)+1,FALSE),0)))/IF(Worksheet!M167>0,Worksheet!M167,Worksheet!L167),0),\"\")","v":""},"",null,null,null,{"$f":"IF(ISBLANK(Worksheet!M167)=FALSE,Worksheet!M167,\"\")","v":0},{"$f":"IF(Worksheet!A167=\"-\",\"\",IF(Worksheet!A167=\"\",S143,Worksheet!A167))","v":""},{"$f":"IF(S144=\"\",\"\",IF(AND(Worksheet!G167=\"\",Worksheet!H167=\"\")=TRUE,T143,IF(Worksheet!G167=\"\",\"\",Worksheet!G167)))","v":""},{"$f":"IF(S144=\"\",\"\",IF(AND(Worksheet!G167=\"\",Worksheet!H167=\"\")=TRUE,U143,IF(Worksheet!H167=\"\",\"\",Worksheet!H167)))","v":""},{"$f":"IF(Worksheet!N167=\"\",\"\",Worksheet!N167)","v":""},{"$f":"IF(Worksheet!O167=\"\",\"\",Worksheet!O167)","v":""},{"$f":"IF(Worksheet!F167=0,\"\",Worksheet!F167)","v":""},{"$f":"IF(Worksheet!P167=0,\"\",Worksheet!P167)","v":""},{"$f":"IF(Worksheet!$A$11=TRUE,\"Y\",\"N\")","v":"N"},{"$f":"IF(Worksheet!$A$12=TRUE,\"Y\",\"N\")","v":"N"},{"$f":"IF(Worksheet!$B$11=TRUE,\"Y\",\"N\")","v":"N"},{"$f":"IF(Worksheet!$B$12=TRUE,\"Y\",\"N\")","v":"N"},{"$f":"IF(Worksheet!$C$11=TRUE,\"Y\",\"N\")","v":"N"},{"$f":"IF(Worksheet!$C$12=TRUE,\"Y\",\"N\")","v":"N"},""]
[{"$f":"IF(ISERROR(VLOOKUP(Worksheet!N168,MeasureLookup,2,FALSE))=FALSE,VLOOKUP(Worksheet!N168,MeasureLookup,2,FALSE),\"\")","v":""},{"$f":"Worksheet!Q168","v":0},{"$f":"Worksheet!R168","v":0},{"$f":"IF(ISERROR(Worksheet!P168)=FALSE,Worksheet!P168,\"\")","v":0},"Watts",null,null,{"$f":"IF(Worksheet!AP168<>\"\",IF(Worksheet!AP168>0,Worksheet!AP168/IF(Worksheet!M168>0,Worksheet!M168,Worksheet!L168),\"\"),\"\")","v":""},{"$f":"IF(ISBLANK(Worksheet!L168)=FALSE,Worksheet!L168,\"\")","v":0},{"$f":"IF(Worksheet!L168<>0, IFERROR(VLOOKUP(Worksheet!$C$16,SavingsSupportTable,3,FALSE)*Worksheet!AQ168*IFERROR(1+VLOOKUP(Worksheet!$C$16,SavingsSupportTable,MATCH(Worksheet!$G$17,HVACe_Options,0)+4,FALSE),1)/IF(Worksheet!M168>0,Worksheet!M168,Worksheet!L168),\"\"),\"\")","v":""},{"$f":"IF(Worksheet!L168<>0, IFERROR(VLOOKUP(Worksheet!$C$16,SavingsSupportTable,2,FALSE)*Worksheet!AQ168*IF(IFERROR(MATCH(Worksheet!$G$17,HVACe_Options,0),0)>0,1+VLOOKUP(Worksheet!$C$16,SavingsSupportTable,4,FALSE),1)/IF(Worksheet!M168>0,Worksheet!M168,Worksheet!L168),\"\"),\"\")","v":""},"",{"$f":"IF(Worksheet!L168<>0,IFERROR(VLOOKUP(Worksheet!$C$16,SavingsSupportTable,3,FALSE)*Worksheet!AQ168*IF(IFERROR(SEARCH(\"Gas\",Worksheet!$G$17),0)>0,VLOOKUP(\"Gas\",HVACg_Lookup,MATCH(Worksheet!$G$16,BuildingSize,0)+1,FALSE),IF(IFERROR(SEARCH(\"Oil\",Worksheet!$G$17),0)>0,VLOOKUP(\"Oil\",HVACg_Lookup,MATCH(Worksheet!$G$16,BuildingSize,0)+1,FALSE),IF(IFERROR(SEARCH(\"Propane\",Worksheet!$G$17),0)>0,VLOOKUP(\"Propane\",HVACg_Lookup,MATCH(Worksheet!$G$16,BuildingSize,0)+1,FALSE),0)))/IF(Worksheet!M168>0,Worksheet!M168,Worksheet!L168),0),\"\")","v":""},"",null,null,null,{"$f":"IF(ISBLANK(Worksheet!M168)=FALSE,Worksheet!M168,\"\")","v":0},{"$f":"IF(Worksheet!A168=\"-\",\"\",IF(Worksheet!A168=\"\",S144,Worksheet!A168))","v":""},{"$f":"IF(S145=\"\",\"\",IF(AND(Worksheet!G168=\"\",Worksheet!H168=\"\")=TRUE,T144,IF(Worksheet!G168=\"\",\"\",Worksheet!G168)))","v":""},{"$f":"IF(S145=\"\",\"\",IF(AND(Worksheet!G168=\"\",Worksheet!H168=\"\")=TRUE,U144,IF(Worksheet!H168=\"\",\"\",Worksheet!H168)))","v":""},{"$f":"IF(Worksheet!N168=\"\",\"\",Worksheet!N168)","v":""},{"$f":"IF(Worksheet!O168=\"\",\"\",Worksheet!O168)","v":""},{"$f":"IF(Worksheet!F168=0,\"\",Worksheet!F168)","v":""},{"$f":"IF(Worksheet!P168=0,\"\",Worksheet!P168)","v":""},{"$f":"IF(Worksheet!$A$11=TRUE,\"Y\",\"N\")","v":"N"},{"$f":"IF(Worksheet!$A$12=TRUE,\"Y\",\"N\")","v":"N"},{"$f":"IF(Worksheet!$B$11=TRUE,\"Y\",\"N\")","v":"N"},{"$f":"IF(Worksheet!$B$12=TRUE,\"Y\",\"N\")","v":"N"},{"$f":"IF(Worksheet!$C$11=TRUE,\"Y\",\"N\")","v":"N"},{"$f":"IF(Worksheet!$C$12=TRUE,\"Y\",\"N\")","v":"N"},""]
[{"$f":"IF(ISERROR(VLOOKUP(Worksheet!N169,MeasureLookup,2,FALSE))=FALSE,VLOOKUP(Worksheet!N169,MeasureLookup,2,FALSE),\"\")","v":""},{"$f":"Worksheet!Q169","v":0},{"$f":"Worksheet!R169","v":0},{"$f":"IF(ISERROR(Worksheet!P169)=FALSE,Worksheet!P169,\"\")","v":0},"Watts",null,null,{"$f":"IF(Worksheet!AP169<>\"\",IF(Worksheet!AP169>0,Worksheet!AP169/IF(Worksheet!M169>0,Worksheet!M169,Worksheet!L169),\"\"),\"\")","v":""},{"$f":"IF(ISBLANK(Worksheet!L169)=FALSE,Worksheet!L169,\"\")","v":0},{"$f":"IF(Worksheet!L169<>0, IFERROR(VLOOKUP(Worksheet!$C$16,SavingsSupportTable,3,FALSE)*Worksheet!AQ169*IFERROR(1+VLOOKUP(Worksheet!$C$16,SavingsSupportTable,MATCH(Worksheet!$G$17,HVACe_Options,0)+4,FALSE),1)/IF(Worksheet!M169>0,Worksheet!M169,Worksheet!L169),\"\"),\"\")","v":""},{"$f":"IF(Worksheet!L169<>0, IFERROR(VLOOKUP(Worksheet!$C$16,SavingsSupportTable,2,FALSE)*Worksheet!AQ169*IF(IFERROR(MATCH(Worksheet!$G$17,HVACe_Options,0),0)>0,1+VLOOKUP(Worksheet!$C$16,SavingsSupportTable,4,FALSE),1)/IF(Worksheet!M169>0,Worksheet!M169,Worksheet!L169),\"\"),\"\")","v":""},"",{"$f":"IF(Worksheet!L169<>0,IFERROR(VLOOKUP(Worksheet!$C$16,SavingsSupportTable,3,FALSE)*Worksheet!AQ169*IF(IFERROR(SEARCH(\"Gas\",Worksheet!$G$17),0)>0,VLOOKUP(\"Gas\",HVACg_Lookup,MATCH(Worksheet!$G$16,BuildingSize,0)+1,FALSE),IF(IFERROR(SEARCH(\"Oil\",Worksheet!$G$17),0)>0,VLOOKUP(\"Oil\",HVACg_Lookup,MATCH(Worksheet!$G$16,BuildingSize,0)+1,FALSE),IF(IFERROR(SEARCH(\"Propane\",Worksheet!$G$17),0)>0,VLOOKUP(\"Propane\",HVACg_Lookup,MATCH(Worksheet!$G$16,BuildingSize,0)+1,FALSE),0)))/IF(Worksheet!M169>0,Worksheet!M169,Worksheet!L169),0),\"\")","v":""},"",null,null,null,{"$f":"IF(ISBLANK(Worksheet!M169)=FALSE,Worksheet!M169,\"\")","v":0},{"$f":"IF(Worksheet!A169=\"-\",\"\",IF(Worksheet!A169=\"\",S145,Worksheet!A169))","v":""},{"$f":"IF(S146=\"\",\"\",IF(AND(Worksheet!G169=\"\",Worksheet!H169=\"\")=TRUE,T145,IF(Worksheet!G169=\"\",\"\",Worksheet!G169)))","v":""},{"$f":"IF(S146=\"\",\"\",IF(AND(Worksheet!G169=\"\",Worksheet!H169=\"\")=TRUE,U145,IF(Worksheet!H169=\"\",\"\",Worksheet!H169)))","v":""},{"$f":"IF(Worksheet!N169=\"\",\"\",Worksheet!N169)","v":""},{"$f":"IF(Worksheet!O169=\"\",\"\",Worksheet!O169)","v":""},{"$f":"IF(Worksheet!F169=0,\"\",Worksheet!F169)","v":""},{"$f":"IF(Worksheet!P169=0,\"\",Worksheet!P169)","v":""},{"$f":"IF(Worksheet!$A$11=TRUE,\"Y\",\"N\")","v":"N"},{"$f":"IF(Worksheet!$A$12=TRUE,\"Y\",\"N\")","v":"N"},{"$f":"IF(Worksheet!$B$11=TRUE,\"Y\",\"N\")","v":"N"},{"$f":"IF(Worksheet!$B$12=TRUE,\"Y\",\"N\")","v":"N"},{"$f":"IF(Worksheet!$C$11=TRUE,\"Y\",\"N\")","v":"N"},{"$f":"IF(Worksheet!$C$12=TRUE,\"Y\",\"N\")","v":"N"},""]
[{"$f":"IF(ISERROR(VLOOKUP(Worksheet!N170,MeasureLookup,2,FALSE))=FALSE,VLOOKUP(Worksheet!N170,MeasureLookup,2,FALSE),\"\")","v":""},{"$f":"Worksheet!Q170","v":0},{"$f":"Worksheet!R170","v":0},{"$f":"IF(ISERROR(Worksheet!P170)=FALSE,Worksheet!P170,\"\")","v":0},"Watts",null,null,{"$f":"IF(Worksheet!AP170<>\"\",IF(Worksheet!AP170>0,Worksheet!AP170/IF(Worksheet!M170>0,Worksheet!M170,Worksheet!L170),\"\"),\"\")","v":""},{"$f":"IF(ISBLANK(Worksheet!L170)=FALSE,Worksheet!L170,\"\")","v":0},{"$f":"IF(Worksheet!L170<>0, IFERROR(VLOOKUP(Worksheet!$C$16,SavingsSupportTable,3,FALSE)*Worksheet!AQ170*IFERROR(1+VLOOKUP(Worksheet!$C$16,SavingsSupportTable,MATCH(Worksheet!$G$17,HVACe_Options,0)+4,FALSE),1)/IF(Worksheet!M170>0,Worksheet!M170,Worksheet!L170),\"\"),\"\")","v":""},{"$f":"IF(Worksheet!L170<>0, IFERROR(VLOOKUP(Worksheet!$C$16,SavingsSupportTable,2,FALSE)*Worksheet!AQ170*IF(IFERROR(MATCH(Worksheet!$G$17,HVACe_Options,0),0)>0,1+VLOOKUP(Worksheet!$C$16,SavingsSupportTable,4,FALSE),1)/IF(Worksheet!M170>0,Worksheet!M170,Worksheet!L170),\"\"),\"\")","v":""},"",{"$f":"IF(Worksheet!L170<>0,IFERROR(VLOOKUP(Worksheet!$C$16,SavingsSupportTable,3,FALSE)*Worksheet!AQ170*IF(IFERROR(SEARCH(\"Gas\",Worksheet!$G$17),0)>0,VLOOKUP(\"Gas\",HVACg_Lookup,MATCH(Worksheet!$G$16,BuildingSize,0)+1,FALSE),IF(IFERROR(SEARCH(\"Oil\",Worksheet!$G$17),0)>0,VLOOKUP(\"Oil\",HVACg_Lookup,MATCH(Worksheet!$G$16,BuildingSize,0)+1,FALSE),IF(IFERROR(SEARCH(\"Propane\",Worksheet!$G$17),0)>0,VLOOKUP(\"Propane\",HVACg_Lookup,MATCH(Worksheet!$G$16,BuildingSize,0)+1,FALSE),0)))/IF(Worksheet!M170>0,Worksheet!M170,Worksheet!L170),0),\"\")","v":""},"",null,null,null,{"$f":"IF(ISBLANK(Worksheet!M170)=FALSE,Worksheet!M170,\"\")","v":0},{"$f":"IF(Worksheet!A170=\"-\",\"\",IF(Worksheet!A170=\"\",S146,Worksheet!A170))","v":""},{"$f":"IF(S147=\"\",\"\",IF(AND(Worksheet!G170=\"\",Worksheet!H170=\"\")=TRUE,T146,IF(Worksheet!G170=\"\",\"\",Worksheet!G170)))","v":""},{"$f":"IF(S147=\"\",\"\",IF(AND(Worksheet!G170=\"\",Worksheet!H170=\"\")=TRUE,U146,IF(Worksheet!H170=\"\",\"\",Worksheet!H170)))","v":""},{"$f":"IF(Worksheet!N170=\"\",\"\",Worksheet!N170)","v":""},{"$f":"IF(Worksheet!O170=\"\",\"\",Worksheet!O170)","v":""},{"$f":"IF(Worksheet!F170=0,\"\",Worksheet!F170)","v":""},{"$f":"IF(Worksheet!P170=0,\"\",Worksheet!P170)","v":""},{"$f":"IF(Worksheet!$A$11=TRUE,\"Y\",\"N\")","v":"N"},{"$f":"IF(Worksheet!$A$12=TRUE,\"Y\",\"N\")","v":"N"},{"$f":"IF(Worksheet!$B$11=TRUE,\"Y\",\"N\")","v":"N"},{"$f":"IF(Worksheet!$B$12=TRUE,\"Y\",\"N\")","v":"N"},{"$f":"IF(Worksheet!$C$11=TRUE,\"Y\",\"N\")","v":"N"},{"$f":"IF(Worksheet!$C$12=TRUE,\"Y\",\"N\")","v":"N"},""]
[{"$f":"IF(ISERROR(VLOOKUP(Worksheet!N171,MeasureLookup,2,FALSE))=FALSE,VLOOKUP(Worksheet!N171,MeasureLookup,2,FALSE),\"\")","v":""},{"$f":"Worksheet!Q171","v":0},{"$f":"Worksheet!R171","v":0},{"$f":"IF(ISERROR(Worksheet!P171)=FALSE,Worksheet!P171,\"\")","v":0},"Watts",null,null,{"$f":"IF(Worksheet!AP171<>\"\",IF(Worksheet!AP171>0,Worksheet!AP171/IF(Worksheet!M171>0,Worksheet!M171,Worksheet!L171),\"\"),\"\")","v":""},{"$f":"IF(ISBLANK(Worksheet!L171)=FALSE,Worksheet!L171,\"\")","v":0},{"$f":"IF(Worksheet!L171<>0, IFERROR(VLOOKUP(Worksheet!$C$16,SavingsSupportTable,3,FALSE)*Worksheet!AQ171*IFERROR(1+VLOOKUP(Worksheet!$C$16,SavingsSupportTable,MATCH(Worksheet!$G$17,HVACe_Options,0)+4,FALSE),1)/IF(Worksheet!M171>0,Worksheet!M171,Worksheet!L171),\"\"),\"\")","v":""},{"$f":"IF(Worksheet!L171<>0, IFERROR(VLOOKUP(Worksheet!$C$16,SavingsSupportTable,2,FALSE)*Worksheet!AQ171*IF(IFERROR(MATCH(Worksheet!$G$17,HVACe_Options,0),0)>0,1+VLOOKUP(Worksheet!$C$16,SavingsSupportTable,4,FALSE),1)/IF(Worksheet!M171>0,Worksheet!M171,Worksheet!L171),\"\"),\"\")","v":""},"",{"$f":"IF(Worksheet!L171<>0,IFERROR(VLOOKUP(Worksheet!$C$16,SavingsSupportTable,3,FALSE)*Worksheet!AQ171*IF(IFERROR(SEARCH(\"Gas\",Worksheet!$G$17),0)>0,VLOOKUP(\"Gas\",HVACg_Lookup,MATCH(Worksheet!$G$16,BuildingSize,0)+1,FALSE),IF(IFERROR(SEARCH(\"Oil\",Worksheet!$G$17),0)>0,VLOOKUP(\"Oil\",HVACg_Lookup,MATCH(Worksheet!$G$16,BuildingSize,0)+1,FALSE),IF(IFERROR(SEARCH(\"Propane\",Worksheet!$G$17),0)>0,VLOOKUP(\"Propane\",HVACg_Lookup,MATCH(Worksheet!$G$16,BuildingSize,0)+1,FALSE),0)))/IF(Worksheet!M171>0,Worksheet!M171,Worksheet!L171),0),\"\")","v":""},"",null,null,null,{"$f":"IF(ISBLANK(Worksheet!M171)=FALSE,Worksheet!M171,\"\")","v":0},{"$f":"IF(Worksheet!A171=\"-\",\"\",IF(Worksheet!A171=\"\",S147,Worksheet!A171))","v":""},{"$f":"IF(S148=\"\",\"\",IF(AND(Worksheet!G171=\"\",Worksheet!H171=\"\")=TRUE,T147,IF(Worksheet!G171=\"\",\"\",Worksheet!G171)))","v":""},{"$f":"IF(S148=\"\",\"\",IF(AND(Worksheet!G171=\"\",Worksheet!H171=\"\")=TRUE,U147,IF(Worksheet!H171=\"\",\"\",Worksheet!H171)))","v":""},{"$f":"IF(Worksheet!N171=\"\",\"\",Worksheet!N171)","v":""},{"$f":"IF(Worksheet!O171=\"\",\"\",Worksheet!O171)","v":""},{"$f":"IF(Worksheet!F171=0,\"\",Worksheet!F171)","v":""},{"$f":"IF(Worksheet!P171=0,\"\",Worksheet!P171)","v":""},{"$f":"IF(Worksheet!$A$11=TRUE,\"Y\",\"N\")","v":"N"},{"$f":"IF(Worksheet!$A$12=TRUE,\"Y\",\"N\")","v":"N"},{"$f":"IF(Worksheet!$B$11=TRUE,\"Y\",\"N\")","v":"N"},{"$f":"IF(Worksheet!$B$12=TRUE,\"Y\",\"N\")","v":"N"},{"$f":"IF(Worksheet!$C$11=TRUE,\"Y\",\"N\")","v":"N"},{"$f":"IF(Worksheet!$C$12=TRUE,\"Y\",\"N\")","v":"N"},""]
[{"$f":"IF(ISERROR(VLOOKUP(Worksheet!N172,MeasureLookup,2,FALSE))=FALSE,VLOOKUP(Worksheet!N172,MeasureLookup,2,FALSE),\"\")","v":""},{"$f":"Worksheet!Q172","v":0},{"$f":"Worksheet!R172","v":0},{"$f":"IF(ISERROR(Worksheet!P172)=FALSE,Worksheet!P172,\"\")","v":0},"Watts",null,null,{"$f":"IF(Worksheet!AP172<>\"\",IF(Worksheet!AP172>0,Worksheet!AP172/IF(Worksheet!M172>0,Worksheet!M172,Worksheet!L172),\"\"),\"\")","v":""},{"$f":"IF(ISBLANK(Worksheet!L172)=FALSE,Worksheet!L172,\"\")","v":0},{"$f":"IF(Worksheet!L172<>0, IFERROR(VLOOKUP(Worksheet!$C$16,SavingsSupportTable,3,FALSE)*Worksheet!AQ172*IFERROR(1+VLOOKUP(Worksheet!$C$16,SavingsSupportTable,MATCH(Worksheet!$G$17,HVACe_Options,0)+4,FALSE),1)/IF(Worksheet!M172>0,Worksheet!M172,Worksheet!L172),\"\"),\"\")","v":""},{"$f":"IF(Worksheet!L172<>0, IFERROR(VLOOKUP(Worksheet!$C$16,SavingsSupportTable,2,FALSE)*Worksheet!AQ172*IF(IFERROR(MATCH(Worksheet!$G$17,HVACe_Options,0),0)>0,1+VLOOKUP(Worksheet!$C$16,SavingsSupportTable,4,FALSE),1)/IF(Worksheet!M172>0,Worksheet!M172,Worksheet!L172),\"\"),\"\")","v":""},"",{"$f":"IF(Worksheet!L172<>0,IFERROR(VLOOKUP(Worksheet!$C$16,SavingsSupportTable,3,FALSE)*Worksheet!AQ172*IF(IFERROR(SEARCH(\"Gas\",Worksheet!$G$17),0)>0,VLOOKUP(\"Gas\",HVACg_Lookup,MATCH(Worksheet!$G$16,BuildingSize,0)+1,FALSE),IF(IFERROR(SEARCH(\"Oil\",Worksheet!$G$17),0)>0,VLOOKUP(\"Oil\",HVACg_Lookup,MATCH(Worksheet!$G$16,BuildingSize,0)+1,FALSE),IF(IFERROR(SEARCH(\"Propane\",Worksheet!$G$17),0)>0,VLOOKUP(\"Propane\",HVACg_Lookup,MATCH(Worksheet!$G$16,BuildingSize,0)+1,FALSE),0)))/IF(Worksheet!M172>0,Worksheet!M172,Worksheet!L172),0),\"\")","v":""},"",null,null,null,{"$f":"IF(ISBLANK(Worksheet!M172)=FALSE,Worksheet!M172,\"\")","v":0},{"$f":"IF(Worksheet!A172=\"-\",\"\",IF(Worksheet!A172=\"\",S148,Worksheet!A172))","v":""},{"$f":"IF(S149=\"\",\"\",IF(AND(Worksheet!G172=\"\",Worksheet!H172=\"\")=TRUE,T148,IF(Worksheet!G172=\"\",\"\",Worksheet!G172)))","v":""},{"$f":"IF(S149=\"\",\"\",IF(AND(Worksheet!G172=\"\",Worksheet!H172=\"\")=TRUE,U148,IF(Worksheet!H172=\"\",\"\",Worksheet!H172)))","v":""},{"$f":"IF(Worksheet!N172=\"\",\"\",Worksheet!N172)","v":""},{"$f":"IF(Worksheet!O172=\"\",\"\",Worksheet!O172)","v":""},{"$f":"IF(Worksheet!F172=0,\"\",Worksheet!F172)","v":""},{"$f":"IF(Worksheet!P172=0,\"\",Worksheet!P172)","v":""},{"$f":"IF(Worksheet!$A$11=TRUE,\"Y\",\"N\")","v":"N"},{"$f":"IF(Worksheet!$A$12=TRUE,\"Y\",\"N\")","v":"N"},{"$f":"IF(Worksheet!$B$11=TRUE,\"Y\",\"N\")","v":"N"},{"$f":"IF(Worksheet!$B$12=TRUE,\"Y\",\"N\")","v":"N"},{"$f":"IF(Worksheet!$C$11=TRUE,\"Y\",\"N\")","v":"N"},{"$f":"IF(Worksheet!$C$12=TRUE,\"Y\",\"N\")","v":"N"},""]
[{"$f":"IF(ISERROR(VLOOKUP(Worksheet!N173,MeasureLookup,2,FALSE))=FALSE,VLOOKUP(Worksheet!N173,MeasureLookup,2,FALSE),\"\")","v":""},{"$f":"Worksheet!Q173","v":0},{"$f":"Worksheet!R173","v":0},{"$f":"IF(ISERROR(Worksheet!P173)=FALSE,Worksheet!P173,\"\")","v":0},"Watts",null,null,{"$f":"IF(Worksheet!AP173<>\"\",IF(Worksheet!AP173>0,Worksheet!AP173/IF(Worksheet!M173>0,Worksheet!M173,Worksheet!L173),\"\"),\"\")","v":""},{"$f":"IF(ISBLANK(Worksheet!L173)=FALSE,Worksheet!L173,\"\")","v":0},{"$f":"IF(Worksheet!L173<>0, IFERROR(VLOOKUP(Worksheet!$C$16,SavingsSupportTable,3,FALSE)*Worksheet!AQ173*IFERROR(1+VLOOKUP(Worksheet!$C$16,SavingsSupportTable,MATCH(Worksheet!$G$17,HVACe_Options,0)+4,FALSE),1)/IF(Worksheet!M173>0,Worksheet!M173,Worksheet!L173),\"\"),\"\")","v":""},{"$f":"IF(Worksheet!L173<>0, IFERROR(VLOOKUP(Worksheet!$C$16,SavingsSupportTable,2,FALSE)*Worksheet!AQ173*IF(IFERROR(MATCH(Worksheet!$G$17,HVACe_Options,0),0)>0,1+VLOOKUP(Worksheet!$C$16,SavingsSupportTable,4,FALSE),1)/IF(Worksheet!M173>0,Worksheet!M173,Worksheet!L173),\"\"),\"\")","v":""},"",{"$f":"IF(Worksheet!L173<>0,IFERROR(VLOOKUP(Worksheet!$C$16,SavingsSupportTable,3,FALSE)*Worksheet!AQ173*IF(IFERROR(SEARCH(\"Gas\",Worksheet!$G$17),0)>0,VLOOKUP(\"Gas\",HVACg_Lookup,MATCH(Worksheet!$G$16,BuildingSize,0)+1,FALSE),IF(IFERROR(SEARCH(\"Oil\",Worksheet!$G$17),0)>0,VLOOKUP(\"Oil\",HVACg_Lookup,MATCH(Worksheet!$G$16,BuildingSize,0)+1,FALSE),IF(IFERROR(SEARCH(\"Propane\",Worksheet!$G$17),0)>0,VLOOKUP(\"Propane\",HVACg_Lookup,MATCH(Worksheet!$G$16,BuildingSize,0)+1,FALSE),0)))/IF(Worksheet!M173>0,Worksheet!M173,Worksheet!L173),0),\"\")","v":""},"",null,null,null,{"$f":"IF(ISBLANK(Worksheet!M173)=FALSE,Worksheet!M173,\"\")","v":0},{"$f":"IF(Worksheet!A173=\"-\",\"\",IF(Worksheet!A173=\"\",S149,Worksheet!A173))","v":""},{"$f":"IF(S150=\"\",\"\",IF(AND(Worksheet!G173=\"\",Worksheet!H173=\"\")=TRUE,T149,IF(Worksheet!G173=\"\",\"\",Worksheet!G173)))","v":""},{"$f":"IF(S150=\"\",\"\",IF(AND(Worksheet!G173=\"\",Worksheet!H173=\"\")=TRUE,U149,IF(Worksheet!H173=\"\",\"\",Worksheet!H173)))","v":""},{"$f":"IF(Worksheet!N173=\"\",\"\",Worksheet!N173)","v":""},{"$f":"IF(Worksheet!O173=\"\",\"\",Worksheet!O173)","v":""},{"$f":"IF(Worksheet!F173=0,\"\",Worksheet!F173)","v":""},{"$f":"IF(Worksheet!P173=0,\"\",Worksheet!P173)","v":""},{"$f":"IF(Worksheet!$A$11=TRUE,\"Y\",\"N\")","v":"N"},{"$f":"IF(Worksheet!$A$12=TRUE,\"Y\",\"N\")","v":"N"},{"$f":"IF(Worksheet!$B$11=TRUE,\"Y\",\"N\")","v":"N"},{"$f":"IF(Worksheet!$B$12=TRUE,\"Y\",\"N\")","v":"N"},{"$f":"IF(Worksheet!$C$11=TRUE,\"Y\",\"N\")","v":"N"},{"$f":"IF(Worksheet!$C$12=TRUE,\"Y\",\"N\")","v":"N"},""]
[{"$f":"IF(ISERROR(VLOOKUP(Worksheet!N174,MeasureLookup,2,FALSE))=FALSE,VLOOKUP(Worksheet!N174,MeasureLookup,2,FALSE),\"\")","v":""},{"$f":"Worksheet!Q174","v":0},{"$f":"Worksheet!R174","v":0},{"$f":"IF(ISERROR(Worksheet!P174)=FALSE,Worksheet!P174,\"\")","v":0},"Watts",null,null,{"$f":"IF(Worksheet!AP174<>\"\",IF(Worksheet!AP174>0,Worksheet!AP174/IF(Worksheet!M174>0,Worksheet!M174,Worksheet!L174),\"\"),\"\")","v":""},{"$f":"IF(ISBLANK(Worksheet!L174)=FALSE,Worksheet!L174,\"\")","v":0},{"$f":"IF(Worksheet!L174<>0, IFERROR(VLOOKUP(Worksheet!$C$16,SavingsSupportTable,3,FALSE)*Worksheet!AQ174*IFERROR(1+VLOOKUP(Worksheet!$C$16,SavingsSupportTable,MATCH(Worksheet!$G$17,HVACe_Options,0)+4,FALSE),1)/IF(Worksheet!M174>0,Worksheet!M174,Worksheet!L174),\"\"),\"\")","v":""},{"$f":"IF(Worksheet!L174<>0, IFERROR(VLOOKUP(Worksheet!$C$16,SavingsSupportTable,2,FALSE)*Worksheet!AQ174*IF(IFERROR(MATCH(Worksheet!$G$17,HVACe_Options,0),0)>0,1+VLOOKUP(Worksheet!$C$16,SavingsSupportTable,4,FALSE),1)/IF(Worksheet!M174>0,Worksheet!M174,Worksheet!L174),\"\"),\"\")","v":""},"",{"$f":"IF(Worksheet!L174<>0,IFERROR(VLOOKUP(Worksheet!$C$16,SavingsSupportTable,3,FALSE)*Worksheet!AQ174*IF(IFERROR(SEARCH(\"Gas\",Worksheet!$G$17),0)>0,VLOOKUP(\"Gas\",HVACg_Lookup,MATCH(Worksheet!$G$16,BuildingSize,0)+1,FALSE),IF(IFERROR(SEARCH(\"Oil\",Worksheet!$G$17),0)>0,VLOOKUP(\"Oil\",HVACg_Lookup,MATCH(Worksheet!$G$16,BuildingSize,0)+1,FALSE),IF(IFERROR(SEARCH(\"Propane\",Worksheet!$G$17),0)>0,VLOOKUP(\"Propane\",HVACg_Lookup,MATCH(Worksheet!$G$16,BuildingSize,0)+1,FALSE),0)))/IF(Worksheet!M174>0,Worksheet!M174,Worksheet!L174),0),\"\")","v":""},"",null,null,null,{"$f":"IF(ISBLANK(Worksheet!M174)=FALSE,Worksheet!M174,\"\")","v":0},{"$f":"IF(Worksheet!A174=\"-\",\"\",IF(Worksheet!A174=\"\",S150,Worksheet!A174))","v":""},{"$f":"IF(S151=\"\",\"\",IF(AND(Worksheet!G174=\"\",Worksheet!H174=\"\")=TRUE,T150,IF(Worksheet!G174=\"\",\"\",Worksheet!G174)))","v":""},{"$f":"IF(S151=\"\",\"\",IF(AND(Worksheet!G174=\"\",Worksheet!H174=\"\")=TRUE,U150,IF(Worksheet!H174=\"\",\"\",Worksheet!H174)))","v":""},{"$f":"IF(Worksheet!N174=\"\",\"\",Worksheet!N174)","v":""},{"$f":"IF(Worksheet!O174=\"\",\"\",Worksheet!O174)","v":""},{"$f":"IF(Worksheet!F174=0,\"\",Worksheet!F174)","v":""},{"$f":"IF(Worksheet!P174=0,\"\",Worksheet!P174)","v":""},{"$f":"IF(Worksheet!$A$11=TRUE,\"Y\",\"N\")","v":"N"},{"$f":"IF(Worksheet!$A$12=TRUE,\"Y\",\"N\")","v":"N"},{"$f":"IF(Worksheet!$B$11=TRUE,\"Y\",\"N\")","v":"N"},{"$f":"IF(Worksheet!$B$12=TRUE,\"Y\",\"N\")","v":"N"},{"$f":"IF(Worksheet!$C$11=TRUE,\"Y\",\"N\")","v":"N"},{"$f":"IF(Worksheet!$C$12=TRUE,\"Y\",\"N\")","v":"N"},""]
[{"$f":"IF(ISERROR(VLOOKUP(Worksheet!N175,MeasureLookup,2,FALSE))=FALSE,VLOOKUP(Worksheet!N175,MeasureLookup,2,FALSE),\"\")","v":""},{"$f":"Worksheet!Q175","v":0},{"$f":"Worksheet!R175","v":0},{"$f":"IF(ISERROR(Worksheet!P175)=FALSE,Worksheet!P175,\"\")","v":0},"Watts",null,null,{"$f":"IF(Worksheet!AP175<>\"\",IF(Worksheet!AP175>0,Worksheet!AP175/IF(Worksheet!M175>0,Worksheet!M175,Worksheet!L175),\"\"),\"\")","v":""},{"$f":"IF(ISBLANK(Worksheet!L175)=FALSE,Worksheet!L175,\"\")","v":0},{"$f":"IF(Worksheet!L175<>0, IFERROR(VLOOKUP(Worksheet!$C$16,SavingsSupportTable,3,FALSE)*Worksheet!AQ175*IFERROR(1+VLOOKUP(Worksheet!$C$16,SavingsSupportTable,MATCH(Worksheet!$G$17,HVACe_Options,0)+4,FALSE),1)/IF(Worksheet!M175>0,Worksheet!M175,Worksheet!L175),\"\"),\"\")","v":""},{"$f":"IF(Worksheet!L175<>0, IFERROR(VLOOKUP(Worksheet!$C$16,SavingsSupportTable,2,FALSE)*Worksheet!AQ175*IF(IFERROR(MATCH(Worksheet!$G$17,HVACe_Options,0),0)>0,1+VLOOKUP(Worksheet!$C$16,SavingsSupportTable,4,FALSE),1)/IF(Worksheet!M175>0,Worksheet!M175,Worksheet!L175),\"\"),\"\")","v":""},"",{"$f":"IF(Worksheet!L175<>0,IFERROR(VLOOKUP(Worksheet!$C$16,SavingsSupportTable,3,FALSE)*Worksheet!AQ175*IF(IFERROR(SEARCH(\"Gas\",Worksheet!$G$17),0)>0,VLOOKUP(\"Gas\",HVACg_Lookup,MATCH(Worksheet!$G$16,BuildingSize,0)+1,FALSE),IF(IFERROR(SEARCH(\"Oil\",Worksheet!$G$17),0)>0,VLOOKUP(\"Oil\",HVACg_Lookup,MATCH(Worksheet!$G$16,BuildingSize,0)+1,FALSE),IF(IFERROR(SEARCH(\"Propane\",Worksheet!$G$17),0)>0,VLOOKUP(\"Propane\",HVACg_Lookup,MATCH(Worksheet!$G$16,BuildingSize,0)+1,FALSE),0)))/IF(Worksheet!M175>0,Worksheet!M175,Worksheet!L175),0),\"\")","v":""},"",null,null,null,{"$f":"IF(ISBLANK(Worksheet!M175)=FALSE,Worksheet!M175,\"\")","v":0},{"$f":"IF(Worksheet!A175=\"-\",\"\",IF(Worksheet!A175=\"\",S151,Worksheet!A175))","v":""},{"$f":"IF(S152=\"\",\"\",IF(AND(Worksheet!G175=\"\",Worksheet!H175=\"\")=TRUE,T151,IF(Worksheet!G175=\"\",\"\",Worksheet!G175)))","v":""},{"$f":"IF(S152=\"\",\"\",IF(AND(Worksheet!G175=\"\",Worksheet!H175=\"\")=TRUE,U151,IF(Worksheet!H175=\"\",\"\",Worksheet!H175)))","v":""},{"$f":"IF(Worksheet!N175=\"\",\"\",Worksheet!N175)","v":""},{"$f":"IF(Worksheet!O175=\"\",\"\",Worksheet!O175)","v":""},{"$f":"IF(Worksheet!F175=0,\"\",Worksheet!F175)","v":""},{"$f":"IF(Worksheet!P175=0,\"\",Worksheet!P175)","v":""},{"$f":"IF(Worksheet!$A$11=TRUE,\"Y\",\"N\")","v":"N"},{"$f":"IF(Worksheet!$A$12=TRUE,\"Y\",\"N\")","v":"N"},{"$f":"IF(Worksheet!$B$11=TRUE,\"Y\",\"N\")","v":"N"},{"$f":"IF(Worksheet!$B$12=TRUE,\"Y\",\"N\")","v":"N"},{"$f":"IF(Worksheet!$C$11=TRUE,\"Y\",\"N\")","v":"N"},{"$f":"IF(Worksheet!$C$12=TRUE,\"Y\",\"N\")","v":"N"},""]
[{"$f":"IF(ISERROR(VLOOKUP(Worksheet!N176,MeasureLookup,2,FALSE))=FALSE,VLOOKUP(Worksheet!N176,MeasureLookup,2,FALSE),\"\")","v":""},{"$f":"Worksheet!Q176","v":0},{"$f":"Worksheet!R176","v":0},{"$f":"IF(ISERROR(Worksheet!P176)=FALSE,Worksheet!P176,\"\")","v":0},"Watts",null,null,{"$f":"IF(Worksheet!AP176<>\"\",IF(Worksheet!AP176>0,Worksheet!AP176/IF(Worksheet!M176>0,Worksheet!M176,Worksheet!L176),\"\"),\"\")","v":""},{"$f":"IF(ISBLANK(Worksheet!L176)=FALSE,Worksheet!L176,\"\")","v":0},{"$f":"IF(Worksheet!L176<>0, IFERROR(VLOOKUP(Worksheet!$C$16,SavingsSupportTable,3,FALSE)*Worksheet!AQ176*IFERROR(1+VLOOKUP(Worksheet!$C$16,SavingsSupportTable,MATCH(Worksheet!$G$17,HVACe_Options,0)+4,FALSE),1)/IF(Worksheet!M176>0,Worksheet!M176,Worksheet!L176),\"\"),\"\")","v":""},{"$f":"IF(Worksheet!L176<>0, IFERROR(VLOOKUP(Worksheet!$C$16,SavingsSupportTable,2,FALSE)*Worksheet!AQ176*IF(IFERROR(MATCH(Worksheet!$G$17,HVACe_Options,0),0)>0,1+VLOOKUP(Worksheet!$C$16,SavingsSupportTable,4,FALSE),1)/IF(Worksheet!M176>0,Worksheet!M176,Worksheet!L176),\"\"),\"\")","v":""},"",{"$f":"IF(Worksheet!L176<>0,IFERROR(VLOOKUP(Worksheet!$C$16,SavingsSupportTable,3,FALSE)*Worksheet!AQ176*IF(IFERROR(SEARCH(\"Gas\",Worksheet!$G$17),0)>0,VLOOKUP(\"Gas\",HVACg_Lookup,MATCH(Worksheet!$G$16,BuildingSize,0)+1,FALSE),IF(IFERROR(SEARCH(\"Oil\",Worksheet!$G$17),0)>0,VLOOKUP(\"Oil\",HVACg_Lookup,MATCH(Worksheet!$G$16,BuildingSize,0)+1,FALSE),IF(IFERROR(SEARCH(\"Propane\",Worksheet!$G$17),0)>0,VLOOKUP(\"Propane\",HVACg_Lookup,MATCH(Worksheet!$G$16,BuildingSize,0)+1,FALSE),0)))/IF(Worksheet!M176>0,Worksheet!M176,Worksheet!L176),0),\"\")","v":""},"",null,null,null,{"$f":"IF(ISBLANK(Worksheet!M176)=FALSE,Worksheet!M176,\"\")","v":0},{"$f":"IF(Worksheet!A176=\"-\",\"\",IF(Worksheet!A176=\"\",S152,Worksheet!A176))","v":""},{"$f":"IF(S153=\"\",\"\",IF(AND(Worksheet!G176=\"\",Worksheet!H176=\"\")=TRUE,T152,IF(Worksheet!G176=\"\",\"\",Worksheet!G176)))","v":""},{"$f":"IF(S153=\"\",\"\",IF(AND(Worksheet!G176=\"\",Worksheet!H176=\"\")=TRUE,U152,IF(Worksheet!H176=\"\",\"\",Worksheet!H176)))","v":""},{"$f":"IF(Worksheet!N176=\"\",\"\",Worksheet!N176)","v":""},{"$f":"IF(Worksheet!O176=\"\",\"\",Worksheet!O176)","v":""},{"$f":"IF(Worksheet!F176=0,\"\",Worksheet!F176)","v":""},{"$f":"IF(Worksheet!P176=0,\"\",Worksheet!P176)","v":""},{"$f":"IF(Worksheet!$A$11=TRUE,\"Y\",\"N\")","v":"N"},{"$f":"IF(Worksheet!$A$12=TRUE,\"Y\",\"N\")","v":"N"},{"$f":"IF(Worksheet!$B$11=TRUE,\"Y\",\"N\")","v":"N"},{"$f":"IF(Worksheet!$B$12=TRUE,\"Y\",\"N\")","v":"N"},{"$f":"IF(Worksheet!$C$11=TRUE,\"Y\",\"N\")","v":"N"},{"$f":"IF(Worksheet!$C$12=TRUE,\"Y\",\"N\")","v":"N"},""]
[{"$f":"IF(ISERROR(VLOOKUP(Worksheet!N177,MeasureLookup,2,FALSE))=FALSE,VLOOKUP(Worksheet!N177,MeasureLookup,2,FALSE),\"\")","v":""},{"$f":"Worksheet!Q177","v":0},{"$f":"Worksheet!R177","v":0},{"$f":"IF(ISERROR(Worksheet!P177)=FALSE,Worksheet!P177,\"\")","v":0},"Watts",null,null,{"$f":"IF(Worksheet!AP177<>\"\",IF(Worksheet!AP177>0,Worksheet!AP177/IF(Worksheet!M177>0,Worksheet!M177,Worksheet!L177),\"\"),\"\")","v":""},{"$f":"IF(ISBLANK(Worksheet!L177)=FALSE,Worksheet!L177,\"\")","v":0},{"$f":"IF(Worksheet!L177<>0, IFERROR(VLOOKUP(Worksheet!$C$16,SavingsSupportTable,3,FALSE)*Worksheet!AQ177*IFERROR(1+VLOOKUP(Worksheet!$C$16,SavingsSupportTable,MATCH(Worksheet!$G$17,HVACe_Options,0)+4,FALSE),1)/IF(Worksheet!M177>0,Worksheet!M177,Worksheet!L177),\"\"),\"\")","v":""},{"$f":"IF(Worksheet!L177<>0, IFERROR(VLOOKUP(Worksheet!$C$16,SavingsSupportTable,2,FALSE)*Worksheet!AQ177*IF(IFERROR(MATCH(Worksheet!$G$17,HVACe_Options,0),0)>0,1+VLOOKUP(Worksheet!$C$16,SavingsSupportTable,4,FALSE),1)/IF(Worksheet!M177>0,Worksheet!M177,Worksheet!L177),\"\"),\"\")","v":""},"",{"$f":"IF(Worksheet!L177<>0,IFERROR(VLOOKUP(Worksheet!$C$16,SavingsSupportTable,3,FALSE)*Worksheet!AQ177*IF(IFERROR(SEARCH(\"Gas\",Worksheet!$G$17),0)>0,VLOOKUP(\"Gas\",HVACg_Lookup,MATCH(Worksheet!$G$16,BuildingSize,0)+1,FALSE),IF(IFERROR(SEARCH(\"Oil\",Worksheet!$G$17),0)>0,VLOOKUP(\"Oil\",HVACg_Lookup,MATCH(Worksheet!$G$16,BuildingSize,0)+1,FALSE),IF(IFERROR(SEARCH(\"Propane\",Worksheet!$G$17),0)>0,VLOOKUP(\"Propane\",HVACg_Lookup,MATCH(Worksheet!$G$16,BuildingSize,0)+1,FALSE),0)))/IF(Worksheet!M177>0,Worksheet!M177,Worksheet!L177),0),\"\")","v":""},"",null,null,null,{"$f":"IF(ISBLANK(Worksheet!M177)=FALSE,Worksheet!M177,\"\")","v":0},{"$f":"IF(Worksheet!A177=\"-\",\"\",IF(Worksheet!A177=\"\",S153,Worksheet!A177))","v":""},{"$f":"IF(S154=\"\",\"\",IF(AND(Worksheet!G177=\"\",Worksheet!H177=\"\")=TRUE,T153,IF(Worksheet!G177=\"\",\"\",Worksheet!G177)))","v":""},{"$f":"IF(S154=\"\",\"\",IF(AND(Worksheet!G177=\"\",Worksheet!H177=\"\")=TRUE,U153,IF(Worksheet!H177=\"\",\"\",Worksheet!H177)))","v":""},{"$f":"IF(Worksheet!N177=\"\",\"\",Worksheet!N177)","v":""},{"$f":"IF(Worksheet!O177=\"\",\"\",Worksheet!O177)","v":""},{"$f":"IF(Worksheet!F177=0,\"\",Worksheet!F177)","v":""},{"$f":"IF(Worksheet!P177=0,\"\",Worksheet!P177)","v":""},{"$f":"IF(Worksheet!$A$11=TRUE,\"Y\",\"N\")","v":"N"},{"$f":"IF(Worksheet!$A$12=TRUE,\"Y\",\"N\")","v":"N"},{"$f":"IF(Worksheet!$B$11=TRUE,\"Y\",\"N\")","v":"N"},{"$f":"IF(Worksheet!$B$12=TRUE,\"Y\",\"N\")","v":"N"},{"$f":"IF(Worksheet!$C$11=TRUE,\"Y\",\"N\")","v":"N"},{"$f":"IF(Worksheet!$C$12=TRUE,\"Y\",\"N\")","v":"N"},""]
[{"$f":"IF(ISERROR(VLOOKUP(Worksheet!N178,MeasureLookup,2,FALSE))=FALSE,VLOOKUP(Worksheet!N178,MeasureLookup,2,FALSE),\"\")","v":""},{"$f":"Worksheet!Q178","v":0},{"$f":"Worksheet!R178","v":0},{"$f":"IF(ISERROR(Worksheet!P178)=FALSE,Worksheet!P178,\"\")","v":0},"Watts",null,null,{"$f":"IF(Worksheet!AP178<>\"\",IF(Worksheet!AP178>0,Worksheet!AP178/IF(Worksheet!M178>0,Worksheet!M178,Worksheet!L178),\"\"),\"\")","v":""},{"$f":"IF(ISBLANK(Worksheet!L178)=FALSE,Worksheet!L178,\"\")","v":0},{"$f":"IF(Worksheet!L178<>0, IFERROR(VLOOKUP(Worksheet!$C$16,SavingsSupportTable,3,FALSE)*Worksheet!AQ178*IFERROR(1+VLOOKUP(Worksheet!$C$16,SavingsSupportTable,MATCH(Worksheet!$G$17,HVACe_Options,0)+4,FALSE),1)/IF(Worksheet!M178>0,Worksheet!M178,Worksheet!L178),\"\"),\"\")","v":""},{"$f":"IF(Worksheet!L178<>0, IFERROR(VLOOKUP(Worksheet!$C$16,SavingsSupportTable,2,FALSE)*Worksheet!AQ178*IF(IFERROR(MATCH(Worksheet!$G$17,HVACe_Options,0),0)>0,1+VLOOKUP(Worksheet!$C$16,SavingsSupportTable,4,FALSE),1)/IF(Worksheet!M178>0,Worksheet!M178,Worksheet!L178),\"\"),\"\")","v":""},"",{"$f":"IF(Worksheet!L178<>0,IFERROR(VLOOKUP(Worksheet!$C$16,SavingsSupportTable,3,FALSE)*Worksheet!AQ178*IF(IFERROR(SEARCH(\"Gas\",Worksheet!$G$17),0)>0,VLOOKUP(\"Gas\",HVACg_Lookup,MATCH(Worksheet!$G$16,BuildingSize,0)+1,FALSE),IF(IFERROR(SEARCH(\"Oil\",Worksheet!$G$17),0)>0,VLOOKUP(\"Oil\",HVACg_Lookup,MATCH(Worksheet!$G$16,BuildingSize,0)+1,FALSE),IF(IFERROR(SEARCH(\"Propane\",Worksheet!$G$17),0)>0,VLOOKUP(\"Propane\",HVACg_Lookup,MATCH(Worksheet!$G$16,BuildingSize,0)+1,FALSE),0)))/IF(Worksheet!M178>0,Worksheet!M178,Worksheet!L178),0),\"\")","v":""},"",null,null,null,{"$f":"IF(ISBLANK(Worksheet!M178)=FALSE,Worksheet!M178,\"\")","v":0},{"$f":"IF(Worksheet!A178=\"-\",\"\",IF(Worksheet!A178=\"\",S154,Worksheet!A178))","v":""},{"$f":"IF(S155=\"\",\"\",IF(AND(Worksheet!G178=\"\",Worksheet!H178=\"\")=TRUE,T154,IF(Worksheet!G178=\"\",\"\",Worksheet!G178)))","v":""},{"$f":"IF(S155=\"\",\"\",IF(AND(Worksheet!G178=\"\",Worksheet!H178=\"\")=TRUE,U154,IF(Worksheet!H178=\"\",\"\",Worksheet!H178)))","v":""},{"$f":"IF(Worksheet!N178=\"\",\"\",Worksheet!N178)","v":""},{"$f":"IF(Worksheet!O178=\"\",\"\",Worksheet!O178)","v":""},{"$f":"IF(Worksheet!F178=0,\"\",Worksheet!F178)","v":""},{"$f":"IF(Worksheet!P178=0,\"\",Worksheet!P178)","v":""},{"$f":"IF(Worksheet!$A$11=TRUE,\"Y\",\"N\")","v":"N"},{"$f":"IF(Worksheet!$A$12=TRUE,\"Y\",\"N\")","v":"N"},{"$f":"IF(Worksheet!$B$11=TRUE,\"Y\",\"N\")","v":"N"},{"$f":"IF(Worksheet!$B$12=TRUE,\"Y\",\"N\")","v":"N"},{"$f":"IF(Worksheet!$C$11=TRUE,\"Y\",\"N\")","v":"N"},{"$f":"IF(Worksheet!$C$12=TRUE,\"Y\",\"N\")","v":"N"},""]
[{"$f":"IF(ISERROR(VLOOKUP(Worksheet!N179,MeasureLookup,2,FALSE))=FALSE,VLOOKUP(Worksheet!N179,MeasureLookup,2,FALSE),\"\")","v":""},{"$f":"Worksheet!Q179","v":0},{"$f":"Worksheet!R179","v":0},{"$f":"IF(ISERROR(Worksheet!P179)=FALSE,Worksheet!P179,\"\")","v":0},"Watts",null,null,{"$f":"IF(Worksheet!AP179<>\"\",IF(Worksheet!AP179>0,Worksheet!AP179/IF(Worksheet!M179>0,Worksheet!M179,Worksheet!L179),\"\"),\"\")","v":""},{"$f":"IF(ISBLANK(Worksheet!L179)=FALSE,Worksheet!L179,\"\")","v":0},{"$f":"IF(Worksheet!L179<>0, IFERROR(VLOOKUP(Worksheet!$C$16,SavingsSupportTable,3,FALSE)*Worksheet!AQ179*IFERROR(1+VLOOKUP(Worksheet!$C$16,SavingsSupportTable,MATCH(Worksheet!$G$17,HVACe_Options,0)+4,FALSE),1)/IF(Worksheet!M179>0,Worksheet!M179,Worksheet!L179),\"\"),\"\")","v":""},{"$f":"IF(Worksheet!L179<>0, IFERROR(VLOOKUP(Worksheet!$C$16,SavingsSupportTable,2,FALSE)*Worksheet!AQ179*IF(IFERROR(MATCH(Worksheet!$G$17,HVACe_Options,0),0)>0,1+VLOOKUP(Worksheet!$C$16,SavingsSupportTable,4,FALSE),1)/IF(Worksheet!M179>0,Worksheet!M179,Worksheet!L179),\"\"),\"\")","v":""},"",{"$f":"IF(Worksheet!L179<>0,IFERROR(VLOOKUP(Worksheet!$C$16,SavingsSupportTable,3,FALSE)*Worksheet!AQ179*IF(IFERROR(SEARCH(\"Gas\",Worksheet!$G$17),0)>0,VLOOKUP(\"Gas\",HVACg_Lookup,MATCH(Worksheet!$G$16,BuildingSize,0)+1,FALSE),IF(IFERROR(SEARCH(\"Oil\",Worksheet!$G$17),0)>0,VLOOKUP(\"Oil\",HVACg_Lookup,MATCH(Worksheet!$G$16,BuildingSize,0)+1,FALSE),IF(IFERROR(SEARCH(\"Propane\",Worksheet!$G$17),0)>0,VLOOKUP(\"Propane\",HVACg_Lookup,MATCH(Worksheet!$G$16,BuildingSize,0)+1,FALSE),0)))/IF(Worksheet!M179>0,Worksheet!M179,Worksheet!L179),0),\"\")","v":""},"",null,null,null,{"$f":"IF(ISBLANK(Worksheet!M179)=FALSE,Worksheet!M179,\"\")","v":0},{"$f":"IF(Worksheet!A179=\"-\",\"\",IF(Worksheet!A179=\"\",S155,Worksheet!A179))","v":""},{"$f":"IF(S156=\"\",\"\",IF(AND(Worksheet!G179=\"\",Worksheet!H179=\"\")=TRUE,T155,IF(Worksheet!G179=\"\",\"\",Worksheet!G179)))","v":""},{"$f":"IF(S156=\"\",\"\",IF(AND(Worksheet!G179=\"\",Worksheet!H179=\"\")=TRUE,U155,IF(Worksheet!H179=\"\",\"\",Worksheet!H179)))","v":""},{"$f":"IF(Worksheet!N179=\"\",\"\",Worksheet!N179)","v":""},{"$f":"IF(Worksheet!O179=\"\",\"\",Worksheet!O179)","v":""},{"$f":"IF(Worksheet!F179=0,\"\",Worksheet!F179)","v":""},{"$f":"IF(Worksheet!P179=0,\"\",Worksheet!P179)","v":""},{"$f":"IF(Worksheet!$A$11=TRUE,\"Y\",\"N\")","v":"N"},{"$f":"IF(Worksheet!$A$12=TRUE,\"Y\",\"N\")","v":"N"},{"$f":"IF(Worksheet!$B$11=TRUE,\"Y\",\"N\")","v":"N"},{"$f":"IF(Worksheet!$B$12=TRUE,\"Y\",\"N\")","v":"N"},{"$f":"IF(Worksheet!$C$11=TRUE,\"Y\",\"N\")","v":"N"},{"$f":"IF(Worksheet!$C$12=TRUE,\"Y\",\"N\")","v":"N"},""]
[{"$f":"IF(ISERROR(VLOOKUP(Worksheet!N180,MeasureLookup,2,FALSE))=FALSE,VLOOKUP(Worksheet!N180,MeasureLookup,2,FALSE),\"\")","v":""},{"$f":"Worksheet!Q180","v":0},{"$f":"Worksheet!R180","v":0},{"$f":"IF(ISERROR(Worksheet!P180)=FALSE,Worksheet!P180,\"\")","v":0},"Watts",null,null,{"$f":"IF(Worksheet!AP180<>\"\",IF(Worksheet!AP180>0,Worksheet!AP180/IF(Worksheet!M180>0,Worksheet!M180,Worksheet!L180),\"\"),\"\")","v":""},{"$f":"IF(ISBLANK(Worksheet!L180)=FALSE,Worksheet!L180,\"\")","v":0},{"$f":"IF(Worksheet!L180<>0, IFERROR(VLOOKUP(Worksheet!$C$16,SavingsSupportTable,3,FALSE)*Worksheet!AQ180*IFERROR(1+VLOOKUP(Worksheet!$C$16,SavingsSupportTable,MATCH(Worksheet!$G$17,HVACe_Options,0)+4,FALSE),1)/IF(Worksheet!M180>0,Worksheet!M180,Worksheet!L180),\"\"),\"\")","v":""},{"$f":"IF(Worksheet!L180<>0, IFERROR(VLOOKUP(Worksheet!$C$16,SavingsSupportTable,2,FALSE)*Worksheet!AQ180*IF(IFERROR(MATCH(Worksheet!$G$17,HVACe_Options,0),0)>0,1+VLOOKUP(Worksheet!$C$16,SavingsSupportTable,4,FALSE),1)/IF(Worksheet!M180>0,Worksheet!M180,Worksheet!L180),\"\"),\"\")","v":""},"",{"$f":"IF(Worksheet!L180<>0,IFERROR(VLOOKUP(Worksheet!$C$16,SavingsSupportTable,3,FALSE)*Worksheet!AQ180*IF(IFERROR(SEARCH(\"Gas\",Worksheet!$G$17),0)>0,VLOOKUP(\"Gas\",HVACg_Lookup,MATCH(Worksheet!$G$16,BuildingSize,0)+1,FALSE),IF(IFERROR(SEARCH(\"Oil\",Worksheet!$G$17),0)>0,VLOOKUP(\"Oil\",HVACg_Lookup,MATCH(Worksheet!$G$16,BuildingSize,0)+1,FALSE),IF(IFERROR(SEARCH(\"Propane\",Worksheet!$G$17),0)>0,VLOOKUP(\"Propane\",HVACg_Lookup,MATCH(Worksheet!$G$16,BuildingSize,0)+1,FALSE),0)))/IF(Worksheet!M180>0,Worksheet!M180,Worksheet!L180),0),\"\")","v":""},"",null,null,null,{"$f":"IF(ISBLANK(Worksheet!M180)=FALSE,Worksheet!M180,\"\")","v":0},{"$f":"IF(Worksheet!A180=\"-\",\"\",IF(Worksheet!A180=\"\",S156,Worksheet!A180))","v":""},{"$f":"IF(S157=\"\",\"\",IF(AND(Worksheet!G180=\"\",Worksheet!H180=\"\")=TRUE,T156,IF(Worksheet!G180=\"\",\"\",Worksheet!G180)))","v":""},{"$f":"IF(S157=\"\",\"\",IF(AND(Worksheet!G180=\"\",Worksheet!H180=\"\")=TRUE,U156,IF(Worksheet!H180=\"\",\"\",Worksheet!H180)))","v":""},{"$f":"IF(Worksheet!N180=\"\",\"\",Worksheet!N180)","v":""},{"$f":"IF(Worksheet!O180=\"\",\"\",Worksheet!O180)","v":""},{"$f":"IF(Worksheet!F180=0,\"\",Worksheet!F180)","v":""},{"$f":"IF(Worksheet!P180=0,\"\",Worksheet!P180)","v":""},{"$f":"IF(Worksheet!$A$11=TRUE,\"Y\",\"N\")","v":"N"},{"$f":"IF(Worksheet!$A$12=TRUE,\"Y\",\"N\")","v":"N"},{"$f":"IF(Worksheet!$B$11=TRUE,\"Y\",\"N\")","v":"N"},{"$f":"IF(Worksheet!$B$12=TRUE,\"Y\",\"N\")","v":"N"},{"$f":"IF(Worksheet!$C$11=TRUE,\"Y\",\"N\")","v":"N"},{"$f":"IF(Worksheet!$C$12=TRUE,\"Y\",\"N\")","v":"N"},""]
[{"$f":"IF(ISERROR(VLOOKUP(Worksheet!N181,MeasureLookup,2,FALSE))=FALSE,VLOOKUP(Worksheet!N181,MeasureLookup,2,FALSE),\"\")","v":""},{"$f":"Worksheet!Q181","v":0},{"$f":"Worksheet!R181","v":0},{"$f":"IF(ISERROR(Worksheet!P181)=FALSE,Worksheet!P181,\"\")","v":0},"Watts",null,null,{"$f":"IF(Worksheet!AP181<>\"\",IF(Worksheet!AP181>0,Worksheet!AP181/IF(Worksheet!M181>0,Worksheet!M181,Worksheet!L181),\"\"),\"\")","v":""},{"$f":"IF(ISBLANK(Worksheet!L181)=FALSE,Worksheet!L181,\"\")","v":0},{"$f":"IF(Worksheet!L181<>0, IFERROR(VLOOKUP(Worksheet!$C$16,SavingsSupportTable,3,FALSE)*Worksheet!AQ181*IFERROR(1+VLOOKUP(Worksheet!$C$16,SavingsSupportTable,MATCH(Worksheet!$G$17,HVACe_Options,0)+4,FALSE),1)/IF(Worksheet!M181>0,Worksheet!M181,Worksheet!L181),\"\"),\"\")","v":""},{"$f":"IF(Worksheet!L181<>0, IFERROR(VLOOKUP(Worksheet!$C$16,SavingsSupportTable,2,FALSE)*Worksheet!AQ181*IF(IFERROR(MATCH(Worksheet!$G$17,HVACe_Options,0),0)>0,1+VLOOKUP(Worksheet!$C$16,SavingsSupportTable,4,FALSE),1)/IF(Worksheet!M181>0,Worksheet!M181,Worksheet!L181),\"\"),\"\")","v":""},"",{"$f":"IF(Worksheet!L181<>0,IFERROR(VLOOKUP(Worksheet!$C$16,SavingsSupportTable,3,FALSE)*Worksheet!AQ181*IF(IFERROR(SEARCH(\"Gas\",Worksheet!$G$17),0)>0,VLOOKUP(\"Gas\",HVACg_Lookup,MATCH(Worksheet!$G$16,BuildingSize,0)+1,FALSE),IF(IFERROR(SEARCH(\"Oil\",Worksheet!$G$17),0)>0,VLOOKUP(\"Oil\",HVACg_Lookup,MATCH(Worksheet!$G$16,BuildingSize,0)+1,FALSE),IF(IFERROR(SEARCH(\"Propane\",Worksheet!$G$17),0)>0,VLOOKUP(\"Propane\",HVACg_Lookup,MATCH(Worksheet!$G$16,BuildingSize,0)+1,FALSE),0)))/IF(Worksheet!M181>0,Worksheet!M181,Worksheet!L181),0),\"\")","v":""},"",null,null,null,{"$f":"IF(ISBLANK(Worksheet!M181)=FALSE,Worksheet!M181,\"\")","v":0},{"$f":"IF(Worksheet!A181=\"-\",\"\",IF(Worksheet!A181=\"\",S157,Worksheet!A181))","v":""},{"$f":"IF(S158=\"\",\"\",IF(AND(Worksheet!G181=\"\",Worksheet!H181=\"\")=TRUE,T157,IF(Worksheet!G181=\"\",\"\",Worksheet!G181)))","v":""},{"$f":"IF(S158=\"\",\"\",IF(AND(Worksheet!G181=\"\",Worksheet!H181=\"\")=TRUE,U157,IF(Worksheet!H181=\"\",\"\",Worksheet!H181)))","v":""},{"$f":"IF(Worksheet!N181=\"\",\"\",Worksheet!N181)","v":""},{"$f":"IF(Worksheet!O181=\"\",\"\",Worksheet!O181)","v":""},{"$f":"IF(Worksheet!F181=0,\"\",Worksheet!F181)","v":""},{"$f":"IF(Worksheet!P181=0,\"\",Worksheet!P181)","v":""},{"$f":"IF(Worksheet!$A$11=TRUE,\"Y\",\"N\")","v":"N"},{"$f":"IF(Worksheet!$A$12=TRUE,\"Y\",\"N\")","v":"N"},{"$f":"IF(Worksheet!$B$11=TRUE,\"Y\",\"N\")","v":"N"},{"$f":"IF(Worksheet!$B$12=TRUE,\"Y\",\"N\")","v":"N"},{"$f":"IF(Worksheet!$C$11=TRUE,\"Y\",\"N\")","v":"N"},{"$f":"IF(Worksheet!$C$12=TRUE,\"Y\",\"N\")","v":"N"},""]
[{"$f":"IF(ISERROR(VLOOKUP(Worksheet!N182,MeasureLookup,2,FALSE))=FALSE,VLOOKUP(Worksheet!N182,MeasureLookup,2,FALSE),\"\")","v":""},{"$f":"Worksheet!Q182","v":0},{"$f":"Worksheet!R182","v":0},{"$f":"IF(ISERROR(Worksheet!P182)=FALSE,Worksheet!P182,\"\")","v":0},"Watts",null,null,{"$f":"IF(Worksheet!AP182<>\"\",IF(Worksheet!AP182>0,Worksheet!AP182/IF(Worksheet!M182>0,Worksheet!M182,Worksheet!L182),\"\"),\"\")","v":""},{"$f":"IF(ISBLANK(Worksheet!L182)=FALSE,Worksheet!L182,\"\")","v":0},{"$f":"IF(Worksheet!L182<>0, IFERROR(VLOOKUP(Worksheet!$C$16,SavingsSupportTable,3,FALSE)*Worksheet!AQ182*IFERROR(1+VLOOKUP(Worksheet!$C$16,SavingsSupportTable,MATCH(Worksheet!$G$17,HVACe_Options,0)+4,FALSE),1)/IF(Worksheet!M182>0,Worksheet!M182,Worksheet!L182),\"\"),\"\")","v":""},{"$f":"IF(Worksheet!L182<>0, IFERROR(VLOOKUP(Worksheet!$C$16,SavingsSupportTable,2,FALSE)*Worksheet!AQ182*IF(IFERROR(MATCH(Worksheet!$G$17,HVACe_Options,0),0)>0,1+VLOOKUP(Worksheet!$C$16,SavingsSupportTable,4,FALSE),1)/IF(Worksheet!M182>0,Worksheet!M182,Worksheet!L182),\"\"),\"\")","v":""},"",{"$f":"IF(Worksheet!L182<>0,IFERROR(VLOOKUP(Worksheet!$C$16,SavingsSupportTable,3,FALSE)*Worksheet!AQ182*IF(IFERROR(SEARCH(\"Gas\",Worksheet!$G$17),0)>0,VLOOKUP(\"Gas\",HVACg_Lookup,MATCH(Worksheet!$G$16,BuildingSize,0)+1,FALSE),IF(IFERROR(SEARCH(\"Oil\",Worksheet!$G$17),0)>0,VLOOKUP(\"Oil\",HVACg_Lookup,MATCH(Worksheet!$G$16,BuildingSize,0)+1,FALSE),IF(IFERROR(SEARCH(\"Propane\",Worksheet!$G$17),0)>0,VLOOKUP(\"Propane\",HVACg_Lookup,MATCH(Worksheet!$G$16,BuildingSize,0)+1,FALSE),0)))/IF(Worksheet!M182>0,Worksheet!M182,Worksheet!L182),0),\"\")","v":""},"",null,null,null,{"$f":"IF(ISBLANK(Worksheet!M182)=FALSE,Worksheet!M182,\"\")","v":0},{"$f":"IF(Worksheet!A182=\"-\",\"\",IF(Worksheet!A182=\"\",S158,Worksheet!A182))","v":""},{"$f":"IF(S159=\"\",\"\",IF(AND(Worksheet!G182=\"\",Worksheet!H182=\"\")=TRUE,T158,IF(Worksheet!G182=\"\",\"\",Worksheet!G182)))","v":""},{"$f":"IF(S159=\"\",\"\",IF(AND(Worksheet!G182=\"\",Worksheet!H182=\"\")=TRUE,U158,IF(Worksheet!H182=\"\",\"\",Worksheet!H182)))","v":""},{"$f":"IF(Worksheet!N182=\"\",\"\",Worksheet!N182)","v":""},{"$f":"IF(Worksheet!O182=\"\",\"\",Worksheet!O182)","v":""},{"$f":"IF(Worksheet!F182=0,\"\",Worksheet!F182)","v":""},{"$f":"IF(Worksheet!P182=0,\"\",Worksheet!P182)","v":""},{"$f":"IF(Worksheet!$A$11=TRUE,\"Y\",\"N\")","v":"N"},{"$f":"IF(Worksheet!$A$12=TRUE,\"Y\",\"N\")","v":"N"},{"$f":"IF(Worksheet!$B$11=TRUE,\"Y\",\"N\")","v":"N"},{"$f":"IF(Worksheet!$B$12=TRUE,\"Y\",\"N\")","v":"N"},{"$f":"IF(Worksheet!$C$11=TRUE,\"Y\",\"N\")","v":"N"},{"$f":"IF(Worksheet!$C$12=TRUE,\"Y\",\"N\")","v":"N"},""]
[{"$f":"IF(ISERROR(VLOOKUP(Worksheet!N183,MeasureLookup,2,FALSE))=FALSE,VLOOKUP(Worksheet!N183,MeasureLookup,2,FALSE),\"\")","v":""},{"$f":"Worksheet!Q183","v":0},{"$f":"Worksheet!R183","v":0},{"$f":"IF(ISERROR(Worksheet!P183)=FALSE,Worksheet!P183,\"\")","v":0},"Watts",null,null,{"$f":"IF(Worksheet!AP183<>\"\",IF(Worksheet!AP183>0,Worksheet!AP183/IF(Worksheet!M183>0,Worksheet!M183,Worksheet!L183),\"\"),\"\")","v":""},{"$f":"IF(ISBLANK(Worksheet!L183)=FALSE,Worksheet!L183,\"\")","v":0},{"$f":"IF(Worksheet!L183<>0, IFERROR(VLOOKUP(Worksheet!$C$16,SavingsSupportTable,3,FALSE)*Worksheet!AQ183*IFERROR(1+VLOOKUP(Worksheet!$C$16,SavingsSupportTable,MATCH(Worksheet!$G$17,HVACe_Options,0)+4,FALSE),1)/IF(Worksheet!M183>0,Worksheet!M183,Worksheet!L183),\"\"),\"\")","v":""},{"$f":"IF(Worksheet!L183<>0, IFERROR(VLOOKUP(Worksheet!$C$16,SavingsSupportTable,2,FALSE)*Worksheet!AQ183*IF(IFERROR(MATCH(Worksheet!$G$17,HVACe_Options,0),0)>0,1+VLOOKUP(Worksheet!$C$16,SavingsSupportTable,4,FALSE),1)/IF(Worksheet!M183>0,Worksheet!M183,Worksheet!L183),\"\"),\"\")","v":""},"",{"$f":"IF(Worksheet!L183<>0,IFERROR(VLOOKUP(Worksheet!$C$16,SavingsSupportTable,3,FALSE)*Worksheet!AQ183*IF(IFERROR(SEARCH(\"Gas\",Worksheet!$G$17),0)>0,VLOOKUP(\"Gas\",HVACg_Lookup,MATCH(Worksheet!$G$16,BuildingSize,0)+1,FALSE),IF(IFERROR(SEARCH(\"Oil\",Worksheet!$G$17),0)>0,VLOOKUP(\"Oil\",HVACg_Lookup,MATCH(Worksheet!$G$16,BuildingSize,0)+1,FALSE),IF(IFERROR(SEARCH(\"Propane\",Worksheet!$G$17),0)>0,VLOOKUP(\"Propane\",HVACg_Lookup,MATCH(Worksheet!$G$16,BuildingSize,0)+1,FALSE),0)))/IF(Worksheet!M183>0,Worksheet!M183,Worksheet!L183),0),\"\")","v":""},"",null,null,null,{"$f":"IF(ISBLANK(Worksheet!M183)=FALSE,Worksheet!M183,\"\")","v":0},{"$f":"IF(Worksheet!A183=\"-\",\"\",IF(Worksheet!A183=\"\",S159,Worksheet!A183))","v":""},{"$f":"IF(S160=\"\",\"\",IF(AND(Worksheet!G183=\"\",Worksheet!H183=\"\")=TRUE,T159,IF(Worksheet!G183=\"\",\"\",Worksheet!G183)))","v":""},{"$f":"IF(S160=\"\",\"\",IF(AND(Worksheet!G183=\"\",Worksheet!H183=\"\")=TRUE,U159,IF(Worksheet!H183=\"\",\"\",Worksheet!H183)))","v":""},{"$f":"IF(Worksheet!N183=\"\",\"\",Worksheet!N183)","v":""},{"$f":"IF(Worksheet!O183=\"\",\"\",Worksheet!O183)","v":""},{"$f":"IF(Worksheet!F183=0,\"\",Worksheet!F183)","v":""},{"$f":"IF(Worksheet!P183=0,\"\",Worksheet!P183)","v":""},{"$f":"IF(Worksheet!$A$11=TRUE,\"Y\",\"N\")","v":"N"},{"$f":"IF(Worksheet!$A$12=TRUE,\"Y\",\"N\")","v":"N"},{"$f":"IF(Worksheet!$B$11=TRUE,\"Y\",\"N\")","v":"N"},{"$f":"IF(Worksheet!$B$12=TRUE,\"Y\",\"N\")","v":"N"},{"$f":"IF(Worksheet!$C$11=TRUE,\"Y\",\"N\")","v":"N"},{"$f":"IF(Worksheet!$C$12=TRUE,\"Y\",\"N\")","v":"N"},""]
[{"$f":"IF(ISERROR(VLOOKUP(Worksheet!N184,MeasureLookup,2,FALSE))=FALSE,VLOOKUP(Worksheet!N184,MeasureLookup,2,FALSE),\"\")","v":""},{"$f":"Worksheet!Q184","v":0},{"$f":"Worksheet!R184","v":0},{"$f":"IF(ISERROR(Worksheet!P184)=FALSE,Worksheet!P184,\"\")","v":0},"Watts",null,null,{"$f":"IF(Worksheet!AP184<>\"\",IF(Worksheet!AP184>0,Worksheet!AP184/IF(Worksheet!M184>0,Worksheet!M184,Worksheet!L184),\"\"),\"\")","v":""},{"$f":"IF(ISBLANK(Worksheet!L184)=FALSE,Worksheet!L184,\"\")","v":0},{"$f":"IF(Worksheet!L184<>0, IFERROR(VLOOKUP(Worksheet!$C$16,SavingsSupportTable,3,FALSE)*Worksheet!AQ184*IFERROR(1+VLOOKUP(Worksheet!$C$16,SavingsSupportTable,MATCH(Worksheet!$G$17,HVACe_Options,0)+4,FALSE),1)/IF(Worksheet!M184>0,Worksheet!M184,Worksheet!L184),\"\"),\"\")","v":""},{"$f":"IF(Worksheet!L184<>0, IFERROR(VLOOKUP(Worksheet!$C$16,SavingsSupportTable,2,FALSE)*Worksheet!AQ184*IF(IFERROR(MATCH(Worksheet!$G$17,HVACe_Options,0),0)>0,1+VLOOKUP(Worksheet!$C$16,SavingsSupportTable,4,FALSE),1)/IF(Worksheet!M184>0,Worksheet!M184,Worksheet!L184),\"\"),\"\")","v":""},"",{"$f":"IF(Worksheet!L184<>0,IFERROR(VLOOKUP(Worksheet!$C$16,SavingsSupportTable,3,FALSE)*Worksheet!AQ184*IF(IFERROR(SEARCH(\"Gas\",Worksheet!$G$17),0)>0,VLOOKUP(\"Gas\",HVACg_Lookup,MATCH(Worksheet!$G$16,BuildingSize,0)+1,FALSE),IF(IFERROR(SEARCH(\"Oil\",Worksheet!$G$17),0)>0,VLOOKUP(\"Oil\",HVACg_Lookup,MATCH(Worksheet!$G$16,BuildingSize,0)+1,FALSE),IF(IFERROR(SEARCH(\"Propane\",Worksheet!$G$17),0)>0,VLOOKUP(\"Propane\",HVACg_Lookup,MATCH(Worksheet!$G$16,BuildingSize,0)+1,FALSE),0)))/IF(Worksheet!M184>0,Worksheet!M184,Worksheet!L184),0),\"\")","v":""},"",null,null,null,{"$f":"IF(ISBLANK(Worksheet!M184)=FALSE,Worksheet!M184,\"\")","v":0},{"$f":"IF(Worksheet!A184=\"-\",\"\",IF(Worksheet!A184=\"\",S160,Worksheet!A184))","v":""},{"$f":"IF(S161=\"\",\"\",IF(AND(Worksheet!G184=\"\",Worksheet!H184=\"\")=TRUE,T160,IF(Worksheet!G184=\"\",\"\",Worksheet!G184)))","v":""},{"$f":"IF(S161=\"\",\"\",IF(AND(Worksheet!G184=\"\",Worksheet!H184=\"\")=TRUE,U160,IF(Worksheet!H184=\"\",\"\",Worksheet!H184)))","v":""},{"$f":"IF(Worksheet!N184=\"\",\"\",Worksheet!N184)","v":""},{"$f":"IF(Worksheet!O184=\"\",\"\",Worksheet!O184)","v":""},{"$f":"IF(Worksheet!F184=0,\"\",Worksheet!F184)","v":""},{"$f":"IF(Worksheet!P184=0,\"\",Worksheet!P184)","v":""},{"$f":"IF(Worksheet!$A$11=TRUE,\"Y\",\"N\")","v":"N"},{"$f":"IF(Worksheet!$A$12=TRUE,\"Y\",\"N\")","v":"N"},{"$f":"IF(Worksheet!$B$11=TRUE,\"Y\",\"N\")","v":"N"},{"$f":"IF(Worksheet!$B$12=TRUE,\"Y\",\"N\")","v":"N"},{"$f":"IF(Worksheet!$C$11=TRUE,\"Y\",\"N\")","v":"N"},{"$f":"IF(Worksheet!$C$12=TRUE,\"Y\",\"N\")","v":"N"},""]
[{"$f":"IF(ISERROR(VLOOKUP(Worksheet!N185,MeasureLookup,2,FALSE))=FALSE,VLOOKUP(Worksheet!N185,MeasureLookup,2,FALSE),\"\")","v":""},{"$f":"Worksheet!Q185","v":0},{"$f":"Worksheet!R185","v":0},{"$f":"IF(ISERROR(Worksheet!P185)=FALSE,Worksheet!P185,\"\")","v":0},"Watts",null,null,{"$f":"IF(Worksheet!AP185<>\"\",IF(Worksheet!AP185>0,Worksheet!AP185/IF(Worksheet!M185>0,Worksheet!M185,Worksheet!L185),\"\"),\"\")","v":""},{"$f":"IF(ISBLANK(Worksheet!L185)=FALSE,Worksheet!L185,\"\")","v":0},{"$f":"IF(Worksheet!L185<>0, IFERROR(VLOOKUP(Worksheet!$C$16,SavingsSupportTable,3,FALSE)*Worksheet!AQ185*IFERROR(1+VLOOKUP(Worksheet!$C$16,SavingsSupportTable,MATCH(Worksheet!$G$17,HVACe_Options,0)+4,FALSE),1)/IF(Worksheet!M185>0,Worksheet!M185,Worksheet!L185),\"\"),\"\")","v":""},{"$f":"IF(Worksheet!L185<>0, IFERROR(VLOOKUP(Worksheet!$C$16,SavingsSupportTable,2,FALSE)*Worksheet!AQ185*IF(IFERROR(MATCH(Worksheet!$G$17,HVACe_Options,0),0)>0,1+VLOOKUP(Worksheet!$C$16,SavingsSupportTable,4,FALSE),1)/IF(Worksheet!M185>0,Worksheet!M185,Worksheet!L185),\"\"),\"\")","v":""},"",{"$f":"IF(Worksheet!L185<>0,IFERROR(VLOOKUP(Worksheet!$C$16,SavingsSupportTable,3,FALSE)*Worksheet!AQ185*IF(IFERROR(SEARCH(\"Gas\",Worksheet!$G$17),0)>0,VLOOKUP(\"Gas\",HVACg_Lookup,MATCH(Worksheet!$G$16,BuildingSize,0)+1,FALSE),IF(IFERROR(SEARCH(\"Oil\",Worksheet!$G$17),0)>0,VLOOKUP(\"Oil\",HVACg_Lookup,MATCH(Worksheet!$G$16,BuildingSize,0)+1,FALSE),IF(IFERROR(SEARCH(\"Propane\",Worksheet!$G$17),0)>0,VLOOKUP(\"Propane\",HVACg_Lookup,MATCH(Worksheet!$G$16,BuildingSize,0)+1,FALSE),0)))/IF(Worksheet!M185>0,Worksheet!M185,Worksheet!L185),0),\"\")","v":""},"",null,null,null,{"$f":"IF(ISBLANK(Worksheet!M185)=FALSE,Worksheet!M185,\"\")","v":0},{"$f":"IF(Worksheet!A185=\"-\",\"\",IF(Worksheet!A185=\"\",S161,Worksheet!A185))","v":""},{"$f":"IF(S162=\"\",\"\",IF(AND(Worksheet!G185=\"\",Worksheet!H185=\"\")=TRUE,T161,IF(Worksheet!G185=\"\",\"\",Worksheet!G185)))","v":""},{"$f":"IF(S162=\"\",\"\",IF(AND(Worksheet!G185=\"\",Worksheet!H185=\"\")=TRUE,U161,IF(Worksheet!H185=\"\",\"\",Worksheet!H185)))","v":""},{"$f":"IF(Worksheet!N185=\"\",\"\",Worksheet!N185)","v":""},{"$f":"IF(Worksheet!O185=\"\",\"\",Worksheet!O185)","v":""},{"$f":"IF(Worksheet!F185=0,\"\",Worksheet!F185)","v":""},{"$f":"IF(Worksheet!P185=0,\"\",Worksheet!P185)","v":""},{"$f":"IF(Worksheet!$A$11=TRUE,\"Y\",\"N\")","v":"N"},{"$f":"IF(Worksheet!$A$12=TRUE,\"Y\",\"N\")","v":"N"},{"$f":"IF(Worksheet!$B$11=TRUE,\"Y\",\"N\")","v":"N"},{"$f":"IF(Worksheet!$B$12=TRUE,\"Y\",\"N\")","v":"N"},{"$f":"IF(Worksheet!$C$11=TRUE,\"Y\",\"N\")","v":"N"},{"$f":"IF(Worksheet!$C$12=TRUE,\"Y\",\"N\")","v":"N"},""]
[{"$f":"IF(ISERROR(VLOOKUP(Worksheet!N186,MeasureLookup,2,FALSE))=FALSE,VLOOKUP(Worksheet!N186,MeasureLookup,2,FALSE),\"\")","v":""},{"$f":"Worksheet!Q186","v":0},{"$f":"Worksheet!R186","v":0},{"$f":"IF(ISERROR(Worksheet!P186)=FALSE,Worksheet!P186,\"\")","v":0},"Watts",null,null,{"$f":"IF(Worksheet!AP186<>\"\",IF(Worksheet!AP186>0,Worksheet!AP186/IF(Worksheet!M186>0,Worksheet!M186,Worksheet!L186),\"\"),\"\")","v":""},{"$f":"IF(ISBLANK(Worksheet!L186)=FALSE,Worksheet!L186,\"\")","v":0},{"$f":"IF(Worksheet!L186<>0, IFERROR(VLOOKUP(Worksheet!$C$16,SavingsSupportTable,3,FALSE)*Worksheet!AQ186*IFERROR(1+VLOOKUP(Worksheet!$C$16,SavingsSupportTable,MATCH(Worksheet!$G$17,HVACe_Options,0)+4,FALSE),1)/IF(Worksheet!M186>0,Worksheet!M186,Worksheet!L186),\"\"),\"\")","v":""},{"$f":"IF(Worksheet!L186<>0, IFERROR(VLOOKUP(Worksheet!$C$16,SavingsSupportTable,2,FALSE)*Worksheet!AQ186*IF(IFERROR(MATCH(Worksheet!$G$17,HVACe_Options,0),0)>0,1+VLOOKUP(Worksheet!$C$16,SavingsSupportTable,4,FALSE),1)/IF(Worksheet!M186>0,Worksheet!M186,Worksheet!L186),\"\"),\"\")","v":""},"",{"$f":"IF(Worksheet!L186<>0,IFERROR(VLOOKUP(Worksheet!$C$16,SavingsSupportTable,3,FALSE)*Worksheet!AQ186*IF(IFERROR(SEARCH(\"Gas\",Worksheet!$G$17),0)>0,VLOOKUP(\"Gas\",HVACg_Lookup,MATCH(Worksheet!$G$16,BuildingSize,0)+1,FALSE),IF(IFERROR(SEARCH(\"Oil\",Worksheet!$G$17),0)>0,VLOOKUP(\"Oil\",HVACg_Lookup,MATCH(Worksheet!$G$16,BuildingSize,0)+1,FALSE),IF(IFERROR(SEARCH(\"Propane\",Worksheet!$G$17),0)>0,VLOOKUP(\"Propane\",HVACg_Lookup,MATCH(Worksheet!$G$16,BuildingSize,0)+1,FALSE),0)))/IF(Worksheet!M186>0,Worksheet!M186,Worksheet!L186),0),\"\")","v":""},"",null,null,null,{"$f":"IF(ISBLANK(Worksheet!M186)=FALSE,Worksheet!M186,\"\")","v":0},{"$f":"IF(Worksheet!A186=\"-\",\"\",IF(Worksheet!A186=\"\",S162,Worksheet!A186))","v":""},{"$f":"IF(S163=\"\",\"\",IF(AND(Worksheet!G186=\"\",Worksheet!H186=\"\")=TRUE,T162,IF(Worksheet!G186=\"\",\"\",Worksheet!G186)))","v":""},{"$f":"IF(S163=\"\",\"\",IF(AND(Worksheet!G186=\"\",Worksheet!H186=\"\")=TRUE,U162,IF(Worksheet!H186=\"\",\"\",Worksheet!H186)))","v":""},{"$f":"IF(Worksheet!N186=\"\",\"\",Worksheet!N186)","v":""},{"$f":"IF(Worksheet!O186=\"\",\"\",Worksheet!O186)","v":""},{"$f":"IF(Worksheet!F186=0,\"\",Worksheet!F186)","v":""},{"$f":"IF(Worksheet!P186=0,\"\",Worksheet!P186)","v":""},{"$f":"IF(Worksheet!$A$11=TRUE,\"Y\",\"N\")","v":"N"},{"$f":"IF(Worksheet!$A$12=TRUE,\"Y\",\"N\")","v":"N"},{"$f":"IF(Worksheet!$B$11=TRUE,\"Y\",\"N\")","v":"N"},{"$f":"IF(Worksheet!$B$12=TRUE,\"Y\",\"N\")","v":"N"},{"$f":"IF(Worksheet!$C$11=TRUE,\"Y\",\"N\")","v":"N"},{"$f":"IF(Worksheet!$C$12=TRUE,\"Y\",\"N\")","v":"N"},""]
[{"$f":"IF(ISERROR(VLOOKUP(Worksheet!N187,MeasureLookup,2,FALSE))=FALSE,VLOOKUP(Worksheet!N187,MeasureLookup,2,FALSE),\"\")","v":""},{"$f":"Worksheet!Q187","v":0},{"$f":"Worksheet!R187","v":0},{"$f":"IF(ISERROR(Worksheet!P187)=FALSE,Worksheet!P187,\"\")","v":0},"Watts",null,null,{"$f":"IF(Worksheet!AP187<>\"\",IF(Worksheet!AP187>0,Worksheet!AP187/IF(Worksheet!M187>0,Worksheet!M187,Worksheet!L187),\"\"),\"\")","v":""},{"$f":"IF(ISBLANK(Worksheet!L187)=FALSE,Worksheet!L187,\"\")","v":0},{"$f":"IF(Worksheet!L187<>0, IFERROR(VLOOKUP(Worksheet!$C$16,SavingsSupportTable,3,FALSE)*Worksheet!AQ187*IFERROR(1+VLOOKUP(Worksheet!$C$16,SavingsSupportTable,MATCH(Worksheet!$G$17,HVACe_Options,0)+4,FALSE),1)/IF(Worksheet!M187>0,Worksheet!M187,Worksheet!L187),\"\"),\"\")","v":""},{"$f":"IF(Worksheet!L187<>0, IFERROR(VLOOKUP(Worksheet!$C$16,SavingsSupportTable,2,FALSE)*Worksheet!AQ187*IF(IFERROR(MATCH(Worksheet!$G$17,HVACe_Options,0),0)>0,1+VLOOKUP(Worksheet!$C$16,SavingsSupportTable,4,FALSE),1)/IF(Worksheet!M187>0,Worksheet!M187,Worksheet!L187),\"\"),\"\")","v":""},"",{"$f":"IF(Worksheet!L187<>0,IFERROR(VLOOKUP(Worksheet!$C$16,SavingsSupportTable,3,FALSE)*Worksheet!AQ187*IF(IFERROR(SEARCH(\"Gas\",Worksheet!$G$17),0)>0,VLOOKUP(\"Gas\",HVACg_Lookup,MATCH(Worksheet!$G$16,BuildingSize,0)+1,FALSE),IF(IFERROR(SEARCH(\"Oil\",Worksheet!$G$17),0)>0,VLOOKUP(\"Oil\",HVACg_Lookup,MATCH(Worksheet!$G$16,BuildingSize,0)+1,FALSE),IF(IFERROR(SEARCH(\"Propane\",Worksheet!$G$17),0)>0,VLOOKUP(\"Propane\",HVACg_Lookup,MATCH(Worksheet!$G$16,BuildingSize,0)+1,FALSE),0)))/IF(Worksheet!M187>0,Worksheet!M187,Worksheet!L187),0),\"\")","v":""},"",null,null,null,{"$f":"IF(ISBLANK(Worksheet!M187)=FALSE,Worksheet!M187,\"\")","v":0},{"$f":"IF(Worksheet!A187=\"-\",\"\",IF(Worksheet!A187=\"\",S163,Worksheet!A187))","v":""},{"$f":"IF(S164=\"\",\"\",IF(AND(Worksheet!G187=\"\",Worksheet!H187=\"\")=TRUE,T163,IF(Worksheet!G187=\"\",\"\",Worksheet!G187)))","v":""},{"$f":"IF(S164=\"\",\"\",IF(AND(Worksheet!G187=\"\",Worksheet!H187=\"\")=TRUE,U163,IF(Worksheet!H187=\"\",\"\",Worksheet!H187)))","v":""},{"$f":"IF(Worksheet!N187=\"\",\"\",Worksheet!N187)","v":""},{"$f":"IF(Worksheet!O187=\"\",\"\",Worksheet!O187)","v":""},{"$f":"IF(Worksheet!F187=0,\"\",Worksheet!F187)","v":""},{"$f":"IF(Worksheet!P187=0,\"\",Worksheet!P187)","v":""},{"$f":"IF(Worksheet!$A$11=TRUE,\"Y\",\"N\")","v":"N"},{"$f":"IF(Worksheet!$A$12=TRUE,\"Y\",\"N\")","v":"N"},{"$f":"IF(Worksheet!$B$11=TRUE,\"Y\",\"N\")","v":"N"},{"$f":"IF(Worksheet!$B$12=TRUE,\"Y\",\"N\")","v":"N"},{"$f":"IF(Worksheet!$C$11=TRUE,\"Y\",\"N\")","v":"N"},{"$f":"IF(Worksheet!$C$12=TRUE,\"Y\",\"N\")","v":"N"},""]
[{"$f":"IF(ISERROR(VLOOKUP(Worksheet!N188,MeasureLookup,2,FALSE))=FALSE,VLOOKUP(Worksheet!N188,MeasureLookup,2,FALSE),\"\")","v":""},{"$f":"Worksheet!Q188","v":0},{"$f":"Worksheet!R188","v":0},{"$f":"IF(ISERROR(Worksheet!P188)=FALSE,Worksheet!P188,\"\")","v":0},"Watts",null,null,{"$f":"IF(Worksheet!AP188<>\"\",IF(Worksheet!AP188>0,Worksheet!AP188/IF(Worksheet!M188>0,Worksheet!M188,Worksheet!L188),\"\"),\"\")","v":""},{"$f":"IF(ISBLANK(Worksheet!L188)=FALSE,Worksheet!L188,\"\")","v":0},{"$f":"IF(Worksheet!L188<>0, IFERROR(VLOOKUP(Worksheet!$C$16,SavingsSupportTable,3,FALSE)*Worksheet!AQ188*IFERROR(1+VLOOKUP(Worksheet!$C$16,SavingsSupportTable,MATCH(Worksheet!$G$17,HVACe_Options,0)+4,FALSE),1)/IF(Worksheet!M188>0,Worksheet!M188,Worksheet!L188),\"\"),\"\")","v":""},{"$f":"IF(Worksheet!L188<>0, IFERROR(VLOOKUP(Worksheet!$C$16,SavingsSupportTable,2,FALSE)*Worksheet!AQ188*IF(IFERROR(MATCH(Worksheet!$G$17,HVACe_Options,0),0)>0,1+VLOOKUP(Worksheet!$C$16,SavingsSupportTable,4,FALSE),1)/IF(Worksheet!M188>0,Worksheet!M188,Worksheet!L188),\"\"),\"\")","v":""},"",{"$f":"IF(Worksheet!L188<>0,IFERROR(VLOOKUP(Worksheet!$C$16,SavingsSupportTable,3,FALSE)*Worksheet!AQ188*IF(IFERROR(SEARCH(\"Gas\",Worksheet!$G$17),0)>0,VLOOKUP(\"Gas\",HVACg_Lookup,MATCH(Worksheet!$G$16,BuildingSize,0)+1,FALSE),IF(IFERROR(SEARCH(\"Oil\",Worksheet!$G$17),0)>0,VLOOKUP(\"Oil\",HVACg_Lookup,MATCH(Worksheet!$G$16,BuildingSize,0)+1,FALSE),IF(IFERROR(SEARCH(\"Propane\",Worksheet!$G$17),0)>0,VLOOKUP(\"Propane\",HVACg_Lookup,MATCH(Worksheet!$G$16,BuildingSize,0)+1,FALSE),0)))/IF(Worksheet!M188>0,Worksheet!M188,Worksheet!L188),0),\"\")","v":""},"",null,null,null,{"$f":"IF(ISBLANK(Worksheet!M188)=FALSE,Worksheet!M188,\"\")","v":0},{"$f":"IF(Worksheet!A188=\"-\",\"\",IF(Worksheet!A188=\"\",S164,Worksheet!A188))","v":""},{"$f":"IF(S165=\"\",\"\",IF(AND(Worksheet!G188=\"\",Worksheet!H188=\"\")=TRUE,T164,IF(Worksheet!G188=\"\",\"\",Worksheet!G188)))","v":""},{"$f":"IF(S165=\"\",\"\",IF(AND(Worksheet!G188=\"\",Worksheet!H188=\"\")=TRUE,U164,IF(Worksheet!H188=\"\",\"\",Worksheet!H188)))","v":""},{"$f":"IF(Worksheet!N188=\"\",\"\",Worksheet!N188)","v":""},{"$f":"IF(Worksheet!O188=\"\",\"\",Worksheet!O188)","v":""},{"$f":"IF(Worksheet!F188=0,\"\",Worksheet!F188)","v":""},{"$f":"IF(Worksheet!P188=0,\"\",Worksheet!P188)","v":""},{"$f":"IF(Worksheet!$A$11=TRUE,\"Y\",\"N\")","v":"N"},{"$f":"IF(Worksheet!$A$12=TRUE,\"Y\",\"N\")","v":"N"},{"$f":"IF(Worksheet!$B$11=TRUE,\"Y\",\"N\")","v":"N"},{"$f":"IF(Worksheet!$B$12=TRUE,\"Y\",\"N\")","v":"N"},{"$f":"IF(Worksheet!$C$11=TRUE,\"Y\",\"N\")","v":"N"},{"$f":"IF(Worksheet!$C$12=TRUE,\"Y\",\"N\")","v":"N"},""]
[{"$f":"IF(ISERROR(VLOOKUP(Worksheet!N189,MeasureLookup,2,FALSE))=FALSE,VLOOKUP(Worksheet!N189,MeasureLookup,2,FALSE),\"\")","v":""},{"$f":"Worksheet!Q189","v":0},{"$f":"Worksheet!R189","v":0},{"$f":"IF(ISERROR(Worksheet!P189)=FALSE,Worksheet!P189,\"\")","v":0},"Watts",null,null,{"$f":"IF(Worksheet!AP189<>\"\",IF(Worksheet!AP189>0,Worksheet!AP189/IF(Worksheet!M189>0,Worksheet!M189,Worksheet!L189),\"\"),\"\")","v":""},{"$f":"IF(ISBLANK(Worksheet!L189)=FALSE,Worksheet!L189,\"\")","v":0},{"$f":"IF(Worksheet!L189<>0, IFERROR(VLOOKUP(Worksheet!$C$16,SavingsSupportTable,3,FALSE)*Worksheet!AQ189*IFERROR(1+VLOOKUP(Worksheet!$C$16,SavingsSupportTable,MATCH(Worksheet!$G$17,HVACe_Options,0)+4,FALSE),1)/IF(Worksheet!M189>0,Worksheet!M189,Worksheet!L189),\"\"),\"\")","v":""},{"$f":"IF(Worksheet!L189<>0, IFERROR(VLOOKUP(Worksheet!$C$16,SavingsSupportTable,2,FALSE)*Worksheet!AQ189*IF(IFERROR(MATCH(Worksheet!$G$17,HVACe_Options,0),0)>0,1+VLOOKUP(Worksheet!$C$16,SavingsSupportTable,4,FALSE),1)/IF(Worksheet!M189>0,Worksheet!M189,Worksheet!L189),\"\"),\"\")","v":""},"",{"$f":"IF(Worksheet!L189<>0,IFERROR(VLOOKUP(Worksheet!$C$16,SavingsSupportTable,3,FALSE)*Worksheet!AQ189*IF(IFERROR(SEARCH(\"Gas\",Worksheet!$G$17),0)>0,VLOOKUP(\"Gas\",HVACg_Lookup,MATCH(Worksheet!$G$16,BuildingSize,0)+1,FALSE),IF(IFERROR(SEARCH(\"Oil\",Worksheet!$G$17),0)>0,VLOOKUP(\"Oil\",HVACg_Lookup,MATCH(Worksheet!$G$16,BuildingSize,0)+1,FALSE),IF(IFERROR(SEARCH(\"Propane\",Worksheet!$G$17),0)>0,VLOOKUP(\"Propane\",HVACg_Lookup,MATCH(Worksheet!$G$16,BuildingSize,0)+1,FALSE),0)))/IF(Worksheet!M189>0,Worksheet!M189,Worksheet!L189),0),\"\")","v":""},"",null,null,null,{"$f":"IF(ISBLANK(Worksheet!M189)=FALSE,Worksheet!M189,\"\")","v":0},{"$f":"IF(Worksheet!A189=\"-\",\"\",IF(Worksheet!A189=\"\",S165,Worksheet!A189))","v":""},{"$f":"IF(S166=\"\",\"\",IF(AND(Worksheet!G189=\"\",Worksheet!H189=\"\")=TRUE,T165,IF(Worksheet!G189=\"\",\"\",Worksheet!G189)))","v":""},{"$f":"IF(S166=\"\",\"\",IF(AND(Worksheet!G189=\"\",Worksheet!H189=\"\")=TRUE,U165,IF(Worksheet!H189=\"\",\"\",Worksheet!H189)))","v":""},{"$f":"IF(Worksheet!N189=\"\",\"\",Worksheet!N189)","v":""},{"$f":"IF(Worksheet!O189=\"\",\"\",Worksheet!O189)","v":""},{"$f":"IF(Worksheet!F189=0,\"\",Worksheet!F189)","v":""},{"$f":"IF(Worksheet!P189=0,\"\",Worksheet!P189)","v":""},{"$f":"IF(Worksheet!$A$11=TRUE,\"Y\",\"N\")","v":"N"},{"$f":"IF(Worksheet!$A$12=TRUE,\"Y\",\"N\")","v":"N"},{"$f":"IF(Worksheet!$B$11=TRUE,\"Y\",\"N\")","v":"N"},{"$f":"IF(Worksheet!$B$12=TRUE,\"Y\",\"N\")","v":"N"},{"$f":"IF(Worksheet!$C$11=TRUE,\"Y\",\"N\")","v":"N"},{"$f":"IF(Worksheet!$C$12=TRUE,\"Y\",\"N\")","v":"N"},""]
[{"$f":"IF(ISERROR(VLOOKUP(Worksheet!N190,MeasureLookup,2,FALSE))=FALSE,VLOOKUP(Worksheet!N190,MeasureLookup,2,FALSE),\"\")","v":""},{"$f":"Worksheet!Q190","v":0},{"$f":"Worksheet!R190","v":0},{"$f":"IF(ISERROR(Worksheet!P190)=FALSE,Worksheet!P190,\"\")","v":0},"Watts",null,null,{"$f":"IF(Worksheet!AP190<>\"\",IF(Worksheet!AP190>0,Worksheet!AP190/IF(Worksheet!M190>0,Worksheet!M190,Worksheet!L190),\"\"),\"\")","v":""},{"$f":"IF(ISBLANK(Worksheet!L190)=FALSE,Worksheet!L190,\"\")","v":0},{"$f":"IF(Worksheet!L190<>0, IFERROR(VLOOKUP(Worksheet!$C$16,SavingsSupportTable,3,FALSE)*Worksheet!AQ190*IFERROR(1+VLOOKUP(Worksheet!$C$16,SavingsSupportTable,MATCH(Worksheet!$G$17,HVACe_Options,0)+4,FALSE),1)/IF(Worksheet!M190>0,Worksheet!M190,Worksheet!L190),\"\"),\"\")","v":""},{"$f":"IF(Worksheet!L190<>0, IFERROR(VLOOKUP(Worksheet!$C$16,SavingsSupportTable,2,FALSE)*Worksheet!AQ190*IF(IFERROR(MATCH(Worksheet!$G$17,HVACe_Options,0),0)>0,1+VLOOKUP(Worksheet!$C$16,SavingsSupportTable,4,FALSE),1)/IF(Worksheet!M190>0,Worksheet!M190,Worksheet!L190),\"\"),\"\")","v":""},"",{"$f":"IF(Worksheet!L190<>0,IFERROR(VLOOKUP(Worksheet!$C$16,SavingsSupportTable,3,FALSE)*Worksheet!AQ190*IF(IFERROR(SEARCH(\"Gas\",Worksheet!$G$17),0)>0,VLOOKUP(\"Gas\",HVACg_Lookup,MATCH(Worksheet!$G$16,BuildingSize,0)+1,FALSE),IF(IFERROR(SEARCH(\"Oil\",Worksheet!$G$17),0)>0,VLOOKUP(\"Oil\",HVACg_Lookup,MATCH(Worksheet!$G$16,BuildingSize,0)+1,FALSE),IF(IFERROR(SEARCH(\"Propane\",Worksheet!$G$17),0)>0,VLOOKUP(\"Propane\",HVACg_Lookup,MATCH(Worksheet!$G$16,BuildingSize,0)+1,FALSE),0)))/IF(Worksheet!M190>0,Worksheet!M190,Worksheet!L190),0),\"\")","v":""},"",null,null,null,{"$f":"IF(ISBLANK(Worksheet!M190)=FALSE,Worksheet!M190,\"\")","v":0},{"$f":"IF(Worksheet!A190=\"-\",\"\",IF(Worksheet!A190=\"\",S166,Worksheet!A190))","v":""},{"$f":"IF(S167=\"\",\"\",IF(AND(Worksheet!G190=\"\",Worksheet!H190=\"\")=TRUE,T166,IF(Worksheet!G190=\"\",\"\",Worksheet!G190)))","v":""},{"$f":"IF(S167=\"\",\"\",IF(AND(Worksheet!G190=\"\",Worksheet!H190=\"\")=TRUE,U166,IF(Worksheet!H190=\"\",\"\",Worksheet!H190)))","v":""},{"$f":"IF(Worksheet!N190=\"\",\"\",Worksheet!N190)","v":""},{"$f":"IF(Worksheet!O190=\"\",\"\",Worksheet!O190)","v":""},{"$f":"IF(Worksheet!F190=0,\"\",Worksheet!F190)","v":""},{"$f":"IF(Worksheet!P190=0,\"\",Worksheet!P190)","v":""},{"$f":"IF(Worksheet!$A$11=TRUE,\"Y\",\"N\")","v":"N"},{"$f":"IF(Worksheet!$A$12=TRUE,\"Y\",\"N\")","v":"N"},{"$f":"IF(Worksheet!$B$11=TRUE,\"Y\",\"N\")","v":"N"},{"$f":"IF(Worksheet!$B$12=TRUE,\"Y\",\"N\")","v":"N"},{"$f":"IF(Worksheet!$C$11=TRUE,\"Y\",\"N\")","v":"N"},{"$f":"IF(Worksheet!$C$12=TRUE,\"Y\",\"N\")","v":"N"},""]
[{"$f":"IF(ISERROR(VLOOKUP(Worksheet!N191,MeasureLookup,2,FALSE))=FALSE,VLOOKUP(Worksheet!N191,MeasureLookup,2,FALSE),\"\")","v":""},{"$f":"Worksheet!Q191","v":0},{"$f":"Worksheet!R191","v":0},{"$f":"IF(ISERROR(Worksheet!P191)=FALSE,Worksheet!P191,\"\")","v":0},"Watts",null,null,{"$f":"IF(Worksheet!AP191<>\"\",IF(Worksheet!AP191>0,Worksheet!AP191/IF(Worksheet!M191>0,Worksheet!M191,Worksheet!L191),\"\"),\"\")","v":""},{"$f":"IF(ISBLANK(Worksheet!L191)=FALSE,Worksheet!L191,\"\")","v":0},{"$f":"IF(Worksheet!L191<>0, IFERROR(VLOOKUP(Worksheet!$C$16,SavingsSupportTable,3,FALSE)*Worksheet!AQ191*IFERROR(1+VLOOKUP(Worksheet!$C$16,SavingsSupportTable,MATCH(Worksheet!$G$17,HVACe_Options,0)+4,FALSE),1)/IF(Worksheet!M191>0,Worksheet!M191,Worksheet!L191),\"\"),\"\")","v":""},{"$f":"IF(Worksheet!L191<>0, IFERROR(VLOOKUP(Worksheet!$C$16,SavingsSupportTable,2,FALSE)*Worksheet!AQ191*IF(IFERROR(MATCH(Worksheet!$G$17,HVACe_Options,0),0)>0,1+VLOOKUP(Worksheet!$C$16,SavingsSupportTable,4,FALSE),1)/IF(Worksheet!M191>0,Worksheet!M191,Worksheet!L191),\"\"),\"\")","v":""},"",{"$f":"IF(Worksheet!L191<>0,IFERROR(VLOOKUP(Worksheet!$C$16,SavingsSupportTable,3,FALSE)*Worksheet!AQ191*IF(IFERROR(SEARCH(\"Gas\",Worksheet!$G$17),0)>0,VLOOKUP(\"Gas\",HVACg_Lookup,MATCH(Worksheet!$G$16,BuildingSize,0)+1,FALSE),IF(IFERROR(SEARCH(\"Oil\",Worksheet!$G$17),0)>0,VLOOKUP(\"Oil\",HVACg_Lookup,MATCH(Worksheet!$G$16,BuildingSize,0)+1,FALSE),IF(IFERROR(SEARCH(\"Propane\",Worksheet!$G$17),0)>0,VLOOKUP(\"Propane\",HVACg_Lookup,MATCH(Worksheet!$G$16,BuildingSize,0)+1,FALSE),0)))/IF(Worksheet!M191>0,Worksheet!M191,Worksheet!L191),0),\"\")","v":""},"",null,null,null,{"$f":"IF(ISBLANK(Worksheet!M191)=FALSE,Worksheet!M191,\"\")","v":0},{"$f":"IF(Worksheet!A191=\"-\",\"\",IF(Worksheet!A191=\"\",S167,Worksheet!A191))","v":""},{"$f":"IF(S168=\"\",\"\",IF(AND(Worksheet!G191=\"\",Worksheet!H191=\"\")=TRUE,T167,IF(Worksheet!G191=\"\",\"\",Worksheet!G191)))","v":""},{"$f":"IF(S168=\"\",\"\",IF(AND(Worksheet!G191=\"\",Worksheet!H191=\"\")=TRUE,U167,IF(Worksheet!H191=\"\",\"\",Worksheet!H191)))","v":""},{"$f":"IF(Worksheet!N191=\"\",\"\",Worksheet!N191)","v":""},{"$f":"IF(Worksheet!O191=\"\",\"\",Worksheet!O191)","v":""},{"$f":"IF(Worksheet!F191=0,\"\",Worksheet!F191)","v":""},{"$f":"IF(Worksheet!P191=0,\"\",Worksheet!P191)","v":""},{"$f":"IF(Worksheet!$A$11=TRUE,\"Y\",\"N\")","v":"N"},{"$f":"IF(Worksheet!$A$12=TRUE,\"Y\",\"N\")","v":"N"},{"$f":"IF(Worksheet!$B$11=TRUE,\"Y\",\"N\")","v":"N"},{"$f":"IF(Worksheet!$B$12=TRUE,\"Y\",\"N\")","v":"N"},{"$f":"IF(Worksheet!$C$11=TRUE,\"Y\",\"N\")","v":"N"},{"$f":"IF(Worksheet!$C$12=TRUE,\"Y\",\"N\")","v":"N"},""]
[{"$f":"IF(ISERROR(VLOOKUP(Worksheet!N192,MeasureLookup,2,FALSE))=FALSE,VLOOKUP(Worksheet!N192,MeasureLookup,2,FALSE),\"\")","v":""},{"$f":"Worksheet!Q192","v":0},{"$f":"Worksheet!R192","v":0},{"$f":"IF(ISERROR(Worksheet!P192)=FALSE,Worksheet!P192,\"\")","v":0},"Watts",null,null,{"$f":"IF(Worksheet!AP192<>\"\",IF(Worksheet!AP192>0,Worksheet!AP192/IF(Worksheet!M192>0,Worksheet!M192,Worksheet!L192),\"\"),\"\")","v":""},{"$f":"IF(ISBLANK(Worksheet!L192)=FALSE,Worksheet!L192,\"\")","v":0},{"$f":"IF(Worksheet!L192<>0, IFERROR(VLOOKUP(Worksheet!$C$16,SavingsSupportTable,3,FALSE)*Worksheet!AQ192*IFERROR(1+VLOOKUP(Worksheet!$C$16,SavingsSupportTable,MATCH(Worksheet!$G$17,HVACe_Options,0)+4,FALSE),1)/IF(Worksheet!M192>0,Worksheet!M192,Worksheet!L192),\"\"),\"\")","v":""},{"$f":"IF(Worksheet!L192<>0, IFERROR(VLOOKUP(Worksheet!$C$16,SavingsSupportTable,2,FALSE)*Worksheet!AQ192*IF(IFERROR(MATCH(Worksheet!$G$17,HVACe_Options,0),0)>0,1+VLOOKUP(Worksheet!$C$16,SavingsSupportTable,4,FALSE),1)/IF(Worksheet!M192>0,Worksheet!M192,Worksheet!L192),\"\"),\"\")","v":""},"",{"$f":"IF(Worksheet!L192<>0,IFERROR(VLOOKUP(Worksheet!$C$16,SavingsSupportTable,3,FALSE)*Worksheet!AQ192*IF(IFERROR(SEARCH(\"Gas\",Worksheet!$G$17),0)>0,VLOOKUP(\"Gas\",HVACg_Lookup,MATCH(Worksheet!$G$16,BuildingSize,0)+1,FALSE),IF(IFERROR(SEARCH(\"Oil\",Worksheet!$G$17),0)>0,VLOOKUP(\"Oil\",HVACg_Lookup,MATCH(Worksheet!$G$16,BuildingSize,0)+1,FALSE),IF(IFERROR(SEARCH(\"Propane\",Worksheet!$G$17),0)>0,VLOOKUP(\"Propane\",HVACg_Lookup,MATCH(Worksheet!$G$16,BuildingSize,0)+1,FALSE),0)))/IF(Worksheet!M192>0,Worksheet!M192,Worksheet!L192),0),\"\")","v":""},"",null,null,null,{"$f":"IF(ISBLANK(Worksheet!M192)=FALSE,Worksheet!M192,\"\")","v":0},{"$f":"IF(Worksheet!A192=\"-\",\"\",IF(Worksheet!A192=\"\",S168,Worksheet!A192))","v":""},{"$f":"IF(S169=\"\",\"\",IF(AND(Worksheet!G192=\"\",Worksheet!H192=\"\")=TRUE,T168,IF(Worksheet!G192=\"\",\"\",Worksheet!G192)))","v":""},{"$f":"IF(S169=\"\",\"\",IF(AND(Worksheet!G192=\"\",Worksheet!H192=\"\")=TRUE,U168,IF(Worksheet!H192=\"\",\"\",Worksheet!H192)))","v":""},{"$f":"IF(Worksheet!N192=\"\",\"\",Worksheet!N192)","v":""},{"$f":"IF(Worksheet!O192=\"\",\"\",Worksheet!O192)","v":""},{"$f":"IF(Worksheet!F192=0,\"\",Worksheet!F192)","v":""},{"$f":"IF(Worksheet!P192=0,\"\",Worksheet!P192)","v":""},{"$f":"IF(Worksheet!$A$11=TRUE,\"Y\",\"N\")","v":"N"},{"$f":"IF(Worksheet!$A$12=TRUE,\"Y\",\"N\")","v":"N"},{"$f":"IF(Worksheet!$B$11=TRUE,\"Y\",\"N\")","v":"N"},{"$f":"IF(Worksheet!$B$12=TRUE,\"Y\",\"N\")","v":"N"},{"$f":"IF(Worksheet!$C$11=TRUE,\"Y\",\"N\")","v":"N"},{"$f":"IF(Worksheet!$C$12=TRUE,\"Y\",\"N\")","v":"N"},""]
[{"$f":"IF(ISERROR(VLOOKUP(Worksheet!N193,MeasureLookup,2,FALSE))=FALSE,VLOOKUP(Worksheet!N193,MeasureLookup,2,FALSE),\"\")","v":""},{"$f":"Worksheet!Q193","v":0},{"$f":"Worksheet!R193","v":0},{"$f":"IF(ISERROR(Worksheet!P193)=FALSE,Worksheet!P193,\"\")","v":0},"Watts",null,null,{"$f":"IF(Worksheet!AP193<>\"\",IF(Worksheet!AP193>0,Worksheet!AP193/IF(Worksheet!M193>0,Worksheet!M193,Worksheet!L193),\"\"),\"\")","v":""},{"$f":"IF(ISBLANK(Worksheet!L193)=FALSE,Worksheet!L193,\"\")","v":0},{"$f":"IF(Worksheet!L193<>0, IFERROR(VLOOKUP(Worksheet!$C$16,SavingsSupportTable,3,FALSE)*Worksheet!AQ193*IFERROR(1+VLOOKUP(Worksheet!$C$16,SavingsSupportTable,MATCH(Worksheet!$G$17,HVACe_Options,0)+4,FALSE),1)/IF(Worksheet!M193>0,Worksheet!M193,Worksheet!L193),\"\"),\"\")","v":""},{"$f":"IF(Worksheet!L193<>0, IFERROR(VLOOKUP(Worksheet!$C$16,SavingsSupportTable,2,FALSE)*Worksheet!AQ193*IF(IFERROR(MATCH(Worksheet!$G$17,HVACe_Options,0),0)>0,1+VLOOKUP(Worksheet!$C$16,SavingsSupportTable,4,FALSE),1)/IF(Worksheet!M193>0,Worksheet!M193,Worksheet!L193),\"\"),\"\")","v":""},"",{"$f":"IF(Worksheet!L193<>0,IFERROR(VLOOKUP(Worksheet!$C$16,SavingsSupportTable,3,FALSE)*Worksheet!AQ193*IF(IFERROR(SEARCH(\"Gas\",Worksheet!$G$17),0)>0,VLOOKUP(\"Gas\",HVACg_Lookup,MATCH(Worksheet!$G$16,BuildingSize,0)+1,FALSE),IF(IFERROR(SEARCH(\"Oil\",Worksheet!$G$17),0)>0,VLOOKUP(\"Oil\",HVACg_Lookup,MATCH(Worksheet!$G$16,BuildingSize,0)+1,FALSE),IF(IFERROR(SEARCH(\"Propane\",Worksheet!$G$17),0)>0,VLOOKUP(\"Propane\",HVACg_Lookup,MATCH(Worksheet!$G$16,BuildingSize,0)+1,FALSE),0)))/IF(Worksheet!M193>0,Worksheet!M193,Worksheet!L193),0),\"\")","v":""},"",null,null,null,{"$f":"IF(ISBLANK(Worksheet!M193)=FALSE,Worksheet!M193,\"\")","v":0},{"$f":"IF(Worksheet!A193=\"-\",\"\",IF(Worksheet!A193=\"\",S169,Worksheet!A193))","v":""},{"$f":"IF(S170=\"\",\"\",IF(AND(Worksheet!G193=\"\",Worksheet!H193=\"\")=TRUE,T169,IF(Worksheet!G193=\"\",\"\",Worksheet!G193)))","v":""},{"$f":"IF(S170=\"\",\"\",IF(AND(Worksheet!G193=\"\",Worksheet!H193=\"\")=TRUE,U169,IF(Worksheet!H193=\"\",\"\",Worksheet!H193)))","v":""},{"$f":"IF(Worksheet!N193=\"\",\"\",Worksheet!N193)","v":""},{"$f":"IF(Worksheet!O193=\"\",\"\",Worksheet!O193)","v":""},{"$f":"IF(Worksheet!F193=0,\"\",Worksheet!F193)","v":""},{"$f":"IF(Worksheet!P193=0,\"\",Worksheet!P193)","v":""},{"$f":"IF(Worksheet!$A$11=TRUE,\"Y\",\"N\")","v":"N"},{"$f":"IF(Worksheet!$A$12=TRUE,\"Y\",\"N\")","v":"N"},{"$f":"IF(Worksheet!$B$11=TRUE,\"Y\",\"N\")","v":"N"},{"$f":"IF(Worksheet!$B$12=TRUE,\"Y\",\"N\")","v":"N"},{"$f":"IF(Worksheet!$C$11=TRUE,\"Y\",\"N\")","v":"N"},{"$f":"IF(Worksheet!$C$12=TRUE,\"Y\",\"N\")","v":"N"},""]
[{"$f":"IF(ISERROR(VLOOKUP(Worksheet!N194,MeasureLookup,2,FALSE))=FALSE,VLOOKUP(Worksheet!N194,MeasureLookup,2,FALSE),\"\")","v":""},{"$f":"Worksheet!Q194","v":0},{"$f":"Worksheet!R194","v":0},{"$f":"IF(ISERROR(Worksheet!P194)=FALSE,Worksheet!P194,\"\")","v":0},"Watts",null,null,{"$f":"IF(Worksheet!AP194<>\"\",IF(Worksheet!AP194>0,Worksheet!AP194/IF(Worksheet!M194>0,Worksheet!M194,Worksheet!L194),\"\"),\"\")","v":""},{"$f":"IF(ISBLANK(Worksheet!L194)=FALSE,Worksheet!L194,\"\")","v":0},{"$f":"IF(Worksheet!L194<>0, IFERROR(VLOOKUP(Worksheet!$C$16,SavingsSupportTable,3,FALSE)*Worksheet!AQ194*IFERROR(1+VLOOKUP(Worksheet!$C$16,SavingsSupportTable,MATCH(Worksheet!$G$17,HVACe_Options,0)+4,FALSE),1)/IF(Worksheet!M194>0,Worksheet!M194,Worksheet!L194),\"\"),\"\")","v":""},{"$f":"IF(Worksheet!L194<>0, IFERROR(VLOOKUP(Worksheet!$C$16,SavingsSupportTable,2,FALSE)*Worksheet!AQ194*IF(IFERROR(MATCH(Worksheet!$G$17,HVACe_Options,0),0)>0,1+VLOOKUP(Worksheet!$C$16,SavingsSupportTable,4,FALSE),1)/IF(Worksheet!M194>0,Worksheet!M194,Worksheet!L194),\"\"),\"\")","v":""},"",{"$f":"IF(Worksheet!L194<>0,IFERROR(VLOOKUP(Worksheet!$C$16,SavingsSupportTable,3,FALSE)*Worksheet!AQ194*IF(IFERROR(SEARCH(\"Gas\",Worksheet!$G$17),0)>0,VLOOKUP(\"Gas\",HVACg_Lookup,MATCH(Worksheet!$G$16,BuildingSize,0)+1,FALSE),IF(IFERROR(SEARCH(\"Oil\",Worksheet!$G$17),0)>0,VLOOKUP(\"Oil\",HVACg_Lookup,MATCH(Worksheet!$G$16,BuildingSize,0)+1,FALSE),IF(IFERROR(SEARCH(\"Propane\",Worksheet!$G$17),0)>0,VLOOKUP(\"Propane\",HVACg_Lookup,MATCH(Worksheet!$G$16,BuildingSize,0)+1,FALSE),0)))/IF(Worksheet!M194>0,Worksheet!M194,Worksheet!L194),0),\"\")","v":""},"",null,null,null,{"$f":"IF(ISBLANK(Worksheet!M194)=FALSE,Worksheet!M194,\"\")","v":0},{"$f":"IF(Worksheet!A194=\"-\",\"\",IF(Worksheet!A194=\"\",S170,Worksheet!A194))","v":""},{"$f":"IF(S171=\"\",\"\",IF(AND(Worksheet!G194=\"\",Worksheet!H194=\"\")=TRUE,T170,IF(Worksheet!G194=\"\",\"\",Worksheet!G194)))","v":""},{"$f":"IF(S171=\"\",\"\",IF(AND(Worksheet!G194=\"\",Worksheet!H194=\"\")=TRUE,U170,IF(Worksheet!H194=\"\",\"\",Worksheet!H194)))","v":""},{"$f":"IF(Worksheet!N194=\"\",\"\",Worksheet!N194)","v":""},{"$f":"IF(Worksheet!O194=\"\",\"\",Worksheet!O194)","v":""},{"$f":"IF(Worksheet!F194=0,\"\",Worksheet!F194)","v":""},{"$f":"IF(Worksheet!P194=0,\"\",Worksheet!P194)","v":""},{"$f":"IF(Worksheet!$A$11=TRUE,\"Y\",\"N\")","v":"N"},{"$f":"IF(Worksheet!$A$12=TRUE,\"Y\",\"N\")","v":"N"},{"$f":"IF(Worksheet!$B$11=TRUE,\"Y\",\"N\")","v":"N"},{"$f":"IF(Worksheet!$B$12=TRUE,\"Y\",\"N\")","v":"N"},{"$f":"IF(Worksheet!$C$11=TRUE,\"Y\",\"N\")","v":"N"},{"$f":"IF(Worksheet!$C$12=TRUE,\"Y\",\"N\")","v":"N"},""]
[{"$f":"IF(ISERROR(VLOOKUP(Worksheet!N195,MeasureLookup,2,FALSE))=FALSE,VLOOKUP(Worksheet!N195,MeasureLookup,2,FALSE),\"\")","v":""},{"$f":"Worksheet!Q195","v":0},{"$f":"Worksheet!R195","v":0},{"$f":"IF(ISERROR(Worksheet!P195)=FALSE,Worksheet!P195,\"\")","v":0},"Watts",null,null,{"$f":"IF(Worksheet!AP195<>\"\",IF(Worksheet!AP195>0,Worksheet!AP195/IF(Worksheet!M195>0,Worksheet!M195,Worksheet!L195),\"\"),\"\")","v":""},{"$f":"IF(ISBLANK(Worksheet!L195)=FALSE,Worksheet!L195,\"\")","v":0},{"$f":"IF(Worksheet!L195<>0, IFERROR(VLOOKUP(Worksheet!$C$16,SavingsSupportTable,3,FALSE)*Worksheet!AQ195*IFERROR(1+VLOOKUP(Worksheet!$C$16,SavingsSupportTable,MATCH(Worksheet!$G$17,HVACe_Options,0)+4,FALSE),1)/IF(Worksheet!M195>0,Worksheet!M195,Worksheet!L195),\"\"),\"\")","v":""},{"$f":"IF(Worksheet!L195<>0, IFERROR(VLOOKUP(Worksheet!$C$16,SavingsSupportTable,2,FALSE)*Worksheet!AQ195*IF(IFERROR(MATCH(Worksheet!$G$17,HVACe_Options,0),0)>0,1+VLOOKUP(Worksheet!$C$16,SavingsSupportTable,4,FALSE),1)/IF(Worksheet!M195>0,Worksheet!M195,Worksheet!L195),\"\"),\"\")","v":""},"",{"$f":"IF(Worksheet!L195<>0,IFERROR(VLOOKUP(Worksheet!$C$16,SavingsSupportTable,3,FALSE)*Worksheet!AQ195*IF(IFERROR(SEARCH(\"Gas\",Worksheet!$G$17),0)>0,VLOOKUP(\"Gas\",HVACg_Lookup,MATCH(Worksheet!$G$16,BuildingSize,0)+1,FALSE),IF(IFERROR(SEARCH(\"Oil\",Worksheet!$G$17),0)>0,VLOOKUP(\"Oil\",HVACg_Lookup,MATCH(Worksheet!$G$16,BuildingSize,0)+1,FALSE),IF(IFERROR(SEARCH(\"Propane\",Worksheet!$G$17),0)>0,VLOOKUP(\"Propane\",HVACg_Lookup,MATCH(Worksheet!$G$16,BuildingSize,0)+1,FALSE),0)))/IF(Worksheet!M195>0,Worksheet!M195,Worksheet!L195),0),\"\")","v":""},"",null,null,null,{"$f":"IF(ISBLANK(Worksheet!M195)=FALSE,Worksheet!M195,\"\")","v":0},{"$f":"IF(Worksheet!A195=\"-\",\"\",IF(Worksheet!A195=\"\",S171,Worksheet!A195))","v":""},{"$f":"IF(S172=\"\",\"\",IF(AND(Worksheet!G195=\"\",Worksheet!H195=\"\")=TRUE,T171,IF(Worksheet!G195=\"\",\"\",Worksheet!G195)))","v":""},{"$f":"IF(S172=\"\",\"\",IF(AND(Worksheet!G195=\"\",Worksheet!H195=\"\")=TRUE,U171,IF(Worksheet!H195=\"\",\"\",Worksheet!H195)))","v":""},{"$f":"IF(Worksheet!N195=\"\",\"\",Worksheet!N195)","v":""},{"$f":"IF(Worksheet!O195=\"\",\"\",Worksheet!O195)","v":""},{"$f":"IF(Worksheet!F195=0,\"\",Worksheet!F195)","v":""},{"$f":"IF(Worksheet!P195=0,\"\",Worksheet!P195)","v":""},{"$f":"IF(Worksheet!$A$11=TRUE,\"Y\",\"N\")","v":"N"},{"$f":"IF(Worksheet!$A$12=TRUE,\"Y\",\"N\")","v":"N"},{"$f":"IF(Worksheet!$B$11=TRUE,\"Y\",\"N\")","v":"N"},{"$f":"IF(Worksheet!$B$12=TRUE,\"Y\",\"N\")","v":"N"},{"$f":"IF(Worksheet!$C$11=TRUE,\"Y\",\"N\")","v":"N"},{"$f":"IF(Worksheet!$C$12=TRUE,\"Y\",\"N\")","v":"N"},""]
[{"$f":"IF(ISERROR(VLOOKUP(Worksheet!N196,MeasureLookup,2,FALSE))=FALSE,VLOOKUP(Worksheet!N196,MeasureLookup,2,FALSE),\"\")","v":""},{"$f":"Worksheet!Q196","v":0},{"$f":"Worksheet!R196","v":0},{"$f":"IF(ISERROR(Worksheet!P196)=FALSE,Worksheet!P196,\"\")","v":0},"Watts",null,null,{"$f":"IF(Worksheet!AP196<>\"\",IF(Worksheet!AP196>0,Worksheet!AP196/IF(Worksheet!M196>0,Worksheet!M196,Worksheet!L196),\"\"),\"\")","v":""},{"$f":"IF(ISBLANK(Worksheet!L196)=FALSE,Worksheet!L196,\"\")","v":0},{"$f":"IF(Worksheet!L196<>0, IFERROR(VLOOKUP(Worksheet!$C$16,SavingsSupportTable,3,FALSE)*Worksheet!AQ196*IFERROR(1+VLOOKUP(Worksheet!$C$16,SavingsSupportTable,MATCH(Worksheet!$G$17,HVACe_Options,0)+4,FALSE),1)/IF(Worksheet!M196>0,Worksheet!M196,Worksheet!L196),\"\"),\"\")","v":""},{"$f":"IF(Worksheet!L196<>0, IFERROR(VLOOKUP(Worksheet!$C$16,SavingsSupportTable,2,FALSE)*Worksheet!AQ196*IF(IFERROR(MATCH(Worksheet!$G$17,HVACe_Options,0),0)>0,1+VLOOKUP(Worksheet!$C$16,SavingsSupportTable,4,FALSE),1)/IF(Worksheet!M196>0,Worksheet!M196,Worksheet!L196),\"\"),\"\")","v":""},"",{"$f":"IF(Worksheet!L196<>0,IFERROR(VLOOKUP(Worksheet!$C$16,SavingsSupportTable,3,FALSE)*Worksheet!AQ196*IF(IFERROR(SEARCH(\"Gas\",Worksheet!$G$17),0)>0,VLOOKUP(\"Gas\",HVACg_Lookup,MATCH(Worksheet!$G$16,BuildingSize,0)+1,FALSE),IF(IFERROR(SEARCH(\"Oil\",Worksheet!$G$17),0)>0,VLOOKUP(\"Oil\",HVACg_Lookup,MATCH(Worksheet!$G$16,BuildingSize,0)+1,FALSE),IF(IFERROR(SEARCH(\"Propane\",Worksheet!$G$17),0)>0,VLOOKUP(\"Propane\",HVACg_Lookup,MATCH(Worksheet!$G$16,BuildingSize,0)+1,FALSE),0)))/IF(Worksheet!M196>0,Worksheet!M196,Worksheet!L196),0),\"\")","v":""},"",null,null,null,{"$f":"IF(ISBLANK(Worksheet!M196)=FALSE,Worksheet!M196,\"\")","v":0},{"$f":"IF(Worksheet!A196=\"-\",\"\",IF(Worksheet!A196=\"\",S172,Worksheet!A196))","v":""},{"$f":"IF(S173=\"\",\"\",IF(AND(Worksheet!G196=\"\",Worksheet!H196=\"\")=TRUE,T172,IF(Worksheet!G196=\"\",\"\",Worksheet!G196)))","v":""},{"$f":"IF(S173=\"\",\"\",IF(AND(Worksheet!G196=\"\",Worksheet!H196=\"\")=TRUE,U172,IF(Worksheet!H196=\"\",\"\",Worksheet!H196)))","v":""},{"$f":"IF(Worksheet!N196=\"\",\"\",Worksheet!N196)","v":""},{"$f":"IF(Worksheet!O196=\"\",\"\",Worksheet!O196)","v":""},{"$f":"IF(Worksheet!F196=0,\"\",Worksheet!F196)","v":""},{"$f":"IF(Worksheet!P196=0,\"\",Worksheet!P196)","v":""},{"$f":"IF(Worksheet!$A$11=TRUE,\"Y\",\"N\")","v":"N"},{"$f":"IF(Worksheet!$A$12=TRUE,\"Y\",\"N\")","v":"N"},{"$f":"IF(Worksheet!$B$11=TRUE,\"Y\",\"N\")","v":"N"},{"$f":"IF(Worksheet!$B$12=TRUE,\"Y\",\"N\")","v":"N"},{"$f":"IF(Worksheet!$C$11=TRUE,\"Y\",\"N\")","v":"N"},{"$f":"IF(Worksheet!$C$12=TRUE,\"Y\",\"N\")","v":"N"},""]
[{"$f":"IF(ISERROR(VLOOKUP(Worksheet!N197,MeasureLookup,2,FALSE))=FALSE,VLOOKUP(Worksheet!N197,MeasureLookup,2,FALSE),\"\")","v":""},{"$f":"Worksheet!Q197","v":0},{"$f":"Worksheet!R197","v":0},{"$f":"IF(ISERROR(Worksheet!P197)=FALSE,Worksheet!P197,\"\")","v":0},"Watts",null,null,{"$f":"IF(Worksheet!AP197<>\"\",IF(Worksheet!AP197>0,Worksheet!AP197/IF(Worksheet!M197>0,Worksheet!M197,Worksheet!L197),\"\"),\"\")","v":""},{"$f":"IF(ISBLANK(Worksheet!L197)=FALSE,Worksheet!L197,\"\")","v":0},{"$f":"IF(Worksheet!L197<>0, IFERROR(VLOOKUP(Worksheet!$C$16,SavingsSupportTable,3,FALSE)*Worksheet!AQ197*IFERROR(1+VLOOKUP(Worksheet!$C$16,SavingsSupportTable,MATCH(Worksheet!$G$17,HVACe_Options,0)+4,FALSE),1)/IF(Worksheet!M197>0,Worksheet!M197,Worksheet!L197),\"\"),\"\")","v":""},{"$f":"IF(Worksheet!L197<>0, IFERROR(VLOOKUP(Worksheet!$C$16,SavingsSupportTable,2,FALSE)*Worksheet!AQ197*IF(IFERROR(MATCH(Worksheet!$G$17,HVACe_Options,0),0)>0,1+VLOOKUP(Worksheet!$C$16,SavingsSupportTable,4,FALSE),1)/IF(Worksheet!M197>0,Worksheet!M197,Worksheet!L197),\"\"),\"\")","v":""},"",{"$f":"IF(Worksheet!L197<>0,IFERROR(VLOOKUP(Worksheet!$C$16,SavingsSupportTable,3,FALSE)*Worksheet!AQ197*IF(IFERROR(SEARCH(\"Gas\",Worksheet!$G$17),0)>0,VLOOKUP(\"Gas\",HVACg_Lookup,MATCH(Worksheet!$G$16,BuildingSize,0)+1,FALSE),IF(IFERROR(SEARCH(\"Oil\",Worksheet!$G$17),0)>0,VLOOKUP(\"Oil\",HVACg_Lookup,MATCH(Worksheet!$G$16,BuildingSize,0)+1,FALSE),IF(IFERROR(SEARCH(\"Propane\",Worksheet!$G$17),0)>0,VLOOKUP(\"Propane\",HVACg_Lookup,MATCH(Worksheet!$G$16,BuildingSize,0)+1,FALSE),0)))/IF(Worksheet!M197>0,Worksheet!M197,Worksheet!L197),0),\"\")","v":""},"",null,null,null,{"$f":"IF(ISBLANK(Worksheet!M197)=FALSE,Worksheet!M197,\"\")","v":0},{"$f":"IF(Worksheet!A197=\"-\",\"\",IF(Worksheet!A197=\"\",S173,Worksheet!A197))","v":""},{"$f":"IF(S174=\"\",\"\",IF(AND(Worksheet!G197=\"\",Worksheet!H197=\"\")=TRUE,T173,IF(Worksheet!G197=\"\",\"\",Worksheet!G197)))","v":""},{"$f":"IF(S174=\"\",\"\",IF(AND(Worksheet!G197=\"\",Worksheet!H197=\"\")=TRUE,U173,IF(Worksheet!H197=\"\",\"\",Worksheet!H197)))","v":""},{"$f":"IF(Worksheet!N197=\"\",\"\",Worksheet!N197)","v":""},{"$f":"IF(Worksheet!O197=\"\",\"\",Worksheet!O197)","v":""},{"$f":"IF(Worksheet!F197=0,\"\",Worksheet!F197)","v":""},{"$f":"IF(Worksheet!P197=0,\"\",Worksheet!P197)","v":""},{"$f":"IF(Worksheet!$A$11=TRUE,\"Y\",\"N\")","v":"N"},{"$f":"IF(Worksheet!$A$12=TRUE,\"Y\",\"N\")","v":"N"},{"$f":"IF(Worksheet!$B$11=TRUE,\"Y\",\"N\")","v":"N"},{"$f":"IF(Worksheet!$B$12=TRUE,\"Y\",\"N\")","v":"N"},{"$f":"IF(Worksheet!$C$11=TRUE,\"Y\",\"N\")","v":"N"},{"$f":"IF(Worksheet!$C$12=TRUE,\"Y\",\"N\")","v":"N"},""]
[{"$f":"IF(ISERROR(VLOOKUP(Worksheet!N198,MeasureLookup,2,FALSE))=FALSE,VLOOKUP(Worksheet!N198,MeasureLookup,2,FALSE),\"\")","v":""},{"$f":"Worksheet!Q198","v":0},{"$f":"Worksheet!R198","v":0},{"$f":"IF(ISERROR(Worksheet!P198)=FALSE,Worksheet!P198,\"\")","v":0},"Watts",null,null,{"$f":"IF(Worksheet!AP198<>\"\",IF(Worksheet!AP198>0,Worksheet!AP198/IF(Worksheet!M198>0,Worksheet!M198,Worksheet!L198),\"\"),\"\")","v":""},{"$f":"IF(ISBLANK(Worksheet!L198)=FALSE,Worksheet!L198,\"\")","v":0},{"$f":"IF(Worksheet!L198<>0, IFERROR(VLOOKUP(Worksheet!$C$16,SavingsSupportTable,3,FALSE)*Worksheet!AQ198*IFERROR(1+VLOOKUP(Worksheet!$C$16,SavingsSupportTable,MATCH(Worksheet!$G$17,HVACe_Options,0)+4,FALSE),1)/IF(Worksheet!M198>0,Worksheet!M198,Worksheet!L198),\"\"),\"\")","v":""},{"$f":"IF(Worksheet!L198<>0, IFERROR(VLOOKUP(Worksheet!$C$16,SavingsSupportTable,2,FALSE)*Worksheet!AQ198*IF(IFERROR(MATCH(Worksheet!$G$17,HVACe_Options,0),0)>0,1+VLOOKUP(Worksheet!$C$16,SavingsSupportTable,4,FALSE),1)/IF(Worksheet!M198>0,Worksheet!M198,Worksheet!L198),\"\"),\"\")","v":""},"",{"$f":"IF(Worksheet!L198<>0,IFERROR(VLOOKUP(Worksheet!$C$16,SavingsSupportTable,3,FALSE)*Worksheet!AQ198*IF(IFERROR(SEARCH(\"Gas\",Worksheet!$G$17),0)>0,VLOOKUP(\"Gas\",HVACg_Lookup,MATCH(Worksheet!$G$16,BuildingSize,0)+1,FALSE),IF(IFERROR(SEARCH(\"Oil\",Worksheet!$G$17),0)>0,VLOOKUP(\"Oil\",HVACg_Lookup,MATCH(Worksheet!$G$16,BuildingSize,0)+1,FALSE),IF(IFERROR(SEARCH(\"Propane\",Worksheet!$G$17),0)>0,VLOOKUP(\"Propane\",HVACg_Lookup,MATCH(Worksheet!$G$16,BuildingSize,0)+1,FALSE),0)))/IF(Worksheet!M198>0,Worksheet!M198,Worksheet!L198),0),\"\")","v":""},"",null,null,null,{"$f":"IF(ISBLANK(Worksheet!M198)=FALSE,Worksheet!M198,\"\")","v":0},{"$f":"IF(Worksheet!A198=\"-\",\"\",IF(Worksheet!A198=\"\",S174,Worksheet!A198))","v":""},{"$f":"IF(S175=\"\",\"\",IF(AND(Worksheet!G198=\"\",Worksheet!H198=\"\")=TRUE,T174,IF(Worksheet!G198=\"\",\"\",Worksheet!G198)))","v":""},{"$f":"IF(S175=\"\",\"\",IF(AND(Worksheet!G198=\"\",Worksheet!H198=\"\")=TRUE,U174,IF(Worksheet!H198=\"\",\"\",Worksheet!H198)))","v":""},{"$f":"IF(Worksheet!N198=\"\",\"\",Worksheet!N198)","v":""},{"$f":"IF(Worksheet!O198=\"\",\"\",Worksheet!O198)","v":""},{"$f":"IF(Worksheet!F198=0,\"\",Worksheet!F198)","v":""},{"$f":"IF(Worksheet!P198=0,\"\",Worksheet!P198)","v":""},{"$f":"IF(Worksheet!$A$11=TRUE,\"Y\",\"N\")","v":"N"},{"$f":"IF(Worksheet!$A$12=TRUE,\"Y\",\"N\")","v":"N"},{"$f":"IF(Worksheet!$B$11=TRUE,\"Y\",\"N\")","v":"N"},{"$f":"IF(Worksheet!$B$12=TRUE,\"Y\",\"N\")","v":"N"},{"$f":"IF(Worksheet!$C$11=TRUE,\"Y\",\"N\")","v":"N"},{"$f":"IF(Worksheet!$C$12=TRUE,\"Y\",\"N\")","v":"N"},""]
[{"$f":"IF(ISERROR(VLOOKUP(Worksheet!N199,MeasureLookup,2,FALSE))=FALSE,VLOOKUP(Worksheet!N199,MeasureLookup,2,FALSE),\"\")","v":""},{"$f":"Worksheet!Q199","v":0},{"$f":"Worksheet!R199","v":0},{"$f":"IF(ISERROR(Worksheet!P199)=FALSE,Worksheet!P199,\"\")","v":0},"Watts",null,null,{"$f":"IF(Worksheet!AP199<>\"\",IF(Worksheet!AP199>0,Worksheet!AP199/IF(Worksheet!M199>0,Worksheet!M199,Worksheet!L199),\"\"),\"\")","v":""},{"$f":"IF(ISBLANK(Worksheet!L199)=FALSE,Worksheet!L199,\"\")","v":0},{"$f":"IF(Worksheet!L199<>0, IFERROR(VLOOKUP(Worksheet!$C$16,SavingsSupportTable,3,FALSE)*Worksheet!AQ199*IFERROR(1+VLOOKUP(Worksheet!$C$16,SavingsSupportTable,MATCH(Worksheet!$G$17,HVACe_Options,0)+4,FALSE),1)/IF(Worksheet!M199>0,Worksheet!M199,Worksheet!L199),\"\"),\"\")","v":""},{"$f":"IF(Worksheet!L199<>0, IFERROR(VLOOKUP(Worksheet!$C$16,SavingsSupportTable,2,FALSE)*Worksheet!AQ199*IF(IFERROR(MATCH(Worksheet!$G$17,HVACe_Options,0),0)>0,1+VLOOKUP(Worksheet!$C$16,SavingsSupportTable,4,FALSE),1)/IF(Worksheet!M199>0,Worksheet!M199,Worksheet!L199),\"\"),\"\")","v":""},"",{"$f":"IF(Worksheet!L199<>0,IFERROR(VLOOKUP(Worksheet!$C$16,SavingsSupportTable,3,FALSE)*Worksheet!AQ199*IF(IFERROR(SEARCH(\"Gas\",Worksheet!$G$17),0)>0,VLOOKUP(\"Gas\",HVACg_Lookup,MATCH(Worksheet!$G$16,BuildingSize,0)+1,FALSE),IF(IFERROR(SEARCH(\"Oil\",Worksheet!$G$17),0)>0,VLOOKUP(\"Oil\",HVACg_Lookup,MATCH(Worksheet!$G$16,BuildingSize,0)+1,FALSE),IF(IFERROR(SEARCH(\"Propane\",Worksheet!$G$17),0)>0,VLOOKUP(\"Propane\",HVACg_Lookup,MATCH(Worksheet!$G$16,BuildingSize,0)+1,FALSE),0)))/IF(Worksheet!M199>0,Worksheet!M199,Worksheet!L199),0),\"\")","v":""},"",null,null,null,{"$f":"IF(ISBLANK(Worksheet!M199)=FALSE,Worksheet!M199,\"\")","v":0},{"$f":"IF(Worksheet!A199=\"-\",\"\",IF(Worksheet!A199=\"\",S175,Worksheet!A199))","v":""},{"$f":"IF(S176=\"\",\"\",IF(AND(Worksheet!G199=\"\",Worksheet!H199=\"\")=TRUE,T175,IF(Worksheet!G199=\"\",\"\",Worksheet!G199)))","v":""},{"$f":"IF(S176=\"\",\"\",IF(AND(Worksheet!G199=\"\",Worksheet!H199=\"\")=TRUE,U175,IF(Worksheet!H199=\"\",\"\",Worksheet!H199)))","v":""},{"$f":"IF(Worksheet!N199=\"\",\"\",Worksheet!N199)","v":""},{"$f":"IF(Worksheet!O199=\"\",\"\",Worksheet!O199)","v":""},{"$f":"IF(Worksheet!F199=0,\"\",Worksheet!F199)","v":""},{"$f":"IF(Worksheet!P199=0,\"\",Worksheet!P199)","v":""},{"$f":"IF(Worksheet!$A$11=TRUE,\"Y\",\"N\")","v":"N"},{"$f":"IF(Worksheet!$A$12=TRUE,\"Y\",\"N\")","v":"N"},{"$f":"IF(Worksheet!$B$11=TRUE,\"Y\",\"N\")","v":"N"},{"$f":"IF(Worksheet!$B$12=TRUE,\"Y\",\"N\")","v":"N"},{"$f":"IF(Worksheet!$C$11=TRUE,\"Y\",\"N\")","v":"N"},{"$f":"IF(Worksheet!$C$12=TRUE,\"Y\",\"N\")","v":"N"},""]
[{"$f":"IF(ISERROR(VLOOKUP(Worksheet!N200,MeasureLookup,2,FALSE))=FALSE,VLOOKUP(Worksheet!N200,MeasureLookup,2,FALSE),\"\")","v":""},{"$f":"Worksheet!Q200","v":0},{"$f":"Worksheet!R200","v":0},{"$f":"IF(ISERROR(Worksheet!P200)=FALSE,Worksheet!P200,\"\")","v":0},"Watts",null,null,{"$f":"IF(Worksheet!AP200<>\"\",IF(Worksheet!AP200>0,Worksheet!AP200/IF(Worksheet!M200>0,Worksheet!M200,Worksheet!L200),\"\"),\"\")","v":""},{"$f":"IF(ISBLANK(Worksheet!L200)=FALSE,Worksheet!L200,\"\")","v":0},{"$f":"IF(Worksheet!L200<>0, IFERROR(VLOOKUP(Worksheet!$C$16,SavingsSupportTable,3,FALSE)*Worksheet!AQ200*IFERROR(1+VLOOKUP(Worksheet!$C$16,SavingsSupportTable,MATCH(Worksheet!$G$17,HVACe_Options,0)+4,FALSE),1)/IF(Worksheet!M200>0,Worksheet!M200,Worksheet!L200),\"\"),\"\")","v":""},{"$f":"IF(Worksheet!L200<>0, IFERROR(VLOOKUP(Worksheet!$C$16,SavingsSupportTable,2,FALSE)*Worksheet!AQ200*IF(IFERROR(MATCH(Worksheet!$G$17,HVACe_Options,0),0)>0,1+VLOOKUP(Worksheet!$C$16,SavingsSupportTable,4,FALSE),1)/IF(Worksheet!M200>0,Worksheet!M200,Worksheet!L200),\"\"),\"\")","v":""},"",{"$f":"IF(Worksheet!L200<>0,IFERROR(VLOOKUP(Worksheet!$C$16,SavingsSupportTable,3,FALSE)*Worksheet!AQ200*IF(IFERROR(SEARCH(\"Gas\",Worksheet!$G$17),0)>0,VLOOKUP(\"Gas\",HVACg_Lookup,MATCH(Worksheet!$G$16,BuildingSize,0)+1,FALSE),IF(IFERROR(SEARCH(\"Oil\",Worksheet!$G$17),0)>0,VLOOKUP(\"Oil\",HVACg_Lookup,MATCH(Worksheet!$G$16,BuildingSize,0)+1,FALSE),IF(IFERROR(SEARCH(\"Propane\",Worksheet!$G$17),0)>0,VLOOKUP(\"Propane\",HVACg_Lookup,MATCH(Worksheet!$G$16,BuildingSize,0)+1,FALSE),0)))/IF(Worksheet!M200>0,Worksheet!M200,Worksheet!L200),0),\"\")","v":""},"",null,null,null,{"$f":"IF(ISBLANK(Worksheet!M200)=FALSE,Worksheet!M200,\"\")","v":0},{"$f":"IF(Worksheet!A200=\"-\",\"\",IF(Worksheet!A200=\"\",S176,Worksheet!A200))","v":""},{"$f":"IF(S177=\"\",\"\",IF(AND(Worksheet!G200=\"\",Worksheet!H200=\"\")=TRUE,T176,IF(Worksheet!G200=\"\",\"\",Worksheet!G200)))","v":""},{"$f":"IF(S177=\"\",\"\",IF(AND(Worksheet!G200=\"\",Worksheet!H200=\"\")=TRUE,U176,IF(Worksheet!H200=\"\",\"\",Worksheet!H200)))","v":""},{"$f":"IF(Worksheet!N200=\"\",\"\",Worksheet!N200)","v":""},{"$f":"IF(Worksheet!O200=\"\",\"\",Worksheet!O200)","v":""},{"$f":"IF(Worksheet!F200=0,\"\",Worksheet!F200)","v":""},{"$f":"IF(Worksheet!P200=0,\"\",Worksheet!P200)","v":""},{"$f":"IF(Worksheet!$A$11=TRUE,\"Y\",\"N\")","v":"N"},{"$f":"IF(Worksheet!$A$12=TRUE,\"Y\",\"N\")","v":"N"},{"$f":"IF(Worksheet!$B$11=TRUE,\"Y\",\"N\")","v":"N"},{"$f":"IF(Worksheet!$B$12=TRUE,\"Y\",\"N\")","v":"N"},{"$f":"IF(Worksheet!$C$11=TRUE,\"Y\",\"N\")","v":"N"},{"$f":"IF(Worksheet!$C$12=TRUE,\"Y\",\"N\")","v":"N"},""]
[{"$f":"IF(ISERROR(VLOOKUP(Worksheet!N201,MeasureLookup,2,FALSE))=FALSE,VLOOKUP(Worksheet!N201,MeasureLookup,2,FALSE),\"\")","v":""},{"$f":"Worksheet!Q201","v":0},{"$f":"Worksheet!R201","v":0},{"$f":"IF(ISERROR(Worksheet!P201)=FALSE,Worksheet!P201,\"\")","v":0},"Watts",null,null,{"$f":"IF(Worksheet!AP201<>\"\",IF(Worksheet!AP201>0,Worksheet!AP201/IF(Worksheet!M201>0,Worksheet!M201,Worksheet!L201),\"\"),\"\")","v":""},{"$f":"IF(ISBLANK(Worksheet!L201)=FALSE,Worksheet!L201,\"\")","v":0},{"$f":"IF(Worksheet!L201<>0, IFERROR(VLOOKUP(Worksheet!$C$16,SavingsSupportTable,3,FALSE)*Worksheet!AQ201*IFERROR(1+VLOOKUP(Worksheet!$C$16,SavingsSupportTable,MATCH(Worksheet!$G$17,HVACe_Options,0)+4,FALSE),1)/IF(Worksheet!M201>0,Worksheet!M201,Worksheet!L201),\"\"),\"\")","v":""},{"$f":"IF(Worksheet!L201<>0, IFERROR(VLOOKUP(Worksheet!$C$16,SavingsSupportTable,2,FALSE)*Worksheet!AQ201*IF(IFERROR(MATCH(Worksheet!$G$17,HVACe_Options,0),0)>0,1+VLOOKUP(Worksheet!$C$16,SavingsSupportTable,4,FALSE),1)/IF(Worksheet!M201>0,Worksheet!M201,Worksheet!L201),\"\"),\"\")","v":""},"",{"$f":"IF(Worksheet!L201<>0,IFERROR(VLOOKUP(Worksheet!$C$16,SavingsSupportTable,3,FALSE)*Worksheet!AQ201*IF(IFERROR(SEARCH(\"Gas\",Worksheet!$G$17),0)>0,VLOOKUP(\"Gas\",HVACg_Lookup,MATCH(Worksheet!$G$16,BuildingSize,0)+1,FALSE),IF(IFERROR(SEARCH(\"Oil\",Worksheet!$G$17),0)>0,VLOOKUP(\"Oil\",HVACg_Lookup,MATCH(Worksheet!$G$16,BuildingSize,0)+1,FALSE),IF(IFERROR(SEARCH(\"Propane\",Worksheet!$G$17),0)>0,VLOOKUP(\"Propane\",HVACg_Lookup,MATCH(Worksheet!$G$16,BuildingSize,0)+1,FALSE),0)))/IF(Worksheet!M201>0,Worksheet!M201,Worksheet!L201),0),\"\")","v":""},"",null,null,null,{"$f":"IF(ISBLANK(Worksheet!M201)=FALSE,Worksheet!M201,\"\")","v":0},{"$f":"IF(Worksheet!A201=\"-\",\"\",IF(Worksheet!A201=\"\",S177,Worksheet!A201))","v":""},{"$f":"IF(S178=\"\",\"\",IF(AND(Worksheet!G201=\"\",Worksheet!H201=\"\")=TRUE,T177,IF(Worksheet!G201=\"\",\"\",Worksheet!G201)))","v":""},{"$f":"IF(S178=\"\",\"\",IF(AND(Worksheet!G201=\"\",Worksheet!H201=\"\")=TRUE,U177,IF(Worksheet!H201=\"\",\"\",Worksheet!H201)))","v":""},{"$f":"IF(Worksheet!N201=\"\",\"\",Worksheet!N201)","v":""},{"$f":"IF(Worksheet!O201=\"\",\"\",Worksheet!O201)","v":""},{"$f":"IF(Worksheet!F201=0,\"\",Worksheet!F201)","v":""},{"$f":"IF(Worksheet!P201=0,\"\",Worksheet!P201)","v":""},{"$f":"IF(Worksheet!$A$11=TRUE,\"Y\",\"N\")","v":"N"},{"$f":"IF(Worksheet!$A$12=TRUE,\"Y\",\"N\")","v":"N"},{"$f":"IF(Worksheet!$B$11=TRUE,\"Y\",\"N\")","v":"N"},{"$f":"IF(Worksheet!$B$12=TRUE,\"Y\",\"N\")","v":"N"},{"$f":"IF(Worksheet!$C$11=TRUE,\"Y\",\"N\")","v":"N"},{"$f":"IF(Worksheet!$C$12=TRUE,\"Y\",\"N\")","v":"N"},""]
[{"$f":"IF(ISERROR(VLOOKUP(Worksheet!N202,MeasureLookup,2,FALSE))=FALSE,VLOOKUP(Worksheet!N202,MeasureLookup,2,FALSE),\"\")","v":""},{"$f":"Worksheet!Q202","v":0},{"$f":"Worksheet!R202","v":0},{"$f":"IF(ISERROR(Worksheet!P202)=FALSE,Worksheet!P202,\"\")","v":0},"Watts",null,null,{"$f":"IF(Worksheet!AP202<>\"\",IF(Worksheet!AP202>0,Worksheet!AP202/IF(Worksheet!M202>0,Worksheet!M202,Worksheet!L202),\"\"),\"\")","v":""},{"$f":"IF(ISBLANK(Worksheet!L202)=FALSE,Worksheet!L202,\"\")","v":0},{"$f":"IF(Worksheet!L202<>0, IFERROR(VLOOKUP(Worksheet!$C$16,SavingsSupportTable,3,FALSE)*Worksheet!AQ202*IFERROR(1+VLOOKUP(Worksheet!$C$16,SavingsSupportTable,MATCH(Worksheet!$G$17,HVACe_Options,0)+4,FALSE),1)/IF(Worksheet!M202>0,Worksheet!M202,Worksheet!L202),\"\"),\"\")","v":""},{"$f":"IF(Worksheet!L202<>0, IFERROR(VLOOKUP(Worksheet!$C$16,SavingsSupportTable,2,FALSE)*Worksheet!AQ202*IF(IFERROR(MATCH(Worksheet!$G$17,HVACe_Options,0),0)>0,1+VLOOKUP(Worksheet!$C$16,SavingsSupportTable,4,FALSE),1)/IF(Worksheet!M202>0,Worksheet!M202,Worksheet!L202),\"\"),\"\")","v":""},"",{"$f":"IF(Worksheet!L202<>0,IFERROR(VLOOKUP(Worksheet!$C$16,SavingsSupportTable,3,FALSE)*Worksheet!AQ202*IF(IFERROR(SEARCH(\"Gas\",Worksheet!$G$17),0)>0,VLOOKUP(\"Gas\",HVACg_Lookup,MATCH(Worksheet!$G$16,BuildingSize,0)+1,FALSE),IF(IFERROR(SEARCH(\"Oil\",Worksheet!$G$17),0)>0,VLOOKUP(\"Oil\",HVACg_Lookup,MATCH(Worksheet!$G$16,BuildingSize,0)+1,FALSE),IF(IFERROR(SEARCH(\"Propane\",Worksheet!$G$17),0)>0,VLOOKUP(\"Propane\",HVACg_Lookup,MATCH(Worksheet!$G$16,BuildingSize,0)+1,FALSE),0)))/IF(Worksheet!M202>0,Worksheet!M202,Worksheet!L202),0),\"\")","v":""},"",null,null,null,{"$f":"IF(ISBLANK(Worksheet!M202)=FALSE,Worksheet!M202,\"\")","v":0},{"$f":"IF(Worksheet!A202=\"-\",\"\",IF(Worksheet!A202=\"\",S178,Worksheet!A202))","v":""},{"$f":"IF(S179=\"\",\"\",IF(AND(Worksheet!G202=\"\",Worksheet!H202=\"\")=TRUE,T178,IF(Worksheet!G202=\"\",\"\",Worksheet!G202)))","v":""},{"$f":"IF(S179=\"\",\"\",IF(AND(Worksheet!G202=\"\",Worksheet!H202=\"\")=TRUE,U178,IF(Worksheet!H202=\"\",\"\",Worksheet!H202)))","v":""},{"$f":"IF(Worksheet!N202=\"\",\"\",Worksheet!N202)","v":""},{"$f":"IF(Worksheet!O202=\"\",\"\",Worksheet!O202)","v":""},{"$f":"IF(Worksheet!F202=0,\"\",Worksheet!F202)","v":""},{"$f":"IF(Worksheet!P202=0,\"\",Worksheet!P202)","v":""},{"$f":"IF(Worksheet!$A$11=TRUE,\"Y\",\"N\")","v":"N"},{"$f":"IF(Worksheet!$A$12=TRUE,\"Y\",\"N\")","v":"N"},{"$f":"IF(Worksheet!$B$11=TRUE,\"Y\",\"N\")","v":"N"},{"$f":"IF(Worksheet!$B$12=TRUE,\"Y\",\"N\")","v":"N"},{"$f":"IF(Worksheet!$C$11=TRUE,\"Y\",\"N\")","v":"N"},{"$f":"IF(Worksheet!$C$12=TRUE,\"Y\",\"N\")","v":"N"},""]
[{"$f":"IF(ISERROR(VLOOKUP(Worksheet!N203,MeasureLookup,2,FALSE))=FALSE,VLOOKUP(Worksheet!N203,MeasureLookup,2,FALSE),\"\")","v":""},{"$f":"Worksheet!Q203","v":0},{"$f":"Worksheet!R203","v":0},{"$f":"IF(ISERROR(Worksheet!P203)=FALSE,Worksheet!P203,\"\")","v":0},"Watts",null,null,{"$f":"IF(Worksheet!AP203<>\"\",IF(Worksheet!AP203>0,Worksheet!AP203/IF(Worksheet!M203>0,Worksheet!M203,Worksheet!L203),\"\"),\"\")","v":""},{"$f":"IF(ISBLANK(Worksheet!L203)=FALSE,Worksheet!L203,\"\")","v":0},{"$f":"IF(Worksheet!L203<>0, IFERROR(VLOOKUP(Worksheet!$C$16,SavingsSupportTable,3,FALSE)*Worksheet!AQ203*IFERROR(1+VLOOKUP(Worksheet!$C$16,SavingsSupportTable,MATCH(Worksheet!$G$17,HVACe_Options,0)+4,FALSE),1)/IF(Worksheet!M203>0,Worksheet!M203,Worksheet!L203),\"\"),\"\")","v":""},{"$f":"IF(Worksheet!L203<>0, IFERROR(VLOOKUP(Worksheet!$C$16,SavingsSupportTable,2,FALSE)*Worksheet!AQ203*IF(IFERROR(MATCH(Worksheet!$G$17,HVACe_Options,0),0)>0,1+VLOOKUP(Worksheet!$C$16,SavingsSupportTable,4,FALSE),1)/IF(Worksheet!M203>0,Worksheet!M203,Worksheet!L203),\"\"),\"\")","v":""},"",{"$f":"IF(Worksheet!L203<>0,IFERROR(VLOOKUP(Worksheet!$C$16,SavingsSupportTable,3,FALSE)*Worksheet!AQ203*IF(IFERROR(SEARCH(\"Gas\",Worksheet!$G$17),0)>0,VLOOKUP(\"Gas\",HVACg_Lookup,MATCH(Worksheet!$G$16,BuildingSize,0)+1,FALSE),IF(IFERROR(SEARCH(\"Oil\",Worksheet!$G$17),0)>0,VLOOKUP(\"Oil\",HVACg_Lookup,MATCH(Worksheet!$G$16,BuildingSize,0)+1,FALSE),IF(IFERROR(SEARCH(\"Propane\",Worksheet!$G$17),0)>0,VLOOKUP(\"Propane\",HVACg_Lookup,MATCH(Worksheet!$G$16,BuildingSize,0)+1,FALSE),0)))/IF(Worksheet!M203>0,Worksheet!M203,Worksheet!L203),0),\"\")","v":""},"",null,null,null,{"$f":"IF(ISBLANK(Worksheet!M203)=FALSE,Worksheet!M203,\"\")","v":0},{"$f":"IF(Worksheet!A203=\"-\",\"\",IF(Worksheet!A203=\"\",S179,Worksheet!A203))","v":""},{"$f":"IF(S180=\"\",\"\",IF(AND(Worksheet!G203=\"\",Worksheet!H203=\"\")=TRUE,T179,IF(Worksheet!G203=\"\",\"\",Worksheet!G203)))","v":""},{"$f":"IF(S180=\"\",\"\",IF(AND(Worksheet!G203=\"\",Worksheet!H203=\"\")=TRUE,U179,IF(Worksheet!H203=\"\",\"\",Worksheet!H203)))","v":""},{"$f":"IF(Worksheet!N203=\"\",\"\",Worksheet!N203)","v":""},{"$f":"IF(Worksheet!O203=\"\",\"\",Worksheet!O203)","v":""},{"$f":"IF(Worksheet!F203=0,\"\",Worksheet!F203)","v":""},{"$f":"IF(Worksheet!P203=0,\"\",Worksheet!P203)","v":""},{"$f":"IF(Worksheet!$A$11=TRUE,\"Y\",\"N\")","v":"N"},{"$f":"IF(Worksheet!$A$12=TRUE,\"Y\",\"N\")","v":"N"},{"$f":"IF(Worksheet!$B$11=TRUE,\"Y\",\"N\")","v":"N"},{"$f":"IF(Worksheet!$B$12=TRUE,\"Y\",\"N\")","v":"N"},{"$f":"IF(Worksheet!$C$11=TRUE,\"Y\",\"N\")","v":"N"},{"$f":"IF(Worksheet!$C$12=TRUE,\"Y\",\"N\")","v":"N"},""]
[{"$f":"IF(ISERROR(VLOOKUP(Worksheet!N204,MeasureLookup,2,FALSE))=FALSE,VLOOKUP(Worksheet!N204,MeasureLookup,2,FALSE),\"\")","v":""},{"$f":"Worksheet!Q204","v":0},{"$f":"Worksheet!R204","v":0},{"$f":"IF(ISERROR(Worksheet!P204)=FALSE,Worksheet!P204,\"\")","v":0},"Watts",null,null,{"$f":"IF(Worksheet!AP204<>\"\",IF(Worksheet!AP204>0,Worksheet!AP204/IF(Worksheet!M204>0,Worksheet!M204,Worksheet!L204),\"\"),\"\")","v":""},{"$f":"IF(ISBLANK(Worksheet!L204)=FALSE,Worksheet!L204,\"\")","v":0},{"$f":"IF(Worksheet!L204<>0, IFERROR(VLOOKUP(Worksheet!$C$16,SavingsSupportTable,3,FALSE)*Worksheet!AQ204*IFERROR(1+VLOOKUP(Worksheet!$C$16,SavingsSupportTable,MATCH(Worksheet!$G$17,HVACe_Options,0)+4,FALSE),1)/IF(Worksheet!M204>0,Worksheet!M204,Worksheet!L204),\"\"),\"\")","v":""},{"$f":"IF(Worksheet!L204<>0, IFERROR(VLOOKUP(Worksheet!$C$16,SavingsSupportTable,2,FALSE)*Worksheet!AQ204*IF(IFERROR(MATCH(Worksheet!$G$17,HVACe_Options,0),0)>0,1+VLOOKUP(Worksheet!$C$16,SavingsSupportTable,4,FALSE),1)/IF(Worksheet!M204>0,Worksheet!M204,Worksheet!L204),\"\"),\"\")","v":""},"",{"$f":"IF(Worksheet!L204<>0,IFERROR(VLOOKUP(Worksheet!$C$16,SavingsSupportTable,3,FALSE)*Worksheet!AQ204*IF(IFERROR(SEARCH(\"Gas\",Worksheet!$G$17),0)>0,VLOOKUP(\"Gas\",HVACg_Lookup,MATCH(Worksheet!$G$16,BuildingSize,0)+1,FALSE),IF(IFERROR(SEARCH(\"Oil\",Worksheet!$G$17),0)>0,VLOOKUP(\"Oil\",HVACg_Lookup,MATCH(Worksheet!$G$16,BuildingSize,0)+1,FALSE),IF(IFERROR(SEARCH(\"Propane\",Worksheet!$G$17),0)>0,VLOOKUP(\"Propane\",HVACg_Lookup,MATCH(Worksheet!$G$16,BuildingSize,0)+1,FALSE),0)))/IF(Worksheet!M204>0,Worksheet!M204,Worksheet!L204),0),\"\")","v":""},"",null,null,null,{"$f":"IF(ISBLANK(Worksheet!M204)=FALSE,Worksheet!M204,\"\")","v":0},{"$f":"IF(Worksheet!A204=\"-\",\"\",IF(Worksheet!A204=\"\",S180,Worksheet!A204))","v":""},{"$f":"IF(S181=\"\",\"\",IF(AND(Worksheet!G204=\"\",Worksheet!H204=\"\")=TRUE,T180,IF(Worksheet!G204=\"\",\"\",Worksheet!G204)))","v":""},{"$f":"IF(S181=\"\",\"\",IF(AND(Worksheet!G204=\"\",Worksheet!H204=\"\")=TRUE,U180,IF(Worksheet!H204=\"\",\"\",Worksheet!H204)))","v":""},{"$f":"IF(Worksheet!N204=\"\",\"\",Worksheet!N204)","v":""},{"$f":"IF(Worksheet!O204=\"\",\"\",Worksheet!O204)","v":""},{"$f":"IF(Worksheet!F204=0,\"\",Worksheet!F204)","v":""},{"$f":"IF(Worksheet!P204=0,\"\",Worksheet!P204)","v":""},{"$f":"IF(Worksheet!$A$11=TRUE,\"Y\",\"N\")","v":"N"},{"$f":"IF(Worksheet!$A$12=TRUE,\"Y\",\"N\")","v":"N"},{"$f":"IF(Worksheet!$B$11=TRUE,\"Y\",\"N\")","v":"N"},{"$f":"IF(Worksheet!$B$12=TRUE,\"Y\",\"N\")","v":"N"},{"$f":"IF(Worksheet!$C$11=TRUE,\"Y\",\"N\")","v":"N"},{"$f":"IF(Worksheet!$C$12=TRUE,\"Y\",\"N\")","v":"N"},""]
[{"$f":"IF(ISERROR(VLOOKUP(Worksheet!N205,MeasureLookup,2,FALSE))=FALSE,VLOOKUP(Worksheet!N205,MeasureLookup,2,FALSE),\"\")","v":""},{"$f":"Worksheet!Q205","v":0},{"$f":"Worksheet!R205","v":0},{"$f":"IF(ISERROR(Worksheet!P205)=FALSE,Worksheet!P205,\"\")","v":0},"Watts",null,null,{"$f":"IF(Worksheet!AP205<>\"\",IF(Worksheet!AP205>0,Worksheet!AP205/IF(Worksheet!M205>0,Worksheet!M205,Worksheet!L205),\"\"),\"\")","v":""},{"$f":"IF(ISBLANK(Worksheet!L205)=FALSE,Worksheet!L205,\"\")","v":0},{"$f":"IF(Worksheet!L205<>0, IFERROR(VLOOKUP(Worksheet!$C$16,SavingsSupportTable,3,FALSE)*Worksheet!AQ205*IFERROR(1+VLOOKUP(Worksheet!$C$16,SavingsSupportTable,MATCH(Worksheet!$G$17,HVACe_Options,0)+4,FALSE),1)/IF(Worksheet!M205>0,Worksheet!M205,Worksheet!L205),\"\"),\"\")","v":""},{"$f":"IF(Worksheet!L205<>0, IFERROR(VLOOKUP(Worksheet!$C$16,SavingsSupportTable,2,FALSE)*Worksheet!AQ205*IF(IFERROR(MATCH(Worksheet!$G$17,HVACe_Options,0),0)>0,1+VLOOKUP(Worksheet!$C$16,SavingsSupportTable,4,FALSE),1)/IF(Worksheet!M205>0,Worksheet!M205,Worksheet!L205),\"\"),\"\")","v":""},"",{"$f":"IF(Worksheet!L205<>0,IFERROR(VLOOKUP(Worksheet!$C$16,SavingsSupportTable,3,FALSE)*Worksheet!AQ205*IF(IFERROR(SEARCH(\"Gas\",Worksheet!$G$17),0)>0,VLOOKUP(\"Gas\",HVACg_Lookup,MATCH(Worksheet!$G$16,BuildingSize,0)+1,FALSE),IF(IFERROR(SEARCH(\"Oil\",Worksheet!$G$17),0)>0,VLOOKUP(\"Oil\",HVACg_Lookup,MATCH(Worksheet!$G$16,BuildingSize,0)+1,FALSE),IF(IFERROR(SEARCH(\"Propane\",Worksheet!$G$17),0)>0,VLOOKUP(\"Propane\",HVACg_Lookup,MATCH(Worksheet!$G$16,BuildingSize,0)+1,FALSE),0)))/IF(Worksheet!M205>0,Worksheet!M205,Worksheet!L205),0),\"\")","v":""},"",null,null,null,{"$f":"IF(ISBLANK(Worksheet!M205)=FALSE,Worksheet!M205,\"\")","v":0},{"$f":"IF(Worksheet!A205=\"-\",\"\",IF(Worksheet!A205=\"\",S181,Worksheet!A205))","v":""},{"$f":"IF(S182=\"\",\"\",IF(AND(Worksheet!G205=\"\",Worksheet!H205=\"\")=TRUE,T181,IF(Worksheet!G205=\"\",\"\",Worksheet!G205)))","v":""},{"$f":"IF(S182=\"\",\"\",IF(AND(Worksheet!G205=\"\",Worksheet!H205=\"\")=TRUE,U181,IF(Worksheet!H205=\"\",\"\",Worksheet!H205)))","v":""},{"$f":"IF(Worksheet!N205=\"\",\"\",Worksheet!N205)","v":""},{"$f":"IF(Worksheet!O205=\"\",\"\",Worksheet!O205)","v":""},{"$f":"IF(Worksheet!F205=0,\"\",Worksheet!F205)","v":""},{"$f":"IF(Worksheet!P205=0,\"\",Worksheet!P205)","v":""},{"$f":"IF(Worksheet!$A$11=TRUE,\"Y\",\"N\")","v":"N"},{"$f":"IF(Worksheet!$A$12=TRUE,\"Y\",\"N\")","v":"N"},{"$f":"IF(Worksheet!$B$11=TRUE,\"Y\",\"N\")","v":"N"},{"$f":"IF(Worksheet!$B$12=TRUE,\"Y\",\"N\")","v":"N"},{"$f":"IF(Worksheet!$C$11=TRUE,\"Y\",\"N\")","v":"N"},{"$f":"IF(Worksheet!$C$12=TRUE,\"Y\",\"N\")","v":"N"},""]
[{"$f":"IF(ISERROR(VLOOKUP(Worksheet!N206,MeasureLookup,2,FALSE))=FALSE,VLOOKUP(Worksheet!N206,MeasureLookup,2,FALSE),\"\")","v":""},{"$f":"Worksheet!Q206","v":0},{"$f":"Worksheet!R206","v":0},{"$f":"IF(ISERROR(Worksheet!P206)=FALSE,Worksheet!P206,\"\")","v":0},"Watts",null,null,{"$f":"IF(Worksheet!AP206<>\"\",IF(Worksheet!AP206>0,Worksheet!AP206/IF(Worksheet!M206>0,Worksheet!M206,Worksheet!L206),\"\"),\"\")","v":""},{"$f":"IF(ISBLANK(Worksheet!L206)=FALSE,Worksheet!L206,\"\")","v":0},{"$f":"IF(Worksheet!L206<>0, IFERROR(VLOOKUP(Worksheet!$C$16,SavingsSupportTable,3,FALSE)*Worksheet!AQ206*IFERROR(1+VLOOKUP(Worksheet!$C$16,SavingsSupportTable,MATCH(Worksheet!$G$17,HVACe_Options,0)+4,FALSE),1)/IF(Worksheet!M206>0,Worksheet!M206,Worksheet!L206),\"\"),\"\")","v":""},{"$f":"IF(Worksheet!L206<>0, IFERROR(VLOOKUP(Worksheet!$C$16,SavingsSupportTable,2,FALSE)*Worksheet!AQ206*IF(IFERROR(MATCH(Worksheet!$G$17,HVACe_Options,0),0)>0,1+VLOOKUP(Worksheet!$C$16,SavingsSupportTable,4,FALSE),1)/IF(Worksheet!M206>0,Worksheet!M206,Worksheet!L206),\"\"),\"\")","v":""},"",{"$f":"IF(Worksheet!L206<>0,IFERROR(VLOOKUP(Worksheet!$C$16,SavingsSupportTable,3,FALSE)*Worksheet!AQ206*IF(IFERROR(SEARCH(\"Gas\",Worksheet!$G$17),0)>0,VLOOKUP(\"Gas\",HVACg_Lookup,MATCH(Worksheet!$G$16,BuildingSize,0)+1,FALSE),IF(IFERROR(SEARCH(\"Oil\",Worksheet!$G$17),0)>0,VLOOKUP(\"Oil\",HVACg_Lookup,MATCH(Worksheet!$G$16,BuildingSize,0)+1,FALSE),IF(IFERROR(SEARCH(\"Propane\",Worksheet!$G$17),0)>0,VLOOKUP(\"Propane\",HVACg_Lookup,MATCH(Worksheet!$G$16,BuildingSize,0)+1,FALSE),0)))/IF(Worksheet!M206>0,Worksheet!M206,Worksheet!L206),0),\"\")","v":""},"",null,null,null,{"$f":"IF(ISBLANK(Worksheet!M206)=FALSE,Worksheet!M206,\"\")","v":0},{"$f":"IF(Worksheet!A206=\"-\",\"\",IF(Worksheet!A206=\"\",S182,Worksheet!A206))","v":""},{"$f":"IF(S183=\"\",\"\",IF(AND(Worksheet!G206=\"\",Worksheet!H206=\"\")=TRUE,T182,IF(Worksheet!G206=\"\",\"\",Worksheet!G206)))","v":""},{"$f":"IF(S183=\"\",\"\",IF(AND(Worksheet!G206=\"\",Worksheet!H206=\"\")=TRUE,U182,IF(Worksheet!H206=\"\",\"\",Worksheet!H206)))","v":""},{"$f":"IF(Worksheet!N206=\"\",\"\",Worksheet!N206)","v":""},{"$f":"IF(Worksheet!O206=\"\",\"\",Worksheet!O206)","v":""},{"$f":"IF(Worksheet!F206=0,\"\",Worksheet!F206)","v":""},{"$f":"IF(Worksheet!P206=0,\"\",Worksheet!P206)","v":""},{"$f":"IF(Worksheet!$A$11=TRUE,\"Y\",\"N\")","v":"N"},{"$f":"IF(Worksheet!$A$12=TRUE,\"Y\",\"N\")","v":"N"},{"$f":"IF(Worksheet!$B$11=TRUE,\"Y\",\"N\")","v":"N"},{"$f":"IF(Worksheet!$B$12=TRUE,\"Y\",\"N\")","v":"N"},{"$f":"IF(Worksheet!$C$11=TRUE,\"Y\",\"N\")","v":"N"},{"$f":"IF(Worksheet!$C$12=TRUE,\"Y\",\"N\")","v":"N"},""]
[{"$f":"IF(ISERROR(VLOOKUP(Worksheet!N207,MeasureLookup,2,FALSE))=FALSE,VLOOKUP(Worksheet!N207,MeasureLookup,2,FALSE),\"\")","v":""},{"$f":"Worksheet!Q207","v":0},{"$f":"Worksheet!R207","v":0},{"$f":"IF(ISERROR(Worksheet!P207)=FALSE,Worksheet!P207,\"\")","v":0},"Watts",null,null,{"$f":"IF(Worksheet!AP207<>\"\",IF(Worksheet!AP207>0,Worksheet!AP207/IF(Worksheet!M207>0,Worksheet!M207,Worksheet!L207),\"\"),\"\")","v":""},{"$f":"IF(ISBLANK(Worksheet!L207)=FALSE,Worksheet!L207,\"\")","v":0},{"$f":"IF(Worksheet!L207<>0, IFERROR(VLOOKUP(Worksheet!$C$16,SavingsSupportTable,3,FALSE)*Worksheet!AQ207*IFERROR(1+VLOOKUP(Worksheet!$C$16,SavingsSupportTable,MATCH(Worksheet!$G$17,HVACe_Options,0)+4,FALSE),1)/IF(Worksheet!M207>0,Worksheet!M207,Worksheet!L207),\"\"),\"\")","v":""},{"$f":"IF(Worksheet!L207<>0, IFERROR(VLOOKUP(Worksheet!$C$16,SavingsSupportTable,2,FALSE)*Worksheet!AQ207*IF(IFERROR(MATCH(Worksheet!$G$17,HVACe_Options,0),0)>0,1+VLOOKUP(Worksheet!$C$16,SavingsSupportTable,4,FALSE),1)/IF(Worksheet!M207>0,Worksheet!M207,Worksheet!L207),\"\"),\"\")","v":""},"",{"$f":"IF(Worksheet!L207<>0,IFERROR(VLOOKUP(Worksheet!$C$16,SavingsSupportTable,3,FALSE)*Worksheet!AQ207*IF(IFERROR(SEARCH(\"Gas\",Worksheet!$G$17),0)>0,VLOOKUP(\"Gas\",HVACg_Lookup,MATCH(Worksheet!$G$16,BuildingSize,0)+1,FALSE),IF(IFERROR(SEARCH(\"Oil\",Worksheet!$G$17),0)>0,VLOOKUP(\"Oil\",HVACg_Lookup,MATCH(Worksheet!$G$16,BuildingSize,0)+1,FALSE),IF(IFERROR(SEARCH(\"Propane\",Worksheet!$G$17),0)>0,VLOOKUP(\"Propane\",HVACg_Lookup,MATCH(Worksheet!$G$16,BuildingSize,0)+1,FALSE),0)))/IF(Worksheet!M207>0,Worksheet!M207,Worksheet!L207),0),\"\")","v":""},"",null,null,null,{"$f":"IF(ISBLANK(Worksheet!M207)=FALSE,Worksheet!M207,\"\")","v":0},{"$f":"IF(Worksheet!A207=\"-\",\"\",IF(Worksheet!A207=\"\",S183,Worksheet!A207))","v":""},{"$f":"IF(S184=\"\",\"\",IF(AND(Worksheet!G207=\"\",Worksheet!H207=\"\")=TRUE,T183,IF(Worksheet!G207=\"\",\"\",Worksheet!G207)))","v":""},{"$f":"IF(S184=\"\",\"\",IF(AND(Worksheet!G207=\"\",Worksheet!H207=\"\")=TRUE,U183,IF(Worksheet!H207=\"\",\"\",Worksheet!H207)))","v":""},{"$f":"IF(Worksheet!N207=\"\",\"\",Worksheet!N207)","v":""},{"$f":"IF(Worksheet!O207=\"\",\"\",Worksheet!O207)","v":""},{"$f":"IF(Worksheet!F207=0,\"\",Worksheet!F207)","v":""},{"$f":"IF(Worksheet!P207=0,\"\",Worksheet!P207)","v":""},{"$f":"IF(Worksheet!$A$11=TRUE,\"Y\",\"N\")","v":"N"},{"$f":"IF(Worksheet!$A$12=TRUE,\"Y\",\"N\")","v":"N"},{"$f":"IF(Worksheet!$B$11=TRUE,\"Y\",\"N\")","v":"N"},{"$f":"IF(Worksheet!$B$12=TRUE,\"Y\",\"N\")","v":"N"},{"$f":"IF(Worksheet!$C$11=TRUE,\"Y\",\"N\")","v":"N"},{"$f":"IF(Worksheet!$C$12=TRUE,\"Y\",\"N\")","v":"N"},""]
[{"$f":"IF(ISERROR(VLOOKUP(Worksheet!N208,MeasureLookup,2,FALSE))=FALSE,VLOOKUP(Worksheet!N208,MeasureLookup,2,FALSE),\"\")","v":""},{"$f":"Worksheet!Q208","v":0},{"$f":"Worksheet!R208","v":0},{"$f":"IF(ISERROR(Worksheet!P208)=FALSE,Worksheet!P208,\"\")","v":0},"Watts",null,null,{"$f":"IF(Worksheet!AP208<>\"\",IF(Worksheet!AP208>0,Worksheet!AP208/IF(Worksheet!M208>0,Worksheet!M208,Worksheet!L208),\"\"),\"\")","v":""},{"$f":"IF(ISBLANK(Worksheet!L208)=FALSE,Worksheet!L208,\"\")","v":0},{"$f":"IF(Worksheet!L208<>0, IFERROR(VLOOKUP(Worksheet!$C$16,SavingsSupportTable,3,FALSE)*Worksheet!AQ208*IFERROR(1+VLOOKUP(Worksheet!$C$16,SavingsSupportTable,MATCH(Worksheet!$G$17,HVACe_Options,0)+4,FALSE),1)/IF(Worksheet!M208>0,Worksheet!M208,Worksheet!L208),\"\"),\"\")","v":""},{"$f":"IF(Worksheet!L208<>0, IFERROR(VLOOKUP(Worksheet!$C$16,SavingsSupportTable,2,FALSE)*Worksheet!AQ208*IF(IFERROR(MATCH(Worksheet!$G$17,HVACe_Options,0),0)>0,1+VLOOKUP(Worksheet!$C$16,SavingsSupportTable,4,FALSE),1)/IF(Worksheet!M208>0,Worksheet!M208,Worksheet!L208),\"\"),\"\")","v":""},"",{"$f":"IF(Worksheet!L208<>0,IFERROR(VLOOKUP(Worksheet!$C$16,SavingsSupportTable,3,FALSE)*Worksheet!AQ208*IF(IFERROR(SEARCH(\"Gas\",Worksheet!$G$17),0)>0,VLOOKUP(\"Gas\",HVACg_Lookup,MATCH(Worksheet!$G$16,BuildingSize,0)+1,FALSE),IF(IFERROR(SEARCH(\"Oil\",Worksheet!$G$17),0)>0,VLOOKUP(\"Oil\",HVACg_Lookup,MATCH(Worksheet!$G$16,BuildingSize,0)+1,FALSE),IF(IFERROR(SEARCH(\"Propane\",Worksheet!$G$17),0)>0,VLOOKUP(\"Propane\",HVACg_Lookup,MATCH(Worksheet!$G$16,BuildingSize,0)+1,FALSE),0)))/IF(Worksheet!M208>0,Worksheet!M208,Worksheet!L208),0),\"\")","v":""},"",null,null,null,{"$f":"IF(ISBLANK(Worksheet!M208)=FALSE,Worksheet!M208,\"\")","v":0},{"$f":"IF(Worksheet!A208=\"-\",\"\",IF(Worksheet!A208=\"\",S184,Worksheet!A208))","v":""},{"$f":"IF(S185=\"\",\"\",IF(AND(Worksheet!G208=\"\",Worksheet!H208=\"\")=TRUE,T184,IF(Worksheet!G208=\"\",\"\",Worksheet!G208)))","v":""},{"$f":"IF(S185=\"\",\"\",IF(AND(Worksheet!G208=\"\",Worksheet!H208=\"\")=TRUE,U184,IF(Worksheet!H208=\"\",\"\",Worksheet!H208)))","v":""},{"$f":"IF(Worksheet!N208=\"\",\"\",Worksheet!N208)","v":""},{"$f":"IF(Worksheet!O208=\"\",\"\",Worksheet!O208)","v":""},{"$f":"IF(Worksheet!F208=0,\"\",Worksheet!F208)","v":""},{"$f":"IF(Worksheet!P208=0,\"\",Worksheet!P208)","v":""},{"$f":"IF(Worksheet!$A$11=TRUE,\"Y\",\"N\")","v":"N"},{"$f":"IF(Worksheet!$A$12=TRUE,\"Y\",\"N\")","v":"N"},{"$f":"IF(Worksheet!$B$11=TRUE,\"Y\",\"N\")","v":"N"},{"$f":"IF(Worksheet!$B$12=TRUE,\"Y\",\"N\")","v":"N"},{"$f":"IF(Worksheet!$C$11=TRUE,\"Y\",\"N\")","v":"N"},{"$f":"IF(Worksheet!$C$12=TRUE,\"Y\",\"N\")","v":"N"},""]
[{"$f":"IF(ISERROR(VLOOKUP(Worksheet!N209,MeasureLookup,2,FALSE))=FALSE,VLOOKUP(Worksheet!N209,MeasureLookup,2,FALSE),\"\")","v":""},{"$f":"Worksheet!Q209","v":0},{"$f":"Worksheet!R209","v":0},{"$f":"IF(ISERROR(Worksheet!P209)=FALSE,Worksheet!P209,\"\")","v":0},"Watts",null,null,{"$f":"IF(Worksheet!AP209<>\"\",IF(Worksheet!AP209>0,Worksheet!AP209/IF(Worksheet!M209>0,Worksheet!M209,Worksheet!L209),\"\"),\"\")","v":""},{"$f":"IF(ISBLANK(Worksheet!L209)=FALSE,Worksheet!L209,\"\")","v":0},{"$f":"IF(Worksheet!L209<>0, IFERROR(VLOOKUP(Worksheet!$C$16,SavingsSupportTable,3,FALSE)*Worksheet!AQ209*IFERROR(1+VLOOKUP(Worksheet!$C$16,SavingsSupportTable,MATCH(Worksheet!$G$17,HVACe_Options,0)+4,FALSE),1)/IF(Worksheet!M209>0,Worksheet!M209,Worksheet!L209),\"\"),\"\")","v":""},{"$f":"IF(Worksheet!L209<>0, IFERROR(VLOOKUP(Worksheet!$C$16,SavingsSupportTable,2,FALSE)*Worksheet!AQ209*IF(IFERROR(MATCH(Worksheet!$G$17,HVACe_Options,0),0)>0,1+VLOOKUP(Worksheet!$C$16,SavingsSupportTable,4,FALSE),1)/IF(Worksheet!M209>0,Worksheet!M209,Worksheet!L209),\"\"),\"\")","v":""},"",{"$f":"IF(Worksheet!L209<>0,IFERROR(VLOOKUP(Worksheet!$C$16,SavingsSupportTable,3,FALSE)*Worksheet!AQ209*IF(IFERROR(SEARCH(\"Gas\",Worksheet!$G$17),0)>0,VLOOKUP(\"Gas\",HVACg_Lookup,MATCH(Worksheet!$G$16,BuildingSize,0)+1,FALSE),IF(IFERROR(SEARCH(\"Oil\",Worksheet!$G$17),0)>0,VLOOKUP(\"Oil\",HVACg_Lookup,MATCH(Worksheet!$G$16,BuildingSize,0)+1,FALSE),IF(IFERROR(SEARCH(\"Propane\",Worksheet!$G$17),0)>0,VLOOKUP(\"Propane\",HVACg_Lookup,MATCH(Worksheet!$G$16,BuildingSize,0)+1,FALSE),0)))/IF(Worksheet!M209>0,Worksheet!M209,Worksheet!L209),0),\"\")","v":""},"",null,null,null,{"$f":"IF(ISBLANK(Worksheet!M209)=FALSE,Worksheet!M209,\"\")","v":0},{"$f":"IF(Worksheet!A209=\"-\",\"\",IF(Worksheet!A209=\"\",S185,Worksheet!A209))","v":""},{"$f":"IF(S186=\"\",\"\",IF(AND(Worksheet!G209=\"\",Worksheet!H209=\"\")=TRUE,T185,IF(Worksheet!G209=\"\",\"\",Worksheet!G209)))","v":""},{"$f":"IF(S186=\"\",\"\",IF(AND(Worksheet!G209=\"\",Worksheet!H209=\"\")=TRUE,U185,IF(Worksheet!H209=\"\",\"\",Worksheet!H209)))","v":""},{"$f":"IF(Worksheet!N209=\"\",\"\",Worksheet!N209)","v":""},{"$f":"IF(Worksheet!O209=\"\",\"\",Worksheet!O209)","v":""},{"$f":"IF(Worksheet!F209=0,\"\",Worksheet!F209)","v":""},{"$f":"IF(Worksheet!P209=0,\"\",Worksheet!P209)","v":""},{"$f":"IF(Worksheet!$A$11=TRUE,\"Y\",\"N\")","v":"N"},{"$f":"IF(Worksheet!$A$12=TRUE,\"Y\",\"N\")","v":"N"},{"$f":"IF(Worksheet!$B$11=TRUE,\"Y\",\"N\")","v":"N"},{"$f":"IF(Worksheet!$B$12=TRUE,\"Y\",\"N\")","v":"N"},{"$f":"IF(Worksheet!$C$11=TRUE,\"Y\",\"N\")","v":"N"},{"$f":"IF(Worksheet!$C$12=TRUE,\"Y\",\"N\")","v":"N"},""]
[{"$f":"IF(ISERROR(VLOOKUP(Worksheet!N210,MeasureLookup,2,FALSE))=FALSE,VLOOKUP(Worksheet!N210,MeasureLookup,2,FALSE),\"\")","v":""},{"$f":"Worksheet!Q210","v":0},{"$f":"Worksheet!R210","v":0},{"$f":"IF(ISERROR(Worksheet!P210)=FALSE,Worksheet!P210,\"\")","v":0},"Watts",null,null,{"$f":"IF(Worksheet!AP210<>\"\",IF(Worksheet!AP210>0,Worksheet!AP210/IF(Worksheet!M210>0,Worksheet!M210,Worksheet!L210),\"\"),\"\")","v":""},{"$f":"IF(ISBLANK(Worksheet!L210)=FALSE,Worksheet!L210,\"\")","v":0},{"$f":"IF(Worksheet!L210<>0, IFERROR(VLOOKUP(Worksheet!$C$16,SavingsSupportTable,3,FALSE)*Worksheet!AQ210*IFERROR(1+VLOOKUP(Worksheet!$C$16,SavingsSupportTable,MATCH(Worksheet!$G$17,HVACe_Options,0)+4,FALSE),1)/IF(Worksheet!M210>0,Worksheet!M210,Worksheet!L210),\"\"),\"\")","v":""},{"$f":"IF(Worksheet!L210<>0, IFERROR(VLOOKUP(Worksheet!$C$16,SavingsSupportTable,2,FALSE)*Worksheet!AQ210*IF(IFERROR(MATCH(Worksheet!$G$17,HVACe_Options,0),0)>0,1+VLOOKUP(Worksheet!$C$16,SavingsSupportTable,4,FALSE),1)/IF(Worksheet!M210>0,Worksheet!M210,Worksheet!L210),\"\"),\"\")","v":""},"",{"$f":"IF(Worksheet!L210<>0,IFERROR(VLOOKUP(Worksheet!$C$16,SavingsSupportTable,3,FALSE)*Worksheet!AQ210*IF(IFERROR(SEARCH(\"Gas\",Worksheet!$G$17),0)>0,VLOOKUP(\"Gas\",HVACg_Lookup,MATCH(Worksheet!$G$16,BuildingSize,0)+1,FALSE),IF(IFERROR(SEARCH(\"Oil\",Worksheet!$G$17),0)>0,VLOOKUP(\"Oil\",HVACg_Lookup,MATCH(Worksheet!$G$16,BuildingSize,0)+1,FALSE),IF(IFERROR(SEARCH(\"Propane\",Worksheet!$G$17),0)>0,VLOOKUP(\"Propane\",HVACg_Lookup,MATCH(Worksheet!$G$16,BuildingSize,0)+1,FALSE),0)))/IF(Worksheet!M210>0,Worksheet!M210,Worksheet!L210),0),\"\")","v":""},"",null,null,null,{"$f":"IF(ISBLANK(Worksheet!M210)=FALSE,Worksheet!M210,\"\")","v":0},{"$f":"IF(Worksheet!A210=\"-\",\"\",IF(Worksheet!A210=\"\",S186,Worksheet!A210))","v":""},{"$f":"IF(S187=\"\",\"\",IF(AND(Worksheet!G210=\"\",Worksheet!H210=\"\")=TRUE,T186,IF(Worksheet!G210=\"\",\"\",Worksheet!G210)))","v":""},{"$f":"IF(S187=\"\",\"\",IF(AND(Worksheet!G210=\"\",Worksheet!H210=\"\")=TRUE,U186,IF(Worksheet!H210=\"\",\"\",Worksheet!H210)))","v":""},{"$f":"IF(Worksheet!N210=\"\",\"\",Worksheet!N210)","v":""},{"$f":"IF(Worksheet!O210=\"\",\"\",Worksheet!O210)","v":""},{"$f":"IF(Worksheet!F210=0,\"\",Worksheet!F210)","v":""},{"$f":"IF(Worksheet!P210=0,\"\",Worksheet!P210)","v":""},{"$f":"IF(Worksheet!$A$11=TRUE,\"Y\",\"N\")","v":"N"},{"$f":"IF(Worksheet!$A$12=TRUE,\"Y\",\"N\")","v":"N"},{"$f":"IF(Worksheet!$B$11=TRUE,\"Y\",\"N\")","v":"N"},{"$f":"IF(Worksheet!$B$12=TRUE,\"Y\",\"N\")","v":"N"},{"$f":"IF(Worksheet!$C$11=TRUE,\"Y\",\"N\")","v":"N"},{"$f":"IF(Worksheet!$C$12=TRUE,\"Y\",\"N\")","v":"N"},""]
[{"$f":"IF(ISERROR(VLOOKUP(Worksheet!N211,MeasureLookup,2,FALSE))=FALSE,VLOOKUP(Worksheet!N211,MeasureLookup,2,FALSE),\"\")","v":""},{"$f":"Worksheet!Q211","v":0},{"$f":"Worksheet!R211","v":0},{"$f":"IF(ISERROR(Worksheet!P211)=FALSE,Worksheet!P211,\"\")","v":0},"Watts",null,null,{"$f":"IF(Worksheet!AP211<>\"\",IF(Worksheet!AP211>0,Worksheet!AP211/IF(Worksheet!M211>0,Worksheet!M211,Worksheet!L211),\"\"),\"\")","v":""},{"$f":"IF(ISBLANK(Worksheet!L211)=FALSE,Worksheet!L211,\"\")","v":0},{"$f":"IF(Worksheet!L211<>0, IFERROR(VLOOKUP(Worksheet!$C$16,SavingsSupportTable,3,FALSE)*Worksheet!AQ211*IFERROR(1+VLOOKUP(Worksheet!$C$16,SavingsSupportTable,MATCH(Worksheet!$G$17,HVACe_Options,0)+4,FALSE),1)/IF(Worksheet!M211>0,Worksheet!M211,Worksheet!L211),\"\"),\"\")","v":""},{"$f":"IF(Worksheet!L211<>0, IFERROR(VLOOKUP(Worksheet!$C$16,SavingsSupportTable,2,FALSE)*Worksheet!AQ211*IF(IFERROR(MATCH(Worksheet!$G$17,HVACe_Options,0),0)>0,1+VLOOKUP(Worksheet!$C$16,SavingsSupportTable,4,FALSE),1)/IF(Worksheet!M211>0,Worksheet!M211,Worksheet!L211),\"\"),\"\")","v":""},"",{"$f":"IF(Worksheet!L211<>0,IFERROR(VLOOKUP(Worksheet!$C$16,SavingsSupportTable,3,FALSE)*Worksheet!AQ211*IF(IFERROR(SEARCH(\"Gas\",Worksheet!$G$17),0)>0,VLOOKUP(\"Gas\",HVACg_Lookup,MATCH(Worksheet!$G$16,BuildingSize,0)+1,FALSE),IF(IFERROR(SEARCH(\"Oil\",Worksheet!$G$17),0)>0,VLOOKUP(\"Oil\",HVACg_Lookup,MATCH(Worksheet!$G$16,BuildingSize,0)+1,FALSE),IF(IFERROR(SEARCH(\"Propane\",Worksheet!$G$17),0)>0,VLOOKUP(\"Propane\",HVACg_Lookup,MATCH(Worksheet!$G$16,BuildingSize,0)+1,FALSE),0)))/IF(Worksheet!M211>0,Worksheet!M211,Worksheet!L211),0),\"\")","v":""},"",null,null,null,{"$f":"IF(ISBLANK(Worksheet!M211)=FALSE,Worksheet!M211,\"\")","v":0},{"$f":"IF(Worksheet!A211=\"-\",\"\",IF(Worksheet!A211=\"\",S187,Worksheet!A211))","v":""},{"$f":"IF(S188=\"\",\"\",IF(AND(Worksheet!G211=\"\",Worksheet!H211=\"\")=TRUE,T187,IF(Worksheet!G211=\"\",\"\",Worksheet!G211)))","v":""},{"$f":"IF(S188=\"\",\"\",IF(AND(Worksheet!G211=\"\",Worksheet!H211=\"\")=TRUE,U187,IF(Worksheet!H211=\"\",\"\",Worksheet!H211)))","v":""},{"$f":"IF(Worksheet!N211=\"\",\"\",Worksheet!N211)","v":""},{"$f":"IF(Worksheet!O211=\"\",\"\",Worksheet!O211)","v":""},{"$f":"IF(Worksheet!F211=0,\"\",Worksheet!F211)","v":""},{"$f":"IF(Worksheet!P211=0,\"\",Worksheet!P211)","v":""},{"$f":"IF(Worksheet!$A$11=TRUE,\"Y\",\"N\")","v":"N"},{"$f":"IF(Worksheet!$A$12=TRUE,\"Y\",\"N\")","v":"N"},{"$f":"IF(Worksheet!$B$11=TRUE,\"Y\",\"N\")","v":"N"},{"$f":"IF(Worksheet!$B$12=TRUE,\"Y\",\"N\")","v":"N"},{"$f":"IF(Worksheet!$C$11=TRUE,\"Y\",\"N\")","v":"N"},{"$f":"IF(Worksheet!$C$12=TRUE,\"Y\",\"N\")","v":"N"},""]
[{"$f":"IF(ISERROR(VLOOKUP(Worksheet!N212,MeasureLookup,2,FALSE))=FALSE,VLOOKUP(Worksheet!N212,MeasureLookup,2,FALSE),\"\")","v":""},{"$f":"Worksheet!Q212","v":0},{"$f":"Worksheet!R212","v":0},{"$f":"IF(ISERROR(Worksheet!P212)=FALSE,Worksheet!P212,\"\")","v":0},"Watts",null,null,{"$f":"IF(Worksheet!AP212<>\"\",IF(Worksheet!AP212>0,Worksheet!AP212/IF(Worksheet!M212>0,Worksheet!M212,Worksheet!L212),\"\"),\"\")","v":""},{"$f":"IF(ISBLANK(Worksheet!L212)=FALSE,Worksheet!L212,\"\")","v":0},{"$f":"IF(Worksheet!L212<>0, IFERROR(VLOOKUP(Worksheet!$C$16,SavingsSupportTable,3,FALSE)*Worksheet!AQ212*IFERROR(1+VLOOKUP(Worksheet!$C$16,SavingsSupportTable,MATCH(Worksheet!$G$17,HVACe_Options,0)+4,FALSE),1)/IF(Worksheet!M212>0,Worksheet!M212,Worksheet!L212),\"\"),\"\")","v":""},{"$f":"IF(Worksheet!L212<>0, IFERROR(VLOOKUP(Worksheet!$C$16,SavingsSupportTable,2,FALSE)*Worksheet!AQ212*IF(IFERROR(MATCH(Worksheet!$G$17,HVACe_Options,0),0)>0,1+VLOOKUP(Worksheet!$C$16,SavingsSupportTable,4,FALSE),1)/IF(Worksheet!M212>0,Worksheet!M212,Worksheet!L212),\"\"),\"\")","v":""},"",{"$f":"IF(Worksheet!L212<>0,IFERROR(VLOOKUP(Worksheet!$C$16,SavingsSupportTable,3,FALSE)*Worksheet!AQ212*IF(IFERROR(SEARCH(\"Gas\",Worksheet!$G$17),0)>0,VLOOKUP(\"Gas\",HVACg_Lookup,MATCH(Worksheet!$G$16,BuildingSize,0)+1,FALSE),IF(IFERROR(SEARCH(\"Oil\",Worksheet!$G$17),0)>0,VLOOKUP(\"Oil\",HVACg_Lookup,MATCH(Worksheet!$G$16,BuildingSize,0)+1,FALSE),IF(IFERROR(SEARCH(\"Propane\",Worksheet!$G$17),0)>0,VLOOKUP(\"Propane\",HVACg_Lookup,MATCH(Worksheet!$G$16,BuildingSize,0)+1,FALSE),0)))/IF(Worksheet!M212>0,Worksheet!M212,Worksheet!L212),0),\"\")","v":""},"",null,null,null,{"$f":"IF(ISBLANK(Worksheet!M212)=FALSE,Worksheet!M212,\"\")","v":0},{"$f":"IF(Worksheet!A212=\"-\",\"\",IF(Worksheet!A212=\"\",S188,Worksheet!A212))","v":""},{"$f":"IF(S189=\"\",\"\",IF(AND(Worksheet!G212=\"\",Worksheet!H212=\"\")=TRUE,T188,IF(Worksheet!G212=\"\",\"\",Worksheet!G212)))","v":""},{"$f":"IF(S189=\"\",\"\",IF(AND(Worksheet!G212=\"\",Worksheet!H212=\"\")=TRUE,U188,IF(Worksheet!H212=\"\",\"\",Worksheet!H212)))","v":""},{"$f":"IF(Worksheet!N212=\"\",\"\",Worksheet!N212)","v":""},{"$f":"IF(Worksheet!O212=\"\",\"\",Worksheet!O212)","v":""},{"$f":"IF(Worksheet!F212=0,\"\",Worksheet!F212)","v":""},{"$f":"IF(Worksheet!P212=0,\"\",Worksheet!P212)","v":""},{"$f":"IF(Worksheet!$A$11=TRUE,\"Y\",\"N\")","v":"N"},{"$f":"IF(Worksheet!$A$12=TRUE,\"Y\",\"N\")","v":"N"},{"$f":"IF(Worksheet!$B$11=TRUE,\"Y\",\"N\")","v":"N"},{"$f":"IF(Worksheet!$B$12=TRUE,\"Y\",\"N\")","v":"N"},{"$f":"IF(Worksheet!$C$11=TRUE,\"Y\",\"N\")","v":"N"},{"$f":"IF(Worksheet!$C$12=TRUE,\"Y\",\"N\")","v":"N"},""]
[{"$f":"IF(ISERROR(VLOOKUP(Worksheet!N213,MeasureLookup,2,FALSE))=FALSE,VLOOKUP(Worksheet!N213,MeasureLookup,2,FALSE),\"\")","v":""},{"$f":"Worksheet!Q213","v":0},{"$f":"Worksheet!R213","v":0},{"$f":"IF(ISERROR(Worksheet!P213)=FALSE,Worksheet!P213,\"\")","v":0},"Watts",null,null,{"$f":"IF(Worksheet!AP213<>\"\",IF(Worksheet!AP213>0,Worksheet!AP213/IF(Worksheet!M213>0,Worksheet!M213,Worksheet!L213),\"\"),\"\")","v":""},{"$f":"IF(ISBLANK(Worksheet!L213)=FALSE,Worksheet!L213,\"\")","v":0},{"$f":"IF(Worksheet!L213<>0, IFERROR(VLOOKUP(Worksheet!$C$16,SavingsSupportTable,3,FALSE)*Worksheet!AQ213*IFERROR(1+VLOOKUP(Worksheet!$C$16,SavingsSupportTable,MATCH(Worksheet!$G$17,HVACe_Options,0)+4,FALSE),1)/IF(Worksheet!M213>0,Worksheet!M213,Worksheet!L213),\"\"),\"\")","v":""},{"$f":"IF(Worksheet!L213<>0, IFERROR(VLOOKUP(Worksheet!$C$16,SavingsSupportTable,2,FALSE)*Worksheet!AQ213*IF(IFERROR(MATCH(Worksheet!$G$17,HVACe_Options,0),0)>0,1+VLOOKUP(Worksheet!$C$16,SavingsSupportTable,4,FALSE),1)/IF(Worksheet!M213>0,Worksheet!M213,Worksheet!L213),\"\"),\"\")","v":""},"",{"$f":"IF(Worksheet!L213<>0,IFERROR(VLOOKUP(Worksheet!$C$16,SavingsSupportTable,3,FALSE)*Worksheet!AQ213*IF(IFERROR(SEARCH(\"Gas\",Worksheet!$G$17),0)>0,VLOOKUP(\"Gas\",HVACg_Lookup,MATCH(Worksheet!$G$16,BuildingSize,0)+1,FALSE),IF(IFERROR(SEARCH(\"Oil\",Worksheet!$G$17),0)>0,VLOOKUP(\"Oil\",HVACg_Lookup,MATCH(Worksheet!$G$16,BuildingSize,0)+1,FALSE),IF(IFERROR(SEARCH(\"Propane\",Worksheet!$G$17),0)>0,VLOOKUP(\"Propane\",HVACg_Lookup,MATCH(Worksheet!$G$16,BuildingSize,0)+1,FALSE),0)))/IF(Worksheet!M213>0,Worksheet!M213,Worksheet!L213),0),\"\")","v":""},"",null,null,null,{"$f":"IF(ISBLANK(Worksheet!M213)=FALSE,Worksheet!M213,\"\")","v":0},{"$f":"IF(Worksheet!A213=\"-\",\"\",IF(Worksheet!A213=\"\",S189,Worksheet!A213))","v":""},{"$f":"IF(S190=\"\",\"\",IF(AND(Worksheet!G213=\"\",Worksheet!H213=\"\")=TRUE,T189,IF(Worksheet!G213=\"\",\"\",Worksheet!G213)))","v":""},{"$f":"IF(S190=\"\",\"\",IF(AND(Worksheet!G213=\"\",Worksheet!H213=\"\")=TRUE,U189,IF(Worksheet!H213=\"\",\"\",Worksheet!H213)))","v":""},{"$f":"IF(Worksheet!N213=\"\",\"\",Worksheet!N213)","v":""},{"$f":"IF(Worksheet!O213=\"\",\"\",Worksheet!O213)","v":""},{"$f":"IF(Worksheet!F213=0,\"\",Worksheet!F213)","v":""},{"$f":"IF(Worksheet!P213=0,\"\",Worksheet!P213)","v":""},{"$f":"IF(Worksheet!$A$11=TRUE,\"Y\",\"N\")","v":"N"},{"$f":"IF(Worksheet!$A$12=TRUE,\"Y\",\"N\")","v":"N"},{"$f":"IF(Worksheet!$B$11=TRUE,\"Y\",\"N\")","v":"N"},{"$f":"IF(Worksheet!$B$12=TRUE,\"Y\",\"N\")","v":"N"},{"$f":"IF(Worksheet!$C$11=TRUE,\"Y\",\"N\")","v":"N"},{"$f":"IF(Worksheet!$C$12=TRUE,\"Y\",\"N\")","v":"N"},""]
[{"$f":"IF(ISERROR(VLOOKUP(Worksheet!N214,MeasureLookup,2,FALSE))=FALSE,VLOOKUP(Worksheet!N214,MeasureLookup,2,FALSE),\"\")","v":""},{"$f":"Worksheet!Q214","v":0},{"$f":"Worksheet!R214","v":0},{"$f":"IF(ISERROR(Worksheet!P214)=FALSE,Worksheet!P214,\"\")","v":0},"Watts",null,null,{"$f":"IF(Worksheet!AP214<>\"\",IF(Worksheet!AP214>0,Worksheet!AP214/IF(Worksheet!M214>0,Worksheet!M214,Worksheet!L214),\"\"),\"\")","v":""},{"$f":"IF(ISBLANK(Worksheet!L214)=FALSE,Worksheet!L214,\"\")","v":0},{"$f":"IF(Worksheet!L214<>0, IFERROR(VLOOKUP(Worksheet!$C$16,SavingsSupportTable,3,FALSE)*Worksheet!AQ214*IFERROR(1+VLOOKUP(Worksheet!$C$16,SavingsSupportTable,MATCH(Worksheet!$G$17,HVACe_Options,0)+4,FALSE),1)/IF(Worksheet!M214>0,Worksheet!M214,Worksheet!L214),\"\"),\"\")","v":""},{"$f":"IF(Worksheet!L214<>0, IFERROR(VLOOKUP(Worksheet!$C$16,SavingsSupportTable,2,FALSE)*Worksheet!AQ214*IF(IFERROR(MATCH(Worksheet!$G$17,HVACe_Options,0),0)>0,1+VLOOKUP(Worksheet!$C$16,SavingsSupportTable,4,FALSE),1)/IF(Worksheet!M214>0,Worksheet!M214,Worksheet!L214),\"\"),\"\")","v":""},"",{"$f":"IF(Worksheet!L214<>0,IFERROR(VLOOKUP(Worksheet!$C$16,SavingsSupportTable,3,FALSE)*Worksheet!AQ214*IF(IFERROR(SEARCH(\"Gas\",Worksheet!$G$17),0)>0,VLOOKUP(\"Gas\",HVACg_Lookup,MATCH(Worksheet!$G$16,BuildingSize,0)+1,FALSE),IF(IFERROR(SEARCH(\"Oil\",Worksheet!$G$17),0)>0,VLOOKUP(\"Oil\",HVACg_Lookup,MATCH(Worksheet!$G$16,BuildingSize,0)+1,FALSE),IF(IFERROR(SEARCH(\"Propane\",Worksheet!$G$17),0)>0,VLOOKUP(\"Propane\",HVACg_Lookup,MATCH(Worksheet!$G$16,BuildingSize,0)+1,FALSE),0)))/IF(Worksheet!M214>0,Worksheet!M214,Worksheet!L214),0),\"\")","v":""},"",null,null,null,{"$f":"IF(ISBLANK(Worksheet!M214)=FALSE,Worksheet!M214,\"\")","v":0},{"$f":"IF(Worksheet!A214=\"-\",\"\",IF(Worksheet!A214=\"\",S190,Worksheet!A214))","v":""},{"$f":"IF(S191=\"\",\"\",IF(AND(Worksheet!G214=\"\",Worksheet!H214=\"\")=TRUE,T190,IF(Worksheet!G214=\"\",\"\",Worksheet!G214)))","v":""},{"$f":"IF(S191=\"\",\"\",IF(AND(Worksheet!G214=\"\",Worksheet!H214=\"\")=TRUE,U190,IF(Worksheet!H214=\"\",\"\",Worksheet!H214)))","v":""},{"$f":"IF(Worksheet!N214=\"\",\"\",Worksheet!N214)","v":""},{"$f":"IF(Worksheet!O214=\"\",\"\",Worksheet!O214)","v":""},{"$f":"IF(Worksheet!F214=0,\"\",Worksheet!F214)","v":""},{"$f":"IF(Worksheet!P214=0,\"\",Worksheet!P214)","v":""},{"$f":"IF(Worksheet!$A$11=TRUE,\"Y\",\"N\")","v":"N"},{"$f":"IF(Worksheet!$A$12=TRUE,\"Y\",\"N\")","v":"N"},{"$f":"IF(Worksheet!$B$11=TRUE,\"Y\",\"N\")","v":"N"},{"$f":"IF(Worksheet!$B$12=TRUE,\"Y\",\"N\")","v":"N"},{"$f":"IF(Worksheet!$C$11=TRUE,\"Y\",\"N\")","v":"N"},{"$f":"IF(Worksheet!$C$12=TRUE,\"Y\",\"N\")","v":"N"},""]
[{"$f":"IF(ISERROR(VLOOKUP(Worksheet!N215,MeasureLookup,2,FALSE))=FALSE,VLOOKUP(Worksheet!N215,MeasureLookup,2,FALSE),\"\")","v":""},{"$f":"Worksheet!Q215","v":0},{"$f":"Worksheet!R215","v":0},{"$f":"IF(ISERROR(Worksheet!P215)=FALSE,Worksheet!P215,\"\")","v":0},"Watts",null,null,{"$f":"IF(Worksheet!AP215<>\"\",IF(Worksheet!AP215>0,Worksheet!AP215/IF(Worksheet!M215>0,Worksheet!M215,Worksheet!L215),\"\"),\"\")","v":""},{"$f":"IF(ISBLANK(Worksheet!L215)=FALSE,Worksheet!L215,\"\")","v":0},{"$f":"IF(Worksheet!L215<>0, IFERROR(VLOOKUP(Worksheet!$C$16,SavingsSupportTable,3,FALSE)*Worksheet!AQ215*IFERROR(1+VLOOKUP(Worksheet!$C$16,SavingsSupportTable,MATCH(Worksheet!$G$17,HVACe_Options,0)+4,FALSE),1)/IF(Worksheet!M215>0,Worksheet!M215,Worksheet!L215),\"\"),\"\")","v":""},{"$f":"IF(Worksheet!L215<>0, IFERROR(VLOOKUP(Worksheet!$C$16,SavingsSupportTable,2,FALSE)*Worksheet!AQ215*IF(IFERROR(MATCH(Worksheet!$G$17,HVACe_Options,0),0)>0,1+VLOOKUP(Worksheet!$C$16,SavingsSupportTable,4,FALSE),1)/IF(Worksheet!M215>0,Worksheet!M215,Worksheet!L215),\"\"),\"\")","v":""},"",{"$f":"IF(Worksheet!L215<>0,IFERROR(VLOOKUP(Worksheet!$C$16,SavingsSupportTable,3,FALSE)*Worksheet!AQ215*IF(IFERROR(SEARCH(\"Gas\",Worksheet!$G$17),0)>0,VLOOKUP(\"Gas\",HVACg_Lookup,MATCH(Worksheet!$G$16,BuildingSize,0)+1,FALSE),IF(IFERROR(SEARCH(\"Oil\",Worksheet!$G$17),0)>0,VLOOKUP(\"Oil\",HVACg_Lookup,MATCH(Worksheet!$G$16,BuildingSize,0)+1,FALSE),IF(IFERROR(SEARCH(\"Propane\",Worksheet!$G$17),0)>0,VLOOKUP(\"Propane\",HVACg_Lookup,MATCH(Worksheet!$G$16,BuildingSize,0)+1,FALSE),0)))/IF(Worksheet!M215>0,Worksheet!M215,Worksheet!L215),0),\"\")","v":""},"",null,null,null,{"$f":"IF(ISBLANK(Worksheet!M215)=FALSE,Worksheet!M215,\"\")","v":0},{"$f":"IF(Worksheet!A215=\"-\",\"\",IF(Worksheet!A215=\"\",S191,Worksheet!A215))","v":""},{"$f":"IF(S192=\"\",\"\",IF(AND(Worksheet!G215=\"\",Worksheet!H215=\"\")=TRUE,T191,IF(Worksheet!G215=\"\",\"\",Worksheet!G215)))","v":""},{"$f":"IF(S192=\"\",\"\",IF(AND(Worksheet!G215=\"\",Worksheet!H215=\"\")=TRUE,U191,IF(Worksheet!H215=\"\",\"\",Worksheet!H215)))","v":""},{"$f":"IF(Worksheet!N215=\"\",\"\",Worksheet!N215)","v":""},{"$f":"IF(Worksheet!O215=\"\",\"\",Worksheet!O215)","v":""},{"$f":"IF(Worksheet!F215=0,\"\",Worksheet!F215)","v":""},{"$f":"IF(Worksheet!P215=0,\"\",Worksheet!P215)","v":""},{"$f":"IF(Worksheet!$A$11=TRUE,\"Y\",\"N\")","v":"N"},{"$f":"IF(Worksheet!$A$12=TRUE,\"Y\",\"N\")","v":"N"},{"$f":"IF(Worksheet!$B$11=TRUE,\"Y\",\"N\")","v":"N"},{"$f":"IF(Worksheet!$B$12=TRUE,\"Y\",\"N\")","v":"N"},{"$f":"IF(Worksheet!$C$11=TRUE,\"Y\",\"N\")","v":"N"},{"$f":"IF(Worksheet!$C$12=TRUE,\"Y\",\"N\")","v":"N"},""]
[{"$f":"IF(ISERROR(VLOOKUP(Worksheet!N216,MeasureLookup,2,FALSE))=FALSE,VLOOKUP(Worksheet!N216,MeasureLookup,2,FALSE),\"\")","v":""},{"$f":"Worksheet!Q216","v":0},{"$f":"Worksheet!R216","v":0},{"$f":"IF(ISERROR(Worksheet!P216)=FALSE,Worksheet!P216,\"\")","v":0},"Watts",null,null,{"$f":"IF(Worksheet!AP216<>\"\",IF(Worksheet!AP216>0,Worksheet!AP216/IF(Worksheet!M216>0,Worksheet!M216,Worksheet!L216),\"\"),\"\")","v":""},{"$f":"IF(ISBLANK(Worksheet!L216)=FALSE,Worksheet!L216,\"\")","v":0},{"$f":"IF(Worksheet!L216<>0, IFERROR(VLOOKUP(Worksheet!$C$16,SavingsSupportTable,3,FALSE)*Worksheet!AQ216*IFERROR(1+VLOOKUP(Worksheet!$C$16,SavingsSupportTable,MATCH(Worksheet!$G$17,HVACe_Options,0)+4,FALSE),1)/IF(Worksheet!M216>0,Worksheet!M216,Worksheet!L216),\"\"),\"\")","v":""},{"$f":"IF(Worksheet!L216<>0, IFERROR(VLOOKUP(Worksheet!$C$16,SavingsSupportTable,2,FALSE)*Worksheet!AQ216*IF(IFERROR(MATCH(Worksheet!$G$17,HVACe_Options,0),0)>0,1+VLOOKUP(Worksheet!$C$16,SavingsSupportTable,4,FALSE),1)/IF(Worksheet!M216>0,Worksheet!M216,Worksheet!L216),\"\"),\"\")","v":""},"",{"$f":"IF(Worksheet!L216<>0,IFERROR(VLOOKUP(Worksheet!$C$16,SavingsSupportTable,3,FALSE)*Worksheet!AQ216*IF(IFERROR(SEARCH(\"Gas\",Worksheet!$G$17),0)>0,VLOOKUP(\"Gas\",HVACg_Lookup,MATCH(Worksheet!$G$16,BuildingSize,0)+1,FALSE),IF(IFERROR(SEARCH(\"Oil\",Worksheet!$G$17),0)>0,VLOOKUP(\"Oil\",HVACg_Lookup,MATCH(Worksheet!$G$16,BuildingSize,0)+1,FALSE),IF(IFERROR(SEARCH(\"Propane\",Worksheet!$G$17),0)>0,VLOOKUP(\"Propane\",HVACg_Lookup,MATCH(Worksheet!$G$16,BuildingSize,0)+1,FALSE),0)))/IF(Worksheet!M216>0,Worksheet!M216,Worksheet!L216),0),\"\")","v":""},"",null,null,null,{"$f":"IF(ISBLANK(Worksheet!M216)=FALSE,Worksheet!M216,\"\")","v":0},{"$f":"IF(Worksheet!A216=\"-\",\"\",IF(Worksheet!A216=\"\",S192,Worksheet!A216))","v":""},{"$f":"IF(S193=\"\",\"\",IF(AND(Worksheet!G216=\"\",Worksheet!H216=\"\")=TRUE,T192,IF(Worksheet!G216=\"\",\"\",Worksheet!G216)))","v":""},{"$f":"IF(S193=\"\",\"\",IF(AND(Worksheet!G216=\"\",Worksheet!H216=\"\")=TRUE,U192,IF(Worksheet!H216=\"\",\"\",Worksheet!H216)))","v":""},{"$f":"IF(Worksheet!N216=\"\",\"\",Worksheet!N216)","v":""},{"$f":"IF(Worksheet!O216=\"\",\"\",Worksheet!O216)","v":""},{"$f":"IF(Worksheet!F216=0,\"\",Worksheet!F216)","v":""},{"$f":"IF(Worksheet!P216=0,\"\",Worksheet!P216)","v":""},{"$f":"IF(Worksheet!$A$11=TRUE,\"Y\",\"N\")","v":"N"},{"$f":"IF(Worksheet!$A$12=TRUE,\"Y\",\"N\")","v":"N"},{"$f":"IF(Worksheet!$B$11=TRUE,\"Y\",\"N\")","v":"N"},{"$f":"IF(Worksheet!$B$12=TRUE,\"Y\",\"N\")","v":"N"},{"$f":"IF(Worksheet!$C$11=TRUE,\"Y\",\"N\")","v":"N"},{"$f":"IF(Worksheet!$C$12=TRUE,\"Y\",\"N\")","v":"N"},""]
[{"$f":"IF(ISERROR(VLOOKUP(Worksheet!N217,MeasureLookup,2,FALSE))=FALSE,VLOOKUP(Worksheet!N217,MeasureLookup,2,FALSE),\"\")","v":""},{"$f":"Worksheet!Q217","v":0},{"$f":"Worksheet!R217","v":0},{"$f":"IF(ISERROR(Worksheet!P217)=FALSE,Worksheet!P217,\"\")","v":0},"Watts",null,null,{"$f":"IF(Worksheet!AP217<>\"\",IF(Worksheet!AP217>0,Worksheet!AP217/IF(Worksheet!M217>0,Worksheet!M217,Worksheet!L217),\"\"),\"\")","v":""},{"$f":"IF(ISBLANK(Worksheet!L217)=FALSE,Worksheet!L217,\"\")","v":0},{"$f":"IF(Worksheet!L217<>0, IFERROR(VLOOKUP(Worksheet!$C$16,SavingsSupportTable,3,FALSE)*Worksheet!AQ217*IFERROR(1+VLOOKUP(Worksheet!$C$16,SavingsSupportTable,MATCH(Worksheet!$G$17,HVACe_Options,0)+4,FALSE),1)/IF(Worksheet!M217>0,Worksheet!M217,Worksheet!L217),\"\"),\"\")","v":""},{"$f":"IF(Worksheet!L217<>0, IFERROR(VLOOKUP(Worksheet!$C$16,SavingsSupportTable,2,FALSE)*Worksheet!AQ217*IF(IFERROR(MATCH(Worksheet!$G$17,HVACe_Options,0),0)>0,1+VLOOKUP(Worksheet!$C$16,SavingsSupportTable,4,FALSE),1)/IF(Worksheet!M217>0,Worksheet!M217,Worksheet!L217),\"\"),\"\")","v":""},"",{"$f":"IF(Worksheet!L217<>0,IFERROR(VLOOKUP(Worksheet!$C$16,SavingsSupportTable,3,FALSE)*Worksheet!AQ217*IF(IFERROR(SEARCH(\"Gas\",Worksheet!$G$17),0)>0,VLOOKUP(\"Gas\",HVACg_Lookup,MATCH(Worksheet!$G$16,BuildingSize,0)+1,FALSE),IF(IFERROR(SEARCH(\"Oil\",Worksheet!$G$17),0)>0,VLOOKUP(\"Oil\",HVACg_Lookup,MATCH(Worksheet!$G$16,BuildingSize,0)+1,FALSE),IF(IFERROR(SEARCH(\"Propane\",Worksheet!$G$17),0)>0,VLOOKUP(\"Propane\",HVACg_Lookup,MATCH(Worksheet!$G$16,BuildingSize,0)+1,FALSE),0)))/IF(Worksheet!M217>0,Worksheet!M217,Worksheet!L217),0),\"\")","v":""},"",null,null,null,{"$f":"IF(ISBLANK(Worksheet!M217)=FALSE,Worksheet!M217,\"\")","v":0},{"$f":"IF(Worksheet!A217=\"-\",\"\",IF(Worksheet!A217=\"\",S193,Worksheet!A217))","v":""},{"$f":"IF(S194=\"\",\"\",IF(AND(Worksheet!G217=\"\",Worksheet!H217=\"\")=TRUE,T193,IF(Worksheet!G217=\"\",\"\",Worksheet!G217)))","v":""},{"$f":"IF(S194=\"\",\"\",IF(AND(Worksheet!G217=\"\",Worksheet!H217=\"\")=TRUE,U193,IF(Worksheet!H217=\"\",\"\",Worksheet!H217)))","v":""},{"$f":"IF(Worksheet!N217=\"\",\"\",Worksheet!N217)","v":""},{"$f":"IF(Worksheet!O217=\"\",\"\",Worksheet!O217)","v":""},{"$f":"IF(Worksheet!F217=0,\"\",Worksheet!F217)","v":""},{"$f":"IF(Worksheet!P217=0,\"\",Worksheet!P217)","v":""},{"$f":"IF(Worksheet!$A$11=TRUE,\"Y\",\"N\")","v":"N"},{"$f":"IF(Worksheet!$A$12=TRUE,\"Y\",\"N\")","v":"N"},{"$f":"IF(Worksheet!$B$11=TRUE,\"Y\",\"N\")","v":"N"},{"$f":"IF(Worksheet!$B$12=TRUE,\"Y\",\"N\")","v":"N"},{"$f":"IF(Worksheet!$C$11=TRUE,\"Y\",\"N\")","v":"N"},{"$f":"IF(Worksheet!$C$12=TRUE,\"Y\",\"N\")","v":"N"},""]
[{"$f":"IF(ISERROR(VLOOKUP(Worksheet!N218,MeasureLookup,2,FALSE))=FALSE,VLOOKUP(Worksheet!N218,MeasureLookup,2,FALSE),\"\")","v":""},{"$f":"Worksheet!Q218","v":0},{"$f":"Worksheet!R218","v":0},{"$f":"IF(ISERROR(Worksheet!P218)=FALSE,Worksheet!P218,\"\")","v":0},"Watts",null,null,{"$f":"IF(Worksheet!AP218<>\"\",IF(Worksheet!AP218>0,Worksheet!AP218/IF(Worksheet!M218>0,Worksheet!M218,Worksheet!L218),\"\"),\"\")","v":""},{"$f":"IF(ISBLANK(Worksheet!L218)=FALSE,Worksheet!L218,\"\")","v":0},{"$f":"IF(Worksheet!L218<>0, IFERROR(VLOOKUP(Worksheet!$C$16,SavingsSupportTable,3,FALSE)*Worksheet!AQ218*IFERROR(1+VLOOKUP(Worksheet!$C$16,SavingsSupportTable,MATCH(Worksheet!$G$17,HVACe_Options,0)+4,FALSE),1)/IF(Worksheet!M218>0,Worksheet!M218,Worksheet!L218),\"\"),\"\")","v":""},{"$f":"IF(Worksheet!L218<>0, IFERROR(VLOOKUP(Worksheet!$C$16,SavingsSupportTable,2,FALSE)*Worksheet!AQ218*IF(IFERROR(MATCH(Worksheet!$G$17,HVACe_Options,0),0)>0,1+VLOOKUP(Worksheet!$C$16,SavingsSupportTable,4,FALSE),1)/IF(Worksheet!M218>0,Worksheet!M218,Worksheet!L218),\"\"),\"\")","v":""},{"$f":"IF(ISERROR(J195*15)=FALSE,J195*15,\"\")","v":""},{"$f":"IF(Worksheet!L218<>0,IFERROR(VLOOKUP(Worksheet!$C$16,SavingsSupportTable,3,FALSE)*Worksheet!AQ218*IF(IFERROR(SEARCH(\"Gas\",Worksheet!$G$17),0)>0,VLOOKUP(\"Gas\",HVACg_Lookup,MATCH(Worksheet!$G$16,BuildingSize,0)+1,FALSE),IF(IFERROR(SEARCH(\"Oil\",Worksheet!$G$17),0)>0,VLOOKUP(\"Oil\",HVACg_Lookup,MATCH(Worksheet!$G$16,BuildingSize,0)+1,FALSE),IF(IFERROR(SEARCH(\"Propane\",Worksheet!$G$17),0)>0,VLOOKUP(\"Propane\",HVACg_Lookup,MATCH(Worksheet!$G$16,BuildingSize,0)+1,FALSE),0)))/IF(Worksheet!M218>0,Worksheet!M218,Worksheet!L218),0),\"\")","v":""},{"$f":"IF(ISERROR(M195*15)=FALSE,M195*15,\"\")","v":""},null,null,null,{"$f":"IF(ISBLANK(Worksheet!M218)=FALSE,Worksheet!M218,\"\")","v":0},{"$f":"IF(Worksheet!A218=\"-\",\"\",IF(Worksheet!A218=\"\",S194,Worksheet!A218))","v":""},{"$f":"IF(S195=\"\",\"\",IF(AND(Worksheet!G218=\"\",Worksheet!H218=\"\")=TRUE,T194,IF(Worksheet!G218=\"\",\"\",Worksheet!G218)))","v":""},{"$f":"IF(S195=\"\",\"\",IF(AND(Worksheet!G218=\"\",Worksheet!H218=\"\")=TRUE,U194,IF(Worksheet!H218=\"\",\"\",Worksheet!H218)))","v":""},{"$f":"IF(Worksheet!N218=\"\",\"\",Worksheet!N218)","v":""},{"$f":"IF(Worksheet!O218=\"\",\"\",Worksheet!O218)","v":""},{"$f":"IF(Worksheet!F218=0,\"\",Worksheet!F218)","v":""},{"$f":"IF(Worksheet!P218=0,\"\",Worksheet!P218)","v":""},{"$f":"IF(Worksheet!$A$11=TRUE,\"Y\",\"N\")","v":"N"},{"$f":"IF(Worksheet!$A$12=TRUE,\"Y\",\"N\")","v":"N"},{"$f":"IF(Worksheet!$B$11=TRUE,\"Y\",\"N\")","v":"N"},{"$f":"IF(Worksheet!$B$12=TRUE,\"Y\",\"N\")","v":"N"},{"$f":"IF(Worksheet!$C$11=TRUE,\"Y\",\"N\")","v":"N"},{"$f":"IF(Worksheet!$C$12=TRUE,\"Y\",\"N\")","v":"N"},{"$f":"IFERROR(IF(OR(Z195=\"Y\",AA195=\"Y\",AB195=\"Y\",AC195=\"Y\",AD195=\"Y\",AE195=\"Y\")=TRUE,H195,\"\"),\"\")","v":""}]
[{"$f":"IF(ISERROR(VLOOKUP(Worksheet!N219,MeasureLookup,2,FALSE))=FALSE,VLOOKUP(Worksheet!N219,MeasureLookup,2,FALSE),\"\")","v":""},{"$f":"Worksheet!Q219","v":0},{"$f":"Worksheet!R219","v":0},{"$f":"IF(ISERROR(Worksheet!P219)=FALSE,Worksheet!P219,\"\")","v":0},"Watts",null,null,{"$f":"IF(Worksheet!AP219<>\"\",IF(Worksheet!AP219>0,Worksheet!AP219/IF(Worksheet!M219>0,Worksheet!M219,Worksheet!L219),\"\"),\"\")","v":""},{"$f":"IF(ISBLANK(Worksheet!L219)=FALSE,Worksheet!L219,\"\")","v":0},{"$f":"IF(Worksheet!L219<>0, IFERROR(VLOOKUP(Worksheet!$C$16,SavingsSupportTable,3,FALSE)*Worksheet!AQ219*IFERROR(1+VLOOKUP(Worksheet!$C$16,SavingsSupportTable,MATCH(Worksheet!$G$17,HVACe_Options,0)+4,FALSE),1)/IF(Worksheet!M219>0,Worksheet!M219,Worksheet!L219),\"\"),\"\")","v":""},{"$f":"IF(Worksheet!L219<>0, IFERROR(VLOOKUP(Worksheet!$C$16,SavingsSupportTable,2,FALSE)*Worksheet!AQ219*IF(IFERROR(MATCH(Worksheet!$G$17,HVACe_Options,0),0)>0,1+VLOOKUP(Worksheet!$C$16,SavingsSupportTable,4,FALSE),1)/IF(Worksheet!M219>0,Worksheet!M219,Worksheet!L219),\"\"),\"\")","v":""},"",{"$f":"IF(Worksheet!L219<>0,IFERROR(VLOOKUP(Worksheet!$C$16,SavingsSupportTable,3,FALSE)*Worksheet!AQ219*IF(IFERROR(SEARCH(\"Gas\",Worksheet!$G$17),0)>0,VLOOKUP(\"Gas\",HVACg_Lookup,MATCH(Worksheet!$G$16,BuildingSize,0)+1,FALSE),IF(IFERROR(SEARCH(\"Oil\",Worksheet!$G$17),0)>0,VLOOKUP(\"Oil\",HVACg_Lookup,MATCH(Worksheet!$G$16,BuildingSize,0)+1,FALSE),IF(IFERROR(SEARCH(\"Propane\",Worksheet!$G$17),0)>0,VLOOKUP(\"Propane\",HVACg_Lookup,MATCH(Worksheet!$G$16,BuildingSize,0)+1,FALSE),0)))/IF(Worksheet!M219>0,Worksheet!M219,Worksheet!L219),0),\"\")","v":""},"",null,null,null,{"$f":"IF(ISBLANK(Worksheet!M219)=FALSE,Worksheet!M219,\"\")","v":0},{"$f":"IF(Worksheet!A219=\"-\",\"\",IF(Worksheet!A219=\"\",S195,Worksheet!A219))","v":""},{"$f":"IF(S196=\"\",\"\",IF(AND(Worksheet!G219=\"\",Worksheet!H219=\"\")=TRUE,T195,IF(Worksheet!G219=\"\",\"\",Worksheet!G219)))","v":""},{"$f":"IF(S196=\"\",\"\",IF(AND(Worksheet!G219=\"\",Worksheet!H219=\"\")=TRUE,U195,IF(Worksheet!H219=\"\",\"\",Worksheet!H219)))","v":""},{"$f":"IF(Worksheet!N219=\"\",\"\",Worksheet!N219)","v":""},{"$f":"IF(Worksheet!O219=\"\",\"\",Worksheet!O219)","v":""},{"$f":"IF(Worksheet!F219=0,\"\",Worksheet!F219)","v":""},{"$f":"IF(Worksheet!P219=0,\"\",Worksheet!P219)","v":""},{"$f":"IF(Worksheet!$A$11=TRUE,\"Y\",\"N\")","v":"N"},{"$f":"IF(Worksheet!$A$12=TRUE,\"Y\",\"N\")","v":"N"},{"$f":"IF(Worksheet!$B$11=TRUE,\"Y\",\"N\")","v":"N"},{"$f":"IF(Worksheet!$B$12=TRUE,\"Y\",\"N\")","v":"N"},{"$f":"IF(Worksheet!$C$11=TRUE,\"Y\",\"N\")","v":"N"},{"$f":"IF(Worksheet!$C$12=TRUE,\"Y\",\"N\")","v":"N"},""]
[{"$f":"IF(ISERROR(VLOOKUP(Worksheet!N220,MeasureLookup,2,FALSE))=FALSE,VLOOKUP(Worksheet!N220,MeasureLookup,2,FALSE),\"\")","v":""},{"$f":"Worksheet!Q220","v":0},{"$f":"Worksheet!R220","v":0},{"$f":"IF(ISERROR(Worksheet!P220)=FALSE,Worksheet!P220,\"\")","v":0},"Watts",null,null,{"$f":"IF(Worksheet!AP220<>\"\",IF(Worksheet!AP220>0,Worksheet!AP220/IF(Worksheet!M220>0,Worksheet!M220,Worksheet!L220),\"\"),\"\")","v":""},{"$f":"IF(ISBLANK(Worksheet!L220)=FALSE,Worksheet!L220,\"\")","v":0},{"$f":"IF(Worksheet!L220<>0, IFERROR(VLOOKUP(Worksheet!$C$16,SavingsSupportTable,3,FALSE)*Worksheet!AQ220*IFERROR(1+VLOOKUP(Worksheet!$C$16,SavingsSupportTable,MATCH(Worksheet!$G$17,HVACe_Options,0)+4,FALSE),1)/IF(Worksheet!M220>0,Worksheet!M220,Worksheet!L220),\"\"),\"\")","v":""},{"$f":"IF(Worksheet!L220<>0, IFERROR(VLOOKUP(Worksheet!$C$16,SavingsSupportTable,2,FALSE)*Worksheet!AQ220*IF(IFERROR(MATCH(Worksheet!$G$17,HVACe_Options,0),0)>0,1+VLOOKUP(Worksheet!$C$16,SavingsSupportTable,4,FALSE),1)/IF(Worksheet!M220>0,Worksheet!M220,Worksheet!L220),\"\"),\"\")","v":""},"",{"$f":"IF(Worksheet!L220<>0,IFERROR(VLOOKUP(Worksheet!$C$16,SavingsSupportTable,3,FALSE)*Worksheet!AQ220*IF(IFERROR(SEARCH(\"Gas\",Worksheet!$G$17),0)>0,VLOOKUP(\"Gas\",HVACg_Lookup,MATCH(Worksheet!$G$16,BuildingSize,0)+1,FALSE),IF(IFERROR(SEARCH(\"Oil\",Worksheet!$G$17),0)>0,VLOOKUP(\"Oil\",HVACg_Lookup,MATCH(Worksheet!$G$16,BuildingSize,0)+1,FALSE),IF(IFERROR(SEARCH(\"Propane\",Worksheet!$G$17),0)>0,VLOOKUP(\"Propane\",HVACg_Lookup,MATCH(Worksheet!$G$16,BuildingSize,0)+1,FALSE),0)))/IF(Worksheet!M220>0,Worksheet!M220,Worksheet!L220),0),\"\")","v":""},"",null,null,null,{"$f":"IF(ISBLANK(Worksheet!M220)=FALSE,Worksheet!M220,\"\")","v":0},{"$f":"IF(Worksheet!A220=\"-\",\"\",IF(Worksheet!A220=\"\",S196,Worksheet!A220))","v":""},{"$f":"IF(S197=\"\",\"\",IF(AND(Worksheet!G220=\"\",Worksheet!H220=\"\")=TRUE,T196,IF(Worksheet!G220=\"\",\"\",Worksheet!G220)))","v":""},{"$f":"IF(S197=\"\",\"\",IF(AND(Worksheet!G220=\"\",Worksheet!H220=\"\")=TRUE,U196,IF(Worksheet!H220=\"\",\"\",Worksheet!H220)))","v":""},{"$f":"IF(Worksheet!N220=\"\",\"\",Worksheet!N220)","v":""},{"$f":"IF(Worksheet!O220=\"\",\"\",Worksheet!O220)","v":""},{"$f":"IF(Worksheet!F220=0,\"\",Worksheet!F220)","v":""},{"$f":"IF(Worksheet!P220=0,\"\",Worksheet!P220)","v":""},{"$f":"IF(Worksheet!$A$11=TRUE,\"Y\",\"N\")","v":"N"},{"$f":"IF(Worksheet!$A$12=TRUE,\"Y\",\"N\")","v":"N"},{"$f":"IF(Worksheet!$B$11=TRUE,\"Y\",\"N\")","v":"N"},{"$f":"IF(Worksheet!$B$12=TRUE,\"Y\",\"N\")","v":"N"},{"$f":"IF(Worksheet!$C$11=TRUE,\"Y\",\"N\")","v":"N"},{"$f":"IF(Worksheet!$C$12=TRUE,\"Y\",\"N\")","v":"N"},""]
[{"$f":"IF(ISERROR(VLOOKUP(Worksheet!N221,MeasureLookup,2,FALSE))=FALSE,VLOOKUP(Worksheet!N221,MeasureLookup,2,FALSE),\"\")","v":""},{"$f":"Worksheet!Q221","v":0},{"$f":"Worksheet!R221","v":0},{"$f":"IF(ISERROR(Worksheet!P221)=FALSE,Worksheet!P221,\"\")","v":0},"Watts",null,null,{"$f":"IF(Worksheet!AP221<>\"\",IF(Worksheet!AP221>0,Worksheet!AP221/IF(Worksheet!M221>0,Worksheet!M221,Worksheet!L221),\"\"),\"\")","v":""},{"$f":"IF(ISBLANK(Worksheet!L221)=FALSE,Worksheet!L221,\"\")","v":0},{"$f":"IF(Worksheet!L221<>0, IFERROR(VLOOKUP(Worksheet!$C$16,SavingsSupportTable,3,FALSE)*Worksheet!AQ221*IFERROR(1+VLOOKUP(Worksheet!$C$16,SavingsSupportTable,MATCH(Worksheet!$G$17,HVACe_Options,0)+4,FALSE),1)/IF(Worksheet!M221>0,Worksheet!M221,Worksheet!L221),\"\"),\"\")","v":""},{"$f":"IF(Worksheet!L221<>0, IFERROR(VLOOKUP(Worksheet!$C$16,SavingsSupportTable,2,FALSE)*Worksheet!AQ221*IF(IFERROR(MATCH(Worksheet!$G$17,HVACe_Options,0),0)>0,1+VLOOKUP(Worksheet!$C$16,SavingsSupportTable,4,FALSE),1)/IF(Worksheet!M221>0,Worksheet!M221,Worksheet!L221),\"\"),\"\")","v":""},"",{"$f":"IF(Worksheet!L221<>0,IFERROR(VLOOKUP(Worksheet!$C$16,SavingsSupportTable,3,FALSE)*Worksheet!AQ221*IF(IFERROR(SEARCH(\"Gas\",Worksheet!$G$17),0)>0,VLOOKUP(\"Gas\",HVACg_Lookup,MATCH(Worksheet!$G$16,BuildingSize,0)+1,FALSE),IF(IFERROR(SEARCH(\"Oil\",Worksheet!$G$17),0)>0,VLOOKUP(\"Oil\",HVACg_Lookup,MATCH(Worksheet!$G$16,BuildingSize,0)+1,FALSE),IF(IFERROR(SEARCH(\"Propane\",Worksheet!$G$17),0)>0,VLOOKUP(\"Propane\",HVACg_Lookup,MATCH(Worksheet!$G$16,BuildingSize,0)+1,FALSE),0)))/IF(Worksheet!M221>0,Worksheet!M221,Worksheet!L221),0),\"\")","v":""},"",null,null,null,{"$f":"IF(ISBLANK(Worksheet!M221)=FALSE,Worksheet!M221,\"\")","v":0},{"$f":"IF(Worksheet!A221=\"-\",\"\",IF(Worksheet!A221=\"\",S197,Worksheet!A221))","v":""},{"$f":"IF(S198=\"\",\"\",IF(AND(Worksheet!G221=\"\",Worksheet!H221=\"\")=TRUE,T197,IF(Worksheet!G221=\"\",\"\",Worksheet!G221)))","v":""},{"$f":"IF(S198=\"\",\"\",IF(AND(Worksheet!G221=\"\",Worksheet!H221=\"\")=TRUE,U197,IF(Worksheet!H221=\"\",\"\",Worksheet!H221)))","v":""},{"$f":"IF(Worksheet!N221=\"\",\"\",Worksheet!N221)","v":""},{"$f":"IF(Worksheet!O221=\"\",\"\",Worksheet!O221)","v":""},{"$f":"IF(Worksheet!F221=0,\"\",Worksheet!F221)","v":""},{"$f":"IF(Worksheet!P221=0,\"\",Worksheet!P221)","v":""},{"$f":"IF(Worksheet!$A$11=TRUE,\"Y\",\"N\")","v":"N"},{"$f":"IF(Worksheet!$A$12=TRUE,\"Y\",\"N\")","v":"N"},{"$f":"IF(Worksheet!$B$11=TRUE,\"Y\",\"N\")","v":"N"},{"$f":"IF(Worksheet!$B$12=TRUE,\"Y\",\"N\")","v":"N"},{"$f":"IF(Worksheet!$C$11=TRUE,\"Y\",\"N\")","v":"N"},{"$f":"IF(Worksheet!$C$12=TRUE,\"Y\",\"N\")","v":"N"},""]
[{"$f":"IF(ISERROR(VLOOKUP(Worksheet!N222,MeasureLookup,2,FALSE))=FALSE,VLOOKUP(Worksheet!N222,MeasureLookup,2,FALSE),\"\")","v":""},{"$f":"Worksheet!Q222","v":0},{"$f":"Worksheet!R222","v":0},{"$f":"IF(ISERROR(Worksheet!P222)=FALSE,Worksheet!P222,\"\")","v":0},"Watts",null,null,{"$f":"IF(Worksheet!AP222<>\"\",IF(Worksheet!AP222>0,Worksheet!AP222/IF(Worksheet!M222>0,Worksheet!M222,Worksheet!L222),\"\"),\"\")","v":""},{"$f":"IF(ISBLANK(Worksheet!L222)=FALSE,Worksheet!L222,\"\")","v":0},{"$f":"IF(Worksheet!L222<>0, IFERROR(VLOOKUP(Worksheet!$C$16,SavingsSupportTable,3,FALSE)*Worksheet!AQ222*IFERROR(1+VLOOKUP(Worksheet!$C$16,SavingsSupportTable,MATCH(Worksheet!$G$17,HVACe_Options,0)+4,FALSE),1)/IF(Worksheet!M222>0,Worksheet!M222,Worksheet!L222),\"\"),\"\")","v":""},{"$f":"IF(Worksheet!L222<>0, IFERROR(VLOOKUP(Worksheet!$C$16,SavingsSupportTable,2,FALSE)*Worksheet!AQ222*IF(IFERROR(MATCH(Worksheet!$G$17,HVACe_Options,0),0)>0,1+VLOOKUP(Worksheet!$C$16,SavingsSupportTable,4,FALSE),1)/IF(Worksheet!M222>0,Worksheet!M222,Worksheet!L222),\"\"),\"\")","v":""},"",{"$f":"IF(Worksheet!L222<>0,IFERROR(VLOOKUP(Worksheet!$C$16,SavingsSupportTable,3,FALSE)*Worksheet!AQ222*IF(IFERROR(SEARCH(\"Gas\",Worksheet!$G$17),0)>0,VLOOKUP(\"Gas\",HVACg_Lookup,MATCH(Worksheet!$G$16,BuildingSize,0)+1,FALSE),IF(IFERROR(SEARCH(\"Oil\",Worksheet!$G$17),0)>0,VLOOKUP(\"Oil\",HVACg_Lookup,MATCH(Worksheet!$G$16,BuildingSize,0)+1,FALSE),IF(IFERROR(SEARCH(\"Propane\",Worksheet!$G$17),0)>0,VLOOKUP(\"Propane\",HVACg_Lookup,MATCH(Worksheet!$G$16,BuildingSize,0)+1,FALSE),0)))/IF(Worksheet!M222>0,Worksheet!M222,Worksheet!L222),0),\"\")","v":""},"",null,null,null,{"$f":"IF(ISBLANK(Worksheet!M222)=FALSE,Worksheet!M222,\"\")","v":0},{"$f":"IF(Worksheet!A222=\"-\",\"\",IF(Worksheet!A222=\"\",S198,Worksheet!A222))","v":""},{"$f":"IF(S199=\"\",\"\",IF(AND(Worksheet!G222=\"\",Worksheet!H222=\"\")=TRUE,T198,IF(Worksheet!G222=\"\",\"\",Worksheet!G222)))","v":""},{"$f":"IF(S199=\"\",\"\",IF(AND(Worksheet!G222=\"\",Worksheet!H222=\"\")=TRUE,U198,IF(Worksheet!H222=\"\",\"\",Worksheet!H222)))","v":""},{"$f":"IF(Worksheet!N222=\"\",\"\",Worksheet!N222)","v":""},{"$f":"IF(Worksheet!O222=\"\",\"\",Worksheet!O222)","v":""},{"$f":"IF(Worksheet!F222=0,\"\",Worksheet!F222)","v":""},{"$f":"IF(Worksheet!P222=0,\"\",Worksheet!P222)","v":""},{"$f":"IF(Worksheet!$A$11=TRUE,\"Y\",\"N\")","v":"N"},{"$f":"IF(Worksheet!$A$12=TRUE,\"Y\",\"N\")","v":"N"},{"$f":"IF(Worksheet!$B$11=TRUE,\"Y\",\"N\")","v":"N"},{"$f":"IF(Worksheet!$B$12=TRUE,\"Y\",\"N\")","v":"N"},{"$f":"IF(Worksheet!$C$11=TRUE,\"Y\",\"N\")","v":"N"},{"$f":"IF(Worksheet!$C$12=TRUE,\"Y\",\"N\")","v":"N"},""]
[{"$f":"IF(ISERROR(VLOOKUP(Worksheet!N223,MeasureLookup,2,FALSE))=FALSE,VLOOKUP(Worksheet!N223,MeasureLookup,2,FALSE),\"\")","v":""},{"$f":"Worksheet!Q223","v":0},{"$f":"Worksheet!R223","v":0},{"$f":"IF(ISERROR(Worksheet!P223)=FALSE,Worksheet!P223,\"\")","v":0},"Watts",null,null,{"$f":"IF(Worksheet!AP223<>\"\",IF(Worksheet!AP223>0,Worksheet!AP223/IF(Worksheet!M223>0,Worksheet!M223,Worksheet!L223),\"\"),\"\")","v":""},{"$f":"IF(ISBLANK(Worksheet!L223)=FALSE,Worksheet!L223,\"\")","v":0},{"$f":"IF(Worksheet!L223<>0, IFERROR(VLOOKUP(Worksheet!$C$16,SavingsSupportTable,3,FALSE)*Worksheet!AQ223*IFERROR(1+VLOOKUP(Worksheet!$C$16,SavingsSupportTable,MATCH(Worksheet!$G$17,HVACe_Options,0)+4,FALSE),1)/IF(Worksheet!M223>0,Worksheet!M223,Worksheet!L223),\"\"),\"\")","v":""},{"$f":"IF(Worksheet!L223<>0, IFERROR(VLOOKUP(Worksheet!$C$16,SavingsSupportTable,2,FALSE)*Worksheet!AQ223*IF(IFERROR(MATCH(Worksheet!$G$17,HVACe_Options,0),0)>0,1+VLOOKUP(Worksheet!$C$16,SavingsSupportTable,4,FALSE),1)/IF(Worksheet!M223>0,Worksheet!M223,Worksheet!L223),\"\"),\"\")","v":""},"",{"$f":"IF(Worksheet!L223<>0,IFERROR(VLOOKUP(Worksheet!$C$16,SavingsSupportTable,3,FALSE)*Worksheet!AQ223*IF(IFERROR(SEARCH(\"Gas\",Worksheet!$G$17),0)>0,VLOOKUP(\"Gas\",HVACg_Lookup,MATCH(Worksheet!$G$16,BuildingSize,0)+1,FALSE),IF(IFERROR(SEARCH(\"Oil\",Worksheet!$G$17),0)>0,VLOOKUP(\"Oil\",HVACg_Lookup,MATCH(Worksheet!$G$16,BuildingSize,0)+1,FALSE),IF(IFERROR(SEARCH(\"Propane\",Worksheet!$G$17),0)>0,VLOOKUP(\"Propane\",HVACg_Lookup,MATCH(Worksheet!$G$16,BuildingSize,0)+1,FALSE),0)))/IF(Worksheet!M223>0,Worksheet!M223,Worksheet!L223),0),\"\")","v":""},"",null,null,null,{"$f":"IF(ISBLANK(Worksheet!M223)=FALSE,Worksheet!M223,\"\")","v":0},{"$f":"IF(Worksheet!A223=\"-\",\"\",IF(Worksheet!A223=\"\",S199,Worksheet!A223))","v":""},{"$f":"IF(S200=\"\",\"\",IF(AND(Worksheet!G223=\"\",Worksheet!H223=\"\")=TRUE,T199,IF(Worksheet!G223=\"\",\"\",Worksheet!G223)))","v":""},{"$f":"IF(S200=\"\",\"\",IF(AND(Worksheet!G223=\"\",Worksheet!H223=\"\")=TRUE,U199,IF(Worksheet!H223=\"\",\"\",Worksheet!H223)))","v":""},{"$f":"IF(Worksheet!N223=\"\",\"\",Worksheet!N223)","v":""},{"$f":"IF(Worksheet!O223=\"\",\"\",Worksheet!O223)","v":""},{"$f":"IF(Worksheet!F223=0,\"\",Worksheet!F223)","v":""},{"$f":"IF(Worksheet!P223=0,\"\",Worksheet!P223)","v":""},{"$f":"IF(Worksheet!$A$11=TRUE,\"Y\",\"N\")","v":"N"},{"$f":"IF(Worksheet!$A$12=TRUE,\"Y\",\"N\")","v":"N"},{"$f":"IF(Worksheet!$B$11=TRUE,\"Y\",\"N\")","v":"N"},{"$f":"IF(Worksheet!$B$12=TRUE,\"Y\",\"N\")","v":"N"},{"$f":"IF(Worksheet!$C$11=TRUE,\"Y\",\"N\")","v":"N"},{"$f":"IF(Worksheet!$C$12=TRUE,\"Y\",\"N\")","v":"N"},""]
[{"$f":"IF(ISERROR(VLOOKUP(Worksheet!N224,MeasureLookup,2,FALSE))=FALSE,VLOOKUP(Worksheet!N224,MeasureLookup,2,FALSE),\"\")","v":""},{"$f":"Worksheet!Q224","v":0},{"$f":"Worksheet!R224","v":0},{"$f":"IF(ISERROR(Worksheet!P224)=FALSE,Worksheet!P224,\"\")","v":0},"Watts",null,null,{"$f":"IF(Worksheet!AP224<>\"\",IF(Worksheet!AP224>0,Worksheet!AP224/IF(Worksheet!M224>0,Worksheet!M224,Worksheet!L224),\"\"),\"\")","v":""},{"$f":"IF(ISBLANK(Worksheet!L224)=FALSE,Worksheet!L224,\"\")","v":0},{"$f":"IF(Worksheet!L224<>0, IFERROR(VLOOKUP(Worksheet!$C$16,SavingsSupportTable,3,FALSE)*Worksheet!AQ224*IFERROR(1+VLOOKUP(Worksheet!$C$16,SavingsSupportTable,MATCH(Worksheet!$G$17,HVACe_Options,0)+4,FALSE),1)/IF(Worksheet!M224>0,Worksheet!M224,Worksheet!L224),\"\"),\"\")","v":""},{"$f":"IF(Worksheet!L224<>0, IFERROR(VLOOKUP(Worksheet!$C$16,SavingsSupportTable,2,FALSE)*Worksheet!AQ224*IF(IFERROR(MATCH(Worksheet!$G$17,HVACe_Options,0),0)>0,1+VLOOKUP(Worksheet!$C$16,SavingsSupportTable,4,FALSE),1)/IF(Worksheet!M224>0,Worksheet!M224,Worksheet!L224),\"\"),\"\")","v":""},"",{"$f":"IF(Worksheet!L224<>0,IFERROR(VLOOKUP(Worksheet!$C$16,SavingsSupportTable,3,FALSE)*Worksheet!AQ224*IF(IFERROR(SEARCH(\"Gas\",Worksheet!$G$17),0)>0,VLOOKUP(\"Gas\",HVACg_Lookup,MATCH(Worksheet!$G$16,BuildingSize,0)+1,FALSE),IF(IFERROR(SEARCH(\"Oil\",Worksheet!$G$17),0)>0,VLOOKUP(\"Oil\",HVACg_Lookup,MATCH(Worksheet!$G$16,BuildingSize,0)+1,FALSE),IF(IFERROR(SEARCH(\"Propane\",Worksheet!$G$17),0)>0,VLOOKUP(\"Propane\",HVACg_Lookup,MATCH(Worksheet!$G$16,BuildingSize,0)+1,FALSE),0)))/IF(Worksheet!M224>0,Worksheet!M224,Worksheet!L224),0),\"\")","v":""},"",null,null,null,{"$f":"IF(ISBLANK(Worksheet!M224)=FALSE,Worksheet!M224,\"\")","v":0},{"$f":"IF(Worksheet!A224=\"-\",\"\",IF(Worksheet!A224=\"\",S200,Worksheet!A224))","v":""},{"$f":"IF(S201=\"\",\"\",IF(AND(Worksheet!G224=\"\",Worksheet!H224=\"\")=TRUE,T200,IF(Worksheet!G224=\"\",\"\",Worksheet!G224)))","v":""},{"$f":"IF(S201=\"\",\"\",IF(AND(Worksheet!G224=\"\",Worksheet!H224=\"\")=TRUE,U200,IF(Worksheet!H224=\"\",\"\",Worksheet!H224)))","v":""},{"$f":"IF(Worksheet!N224=\"\",\"\",Worksheet!N224)","v":""},{"$f":"IF(Worksheet!O224=\"\",\"\",Worksheet!O224)","v":""},{"$f":"IF(Worksheet!F224=0,\"\",Worksheet!F224)","v":""},{"$f":"IF(Worksheet!P224=0,\"\",Worksheet!P224)","v":""},{"$f":"IF(Worksheet!$A$11=TRUE,\"Y\",\"N\")","v":"N"},{"$f":"IF(Worksheet!$A$12=TRUE,\"Y\",\"N\")","v":"N"},{"$f":"IF(Worksheet!$B$11=TRUE,\"Y\",\"N\")","v":"N"},{"$f":"IF(Worksheet!$B$12=TRUE,\"Y\",\"N\")","v":"N"},{"$f":"IF(Worksheet!$C$11=TRUE,\"Y\",\"N\")","v":"N"},{"$f":"IF(Worksheet!$C$12=TRUE,\"Y\",\"N\")","v":"N"},""]
[{"$f":"IF(ISERROR(VLOOKUP(Worksheet!N225,MeasureLookup,2,FALSE))=FALSE,VLOOKUP(Worksheet!N225,MeasureLookup,2,FALSE),\"\")","v":""},{"$f":"Worksheet!Q225","v":0},{"$f":"Worksheet!R225","v":0},{"$f":"IF(ISERROR(Worksheet!P225)=FALSE,Worksheet!P225,\"\")","v":0},"Watts",null,null,{"$f":"IF(Worksheet!AP225<>\"\",IF(Worksheet!AP225>0,Worksheet!AP225/IF(Worksheet!M225>0,Worksheet!M225,Worksheet!L225),\"\"),\"\")","v":""},{"$f":"IF(ISBLANK(Worksheet!L225)=FALSE,Worksheet!L225,\"\")","v":0},{"$f":"IF(Worksheet!L225<>0, IFERROR(VLOOKUP(Worksheet!$C$16,SavingsSupportTable,3,FALSE)*Worksheet!AQ225*IFERROR(1+VLOOKUP(Worksheet!$C$16,SavingsSupportTable,MATCH(Worksheet!$G$17,HVACe_Options,0)+4,FALSE),1)/IF(Worksheet!M225>0,Worksheet!M225,Worksheet!L225),\"\"),\"\")","v":""},{"$f":"IF(Worksheet!L225<>0, IFERROR(VLOOKUP(Worksheet!$C$16,SavingsSupportTable,2,FALSE)*Worksheet!AQ225*IF(IFERROR(MATCH(Worksheet!$G$17,HVACe_Options,0),0)>0,1+VLOOKUP(Worksheet!$C$16,SavingsSupportTable,4,FALSE),1)/IF(Worksheet!M225>0,Worksheet!M225,Worksheet!L225),\"\"),\"\")","v":""},"",{"$f":"IF(Worksheet!L225<>0,IFERROR(VLOOKUP(Worksheet!$C$16,SavingsSupportTable,3,FALSE)*Worksheet!AQ225*IF(IFERROR(SEARCH(\"Gas\",Worksheet!$G$17),0)>0,VLOOKUP(\"Gas\",HVACg_Lookup,MATCH(Worksheet!$G$16,BuildingSize,0)+1,FALSE),IF(IFERROR(SEARCH(\"Oil\",Worksheet!$G$17),0)>0,VLOOKUP(\"Oil\",HVACg_Lookup,MATCH(Worksheet!$G$16,BuildingSize,0)+1,FALSE),IF(IFERROR(SEARCH(\"Propane\",Worksheet!$G$17),0)>0,VLOOKUP(\"Propane\",HVACg_Lookup,MATCH(Worksheet!$G$16,BuildingSize,0)+1,FALSE),0)))/IF(Worksheet!M225>0,Worksheet!M225,Worksheet!L225),0),\"\")","v":""},"",null,null,null,{"$f":"IF(ISBLANK(Worksheet!M225)=FALSE,Worksheet!M225,\"\")","v":0},{"$f":"IF(Worksheet!A225=\"-\",\"\",IF(Worksheet!A225=\"\",S201,Worksheet!A225))","v":""},{"$f":"IF(S202=\"\",\"\",IF(AND(Worksheet!G225=\"\",Worksheet!H225=\"\")=TRUE,T201,IF(Worksheet!G225=\"\",\"\",Worksheet!G225)))","v":""},{"$f":"IF(S202=\"\",\"\",IF(AND(Worksheet!G225=\"\",Worksheet!H225=\"\")=TRUE,U201,IF(Worksheet!H225=\"\",\"\",Worksheet!H225)))","v":""},{"$f":"IF(Worksheet!N225=\"\",\"\",Worksheet!N225)","v":""},{"$f":"IF(Worksheet!O225=\"\",\"\",Worksheet!O225)","v":""},{"$f":"IF(Worksheet!F225=0,\"\",Worksheet!F225)","v":""},{"$f":"IF(Worksheet!P225=0,\"\",Worksheet!P225)","v":""},{"$f":"IF(Worksheet!$A$11=TRUE,\"Y\",\"N\")","v":"N"},{"$f":"IF(Worksheet!$A$12=TRUE,\"Y\",\"N\")","v":"N"},{"$f":"IF(Worksheet!$B$11=TRUE,\"Y\",\"N\")","v":"N"},{"$f":"IF(Worksheet!$B$12=TRUE,\"Y\",\"N\")","v":"N"},{"$f":"IF(Worksheet!$C$11=TRUE,\"Y\",\"N\")","v":"N"},{"$f":"IF(Worksheet!$C$12=TRUE,\"Y\",\"N\")","v":"N"},""]
[{"$f":"IF(ISERROR(VLOOKUP(Worksheet!N226,MeasureLookup,2,FALSE))=FALSE,VLOOKUP(Worksheet!N226,MeasureLookup,2,FALSE),\"\")","v":""},{"$f":"Worksheet!Q226","v":0},{"$f":"Worksheet!R226","v":0},{"$f":"IF(ISERROR(Worksheet!P226)=FALSE,Worksheet!P226,\"\")","v":0},"Watts",null,null,{"$f":"IF(Worksheet!AP226<>\"\",IF(Worksheet!AP226>0,Worksheet!AP226/IF(Worksheet!M226>0,Worksheet!M226,Worksheet!L226),\"\"),\"\")","v":""},{"$f":"IF(ISBLANK(Worksheet!L226)=FALSE,Worksheet!L226,\"\")","v":0},{"$f":"IF(Worksheet!L226<>0, IFERROR(VLOOKUP(Worksheet!$C$16,SavingsSupportTable,3,FALSE)*Worksheet!AQ226*IFERROR(1+VLOOKUP(Worksheet!$C$16,SavingsSupportTable,MATCH(Worksheet!$G$17,HVACe_Options,0)+4,FALSE),1)/IF(Worksheet!M226>0,Worksheet!M226,Worksheet!L226),\"\"),\"\")","v":""},{"$f":"IF(Worksheet!L226<>0, IFERROR(VLOOKUP(Worksheet!$C$16,SavingsSupportTable,2,FALSE)*Worksheet!AQ226*IF(IFERROR(MATCH(Worksheet!$G$17,HVACe_Options,0),0)>0,1+VLOOKUP(Worksheet!$C$16,SavingsSupportTable,4,FALSE),1)/IF(Worksheet!M226>0,Worksheet!M226,Worksheet!L226),\"\"),\"\")","v":""},"",{"$f":"IF(Worksheet!L226<>0,IFERROR(VLOOKUP(Worksheet!$C$16,SavingsSupportTable,3,FALSE)*Worksheet!AQ226*IF(IFERROR(SEARCH(\"Gas\",Worksheet!$G$17),0)>0,VLOOKUP(\"Gas\",HVACg_Lookup,MATCH(Worksheet!$G$16,BuildingSize,0)+1,FALSE),IF(IFERROR(SEARCH(\"Oil\",Worksheet!$G$17),0)>0,VLOOKUP(\"Oil\",HVACg_Lookup,MATCH(Worksheet!$G$16,BuildingSize,0)+1,FALSE),IF(IFERROR(SEARCH(\"Propane\",Worksheet!$G$17),0)>0,VLOOKUP(\"Propane\",HVACg_Lookup,MATCH(Worksheet!$G$16,BuildingSize,0)+1,FALSE),0)))/IF(Worksheet!M226>0,Worksheet!M226,Worksheet!L226),0),\"\")","v":""},"",null,null,null,{"$f":"IF(ISBLANK(Worksheet!M226)=FALSE,Worksheet!M226,\"\")","v":0},{"$f":"IF(Worksheet!A226=\"-\",\"\",IF(Worksheet!A226=\"\",S202,Worksheet!A226))","v":""},{"$f":"IF(S203=\"\",\"\",IF(AND(Worksheet!G226=\"\",Worksheet!H226=\"\")=TRUE,T202,IF(Worksheet!G226=\"\",\"\",Worksheet!G226)))","v":""},{"$f":"IF(S203=\"\",\"\",IF(AND(Worksheet!G226=\"\",Worksheet!H226=\"\")=TRUE,U202,IF(Worksheet!H226=\"\",\"\",Worksheet!H226)))","v":""},{"$f":"IF(Worksheet!N226=\"\",\"\",Worksheet!N226)","v":""},{"$f":"IF(Worksheet!O226=\"\",\"\",Worksheet!O226)","v":""},{"$f":"IF(Worksheet!F226=0,\"\",Worksheet!F226)","v":""},{"$f":"IF(Worksheet!P226=0,\"\",Worksheet!P226)","v":""},{"$f":"IF(Worksheet!$A$11=TRUE,\"Y\",\"N\")","v":"N"},{"$f":"IF(Worksheet!$A$12=TRUE,\"Y\",\"N\")","v":"N"},{"$f":"IF(Worksheet!$B$11=TRUE,\"Y\",\"N\")","v":"N"},{"$f":"IF(Worksheet!$B$12=TRUE,\"Y\",\"N\")","v":"N"},{"$f":"IF(Worksheet!$C$11=TRUE,\"Y\",\"N\")","v":"N"},{"$f":"IF(Worksheet!$C$12=TRUE,\"Y\",\"N\")","v":"N"},""]
[{"$f":"IF(ISERROR(VLOOKUP(Worksheet!N227,MeasureLookup,2,FALSE))=FALSE,VLOOKUP(Worksheet!N227,MeasureLookup,2,FALSE),\"\")","v":""},{"$f":"Worksheet!Q227","v":0},{"$f":"Worksheet!R227","v":0},{"$f":"IF(ISERROR(Worksheet!P227)=FALSE,Worksheet!P227,\"\")","v":0},"Watts",null,null,{"$f":"IF(Worksheet!AP227<>\"\",IF(Worksheet!AP227>0,Worksheet!AP227/IF(Worksheet!M227>0,Worksheet!M227,Worksheet!L227),\"\"),\"\")","v":""},{"$f":"IF(ISBLANK(Worksheet!L227)=FALSE,Worksheet!L227,\"\")","v":0},{"$f":"IF(Worksheet!L227<>0, IFERROR(VLOOKUP(Worksheet!$C$16,SavingsSupportTable,3,FALSE)*Worksheet!AQ227*IFERROR(1+VLOOKUP(Worksheet!$C$16,SavingsSupportTable,MATCH(Worksheet!$G$17,HVACe_Options,0)+4,FALSE),1)/IF(Worksheet!M227>0,Worksheet!M227,Worksheet!L227),\"\"),\"\")","v":""},{"$f":"IF(Worksheet!L227<>0, IFERROR(VLOOKUP(Worksheet!$C$16,SavingsSupportTable,2,FALSE)*Worksheet!AQ227*IF(IFERROR(MATCH(Worksheet!$G$17,HVACe_Options,0),0)>0,1+VLOOKUP(Worksheet!$C$16,SavingsSupportTable,4,FALSE),1)/IF(Worksheet!M227>0,Worksheet!M227,Worksheet!L227),\"\"),\"\")","v":""},"",{"$f":"IF(Worksheet!L227<>0,IFERROR(VLOOKUP(Worksheet!$C$16,SavingsSupportTable,3,FALSE)*Worksheet!AQ227*IF(IFERROR(SEARCH(\"Gas\",Worksheet!$G$17),0)>0,VLOOKUP(\"Gas\",HVACg_Lookup,MATCH(Worksheet!$G$16,BuildingSize,0)+1,FALSE),IF(IFERROR(SEARCH(\"Oil\",Worksheet!$G$17),0)>0,VLOOKUP(\"Oil\",HVACg_Lookup,MATCH(Worksheet!$G$16,BuildingSize,0)+1,FALSE),IF(IFERROR(SEARCH(\"Propane\",Worksheet!$G$17),0)>0,VLOOKUP(\"Propane\",HVACg_Lookup,MATCH(Worksheet!$G$16,BuildingSize,0)+1,FALSE),0)))/IF(Worksheet!M227>0,Worksheet!M227,Worksheet!L227),0),\"\")","v":""},"",null,null,null,{"$f":"IF(ISBLANK(Worksheet!M227)=FALSE,Worksheet!M227,\"\")","v":0},{"$f":"IF(Worksheet!A227=\"-\",\"\",IF(Worksheet!A227=\"\",S203,Worksheet!A227))","v":""},{"$f":"IF(S204=\"\",\"\",IF(AND(Worksheet!G227=\"\",Worksheet!H227=\"\")=TRUE,T203,IF(Worksheet!G227=\"\",\"\",Worksheet!G227)))","v":""},{"$f":"IF(S204=\"\",\"\",IF(AND(Worksheet!G227=\"\",Worksheet!H227=\"\")=TRUE,U203,IF(Worksheet!H227=\"\",\"\",Worksheet!H227)))","v":""},{"$f":"IF(Worksheet!N227=\"\",\"\",Worksheet!N227)","v":""},{"$f":"IF(Worksheet!O227=\"\",\"\",Worksheet!O227)","v":""},{"$f":"IF(Worksheet!F227=0,\"\",Worksheet!F227)","v":""},{"$f":"IF(Worksheet!P227=0,\"\",Worksheet!P227)","v":""},{"$f":"IF(Worksheet!$A$11=TRUE,\"Y\",\"N\")","v":"N"},{"$f":"IF(Worksheet!$A$12=TRUE,\"Y\",\"N\")","v":"N"},{"$f":"IF(Worksheet!$B$11=TRUE,\"Y\",\"N\")","v":"N"},{"$f":"IF(Worksheet!$B$12=TRUE,\"Y\",\"N\")","v":"N"},{"$f":"IF(Worksheet!$C$11=TRUE,\"Y\",\"N\")","v":"N"},{"$f":"IF(Worksheet!$C$12=TRUE,\"Y\",\"N\")","v":"N"},""]
[{"$f":"IF(ISERROR(VLOOKUP(Worksheet!N228,MeasureLookup,2,FALSE))=FALSE,VLOOKUP(Worksheet!N228,MeasureLookup,2,FALSE),\"\")","v":""},{"$f":"Worksheet!Q228","v":0},{"$f":"Worksheet!R228","v":0},{"$f":"IF(ISERROR(Worksheet!P228)=FALSE,Worksheet!P228,\"\")","v":0},"Watts",null,null,{"$f":"IF(Worksheet!AP228<>\"\",IF(Worksheet!AP228>0,Worksheet!AP228/IF(Worksheet!M228>0,Worksheet!M228,Worksheet!L228),\"\"),\"\")","v":""},{"$f":"IF(ISBLANK(Worksheet!L228)=FALSE,Worksheet!L228,\"\")","v":0},{"$f":"IF(Worksheet!L228<>0, IFERROR(VLOOKUP(Worksheet!$C$16,SavingsSupportTable,3,FALSE)*Worksheet!AQ228*IFERROR(1+VLOOKUP(Worksheet!$C$16,SavingsSupportTable,MATCH(Worksheet!$G$17,HVACe_Options,0)+4,FALSE),1)/IF(Worksheet!M228>0,Worksheet!M228,Worksheet!L228),\"\"),\"\")","v":""},{"$f":"IF(Worksheet!L228<>0, IFERROR(VLOOKUP(Worksheet!$C$16,SavingsSupportTable,2,FALSE)*Worksheet!AQ228*IF(IFERROR(MATCH(Worksheet!$G$17,HVACe_Options,0),0)>0,1+VLOOKUP(Worksheet!$C$16,SavingsSupportTable,4,FALSE),1)/IF(Worksheet!M228>0,Worksheet!M228,Worksheet!L228),\"\"),\"\")","v":""},"",{"$f":"IF(Worksheet!L228<>0,IFERROR(VLOOKUP(Worksheet!$C$16,SavingsSupportTable,3,FALSE)*Worksheet!AQ228*IF(IFERROR(SEARCH(\"Gas\",Worksheet!$G$17),0)>0,VLOOKUP(\"Gas\",HVACg_Lookup,MATCH(Worksheet!$G$16,BuildingSize,0)+1,FALSE),IF(IFERROR(SEARCH(\"Oil\",Worksheet!$G$17),0)>0,VLOOKUP(\"Oil\",HVACg_Lookup,MATCH(Worksheet!$G$16,BuildingSize,0)+1,FALSE),IF(IFERROR(SEARCH(\"Propane\",Worksheet!$G$17),0)>0,VLOOKUP(\"Propane\",HVACg_Lookup,MATCH(Worksheet!$G$16,BuildingSize,0)+1,FALSE),0)))/IF(Worksheet!M228>0,Worksheet!M228,Worksheet!L228),0),\"\")","v":""},"",null,null,null,{"$f":"IF(ISBLANK(Worksheet!M228)=FALSE,Worksheet!M228,\"\")","v":0},{"$f":"IF(Worksheet!A228=\"-\",\"\",IF(Worksheet!A228=\"\",S204,Worksheet!A228))","v":""},{"$f":"IF(S205=\"\",\"\",IF(AND(Worksheet!G228=\"\",Worksheet!H228=\"\")=TRUE,T204,IF(Worksheet!G228=\"\",\"\",Worksheet!G228)))","v":""},{"$f":"IF(S205=\"\",\"\",IF(AND(Worksheet!G228=\"\",Worksheet!H228=\"\")=TRUE,U204,IF(Worksheet!H228=\"\",\"\",Worksheet!H228)))","v":""},{"$f":"IF(Worksheet!N228=\"\",\"\",Worksheet!N228)","v":""},{"$f":"IF(Worksheet!O228=\"\",\"\",Worksheet!O228)","v":""},{"$f":"IF(Worksheet!F228=0,\"\",Worksheet!F228)","v":""},{"$f":"IF(Worksheet!P228=0,\"\",Worksheet!P228)","v":""},{"$f":"IF(Worksheet!$A$11=TRUE,\"Y\",\"N\")","v":"N"},{"$f":"IF(Worksheet!$A$12=TRUE,\"Y\",\"N\")","v":"N"},{"$f":"IF(Worksheet!$B$11=TRUE,\"Y\",\"N\")","v":"N"},{"$f":"IF(Worksheet!$B$12=TRUE,\"Y\",\"N\")","v":"N"},{"$f":"IF(Worksheet!$C$11=TRUE,\"Y\",\"N\")","v":"N"},{"$f":"IF(Worksheet!$C$12=TRUE,\"Y\",\"N\")","v":"N"},""]
[{"$f":"IF(ISERROR(VLOOKUP(Worksheet!N229,MeasureLookup,2,FALSE))=FALSE,VLOOKUP(Worksheet!N229,MeasureLookup,2,FALSE),\"\")","v":""},{"$f":"Worksheet!Q229","v":0},{"$f":"Worksheet!R229","v":0},{"$f":"IF(ISERROR(Worksheet!P229)=FALSE,Worksheet!P229,\"\")","v":0},"Watts",null,null,{"$f":"IF(Worksheet!AP229<>\"\",IF(Worksheet!AP229>0,Worksheet!AP229/IF(Worksheet!M229>0,Worksheet!M229,Worksheet!L229),\"\"),\"\")","v":""},{"$f":"IF(ISBLANK(Worksheet!L229)=FALSE,Worksheet!L229,\"\")","v":0},{"$f":"IF(Worksheet!L229<>0, IFERROR(VLOOKUP(Worksheet!$C$16,SavingsSupportTable,3,FALSE)*Worksheet!AQ229*IFERROR(1+VLOOKUP(Worksheet!$C$16,SavingsSupportTable,MATCH(Worksheet!$G$17,HVACe_Options,0)+4,FALSE),1)/IF(Worksheet!M229>0,Worksheet!M229,Worksheet!L229),\"\"),\"\")","v":""},{"$f":"IF(Worksheet!L229<>0, IFERROR(VLOOKUP(Worksheet!$C$16,SavingsSupportTable,2,FALSE)*Worksheet!AQ229*IF(IFERROR(MATCH(Worksheet!$G$17,HVACe_Options,0),0)>0,1+VLOOKUP(Worksheet!$C$16,SavingsSupportTable,4,FALSE),1)/IF(Worksheet!M229>0,Worksheet!M229,Worksheet!L229),\"\"),\"\")","v":""},"",{"$f":"IF(Worksheet!L229<>0,IFERROR(VLOOKUP(Worksheet!$C$16,SavingsSupportTable,3,FALSE)*Worksheet!AQ229*IF(IFERROR(SEARCH(\"Gas\",Worksheet!$G$17),0)>0,VLOOKUP(\"Gas\",HVACg_Lookup,MATCH(Worksheet!$G$16,BuildingSize,0)+1,FALSE),IF(IFERROR(SEARCH(\"Oil\",Worksheet!$G$17),0)>0,VLOOKUP(\"Oil\",HVACg_Lookup,MATCH(Worksheet!$G$16,BuildingSize,0)+1,FALSE),IF(IFERROR(SEARCH(\"Propane\",Worksheet!$G$17),0)>0,VLOOKUP(\"Propane\",HVACg_Lookup,MATCH(Worksheet!$G$16,BuildingSize,0)+1,FALSE),0)))/IF(Worksheet!M229>0,Worksheet!M229,Worksheet!L229),0),\"\")","v":""},"",null,null,null,{"$f":"IF(ISBLANK(Worksheet!M229)=FALSE,Worksheet!M229,\"\")","v":0},{"$f":"IF(Worksheet!A229=\"-\",\"\",IF(Worksheet!A229=\"\",S205,Worksheet!A229))","v":""},{"$f":"IF(S206=\"\",\"\",IF(AND(Worksheet!G229=\"\",Worksheet!H229=\"\")=TRUE,T205,IF(Worksheet!G229=\"\",\"\",Worksheet!G229)))","v":""},{"$f":"IF(S206=\"\",\"\",IF(AND(Worksheet!G229=\"\",Worksheet!H229=\"\")=TRUE,U205,IF(Worksheet!H229=\"\",\"\",Worksheet!H229)))","v":""},{"$f":"IF(Worksheet!N229=\"\",\"\",Worksheet!N229)","v":""},{"$f":"IF(Worksheet!O229=\"\",\"\",Worksheet!O229)","v":""},{"$f":"IF(Worksheet!F229=0,\"\",Worksheet!F229)","v":""},{"$f":"IF(Worksheet!P229=0,\"\",Worksheet!P229)","v":""},{"$f":"IF(Worksheet!$A$11=TRUE,\"Y\",\"N\")","v":"N"},{"$f":"IF(Worksheet!$A$12=TRUE,\"Y\",\"N\")","v":"N"},{"$f":"IF(Worksheet!$B$11=TRUE,\"Y\",\"N\")","v":"N"},{"$f":"IF(Worksheet!$B$12=TRUE,\"Y\",\"N\")","v":"N"},{"$f":"IF(Worksheet!$C$11=TRUE,\"Y\",\"N\")","v":"N"},{"$f":"IF(Worksheet!$C$12=TRUE,\"Y\",\"N\")","v":"N"},""]
[{"$f":"IF(ISERROR(VLOOKUP(Worksheet!N230,MeasureLookup,2,FALSE))=FALSE,VLOOKUP(Worksheet!N230,MeasureLookup,2,FALSE),\"\")","v":""},{"$f":"Worksheet!Q230","v":0},{"$f":"Worksheet!R230","v":0},{"$f":"IF(ISERROR(Worksheet!P230)=FALSE,Worksheet!P230,\"\")","v":0},"Watts",null,null,{"$f":"IF(Worksheet!AP230<>\"\",IF(Worksheet!AP230>0,Worksheet!AP230/IF(Worksheet!M230>0,Worksheet!M230,Worksheet!L230),\"\"),\"\")","v":""},{"$f":"IF(ISBLANK(Worksheet!L230)=FALSE,Worksheet!L230,\"\")","v":0},{"$f":"IF(Worksheet!L230<>0, IFERROR(VLOOKUP(Worksheet!$C$16,SavingsSupportTable,3,FALSE)*Worksheet!AQ230*IFERROR(1+VLOOKUP(Worksheet!$C$16,SavingsSupportTable,MATCH(Worksheet!$G$17,HVACe_Options,0)+4,FALSE),1)/IF(Worksheet!M230>0,Worksheet!M230,Worksheet!L230),\"\"),\"\")","v":""},{"$f":"IF(Worksheet!L230<>0, IFERROR(VLOOKUP(Worksheet!$C$16,SavingsSupportTable,2,FALSE)*Worksheet!AQ230*IF(IFERROR(MATCH(Worksheet!$G$17,HVACe_Options,0),0)>0,1+VLOOKUP(Worksheet!$C$16,SavingsSupportTable,4,FALSE),1)/IF(Worksheet!M230>0,Worksheet!M230,Worksheet!L230),\"\"),\"\")","v":""},"",{"$f":"IF(Worksheet!L230<>0,IFERROR(VLOOKUP(Worksheet!$C$16,SavingsSupportTable,3,FALSE)*Worksheet!AQ230*IF(IFERROR(SEARCH(\"Gas\",Worksheet!$G$17),0)>0,VLOOKUP(\"Gas\",HVACg_Lookup,MATCH(Worksheet!$G$16,BuildingSize,0)+1,FALSE),IF(IFERROR(SEARCH(\"Oil\",Worksheet!$G$17),0)>0,VLOOKUP(\"Oil\",HVACg_Lookup,MATCH(Worksheet!$G$16,BuildingSize,0)+1,FALSE),IF(IFERROR(SEARCH(\"Propane\",Worksheet!$G$17),0)>0,VLOOKUP(\"Propane\",HVACg_Lookup,MATCH(Worksheet!$G$16,BuildingSize,0)+1,FALSE),0)))/IF(Worksheet!M230>0,Worksheet!M230,Worksheet!L230),0),\"\")","v":""},"",null,null,null,{"$f":"IF(ISBLANK(Worksheet!M230)=FALSE,Worksheet!M230,\"\")","v":0},{"$f":"IF(Worksheet!A230=\"-\",\"\",IF(Worksheet!A230=\"\",S206,Worksheet!A230))","v":""},{"$f":"IF(S207=\"\",\"\",IF(AND(Worksheet!G230=\"\",Worksheet!H230=\"\")=TRUE,T206,IF(Worksheet!G230=\"\",\"\",Worksheet!G230)))","v":""},{"$f":"IF(S207=\"\",\"\",IF(AND(Worksheet!G230=\"\",Worksheet!H230=\"\")=TRUE,U206,IF(Worksheet!H230=\"\",\"\",Worksheet!H230)))","v":""},{"$f":"IF(Worksheet!N230=\"\",\"\",Worksheet!N230)","v":""},{"$f":"IF(Worksheet!O230=\"\",\"\",Worksheet!O230)","v":""},{"$f":"IF(Worksheet!F230=0,\"\",Worksheet!F230)","v":""},{"$f":"IF(Worksheet!P230=0,\"\",Worksheet!P230)","v":""},{"$f":"IF(Worksheet!$A$11=TRUE,\"Y\",\"N\")","v":"N"},{"$f":"IF(Worksheet!$A$12=TRUE,\"Y\",\"N\")","v":"N"},{"$f":"IF(Worksheet!$B$11=TRUE,\"Y\",\"N\")","v":"N"},{"$f":"IF(Worksheet!$B$12=TRUE,\"Y\",\"N\")","v":"N"},{"$f":"IF(Worksheet!$C$11=TRUE,\"Y\",\"N\")","v":"N"},{"$f":"IF(Worksheet!$C$12=TRUE,\"Y\",\"N\")","v":"N"},""]
[{"$f":"IF(ISERROR(VLOOKUP(Worksheet!N231,MeasureLookup,2,FALSE))=FALSE,VLOOKUP(Worksheet!N231,MeasureLookup,2,FALSE),\"\")","v":""},{"$f":"Worksheet!Q231","v":0},{"$f":"Worksheet!R231","v":0},{"$f":"IF(ISERROR(Worksheet!P231)=FALSE,Worksheet!P231,\"\")","v":0},"Watts",null,null,{"$f":"IF(Worksheet!AP231<>\"\",IF(Worksheet!AP231>0,Worksheet!AP231/IF(Worksheet!M231>0,Worksheet!M231,Worksheet!L231),\"\"),\"\")","v":""},{"$f":"IF(ISBLANK(Worksheet!L231)=FALSE,Worksheet!L231,\"\")","v":0},{"$f":"IF(Worksheet!L231<>0, IFERROR(VLOOKUP(Worksheet!$C$16,SavingsSupportTable,3,FALSE)*Worksheet!AQ231*IFERROR(1+VLOOKUP(Worksheet!$C$16,SavingsSupportTable,MATCH(Worksheet!$G$17,HVACe_Options,0)+4,FALSE),1)/IF(Worksheet!M231>0,Worksheet!M231,Worksheet!L231),\"\"),\"\")","v":""},{"$f":"IF(Worksheet!L231<>0, IFERROR(VLOOKUP(Worksheet!$C$16,SavingsSupportTable,2,FALSE)*Worksheet!AQ231*IF(IFERROR(MATCH(Worksheet!$G$17,HVACe_Options,0),0)>0,1+VLOOKUP(Worksheet!$C$16,SavingsSupportTable,4,FALSE),1)/IF(Worksheet!M231>0,Worksheet!M231,Worksheet!L231),\"\"),\"\")","v":""},"",{"$f":"IF(Worksheet!L231<>0,IFERROR(VLOOKUP(Worksheet!$C$16,SavingsSupportTable,3,FALSE)*Worksheet!AQ231*IF(IFERROR(SEARCH(\"Gas\",Worksheet!$G$17),0)>0,VLOOKUP(\"Gas\",HVACg_Lookup,MATCH(Worksheet!$G$16,BuildingSize,0)+1,FALSE),IF(IFERROR(SEARCH(\"Oil\",Worksheet!$G$17),0)>0,VLOOKUP(\"Oil\",HVACg_Lookup,MATCH(Worksheet!$G$16,BuildingSize,0)+1,FALSE),IF(IFERROR(SEARCH(\"Propane\",Worksheet!$G$17),0)>0,VLOOKUP(\"Propane\",HVACg_Lookup,MATCH(Worksheet!$G$16,BuildingSize,0)+1,FALSE),0)))/IF(Worksheet!M231>0,Worksheet!M231,Worksheet!L231),0),\"\")","v":""},"",null,null,null,{"$f":"IF(ISBLANK(Worksheet!M231)=FALSE,Worksheet!M231,\"\")","v":0},{"$f":"IF(Worksheet!A231=\"-\",\"\",IF(Worksheet!A231=\"\",S207,Worksheet!A231))","v":""},{"$f":"IF(S208=\"\",\"\",IF(AND(Worksheet!G231=\"\",Worksheet!H231=\"\")=TRUE,T207,IF(Worksheet!G231=\"\",\"\",Worksheet!G231)))","v":""},{"$f":"IF(S208=\"\",\"\",IF(AND(Worksheet!G231=\"\",Worksheet!H231=\"\")=TRUE,U207,IF(Worksheet!H231=\"\",\"\",Worksheet!H231)))","v":""},{"$f":"IF(Worksheet!N231=\"\",\"\",Worksheet!N231)","v":""},{"$f":"IF(Worksheet!O231=\"\",\"\",Worksheet!O231)","v":""},{"$f":"IF(Worksheet!F231=0,\"\",Worksheet!F231)","v":""},{"$f":"IF(Worksheet!P231=0,\"\",Worksheet!P231)","v":""},{"$f":"IF(Worksheet!$A$11=TRUE,\"Y\",\"N\")","v":"N"},{"$f":"IF(Worksheet!$A$12=TRUE,\"Y\",\"N\")","v":"N"},{"$f":"IF(Worksheet!$B$11=TRUE,\"Y\",\"N\")","v":"N"},{"$f":"IF(Worksheet!$B$12=TRUE,\"Y\",\"N\")","v":"N"},{"$f":"IF(Worksheet!$C$11=TRUE,\"Y\",\"N\")","v":"N"},{"$f":"IF(Worksheet!$C$12=TRUE,\"Y\",\"N\")","v":"N"},""]
[{"$f":"IF(ISERROR(VLOOKUP(Worksheet!N232,MeasureLookup,2,FALSE))=FALSE,VLOOKUP(Worksheet!N232,MeasureLookup,2,FALSE),\"\")","v":""},{"$f":"Worksheet!Q232","v":0},{"$f":"Worksheet!R232","v":0},{"$f":"IF(ISERROR(Worksheet!P232)=FALSE,Worksheet!P232,\"\")","v":0},"Watts",null,null,{"$f":"IF(Worksheet!AP232<>\"\",IF(Worksheet!AP232>0,Worksheet!AP232/IF(Worksheet!M232>0,Worksheet!M232,Worksheet!L232),\"\"),\"\")","v":""},{"$f":"IF(ISBLANK(Worksheet!L232)=FALSE,Worksheet!L232,\"\")","v":0},{"$f":"IF(Worksheet!L232<>0, IFERROR(VLOOKUP(Worksheet!$C$16,SavingsSupportTable,3,FALSE)*Worksheet!AQ232*IFERROR(1+VLOOKUP(Worksheet!$C$16,SavingsSupportTable,MATCH(Worksheet!$G$17,HVACe_Options,0)+4,FALSE),1)/IF(Worksheet!M232>0,Worksheet!M232,Worksheet!L232),\"\"),\"\")","v":""},{"$f":"IF(Worksheet!L232<>0, IFERROR(VLOOKUP(Worksheet!$C$16,SavingsSupportTable,2,FALSE)*Worksheet!AQ232*IF(IFERROR(MATCH(Worksheet!$G$17,HVACe_Options,0),0)>0,1+VLOOKUP(Worksheet!$C$16,SavingsSupportTable,4,FALSE),1)/IF(Worksheet!M232>0,Worksheet!M232,Worksheet!L232),\"\"),\"\")","v":""},"",{"$f":"IF(Worksheet!L232<>0,IFERROR(VLOOKUP(Worksheet!$C$16,SavingsSupportTable,3,FALSE)*Worksheet!AQ232*IF(IFERROR(SEARCH(\"Gas\",Worksheet!$G$17),0)>0,VLOOKUP(\"Gas\",HVACg_Lookup,MATCH(Worksheet!$G$16,BuildingSize,0)+1,FALSE),IF(IFERROR(SEARCH(\"Oil\",Worksheet!$G$17),0)>0,VLOOKUP(\"Oil\",HVACg_Lookup,MATCH(Worksheet!$G$16,BuildingSize,0)+1,FALSE),IF(IFERROR(SEARCH(\"Propane\",Worksheet!$G$17),0)>0,VLOOKUP(\"Propane\",HVACg_Lookup,MATCH(Worksheet!$G$16,BuildingSize,0)+1,FALSE),0)))/IF(Worksheet!M232>0,Worksheet!M232,Worksheet!L232),0),\"\")","v":""},"",null,null,null,{"$f":"IF(ISBLANK(Worksheet!M232)=FALSE,Worksheet!M232,\"\")","v":0},{"$f":"IF(Worksheet!A232=\"-\",\"\",IF(Worksheet!A232=\"\",S208,Worksheet!A232))","v":""},{"$f":"IF(S209=\"\",\"\",IF(AND(Worksheet!G232=\"\",Worksheet!H232=\"\")=TRUE,T208,IF(Worksheet!G232=\"\",\"\",Worksheet!G232)))","v":""},{"$f":"IF(S209=\"\",\"\",IF(AND(Worksheet!G232=\"\",Worksheet!H232=\"\")=TRUE,U208,IF(Worksheet!H232=\"\",\"\",Worksheet!H232)))","v":""},{"$f":"IF(Worksheet!N232=\"\",\"\",Worksheet!N232)","v":""},{"$f":"IF(Worksheet!O232=\"\",\"\",Worksheet!O232)","v":""},{"$f":"IF(Worksheet!F232=0,\"\",Worksheet!F232)","v":""},{"$f":"IF(Worksheet!P232=0,\"\",Worksheet!P232)","v":""},{"$f":"IF(Worksheet!$A$11=TRUE,\"Y\",\"N\")","v":"N"},{"$f":"IF(Worksheet!$A$12=TRUE,\"Y\",\"N\")","v":"N"},{"$f":"IF(Worksheet!$B$11=TRUE,\"Y\",\"N\")","v":"N"},{"$f":"IF(Worksheet!$B$12=TRUE,\"Y\",\"N\")","v":"N"},{"$f":"IF(Worksheet!$C$11=TRUE,\"Y\",\"N\")","v":"N"},{"$f":"IF(Worksheet!$C$12=TRUE,\"Y\",\"N\")","v":"N"},""]
[{"$f":"IF(ISERROR(VLOOKUP(Worksheet!N233,MeasureLookup,2,FALSE))=FALSE,VLOOKUP(Worksheet!N233,MeasureLookup,2,FALSE),\"\")","v":""},{"$f":"Worksheet!Q233","v":0},{"$f":"Worksheet!R233","v":0},{"$f":"IF(ISERROR(Worksheet!P233)=FALSE,Worksheet!P233,\"\")","v":0},"Watts",null,null,{"$f":"IF(Worksheet!AP233<>\"\",IF(Worksheet!AP233>0,Worksheet!AP233/IF(Worksheet!M233>0,Worksheet!M233,Worksheet!L233),\"\"),\"\")","v":""},{"$f":"IF(ISBLANK(Worksheet!L233)=FALSE,Worksheet!L233,\"\")","v":0},{"$f":"IF(Worksheet!L233<>0, IFERROR(VLOOKUP(Worksheet!$C$16,SavingsSupportTable,3,FALSE)*Worksheet!AQ233*IFERROR(1+VLOOKUP(Worksheet!$C$16,SavingsSupportTable,MATCH(Worksheet!$G$17,HVACe_Options,0)+4,FALSE),1)/IF(Worksheet!M233>0,Worksheet!M233,Worksheet!L233),\"\"),\"\")","v":""},{"$f":"IF(Worksheet!L233<>0, IFERROR(VLOOKUP(Worksheet!$C$16,SavingsSupportTable,2,FALSE)*Worksheet!AQ233*IF(IFERROR(MATCH(Worksheet!$G$17,HVACe_Options,0),0)>0,1+VLOOKUP(Worksheet!$C$16,SavingsSupportTable,4,FALSE),1)/IF(Worksheet!M233>0,Worksheet!M233,Worksheet!L233),\"\"),\"\")","v":""},"",{"$f":"IF(Worksheet!L233<>0,IFERROR(VLOOKUP(Worksheet!$C$16,SavingsSupportTable,3,FALSE)*Worksheet!AQ233*IF(IFERROR(SEARCH(\"Gas\",Worksheet!$G$17),0)>0,VLOOKUP(\"Gas\",HVACg_Lookup,MATCH(Worksheet!$G$16,BuildingSize,0)+1,FALSE),IF(IFERROR(SEARCH(\"Oil\",Worksheet!$G$17),0)>0,VLOOKUP(\"Oil\",HVACg_Lookup,MATCH(Worksheet!$G$16,BuildingSize,0)+1,FALSE),IF(IFERROR(SEARCH(\"Propane\",Worksheet!$G$17),0)>0,VLOOKUP(\"Propane\",HVACg_Lookup,MATCH(Worksheet!$G$16,BuildingSize,0)+1,FALSE),0)))/IF(Worksheet!M233>0,Worksheet!M233,Worksheet!L233),0),\"\")","v":""},"",null,null,null,{"$f":"IF(ISBLANK(Worksheet!M233)=FALSE,Worksheet!M233,\"\")","v":0},{"$f":"IF(Worksheet!A233=\"-\",\"\",IF(Worksheet!A233=\"\",S209,Worksheet!A233))","v":""},{"$f":"IF(S210=\"\",\"\",IF(AND(Worksheet!G233=\"\",Worksheet!H233=\"\")=TRUE,T209,IF(Worksheet!G233=\"\",\"\",Worksheet!G233)))","v":""},{"$f":"IF(S210=\"\",\"\",IF(AND(Worksheet!G233=\"\",Worksheet!H233=\"\")=TRUE,U209,IF(Worksheet!H233=\"\",\"\",Worksheet!H233)))","v":""},{"$f":"IF(Worksheet!N233=\"\",\"\",Worksheet!N233)","v":""},{"$f":"IF(Worksheet!O233=\"\",\"\",Worksheet!O233)","v":""},{"$f":"IF(Worksheet!F233=0,\"\",Worksheet!F233)","v":""},{"$f":"IF(Worksheet!P233=0,\"\",Worksheet!P233)","v":""},{"$f":"IF(Worksheet!$A$11=TRUE,\"Y\",\"N\")","v":"N"},{"$f":"IF(Worksheet!$A$12=TRUE,\"Y\",\"N\")","v":"N"},{"$f":"IF(Worksheet!$B$11=TRUE,\"Y\",\"N\")","v":"N"},{"$f":"IF(Worksheet!$B$12=TRUE,\"Y\",\"N\")","v":"N"},{"$f":"IF(Worksheet!$C$11=TRUE,\"Y\",\"N\")","v":"N"},{"$f":"IF(Worksheet!$C$12=TRUE,\"Y\",\"N\")","v":"N"},""]
[{"$f":"IF(ISERROR(VLOOKUP(Worksheet!N234,MeasureLookup,2,FALSE))=FALSE,VLOOKUP(Worksheet!N234,MeasureLookup,2,FALSE),\"\")","v":""},{"$f":"Worksheet!Q234","v":0},{"$f":"Worksheet!R234","v":0},{"$f":"IF(ISERROR(Worksheet!P234)=FALSE,Worksheet!P234,\"\")","v":0},"Watts",null,null,{"$f":"IF(Worksheet!AP234<>\"\",IF(Worksheet!AP234>0,Worksheet!AP234/IF(Worksheet!M234>0,Worksheet!M234,Worksheet!L234),\"\"),\"\")","v":""},{"$f":"IF(ISBLANK(Worksheet!L234)=FALSE,Worksheet!L234,\"\")","v":0},{"$f":"IF(Worksheet!L234<>0, IFERROR(VLOOKUP(Worksheet!$C$16,SavingsSupportTable,3,FALSE)*Worksheet!AQ234*IFERROR(1+VLOOKUP(Worksheet!$C$16,SavingsSupportTable,MATCH(Worksheet!$G$17,HVACe_Options,0)+4,FALSE),1)/IF(Worksheet!M234>0,Worksheet!M234,Worksheet!L234),\"\"),\"\")","v":""},{"$f":"IF(Worksheet!L234<>0, IFERROR(VLOOKUP(Worksheet!$C$16,SavingsSupportTable,2,FALSE)*Worksheet!AQ234*IF(IFERROR(MATCH(Worksheet!$G$17,HVACe_Options,0),0)>0,1+VLOOKUP(Worksheet!$C$16,SavingsSupportTable,4,FALSE),1)/IF(Worksheet!M234>0,Worksheet!M234,Worksheet!L234),\"\"),\"\")","v":""},"",{"$f":"IF(Worksheet!L234<>0,IFERROR(VLOOKUP(Worksheet!$C$16,SavingsSupportTable,3,FALSE)*Worksheet!AQ234*IF(IFERROR(SEARCH(\"Gas\",Worksheet!$G$17),0)>0,VLOOKUP(\"Gas\",HVACg_Lookup,MATCH(Worksheet!$G$16,BuildingSize,0)+1,FALSE),IF(IFERROR(SEARCH(\"Oil\",Worksheet!$G$17),0)>0,VLOOKUP(\"Oil\",HVACg_Lookup,MATCH(Worksheet!$G$16,BuildingSize,0)+1,FALSE),IF(IFERROR(SEARCH(\"Propane\",Worksheet!$G$17),0)>0,VLOOKUP(\"Propane\",HVACg_Lookup,MATCH(Worksheet!$G$16,BuildingSize,0)+1,FALSE),0)))/IF(Worksheet!M234>0,Worksheet!M234,Worksheet!L234),0),\"\")","v":""},"",null,null,null,{"$f":"IF(ISBLANK(Worksheet!M234)=FALSE,Worksheet!M234,\"\")","v":0},{"$f":"IF(Worksheet!A234=\"-\",\"\",IF(Worksheet!A234=\"\",S210,Worksheet!A234))","v":""},{"$f":"IF(S211=\"\",\"\",IF(AND(Worksheet!G234=\"\",Worksheet!H234=\"\")=TRUE,T210,IF(Worksheet!G234=\"\",\"\",Worksheet!G234)))","v":""},{"$f":"IF(S211=\"\",\"\",IF(AND(Worksheet!G234=\"\",Worksheet!H234=\"\")=TRUE,U210,IF(Worksheet!H234=\"\",\"\",Worksheet!H234)))","v":""},{"$f":"IF(Worksheet!N234=\"\",\"\",Worksheet!N234)","v":""},{"$f":"IF(Worksheet!O234=\"\",\"\",Worksheet!O234)","v":""},{"$f":"IF(Worksheet!F234=0,\"\",Worksheet!F234)","v":""},{"$f":"IF(Worksheet!P234=0,\"\",Worksheet!P234)","v":""},{"$f":"IF(Worksheet!$A$11=TRUE,\"Y\",\"N\")","v":"N"},{"$f":"IF(Worksheet!$A$12=TRUE,\"Y\",\"N\")","v":"N"},{"$f":"IF(Worksheet!$B$11=TRUE,\"Y\",\"N\")","v":"N"},{"$f":"IF(Worksheet!$B$12=TRUE,\"Y\",\"N\")","v":"N"},{"$f":"IF(Worksheet!$C$11=TRUE,\"Y\",\"N\")","v":"N"},{"$f":"IF(Worksheet!$C$12=TRUE,\"Y\",\"N\")","v":"N"},""]
[{"$f":"IF(ISERROR(VLOOKUP(Worksheet!N235,MeasureLookup,2,FALSE))=FALSE,VLOOKUP(Worksheet!N235,MeasureLookup,2,FALSE),\"\")","v":""},{"$f":"Worksheet!Q235","v":0},{"$f":"Worksheet!R235","v":0},{"$f":"IF(ISERROR(Worksheet!P235)=FALSE,Worksheet!P235,\"\")","v":0},"Watts",null,null,{"$f":"IF(Worksheet!AP235<>\"\",IF(Worksheet!AP235>0,Worksheet!AP235/IF(Worksheet!M235>0,Worksheet!M235,Worksheet!L235),\"\"),\"\")","v":""},{"$f":"IF(ISBLANK(Worksheet!L235)=FALSE,Worksheet!L235,\"\")","v":0},{"$f":"IF(Worksheet!L235<>0, IFERROR(VLOOKUP(Worksheet!$C$16,SavingsSupportTable,3,FALSE)*Worksheet!AQ235*IFERROR(1+VLOOKUP(Worksheet!$C$16,SavingsSupportTable,MATCH(Worksheet!$G$17,HVACe_Options,0)+4,FALSE),1)/IF(Worksheet!M235>0,Worksheet!M235,Worksheet!L235),\"\"),\"\")","v":""},{"$f":"IF(Worksheet!L235<>0, IFERROR(VLOOKUP(Worksheet!$C$16,SavingsSupportTable,2,FALSE)*Worksheet!AQ235*IF(IFERROR(MATCH(Worksheet!$G$17,HVACe_Options,0),0)>0,1+VLOOKUP(Worksheet!$C$16,SavingsSupportTable,4,FALSE),1)/IF(Worksheet!M235>0,Worksheet!M235,Worksheet!L235),\"\"),\"\")","v":""},"",{"$f":"IF(Worksheet!L235<>0,IFERROR(VLOOKUP(Worksheet!$C$16,SavingsSupportTable,3,FALSE)*Worksheet!AQ235*IF(IFERROR(SEARCH(\"Gas\",Worksheet!$G$17),0)>0,VLOOKUP(\"Gas\",HVACg_Lookup,MATCH(Worksheet!$G$16,BuildingSize,0)+1,FALSE),IF(IFERROR(SEARCH(\"Oil\",Worksheet!$G$17),0)>0,VLOOKUP(\"Oil\",HVACg_Lookup,MATCH(Worksheet!$G$16,BuildingSize,0)+1,FALSE),IF(IFERROR(SEARCH(\"Propane\",Worksheet!$G$17),0)>0,VLOOKUP(\"Propane\",HVACg_Lookup,MATCH(Worksheet!$G$16,BuildingSize,0)+1,FALSE),0)))/IF(Worksheet!M235>0,Worksheet!M235,Worksheet!L235),0),\"\")","v":""},"",null,null,null,{"$f":"IF(ISBLANK(Worksheet!M235)=FALSE,Worksheet!M235,\"\")","v":0},{"$f":"IF(Worksheet!A235=\"-\",\"\",IF(Worksheet!A235=\"\",S211,Worksheet!A235))","v":""},{"$f":"IF(S212=\"\",\"\",IF(AND(Worksheet!G235=\"\",Worksheet!H235=\"\")=TRUE,T211,IF(Worksheet!G235=\"\",\"\",Worksheet!G235)))","v":""},{"$f":"IF(S212=\"\",\"\",IF(AND(Worksheet!G235=\"\",Worksheet!H235=\"\")=TRUE,U211,IF(Worksheet!H235=\"\",\"\",Worksheet!H235)))","v":""},{"$f":"IF(Worksheet!N235=\"\",\"\",Worksheet!N235)","v":""},{"$f":"IF(Worksheet!O235=\"\",\"\",Worksheet!O235)","v":""},{"$f":"IF(Worksheet!F235=0,\"\",Worksheet!F235)","v":""},{"$f":"IF(Worksheet!P235=0,\"\",Worksheet!P235)","v":""},{"$f":"IF(Worksheet!$A$11=TRUE,\"Y\",\"N\")","v":"N"},{"$f":"IF(Worksheet!$A$12=TRUE,\"Y\",\"N\")","v":"N"},{"$f":"IF(Worksheet!$B$11=TRUE,\"Y\",\"N\")","v":"N"},{"$f":"IF(Worksheet!$B$12=TRUE,\"Y\",\"N\")","v":"N"},{"$f":"IF(Worksheet!$C$11=TRUE,\"Y\",\"N\")","v":"N"},{"$f":"IF(Worksheet!$C$12=TRUE,\"Y\",\"N\")","v":"N"},""]
[{"$f":"IF(ISERROR(VLOOKUP(Worksheet!N236,MeasureLookup,2,FALSE))=FALSE,VLOOKUP(Worksheet!N236,MeasureLookup,2,FALSE),\"\")","v":""},{"$f":"Worksheet!Q236","v":0},{"$f":"Worksheet!R236","v":0},{"$f":"IF(ISERROR(Worksheet!P236)=FALSE,Worksheet!P236,\"\")","v":0},"Watts",null,null,{"$f":"IF(Worksheet!AP236<>\"\",IF(Worksheet!AP236>0,Worksheet!AP236/IF(Worksheet!M236>0,Worksheet!M236,Worksheet!L236),\"\"),\"\")","v":""},{"$f":"IF(ISBLANK(Worksheet!L236)=FALSE,Worksheet!L236,\"\")","v":0},{"$f":"IF(Worksheet!L236<>0, IFERROR(VLOOKUP(Worksheet!$C$16,SavingsSupportTable,3,FALSE)*Worksheet!AQ236*IFERROR(1+VLOOKUP(Worksheet!$C$16,SavingsSupportTable,MATCH(Worksheet!$G$17,HVACe_Options,0)+4,FALSE),1)/IF(Worksheet!M236>0,Worksheet!M236,Worksheet!L236),\"\"),\"\")","v":""},{"$f":"IF(Worksheet!L236<>0, IFERROR(VLOOKUP(Worksheet!$C$16,SavingsSupportTable,2,FALSE)*Worksheet!AQ236*IF(IFERROR(MATCH(Worksheet!$G$17,HVACe_Options,0),0)>0,1+VLOOKUP(Worksheet!$C$16,SavingsSupportTable,4,FALSE),1)/IF(Worksheet!M236>0,Worksheet!M236,Worksheet!L236),\"\"),\"\")","v":""},"",{"$f":"IF(Worksheet!L236<>0,IFERROR(VLOOKUP(Worksheet!$C$16,SavingsSupportTable,3,FALSE)*Worksheet!AQ236*IF(IFERROR(SEARCH(\"Gas\",Worksheet!$G$17),0)>0,VLOOKUP(\"Gas\",HVACg_Lookup,MATCH(Worksheet!$G$16,BuildingSize,0)+1,FALSE),IF(IFERROR(SEARCH(\"Oil\",Worksheet!$G$17),0)>0,VLOOKUP(\"Oil\",HVACg_Lookup,MATCH(Worksheet!$G$16,BuildingSize,0)+1,FALSE),IF(IFERROR(SEARCH(\"Propane\",Worksheet!$G$17),0)>0,VLOOKUP(\"Propane\",HVACg_Lookup,MATCH(Worksheet!$G$16,BuildingSize,0)+1,FALSE),0)))/IF(Worksheet!M236>0,Worksheet!M236,Worksheet!L236),0),\"\")","v":""},"",null,null,null,{"$f":"IF(ISBLANK(Worksheet!M236)=FALSE,Worksheet!M236,\"\")","v":0},{"$f":"IF(Worksheet!A236=\"-\",\"\",IF(Worksheet!A236=\"\",S212,Worksheet!A236))","v":""},{"$f":"IF(S213=\"\",\"\",IF(AND(Worksheet!G236=\"\",Worksheet!H236=\"\")=TRUE,T212,IF(Worksheet!G236=\"\",\"\",Worksheet!G236)))","v":""},{"$f":"IF(S213=\"\",\"\",IF(AND(Worksheet!G236=\"\",Worksheet!H236=\"\")=TRUE,U212,IF(Worksheet!H236=\"\",\"\",Worksheet!H236)))","v":""},{"$f":"IF(Worksheet!N236=\"\",\"\",Worksheet!N236)","v":""},{"$f":"IF(Worksheet!O236=\"\",\"\",Worksheet!O236)","v":""},{"$f":"IF(Worksheet!F236=0,\"\",Worksheet!F236)","v":""},{"$f":"IF(Worksheet!P236=0,\"\",Worksheet!P236)","v":""},{"$f":"IF(Worksheet!$A$11=TRUE,\"Y\",\"N\")","v":"N"},{"$f":"IF(Worksheet!$A$12=TRUE,\"Y\",\"N\")","v":"N"},{"$f":"IF(Worksheet!$B$11=TRUE,\"Y\",\"N\")","v":"N"},{"$f":"IF(Worksheet!$B$12=TRUE,\"Y\",\"N\")","v":"N"},{"$f":"IF(Worksheet!$C$11=TRUE,\"Y\",\"N\")","v":"N"},{"$f":"IF(Worksheet!$C$12=TRUE,\"Y\",\"N\")","v":"N"},""]
[{"$f":"IF(ISERROR(VLOOKUP(Worksheet!N237,MeasureLookup,2,FALSE))=FALSE,VLOOKUP(Worksheet!N237,MeasureLookup,2,FALSE),\"\")","v":""},{"$f":"Worksheet!Q237","v":0},{"$f":"Worksheet!R237","v":0},{"$f":"IF(ISERROR(Worksheet!P237)=FALSE,Worksheet!P237,\"\")","v":0},"Watts",null,null,{"$f":"IF(Worksheet!AP237<>\"\",IF(Worksheet!AP237>0,Worksheet!AP237/IF(Worksheet!M237>0,Worksheet!M237,Worksheet!L237),\"\"),\"\")","v":""},{"$f":"IF(ISBLANK(Worksheet!L237)=FALSE,Worksheet!L237,\"\")","v":0},{"$f":"IF(Worksheet!L237<>0, IFERROR(VLOOKUP(Worksheet!$C$16,SavingsSupportTable,3,FALSE)*Worksheet!AQ237*IFERROR(1+VLOOKUP(Worksheet!$C$16,SavingsSupportTable,MATCH(Worksheet!$G$17,HVACe_Options,0)+4,FALSE),1)/IF(Worksheet!M237>0,Worksheet!M237,Worksheet!L237),\"\"),\"\")","v":""},{"$f":"IF(Worksheet!L237<>0, IFERROR(VLOOKUP(Worksheet!$C$16,SavingsSupportTable,2,FALSE)*Worksheet!AQ237*IF(IFERROR(MATCH(Worksheet!$G$17,HVACe_Options,0),0)>0,1+VLOOKUP(Worksheet!$C$16,SavingsSupportTable,4,FALSE),1)/IF(Worksheet!M237>0,Worksheet!M237,Worksheet!L237),\"\"),\"\")","v":""},"",{"$f":"IF(Worksheet!L237<>0,IFERROR(VLOOKUP(Worksheet!$C$16,SavingsSupportTable,3,FALSE)*Worksheet!AQ237*IF(IFERROR(SEARCH(\"Gas\",Worksheet!$G$17),0)>0,VLOOKUP(\"Gas\",HVACg_Lookup,MATCH(Worksheet!$G$16,BuildingSize,0)+1,FALSE),IF(IFERROR(SEARCH(\"Oil\",Worksheet!$G$17),0)>0,VLOOKUP(\"Oil\",HVACg_Lookup,MATCH(Worksheet!$G$16,BuildingSize,0)+1,FALSE),IF(IFERROR(SEARCH(\"Propane\",Worksheet!$G$17),0)>0,VLOOKUP(\"Propane\",HVACg_Lookup,MATCH(Worksheet!$G$16,BuildingSize,0)+1,FALSE),0)))/IF(Worksheet!M237>0,Worksheet!M237,Worksheet!L237),0),\"\")","v":""},"",null,null,null,{"$f":"IF(ISBLANK(Worksheet!M237)=FALSE,Worksheet!M237,\"\")","v":0},{"$f":"IF(Worksheet!A237=\"-\",\"\",IF(Worksheet!A237=\"\",S213,Worksheet!A237))","v":""},{"$f":"IF(S214=\"\",\"\",IF(AND(Worksheet!G237=\"\",Worksheet!H237=\"\")=TRUE,T213,IF(Worksheet!G237=\"\",\"\",Worksheet!G237)))","v":""},{"$f":"IF(S214=\"\",\"\",IF(AND(Worksheet!G237=\"\",Worksheet!H237=\"\")=TRUE,U213,IF(Worksheet!H237=\"\",\"\",Worksheet!H237)))","v":""},{"$f":"IF(Worksheet!N237=\"\",\"\",Worksheet!N237)","v":""},{"$f":"IF(Worksheet!O237=\"\",\"\",Worksheet!O237)","v":""},{"$f":"IF(Worksheet!F237=0,\"\",Worksheet!F237)","v":""},{"$f":"IF(Worksheet!P237=0,\"\",Worksheet!P237)","v":""},{"$f":"IF(Worksheet!$A$11=TRUE,\"Y\",\"N\")","v":"N"},{"$f":"IF(Worksheet!$A$12=TRUE,\"Y\",\"N\")","v":"N"},{"$f":"IF(Worksheet!$B$11=TRUE,\"Y\",\"N\")","v":"N"},{"$f":"IF(Worksheet!$B$12=TRUE,\"Y\",\"N\")","v":"N"},{"$f":"IF(Worksheet!$C$11=TRUE,\"Y\",\"N\")","v":"N"},{"$f":"IF(Worksheet!$C$12=TRUE,\"Y\",\"N\")","v":"N"},""]
[{"$f":"IF(ISERROR(VLOOKUP(Worksheet!N238,MeasureLookup,2,FALSE))=FALSE,VLOOKUP(Worksheet!N238,MeasureLookup,2,FALSE),\"\")","v":""},{"$f":"Worksheet!Q238","v":0},{"$f":"Worksheet!R238","v":0},{"$f":"IF(ISERROR(Worksheet!P238)=FALSE,Worksheet!P238,\"\")","v":0},"Watts",null,null,{"$f":"IF(Worksheet!AP238<>\"\",IF(Worksheet!AP238>0,Worksheet!AP238/IF(Worksheet!M238>0,Worksheet!M238,Worksheet!L238),\"\"),\"\")","v":""},{"$f":"IF(ISBLANK(Worksheet!L238)=FALSE,Worksheet!L238,\"\")","v":0},{"$f":"IF(Worksheet!L238<>0, IFERROR(VLOOKUP(Worksheet!$C$16,SavingsSupportTable,3,FALSE)*Worksheet!AQ238*IFERROR(1+VLOOKUP(Worksheet!$C$16,SavingsSupportTable,MATCH(Worksheet!$G$17,HVACe_Options,0)+4,FALSE),1)/IF(Worksheet!M238>0,Worksheet!M238,Worksheet!L238),\"\"),\"\")","v":""},{"$f":"IF(Worksheet!L238<>0, IFERROR(VLOOKUP(Worksheet!$C$16,SavingsSupportTable,2,FALSE)*Worksheet!AQ238*IF(IFERROR(MATCH(Worksheet!$G$17,HVACe_Options,0),0)>0,1+VLOOKUP(Worksheet!$C$16,SavingsSupportTable,4,FALSE),1)/IF(Worksheet!M238>0,Worksheet!M238,Worksheet!L238),\"\"),\"\")","v":""},"",{"$f":"IF(Worksheet!L238<>0,IFERROR(VLOOKUP(Worksheet!$C$16,SavingsSupportTable,3,FALSE)*Worksheet!AQ238*IF(IFERROR(SEARCH(\"Gas\",Worksheet!$G$17),0)>0,VLOOKUP(\"Gas\",HVACg_Lookup,MATCH(Worksheet!$G$16,BuildingSize,0)+1,FALSE),IF(IFERROR(SEARCH(\"Oil\",Worksheet!$G$17),0)>0,VLOOKUP(\"Oil\",HVACg_Lookup,MATCH(Worksheet!$G$16,BuildingSize,0)+1,FALSE),IF(IFERROR(SEARCH(\"Propane\",Worksheet!$G$17),0)>0,VLOOKUP(\"Propane\",HVACg_Lookup,MATCH(Worksheet!$G$16,BuildingSize,0)+1,FALSE),0)))/IF(Worksheet!M238>0,Worksheet!M238,Worksheet!L238),0),\"\")","v":""},"",null,null,null,{"$f":"IF(ISBLANK(Worksheet!M238)=FALSE,Worksheet!M238,\"\")","v":0},{"$f":"IF(Worksheet!A238=\"-\",\"\",IF(Worksheet!A238=\"\",S214,Worksheet!A238))","v":""},{"$f":"IF(S215=\"\",\"\",IF(AND(Worksheet!G238=\"\",Worksheet!H238=\"\")=TRUE,T214,IF(Worksheet!G238=\"\",\"\",Worksheet!G238)))","v":""},{"$f":"IF(S215=\"\",\"\",IF(AND(Worksheet!G238=\"\",Worksheet!H238=\"\")=TRUE,U214,IF(Worksheet!H238=\"\",\"\",Worksheet!H238)))","v":""},{"$f":"IF(Worksheet!N238=\"\",\"\",Worksheet!N238)","v":""},{"$f":"IF(Worksheet!O238=\"\",\"\",Worksheet!O238)","v":""},{"$f":"IF(Worksheet!F238=0,\"\",Worksheet!F238)","v":""},{"$f":"IF(Worksheet!P238=0,\"\",Worksheet!P238)","v":""},{"$f":"IF(Worksheet!$A$11=TRUE,\"Y\",\"N\")","v":"N"},{"$f":"IF(Worksheet!$A$12=TRUE,\"Y\",\"N\")","v":"N"},{"$f":"IF(Worksheet!$B$11=TRUE,\"Y\",\"N\")","v":"N"},{"$f":"IF(Worksheet!$B$12=TRUE,\"Y\",\"N\")","v":"N"},{"$f":"IF(Worksheet!$C$11=TRUE,\"Y\",\"N\")","v":"N"},{"$f":"IF(Worksheet!$C$12=TRUE,\"Y\",\"N\")","v":"N"},""]
[{"$f":"IF(ISERROR(VLOOKUP(Worksheet!N239,MeasureLookup,2,FALSE))=FALSE,VLOOKUP(Worksheet!N239,MeasureLookup,2,FALSE),\"\")","v":""},{"$f":"Worksheet!Q239","v":0},{"$f":"Worksheet!R239","v":0},{"$f":"IF(ISERROR(Worksheet!P239)=FALSE,Worksheet!P239,\"\")","v":0},"Watts",null,null,{"$f":"IF(Worksheet!AP239<>\"\",IF(Worksheet!AP239>0,Worksheet!AP239/IF(Worksheet!M239>0,Worksheet!M239,Worksheet!L239),\"\"),\"\")","v":""},{"$f":"IF(ISBLANK(Worksheet!L239)=FALSE,Worksheet!L239,\"\")","v":0},{"$f":"IF(Worksheet!L239<>0, IFERROR(VLOOKUP(Worksheet!$C$16,SavingsSupportTable,3,FALSE)*Worksheet!AQ239*IFERROR(1+VLOOKUP(Worksheet!$C$16,SavingsSupportTable,MATCH(Worksheet!$G$17,HVACe_Options,0)+4,FALSE),1)/IF(Worksheet!M239>0,Worksheet!M239,Worksheet!L239),\"\"),\"\")","v":""},{"$f":"IF(Worksheet!L239<>0, IFERROR(VLOOKUP(Worksheet!$C$16,SavingsSupportTable,2,FALSE)*Worksheet!AQ239*IF(IFERROR(MATCH(Worksheet!$G$17,HVACe_Options,0),0)>0,1+VLOOKUP(Worksheet!$C$16,SavingsSupportTable,4,FALSE),1)/IF(Worksheet!M239>0,Worksheet!M239,Worksheet!L239),\"\"),\"\")","v":""},"",{"$f":"IF(Worksheet!L239<>0,IFERROR(VLOOKUP(Worksheet!$C$16,SavingsSupportTable,3,FALSE)*Worksheet!AQ239*IF(IFERROR(SEARCH(\"Gas\",Worksheet!$G$17),0)>0,VLOOKUP(\"Gas\",HVACg_Lookup,MATCH(Worksheet!$G$16,BuildingSize,0)+1,FALSE),IF(IFERROR(SEARCH(\"Oil\",Worksheet!$G$17),0)>0,VLOOKUP(\"Oil\",HVACg_Lookup,MATCH(Worksheet!$G$16,BuildingSize,0)+1,FALSE),IF(IFERROR(SEARCH(\"Propane\",Worksheet!$G$17),0)>0,VLOOKUP(\"Propane\",HVACg_Lookup,MATCH(Worksheet!$G$16,BuildingSize,0)+1,FALSE),0)))/IF(Worksheet!M239>0,Worksheet!M239,Worksheet!L239),0),\"\")","v":""},"",null,null,null,{"$f":"IF(ISBLANK(Worksheet!M239)=FALSE,Worksheet!M239,\"\")","v":0},{"$f":"IF(Worksheet!A239=\"-\",\"\",IF(Worksheet!A239=\"\",S215,Worksheet!A239))","v":""},{"$f":"IF(S216=\"\",\"\",IF(AND(Worksheet!G239=\"\",Worksheet!H239=\"\")=TRUE,T215,IF(Worksheet!G239=\"\",\"\",Worksheet!G239)))","v":""},{"$f":"IF(S216=\"\",\"\",IF(AND(Worksheet!G239=\"\",Worksheet!H239=\"\")=TRUE,U215,IF(Worksheet!H239=\"\",\"\",Worksheet!H239)))","v":""},{"$f":"IF(Worksheet!N239=\"\",\"\",Worksheet!N239)","v":""},{"$f":"IF(Worksheet!O239=\"\",\"\",Worksheet!O239)","v":""},{"$f":"IF(Worksheet!F239=0,\"\",Worksheet!F239)","v":""},{"$f":"IF(Worksheet!P239=0,\"\",Worksheet!P239)","v":""},{"$f":"IF(Worksheet!$A$11=TRUE,\"Y\",\"N\")","v":"N"},{"$f":"IF(Worksheet!$A$12=TRUE,\"Y\",\"N\")","v":"N"},{"$f":"IF(Worksheet!$B$11=TRUE,\"Y\",\"N\")","v":"N"},{"$f":"IF(Worksheet!$B$12=TRUE,\"Y\",\"N\")","v":"N"},{"$f":"IF(Worksheet!$C$11=TRUE,\"Y\",\"N\")","v":"N"},{"$f":"IF(Worksheet!$C$12=TRUE,\"Y\",\"N\")","v":"N"},""]
[{"$f":"IF(ISERROR(VLOOKUP(Worksheet!N240,MeasureLookup,2,FALSE))=FALSE,VLOOKUP(Worksheet!N240,MeasureLookup,2,FALSE),\"\")","v":""},{"$f":"Worksheet!Q240","v":0},{"$f":"Worksheet!R240","v":0},{"$f":"IF(ISERROR(Worksheet!P240)=FALSE,Worksheet!P240,\"\")","v":0},"Watts",null,null,{"$f":"IF(Worksheet!AP240<>\"\",IF(Worksheet!AP240>0,Worksheet!AP240/IF(Worksheet!M240>0,Worksheet!M240,Worksheet!L240),\"\"),\"\")","v":""},{"$f":"IF(ISBLANK(Worksheet!L240)=FALSE,Worksheet!L240,\"\")","v":0},{"$f":"IF(Worksheet!L240<>0, IFERROR(VLOOKUP(Worksheet!$C$16,SavingsSupportTable,3,FALSE)*Worksheet!AQ240*IFERROR(1+VLOOKUP(Worksheet!$C$16,SavingsSupportTable,MATCH(Worksheet!$G$17,HVACe_Options,0)+4,FALSE),1)/IF(Worksheet!M240>0,Worksheet!M240,Worksheet!L240),\"\"),\"\")","v":""},{"$f":"IF(Worksheet!L240<>0, IFERROR(VLOOKUP(Worksheet!$C$16,SavingsSupportTable,2,FALSE)*Worksheet!AQ240*IF(IFERROR(MATCH(Worksheet!$G$17,HVACe_Options,0),0)>0,1+VLOOKUP(Worksheet!$C$16,SavingsSupportTable,4,FALSE),1)/IF(Worksheet!M240>0,Worksheet!M240,Worksheet!L240),\"\"),\"\")","v":""},"",{"$f":"IF(Worksheet!L240<>0,IFERROR(VLOOKUP(Worksheet!$C$16,SavingsSupportTable,3,FALSE)*Worksheet!AQ240*IF(IFERROR(SEARCH(\"Gas\",Worksheet!$G$17),0)>0,VLOOKUP(\"Gas\",HVACg_Lookup,MATCH(Worksheet!$G$16,BuildingSize,0)+1,FALSE),IF(IFERROR(SEARCH(\"Oil\",Worksheet!$G$17),0)>0,VLOOKUP(\"Oil\",HVACg_Lookup,MATCH(Worksheet!$G$16,BuildingSize,0)+1,FALSE),IF(IFERROR(SEARCH(\"Propane\",Worksheet!$G$17),0)>0,VLOOKUP(\"Propane\",HVACg_Lookup,MATCH(Worksheet!$G$16,BuildingSize,0)+1,FALSE),0)))/IF(Worksheet!M240>0,Worksheet!M240,Worksheet!L240),0),\"\")","v":""},"",null,null,null,{"$f":"IF(ISBLANK(Worksheet!M240)=FALSE,Worksheet!M240,\"\")","v":0},{"$f":"IF(Worksheet!A240=\"-\",\"\",IF(Worksheet!A240=\"\",S216,Worksheet!A240))","v":""},{"$f":"IF(S217=\"\",\"\",IF(AND(Worksheet!G240=\"\",Worksheet!H240=\"\")=TRUE,T216,IF(Worksheet!G240=\"\",\"\",Worksheet!G240)))","v":""},{"$f":"IF(S217=\"\",\"\",IF(AND(Worksheet!G240=\"\",Worksheet!H240=\"\")=TRUE,U216,IF(Worksheet!H240=\"\",\"\",Worksheet!H240)))","v":""},{"$f":"IF(Worksheet!N240=\"\",\"\",Worksheet!N240)","v":""},{"$f":"IF(Worksheet!O240=\"\",\"\",Worksheet!O240)","v":""},{"$f":"IF(Worksheet!F240=0,\"\",Worksheet!F240)","v":""},{"$f":"IF(Worksheet!P240=0,\"\",Worksheet!P240)","v":""},{"$f":"IF(Worksheet!$A$11=TRUE,\"Y\",\"N\")","v":"N"},{"$f":"IF(Worksheet!$A$12=TRUE,\"Y\",\"N\")","v":"N"},{"$f":"IF(Worksheet!$B$11=TRUE,\"Y\",\"N\")","v":"N"},{"$f":"IF(Worksheet!$B$12=TRUE,\"Y\",\"N\")","v":"N"},{"$f":"IF(Worksheet!$C$11=TRUE,\"Y\",\"N\")","v":"N"},{"$f":"IF(Worksheet!$C$12=TRUE,\"Y\",\"N\")","v":"N"},""]
[{"$f":"IF(ISERROR(VLOOKUP(Worksheet!N241,MeasureLookup,2,FALSE))=FALSE,VLOOKUP(Worksheet!N241,MeasureLookup,2,FALSE),\"\")","v":""},{"$f":"Worksheet!Q241","v":0},{"$f":"Worksheet!R241","v":0},{"$f":"IF(ISERROR(Worksheet!P241)=FALSE,Worksheet!P241,\"\")","v":0},"Watts",null,null,{"$f":"IF(Worksheet!AP241<>\"\",IF(Worksheet!AP241>0,Worksheet!AP241/IF(Worksheet!M241>0,Worksheet!M241,Worksheet!L241),\"\"),\"\")","v":""},{"$f":"IF(ISBLANK(Worksheet!L241)=FALSE,Worksheet!L241,\"\")","v":0},{"$f":"IF(Worksheet!L241<>0, IFERROR(VLOOKUP(Worksheet!$C$16,SavingsSupportTable,3,FALSE)*Worksheet!AQ241*IFERROR(1+VLOOKUP(Worksheet!$C$16,SavingsSupportTable,MATCH(Worksheet!$G$17,HVACe_Options,0)+4,FALSE),1)/IF(Worksheet!M241>0,Worksheet!M241,Worksheet!L241),\"\"),\"\")","v":""},{"$f":"IF(Worksheet!L241<>0, IFERROR(VLOOKUP(Worksheet!$C$16,SavingsSupportTable,2,FALSE)*Worksheet!AQ241*IF(IFERROR(MATCH(Worksheet!$G$17,HVACe_Options,0),0)>0,1+VLOOKUP(Worksheet!$C$16,SavingsSupportTable,4,FALSE),1)/IF(Worksheet!M241>0,Worksheet!M241,Worksheet!L241),\"\"),\"\")","v":""},"",{"$f":"IF(Worksheet!L241<>0,IFERROR(VLOOKUP(Worksheet!$C$16,SavingsSupportTable,3,FALSE)*Worksheet!AQ241*IF(IFERROR(SEARCH(\"Gas\",Worksheet!$G$17),0)>0,VLOOKUP(\"Gas\",HVACg_Lookup,MATCH(Worksheet!$G$16,BuildingSize,0)+1,FALSE),IF(IFERROR(SEARCH(\"Oil\",Worksheet!$G$17),0)>0,VLOOKUP(\"Oil\",HVACg_Lookup,MATCH(Worksheet!$G$16,BuildingSize,0)+1,FALSE),IF(IFERROR(SEARCH(\"Propane\",Worksheet!$G$17),0)>0,VLOOKUP(\"Propane\",HVACg_Lookup,MATCH(Worksheet!$G$16,BuildingSize,0)+1,FALSE),0)))/IF(Worksheet!M241>0,Worksheet!M241,Worksheet!L241),0),\"\")","v":""},"",null,null,null,{"$f":"IF(ISBLANK(Worksheet!M241)=FALSE,Worksheet!M241,\"\")","v":0},{"$f":"IF(Worksheet!A241=\"-\",\"\",IF(Worksheet!A241=\"\",S217,Worksheet!A241))","v":""},{"$f":"IF(S218=\"\",\"\",IF(AND(Worksheet!G241=\"\",Worksheet!H241=\"\")=TRUE,T217,IF(Worksheet!G241=\"\",\"\",Worksheet!G241)))","v":""},{"$f":"IF(S218=\"\",\"\",IF(AND(Worksheet!G241=\"\",Worksheet!H241=\"\")=TRUE,U217,IF(Worksheet!H241=\"\",\"\",Worksheet!H241)))","v":""},{"$f":"IF(Worksheet!N241=\"\",\"\",Worksheet!N241)","v":""},{"$f":"IF(Worksheet!O241=\"\",\"\",Worksheet!O241)","v":""},{"$f":"IF(Worksheet!F241=0,\"\",Worksheet!F241)","v":""},{"$f":"IF(Worksheet!P241=0,\"\",Worksheet!P241)","v":""},{"$f":"IF(Worksheet!$A$11=TRUE,\"Y\",\"N\")","v":"N"},{"$f":"IF(Worksheet!$A$12=TRUE,\"Y\",\"N\")","v":"N"},{"$f":"IF(Worksheet!$B$11=TRUE,\"Y\",\"N\")","v":"N"},{"$f":"IF(Worksheet!$B$12=TRUE,\"Y\",\"N\")","v":"N"},{"$f":"IF(Worksheet!$C$11=TRUE,\"Y\",\"N\")","v":"N"},{"$f":"IF(Worksheet!$C$12=TRUE,\"Y\",\"N\")","v":"N"},""]
[{"$f":"IF(ISERROR(VLOOKUP(Worksheet!N242,MeasureLookup,2,FALSE))=FALSE,VLOOKUP(Worksheet!N242,MeasureLookup,2,FALSE),\"\")","v":""},{"$f":"Worksheet!Q242","v":0},{"$f":"Worksheet!R242","v":0},{"$f":"IF(ISERROR(Worksheet!P242)=FALSE,Worksheet!P242,\"\")","v":0},"Watts",null,null,{"$f":"IF(Worksheet!AP242<>\"\",IF(Worksheet!AP242>0,Worksheet!AP242/IF(Worksheet!M242>0,Worksheet!M242,Worksheet!L242),\"\"),\"\")","v":""},{"$f":"IF(ISBLANK(Worksheet!L242)=FALSE,Worksheet!L242,\"\")","v":0},{"$f":"IF(Worksheet!L242<>0, IFERROR(VLOOKUP(Worksheet!$C$16,SavingsSupportTable,3,FALSE)*Worksheet!AQ242*IFERROR(1+VLOOKUP(Worksheet!$C$16,SavingsSupportTable,MATCH(Worksheet!$G$17,HVACe_Options,0)+4,FALSE),1)/IF(Worksheet!M242>0,Worksheet!M242,Worksheet!L242),\"\"),\"\")","v":""},{"$f":"IF(Worksheet!L242<>0, IFERROR(VLOOKUP(Worksheet!$C$16,SavingsSupportTable,2,FALSE)*Worksheet!AQ242*IF(IFERROR(MATCH(Worksheet!$G$17,HVACe_Options,0),0)>0,1+VLOOKUP(Worksheet!$C$16,SavingsSupportTable,4,FALSE),1)/IF(Worksheet!M242>0,Worksheet!M242,Worksheet!L242),\"\"),\"\")","v":""},"",{"$f":"IF(Worksheet!L242<>0,IFERROR(VLOOKUP(Worksheet!$C$16,SavingsSupportTable,3,FALSE)*Worksheet!AQ242*IF(IFERROR(SEARCH(\"Gas\",Worksheet!$G$17),0)>0,VLOOKUP(\"Gas\",HVACg_Lookup,MATCH(Worksheet!$G$16,BuildingSize,0)+1,FALSE),IF(IFERROR(SEARCH(\"Oil\",Worksheet!$G$17),0)>0,VLOOKUP(\"Oil\",HVACg_Lookup,MATCH(Worksheet!$G$16,BuildingSize,0)+1,FALSE),IF(IFERROR(SEARCH(\"Propane\",Worksheet!$G$17),0)>0,VLOOKUP(\"Propane\",HVACg_Lookup,MATCH(Worksheet!$G$16,BuildingSize,0)+1,FALSE),0)))/IF(Worksheet!M242>0,Worksheet!M242,Worksheet!L242),0),\"\")","v":""},"",null,null,null,{"$f":"IF(ISBLANK(Worksheet!M242)=FALSE,Worksheet!M242,\"\")","v":0},{"$f":"IF(Worksheet!A242=\"-\",\"\",IF(Worksheet!A242=\"\",S218,Worksheet!A242))","v":""},{"$f":"IF(S219=\"\",\"\",IF(AND(Worksheet!G242=\"\",Worksheet!H242=\"\")=TRUE,T218,IF(Worksheet!G242=\"\",\"\",Worksheet!G242)))","v":""},{"$f":"IF(S219=\"\",\"\",IF(AND(Worksheet!G242=\"\",Worksheet!H242=\"\")=TRUE,U218,IF(Worksheet!H242=\"\",\"\",Worksheet!H242)))","v":""},{"$f":"IF(Worksheet!N242=\"\",\"\",Worksheet!N242)","v":""},{"$f":"IF(Worksheet!O242=\"\",\"\",Worksheet!O242)","v":""},{"$f":"IF(Worksheet!F242=0,\"\",Worksheet!F242)","v":""},{"$f":"IF(Worksheet!P242=0,\"\",Worksheet!P242)","v":""},{"$f":"IF(Worksheet!$A$11=TRUE,\"Y\",\"N\")","v":"N"},{"$f":"IF(Worksheet!$A$12=TRUE,\"Y\",\"N\")","v":"N"},{"$f":"IF(Worksheet!$B$11=TRUE,\"Y\",\"N\")","v":"N"},{"$f":"IF(Worksheet!$B$12=TRUE,\"Y\",\"N\")","v":"N"},{"$f":"IF(Worksheet!$C$11=TRUE,\"Y\",\"N\")","v":"N"},{"$f":"IF(Worksheet!$C$12=TRUE,\"Y\",\"N\")","v":"N"},""]
[{"$f":"IF(ISERROR(VLOOKUP(Worksheet!N243,MeasureLookup,2,FALSE))=FALSE,VLOOKUP(Worksheet!N243,MeasureLookup,2,FALSE),\"\")","v":""},{"$f":"Worksheet!Q243","v":0},{"$f":"Worksheet!R243","v":0},{"$f":"IF(ISERROR(Worksheet!P243)=FALSE,Worksheet!P243,\"\")","v":0},"Watts",null,null,{"$f":"IF(Worksheet!AP243<>\"\",IF(Worksheet!AP243>0,Worksheet!AP243/IF(Worksheet!M243>0,Worksheet!M243,Worksheet!L243),\"\"),\"\")","v":""},{"$f":"IF(ISBLANK(Worksheet!L243)=FALSE,Worksheet!L243,\"\")","v":0},{"$f":"IF(Worksheet!L243<>0, IFERROR(VLOOKUP(Worksheet!$C$16,SavingsSupportTable,3,FALSE)*Worksheet!AQ243*IFERROR(1+VLOOKUP(Worksheet!$C$16,SavingsSupportTable,MATCH(Worksheet!$G$17,HVACe_Options,0)+4,FALSE),1)/IF(Worksheet!M243>0,Worksheet!M243,Worksheet!L243),\"\"),\"\")","v":""},{"$f":"IF(Worksheet!L243<>0, IFERROR(VLOOKUP(Worksheet!$C$16,SavingsSupportTable,2,FALSE)*Worksheet!AQ243*IF(IFERROR(MATCH(Worksheet!$G$17,HVACe_Options,0),0)>0,1+VLOOKUP(Worksheet!$C$16,SavingsSupportTable,4,FALSE),1)/IF(Worksheet!M243>0,Worksheet!M243,Worksheet!L243),\"\"),\"\")","v":""},"",{"$f":"IF(Worksheet!L243<>0,IFERROR(VLOOKUP(Worksheet!$C$16,SavingsSupportTable,3,FALSE)*Worksheet!AQ243*IF(IFERROR(SEARCH(\"Gas\",Worksheet!$G$17),0)>0,VLOOKUP(\"Gas\",HVACg_Lookup,MATCH(Worksheet!$G$16,BuildingSize,0)+1,FALSE),IF(IFERROR(SEARCH(\"Oil\",Worksheet!$G$17),0)>0,VLOOKUP(\"Oil\",HVACg_Lookup,MATCH(Worksheet!$G$16,BuildingSize,0)+1,FALSE),IF(IFERROR(SEARCH(\"Propane\",Worksheet!$G$17),0)>0,VLOOKUP(\"Propane\",HVACg_Lookup,MATCH(Worksheet!$G$16,BuildingSize,0)+1,FALSE),0)))/IF(Worksheet!M243>0,Worksheet!M243,Worksheet!L243),0),\"\")","v":""},"",null,null,null,{"$f":"IF(ISBLANK(Worksheet!M243)=FALSE,Worksheet!M243,\"\")","v":0},{"$f":"IF(Worksheet!A243=\"-\",\"\",IF(Worksheet!A243=\"\",S219,Worksheet!A243))","v":""},{"$f":"IF(S220=\"\",\"\",IF(AND(Worksheet!G243=\"\",Worksheet!H243=\"\")=TRUE,T219,IF(Worksheet!G243=\"\",\"\",Worksheet!G243)))","v":""},{"$f":"IF(S220=\"\",\"\",IF(AND(Worksheet!G243=\"\",Worksheet!H243=\"\")=TRUE,U219,IF(Worksheet!H243=\"\",\"\",Worksheet!H243)))","v":""},{"$f":"IF(Worksheet!N243=\"\",\"\",Worksheet!N243)","v":""},{"$f":"IF(Worksheet!O243=\"\",\"\",Worksheet!O243)","v":""},{"$f":"IF(Worksheet!F243=0,\"\",Worksheet!F243)","v":""},{"$f":"IF(Worksheet!P243=0,\"\",Worksheet!P243)","v":""},{"$f":"IF(Worksheet!$A$11=TRUE,\"Y\",\"N\")","v":"N"},{"$f":"IF(Worksheet!$A$12=TRUE,\"Y\",\"N\")","v":"N"},{"$f":"IF(Worksheet!$B$11=TRUE,\"Y\",\"N\")","v":"N"},{"$f":"IF(Worksheet!$B$12=TRUE,\"Y\",\"N\")","v":"N"},{"$f":"IF(Worksheet!$C$11=TRUE,\"Y\",\"N\")","v":"N"},{"$f":"IF(Worksheet!$C$12=TRUE,\"Y\",\"N\")","v":"N"},""]
[{"$f":"IF(ISERROR(VLOOKUP(Worksheet!N244,MeasureLookup,2,FALSE))=FALSE,VLOOKUP(Worksheet!N244,MeasureLookup,2,FALSE),\"\")","v":""},{"$f":"Worksheet!Q244","v":0},{"$f":"Worksheet!R244","v":0},{"$f":"IF(ISERROR(Worksheet!P244)=FALSE,Worksheet!P244,\"\")","v":0},"Watts",null,null,{"$f":"IF(Worksheet!AP244<>\"\",IF(Worksheet!AP244>0,Worksheet!AP244/IF(Worksheet!M244>0,Worksheet!M244,Worksheet!L244),\"\"),\"\")","v":""},{"$f":"IF(ISBLANK(Worksheet!L244)=FALSE,Worksheet!L244,\"\")","v":0},{"$f":"IF(Worksheet!L244<>0, IFERROR(VLOOKUP(Worksheet!$C$16,SavingsSupportTable,3,FALSE)*Worksheet!AQ244*IFERROR(1+VLOOKUP(Worksheet!$C$16,SavingsSupportTable,MATCH(Worksheet!$G$17,HVACe_Options,0)+4,FALSE),1)/IF(Worksheet!M244>0,Worksheet!M244,Worksheet!L244),\"\"),\"\")","v":""},{"$f":"IF(Worksheet!L244<>0, IFERROR(VLOOKUP(Worksheet!$C$16,SavingsSupportTable,2,FALSE)*Worksheet!AQ244*IF(IFERROR(MATCH(Worksheet!$G$17,HVACe_Options,0),0)>0,1+VLOOKUP(Worksheet!$C$16,SavingsSupportTable,4,FALSE),1)/IF(Worksheet!M244>0,Worksheet!M244,Worksheet!L244),\"\"),\"\")","v":""},"",{"$f":"IF(Worksheet!L244<>0,IFERROR(VLOOKUP(Worksheet!$C$16,SavingsSupportTable,3,FALSE)*Worksheet!AQ244*IF(IFERROR(SEARCH(\"Gas\",Worksheet!$G$17),0)>0,VLOOKUP(\"Gas\",HVACg_Lookup,MATCH(Worksheet!$G$16,BuildingSize,0)+1,FALSE),IF(IFERROR(SEARCH(\"Oil\",Worksheet!$G$17),0)>0,VLOOKUP(\"Oil\",HVACg_Lookup,MATCH(Worksheet!$G$16,BuildingSize,0)+1,FALSE),IF(IFERROR(SEARCH(\"Propane\",Worksheet!$G$17),0)>0,VLOOKUP(\"Propane\",HVACg_Lookup,MATCH(Worksheet!$G$16,BuildingSize,0)+1,FALSE),0)))/IF(Worksheet!M244>0,Worksheet!M244,Worksheet!L244),0),\"\")","v":""},"",null,null,null,{"$f":"IF(ISBLANK(Worksheet!M244)=FALSE,Worksheet!M244,\"\")","v":0},{"$f":"IF(Worksheet!A244=\"-\",\"\",IF(Worksheet!A244=\"\",S220,Worksheet!A244))","v":""},{"$f":"IF(S221=\"\",\"\",IF(AND(Worksheet!G244=\"\",Worksheet!H244=\"\")=TRUE,T220,IF(Worksheet!G244=\"\",\"\",Worksheet!G244)))","v":""},{"$f":"IF(S221=\"\",\"\",IF(AND(Worksheet!G244=\"\",Worksheet!H244=\"\")=TRUE,U220,IF(Worksheet!H244=\"\",\"\",Worksheet!H244)))","v":""},{"$f":"IF(Worksheet!N244=\"\",\"\",Worksheet!N244)","v":""},{"$f":"IF(Worksheet!O244=\"\",\"\",Worksheet!O244)","v":""},{"$f":"IF(Worksheet!F244=0,\"\",Worksheet!F244)","v":""},{"$f":"IF(Worksheet!P244=0,\"\",Worksheet!P244)","v":""},{"$f":"IF(Worksheet!$A$11=TRUE,\"Y\",\"N\")","v":"N"},{"$f":"IF(Worksheet!$A$12=TRUE,\"Y\",\"N\")","v":"N"},{"$f":"IF(Worksheet!$B$11=TRUE,\"Y\",\"N\")","v":"N"},{"$f":"IF(Worksheet!$B$12=TRUE,\"Y\",\"N\")","v":"N"},{"$f":"IF(Worksheet!$C$11=TRUE,\"Y\",\"N\")","v":"N"},{"$f":"IF(Worksheet!$C$12=TRUE,\"Y\",\"N\")","v":"N"},""]
[{"$f":"IF(ISERROR(VLOOKUP(Worksheet!N245,MeasureLookup,2,FALSE))=FALSE,VLOOKUP(Worksheet!N245,MeasureLookup,2,FALSE),\"\")","v":""},{"$f":"Worksheet!Q245","v":0},{"$f":"Worksheet!R245","v":0},{"$f":"IF(ISERROR(Worksheet!P245)=FALSE,Worksheet!P245,\"\")","v":0},"Watts",null,null,{"$f":"IF(Worksheet!AP245<>\"\",IF(Worksheet!AP245>0,Worksheet!AP245/IF(Worksheet!M245>0,Worksheet!M245,Worksheet!L245),\"\"),\"\")","v":""},{"$f":"IF(ISBLANK(Worksheet!L245)=FALSE,Worksheet!L245,\"\")","v":0},{"$f":"IF(Worksheet!L245<>0, IFERROR(VLOOKUP(Worksheet!$C$16,SavingsSupportTable,3,FALSE)*Worksheet!AQ245*IFERROR(1+VLOOKUP(Worksheet!$C$16,SavingsSupportTable,MATCH(Worksheet!$G$17,HVACe_Options,0)+4,FALSE),1)/IF(Worksheet!M245>0,Worksheet!M245,Worksheet!L245),\"\"),\"\")","v":""},{"$f":"IF(Worksheet!L245<>0, IFERROR(VLOOKUP(Worksheet!$C$16,SavingsSupportTable,2,FALSE)*Worksheet!AQ245*IF(IFERROR(MATCH(Worksheet!$G$17,HVACe_Options,0),0)>0,1+VLOOKUP(Worksheet!$C$16,SavingsSupportTable,4,FALSE),1)/IF(Worksheet!M245>0,Worksheet!M245,Worksheet!L245),\"\"),\"\")","v":""},"",{"$f":"IF(Worksheet!L245<>0,IFERROR(VLOOKUP(Worksheet!$C$16,SavingsSupportTable,3,FALSE)*Worksheet!AQ245*IF(IFERROR(SEARCH(\"Gas\",Worksheet!$G$17),0)>0,VLOOKUP(\"Gas\",HVACg_Lookup,MATCH(Worksheet!$G$16,BuildingSize,0)+1,FALSE),IF(IFERROR(SEARCH(\"Oil\",Worksheet!$G$17),0)>0,VLOOKUP(\"Oil\",HVACg_Lookup,MATCH(Worksheet!$G$16,BuildingSize,0)+1,FALSE),IF(IFERROR(SEARCH(\"Propane\",Worksheet!$G$17),0)>0,VLOOKUP(\"Propane\",HVACg_Lookup,MATCH(Worksheet!$G$16,BuildingSize,0)+1,FALSE),0)))/IF(Worksheet!M245>0,Worksheet!M245,Worksheet!L245),0),\"\")","v":""},"",null,null,null,{"$f":"IF(ISBLANK(Worksheet!M245)=FALSE,Worksheet!M245,\"\")","v":0},{"$f":"IF(Worksheet!A245=\"-\",\"\",IF(Worksheet!A245=\"\",S221,Worksheet!A245))","v":""},{"$f":"IF(S222=\"\",\"\",IF(AND(Worksheet!G245=\"\",Worksheet!H245=\"\")=TRUE,T221,IF(Worksheet!G245=\"\",\"\",Worksheet!G245)))","v":""},{"$f":"IF(S222=\"\",\"\",IF(AND(Worksheet!G245=\"\",Worksheet!H245=\"\")=TRUE,U221,IF(Worksheet!H245=\"\",\"\",Worksheet!H245)))","v":""},{"$f":"IF(Worksheet!N245=\"\",\"\",Worksheet!N245)","v":""},{"$f":"IF(Worksheet!O245=\"\",\"\",Worksheet!O245)","v":""},{"$f":"IF(Worksheet!F245=0,\"\",Worksheet!F245)","v":""},{"$f":"IF(Worksheet!P245=0,\"\",Worksheet!P245)","v":""},{"$f":"IF(Worksheet!$A$11=TRUE,\"Y\",\"N\")","v":"N"},{"$f":"IF(Worksheet!$A$12=TRUE,\"Y\",\"N\")","v":"N"},{"$f":"IF(Worksheet!$B$11=TRUE,\"Y\",\"N\")","v":"N"},{"$f":"IF(Worksheet!$B$12=TRUE,\"Y\",\"N\")","v":"N"},{"$f":"IF(Worksheet!$C$11=TRUE,\"Y\",\"N\")","v":"N"},{"$f":"IF(Worksheet!$C$12=TRUE,\"Y\",\"N\")","v":"N"},""]
[{"$f":"IF(ISERROR(VLOOKUP(Worksheet!N246,MeasureLookup,2,FALSE))=FALSE,VLOOKUP(Worksheet!N246,MeasureLookup,2,FALSE),\"\")","v":""},{"$f":"Worksheet!Q246","v":0},{"$f":"Worksheet!R246","v":0},{"$f":"IF(ISERROR(Worksheet!P246)=FALSE,Worksheet!P246,\"\")","v":0},"Watts",null,null,{"$f":"IF(Worksheet!AP246<>\"\",IF(Worksheet!AP246>0,Worksheet!AP246/IF(Worksheet!M246>0,Worksheet!M246,Worksheet!L246),\"\"),\"\")","v":""},{"$f":"IF(ISBLANK(Worksheet!L246)=FALSE,Worksheet!L246,\"\")","v":0},{"$f":"IF(Worksheet!L246<>0, IFERROR(VLOOKUP(Worksheet!$C$16,SavingsSupportTable,3,FALSE)*Worksheet!AQ246*IFERROR(1+VLOOKUP(Worksheet!$C$16,SavingsSupportTable,MATCH(Worksheet!$G$17,HVACe_Options,0)+4,FALSE),1)/IF(Worksheet!M246>0,Worksheet!M246,Worksheet!L246),\"\"),\"\")","v":""},{"$f":"IF(Worksheet!L246<>0, IFERROR(VLOOKUP(Worksheet!$C$16,SavingsSupportTable,2,FALSE)*Worksheet!AQ246*IF(IFERROR(MATCH(Worksheet!$G$17,HVACe_Options,0),0)>0,1+VLOOKUP(Worksheet!$C$16,SavingsSupportTable,4,FALSE),1)/IF(Worksheet!M246>0,Worksheet!M246,Worksheet!L246),\"\"),\"\")","v":""},"",{"$f":"IF(Worksheet!L246<>0,IFERROR(VLOOKUP(Worksheet!$C$16,SavingsSupportTable,3,FALSE)*Worksheet!AQ246*IF(IFERROR(SEARCH(\"Gas\",Worksheet!$G$17),0)>0,VLOOKUP(\"Gas\",HVACg_Lookup,MATCH(Worksheet!$G$16,BuildingSize,0)+1,FALSE),IF(IFERROR(SEARCH(\"Oil\",Worksheet!$G$17),0)>0,VLOOKUP(\"Oil\",HVACg_Lookup,MATCH(Worksheet!$G$16,BuildingSize,0)+1,FALSE),IF(IFERROR(SEARCH(\"Propane\",Worksheet!$G$17),0)>0,VLOOKUP(\"Propane\",HVACg_Lookup,MATCH(Worksheet!$G$16,BuildingSize,0)+1,FALSE),0)))/IF(Worksheet!M246>0,Worksheet!M246,Worksheet!L246),0),\"\")","v":""},"",null,null,null,{"$f":"IF(ISBLANK(Worksheet!M246)=FALSE,Worksheet!M246,\"\")","v":0},{"$f":"IF(Worksheet!A246=\"-\",\"\",IF(Worksheet!A246=\"\",S222,Worksheet!A246))","v":""},{"$f":"IF(S223=\"\",\"\",IF(AND(Worksheet!G246=\"\",Worksheet!H246=\"\")=TRUE,T222,IF(Worksheet!G246=\"\",\"\",Worksheet!G246)))","v":""},{"$f":"IF(S223=\"\",\"\",IF(AND(Worksheet!G246=\"\",Worksheet!H246=\"\")=TRUE,U222,IF(Worksheet!H246=\"\",\"\",Worksheet!H246)))","v":""},{"$f":"IF(Worksheet!N246=\"\",\"\",Worksheet!N246)","v":""},{"$f":"IF(Worksheet!O246=\"\",\"\",Worksheet!O246)","v":""},{"$f":"IF(Worksheet!F246=0,\"\",Worksheet!F246)","v":""},{"$f":"IF(Worksheet!P246=0,\"\",Worksheet!P246)","v":""},{"$f":"IF(Worksheet!$A$11=TRUE,\"Y\",\"N\")","v":"N"},{"$f":"IF(Worksheet!$A$12=TRUE,\"Y\",\"N\")","v":"N"},{"$f":"IF(Worksheet!$B$11=TRUE,\"Y\",\"N\")","v":"N"},{"$f":"IF(Worksheet!$B$12=TRUE,\"Y\",\"N\")","v":"N"},{"$f":"IF(Worksheet!$C$11=TRUE,\"Y\",\"N\")","v":"N"},{"$f":"IF(Worksheet!$C$12=TRUE,\"Y\",\"N\")","v":"N"},""]
[{"$f":"IF(ISERROR(VLOOKUP(Worksheet!N247,MeasureLookup,2,FALSE))=FALSE,VLOOKUP(Worksheet!N247,MeasureLookup,2,FALSE),\"\")","v":""},{"$f":"Worksheet!Q247","v":0},{"$f":"Worksheet!R247","v":0},{"$f":"IF(ISERROR(Worksheet!P247)=FALSE,Worksheet!P247,\"\")","v":0},"Watts",null,null,{"$f":"IF(Worksheet!AP247<>\"\",IF(Worksheet!AP247>0,Worksheet!AP247/IF(Worksheet!M247>0,Worksheet!M247,Worksheet!L247),\"\"),\"\")","v":""},{"$f":"IF(ISBLANK(Worksheet!L247)=FALSE,Worksheet!L247,\"\")","v":0},{"$f":"IF(Worksheet!L247<>0, IFERROR(VLOOKUP(Worksheet!$C$16,SavingsSupportTable,3,FALSE)*Worksheet!AQ247*IFERROR(1+VLOOKUP(Worksheet!$C$16,SavingsSupportTable,MATCH(Worksheet!$G$17,HVACe_Options,0)+4,FALSE),1)/IF(Worksheet!M247>0,Worksheet!M247,Worksheet!L247),\"\"),\"\")","v":""},{"$f":"IF(Worksheet!L247<>0, IFERROR(VLOOKUP(Worksheet!$C$16,SavingsSupportTable,2,FALSE)*Worksheet!AQ247*IF(IFERROR(MATCH(Worksheet!$G$17,HVACe_Options,0),0)>0,1+VLOOKUP(Worksheet!$C$16,SavingsSupportTable,4,FALSE),1)/IF(Worksheet!M247>0,Worksheet!M247,Worksheet!L247),\"\"),\"\")","v":""},"",{"$f":"IF(Worksheet!L247<>0,IFERROR(VLOOKUP(Worksheet!$C$16,SavingsSupportTable,3,FALSE)*Worksheet!AQ247*IF(IFERROR(SEARCH(\"Gas\",Worksheet!$G$17),0)>0,VLOOKUP(\"Gas\",HVACg_Lookup,MATCH(Worksheet!$G$16,BuildingSize,0)+1,FALSE),IF(IFERROR(SEARCH(\"Oil\",Worksheet!$G$17),0)>0,VLOOKUP(\"Oil\",HVACg_Lookup,MATCH(Worksheet!$G$16,BuildingSize,0)+1,FALSE),IF(IFERROR(SEARCH(\"Propane\",Worksheet!$G$17),0)>0,VLOOKUP(\"Propane\",HVACg_Lookup,MATCH(Worksheet!$G$16,BuildingSize,0)+1,FALSE),0)))/IF(Worksheet!M247>0,Worksheet!M247,Worksheet!L247),0),\"\")","v":""},"",null,null,null,{"$f":"IF(ISBLANK(Worksheet!M247)=FALSE,Worksheet!M247,\"\")","v":0},{"$f":"IF(Worksheet!A247=\"-\",\"\",IF(Worksheet!A247=\"\",S223,Worksheet!A247))","v":""},{"$f":"IF(S224=\"\",\"\",IF(AND(Worksheet!G247=\"\",Worksheet!H247=\"\")=TRUE,T223,IF(Worksheet!G247=\"\",\"\",Worksheet!G247)))","v":""},{"$f":"IF(S224=\"\",\"\",IF(AND(Worksheet!G247=\"\",Worksheet!H247=\"\")=TRUE,U223,IF(Worksheet!H247=\"\",\"\",Worksheet!H247)))","v":""},{"$f":"IF(Worksheet!N247=\"\",\"\",Worksheet!N247)","v":""},{"$f":"IF(Worksheet!O247=\"\",\"\",Worksheet!O247)","v":""},{"$f":"IF(Worksheet!F247=0,\"\",Worksheet!F247)","v":""},{"$f":"IF(Worksheet!P247=0,\"\",Worksheet!P247)","v":""},{"$f":"IF(Worksheet!$A$11=TRUE,\"Y\",\"N\")","v":"N"},{"$f":"IF(Worksheet!$A$12=TRUE,\"Y\",\"N\")","v":"N"},{"$f":"IF(Worksheet!$B$11=TRUE,\"Y\",\"N\")","v":"N"},{"$f":"IF(Worksheet!$B$12=TRUE,\"Y\",\"N\")","v":"N"},{"$f":"IF(Worksheet!$C$11=TRUE,\"Y\",\"N\")","v":"N"},{"$f":"IF(Worksheet!$C$12=TRUE,\"Y\",\"N\")","v":"N"},""]
[{"$f":"IF(ISERROR(VLOOKUP(Worksheet!N248,MeasureLookup,2,FALSE))=FALSE,VLOOKUP(Worksheet!N248,MeasureLookup,2,FALSE),\"\")","v":""},{"$f":"Worksheet!Q248","v":0},{"$f":"Worksheet!R248","v":0},{"$f":"IF(ISERROR(Worksheet!P248)=FALSE,Worksheet!P248,\"\")","v":0},"Watts",null,null,{"$f":"IF(Worksheet!AP248<>\"\",IF(Worksheet!AP248>0,Worksheet!AP248/IF(Worksheet!M248>0,Worksheet!M248,Worksheet!L248),\"\"),\"\")","v":""},{"$f":"IF(ISBLANK(Worksheet!L248)=FALSE,Worksheet!L248,\"\")","v":0},{"$f":"IF(Worksheet!L248<>0, IFERROR(VLOOKUP(Worksheet!$C$16,SavingsSupportTable,3,FALSE)*Worksheet!AQ248*IFERROR(1+VLOOKUP(Worksheet!$C$16,SavingsSupportTable,MATCH(Worksheet!$G$17,HVACe_Options,0)+4,FALSE),1)/IF(Worksheet!M248>0,Worksheet!M248,Worksheet!L248),\"\"),\"\")","v":""},{"$f":"IF(Worksheet!L248<>0, IFERROR(VLOOKUP(Worksheet!$C$16,SavingsSupportTable,2,FALSE)*Worksheet!AQ248*IF(IFERROR(MATCH(Worksheet!$G$17,HVACe_Options,0),0)>0,1+VLOOKUP(Worksheet!$C$16,SavingsSupportTable,4,FALSE),1)/IF(Worksheet!M248>0,Worksheet!M248,Worksheet!L248),\"\"),\"\")","v":""},"",{"$f":"IF(Worksheet!L248<>0,IFERROR(VLOOKUP(Worksheet!$C$16,SavingsSupportTable,3,FALSE)*Worksheet!AQ248*IF(IFERROR(SEARCH(\"Gas\",Worksheet!$G$17),0)>0,VLOOKUP(\"Gas\",HVACg_Lookup,MATCH(Worksheet!$G$16,BuildingSize,0)+1,FALSE),IF(IFERROR(SEARCH(\"Oil\",Worksheet!$G$17),0)>0,VLOOKUP(\"Oil\",HVACg_Lookup,MATCH(Worksheet!$G$16,BuildingSize,0)+1,FALSE),IF(IFERROR(SEARCH(\"Propane\",Worksheet!$G$17),0)>0,VLOOKUP(\"Propane\",HVACg_Lookup,MATCH(Worksheet!$G$16,BuildingSize,0)+1,FALSE),0)))/IF(Worksheet!M248>0,Worksheet!M248,Worksheet!L248),0),\"\")","v":""},"",null,null,null,{"$f":"IF(ISBLANK(Worksheet!M248)=FALSE,Worksheet!M248,\"\")","v":0},{"$f":"IF(Worksheet!A248=\"-\",\"\",IF(Worksheet!A248=\"\",S224,Worksheet!A248))","v":""},{"$f":"IF(S225=\"\",\"\",IF(AND(Worksheet!G248=\"\",Worksheet!H248=\"\")=TRUE,T224,IF(Worksheet!G248=\"\",\"\",Worksheet!G248)))","v":""},{"$f":"IF(S225=\"\",\"\",IF(AND(Worksheet!G248=\"\",Worksheet!H248=\"\")=TRUE,U224,IF(Worksheet!H248=\"\",\"\",Worksheet!H248)))","v":""},{"$f":"IF(Worksheet!N248=\"\",\"\",Worksheet!N248)","v":""},{"$f":"IF(Worksheet!O248=\"\",\"\",Worksheet!O248)","v":""},{"$f":"IF(Worksheet!F248=0,\"\",Worksheet!F248)","v":""},{"$f":"IF(Worksheet!P248=0,\"\",Worksheet!P248)","v":""},{"$f":"IF(Worksheet!$A$11=TRUE,\"Y\",\"N\")","v":"N"},{"$f":"IF(Worksheet!$A$12=TRUE,\"Y\",\"N\")","v":"N"},{"$f":"IF(Worksheet!$B$11=TRUE,\"Y\",\"N\")","v":"N"},{"$f":"IF(Worksheet!$B$12=TRUE,\"Y\",\"N\")","v":"N"},{"$f":"IF(Worksheet!$C$11=TRUE,\"Y\",\"N\")","v":"N"},{"$f":"IF(Worksheet!$C$12=TRUE,\"Y\",\"N\")","v":"N"},""]
[{"$f":"IF(ISERROR(VLOOKUP(Worksheet!N249,MeasureLookup,2,FALSE))=FALSE,VLOOKUP(Worksheet!N249,MeasureLookup,2,FALSE),\"\")","v":""},{"$f":"Worksheet!Q249","v":0},{"$f":"Worksheet!R249","v":0},{"$f":"IF(ISERROR(Worksheet!P249)=FALSE,Worksheet!P249,\"\")","v":0},"Watts",null,null,{"$f":"IF(Worksheet!AP249<>\"\",IF(Worksheet!AP249>0,Worksheet!AP249/IF(Worksheet!M249>0,Worksheet!M249,Worksheet!L249),\"\"),\"\")","v":""},{"$f":"IF(ISBLANK(Worksheet!L249)=FALSE,Worksheet!L249,\"\")","v":0},{"$f":"IF(Worksheet!L249<>0, IFERROR(VLOOKUP(Worksheet!$C$16,SavingsSupportTable,3,FALSE)*Worksheet!AQ249*IFERROR(1+VLOOKUP(Worksheet!$C$16,SavingsSupportTable,MATCH(Worksheet!$G$17,HVACe_Options,0)+4,FALSE),1)/IF(Worksheet!M249>0,Worksheet!M249,Worksheet!L249),\"\"),\"\")","v":""},{"$f":"IF(Worksheet!L249<>0, IFERROR(VLOOKUP(Worksheet!$C$16,SavingsSupportTable,2,FALSE)*Worksheet!AQ249*IF(IFERROR(MATCH(Worksheet!$G$17,HVACe_Options,0),0)>0,1+VLOOKUP(Worksheet!$C$16,SavingsSupportTable,4,FALSE),1)/IF(Worksheet!M249>0,Worksheet!M249,Worksheet!L249),\"\"),\"\")","v":""},"",{"$f":"IF(Worksheet!L249<>0,IFERROR(VLOOKUP(Worksheet!$C$16,SavingsSupportTable,3,FALSE)*Worksheet!AQ249*IF(IFERROR(SEARCH(\"Gas\",Worksheet!$G$17),0)>0,VLOOKUP(\"Gas\",HVACg_Lookup,MATCH(Worksheet!$G$16,BuildingSize,0)+1,FALSE),IF(IFERROR(SEARCH(\"Oil\",Worksheet!$G$17),0)>0,VLOOKUP(\"Oil\",HVACg_Lookup,MATCH(Worksheet!$G$16,BuildingSize,0)+1,FALSE),IF(IFERROR(SEARCH(\"Propane\",Worksheet!$G$17),0)>0,VLOOKUP(\"Propane\",HVACg_Lookup,MATCH(Worksheet!$G$16,BuildingSize,0)+1,FALSE),0)))/IF(Worksheet!M249>0,Worksheet!M249,Worksheet!L249),0),\"\")","v":""},"",null,null,null,{"$f":"IF(ISBLANK(Worksheet!M249)=FALSE,Worksheet!M249,\"\")","v":0},{"$f":"IF(Worksheet!A249=\"-\",\"\",IF(Worksheet!A249=\"\",S225,Worksheet!A249))","v":""},{"$f":"IF(S226=\"\",\"\",IF(AND(Worksheet!G249=\"\",Worksheet!H249=\"\")=TRUE,T225,IF(Worksheet!G249=\"\",\"\",Worksheet!G249)))","v":""},{"$f":"IF(S226=\"\",\"\",IF(AND(Worksheet!G249=\"\",Worksheet!H249=\"\")=TRUE,U225,IF(Worksheet!H249=\"\",\"\",Worksheet!H249)))","v":""},{"$f":"IF(Worksheet!N249=\"\",\"\",Worksheet!N249)","v":""},{"$f":"IF(Worksheet!O249=\"\",\"\",Worksheet!O249)","v":""},{"$f":"IF(Worksheet!F249=0,\"\",Worksheet!F249)","v":""},{"$f":"IF(Worksheet!P249=0,\"\",Worksheet!P249)","v":""},{"$f":"IF(Worksheet!$A$11=TRUE,\"Y\",\"N\")","v":"N"},{"$f":"IF(Worksheet!$A$12=TRUE,\"Y\",\"N\")","v":"N"},{"$f":"IF(Worksheet!$B$11=TRUE,\"Y\",\"N\")","v":"N"},{"$f":"IF(Worksheet!$B$12=TRUE,\"Y\",\"N\")","v":"N"},{"$f":"IF(Worksheet!$C$11=TRUE,\"Y\",\"N\")","v":"N"},{"$f":"IF(Worksheet!$C$12=TRUE,\"Y\",\"N\")","v":"N"},""]
[{"$f":"IF(ISERROR(VLOOKUP(Worksheet!N250,MeasureLookup,2,FALSE))=FALSE,VLOOKUP(Worksheet!N250,MeasureLookup,2,FALSE),\"\")","v":""},{"$f":"Worksheet!Q250","v":0},{"$f":"Worksheet!R250","v":0},{"$f":"IF(ISERROR(Worksheet!P250)=FALSE,Worksheet!P250,\"\")","v":0},"Watts",null,null,{"$f":"IF(Worksheet!AP250<>\"\",IF(Worksheet!AP250>0,Worksheet!AP250/IF(Worksheet!M250>0,Worksheet!M250,Worksheet!L250),\"\"),\"\")","v":""},{"$f":"IF(ISBLANK(Worksheet!L250)=FALSE,Worksheet!L250,\"\")","v":0},{"$f":"IF(Worksheet!L250<>0, IFERROR(VLOOKUP(Worksheet!$C$16,SavingsSupportTable,3,FALSE)*Worksheet!AQ250*IFERROR(1+VLOOKUP(Worksheet!$C$16,SavingsSupportTable,MATCH(Worksheet!$G$17,HVACe_Options,0)+4,FALSE),1)/IF(Worksheet!M250>0,Worksheet!M250,Worksheet!L250),\"\"),\"\")","v":""},{"$f":"IF(Worksheet!L250<>0, IFERROR(VLOOKUP(Worksheet!$C$16,SavingsSupportTable,2,FALSE)*Worksheet!AQ250*IF(IFERROR(MATCH(Worksheet!$G$17,HVACe_Options,0),0)>0,1+VLOOKUP(Worksheet!$C$16,SavingsSupportTable,4,FALSE),1)/IF(Worksheet!M250>0,Worksheet!M250,Worksheet!L250),\"\"),\"\")","v":""},"",{"$f":"IF(Worksheet!L250<>0,IFERROR(VLOOKUP(Worksheet!$C$16,SavingsSupportTable,3,FALSE)*Worksheet!AQ250*IF(IFERROR(SEARCH(\"Gas\",Worksheet!$G$17),0)>0,VLOOKUP(\"Gas\",HVACg_Lookup,MATCH(Worksheet!$G$16,BuildingSize,0)+1,FALSE),IF(IFERROR(SEARCH(\"Oil\",Worksheet!$G$17),0)>0,VLOOKUP(\"Oil\",HVACg_Lookup,MATCH(Worksheet!$G$16,BuildingSize,0)+1,FALSE),IF(IFERROR(SEARCH(\"Propane\",Worksheet!$G$17),0)>0,VLOOKUP(\"Propane\",HVACg_Lookup,MATCH(Worksheet!$G$16,BuildingSize,0)+1,FALSE),0)))/IF(Worksheet!M250>0,Worksheet!M250,Worksheet!L250),0),\"\")","v":""},"",null,null,null,{"$f":"IF(ISBLANK(Worksheet!M250)=FALSE,Worksheet!M250,\"\")","v":0},{"$f":"IF(Worksheet!A250=\"-\",\"\",IF(Worksheet!A250=\"\",S226,Worksheet!A250))","v":""},{"$f":"IF(S227=\"\",\"\",IF(AND(Worksheet!G250=\"\",Worksheet!H250=\"\")=TRUE,T226,IF(Worksheet!G250=\"\",\"\",Worksheet!G250)))","v":""},{"$f":"IF(S227=\"\",\"\",IF(AND(Worksheet!G250=\"\",Worksheet!H250=\"\")=TRUE,U226,IF(Worksheet!H250=\"\",\"\",Worksheet!H250)))","v":""},{"$f":"IF(Worksheet!N250=\"\",\"\",Worksheet!N250)","v":""},{"$f":"IF(Worksheet!O250=\"\",\"\",Worksheet!O250)","v":""},{"$f":"IF(Worksheet!F250=0,\"\",Worksheet!F250)","v":""},{"$f":"IF(Worksheet!P250=0,\"\",Worksheet!P250)","v":""},{"$f":"IF(Worksheet!$A$11=TRUE,\"Y\",\"N\")","v":"N"},{"$f":"IF(Worksheet!$A$12=TRUE,\"Y\",\"N\")","v":"N"},{"$f":"IF(Worksheet!$B$11=TRUE,\"Y\",\"N\")","v":"N"},{"$f":"IF(Worksheet!$B$12=TRUE,\"Y\",\"N\")","v":"N"},{"$f":"IF(Worksheet!$C$11=TRUE,\"Y\",\"N\")","v":"N"},{"$f":"IF(Worksheet!$C$12=TRUE,\"Y\",\"N\")","v":"N"},""]
[{"$f":"IF(ISERROR(VLOOKUP(Worksheet!N251,MeasureLookup,2,FALSE))=FALSE,VLOOKUP(Worksheet!N251,MeasureLookup,2,FALSE),\"\")","v":""},{"$f":"Worksheet!Q251","v":0},{"$f":"Worksheet!R251","v":0},{"$f":"IF(ISERROR(Worksheet!P251)=FALSE,Worksheet!P251,\"\")","v":0},"Watts",null,null,{"$f":"IF(Worksheet!AP251<>\"\",IF(Worksheet!AP251>0,Worksheet!AP251/IF(Worksheet!M251>0,Worksheet!M251,Worksheet!L251),\"\"),\"\")","v":""},{"$f":"IF(ISBLANK(Worksheet!L251)=FALSE,Worksheet!L251,\"\")","v":0},{"$f":"IF(Worksheet!L251<>0, IFERROR(VLOOKUP(Worksheet!$C$16,SavingsSupportTable,3,FALSE)*Worksheet!AQ251*IFERROR(1+VLOOKUP(Worksheet!$C$16,SavingsSupportTable,MATCH(Worksheet!$G$17,HVACe_Options,0)+4,FALSE),1)/IF(Worksheet!M251>0,Worksheet!M251,Worksheet!L251),\"\"),\"\")","v":""},{"$f":"IF(Worksheet!L251<>0, IFERROR(VLOOKUP(Worksheet!$C$16,SavingsSupportTable,2,FALSE)*Worksheet!AQ251*IF(IFERROR(MATCH(Worksheet!$G$17,HVACe_Options,0),0)>0,1+VLOOKUP(Worksheet!$C$16,SavingsSupportTable,4,FALSE),1)/IF(Worksheet!M251>0,Worksheet!M251,Worksheet!L251),\"\"),\"\")","v":""},"",{"$f":"IF(Worksheet!L251<>0,IFERROR(VLOOKUP(Worksheet!$C$16,SavingsSupportTable,3,FALSE)*Worksheet!AQ251*IF(IFERROR(SEARCH(\"Gas\",Worksheet!$G$17),0)>0,VLOOKUP(\"Gas\",HVACg_Lookup,MATCH(Worksheet!$G$16,BuildingSize,0)+1,FALSE),IF(IFERROR(SEARCH(\"Oil\",Worksheet!$G$17),0)>0,VLOOKUP(\"Oil\",HVACg_Lookup,MATCH(Worksheet!$G$16,BuildingSize,0)+1,FALSE),IF(IFERROR(SEARCH(\"Propane\",Worksheet!$G$17),0)>0,VLOOKUP(\"Propane\",HVACg_Lookup,MATCH(Worksheet!$G$16,BuildingSize,0)+1,FALSE),0)))/IF(Worksheet!M251>0,Worksheet!M251,Worksheet!L251),0),\"\")","v":""},"",null,null,null,{"$f":"IF(ISBLANK(Worksheet!M251)=FALSE,Worksheet!M251,\"\")","v":0},{"$f":"IF(Worksheet!A251=\"-\",\"\",IF(Worksheet!A251=\"\",S227,Worksheet!A251))","v":""},{"$f":"IF(S228=\"\",\"\",IF(AND(Worksheet!G251=\"\",Worksheet!H251=\"\")=TRUE,T227,IF(Worksheet!G251=\"\",\"\",Worksheet!G251)))","v":""},{"$f":"IF(S228=\"\",\"\",IF(AND(Worksheet!G251=\"\",Worksheet!H251=\"\")=TRUE,U227,IF(Worksheet!H251=\"\",\"\",Worksheet!H251)))","v":""},{"$f":"IF(Worksheet!N251=\"\",\"\",Worksheet!N251)","v":""},{"$f":"IF(Worksheet!O251=\"\",\"\",Worksheet!O251)","v":""},{"$f":"IF(Worksheet!F251=0,\"\",Worksheet!F251)","v":""},{"$f":"IF(Worksheet!P251=0,\"\",Worksheet!P251)","v":""},{"$f":"IF(Worksheet!$A$11=TRUE,\"Y\",\"N\")","v":"N"},{"$f":"IF(Worksheet!$A$12=TRUE,\"Y\",\"N\")","v":"N"},{"$f":"IF(Worksheet!$B$11=TRUE,\"Y\",\"N\")","v":"N"},{"$f":"IF(Worksheet!$B$12=TRUE,\"Y\",\"N\")","v":"N"},{"$f":"IF(Worksheet!$C$11=TRUE,\"Y\",\"N\")","v":"N"},{"$f":"IF(Worksheet!$C$12=TRUE,\"Y\",\"N\")","v":"N"},""]
[{"$f":"IF(ISERROR(VLOOKUP(Worksheet!N252,MeasureLookup,2,FALSE))=FALSE,VLOOKUP(Worksheet!N252,MeasureLookup,2,FALSE),\"\")","v":""},{"$f":"Worksheet!Q252","v":0},{"$f":"Worksheet!R252","v":0},{"$f":"IF(ISERROR(Worksheet!P252)=FALSE,Worksheet!P252,\"\")","v":0},"Watts",null,null,{"$f":"IF(Worksheet!AP252<>\"\",IF(Worksheet!AP252>0,Worksheet!AP252/IF(Worksheet!M252>0,Worksheet!M252,Worksheet!L252),\"\"),\"\")","v":""},{"$f":"IF(ISBLANK(Worksheet!L252)=FALSE,Worksheet!L252,\"\")","v":0},{"$f":"IF(Worksheet!L252<>0, IFERROR(VLOOKUP(Worksheet!$C$16,SavingsSupportTable,3,FALSE)*Worksheet!AQ252*IFERROR(1+VLOOKUP(Worksheet!$C$16,SavingsSupportTable,MATCH(Worksheet!$G$17,HVACe_Options,0)+4,FALSE),1)/IF(Worksheet!M252>0,Worksheet!M252,Worksheet!L252),\"\"),\"\")","v":""},{"$f":"IF(Worksheet!L252<>0, IFERROR(VLOOKUP(Worksheet!$C$16,SavingsSupportTable,2,FALSE)*Worksheet!AQ252*IF(IFERROR(MATCH(Worksheet!$G$17,HVACe_Options,0),0)>0,1+VLOOKUP(Worksheet!$C$16,SavingsSupportTable,4,FALSE),1)/IF(Worksheet!M252>0,Worksheet!M252,Worksheet!L252),\"\"),\"\")","v":""},"",{"$f":"IF(Worksheet!L252<>0,IFERROR(VLOOKUP(Worksheet!$C$16,SavingsSupportTable,3,FALSE)*Worksheet!AQ252*IF(IFERROR(SEARCH(\"Gas\",Worksheet!$G$17),0)>0,VLOOKUP(\"Gas\",HVACg_Lookup,MATCH(Worksheet!$G$16,BuildingSize,0)+1,FALSE),IF(IFERROR(SEARCH(\"Oil\",Worksheet!$G$17),0)>0,VLOOKUP(\"Oil\",HVACg_Lookup,MATCH(Worksheet!$G$16,BuildingSize,0)+1,FALSE),IF(IFERROR(SEARCH(\"Propane\",Worksheet!$G$17),0)>0,VLOOKUP(\"Propane\",HVACg_Lookup,MATCH(Worksheet!$G$16,BuildingSize,0)+1,FALSE),0)))/IF(Worksheet!M252>0,Worksheet!M252,Worksheet!L252),0),\"\")","v":""},"",null,null,null,{"$f":"IF(ISBLANK(Worksheet!M252)=FALSE,Worksheet!M252,\"\")","v":0},{"$f":"IF(Worksheet!A252=\"-\",\"\",IF(Worksheet!A252=\"\",S228,Worksheet!A252))","v":""},{"$f":"IF(S229=\"\",\"\",IF(AND(Worksheet!G252=\"\",Worksheet!H252=\"\")=TRUE,T228,IF(Worksheet!G252=\"\",\"\",Worksheet!G252)))","v":""},{"$f":"IF(S229=\"\",\"\",IF(AND(Worksheet!G252=\"\",Worksheet!H252=\"\")=TRUE,U228,IF(Worksheet!H252=\"\",\"\",Worksheet!H252)))","v":""},{"$f":"IF(Worksheet!N252=\"\",\"\",Worksheet!N252)","v":""},{"$f":"IF(Worksheet!O252=\"\",\"\",Worksheet!O252)","v":""},{"$f":"IF(Worksheet!F252=0,\"\",Worksheet!F252)","v":""},{"$f":"IF(Worksheet!P252=0,\"\",Worksheet!P252)","v":""},{"$f":"IF(Worksheet!$A$11=TRUE,\"Y\",\"N\")","v":"N"},{"$f":"IF(Worksheet!$A$12=TRUE,\"Y\",\"N\")","v":"N"},{"$f":"IF(Worksheet!$B$11=TRUE,\"Y\",\"N\")","v":"N"},{"$f":"IF(Worksheet!$B$12=TRUE,\"Y\",\"N\")","v":"N"},{"$f":"IF(Worksheet!$C$11=TRUE,\"Y\",\"N\")","v":"N"},{"$f":"IF(Worksheet!$C$12=TRUE,\"Y\",\"N\")","v":"N"},""]
[{"$f":"IF(ISERROR(VLOOKUP(Worksheet!N253,MeasureLookup,2,FALSE))=FALSE,VLOOKUP(Worksheet!N253,MeasureLookup,2,FALSE),\"\")","v":""},{"$f":"Worksheet!Q253","v":0},{"$f":"Worksheet!R253","v":0},{"$f":"IF(ISERROR(Worksheet!P253)=FALSE,Worksheet!P253,\"\")","v":0},"Watts",null,null,{"$f":"IF(Worksheet!AP253<>\"\",IF(Worksheet!AP253>0,Worksheet!AP253/IF(Worksheet!M253>0,Worksheet!M253,Worksheet!L253),\"\"),\"\")","v":""},{"$f":"IF(ISBLANK(Worksheet!L253)=FALSE,Worksheet!L253,\"\")","v":0},{"$f":"IF(Worksheet!L253<>0, IFERROR(VLOOKUP(Worksheet!$C$16,SavingsSupportTable,3,FALSE)*Worksheet!AQ253*IFERROR(1+VLOOKUP(Worksheet!$C$16,SavingsSupportTable,MATCH(Worksheet!$G$17,HVACe_Options,0)+4,FALSE),1)/IF(Worksheet!M253>0,Worksheet!M253,Worksheet!L253),\"\"),\"\")","v":""},{"$f":"IF(Worksheet!L253<>0, IFERROR(VLOOKUP(Worksheet!$C$16,SavingsSupportTable,2,FALSE)*Worksheet!AQ253*IF(IFERROR(MATCH(Worksheet!$G$17,HVACe_Options,0),0)>0,1+VLOOKUP(Worksheet!$C$16,SavingsSupportTable,4,FALSE),1)/IF(Worksheet!M253>0,Worksheet!M253,Worksheet!L253),\"\"),\"\")","v":""},"",{"$f":"IF(Worksheet!L253<>0,IFERROR(VLOOKUP(Worksheet!$C$16,SavingsSupportTable,3,FALSE)*Worksheet!AQ253*IF(IFERROR(SEARCH(\"Gas\",Worksheet!$G$17),0)>0,VLOOKUP(\"Gas\",HVACg_Lookup,MATCH(Worksheet!$G$16,BuildingSize,0)+1,FALSE),IF(IFERROR(SEARCH(\"Oil\",Worksheet!$G$17),0)>0,VLOOKUP(\"Oil\",HVACg_Lookup,MATCH(Worksheet!$G$16,BuildingSize,0)+1,FALSE),IF(IFERROR(SEARCH(\"Propane\",Worksheet!$G$17),0)>0,VLOOKUP(\"Propane\",HVACg_Lookup,MATCH(Worksheet!$G$16,BuildingSize,0)+1,FALSE),0)))/IF(Worksheet!M253>0,Worksheet!M253,Worksheet!L253),0),\"\")","v":""},"",null,null,null,{"$f":"IF(ISBLANK(Worksheet!M253)=FALSE,Worksheet!M253,\"\")","v":0},{"$f":"IF(Worksheet!A253=\"-\",\"\",IF(Worksheet!A253=\"\",S229,Worksheet!A253))","v":""},{"$f":"IF(S230=\"\",\"\",IF(AND(Worksheet!G253=\"\",Worksheet!H253=\"\")=TRUE,T229,IF(Worksheet!G253=\"\",\"\",Worksheet!G253)))","v":""},{"$f":"IF(S230=\"\",\"\",IF(AND(Worksheet!G253=\"\",Worksheet!H253=\"\")=TRUE,U229,IF(Worksheet!H253=\"\",\"\",Worksheet!H253)))","v":""},{"$f":"IF(Worksheet!N253=\"\",\"\",Worksheet!N253)","v":""},{"$f":"IF(Worksheet!O253=\"\",\"\",Worksheet!O253)","v":""},{"$f":"IF(Worksheet!F253=0,\"\",Worksheet!F253)","v":""},{"$f":"IF(Worksheet!P253=0,\"\",Worksheet!P253)","v":""},{"$f":"IF(Worksheet!$A$11=TRUE,\"Y\",\"N\")","v":"N"},{"$f":"IF(Worksheet!$A$12=TRUE,\"Y\",\"N\")","v":"N"},{"$f":"IF(Worksheet!$B$11=TRUE,\"Y\",\"N\")","v":"N"},{"$f":"IF(Worksheet!$B$12=TRUE,\"Y\",\"N\")","v":"N"},{"$f":"IF(Worksheet!$C$11=TRUE,\"Y\",\"N\")","v":"N"},{"$f":"IF(Worksheet!$C$12=TRUE,\"Y\",\"N\")","v":"N"},""]
[{"$f":"IF(ISERROR(VLOOKUP(Worksheet!N254,MeasureLookup,2,FALSE))=FALSE,VLOOKUP(Worksheet!N254,MeasureLookup,2,FALSE),\"\")","v":""},{"$f":"Worksheet!Q254","v":0},{"$f":"Worksheet!R254","v":0},{"$f":"IF(ISERROR(Worksheet!P254)=FALSE,Worksheet!P254,\"\")","v":0},"Watts",null,null,{"$f":"IF(Worksheet!AP254<>\"\",IF(Worksheet!AP254>0,Worksheet!AP254/IF(Worksheet!M254>0,Worksheet!M254,Worksheet!L254),\"\"),\"\")","v":""},{"$f":"IF(ISBLANK(Worksheet!L254)=FALSE,Worksheet!L254,\"\")","v":0},{"$f":"IF(Worksheet!L254<>0, IFERROR(VLOOKUP(Worksheet!$C$16,SavingsSupportTable,3,FALSE)*Worksheet!AQ254*IFERROR(1+VLOOKUP(Worksheet!$C$16,SavingsSupportTable,MATCH(Worksheet!$G$17,HVACe_Options,0)+4,FALSE),1)/IF(Worksheet!M254>0,Worksheet!M254,Worksheet!L254),\"\"),\"\")","v":""},{"$f":"IF(Worksheet!L254<>0, IFERROR(VLOOKUP(Worksheet!$C$16,SavingsSupportTable,2,FALSE)*Worksheet!AQ254*IF(IFERROR(MATCH(Worksheet!$G$17,HVACe_Options,0),0)>0,1+VLOOKUP(Worksheet!$C$16,SavingsSupportTable,4,FALSE),1)/IF(Worksheet!M254>0,Worksheet!M254,Worksheet!L254),\"\"),\"\")","v":""},"",{"$f":"IF(Worksheet!L254<>0,IFERROR(VLOOKUP(Worksheet!$C$16,SavingsSupportTable,3,FALSE)*Worksheet!AQ254*IF(IFERROR(SEARCH(\"Gas\",Worksheet!$G$17),0)>0,VLOOKUP(\"Gas\",HVACg_Lookup,MATCH(Worksheet!$G$16,BuildingSize,0)+1,FALSE),IF(IFERROR(SEARCH(\"Oil\",Worksheet!$G$17),0)>0,VLOOKUP(\"Oil\",HVACg_Lookup,MATCH(Worksheet!$G$16,BuildingSize,0)+1,FALSE),IF(IFERROR(SEARCH(\"Propane\",Worksheet!$G$17),0)>0,VLOOKUP(\"Propane\",HVACg_Lookup,MATCH(Worksheet!$G$16,BuildingSize,0)+1,FALSE),0)))/IF(Worksheet!M254>0,Worksheet!M254,Worksheet!L254),0),\"\")","v":""},"",null,null,null,{"$f":"IF(ISBLANK(Worksheet!M254)=FALSE,Worksheet!M254,\"\")","v":0},{"$f":"IF(Worksheet!A254=\"-\",\"\",IF(Worksheet!A254=\"\",S230,Worksheet!A254))","v":""},{"$f":"IF(S231=\"\",\"\",IF(AND(Worksheet!G254=\"\",Worksheet!H254=\"\")=TRUE,T230,IF(Worksheet!G254=\"\",\"\",Worksheet!G254)))","v":""},{"$f":"IF(S231=\"\",\"\",IF(AND(Worksheet!G254=\"\",Worksheet!H254=\"\")=TRUE,U230,IF(Worksheet!H254=\"\",\"\",Worksheet!H254)))","v":""},{"$f":"IF(Worksheet!N254=\"\",\"\",Worksheet!N254)","v":""},{"$f":"IF(Worksheet!O254=\"\",\"\",Worksheet!O254)","v":""},{"$f":"IF(Worksheet!F254=0,\"\",Worksheet!F254)","v":""},{"$f":"IF(Worksheet!P254=0,\"\",Worksheet!P254)","v":""},{"$f":"IF(Worksheet!$A$11=TRUE,\"Y\",\"N\")","v":"N"},{"$f":"IF(Worksheet!$A$12=TRUE,\"Y\",\"N\")","v":"N"},{"$f":"IF(Worksheet!$B$11=TRUE,\"Y\",\"N\")","v":"N"},{"$f":"IF(Worksheet!$B$12=TRUE,\"Y\",\"N\")","v":"N"},{"$f":"IF(Worksheet!$C$11=TRUE,\"Y\",\"N\")","v":"N"},{"$f":"IF(Worksheet!$C$12=TRUE,\"Y\",\"N\")","v":"N"},""]
[{"$f":"IF(ISERROR(VLOOKUP(Worksheet!N255,MeasureLookup,2,FALSE))=FALSE,VLOOKUP(Worksheet!N255,MeasureLookup,2,FALSE),\"\")","v":""},{"$f":"Worksheet!Q255","v":0},{"$f":"Worksheet!R255","v":0},{"$f":"IF(ISERROR(Worksheet!P255)=FALSE,Worksheet!P255,\"\")","v":0},"Watts",null,null,{"$f":"IF(Worksheet!AP255<>\"\",IF(Worksheet!AP255>0,Worksheet!AP255/IF(Worksheet!M255>0,Worksheet!M255,Worksheet!L255),\"\"),\"\")","v":""},{"$f":"IF(ISBLANK(Worksheet!L255)=FALSE,Worksheet!L255,\"\")","v":0},{"$f":"IF(Worksheet!L255<>0, IFERROR(VLOOKUP(Worksheet!$C$16,SavingsSupportTable,3,FALSE)*Worksheet!AQ255*IFERROR(1+VLOOKUP(Worksheet!$C$16,SavingsSupportTable,MATCH(Worksheet!$G$17,HVACe_Options,0)+4,FALSE),1)/IF(Worksheet!M255>0,Worksheet!M255,Worksheet!L255),\"\"),\"\")","v":""},{"$f":"IF(Worksheet!L255<>0, IFERROR(VLOOKUP(Worksheet!$C$16,SavingsSupportTable,2,FALSE)*Worksheet!AQ255*IF(IFERROR(MATCH(Worksheet!$G$17,HVACe_Options,0),0)>0,1+VLOOKUP(Worksheet!$C$16,SavingsSupportTable,4,FALSE),1)/IF(Worksheet!M255>0,Worksheet!M255,Worksheet!L255),\"\"),\"\")","v":""},"",{"$f":"IF(Worksheet!L255<>0,IFERROR(VLOOKUP(Worksheet!$C$16,SavingsSupportTable,3,FALSE)*Worksheet!AQ255*IF(IFERROR(SEARCH(\"Gas\",Worksheet!$G$17),0)>0,VLOOKUP(\"Gas\",HVACg_Lookup,MATCH(Worksheet!$G$16,BuildingSize,0)+1,FALSE),IF(IFERROR(SEARCH(\"Oil\",Worksheet!$G$17),0)>0,VLOOKUP(\"Oil\",HVACg_Lookup,MATCH(Worksheet!$G$16,BuildingSize,0)+1,FALSE),IF(IFERROR(SEARCH(\"Propane\",Worksheet!$G$17),0)>0,VLOOKUP(\"Propane\",HVACg_Lookup,MATCH(Worksheet!$G$16,BuildingSize,0)+1,FALSE),0)))/IF(Worksheet!M255>0,Worksheet!M255,Worksheet!L255),0),\"\")","v":""},"",null,null,null,{"$f":"IF(ISBLANK(Worksheet!M255)=FALSE,Worksheet!M255,\"\")","v":0},{"$f":"IF(Worksheet!A255=\"-\",\"\",IF(Worksheet!A255=\"\",S231,Worksheet!A255))","v":""},{"$f":"IF(S232=\"\",\"\",IF(AND(Worksheet!G255=\"\",Worksheet!H255=\"\")=TRUE,T231,IF(Worksheet!G255=\"\",\"\",Worksheet!G255)))","v":""},{"$f":"IF(S232=\"\",\"\",IF(AND(Worksheet!G255=\"\",Worksheet!H255=\"\")=TRUE,U231,IF(Worksheet!H255=\"\",\"\",Worksheet!H255)))","v":""},{"$f":"IF(Worksheet!N255=\"\",\"\",Worksheet!N255)","v":""},{"$f":"IF(Worksheet!O255=\"\",\"\",Worksheet!O255)","v":""},{"$f":"IF(Worksheet!F255=0,\"\",Worksheet!F255)","v":""},{"$f":"IF(Worksheet!P255=0,\"\",Worksheet!P255)","v":""},{"$f":"IF(Worksheet!$A$11=TRUE,\"Y\",\"N\")","v":"N"},{"$f":"IF(Worksheet!$A$12=TRUE,\"Y\",\"N\")","v":"N"},{"$f":"IF(Worksheet!$B$11=TRUE,\"Y\",\"N\")","v":"N"},{"$f":"IF(Worksheet!$B$12=TRUE,\"Y\",\"N\")","v":"N"},{"$f":"IF(Worksheet!$C$11=TRUE,\"Y\",\"N\")","v":"N"},{"$f":"IF(Worksheet!$C$12=TRUE,\"Y\",\"N\")","v":"N"},""]
[{"$f":"IF(ISERROR(VLOOKUP(Worksheet!N256,MeasureLookup,2,FALSE))=FALSE,VLOOKUP(Worksheet!N256,MeasureLookup,2,FALSE),\"\")","v":""},{"$f":"Worksheet!Q256","v":0},{"$f":"Worksheet!R256","v":0},{"$f":"IF(ISERROR(Worksheet!P256)=FALSE,Worksheet!P256,\"\")","v":0},"Watts",null,null,{"$f":"IF(Worksheet!AP256<>\"\",IF(Worksheet!AP256>0,Worksheet!AP256/IF(Worksheet!M256>0,Worksheet!M256,Worksheet!L256),\"\"),\"\")","v":""},{"$f":"IF(ISBLANK(Worksheet!L256)=FALSE,Worksheet!L256,\"\")","v":0},{"$f":"IF(Worksheet!L256<>0, IFERROR(VLOOKUP(Worksheet!$C$16,SavingsSupportTable,3,FALSE)*Worksheet!AQ256*IFERROR(1+VLOOKUP(Worksheet!$C$16,SavingsSupportTable,MATCH(Worksheet!$G$17,HVACe_Options,0)+4,FALSE),1)/IF(Worksheet!M256>0,Worksheet!M256,Worksheet!L256),\"\"),\"\")","v":""},{"$f":"IF(Worksheet!L256<>0, IFERROR(VLOOKUP(Worksheet!$C$16,SavingsSupportTable,2,FALSE)*Worksheet!AQ256*IF(IFERROR(MATCH(Worksheet!$G$17,HVACe_Options,0),0)>0,1+VLOOKUP(Worksheet!$C$16,SavingsSupportTable,4,FALSE),1)/IF(Worksheet!M256>0,Worksheet!M256,Worksheet!L256),\"\"),\"\")","v":""},"",{"$f":"IF(Worksheet!L256<>0,IFERROR(VLOOKUP(Worksheet!$C$16,SavingsSupportTable,3,FALSE)*Worksheet!AQ256*IF(IFERROR(SEARCH(\"Gas\",Worksheet!$G$17),0)>0,VLOOKUP(\"Gas\",HVACg_Lookup,MATCH(Worksheet!$G$16,BuildingSize,0)+1,FALSE),IF(IFERROR(SEARCH(\"Oil\",Worksheet!$G$17),0)>0,VLOOKUP(\"Oil\",HVACg_Lookup,MATCH(Worksheet!$G$16,BuildingSize,0)+1,FALSE),IF(IFERROR(SEARCH(\"Propane\",Worksheet!$G$17),0)>0,VLOOKUP(\"Propane\",HVACg_Lookup,MATCH(Worksheet!$G$16,BuildingSize,0)+1,FALSE),0)))/IF(Worksheet!M256>0,Worksheet!M256,Worksheet!L256),0),\"\")","v":""},"",null,null,null,{"$f":"IF(ISBLANK(Worksheet!M256)=FALSE,Worksheet!M256,\"\")","v":0},{"$f":"IF(Worksheet!A256=\"-\",\"\",IF(Worksheet!A256=\"\",S232,Worksheet!A256))","v":""},{"$f":"IF(S233=\"\",\"\",IF(AND(Worksheet!G256=\"\",Worksheet!H256=\"\")=TRUE,T232,IF(Worksheet!G256=\"\",\"\",Worksheet!G256)))","v":""},{"$f":"IF(S233=\"\",\"\",IF(AND(Worksheet!G256=\"\",Worksheet!H256=\"\")=TRUE,U232,IF(Worksheet!H256=\"\",\"\",Worksheet!H256)))","v":""},{"$f":"IF(Worksheet!N256=\"\",\"\",Worksheet!N256)","v":""},{"$f":"IF(Worksheet!O256=\"\",\"\",Worksheet!O256)","v":""},{"$f":"IF(Worksheet!F256=0,\"\",Worksheet!F256)","v":""},{"$f":"IF(Worksheet!P256=0,\"\",Worksheet!P256)","v":""},{"$f":"IF(Worksheet!$A$11=TRUE,\"Y\",\"N\")","v":"N"},{"$f":"IF(Worksheet!$A$12=TRUE,\"Y\",\"N\")","v":"N"},{"$f":"IF(Worksheet!$B$11=TRUE,\"Y\",\"N\")","v":"N"},{"$f":"IF(Worksheet!$B$12=TRUE,\"Y\",\"N\")","v":"N"},{"$f":"IF(Worksheet!$C$11=TRUE,\"Y\",\"N\")","v":"N"},{"$f":"IF(Worksheet!$C$12=TRUE,\"Y\",\"N\")","v":"N"},""]
[{"$f":"IF(ISERROR(VLOOKUP(Worksheet!N257,MeasureLookup,2,FALSE))=FALSE,VLOOKUP(Worksheet!N257,MeasureLookup,2,FALSE),\"\")","v":""},{"$f":"Worksheet!Q257","v":0},{"$f":"Worksheet!R257","v":0},{"$f":"IF(ISERROR(Worksheet!P257)=FALSE,Worksheet!P257,\"\")","v":0},"Watts",null,null,{"$f":"IF(Worksheet!AP257<>\"\",IF(Worksheet!AP257>0,Worksheet!AP257/IF(Worksheet!M257>0,Worksheet!M257,Worksheet!L257),\"\"),\"\")","v":""},{"$f":"IF(ISBLANK(Worksheet!L257)=FALSE,Worksheet!L257,\"\")","v":0},{"$f":"IF(Worksheet!L257<>0, IFERROR(VLOOKUP(Worksheet!$C$16,SavingsSupportTable,3,FALSE)*Worksheet!AQ257*IFERROR(1+VLOOKUP(Worksheet!$C$16,SavingsSupportTable,MATCH(Worksheet!$G$17,HVACe_Options,0)+4,FALSE),1)/IF(Worksheet!M257>0,Worksheet!M257,Worksheet!L257),\"\"),\"\")","v":""},{"$f":"IF(Worksheet!L257<>0, IFERROR(VLOOKUP(Worksheet!$C$16,SavingsSupportTable,2,FALSE)*Worksheet!AQ257*IF(IFERROR(MATCH(Worksheet!$G$17,HVACe_Options,0),0)>0,1+VLOOKUP(Worksheet!$C$16,SavingsSupportTable,4,FALSE),1)/IF(Worksheet!M257>0,Worksheet!M257,Worksheet!L257),\"\"),\"\")","v":""},"",{"$f":"IF(Worksheet!L257<>0,IFERROR(VLOOKUP(Worksheet!$C$16,SavingsSupportTable,3,FALSE)*Worksheet!AQ257*IF(IFERROR(SEARCH(\"Gas\",Worksheet!$G$17),0)>0,VLOOKUP(\"Gas\",HVACg_Lookup,MATCH(Worksheet!$G$16,BuildingSize,0)+1,FALSE),IF(IFERROR(SEARCH(\"Oil\",Worksheet!$G$17),0)>0,VLOOKUP(\"Oil\",HVACg_Lookup,MATCH(Worksheet!$G$16,BuildingSize,0)+1,FALSE),IF(IFERROR(SEARCH(\"Propane\",Worksheet!$G$17),0)>0,VLOOKUP(\"Propane\",HVACg_Lookup,MATCH(Worksheet!$G$16,BuildingSize,0)+1,FALSE),0)))/IF(Worksheet!M257>0,Worksheet!M257,Worksheet!L257),0),\"\")","v":""},"",null,null,null,{"$f":"IF(ISBLANK(Worksheet!M257)=FALSE,Worksheet!M257,\"\")","v":0},{"$f":"IF(Worksheet!A257=\"-\",\"\",IF(Worksheet!A257=\"\",S233,Worksheet!A257))","v":""},{"$f":"IF(S234=\"\",\"\",IF(AND(Worksheet!G257=\"\",Worksheet!H257=\"\")=TRUE,T233,IF(Worksheet!G257=\"\",\"\",Worksheet!G257)))","v":""},{"$f":"IF(S234=\"\",\"\",IF(AND(Worksheet!G257=\"\",Worksheet!H257=\"\")=TRUE,U233,IF(Worksheet!H257=\"\",\"\",Worksheet!H257)))","v":""},{"$f":"IF(Worksheet!N257=\"\",\"\",Worksheet!N257)","v":""},{"$f":"IF(Worksheet!O257=\"\",\"\",Worksheet!O257)","v":""},{"$f":"IF(Worksheet!F257=0,\"\",Worksheet!F257)","v":""},{"$f":"IF(Worksheet!P257=0,\"\",Worksheet!P257)","v":""},{"$f":"IF(Worksheet!$A$11=TRUE,\"Y\",\"N\")","v":"N"},{"$f":"IF(Worksheet!$A$12=TRUE,\"Y\",\"N\")","v":"N"},{"$f":"IF(Worksheet!$B$11=TRUE,\"Y\",\"N\")","v":"N"},{"$f":"IF(Worksheet!$B$12=TRUE,\"Y\",\"N\")","v":"N"},{"$f":"IF(Worksheet!$C$11=TRUE,\"Y\",\"N\")","v":"N"},{"$f":"IF(Worksheet!$C$12=TRUE,\"Y\",\"N\")","v":"N"},""]
[{"$f":"IF(ISERROR(VLOOKUP(Worksheet!N258,MeasureLookup,2,FALSE))=FALSE,VLOOKUP(Worksheet!N258,MeasureLookup,2,FALSE),\"\")","v":""},{"$f":"Worksheet!Q258","v":0},{"$f":"Worksheet!R258","v":0},{"$f":"IF(ISERROR(Worksheet!P258)=FALSE,Worksheet!P258,\"\")","v":0},"Watts",null,null,{"$f":"IF(Worksheet!AP258<>\"\",IF(Worksheet!AP258>0,Worksheet!AP258/IF(Worksheet!M258>0,Worksheet!M258,Worksheet!L258),\"\"),\"\")","v":""},{"$f":"IF(ISBLANK(Worksheet!L258)=FALSE,Worksheet!L258,\"\")","v":0},{"$f":"IF(Worksheet!L258<>0, IFERROR(VLOOKUP(Worksheet!$C$16,SavingsSupportTable,3,FALSE)*Worksheet!AQ258*IFERROR(1+VLOOKUP(Worksheet!$C$16,SavingsSupportTable,MATCH(Worksheet!$G$17,HVACe_Options,0)+4,FALSE),1)/IF(Worksheet!M258>0,Worksheet!M258,Worksheet!L258),\"\"),\"\")","v":""},{"$f":"IF(Worksheet!L258<>0, IFERROR(VLOOKUP(Worksheet!$C$16,SavingsSupportTable,2,FALSE)*Worksheet!AQ258*IF(IFERROR(MATCH(Worksheet!$G$17,HVACe_Options,0),0)>0,1+VLOOKUP(Worksheet!$C$16,SavingsSupportTable,4,FALSE),1)/IF(Worksheet!M258>0,Worksheet!M258,Worksheet!L258),\"\"),\"\")","v":""},"",{"$f":"IF(Worksheet!L258<>0,IFERROR(VLOOKUP(Worksheet!$C$16,SavingsSupportTable,3,FALSE)*Worksheet!AQ258*IF(IFERROR(SEARCH(\"Gas\",Worksheet!$G$17),0)>0,VLOOKUP(\"Gas\",HVACg_Lookup,MATCH(Worksheet!$G$16,BuildingSize,0)+1,FALSE),IF(IFERROR(SEARCH(\"Oil\",Worksheet!$G$17),0)>0,VLOOKUP(\"Oil\",HVACg_Lookup,MATCH(Worksheet!$G$16,BuildingSize,0)+1,FALSE),IF(IFERROR(SEARCH(\"Propane\",Worksheet!$G$17),0)>0,VLOOKUP(\"Propane\",HVACg_Lookup,MATCH(Worksheet!$G$16,BuildingSize,0)+1,FALSE),0)))/IF(Worksheet!M258>0,Worksheet!M258,Worksheet!L258),0),\"\")","v":""},"",null,null,null,{"$f":"IF(ISBLANK(Worksheet!M258)=FALSE,Worksheet!M258,\"\")","v":0},{"$f":"IF(Worksheet!A258=\"-\",\"\",IF(Worksheet!A258=\"\",S234,Worksheet!A258))","v":""},{"$f":"IF(S235=\"\",\"\",IF(AND(Worksheet!G258=\"\",Worksheet!H258=\"\")=TRUE,T234,IF(Worksheet!G258=\"\",\"\",Worksheet!G258)))","v":""},{"$f":"IF(S235=\"\",\"\",IF(AND(Worksheet!G258=\"\",Worksheet!H258=\"\")=TRUE,U234,IF(Worksheet!H258=\"\",\"\",Worksheet!H258)))","v":""},{"$f":"IF(Worksheet!N258=\"\",\"\",Worksheet!N258)","v":""},{"$f":"IF(Worksheet!O258=\"\",\"\",Worksheet!O258)","v":""},{"$f":"IF(Worksheet!F258=0,\"\",Worksheet!F258)","v":""},{"$f":"IF(Worksheet!P258=0,\"\",Worksheet!P258)","v":""},{"$f":"IF(Worksheet!$A$11=TRUE,\"Y\",\"N\")","v":"N"},{"$f":"IF(Worksheet!$A$12=TRUE,\"Y\",\"N\")","v":"N"},{"$f":"IF(Worksheet!$B$11=TRUE,\"Y\",\"N\")","v":"N"},{"$f":"IF(Worksheet!$B$12=TRUE,\"Y\",\"N\")","v":"N"},{"$f":"IF(Worksheet!$C$11=TRUE,\"Y\",\"N\")","v":"N"},{"$f":"IF(Worksheet!$C$12=TRUE,\"Y\",\"N\")","v":"N"},""]
[{"$f":"IF(ISERROR(VLOOKUP(Worksheet!N259,MeasureLookup,2,FALSE))=FALSE,VLOOKUP(Worksheet!N259,MeasureLookup,2,FALSE),\"\")","v":""},{"$f":"Worksheet!Q259","v":0},{"$f":"Worksheet!R259","v":0},{"$f":"IF(ISERROR(Worksheet!P259)=FALSE,Worksheet!P259,\"\")","v":0},"Watts",null,null,{"$f":"IF(Worksheet!AP259<>\"\",IF(Worksheet!AP259>0,Worksheet!AP259/IF(Worksheet!M259>0,Worksheet!M259,Worksheet!L259),\"\"),\"\")","v":""},{"$f":"IF(ISBLANK(Worksheet!L259)=FALSE,Worksheet!L259,\"\")","v":0},{"$f":"IF(Worksheet!L259<>0, IFERROR(VLOOKUP(Worksheet!$C$16,SavingsSupportTable,3,FALSE)*Worksheet!AQ259*IFERROR(1+VLOOKUP(Worksheet!$C$16,SavingsSupportTable,MATCH(Worksheet!$G$17,HVACe_Options,0)+4,FALSE),1)/IF(Worksheet!M259>0,Worksheet!M259,Worksheet!L259),\"\"),\"\")","v":""},{"$f":"IF(Worksheet!L259<>0, IFERROR(VLOOKUP(Worksheet!$C$16,SavingsSupportTable,2,FALSE)*Worksheet!AQ259*IF(IFERROR(MATCH(Worksheet!$G$17,HVACe_Options,0),0)>0,1+VLOOKUP(Worksheet!$C$16,SavingsSupportTable,4,FALSE),1)/IF(Worksheet!M259>0,Worksheet!M259,Worksheet!L259),\"\"),\"\")","v":""},"",{"$f":"IF(Worksheet!L259<>0,IFERROR(VLOOKUP(Worksheet!$C$16,SavingsSupportTable,3,FALSE)*Worksheet!AQ259*IF(IFERROR(SEARCH(\"Gas\",Worksheet!$G$17),0)>0,VLOOKUP(\"Gas\",HVACg_Lookup,MATCH(Worksheet!$G$16,BuildingSize,0)+1,FALSE),IF(IFERROR(SEARCH(\"Oil\",Worksheet!$G$17),0)>0,VLOOKUP(\"Oil\",HVACg_Lookup,MATCH(Worksheet!$G$16,BuildingSize,0)+1,FALSE),IF(IFERROR(SEARCH(\"Propane\",Worksheet!$G$17),0)>0,VLOOKUP(\"Propane\",HVACg_Lookup,MATCH(Worksheet!$G$16,BuildingSize,0)+1,FALSE),0)))/IF(Worksheet!M259>0,Worksheet!M259,Worksheet!L259),0),\"\")","v":""},"",null,null,null,{"$f":"IF(ISBLANK(Worksheet!M259)=FALSE,Worksheet!M259,\"\")","v":0},{"$f":"IF(Worksheet!A259=\"-\",\"\",IF(Worksheet!A259=\"\",S235,Worksheet!A259))","v":""},{"$f":"IF(S236=\"\",\"\",IF(AND(Worksheet!G259=\"\",Worksheet!H259=\"\")=TRUE,T235,IF(Worksheet!G259=\"\",\"\",Worksheet!G259)))","v":""},{"$f":"IF(S236=\"\",\"\",IF(AND(Worksheet!G259=\"\",Worksheet!H259=\"\")=TRUE,U235,IF(Worksheet!H259=\"\",\"\",Worksheet!H259)))","v":""},{"$f":"IF(Worksheet!N259=\"\",\"\",Worksheet!N259)","v":""},{"$f":"IF(Worksheet!O259=\"\",\"\",Worksheet!O259)","v":""},{"$f":"IF(Worksheet!F259=0,\"\",Worksheet!F259)","v":""},{"$f":"IF(Worksheet!P259=0,\"\",Worksheet!P259)","v":""},{"$f":"IF(Worksheet!$A$11=TRUE,\"Y\",\"N\")","v":"N"},{"$f":"IF(Worksheet!$A$12=TRUE,\"Y\",\"N\")","v":"N"},{"$f":"IF(Worksheet!$B$11=TRUE,\"Y\",\"N\")","v":"N"},{"$f":"IF(Worksheet!$B$12=TRUE,\"Y\",\"N\")","v":"N"},{"$f":"IF(Worksheet!$C$11=TRUE,\"Y\",\"N\")","v":"N"},{"$f":"IF(Worksheet!$C$12=TRUE,\"Y\",\"N\")","v":"N"},""]
[{"$f":"IF(ISERROR(VLOOKUP(Worksheet!N260,MeasureLookup,2,FALSE))=FALSE,VLOOKUP(Worksheet!N260,MeasureLookup,2,FALSE),\"\")","v":""},{"$f":"Worksheet!Q260","v":0},{"$f":"Worksheet!R260","v":0},{"$f":"IF(ISERROR(Worksheet!P260)=FALSE,Worksheet!P260,\"\")","v":0},"Watts",null,null,{"$f":"IF(Worksheet!AP260<>\"\",IF(Worksheet!AP260>0,Worksheet!AP260/IF(Worksheet!M260>0,Worksheet!M260,Worksheet!L260),\"\"),\"\")","v":""},{"$f":"IF(ISBLANK(Worksheet!L260)=FALSE,Worksheet!L260,\"\")","v":0},{"$f":"IF(Worksheet!L260<>0, IFERROR(VLOOKUP(Worksheet!$C$16,SavingsSupportTable,3,FALSE)*Worksheet!AQ260*IFERROR(1+VLOOKUP(Worksheet!$C$16,SavingsSupportTable,MATCH(Worksheet!$G$17,HVACe_Options,0)+4,FALSE),1)/IF(Worksheet!M260>0,Worksheet!M260,Worksheet!L260),\"\"),\"\")","v":""},{"$f":"IF(Worksheet!L260<>0, IFERROR(VLOOKUP(Worksheet!$C$16,SavingsSupportTable,2,FALSE)*Worksheet!AQ260*IF(IFERROR(MATCH(Worksheet!$G$17,HVACe_Options,0),0)>0,1+VLOOKUP(Worksheet!$C$16,SavingsSupportTable,4,FALSE),1)/IF(Worksheet!M260>0,Worksheet!M260,Worksheet!L260),\"\"),\"\")","v":""},"",{"$f":"IF(Worksheet!L260<>0,IFERROR(VLOOKUP(Worksheet!$C$16,SavingsSupportTable,3,FALSE)*Worksheet!AQ260*IF(IFERROR(SEARCH(\"Gas\",Worksheet!$G$17),0)>0,VLOOKUP(\"Gas\",HVACg_Lookup,MATCH(Worksheet!$G$16,BuildingSize,0)+1,FALSE),IF(IFERROR(SEARCH(\"Oil\",Worksheet!$G$17),0)>0,VLOOKUP(\"Oil\",HVACg_Lookup,MATCH(Worksheet!$G$16,BuildingSize,0)+1,FALSE),IF(IFERROR(SEARCH(\"Propane\",Worksheet!$G$17),0)>0,VLOOKUP(\"Propane\",HVACg_Lookup,MATCH(Worksheet!$G$16,BuildingSize,0)+1,FALSE),0)))/IF(Worksheet!M260>0,Worksheet!M260,Worksheet!L260),0),\"\")","v":""},"",null,null,null,{"$f":"IF(ISBLANK(Worksheet!M260)=FALSE,Worksheet!M260,\"\")","v":0},{"$f":"IF(Worksheet!A260=\"-\",\"\",IF(Worksheet!A260=\"\",S236,Worksheet!A260))","v":""},{"$f":"IF(S237=\"\",\"\",IF(AND(Worksheet!G260=\"\",Worksheet!H260=\"\")=TRUE,T236,IF(Worksheet!G260=\"\",\"\",Worksheet!G260)))","v":""},{"$f":"IF(S237=\"\",\"\",IF(AND(Worksheet!G260=\"\",Worksheet!H260=\"\")=TRUE,U236,IF(Worksheet!H260=\"\",\"\",Worksheet!H260)))","v":""},{"$f":"IF(Worksheet!N260=\"\",\"\",Worksheet!N260)","v":""},{"$f":"IF(Worksheet!O260=\"\",\"\",Worksheet!O260)","v":""},{"$f":"IF(Worksheet!F260=0,\"\",Worksheet!F260)","v":""},{"$f":"IF(Worksheet!P260=0,\"\",Worksheet!P260)","v":""},{"$f":"IF(Worksheet!$A$11=TRUE,\"Y\",\"N\")","v":"N"},{"$f":"IF(Worksheet!$A$12=TRUE,\"Y\",\"N\")","v":"N"},{"$f":"IF(Worksheet!$B$11=TRUE,\"Y\",\"N\")","v":"N"},{"$f":"IF(Worksheet!$B$12=TRUE,\"Y\",\"N\")","v":"N"},{"$f":"IF(Worksheet!$C$11=TRUE,\"Y\",\"N\")","v":"N"},{"$f":"IF(Worksheet!$C$12=TRUE,\"Y\",\"N\")","v":"N"},""]
[{"$f":"IF(ISERROR(VLOOKUP(Worksheet!N261,MeasureLookup,2,FALSE))=FALSE,VLOOKUP(Worksheet!N261,MeasureLookup,2,FALSE),\"\")","v":""},{"$f":"Worksheet!Q261","v":0},{"$f":"Worksheet!R261","v":0},{"$f":"IF(ISERROR(Worksheet!P261)=FALSE,Worksheet!P261,\"\")","v":0},"Watts",null,null,{"$f":"IF(Worksheet!AP261<>\"\",IF(Worksheet!AP261>0,Worksheet!AP261/IF(Worksheet!M261>0,Worksheet!M261,Worksheet!L261),\"\"),\"\")","v":""},{"$f":"IF(ISBLANK(Worksheet!L261)=FALSE,Worksheet!L261,\"\")","v":0},{"$f":"IF(Worksheet!L261<>0, IFERROR(VLOOKUP(Worksheet!$C$16,SavingsSupportTable,3,FALSE)*Worksheet!AQ261*IFERROR(1+VLOOKUP(Worksheet!$C$16,SavingsSupportTable,MATCH(Worksheet!$G$17,HVACe_Options,0)+4,FALSE),1)/IF(Worksheet!M261>0,Worksheet!M261,Worksheet!L261),\"\"),\"\")","v":""},{"$f":"IF(Worksheet!L261<>0, IFERROR(VLOOKUP(Worksheet!$C$16,SavingsSupportTable,2,FALSE)*Worksheet!AQ261*IF(IFERROR(MATCH(Worksheet!$G$17,HVACe_Options,0),0)>0,1+VLOOKUP(Worksheet!$C$16,SavingsSupportTable,4,FALSE),1)/IF(Worksheet!M261>0,Worksheet!M261,Worksheet!L261),\"\"),\"\")","v":""},"",{"$f":"IF(Worksheet!L261<>0,IFERROR(VLOOKUP(Worksheet!$C$16,SavingsSupportTable,3,FALSE)*Worksheet!AQ261*IF(IFERROR(SEARCH(\"Gas\",Worksheet!$G$17),0)>0,VLOOKUP(\"Gas\",HVACg_Lookup,MATCH(Worksheet!$G$16,BuildingSize,0)+1,FALSE),IF(IFERROR(SEARCH(\"Oil\",Worksheet!$G$17),0)>0,VLOOKUP(\"Oil\",HVACg_Lookup,MATCH(Worksheet!$G$16,BuildingSize,0)+1,FALSE),IF(IFERROR(SEARCH(\"Propane\",Worksheet!$G$17),0)>0,VLOOKUP(\"Propane\",HVACg_Lookup,MATCH(Worksheet!$G$16,BuildingSize,0)+1,FALSE),0)))/IF(Worksheet!M261>0,Worksheet!M261,Worksheet!L261),0),\"\")","v":""},"",null,null,null,{"$f":"IF(ISBLANK(Worksheet!M261)=FALSE,Worksheet!M261,\"\")","v":0},{"$f":"IF(Worksheet!A261=\"-\",\"\",IF(Worksheet!A261=\"\",S237,Worksheet!A261))","v":""},{"$f":"IF(S238=\"\",\"\",IF(AND(Worksheet!G261=\"\",Worksheet!H261=\"\")=TRUE,T237,IF(Worksheet!G261=\"\",\"\",Worksheet!G261)))","v":""},{"$f":"IF(S238=\"\",\"\",IF(AND(Worksheet!G261=\"\",Worksheet!H261=\"\")=TRUE,U237,IF(Worksheet!H261=\"\",\"\",Worksheet!H261)))","v":""},{"$f":"IF(Worksheet!N261=\"\",\"\",Worksheet!N261)","v":""},{"$f":"IF(Worksheet!O261=\"\",\"\",Worksheet!O261)","v":""},{"$f":"IF(Worksheet!F261=0,\"\",Worksheet!F261)","v":""},{"$f":"IF(Worksheet!P261=0,\"\",Worksheet!P261)","v":""},{"$f":"IF(Worksheet!$A$11=TRUE,\"Y\",\"N\")","v":"N"},{"$f":"IF(Worksheet!$A$12=TRUE,\"Y\",\"N\")","v":"N"},{"$f":"IF(Worksheet!$B$11=TRUE,\"Y\",\"N\")","v":"N"},{"$f":"IF(Worksheet!$B$12=TRUE,\"Y\",\"N\")","v":"N"},{"$f":"IF(Worksheet!$C$11=TRUE,\"Y\",\"N\")","v":"N"},{"$f":"IF(Worksheet!$C$12=TRUE,\"Y\",\"N\")","v":"N"},""]
[{"$f":"IF(ISERROR(VLOOKUP(Worksheet!N262,MeasureLookup,2,FALSE))=FALSE,VLOOKUP(Worksheet!N262,MeasureLookup,2,FALSE),\"\")","v":""},{"$f":"Worksheet!Q262","v":0},{"$f":"Worksheet!R262","v":0},{"$f":"IF(ISERROR(Worksheet!P262)=FALSE,Worksheet!P262,\"\")","v":0},"Watts",null,null,{"$f":"IF(Worksheet!AP262<>\"\",IF(Worksheet!AP262>0,Worksheet!AP262/IF(Worksheet!M262>0,Worksheet!M262,Worksheet!L262),\"\"),\"\")","v":""},{"$f":"IF(ISBLANK(Worksheet!L262)=FALSE,Worksheet!L262,\"\")","v":0},{"$f":"IF(Worksheet!L262<>0, IFERROR(VLOOKUP(Worksheet!$C$16,SavingsSupportTable,3,FALSE)*Worksheet!AQ262*IFERROR(1+VLOOKUP(Worksheet!$C$16,SavingsSupportTable,MATCH(Worksheet!$G$17,HVACe_Options,0)+4,FALSE),1)/IF(Worksheet!M262>0,Worksheet!M262,Worksheet!L262),\"\"),\"\")","v":""},{"$f":"IF(Worksheet!L262<>0, IFERROR(VLOOKUP(Worksheet!$C$16,SavingsSupportTable,2,FALSE)*Worksheet!AQ262*IF(IFERROR(MATCH(Worksheet!$G$17,HVACe_Options,0),0)>0,1+VLOOKUP(Worksheet!$C$16,SavingsSupportTable,4,FALSE),1)/IF(Worksheet!M262>0,Worksheet!M262,Worksheet!L262),\"\"),\"\")","v":""},"",{"$f":"IF(Worksheet!L262<>0,IFERROR(VLOOKUP(Worksheet!$C$16,SavingsSupportTable,3,FALSE)*Worksheet!AQ262*IF(IFERROR(SEARCH(\"Gas\",Worksheet!$G$17),0)>0,VLOOKUP(\"Gas\",HVACg_Lookup,MATCH(Worksheet!$G$16,BuildingSize,0)+1,FALSE),IF(IFERROR(SEARCH(\"Oil\",Worksheet!$G$17),0)>0,VLOOKUP(\"Oil\",HVACg_Lookup,MATCH(Worksheet!$G$16,BuildingSize,0)+1,FALSE),IF(IFERROR(SEARCH(\"Propane\",Worksheet!$G$17),0)>0,VLOOKUP(\"Propane\",HVACg_Lookup,MATCH(Worksheet!$G$16,BuildingSize,0)+1,FALSE),0)))/IF(Worksheet!M262>0,Worksheet!M262,Worksheet!L262),0),\"\")","v":""},"",null,null,null,{"$f":"IF(ISBLANK(Worksheet!M262)=FALSE,Worksheet!M262,\"\")","v":0},{"$f":"IF(Worksheet!A262=\"-\",\"\",IF(Worksheet!A262=\"\",S238,Worksheet!A262))","v":""},{"$f":"IF(S239=\"\",\"\",IF(AND(Worksheet!G262=\"\",Worksheet!H262=\"\")=TRUE,T238,IF(Worksheet!G262=\"\",\"\",Worksheet!G262)))","v":""},{"$f":"IF(S239=\"\",\"\",IF(AND(Worksheet!G262=\"\",Worksheet!H262=\"\")=TRUE,U238,IF(Worksheet!H262=\"\",\"\",Worksheet!H262)))","v":""},{"$f":"IF(Worksheet!N262=\"\",\"\",Worksheet!N262)","v":""},{"$f":"IF(Worksheet!O262=\"\",\"\",Worksheet!O262)","v":""},{"$f":"IF(Worksheet!F262=0,\"\",Worksheet!F262)","v":""},{"$f":"IF(Worksheet!P262=0,\"\",Worksheet!P262)","v":""},{"$f":"IF(Worksheet!$A$11=TRUE,\"Y\",\"N\")","v":"N"},{"$f":"IF(Worksheet!$A$12=TRUE,\"Y\",\"N\")","v":"N"},{"$f":"IF(Worksheet!$B$11=TRUE,\"Y\",\"N\")","v":"N"},{"$f":"IF(Worksheet!$B$12=TRUE,\"Y\",\"N\")","v":"N"},{"$f":"IF(Worksheet!$C$11=TRUE,\"Y\",\"N\")","v":"N"},{"$f":"IF(Worksheet!$C$12=TRUE,\"Y\",\"N\")","v":"N"},""]
[{"$f":"IF(ISERROR(VLOOKUP(Worksheet!N263,MeasureLookup,2,FALSE))=FALSE,VLOOKUP(Worksheet!N263,MeasureLookup,2,FALSE),\"\")","v":""},{"$f":"Worksheet!Q263","v":0},{"$f":"Worksheet!R263","v":0},{"$f":"IF(ISERROR(Worksheet!P263)=FALSE,Worksheet!P263,\"\")","v":0},"Watts",null,null,{"$f":"IF(Worksheet!AP263<>\"\",IF(Worksheet!AP263>0,Worksheet!AP263/IF(Worksheet!M263>0,Worksheet!M263,Worksheet!L263),\"\"),\"\")","v":""},{"$f":"IF(ISBLANK(Worksheet!L263)=FALSE,Worksheet!L263,\"\")","v":0},{"$f":"IF(Worksheet!L263<>0, IFERROR(VLOOKUP(Worksheet!$C$16,SavingsSupportTable,3,FALSE)*Worksheet!AQ263*IFERROR(1+VLOOKUP(Worksheet!$C$16,SavingsSupportTable,MATCH(Worksheet!$G$17,HVACe_Options,0)+4,FALSE),1)/IF(Worksheet!M263>0,Worksheet!M263,Worksheet!L263),\"\"),\"\")","v":""},{"$f":"IF(Worksheet!L263<>0, IFERROR(VLOOKUP(Worksheet!$C$16,SavingsSupportTable,2,FALSE)*Worksheet!AQ263*IF(IFERROR(MATCH(Worksheet!$G$17,HVACe_Options,0),0)>0,1+VLOOKUP(Worksheet!$C$16,SavingsSupportTable,4,FALSE),1)/IF(Worksheet!M263>0,Worksheet!M263,Worksheet!L263),\"\"),\"\")","v":""},"",{"$f":"IF(Worksheet!L263<>0,IFERROR(VLOOKUP(Worksheet!$C$16,SavingsSupportTable,3,FALSE)*Worksheet!AQ263*IF(IFERROR(SEARCH(\"Gas\",Worksheet!$G$17),0)>0,VLOOKUP(\"Gas\",HVACg_Lookup,MATCH(Worksheet!$G$16,BuildingSize,0)+1,FALSE),IF(IFERROR(SEARCH(\"Oil\",Worksheet!$G$17),0)>0,VLOOKUP(\"Oil\",HVACg_Lookup,MATCH(Worksheet!$G$16,BuildingSize,0)+1,FALSE),IF(IFERROR(SEARCH(\"Propane\",Worksheet!$G$17),0)>0,VLOOKUP(\"Propane\",HVACg_Lookup,MATCH(Worksheet!$G$16,BuildingSize,0)+1,FALSE),0)))/IF(Worksheet!M263>0,Worksheet!M263,Worksheet!L263),0),\"\")","v":""},"",null,null,null,{"$f":"IF(ISBLANK(Worksheet!M263)=FALSE,Worksheet!M263,\"\")","v":0},{"$f":"IF(Worksheet!A263=\"-\",\"\",IF(Worksheet!A263=\"\",S239,Worksheet!A263))","v":""},{"$f":"IF(S240=\"\",\"\",IF(AND(Worksheet!G263=\"\",Worksheet!H263=\"\")=TRUE,T239,IF(Worksheet!G263=\"\",\"\",Worksheet!G263)))","v":""},{"$f":"IF(S240=\"\",\"\",IF(AND(Worksheet!G263=\"\",Worksheet!H263=\"\")=TRUE,U239,IF(Worksheet!H263=\"\",\"\",Worksheet!H263)))","v":""},{"$f":"IF(Worksheet!N263=\"\",\"\",Worksheet!N263)","v":""},{"$f":"IF(Worksheet!O263=\"\",\"\",Worksheet!O263)","v":""},{"$f":"IF(Worksheet!F263=0,\"\",Worksheet!F263)","v":""},{"$f":"IF(Worksheet!P263=0,\"\",Worksheet!P263)","v":""},{"$f":"IF(Worksheet!$A$11=TRUE,\"Y\",\"N\")","v":"N"},{"$f":"IF(Worksheet!$A$12=TRUE,\"Y\",\"N\")","v":"N"},{"$f":"IF(Worksheet!$B$11=TRUE,\"Y\",\"N\")","v":"N"},{"$f":"IF(Worksheet!$B$12=TRUE,\"Y\",\"N\")","v":"N"},{"$f":"IF(Worksheet!$C$11=TRUE,\"Y\",\"N\")","v":"N"},{"$f":"IF(Worksheet!$C$12=TRUE,\"Y\",\"N\")","v":"N"},""]
[{"$f":"IF(ISERROR(VLOOKUP(Worksheet!N264,MeasureLookup,2,FALSE))=FALSE,VLOOKUP(Worksheet!N264,MeasureLookup,2,FALSE),\"\")","v":""},{"$f":"Worksheet!Q264","v":0},{"$f":"Worksheet!R264","v":0},{"$f":"IF(ISERROR(Worksheet!P264)=FALSE,Worksheet!P264,\"\")","v":0},"Watts",null,null,{"$f":"IF(Worksheet!AP264<>\"\",IF(Worksheet!AP264>0,Worksheet!AP264/IF(Worksheet!M264>0,Worksheet!M264,Worksheet!L264),\"\"),\"\")","v":""},{"$f":"IF(ISBLANK(Worksheet!L264)=FALSE,Worksheet!L264,\"\")","v":0},{"$f":"IF(Worksheet!L264<>0, IFERROR(VLOOKUP(Worksheet!$C$16,SavingsSupportTable,3,FALSE)*Worksheet!AQ264*IFERROR(1+VLOOKUP(Worksheet!$C$16,SavingsSupportTable,MATCH(Worksheet!$G$17,HVACe_Options,0)+4,FALSE),1)/IF(Worksheet!M264>0,Worksheet!M264,Worksheet!L264),\"\"),\"\")","v":""},{"$f":"IF(Worksheet!L264<>0, IFERROR(VLOOKUP(Worksheet!$C$16,SavingsSupportTable,2,FALSE)*Worksheet!AQ264*IF(IFERROR(MATCH(Worksheet!$G$17,HVACe_Options,0),0)>0,1+VLOOKUP(Worksheet!$C$16,SavingsSupportTable,4,FALSE),1)/IF(Worksheet!M264>0,Worksheet!M264,Worksheet!L264),\"\"),\"\")","v":""},"",{"$f":"IF(Worksheet!L264<>0,IFERROR(VLOOKUP(Worksheet!$C$16,SavingsSupportTable,3,FALSE)*Worksheet!AQ264*IF(IFERROR(SEARCH(\"Gas\",Worksheet!$G$17),0)>0,VLOOKUP(\"Gas\",HVACg_Lookup,MATCH(Worksheet!$G$16,BuildingSize,0)+1,FALSE),IF(IFERROR(SEARCH(\"Oil\",Worksheet!$G$17),0)>0,VLOOKUP(\"Oil\",HVACg_Lookup,MATCH(Worksheet!$G$16,BuildingSize,0)+1,FALSE),IF(IFERROR(SEARCH(\"Propane\",Worksheet!$G$17),0)>0,VLOOKUP(\"Propane\",HVACg_Lookup,MATCH(Worksheet!$G$16,BuildingSize,0)+1,FALSE),0)))/IF(Worksheet!M264>0,Worksheet!M264,Worksheet!L264),0),\"\")","v":""},"",null,null,null,{"$f":"IF(ISBLANK(Worksheet!M264)=FALSE,Worksheet!M264,\"\")","v":0},{"$f":"IF(Worksheet!A264=\"-\",\"\",IF(Worksheet!A264=\"\",S240,Worksheet!A264))","v":""},{"$f":"IF(S241=\"\",\"\",IF(AND(Worksheet!G264=\"\",Worksheet!H264=\"\")=TRUE,T240,IF(Worksheet!G264=\"\",\"\",Worksheet!G264)))","v":""},{"$f":"IF(S241=\"\",\"\",IF(AND(Worksheet!G264=\"\",Worksheet!H264=\"\")=TRUE,U240,IF(Worksheet!H264=\"\",\"\",Worksheet!H264)))","v":""},{"$f":"IF(Worksheet!N264=\"\",\"\",Worksheet!N264)","v":""},{"$f":"IF(Worksheet!O264=\"\",\"\",Worksheet!O264)","v":""},{"$f":"IF(Worksheet!F264=0,\"\",Worksheet!F264)","v":""},{"$f":"IF(Worksheet!P264=0,\"\",Worksheet!P264)","v":""},{"$f":"IF(Worksheet!$A$11=TRUE,\"Y\",\"N\")","v":"N"},{"$f":"IF(Worksheet!$A$12=TRUE,\"Y\",\"N\")","v":"N"},{"$f":"IF(Worksheet!$B$11=TRUE,\"Y\",\"N\")","v":"N"},{"$f":"IF(Worksheet!$B$12=TRUE,\"Y\",\"N\")","v":"N"},{"$f":"IF(Worksheet!$C$11=TRUE,\"Y\",\"N\")","v":"N"},{"$f":"IF(Worksheet!$C$12=TRUE,\"Y\",\"N\")","v":"N"},""]
[{"$f":"IF(ISERROR(VLOOKUP(Worksheet!N265,MeasureLookup,2,FALSE))=FALSE,VLOOKUP(Worksheet!N265,MeasureLookup,2,FALSE),\"\")","v":""},{"$f":"Worksheet!Q265","v":0},{"$f":"Worksheet!R265","v":0},{"$f":"IF(ISERROR(Worksheet!P265)=FALSE,Worksheet!P265,\"\")","v":0},"Watts",null,null,{"$f":"IF(Worksheet!AP265<>\"\",IF(Worksheet!AP265>0,Worksheet!AP265/IF(Worksheet!M265>0,Worksheet!M265,Worksheet!L265),\"\"),\"\")","v":""},{"$f":"IF(ISBLANK(Worksheet!L265)=FALSE,Worksheet!L265,\"\")","v":0},{"$f":"IF(Worksheet!L265<>0, IFERROR(VLOOKUP(Worksheet!$C$16,SavingsSupportTable,3,FALSE)*Worksheet!AQ265*IFERROR(1+VLOOKUP(Worksheet!$C$16,SavingsSupportTable,MATCH(Worksheet!$G$17,HVACe_Options,0)+4,FALSE),1)/IF(Worksheet!M265>0,Worksheet!M265,Worksheet!L265),\"\"),\"\")","v":""},{"$f":"IF(Worksheet!L265<>0, IFERROR(VLOOKUP(Worksheet!$C$16,SavingsSupportTable,2,FALSE)*Worksheet!AQ265*IF(IFERROR(MATCH(Worksheet!$G$17,HVACe_Options,0),0)>0,1+VLOOKUP(Worksheet!$C$16,SavingsSupportTable,4,FALSE),1)/IF(Worksheet!M265>0,Worksheet!M265,Worksheet!L265),\"\"),\"\")","v":""},"",{"$f":"IF(Worksheet!L265<>0,IFERROR(VLOOKUP(Worksheet!$C$16,SavingsSupportTable,3,FALSE)*Worksheet!AQ265*IF(IFERROR(SEARCH(\"Gas\",Worksheet!$G$17),0)>0,VLOOKUP(\"Gas\",HVACg_Lookup,MATCH(Worksheet!$G$16,BuildingSize,0)+1,FALSE),IF(IFERROR(SEARCH(\"Oil\",Worksheet!$G$17),0)>0,VLOOKUP(\"Oil\",HVACg_Lookup,MATCH(Worksheet!$G$16,BuildingSize,0)+1,FALSE),IF(IFERROR(SEARCH(\"Propane\",Worksheet!$G$17),0)>0,VLOOKUP(\"Propane\",HVACg_Lookup,MATCH(Worksheet!$G$16,BuildingSize,0)+1,FALSE),0)))/IF(Worksheet!M265>0,Worksheet!M265,Worksheet!L265),0),\"\")","v":""},"",null,null,null,{"$f":"IF(ISBLANK(Worksheet!M265)=FALSE,Worksheet!M265,\"\")","v":0},{"$f":"IF(Worksheet!A265=\"-\",\"\",IF(Worksheet!A265=\"\",S241,Worksheet!A265))","v":""},{"$f":"IF(S242=\"\",\"\",IF(AND(Worksheet!G265=\"\",Worksheet!H265=\"\")=TRUE,T241,IF(Worksheet!G265=\"\",\"\",Worksheet!G265)))","v":""},{"$f":"IF(S242=\"\",\"\",IF(AND(Worksheet!G265=\"\",Worksheet!H265=\"\")=TRUE,U241,IF(Worksheet!H265=\"\",\"\",Worksheet!H265)))","v":""},{"$f":"IF(Worksheet!N265=\"\",\"\",Worksheet!N265)","v":""},{"$f":"IF(Worksheet!O265=\"\",\"\",Worksheet!O265)","v":""},{"$f":"IF(Worksheet!F265=0,\"\",Worksheet!F265)","v":""},{"$f":"IF(Worksheet!P265=0,\"\",Worksheet!P265)","v":""},{"$f":"IF(Worksheet!$A$11=TRUE,\"Y\",\"N\")","v":"N"},{"$f":"IF(Worksheet!$A$12=TRUE,\"Y\",\"N\")","v":"N"},{"$f":"IF(Worksheet!$B$11=TRUE,\"Y\",\"N\")","v":"N"},{"$f":"IF(Worksheet!$B$12=TRUE,\"Y\",\"N\")","v":"N"},{"$f":"IF(Worksheet!$C$11=TRUE,\"Y\",\"N\")","v":"N"},{"$f":"IF(Worksheet!$C$12=TRUE,\"Y\",\"N\")","v":"N"},""]
[{"$f":"IF(ISERROR(VLOOKUP(Worksheet!N266,MeasureLookup,2,FALSE))=FALSE,VLOOKUP(Worksheet!N266,MeasureLookup,2,FALSE),\"\")","v":""},{"$f":"Worksheet!Q266","v":0},{"$f":"Worksheet!R266","v":0},{"$f":"IF(ISERROR(Worksheet!P266)=FALSE,Worksheet!P266,\"\")","v":0},"Watts",null,null,{"$f":"IF(Worksheet!AP266<>\"\",IF(Worksheet!AP266>0,Worksheet!AP266/IF(Worksheet!M266>0,Worksheet!M266,Worksheet!L266),\"\"),\"\")","v":""},{"$f":"IF(ISBLANK(Worksheet!L266)=FALSE,Worksheet!L266,\"\")","v":0},{"$f":"IF(Worksheet!L266<>0, IFERROR(VLOOKUP(Worksheet!$C$16,SavingsSupportTable,3,FALSE)*Worksheet!AQ266*IFERROR(1+VLOOKUP(Worksheet!$C$16,SavingsSupportTable,MATCH(Worksheet!$G$17,HVACe_Options,0)+4,FALSE),1)/IF(Worksheet!M266>0,Worksheet!M266,Worksheet!L266),\"\"),\"\")","v":""},{"$f":"IF(Worksheet!L266<>0, IFERROR(VLOOKUP(Worksheet!$C$16,SavingsSupportTable,2,FALSE)*Worksheet!AQ266*IF(IFERROR(MATCH(Worksheet!$G$17,HVACe_Options,0),0)>0,1+VLOOKUP(Worksheet!$C$16,SavingsSupportTable,4,FALSE),1)/IF(Worksheet!M266>0,Worksheet!M266,Worksheet!L266),\"\"),\"\")","v":""},"",{"$f":"IF(Worksheet!L266<>0,IFERROR(VLOOKUP(Worksheet!$C$16,SavingsSupportTable,3,FALSE)*Worksheet!AQ266*IF(IFERROR(SEARCH(\"Gas\",Worksheet!$G$17),0)>0,VLOOKUP(\"Gas\",HVACg_Lookup,MATCH(Worksheet!$G$16,BuildingSize,0)+1,FALSE),IF(IFERROR(SEARCH(\"Oil\",Worksheet!$G$17),0)>0,VLOOKUP(\"Oil\",HVACg_Lookup,MATCH(Worksheet!$G$16,BuildingSize,0)+1,FALSE),IF(IFERROR(SEARCH(\"Propane\",Worksheet!$G$17),0)>0,VLOOKUP(\"Propane\",HVACg_Lookup,MATCH(Worksheet!$G$16,BuildingSize,0)+1,FALSE),0)))/IF(Worksheet!M266>0,Worksheet!M266,Worksheet!L266),0),\"\")","v":""},"",null,null,null,{"$f":"IF(ISBLANK(Worksheet!M266)=FALSE,Worksheet!M266,\"\")","v":0},{"$f":"IF(Worksheet!A266=\"-\",\"\",IF(Worksheet!A266=\"\",S242,Worksheet!A266))","v":""},{"$f":"IF(S243=\"\",\"\",IF(AND(Worksheet!G266=\"\",Worksheet!H266=\"\")=TRUE,T242,IF(Worksheet!G266=\"\",\"\",Worksheet!G266)))","v":""},{"$f":"IF(S243=\"\",\"\",IF(AND(Worksheet!G266=\"\",Worksheet!H266=\"\")=TRUE,U242,IF(Worksheet!H266=\"\",\"\",Worksheet!H266)))","v":""},{"$f":"IF(Worksheet!N266=\"\",\"\",Worksheet!N266)","v":""},{"$f":"IF(Worksheet!O266=\"\",\"\",Worksheet!O266)","v":""},{"$f":"IF(Worksheet!F266=0,\"\",Worksheet!F266)","v":""},{"$f":"IF(Worksheet!P266=0,\"\",Worksheet!P266)","v":""},{"$f":"IF(Worksheet!$A$11=TRUE,\"Y\",\"N\")","v":"N"},{"$f":"IF(Worksheet!$A$12=TRUE,\"Y\",\"N\")","v":"N"},{"$f":"IF(Worksheet!$B$11=TRUE,\"Y\",\"N\")","v":"N"},{"$f":"IF(Worksheet!$B$12=TRUE,\"Y\",\"N\")","v":"N"},{"$f":"IF(Worksheet!$C$11=TRUE,\"Y\",\"N\")","v":"N"},{"$f":"IF(Worksheet!$C$12=TRUE,\"Y\",\"N\")","v":"N"},""]
[{"$f":"IF(ISERROR(VLOOKUP(Worksheet!N267,MeasureLookup,2,FALSE))=FALSE,VLOOKUP(Worksheet!N267,MeasureLookup,2,FALSE),\"\")","v":""},{"$f":"Worksheet!Q267","v":0},{"$f":"Worksheet!R267","v":0},{"$f":"IF(ISERROR(Worksheet!P267)=FALSE,Worksheet!P267,\"\")","v":0},"Watts",null,null,{"$f":"IF(Worksheet!AP267<>\"\",IF(Worksheet!AP267>0,Worksheet!AP267/IF(Worksheet!M267>0,Worksheet!M267,Worksheet!L267),\"\"),\"\")","v":""},{"$f":"IF(ISBLANK(Worksheet!L267)=FALSE,Worksheet!L267,\"\")","v":0},{"$f":"IF(Worksheet!L267<>0, IFERROR(VLOOKUP(Worksheet!$C$16,SavingsSupportTable,3,FALSE)*Worksheet!AQ267*IFERROR(1+VLOOKUP(Worksheet!$C$16,SavingsSupportTable,MATCH(Worksheet!$G$17,HVACe_Options,0)+4,FALSE),1)/IF(Worksheet!M267>0,Worksheet!M267,Worksheet!L267),\"\"),\"\")","v":""},{"$f":"IF(Worksheet!L267<>0, IFERROR(VLOOKUP(Worksheet!$C$16,SavingsSupportTable,2,FALSE)*Worksheet!AQ267*IF(IFERROR(MATCH(Worksheet!$G$17,HVACe_Options,0),0)>0,1+VLOOKUP(Worksheet!$C$16,SavingsSupportTable,4,FALSE),1)/IF(Worksheet!M267>0,Worksheet!M267,Worksheet!L267),\"\"),\"\")","v":""},"",{"$f":"IF(Worksheet!L267<>0,IFERROR(VLOOKUP(Worksheet!$C$16,SavingsSupportTable,3,FALSE)*Worksheet!AQ267*IF(IFERROR(SEARCH(\"Gas\",Worksheet!$G$17),0)>0,VLOOKUP(\"Gas\",HVACg_Lookup,MATCH(Worksheet!$G$16,BuildingSize,0)+1,FALSE),IF(IFERROR(SEARCH(\"Oil\",Worksheet!$G$17),0)>0,VLOOKUP(\"Oil\",HVACg_Lookup,MATCH(Worksheet!$G$16,BuildingSize,0)+1,FALSE),IF(IFERROR(SEARCH(\"Propane\",Worksheet!$G$17),0)>0,VLOOKUP(\"Propane\",HVACg_Lookup,MATCH(Worksheet!$G$16,BuildingSize,0)+1,FALSE),0)))/IF(Worksheet!M267>0,Worksheet!M267,Worksheet!L267),0),\"\")","v":""},"",null,null,null,{"$f":"IF(ISBLANK(Worksheet!M267)=FALSE,Worksheet!M267,\"\")","v":0},{"$f":"IF(Worksheet!A267=\"-\",\"\",IF(Worksheet!A267=\"\",S243,Worksheet!A267))","v":""},{"$f":"IF(S244=\"\",\"\",IF(AND(Worksheet!G267=\"\",Worksheet!H267=\"\")=TRUE,T243,IF(Worksheet!G267=\"\",\"\",Worksheet!G267)))","v":""},{"$f":"IF(S244=\"\",\"\",IF(AND(Worksheet!G267=\"\",Worksheet!H267=\"\")=TRUE,U243,IF(Worksheet!H267=\"\",\"\",Worksheet!H267)))","v":""},{"$f":"IF(Worksheet!N267=\"\",\"\",Worksheet!N267)","v":""},{"$f":"IF(Worksheet!O267=\"\",\"\",Worksheet!O267)","v":""},{"$f":"IF(Worksheet!F267=0,\"\",Worksheet!F267)","v":""},{"$f":"IF(Worksheet!P267=0,\"\",Worksheet!P267)","v":""},{"$f":"IF(Worksheet!$A$11=TRUE,\"Y\",\"N\")","v":"N"},{"$f":"IF(Worksheet!$A$12=TRUE,\"Y\",\"N\")","v":"N"},{"$f":"IF(Worksheet!$B$11=TRUE,\"Y\",\"N\")","v":"N"},{"$f":"IF(Worksheet!$B$12=TRUE,\"Y\",\"N\")","v":"N"},{"$f":"IF(Worksheet!$C$11=TRUE,\"Y\",\"N\")","v":"N"},{"$f":"IF(Worksheet!$C$12=TRUE,\"Y\",\"N\")","v":"N"},""]
[{"$f":"IF(ISERROR(VLOOKUP(Worksheet!N268,MeasureLookup,2,FALSE))=FALSE,VLOOKUP(Worksheet!N268,MeasureLookup,2,FALSE),\"\")","v":""},{"$f":"Worksheet!Q268","v":0},{"$f":"Worksheet!R268","v":0},{"$f":"IF(ISERROR(Worksheet!P268)=FALSE,Worksheet!P268,\"\")","v":0},"Watts",null,null,{"$f":"IF(Worksheet!AP268<>\"\",IF(Worksheet!AP268>0,Worksheet!AP268/IF(Worksheet!M268>0,Worksheet!M268,Worksheet!L268),\"\"),\"\")","v":""},{"$f":"IF(ISBLANK(Worksheet!L268)=FALSE,Worksheet!L268,\"\")","v":0},{"$f":"IF(Worksheet!L268<>0, IFERROR(VLOOKUP(Worksheet!$C$16,SavingsSupportTable,3,FALSE)*Worksheet!AQ268*IFERROR(1+VLOOKUP(Worksheet!$C$16,SavingsSupportTable,MATCH(Worksheet!$G$17,HVACe_Options,0)+4,FALSE),1)/IF(Worksheet!M268>0,Worksheet!M268,Worksheet!L268),\"\"),\"\")","v":""},{"$f":"IF(Worksheet!L268<>0, IFERROR(VLOOKUP(Worksheet!$C$16,SavingsSupportTable,2,FALSE)*Worksheet!AQ268*IF(IFERROR(MATCH(Worksheet!$G$17,HVACe_Options,0),0)>0,1+VLOOKUP(Worksheet!$C$16,SavingsSupportTable,4,FALSE),1)/IF(Worksheet!M268>0,Worksheet!M268,Worksheet!L268),\"\"),\"\")","v":""},"",{"$f":"IF(Worksheet!L268<>0,IFERROR(VLOOKUP(Worksheet!$C$16,SavingsSupportTable,3,FALSE)*Worksheet!AQ268*IF(IFERROR(SEARCH(\"Gas\",Worksheet!$G$17),0)>0,VLOOKUP(\"Gas\",HVACg_Lookup,MATCH(Worksheet!$G$16,BuildingSize,0)+1,FALSE),IF(IFERROR(SEARCH(\"Oil\",Worksheet!$G$17),0)>0,VLOOKUP(\"Oil\",HVACg_Lookup,MATCH(Worksheet!$G$16,BuildingSize,0)+1,FALSE),IF(IFERROR(SEARCH(\"Propane\",Worksheet!$G$17),0)>0,VLOOKUP(\"Propane\",HVACg_Lookup,MATCH(Worksheet!$G$16,BuildingSize,0)+1,FALSE),0)))/IF(Worksheet!M268>0,Worksheet!M268,Worksheet!L268),0),\"\")","v":""},"",null,null,null,{"$f":"IF(ISBLANK(Worksheet!M268)=FALSE,Worksheet!M268,\"\")","v":0},{"$f":"IF(Worksheet!A268=\"-\",\"\",IF(Worksheet!A268=\"\",S244,Worksheet!A268))","v":""},{"$f":"IF(S245=\"\",\"\",IF(AND(Worksheet!G268=\"\",Worksheet!H268=\"\")=TRUE,T244,IF(Worksheet!G268=\"\",\"\",Worksheet!G268)))","v":""},{"$f":"IF(S245=\"\",\"\",IF(AND(Worksheet!G268=\"\",Worksheet!H268=\"\")=TRUE,U244,IF(Worksheet!H268=\"\",\"\",Worksheet!H268)))","v":""},{"$f":"IF(Worksheet!N268=\"\",\"\",Worksheet!N268)","v":""},{"$f":"IF(Worksheet!O268=\"\",\"\",Worksheet!O268)","v":""},{"$f":"IF(Worksheet!F268=0,\"\",Worksheet!F268)","v":""},{"$f":"IF(Worksheet!P268=0,\"\",Worksheet!P268)","v":""},{"$f":"IF(Worksheet!$A$11=TRUE,\"Y\",\"N\")","v":"N"},{"$f":"IF(Worksheet!$A$12=TRUE,\"Y\",\"N\")","v":"N"},{"$f":"IF(Worksheet!$B$11=TRUE,\"Y\",\"N\")","v":"N"},{"$f":"IF(Worksheet!$B$12=TRUE,\"Y\",\"N\")","v":"N"},{"$f":"IF(Worksheet!$C$11=TRUE,\"Y\",\"N\")","v":"N"},{"$f":"IF(Worksheet!$C$12=TRUE,\"Y\",\"N\")","v":"N"},""]
[{"$f":"IF(ISERROR(VLOOKUP(Worksheet!N269,MeasureLookup,2,FALSE))=FALSE,VLOOKUP(Worksheet!N269,MeasureLookup,2,FALSE),\"\")","v":""},{"$f":"Worksheet!Q269","v":0},{"$f":"Worksheet!R269","v":0},{"$f":"IF(ISERROR(Worksheet!P269)=FALSE,Worksheet!P269,\"\")","v":0},"Watts",null,null,{"$f":"IF(Worksheet!AP269<>\"\",IF(Worksheet!AP269>0,Worksheet!AP269/IF(Worksheet!M269>0,Worksheet!M269,Worksheet!L269),\"\"),\"\")","v":""},{"$f":"IF(ISBLANK(Worksheet!L269)=FALSE,Worksheet!L269,\"\")","v":0},{"$f":"IF(Worksheet!L269<>0, IFERROR(VLOOKUP(Worksheet!$C$16,SavingsSupportTable,3,FALSE)*Worksheet!AQ269*IFERROR(1+VLOOKUP(Worksheet!$C$16,SavingsSupportTable,MATCH(Worksheet!$G$17,HVACe_Options,0)+4,FALSE),1)/IF(Worksheet!M269>0,Worksheet!M269,Worksheet!L269),\"\"),\"\")","v":""},{"$f":"IF(Worksheet!L269<>0, IFERROR(VLOOKUP(Worksheet!$C$16,SavingsSupportTable,2,FALSE)*Worksheet!AQ269*IF(IFERROR(MATCH(Worksheet!$G$17,HVACe_Options,0),0)>0,1+VLOOKUP(Worksheet!$C$16,SavingsSupportTable,4,FALSE),1)/IF(Worksheet!M269>0,Worksheet!M269,Worksheet!L269),\"\"),\"\")","v":""},"",{"$f":"IF(Worksheet!L269<>0,IFERROR(VLOOKUP(Worksheet!$C$16,SavingsSupportTable,3,FALSE)*Worksheet!AQ269*IF(IFERROR(SEARCH(\"Gas\",Worksheet!$G$17),0)>0,VLOOKUP(\"Gas\",HVACg_Lookup,MATCH(Worksheet!$G$16,BuildingSize,0)+1,FALSE),IF(IFERROR(SEARCH(\"Oil\",Worksheet!$G$17),0)>0,VLOOKUP(\"Oil\",HVACg_Lookup,MATCH(Worksheet!$G$16,BuildingSize,0)+1,FALSE),IF(IFERROR(SEARCH(\"Propane\",Worksheet!$G$17),0)>0,VLOOKUP(\"Propane\",HVACg_Lookup,MATCH(Worksheet!$G$16,BuildingSize,0)+1,FALSE),0)))/IF(Worksheet!M269>0,Worksheet!M269,Worksheet!L269),0),\"\")","v":""},"",null,null,null,{"$f":"IF(ISBLANK(Worksheet!M269)=FALSE,Worksheet!M269,\"\")","v":0},{"$f":"IF(Worksheet!A269=\"-\",\"\",IF(Worksheet!A269=\"\",S245,Worksheet!A269))","v":""},{"$f":"IF(S246=\"\",\"\",IF(AND(Worksheet!G269=\"\",Worksheet!H269=\"\")=TRUE,T245,IF(Worksheet!G269=\"\",\"\",Worksheet!G269)))","v":""},{"$f":"IF(S246=\"\",\"\",IF(AND(Worksheet!G269=\"\",Worksheet!H269=\"\")=TRUE,U245,IF(Worksheet!H269=\"\",\"\",Worksheet!H269)))","v":""},{"$f":"IF(Worksheet!N269=\"\",\"\",Worksheet!N269)","v":""},{"$f":"IF(Worksheet!O269=\"\",\"\",Worksheet!O269)","v":""},{"$f":"IF(Worksheet!F269=0,\"\",Worksheet!F269)","v":""},{"$f":"IF(Worksheet!P269=0,\"\",Worksheet!P269)","v":""},{"$f":"IF(Worksheet!$A$11=TRUE,\"Y\",\"N\")","v":"N"},{"$f":"IF(Worksheet!$A$12=TRUE,\"Y\",\"N\")","v":"N"},{"$f":"IF(Worksheet!$B$11=TRUE,\"Y\",\"N\")","v":"N"},{"$f":"IF(Worksheet!$B$12=TRUE,\"Y\",\"N\")","v":"N"},{"$f":"IF(Worksheet!$C$11=TRUE,\"Y\",\"N\")","v":"N"},{"$f":"IF(Worksheet!$C$12=TRUE,\"Y\",\"N\")","v":"N"},""]
[{"$f":"IF(ISERROR(VLOOKUP(Worksheet!N270,MeasureLookup,2,FALSE))=FALSE,VLOOKUP(Worksheet!N270,MeasureLookup,2,FALSE),\"\")","v":""},{"$f":"Worksheet!Q270","v":0},{"$f":"Worksheet!R270","v":0},{"$f":"IF(ISERROR(Worksheet!P270)=FALSE,Worksheet!P270,\"\")","v":0},"Watts",null,null,{"$f":"IF(Worksheet!AP270<>\"\",IF(Worksheet!AP270>0,Worksheet!AP270/IF(Worksheet!M270>0,Worksheet!M270,Worksheet!L270),\"\"),\"\")","v":""},{"$f":"IF(ISBLANK(Worksheet!L270)=FALSE,Worksheet!L270,\"\")","v":0},{"$f":"IF(Worksheet!L270<>0, IFERROR(VLOOKUP(Worksheet!$C$16,SavingsSupportTable,3,FALSE)*Worksheet!AQ270*IFERROR(1+VLOOKUP(Worksheet!$C$16,SavingsSupportTable,MATCH(Worksheet!$G$17,HVACe_Options,0)+4,FALSE),1)/IF(Worksheet!M270>0,Worksheet!M270,Worksheet!L270),\"\"),\"\")","v":""},{"$f":"IF(Worksheet!L270<>0, IFERROR(VLOOKUP(Worksheet!$C$16,SavingsSupportTable,2,FALSE)*Worksheet!AQ270*IF(IFERROR(MATCH(Worksheet!$G$17,HVACe_Options,0),0)>0,1+VLOOKUP(Worksheet!$C$16,SavingsSupportTable,4,FALSE),1)/IF(Worksheet!M270>0,Worksheet!M270,Worksheet!L270),\"\"),\"\")","v":""},"",{"$f":"IF(Worksheet!L270<>0,IFERROR(VLOOKUP(Worksheet!$C$16,SavingsSupportTable,3,FALSE)*Worksheet!AQ270*IF(IFERROR(SEARCH(\"Gas\",Worksheet!$G$17),0)>0,VLOOKUP(\"Gas\",HVACg_Lookup,MATCH(Worksheet!$G$16,BuildingSize,0)+1,FALSE),IF(IFERROR(SEARCH(\"Oil\",Worksheet!$G$17),0)>0,VLOOKUP(\"Oil\",HVACg_Lookup,MATCH(Worksheet!$G$16,BuildingSize,0)+1,FALSE),IF(IFERROR(SEARCH(\"Propane\",Worksheet!$G$17),0)>0,VLOOKUP(\"Propane\",HVACg_Lookup,MATCH(Worksheet!$G$16,BuildingSize,0)+1,FALSE),0)))/IF(Worksheet!M270>0,Worksheet!M270,Worksheet!L270),0),\"\")","v":""},"",null,null,null,{"$f":"IF(ISBLANK(Worksheet!M270)=FALSE,Worksheet!M270,\"\")","v":0},{"$f":"IF(Worksheet!A270=\"-\",\"\",IF(Worksheet!A270=\"\",S246,Worksheet!A270))","v":""},{"$f":"IF(S247=\"\",\"\",IF(AND(Worksheet!G270=\"\",Worksheet!H270=\"\")=TRUE,T246,IF(Worksheet!G270=\"\",\"\",Worksheet!G270)))","v":""},{"$f":"IF(S247=\"\",\"\",IF(AND(Worksheet!G270=\"\",Worksheet!H270=\"\")=TRUE,U246,IF(Worksheet!H270=\"\",\"\",Worksheet!H270)))","v":""},{"$f":"IF(Worksheet!N270=\"\",\"\",Worksheet!N270)","v":""},{"$f":"IF(Worksheet!O270=\"\",\"\",Worksheet!O270)","v":""},{"$f":"IF(Worksheet!F270=0,\"\",Worksheet!F270)","v":""},{"$f":"IF(Worksheet!P270=0,\"\",Worksheet!P270)","v":""},{"$f":"IF(Worksheet!$A$11=TRUE,\"Y\",\"N\")","v":"N"},{"$f":"IF(Worksheet!$A$12=TRUE,\"Y\",\"N\")","v":"N"},{"$f":"IF(Worksheet!$B$11=TRUE,\"Y\",\"N\")","v":"N"},{"$f":"IF(Worksheet!$B$12=TRUE,\"Y\",\"N\")","v":"N"},{"$f":"IF(Worksheet!$C$11=TRUE,\"Y\",\"N\")","v":"N"},{"$f":"IF(Worksheet!$C$12=TRUE,\"Y\",\"N\")","v":"N"},""]
[{"$f":"IF(ISERROR(VLOOKUP(Worksheet!N271,MeasureLookup,2,FALSE))=FALSE,VLOOKUP(Worksheet!N271,MeasureLookup,2,FALSE),\"\")","v":""},{"$f":"Worksheet!Q271","v":0},{"$f":"Worksheet!R271","v":0},{"$f":"IF(ISERROR(Worksheet!P271)=FALSE,Worksheet!P271,\"\")","v":0},"Watts",null,null,{"$f":"IF(Worksheet!AP271<>\"\",IF(Worksheet!AP271>0,Worksheet!AP271/IF(Worksheet!M271>0,Worksheet!M271,Worksheet!L271),\"\"),\"\")","v":""},{"$f":"IF(ISBLANK(Worksheet!L271)=FALSE,Worksheet!L271,\"\")","v":0},{"$f":"IF(Worksheet!L271<>0, IFERROR(VLOOKUP(Worksheet!$C$16,SavingsSupportTable,3,FALSE)*Worksheet!AQ271*IFERROR(1+VLOOKUP(Worksheet!$C$16,SavingsSupportTable,MATCH(Worksheet!$G$17,HVACe_Options,0)+4,FALSE),1)/IF(Worksheet!M271>0,Worksheet!M271,Worksheet!L271),\"\"),\"\")","v":""},{"$f":"IF(Worksheet!L271<>0, IFERROR(VLOOKUP(Worksheet!$C$16,SavingsSupportTable,2,FALSE)*Worksheet!AQ271*IF(IFERROR(MATCH(Worksheet!$G$17,HVACe_Options,0),0)>0,1+VLOOKUP(Worksheet!$C$16,SavingsSupportTable,4,FALSE),1)/IF(Worksheet!M271>0,Worksheet!M271,Worksheet!L271),\"\"),\"\")","v":""},"",{"$f":"IF(Worksheet!L271<>0,IFERROR(VLOOKUP(Worksheet!$C$16,SavingsSupportTable,3,FALSE)*Worksheet!AQ271*IF(IFERROR(SEARCH(\"Gas\",Worksheet!$G$17),0)>0,VLOOKUP(\"Gas\",HVACg_Lookup,MATCH(Worksheet!$G$16,BuildingSize,0)+1,FALSE),IF(IFERROR(SEARCH(\"Oil\",Worksheet!$G$17),0)>0,VLOOKUP(\"Oil\",HVACg_Lookup,MATCH(Worksheet!$G$16,BuildingSize,0)+1,FALSE),IF(IFERROR(SEARCH(\"Propane\",Worksheet!$G$17),0)>0,VLOOKUP(\"Propane\",HVACg_Lookup,MATCH(Worksheet!$G$16,BuildingSize,0)+1,FALSE),0)))/IF(Worksheet!M271>0,Worksheet!M271,Worksheet!L271),0),\"\")","v":""},"",null,null,null,{"$f":"IF(ISBLANK(Worksheet!M271)=FALSE,Worksheet!M271,\"\")","v":0},{"$f":"IF(Worksheet!A271=\"-\",\"\",IF(Worksheet!A271=\"\",S247,Worksheet!A271))","v":""},{"$f":"IF(S248=\"\",\"\",IF(AND(Worksheet!G271=\"\",Worksheet!H271=\"\")=TRUE,T247,IF(Worksheet!G271=\"\",\"\",Worksheet!G271)))","v":""},{"$f":"IF(S248=\"\",\"\",IF(AND(Worksheet!G271=\"\",Worksheet!H271=\"\")=TRUE,U247,IF(Worksheet!H271=\"\",\"\",Worksheet!H271)))","v":""},{"$f":"IF(Worksheet!N271=\"\",\"\",Worksheet!N271)","v":""},{"$f":"IF(Worksheet!O271=\"\",\"\",Worksheet!O271)","v":""},{"$f":"IF(Worksheet!F271=0,\"\",Worksheet!F271)","v":""},{"$f":"IF(Worksheet!P271=0,\"\",Worksheet!P271)","v":""},{"$f":"IF(Worksheet!$A$11=TRUE,\"Y\",\"N\")","v":"N"},{"$f":"IF(Worksheet!$A$12=TRUE,\"Y\",\"N\")","v":"N"},{"$f":"IF(Worksheet!$B$11=TRUE,\"Y\",\"N\")","v":"N"},{"$f":"IF(Worksheet!$B$12=TRUE,\"Y\",\"N\")","v":"N"},{"$f":"IF(Worksheet!$C$11=TRUE,\"Y\",\"N\")","v":"N"},{"$f":"IF(Worksheet!$C$12=TRUE,\"Y\",\"N\")","v":"N"},""]
[{"$f":"IF(ISERROR(VLOOKUP(Worksheet!N272,MeasureLookup,2,FALSE))=FALSE,VLOOKUP(Worksheet!N272,MeasureLookup,2,FALSE),\"\")","v":""},{"$f":"Worksheet!Q272","v":0},{"$f":"Worksheet!R272","v":0},{"$f":"IF(ISERROR(Worksheet!P272)=FALSE,Worksheet!P272,\"\")","v":0},"Watts",null,null,{"$f":"IF(Worksheet!AP272<>\"\",IF(Worksheet!AP272>0,Worksheet!AP272/IF(Worksheet!M272>0,Worksheet!M272,Worksheet!L272),\"\"),\"\")","v":""},{"$f":"IF(ISBLANK(Worksheet!L272)=FALSE,Worksheet!L272,\"\")","v":0},{"$f":"IF(Worksheet!L272<>0, IFERROR(VLOOKUP(Worksheet!$C$16,SavingsSupportTable,3,FALSE)*Worksheet!AQ272*IFERROR(1+VLOOKUP(Worksheet!$C$16,SavingsSupportTable,MATCH(Worksheet!$G$17,HVACe_Options,0)+4,FALSE),1)/IF(Worksheet!M272>0,Worksheet!M272,Worksheet!L272),\"\"),\"\")","v":""},{"$f":"IF(Worksheet!L272<>0, IFERROR(VLOOKUP(Worksheet!$C$16,SavingsSupportTable,2,FALSE)*Worksheet!AQ272*IF(IFERROR(MATCH(Worksheet!$G$17,HVACe_Options,0),0)>0,1+VLOOKUP(Worksheet!$C$16,SavingsSupportTable,4,FALSE),1)/IF(Worksheet!M272>0,Worksheet!M272,Worksheet!L272),\"\"),\"\")","v":""},"",{"$f":"IF(Worksheet!L272<>0,IFERROR(VLOOKUP(Worksheet!$C$16,SavingsSupportTable,3,FALSE)*Worksheet!AQ272*IF(IFERROR(SEARCH(\"Gas\",Worksheet!$G$17),0)>0,VLOOKUP(\"Gas\",HVACg_Lookup,MATCH(Worksheet!$G$16,BuildingSize,0)+1,FALSE),IF(IFERROR(SEARCH(\"Oil\",Worksheet!$G$17),0)>0,VLOOKUP(\"Oil\",HVACg_Lookup,MATCH(Worksheet!$G$16,BuildingSize,0)+1,FALSE),IF(IFERROR(SEARCH(\"Propane\",Worksheet!$G$17),0)>0,VLOOKUP(\"Propane\",HVACg_Lookup,MATCH(Worksheet!$G$16,BuildingSize,0)+1,FALSE),0)))/IF(Worksheet!M272>0,Worksheet!M272,Worksheet!L272),0),\"\")","v":""},"",null,null,null,{"$f":"IF(ISBLANK(Worksheet!M272)=FALSE,Worksheet!M272,\"\")","v":0},{"$f":"IF(Worksheet!A272=\"-\",\"\",IF(Worksheet!A272=\"\",S248,Worksheet!A272))","v":""},{"$f":"IF(S249=\"\",\"\",IF(AND(Worksheet!G272=\"\",Worksheet!H272=\"\")=TRUE,T248,IF(Worksheet!G272=\"\",\"\",Worksheet!G272)))","v":""},{"$f":"IF(S249=\"\",\"\",IF(AND(Worksheet!G272=\"\",Worksheet!H272=\"\")=TRUE,U248,IF(Worksheet!H272=\"\",\"\",Worksheet!H272)))","v":""},{"$f":"IF(Worksheet!N272=\"\",\"\",Worksheet!N272)","v":""},{"$f":"IF(Worksheet!O272=\"\",\"\",Worksheet!O272)","v":""},{"$f":"IF(Worksheet!F272=0,\"\",Worksheet!F272)","v":""},{"$f":"IF(Worksheet!P272=0,\"\",Worksheet!P272)","v":""},{"$f":"IF(Worksheet!$A$11=TRUE,\"Y\",\"N\")","v":"N"},{"$f":"IF(Worksheet!$A$12=TRUE,\"Y\",\"N\")","v":"N"},{"$f":"IF(Worksheet!$B$11=TRUE,\"Y\",\"N\")","v":"N"},{"$f":"IF(Worksheet!$B$12=TRUE,\"Y\",\"N\")","v":"N"},{"$f":"IF(Worksheet!$C$11=TRUE,\"Y\",\"N\")","v":"N"},{"$f":"IF(Worksheet!$C$12=TRUE,\"Y\",\"N\")","v":"N"},""]
[{"$f":"IF(ISERROR(VLOOKUP(Worksheet!N273,MeasureLookup,2,FALSE))=FALSE,VLOOKUP(Worksheet!N273,MeasureLookup,2,FALSE),\"\")","v":""},{"$f":"Worksheet!Q273","v":0},{"$f":"Worksheet!R273","v":0},{"$f":"IF(ISERROR(Worksheet!P273)=FALSE,Worksheet!P273,\"\")","v":0},"Watts",null,null,{"$f":"IF(Worksheet!AP273<>\"\",IF(Worksheet!AP273>0,Worksheet!AP273/IF(Worksheet!M273>0,Worksheet!M273,Worksheet!L273),\"\"),\"\")","v":""},{"$f":"IF(ISBLANK(Worksheet!L273)=FALSE,Worksheet!L273,\"\")","v":0},{"$f":"IF(Worksheet!L273<>0, IFERROR(VLOOKUP(Worksheet!$C$16,SavingsSupportTable,3,FALSE)*Worksheet!AQ273*IFERROR(1+VLOOKUP(Worksheet!$C$16,SavingsSupportTable,MATCH(Worksheet!$G$17,HVACe_Options,0)+4,FALSE),1)/IF(Worksheet!M273>0,Worksheet!M273,Worksheet!L273),\"\"),\"\")","v":""},{"$f":"IF(Worksheet!L273<>0, IFERROR(VLOOKUP(Worksheet!$C$16,SavingsSupportTable,2,FALSE)*Worksheet!AQ273*IF(IFERROR(MATCH(Worksheet!$G$17,HVACe_Options,0),0)>0,1+VLOOKUP(Worksheet!$C$16,SavingsSupportTable,4,FALSE),1)/IF(Worksheet!M273>0,Worksheet!M273,Worksheet!L273),\"\"),\"\")","v":""},"",{"$f":"IF(Worksheet!L273<>0,IFERROR(VLOOKUP(Worksheet!$C$16,SavingsSupportTable,3,FALSE)*Worksheet!AQ273*IF(IFERROR(SEARCH(\"Gas\",Worksheet!$G$17),0)>0,VLOOKUP(\"Gas\",HVACg_Lookup,MATCH(Worksheet!$G$16,BuildingSize,0)+1,FALSE),IF(IFERROR(SEARCH(\"Oil\",Worksheet!$G$17),0)>0,VLOOKUP(\"Oil\",HVACg_Lookup,MATCH(Worksheet!$G$16,BuildingSize,0)+1,FALSE),IF(IFERROR(SEARCH(\"Propane\",Worksheet!$G$17),0)>0,VLOOKUP(\"Propane\",HVACg_Lookup,MATCH(Worksheet!$G$16,BuildingSize,0)+1,FALSE),0)))/IF(Worksheet!M273>0,Worksheet!M273,Worksheet!L273),0),\"\")","v":""},"",null,null,null,{"$f":"IF(ISBLANK(Worksheet!M273)=FALSE,Worksheet!M273,\"\")","v":0},{"$f":"IF(Worksheet!A273=\"-\",\"\",IF(Worksheet!A273=\"\",S249,Worksheet!A273))","v":""},{"$f":"IF(S250=\"\",\"\",IF(AND(Worksheet!G273=\"\",Worksheet!H273=\"\")=TRUE,T249,IF(Worksheet!G273=\"\",\"\",Worksheet!G273)))","v":""},{"$f":"IF(S250=\"\",\"\",IF(AND(Worksheet!G273=\"\",Worksheet!H273=\"\")=TRUE,U249,IF(Worksheet!H273=\"\",\"\",Worksheet!H273)))","v":""},{"$f":"IF(Worksheet!N273=\"\",\"\",Worksheet!N273)","v":""},{"$f":"IF(Worksheet!O273=\"\",\"\",Worksheet!O273)","v":""},{"$f":"IF(Worksheet!F273=0,\"\",Worksheet!F273)","v":""},{"$f":"IF(Worksheet!P273=0,\"\",Worksheet!P273)","v":""},{"$f":"IF(Worksheet!$A$11=TRUE,\"Y\",\"N\")","v":"N"},{"$f":"IF(Worksheet!$A$12=TRUE,\"Y\",\"N\")","v":"N"},{"$f":"IF(Worksheet!$B$11=TRUE,\"Y\",\"N\")","v":"N"},{"$f":"IF(Worksheet!$B$12=TRUE,\"Y\",\"N\")","v":"N"},{"$f":"IF(Worksheet!$C$11=TRUE,\"Y\",\"N\")","v":"N"},{"$f":"IF(Worksheet!$C$12=TRUE,\"Y\",\"N\")","v":"N"},""]
[{"$f":"IF(ISERROR(VLOOKUP(Worksheet!N274,MeasureLookup,2,FALSE))=FALSE,VLOOKUP(Worksheet!N274,MeasureLookup,2,FALSE),\"\")","v":""},{"$f":"Worksheet!Q274","v":0},{"$f":"Worksheet!R274","v":0},{"$f":"IF(ISERROR(Worksheet!P274)=FALSE,Worksheet!P274,\"\")","v":0},"Watts",null,null,{"$f":"IF(Worksheet!AP274<>\"\",IF(Worksheet!AP274>0,Worksheet!AP274/IF(Worksheet!M274>0,Worksheet!M274,Worksheet!L274),\"\"),\"\")","v":""},{"$f":"IF(ISBLANK(Worksheet!L274)=FALSE,Worksheet!L274,\"\")","v":0},{"$f":"IF(Worksheet!L274<>0, IFERROR(VLOOKUP(Worksheet!$C$16,SavingsSupportTable,3,FALSE)*Worksheet!AQ274*IFERROR(1+VLOOKUP(Worksheet!$C$16,SavingsSupportTable,MATCH(Worksheet!$G$17,HVACe_Options,0)+4,FALSE),1)/IF(Worksheet!M274>0,Worksheet!M274,Worksheet!L274),\"\"),\"\")","v":""},{"$f":"IF(Worksheet!L274<>0, IFERROR(VLOOKUP(Worksheet!$C$16,SavingsSupportTable,2,FALSE)*Worksheet!AQ274*IF(IFERROR(MATCH(Worksheet!$G$17,HVACe_Options,0),0)>0,1+VLOOKUP(Worksheet!$C$16,SavingsSupportTable,4,FALSE),1)/IF(Worksheet!M274>0,Worksheet!M274,Worksheet!L274),\"\"),\"\")","v":""},"",{"$f":"IF(Worksheet!L274<>0,IFERROR(VLOOKUP(Worksheet!$C$16,SavingsSupportTable,3,FALSE)*Worksheet!AQ274*IF(IFERROR(SEARCH(\"Gas\",Worksheet!$G$17),0)>0,VLOOKUP(\"Gas\",HVACg_Lookup,MATCH(Worksheet!$G$16,BuildingSize,0)+1,FALSE),IF(IFERROR(SEARCH(\"Oil\",Worksheet!$G$17),0)>0,VLOOKUP(\"Oil\",HVACg_Lookup,MATCH(Worksheet!$G$16,BuildingSize,0)+1,FALSE),IF(IFERROR(SEARCH(\"Propane\",Worksheet!$G$17),0)>0,VLOOKUP(\"Propane\",HVACg_Lookup,MATCH(Worksheet!$G$16,BuildingSize,0)+1,FALSE),0)))/IF(Worksheet!M274>0,Worksheet!M274,Worksheet!L274),0),\"\")","v":""},"",null,null,null,{"$f":"IF(ISBLANK(Worksheet!M274)=FALSE,Worksheet!M274,\"\")","v":0},{"$f":"IF(Worksheet!A274=\"-\",\"\",IF(Worksheet!A274=\"\",S250,Worksheet!A274))","v":""},{"$f":"IF(S251=\"\",\"\",IF(AND(Worksheet!G274=\"\",Worksheet!H274=\"\")=TRUE,T250,IF(Worksheet!G274=\"\",\"\",Worksheet!G274)))","v":""},{"$f":"IF(S251=\"\",\"\",IF(AND(Worksheet!G274=\"\",Worksheet!H274=\"\")=TRUE,U250,IF(Worksheet!H274=\"\",\"\",Worksheet!H274)))","v":""},{"$f":"IF(Worksheet!N274=\"\",\"\",Worksheet!N274)","v":""},{"$f":"IF(Worksheet!O274=\"\",\"\",Worksheet!O274)","v":""},{"$f":"IF(Worksheet!F274=0,\"\",Worksheet!F274)","v":""},{"$f":"IF(Worksheet!P274=0,\"\",Worksheet!P274)","v":""},{"$f":"IF(Worksheet!$A$11=TRUE,\"Y\",\"N\")","v":"N"},{"$f":"IF(Worksheet!$A$12=TRUE,\"Y\",\"N\")","v":"N"},{"$f":"IF(Worksheet!$B$11=TRUE,\"Y\",\"N\")","v":"N"},{"$f":"IF(Worksheet!$B$12=TRUE,\"Y\",\"N\")","v":"N"},{"$f":"IF(Worksheet!$C$11=TRUE,\"Y\",\"N\")","v":"N"},{"$f":"IF(Worksheet!$C$12=TRUE,\"Y\",\"N\")","v":"N"},""]
[{"$f":"IF(ISERROR(VLOOKUP(Worksheet!N275,MeasureLookup,2,FALSE))=FALSE,VLOOKUP(Worksheet!N275,MeasureLookup,2,FALSE),\"\")","v":""},{"$f":"Worksheet!Q275","v":0},{"$f":"Worksheet!R275","v":0},{"$f":"IF(ISERROR(Worksheet!P275)=FALSE,Worksheet!P275,\"\")","v":0},"Watts",null,null,{"$f":"IF(Worksheet!AP275<>\"\",IF(Worksheet!AP275>0,Worksheet!AP275/IF(Worksheet!M275>0,Worksheet!M275,Worksheet!L275),\"\"),\"\")","v":""},{"$f":"IF(ISBLANK(Worksheet!L275)=FALSE,Worksheet!L275,\"\")","v":0},{"$f":"IF(Worksheet!L275<>0, IFERROR(VLOOKUP(Worksheet!$C$16,SavingsSupportTable,3,FALSE)*Worksheet!AQ275*IFERROR(1+VLOOKUP(Worksheet!$C$16,SavingsSupportTable,MATCH(Worksheet!$G$17,HVACe_Options,0)+4,FALSE),1)/IF(Worksheet!M275>0,Worksheet!M275,Worksheet!L275),\"\"),\"\")","v":""},{"$f":"IF(Worksheet!L275<>0, IFERROR(VLOOKUP(Worksheet!$C$16,SavingsSupportTable,2,FALSE)*Worksheet!AQ275*IF(IFERROR(MATCH(Worksheet!$G$17,HVACe_Options,0),0)>0,1+VLOOKUP(Worksheet!$C$16,SavingsSupportTable,4,FALSE),1)/IF(Worksheet!M275>0,Worksheet!M275,Worksheet!L275),\"\"),\"\")","v":""},"",{"$f":"IF(Worksheet!L275<>0,IFERROR(VLOOKUP(Worksheet!$C$16,SavingsSupportTable,3,FALSE)*Worksheet!AQ275*IF(IFERROR(SEARCH(\"Gas\",Worksheet!$G$17),0)>0,VLOOKUP(\"Gas\",HVACg_Lookup,MATCH(Worksheet!$G$16,BuildingSize,0)+1,FALSE),IF(IFERROR(SEARCH(\"Oil\",Worksheet!$G$17),0)>0,VLOOKUP(\"Oil\",HVACg_Lookup,MATCH(Worksheet!$G$16,BuildingSize,0)+1,FALSE),IF(IFERROR(SEARCH(\"Propane\",Worksheet!$G$17),0)>0,VLOOKUP(\"Propane\",HVACg_Lookup,MATCH(Worksheet!$G$16,BuildingSize,0)+1,FALSE),0)))/IF(Worksheet!M275>0,Worksheet!M275,Worksheet!L275),0),\"\")","v":""},"",null,null,null,{"$f":"IF(ISBLANK(Worksheet!M275)=FALSE,Worksheet!M275,\"\")","v":0},{"$f":"IF(Worksheet!A275=\"-\",\"\",IF(Worksheet!A275=\"\",S251,Worksheet!A275))","v":""},{"$f":"IF(S252=\"\",\"\",IF(AND(Worksheet!G275=\"\",Worksheet!H275=\"\")=TRUE,T251,IF(Worksheet!G275=\"\",\"\",Worksheet!G275)))","v":""},{"$f":"IF(S252=\"\",\"\",IF(AND(Worksheet!G275=\"\",Worksheet!H275=\"\")=TRUE,U251,IF(Worksheet!H275=\"\",\"\",Worksheet!H275)))","v":""},{"$f":"IF(Worksheet!N275=\"\",\"\",Worksheet!N275)","v":""},{"$f":"IF(Worksheet!O275=\"\",\"\",Worksheet!O275)","v":""},{"$f":"IF(Worksheet!F275=0,\"\",Worksheet!F275)","v":""},{"$f":"IF(Worksheet!P275=0,\"\",Worksheet!P275)","v":""},{"$f":"IF(Worksheet!$A$11=TRUE,\"Y\",\"N\")","v":"N"},{"$f":"IF(Worksheet!$A$12=TRUE,\"Y\",\"N\")","v":"N"},{"$f":"IF(Worksheet!$B$11=TRUE,\"Y\",\"N\")","v":"N"},{"$f":"IF(Worksheet!$B$12=TRUE,\"Y\",\"N\")","v":"N"},{"$f":"IF(Worksheet!$C$11=TRUE,\"Y\",\"N\")","v":"N"},{"$f":"IF(Worksheet!$C$12=TRUE,\"Y\",\"N\")","v":"N"},""]
[{"$f":"IF(ISERROR(VLOOKUP(Worksheet!N276,MeasureLookup,2,FALSE))=FALSE,VLOOKUP(Worksheet!N276,MeasureLookup,2,FALSE),\"\")","v":""},{"$f":"Worksheet!Q276","v":0},{"$f":"Worksheet!R276","v":0},{"$f":"IF(ISERROR(Worksheet!P276)=FALSE,Worksheet!P276,\"\")","v":0},"Watts",null,null,{"$f":"IF(Worksheet!AP276<>\"\",IF(Worksheet!AP276>0,Worksheet!AP276/IF(Worksheet!M276>0,Worksheet!M276,Worksheet!L276),\"\"),\"\")","v":""},{"$f":"IF(ISBLANK(Worksheet!L276)=FALSE,Worksheet!L276,\"\")","v":0},{"$f":"IF(Worksheet!L276<>0, IFERROR(VLOOKUP(Worksheet!$C$16,SavingsSupportTable,3,FALSE)*Worksheet!AQ276*IFERROR(1+VLOOKUP(Worksheet!$C$16,SavingsSupportTable,MATCH(Worksheet!$G$17,HVACe_Options,0)+4,FALSE),1)/IF(Worksheet!M276>0,Worksheet!M276,Worksheet!L276),\"\"),\"\")","v":""},{"$f":"IF(Worksheet!L276<>0, IFERROR(VLOOKUP(Worksheet!$C$16,SavingsSupportTable,2,FALSE)*Worksheet!AQ276*IF(IFERROR(MATCH(Worksheet!$G$17,HVACe_Options,0),0)>0,1+VLOOKUP(Worksheet!$C$16,SavingsSupportTable,4,FALSE),1)/IF(Worksheet!M276>0,Worksheet!M276,Worksheet!L276),\"\"),\"\")","v":""},"",{"$f":"IF(Worksheet!L276<>0,IFERROR(VLOOKUP(Worksheet!$C$16,SavingsSupportTable,3,FALSE)*Worksheet!AQ276*IF(IFERROR(SEARCH(\"Gas\",Worksheet!$G$17),0)>0,VLOOKUP(\"Gas\",HVACg_Lookup,MATCH(Worksheet!$G$16,BuildingSize,0)+1,FALSE),IF(IFERROR(SEARCH(\"Oil\",Worksheet!$G$17),0)>0,VLOOKUP(\"Oil\",HVACg_Lookup,MATCH(Worksheet!$G$16,BuildingSize,0)+1,FALSE),IF(IFERROR(SEARCH(\"Propane\",Worksheet!$G$17),0)>0,VLOOKUP(\"Propane\",HVACg_Lookup,MATCH(Worksheet!$G$16,BuildingSize,0)+1,FALSE),0)))/IF(Worksheet!M276>0,Worksheet!M276,Worksheet!L276),0),\"\")","v":""},"",null,null,null,{"$f":"IF(ISBLANK(Worksheet!M276)=FALSE,Worksheet!M276,\"\")","v":0},{"$f":"IF(Worksheet!A276=\"-\",\"\",IF(Worksheet!A276=\"\",S252,Worksheet!A276))","v":""},{"$f":"IF(S253=\"\",\"\",IF(AND(Worksheet!G276=\"\",Worksheet!H276=\"\")=TRUE,T252,IF(Worksheet!G276=\"\",\"\",Worksheet!G276)))","v":""},{"$f":"IF(S253=\"\",\"\",IF(AND(Worksheet!G276=\"\",Worksheet!H276=\"\")=TRUE,U252,IF(Worksheet!H276=\"\",\"\",Worksheet!H276)))","v":""},{"$f":"IF(Worksheet!N276=\"\",\"\",Worksheet!N276)","v":""},{"$f":"IF(Worksheet!O276=\"\",\"\",Worksheet!O276)","v":""},{"$f":"IF(Worksheet!F276=0,\"\",Worksheet!F276)","v":""},{"$f":"IF(Worksheet!P276=0,\"\",Worksheet!P276)","v":""},{"$f":"IF(Worksheet!$A$11=TRUE,\"Y\",\"N\")","v":"N"},{"$f":"IF(Worksheet!$A$12=TRUE,\"Y\",\"N\")","v":"N"},{"$f":"IF(Worksheet!$B$11=TRUE,\"Y\",\"N\")","v":"N"},{"$f":"IF(Worksheet!$B$12=TRUE,\"Y\",\"N\")","v":"N"},{"$f":"IF(Worksheet!$C$11=TRUE,\"Y\",\"N\")","v":"N"},{"$f":"IF(Worksheet!$C$12=TRUE,\"Y\",\"N\")","v":"N"},""]
[{"$f":"IF(ISERROR(VLOOKUP(Worksheet!N277,MeasureLookup,2,FALSE))=FALSE,VLOOKUP(Worksheet!N277,MeasureLookup,2,FALSE),\"\")","v":""},{"$f":"Worksheet!Q277","v":0},{"$f":"Worksheet!R277","v":0},{"$f":"IF(ISERROR(Worksheet!P277)=FALSE,Worksheet!P277,\"\")","v":0},"Watts",null,null,{"$f":"IF(Worksheet!AP277<>\"\",IF(Worksheet!AP277>0,Worksheet!AP277/IF(Worksheet!M277>0,Worksheet!M277,Worksheet!L277),\"\"),\"\")","v":""},{"$f":"IF(ISBLANK(Worksheet!L277)=FALSE,Worksheet!L277,\"\")","v":0},{"$f":"IF(Worksheet!L277<>0, IFERROR(VLOOKUP(Worksheet!$C$16,SavingsSupportTable,3,FALSE)*Worksheet!AQ277*IFERROR(1+VLOOKUP(Worksheet!$C$16,SavingsSupportTable,MATCH(Worksheet!$G$17,HVACe_Options,0)+4,FALSE),1)/IF(Worksheet!M277>0,Worksheet!M277,Worksheet!L277),\"\"),\"\")","v":""},{"$f":"IF(Worksheet!L277<>0, IFERROR(VLOOKUP(Worksheet!$C$16,SavingsSupportTable,2,FALSE)*Worksheet!AQ277*IF(IFERROR(MATCH(Worksheet!$G$17,HVACe_Options,0),0)>0,1+VLOOKUP(Worksheet!$C$16,SavingsSupportTable,4,FALSE),1)/IF(Worksheet!M277>0,Worksheet!M277,Worksheet!L277),\"\"),\"\")","v":""},"",{"$f":"IF(Worksheet!L277<>0,IFERROR(VLOOKUP(Worksheet!$C$16,SavingsSupportTable,3,FALSE)*Worksheet!AQ277*IF(IFERROR(SEARCH(\"Gas\",Worksheet!$G$17),0)>0,VLOOKUP(\"Gas\",HVACg_Lookup,MATCH(Worksheet!$G$16,BuildingSize,0)+1,FALSE),IF(IFERROR(SEARCH(\"Oil\",Worksheet!$G$17),0)>0,VLOOKUP(\"Oil\",HVACg_Lookup,MATCH(Worksheet!$G$16,BuildingSize,0)+1,FALSE),IF(IFERROR(SEARCH(\"Propane\",Worksheet!$G$17),0)>0,VLOOKUP(\"Propane\",HVACg_Lookup,MATCH(Worksheet!$G$16,BuildingSize,0)+1,FALSE),0)))/IF(Worksheet!M277>0,Worksheet!M277,Worksheet!L277),0),\"\")","v":""},"",null,null,null,{"$f":"IF(ISBLANK(Worksheet!M277)=FALSE,Worksheet!M277,\"\")","v":0},{"$f":"IF(Worksheet!A277=\"-\",\"\",IF(Worksheet!A277=\"\",S253,Worksheet!A277))","v":""},{"$f":"IF(S254=\"\",\"\",IF(AND(Worksheet!G277=\"\",Worksheet!H277=\"\")=TRUE,T253,IF(Worksheet!G277=\"\",\"\",Worksheet!G277)))","v":""},{"$f":"IF(S254=\"\",\"\",IF(AND(Worksheet!G277=\"\",Worksheet!H277=\"\")=TRUE,U253,IF(Worksheet!H277=\"\",\"\",Worksheet!H277)))","v":""},{"$f":"IF(Worksheet!N277=\"\",\"\",Worksheet!N277)","v":""},{"$f":"IF(Worksheet!O277=\"\",\"\",Worksheet!O277)","v":""},{"$f":"IF(Worksheet!F277=0,\"\",Worksheet!F277)","v":""},{"$f":"IF(Worksheet!P277=0,\"\",Worksheet!P277)","v":""},{"$f":"IF(Worksheet!$A$11=TRUE,\"Y\",\"N\")","v":"N"},{"$f":"IF(Worksheet!$A$12=TRUE,\"Y\",\"N\")","v":"N"},{"$f":"IF(Worksheet!$B$11=TRUE,\"Y\",\"N\")","v":"N"},{"$f":"IF(Worksheet!$B$12=TRUE,\"Y\",\"N\")","v":"N"},{"$f":"IF(Worksheet!$C$11=TRUE,\"Y\",\"N\")","v":"N"},{"$f":"IF(Worksheet!$C$12=TRUE,\"Y\",\"N\")","v":"N"},""]
[{"$f":"IF(ISERROR(VLOOKUP(Worksheet!N278,MeasureLookup,2,FALSE))=FALSE,VLOOKUP(Worksheet!N278,MeasureLookup,2,FALSE),\"\")","v":""},{"$f":"Worksheet!Q278","v":0},{"$f":"Worksheet!R278","v":0},{"$f":"IF(ISERROR(Worksheet!P278)=FALSE,Worksheet!P278,\"\")","v":0},"Watts",null,null,{"$f":"IF(Worksheet!AP278<>\"\",IF(Worksheet!AP278>0,Worksheet!AP278/IF(Worksheet!M278>0,Worksheet!M278,Worksheet!L278),\"\"),\"\")","v":""},{"$f":"IF(ISBLANK(Worksheet!L278)=FALSE,Worksheet!L278,\"\")","v":0},{"$f":"IF(Worksheet!L278<>0, IFERROR(VLOOKUP(Worksheet!$C$16,SavingsSupportTable,3,FALSE)*Worksheet!AQ278*IFERROR(1+VLOOKUP(Worksheet!$C$16,SavingsSupportTable,MATCH(Worksheet!$G$17,HVACe_Options,0)+4,FALSE),1)/IF(Worksheet!M278>0,Worksheet!M278,Worksheet!L278),\"\"),\"\")","v":""},{"$f":"IF(Worksheet!L278<>0, IFERROR(VLOOKUP(Worksheet!$C$16,SavingsSupportTable,2,FALSE)*Worksheet!AQ278*IF(IFERROR(MATCH(Worksheet!$G$17,HVACe_Options,0),0)>0,1+VLOOKUP(Worksheet!$C$16,SavingsSupportTable,4,FALSE),1)/IF(Worksheet!M278>0,Worksheet!M278,Worksheet!L278),\"\"),\"\")","v":""},"",{"$f":"IF(Worksheet!L278<>0,IFERROR(VLOOKUP(Worksheet!$C$16,SavingsSupportTable,3,FALSE)*Worksheet!AQ278*IF(IFERROR(SEARCH(\"Gas\",Worksheet!$G$17),0)>0,VLOOKUP(\"Gas\",HVACg_Lookup,MATCH(Worksheet!$G$16,BuildingSize,0)+1,FALSE),IF(IFERROR(SEARCH(\"Oil\",Worksheet!$G$17),0)>0,VLOOKUP(\"Oil\",HVACg_Lookup,MATCH(Worksheet!$G$16,BuildingSize,0)+1,FALSE),IF(IFERROR(SEARCH(\"Propane\",Worksheet!$G$17),0)>0,VLOOKUP(\"Propane\",HVACg_Lookup,MATCH(Worksheet!$G$16,BuildingSize,0)+1,FALSE),0)))/IF(Worksheet!M278>0,Worksheet!M278,Worksheet!L278),0),\"\")","v":""},"",null,null,null,{"$f":"IF(ISBLANK(Worksheet!M278)=FALSE,Worksheet!M278,\"\")","v":0},{"$f":"IF(Worksheet!A278=\"-\",\"\",IF(Worksheet!A278=\"\",S254,Worksheet!A278))","v":""},{"$f":"IF(S255=\"\",\"\",IF(AND(Worksheet!G278=\"\",Worksheet!H278=\"\")=TRUE,T254,IF(Worksheet!G278=\"\",\"\",Worksheet!G278)))","v":""},{"$f":"IF(S255=\"\",\"\",IF(AND(Worksheet!G278=\"\",Worksheet!H278=\"\")=TRUE,U254,IF(Worksheet!H278=\"\",\"\",Worksheet!H278)))","v":""},{"$f":"IF(Worksheet!N278=\"\",\"\",Worksheet!N278)","v":""},{"$f":"IF(Worksheet!O278=\"\",\"\",Worksheet!O278)","v":""},{"$f":"IF(Worksheet!F278=0,\"\",Worksheet!F278)","v":""},{"$f":"IF(Worksheet!P278=0,\"\",Worksheet!P278)","v":""},{"$f":"IF(Worksheet!$A$11=TRUE,\"Y\",\"N\")","v":"N"},{"$f":"IF(Worksheet!$A$12=TRUE,\"Y\",\"N\")","v":"N"},{"$f":"IF(Worksheet!$B$11=TRUE,\"Y\",\"N\")","v":"N"},{"$f":"IF(Worksheet!$B$12=TRUE,\"Y\",\"N\")","v":"N"},{"$f":"IF(Worksheet!$C$11=TRUE,\"Y\",\"N\")","v":"N"},{"$f":"IF(Worksheet!$C$12=TRUE,\"Y\",\"N\")","v":"N"},""]
[{"$f":"IF(ISERROR(VLOOKUP(Worksheet!N279,MeasureLookup,2,FALSE))=FALSE,VLOOKUP(Worksheet!N279,MeasureLookup,2,FALSE),\"\")","v":""},{"$f":"Worksheet!Q279","v":0},{"$f":"Worksheet!R279","v":0},{"$f":"IF(ISERROR(Worksheet!P279)=FALSE,Worksheet!P279,\"\")","v":0},"Watts",null,null,{"$f":"IF(Worksheet!AP279<>\"\",IF(Worksheet!AP279>0,Worksheet!AP279/IF(Worksheet!M279>0,Worksheet!M279,Worksheet!L279),\"\"),\"\")","v":""},{"$f":"IF(ISBLANK(Worksheet!L279)=FALSE,Worksheet!L279,\"\")","v":0},{"$f":"IF(Worksheet!L279<>0, IFERROR(VLOOKUP(Worksheet!$C$16,SavingsSupportTable,3,FALSE)*Worksheet!AQ279*IFERROR(1+VLOOKUP(Worksheet!$C$16,SavingsSupportTable,MATCH(Worksheet!$G$17,HVACe_Options,0)+4,FALSE),1)/IF(Worksheet!M279>0,Worksheet!M279,Worksheet!L279),\"\"),\"\")","v":""},{"$f":"IF(Worksheet!L279<>0, IFERROR(VLOOKUP(Worksheet!$C$16,SavingsSupportTable,2,FALSE)*Worksheet!AQ279*IF(IFERROR(MATCH(Worksheet!$G$17,HVACe_Options,0),0)>0,1+VLOOKUP(Worksheet!$C$16,SavingsSupportTable,4,FALSE),1)/IF(Worksheet!M279>0,Worksheet!M279,Worksheet!L279),\"\"),\"\")","v":""},"",{"$f":"IF(Worksheet!L279<>0,IFERROR(VLOOKUP(Worksheet!$C$16,SavingsSupportTable,3,FALSE)*Worksheet!AQ279*IF(IFERROR(SEARCH(\"Gas\",Worksheet!$G$17),0)>0,VLOOKUP(\"Gas\",HVACg_Lookup,MATCH(Worksheet!$G$16,BuildingSize,0)+1,FALSE),IF(IFERROR(SEARCH(\"Oil\",Worksheet!$G$17),0)>0,VLOOKUP(\"Oil\",HVACg_Lookup,MATCH(Worksheet!$G$16,BuildingSize,0)+1,FALSE),IF(IFERROR(SEARCH(\"Propane\",Worksheet!$G$17),0)>0,VLOOKUP(\"Propane\",HVACg_Lookup,MATCH(Worksheet!$G$16,BuildingSize,0)+1,FALSE),0)))/IF(Worksheet!M279>0,Worksheet!M279,Worksheet!L279),0),\"\")","v":""},"",null,null,null,{"$f":"IF(ISBLANK(Worksheet!M279)=FALSE,Worksheet!M279,\"\")","v":0},{"$f":"IF(Worksheet!A279=\"-\",\"\",IF(Worksheet!A279=\"\",S255,Worksheet!A279))","v":""},{"$f":"IF(S256=\"\",\"\",IF(AND(Worksheet!G279=\"\",Worksheet!H279=\"\")=TRUE,T255,IF(Worksheet!G279=\"\",\"\",Worksheet!G279)))","v":""},{"$f":"IF(S256=\"\",\"\",IF(AND(Worksheet!G279=\"\",Worksheet!H279=\"\")=TRUE,U255,IF(Worksheet!H279=\"\",\"\",Worksheet!H279)))","v":""},{"$f":"IF(Worksheet!N279=\"\",\"\",Worksheet!N279)","v":""},{"$f":"IF(Worksheet!O279=\"\",\"\",Worksheet!O279)","v":""},{"$f":"IF(Worksheet!F279=0,\"\",Worksheet!F279)","v":""},{"$f":"IF(Worksheet!P279=0,\"\",Worksheet!P279)","v":""},{"$f":"IF(Worksheet!$A$11=TRUE,\"Y\",\"N\")","v":"N"},{"$f":"IF(Worksheet!$A$12=TRUE,\"Y\",\"N\")","v":"N"},{"$f":"IF(Worksheet!$B$11=TRUE,\"Y\",\"N\")","v":"N"},{"$f":"IF(Worksheet!$B$12=TRUE,\"Y\",\"N\")","v":"N"},{"$f":"IF(Worksheet!$C$11=TRUE,\"Y\",\"N\")","v":"N"},{"$f":"IF(Worksheet!$C$12=TRUE,\"Y\",\"N\")","v":"N"},""]
[{"$f":"IF(ISERROR(VLOOKUP(Worksheet!N280,MeasureLookup,2,FALSE))=FALSE,VLOOKUP(Worksheet!N280,MeasureLookup,2,FALSE),\"\")","v":""},{"$f":"Worksheet!Q280","v":0},{"$f":"Worksheet!R280","v":0},{"$f":"IF(ISERROR(Worksheet!P280)=FALSE,Worksheet!P280,\"\")","v":0},"Watts",null,null,{"$f":"IF(Worksheet!AP280<>\"\",IF(Worksheet!AP280>0,Worksheet!AP280/IF(Worksheet!M280>0,Worksheet!M280,Worksheet!L280),\"\"),\"\")","v":""},{"$f":"IF(ISBLANK(Worksheet!L280)=FALSE,Worksheet!L280,\"\")","v":0},{"$f":"IF(Worksheet!L280<>0, IFERROR(VLOOKUP(Worksheet!$C$16,SavingsSupportTable,3,FALSE)*Worksheet!AQ280*IFERROR(1+VLOOKUP(Worksheet!$C$16,SavingsSupportTable,MATCH(Worksheet!$G$17,HVACe_Options,0)+4,FALSE),1)/IF(Worksheet!M280>0,Worksheet!M280,Worksheet!L280),\"\"),\"\")","v":""},{"$f":"IF(Worksheet!L280<>0, IFERROR(VLOOKUP(Worksheet!$C$16,SavingsSupportTable,2,FALSE)*Worksheet!AQ280*IF(IFERROR(MATCH(Worksheet!$G$17,HVACe_Options,0),0)>0,1+VLOOKUP(Worksheet!$C$16,SavingsSupportTable,4,FALSE),1)/IF(Worksheet!M280>0,Worksheet!M280,Worksheet!L280),\"\"),\"\")","v":""},"",{"$f":"IF(Worksheet!L280<>0,IFERROR(VLOOKUP(Worksheet!$C$16,SavingsSupportTable,3,FALSE)*Worksheet!AQ280*IF(IFERROR(SEARCH(\"Gas\",Worksheet!$G$17),0)>0,VLOOKUP(\"Gas\",HVACg_Lookup,MATCH(Worksheet!$G$16,BuildingSize,0)+1,FALSE),IF(IFERROR(SEARCH(\"Oil\",Worksheet!$G$17),0)>0,VLOOKUP(\"Oil\",HVACg_Lookup,MATCH(Worksheet!$G$16,BuildingSize,0)+1,FALSE),IF(IFERROR(SEARCH(\"Propane\",Worksheet!$G$17),0)>0,VLOOKUP(\"Propane\",HVACg_Lookup,MATCH(Worksheet!$G$16,BuildingSize,0)+1,FALSE),0)))/IF(Worksheet!M280>0,Worksheet!M280,Worksheet!L280),0),\"\")","v":""},"",null,null,null,{"$f":"IF(ISBLANK(Worksheet!M280)=FALSE,Worksheet!M280,\"\")","v":0},{"$f":"IF(Worksheet!A280=\"-\",\"\",IF(Worksheet!A280=\"\",S256,Worksheet!A280))","v":""},{"$f":"IF(S257=\"\",\"\",IF(AND(Worksheet!G280=\"\",Worksheet!H280=\"\")=TRUE,T256,IF(Worksheet!G280=\"\",\"\",Worksheet!G280)))","v":""},{"$f":"IF(S257=\"\",\"\",IF(AND(Worksheet!G280=\"\",Worksheet!H280=\"\")=TRUE,U256,IF(Worksheet!H280=\"\",\"\",Worksheet!H280)))","v":""},{"$f":"IF(Worksheet!N280=\"\",\"\",Worksheet!N280)","v":""},{"$f":"IF(Worksheet!O280=\"\",\"\",Worksheet!O280)","v":""},{"$f":"IF(Worksheet!F280=0,\"\",Worksheet!F280)","v":""},{"$f":"IF(Worksheet!P280=0,\"\",Worksheet!P280)","v":""},{"$f":"IF(Worksheet!$A$11=TRUE,\"Y\",\"N\")","v":"N"},{"$f":"IF(Worksheet!$A$12=TRUE,\"Y\",\"N\")","v":"N"},{"$f":"IF(Worksheet!$B$11=TRUE,\"Y\",\"N\")","v":"N"},{"$f":"IF(Worksheet!$B$12=TRUE,\"Y\",\"N\")","v":"N"},{"$f":"IF(Worksheet!$C$11=TRUE,\"Y\",\"N\")","v":"N"},{"$f":"IF(Worksheet!$C$12=TRUE,\"Y\",\"N\")","v":"N"},""]
[{"$f":"IF(ISERROR(VLOOKUP(Worksheet!N281,MeasureLookup,2,FALSE))=FALSE,VLOOKUP(Worksheet!N281,MeasureLookup,2,FALSE),\"\")","v":""},{"$f":"Worksheet!Q281","v":0},{"$f":"Worksheet!R281","v":0},{"$f":"IF(ISERROR(Worksheet!P281)=FALSE,Worksheet!P281,\"\")","v":0},"Watts",null,null,{"$f":"IF(Worksheet!AP281<>\"\",IF(Worksheet!AP281>0,Worksheet!AP281/IF(Worksheet!M281>0,Worksheet!M281,Worksheet!L281),\"\"),\"\")","v":""},{"$f":"IF(ISBLANK(Worksheet!L281)=FALSE,Worksheet!L281,\"\")","v":0},{"$f":"IF(Worksheet!L281<>0, IFERROR(VLOOKUP(Worksheet!$C$16,SavingsSupportTable,3,FALSE)*Worksheet!AQ281*IFERROR(1+VLOOKUP(Worksheet!$C$16,SavingsSupportTable,MATCH(Worksheet!$G$17,HVACe_Options,0)+4,FALSE),1)/IF(Worksheet!M281>0,Worksheet!M281,Worksheet!L281),\"\"),\"\")","v":""},{"$f":"IF(Worksheet!L281<>0, IFERROR(VLOOKUP(Worksheet!$C$16,SavingsSupportTable,2,FALSE)*Worksheet!AQ281*IF(IFERROR(MATCH(Worksheet!$G$17,HVACe_Options,0),0)>0,1+VLOOKUP(Worksheet!$C$16,SavingsSupportTable,4,FALSE),1)/IF(Worksheet!M281>0,Worksheet!M281,Worksheet!L281),\"\"),\"\")","v":""},"",{"$f":"IF(Worksheet!L281<>0,IFERROR(VLOOKUP(Worksheet!$C$16,SavingsSupportTable,3,FALSE)*Worksheet!AQ281*IF(IFERROR(SEARCH(\"Gas\",Worksheet!$G$17),0)>0,VLOOKUP(\"Gas\",HVACg_Lookup,MATCH(Worksheet!$G$16,BuildingSize,0)+1,FALSE),IF(IFERROR(SEARCH(\"Oil\",Worksheet!$G$17),0)>0,VLOOKUP(\"Oil\",HVACg_Lookup,MATCH(Worksheet!$G$16,BuildingSize,0)+1,FALSE),IF(IFERROR(SEARCH(\"Propane\",Worksheet!$G$17),0)>0,VLOOKUP(\"Propane\",HVACg_Lookup,MATCH(Worksheet!$G$16,BuildingSize,0)+1,FALSE),0)))/IF(Worksheet!M281>0,Worksheet!M281,Worksheet!L281),0),\"\")","v":""},"",null,null,null,{"$f":"IF(ISBLANK(Worksheet!M281)=FALSE,Worksheet!M281,\"\")","v":0},{"$f":"IF(Worksheet!A281=\"-\",\"\",IF(Worksheet!A281=\"\",S257,Worksheet!A281))","v":""},{"$f":"IF(S258=\"\",\"\",IF(AND(Worksheet!G281=\"\",Worksheet!H281=\"\")=TRUE,T257,IF(Worksheet!G281=\"\",\"\",Worksheet!G281)))","v":""},{"$f":"IF(S258=\"\",\"\",IF(AND(Worksheet!G281=\"\",Worksheet!H281=\"\")=TRUE,U257,IF(Worksheet!H281=\"\",\"\",Worksheet!H281)))","v":""},{"$f":"IF(Worksheet!N281=\"\",\"\",Worksheet!N281)","v":""},{"$f":"IF(Worksheet!O281=\"\",\"\",Worksheet!O281)","v":""},{"$f":"IF(Worksheet!F281=0,\"\",Worksheet!F281)","v":""},{"$f":"IF(Worksheet!P281=0,\"\",Worksheet!P281)","v":""},{"$f":"IF(Worksheet!$A$11=TRUE,\"Y\",\"N\")","v":"N"},{"$f":"IF(Worksheet!$A$12=TRUE,\"Y\",\"N\")","v":"N"},{"$f":"IF(Worksheet!$B$11=TRUE,\"Y\",\"N\")","v":"N"},{"$f":"IF(Worksheet!$B$12=TRUE,\"Y\",\"N\")","v":"N"},{"$f":"IF(Worksheet!$C$11=TRUE,\"Y\",\"N\")","v":"N"},{"$f":"IF(Worksheet!$C$12=TRUE,\"Y\",\"N\")","v":"N"},""]
[{"$f":"IF(ISERROR(VLOOKUP(Worksheet!N282,MeasureLookup,2,FALSE))=FALSE,VLOOKUP(Worksheet!N282,MeasureLookup,2,FALSE),\"\")","v":""},{"$f":"Worksheet!Q282","v":0},{"$f":"Worksheet!R282","v":0},{"$f":"IF(ISERROR(Worksheet!P282)=FALSE,Worksheet!P282,\"\")","v":0},"Watts",null,null,{"$f":"IF(Worksheet!AP282<>\"\",IF(Worksheet!AP282>0,Worksheet!AP282/IF(Worksheet!M282>0,Worksheet!M282,Worksheet!L282),\"\"),\"\")","v":""},{"$f":"IF(ISBLANK(Worksheet!L282)=FALSE,Worksheet!L282,\"\")","v":0},{"$f":"IF(Worksheet!L282<>0, IFERROR(VLOOKUP(Worksheet!$C$16,SavingsSupportTable,3,FALSE)*Worksheet!AQ282*IFERROR(1+VLOOKUP(Worksheet!$C$16,SavingsSupportTable,MATCH(Worksheet!$G$17,HVACe_Options,0)+4,FALSE),1)/IF(Worksheet!M282>0,Worksheet!M282,Worksheet!L282),\"\"),\"\")","v":""},{"$f":"IF(Worksheet!L282<>0, IFERROR(VLOOKUP(Worksheet!$C$16,SavingsSupportTable,2,FALSE)*Worksheet!AQ282*IF(IFERROR(MATCH(Worksheet!$G$17,HVACe_Options,0),0)>0,1+VLOOKUP(Worksheet!$C$16,SavingsSupportTable,4,FALSE),1)/IF(Worksheet!M282>0,Worksheet!M282,Worksheet!L282),\"\"),\"\")","v":""},{"$f":"IF(ISERROR(J259*15)=FALSE,J259*15,\"\")","v":""},{"$f":"IF(Worksheet!L282<>0,IFERROR(VLOOKUP(Worksheet!$C$16,SavingsSupportTable,3,FALSE)*Worksheet!AQ282*IF(IFERROR(SEARCH(\"Gas\",Worksheet!$G$17),0)>0,VLOOKUP(\"Gas\",HVACg_Lookup,MATCH(Worksheet!$G$16,BuildingSize,0)+1,FALSE),IF(IFERROR(SEARCH(\"Oil\",Worksheet!$G$17),0)>0,VLOOKUP(\"Oil\",HVACg_Lookup,MATCH(Worksheet!$G$16,BuildingSize,0)+1,FALSE),IF(IFERROR(SEARCH(\"Propane\",Worksheet!$G$17),0)>0,VLOOKUP(\"Propane\",HVACg_Lookup,MATCH(Worksheet!$G$16,BuildingSize,0)+1,FALSE),0)))/IF(Worksheet!M282>0,Worksheet!M282,Worksheet!L282),0),\"\")","v":""},{"$f":"IF(ISERROR(M259*15)=FALSE,M259*15,\"\")","v":""},null,null,null,{"$f":"IF(ISBLANK(Worksheet!M282)=FALSE,Worksheet!M282,\"\")","v":0},{"$f":"IF(Worksheet!A282=\"-\",\"\",IF(Worksheet!A282=\"\",S258,Worksheet!A282))","v":""},{"$f":"IF(S259=\"\",\"\",IF(AND(Worksheet!G282=\"\",Worksheet!H282=\"\")=TRUE,T258,IF(Worksheet!G282=\"\",\"\",Worksheet!G282)))","v":""},{"$f":"IF(S259=\"\",\"\",IF(AND(Worksheet!G282=\"\",Worksheet!H282=\"\")=TRUE,U258,IF(Worksheet!H282=\"\",\"\",Worksheet!H282)))","v":""},{"$f":"IF(Worksheet!N282=\"\",\"\",Worksheet!N282)","v":""},{"$f":"IF(Worksheet!O282=\"\",\"\",Worksheet!O282)","v":""},{"$f":"IF(Worksheet!F282=0,\"\",Worksheet!F282)","v":""},{"$f":"IF(Worksheet!P282=0,\"\",Worksheet!P282)","v":""},{"$f":"IF(Worksheet!$A$11=TRUE,\"Y\",\"N\")","v":"N"},{"$f":"IF(Worksheet!$A$12=TRUE,\"Y\",\"N\")","v":"N"},{"$f":"IF(Worksheet!$B$11=TRUE,\"Y\",\"N\")","v":"N"},{"$f":"IF(Worksheet!$B$12=TRUE,\"Y\",\"N\")","v":"N"},{"$f":"IF(Worksheet!$C$11=TRUE,\"Y\",\"N\")","v":"N"},{"$f":"IF(Worksheet!$C$12=TRUE,\"Y\",\"N\")","v":"N"},{"$f":"IFERROR(IF(OR(Z259=\"Y\",AA259=\"Y\",AB259=\"Y\",AC259=\"Y\",AD259=\"Y\",AE259=\"Y\")=TRUE,H259,\"\"),\"\")","v":""}]
[{"$f":"IF(ISERROR(VLOOKUP(Worksheet!N283,MeasureLookup,2,FALSE))=FALSE,VLOOKUP(Worksheet!N283,MeasureLookup,2,FALSE),\"\")","v":""},{"$f":"Worksheet!Q283","v":0},{"$f":"Worksheet!R283","v":0},{"$f":"IF(ISERROR(Worksheet!P283)=FALSE,Worksheet!P283,\"\")","v":0},"Watts",null,null,{"$f":"IF(Worksheet!AP283<>\"\",IF(Worksheet!AP283>0,Worksheet!AP283/IF(Worksheet!M283>0,Worksheet!M283,Worksheet!L283),\"\"),\"\")","v":""},{"$f":"IF(ISBLANK(Worksheet!L283)=FALSE,Worksheet!L283,\"\")","v":0},{"$f":"IF(Worksheet!L283<>0, IFERROR(VLOOKUP(Worksheet!$C$16,SavingsSupportTable,3,FALSE)*Worksheet!AQ283*IFERROR(1+VLOOKUP(Worksheet!$C$16,SavingsSupportTable,MATCH(Worksheet!$G$17,HVACe_Options,0)+4,FALSE),1)/IF(Worksheet!M283>0,Worksheet!M283,Worksheet!L283),\"\"),\"\")","v":""},{"$f":"IF(Worksheet!L283<>0, IFERROR(VLOOKUP(Worksheet!$C$16,SavingsSupportTable,2,FALSE)*Worksheet!AQ283*IF(IFERROR(MATCH(Worksheet!$G$17,HVACe_Options,0),0)>0,1+VLOOKUP(Worksheet!$C$16,SavingsSupportTable,4,FALSE),1)/IF(Worksheet!M283>0,Worksheet!M283,Worksheet!L283),\"\"),\"\")","v":""},"",{"$f":"IF(Worksheet!L283<>0,IFERROR(VLOOKUP(Worksheet!$C$16,SavingsSupportTable,3,FALSE)*Worksheet!AQ283*IF(IFERROR(SEARCH(\"Gas\",Worksheet!$G$17),0)>0,VLOOKUP(\"Gas\",HVACg_Lookup,MATCH(Worksheet!$G$16,BuildingSize,0)+1,FALSE),IF(IFERROR(SEARCH(\"Oil\",Worksheet!$G$17),0)>0,VLOOKUP(\"Oil\",HVACg_Lookup,MATCH(Worksheet!$G$16,BuildingSize,0)+1,FALSE),IF(IFERROR(SEARCH(\"Propane\",Worksheet!$G$17),0)>0,VLOOKUP(\"Propane\",HVACg_Lookup,MATCH(Worksheet!$G$16,BuildingSize,0)+1,FALSE),0)))/IF(Worksheet!M283>0,Worksheet!M283,Worksheet!L283),0),\"\")","v":""},"",null,null,null,{"$f":"IF(ISBLANK(Worksheet!M283)=FALSE,Worksheet!M283,\"\")","v":0},{"$f":"IF(Worksheet!A283=\"-\",\"\",IF(Worksheet!A283=\"\",S259,Worksheet!A283))","v":""},{"$f":"IF(S260=\"\",\"\",IF(AND(Worksheet!G283=\"\",Worksheet!H283=\"\")=TRUE,T259,IF(Worksheet!G283=\"\",\"\",Worksheet!G283)))","v":""},{"$f":"IF(S260=\"\",\"\",IF(AND(Worksheet!G283=\"\",Worksheet!H283=\"\")=TRUE,U259,IF(Worksheet!H283=\"\",\"\",Worksheet!H283)))","v":""},{"$f":"IF(Worksheet!N283=\"\",\"\",Worksheet!N283)","v":""},{"$f":"IF(Worksheet!O283=\"\",\"\",Worksheet!O283)","v":""},{"$f":"IF(Worksheet!F283=0,\"\",Worksheet!F283)","v":""},{"$f":"IF(Worksheet!P283=0,\"\",Worksheet!P283)","v":""},{"$f":"IF(Worksheet!$A$11=TRUE,\"Y\",\"N\")","v":"N"},{"$f":"IF(Worksheet!$A$12=TRUE,\"Y\",\"N\")","v":"N"},{"$f":"IF(Worksheet!$B$11=TRUE,\"Y\",\"N\")","v":"N"},{"$f":"IF(Worksheet!$B$12=TRUE,\"Y\",\"N\")","v":"N"},{"$f":"IF(Worksheet!$C$11=TRUE,\"Y\",\"N\")","v":"N"},{"$f":"IF(Worksheet!$C$12=TRUE,\"Y\",\"N\")","v":"N"},""]
[{"$f":"IF(ISERROR(VLOOKUP(Worksheet!N284,MeasureLookup,2,FALSE))=FALSE,VLOOKUP(Worksheet!N284,MeasureLookup,2,FALSE),\"\")","v":""},{"$f":"Worksheet!Q284","v":0},{"$f":"Worksheet!R284","v":0},{"$f":"IF(ISERROR(Worksheet!P284)=FALSE,Worksheet!P284,\"\")","v":0},"Watts",null,null,{"$f":"IF(Worksheet!AP284<>\"\",IF(Worksheet!AP284>0,Worksheet!AP284/IF(Worksheet!M284>0,Worksheet!M284,Worksheet!L284),\"\"),\"\")","v":""},{"$f":"IF(ISBLANK(Worksheet!L284)=FALSE,Worksheet!L284,\"\")","v":0},{"$f":"IF(Worksheet!L284<>0, IFERROR(VLOOKUP(Worksheet!$C$16,SavingsSupportTable,3,FALSE)*Worksheet!AQ284*IFERROR(1+VLOOKUP(Worksheet!$C$16,SavingsSupportTable,MATCH(Worksheet!$G$17,HVACe_Options,0)+4,FALSE),1)/IF(Worksheet!M284>0,Worksheet!M284,Worksheet!L284),\"\"),\"\")","v":""},{"$f":"IF(Worksheet!L284<>0, IFERROR(VLOOKUP(Worksheet!$C$16,SavingsSupportTable,2,FALSE)*Worksheet!AQ284*IF(IFERROR(MATCH(Worksheet!$G$17,HVACe_Options,0),0)>0,1+VLOOKUP(Worksheet!$C$16,SavingsSupportTable,4,FALSE),1)/IF(Worksheet!M284>0,Worksheet!M284,Worksheet!L284),\"\"),\"\")","v":""},"",{"$f":"IF(Worksheet!L284<>0,IFERROR(VLOOKUP(Worksheet!$C$16,SavingsSupportTable,3,FALSE)*Worksheet!AQ284*IF(IFERROR(SEARCH(\"Gas\",Worksheet!$G$17),0)>0,VLOOKUP(\"Gas\",HVACg_Lookup,MATCH(Worksheet!$G$16,BuildingSize,0)+1,FALSE),IF(IFERROR(SEARCH(\"Oil\",Worksheet!$G$17),0)>0,VLOOKUP(\"Oil\",HVACg_Lookup,MATCH(Worksheet!$G$16,BuildingSize,0)+1,FALSE),IF(IFERROR(SEARCH(\"Propane\",Worksheet!$G$17),0)>0,VLOOKUP(\"Propane\",HVACg_Lookup,MATCH(Worksheet!$G$16,BuildingSize,0)+1,FALSE),0)))/IF(Worksheet!M284>0,Worksheet!M284,Worksheet!L284),0),\"\")","v":""},"",null,null,null,{"$f":"IF(ISBLANK(Worksheet!M284)=FALSE,Worksheet!M284,\"\")","v":0},{"$f":"IF(Worksheet!A284=\"-\",\"\",IF(Worksheet!A284=\"\",S260,Worksheet!A284))","v":""},{"$f":"IF(S261=\"\",\"\",IF(AND(Worksheet!G284=\"\",Worksheet!H284=\"\")=TRUE,T260,IF(Worksheet!G284=\"\",\"\",Worksheet!G284)))","v":""},{"$f":"IF(S261=\"\",\"\",IF(AND(Worksheet!G284=\"\",Worksheet!H284=\"\")=TRUE,U260,IF(Worksheet!H284=\"\",\"\",Worksheet!H284)))","v":""},{"$f":"IF(Worksheet!N284=\"\",\"\",Worksheet!N284)","v":""},{"$f":"IF(Worksheet!O284=\"\",\"\",Worksheet!O284)","v":""},{"$f":"IF(Worksheet!F284=0,\"\",Worksheet!F284)","v":""},{"$f":"IF(Worksheet!P284=0,\"\",Worksheet!P284)","v":""},{"$f":"IF(Worksheet!$A$11=TRUE,\"Y\",\"N\")","v":"N"},{"$f":"IF(Worksheet!$A$12=TRUE,\"Y\",\"N\")","v":"N"},{"$f":"IF(Worksheet!$B$11=TRUE,\"Y\",\"N\")","v":"N"},{"$f":"IF(Worksheet!$B$12=TRUE,\"Y\",\"N\")","v":"N"},{"$f":"IF(Worksheet!$C$11=TRUE,\"Y\",\"N\")","v":"N"},{"$f":"IF(Worksheet!$C$12=TRUE,\"Y\",\"N\")","v":"N"},""]
[{"$f":"IF(ISERROR(VLOOKUP(Worksheet!N285,MeasureLookup,2,FALSE))=FALSE,VLOOKUP(Worksheet!N285,MeasureLookup,2,FALSE),\"\")","v":""},{"$f":"Worksheet!Q285","v":0},{"$f":"Worksheet!R285","v":0},{"$f":"IF(ISERROR(Worksheet!P285)=FALSE,Worksheet!P285,\"\")","v":0},"Watts",null,null,{"$f":"IF(Worksheet!AP285<>\"\",IF(Worksheet!AP285>0,Worksheet!AP285/IF(Worksheet!M285>0,Worksheet!M285,Worksheet!L285),\"\"),\"\")","v":""},{"$f":"IF(ISBLANK(Worksheet!L285)=FALSE,Worksheet!L285,\"\")","v":0},{"$f":"IF(Worksheet!L285<>0, IFERROR(VLOOKUP(Worksheet!$C$16,SavingsSupportTable,3,FALSE)*Worksheet!AQ285*IFERROR(1+VLOOKUP(Worksheet!$C$16,SavingsSupportTable,MATCH(Worksheet!$G$17,HVACe_Options,0)+4,FALSE),1)/IF(Worksheet!M285>0,Worksheet!M285,Worksheet!L285),\"\"),\"\")","v":""},{"$f":"IF(Worksheet!L285<>0, IFERROR(VLOOKUP(Worksheet!$C$16,SavingsSupportTable,2,FALSE)*Worksheet!AQ285*IF(IFERROR(MATCH(Worksheet!$G$17,HVACe_Options,0),0)>0,1+VLOOKUP(Worksheet!$C$16,SavingsSupportTable,4,FALSE),1)/IF(Worksheet!M285>0,Worksheet!M285,Worksheet!L285),\"\"),\"\")","v":""},"",{"$f":"IF(Worksheet!L285<>0,IFERROR(VLOOKUP(Worksheet!$C$16,SavingsSupportTable,3,FALSE)*Worksheet!AQ285*IF(IFERROR(SEARCH(\"Gas\",Worksheet!$G$17),0)>0,VLOOKUP(\"Gas\",HVACg_Lookup,MATCH(Worksheet!$G$16,BuildingSize,0)+1,FALSE),IF(IFERROR(SEARCH(\"Oil\",Worksheet!$G$17),0)>0,VLOOKUP(\"Oil\",HVACg_Lookup,MATCH(Worksheet!$G$16,BuildingSize,0)+1,FALSE),IF(IFERROR(SEARCH(\"Propane\",Worksheet!$G$17),0)>0,VLOOKUP(\"Propane\",HVACg_Lookup,MATCH(Worksheet!$G$16,BuildingSize,0)+1,FALSE),0)))/IF(Worksheet!M285>0,Worksheet!M285,Worksheet!L285),0),\"\")","v":""},"",null,null,null,{"$f":"IF(ISBLANK(Worksheet!M285)=FALSE,Worksheet!M285,\"\")","v":0},{"$f":"IF(Worksheet!A285=\"-\",\"\",IF(Worksheet!A285=\"\",S261,Worksheet!A285))","v":""},{"$f":"IF(S262=\"\",\"\",IF(AND(Worksheet!G285=\"\",Worksheet!H285=\"\")=TRUE,T261,IF(Worksheet!G285=\"\",\"\",Worksheet!G285)))","v":""},{"$f":"IF(S262=\"\",\"\",IF(AND(Worksheet!G285=\"\",Worksheet!H285=\"\")=TRUE,U261,IF(Worksheet!H285=\"\",\"\",Worksheet!H285)))","v":""},{"$f":"IF(Worksheet!N285=\"\",\"\",Worksheet!N285)","v":""},{"$f":"IF(Worksheet!O285=\"\",\"\",Worksheet!O285)","v":""},{"$f":"IF(Worksheet!F285=0,\"\",Worksheet!F285)","v":""},{"$f":"IF(Worksheet!P285=0,\"\",Worksheet!P285)","v":""},{"$f":"IF(Worksheet!$A$11=TRUE,\"Y\",\"N\")","v":"N"},{"$f":"IF(Worksheet!$A$12=TRUE,\"Y\",\"N\")","v":"N"},{"$f":"IF(Worksheet!$B$11=TRUE,\"Y\",\"N\")","v":"N"},{"$f":"IF(Worksheet!$B$12=TRUE,\"Y\",\"N\")","v":"N"},{"$f":"IF(Worksheet!$C$11=TRUE,\"Y\",\"N\")","v":"N"},{"$f":"IF(Worksheet!$C$12=TRUE,\"Y\",\"N\")","v":"N"},""]
[{"$f":"IF(ISERROR(VLOOKUP(Worksheet!N286,MeasureLookup,2,FALSE))=FALSE,VLOOKUP(Worksheet!N286,MeasureLookup,2,FALSE),\"\")","v":""},{"$f":"Worksheet!Q286","v":0},{"$f":"Worksheet!R286","v":0},{"$f":"IF(ISERROR(Worksheet!P286)=FALSE,Worksheet!P286,\"\")","v":0},"Watts",null,null,{"$f":"IF(Worksheet!AP286<>\"\",IF(Worksheet!AP286>0,Worksheet!AP286/IF(Worksheet!M286>0,Worksheet!M286,Worksheet!L286),\"\"),\"\")","v":""},{"$f":"IF(ISBLANK(Worksheet!L286)=FALSE,Worksheet!L286,\"\")","v":0},{"$f":"IF(Worksheet!L286<>0, IFERROR(VLOOKUP(Worksheet!$C$16,SavingsSupportTable,3,FALSE)*Worksheet!AQ286*IFERROR(1+VLOOKUP(Worksheet!$C$16,SavingsSupportTable,MATCH(Worksheet!$G$17,HVACe_Options,0)+4,FALSE),1)/IF(Worksheet!M286>0,Worksheet!M286,Worksheet!L286),\"\"),\"\")","v":""},{"$f":"IF(Worksheet!L286<>0, IFERROR(VLOOKUP(Worksheet!$C$16,SavingsSupportTable,2,FALSE)*Worksheet!AQ286*IF(IFERROR(MATCH(Worksheet!$G$17,HVACe_Options,0),0)>0,1+VLOOKUP(Worksheet!$C$16,SavingsSupportTable,4,FALSE),1)/IF(Worksheet!M286>0,Worksheet!M286,Worksheet!L286),\"\"),\"\")","v":""},"",{"$f":"IF(Worksheet!L286<>0,IFERROR(VLOOKUP(Worksheet!$C$16,SavingsSupportTable,3,FALSE)*Worksheet!AQ286*IF(IFERROR(SEARCH(\"Gas\",Worksheet!$G$17),0)>0,VLOOKUP(\"Gas\",HVACg_Lookup,MATCH(Worksheet!$G$16,BuildingSize,0)+1,FALSE),IF(IFERROR(SEARCH(\"Oil\",Worksheet!$G$17),0)>0,VLOOKUP(\"Oil\",HVACg_Lookup,MATCH(Worksheet!$G$16,BuildingSize,0)+1,FALSE),IF(IFERROR(SEARCH(\"Propane\",Worksheet!$G$17),0)>0,VLOOKUP(\"Propane\",HVACg_Lookup,MATCH(Worksheet!$G$16,BuildingSize,0)+1,FALSE),0)))/IF(Worksheet!M286>0,Worksheet!M286,Worksheet!L286),0),\"\")","v":""},"",null,null,null,{"$f":"IF(ISBLANK(Worksheet!M286)=FALSE,Worksheet!M286,\"\")","v":0},{"$f":"IF(Worksheet!A286=\"-\",\"\",IF(Worksheet!A286=\"\",S262,Worksheet!A286))","v":""},{"$f":"IF(S263=\"\",\"\",IF(AND(Worksheet!G286=\"\",Worksheet!H286=\"\")=TRUE,T262,IF(Worksheet!G286=\"\",\"\",Worksheet!G286)))","v":""},{"$f":"IF(S263=\"\",\"\",IF(AND(Worksheet!G286=\"\",Worksheet!H286=\"\")=TRUE,U262,IF(Worksheet!H286=\"\",\"\",Worksheet!H286)))","v":""},{"$f":"IF(Worksheet!N286=\"\",\"\",Worksheet!N286)","v":""},{"$f":"IF(Worksheet!O286=\"\",\"\",Worksheet!O286)","v":""},{"$f":"IF(Worksheet!F286=0,\"\",Worksheet!F286)","v":""},{"$f":"IF(Worksheet!P286=0,\"\",Worksheet!P286)","v":""},{"$f":"IF(Worksheet!$A$11=TRUE,\"Y\",\"N\")","v":"N"},{"$f":"IF(Worksheet!$A$12=TRUE,\"Y\",\"N\")","v":"N"},{"$f":"IF(Worksheet!$B$11=TRUE,\"Y\",\"N\")","v":"N"},{"$f":"IF(Worksheet!$B$12=TRUE,\"Y\",\"N\")","v":"N"},{"$f":"IF(Worksheet!$C$11=TRUE,\"Y\",\"N\")","v":"N"},{"$f":"IF(Worksheet!$C$12=TRUE,\"Y\",\"N\")","v":"N"},""]
[{"$f":"IF(ISERROR(VLOOKUP(Worksheet!N287,MeasureLookup,2,FALSE))=FALSE,VLOOKUP(Worksheet!N287,MeasureLookup,2,FALSE),\"\")","v":""},{"$f":"Worksheet!Q287","v":0},{"$f":"Worksheet!R287","v":0},{"$f":"IF(ISERROR(Worksheet!P287)=FALSE,Worksheet!P287,\"\")","v":0},"Watts",null,null,{"$f":"IF(Worksheet!AP287<>\"\",IF(Worksheet!AP287>0,Worksheet!AP287/IF(Worksheet!M287>0,Worksheet!M287,Worksheet!L287),\"\"),\"\")","v":""},{"$f":"IF(ISBLANK(Worksheet!L287)=FALSE,Worksheet!L287,\"\")","v":0},{"$f":"IF(Worksheet!L287<>0, IFERROR(VLOOKUP(Worksheet!$C$16,SavingsSupportTable,3,FALSE)*Worksheet!AQ287*IFERROR(1+VLOOKUP(Worksheet!$C$16,SavingsSupportTable,MATCH(Worksheet!$G$17,HVACe_Options,0)+4,FALSE),1)/IF(Worksheet!M287>0,Worksheet!M287,Worksheet!L287),\"\"),\"\")","v":""},{"$f":"IF(Worksheet!L287<>0, IFERROR(VLOOKUP(Worksheet!$C$16,SavingsSupportTable,2,FALSE)*Worksheet!AQ287*IF(IFERROR(MATCH(Worksheet!$G$17,HVACe_Options,0),0)>0,1+VLOOKUP(Worksheet!$C$16,SavingsSupportTable,4,FALSE),1)/IF(Worksheet!M287>0,Worksheet!M287,Worksheet!L287),\"\"),\"\")","v":""},"",{"$f":"IF(Worksheet!L287<>0,IFERROR(VLOOKUP(Worksheet!$C$16,SavingsSupportTable,3,FALSE)*Worksheet!AQ287*IF(IFERROR(SEARCH(\"Gas\",Worksheet!$G$17),0)>0,VLOOKUP(\"Gas\",HVACg_Lookup,MATCH(Worksheet!$G$16,BuildingSize,0)+1,FALSE),IF(IFERROR(SEARCH(\"Oil\",Worksheet!$G$17),0)>0,VLOOKUP(\"Oil\",HVACg_Lookup,MATCH(Worksheet!$G$16,BuildingSize,0)+1,FALSE),IF(IFERROR(SEARCH(\"Propane\",Worksheet!$G$17),0)>0,VLOOKUP(\"Propane\",HVACg_Lookup,MATCH(Worksheet!$G$16,BuildingSize,0)+1,FALSE),0)))/IF(Worksheet!M287>0,Worksheet!M287,Worksheet!L287),0),\"\")","v":""},"",null,null,null,{"$f":"IF(ISBLANK(Worksheet!M287)=FALSE,Worksheet!M287,\"\")","v":0},{"$f":"IF(Worksheet!A287=\"-\",\"\",IF(Worksheet!A287=\"\",S263,Worksheet!A287))","v":""},{"$f":"IF(S264=\"\",\"\",IF(AND(Worksheet!G287=\"\",Worksheet!H287=\"\")=TRUE,T263,IF(Worksheet!G287=\"\",\"\",Worksheet!G287)))","v":""},{"$f":"IF(S264=\"\",\"\",IF(AND(Worksheet!G287=\"\",Worksheet!H287=\"\")=TRUE,U263,IF(Worksheet!H287=\"\",\"\",Worksheet!H287)))","v":""},{"$f":"IF(Worksheet!N287=\"\",\"\",Worksheet!N287)","v":""},{"$f":"IF(Worksheet!O287=\"\",\"\",Worksheet!O287)","v":""},{"$f":"IF(Worksheet!F287=0,\"\",Worksheet!F287)","v":""},{"$f":"IF(Worksheet!P287=0,\"\",Worksheet!P287)","v":""},{"$f":"IF(Worksheet!$A$11=TRUE,\"Y\",\"N\")","v":"N"},{"$f":"IF(Worksheet!$A$12=TRUE,\"Y\",\"N\")","v":"N"},{"$f":"IF(Worksheet!$B$11=TRUE,\"Y\",\"N\")","v":"N"},{"$f":"IF(Worksheet!$B$12=TRUE,\"Y\",\"N\")","v":"N"},{"$f":"IF(Worksheet!$C$11=TRUE,\"Y\",\"N\")","v":"N"},{"$f":"IF(Worksheet!$C$12=TRUE,\"Y\",\"N\")","v":"N"},""]
[{"$f":"IF(ISERROR(VLOOKUP(Worksheet!N288,MeasureLookup,2,FALSE))=FALSE,VLOOKUP(Worksheet!N288,MeasureLookup,2,FALSE),\"\")","v":""},{"$f":"Worksheet!Q288","v":0},{"$f":"Worksheet!R288","v":0},{"$f":"IF(ISERROR(Worksheet!P288)=FALSE,Worksheet!P288,\"\")","v":0},"Watts",null,null,{"$f":"IF(Worksheet!AP288<>\"\",IF(Worksheet!AP288>0,Worksheet!AP288/IF(Worksheet!M288>0,Worksheet!M288,Worksheet!L288),\"\"),\"\")","v":""},{"$f":"IF(ISBLANK(Worksheet!L288)=FALSE,Worksheet!L288,\"\")","v":0},{"$f":"IF(Worksheet!L288<>0, IFERROR(VLOOKUP(Worksheet!$C$16,SavingsSupportTable,3,FALSE)*Worksheet!AQ288*IFERROR(1+VLOOKUP(Worksheet!$C$16,SavingsSupportTable,MATCH(Worksheet!$G$17,HVACe_Options,0)+4,FALSE),1)/IF(Worksheet!M288>0,Worksheet!M288,Worksheet!L288),\"\"),\"\")","v":""},{"$f":"IF(Worksheet!L288<>0, IFERROR(VLOOKUP(Worksheet!$C$16,SavingsSupportTable,2,FALSE)*Worksheet!AQ288*IF(IFERROR(MATCH(Worksheet!$G$17,HVACe_Options,0),0)>0,1+VLOOKUP(Worksheet!$C$16,SavingsSupportTable,4,FALSE),1)/IF(Worksheet!M288>0,Worksheet!M288,Worksheet!L288),\"\"),\"\")","v":""},"",{"$f":"IF(Worksheet!L288<>0,IFERROR(VLOOKUP(Worksheet!$C$16,SavingsSupportTable,3,FALSE)*Worksheet!AQ288*IF(IFERROR(SEARCH(\"Gas\",Worksheet!$G$17),0)>0,VLOOKUP(\"Gas\",HVACg_Lookup,MATCH(Worksheet!$G$16,BuildingSize,0)+1,FALSE),IF(IFERROR(SEARCH(\"Oil\",Worksheet!$G$17),0)>0,VLOOKUP(\"Oil\",HVACg_Lookup,MATCH(Worksheet!$G$16,BuildingSize,0)+1,FALSE),IF(IFERROR(SEARCH(\"Propane\",Worksheet!$G$17),0)>0,VLOOKUP(\"Propane\",HVACg_Lookup,MATCH(Worksheet!$G$16,BuildingSize,0)+1,FALSE),0)))/IF(Worksheet!M288>0,Worksheet!M288,Worksheet!L288),0),\"\")","v":""},"",null,null,null,{"$f":"IF(ISBLANK(Worksheet!M288)=FALSE,Worksheet!M288,\"\")","v":0},{"$f":"IF(Worksheet!A288=\"-\",\"\",IF(Worksheet!A288=\"\",S264,Worksheet!A288))","v":""},{"$f":"IF(S265=\"\",\"\",IF(AND(Worksheet!G288=\"\",Worksheet!H288=\"\")=TRUE,T264,IF(Worksheet!G288=\"\",\"\",Worksheet!G288)))","v":""},{"$f":"IF(S265=\"\",\"\",IF(AND(Worksheet!G288=\"\",Worksheet!H288=\"\")=TRUE,U264,IF(Worksheet!H288=\"\",\"\",Worksheet!H288)))","v":""},{"$f":"IF(Worksheet!N288=\"\",\"\",Worksheet!N288)","v":""},{"$f":"IF(Worksheet!O288=\"\",\"\",Worksheet!O288)","v":""},{"$f":"IF(Worksheet!F288=0,\"\",Worksheet!F288)","v":""},{"$f":"IF(Worksheet!P288=0,\"\",Worksheet!P288)","v":""},{"$f":"IF(Worksheet!$A$11=TRUE,\"Y\",\"N\")","v":"N"},{"$f":"IF(Worksheet!$A$12=TRUE,\"Y\",\"N\")","v":"N"},{"$f":"IF(Worksheet!$B$11=TRUE,\"Y\",\"N\")","v":"N"},{"$f":"IF(Worksheet!$B$12=TRUE,\"Y\",\"N\")","v":"N"},{"$f":"IF(Worksheet!$C$11=TRUE,\"Y\",\"N\")","v":"N"},{"$f":"IF(Worksheet!$C$12=TRUE,\"Y\",\"N\")","v":"N"},""]
[{"$f":"IF(ISERROR(VLOOKUP(Worksheet!N289,MeasureLookup,2,FALSE))=FALSE,VLOOKUP(Worksheet!N289,MeasureLookup,2,FALSE),\"\")","v":""},{"$f":"Worksheet!Q289","v":0},{"$f":"Worksheet!R289","v":0},{"$f":"IF(ISERROR(Worksheet!P289)=FALSE,Worksheet!P289,\"\")","v":0},"Watts",null,null,{"$f":"IF(Worksheet!AP289<>\"\",IF(Worksheet!AP289>0,Worksheet!AP289/IF(Worksheet!M289>0,Worksheet!M289,Worksheet!L289),\"\"),\"\")","v":""},{"$f":"IF(ISBLANK(Worksheet!L289)=FALSE,Worksheet!L289,\"\")","v":0},{"$f":"IF(Worksheet!L289<>0, IFERROR(VLOOKUP(Worksheet!$C$16,SavingsSupportTable,3,FALSE)*Worksheet!AQ289*IFERROR(1+VLOOKUP(Worksheet!$C$16,SavingsSupportTable,MATCH(Worksheet!$G$17,HVACe_Options,0)+4,FALSE),1)/IF(Worksheet!M289>0,Worksheet!M289,Worksheet!L289),\"\"),\"\")","v":""},{"$f":"IF(Worksheet!L289<>0, IFERROR(VLOOKUP(Worksheet!$C$16,SavingsSupportTable,2,FALSE)*Worksheet!AQ289*IF(IFERROR(MATCH(Worksheet!$G$17,HVACe_Options,0),0)>0,1+VLOOKUP(Worksheet!$C$16,SavingsSupportTable,4,FALSE),1)/IF(Worksheet!M289>0,Worksheet!M289,Worksheet!L289),\"\"),\"\")","v":""},"",{"$f":"IF(Worksheet!L289<>0,IFERROR(VLOOKUP(Worksheet!$C$16,SavingsSupportTable,3,FALSE)*Worksheet!AQ289*IF(IFERROR(SEARCH(\"Gas\",Worksheet!$G$17),0)>0,VLOOKUP(\"Gas\",HVACg_Lookup,MATCH(Worksheet!$G$16,BuildingSize,0)+1,FALSE),IF(IFERROR(SEARCH(\"Oil\",Worksheet!$G$17),0)>0,VLOOKUP(\"Oil\",HVACg_Lookup,MATCH(Worksheet!$G$16,BuildingSize,0)+1,FALSE),IF(IFERROR(SEARCH(\"Propane\",Worksheet!$G$17),0)>0,VLOOKUP(\"Propane\",HVACg_Lookup,MATCH(Worksheet!$G$16,BuildingSize,0)+1,FALSE),0)))/IF(Worksheet!M289>0,Worksheet!M289,Worksheet!L289),0),\"\")","v":""},"",null,null,null,{"$f":"IF(ISBLANK(Worksheet!M289)=FALSE,Worksheet!M289,\"\")","v":0},{"$f":"IF(Worksheet!A289=\"-\",\"\",IF(Worksheet!A289=\"\",S265,Worksheet!A289))","v":""},{"$f":"IF(S266=\"\",\"\",IF(AND(Worksheet!G289=\"\",Worksheet!H289=\"\")=TRUE,T265,IF(Worksheet!G289=\"\",\"\",Worksheet!G289)))","v":""},{"$f":"IF(S266=\"\",\"\",IF(AND(Worksheet!G289=\"\",Worksheet!H289=\"\")=TRUE,U265,IF(Worksheet!H289=\"\",\"\",Worksheet!H289)))","v":""},{"$f":"IF(Worksheet!N289=\"\",\"\",Worksheet!N289)","v":""},{"$f":"IF(Worksheet!O289=\"\",\"\",Worksheet!O289)","v":""},{"$f":"IF(Worksheet!F289=0,\"\",Worksheet!F289)","v":""},{"$f":"IF(Worksheet!P289=0,\"\",Worksheet!P289)","v":""},{"$f":"IF(Worksheet!$A$11=TRUE,\"Y\",\"N\")","v":"N"},{"$f":"IF(Worksheet!$A$12=TRUE,\"Y\",\"N\")","v":"N"},{"$f":"IF(Worksheet!$B$11=TRUE,\"Y\",\"N\")","v":"N"},{"$f":"IF(Worksheet!$B$12=TRUE,\"Y\",\"N\")","v":"N"},{"$f":"IF(Worksheet!$C$11=TRUE,\"Y\",\"N\")","v":"N"},{"$f":"IF(Worksheet!$C$12=TRUE,\"Y\",\"N\")","v":"N"},""]
[{"$f":"IF(ISERROR(VLOOKUP(Worksheet!N290,MeasureLookup,2,FALSE))=FALSE,VLOOKUP(Worksheet!N290,MeasureLookup,2,FALSE),\"\")","v":""},{"$f":"Worksheet!Q290","v":0},{"$f":"Worksheet!R290","v":0},{"$f":"IF(ISERROR(Worksheet!P290)=FALSE,Worksheet!P290,\"\")","v":0},"Watts",null,null,{"$f":"IF(Worksheet!AP290<>\"\",IF(Worksheet!AP290>0,Worksheet!AP290/IF(Worksheet!M290>0,Worksheet!M290,Worksheet!L290),\"\"),\"\")","v":""},{"$f":"IF(ISBLANK(Worksheet!L290)=FALSE,Worksheet!L290,\"\")","v":0},{"$f":"IF(Worksheet!L290<>0, IFERROR(VLOOKUP(Worksheet!$C$16,SavingsSupportTable,3,FALSE)*Worksheet!AQ290*IFERROR(1+VLOOKUP(Worksheet!$C$16,SavingsSupportTable,MATCH(Worksheet!$G$17,HVACe_Options,0)+4,FALSE),1)/IF(Worksheet!M290>0,Worksheet!M290,Worksheet!L290),\"\"),\"\")","v":""},{"$f":"IF(Worksheet!L290<>0, IFERROR(VLOOKUP(Worksheet!$C$16,SavingsSupportTable,2,FALSE)*Worksheet!AQ290*IF(IFERROR(MATCH(Worksheet!$G$17,HVACe_Options,0),0)>0,1+VLOOKUP(Worksheet!$C$16,SavingsSupportTable,4,FALSE),1)/IF(Worksheet!M290>0,Worksheet!M290,Worksheet!L290),\"\"),\"\")","v":""},"",{"$f":"IF(Worksheet!L290<>0,IFERROR(VLOOKUP(Worksheet!$C$16,SavingsSupportTable,3,FALSE)*Worksheet!AQ290*IF(IFERROR(SEARCH(\"Gas\",Worksheet!$G$17),0)>0,VLOOKUP(\"Gas\",HVACg_Lookup,MATCH(Worksheet!$G$16,BuildingSize,0)+1,FALSE),IF(IFERROR(SEARCH(\"Oil\",Worksheet!$G$17),0)>0,VLOOKUP(\"Oil\",HVACg_Lookup,MATCH(Worksheet!$G$16,BuildingSize,0)+1,FALSE),IF(IFERROR(SEARCH(\"Propane\",Worksheet!$G$17),0)>0,VLOOKUP(\"Propane\",HVACg_Lookup,MATCH(Worksheet!$G$16,BuildingSize,0)+1,FALSE),0)))/IF(Worksheet!M290>0,Worksheet!M290,Worksheet!L290),0),\"\")","v":""},"",null,null,null,{"$f":"IF(ISBLANK(Worksheet!M290)=FALSE,Worksheet!M290,\"\")","v":0},{"$f":"IF(Worksheet!A290=\"-\",\"\",IF(Worksheet!A290=\"\",S266,Worksheet!A290))","v":""},{"$f":"IF(S267=\"\",\"\",IF(AND(Worksheet!G290=\"\",Worksheet!H290=\"\")=TRUE,T266,IF(Worksheet!G290=\"\",\"\",Worksheet!G290)))","v":""},{"$f":"IF(S267=\"\",\"\",IF(AND(Worksheet!G290=\"\",Worksheet!H290=\"\")=TRUE,U266,IF(Worksheet!H290=\"\",\"\",Worksheet!H290)))","v":""},{"$f":"IF(Worksheet!N290=\"\",\"\",Worksheet!N290)","v":""},{"$f":"IF(Worksheet!O290=\"\",\"\",Worksheet!O290)","v":""},{"$f":"IF(Worksheet!F290=0,\"\",Worksheet!F290)","v":""},{"$f":"IF(Worksheet!P290=0,\"\",Worksheet!P290)","v":""},{"$f":"IF(Worksheet!$A$11=TRUE,\"Y\",\"N\")","v":"N"},{"$f":"IF(Worksheet!$A$12=TRUE,\"Y\",\"N\")","v":"N"},{"$f":"IF(Worksheet!$B$11=TRUE,\"Y\",\"N\")","v":"N"},{"$f":"IF(Worksheet!$B$12=TRUE,\"Y\",\"N\")","v":"N"},{"$f":"IF(Worksheet!$C$11=TRUE,\"Y\",\"N\")","v":"N"},{"$f":"IF(Worksheet!$C$12=TRUE,\"Y\",\"N\")","v":"N"},""]
[{"$f":"IF(ISERROR(VLOOKUP(Worksheet!N291,MeasureLookup,2,FALSE))=FALSE,VLOOKUP(Worksheet!N291,MeasureLookup,2,FALSE),\"\")","v":""},{"$f":"Worksheet!Q291","v":0},{"$f":"Worksheet!R291","v":0},{"$f":"IF(ISERROR(Worksheet!P291)=FALSE,Worksheet!P291,\"\")","v":0},"Watts",null,null,{"$f":"IF(Worksheet!AP291<>\"\",IF(Worksheet!AP291>0,Worksheet!AP291/IF(Worksheet!M291>0,Worksheet!M291,Worksheet!L291),\"\"),\"\")","v":""},{"$f":"IF(ISBLANK(Worksheet!L291)=FALSE,Worksheet!L291,\"\")","v":0},{"$f":"IF(Worksheet!L291<>0, IFERROR(VLOOKUP(Worksheet!$C$16,SavingsSupportTable,3,FALSE)*Worksheet!AQ291*IFERROR(1+VLOOKUP(Worksheet!$C$16,SavingsSupportTable,MATCH(Worksheet!$G$17,HVACe_Options,0)+4,FALSE),1)/IF(Worksheet!M291>0,Worksheet!M291,Worksheet!L291),\"\"),\"\")","v":""},{"$f":"IF(Worksheet!L291<>0, IFERROR(VLOOKUP(Worksheet!$C$16,SavingsSupportTable,2,FALSE)*Worksheet!AQ291*IF(IFERROR(MATCH(Worksheet!$G$17,HVACe_Options,0),0)>0,1+VLOOKUP(Worksheet!$C$16,SavingsSupportTable,4,FALSE),1)/IF(Worksheet!M291>0,Worksheet!M291,Worksheet!L291),\"\"),\"\")","v":""},"",{"$f":"IF(Worksheet!L291<>0,IFERROR(VLOOKUP(Worksheet!$C$16,SavingsSupportTable,3,FALSE)*Worksheet!AQ291*IF(IFERROR(SEARCH(\"Gas\",Worksheet!$G$17),0)>0,VLOOKUP(\"Gas\",HVACg_Lookup,MATCH(Worksheet!$G$16,BuildingSize,0)+1,FALSE),IF(IFERROR(SEARCH(\"Oil\",Worksheet!$G$17),0)>0,VLOOKUP(\"Oil\",HVACg_Lookup,MATCH(Worksheet!$G$16,BuildingSize,0)+1,FALSE),IF(IFERROR(SEARCH(\"Propane\",Worksheet!$G$17),0)>0,VLOOKUP(\"Propane\",HVACg_Lookup,MATCH(Worksheet!$G$16,BuildingSize,0)+1,FALSE),0)))/IF(Worksheet!M291>0,Worksheet!M291,Worksheet!L291),0),\"\")","v":""},"",null,null,null,{"$f":"IF(ISBLANK(Worksheet!M291)=FALSE,Worksheet!M291,\"\")","v":0},{"$f":"IF(Worksheet!A291=\"-\",\"\",IF(Worksheet!A291=\"\",S267,Worksheet!A291))","v":""},{"$f":"IF(S268=\"\",\"\",IF(AND(Worksheet!G291=\"\",Worksheet!H291=\"\")=TRUE,T267,IF(Worksheet!G291=\"\",\"\",Worksheet!G291)))","v":""},{"$f":"IF(S268=\"\",\"\",IF(AND(Worksheet!G291=\"\",Worksheet!H291=\"\")=TRUE,U267,IF(Worksheet!H291=\"\",\"\",Worksheet!H291)))","v":""},{"$f":"IF(Worksheet!N291=\"\",\"\",Worksheet!N291)","v":""},{"$f":"IF(Worksheet!O291=\"\",\"\",Worksheet!O291)","v":""},{"$f":"IF(Worksheet!F291=0,\"\",Worksheet!F291)","v":""},{"$f":"IF(Worksheet!P291=0,\"\",Worksheet!P291)","v":""},{"$f":"IF(Worksheet!$A$11=TRUE,\"Y\",\"N\")","v":"N"},{"$f":"IF(Worksheet!$A$12=TRUE,\"Y\",\"N\")","v":"N"},{"$f":"IF(Worksheet!$B$11=TRUE,\"Y\",\"N\")","v":"N"},{"$f":"IF(Worksheet!$B$12=TRUE,\"Y\",\"N\")","v":"N"},{"$f":"IF(Worksheet!$C$11=TRUE,\"Y\",\"N\")","v":"N"},{"$f":"IF(Worksheet!$C$12=TRUE,\"Y\",\"N\")","v":"N"},""]
[{"$f":"IF(ISERROR(VLOOKUP(Worksheet!N292,MeasureLookup,2,FALSE))=FALSE,VLOOKUP(Worksheet!N292,MeasureLookup,2,FALSE),\"\")","v":""},{"$f":"Worksheet!Q292","v":0},{"$f":"Worksheet!R292","v":0},{"$f":"IF(ISERROR(Worksheet!P292)=FALSE,Worksheet!P292,\"\")","v":0},"Watts",null,null,{"$f":"IF(Worksheet!AP292<>\"\",IF(Worksheet!AP292>0,Worksheet!AP292/IF(Worksheet!M292>0,Worksheet!M292,Worksheet!L292),\"\"),\"\")","v":""},{"$f":"IF(ISBLANK(Worksheet!L292)=FALSE,Worksheet!L292,\"\")","v":0},{"$f":"IF(Worksheet!L292<>0, IFERROR(VLOOKUP(Worksheet!$C$16,SavingsSupportTable,3,FALSE)*Worksheet!AQ292*IFERROR(1+VLOOKUP(Worksheet!$C$16,SavingsSupportTable,MATCH(Worksheet!$G$17,HVACe_Options,0)+4,FALSE),1)/IF(Worksheet!M292>0,Worksheet!M292,Worksheet!L292),\"\"),\"\")","v":""},{"$f":"IF(Worksheet!L292<>0, IFERROR(VLOOKUP(Worksheet!$C$16,SavingsSupportTable,2,FALSE)*Worksheet!AQ292*IF(IFERROR(MATCH(Worksheet!$G$17,HVACe_Options,0),0)>0,1+VLOOKUP(Worksheet!$C$16,SavingsSupportTable,4,FALSE),1)/IF(Worksheet!M292>0,Worksheet!M292,Worksheet!L292),\"\"),\"\")","v":""},"",{"$f":"IF(Worksheet!L292<>0,IFERROR(VLOOKUP(Worksheet!$C$16,SavingsSupportTable,3,FALSE)*Worksheet!AQ292*IF(IFERROR(SEARCH(\"Gas\",Worksheet!$G$17),0)>0,VLOOKUP(\"Gas\",HVACg_Lookup,MATCH(Worksheet!$G$16,BuildingSize,0)+1,FALSE),IF(IFERROR(SEARCH(\"Oil\",Worksheet!$G$17),0)>0,VLOOKUP(\"Oil\",HVACg_Lookup,MATCH(Worksheet!$G$16,BuildingSize,0)+1,FALSE),IF(IFERROR(SEARCH(\"Propane\",Worksheet!$G$17),0)>0,VLOOKUP(\"Propane\",HVACg_Lookup,MATCH(Worksheet!$G$16,BuildingSize,0)+1,FALSE),0)))/IF(Worksheet!M292>0,Worksheet!M292,Worksheet!L292),0),\"\")","v":""},"",null,null,null,{"$f":"IF(ISBLANK(Worksheet!M292)=FALSE,Worksheet!M292,\"\")","v":0},{"$f":"IF(Worksheet!A292=\"-\",\"\",IF(Worksheet!A292=\"\",S268,Worksheet!A292))","v":""},{"$f":"IF(S269=\"\",\"\",IF(AND(Worksheet!G292=\"\",Worksheet!H292=\"\")=TRUE,T268,IF(Worksheet!G292=\"\",\"\",Worksheet!G292)))","v":""},{"$f":"IF(S269=\"\",\"\",IF(AND(Worksheet!G292=\"\",Worksheet!H292=\"\")=TRUE,U268,IF(Worksheet!H292=\"\",\"\",Worksheet!H292)))","v":""},{"$f":"IF(Worksheet!N292=\"\",\"\",Worksheet!N292)","v":""},{"$f":"IF(Worksheet!O292=\"\",\"\",Worksheet!O292)","v":""},{"$f":"IF(Worksheet!F292=0,\"\",Worksheet!F292)","v":""},{"$f":"IF(Worksheet!P292=0,\"\",Worksheet!P292)","v":""},{"$f":"IF(Worksheet!$A$11=TRUE,\"Y\",\"N\")","v":"N"},{"$f":"IF(Worksheet!$A$12=TRUE,\"Y\",\"N\")","v":"N"},{"$f":"IF(Worksheet!$B$11=TRUE,\"Y\",\"N\")","v":"N"},{"$f":"IF(Worksheet!$B$12=TRUE,\"Y\",\"N\")","v":"N"},{"$f":"IF(Worksheet!$C$11=TRUE,\"Y\",\"N\")","v":"N"},{"$f":"IF(Worksheet!$C$12=TRUE,\"Y\",\"N\")","v":"N"},""]
[{"$f":"IF(ISERROR(VLOOKUP(Worksheet!N293,MeasureLookup,2,FALSE))=FALSE,VLOOKUP(Worksheet!N293,MeasureLookup,2,FALSE),\"\")","v":""},{"$f":"Worksheet!Q293","v":0},{"$f":"Worksheet!R293","v":0},{"$f":"IF(ISERROR(Worksheet!P293)=FALSE,Worksheet!P293,\"\")","v":0},"Watts",null,null,{"$f":"IF(Worksheet!AP293<>\"\",IF(Worksheet!AP293>0,Worksheet!AP293/IF(Worksheet!M293>0,Worksheet!M293,Worksheet!L293),\"\"),\"\")","v":""},{"$f":"IF(ISBLANK(Worksheet!L293)=FALSE,Worksheet!L293,\"\")","v":0},{"$f":"IF(Worksheet!L293<>0, IFERROR(VLOOKUP(Worksheet!$C$16,SavingsSupportTable,3,FALSE)*Worksheet!AQ293*IFERROR(1+VLOOKUP(Worksheet!$C$16,SavingsSupportTable,MATCH(Worksheet!$G$17,HVACe_Options,0)+4,FALSE),1)/IF(Worksheet!M293>0,Worksheet!M293,Worksheet!L293),\"\"),\"\")","v":""},{"$f":"IF(Worksheet!L293<>0, IFERROR(VLOOKUP(Worksheet!$C$16,SavingsSupportTable,2,FALSE)*Worksheet!AQ293*IF(IFERROR(MATCH(Worksheet!$G$17,HVACe_Options,0),0)>0,1+VLOOKUP(Worksheet!$C$16,SavingsSupportTable,4,FALSE),1)/IF(Worksheet!M293>0,Worksheet!M293,Worksheet!L293),\"\"),\"\")","v":""},"",{"$f":"IF(Worksheet!L293<>0,IFERROR(VLOOKUP(Worksheet!$C$16,SavingsSupportTable,3,FALSE)*Worksheet!AQ293*IF(IFERROR(SEARCH(\"Gas\",Worksheet!$G$17),0)>0,VLOOKUP(\"Gas\",HVACg_Lookup,MATCH(Worksheet!$G$16,BuildingSize,0)+1,FALSE),IF(IFERROR(SEARCH(\"Oil\",Worksheet!$G$17),0)>0,VLOOKUP(\"Oil\",HVACg_Lookup,MATCH(Worksheet!$G$16,BuildingSize,0)+1,FALSE),IF(IFERROR(SEARCH(\"Propane\",Worksheet!$G$17),0)>0,VLOOKUP(\"Propane\",HVACg_Lookup,MATCH(Worksheet!$G$16,BuildingSize,0)+1,FALSE),0)))/IF(Worksheet!M293>0,Worksheet!M293,Worksheet!L293),0),\"\")","v":""},"",null,null,null,{"$f":"IF(ISBLANK(Worksheet!M293)=FALSE,Worksheet!M293,\"\")","v":0},{"$f":"IF(Worksheet!A293=\"-\",\"\",IF(Worksheet!A293=\"\",S269,Worksheet!A293))","v":""},{"$f":"IF(S270=\"\",\"\",IF(AND(Worksheet!G293=\"\",Worksheet!H293=\"\")=TRUE,T269,IF(Worksheet!G293=\"\",\"\",Worksheet!G293)))","v":""},{"$f":"IF(S270=\"\",\"\",IF(AND(Worksheet!G293=\"\",Worksheet!H293=\"\")=TRUE,U269,IF(Worksheet!H293=\"\",\"\",Worksheet!H293)))","v":""},{"$f":"IF(Worksheet!N293=\"\",\"\",Worksheet!N293)","v":""},{"$f":"IF(Worksheet!O293=\"\",\"\",Worksheet!O293)","v":""},{"$f":"IF(Worksheet!F293=0,\"\",Worksheet!F293)","v":""},{"$f":"IF(Worksheet!P293=0,\"\",Worksheet!P293)","v":""},{"$f":"IF(Worksheet!$A$11=TRUE,\"Y\",\"N\")","v":"N"},{"$f":"IF(Worksheet!$A$12=TRUE,\"Y\",\"N\")","v":"N"},{"$f":"IF(Worksheet!$B$11=TRUE,\"Y\",\"N\")","v":"N"},{"$f":"IF(Worksheet!$B$12=TRUE,\"Y\",\"N\")","v":"N"},{"$f":"IF(Worksheet!$C$11=TRUE,\"Y\",\"N\")","v":"N"},{"$f":"IF(Worksheet!$C$12=TRUE,\"Y\",\"N\")","v":"N"},""]
[{"$f":"IF(ISERROR(VLOOKUP(Worksheet!N294,MeasureLookup,2,FALSE))=FALSE,VLOOKUP(Worksheet!N294,MeasureLookup,2,FALSE),\"\")","v":""},{"$f":"Worksheet!Q294","v":0},{"$f":"Worksheet!R294","v":0},{"$f":"IF(ISERROR(Worksheet!P294)=FALSE,Worksheet!P294,\"\")","v":0},"Watts",null,null,{"$f":"IF(Worksheet!AP294<>\"\",IF(Worksheet!AP294>0,Worksheet!AP294/IF(Worksheet!M294>0,Worksheet!M294,Worksheet!L294),\"\"),\"\")","v":""},{"$f":"IF(ISBLANK(Worksheet!L294)=FALSE,Worksheet!L294,\"\")","v":0},{"$f":"IF(Worksheet!L294<>0, IFERROR(VLOOKUP(Worksheet!$C$16,SavingsSupportTable,3,FALSE)*Worksheet!AQ294*IFERROR(1+VLOOKUP(Worksheet!$C$16,SavingsSupportTable,MATCH(Worksheet!$G$17,HVACe_Options,0)+4,FALSE),1)/IF(Worksheet!M294>0,Worksheet!M294,Worksheet!L294),\"\"),\"\")","v":""},{"$f":"IF(Worksheet!L294<>0, IFERROR(VLOOKUP(Worksheet!$C$16,SavingsSupportTable,2,FALSE)*Worksheet!AQ294*IF(IFERROR(MATCH(Worksheet!$G$17,HVACe_Options,0),0)>0,1+VLOOKUP(Worksheet!$C$16,SavingsSupportTable,4,FALSE),1)/IF(Worksheet!M294>0,Worksheet!M294,Worksheet!L294),\"\"),\"\")","v":""},"",{"$f":"IF(Worksheet!L294<>0,IFERROR(VLOOKUP(Worksheet!$C$16,SavingsSupportTable,3,FALSE)*Worksheet!AQ294*IF(IFERROR(SEARCH(\"Gas\",Worksheet!$G$17),0)>0,VLOOKUP(\"Gas\",HVACg_Lookup,MATCH(Worksheet!$G$16,BuildingSize,0)+1,FALSE),IF(IFERROR(SEARCH(\"Oil\",Worksheet!$G$17),0)>0,VLOOKUP(\"Oil\",HVACg_Lookup,MATCH(Worksheet!$G$16,BuildingSize,0)+1,FALSE),IF(IFERROR(SEARCH(\"Propane\",Worksheet!$G$17),0)>0,VLOOKUP(\"Propane\",HVACg_Lookup,MATCH(Worksheet!$G$16,BuildingSize,0)+1,FALSE),0)))/IF(Worksheet!M294>0,Worksheet!M294,Worksheet!L294),0),\"\")","v":""},"",null,null,null,{"$f":"IF(ISBLANK(Worksheet!M294)=FALSE,Worksheet!M294,\"\")","v":0},{"$f":"IF(Worksheet!A294=\"-\",\"\",IF(Worksheet!A294=\"\",S270,Worksheet!A294))","v":""},{"$f":"IF(S271=\"\",\"\",IF(AND(Worksheet!G294=\"\",Worksheet!H294=\"\")=TRUE,T270,IF(Worksheet!G294=\"\",\"\",Worksheet!G294)))","v":""},{"$f":"IF(S271=\"\",\"\",IF(AND(Worksheet!G294=\"\",Worksheet!H294=\"\")=TRUE,U270,IF(Worksheet!H294=\"\",\"\",Worksheet!H294)))","v":""},{"$f":"IF(Worksheet!N294=\"\",\"\",Worksheet!N294)","v":""},{"$f":"IF(Worksheet!O294=\"\",\"\",Worksheet!O294)","v":""},{"$f":"IF(Worksheet!F294=0,\"\",Worksheet!F294)","v":""},{"$f":"IF(Worksheet!P294=0,\"\",Worksheet!P294)","v":""},{"$f":"IF(Worksheet!$A$11=TRUE,\"Y\",\"N\")","v":"N"},{"$f":"IF(Worksheet!$A$12=TRUE,\"Y\",\"N\")","v":"N"},{"$f":"IF(Worksheet!$B$11=TRUE,\"Y\",\"N\")","v":"N"},{"$f":"IF(Worksheet!$B$12=TRUE,\"Y\",\"N\")","v":"N"},{"$f":"IF(Worksheet!$C$11=TRUE,\"Y\",\"N\")","v":"N"},{"$f":"IF(Worksheet!$C$12=TRUE,\"Y\",\"N\")","v":"N"},""]
[{"$f":"IF(ISERROR(VLOOKUP(Worksheet!N295,MeasureLookup,2,FALSE))=FALSE,VLOOKUP(Worksheet!N295,MeasureLookup,2,FALSE),\"\")","v":""},{"$f":"Worksheet!Q295","v":0},{"$f":"Worksheet!R295","v":0},{"$f":"IF(ISERROR(Worksheet!P295)=FALSE,Worksheet!P295,\"\")","v":0},"Watts",null,null,{"$f":"IF(Worksheet!AP295<>\"\",IF(Worksheet!AP295>0,Worksheet!AP295/IF(Worksheet!M295>0,Worksheet!M295,Worksheet!L295),\"\"),\"\")","v":""},{"$f":"IF(ISBLANK(Worksheet!L295)=FALSE,Worksheet!L295,\"\")","v":0},{"$f":"IF(Worksheet!L295<>0, IFERROR(VLOOKUP(Worksheet!$C$16,SavingsSupportTable,3,FALSE)*Worksheet!AQ295*IFERROR(1+VLOOKUP(Worksheet!$C$16,SavingsSupportTable,MATCH(Worksheet!$G$17,HVACe_Options,0)+4,FALSE),1)/IF(Worksheet!M295>0,Worksheet!M295,Worksheet!L295),\"\"),\"\")","v":""},{"$f":"IF(Worksheet!L295<>0, IFERROR(VLOOKUP(Worksheet!$C$16,SavingsSupportTable,2,FALSE)*Worksheet!AQ295*IF(IFERROR(MATCH(Worksheet!$G$17,HVACe_Options,0),0)>0,1+VLOOKUP(Worksheet!$C$16,SavingsSupportTable,4,FALSE),1)/IF(Worksheet!M295>0,Worksheet!M295,Worksheet!L295),\"\"),\"\")","v":""},"",{"$f":"IF(Worksheet!L295<>0,IFERROR(VLOOKUP(Worksheet!$C$16,SavingsSupportTable,3,FALSE)*Worksheet!AQ295*IF(IFERROR(SEARCH(\"Gas\",Worksheet!$G$17),0)>0,VLOOKUP(\"Gas\",HVACg_Lookup,MATCH(Worksheet!$G$16,BuildingSize,0)+1,FALSE),IF(IFERROR(SEARCH(\"Oil\",Worksheet!$G$17),0)>0,VLOOKUP(\"Oil\",HVACg_Lookup,MATCH(Worksheet!$G$16,BuildingSize,0)+1,FALSE),IF(IFERROR(SEARCH(\"Propane\",Worksheet!$G$17),0)>0,VLOOKUP(\"Propane\",HVACg_Lookup,MATCH(Worksheet!$G$16,BuildingSize,0)+1,FALSE),0)))/IF(Worksheet!M295>0,Worksheet!M295,Worksheet!L295),0),\"\")","v":""},"",null,null,null,{"$f":"IF(ISBLANK(Worksheet!M295)=FALSE,Worksheet!M295,\"\")","v":0},{"$f":"IF(Worksheet!A295=\"-\",\"\",IF(Worksheet!A295=\"\",S271,Worksheet!A295))","v":""},{"$f":"IF(S272=\"\",\"\",IF(AND(Worksheet!G295=\"\",Worksheet!H295=\"\")=TRUE,T271,IF(Worksheet!G295=\"\",\"\",Worksheet!G295)))","v":""},{"$f":"IF(S272=\"\",\"\",IF(AND(Worksheet!G295=\"\",Worksheet!H295=\"\")=TRUE,U271,IF(Worksheet!H295=\"\",\"\",Worksheet!H295)))","v":""},{"$f":"IF(Worksheet!N295=\"\",\"\",Worksheet!N295)","v":""},{"$f":"IF(Worksheet!O295=\"\",\"\",Worksheet!O295)","v":""},{"$f":"IF(Worksheet!F295=0,\"\",Worksheet!F295)","v":""},{"$f":"IF(Worksheet!P295=0,\"\",Worksheet!P295)","v":""},{"$f":"IF(Worksheet!$A$11=TRUE,\"Y\",\"N\")","v":"N"},{"$f":"IF(Worksheet!$A$12=TRUE,\"Y\",\"N\")","v":"N"},{"$f":"IF(Worksheet!$B$11=TRUE,\"Y\",\"N\")","v":"N"},{"$f":"IF(Worksheet!$B$12=TRUE,\"Y\",\"N\")","v":"N"},{"$f":"IF(Worksheet!$C$11=TRUE,\"Y\",\"N\")","v":"N"},{"$f":"IF(Worksheet!$C$12=TRUE,\"Y\",\"N\")","v":"N"},""]
[{"$f":"IF(ISERROR(VLOOKUP(Worksheet!N296,MeasureLookup,2,FALSE))=FALSE,VLOOKUP(Worksheet!N296,MeasureLookup,2,FALSE),\"\")","v":""},{"$f":"Worksheet!Q296","v":0},{"$f":"Worksheet!R296","v":0},{"$f":"IF(ISERROR(Worksheet!P296)=FALSE,Worksheet!P296,\"\")","v":0},"Watts",null,null,{"$f":"IF(Worksheet!AP296<>\"\",IF(Worksheet!AP296>0,Worksheet!AP296/IF(Worksheet!M296>0,Worksheet!M296,Worksheet!L296),\"\"),\"\")","v":""},{"$f":"IF(ISBLANK(Worksheet!L296)=FALSE,Worksheet!L296,\"\")","v":0},{"$f":"IF(Worksheet!L296<>0, IFERROR(VLOOKUP(Worksheet!$C$16,SavingsSupportTable,3,FALSE)*Worksheet!AQ296*IFERROR(1+VLOOKUP(Worksheet!$C$16,SavingsSupportTable,MATCH(Worksheet!$G$17,HVACe_Options,0)+4,FALSE),1)/IF(Worksheet!M296>0,Worksheet!M296,Worksheet!L296),\"\"),\"\")","v":""},{"$f":"IF(Worksheet!L296<>0, IFERROR(VLOOKUP(Worksheet!$C$16,SavingsSupportTable,2,FALSE)*Worksheet!AQ296*IF(IFERROR(MATCH(Worksheet!$G$17,HVACe_Options,0),0)>0,1+VLOOKUP(Worksheet!$C$16,SavingsSupportTable,4,FALSE),1)/IF(Worksheet!M296>0,Worksheet!M296,Worksheet!L296),\"\"),\"\")","v":""},"",{"$f":"IF(Worksheet!L296<>0,IFERROR(VLOOKUP(Worksheet!$C$16,SavingsSupportTable,3,FALSE)*Worksheet!AQ296*IF(IFERROR(SEARCH(\"Gas\",Worksheet!$G$17),0)>0,VLOOKUP(\"Gas\",HVACg_Lookup,MATCH(Worksheet!$G$16,BuildingSize,0)+1,FALSE),IF(IFERROR(SEARCH(\"Oil\",Worksheet!$G$17),0)>0,VLOOKUP(\"Oil\",HVACg_Lookup,MATCH(Worksheet!$G$16,BuildingSize,0)+1,FALSE),IF(IFERROR(SEARCH(\"Propane\",Worksheet!$G$17),0)>0,VLOOKUP(\"Propane\",HVACg_Lookup,MATCH(Worksheet!$G$16,BuildingSize,0)+1,FALSE),0)))/IF(Worksheet!M296>0,Worksheet!M296,Worksheet!L296),0),\"\")","v":""},"",null,null,null,{"$f":"IF(ISBLANK(Worksheet!M296)=FALSE,Worksheet!M296,\"\")","v":0},{"$f":"IF(Worksheet!A296=\"-\",\"\",IF(Worksheet!A296=\"\",S272,Worksheet!A296))","v":""},{"$f":"IF(S273=\"\",\"\",IF(AND(Worksheet!G296=\"\",Worksheet!H296=\"\")=TRUE,T272,IF(Worksheet!G296=\"\",\"\",Worksheet!G296)))","v":""},{"$f":"IF(S273=\"\",\"\",IF(AND(Worksheet!G296=\"\",Worksheet!H296=\"\")=TRUE,U272,IF(Worksheet!H296=\"\",\"\",Worksheet!H296)))","v":""},{"$f":"IF(Worksheet!N296=\"\",\"\",Worksheet!N296)","v":""},{"$f":"IF(Worksheet!O296=\"\",\"\",Worksheet!O296)","v":""},{"$f":"IF(Worksheet!F296=0,\"\",Worksheet!F296)","v":""},{"$f":"IF(Worksheet!P296=0,\"\",Worksheet!P296)","v":""},{"$f":"IF(Worksheet!$A$11=TRUE,\"Y\",\"N\")","v":"N"},{"$f":"IF(Worksheet!$A$12=TRUE,\"Y\",\"N\")","v":"N"},{"$f":"IF(Worksheet!$B$11=TRUE,\"Y\",\"N\")","v":"N"},{"$f":"IF(Worksheet!$B$12=TRUE,\"Y\",\"N\")","v":"N"},{"$f":"IF(Worksheet!$C$11=TRUE,\"Y\",\"N\")","v":"N"},{"$f":"IF(Worksheet!$C$12=TRUE,\"Y\",\"N\")","v":"N"},""]
[{"$f":"IF(ISERROR(VLOOKUP(Worksheet!N297,MeasureLookup,2,FALSE))=FALSE,VLOOKUP(Worksheet!N297,MeasureLookup,2,FALSE),\"\")","v":""},{"$f":"Worksheet!Q297","v":0},{"$f":"Worksheet!R297","v":0},{"$f":"IF(ISERROR(Worksheet!P297)=FALSE,Worksheet!P297,\"\")","v":0},"Watts",null,null,{"$f":"IF(Worksheet!AP297<>\"\",IF(Worksheet!AP297>0,Worksheet!AP297/IF(Worksheet!M297>0,Worksheet!M297,Worksheet!L297),\"\"),\"\")","v":""},{"$f":"IF(ISBLANK(Worksheet!L297)=FALSE,Worksheet!L297,\"\")","v":0},{"$f":"IF(Worksheet!L297<>0, IFERROR(VLOOKUP(Worksheet!$C$16,SavingsSupportTable,3,FALSE)*Worksheet!AQ297*IFERROR(1+VLOOKUP(Worksheet!$C$16,SavingsSupportTable,MATCH(Worksheet!$G$17,HVACe_Options,0)+4,FALSE),1)/IF(Worksheet!M297>0,Worksheet!M297,Worksheet!L297),\"\"),\"\")","v":""},{"$f":"IF(Worksheet!L297<>0, IFERROR(VLOOKUP(Worksheet!$C$16,SavingsSupportTable,2,FALSE)*Worksheet!AQ297*IF(IFERROR(MATCH(Worksheet!$G$17,HVACe_Options,0),0)>0,1+VLOOKUP(Worksheet!$C$16,SavingsSupportTable,4,FALSE),1)/IF(Worksheet!M297>0,Worksheet!M297,Worksheet!L297),\"\"),\"\")","v":""},"",{"$f":"IF(Worksheet!L297<>0,IFERROR(VLOOKUP(Worksheet!$C$16,SavingsSupportTable,3,FALSE)*Worksheet!AQ297*IF(IFERROR(SEARCH(\"Gas\",Worksheet!$G$17),0)>0,VLOOKUP(\"Gas\",HVACg_Lookup,MATCH(Worksheet!$G$16,BuildingSize,0)+1,FALSE),IF(IFERROR(SEARCH(\"Oil\",Worksheet!$G$17),0)>0,VLOOKUP(\"Oil\",HVACg_Lookup,MATCH(Worksheet!$G$16,BuildingSize,0)+1,FALSE),IF(IFERROR(SEARCH(\"Propane\",Worksheet!$G$17),0)>0,VLOOKUP(\"Propane\",HVACg_Lookup,MATCH(Worksheet!$G$16,BuildingSize,0)+1,FALSE),0)))/IF(Worksheet!M297>0,Worksheet!M297,Worksheet!L297),0),\"\")","v":""},"",null,null,null,{"$f":"IF(ISBLANK(Worksheet!M297)=FALSE,Worksheet!M297,\"\")","v":0},{"$f":"IF(Worksheet!A297=\"-\",\"\",IF(Worksheet!A297=\"\",S273,Worksheet!A297))","v":""},{"$f":"IF(S274=\"\",\"\",IF(AND(Worksheet!G297=\"\",Worksheet!H297=\"\")=TRUE,T273,IF(Worksheet!G297=\"\",\"\",Worksheet!G297)))","v":""},{"$f":"IF(S274=\"\",\"\",IF(AND(Worksheet!G297=\"\",Worksheet!H297=\"\")=TRUE,U273,IF(Worksheet!H297=\"\",\"\",Worksheet!H297)))","v":""},{"$f":"IF(Worksheet!N297=\"\",\"\",Worksheet!N297)","v":""},{"$f":"IF(Worksheet!O297=\"\",\"\",Worksheet!O297)","v":""},{"$f":"IF(Worksheet!F297=0,\"\",Worksheet!F297)","v":""},{"$f":"IF(Worksheet!P297=0,\"\",Worksheet!P297)","v":""},{"$f":"IF(Worksheet!$A$11=TRUE,\"Y\",\"N\")","v":"N"},{"$f":"IF(Worksheet!$A$12=TRUE,\"Y\",\"N\")","v":"N"},{"$f":"IF(Worksheet!$B$11=TRUE,\"Y\",\"N\")","v":"N"},{"$f":"IF(Worksheet!$B$12=TRUE,\"Y\",\"N\")","v":"N"},{"$f":"IF(Worksheet!$C$11=TRUE,\"Y\",\"N\")","v":"N"},{"$f":"IF(Worksheet!$C$12=TRUE,\"Y\",\"N\")","v":"N"},""]
[{"$f":"IF(ISERROR(VLOOKUP(Worksheet!N298,MeasureLookup,2,FALSE))=FALSE,VLOOKUP(Worksheet!N298,MeasureLookup,2,FALSE),\"\")","v":""},{"$f":"Worksheet!Q298","v":0},{"$f":"Worksheet!R298","v":0},{"$f":"IF(ISERROR(Worksheet!P298)=FALSE,Worksheet!P298,\"\")","v":0},"Watts",null,null,{"$f":"IF(Worksheet!AP298<>\"\",IF(Worksheet!AP298>0,Worksheet!AP298/IF(Worksheet!M298>0,Worksheet!M298,Worksheet!L298),\"\"),\"\")","v":""},{"$f":"IF(ISBLANK(Worksheet!L298)=FALSE,Worksheet!L298,\"\")","v":0},{"$f":"IF(Worksheet!L298<>0, IFERROR(VLOOKUP(Worksheet!$C$16,SavingsSupportTable,3,FALSE)*Worksheet!AQ298*IFERROR(1+VLOOKUP(Worksheet!$C$16,SavingsSupportTable,MATCH(Worksheet!$G$17,HVACe_Options,0)+4,FALSE),1)/IF(Worksheet!M298>0,Worksheet!M298,Worksheet!L298),\"\"),\"\")","v":""},{"$f":"IF(Worksheet!L298<>0, IFERROR(VLOOKUP(Worksheet!$C$16,SavingsSupportTable,2,FALSE)*Worksheet!AQ298*IF(IFERROR(MATCH(Worksheet!$G$17,HVACe_Options,0),0)>0,1+VLOOKUP(Worksheet!$C$16,SavingsSupportTable,4,FALSE),1)/IF(Worksheet!M298>0,Worksheet!M298,Worksheet!L298),\"\"),\"\")","v":""},"",{"$f":"IF(Worksheet!L298<>0,IFERROR(VLOOKUP(Worksheet!$C$16,SavingsSupportTable,3,FALSE)*Worksheet!AQ298*IF(IFERROR(SEARCH(\"Gas\",Worksheet!$G$17),0)>0,VLOOKUP(\"Gas\",HVACg_Lookup,MATCH(Worksheet!$G$16,BuildingSize,0)+1,FALSE),IF(IFERROR(SEARCH(\"Oil\",Worksheet!$G$17),0)>0,VLOOKUP(\"Oil\",HVACg_Lookup,MATCH(Worksheet!$G$16,BuildingSize,0)+1,FALSE),IF(IFERROR(SEARCH(\"Propane\",Worksheet!$G$17),0)>0,VLOOKUP(\"Propane\",HVACg_Lookup,MATCH(Worksheet!$G$16,BuildingSize,0)+1,FALSE),0)))/IF(Worksheet!M298>0,Worksheet!M298,Worksheet!L298),0),\"\")","v":""},"",null,null,null,{"$f":"IF(ISBLANK(Worksheet!M298)=FALSE,Worksheet!M298,\"\")","v":0},{"$f":"IF(Worksheet!A298=\"-\",\"\",IF(Worksheet!A298=\"\",S274,Worksheet!A298))","v":""},{"$f":"IF(S275=\"\",\"\",IF(AND(Worksheet!G298=\"\",Worksheet!H298=\"\")=TRUE,T274,IF(Worksheet!G298=\"\",\"\",Worksheet!G298)))","v":""},{"$f":"IF(S275=\"\",\"\",IF(AND(Worksheet!G298=\"\",Worksheet!H298=\"\")=TRUE,U274,IF(Worksheet!H298=\"\",\"\",Worksheet!H298)))","v":""},{"$f":"IF(Worksheet!N298=\"\",\"\",Worksheet!N298)","v":""},{"$f":"IF(Worksheet!O298=\"\",\"\",Worksheet!O298)","v":""},{"$f":"IF(Worksheet!F298=0,\"\",Worksheet!F298)","v":""},{"$f":"IF(Worksheet!P298=0,\"\",Worksheet!P298)","v":""},{"$f":"IF(Worksheet!$A$11=TRUE,\"Y\",\"N\")","v":"N"},{"$f":"IF(Worksheet!$A$12=TRUE,\"Y\",\"N\")","v":"N"},{"$f":"IF(Worksheet!$B$11=TRUE,\"Y\",\"N\")","v":"N"},{"$f":"IF(Worksheet!$B$12=TRUE,\"Y\",\"N\")","v":"N"},{"$f":"IF(Worksheet!$C$11=TRUE,\"Y\",\"N\")","v":"N"},{"$f":"IF(Worksheet!$C$12=TRUE,\"Y\",\"N\")","v":"N"},""]
[{"$f":"IF(ISERROR(VLOOKUP(Worksheet!N299,MeasureLookup,2,FALSE))=FALSE,VLOOKUP(Worksheet!N299,MeasureLookup,2,FALSE),\"\")","v":""},{"$f":"Worksheet!Q299","v":0},{"$f":"Worksheet!R299","v":0},{"$f":"IF(ISERROR(Worksheet!P299)=FALSE,Worksheet!P299,\"\")","v":0},"Watts",null,null,{"$f":"IF(Worksheet!AP299<>\"\",IF(Worksheet!AP299>0,Worksheet!AP299/IF(Worksheet!M299>0,Worksheet!M299,Worksheet!L299),\"\"),\"\")","v":""},{"$f":"IF(ISBLANK(Worksheet!L299)=FALSE,Worksheet!L299,\"\")","v":0},{"$f":"IF(Worksheet!L299<>0, IFERROR(VLOOKUP(Worksheet!$C$16,SavingsSupportTable,3,FALSE)*Worksheet!AQ299*IFERROR(1+VLOOKUP(Worksheet!$C$16,SavingsSupportTable,MATCH(Worksheet!$G$17,HVACe_Options,0)+4,FALSE),1)/IF(Worksheet!M299>0,Worksheet!M299,Worksheet!L299),\"\"),\"\")","v":""},{"$f":"IF(Worksheet!L299<>0, IFERROR(VLOOKUP(Worksheet!$C$16,SavingsSupportTable,2,FALSE)*Worksheet!AQ299*IF(IFERROR(MATCH(Worksheet!$G$17,HVACe_Options,0),0)>0,1+VLOOKUP(Worksheet!$C$16,SavingsSupportTable,4,FALSE),1)/IF(Worksheet!M299>0,Worksheet!M299,Worksheet!L299),\"\"),\"\")","v":""},"",{"$f":"IF(Worksheet!L299<>0,IFERROR(VLOOKUP(Worksheet!$C$16,SavingsSupportTable,3,FALSE)*Worksheet!AQ299*IF(IFERROR(SEARCH(\"Gas\",Worksheet!$G$17),0)>0,VLOOKUP(\"Gas\",HVACg_Lookup,MATCH(Worksheet!$G$16,BuildingSize,0)+1,FALSE),IF(IFERROR(SEARCH(\"Oil\",Worksheet!$G$17),0)>0,VLOOKUP(\"Oil\",HVACg_Lookup,MATCH(Worksheet!$G$16,BuildingSize,0)+1,FALSE),IF(IFERROR(SEARCH(\"Propane\",Worksheet!$G$17),0)>0,VLOOKUP(\"Propane\",HVACg_Lookup,MATCH(Worksheet!$G$16,BuildingSize,0)+1,FALSE),0)))/IF(Worksheet!M299>0,Worksheet!M299,Worksheet!L299),0),\"\")","v":""},"",null,null,null,{"$f":"IF(ISBLANK(Worksheet!M299)=FALSE,Worksheet!M299,\"\")","v":0},{"$f":"IF(Worksheet!A299=\"-\",\"\",IF(Worksheet!A299=\"\",S275,Worksheet!A299))","v":""},{"$f":"IF(S276=\"\",\"\",IF(AND(Worksheet!G299=\"\",Worksheet!H299=\"\")=TRUE,T275,IF(Worksheet!G299=\"\",\"\",Worksheet!G299)))","v":""},{"$f":"IF(S276=\"\",\"\",IF(AND(Worksheet!G299=\"\",Worksheet!H299=\"\")=TRUE,U275,IF(Worksheet!H299=\"\",\"\",Worksheet!H299)))","v":""},{"$f":"IF(Worksheet!N299=\"\",\"\",Worksheet!N299)","v":""},{"$f":"IF(Worksheet!O299=\"\",\"\",Worksheet!O299)","v":""},{"$f":"IF(Worksheet!F299=0,\"\",Worksheet!F299)","v":""},{"$f":"IF(Worksheet!P299=0,\"\",Worksheet!P299)","v":""},{"$f":"IF(Worksheet!$A$11=TRUE,\"Y\",\"N\")","v":"N"},{"$f":"IF(Worksheet!$A$12=TRUE,\"Y\",\"N\")","v":"N"},{"$f":"IF(Worksheet!$B$11=TRUE,\"Y\",\"N\")","v":"N"},{"$f":"IF(Worksheet!$B$12=TRUE,\"Y\",\"N\")","v":"N"},{"$f":"IF(Worksheet!$C$11=TRUE,\"Y\",\"N\")","v":"N"},{"$f":"IF(Worksheet!$C$12=TRUE,\"Y\",\"N\")","v":"N"},""]
[{"$f":"IF(ISERROR(VLOOKUP(Worksheet!N300,MeasureLookup,2,FALSE))=FALSE,VLOOKUP(Worksheet!N300,MeasureLookup,2,FALSE),\"\")","v":""},{"$f":"Worksheet!Q300","v":0},{"$f":"Worksheet!R300","v":0},{"$f":"IF(ISERROR(Worksheet!P300)=FALSE,Worksheet!P300,\"\")","v":0},"Watts",null,null,{"$f":"IF(Worksheet!AP300<>\"\",IF(Worksheet!AP300>0,Worksheet!AP300/IF(Worksheet!M300>0,Worksheet!M300,Worksheet!L300),\"\"),\"\")","v":""},{"$f":"IF(ISBLANK(Worksheet!L300)=FALSE,Worksheet!L300,\"\")","v":0},{"$f":"IF(Worksheet!L300<>0, IFERROR(VLOOKUP(Worksheet!$C$16,SavingsSupportTable,3,FALSE)*Worksheet!AQ300*IFERROR(1+VLOOKUP(Worksheet!$C$16,SavingsSupportTable,MATCH(Worksheet!$G$17,HVACe_Options,0)+4,FALSE),1)/IF(Worksheet!M300>0,Worksheet!M300,Worksheet!L300),\"\"),\"\")","v":""},{"$f":"IF(Worksheet!L300<>0, IFERROR(VLOOKUP(Worksheet!$C$16,SavingsSupportTable,2,FALSE)*Worksheet!AQ300*IF(IFERROR(MATCH(Worksheet!$G$17,HVACe_Options,0),0)>0,1+VLOOKUP(Worksheet!$C$16,SavingsSupportTable,4,FALSE),1)/IF(Worksheet!M300>0,Worksheet!M300,Worksheet!L300),\"\"),\"\")","v":""},"",{"$f":"IF(Worksheet!L300<>0,IFERROR(VLOOKUP(Worksheet!$C$16,SavingsSupportTable,3,FALSE)*Worksheet!AQ300*IF(IFERROR(SEARCH(\"Gas\",Worksheet!$G$17),0)>0,VLOOKUP(\"Gas\",HVACg_Lookup,MATCH(Worksheet!$G$16,BuildingSize,0)+1,FALSE),IF(IFERROR(SEARCH(\"Oil\",Worksheet!$G$17),0)>0,VLOOKUP(\"Oil\",HVACg_Lookup,MATCH(Worksheet!$G$16,BuildingSize,0)+1,FALSE),IF(IFERROR(SEARCH(\"Propane\",Worksheet!$G$17),0)>0,VLOOKUP(\"Propane\",HVACg_Lookup,MATCH(Worksheet!$G$16,BuildingSize,0)+1,FALSE),0)))/IF(Worksheet!M300>0,Worksheet!M300,Worksheet!L300),0),\"\")","v":""},"",null,null,null,{"$f":"IF(ISBLANK(Worksheet!M300)=FALSE,Worksheet!M300,\"\")","v":0},{"$f":"IF(Worksheet!A300=\"-\",\"\",IF(Worksheet!A300=\"\",S276,Worksheet!A300))","v":""},{"$f":"IF(S277=\"\",\"\",IF(AND(Worksheet!G300=\"\",Worksheet!H300=\"\")=TRUE,T276,IF(Worksheet!G300=\"\",\"\",Worksheet!G300)))","v":""},{"$f":"IF(S277=\"\",\"\",IF(AND(Worksheet!G300=\"\",Worksheet!H300=\"\")=TRUE,U276,IF(Worksheet!H300=\"\",\"\",Worksheet!H300)))","v":""},{"$f":"IF(Worksheet!N300=\"\",\"\",Worksheet!N300)","v":""},{"$f":"IF(Worksheet!O300=\"\",\"\",Worksheet!O300)","v":""},{"$f":"IF(Worksheet!F300=0,\"\",Worksheet!F300)","v":""},{"$f":"IF(Worksheet!P300=0,\"\",Worksheet!P300)","v":""},{"$f":"IF(Worksheet!$A$11=TRUE,\"Y\",\"N\")","v":"N"},{"$f":"IF(Worksheet!$A$12=TRUE,\"Y\",\"N\")","v":"N"},{"$f":"IF(Worksheet!$B$11=TRUE,\"Y\",\"N\")","v":"N"},{"$f":"IF(Worksheet!$B$12=TRUE,\"Y\",\"N\")","v":"N"},{"$f":"IF(Worksheet!$C$11=TRUE,\"Y\",\"N\")","v":"N"},{"$f":"IF(Worksheet!$C$12=TRUE,\"Y\",\"N\")","v":"N"},""]
[{"$f":"IF(ISERROR(VLOOKUP(Worksheet!N301,MeasureLookup,2,FALSE))=FALSE,VLOOKUP(Worksheet!N301,MeasureLookup,2,FALSE),\"\")","v":""},{"$f":"Worksheet!Q301","v":0},{"$f":"Worksheet!R301","v":0},{"$f":"IF(ISERROR(Worksheet!P301)=FALSE,Worksheet!P301,\"\")","v":0},"Watts",null,null,{"$f":"IF(Worksheet!AP301<>\"\",IF(Worksheet!AP301>0,Worksheet!AP301/IF(Worksheet!M301>0,Worksheet!M301,Worksheet!L301),\"\"),\"\")","v":""},{"$f":"IF(ISBLANK(Worksheet!L301)=FALSE,Worksheet!L301,\"\")","v":0},{"$f":"IF(Worksheet!L301<>0, IFERROR(VLOOKUP(Worksheet!$C$16,SavingsSupportTable,3,FALSE)*Worksheet!AQ301*IFERROR(1+VLOOKUP(Worksheet!$C$16,SavingsSupportTable,MATCH(Worksheet!$G$17,HVACe_Options,0)+4,FALSE),1)/IF(Worksheet!M301>0,Worksheet!M301,Worksheet!L301),\"\"),\"\")","v":""},{"$f":"IF(Worksheet!L301<>0, IFERROR(VLOOKUP(Worksheet!$C$16,SavingsSupportTable,2,FALSE)*Worksheet!AQ301*IF(IFERROR(MATCH(Worksheet!$G$17,HVACe_Options,0),0)>0,1+VLOOKUP(Worksheet!$C$16,SavingsSupportTable,4,FALSE),1)/IF(Worksheet!M301>0,Worksheet!M301,Worksheet!L301),\"\"),\"\")","v":""},"",{"$f":"IF(Worksheet!L301<>0,IFERROR(VLOOKUP(Worksheet!$C$16,SavingsSupportTable,3,FALSE)*Worksheet!AQ301*IF(IFERROR(SEARCH(\"Gas\",Worksheet!$G$17),0)>0,VLOOKUP(\"Gas\",HVACg_Lookup,MATCH(Worksheet!$G$16,BuildingSize,0)+1,FALSE),IF(IFERROR(SEARCH(\"Oil\",Worksheet!$G$17),0)>0,VLOOKUP(\"Oil\",HVACg_Lookup,MATCH(Worksheet!$G$16,BuildingSize,0)+1,FALSE),IF(IFERROR(SEARCH(\"Propane\",Worksheet!$G$17),0)>0,VLOOKUP(\"Propane\",HVACg_Lookup,MATCH(Worksheet!$G$16,BuildingSize,0)+1,FALSE),0)))/IF(Worksheet!M301>0,Worksheet!M301,Worksheet!L301),0),\"\")","v":""},"",null,null,null,{"$f":"IF(ISBLANK(Worksheet!M301)=FALSE,Worksheet!M301,\"\")","v":0},{"$f":"IF(Worksheet!A301=\"-\",\"\",IF(Worksheet!A301=\"\",S277,Worksheet!A301))","v":""},{"$f":"IF(S278=\"\",\"\",IF(AND(Worksheet!G301=\"\",Worksheet!H301=\"\")=TRUE,T277,IF(Worksheet!G301=\"\",\"\",Worksheet!G301)))","v":""},{"$f":"IF(S278=\"\",\"\",IF(AND(Worksheet!G301=\"\",Worksheet!H301=\"\")=TRUE,U277,IF(Worksheet!H301=\"\",\"\",Worksheet!H301)))","v":""},{"$f":"IF(Worksheet!N301=\"\",\"\",Worksheet!N301)","v":""},{"$f":"IF(Worksheet!O301=\"\",\"\",Worksheet!O301)","v":""},{"$f":"IF(Worksheet!F301=0,\"\",Worksheet!F301)","v":""},{"$f":"IF(Worksheet!P301=0,\"\",Worksheet!P301)","v":""},{"$f":"IF(Worksheet!$A$11=TRUE,\"Y\",\"N\")","v":"N"},{"$f":"IF(Worksheet!$A$12=TRUE,\"Y\",\"N\")","v":"N"},{"$f":"IF(Worksheet!$B$11=TRUE,\"Y\",\"N\")","v":"N"},{"$f":"IF(Worksheet!$B$12=TRUE,\"Y\",\"N\")","v":"N"},{"$f":"IF(Worksheet!$C$11=TRUE,\"Y\",\"N\")","v":"N"},{"$f":"IF(Worksheet!$C$12=TRUE,\"Y\",\"N\")","v":"N"},""]
[{"$f":"IF(ISERROR(VLOOKUP(Worksheet!N302,MeasureLookup,2,FALSE))=FALSE,VLOOKUP(Worksheet!N302,MeasureLookup,2,FALSE),\"\")","v":""},{"$f":"Worksheet!Q302","v":0},{"$f":"Worksheet!R302","v":0},{"$f":"IF(ISERROR(Worksheet!P302)=FALSE,Worksheet!P302,\"\")","v":0},"Watts",null,null,{"$f":"IF(Worksheet!AP302<>\"\",IF(Worksheet!AP302>0,Worksheet!AP302/IF(Worksheet!M302>0,Worksheet!M302,Worksheet!L302),\"\"),\"\")","v":""},{"$f":"IF(ISBLANK(Worksheet!L302)=FALSE,Worksheet!L302,\"\")","v":0},{"$f":"IF(Worksheet!L302<>0, IFERROR(VLOOKUP(Worksheet!$C$16,SavingsSupportTable,3,FALSE)*Worksheet!AQ302*IFERROR(1+VLOOKUP(Worksheet!$C$16,SavingsSupportTable,MATCH(Worksheet!$G$17,HVACe_Options,0)+4,FALSE),1)/IF(Worksheet!M302>0,Worksheet!M302,Worksheet!L302),\"\"),\"\")","v":""},{"$f":"IF(Worksheet!L302<>0, IFERROR(VLOOKUP(Worksheet!$C$16,SavingsSupportTable,2,FALSE)*Worksheet!AQ302*IF(IFERROR(MATCH(Worksheet!$G$17,HVACe_Options,0),0)>0,1+VLOOKUP(Worksheet!$C$16,SavingsSupportTable,4,FALSE),1)/IF(Worksheet!M302>0,Worksheet!M302,Worksheet!L302),\"\"),\"\")","v":""},"",{"$f":"IF(Worksheet!L302<>0,IFERROR(VLOOKUP(Worksheet!$C$16,SavingsSupportTable,3,FALSE)*Worksheet!AQ302*IF(IFERROR(SEARCH(\"Gas\",Worksheet!$G$17),0)>0,VLOOKUP(\"Gas\",HVACg_Lookup,MATCH(Worksheet!$G$16,BuildingSize,0)+1,FALSE),IF(IFERROR(SEARCH(\"Oil\",Worksheet!$G$17),0)>0,VLOOKUP(\"Oil\",HVACg_Lookup,MATCH(Worksheet!$G$16,BuildingSize,0)+1,FALSE),IF(IFERROR(SEARCH(\"Propane\",Worksheet!$G$17),0)>0,VLOOKUP(\"Propane\",HVACg_Lookup,MATCH(Worksheet!$G$16,BuildingSize,0)+1,FALSE),0)))/IF(Worksheet!M302>0,Worksheet!M302,Worksheet!L302),0),\"\")","v":""},"",null,null,null,{"$f":"IF(ISBLANK(Worksheet!M302)=FALSE,Worksheet!M302,\"\")","v":0},{"$f":"IF(Worksheet!A302=\"-\",\"\",IF(Worksheet!A302=\"\",S278,Worksheet!A302))","v":""},{"$f":"IF(S279=\"\",\"\",IF(AND(Worksheet!G302=\"\",Worksheet!H302=\"\")=TRUE,T278,IF(Worksheet!G302=\"\",\"\",Worksheet!G302)))","v":""},{"$f":"IF(S279=\"\",\"\",IF(AND(Worksheet!G302=\"\",Worksheet!H302=\"\")=TRUE,U278,IF(Worksheet!H302=\"\",\"\",Worksheet!H302)))","v":""},{"$f":"IF(Worksheet!N302=\"\",\"\",Worksheet!N302)","v":""},{"$f":"IF(Worksheet!O302=\"\",\"\",Worksheet!O302)","v":""},{"$f":"IF(Worksheet!F302=0,\"\",Worksheet!F302)","v":""},{"$f":"IF(Worksheet!P302=0,\"\",Worksheet!P302)","v":""},{"$f":"IF(Worksheet!$A$11=TRUE,\"Y\",\"N\")","v":"N"},{"$f":"IF(Worksheet!$A$12=TRUE,\"Y\",\"N\")","v":"N"},{"$f":"IF(Worksheet!$B$11=TRUE,\"Y\",\"N\")","v":"N"},{"$f":"IF(Worksheet!$B$12=TRUE,\"Y\",\"N\")","v":"N"},{"$f":"IF(Worksheet!$C$11=TRUE,\"Y\",\"N\")","v":"N"},{"$f":"IF(Worksheet!$C$12=TRUE,\"Y\",\"N\")","v":"N"},""]
[{"$f":"IF(ISERROR(VLOOKUP(Worksheet!N303,MeasureLookup,2,FALSE))=FALSE,VLOOKUP(Worksheet!N303,MeasureLookup,2,FALSE),\"\")","v":""},{"$f":"Worksheet!Q303","v":0},{"$f":"Worksheet!R303","v":0},{"$f":"IF(ISERROR(Worksheet!P303)=FALSE,Worksheet!P303,\"\")","v":0},"Watts",null,null,{"$f":"IF(Worksheet!AP303<>\"\",IF(Worksheet!AP303>0,Worksheet!AP303/IF(Worksheet!M303>0,Worksheet!M303,Worksheet!L303),\"\"),\"\")","v":""},{"$f":"IF(ISBLANK(Worksheet!L303)=FALSE,Worksheet!L303,\"\")","v":0},{"$f":"IF(Worksheet!L303<>0, IFERROR(VLOOKUP(Worksheet!$C$16,SavingsSupportTable,3,FALSE)*Worksheet!AQ303*IFERROR(1+VLOOKUP(Worksheet!$C$16,SavingsSupportTable,MATCH(Worksheet!$G$17,HVACe_Options,0)+4,FALSE),1)/IF(Worksheet!M303>0,Worksheet!M303,Worksheet!L303),\"\"),\"\")","v":""},{"$f":"IF(Worksheet!L303<>0, IFERROR(VLOOKUP(Worksheet!$C$16,SavingsSupportTable,2,FALSE)*Worksheet!AQ303*IF(IFERROR(MATCH(Worksheet!$G$17,HVACe_Options,0),0)>0,1+VLOOKUP(Worksheet!$C$16,SavingsSupportTable,4,FALSE),1)/IF(Worksheet!M303>0,Worksheet!M303,Worksheet!L303),\"\"),\"\")","v":""},"",{"$f":"IF(Worksheet!L303<>0,IFERROR(VLOOKUP(Worksheet!$C$16,SavingsSupportTable,3,FALSE)*Worksheet!AQ303*IF(IFERROR(SEARCH(\"Gas\",Worksheet!$G$17),0)>0,VLOOKUP(\"Gas\",HVACg_Lookup,MATCH(Worksheet!$G$16,BuildingSize,0)+1,FALSE),IF(IFERROR(SEARCH(\"Oil\",Worksheet!$G$17),0)>0,VLOOKUP(\"Oil\",HVACg_Lookup,MATCH(Worksheet!$G$16,BuildingSize,0)+1,FALSE),IF(IFERROR(SEARCH(\"Propane\",Worksheet!$G$17),0)>0,VLOOKUP(\"Propane\",HVACg_Lookup,MATCH(Worksheet!$G$16,BuildingSize,0)+1,FALSE),0)))/IF(Worksheet!M303>0,Worksheet!M303,Worksheet!L303),0),\"\")","v":""},"",null,null,null,{"$f":"IF(ISBLANK(Worksheet!M303)=FALSE,Worksheet!M303,\"\")","v":0},{"$f":"IF(Worksheet!A303=\"-\",\"\",IF(Worksheet!A303=\"\",S279,Worksheet!A303))","v":""},{"$f":"IF(S280=\"\",\"\",IF(AND(Worksheet!G303=\"\",Worksheet!H303=\"\")=TRUE,T279,IF(Worksheet!G303=\"\",\"\",Worksheet!G303)))","v":""},{"$f":"IF(S280=\"\",\"\",IF(AND(Worksheet!G303=\"\",Worksheet!H303=\"\")=TRUE,U279,IF(Worksheet!H303=\"\",\"\",Worksheet!H303)))","v":""},{"$f":"IF(Worksheet!N303=\"\",\"\",Worksheet!N303)","v":""},{"$f":"IF(Worksheet!O303=\"\",\"\",Worksheet!O303)","v":""},{"$f":"IF(Worksheet!F303=0,\"\",Worksheet!F303)","v":""},{"$f":"IF(Worksheet!P303=0,\"\",Worksheet!P303)","v":""},{"$f":"IF(Worksheet!$A$11=TRUE,\"Y\",\"N\")","v":"N"},{"$f":"IF(Worksheet!$A$12=TRUE,\"Y\",\"N\")","v":"N"},{"$f":"IF(Worksheet!$B$11=TRUE,\"Y\",\"N\")","v":"N"},{"$f":"IF(Worksheet!$B$12=TRUE,\"Y\",\"N\")","v":"N"},{"$f":"IF(Worksheet!$C$11=TRUE,\"Y\",\"N\")","v":"N"},{"$f":"IF(Worksheet!$C$12=TRUE,\"Y\",\"N\")","v":"N"},""]
[{"$f":"IF(ISERROR(VLOOKUP(Worksheet!N304,MeasureLookup,2,FALSE))=FALSE,VLOOKUP(Worksheet!N304,MeasureLookup,2,FALSE),\"\")","v":""},{"$f":"Worksheet!Q304","v":0},{"$f":"Worksheet!R304","v":0},{"$f":"IF(ISERROR(Worksheet!P304)=FALSE,Worksheet!P304,\"\")","v":0},"Watts",null,null,{"$f":"IF(Worksheet!AP304<>\"\",IF(Worksheet!AP304>0,Worksheet!AP304/IF(Worksheet!M304>0,Worksheet!M304,Worksheet!L304),\"\"),\"\")","v":""},{"$f":"IF(ISBLANK(Worksheet!L304)=FALSE,Worksheet!L304,\"\")","v":0},{"$f":"IF(Worksheet!L304<>0, IFERROR(VLOOKUP(Worksheet!$C$16,SavingsSupportTable,3,FALSE)*Worksheet!AQ304*IFERROR(1+VLOOKUP(Worksheet!$C$16,SavingsSupportTable,MATCH(Worksheet!$G$17,HVACe_Options,0)+4,FALSE),1)/IF(Worksheet!M304>0,Worksheet!M304,Worksheet!L304),\"\"),\"\")","v":""},{"$f":"IF(Worksheet!L304<>0, IFERROR(VLOOKUP(Worksheet!$C$16,SavingsSupportTable,2,FALSE)*Worksheet!AQ304*IF(IFERROR(MATCH(Worksheet!$G$17,HVACe_Options,0),0)>0,1+VLOOKUP(Worksheet!$C$16,SavingsSupportTable,4,FALSE),1)/IF(Worksheet!M304>0,Worksheet!M304,Worksheet!L304),\"\"),\"\")","v":""},"",{"$f":"IF(Worksheet!L304<>0,IFERROR(VLOOKUP(Worksheet!$C$16,SavingsSupportTable,3,FALSE)*Worksheet!AQ304*IF(IFERROR(SEARCH(\"Gas\",Worksheet!$G$17),0)>0,VLOOKUP(\"Gas\",HVACg_Lookup,MATCH(Worksheet!$G$16,BuildingSize,0)+1,FALSE),IF(IFERROR(SEARCH(\"Oil\",Worksheet!$G$17),0)>0,VLOOKUP(\"Oil\",HVACg_Lookup,MATCH(Worksheet!$G$16,BuildingSize,0)+1,FALSE),IF(IFERROR(SEARCH(\"Propane\",Worksheet!$G$17),0)>0,VLOOKUP(\"Propane\",HVACg_Lookup,MATCH(Worksheet!$G$16,BuildingSize,0)+1,FALSE),0)))/IF(Worksheet!M304>0,Worksheet!M304,Worksheet!L304),0),\"\")","v":""},"",null,null,null,{"$f":"IF(ISBLANK(Worksheet!M304)=FALSE,Worksheet!M304,\"\")","v":0},{"$f":"IF(Worksheet!A304=\"-\",\"\",IF(Worksheet!A304=\"\",S280,Worksheet!A304))","v":""},{"$f":"IF(S281=\"\",\"\",IF(AND(Worksheet!G304=\"\",Worksheet!H304=\"\")=TRUE,T280,IF(Worksheet!G304=\"\",\"\",Worksheet!G304)))","v":""},{"$f":"IF(S281=\"\",\"\",IF(AND(Worksheet!G304=\"\",Worksheet!H304=\"\")=TRUE,U280,IF(Worksheet!H304=\"\",\"\",Worksheet!H304)))","v":""},{"$f":"IF(Worksheet!N304=\"\",\"\",Worksheet!N304)","v":""},{"$f":"IF(Worksheet!O304=\"\",\"\",Worksheet!O304)","v":""},{"$f":"IF(Worksheet!F304=0,\"\",Worksheet!F304)","v":""},{"$f":"IF(Worksheet!P304=0,\"\",Worksheet!P304)","v":""},{"$f":"IF(Worksheet!$A$11=TRUE,\"Y\",\"N\")","v":"N"},{"$f":"IF(Worksheet!$A$12=TRUE,\"Y\",\"N\")","v":"N"},{"$f":"IF(Worksheet!$B$11=TRUE,\"Y\",\"N\")","v":"N"},{"$f":"IF(Worksheet!$B$12=TRUE,\"Y\",\"N\")","v":"N"},{"$f":"IF(Worksheet!$C$11=TRUE,\"Y\",\"N\")","v":"N"},{"$f":"IF(Worksheet!$C$12=TRUE,\"Y\",\"N\")","v":"N"},""]
[{"$f":"IF(ISERROR(VLOOKUP(Worksheet!N305,MeasureLookup,2,FALSE))=FALSE,VLOOKUP(Worksheet!N305,MeasureLookup,2,FALSE),\"\")","v":""},{"$f":"Worksheet!Q305","v":0},{"$f":"Worksheet!R305","v":0},{"$f":"IF(ISERROR(Worksheet!P305)=FALSE,Worksheet!P305,\"\")","v":0},"Watts",null,null,{"$f":"IF(Worksheet!AP305<>\"\",IF(Worksheet!AP305>0,Worksheet!AP305/IF(Worksheet!M305>0,Worksheet!M305,Worksheet!L305),\"\"),\"\")","v":""},{"$f":"IF(ISBLANK(Worksheet!L305)=FALSE,Worksheet!L305,\"\")","v":0},{"$f":"IF(Worksheet!L305<>0, IFERROR(VLOOKUP(Worksheet!$C$16,SavingsSupportTable,3,FALSE)*Worksheet!AQ305*IFERROR(1+VLOOKUP(Worksheet!$C$16,SavingsSupportTable,MATCH(Worksheet!$G$17,HVACe_Options,0)+4,FALSE),1)/IF(Worksheet!M305>0,Worksheet!M305,Worksheet!L305),\"\"),\"\")","v":""},{"$f":"IF(Worksheet!L305<>0, IFERROR(VLOOKUP(Worksheet!$C$16,SavingsSupportTable,2,FALSE)*Worksheet!AQ305*IF(IFERROR(MATCH(Worksheet!$G$17,HVACe_Options,0),0)>0,1+VLOOKUP(Worksheet!$C$16,SavingsSupportTable,4,FALSE),1)/IF(Worksheet!M305>0,Worksheet!M305,Worksheet!L305),\"\"),\"\")","v":""},"",{"$f":"IF(Worksheet!L305<>0,IFERROR(VLOOKUP(Worksheet!$C$16,SavingsSupportTable,3,FALSE)*Worksheet!AQ305*IF(IFERROR(SEARCH(\"Gas\",Worksheet!$G$17),0)>0,VLOOKUP(\"Gas\",HVACg_Lookup,MATCH(Worksheet!$G$16,BuildingSize,0)+1,FALSE),IF(IFERROR(SEARCH(\"Oil\",Worksheet!$G$17),0)>0,VLOOKUP(\"Oil\",HVACg_Lookup,MATCH(Worksheet!$G$16,BuildingSize,0)+1,FALSE),IF(IFERROR(SEARCH(\"Propane\",Worksheet!$G$17),0)>0,VLOOKUP(\"Propane\",HVACg_Lookup,MATCH(Worksheet!$G$16,BuildingSize,0)+1,FALSE),0)))/IF(Worksheet!M305>0,Worksheet!M305,Worksheet!L305),0),\"\")","v":""},"",null,null,null,{"$f":"IF(ISBLANK(Worksheet!M305)=FALSE,Worksheet!M305,\"\")","v":0},{"$f":"IF(Worksheet!A305=\"-\",\"\",IF(Worksheet!A305=\"\",S281,Worksheet!A305))","v":""},{"$f":"IF(S282=\"\",\"\",IF(AND(Worksheet!G305=\"\",Worksheet!H305=\"\")=TRUE,T281,IF(Worksheet!G305=\"\",\"\",Worksheet!G305)))","v":""},{"$f":"IF(S282=\"\",\"\",IF(AND(Worksheet!G305=\"\",Worksheet!H305=\"\")=TRUE,U281,IF(Worksheet!H305=\"\",\"\",Worksheet!H305)))","v":""},{"$f":"IF(Worksheet!N305=\"\",\"\",Worksheet!N305)","v":""},{"$f":"IF(Worksheet!O305=\"\",\"\",Worksheet!O305)","v":""},{"$f":"IF(Worksheet!F305=0,\"\",Worksheet!F305)","v":""},{"$f":"IF(Worksheet!P305=0,\"\",Worksheet!P305)","v":""},{"$f":"IF(Worksheet!$A$11=TRUE,\"Y\",\"N\")","v":"N"},{"$f":"IF(Worksheet!$A$12=TRUE,\"Y\",\"N\")","v":"N"},{"$f":"IF(Worksheet!$B$11=TRUE,\"Y\",\"N\")","v":"N"},{"$f":"IF(Worksheet!$B$12=TRUE,\"Y\",\"N\")","v":"N"},{"$f":"IF(Worksheet!$C$11=TRUE,\"Y\",\"N\")","v":"N"},{"$f":"IF(Worksheet!$C$12=TRUE,\"Y\",\"N\")","v":"N"},""]
[{"$f":"IF(ISERROR(VLOOKUP(Worksheet!N306,MeasureLookup,2,FALSE))=FALSE,VLOOKUP(Worksheet!N306,MeasureLookup,2,FALSE),\"\")","v":""},{"$f":"Worksheet!Q306","v":0},{"$f":"Worksheet!R306","v":0},{"$f":"IF(ISERROR(Worksheet!P306)=FALSE,Worksheet!P306,\"\")","v":0},"Watts",null,null,{"$f":"IF(Worksheet!AP306<>\"\",IF(Worksheet!AP306>0,Worksheet!AP306/IF(Worksheet!M306>0,Worksheet!M306,Worksheet!L306),\"\"),\"\")","v":""},{"$f":"IF(ISBLANK(Worksheet!L306)=FALSE,Worksheet!L306,\"\")","v":0},{"$f":"IF(Worksheet!L306<>0, IFERROR(VLOOKUP(Worksheet!$C$16,SavingsSupportTable,3,FALSE)*Worksheet!AQ306*IFERROR(1+VLOOKUP(Worksheet!$C$16,SavingsSupportTable,MATCH(Worksheet!$G$17,HVACe_Options,0)+4,FALSE),1)/IF(Worksheet!M306>0,Worksheet!M306,Worksheet!L306),\"\"),\"\")","v":""},{"$f":"IF(Worksheet!L306<>0, IFERROR(VLOOKUP(Worksheet!$C$16,SavingsSupportTable,2,FALSE)*Worksheet!AQ306*IF(IFERROR(MATCH(Worksheet!$G$17,HVACe_Options,0),0)>0,1+VLOOKUP(Worksheet!$C$16,SavingsSupportTable,4,FALSE),1)/IF(Worksheet!M306>0,Worksheet!M306,Worksheet!L306),\"\"),\"\")","v":""},"",{"$f":"IF(Worksheet!L306<>0,IFERROR(VLOOKUP(Worksheet!$C$16,SavingsSupportTable,3,FALSE)*Worksheet!AQ306*IF(IFERROR(SEARCH(\"Gas\",Worksheet!$G$17),0)>0,VLOOKUP(\"Gas\",HVACg_Lookup,MATCH(Worksheet!$G$16,BuildingSize,0)+1,FALSE),IF(IFERROR(SEARCH(\"Oil\",Worksheet!$G$17),0)>0,VLOOKUP(\"Oil\",HVACg_Lookup,MATCH(Worksheet!$G$16,BuildingSize,0)+1,FALSE),IF(IFERROR(SEARCH(\"Propane\",Worksheet!$G$17),0)>0,VLOOKUP(\"Propane\",HVACg_Lookup,MATCH(Worksheet!$G$16,BuildingSize,0)+1,FALSE),0)))/IF(Worksheet!M306>0,Worksheet!M306,Worksheet!L306),0),\"\")","v":""},"",null,null,null,{"$f":"IF(ISBLANK(Worksheet!M306)=FALSE,Worksheet!M306,\"\")","v":0},{"$f":"IF(Worksheet!A306=\"-\",\"\",IF(Worksheet!A306=\"\",S282,Worksheet!A306))","v":""},{"$f":"IF(S283=\"\",\"\",IF(AND(Worksheet!G306=\"\",Worksheet!H306=\"\")=TRUE,T282,IF(Worksheet!G306=\"\",\"\",Worksheet!G306)))","v":""},{"$f":"IF(S283=\"\",\"\",IF(AND(Worksheet!G306=\"\",Worksheet!H306=\"\")=TRUE,U282,IF(Worksheet!H306=\"\",\"\",Worksheet!H306)))","v":""},{"$f":"IF(Worksheet!N306=\"\",\"\",Worksheet!N306)","v":""},{"$f":"IF(Worksheet!O306=\"\",\"\",Worksheet!O306)","v":""},{"$f":"IF(Worksheet!F306=0,\"\",Worksheet!F306)","v":""},{"$f":"IF(Worksheet!P306=0,\"\",Worksheet!P306)","v":""},{"$f":"IF(Worksheet!$A$11=TRUE,\"Y\",\"N\")","v":"N"},{"$f":"IF(Worksheet!$A$12=TRUE,\"Y\",\"N\")","v":"N"},{"$f":"IF(Worksheet!$B$11=TRUE,\"Y\",\"N\")","v":"N"},{"$f":"IF(Worksheet!$B$12=TRUE,\"Y\",\"N\")","v":"N"},{"$f":"IF(Worksheet!$C$11=TRUE,\"Y\",\"N\")","v":"N"},{"$f":"IF(Worksheet!$C$12=TRUE,\"Y\",\"N\")","v":"N"},""]
[{"$f":"IF(ISERROR(VLOOKUP(Worksheet!N307,MeasureLookup,2,FALSE))=FALSE,VLOOKUP(Worksheet!N307,MeasureLookup,2,FALSE),\"\")","v":""},{"$f":"Worksheet!Q307","v":0},{"$f":"Worksheet!R307","v":0},{"$f":"IF(ISERROR(Worksheet!P307)=FALSE,Worksheet!P307,\"\")","v":0},"Watts",null,null,{"$f":"IF(Worksheet!AP307<>\"\",IF(Worksheet!AP307>0,Worksheet!AP307/IF(Worksheet!M307>0,Worksheet!M307,Worksheet!L307),\"\"),\"\")","v":""},{"$f":"IF(ISBLANK(Worksheet!L307)=FALSE,Worksheet!L307,\"\")","v":0},{"$f":"IF(Worksheet!L307<>0, IFERROR(VLOOKUP(Worksheet!$C$16,SavingsSupportTable,3,FALSE)*Worksheet!AQ307*IFERROR(1+VLOOKUP(Worksheet!$C$16,SavingsSupportTable,MATCH(Worksheet!$G$17,HVACe_Options,0)+4,FALSE),1)/IF(Worksheet!M307>0,Worksheet!M307,Worksheet!L307),\"\"),\"\")","v":""},{"$f":"IF(Worksheet!L307<>0, IFERROR(VLOOKUP(Worksheet!$C$16,SavingsSupportTable,2,FALSE)*Worksheet!AQ307*IF(IFERROR(MATCH(Worksheet!$G$17,HVACe_Options,0),0)>0,1+VLOOKUP(Worksheet!$C$16,SavingsSupportTable,4,FALSE),1)/IF(Worksheet!M307>0,Worksheet!M307,Worksheet!L307),\"\"),\"\")","v":""},"",{"$f":"IF(Worksheet!L307<>0,IFERROR(VLOOKUP(Worksheet!$C$16,SavingsSupportTable,3,FALSE)*Worksheet!AQ307*IF(IFERROR(SEARCH(\"Gas\",Worksheet!$G$17),0)>0,VLOOKUP(\"Gas\",HVACg_Lookup,MATCH(Worksheet!$G$16,BuildingSize,0)+1,FALSE),IF(IFERROR(SEARCH(\"Oil\",Worksheet!$G$17),0)>0,VLOOKUP(\"Oil\",HVACg_Lookup,MATCH(Worksheet!$G$16,BuildingSize,0)+1,FALSE),IF(IFERROR(SEARCH(\"Propane\",Worksheet!$G$17),0)>0,VLOOKUP(\"Propane\",HVACg_Lookup,MATCH(Worksheet!$G$16,BuildingSize,0)+1,FALSE),0)))/IF(Worksheet!M307>0,Worksheet!M307,Worksheet!L307),0),\"\")","v":""},"",null,null,null,{"$f":"IF(ISBLANK(Worksheet!M307)=FALSE,Worksheet!M307,\"\")","v":0},{"$f":"IF(Worksheet!A307=\"-\",\"\",IF(Worksheet!A307=\"\",S283,Worksheet!A307))","v":""},{"$f":"IF(S284=\"\",\"\",IF(AND(Worksheet!G307=\"\",Worksheet!H307=\"\")=TRUE,T283,IF(Worksheet!G307=\"\",\"\",Worksheet!G307)))","v":""},{"$f":"IF(S284=\"\",\"\",IF(AND(Worksheet!G307=\"\",Worksheet!H307=\"\")=TRUE,U283,IF(Worksheet!H307=\"\",\"\",Worksheet!H307)))","v":""},{"$f":"IF(Worksheet!N307=\"\",\"\",Worksheet!N307)","v":""},{"$f":"IF(Worksheet!O307=\"\",\"\",Worksheet!O307)","v":""},{"$f":"IF(Worksheet!F307=0,\"\",Worksheet!F307)","v":""},{"$f":"IF(Worksheet!P307=0,\"\",Worksheet!P307)","v":""},{"$f":"IF(Worksheet!$A$11=TRUE,\"Y\",\"N\")","v":"N"},{"$f":"IF(Worksheet!$A$12=TRUE,\"Y\",\"N\")","v":"N"},{"$f":"IF(Worksheet!$B$11=TRUE,\"Y\",\"N\")","v":"N"},{"$f":"IF(Worksheet!$B$12=TRUE,\"Y\",\"N\")","v":"N"},{"$f":"IF(Worksheet!$C$11=TRUE,\"Y\",\"N\")","v":"N"},{"$f":"IF(Worksheet!$C$12=TRUE,\"Y\",\"N\")","v":"N"},""]
[{"$f":"IF(ISERROR(VLOOKUP(Worksheet!N308,MeasureLookup,2,FALSE))=FALSE,VLOOKUP(Worksheet!N308,MeasureLookup,2,FALSE),\"\")","v":""},{"$f":"Worksheet!Q308","v":0},{"$f":"Worksheet!R308","v":0},{"$f":"IF(ISERROR(Worksheet!P308)=FALSE,Worksheet!P308,\"\")","v":0},"Watts",null,null,{"$f":"IF(Worksheet!AP308<>\"\",IF(Worksheet!AP308>0,Worksheet!AP308/IF(Worksheet!M308>0,Worksheet!M308,Worksheet!L308),\"\"),\"\")","v":""},{"$f":"IF(ISBLANK(Worksheet!L308)=FALSE,Worksheet!L308,\"\")","v":0},{"$f":"IF(Worksheet!L308<>0, IFERROR(VLOOKUP(Worksheet!$C$16,SavingsSupportTable,3,FALSE)*Worksheet!AQ308*IFERROR(1+VLOOKUP(Worksheet!$C$16,SavingsSupportTable,MATCH(Worksheet!$G$17,HVACe_Options,0)+4,FALSE),1)/IF(Worksheet!M308>0,Worksheet!M308,Worksheet!L308),\"\"),\"\")","v":""},{"$f":"IF(Worksheet!L308<>0, IFERROR(VLOOKUP(Worksheet!$C$16,SavingsSupportTable,2,FALSE)*Worksheet!AQ308*IF(IFERROR(MATCH(Worksheet!$G$17,HVACe_Options,0),0)>0,1+VLOOKUP(Worksheet!$C$16,SavingsSupportTable,4,FALSE),1)/IF(Worksheet!M308>0,Worksheet!M308,Worksheet!L308),\"\"),\"\")","v":""},"",{"$f":"IF(Worksheet!L308<>0,IFERROR(VLOOKUP(Worksheet!$C$16,SavingsSupportTable,3,FALSE)*Worksheet!AQ308*IF(IFERROR(SEARCH(\"Gas\",Worksheet!$G$17),0)>0,VLOOKUP(\"Gas\",HVACg_Lookup,MATCH(Worksheet!$G$16,BuildingSize,0)+1,FALSE),IF(IFERROR(SEARCH(\"Oil\",Worksheet!$G$17),0)>0,VLOOKUP(\"Oil\",HVACg_Lookup,MATCH(Worksheet!$G$16,BuildingSize,0)+1,FALSE),IF(IFERROR(SEARCH(\"Propane\",Worksheet!$G$17),0)>0,VLOOKUP(\"Propane\",HVACg_Lookup,MATCH(Worksheet!$G$16,BuildingSize,0)+1,FALSE),0)))/IF(Worksheet!M308>0,Worksheet!M308,Worksheet!L308),0),\"\")","v":""},"",null,null,null,{"$f":"IF(ISBLANK(Worksheet!M308)=FALSE,Worksheet!M308,\"\")","v":0},{"$f":"IF(Worksheet!A308=\"-\",\"\",IF(Worksheet!A308=\"\",S284,Worksheet!A308))","v":""},{"$f":"IF(S285=\"\",\"\",IF(AND(Worksheet!G308=\"\",Worksheet!H308=\"\")=TRUE,T284,IF(Worksheet!G308=\"\",\"\",Worksheet!G308)))","v":""},{"$f":"IF(S285=\"\",\"\",IF(AND(Worksheet!G308=\"\",Worksheet!H308=\"\")=TRUE,U284,IF(Worksheet!H308=\"\",\"\",Worksheet!H308)))","v":""},{"$f":"IF(Worksheet!N308=\"\",\"\",Worksheet!N308)","v":""},{"$f":"IF(Worksheet!O308=\"\",\"\",Worksheet!O308)","v":""},{"$f":"IF(Worksheet!F308=0,\"\",Worksheet!F308)","v":""},{"$f":"IF(Worksheet!P308=0,\"\",Worksheet!P308)","v":""},{"$f":"IF(Worksheet!$A$11=TRUE,\"Y\",\"N\")","v":"N"},{"$f":"IF(Worksheet!$A$12=TRUE,\"Y\",\"N\")","v":"N"},{"$f":"IF(Worksheet!$B$11=TRUE,\"Y\",\"N\")","v":"N"},{"$f":"IF(Worksheet!$B$12=TRUE,\"Y\",\"N\")","v":"N"},{"$f":"IF(Worksheet!$C$11=TRUE,\"Y\",\"N\")","v":"N"},{"$f":"IF(Worksheet!$C$12=TRUE,\"Y\",\"N\")","v":"N"},""]
[{"$f":"IF(ISERROR(VLOOKUP(Worksheet!N309,MeasureLookup,2,FALSE))=FALSE,VLOOKUP(Worksheet!N309,MeasureLookup,2,FALSE),\"\")","v":""},{"$f":"Worksheet!Q309","v":0},{"$f":"Worksheet!R309","v":0},{"$f":"IF(ISERROR(Worksheet!P309)=FALSE,Worksheet!P309,\"\")","v":0},"Watts",null,null,{"$f":"IF(Worksheet!AP309<>\"\",IF(Worksheet!AP309>0,Worksheet!AP309/IF(Worksheet!M309>0,Worksheet!M309,Worksheet!L309),\"\"),\"\")","v":""},{"$f":"IF(ISBLANK(Worksheet!L309)=FALSE,Worksheet!L309,\"\")","v":0},{"$f":"IF(Worksheet!L309<>0, IFERROR(VLOOKUP(Worksheet!$C$16,SavingsSupportTable,3,FALSE)*Worksheet!AQ309*IFERROR(1+VLOOKUP(Worksheet!$C$16,SavingsSupportTable,MATCH(Worksheet!$G$17,HVACe_Options,0)+4,FALSE),1)/IF(Worksheet!M309>0,Worksheet!M309,Worksheet!L309),\"\"),\"\")","v":""},{"$f":"IF(Worksheet!L309<>0, IFERROR(VLOOKUP(Worksheet!$C$16,SavingsSupportTable,2,FALSE)*Worksheet!AQ309*IF(IFERROR(MATCH(Worksheet!$G$17,HVACe_Options,0),0)>0,1+VLOOKUP(Worksheet!$C$16,SavingsSupportTable,4,FALSE),1)/IF(Worksheet!M309>0,Worksheet!M309,Worksheet!L309),\"\"),\"\")","v":""},"",{"$f":"IF(Worksheet!L309<>0,IFERROR(VLOOKUP(Worksheet!$C$16,SavingsSupportTable,3,FALSE)*Worksheet!AQ309*IF(IFERROR(SEARCH(\"Gas\",Worksheet!$G$17),0)>0,VLOOKUP(\"Gas\",HVACg_Lookup,MATCH(Worksheet!$G$16,BuildingSize,0)+1,FALSE),IF(IFERROR(SEARCH(\"Oil\",Worksheet!$G$17),0)>0,VLOOKUP(\"Oil\",HVACg_Lookup,MATCH(Worksheet!$G$16,BuildingSize,0)+1,FALSE),IF(IFERROR(SEARCH(\"Propane\",Worksheet!$G$17),0)>0,VLOOKUP(\"Propane\",HVACg_Lookup,MATCH(Worksheet!$G$16,BuildingSize,0)+1,FALSE),0)))/IF(Worksheet!M309>0,Worksheet!M309,Worksheet!L309),0),\"\")","v":""},"",null,null,null,{"$f":"IF(ISBLANK(Worksheet!M309)=FALSE,Worksheet!M309,\"\")","v":0},{"$f":"IF(Worksheet!A309=\"-\",\"\",IF(Worksheet!A309=\"\",S285,Worksheet!A309))","v":""},{"$f":"IF(S286=\"\",\"\",IF(AND(Worksheet!G309=\"\",Worksheet!H309=\"\")=TRUE,T285,IF(Worksheet!G309=\"\",\"\",Worksheet!G309)))","v":""},{"$f":"IF(S286=\"\",\"\",IF(AND(Worksheet!G309=\"\",Worksheet!H309=\"\")=TRUE,U285,IF(Worksheet!H309=\"\",\"\",Worksheet!H309)))","v":""},{"$f":"IF(Worksheet!N309=\"\",\"\",Worksheet!N309)","v":""},{"$f":"IF(Worksheet!O309=\"\",\"\",Worksheet!O309)","v":""},{"$f":"IF(Worksheet!F309=0,\"\",Worksheet!F309)","v":""},{"$f":"IF(Worksheet!P309=0,\"\",Worksheet!P309)","v":""},{"$f":"IF(Worksheet!$A$11=TRUE,\"Y\",\"N\")","v":"N"},{"$f":"IF(Worksheet!$A$12=TRUE,\"Y\",\"N\")","v":"N"},{"$f":"IF(Worksheet!$B$11=TRUE,\"Y\",\"N\")","v":"N"},{"$f":"IF(Worksheet!$B$12=TRUE,\"Y\",\"N\")","v":"N"},{"$f":"IF(Worksheet!$C$11=TRUE,\"Y\",\"N\")","v":"N"},{"$f":"IF(Worksheet!$C$12=TRUE,\"Y\",\"N\")","v":"N"},""]
[{"$f":"IF(ISERROR(VLOOKUP(Worksheet!N310,MeasureLookup,2,FALSE))=FALSE,VLOOKUP(Worksheet!N310,MeasureLookup,2,FALSE),\"\")","v":""},{"$f":"Worksheet!Q310","v":0},{"$f":"Worksheet!R310","v":0},{"$f":"IF(ISERROR(Worksheet!P310)=FALSE,Worksheet!P310,\"\")","v":0},"Watts",null,null,{"$f":"IF(Worksheet!AP310<>\"\",IF(Worksheet!AP310>0,Worksheet!AP310/IF(Worksheet!M310>0,Worksheet!M310,Worksheet!L310),\"\"),\"\")","v":""},{"$f":"IF(ISBLANK(Worksheet!L310)=FALSE,Worksheet!L310,\"\")","v":0},{"$f":"IF(Worksheet!L310<>0, IFERROR(VLOOKUP(Worksheet!$C$16,SavingsSupportTable,3,FALSE)*Worksheet!AQ310*IFERROR(1+VLOOKUP(Worksheet!$C$16,SavingsSupportTable,MATCH(Worksheet!$G$17,HVACe_Options,0)+4,FALSE),1)/IF(Worksheet!M310>0,Worksheet!M310,Worksheet!L310),\"\"),\"\")","v":""},{"$f":"IF(Worksheet!L310<>0, IFERROR(VLOOKUP(Worksheet!$C$16,SavingsSupportTable,2,FALSE)*Worksheet!AQ310*IF(IFERROR(MATCH(Worksheet!$G$17,HVACe_Options,0),0)>0,1+VLOOKUP(Worksheet!$C$16,SavingsSupportTable,4,FALSE),1)/IF(Worksheet!M310>0,Worksheet!M310,Worksheet!L310),\"\"),\"\")","v":""},"",{"$f":"IF(Worksheet!L310<>0,IFERROR(VLOOKUP(Worksheet!$C$16,SavingsSupportTable,3,FALSE)*Worksheet!AQ310*IF(IFERROR(SEARCH(\"Gas\",Worksheet!$G$17),0)>0,VLOOKUP(\"Gas\",HVACg_Lookup,MATCH(Worksheet!$G$16,BuildingSize,0)+1,FALSE),IF(IFERROR(SEARCH(\"Oil\",Worksheet!$G$17),0)>0,VLOOKUP(\"Oil\",HVACg_Lookup,MATCH(Worksheet!$G$16,BuildingSize,0)+1,FALSE),IF(IFERROR(SEARCH(\"Propane\",Worksheet!$G$17),0)>0,VLOOKUP(\"Propane\",HVACg_Lookup,MATCH(Worksheet!$G$16,BuildingSize,0)+1,FALSE),0)))/IF(Worksheet!M310>0,Worksheet!M310,Worksheet!L310),0),\"\")","v":""},"",null,null,null,{"$f":"IF(ISBLANK(Worksheet!M310)=FALSE,Worksheet!M310,\"\")","v":0},{"$f":"IF(Worksheet!A310=\"-\",\"\",IF(Worksheet!A310=\"\",S286,Worksheet!A310))","v":""},{"$f":"IF(S287=\"\",\"\",IF(AND(Worksheet!G310=\"\",Worksheet!H310=\"\")=TRUE,T286,IF(Worksheet!G310=\"\",\"\",Worksheet!G310)))","v":""},{"$f":"IF(S287=\"\",\"\",IF(AND(Worksheet!G310=\"\",Worksheet!H310=\"\")=TRUE,U286,IF(Worksheet!H310=\"\",\"\",Worksheet!H310)))","v":""},{"$f":"IF(Worksheet!N310=\"\",\"\",Worksheet!N310)","v":""},{"$f":"IF(Worksheet!O310=\"\",\"\",Worksheet!O310)","v":""},{"$f":"IF(Worksheet!F310=0,\"\",Worksheet!F310)","v":""},{"$f":"IF(Worksheet!P310=0,\"\",Worksheet!P310)","v":""},{"$f":"IF(Worksheet!$A$11=TRUE,\"Y\",\"N\")","v":"N"},{"$f":"IF(Worksheet!$A$12=TRUE,\"Y\",\"N\")","v":"N"},{"$f":"IF(Worksheet!$B$11=TRUE,\"Y\",\"N\")","v":"N"},{"$f":"IF(Worksheet!$B$12=TRUE,\"Y\",\"N\")","v":"N"},{"$f":"IF(Worksheet!$C$11=TRUE,\"Y\",\"N\")","v":"N"},{"$f":"IF(Worksheet!$C$12=TRUE,\"Y\",\"N\")","v":"N"},""]
[{"$f":"IF(ISERROR(VLOOKUP(Worksheet!N311,MeasureLookup,2,FALSE))=FALSE,VLOOKUP(Worksheet!N311,MeasureLookup,2,FALSE),\"\")","v":""},{"$f":"Worksheet!Q311","v":0},{"$f":"Worksheet!R311","v":0},{"$f":"IF(ISERROR(Worksheet!P311)=FALSE,Worksheet!P311,\"\")","v":0},"Watts",null,null,{"$f":"IF(Worksheet!AP311<>\"\",IF(Worksheet!AP311>0,Worksheet!AP311/IF(Worksheet!M311>0,Worksheet!M311,Worksheet!L311),\"\"),\"\")","v":""},{"$f":"IF(ISBLANK(Worksheet!L311)=FALSE,Worksheet!L311,\"\")","v":0},{"$f":"IF(Worksheet!L311<>0, IFERROR(VLOOKUP(Worksheet!$C$16,SavingsSupportTable,3,FALSE)*Worksheet!AQ311*IFERROR(1+VLOOKUP(Worksheet!$C$16,SavingsSupportTable,MATCH(Worksheet!$G$17,HVACe_Options,0)+4,FALSE),1)/IF(Worksheet!M311>0,Worksheet!M311,Worksheet!L311),\"\"),\"\")","v":""},{"$f":"IF(Worksheet!L311<>0, IFERROR(VLOOKUP(Worksheet!$C$16,SavingsSupportTable,2,FALSE)*Worksheet!AQ311*IF(IFERROR(MATCH(Worksheet!$G$17,HVACe_Options,0),0)>0,1+VLOOKUP(Worksheet!$C$16,SavingsSupportTable,4,FALSE),1)/IF(Worksheet!M311>0,Worksheet!M311,Worksheet!L311),\"\"),\"\")","v":""},"",{"$f":"IF(Worksheet!L311<>0,IFERROR(VLOOKUP(Worksheet!$C$16,SavingsSupportTable,3,FALSE)*Worksheet!AQ311*IF(IFERROR(SEARCH(\"Gas\",Worksheet!$G$17),0)>0,VLOOKUP(\"Gas\",HVACg_Lookup,MATCH(Worksheet!$G$16,BuildingSize,0)+1,FALSE),IF(IFERROR(SEARCH(\"Oil\",Worksheet!$G$17),0)>0,VLOOKUP(\"Oil\",HVACg_Lookup,MATCH(Worksheet!$G$16,BuildingSize,0)+1,FALSE),IF(IFERROR(SEARCH(\"Propane\",Worksheet!$G$17),0)>0,VLOOKUP(\"Propane\",HVACg_Lookup,MATCH(Worksheet!$G$16,BuildingSize,0)+1,FALSE),0)))/IF(Worksheet!M311>0,Worksheet!M311,Worksheet!L311),0),\"\")","v":""},"",null,null,null,{"$f":"IF(ISBLANK(Worksheet!M311)=FALSE,Worksheet!M311,\"\")","v":0},{"$f":"IF(Worksheet!A311=\"-\",\"\",IF(Worksheet!A311=\"\",S287,Worksheet!A311))","v":""},{"$f":"IF(S288=\"\",\"\",IF(AND(Worksheet!G311=\"\",Worksheet!H311=\"\")=TRUE,T287,IF(Worksheet!G311=\"\",\"\",Worksheet!G311)))","v":""},{"$f":"IF(S288=\"\",\"\",IF(AND(Worksheet!G311=\"\",Worksheet!H311=\"\")=TRUE,U287,IF(Worksheet!H311=\"\",\"\",Worksheet!H311)))","v":""},{"$f":"IF(Worksheet!N311=\"\",\"\",Worksheet!N311)","v":""},{"$f":"IF(Worksheet!O311=\"\",\"\",Worksheet!O311)","v":""},{"$f":"IF(Worksheet!F311=0,\"\",Worksheet!F311)","v":""},{"$f":"IF(Worksheet!P311=0,\"\",Worksheet!P311)","v":""},{"$f":"IF(Worksheet!$A$11=TRUE,\"Y\",\"N\")","v":"N"},{"$f":"IF(Worksheet!$A$12=TRUE,\"Y\",\"N\")","v":"N"},{"$f":"IF(Worksheet!$B$11=TRUE,\"Y\",\"N\")","v":"N"},{"$f":"IF(Worksheet!$B$12=TRUE,\"Y\",\"N\")","v":"N"},{"$f":"IF(Worksheet!$C$11=TRUE,\"Y\",\"N\")","v":"N"},{"$f":"IF(Worksheet!$C$12=TRUE,\"Y\",\"N\")","v":"N"},""]
[{"$f":"IF(ISERROR(VLOOKUP(Worksheet!N312,MeasureLookup,2,FALSE))=FALSE,VLOOKUP(Worksheet!N312,MeasureLookup,2,FALSE),\"\")","v":""},{"$f":"Worksheet!Q312","v":0},{"$f":"Worksheet!R312","v":0},{"$f":"IF(ISERROR(Worksheet!P312)=FALSE,Worksheet!P312,\"\")","v":0},"Watts",null,null,{"$f":"IF(Worksheet!AP312<>\"\",IF(Worksheet!AP312>0,Worksheet!AP312/IF(Worksheet!M312>0,Worksheet!M312,Worksheet!L312),\"\"),\"\")","v":""},{"$f":"IF(ISBLANK(Worksheet!L312)=FALSE,Worksheet!L312,\"\")","v":0},{"$f":"IF(Worksheet!L312<>0, IFERROR(VLOOKUP(Worksheet!$C$16,SavingsSupportTable,3,FALSE)*Worksheet!AQ312*IFERROR(1+VLOOKUP(Worksheet!$C$16,SavingsSupportTable,MATCH(Worksheet!$G$17,HVACe_Options,0)+4,FALSE),1)/IF(Worksheet!M312>0,Worksheet!M312,Worksheet!L312),\"\"),\"\")","v":""},{"$f":"IF(Worksheet!L312<>0, IFERROR(VLOOKUP(Worksheet!$C$16,SavingsSupportTable,2,FALSE)*Worksheet!AQ312*IF(IFERROR(MATCH(Worksheet!$G$17,HVACe_Options,0),0)>0,1+VLOOKUP(Worksheet!$C$16,SavingsSupportTable,4,FALSE),1)/IF(Worksheet!M312>0,Worksheet!M312,Worksheet!L312),\"\"),\"\")","v":""},"",{"$f":"IF(Worksheet!L312<>0,IFERROR(VLOOKUP(Worksheet!$C$16,SavingsSupportTable,3,FALSE)*Worksheet!AQ312*IF(IFERROR(SEARCH(\"Gas\",Worksheet!$G$17),0)>0,VLOOKUP(\"Gas\",HVACg_Lookup,MATCH(Worksheet!$G$16,BuildingSize,0)+1,FALSE),IF(IFERROR(SEARCH(\"Oil\",Worksheet!$G$17),0)>0,VLOOKUP(\"Oil\",HVACg_Lookup,MATCH(Worksheet!$G$16,BuildingSize,0)+1,FALSE),IF(IFERROR(SEARCH(\"Propane\",Worksheet!$G$17),0)>0,VLOOKUP(\"Propane\",HVACg_Lookup,MATCH(Worksheet!$G$16,BuildingSize,0)+1,FALSE),0)))/IF(Worksheet!M312>0,Worksheet!M312,Worksheet!L312),0),\"\")","v":""},"",null,null,null,{"$f":"IF(ISBLANK(Worksheet!M312)=FALSE,Worksheet!M312,\"\")","v":0},{"$f":"IF(Worksheet!A312=\"-\",\"\",IF(Worksheet!A312=\"\",S288,Worksheet!A312))","v":""},{"$f":"IF(S289=\"\",\"\",IF(AND(Worksheet!G312=\"\",Worksheet!H312=\"\")=TRUE,T288,IF(Worksheet!G312=\"\",\"\",Worksheet!G312)))","v":""},{"$f":"IF(S289=\"\",\"\",IF(AND(Worksheet!G312=\"\",Worksheet!H312=\"\")=TRUE,U288,IF(Worksheet!H312=\"\",\"\",Worksheet!H312)))","v":""},{"$f":"IF(Worksheet!N312=\"\",\"\",Worksheet!N312)","v":""},{"$f":"IF(Worksheet!O312=\"\",\"\",Worksheet!O312)","v":""},{"$f":"IF(Worksheet!F312=0,\"\",Worksheet!F312)","v":""},{"$f":"IF(Worksheet!P312=0,\"\",Worksheet!P312)","v":""},{"$f":"IF(Worksheet!$A$11=TRUE,\"Y\",\"N\")","v":"N"},{"$f":"IF(Worksheet!$A$12=TRUE,\"Y\",\"N\")","v":"N"},{"$f":"IF(Worksheet!$B$11=TRUE,\"Y\",\"N\")","v":"N"},{"$f":"IF(Worksheet!$B$12=TRUE,\"Y\",\"N\")","v":"N"},{"$f":"IF(Worksheet!$C$11=TRUE,\"Y\",\"N\")","v":"N"},{"$f":"IF(Worksheet!$C$12=TRUE,\"Y\",\"N\")","v":"N"},""]
[{"$f":"IF(ISERROR(VLOOKUP(Worksheet!N313,MeasureLookup,2,FALSE))=FALSE,VLOOKUP(Worksheet!N313,MeasureLookup,2,FALSE),\"\")","v":""},{"$f":"Worksheet!Q313","v":0},{"$f":"Worksheet!R313","v":0},{"$f":"IF(ISERROR(Worksheet!P313)=FALSE,Worksheet!P313,\"\")","v":0},"Watts",null,null,{"$f":"IF(Worksheet!AP313<>\"\",IF(Worksheet!AP313>0,Worksheet!AP313/IF(Worksheet!M313>0,Worksheet!M313,Worksheet!L313),\"\"),\"\")","v":""},{"$f":"IF(ISBLANK(Worksheet!L313)=FALSE,Worksheet!L313,\"\")","v":0},{"$f":"IF(Worksheet!L313<>0, IFERROR(VLOOKUP(Worksheet!$C$16,SavingsSupportTable,3,FALSE)*Worksheet!AQ313*IFERROR(1+VLOOKUP(Worksheet!$C$16,SavingsSupportTable,MATCH(Worksheet!$G$17,HVACe_Options,0)+4,FALSE),1)/IF(Worksheet!M313>0,Worksheet!M313,Worksheet!L313),\"\"),\"\")","v":""},{"$f":"IF(Worksheet!L313<>0, IFERROR(VLOOKUP(Worksheet!$C$16,SavingsSupportTable,2,FALSE)*Worksheet!AQ313*IF(IFERROR(MATCH(Worksheet!$G$17,HVACe_Options,0),0)>0,1+VLOOKUP(Worksheet!$C$16,SavingsSupportTable,4,FALSE),1)/IF(Worksheet!M313>0,Worksheet!M313,Worksheet!L313),\"\"),\"\")","v":""},"",{"$f":"IF(Worksheet!L313<>0,IFERROR(VLOOKUP(Worksheet!$C$16,SavingsSupportTable,3,FALSE)*Worksheet!AQ313*IF(IFERROR(SEARCH(\"Gas\",Worksheet!$G$17),0)>0,VLOOKUP(\"Gas\",HVACg_Lookup,MATCH(Worksheet!$G$16,BuildingSize,0)+1,FALSE),IF(IFERROR(SEARCH(\"Oil\",Worksheet!$G$17),0)>0,VLOOKUP(\"Oil\",HVACg_Lookup,MATCH(Worksheet!$G$16,BuildingSize,0)+1,FALSE),IF(IFERROR(SEARCH(\"Propane\",Worksheet!$G$17),0)>0,VLOOKUP(\"Propane\",HVACg_Lookup,MATCH(Worksheet!$G$16,BuildingSize,0)+1,FALSE),0)))/IF(Worksheet!M313>0,Worksheet!M313,Worksheet!L313),0),\"\")","v":""},"",null,null,null,{"$f":"IF(ISBLANK(Worksheet!M313)=FALSE,Worksheet!M313,\"\")","v":0},{"$f":"IF(Worksheet!A313=\"-\",\"\",IF(Worksheet!A313=\"\",S289,Worksheet!A313))","v":""},{"$f":"IF(S290=\"\",\"\",IF(AND(Worksheet!G313=\"\",Worksheet!H313=\"\")=TRUE,T289,IF(Worksheet!G313=\"\",\"\",Worksheet!G313)))","v":""},{"$f":"IF(S290=\"\",\"\",IF(AND(Worksheet!G313=\"\",Worksheet!H313=\"\")=TRUE,U289,IF(Worksheet!H313=\"\",\"\",Worksheet!H313)))","v":""},{"$f":"IF(Worksheet!N313=\"\",\"\",Worksheet!N313)","v":""},{"$f":"IF(Worksheet!O313=\"\",\"\",Worksheet!O313)","v":""},{"$f":"IF(Worksheet!F313=0,\"\",Worksheet!F313)","v":""},{"$f":"IF(Worksheet!P313=0,\"\",Worksheet!P313)","v":""},{"$f":"IF(Worksheet!$A$11=TRUE,\"Y\",\"N\")","v":"N"},{"$f":"IF(Worksheet!$A$12=TRUE,\"Y\",\"N\")","v":"N"},{"$f":"IF(Worksheet!$B$11=TRUE,\"Y\",\"N\")","v":"N"},{"$f":"IF(Worksheet!$B$12=TRUE,\"Y\",\"N\")","v":"N"},{"$f":"IF(Worksheet!$C$11=TRUE,\"Y\",\"N\")","v":"N"},{"$f":"IF(Worksheet!$C$12=TRUE,\"Y\",\"N\")","v":"N"},""]
[{"$f":"IF(ISERROR(VLOOKUP(Worksheet!N314,MeasureLookup,2,FALSE))=FALSE,VLOOKUP(Worksheet!N314,MeasureLookup,2,FALSE),\"\")","v":""},{"$f":"Worksheet!Q314","v":0},{"$f":"Worksheet!R314","v":0},{"$f":"IF(ISERROR(Worksheet!P314)=FALSE,Worksheet!P314,\"\")","v":0},"Watts",null,null,{"$f":"IF(Worksheet!AP314<>\"\",IF(Worksheet!AP314>0,Worksheet!AP314/IF(Worksheet!M314>0,Worksheet!M314,Worksheet!L314),\"\"),\"\")","v":""},{"$f":"IF(ISBLANK(Worksheet!L314)=FALSE,Worksheet!L314,\"\")","v":0},{"$f":"IF(Worksheet!L314<>0, IFERROR(VLOOKUP(Worksheet!$C$16,SavingsSupportTable,3,FALSE)*Worksheet!AQ314*IFERROR(1+VLOOKUP(Worksheet!$C$16,SavingsSupportTable,MATCH(Worksheet!$G$17,HVACe_Options,0)+4,FALSE),1)/IF(Worksheet!M314>0,Worksheet!M314,Worksheet!L314),\"\"),\"\")","v":""},{"$f":"IF(Worksheet!L314<>0, IFERROR(VLOOKUP(Worksheet!$C$16,SavingsSupportTable,2,FALSE)*Worksheet!AQ314*IF(IFERROR(MATCH(Worksheet!$G$17,HVACe_Options,0),0)>0,1+VLOOKUP(Worksheet!$C$16,SavingsSupportTable,4,FALSE),1)/IF(Worksheet!M314>0,Worksheet!M314,Worksheet!L314),\"\"),\"\")","v":""},"",{"$f":"IF(Worksheet!L314<>0,IFERROR(VLOOKUP(Worksheet!$C$16,SavingsSupportTable,3,FALSE)*Worksheet!AQ314*IF(IFERROR(SEARCH(\"Gas\",Worksheet!$G$17),0)>0,VLOOKUP(\"Gas\",HVACg_Lookup,MATCH(Worksheet!$G$16,BuildingSize,0)+1,FALSE),IF(IFERROR(SEARCH(\"Oil\",Worksheet!$G$17),0)>0,VLOOKUP(\"Oil\",HVACg_Lookup,MATCH(Worksheet!$G$16,BuildingSize,0)+1,FALSE),IF(IFERROR(SEARCH(\"Propane\",Worksheet!$G$17),0)>0,VLOOKUP(\"Propane\",HVACg_Lookup,MATCH(Worksheet!$G$16,BuildingSize,0)+1,FALSE),0)))/IF(Worksheet!M314>0,Worksheet!M314,Worksheet!L314),0),\"\")","v":""},"",null,null,null,{"$f":"IF(ISBLANK(Worksheet!M314)=FALSE,Worksheet!M314,\"\")","v":0},{"$f":"IF(Worksheet!A314=\"-\",\"\",IF(Worksheet!A314=\"\",S290,Worksheet!A314))","v":""},{"$f":"IF(S291=\"\",\"\",IF(AND(Worksheet!G314=\"\",Worksheet!H314=\"\")=TRUE,T290,IF(Worksheet!G314=\"\",\"\",Worksheet!G314)))","v":""},{"$f":"IF(S291=\"\",\"\",IF(AND(Worksheet!G314=\"\",Worksheet!H314=\"\")=TRUE,U290,IF(Worksheet!H314=\"\",\"\",Worksheet!H314)))","v":""},{"$f":"IF(Worksheet!N314=\"\",\"\",Worksheet!N314)","v":""},{"$f":"IF(Worksheet!O314=\"\",\"\",Worksheet!O314)","v":""},{"$f":"IF(Worksheet!F314=0,\"\",Worksheet!F314)","v":""},{"$f":"IF(Worksheet!P314=0,\"\",Worksheet!P314)","v":""},{"$f":"IF(Worksheet!$A$11=TRUE,\"Y\",\"N\")","v":"N"},{"$f":"IF(Worksheet!$A$12=TRUE,\"Y\",\"N\")","v":"N"},{"$f":"IF(Worksheet!$B$11=TRUE,\"Y\",\"N\")","v":"N"},{"$f":"IF(Worksheet!$B$12=TRUE,\"Y\",\"N\")","v":"N"},{"$f":"IF(Worksheet!$C$11=TRUE,\"Y\",\"N\")","v":"N"},{"$f":"IF(Worksheet!$C$12=TRUE,\"Y\",\"N\")","v":"N"},""]
[{"$f":"IF(ISERROR(VLOOKUP(Worksheet!N315,MeasureLookup,2,FALSE))=FALSE,VLOOKUP(Worksheet!N315,MeasureLookup,2,FALSE),\"\")","v":""},{"$f":"Worksheet!Q315","v":0},{"$f":"Worksheet!R315","v":0},{"$f":"IF(ISERROR(Worksheet!P315)=FALSE,Worksheet!P315,\"\")","v":0},"Watts",null,null,{"$f":"IF(Worksheet!AP315<>\"\",IF(Worksheet!AP315>0,Worksheet!AP315/IF(Worksheet!M315>0,Worksheet!M315,Worksheet!L315),\"\"),\"\")","v":""},{"$f":"IF(ISBLANK(Worksheet!L315)=FALSE,Worksheet!L315,\"\")","v":0},{"$f":"IF(Worksheet!L315<>0, IFERROR(VLOOKUP(Worksheet!$C$16,SavingsSupportTable,3,FALSE)*Worksheet!AQ315*IFERROR(1+VLOOKUP(Worksheet!$C$16,SavingsSupportTable,MATCH(Worksheet!$G$17,HVACe_Options,0)+4,FALSE),1)/IF(Worksheet!M315>0,Worksheet!M315,Worksheet!L315),\"\"),\"\")","v":""},{"$f":"IF(Worksheet!L315<>0, IFERROR(VLOOKUP(Worksheet!$C$16,SavingsSupportTable,2,FALSE)*Worksheet!AQ315*IF(IFERROR(MATCH(Worksheet!$G$17,HVACe_Options,0),0)>0,1+VLOOKUP(Worksheet!$C$16,SavingsSupportTable,4,FALSE),1)/IF(Worksheet!M315>0,Worksheet!M315,Worksheet!L315),\"\"),\"\")","v":""},"",{"$f":"IF(Worksheet!L315<>0,IFERROR(VLOOKUP(Worksheet!$C$16,SavingsSupportTable,3,FALSE)*Worksheet!AQ315*IF(IFERROR(SEARCH(\"Gas\",Worksheet!$G$17),0)>0,VLOOKUP(\"Gas\",HVACg_Lookup,MATCH(Worksheet!$G$16,BuildingSize,0)+1,FALSE),IF(IFERROR(SEARCH(\"Oil\",Worksheet!$G$17),0)>0,VLOOKUP(\"Oil\",HVACg_Lookup,MATCH(Worksheet!$G$16,BuildingSize,0)+1,FALSE),IF(IFERROR(SEARCH(\"Propane\",Worksheet!$G$17),0)>0,VLOOKUP(\"Propane\",HVACg_Lookup,MATCH(Worksheet!$G$16,BuildingSize,0)+1,FALSE),0)))/IF(Worksheet!M315>0,Worksheet!M315,Worksheet!L315),0),\"\")","v":""},"",null,null,null,{"$f":"IF(ISBLANK(Worksheet!M315)=FALSE,Worksheet!M315,\"\")","v":0},{"$f":"IF(Worksheet!A315=\"-\",\"\",IF(Worksheet!A315=\"\",S291,Worksheet!A315))","v":""},{"$f":"IF(S292=\"\",\"\",IF(AND(Worksheet!G315=\"\",Worksheet!H315=\"\")=TRUE,T291,IF(Worksheet!G315=\"\",\"\",Worksheet!G315)))","v":""},{"$f":"IF(S292=\"\",\"\",IF(AND(Worksheet!G315=\"\",Worksheet!H315=\"\")=TRUE,U291,IF(Worksheet!H315=\"\",\"\",Worksheet!H315)))","v":""},{"$f":"IF(Worksheet!N315=\"\",\"\",Worksheet!N315)","v":""},{"$f":"IF(Worksheet!O315=\"\",\"\",Worksheet!O315)","v":""},{"$f":"IF(Worksheet!F315=0,\"\",Worksheet!F315)","v":""},{"$f":"IF(Worksheet!P315=0,\"\",Worksheet!P315)","v":""},{"$f":"IF(Worksheet!$A$11=TRUE,\"Y\",\"N\")","v":"N"},{"$f":"IF(Worksheet!$A$12=TRUE,\"Y\",\"N\")","v":"N"},{"$f":"IF(Worksheet!$B$11=TRUE,\"Y\",\"N\")","v":"N"},{"$f":"IF(Worksheet!$B$12=TRUE,\"Y\",\"N\")","v":"N"},{"$f":"IF(Worksheet!$C$11=TRUE,\"Y\",\"N\")","v":"N"},{"$f":"IF(Worksheet!$C$12=TRUE,\"Y\",\"N\")","v":"N"},""]
[{"$f":"IF(ISERROR(VLOOKUP(Worksheet!N316,MeasureLookup,2,FALSE))=FALSE,VLOOKUP(Worksheet!N316,MeasureLookup,2,FALSE),\"\")","v":""},{"$f":"Worksheet!Q316","v":0},{"$f":"Worksheet!R316","v":0},{"$f":"IF(ISERROR(Worksheet!P316)=FALSE,Worksheet!P316,\"\")","v":0},"Watts",null,null,{"$f":"IF(Worksheet!AP316<>\"\",IF(Worksheet!AP316>0,Worksheet!AP316/IF(Worksheet!M316>0,Worksheet!M316,Worksheet!L316),\"\"),\"\")","v":""},{"$f":"IF(ISBLANK(Worksheet!L316)=FALSE,Worksheet!L316,\"\")","v":0},{"$f":"IF(Worksheet!L316<>0, IFERROR(VLOOKUP(Worksheet!$C$16,SavingsSupportTable,3,FALSE)*Worksheet!AQ316*IFERROR(1+VLOOKUP(Worksheet!$C$16,SavingsSupportTable,MATCH(Worksheet!$G$17,HVACe_Options,0)+4,FALSE),1)/IF(Worksheet!M316>0,Worksheet!M316,Worksheet!L316),\"\"),\"\")","v":""},{"$f":"IF(Worksheet!L316<>0, IFERROR(VLOOKUP(Worksheet!$C$16,SavingsSupportTable,2,FALSE)*Worksheet!AQ316*IF(IFERROR(MATCH(Worksheet!$G$17,HVACe_Options,0),0)>0,1+VLOOKUP(Worksheet!$C$16,SavingsSupportTable,4,FALSE),1)/IF(Worksheet!M316>0,Worksheet!M316,Worksheet!L316),\"\"),\"\")","v":""},"",{"$f":"IF(Worksheet!L316<>0,IFERROR(VLOOKUP(Worksheet!$C$16,SavingsSupportTable,3,FALSE)*Worksheet!AQ316*IF(IFERROR(SEARCH(\"Gas\",Worksheet!$G$17),0)>0,VLOOKUP(\"Gas\",HVACg_Lookup,MATCH(Worksheet!$G$16,BuildingSize,0)+1,FALSE),IF(IFERROR(SEARCH(\"Oil\",Worksheet!$G$17),0)>0,VLOOKUP(\"Oil\",HVACg_Lookup,MATCH(Worksheet!$G$16,BuildingSize,0)+1,FALSE),IF(IFERROR(SEARCH(\"Propane\",Worksheet!$G$17),0)>0,VLOOKUP(\"Propane\",HVACg_Lookup,MATCH(Worksheet!$G$16,BuildingSize,0)+1,FALSE),0)))/IF(Worksheet!M316>0,Worksheet!M316,Worksheet!L316),0),\"\")","v":""},"",null,null,null,{"$f":"IF(ISBLANK(Worksheet!M316)=FALSE,Worksheet!M316,\"\")","v":0},{"$f":"IF(Worksheet!A316=\"-\",\"\",IF(Worksheet!A316=\"\",S292,Worksheet!A316))","v":""},{"$f":"IF(S293=\"\",\"\",IF(AND(Worksheet!G316=\"\",Worksheet!H316=\"\")=TRUE,T292,IF(Worksheet!G316=\"\",\"\",Worksheet!G316)))","v":""},{"$f":"IF(S293=\"\",\"\",IF(AND(Worksheet!G316=\"\",Worksheet!H316=\"\")=TRUE,U292,IF(Worksheet!H316=\"\",\"\",Worksheet!H316)))","v":""},{"$f":"IF(Worksheet!N316=\"\",\"\",Worksheet!N316)","v":""},{"$f":"IF(Worksheet!O316=\"\",\"\",Worksheet!O316)","v":""},{"$f":"IF(Worksheet!F316=0,\"\",Worksheet!F316)","v":""},{"$f":"IF(Worksheet!P316=0,\"\",Worksheet!P316)","v":""},{"$f":"IF(Worksheet!$A$11=TRUE,\"Y\",\"N\")","v":"N"},{"$f":"IF(Worksheet!$A$12=TRUE,\"Y\",\"N\")","v":"N"},{"$f":"IF(Worksheet!$B$11=TRUE,\"Y\",\"N\")","v":"N"},{"$f":"IF(Worksheet!$B$12=TRUE,\"Y\",\"N\")","v":"N"},{"$f":"IF(Worksheet!$C$11=TRUE,\"Y\",\"N\")","v":"N"},{"$f":"IF(Worksheet!$C$12=TRUE,\"Y\",\"N\")","v":"N"},""]
[{"$f":"IF(ISERROR(VLOOKUP(Worksheet!N317,MeasureLookup,2,FALSE))=FALSE,VLOOKUP(Worksheet!N317,MeasureLookup,2,FALSE),\"\")","v":""},{"$f":"Worksheet!Q317","v":0},{"$f":"Worksheet!R317","v":0},{"$f":"IF(ISERROR(Worksheet!P317)=FALSE,Worksheet!P317,\"\")","v":0},"Watts",null,null,{"$f":"IF(Worksheet!AP317<>\"\",IF(Worksheet!AP317>0,Worksheet!AP317/IF(Worksheet!M317>0,Worksheet!M317,Worksheet!L317),\"\"),\"\")","v":""},{"$f":"IF(ISBLANK(Worksheet!L317)=FALSE,Worksheet!L317,\"\")","v":0},{"$f":"IF(Worksheet!L317<>0, IFERROR(VLOOKUP(Worksheet!$C$16,SavingsSupportTable,3,FALSE)*Worksheet!AQ317*IFERROR(1+VLOOKUP(Worksheet!$C$16,SavingsSupportTable,MATCH(Worksheet!$G$17,HVACe_Options,0)+4,FALSE),1)/IF(Worksheet!M317>0,Worksheet!M317,Worksheet!L317),\"\"),\"\")","v":""},{"$f":"IF(Worksheet!L317<>0, IFERROR(VLOOKUP(Worksheet!$C$16,SavingsSupportTable,2,FALSE)*Worksheet!AQ317*IF(IFERROR(MATCH(Worksheet!$G$17,HVACe_Options,0),0)>0,1+VLOOKUP(Worksheet!$C$16,SavingsSupportTable,4,FALSE),1)/IF(Worksheet!M317>0,Worksheet!M317,Worksheet!L317),\"\"),\"\")","v":""},"",{"$f":"IF(Worksheet!L317<>0,IFERROR(VLOOKUP(Worksheet!$C$16,SavingsSupportTable,3,FALSE)*Worksheet!AQ317*IF(IFERROR(SEARCH(\"Gas\",Worksheet!$G$17),0)>0,VLOOKUP(\"Gas\",HVACg_Lookup,MATCH(Worksheet!$G$16,BuildingSize,0)+1,FALSE),IF(IFERROR(SEARCH(\"Oil\",Worksheet!$G$17),0)>0,VLOOKUP(\"Oil\",HVACg_Lookup,MATCH(Worksheet!$G$16,BuildingSize,0)+1,FALSE),IF(IFERROR(SEARCH(\"Propane\",Worksheet!$G$17),0)>0,VLOOKUP(\"Propane\",HVACg_Lookup,MATCH(Worksheet!$G$16,BuildingSize,0)+1,FALSE),0)))/IF(Worksheet!M317>0,Worksheet!M317,Worksheet!L317),0),\"\")","v":""},"",null,null,null,{"$f":"IF(ISBLANK(Worksheet!M317)=FALSE,Worksheet!M317,\"\")","v":0},{"$f":"IF(Worksheet!A317=\"-\",\"\",IF(Worksheet!A317=\"\",S293,Worksheet!A317))","v":""},{"$f":"IF(S294=\"\",\"\",IF(AND(Worksheet!G317=\"\",Worksheet!H317=\"\")=TRUE,T293,IF(Worksheet!G317=\"\",\"\",Worksheet!G317)))","v":""},{"$f":"IF(S294=\"\",\"\",IF(AND(Worksheet!G317=\"\",Worksheet!H317=\"\")=TRUE,U293,IF(Worksheet!H317=\"\",\"\",Worksheet!H317)))","v":""},{"$f":"IF(Worksheet!N317=\"\",\"\",Worksheet!N317)","v":""},{"$f":"IF(Worksheet!O317=\"\",\"\",Worksheet!O317)","v":""},{"$f":"IF(Worksheet!F317=0,\"\",Worksheet!F317)","v":""},{"$f":"IF(Worksheet!P317=0,\"\",Worksheet!P317)","v":""},{"$f":"IF(Worksheet!$A$11=TRUE,\"Y\",\"N\")","v":"N"},{"$f":"IF(Worksheet!$A$12=TRUE,\"Y\",\"N\")","v":"N"},{"$f":"IF(Worksheet!$B$11=TRUE,\"Y\",\"N\")","v":"N"},{"$f":"IF(Worksheet!$B$12=TRUE,\"Y\",\"N\")","v":"N"},{"$f":"IF(Worksheet!$C$11=TRUE,\"Y\",\"N\")","v":"N"},{"$f":"IF(Worksheet!$C$12=TRUE,\"Y\",\"N\")","v":"N"},""]
[{"$f":"IF(ISERROR(VLOOKUP(Worksheet!N318,MeasureLookup,2,FALSE))=FALSE,VLOOKUP(Worksheet!N318,MeasureLookup,2,FALSE),\"\")","v":""},{"$f":"Worksheet!Q318","v":0},{"$f":"Worksheet!R318","v":0},{"$f":"IF(ISERROR(Worksheet!P318)=FALSE,Worksheet!P318,\"\")","v":0},"Watts",null,null,{"$f":"IF(Worksheet!AP318<>\"\",IF(Worksheet!AP318>0,Worksheet!AP318/IF(Worksheet!M318>0,Worksheet!M318,Worksheet!L318),\"\"),\"\")","v":""},{"$f":"IF(ISBLANK(Worksheet!L318)=FALSE,Worksheet!L318,\"\")","v":0},{"$f":"IF(Worksheet!L318<>0, IFERROR(VLOOKUP(Worksheet!$C$16,SavingsSupportTable,3,FALSE)*Worksheet!AQ318*IFERROR(1+VLOOKUP(Worksheet!$C$16,SavingsSupportTable,MATCH(Worksheet!$G$17,HVACe_Options,0)+4,FALSE),1)/IF(Worksheet!M318>0,Worksheet!M318,Worksheet!L318),\"\"),\"\")","v":""},{"$f":"IF(Worksheet!L318<>0, IFERROR(VLOOKUP(Worksheet!$C$16,SavingsSupportTable,2,FALSE)*Worksheet!AQ318*IF(IFERROR(MATCH(Worksheet!$G$17,HVACe_Options,0),0)>0,1+VLOOKUP(Worksheet!$C$16,SavingsSupportTable,4,FALSE),1)/IF(Worksheet!M318>0,Worksheet!M318,Worksheet!L318),\"\"),\"\")","v":""},"",{"$f":"IF(Worksheet!L318<>0,IFERROR(VLOOKUP(Worksheet!$C$16,SavingsSupportTable,3,FALSE)*Worksheet!AQ318*IF(IFERROR(SEARCH(\"Gas\",Worksheet!$G$17),0)>0,VLOOKUP(\"Gas\",HVACg_Lookup,MATCH(Worksheet!$G$16,BuildingSize,0)+1,FALSE),IF(IFERROR(SEARCH(\"Oil\",Worksheet!$G$17),0)>0,VLOOKUP(\"Oil\",HVACg_Lookup,MATCH(Worksheet!$G$16,BuildingSize,0)+1,FALSE),IF(IFERROR(SEARCH(\"Propane\",Worksheet!$G$17),0)>0,VLOOKUP(\"Propane\",HVACg_Lookup,MATCH(Worksheet!$G$16,BuildingSize,0)+1,FALSE),0)))/IF(Worksheet!M318>0,Worksheet!M318,Worksheet!L318),0),\"\")","v":""},"",null,null,null,{"$f":"IF(ISBLANK(Worksheet!M318)=FALSE,Worksheet!M318,\"\")","v":0},{"$f":"IF(Worksheet!A318=\"-\",\"\",IF(Worksheet!A318=\"\",S294,Worksheet!A318))","v":""},{"$f":"IF(S295=\"\",\"\",IF(AND(Worksheet!G318=\"\",Worksheet!H318=\"\")=TRUE,T294,IF(Worksheet!G318=\"\",\"\",Worksheet!G318)))","v":""},{"$f":"IF(S295=\"\",\"\",IF(AND(Worksheet!G318=\"\",Worksheet!H318=\"\")=TRUE,U294,IF(Worksheet!H318=\"\",\"\",Worksheet!H318)))","v":""},{"$f":"IF(Worksheet!N318=\"\",\"\",Worksheet!N318)","v":""},{"$f":"IF(Worksheet!O318=\"\",\"\",Worksheet!O318)","v":""},{"$f":"IF(Worksheet!F318=0,\"\",Worksheet!F318)","v":""},{"$f":"IF(Worksheet!P318=0,\"\",Worksheet!P318)","v":""},{"$f":"IF(Worksheet!$A$11=TRUE,\"Y\",\"N\")","v":"N"},{"$f":"IF(Worksheet!$A$12=TRUE,\"Y\",\"N\")","v":"N"},{"$f":"IF(Worksheet!$B$11=TRUE,\"Y\",\"N\")","v":"N"},{"$f":"IF(Worksheet!$B$12=TRUE,\"Y\",\"N\")","v":"N"},{"$f":"IF(Worksheet!$C$11=TRUE,\"Y\",\"N\")","v":"N"},{"$f":"IF(Worksheet!$C$12=TRUE,\"Y\",\"N\")","v":"N"},""]
[{"$f":"IF(ISERROR(VLOOKUP(Worksheet!N319,MeasureLookup,2,FALSE))=FALSE,VLOOKUP(Worksheet!N319,MeasureLookup,2,FALSE),\"\")","v":""},{"$f":"Worksheet!Q319","v":0},{"$f":"Worksheet!R319","v":0},{"$f":"IF(ISERROR(Worksheet!P319)=FALSE,Worksheet!P319,\"\")","v":0},"Watts",null,null,{"$f":"IF(Worksheet!AP319<>\"\",IF(Worksheet!AP319>0,Worksheet!AP319/IF(Worksheet!M319>0,Worksheet!M319,Worksheet!L319),\"\"),\"\")","v":""},{"$f":"IF(ISBLANK(Worksheet!L319)=FALSE,Worksheet!L319,\"\")","v":0},{"$f":"IF(Worksheet!L319<>0, IFERROR(VLOOKUP(Worksheet!$C$16,SavingsSupportTable,3,FALSE)*Worksheet!AQ319*IFERROR(1+VLOOKUP(Worksheet!$C$16,SavingsSupportTable,MATCH(Worksheet!$G$17,HVACe_Options,0)+4,FALSE),1)/IF(Worksheet!M319>0,Worksheet!M319,Worksheet!L319),\"\"),\"\")","v":""},{"$f":"IF(Worksheet!L319<>0, IFERROR(VLOOKUP(Worksheet!$C$16,SavingsSupportTable,2,FALSE)*Worksheet!AQ319*IF(IFERROR(MATCH(Worksheet!$G$17,HVACe_Options,0),0)>0,1+VLOOKUP(Worksheet!$C$16,SavingsSupportTable,4,FALSE),1)/IF(Worksheet!M319>0,Worksheet!M319,Worksheet!L319),\"\"),\"\")","v":""},"",{"$f":"IF(Worksheet!L319<>0,IFERROR(VLOOKUP(Worksheet!$C$16,SavingsSupportTable,3,FALSE)*Worksheet!AQ319*IF(IFERROR(SEARCH(\"Gas\",Worksheet!$G$17),0)>0,VLOOKUP(\"Gas\",HVACg_Lookup,MATCH(Worksheet!$G$16,BuildingSize,0)+1,FALSE),IF(IFERROR(SEARCH(\"Oil\",Worksheet!$G$17),0)>0,VLOOKUP(\"Oil\",HVACg_Lookup,MATCH(Worksheet!$G$16,BuildingSize,0)+1,FALSE),IF(IFERROR(SEARCH(\"Propane\",Worksheet!$G$17),0)>0,VLOOKUP(\"Propane\",HVACg_Lookup,MATCH(Worksheet!$G$16,BuildingSize,0)+1,FALSE),0)))/IF(Worksheet!M319>0,Worksheet!M319,Worksheet!L319),0),\"\")","v":""},"",null,null,null,{"$f":"IF(ISBLANK(Worksheet!M319)=FALSE,Worksheet!M319,\"\")","v":0},{"$f":"IF(Worksheet!A319=\"-\",\"\",IF(Worksheet!A319=\"\",S295,Worksheet!A319))","v":""},{"$f":"IF(S296=\"\",\"\",IF(AND(Worksheet!G319=\"\",Worksheet!H319=\"\")=TRUE,T295,IF(Worksheet!G319=\"\",\"\",Worksheet!G319)))","v":""},{"$f":"IF(S296=\"\",\"\",IF(AND(Worksheet!G319=\"\",Worksheet!H319=\"\")=TRUE,U295,IF(Worksheet!H319=\"\",\"\",Worksheet!H319)))","v":""},{"$f":"IF(Worksheet!N319=\"\",\"\",Worksheet!N319)","v":""},{"$f":"IF(Worksheet!O319=\"\",\"\",Worksheet!O319)","v":""},{"$f":"IF(Worksheet!F319=0,\"\",Worksheet!F319)","v":""},{"$f":"IF(Worksheet!P319=0,\"\",Worksheet!P319)","v":""},{"$f":"IF(Worksheet!$A$11=TRUE,\"Y\",\"N\")","v":"N"},{"$f":"IF(Worksheet!$A$12=TRUE,\"Y\",\"N\")","v":"N"},{"$f":"IF(Worksheet!$B$11=TRUE,\"Y\",\"N\")","v":"N"},{"$f":"IF(Worksheet!$B$12=TRUE,\"Y\",\"N\")","v":"N"},{"$f":"IF(Worksheet!$C$11=TRUE,\"Y\",\"N\")","v":"N"},{"$f":"IF(Worksheet!$C$12=TRUE,\"Y\",\"N\")","v":"N"},""]
[{"$f":"IF(ISERROR(VLOOKUP(Worksheet!N320,MeasureLookup,2,FALSE))=FALSE,VLOOKUP(Worksheet!N320,MeasureLookup,2,FALSE),\"\")","v":""},{"$f":"Worksheet!Q320","v":0},{"$f":"Worksheet!R320","v":0},{"$f":"IF(ISERROR(Worksheet!P320)=FALSE,Worksheet!P320,\"\")","v":0},"Watts",null,null,{"$f":"IF(Worksheet!AP320<>\"\",IF(Worksheet!AP320>0,Worksheet!AP320/IF(Worksheet!M320>0,Worksheet!M320,Worksheet!L320),\"\"),\"\")","v":""},{"$f":"IF(ISBLANK(Worksheet!L320)=FALSE,Worksheet!L320,\"\")","v":0},{"$f":"IF(Worksheet!L320<>0, IFERROR(VLOOKUP(Worksheet!$C$16,SavingsSupportTable,3,FALSE)*Worksheet!AQ320*IFERROR(1+VLOOKUP(Worksheet!$C$16,SavingsSupportTable,MATCH(Worksheet!$G$17,HVACe_Options,0)+4,FALSE),1)/IF(Worksheet!M320>0,Worksheet!M320,Worksheet!L320),\"\"),\"\")","v":""},{"$f":"IF(Worksheet!L320<>0, IFERROR(VLOOKUP(Worksheet!$C$16,SavingsSupportTable,2,FALSE)*Worksheet!AQ320*IF(IFERROR(MATCH(Worksheet!$G$17,HVACe_Options,0),0)>0,1+VLOOKUP(Worksheet!$C$16,SavingsSupportTable,4,FALSE),1)/IF(Worksheet!M320>0,Worksheet!M320,Worksheet!L320),\"\"),\"\")","v":""},"",{"$f":"IF(Worksheet!L320<>0,IFERROR(VLOOKUP(Worksheet!$C$16,SavingsSupportTable,3,FALSE)*Worksheet!AQ320*IF(IFERROR(SEARCH(\"Gas\",Worksheet!$G$17),0)>0,VLOOKUP(\"Gas\",HVACg_Lookup,MATCH(Worksheet!$G$16,BuildingSize,0)+1,FALSE),IF(IFERROR(SEARCH(\"Oil\",Worksheet!$G$17),0)>0,VLOOKUP(\"Oil\",HVACg_Lookup,MATCH(Worksheet!$G$16,BuildingSize,0)+1,FALSE),IF(IFERROR(SEARCH(\"Propane\",Worksheet!$G$17),0)>0,VLOOKUP(\"Propane\",HVACg_Lookup,MATCH(Worksheet!$G$16,BuildingSize,0)+1,FALSE),0)))/IF(Worksheet!M320>0,Worksheet!M320,Worksheet!L320),0),\"\")","v":""},"",null,null,null,{"$f":"IF(ISBLANK(Worksheet!M320)=FALSE,Worksheet!M320,\"\")","v":0},{"$f":"IF(Worksheet!A320=\"-\",\"\",IF(Worksheet!A320=\"\",S296,Worksheet!A320))","v":""},{"$f":"IF(S297=\"\",\"\",IF(AND(Worksheet!G320=\"\",Worksheet!H320=\"\")=TRUE,T296,IF(Worksheet!G320=\"\",\"\",Worksheet!G320)))","v":""},{"$f":"IF(S297=\"\",\"\",IF(AND(Worksheet!G320=\"\",Worksheet!H320=\"\")=TRUE,U296,IF(Worksheet!H320=\"\",\"\",Worksheet!H320)))","v":""},{"$f":"IF(Worksheet!N320=\"\",\"\",Worksheet!N320)","v":""},{"$f":"IF(Worksheet!O320=\"\",\"\",Worksheet!O320)","v":""},{"$f":"IF(Worksheet!F320=0,\"\",Worksheet!F320)","v":""},{"$f":"IF(Worksheet!P320=0,\"\",Worksheet!P320)","v":""},{"$f":"IF(Worksheet!$A$11=TRUE,\"Y\",\"N\")","v":"N"},{"$f":"IF(Worksheet!$A$12=TRUE,\"Y\",\"N\")","v":"N"},{"$f":"IF(Worksheet!$B$11=TRUE,\"Y\",\"N\")","v":"N"},{"$f":"IF(Worksheet!$B$12=TRUE,\"Y\",\"N\")","v":"N"},{"$f":"IF(Worksheet!$C$11=TRUE,\"Y\",\"N\")","v":"N"},{"$f":"IF(Worksheet!$C$12=TRUE,\"Y\",\"N\")","v":"N"},""]
[{"$f":"IF(ISERROR(VLOOKUP(Worksheet!N321,MeasureLookup,2,FALSE))=FALSE,VLOOKUP(Worksheet!N321,MeasureLookup,2,FALSE),\"\")","v":""},{"$f":"Worksheet!Q321","v":0},{"$f":"Worksheet!R321","v":0},{"$f":"IF(ISERROR(Worksheet!P321)=FALSE,Worksheet!P321,\"\")","v":0},"Watts",null,null,{"$f":"IF(Worksheet!AP321<>\"\",IF(Worksheet!AP321>0,Worksheet!AP321/IF(Worksheet!M321>0,Worksheet!M321,Worksheet!L321),\"\"),\"\")","v":""},{"$f":"IF(ISBLANK(Worksheet!L321)=FALSE,Worksheet!L321,\"\")","v":0},{"$f":"IF(Worksheet!L321<>0, IFERROR(VLOOKUP(Worksheet!$C$16,SavingsSupportTable,3,FALSE)*Worksheet!AQ321*IFERROR(1+VLOOKUP(Worksheet!$C$16,SavingsSupportTable,MATCH(Worksheet!$G$17,HVACe_Options,0)+4,FALSE),1)/IF(Worksheet!M321>0,Worksheet!M321,Worksheet!L321),\"\"),\"\")","v":""},{"$f":"IF(Worksheet!L321<>0, IFERROR(VLOOKUP(Worksheet!$C$16,SavingsSupportTable,2,FALSE)*Worksheet!AQ321*IF(IFERROR(MATCH(Worksheet!$G$17,HVACe_Options,0),0)>0,1+VLOOKUP(Worksheet!$C$16,SavingsSupportTable,4,FALSE),1)/IF(Worksheet!M321>0,Worksheet!M321,Worksheet!L321),\"\"),\"\")","v":""},"",{"$f":"IF(Worksheet!L321<>0,IFERROR(VLOOKUP(Worksheet!$C$16,SavingsSupportTable,3,FALSE)*Worksheet!AQ321*IF(IFERROR(SEARCH(\"Gas\",Worksheet!$G$17),0)>0,VLOOKUP(\"Gas\",HVACg_Lookup,MATCH(Worksheet!$G$16,BuildingSize,0)+1,FALSE),IF(IFERROR(SEARCH(\"Oil\",Worksheet!$G$17),0)>0,VLOOKUP(\"Oil\",HVACg_Lookup,MATCH(Worksheet!$G$16,BuildingSize,0)+1,FALSE),IF(IFERROR(SEARCH(\"Propane\",Worksheet!$G$17),0)>0,VLOOKUP(\"Propane\",HVACg_Lookup,MATCH(Worksheet!$G$16,BuildingSize,0)+1,FALSE),0)))/IF(Worksheet!M321>0,Worksheet!M321,Worksheet!L321),0),\"\")","v":""},"",null,null,null,{"$f":"IF(ISBLANK(Worksheet!M321)=FALSE,Worksheet!M321,\"\")","v":0},{"$f":"IF(Worksheet!A321=\"-\",\"\",IF(Worksheet!A321=\"\",S297,Worksheet!A321))","v":""},{"$f":"IF(S298=\"\",\"\",IF(AND(Worksheet!G321=\"\",Worksheet!H321=\"\")=TRUE,T297,IF(Worksheet!G321=\"\",\"\",Worksheet!G321)))","v":""},{"$f":"IF(S298=\"\",\"\",IF(AND(Worksheet!G321=\"\",Worksheet!H321=\"\")=TRUE,U297,IF(Worksheet!H321=\"\",\"\",Worksheet!H321)))","v":""},{"$f":"IF(Worksheet!N321=\"\",\"\",Worksheet!N321)","v":""},{"$f":"IF(Worksheet!O321=\"\",\"\",Worksheet!O321)","v":""},{"$f":"IF(Worksheet!F321=0,\"\",Worksheet!F321)","v":""},{"$f":"IF(Worksheet!P321=0,\"\",Worksheet!P321)","v":""},{"$f":"IF(Worksheet!$A$11=TRUE,\"Y\",\"N\")","v":"N"},{"$f":"IF(Worksheet!$A$12=TRUE,\"Y\",\"N\")","v":"N"},{"$f":"IF(Worksheet!$B$11=TRUE,\"Y\",\"N\")","v":"N"},{"$f":"IF(Worksheet!$B$12=TRUE,\"Y\",\"N\")","v":"N"},{"$f":"IF(Worksheet!$C$11=TRUE,\"Y\",\"N\")","v":"N"},{"$f":"IF(Worksheet!$C$12=TRUE,\"Y\",\"N\")","v":"N"},""]
[{"$f":"IF(ISERROR(VLOOKUP(Worksheet!N322,MeasureLookup,2,FALSE))=FALSE,VLOOKUP(Worksheet!N322,MeasureLookup,2,FALSE),\"\")","v":""},{"$f":"Worksheet!Q322","v":0},{"$f":"Worksheet!R322","v":0},{"$f":"IF(ISERROR(Worksheet!P322)=FALSE,Worksheet!P322,\"\")","v":0},"Watts",null,null,{"$f":"IF(Worksheet!AP322<>\"\",IF(Worksheet!AP322>0,Worksheet!AP322/IF(Worksheet!M322>0,Worksheet!M322,Worksheet!L322),\"\"),\"\")","v":""},{"$f":"IF(ISBLANK(Worksheet!L322)=FALSE,Worksheet!L322,\"\")","v":0},{"$f":"IF(Worksheet!L322<>0, IFERROR(VLOOKUP(Worksheet!$C$16,SavingsSupportTable,3,FALSE)*Worksheet!AQ322*IFERROR(1+VLOOKUP(Worksheet!$C$16,SavingsSupportTable,MATCH(Worksheet!$G$17,HVACe_Options,0)+4,FALSE),1)/IF(Worksheet!M322>0,Worksheet!M322,Worksheet!L322),\"\"),\"\")","v":""},{"$f":"IF(Worksheet!L322<>0, IFERROR(VLOOKUP(Worksheet!$C$16,SavingsSupportTable,2,FALSE)*Worksheet!AQ322*IF(IFERROR(MATCH(Worksheet!$G$17,HVACe_Options,0),0)>0,1+VLOOKUP(Worksheet!$C$16,SavingsSupportTable,4,FALSE),1)/IF(Worksheet!M322>0,Worksheet!M322,Worksheet!L322),\"\"),\"\")","v":""},"",{"$f":"IF(Worksheet!L322<>0,IFERROR(VLOOKUP(Worksheet!$C$16,SavingsSupportTable,3,FALSE)*Worksheet!AQ322*IF(IFERROR(SEARCH(\"Gas\",Worksheet!$G$17),0)>0,VLOOKUP(\"Gas\",HVACg_Lookup,MATCH(Worksheet!$G$16,BuildingSize,0)+1,FALSE),IF(IFERROR(SEARCH(\"Oil\",Worksheet!$G$17),0)>0,VLOOKUP(\"Oil\",HVACg_Lookup,MATCH(Worksheet!$G$16,BuildingSize,0)+1,FALSE),IF(IFERROR(SEARCH(\"Propane\",Worksheet!$G$17),0)>0,VLOOKUP(\"Propane\",HVACg_Lookup,MATCH(Worksheet!$G$16,BuildingSize,0)+1,FALSE),0)))/IF(Worksheet!M322>0,Worksheet!M322,Worksheet!L322),0),\"\")","v":""},"",null,null,null,{"$f":"IF(ISBLANK(Worksheet!M322)=FALSE,Worksheet!M322,\"\")","v":0},{"$f":"IF(Worksheet!A322=\"-\",\"\",IF(Worksheet!A322=\"\",S298,Worksheet!A322))","v":""},{"$f":"IF(S299=\"\",\"\",IF(AND(Worksheet!G322=\"\",Worksheet!H322=\"\")=TRUE,T298,IF(Worksheet!G322=\"\",\"\",Worksheet!G322)))","v":""},{"$f":"IF(S299=\"\",\"\",IF(AND(Worksheet!G322=\"\",Worksheet!H322=\"\")=TRUE,U298,IF(Worksheet!H322=\"\",\"\",Worksheet!H322)))","v":""},{"$f":"IF(Worksheet!N322=\"\",\"\",Worksheet!N322)","v":""},{"$f":"IF(Worksheet!O322=\"\",\"\",Worksheet!O322)","v":""},{"$f":"IF(Worksheet!F322=0,\"\",Worksheet!F322)","v":""},{"$f":"IF(Worksheet!P322=0,\"\",Worksheet!P322)","v":""},{"$f":"IF(Worksheet!$A$11=TRUE,\"Y\",\"N\")","v":"N"},{"$f":"IF(Worksheet!$A$12=TRUE,\"Y\",\"N\")","v":"N"},{"$f":"IF(Worksheet!$B$11=TRUE,\"Y\",\"N\")","v":"N"},{"$f":"IF(Worksheet!$B$12=TRUE,\"Y\",\"N\")","v":"N"},{"$f":"IF(Worksheet!$C$11=TRUE,\"Y\",\"N\")","v":"N"},{"$f":"IF(Worksheet!$C$12=TRUE,\"Y\",\"N\")","v":"N"},""]
[{"$f":"IF(ISERROR(VLOOKUP(Worksheet!N323,MeasureLookup,2,FALSE))=FALSE,VLOOKUP(Worksheet!N323,MeasureLookup,2,FALSE),\"\")","v":""},{"$f":"Worksheet!Q323","v":0},{"$f":"Worksheet!R323","v":0},{"$f":"IF(ISERROR(Worksheet!P323)=FALSE,Worksheet!P323,\"\")","v":0},"Watts",null,null,{"$f":"IF(Worksheet!AP323<>\"\",IF(Worksheet!AP323>0,Worksheet!AP323/IF(Worksheet!M323>0,Worksheet!M323,Worksheet!L323),\"\"),\"\")","v":""},{"$f":"IF(ISBLANK(Worksheet!L323)=FALSE,Worksheet!L323,\"\")","v":0},{"$f":"IF(Worksheet!L323<>0, IFERROR(VLOOKUP(Worksheet!$C$16,SavingsSupportTable,3,FALSE)*Worksheet!AQ323*IFERROR(1+VLOOKUP(Worksheet!$C$16,SavingsSupportTable,MATCH(Worksheet!$G$17,HVACe_Options,0)+4,FALSE),1)/IF(Worksheet!M323>0,Worksheet!M323,Worksheet!L323),\"\"),\"\")","v":""},{"$f":"IF(Worksheet!L323<>0, IFERROR(VLOOKUP(Worksheet!$C$16,SavingsSupportTable,2,FALSE)*Worksheet!AQ323*IF(IFERROR(MATCH(Worksheet!$G$17,HVACe_Options,0),0)>0,1+VLOOKUP(Worksheet!$C$16,SavingsSupportTable,4,FALSE),1)/IF(Worksheet!M323>0,Worksheet!M323,Worksheet!L323),\"\"),\"\")","v":""},"",{"$f":"IF(Worksheet!L323<>0,IFERROR(VLOOKUP(Worksheet!$C$16,SavingsSupportTable,3,FALSE)*Worksheet!AQ323*IF(IFERROR(SEARCH(\"Gas\",Worksheet!$G$17),0)>0,VLOOKUP(\"Gas\",HVACg_Lookup,MATCH(Worksheet!$G$16,BuildingSize,0)+1,FALSE),IF(IFERROR(SEARCH(\"Oil\",Worksheet!$G$17),0)>0,VLOOKUP(\"Oil\",HVACg_Lookup,MATCH(Worksheet!$G$16,BuildingSize,0)+1,FALSE),IF(IFERROR(SEARCH(\"Propane\",Worksheet!$G$17),0)>0,VLOOKUP(\"Propane\",HVACg_Lookup,MATCH(Worksheet!$G$16,BuildingSize,0)+1,FALSE),0)))/IF(Worksheet!M323>0,Worksheet!M323,Worksheet!L323),0),\"\")","v":""},"",null,null,null,{"$f":"IF(ISBLANK(Worksheet!M323)=FALSE,Worksheet!M323,\"\")","v":0},{"$f":"IF(Worksheet!A323=\"-\",\"\",IF(Worksheet!A323=\"\",S299,Worksheet!A323))","v":""},{"$f":"IF(S300=\"\",\"\",IF(AND(Worksheet!G323=\"\",Worksheet!H323=\"\")=TRUE,T299,IF(Worksheet!G323=\"\",\"\",Worksheet!G323)))","v":""},{"$f":"IF(S300=\"\",\"\",IF(AND(Worksheet!G323=\"\",Worksheet!H323=\"\")=TRUE,U299,IF(Worksheet!H323=\"\",\"\",Worksheet!H323)))","v":""},{"$f":"IF(Worksheet!N323=\"\",\"\",Worksheet!N323)","v":""},{"$f":"IF(Worksheet!O323=\"\",\"\",Worksheet!O323)","v":""},{"$f":"IF(Worksheet!F323=0,\"\",Worksheet!F323)","v":""},{"$f":"IF(Worksheet!P323=0,\"\",Worksheet!P323)","v":""},{"$f":"IF(Worksheet!$A$11=TRUE,\"Y\",\"N\")","v":"N"},{"$f":"IF(Worksheet!$A$12=TRUE,\"Y\",\"N\")","v":"N"},{"$f":"IF(Worksheet!$B$11=TRUE,\"Y\",\"N\")","v":"N"},{"$f":"IF(Worksheet!$B$12=TRUE,\"Y\",\"N\")","v":"N"},{"$f":"IF(Worksheet!$C$11=TRUE,\"Y\",\"N\")","v":"N"},{"$f":"IF(Worksheet!$C$12=TRUE,\"Y\",\"N\")","v":"N"},""]
[{"$f":"IF(ISERROR(VLOOKUP(Worksheet!N324,MeasureLookup,2,FALSE))=FALSE,VLOOKUP(Worksheet!N324,MeasureLookup,2,FALSE),\"\")","v":""},{"$f":"Worksheet!Q324","v":0},{"$f":"Worksheet!R324","v":0},{"$f":"IF(ISERROR(Worksheet!P324)=FALSE,Worksheet!P324,\"\")","v":0},"Watts",null,null,{"$f":"IF(Worksheet!AP324<>\"\",IF(Worksheet!AP324>0,Worksheet!AP324/IF(Worksheet!M324>0,Worksheet!M324,Worksheet!L324),\"\"),\"\")","v":""},{"$f":"IF(ISBLANK(Worksheet!L324)=FALSE,Worksheet!L324,\"\")","v":0},{"$f":"IF(Worksheet!L324<>0, IFERROR(VLOOKUP(Worksheet!$C$16,SavingsSupportTable,3,FALSE)*Worksheet!AQ324*IFERROR(1+VLOOKUP(Worksheet!$C$16,SavingsSupportTable,MATCH(Worksheet!$G$17,HVACe_Options,0)+4,FALSE),1)/IF(Worksheet!M324>0,Worksheet!M324,Worksheet!L324),\"\"),\"\")","v":""},{"$f":"IF(Worksheet!L324<>0, IFERROR(VLOOKUP(Worksheet!$C$16,SavingsSupportTable,2,FALSE)*Worksheet!AQ324*IF(IFERROR(MATCH(Worksheet!$G$17,HVACe_Options,0),0)>0,1+VLOOKUP(Worksheet!$C$16,SavingsSupportTable,4,FALSE),1)/IF(Worksheet!M324>0,Worksheet!M324,Worksheet!L324),\"\"),\"\")","v":""},"",{"$f":"IF(Worksheet!L324<>0,IFERROR(VLOOKUP(Worksheet!$C$16,SavingsSupportTable,3,FALSE)*Worksheet!AQ324*IF(IFERROR(SEARCH(\"Gas\",Worksheet!$G$17),0)>0,VLOOKUP(\"Gas\",HVACg_Lookup,MATCH(Worksheet!$G$16,BuildingSize,0)+1,FALSE),IF(IFERROR(SEARCH(\"Oil\",Worksheet!$G$17),0)>0,VLOOKUP(\"Oil\",HVACg_Lookup,MATCH(Worksheet!$G$16,BuildingSize,0)+1,FALSE),IF(IFERROR(SEARCH(\"Propane\",Worksheet!$G$17),0)>0,VLOOKUP(\"Propane\",HVACg_Lookup,MATCH(Worksheet!$G$16,BuildingSize,0)+1,FALSE),0)))/IF(Worksheet!M324>0,Worksheet!M324,Worksheet!L324),0),\"\")","v":""},"",null,null,null,{"$f":"IF(ISBLANK(Worksheet!M324)=FALSE,Worksheet!M324,\"\")","v":0},{"$f":"IF(Worksheet!A324=\"-\",\"\",IF(Worksheet!A324=\"\",S300,Worksheet!A324))","v":""},{"$f":"IF(S301=\"\",\"\",IF(AND(Worksheet!G324=\"\",Worksheet!H324=\"\")=TRUE,T300,IF(Worksheet!G324=\"\",\"\",Worksheet!G324)))","v":""},{"$f":"IF(S301=\"\",\"\",IF(AND(Worksheet!G324=\"\",Worksheet!H324=\"\")=TRUE,U300,IF(Worksheet!H324=\"\",\"\",Worksheet!H324)))","v":""},{"$f":"IF(Worksheet!N324=\"\",\"\",Worksheet!N324)","v":""},{"$f":"IF(Worksheet!O324=\"\",\"\",Worksheet!O324)","v":""},{"$f":"IF(Worksheet!F324=0,\"\",Worksheet!F324)","v":""},{"$f":"IF(Worksheet!P324=0,\"\",Worksheet!P324)","v":""},{"$f":"IF(Worksheet!$A$11=TRUE,\"Y\",\"N\")","v":"N"},{"$f":"IF(Worksheet!$A$12=TRUE,\"Y\",\"N\")","v":"N"},{"$f":"IF(Worksheet!$B$11=TRUE,\"Y\",\"N\")","v":"N"},{"$f":"IF(Worksheet!$B$12=TRUE,\"Y\",\"N\")","v":"N"},{"$f":"IF(Worksheet!$C$11=TRUE,\"Y\",\"N\")","v":"N"},{"$f":"IF(Worksheet!$C$12=TRUE,\"Y\",\"N\")","v":"N"},""]
[{"$f":"IF(ISERROR(VLOOKUP(Worksheet!N325,MeasureLookup,2,FALSE))=FALSE,VLOOKUP(Worksheet!N325,MeasureLookup,2,FALSE),\"\")","v":""},{"$f":"Worksheet!Q325","v":0},{"$f":"Worksheet!R325","v":0},{"$f":"IF(ISERROR(Worksheet!P325)=FALSE,Worksheet!P325,\"\")","v":0},"Watts",null,null,{"$f":"IF(Worksheet!AP325<>\"\",IF(Worksheet!AP325>0,Worksheet!AP325/IF(Worksheet!M325>0,Worksheet!M325,Worksheet!L325),\"\"),\"\")","v":""},{"$f":"IF(ISBLANK(Worksheet!L325)=FALSE,Worksheet!L325,\"\")","v":0},{"$f":"IF(Worksheet!L325<>0, IFERROR(VLOOKUP(Worksheet!$C$16,SavingsSupportTable,3,FALSE)*Worksheet!AQ325*IFERROR(1+VLOOKUP(Worksheet!$C$16,SavingsSupportTable,MATCH(Worksheet!$G$17,HVACe_Options,0)+4,FALSE),1)/IF(Worksheet!M325>0,Worksheet!M325,Worksheet!L325),\"\"),\"\")","v":""},{"$f":"IF(Worksheet!L325<>0, IFERROR(VLOOKUP(Worksheet!$C$16,SavingsSupportTable,2,FALSE)*Worksheet!AQ325*IF(IFERROR(MATCH(Worksheet!$G$17,HVACe_Options,0),0)>0,1+VLOOKUP(Worksheet!$C$16,SavingsSupportTable,4,FALSE),1)/IF(Worksheet!M325>0,Worksheet!M325,Worksheet!L325),\"\"),\"\")","v":""},"",{"$f":"IF(Worksheet!L325<>0,IFERROR(VLOOKUP(Worksheet!$C$16,SavingsSupportTable,3,FALSE)*Worksheet!AQ325*IF(IFERROR(SEARCH(\"Gas\",Worksheet!$G$17),0)>0,VLOOKUP(\"Gas\",HVACg_Lookup,MATCH(Worksheet!$G$16,BuildingSize,0)+1,FALSE),IF(IFERROR(SEARCH(\"Oil\",Worksheet!$G$17),0)>0,VLOOKUP(\"Oil\",HVACg_Lookup,MATCH(Worksheet!$G$16,BuildingSize,0)+1,FALSE),IF(IFERROR(SEARCH(\"Propane\",Worksheet!$G$17),0)>0,VLOOKUP(\"Propane\",HVACg_Lookup,MATCH(Worksheet!$G$16,BuildingSize,0)+1,FALSE),0)))/IF(Worksheet!M325>0,Worksheet!M325,Worksheet!L325),0),\"\")","v":""},"",null,null,null,{"$f":"IF(ISBLANK(Worksheet!M325)=FALSE,Worksheet!M325,\"\")","v":0},{"$f":"IF(Worksheet!A325=\"-\",\"\",IF(Worksheet!A325=\"\",S301,Worksheet!A325))","v":""},{"$f":"IF(S302=\"\",\"\",IF(AND(Worksheet!G325=\"\",Worksheet!H325=\"\")=TRUE,T301,IF(Worksheet!G325=\"\",\"\",Worksheet!G325)))","v":""},{"$f":"IF(S302=\"\",\"\",IF(AND(Worksheet!G325=\"\",Worksheet!H325=\"\")=TRUE,U301,IF(Worksheet!H325=\"\",\"\",Worksheet!H325)))","v":""},{"$f":"IF(Worksheet!N325=\"\",\"\",Worksheet!N325)","v":""},{"$f":"IF(Worksheet!O325=\"\",\"\",Worksheet!O325)","v":""},{"$f":"IF(Worksheet!F325=0,\"\",Worksheet!F325)","v":""},{"$f":"IF(Worksheet!P325=0,\"\",Worksheet!P325)","v":""},{"$f":"IF(Worksheet!$A$11=TRUE,\"Y\",\"N\")","v":"N"},{"$f":"IF(Worksheet!$A$12=TRUE,\"Y\",\"N\")","v":"N"},{"$f":"IF(Worksheet!$B$11=TRUE,\"Y\",\"N\")","v":"N"},{"$f":"IF(Worksheet!$B$12=TRUE,\"Y\",\"N\")","v":"N"},{"$f":"IF(Worksheet!$C$11=TRUE,\"Y\",\"N\")","v":"N"},{"$f":"IF(Worksheet!$C$12=TRUE,\"Y\",\"N\")","v":"N"},""]
[{"$f":"IF(ISERROR(VLOOKUP(Worksheet!N326,MeasureLookup,2,FALSE))=FALSE,VLOOKUP(Worksheet!N326,MeasureLookup,2,FALSE),\"\")","v":""},{"$f":"Worksheet!Q326","v":0},{"$f":"Worksheet!R326","v":0},{"$f":"IF(ISERROR(Worksheet!P326)=FALSE,Worksheet!P326,\"\")","v":0},"Watts",null,null,{"$f":"IF(Worksheet!AP326<>\"\",IF(Worksheet!AP326>0,Worksheet!AP326/IF(Worksheet!M326>0,Worksheet!M326,Worksheet!L326),\"\"),\"\")","v":""},{"$f":"IF(ISBLANK(Worksheet!L326)=FALSE,Worksheet!L326,\"\")","v":0},{"$f":"IF(Worksheet!L326<>0, IFERROR(VLOOKUP(Worksheet!$C$16,SavingsSupportTable,3,FALSE)*Worksheet!AQ326*IFERROR(1+VLOOKUP(Worksheet!$C$16,SavingsSupportTable,MATCH(Worksheet!$G$17,HVACe_Options,0)+4,FALSE),1)/IF(Worksheet!M326>0,Worksheet!M326,Worksheet!L326),\"\"),\"\")","v":""},{"$f":"IF(Worksheet!L326<>0, IFERROR(VLOOKUP(Worksheet!$C$16,SavingsSupportTable,2,FALSE)*Worksheet!AQ326*IF(IFERROR(MATCH(Worksheet!$G$17,HVACe_Options,0),0)>0,1+VLOOKUP(Worksheet!$C$16,SavingsSupportTable,4,FALSE),1)/IF(Worksheet!M326>0,Worksheet!M326,Worksheet!L326),\"\"),\"\")","v":""},"",{"$f":"IF(Worksheet!L326<>0,IFERROR(VLOOKUP(Worksheet!$C$16,SavingsSupportTable,3,FALSE)*Worksheet!AQ326*IF(IFERROR(SEARCH(\"Gas\",Worksheet!$G$17),0)>0,VLOOKUP(\"Gas\",HVACg_Lookup,MATCH(Worksheet!$G$16,BuildingSize,0)+1,FALSE),IF(IFERROR(SEARCH(\"Oil\",Worksheet!$G$17),0)>0,VLOOKUP(\"Oil\",HVACg_Lookup,MATCH(Worksheet!$G$16,BuildingSize,0)+1,FALSE),IF(IFERROR(SEARCH(\"Propane\",Worksheet!$G$17),0)>0,VLOOKUP(\"Propane\",HVACg_Lookup,MATCH(Worksheet!$G$16,BuildingSize,0)+1,FALSE),0)))/IF(Worksheet!M326>0,Worksheet!M326,Worksheet!L326),0),\"\")","v":""},"",null,null,null,{"$f":"IF(ISBLANK(Worksheet!M326)=FALSE,Worksheet!M326,\"\")","v":0},{"$f":"IF(Worksheet!A326=\"-\",\"\",IF(Worksheet!A326=\"\",S302,Worksheet!A326))","v":""},{"$f":"IF(S303=\"\",\"\",IF(AND(Worksheet!G326=\"\",Worksheet!H326=\"\")=TRUE,T302,IF(Worksheet!G326=\"\",\"\",Worksheet!G326)))","v":""},{"$f":"IF(S303=\"\",\"\",IF(AND(Worksheet!G326=\"\",Worksheet!H326=\"\")=TRUE,U302,IF(Worksheet!H326=\"\",\"\",Worksheet!H326)))","v":""},{"$f":"IF(Worksheet!N326=\"\",\"\",Worksheet!N326)","v":""},{"$f":"IF(Worksheet!O326=\"\",\"\",Worksheet!O326)","v":""},{"$f":"IF(Worksheet!F326=0,\"\",Worksheet!F326)","v":""},{"$f":"IF(Worksheet!P326=0,\"\",Worksheet!P326)","v":""},{"$f":"IF(Worksheet!$A$11=TRUE,\"Y\",\"N\")","v":"N"},{"$f":"IF(Worksheet!$A$12=TRUE,\"Y\",\"N\")","v":"N"},{"$f":"IF(Worksheet!$B$11=TRUE,\"Y\",\"N\")","v":"N"},{"$f":"IF(Worksheet!$B$12=TRUE,\"Y\",\"N\")","v":"N"},{"$f":"IF(Worksheet!$C$11=TRUE,\"Y\",\"N\")","v":"N"},{"$f":"IF(Worksheet!$C$12=TRUE,\"Y\",\"N\")","v":"N"},""]
[{"$f":"IF(ISERROR(VLOOKUP(Worksheet!N327,MeasureLookup,2,FALSE))=FALSE,VLOOKUP(Worksheet!N327,MeasureLookup,2,FALSE),\"\")","v":""},{"$f":"Worksheet!Q327","v":0},{"$f":"Worksheet!R327","v":0},{"$f":"IF(ISERROR(Worksheet!P327)=FALSE,Worksheet!P327,\"\")","v":0},"Watts",null,null,{"$f":"IF(Worksheet!AP327<>\"\",IF(Worksheet!AP327>0,Worksheet!AP327/IF(Worksheet!M327>0,Worksheet!M327,Worksheet!L327),\"\"),\"\")","v":""},{"$f":"IF(ISBLANK(Worksheet!L327)=FALSE,Worksheet!L327,\"\")","v":0},{"$f":"IF(Worksheet!L327<>0, IFERROR(VLOOKUP(Worksheet!$C$16,SavingsSupportTable,3,FALSE)*Worksheet!AQ327*IFERROR(1+VLOOKUP(Worksheet!$C$16,SavingsSupportTable,MATCH(Worksheet!$G$17,HVACe_Options,0)+4,FALSE),1)/IF(Worksheet!M327>0,Worksheet!M327,Worksheet!L327),\"\"),\"\")","v":""},{"$f":"IF(Worksheet!L327<>0, IFERROR(VLOOKUP(Worksheet!$C$16,SavingsSupportTable,2,FALSE)*Worksheet!AQ327*IF(IFERROR(MATCH(Worksheet!$G$17,HVACe_Options,0),0)>0,1+VLOOKUP(Worksheet!$C$16,SavingsSupportTable,4,FALSE),1)/IF(Worksheet!M327>0,Worksheet!M327,Worksheet!L327),\"\"),\"\")","v":""},"",{"$f":"IF(Worksheet!L327<>0,IFERROR(VLOOKUP(Worksheet!$C$16,SavingsSupportTable,3,FALSE)*Worksheet!AQ327*IF(IFERROR(SEARCH(\"Gas\",Worksheet!$G$17),0)>0,VLOOKUP(\"Gas\",HVACg_Lookup,MATCH(Worksheet!$G$16,BuildingSize,0)+1,FALSE),IF(IFERROR(SEARCH(\"Oil\",Worksheet!$G$17),0)>0,VLOOKUP(\"Oil\",HVACg_Lookup,MATCH(Worksheet!$G$16,BuildingSize,0)+1,FALSE),IF(IFERROR(SEARCH(\"Propane\",Worksheet!$G$17),0)>0,VLOOKUP(\"Propane\",HVACg_Lookup,MATCH(Worksheet!$G$16,BuildingSize,0)+1,FALSE),0)))/IF(Worksheet!M327>0,Worksheet!M327,Worksheet!L327),0),\"\")","v":""},"",null,null,null,{"$f":"IF(ISBLANK(Worksheet!M327)=FALSE,Worksheet!M327,\"\")","v":0},{"$f":"IF(Worksheet!A327=\"-\",\"\",IF(Worksheet!A327=\"\",S303,Worksheet!A327))","v":""},{"$f":"IF(S304=\"\",\"\",IF(AND(Worksheet!G327=\"\",Worksheet!H327=\"\")=TRUE,T303,IF(Worksheet!G327=\"\",\"\",Worksheet!G327)))","v":""},{"$f":"IF(S304=\"\",\"\",IF(AND(Worksheet!G327=\"\",Worksheet!H327=\"\")=TRUE,U303,IF(Worksheet!H327=\"\",\"\",Worksheet!H327)))","v":""},{"$f":"IF(Worksheet!N327=\"\",\"\",Worksheet!N327)","v":""},{"$f":"IF(Worksheet!O327=\"\",\"\",Worksheet!O327)","v":""},{"$f":"IF(Worksheet!F327=0,\"\",Worksheet!F327)","v":""},{"$f":"IF(Worksheet!P327=0,\"\",Worksheet!P327)","v":""},{"$f":"IF(Worksheet!$A$11=TRUE,\"Y\",\"N\")","v":"N"},{"$f":"IF(Worksheet!$A$12=TRUE,\"Y\",\"N\")","v":"N"},{"$f":"IF(Worksheet!$B$11=TRUE,\"Y\",\"N\")","v":"N"},{"$f":"IF(Worksheet!$B$12=TRUE,\"Y\",\"N\")","v":"N"},{"$f":"IF(Worksheet!$C$11=TRUE,\"Y\",\"N\")","v":"N"},{"$f":"IF(Worksheet!$C$12=TRUE,\"Y\",\"N\")","v":"N"},""]
[{"$f":"IF(ISERROR(VLOOKUP(Worksheet!N328,MeasureLookup,2,FALSE))=FALSE,VLOOKUP(Worksheet!N328,MeasureLookup,2,FALSE),\"\")","v":""},{"$f":"Worksheet!Q328","v":0},{"$f":"Worksheet!R328","v":0},{"$f":"IF(ISERROR(Worksheet!P328)=FALSE,Worksheet!P328,\"\")","v":0},"Watts",null,null,{"$f":"IF(Worksheet!AP328<>\"\",IF(Worksheet!AP328>0,Worksheet!AP328/IF(Worksheet!M328>0,Worksheet!M328,Worksheet!L328),\"\"),\"\")","v":""},{"$f":"IF(ISBLANK(Worksheet!L328)=FALSE,Worksheet!L328,\"\")","v":0},{"$f":"IF(Worksheet!L328<>0, IFERROR(VLOOKUP(Worksheet!$C$16,SavingsSupportTable,3,FALSE)*Worksheet!AQ328*IFERROR(1+VLOOKUP(Worksheet!$C$16,SavingsSupportTable,MATCH(Worksheet!$G$17,HVACe_Options,0)+4,FALSE),1)/IF(Worksheet!M328>0,Worksheet!M328,Worksheet!L328),\"\"),\"\")","v":""},{"$f":"IF(Worksheet!L328<>0, IFERROR(VLOOKUP(Worksheet!$C$16,SavingsSupportTable,2,FALSE)*Worksheet!AQ328*IF(IFERROR(MATCH(Worksheet!$G$17,HVACe_Options,0),0)>0,1+VLOOKUP(Worksheet!$C$16,SavingsSupportTable,4,FALSE),1)/IF(Worksheet!M328>0,Worksheet!M328,Worksheet!L328),\"\"),\"\")","v":""},"",{"$f":"IF(Worksheet!L328<>0,IFERROR(VLOOKUP(Worksheet!$C$16,SavingsSupportTable,3,FALSE)*Worksheet!AQ328*IF(IFERROR(SEARCH(\"Gas\",Worksheet!$G$17),0)>0,VLOOKUP(\"Gas\",HVACg_Lookup,MATCH(Worksheet!$G$16,BuildingSize,0)+1,FALSE),IF(IFERROR(SEARCH(\"Oil\",Worksheet!$G$17),0)>0,VLOOKUP(\"Oil\",HVACg_Lookup,MATCH(Worksheet!$G$16,BuildingSize,0)+1,FALSE),IF(IFERROR(SEARCH(\"Propane\",Worksheet!$G$17),0)>0,VLOOKUP(\"Propane\",HVACg_Lookup,MATCH(Worksheet!$G$16,BuildingSize,0)+1,FALSE),0)))/IF(Worksheet!M328>0,Worksheet!M328,Worksheet!L328),0),\"\")","v":""},"",null,null,null,{"$f":"IF(ISBLANK(Worksheet!M328)=FALSE,Worksheet!M328,\"\")","v":0},{"$f":"IF(Worksheet!A328=\"-\",\"\",IF(Worksheet!A328=\"\",S304,Worksheet!A328))","v":""},{"$f":"IF(S305=\"\",\"\",IF(AND(Worksheet!G328=\"\",Worksheet!H328=\"\")=TRUE,T304,IF(Worksheet!G328=\"\",\"\",Worksheet!G328)))","v":""},{"$f":"IF(S305=\"\",\"\",IF(AND(Worksheet!G328=\"\",Worksheet!H328=\"\")=TRUE,U304,IF(Worksheet!H328=\"\",\"\",Worksheet!H328)))","v":""},{"$f":"IF(Worksheet!N328=\"\",\"\",Worksheet!N328)","v":""},{"$f":"IF(Worksheet!O328=\"\",\"\",Worksheet!O328)","v":""},{"$f":"IF(Worksheet!F328=0,\"\",Worksheet!F328)","v":""},{"$f":"IF(Worksheet!P328=0,\"\",Worksheet!P328)","v":""},{"$f":"IF(Worksheet!$A$11=TRUE,\"Y\",\"N\")","v":"N"},{"$f":"IF(Worksheet!$A$12=TRUE,\"Y\",\"N\")","v":"N"},{"$f":"IF(Worksheet!$B$11=TRUE,\"Y\",\"N\")","v":"N"},{"$f":"IF(Worksheet!$B$12=TRUE,\"Y\",\"N\")","v":"N"},{"$f":"IF(Worksheet!$C$11=TRUE,\"Y\",\"N\")","v":"N"},{"$f":"IF(Worksheet!$C$12=TRUE,\"Y\",\"N\")","v":"N"},""]
[{"$f":"IF(ISERROR(VLOOKUP(Worksheet!N329,MeasureLookup,2,FALSE))=FALSE,VLOOKUP(Worksheet!N329,MeasureLookup,2,FALSE),\"\")","v":""},{"$f":"Worksheet!Q329","v":0},{"$f":"Worksheet!R329","v":0},{"$f":"IF(ISERROR(Worksheet!P329)=FALSE,Worksheet!P329,\"\")","v":0},"Watts",null,null,{"$f":"IF(Worksheet!AP329<>\"\",IF(Worksheet!AP329>0,Worksheet!AP329/IF(Worksheet!M329>0,Worksheet!M329,Worksheet!L329),\"\"),\"\")","v":""},{"$f":"IF(ISBLANK(Worksheet!L329)=FALSE,Worksheet!L329,\"\")","v":0},{"$f":"IF(Worksheet!L329<>0, IFERROR(VLOOKUP(Worksheet!$C$16,SavingsSupportTable,3,FALSE)*Worksheet!AQ329*IFERROR(1+VLOOKUP(Worksheet!$C$16,SavingsSupportTable,MATCH(Worksheet!$G$17,HVACe_Options,0)+4,FALSE),1)/IF(Worksheet!M329>0,Worksheet!M329,Worksheet!L329),\"\"),\"\")","v":""},{"$f":"IF(Worksheet!L329<>0, IFERROR(VLOOKUP(Worksheet!$C$16,SavingsSupportTable,2,FALSE)*Worksheet!AQ329*IF(IFERROR(MATCH(Worksheet!$G$17,HVACe_Options,0),0)>0,1+VLOOKUP(Worksheet!$C$16,SavingsSupportTable,4,FALSE),1)/IF(Worksheet!M329>0,Worksheet!M329,Worksheet!L329),\"\"),\"\")","v":""},"",{"$f":"IF(Worksheet!L329<>0,IFERROR(VLOOKUP(Worksheet!$C$16,SavingsSupportTable,3,FALSE)*Worksheet!AQ329*IF(IFERROR(SEARCH(\"Gas\",Worksheet!$G$17),0)>0,VLOOKUP(\"Gas\",HVACg_Lookup,MATCH(Worksheet!$G$16,BuildingSize,0)+1,FALSE),IF(IFERROR(SEARCH(\"Oil\",Worksheet!$G$17),0)>0,VLOOKUP(\"Oil\",HVACg_Lookup,MATCH(Worksheet!$G$16,BuildingSize,0)+1,FALSE),IF(IFERROR(SEARCH(\"Propane\",Worksheet!$G$17),0)>0,VLOOKUP(\"Propane\",HVACg_Lookup,MATCH(Worksheet!$G$16,BuildingSize,0)+1,FALSE),0)))/IF(Worksheet!M329>0,Worksheet!M329,Worksheet!L329),0),\"\")","v":""},"",null,null,null,{"$f":"IF(ISBLANK(Worksheet!M329)=FALSE,Worksheet!M329,\"\")","v":0},{"$f":"IF(Worksheet!A329=\"-\",\"\",IF(Worksheet!A329=\"\",S305,Worksheet!A329))","v":""},{"$f":"IF(S306=\"\",\"\",IF(AND(Worksheet!G329=\"\",Worksheet!H329=\"\")=TRUE,T305,IF(Worksheet!G329=\"\",\"\",Worksheet!G329)))","v":""},{"$f":"IF(S306=\"\",\"\",IF(AND(Worksheet!G329=\"\",Worksheet!H329=\"\")=TRUE,U305,IF(Worksheet!H329=\"\",\"\",Worksheet!H329)))","v":""},{"$f":"IF(Worksheet!N329=\"\",\"\",Worksheet!N329)","v":""},{"$f":"IF(Worksheet!O329=\"\",\"\",Worksheet!O329)","v":""},{"$f":"IF(Worksheet!F329=0,\"\",Worksheet!F329)","v":""},{"$f":"IF(Worksheet!P329=0,\"\",Worksheet!P329)","v":""},{"$f":"IF(Worksheet!$A$11=TRUE,\"Y\",\"N\")","v":"N"},{"$f":"IF(Worksheet!$A$12=TRUE,\"Y\",\"N\")","v":"N"},{"$f":"IF(Worksheet!$B$11=TRUE,\"Y\",\"N\")","v":"N"},{"$f":"IF(Worksheet!$B$12=TRUE,\"Y\",\"N\")","v":"N"},{"$f":"IF(Worksheet!$C$11=TRUE,\"Y\",\"N\")","v":"N"},{"$f":"IF(Worksheet!$C$12=TRUE,\"Y\",\"N\")","v":"N"},""]
[{"$f":"IF(ISERROR(VLOOKUP(Worksheet!N330,MeasureLookup,2,FALSE))=FALSE,VLOOKUP(Worksheet!N330,MeasureLookup,2,FALSE),\"\")","v":""},{"$f":"Worksheet!Q330","v":0},{"$f":"Worksheet!R330","v":0},{"$f":"IF(ISERROR(Worksheet!P330)=FALSE,Worksheet!P330,\"\")","v":0},"Watts",null,null,{"$f":"IF(Worksheet!AP330<>\"\",IF(Worksheet!AP330>0,Worksheet!AP330/IF(Worksheet!M330>0,Worksheet!M330,Worksheet!L330),\"\"),\"\")","v":""},{"$f":"IF(ISBLANK(Worksheet!L330)=FALSE,Worksheet!L330,\"\")","v":0},{"$f":"IF(Worksheet!L330<>0, IFERROR(VLOOKUP(Worksheet!$C$16,SavingsSupportTable,3,FALSE)*Worksheet!AQ330*IFERROR(1+VLOOKUP(Worksheet!$C$16,SavingsSupportTable,MATCH(Worksheet!$G$17,HVACe_Options,0)+4,FALSE),1)/IF(Worksheet!M330>0,Worksheet!M330,Worksheet!L330),\"\"),\"\")","v":""},{"$f":"IF(Worksheet!L330<>0, IFERROR(VLOOKUP(Worksheet!$C$16,SavingsSupportTable,2,FALSE)*Worksheet!AQ330*IF(IFERROR(MATCH(Worksheet!$G$17,HVACe_Options,0),0)>0,1+VLOOKUP(Worksheet!$C$16,SavingsSupportTable,4,FALSE),1)/IF(Worksheet!M330>0,Worksheet!M330,Worksheet!L330),\"\"),\"\")","v":""},"",{"$f":"IF(Worksheet!L330<>0,IFERROR(VLOOKUP(Worksheet!$C$16,SavingsSupportTable,3,FALSE)*Worksheet!AQ330*IF(IFERROR(SEARCH(\"Gas\",Worksheet!$G$17),0)>0,VLOOKUP(\"Gas\",HVACg_Lookup,MATCH(Worksheet!$G$16,BuildingSize,0)+1,FALSE),IF(IFERROR(SEARCH(\"Oil\",Worksheet!$G$17),0)>0,VLOOKUP(\"Oil\",HVACg_Lookup,MATCH(Worksheet!$G$16,BuildingSize,0)+1,FALSE),IF(IFERROR(SEARCH(\"Propane\",Worksheet!$G$17),0)>0,VLOOKUP(\"Propane\",HVACg_Lookup,MATCH(Worksheet!$G$16,BuildingSize,0)+1,FALSE),0)))/IF(Worksheet!M330>0,Worksheet!M330,Worksheet!L330),0),\"\")","v":""},"",null,null,null,{"$f":"IF(ISBLANK(Worksheet!M330)=FALSE,Worksheet!M330,\"\")","v":0},{"$f":"IF(Worksheet!A330=\"-\",\"\",IF(Worksheet!A330=\"\",S306,Worksheet!A330))","v":""},{"$f":"IF(S307=\"\",\"\",IF(AND(Worksheet!G330=\"\",Worksheet!H330=\"\")=TRUE,T306,IF(Worksheet!G330=\"\",\"\",Worksheet!G330)))","v":""},{"$f":"IF(S307=\"\",\"\",IF(AND(Worksheet!G330=\"\",Worksheet!H330=\"\")=TRUE,U306,IF(Worksheet!H330=\"\",\"\",Worksheet!H330)))","v":""},{"$f":"IF(Worksheet!N330=\"\",\"\",Worksheet!N330)","v":""},{"$f":"IF(Worksheet!O330=\"\",\"\",Worksheet!O330)","v":""},{"$f":"IF(Worksheet!F330=0,\"\",Worksheet!F330)","v":""},{"$f":"IF(Worksheet!P330=0,\"\",Worksheet!P330)","v":""},{"$f":"IF(Worksheet!$A$11=TRUE,\"Y\",\"N\")","v":"N"},{"$f":"IF(Worksheet!$A$12=TRUE,\"Y\",\"N\")","v":"N"},{"$f":"IF(Worksheet!$B$11=TRUE,\"Y\",\"N\")","v":"N"},{"$f":"IF(Worksheet!$B$12=TRUE,\"Y\",\"N\")","v":"N"},{"$f":"IF(Worksheet!$C$11=TRUE,\"Y\",\"N\")","v":"N"},{"$f":"IF(Worksheet!$C$12=TRUE,\"Y\",\"N\")","v":"N"},""]
[{"$f":"IF(ISERROR(VLOOKUP(Worksheet!N331,MeasureLookup,2,FALSE))=FALSE,VLOOKUP(Worksheet!N331,MeasureLookup,2,FALSE),\"\")","v":""},{"$f":"Worksheet!Q331","v":0},{"$f":"Worksheet!R331","v":0},{"$f":"IF(ISERROR(Worksheet!P331)=FALSE,Worksheet!P331,\"\")","v":0},"Watts",null,null,{"$f":"IF(Worksheet!AP331<>\"\",IF(Worksheet!AP331>0,Worksheet!AP331/IF(Worksheet!M331>0,Worksheet!M331,Worksheet!L331),\"\"),\"\")","v":""},{"$f":"IF(ISBLANK(Worksheet!L331)=FALSE,Worksheet!L331,\"\")","v":0},{"$f":"IF(Worksheet!L331<>0, IFERROR(VLOOKUP(Worksheet!$C$16,SavingsSupportTable,3,FALSE)*Worksheet!AQ331*IFERROR(1+VLOOKUP(Worksheet!$C$16,SavingsSupportTable,MATCH(Worksheet!$G$17,HVACe_Options,0)+4,FALSE),1)/IF(Worksheet!M331>0,Worksheet!M331,Worksheet!L331),\"\"),\"\")","v":""},{"$f":"IF(Worksheet!L331<>0, IFERROR(VLOOKUP(Worksheet!$C$16,SavingsSupportTable,2,FALSE)*Worksheet!AQ331*IF(IFERROR(MATCH(Worksheet!$G$17,HVACe_Options,0),0)>0,1+VLOOKUP(Worksheet!$C$16,SavingsSupportTable,4,FALSE),1)/IF(Worksheet!M331>0,Worksheet!M331,Worksheet!L331),\"\"),\"\")","v":""},"",{"$f":"IF(Worksheet!L331<>0,IFERROR(VLOOKUP(Worksheet!$C$16,SavingsSupportTable,3,FALSE)*Worksheet!AQ331*IF(IFERROR(SEARCH(\"Gas\",Worksheet!$G$17),0)>0,VLOOKUP(\"Gas\",HVACg_Lookup,MATCH(Worksheet!$G$16,BuildingSize,0)+1,FALSE),IF(IFERROR(SEARCH(\"Oil\",Worksheet!$G$17),0)>0,VLOOKUP(\"Oil\",HVACg_Lookup,MATCH(Worksheet!$G$16,BuildingSize,0)+1,FALSE),IF(IFERROR(SEARCH(\"Propane\",Worksheet!$G$17),0)>0,VLOOKUP(\"Propane\",HVACg_Lookup,MATCH(Worksheet!$G$16,BuildingSize,0)+1,FALSE),0)))/IF(Worksheet!M331>0,Worksheet!M331,Worksheet!L331),0),\"\")","v":""},"",null,null,null,{"$f":"IF(ISBLANK(Worksheet!M331)=FALSE,Worksheet!M331,\"\")","v":0},{"$f":"IF(Worksheet!A331=\"-\",\"\",IF(Worksheet!A331=\"\",S307,Worksheet!A331))","v":""},{"$f":"IF(S308=\"\",\"\",IF(AND(Worksheet!G331=\"\",Worksheet!H331=\"\")=TRUE,T307,IF(Worksheet!G331=\"\",\"\",Worksheet!G331)))","v":""},{"$f":"IF(S308=\"\",\"\",IF(AND(Worksheet!G331=\"\",Worksheet!H331=\"\")=TRUE,U307,IF(Worksheet!H331=\"\",\"\",Worksheet!H331)))","v":""},{"$f":"IF(Worksheet!N331=\"\",\"\",Worksheet!N331)","v":""},{"$f":"IF(Worksheet!O331=\"\",\"\",Worksheet!O331)","v":""},{"$f":"IF(Worksheet!F331=0,\"\",Worksheet!F331)","v":""},{"$f":"IF(Worksheet!P331=0,\"\",Worksheet!P331)","v":""},{"$f":"IF(Worksheet!$A$11=TRUE,\"Y\",\"N\")","v":"N"},{"$f":"IF(Worksheet!$A$12=TRUE,\"Y\",\"N\")","v":"N"},{"$f":"IF(Worksheet!$B$11=TRUE,\"Y\",\"N\")","v":"N"},{"$f":"IF(Worksheet!$B$12=TRUE,\"Y\",\"N\")","v":"N"},{"$f":"IF(Worksheet!$C$11=TRUE,\"Y\",\"N\")","v":"N"},{"$f":"IF(Worksheet!$C$12=TRUE,\"Y\",\"N\")","v":"N"},""]
[{"$f":"IF(ISERROR(VLOOKUP(Worksheet!N332,MeasureLookup,2,FALSE))=FALSE,VLOOKUP(Worksheet!N332,MeasureLookup,2,FALSE),\"\")","v":""},{"$f":"Worksheet!Q332","v":0},{"$f":"Worksheet!R332","v":0},{"$f":"IF(ISERROR(Worksheet!P332)=FALSE,Worksheet!P332,\"\")","v":0},"Watts",null,null,{"$f":"IF(Worksheet!AP332<>\"\",IF(Worksheet!AP332>0,Worksheet!AP332/IF(Worksheet!M332>0,Worksheet!M332,Worksheet!L332),\"\"),\"\")","v":""},{"$f":"IF(ISBLANK(Worksheet!L332)=FALSE,Worksheet!L332,\"\")","v":0},{"$f":"IF(Worksheet!L332<>0, IFERROR(VLOOKUP(Worksheet!$C$16,SavingsSupportTable,3,FALSE)*Worksheet!AQ332*IFERROR(1+VLOOKUP(Worksheet!$C$16,SavingsSupportTable,MATCH(Worksheet!$G$17,HVACe_Options,0)+4,FALSE),1)/IF(Worksheet!M332>0,Worksheet!M332,Worksheet!L332),\"\"),\"\")","v":""},{"$f":"IF(Worksheet!L332<>0, IFERROR(VLOOKUP(Worksheet!$C$16,SavingsSupportTable,2,FALSE)*Worksheet!AQ332*IF(IFERROR(MATCH(Worksheet!$G$17,HVACe_Options,0),0)>0,1+VLOOKUP(Worksheet!$C$16,SavingsSupportTable,4,FALSE),1)/IF(Worksheet!M332>0,Worksheet!M332,Worksheet!L332),\"\"),\"\")","v":""},"",{"$f":"IF(Worksheet!L332<>0,IFERROR(VLOOKUP(Worksheet!$C$16,SavingsSupportTable,3,FALSE)*Worksheet!AQ332*IF(IFERROR(SEARCH(\"Gas\",Worksheet!$G$17),0)>0,VLOOKUP(\"Gas\",HVACg_Lookup,MATCH(Worksheet!$G$16,BuildingSize,0)+1,FALSE),IF(IFERROR(SEARCH(\"Oil\",Worksheet!$G$17),0)>0,VLOOKUP(\"Oil\",HVACg_Lookup,MATCH(Worksheet!$G$16,BuildingSize,0)+1,FALSE),IF(IFERROR(SEARCH(\"Propane\",Worksheet!$G$17),0)>0,VLOOKUP(\"Propane\",HVACg_Lookup,MATCH(Worksheet!$G$16,BuildingSize,0)+1,FALSE),0)))/IF(Worksheet!M332>0,Worksheet!M332,Worksheet!L332),0),\"\")","v":""},"",null,null,null,{"$f":"IF(ISBLANK(Worksheet!M332)=FALSE,Worksheet!M332,\"\")","v":0},{"$f":"IF(Worksheet!A332=\"-\",\"\",IF(Worksheet!A332=\"\",S308,Worksheet!A332))","v":""},{"$f":"IF(S309=\"\",\"\",IF(AND(Worksheet!G332=\"\",Worksheet!H332=\"\")=TRUE,T308,IF(Worksheet!G332=\"\",\"\",Worksheet!G332)))","v":""},{"$f":"IF(S309=\"\",\"\",IF(AND(Worksheet!G332=\"\",Worksheet!H332=\"\")=TRUE,U308,IF(Worksheet!H332=\"\",\"\",Worksheet!H332)))","v":""},{"$f":"IF(Worksheet!N332=\"\",\"\",Worksheet!N332)","v":""},{"$f":"IF(Worksheet!O332=\"\",\"\",Worksheet!O332)","v":""},{"$f":"IF(Worksheet!F332=0,\"\",Worksheet!F332)","v":""},{"$f":"IF(Worksheet!P332=0,\"\",Worksheet!P332)","v":""},{"$f":"IF(Worksheet!$A$11=TRUE,\"Y\",\"N\")","v":"N"},{"$f":"IF(Worksheet!$A$12=TRUE,\"Y\",\"N\")","v":"N"},{"$f":"IF(Worksheet!$B$11=TRUE,\"Y\",\"N\")","v":"N"},{"$f":"IF(Worksheet!$B$12=TRUE,\"Y\",\"N\")","v":"N"},{"$f":"IF(Worksheet!$C$11=TRUE,\"Y\",\"N\")","v":"N"},{"$f":"IF(Worksheet!$C$12=TRUE,\"Y\",\"N\")","v":"N"},""]
[{"$f":"IF(ISERROR(VLOOKUP(Worksheet!N333,MeasureLookup,2,FALSE))=FALSE,VLOOKUP(Worksheet!N333,MeasureLookup,2,FALSE),\"\")","v":""},{"$f":"Worksheet!Q333","v":0},{"$f":"Worksheet!R333","v":0},{"$f":"IF(ISERROR(Worksheet!P333)=FALSE,Worksheet!P333,\"\")","v":0},"Watts",null,null,{"$f":"IF(Worksheet!AP333<>\"\",IF(Worksheet!AP333>0,Worksheet!AP333/IF(Worksheet!M333>0,Worksheet!M333,Worksheet!L333),\"\"),\"\")","v":""},{"$f":"IF(ISBLANK(Worksheet!L333)=FALSE,Worksheet!L333,\"\")","v":0},{"$f":"IF(Worksheet!L333<>0, IFERROR(VLOOKUP(Worksheet!$C$16,SavingsSupportTable,3,FALSE)*Worksheet!AQ333*IFERROR(1+VLOOKUP(Worksheet!$C$16,SavingsSupportTable,MATCH(Worksheet!$G$17,HVACe_Options,0)+4,FALSE),1)/IF(Worksheet!M333>0,Worksheet!M333,Worksheet!L333),\"\"),\"\")","v":""},{"$f":"IF(Worksheet!L333<>0, IFERROR(VLOOKUP(Worksheet!$C$16,SavingsSupportTable,2,FALSE)*Worksheet!AQ333*IF(IFERROR(MATCH(Worksheet!$G$17,HVACe_Options,0),0)>0,1+VLOOKUP(Worksheet!$C$16,SavingsSupportTable,4,FALSE),1)/IF(Worksheet!M333>0,Worksheet!M333,Worksheet!L333),\"\"),\"\")","v":""},"",{"$f":"IF(Worksheet!L333<>0,IFERROR(VLOOKUP(Worksheet!$C$16,SavingsSupportTable,3,FALSE)*Worksheet!AQ333*IF(IFERROR(SEARCH(\"Gas\",Worksheet!$G$17),0)>0,VLOOKUP(\"Gas\",HVACg_Lookup,MATCH(Worksheet!$G$16,BuildingSize,0)+1,FALSE),IF(IFERROR(SEARCH(\"Oil\",Worksheet!$G$17),0)>0,VLOOKUP(\"Oil\",HVACg_Lookup,MATCH(Worksheet!$G$16,BuildingSize,0)+1,FALSE),IF(IFERROR(SEARCH(\"Propane\",Worksheet!$G$17),0)>0,VLOOKUP(\"Propane\",HVACg_Lookup,MATCH(Worksheet!$G$16,BuildingSize,0)+1,FALSE),0)))/IF(Worksheet!M333>0,Worksheet!M333,Worksheet!L333),0),\"\")","v":""},"",null,null,null,{"$f":"IF(ISBLANK(Worksheet!M333)=FALSE,Worksheet!M333,\"\")","v":0},{"$f":"IF(Worksheet!A333=\"-\",\"\",IF(Worksheet!A333=\"\",S309,Worksheet!A333))","v":""},{"$f":"IF(S310=\"\",\"\",IF(AND(Worksheet!G333=\"\",Worksheet!H333=\"\")=TRUE,T309,IF(Worksheet!G333=\"\",\"\",Worksheet!G333)))","v":""},{"$f":"IF(S310=\"\",\"\",IF(AND(Worksheet!G333=\"\",Worksheet!H333=\"\")=TRUE,U309,IF(Worksheet!H333=\"\",\"\",Worksheet!H333)))","v":""},{"$f":"IF(Worksheet!N333=\"\",\"\",Worksheet!N333)","v":""},{"$f":"IF(Worksheet!O333=\"\",\"\",Worksheet!O333)","v":""},{"$f":"IF(Worksheet!F333=0,\"\",Worksheet!F333)","v":""},{"$f":"IF(Worksheet!P333=0,\"\",Worksheet!P333)","v":""},{"$f":"IF(Worksheet!$A$11=TRUE,\"Y\",\"N\")","v":"N"},{"$f":"IF(Worksheet!$A$12=TRUE,\"Y\",\"N\")","v":"N"},{"$f":"IF(Worksheet!$B$11=TRUE,\"Y\",\"N\")","v":"N"},{"$f":"IF(Worksheet!$B$12=TRUE,\"Y\",\"N\")","v":"N"},{"$f":"IF(Worksheet!$C$11=TRUE,\"Y\",\"N\")","v":"N"},{"$f":"IF(Worksheet!$C$12=TRUE,\"Y\",\"N\")","v":"N"},""]
[{"$f":"IF(ISERROR(VLOOKUP(Worksheet!N334,MeasureLookup,2,FALSE))=FALSE,VLOOKUP(Worksheet!N334,MeasureLookup,2,FALSE),\"\")","v":""},{"$f":"Worksheet!Q334","v":0},{"$f":"Worksheet!R334","v":0},{"$f":"IF(ISERROR(Worksheet!P334)=FALSE,Worksheet!P334,\"\")","v":0},"Watts",null,null,{"$f":"IF(Worksheet!AP334<>\"\",IF(Worksheet!AP334>0,Worksheet!AP334/IF(Worksheet!M334>0,Worksheet!M334,Worksheet!L334),\"\"),\"\")","v":""},{"$f":"IF(ISBLANK(Worksheet!L334)=FALSE,Worksheet!L334,\"\")","v":0},{"$f":"IF(Worksheet!L334<>0, IFERROR(VLOOKUP(Worksheet!$C$16,SavingsSupportTable,3,FALSE)*Worksheet!AQ334*IFERROR(1+VLOOKUP(Worksheet!$C$16,SavingsSupportTable,MATCH(Worksheet!$G$17,HVACe_Options,0)+4,FALSE),1)/IF(Worksheet!M334>0,Worksheet!M334,Worksheet!L334),\"\"),\"\")","v":""},{"$f":"IF(Worksheet!L334<>0, IFERROR(VLOOKUP(Worksheet!$C$16,SavingsSupportTable,2,FALSE)*Worksheet!AQ334*IF(IFERROR(MATCH(Worksheet!$G$17,HVACe_Options,0),0)>0,1+VLOOKUP(Worksheet!$C$16,SavingsSupportTable,4,FALSE),1)/IF(Worksheet!M334>0,Worksheet!M334,Worksheet!L334),\"\"),\"\")","v":""},"",{"$f":"IF(Worksheet!L334<>0,IFERROR(VLOOKUP(Worksheet!$C$16,SavingsSupportTable,3,FALSE)*Worksheet!AQ334*IF(IFERROR(SEARCH(\"Gas\",Worksheet!$G$17),0)>0,VLOOKUP(\"Gas\",HVACg_Lookup,MATCH(Worksheet!$G$16,BuildingSize,0)+1,FALSE),IF(IFERROR(SEARCH(\"Oil\",Worksheet!$G$17),0)>0,VLOOKUP(\"Oil\",HVACg_Lookup,MATCH(Worksheet!$G$16,BuildingSize,0)+1,FALSE),IF(IFERROR(SEARCH(\"Propane\",Worksheet!$G$17),0)>0,VLOOKUP(\"Propane\",HVACg_Lookup,MATCH(Worksheet!$G$16,BuildingSize,0)+1,FALSE),0)))/IF(Worksheet!M334>0,Worksheet!M334,Worksheet!L334),0),\"\")","v":""},"",null,null,null,{"$f":"IF(ISBLANK(Worksheet!M334)=FALSE,Worksheet!M334,\"\")","v":0},{"$f":"IF(Worksheet!A334=\"-\",\"\",IF(Worksheet!A334=\"\",S310,Worksheet!A334))","v":""},{"$f":"IF(S311=\"\",\"\",IF(AND(Worksheet!G334=\"\",Worksheet!H334=\"\")=TRUE,T310,IF(Worksheet!G334=\"\",\"\",Worksheet!G334)))","v":""},{"$f":"IF(S311=\"\",\"\",IF(AND(Worksheet!G334=\"\",Worksheet!H334=\"\")=TRUE,U310,IF(Worksheet!H334=\"\",\"\",Worksheet!H334)))","v":""},{"$f":"IF(Worksheet!N334=\"\",\"\",Worksheet!N334)","v":""},{"$f":"IF(Worksheet!O334=\"\",\"\",Worksheet!O334)","v":""},{"$f":"IF(Worksheet!F334=0,\"\",Worksheet!F334)","v":""},{"$f":"IF(Worksheet!P334=0,\"\",Worksheet!P334)","v":""},{"$f":"IF(Worksheet!$A$11=TRUE,\"Y\",\"N\")","v":"N"},{"$f":"IF(Worksheet!$A$12=TRUE,\"Y\",\"N\")","v":"N"},{"$f":"IF(Worksheet!$B$11=TRUE,\"Y\",\"N\")","v":"N"},{"$f":"IF(Worksheet!$B$12=TRUE,\"Y\",\"N\")","v":"N"},{"$f":"IF(Worksheet!$C$11=TRUE,\"Y\",\"N\")","v":"N"},{"$f":"IF(Worksheet!$C$12=TRUE,\"Y\",\"N\")","v":"N"},""]
[{"$f":"IF(ISERROR(VLOOKUP(Worksheet!N335,MeasureLookup,2,FALSE))=FALSE,VLOOKUP(Worksheet!N335,MeasureLookup,2,FALSE),\"\")","v":""},{"$f":"Worksheet!Q335","v":0},{"$f":"Worksheet!R335","v":0},{"$f":"IF(ISERROR(Worksheet!P335)=FALSE,Worksheet!P335,\"\")","v":0},"Watts",null,null,{"$f":"IF(Worksheet!AP335<>\"\",IF(Worksheet!AP335>0,Worksheet!AP335/IF(Worksheet!M335>0,Worksheet!M335,Worksheet!L335),\"\"),\"\")","v":""},{"$f":"IF(ISBLANK(Worksheet!L335)=FALSE,Worksheet!L335,\"\")","v":0},{"$f":"IF(Worksheet!L335<>0, IFERROR(VLOOKUP(Worksheet!$C$16,SavingsSupportTable,3,FALSE)*Worksheet!AQ335*IFERROR(1+VLOOKUP(Worksheet!$C$16,SavingsSupportTable,MATCH(Worksheet!$G$17,HVACe_Options,0)+4,FALSE),1)/IF(Worksheet!M335>0,Worksheet!M335,Worksheet!L335),\"\"),\"\")","v":""},{"$f":"IF(Worksheet!L335<>0, IFERROR(VLOOKUP(Worksheet!$C$16,SavingsSupportTable,2,FALSE)*Worksheet!AQ335*IF(IFERROR(MATCH(Worksheet!$G$17,HVACe_Options,0),0)>0,1+VLOOKUP(Worksheet!$C$16,SavingsSupportTable,4,FALSE),1)/IF(Worksheet!M335>0,Worksheet!M335,Worksheet!L335),\"\"),\"\")","v":""},"",{"$f":"IF(Worksheet!L335<>0,IFERROR(VLOOKUP(Worksheet!$C$16,SavingsSupportTable,3,FALSE)*Worksheet!AQ335*IF(IFERROR(SEARCH(\"Gas\",Worksheet!$G$17),0)>0,VLOOKUP(\"Gas\",HVACg_Lookup,MATCH(Worksheet!$G$16,BuildingSize,0)+1,FALSE),IF(IFERROR(SEARCH(\"Oil\",Worksheet!$G$17),0)>0,VLOOKUP(\"Oil\",HVACg_Lookup,MATCH(Worksheet!$G$16,BuildingSize,0)+1,FALSE),IF(IFERROR(SEARCH(\"Propane\",Worksheet!$G$17),0)>0,VLOOKUP(\"Propane\",HVACg_Lookup,MATCH(Worksheet!$G$16,BuildingSize,0)+1,FALSE),0)))/IF(Worksheet!M335>0,Worksheet!M335,Worksheet!L335),0),\"\")","v":""},"",null,null,null,{"$f":"IF(ISBLANK(Worksheet!M335)=FALSE,Worksheet!M335,\"\")","v":0},{"$f":"IF(Worksheet!A335=\"-\",\"\",IF(Worksheet!A335=\"\",S311,Worksheet!A335))","v":""},{"$f":"IF(S312=\"\",\"\",IF(AND(Worksheet!G335=\"\",Worksheet!H335=\"\")=TRUE,T311,IF(Worksheet!G335=\"\",\"\",Worksheet!G335)))","v":""},{"$f":"IF(S312=\"\",\"\",IF(AND(Worksheet!G335=\"\",Worksheet!H335=\"\")=TRUE,U311,IF(Worksheet!H335=\"\",\"\",Worksheet!H335)))","v":""},{"$f":"IF(Worksheet!N335=\"\",\"\",Worksheet!N335)","v":""},{"$f":"IF(Worksheet!O335=\"\",\"\",Worksheet!O335)","v":""},{"$f":"IF(Worksheet!F335=0,\"\",Worksheet!F335)","v":""},{"$f":"IF(Worksheet!P335=0,\"\",Worksheet!P335)","v":""},{"$f":"IF(Worksheet!$A$11=TRUE,\"Y\",\"N\")","v":"N"},{"$f":"IF(Worksheet!$A$12=TRUE,\"Y\",\"N\")","v":"N"},{"$f":"IF(Worksheet!$B$11=TRUE,\"Y\",\"N\")","v":"N"},{"$f":"IF(Worksheet!$B$12=TRUE,\"Y\",\"N\")","v":"N"},{"$f":"IF(Worksheet!$C$11=TRUE,\"Y\",\"N\")","v":"N"},{"$f":"IF(Worksheet!$C$12=TRUE,\"Y\",\"N\")","v":"N"},""]
[{"$f":"IF(ISERROR(VLOOKUP(Worksheet!N336,MeasureLookup,2,FALSE))=FALSE,VLOOKUP(Worksheet!N336,MeasureLookup,2,FALSE),\"\")","v":""},{"$f":"Worksheet!Q336","v":0},{"$f":"Worksheet!R336","v":0},{"$f":"IF(ISERROR(Worksheet!P336)=FALSE,Worksheet!P336,\"\")","v":0},"Watts",null,null,{"$f":"IF(Worksheet!AP336<>\"\",IF(Worksheet!AP336>0,Worksheet!AP336/IF(Worksheet!M336>0,Worksheet!M336,Worksheet!L336),\"\"),\"\")","v":""},{"$f":"IF(ISBLANK(Worksheet!L336)=FALSE,Worksheet!L336,\"\")","v":0},{"$f":"IF(Worksheet!L336<>0, IFERROR(VLOOKUP(Worksheet!$C$16,SavingsSupportTable,3,FALSE)*Worksheet!AQ336*IFERROR(1+VLOOKUP(Worksheet!$C$16,SavingsSupportTable,MATCH(Worksheet!$G$17,HVACe_Options,0)+4,FALSE),1)/IF(Worksheet!M336>0,Worksheet!M336,Worksheet!L336),\"\"),\"\")","v":""},{"$f":"IF(Worksheet!L336<>0, IFERROR(VLOOKUP(Worksheet!$C$16,SavingsSupportTable,2,FALSE)*Worksheet!AQ336*IF(IFERROR(MATCH(Worksheet!$G$17,HVACe_Options,0),0)>0,1+VLOOKUP(Worksheet!$C$16,SavingsSupportTable,4,FALSE),1)/IF(Worksheet!M336>0,Worksheet!M336,Worksheet!L336),\"\"),\"\")","v":""},"",{"$f":"IF(Worksheet!L336<>0,IFERROR(VLOOKUP(Worksheet!$C$16,SavingsSupportTable,3,FALSE)*Worksheet!AQ336*IF(IFERROR(SEARCH(\"Gas\",Worksheet!$G$17),0)>0,VLOOKUP(\"Gas\",HVACg_Lookup,MATCH(Worksheet!$G$16,BuildingSize,0)+1,FALSE),IF(IFERROR(SEARCH(\"Oil\",Worksheet!$G$17),0)>0,VLOOKUP(\"Oil\",HVACg_Lookup,MATCH(Worksheet!$G$16,BuildingSize,0)+1,FALSE),IF(IFERROR(SEARCH(\"Propane\",Worksheet!$G$17),0)>0,VLOOKUP(\"Propane\",HVACg_Lookup,MATCH(Worksheet!$G$16,BuildingSize,0)+1,FALSE),0)))/IF(Worksheet!M336>0,Worksheet!M336,Worksheet!L336),0),\"\")","v":""},"",null,null,null,{"$f":"IF(ISBLANK(Worksheet!M336)=FALSE,Worksheet!M336,\"\")","v":0},{"$f":"IF(Worksheet!A336=\"-\",\"\",IF(Worksheet!A336=\"\",S312,Worksheet!A336))","v":""},{"$f":"IF(S313=\"\",\"\",IF(AND(Worksheet!G336=\"\",Worksheet!H336=\"\")=TRUE,T312,IF(Worksheet!G336=\"\",\"\",Worksheet!G336)))","v":""},{"$f":"IF(S313=\"\",\"\",IF(AND(Worksheet!G336=\"\",Worksheet!H336=\"\")=TRUE,U312,IF(Worksheet!H336=\"\",\"\",Worksheet!H336)))","v":""},{"$f":"IF(Worksheet!N336=\"\",\"\",Worksheet!N336)","v":""},{"$f":"IF(Worksheet!O336=\"\",\"\",Worksheet!O336)","v":""},{"$f":"IF(Worksheet!F336=0,\"\",Worksheet!F336)","v":""},{"$f":"IF(Worksheet!P336=0,\"\",Worksheet!P336)","v":""},{"$f":"IF(Worksheet!$A$11=TRUE,\"Y\",\"N\")","v":"N"},{"$f":"IF(Worksheet!$A$12=TRUE,\"Y\",\"N\")","v":"N"},{"$f":"IF(Worksheet!$B$11=TRUE,\"Y\",\"N\")","v":"N"},{"$f":"IF(Worksheet!$B$12=TRUE,\"Y\",\"N\")","v":"N"},{"$f":"IF(Worksheet!$C$11=TRUE,\"Y\",\"N\")","v":"N"},{"$f":"IF(Worksheet!$C$12=TRUE,\"Y\",\"N\")","v":"N"},""]
[{"$f":"IF(ISERROR(VLOOKUP(Worksheet!N337,MeasureLookup,2,FALSE))=FALSE,VLOOKUP(Worksheet!N337,MeasureLookup,2,FALSE),\"\")","v":""},{"$f":"Worksheet!Q337","v":0},{"$f":"Worksheet!R337","v":0},{"$f":"IF(ISERROR(Worksheet!P337)=FALSE,Worksheet!P337,\"\")","v":0},"Watts",null,null,{"$f":"IF(Worksheet!AP337<>\"\",IF(Worksheet!AP337>0,Worksheet!AP337/IF(Worksheet!M337>0,Worksheet!M337,Worksheet!L337),\"\"),\"\")","v":""},{"$f":"IF(ISBLANK(Worksheet!L337)=FALSE,Worksheet!L337,\"\")","v":0},{"$f":"IF(Worksheet!L337<>0, IFERROR(VLOOKUP(Worksheet!$C$16,SavingsSupportTable,3,FALSE)*Worksheet!AQ337*IFERROR(1+VLOOKUP(Worksheet!$C$16,SavingsSupportTable,MATCH(Worksheet!$G$17,HVACe_Options,0)+4,FALSE),1)/IF(Worksheet!M337>0,Worksheet!M337,Worksheet!L337),\"\"),\"\")","v":""},{"$f":"IF(Worksheet!L337<>0, IFERROR(VLOOKUP(Worksheet!$C$16,SavingsSupportTable,2,FALSE)*Worksheet!AQ337*IF(IFERROR(MATCH(Worksheet!$G$17,HVACe_Options,0),0)>0,1+VLOOKUP(Worksheet!$C$16,SavingsSupportTable,4,FALSE),1)/IF(Worksheet!M337>0,Worksheet!M337,Worksheet!L337),\"\"),\"\")","v":""},"",{"$f":"IF(Worksheet!L337<>0,IFERROR(VLOOKUP(Worksheet!$C$16,SavingsSupportTable,3,FALSE)*Worksheet!AQ337*IF(IFERROR(SEARCH(\"Gas\",Worksheet!$G$17),0)>0,VLOOKUP(\"Gas\",HVACg_Lookup,MATCH(Worksheet!$G$16,BuildingSize,0)+1,FALSE),IF(IFERROR(SEARCH(\"Oil\",Worksheet!$G$17),0)>0,VLOOKUP(\"Oil\",HVACg_Lookup,MATCH(Worksheet!$G$16,BuildingSize,0)+1,FALSE),IF(IFERROR(SEARCH(\"Propane\",Worksheet!$G$17),0)>0,VLOOKUP(\"Propane\",HVACg_Lookup,MATCH(Worksheet!$G$16,BuildingSize,0)+1,FALSE),0)))/IF(Worksheet!M337>0,Worksheet!M337,Worksheet!L337),0),\"\")","v":""},"",null,null,null,{"$f":"IF(ISBLANK(Worksheet!M337)=FALSE,Worksheet!M337,\"\")","v":0},{"$f":"IF(Worksheet!A337=\"-\",\"\",IF(Worksheet!A337=\"\",S313,Worksheet!A337))","v":""},{"$f":"IF(S314=\"\",\"\",IF(AND(Worksheet!G337=\"\",Worksheet!H337=\"\")=TRUE,T313,IF(Worksheet!G337=\"\",\"\",Worksheet!G337)))","v":""},{"$f":"IF(S314=\"\",\"\",IF(AND(Worksheet!G337=\"\",Worksheet!H337=\"\")=TRUE,U313,IF(Worksheet!H337=\"\",\"\",Worksheet!H337)))","v":""},{"$f":"IF(Worksheet!N337=\"\",\"\",Worksheet!N337)","v":""},{"$f":"IF(Worksheet!O337=\"\",\"\",Worksheet!O337)","v":""},{"$f":"IF(Worksheet!F337=0,\"\",Worksheet!F337)","v":""},{"$f":"IF(Worksheet!P337=0,\"\",Worksheet!P337)","v":""},{"$f":"IF(Worksheet!$A$11=TRUE,\"Y\",\"N\")","v":"N"},{"$f":"IF(Worksheet!$A$12=TRUE,\"Y\",\"N\")","v":"N"},{"$f":"IF(Worksheet!$B$11=TRUE,\"Y\",\"N\")","v":"N"},{"$f":"IF(Worksheet!$B$12=TRUE,\"Y\",\"N\")","v":"N"},{"$f":"IF(Worksheet!$C$11=TRUE,\"Y\",\"N\")","v":"N"},{"$f":"IF(Worksheet!$C$12=TRUE,\"Y\",\"N\")","v":"N"},""]
[{"$f":"IF(ISERROR(VLOOKUP(Worksheet!N338,MeasureLookup,2,FALSE))=FALSE,VLOOKUP(Worksheet!N338,MeasureLookup,2,FALSE),\"\")","v":""},{"$f":"Worksheet!Q338","v":0},{"$f":"Worksheet!R338","v":0},{"$f":"IF(ISERROR(Worksheet!P338)=FALSE,Worksheet!P338,\"\")","v":0},"Watts",null,null,{"$f":"IF(Worksheet!AP338<>\"\",IF(Worksheet!AP338>0,Worksheet!AP338/IF(Worksheet!M338>0,Worksheet!M338,Worksheet!L338),\"\"),\"\")","v":""},{"$f":"IF(ISBLANK(Worksheet!L338)=FALSE,Worksheet!L338,\"\")","v":0},{"$f":"IF(Worksheet!L338<>0, IFERROR(VLOOKUP(Worksheet!$C$16,SavingsSupportTable,3,FALSE)*Worksheet!AQ338*IFERROR(1+VLOOKUP(Worksheet!$C$16,SavingsSupportTable,MATCH(Worksheet!$G$17,HVACe_Options,0)+4,FALSE),1)/IF(Worksheet!M338>0,Worksheet!M338,Worksheet!L338),\"\"),\"\")","v":""},{"$f":"IF(Worksheet!L338<>0, IFERROR(VLOOKUP(Worksheet!$C$16,SavingsSupportTable,2,FALSE)*Worksheet!AQ338*IF(IFERROR(MATCH(Worksheet!$G$17,HVACe_Options,0),0)>0,1+VLOOKUP(Worksheet!$C$16,SavingsSupportTable,4,FALSE),1)/IF(Worksheet!M338>0,Worksheet!M338,Worksheet!L338),\"\"),\"\")","v":""},"",{"$f":"IF(Worksheet!L338<>0,IFERROR(VLOOKUP(Worksheet!$C$16,SavingsSupportTable,3,FALSE)*Worksheet!AQ338*IF(IFERROR(SEARCH(\"Gas\",Worksheet!$G$17),0)>0,VLOOKUP(\"Gas\",HVACg_Lookup,MATCH(Worksheet!$G$16,BuildingSize,0)+1,FALSE),IF(IFERROR(SEARCH(\"Oil\",Worksheet!$G$17),0)>0,VLOOKUP(\"Oil\",HVACg_Lookup,MATCH(Worksheet!$G$16,BuildingSize,0)+1,FALSE),IF(IFERROR(SEARCH(\"Propane\",Worksheet!$G$17),0)>0,VLOOKUP(\"Propane\",HVACg_Lookup,MATCH(Worksheet!$G$16,BuildingSize,0)+1,FALSE),0)))/IF(Worksheet!M338>0,Worksheet!M338,Worksheet!L338),0),\"\")","v":""},"",null,null,null,{"$f":"IF(ISBLANK(Worksheet!M338)=FALSE,Worksheet!M338,\"\")","v":0},{"$f":"IF(Worksheet!A338=\"-\",\"\",IF(Worksheet!A338=\"\",S314,Worksheet!A338))","v":""},{"$f":"IF(S315=\"\",\"\",IF(AND(Worksheet!G338=\"\",Worksheet!H338=\"\")=TRUE,T314,IF(Worksheet!G338=\"\",\"\",Worksheet!G338)))","v":""},{"$f":"IF(S315=\"\",\"\",IF(AND(Worksheet!G338=\"\",Worksheet!H338=\"\")=TRUE,U314,IF(Worksheet!H338=\"\",\"\",Worksheet!H338)))","v":""},{"$f":"IF(Worksheet!N338=\"\",\"\",Worksheet!N338)","v":""},{"$f":"IF(Worksheet!O338=\"\",\"\",Worksheet!O338)","v":""},{"$f":"IF(Worksheet!F338=0,\"\",Worksheet!F338)","v":""},{"$f":"IF(Worksheet!P338=0,\"\",Worksheet!P338)","v":""},{"$f":"IF(Worksheet!$A$11=TRUE,\"Y\",\"N\")","v":"N"},{"$f":"IF(Worksheet!$A$12=TRUE,\"Y\",\"N\")","v":"N"},{"$f":"IF(Worksheet!$B$11=TRUE,\"Y\",\"N\")","v":"N"},{"$f":"IF(Worksheet!$B$12=TRUE,\"Y\",\"N\")","v":"N"},{"$f":"IF(Worksheet!$C$11=TRUE,\"Y\",\"N\")","v":"N"},{"$f":"IF(Worksheet!$C$12=TRUE,\"Y\",\"N\")","v":"N"},""]
[{"$f":"IF(ISERROR(VLOOKUP(Worksheet!N339,MeasureLookup,2,FALSE))=FALSE,VLOOKUP(Worksheet!N339,MeasureLookup,2,FALSE),\"\")","v":""},{"$f":"Worksheet!Q339","v":0},{"$f":"Worksheet!R339","v":0},{"$f":"IF(ISERROR(Worksheet!P339)=FALSE,Worksheet!P339,\"\")","v":0},"Watts",null,null,{"$f":"IF(Worksheet!AP339<>\"\",IF(Worksheet!AP339>0,Worksheet!AP339/IF(Worksheet!M339>0,Worksheet!M339,Worksheet!L339),\"\"),\"\")","v":""},{"$f":"IF(ISBLANK(Worksheet!L339)=FALSE,Worksheet!L339,\"\")","v":0},{"$f":"IF(Worksheet!L339<>0, IFERROR(VLOOKUP(Worksheet!$C$16,SavingsSupportTable,3,FALSE)*Worksheet!AQ339*IFERROR(1+VLOOKUP(Worksheet!$C$16,SavingsSupportTable,MATCH(Worksheet!$G$17,HVACe_Options,0)+4,FALSE),1)/IF(Worksheet!M339>0,Worksheet!M339,Worksheet!L339),\"\"),\"\")","v":""},{"$f":"IF(Worksheet!L339<>0, IFERROR(VLOOKUP(Worksheet!$C$16,SavingsSupportTable,2,FALSE)*Worksheet!AQ339*IF(IFERROR(MATCH(Worksheet!$G$17,HVACe_Options,0),0)>0,1+VLOOKUP(Worksheet!$C$16,SavingsSupportTable,4,FALSE),1)/IF(Worksheet!M339>0,Worksheet!M339,Worksheet!L339),\"\"),\"\")","v":""},"",{"$f":"IF(Worksheet!L339<>0,IFERROR(VLOOKUP(Worksheet!$C$16,SavingsSupportTable,3,FALSE)*Worksheet!AQ339*IF(IFERROR(SEARCH(\"Gas\",Worksheet!$G$17),0)>0,VLOOKUP(\"Gas\",HVACg_Lookup,MATCH(Worksheet!$G$16,BuildingSize,0)+1,FALSE),IF(IFERROR(SEARCH(\"Oil\",Worksheet!$G$17),0)>0,VLOOKUP(\"Oil\",HVACg_Lookup,MATCH(Worksheet!$G$16,BuildingSize,0)+1,FALSE),IF(IFERROR(SEARCH(\"Propane\",Worksheet!$G$17),0)>0,VLOOKUP(\"Propane\",HVACg_Lookup,MATCH(Worksheet!$G$16,BuildingSize,0)+1,FALSE),0)))/IF(Worksheet!M339>0,Worksheet!M339,Worksheet!L339),0),\"\")","v":""},"",null,null,null,{"$f":"IF(ISBLANK(Worksheet!M339)=FALSE,Worksheet!M339,\"\")","v":0},{"$f":"IF(Worksheet!A339=\"-\",\"\",IF(Worksheet!A339=\"\",S315,Worksheet!A339))","v":""},{"$f":"IF(S316=\"\",\"\",IF(AND(Worksheet!G339=\"\",Worksheet!H339=\"\")=TRUE,T315,IF(Worksheet!G339=\"\",\"\",Worksheet!G339)))","v":""},{"$f":"IF(S316=\"\",\"\",IF(AND(Worksheet!G339=\"\",Worksheet!H339=\"\")=TRUE,U315,IF(Worksheet!H339=\"\",\"\",Worksheet!H339)))","v":""},{"$f":"IF(Worksheet!N339=\"\",\"\",Worksheet!N339)","v":""},{"$f":"IF(Worksheet!O339=\"\",\"\",Worksheet!O339)","v":""},{"$f":"IF(Worksheet!F339=0,\"\",Worksheet!F339)","v":""},{"$f":"IF(Worksheet!P339=0,\"\",Worksheet!P339)","v":""},{"$f":"IF(Worksheet!$A$11=TRUE,\"Y\",\"N\")","v":"N"},{"$f":"IF(Worksheet!$A$12=TRUE,\"Y\",\"N\")","v":"N"},{"$f":"IF(Worksheet!$B$11=TRUE,\"Y\",\"N\")","v":"N"},{"$f":"IF(Worksheet!$B$12=TRUE,\"Y\",\"N\")","v":"N"},{"$f":"IF(Worksheet!$C$11=TRUE,\"Y\",\"N\")","v":"N"},{"$f":"IF(Worksheet!$C$12=TRUE,\"Y\",\"N\")","v":"N"},""]
[{"$f":"IF(ISERROR(VLOOKUP(Worksheet!N340,MeasureLookup,2,FALSE))=FALSE,VLOOKUP(Worksheet!N340,MeasureLookup,2,FALSE),\"\")","v":""},{"$f":"Worksheet!Q340","v":0},{"$f":"Worksheet!R340","v":0},{"$f":"IF(ISERROR(Worksheet!P340)=FALSE,Worksheet!P340,\"\")","v":0},"Watts",null,null,{"$f":"IF(Worksheet!AP340<>\"\",IF(Worksheet!AP340>0,Worksheet!AP340/IF(Worksheet!M340>0,Worksheet!M340,Worksheet!L340),\"\"),\"\")","v":""},{"$f":"IF(ISBLANK(Worksheet!L340)=FALSE,Worksheet!L340,\"\")","v":0},{"$f":"IF(Worksheet!L340<>0, IFERROR(VLOOKUP(Worksheet!$C$16,SavingsSupportTable,3,FALSE)*Worksheet!AQ340*IFERROR(1+VLOOKUP(Worksheet!$C$16,SavingsSupportTable,MATCH(Worksheet!$G$17,HVACe_Options,0)+4,FALSE),1)/IF(Worksheet!M340>0,Worksheet!M340,Worksheet!L340),\"\"),\"\")","v":""},{"$f":"IF(Worksheet!L340<>0, IFERROR(VLOOKUP(Worksheet!$C$16,SavingsSupportTable,2,FALSE)*Worksheet!AQ340*IF(IFERROR(MATCH(Worksheet!$G$17,HVACe_Options,0),0)>0,1+VLOOKUP(Worksheet!$C$16,SavingsSupportTable,4,FALSE),1)/IF(Worksheet!M340>0,Worksheet!M340,Worksheet!L340),\"\"),\"\")","v":""},"",{"$f":"IF(Worksheet!L340<>0,IFERROR(VLOOKUP(Worksheet!$C$16,SavingsSupportTable,3,FALSE)*Worksheet!AQ340*IF(IFERROR(SEARCH(\"Gas\",Worksheet!$G$17),0)>0,VLOOKUP(\"Gas\",HVACg_Lookup,MATCH(Worksheet!$G$16,BuildingSize,0)+1,FALSE),IF(IFERROR(SEARCH(\"Oil\",Worksheet!$G$17),0)>0,VLOOKUP(\"Oil\",HVACg_Lookup,MATCH(Worksheet!$G$16,BuildingSize,0)+1,FALSE),IF(IFERROR(SEARCH(\"Propane\",Worksheet!$G$17),0)>0,VLOOKUP(\"Propane\",HVACg_Lookup,MATCH(Worksheet!$G$16,BuildingSize,0)+1,FALSE),0)))/IF(Worksheet!M340>0,Worksheet!M340,Worksheet!L340),0),\"\")","v":""},"",null,null,null,{"$f":"IF(ISBLANK(Worksheet!M340)=FALSE,Worksheet!M340,\"\")","v":0},{"$f":"IF(Worksheet!A340=\"-\",\"\",IF(Worksheet!A340=\"\",S316,Worksheet!A340))","v":""},{"$f":"IF(S317=\"\",\"\",IF(AND(Worksheet!G340=\"\",Worksheet!H340=\"\")=TRUE,T316,IF(Worksheet!G340=\"\",\"\",Worksheet!G340)))","v":""},{"$f":"IF(S317=\"\",\"\",IF(AND(Worksheet!G340=\"\",Worksheet!H340=\"\")=TRUE,U316,IF(Worksheet!H340=\"\",\"\",Worksheet!H340)))","v":""},{"$f":"IF(Worksheet!N340=\"\",\"\",Worksheet!N340)","v":""},{"$f":"IF(Worksheet!O340=\"\",\"\",Worksheet!O340)","v":""},{"$f":"IF(Worksheet!F340=0,\"\",Worksheet!F340)","v":""},{"$f":"IF(Worksheet!P340=0,\"\",Worksheet!P340)","v":""},{"$f":"IF(Worksheet!$A$11=TRUE,\"Y\",\"N\")","v":"N"},{"$f":"IF(Worksheet!$A$12=TRUE,\"Y\",\"N\")","v":"N"},{"$f":"IF(Worksheet!$B$11=TRUE,\"Y\",\"N\")","v":"N"},{"$f":"IF(Worksheet!$B$12=TRUE,\"Y\",\"N\")","v":"N"},{"$f":"IF(Worksheet!$C$11=TRUE,\"Y\",\"N\")","v":"N"},{"$f":"IF(Worksheet!$C$12=TRUE,\"Y\",\"N\")","v":"N"},""]
[{"$f":"IF(ISERROR(VLOOKUP(Worksheet!N341,MeasureLookup,2,FALSE))=FALSE,VLOOKUP(Worksheet!N341,MeasureLookup,2,FALSE),\"\")","v":""},{"$f":"Worksheet!Q341","v":0},{"$f":"Worksheet!R341","v":0},{"$f":"IF(ISERROR(Worksheet!P341)=FALSE,Worksheet!P341,\"\")","v":0},"Watts",null,null,{"$f":"IF(Worksheet!AP341<>\"\",IF(Worksheet!AP341>0,Worksheet!AP341/IF(Worksheet!M341>0,Worksheet!M341,Worksheet!L341),\"\"),\"\")","v":""},{"$f":"IF(ISBLANK(Worksheet!L341)=FALSE,Worksheet!L341,\"\")","v":0},{"$f":"IF(Worksheet!L341<>0, IFERROR(VLOOKUP(Worksheet!$C$16,SavingsSupportTable,3,FALSE)*Worksheet!AQ341*IFERROR(1+VLOOKUP(Worksheet!$C$16,SavingsSupportTable,MATCH(Worksheet!$G$17,HVACe_Options,0)+4,FALSE),1)/IF(Worksheet!M341>0,Worksheet!M341,Worksheet!L341),\"\"),\"\")","v":""},{"$f":"IF(Worksheet!L341<>0, IFERROR(VLOOKUP(Worksheet!$C$16,SavingsSupportTable,2,FALSE)*Worksheet!AQ341*IF(IFERROR(MATCH(Worksheet!$G$17,HVACe_Options,0),0)>0,1+VLOOKUP(Worksheet!$C$16,SavingsSupportTable,4,FALSE),1)/IF(Worksheet!M341>0,Worksheet!M341,Worksheet!L341),\"\"),\"\")","v":""},"",{"$f":"IF(Worksheet!L341<>0,IFERROR(VLOOKUP(Worksheet!$C$16,SavingsSupportTable,3,FALSE)*Worksheet!AQ341*IF(IFERROR(SEARCH(\"Gas\",Worksheet!$G$17),0)>0,VLOOKUP(\"Gas\",HVACg_Lookup,MATCH(Worksheet!$G$16,BuildingSize,0)+1,FALSE),IF(IFERROR(SEARCH(\"Oil\",Worksheet!$G$17),0)>0,VLOOKUP(\"Oil\",HVACg_Lookup,MATCH(Worksheet!$G$16,BuildingSize,0)+1,FALSE),IF(IFERROR(SEARCH(\"Propane\",Worksheet!$G$17),0)>0,VLOOKUP(\"Propane\",HVACg_Lookup,MATCH(Worksheet!$G$16,BuildingSize,0)+1,FALSE),0)))/IF(Worksheet!M341>0,Worksheet!M341,Worksheet!L341),0),\"\")","v":""},"",null,null,null,{"$f":"IF(ISBLANK(Worksheet!M341)=FALSE,Worksheet!M341,\"\")","v":0},{"$f":"IF(Worksheet!A341=\"-\",\"\",IF(Worksheet!A341=\"\",S317,Worksheet!A341))","v":""},{"$f":"IF(S318=\"\",\"\",IF(AND(Worksheet!G341=\"\",Worksheet!H341=\"\")=TRUE,T317,IF(Worksheet!G341=\"\",\"\",Worksheet!G341)))","v":""},{"$f":"IF(S318=\"\",\"\",IF(AND(Worksheet!G341=\"\",Worksheet!H341=\"\")=TRUE,U317,IF(Worksheet!H341=\"\",\"\",Worksheet!H341)))","v":""},{"$f":"IF(Worksheet!N341=\"\",\"\",Worksheet!N341)","v":""},{"$f":"IF(Worksheet!O341=\"\",\"\",Worksheet!O341)","v":""},{"$f":"IF(Worksheet!F341=0,\"\",Worksheet!F341)","v":""},{"$f":"IF(Worksheet!P341=0,\"\",Worksheet!P341)","v":""},{"$f":"IF(Worksheet!$A$11=TRUE,\"Y\",\"N\")","v":"N"},{"$f":"IF(Worksheet!$A$12=TRUE,\"Y\",\"N\")","v":"N"},{"$f":"IF(Worksheet!$B$11=TRUE,\"Y\",\"N\")","v":"N"},{"$f":"IF(Worksheet!$B$12=TRUE,\"Y\",\"N\")","v":"N"},{"$f":"IF(Worksheet!$C$11=TRUE,\"Y\",\"N\")","v":"N"},{"$f":"IF(Worksheet!$C$12=TRUE,\"Y\",\"N\")","v":"N"},""]
[{"$f":"IF(ISERROR(VLOOKUP(Worksheet!N342,MeasureLookup,2,FALSE))=FALSE,VLOOKUP(Worksheet!N342,MeasureLookup,2,FALSE),\"\")","v":""},{"$f":"Worksheet!Q342","v":0},{"$f":"Worksheet!R342","v":0},{"$f":"IF(ISERROR(Worksheet!P342)=FALSE,Worksheet!P342,\"\")","v":0},"Watts",null,null,{"$f":"IF(Worksheet!AP342<>\"\",IF(Worksheet!AP342>0,Worksheet!AP342/IF(Worksheet!M342>0,Worksheet!M342,Worksheet!L342),\"\"),\"\")","v":""},{"$f":"IF(ISBLANK(Worksheet!L342)=FALSE,Worksheet!L342,\"\")","v":0},{"$f":"IF(Worksheet!L342<>0, IFERROR(VLOOKUP(Worksheet!$C$16,SavingsSupportTable,3,FALSE)*Worksheet!AQ342*IFERROR(1+VLOOKUP(Worksheet!$C$16,SavingsSupportTable,MATCH(Worksheet!$G$17,HVACe_Options,0)+4,FALSE),1)/IF(Worksheet!M342>0,Worksheet!M342,Worksheet!L342),\"\"),\"\")","v":""},{"$f":"IF(Worksheet!L342<>0, IFERROR(VLOOKUP(Worksheet!$C$16,SavingsSupportTable,2,FALSE)*Worksheet!AQ342*IF(IFERROR(MATCH(Worksheet!$G$17,HVACe_Options,0),0)>0,1+VLOOKUP(Worksheet!$C$16,SavingsSupportTable,4,FALSE),1)/IF(Worksheet!M342>0,Worksheet!M342,Worksheet!L342),\"\"),\"\")","v":""},"",{"$f":"IF(Worksheet!L342<>0,IFERROR(VLOOKUP(Worksheet!$C$16,SavingsSupportTable,3,FALSE)*Worksheet!AQ342*IF(IFERROR(SEARCH(\"Gas\",Worksheet!$G$17),0)>0,VLOOKUP(\"Gas\",HVACg_Lookup,MATCH(Worksheet!$G$16,BuildingSize,0)+1,FALSE),IF(IFERROR(SEARCH(\"Oil\",Worksheet!$G$17),0)>0,VLOOKUP(\"Oil\",HVACg_Lookup,MATCH(Worksheet!$G$16,BuildingSize,0)+1,FALSE),IF(IFERROR(SEARCH(\"Propane\",Worksheet!$G$17),0)>0,VLOOKUP(\"Propane\",HVACg_Lookup,MATCH(Worksheet!$G$16,BuildingSize,0)+1,FALSE),0)))/IF(Worksheet!M342>0,Worksheet!M342,Worksheet!L342),0),\"\")","v":""},"",null,null,null,{"$f":"IF(ISBLANK(Worksheet!M342)=FALSE,Worksheet!M342,\"\")","v":0},{"$f":"IF(Worksheet!A342=\"-\",\"\",IF(Worksheet!A342=\"\",S318,Worksheet!A342))","v":""},{"$f":"IF(S319=\"\",\"\",IF(AND(Worksheet!G342=\"\",Worksheet!H342=\"\")=TRUE,T318,IF(Worksheet!G342=\"\",\"\",Worksheet!G342)))","v":""},{"$f":"IF(S319=\"\",\"\",IF(AND(Worksheet!G342=\"\",Worksheet!H342=\"\")=TRUE,U318,IF(Worksheet!H342=\"\",\"\",Worksheet!H342)))","v":""},{"$f":"IF(Worksheet!N342=\"\",\"\",Worksheet!N342)","v":""},{"$f":"IF(Worksheet!O342=\"\",\"\",Worksheet!O342)","v":""},{"$f":"IF(Worksheet!F342=0,\"\",Worksheet!F342)","v":""},{"$f":"IF(Worksheet!P342=0,\"\",Worksheet!P342)","v":""},{"$f":"IF(Worksheet!$A$11=TRUE,\"Y\",\"N\")","v":"N"},{"$f":"IF(Worksheet!$A$12=TRUE,\"Y\",\"N\")","v":"N"},{"$f":"IF(Worksheet!$B$11=TRUE,\"Y\",\"N\")","v":"N"},{"$f":"IF(Worksheet!$B$12=TRUE,\"Y\",\"N\")","v":"N"},{"$f":"IF(Worksheet!$C$11=TRUE,\"Y\",\"N\")","v":"N"},{"$f":"IF(Worksheet!$C$12=TRUE,\"Y\",\"N\")","v":"N"},""]
[{"$f":"IF(ISERROR(VLOOKUP(Worksheet!N343,MeasureLookup,2,FALSE))=FALSE,VLOOKUP(Worksheet!N343,MeasureLookup,2,FALSE),\"\")","v":""},{"$f":"Worksheet!Q343","v":0},{"$f":"Worksheet!R343","v":0},{"$f":"IF(ISERROR(Worksheet!P343)=FALSE,Worksheet!P343,\"\")","v":0},"Watts",null,null,{"$f":"IF(Worksheet!AP343<>\"\",IF(Worksheet!AP343>0,Worksheet!AP343/IF(Worksheet!M343>0,Worksheet!M343,Worksheet!L343),\"\"),\"\")","v":""},{"$f":"IF(ISBLANK(Worksheet!L343)=FALSE,Worksheet!L343,\"\")","v":0},{"$f":"IF(Worksheet!L343<>0, IFERROR(VLOOKUP(Worksheet!$C$16,SavingsSupportTable,3,FALSE)*Worksheet!AQ343*IFERROR(1+VLOOKUP(Worksheet!$C$16,SavingsSupportTable,MATCH(Worksheet!$G$17,HVACe_Options,0)+4,FALSE),1)/IF(Worksheet!M343>0,Worksheet!M343,Worksheet!L343),\"\"),\"\")","v":""},{"$f":"IF(Worksheet!L343<>0, IFERROR(VLOOKUP(Worksheet!$C$16,SavingsSupportTable,2,FALSE)*Worksheet!AQ343*IF(IFERROR(MATCH(Worksheet!$G$17,HVACe_Options,0),0)>0,1+VLOOKUP(Worksheet!$C$16,SavingsSupportTable,4,FALSE),1)/IF(Worksheet!M343>0,Worksheet!M343,Worksheet!L343),\"\"),\"\")","v":""},"",{"$f":"IF(Worksheet!L343<>0,IFERROR(VLOOKUP(Worksheet!$C$16,SavingsSupportTable,3,FALSE)*Worksheet!AQ343*IF(IFERROR(SEARCH(\"Gas\",Worksheet!$G$17),0)>0,VLOOKUP(\"Gas\",HVACg_Lookup,MATCH(Worksheet!$G$16,BuildingSize,0)+1,FALSE),IF(IFERROR(SEARCH(\"Oil\",Worksheet!$G$17),0)>0,VLOOKUP(\"Oil\",HVACg_Lookup,MATCH(Worksheet!$G$16,BuildingSize,0)+1,FALSE),IF(IFERROR(SEARCH(\"Propane\",Worksheet!$G$17),0)>0,VLOOKUP(\"Propane\",HVACg_Lookup,MATCH(Worksheet!$G$16,BuildingSize,0)+1,FALSE),0)))/IF(Worksheet!M343>0,Worksheet!M343,Worksheet!L343),0),\"\")","v":""},"",null,null,null,{"$f":"IF(ISBLANK(Worksheet!M343)=FALSE,Worksheet!M343,\"\")","v":0},{"$f":"IF(Worksheet!A343=\"-\",\"\",IF(Worksheet!A343=\"\",S319,Worksheet!A343))","v":""},{"$f":"IF(S320=\"\",\"\",IF(AND(Worksheet!G343=\"\",Worksheet!H343=\"\")=TRUE,T319,IF(Worksheet!G343=\"\",\"\",Worksheet!G343)))","v":""},{"$f":"IF(S320=\"\",\"\",IF(AND(Worksheet!G343=\"\",Worksheet!H343=\"\")=TRUE,U319,IF(Worksheet!H343=\"\",\"\",Worksheet!H343)))","v":""},{"$f":"IF(Worksheet!N343=\"\",\"\",Worksheet!N343)","v":""},{"$f":"IF(Worksheet!O343=\"\",\"\",Worksheet!O343)","v":""},{"$f":"IF(Worksheet!F343=0,\"\",Worksheet!F343)","v":""},{"$f":"IF(Worksheet!P343=0,\"\",Worksheet!P343)","v":""},{"$f":"IF(Worksheet!$A$11=TRUE,\"Y\",\"N\")","v":"N"},{"$f":"IF(Worksheet!$A$12=TRUE,\"Y\",\"N\")","v":"N"},{"$f":"IF(Worksheet!$B$11=TRUE,\"Y\",\"N\")","v":"N"},{"$f":"IF(Worksheet!$B$12=TRUE,\"Y\",\"N\")","v":"N"},{"$f":"IF(Worksheet!$C$11=TRUE,\"Y\",\"N\")","v":"N"},{"$f":"IF(Worksheet!$C$12=TRUE,\"Y\",\"N\")","v":"N"},""]
[{"$f":"IF(ISERROR(VLOOKUP(Worksheet!N344,MeasureLookup,2,FALSE))=FALSE,VLOOKUP(Worksheet!N344,MeasureLookup,2,FALSE),\"\")","v":""},{"$f":"Worksheet!Q344","v":0},{"$f":"Worksheet!R344","v":0},{"$f":"IF(ISERROR(Worksheet!P344)=FALSE,Worksheet!P344,\"\")","v":0},"Watts",null,null,{"$f":"IF(Worksheet!AP344<>\"\",IF(Worksheet!AP344>0,Worksheet!AP344/IF(Worksheet!M344>0,Worksheet!M344,Worksheet!L344),\"\"),\"\")","v":""},{"$f":"IF(ISBLANK(Worksheet!L344)=FALSE,Worksheet!L344,\"\")","v":0},{"$f":"IF(Worksheet!L344<>0, IFERROR(VLOOKUP(Worksheet!$C$16,SavingsSupportTable,3,FALSE)*Worksheet!AQ344*IFERROR(1+VLOOKUP(Worksheet!$C$16,SavingsSupportTable,MATCH(Worksheet!$G$17,HVACe_Options,0)+4,FALSE),1)/IF(Worksheet!M344>0,Worksheet!M344,Worksheet!L344),\"\"),\"\")","v":""},{"$f":"IF(Worksheet!L344<>0, IFERROR(VLOOKUP(Worksheet!$C$16,SavingsSupportTable,2,FALSE)*Worksheet!AQ344*IF(IFERROR(MATCH(Worksheet!$G$17,HVACe_Options,0),0)>0,1+VLOOKUP(Worksheet!$C$16,SavingsSupportTable,4,FALSE),1)/IF(Worksheet!M344>0,Worksheet!M344,Worksheet!L344),\"\"),\"\")","v":""},"",{"$f":"IF(Worksheet!L344<>0,IFERROR(VLOOKUP(Worksheet!$C$16,SavingsSupportTable,3,FALSE)*Worksheet!AQ344*IF(IFERROR(SEARCH(\"Gas\",Worksheet!$G$17),0)>0,VLOOKUP(\"Gas\",HVACg_Lookup,MATCH(Worksheet!$G$16,BuildingSize,0)+1,FALSE),IF(IFERROR(SEARCH(\"Oil\",Worksheet!$G$17),0)>0,VLOOKUP(\"Oil\",HVACg_Lookup,MATCH(Worksheet!$G$16,BuildingSize,0)+1,FALSE),IF(IFERROR(SEARCH(\"Propane\",Worksheet!$G$17),0)>0,VLOOKUP(\"Propane\",HVACg_Lookup,MATCH(Worksheet!$G$16,BuildingSize,0)+1,FALSE),0)))/IF(Worksheet!M344>0,Worksheet!M344,Worksheet!L344),0),\"\")","v":""},"",null,null,null,{"$f":"IF(ISBLANK(Worksheet!M344)=FALSE,Worksheet!M344,\"\")","v":0},{"$f":"IF(Worksheet!A344=\"-\",\"\",IF(Worksheet!A344=\"\",S320,Worksheet!A344))","v":""},{"$f":"IF(S321=\"\",\"\",IF(AND(Worksheet!G344=\"\",Worksheet!H344=\"\")=TRUE,T320,IF(Worksheet!G344=\"\",\"\",Worksheet!G344)))","v":""},{"$f":"IF(S321=\"\",\"\",IF(AND(Worksheet!G344=\"\",Worksheet!H344=\"\")=TRUE,U320,IF(Worksheet!H344=\"\",\"\",Worksheet!H344)))","v":""},{"$f":"IF(Worksheet!N344=\"\",\"\",Worksheet!N344)","v":""},{"$f":"IF(Worksheet!O344=\"\",\"\",Worksheet!O344)","v":""},{"$f":"IF(Worksheet!F344=0,\"\",Worksheet!F344)","v":""},{"$f":"IF(Worksheet!P344=0,\"\",Worksheet!P344)","v":""},{"$f":"IF(Worksheet!$A$11=TRUE,\"Y\",\"N\")","v":"N"},{"$f":"IF(Worksheet!$A$12=TRUE,\"Y\",\"N\")","v":"N"},{"$f":"IF(Worksheet!$B$11=TRUE,\"Y\",\"N\")","v":"N"},{"$f":"IF(Worksheet!$B$12=TRUE,\"Y\",\"N\")","v":"N"},{"$f":"IF(Worksheet!$C$11=TRUE,\"Y\",\"N\")","v":"N"},{"$f":"IF(Worksheet!$C$12=TRUE,\"Y\",\"N\")","v":"N"},""]
[{"$f":"IF(ISERROR(VLOOKUP(Worksheet!N345,MeasureLookup,2,FALSE))=FALSE,VLOOKUP(Worksheet!N345,MeasureLookup,2,FALSE),\"\")","v":""},{"$f":"Worksheet!Q345","v":0},{"$f":"Worksheet!R345","v":0},{"$f":"IF(ISERROR(Worksheet!P345)=FALSE,Worksheet!P345,\"\")","v":0},"Watts",null,null,{"$f":"IF(Worksheet!AP345<>\"\",IF(Worksheet!AP345>0,Worksheet!AP345/IF(Worksheet!M345>0,Worksheet!M345,Worksheet!L345),\"\"),\"\")","v":""},{"$f":"IF(ISBLANK(Worksheet!L345)=FALSE,Worksheet!L345,\"\")","v":0},{"$f":"IF(Worksheet!L345<>0, IFERROR(VLOOKUP(Worksheet!$C$16,SavingsSupportTable,3,FALSE)*Worksheet!AQ345*IFERROR(1+VLOOKUP(Worksheet!$C$16,SavingsSupportTable,MATCH(Worksheet!$G$17,HVACe_Options,0)+4,FALSE),1)/IF(Worksheet!M345>0,Worksheet!M345,Worksheet!L345),\"\"),\"\")","v":""},{"$f":"IF(Worksheet!L345<>0, IFERROR(VLOOKUP(Worksheet!$C$16,SavingsSupportTable,2,FALSE)*Worksheet!AQ345*IF(IFERROR(MATCH(Worksheet!$G$17,HVACe_Options,0),0)>0,1+VLOOKUP(Worksheet!$C$16,SavingsSupportTable,4,FALSE),1)/IF(Worksheet!M345>0,Worksheet!M345,Worksheet!L345),\"\"),\"\")","v":""},"",{"$f":"IF(Worksheet!L345<>0,IFERROR(VLOOKUP(Worksheet!$C$16,SavingsSupportTable,3,FALSE)*Worksheet!AQ345*IF(IFERROR(SEARCH(\"Gas\",Worksheet!$G$17),0)>0,VLOOKUP(\"Gas\",HVACg_Lookup,MATCH(Worksheet!$G$16,BuildingSize,0)+1,FALSE),IF(IFERROR(SEARCH(\"Oil\",Worksheet!$G$17),0)>0,VLOOKUP(\"Oil\",HVACg_Lookup,MATCH(Worksheet!$G$16,BuildingSize,0)+1,FALSE),IF(IFERROR(SEARCH(\"Propane\",Worksheet!$G$17),0)>0,VLOOKUP(\"Propane\",HVACg_Lookup,MATCH(Worksheet!$G$16,BuildingSize,0)+1,FALSE),0)))/IF(Worksheet!M345>0,Worksheet!M345,Worksheet!L345),0),\"\")","v":""},"",null,null,null,{"$f":"IF(ISBLANK(Worksheet!M345)=FALSE,Worksheet!M345,\"\")","v":0},{"$f":"IF(Worksheet!A345=\"-\",\"\",IF(Worksheet!A345=\"\",S321,Worksheet!A345))","v":""},{"$f":"IF(S322=\"\",\"\",IF(AND(Worksheet!G345=\"\",Worksheet!H345=\"\")=TRUE,T321,IF(Worksheet!G345=\"\",\"\",Worksheet!G345)))","v":""},{"$f":"IF(S322=\"\",\"\",IF(AND(Worksheet!G345=\"\",Worksheet!H345=\"\")=TRUE,U321,IF(Worksheet!H345=\"\",\"\",Worksheet!H345)))","v":""},{"$f":"IF(Worksheet!N345=\"\",\"\",Worksheet!N345)","v":""},{"$f":"IF(Worksheet!O345=\"\",\"\",Worksheet!O345)","v":""},{"$f":"IF(Worksheet!F345=0,\"\",Worksheet!F345)","v":""},{"$f":"IF(Worksheet!P345=0,\"\",Worksheet!P345)","v":""},{"$f":"IF(Worksheet!$A$11=TRUE,\"Y\",\"N\")","v":"N"},{"$f":"IF(Worksheet!$A$12=TRUE,\"Y\",\"N\")","v":"N"},{"$f":"IF(Worksheet!$B$11=TRUE,\"Y\",\"N\")","v":"N"},{"$f":"IF(Worksheet!$B$12=TRUE,\"Y\",\"N\")","v":"N"},{"$f":"IF(Worksheet!$C$11=TRUE,\"Y\",\"N\")","v":"N"},{"$f":"IF(Worksheet!$C$12=TRUE,\"Y\",\"N\")","v":"N"},""]
[{"$f":"IF(ISERROR(VLOOKUP(Worksheet!N346,MeasureLookup,2,FALSE))=FALSE,VLOOKUP(Worksheet!N346,MeasureLookup,2,FALSE),\"\")","v":""},{"$f":"Worksheet!Q346","v":0},{"$f":"Worksheet!R346","v":0},{"$f":"IF(ISERROR(Worksheet!P346)=FALSE,Worksheet!P346,\"\")","v":0},"Watts",null,null,{"$f":"IF(Worksheet!AP346<>\"\",IF(Worksheet!AP346>0,Worksheet!AP346/IF(Worksheet!M346>0,Worksheet!M346,Worksheet!L346),\"\"),\"\")","v":""},{"$f":"IF(ISBLANK(Worksheet!L346)=FALSE,Worksheet!L346,\"\")","v":0},{"$f":"IF(Worksheet!L346<>0, IFERROR(VLOOKUP(Worksheet!$C$16,SavingsSupportTable,3,FALSE)*Worksheet!AQ346*IFERROR(1+VLOOKUP(Worksheet!$C$16,SavingsSupportTable,MATCH(Worksheet!$G$17,HVACe_Options,0)+4,FALSE),1)/IF(Worksheet!M346>0,Worksheet!M346,Worksheet!L346),\"\"),\"\")","v":""},{"$f":"IF(Worksheet!L346<>0, IFERROR(VLOOKUP(Worksheet!$C$16,SavingsSupportTable,2,FALSE)*Worksheet!AQ346*IF(IFERROR(MATCH(Worksheet!$G$17,HVACe_Options,0),0)>0,1+VLOOKUP(Worksheet!$C$16,SavingsSupportTable,4,FALSE),1)/IF(Worksheet!M346>0,Worksheet!M346,Worksheet!L346),\"\"),\"\")","v":""},{"$f":"IF(ISERROR(J323*15)=FALSE,J323*15,\"\")","v":""},{"$f":"IF(Worksheet!L346<>0,IFERROR(VLOOKUP(Worksheet!$C$16,SavingsSupportTable,3,FALSE)*Worksheet!AQ346*IF(IFERROR(SEARCH(\"Gas\",Worksheet!$G$17),0)>0,VLOOKUP(\"Gas\",HVACg_Lookup,MATCH(Worksheet!$G$16,BuildingSize,0)+1,FALSE),IF(IFERROR(SEARCH(\"Oil\",Worksheet!$G$17),0)>0,VLOOKUP(\"Oil\",HVACg_Lookup,MATCH(Worksheet!$G$16,BuildingSize,0)+1,FALSE),IF(IFERROR(SEARCH(\"Propane\",Worksheet!$G$17),0)>0,VLOOKUP(\"Propane\",HVACg_Lookup,MATCH(Worksheet!$G$16,BuildingSize,0)+1,FALSE),0)))/IF(Worksheet!M346>0,Worksheet!M346,Worksheet!L346),0),\"\")","v":""},{"$f":"IF(ISERROR(M323*15)=FALSE,M323*15,\"\")","v":""},null,null,null,{"$f":"IF(ISBLANK(Worksheet!M346)=FALSE,Worksheet!M346,\"\")","v":0},{"$f":"IF(Worksheet!A346=\"-\",\"\",IF(Worksheet!A346=\"\",S322,Worksheet!A346))","v":""},{"$f":"IF(S323=\"\",\"\",IF(AND(Worksheet!G346=\"\",Worksheet!H346=\"\")=TRUE,T322,IF(Worksheet!G346=\"\",\"\",Worksheet!G346)))","v":""},{"$f":"IF(S323=\"\",\"\",IF(AND(Worksheet!G346=\"\",Worksheet!H346=\"\")=TRUE,U322,IF(Worksheet!H346=\"\",\"\",Worksheet!H346)))","v":""},{"$f":"IF(Worksheet!N346=\"\",\"\",Worksheet!N346)","v":""},{"$f":"IF(Worksheet!O346=\"\",\"\",Worksheet!O346)","v":""},{"$f":"IF(Worksheet!F346=0,\"\",Worksheet!F346)","v":""},{"$f":"IF(Worksheet!P346=0,\"\",Worksheet!P346)","v":""},{"$f":"IF(Worksheet!$A$11=TRUE,\"Y\",\"N\")","v":"N"},{"$f":"IF(Worksheet!$A$12=TRUE,\"Y\",\"N\")","v":"N"},{"$f":"IF(Worksheet!$B$11=TRUE,\"Y\",\"N\")","v":"N"},{"$f":"IF(Worksheet!$B$12=TRUE,\"Y\",\"N\")","v":"N"},{"$f":"IF(Worksheet!$C$11=TRUE,\"Y\",\"N\")","v":"N"},{"$f":"IF(Worksheet!$C$12=TRUE,\"Y\",\"N\")","v":"N"},{"$f":"IFERROR(IF(OR(Z323=\"Y\",AA323=\"Y\",AB323=\"Y\",AC323=\"Y\",AD323=\"Y\",AE323=\"Y\")=TRUE,H323,\"\"),\"\")","v":""}]
[{"$f":"IF(ISERROR(VLOOKUP(Worksheet!N347,MeasureLookup,2,FALSE))=FALSE,VLOOKUP(Worksheet!N347,MeasureLookup,2,FALSE),\"\")","v":""},{"$f":"Worksheet!Q347","v":0},{"$f":"Worksheet!R347","v":0},{"$f":"IF(ISERROR(Worksheet!P347)=FALSE,Worksheet!P347,\"\")","v":0},"Watts",null,null,{"$f":"IF(Worksheet!AP347<>\"\",IF(Worksheet!AP347>0,Worksheet!AP347/IF(Worksheet!M347>0,Worksheet!M347,Worksheet!L347),\"\"),\"\")","v":""},{"$f":"IF(ISBLANK(Worksheet!L347)=FALSE,Worksheet!L347,\"\")","v":0},{"$f":"IF(Worksheet!L347<>0, IFERROR(VLOOKUP(Worksheet!$C$16,SavingsSupportTable,3,FALSE)*Worksheet!AQ347*IFERROR(1+VLOOKUP(Worksheet!$C$16,SavingsSupportTable,MATCH(Worksheet!$G$17,HVACe_Options,0)+4,FALSE),1)/IF(Worksheet!M347>0,Worksheet!M347,Worksheet!L347),\"\"),\"\")","v":""},{"$f":"IF(Worksheet!L347<>0, IFERROR(VLOOKUP(Worksheet!$C$16,SavingsSupportTable,2,FALSE)*Worksheet!AQ347*IF(IFERROR(MATCH(Worksheet!$G$17,HVACe_Options,0),0)>0,1+VLOOKUP(Worksheet!$C$16,SavingsSupportTable,4,FALSE),1)/IF(Worksheet!M347>0,Worksheet!M347,Worksheet!L347),\"\"),\"\")","v":""},"",{"$f":"IF(Worksheet!L347<>0,IFERROR(VLOOKUP(Worksheet!$C$16,SavingsSupportTable,3,FALSE)*Worksheet!AQ347*IF(IFERROR(SEARCH(\"Gas\",Worksheet!$G$17),0)>0,VLOOKUP(\"Gas\",HVACg_Lookup,MATCH(Worksheet!$G$16,BuildingSize,0)+1,FALSE),IF(IFERROR(SEARCH(\"Oil\",Worksheet!$G$17),0)>0,VLOOKUP(\"Oil\",HVACg_Lookup,MATCH(Worksheet!$G$16,BuildingSize,0)+1,FALSE),IF(IFERROR(SEARCH(\"Propane\",Worksheet!$G$17),0)>0,VLOOKUP(\"Propane\",HVACg_Lookup,MATCH(Worksheet!$G$16,BuildingSize,0)+1,FALSE),0)))/IF(Worksheet!M347>0,Worksheet!M347,Worksheet!L347),0),\"\")","v":""},"",null,null,null,{"$f":"IF(ISBLANK(Worksheet!M347)=FALSE,Worksheet!M347,\"\")","v":0},{"$f":"IF(Worksheet!A347=\"-\",\"\",IF(Worksheet!A347=\"\",S323,Worksheet!A347))","v":""},{"$f":"IF(S324=\"\",\"\",IF(AND(Worksheet!G347=\"\",Worksheet!H347=\"\")=TRUE,T323,IF(Worksheet!G347=\"\",\"\",Worksheet!G347)))","v":""},{"$f":"IF(S324=\"\",\"\",IF(AND(Worksheet!G347=\"\",Worksheet!H347=\"\")=TRUE,U323,IF(Worksheet!H347=\"\",\"\",Worksheet!H347)))","v":""},{"$f":"IF(Worksheet!N347=\"\",\"\",Worksheet!N347)","v":""},{"$f":"IF(Worksheet!O347=\"\",\"\",Worksheet!O347)","v":""},{"$f":"IF(Worksheet!F347=0,\"\",Worksheet!F347)","v":""},{"$f":"IF(Worksheet!P347=0,\"\",Worksheet!P347)","v":""},{"$f":"IF(Worksheet!$A$11=TRUE,\"Y\",\"N\")","v":"N"},{"$f":"IF(Worksheet!$A$12=TRUE,\"Y\",\"N\")","v":"N"},{"$f":"IF(Worksheet!$B$11=TRUE,\"Y\",\"N\")","v":"N"},{"$f":"IF(Worksheet!$B$12=TRUE,\"Y\",\"N\")","v":"N"},{"$f":"IF(Worksheet!$C$11=TRUE,\"Y\",\"N\")","v":"N"},{"$f":"IF(Worksheet!$C$12=TRUE,\"Y\",\"N\")","v":"N"},""]
[{"$f":"IF(ISERROR(VLOOKUP(Worksheet!N348,MeasureLookup,2,FALSE))=FALSE,VLOOKUP(Worksheet!N348,MeasureLookup,2,FALSE),\"\")","v":""},{"$f":"Worksheet!Q348","v":0},{"$f":"Worksheet!R348","v":0},{"$f":"IF(ISERROR(Worksheet!P348)=FALSE,Worksheet!P348,\"\")","v":0},"Watts",null,null,{"$f":"IF(Worksheet!AP348<>\"\",IF(Worksheet!AP348>0,Worksheet!AP348/IF(Worksheet!M348>0,Worksheet!M348,Worksheet!L348),\"\"),\"\")","v":""},{"$f":"IF(ISBLANK(Worksheet!L348)=FALSE,Worksheet!L348,\"\")","v":0},{"$f":"IF(Worksheet!L348<>0, IFERROR(VLOOKUP(Worksheet!$C$16,SavingsSupportTable,3,FALSE)*Worksheet!AQ348*IFERROR(1+VLOOKUP(Worksheet!$C$16,SavingsSupportTable,MATCH(Worksheet!$G$17,HVACe_Options,0)+4,FALSE),1)/IF(Worksheet!M348>0,Worksheet!M348,Worksheet!L348),\"\"),\"\")","v":""},{"$f":"IF(Worksheet!L348<>0, IFERROR(VLOOKUP(Worksheet!$C$16,SavingsSupportTable,2,FALSE)*Worksheet!AQ348*IF(IFERROR(MATCH(Worksheet!$G$17,HVACe_Options,0),0)>0,1+VLOOKUP(Worksheet!$C$16,SavingsSupportTable,4,FALSE),1)/IF(Worksheet!M348>0,Worksheet!M348,Worksheet!L348),\"\"),\"\")","v":""},"",{"$f":"IF(Worksheet!L348<>0,IFERROR(VLOOKUP(Worksheet!$C$16,SavingsSupportTable,3,FALSE)*Worksheet!AQ348*IF(IFERROR(SEARCH(\"Gas\",Worksheet!$G$17),0)>0,VLOOKUP(\"Gas\",HVACg_Lookup,MATCH(Worksheet!$G$16,BuildingSize,0)+1,FALSE),IF(IFERROR(SEARCH(\"Oil\",Worksheet!$G$17),0)>0,VLOOKUP(\"Oil\",HVACg_Lookup,MATCH(Worksheet!$G$16,BuildingSize,0)+1,FALSE),IF(IFERROR(SEARCH(\"Propane\",Worksheet!$G$17),0)>0,VLOOKUP(\"Propane\",HVACg_Lookup,MATCH(Worksheet!$G$16,BuildingSize,0)+1,FALSE),0)))/IF(Worksheet!M348>0,Worksheet!M348,Worksheet!L348),0),\"\")","v":""},"",null,null,null,{"$f":"IF(ISBLANK(Worksheet!M348)=FALSE,Worksheet!M348,\"\")","v":0},{"$f":"IF(Worksheet!A348=\"-\",\"\",IF(Worksheet!A348=\"\",S324,Worksheet!A348))","v":""},{"$f":"IF(S325=\"\",\"\",IF(AND(Worksheet!G348=\"\",Worksheet!H348=\"\")=TRUE,T324,IF(Worksheet!G348=\"\",\"\",Worksheet!G348)))","v":""},{"$f":"IF(S325=\"\",\"\",IF(AND(Worksheet!G348=\"\",Worksheet!H348=\"\")=TRUE,U324,IF(Worksheet!H348=\"\",\"\",Worksheet!H348)))","v":""},{"$f":"IF(Worksheet!N348=\"\",\"\",Worksheet!N348)","v":""},{"$f":"IF(Worksheet!O348=\"\",\"\",Worksheet!O348)","v":""},{"$f":"IF(Worksheet!F348=0,\"\",Worksheet!F348)","v":""},{"$f":"IF(Worksheet!P348=0,\"\",Worksheet!P348)","v":""},{"$f":"IF(Worksheet!$A$11=TRUE,\"Y\",\"N\")","v":"N"},{"$f":"IF(Worksheet!$A$12=TRUE,\"Y\",\"N\")","v":"N"},{"$f":"IF(Worksheet!$B$11=TRUE,\"Y\",\"N\")","v":"N"},{"$f":"IF(Worksheet!$B$12=TRUE,\"Y\",\"N\")","v":"N"},{"$f":"IF(Worksheet!$C$11=TRUE,\"Y\",\"N\")","v":"N"},{"$f":"IF(Worksheet!$C$12=TRUE,\"Y\",\"N\")","v":"N"},""]
[{"$f":"IF(ISERROR(VLOOKUP(Worksheet!N349,MeasureLookup,2,FALSE))=FALSE,VLOOKUP(Worksheet!N349,MeasureLookup,2,FALSE),\"\")","v":""},{"$f":"Worksheet!Q349","v":0},{"$f":"Worksheet!R349","v":0},{"$f":"IF(ISERROR(Worksheet!P349)=FALSE,Worksheet!P349,\"\")","v":0},"Watts",null,null,{"$f":"IF(Worksheet!AP349<>\"\",IF(Worksheet!AP349>0,Worksheet!AP349/IF(Worksheet!M349>0,Worksheet!M349,Worksheet!L349),\"\"),\"\")","v":""},{"$f":"IF(ISBLANK(Worksheet!L349)=FALSE,Worksheet!L349,\"\")","v":0},{"$f":"IF(Worksheet!L349<>0, IFERROR(VLOOKUP(Worksheet!$C$16,SavingsSupportTable,3,FALSE)*Worksheet!AQ349*IFERROR(1+VLOOKUP(Worksheet!$C$16,SavingsSupportTable,MATCH(Worksheet!$G$17,HVACe_Options,0)+4,FALSE),1)/IF(Worksheet!M349>0,Worksheet!M349,Worksheet!L349),\"\"),\"\")","v":""},{"$f":"IF(Worksheet!L349<>0, IFERROR(VLOOKUP(Worksheet!$C$16,SavingsSupportTable,2,FALSE)*Worksheet!AQ349*IF(IFERROR(MATCH(Worksheet!$G$17,HVACe_Options,0),0)>0,1+VLOOKUP(Worksheet!$C$16,SavingsSupportTable,4,FALSE),1)/IF(Worksheet!M349>0,Worksheet!M349,Worksheet!L349),\"\"),\"\")","v":""},"",{"$f":"IF(Worksheet!L349<>0,IFERROR(VLOOKUP(Worksheet!$C$16,SavingsSupportTable,3,FALSE)*Worksheet!AQ349*IF(IFERROR(SEARCH(\"Gas\",Worksheet!$G$17),0)>0,VLOOKUP(\"Gas\",HVACg_Lookup,MATCH(Worksheet!$G$16,BuildingSize,0)+1,FALSE),IF(IFERROR(SEARCH(\"Oil\",Worksheet!$G$17),0)>0,VLOOKUP(\"Oil\",HVACg_Lookup,MATCH(Worksheet!$G$16,BuildingSize,0)+1,FALSE),IF(IFERROR(SEARCH(\"Propane\",Worksheet!$G$17),0)>0,VLOOKUP(\"Propane\",HVACg_Lookup,MATCH(Worksheet!$G$16,BuildingSize,0)+1,FALSE),0)))/IF(Worksheet!M349>0,Worksheet!M349,Worksheet!L349),0),\"\")","v":""},"",null,null,null,{"$f":"IF(ISBLANK(Worksheet!M349)=FALSE,Worksheet!M349,\"\")","v":0},{"$f":"IF(Worksheet!A349=\"-\",\"\",IF(Worksheet!A349=\"\",S325,Worksheet!A349))","v":""},{"$f":"IF(S326=\"\",\"\",IF(AND(Worksheet!G349=\"\",Worksheet!H349=\"\")=TRUE,T325,IF(Worksheet!G349=\"\",\"\",Worksheet!G349)))","v":""},{"$f":"IF(S326=\"\",\"\",IF(AND(Worksheet!G349=\"\",Worksheet!H349=\"\")=TRUE,U325,IF(Worksheet!H349=\"\",\"\",Worksheet!H349)))","v":""},{"$f":"IF(Worksheet!N349=\"\",\"\",Worksheet!N349)","v":""},{"$f":"IF(Worksheet!O349=\"\",\"\",Worksheet!O349)","v":""},{"$f":"IF(Worksheet!F349=0,\"\",Worksheet!F349)","v":""},{"$f":"IF(Worksheet!P349=0,\"\",Worksheet!P349)","v":""},{"$f":"IF(Worksheet!$A$11=TRUE,\"Y\",\"N\")","v":"N"},{"$f":"IF(Worksheet!$A$12=TRUE,\"Y\",\"N\")","v":"N"},{"$f":"IF(Worksheet!$B$11=TRUE,\"Y\",\"N\")","v":"N"},{"$f":"IF(Worksheet!$B$12=TRUE,\"Y\",\"N\")","v":"N"},{"$f":"IF(Worksheet!$C$11=TRUE,\"Y\",\"N\")","v":"N"},{"$f":"IF(Worksheet!$C$12=TRUE,\"Y\",\"N\")","v":"N"},""]
[{"$f":"IF(ISERROR(VLOOKUP(Worksheet!N350,MeasureLookup,2,FALSE))=FALSE,VLOOKUP(Worksheet!N350,MeasureLookup,2,FALSE),\"\")","v":""},{"$f":"Worksheet!Q350","v":0},{"$f":"Worksheet!R350","v":0},{"$f":"IF(ISERROR(Worksheet!P350)=FALSE,Worksheet!P350,\"\")","v":0},"Watts",null,null,{"$f":"IF(Worksheet!AP350<>\"\",IF(Worksheet!AP350>0,Worksheet!AP350/IF(Worksheet!M350>0,Worksheet!M350,Worksheet!L350),\"\"),\"\")","v":""},{"$f":"IF(ISBLANK(Worksheet!L350)=FALSE,Worksheet!L350,\"\")","v":0},{"$f":"IF(Worksheet!L350<>0, IFERROR(VLOOKUP(Worksheet!$C$16,SavingsSupportTable,3,FALSE)*Worksheet!AQ350*IFERROR(1+VLOOKUP(Worksheet!$C$16,SavingsSupportTable,MATCH(Worksheet!$G$17,HVACe_Options,0)+4,FALSE),1)/IF(Worksheet!M350>0,Worksheet!M350,Worksheet!L350),\"\"),\"\")","v":""},{"$f":"IF(Worksheet!L350<>0, IFERROR(VLOOKUP(Worksheet!$C$16,SavingsSupportTable,2,FALSE)*Worksheet!AQ350*IF(IFERROR(MATCH(Worksheet!$G$17,HVACe_Options,0),0)>0,1+VLOOKUP(Worksheet!$C$16,SavingsSupportTable,4,FALSE),1)/IF(Worksheet!M350>0,Worksheet!M350,Worksheet!L350),\"\"),\"\")","v":""},"",{"$f":"IF(Worksheet!L350<>0,IFERROR(VLOOKUP(Worksheet!$C$16,SavingsSupportTable,3,FALSE)*Worksheet!AQ350*IF(IFERROR(SEARCH(\"Gas\",Worksheet!$G$17),0)>0,VLOOKUP(\"Gas\",HVACg_Lookup,MATCH(Worksheet!$G$16,BuildingSize,0)+1,FALSE),IF(IFERROR(SEARCH(\"Oil\",Worksheet!$G$17),0)>0,VLOOKUP(\"Oil\",HVACg_Lookup,MATCH(Worksheet!$G$16,BuildingSize,0)+1,FALSE),IF(IFERROR(SEARCH(\"Propane\",Worksheet!$G$17),0)>0,VLOOKUP(\"Propane\",HVACg_Lookup,MATCH(Worksheet!$G$16,BuildingSize,0)+1,FALSE),0)))/IF(Worksheet!M350>0,Worksheet!M350,Worksheet!L350),0),\"\")","v":""},"",null,null,null,{"$f":"IF(ISBLANK(Worksheet!M350)=FALSE,Worksheet!M350,\"\")","v":0},{"$f":"IF(Worksheet!A350=\"-\",\"\",IF(Worksheet!A350=\"\",S326,Worksheet!A350))","v":""},{"$f":"IF(S327=\"\",\"\",IF(AND(Worksheet!G350=\"\",Worksheet!H350=\"\")=TRUE,T326,IF(Worksheet!G350=\"\",\"\",Worksheet!G350)))","v":""},{"$f":"IF(S327=\"\",\"\",IF(AND(Worksheet!G350=\"\",Worksheet!H350=\"\")=TRUE,U326,IF(Worksheet!H350=\"\",\"\",Worksheet!H350)))","v":""},{"$f":"IF(Worksheet!N350=\"\",\"\",Worksheet!N350)","v":""},{"$f":"IF(Worksheet!O350=\"\",\"\",Worksheet!O350)","v":""},{"$f":"IF(Worksheet!F350=0,\"\",Worksheet!F350)","v":""},{"$f":"IF(Worksheet!P350=0,\"\",Worksheet!P350)","v":""},{"$f":"IF(Worksheet!$A$11=TRUE,\"Y\",\"N\")","v":"N"},{"$f":"IF(Worksheet!$A$12=TRUE,\"Y\",\"N\")","v":"N"},{"$f":"IF(Worksheet!$B$11=TRUE,\"Y\",\"N\")","v":"N"},{"$f":"IF(Worksheet!$B$12=TRUE,\"Y\",\"N\")","v":"N"},{"$f":"IF(Worksheet!$C$11=TRUE,\"Y\",\"N\")","v":"N"},{"$f":"IF(Worksheet!$C$12=TRUE,\"Y\",\"N\")","v":"N"},""]
[{"$f":"IF(ISERROR(VLOOKUP(Worksheet!N351,MeasureLookup,2,FALSE))=FALSE,VLOOKUP(Worksheet!N351,MeasureLookup,2,FALSE),\"\")","v":""},{"$f":"Worksheet!Q351","v":0},{"$f":"Worksheet!R351","v":0},{"$f":"IF(ISERROR(Worksheet!P351)=FALSE,Worksheet!P351,\"\")","v":0},"Watts",null,null,{"$f":"IF(Worksheet!AP351<>\"\",IF(Worksheet!AP351>0,Worksheet!AP351/IF(Worksheet!M351>0,Worksheet!M351,Worksheet!L351),\"\"),\"\")","v":""},{"$f":"IF(ISBLANK(Worksheet!L351)=FALSE,Worksheet!L351,\"\")","v":0},{"$f":"IF(Worksheet!L351<>0, IFERROR(VLOOKUP(Worksheet!$C$16,SavingsSupportTable,3,FALSE)*Worksheet!AQ351*IFERROR(1+VLOOKUP(Worksheet!$C$16,SavingsSupportTable,MATCH(Worksheet!$G$17,HVACe_Options,0)+4,FALSE),1)/IF(Worksheet!M351>0,Worksheet!M351,Worksheet!L351),\"\"),\"\")","v":""},{"$f":"IF(Worksheet!L351<>0, IFERROR(VLOOKUP(Worksheet!$C$16,SavingsSupportTable,2,FALSE)*Worksheet!AQ351*IF(IFERROR(MATCH(Worksheet!$G$17,HVACe_Options,0),0)>0,1+VLOOKUP(Worksheet!$C$16,SavingsSupportTable,4,FALSE),1)/IF(Worksheet!M351>0,Worksheet!M351,Worksheet!L351),\"\"),\"\")","v":""},"",{"$f":"IF(Worksheet!L351<>0,IFERROR(VLOOKUP(Worksheet!$C$16,SavingsSupportTable,3,FALSE)*Worksheet!AQ351*IF(IFERROR(SEARCH(\"Gas\",Worksheet!$G$17),0)>0,VLOOKUP(\"Gas\",HVACg_Lookup,MATCH(Worksheet!$G$16,BuildingSize,0)+1,FALSE),IF(IFERROR(SEARCH(\"Oil\",Worksheet!$G$17),0)>0,VLOOKUP(\"Oil\",HVACg_Lookup,MATCH(Worksheet!$G$16,BuildingSize,0)+1,FALSE),IF(IFERROR(SEARCH(\"Propane\",Worksheet!$G$17),0)>0,VLOOKUP(\"Propane\",HVACg_Lookup,MATCH(Worksheet!$G$16,BuildingSize,0)+1,FALSE),0)))/IF(Worksheet!M351>0,Worksheet!M351,Worksheet!L351),0),\"\")","v":""},"",null,null,null,{"$f":"IF(ISBLANK(Worksheet!M351)=FALSE,Worksheet!M351,\"\")","v":0},{"$f":"IF(Worksheet!A351=\"-\",\"\",IF(Worksheet!A351=\"\",S327,Worksheet!A351))","v":""},{"$f":"IF(S328=\"\",\"\",IF(AND(Worksheet!G351=\"\",Worksheet!H351=\"\")=TRUE,T327,IF(Worksheet!G351=\"\",\"\",Worksheet!G351)))","v":""},{"$f":"IF(S328=\"\",\"\",IF(AND(Worksheet!G351=\"\",Worksheet!H351=\"\")=TRUE,U327,IF(Worksheet!H351=\"\",\"\",Worksheet!H351)))","v":""},{"$f":"IF(Worksheet!N351=\"\",\"\",Worksheet!N351)","v":""},{"$f":"IF(Worksheet!O351=\"\",\"\",Worksheet!O351)","v":""},{"$f":"IF(Worksheet!F351=0,\"\",Worksheet!F351)","v":""},{"$f":"IF(Worksheet!P351=0,\"\",Worksheet!P351)","v":""},{"$f":"IF(Worksheet!$A$11=TRUE,\"Y\",\"N\")","v":"N"},{"$f":"IF(Worksheet!$A$12=TRUE,\"Y\",\"N\")","v":"N"},{"$f":"IF(Worksheet!$B$11=TRUE,\"Y\",\"N\")","v":"N"},{"$f":"IF(Worksheet!$B$12=TRUE,\"Y\",\"N\")","v":"N"},{"$f":"IF(Worksheet!$C$11=TRUE,\"Y\",\"N\")","v":"N"},{"$f":"IF(Worksheet!$C$12=TRUE,\"Y\",\"N\")","v":"N"},""]
[{"$f":"IF(ISERROR(VLOOKUP(Worksheet!N352,MeasureLookup,2,FALSE))=FALSE,VLOOKUP(Worksheet!N352,MeasureLookup,2,FALSE),\"\")","v":""},{"$f":"Worksheet!Q352","v":0},{"$f":"Worksheet!R352","v":0},{"$f":"IF(ISERROR(Worksheet!P352)=FALSE,Worksheet!P352,\"\")","v":0},"Watts",null,null,{"$f":"IF(Worksheet!AP352<>\"\",IF(Worksheet!AP352>0,Worksheet!AP352/IF(Worksheet!M352>0,Worksheet!M352,Worksheet!L352),\"\"),\"\")","v":""},{"$f":"IF(ISBLANK(Worksheet!L352)=FALSE,Worksheet!L352,\"\")","v":0},{"$f":"IF(Worksheet!L352<>0, IFERROR(VLOOKUP(Worksheet!$C$16,SavingsSupportTable,3,FALSE)*Worksheet!AQ352*IFERROR(1+VLOOKUP(Worksheet!$C$16,SavingsSupportTable,MATCH(Worksheet!$G$17,HVACe_Options,0)+4,FALSE),1)/IF(Worksheet!M352>0,Worksheet!M352,Worksheet!L352),\"\"),\"\")","v":""},{"$f":"IF(Worksheet!L352<>0, IFERROR(VLOOKUP(Worksheet!$C$16,SavingsSupportTable,2,FALSE)*Worksheet!AQ352*IF(IFERROR(MATCH(Worksheet!$G$17,HVACe_Options,0),0)>0,1+VLOOKUP(Worksheet!$C$16,SavingsSupportTable,4,FALSE),1)/IF(Worksheet!M352>0,Worksheet!M352,Worksheet!L352),\"\"),\"\")","v":""},"",{"$f":"IF(Worksheet!L352<>0,IFERROR(VLOOKUP(Worksheet!$C$16,SavingsSupportTable,3,FALSE)*Worksheet!AQ352*IF(IFERROR(SEARCH(\"Gas\",Worksheet!$G$17),0)>0,VLOOKUP(\"Gas\",HVACg_Lookup,MATCH(Worksheet!$G$16,BuildingSize,0)+1,FALSE),IF(IFERROR(SEARCH(\"Oil\",Worksheet!$G$17),0)>0,VLOOKUP(\"Oil\",HVACg_Lookup,MATCH(Worksheet!$G$16,BuildingSize,0)+1,FALSE),IF(IFERROR(SEARCH(\"Propane\",Worksheet!$G$17),0)>0,VLOOKUP(\"Propane\",HVACg_Lookup,MATCH(Worksheet!$G$16,BuildingSize,0)+1,FALSE),0)))/IF(Worksheet!M352>0,Worksheet!M352,Worksheet!L352),0),\"\")","v":""},"",null,null,null,{"$f":"IF(ISBLANK(Worksheet!M352)=FALSE,Worksheet!M352,\"\")","v":0},{"$f":"IF(Worksheet!A352=\"-\",\"\",IF(Worksheet!A352=\"\",S328,Worksheet!A352))","v":""},{"$f":"IF(S329=\"\",\"\",IF(AND(Worksheet!G352=\"\",Worksheet!H352=\"\")=TRUE,T328,IF(Worksheet!G352=\"\",\"\",Worksheet!G352)))","v":""},{"$f":"IF(S329=\"\",\"\",IF(AND(Worksheet!G352=\"\",Worksheet!H352=\"\")=TRUE,U328,IF(Worksheet!H352=\"\",\"\",Worksheet!H352)))","v":""},{"$f":"IF(Worksheet!N352=\"\",\"\",Worksheet!N352)","v":""},{"$f":"IF(Worksheet!O352=\"\",\"\",Worksheet!O352)","v":""},{"$f":"IF(Worksheet!F352=0,\"\",Worksheet!F352)","v":""},{"$f":"IF(Worksheet!P352=0,\"\",Worksheet!P352)","v":""},{"$f":"IF(Worksheet!$A$11=TRUE,\"Y\",\"N\")","v":"N"},{"$f":"IF(Worksheet!$A$12=TRUE,\"Y\",\"N\")","v":"N"},{"$f":"IF(Worksheet!$B$11=TRUE,\"Y\",\"N\")","v":"N"},{"$f":"IF(Worksheet!$B$12=TRUE,\"Y\",\"N\")","v":"N"},{"$f":"IF(Worksheet!$C$11=TRUE,\"Y\",\"N\")","v":"N"},{"$f":"IF(Worksheet!$C$12=TRUE,\"Y\",\"N\")","v":"N"},""]
[{"$f":"IF(ISERROR(VLOOKUP(Worksheet!N353,MeasureLookup,2,FALSE))=FALSE,VLOOKUP(Worksheet!N353,MeasureLookup,2,FALSE),\"\")","v":""},{"$f":"Worksheet!Q353","v":0},{"$f":"Worksheet!R353","v":0},{"$f":"IF(ISERROR(Worksheet!P353)=FALSE,Worksheet!P353,\"\")","v":0},"Watts",null,null,{"$f":"IF(Worksheet!AP353<>\"\",IF(Worksheet!AP353>0,Worksheet!AP353/IF(Worksheet!M353>0,Worksheet!M353,Worksheet!L353),\"\"),\"\")","v":""},{"$f":"IF(ISBLANK(Worksheet!L353)=FALSE,Worksheet!L353,\"\")","v":0},{"$f":"IF(Worksheet!L353<>0, IFERROR(VLOOKUP(Worksheet!$C$16,SavingsSupportTable,3,FALSE)*Worksheet!AQ353*IFERROR(1+VLOOKUP(Worksheet!$C$16,SavingsSupportTable,MATCH(Worksheet!$G$17,HVACe_Options,0)+4,FALSE),1)/IF(Worksheet!M353>0,Worksheet!M353,Worksheet!L353),\"\"),\"\")","v":""},{"$f":"IF(Worksheet!L353<>0, IFERROR(VLOOKUP(Worksheet!$C$16,SavingsSupportTable,2,FALSE)*Worksheet!AQ353*IF(IFERROR(MATCH(Worksheet!$G$17,HVACe_Options,0),0)>0,1+VLOOKUP(Worksheet!$C$16,SavingsSupportTable,4,FALSE),1)/IF(Worksheet!M353>0,Worksheet!M353,Worksheet!L353),\"\"),\"\")","v":""},"",{"$f":"IF(Worksheet!L353<>0,IFERROR(VLOOKUP(Worksheet!$C$16,SavingsSupportTable,3,FALSE)*Worksheet!AQ353*IF(IFERROR(SEARCH(\"Gas\",Worksheet!$G$17),0)>0,VLOOKUP(\"Gas\",HVACg_Lookup,MATCH(Worksheet!$G$16,BuildingSize,0)+1,FALSE),IF(IFERROR(SEARCH(\"Oil\",Worksheet!$G$17),0)>0,VLOOKUP(\"Oil\",HVACg_Lookup,MATCH(Worksheet!$G$16,BuildingSize,0)+1,FALSE),IF(IFERROR(SEARCH(\"Propane\",Worksheet!$G$17),0)>0,VLOOKUP(\"Propane\",HVACg_Lookup,MATCH(Worksheet!$G$16,BuildingSize,0)+1,FALSE),0)))/IF(Worksheet!M353>0,Worksheet!M353,Worksheet!L353),0),\"\")","v":""},"",null,null,null,{"$f":"IF(ISBLANK(Worksheet!M353)=FALSE,Worksheet!M353,\"\")","v":0},{"$f":"IF(Worksheet!A353=\"-\",\"\",IF(Worksheet!A353=\"\",S329,Worksheet!A353))","v":""},{"$f":"IF(S330=\"\",\"\",IF(AND(Worksheet!G353=\"\",Worksheet!H353=\"\")=TRUE,T329,IF(Worksheet!G353=\"\",\"\",Worksheet!G353)))","v":""},{"$f":"IF(S330=\"\",\"\",IF(AND(Worksheet!G353=\"\",Worksheet!H353=\"\")=TRUE,U329,IF(Worksheet!H353=\"\",\"\",Worksheet!H353)))","v":""},{"$f":"IF(Worksheet!N353=\"\",\"\",Worksheet!N353)","v":""},{"$f":"IF(Worksheet!O353=\"\",\"\",Worksheet!O353)","v":""},{"$f":"IF(Worksheet!F353=0,\"\",Worksheet!F353)","v":""},{"$f":"IF(Worksheet!P353=0,\"\",Worksheet!P353)","v":""},{"$f":"IF(Worksheet!$A$11=TRUE,\"Y\",\"N\")","v":"N"},{"$f":"IF(Worksheet!$A$12=TRUE,\"Y\",\"N\")","v":"N"},{"$f":"IF(Worksheet!$B$11=TRUE,\"Y\",\"N\")","v":"N"},{"$f":"IF(Worksheet!$B$12=TRUE,\"Y\",\"N\")","v":"N"},{"$f":"IF(Worksheet!$C$11=TRUE,\"Y\",\"N\")","v":"N"},{"$f":"IF(Worksheet!$C$12=TRUE,\"Y\",\"N\")","v":"N"},""]
[{"$f":"IF(ISERROR(VLOOKUP(Worksheet!N354,MeasureLookup,2,FALSE))=FALSE,VLOOKUP(Worksheet!N354,MeasureLookup,2,FALSE),\"\")","v":""},{"$f":"Worksheet!Q354","v":0},{"$f":"Worksheet!R354","v":0},{"$f":"IF(ISERROR(Worksheet!P354)=FALSE,Worksheet!P354,\"\")","v":0},"Watts",null,null,{"$f":"IF(Worksheet!AP354<>\"\",IF(Worksheet!AP354>0,Worksheet!AP354/IF(Worksheet!M354>0,Worksheet!M354,Worksheet!L354),\"\"),\"\")","v":""},{"$f":"IF(ISBLANK(Worksheet!L354)=FALSE,Worksheet!L354,\"\")","v":0},{"$f":"IF(Worksheet!L354<>0, IFERROR(VLOOKUP(Worksheet!$C$16,SavingsSupportTable,3,FALSE)*Worksheet!AQ354*IFERROR(1+VLOOKUP(Worksheet!$C$16,SavingsSupportTable,MATCH(Worksheet!$G$17,HVACe_Options,0)+4,FALSE),1)/IF(Worksheet!M354>0,Worksheet!M354,Worksheet!L354),\"\"),\"\")","v":""},{"$f":"IF(Worksheet!L354<>0, IFERROR(VLOOKUP(Worksheet!$C$16,SavingsSupportTable,2,FALSE)*Worksheet!AQ354*IF(IFERROR(MATCH(Worksheet!$G$17,HVACe_Options,0),0)>0,1+VLOOKUP(Worksheet!$C$16,SavingsSupportTable,4,FALSE),1)/IF(Worksheet!M354>0,Worksheet!M354,Worksheet!L354),\"\"),\"\")","v":""},"",{"$f":"IF(Worksheet!L354<>0,IFERROR(VLOOKUP(Worksheet!$C$16,SavingsSupportTable,3,FALSE)*Worksheet!AQ354*IF(IFERROR(SEARCH(\"Gas\",Worksheet!$G$17),0)>0,VLOOKUP(\"Gas\",HVACg_Lookup,MATCH(Worksheet!$G$16,BuildingSize,0)+1,FALSE),IF(IFERROR(SEARCH(\"Oil\",Worksheet!$G$17),0)>0,VLOOKUP(\"Oil\",HVACg_Lookup,MATCH(Worksheet!$G$16,BuildingSize,0)+1,FALSE),IF(IFERROR(SEARCH(\"Propane\",Worksheet!$G$17),0)>0,VLOOKUP(\"Propane\",HVACg_Lookup,MATCH(Worksheet!$G$16,BuildingSize,0)+1,FALSE),0)))/IF(Worksheet!M354>0,Worksheet!M354,Worksheet!L354),0),\"\")","v":""},"",null,null,null,{"$f":"IF(ISBLANK(Worksheet!M354)=FALSE,Worksheet!M354,\"\")","v":0},{"$f":"IF(Worksheet!A354=\"-\",\"\",IF(Worksheet!A354=\"\",S330,Worksheet!A354))","v":""},{"$f":"IF(S331=\"\",\"\",IF(AND(Worksheet!G354=\"\",Worksheet!H354=\"\")=TRUE,T330,IF(Worksheet!G354=\"\",\"\",Worksheet!G354)))","v":""},{"$f":"IF(S331=\"\",\"\",IF(AND(Worksheet!G354=\"\",Worksheet!H354=\"\")=TRUE,U330,IF(Worksheet!H354=\"\",\"\",Worksheet!H354)))","v":""},{"$f":"IF(Worksheet!N354=\"\",\"\",Worksheet!N354)","v":""},{"$f":"IF(Worksheet!O354=\"\",\"\",Worksheet!O354)","v":""},{"$f":"IF(Worksheet!F354=0,\"\",Worksheet!F354)","v":""},{"$f":"IF(Worksheet!P354=0,\"\",Worksheet!P354)","v":""},{"$f":"IF(Worksheet!$A$11=TRUE,\"Y\",\"N\")","v":"N"},{"$f":"IF(Worksheet!$A$12=TRUE,\"Y\",\"N\")","v":"N"},{"$f":"IF(Worksheet!$B$11=TRUE,\"Y\",\"N\")","v":"N"},{"$f":"IF(Worksheet!$B$12=TRUE,\"Y\",\"N\")","v":"N"},{"$f":"IF(Worksheet!$C$11=TRUE,\"Y\",\"N\")","v":"N"},{"$f":"IF(Worksheet!$C$12=TRUE,\"Y\",\"N\")","v":"N"},""]
[{"$f":"IF(ISERROR(VLOOKUP(Worksheet!N355,MeasureLookup,2,FALSE))=FALSE,VLOOKUP(Worksheet!N355,MeasureLookup,2,FALSE),\"\")","v":""},{"$f":"Worksheet!Q355","v":0},{"$f":"Worksheet!R355","v":0},{"$f":"IF(ISERROR(Worksheet!P355)=FALSE,Worksheet!P355,\"\")","v":0},"Watts",null,null,{"$f":"IF(Worksheet!AP355<>\"\",IF(Worksheet!AP355>0,Worksheet!AP355/IF(Worksheet!M355>0,Worksheet!M355,Worksheet!L355),\"\"),\"\")","v":""},{"$f":"IF(ISBLANK(Worksheet!L355)=FALSE,Worksheet!L355,\"\")","v":0},{"$f":"IF(Worksheet!L355<>0, IFERROR(VLOOKUP(Worksheet!$C$16,SavingsSupportTable,3,FALSE)*Worksheet!AQ355*IFERROR(1+VLOOKUP(Worksheet!$C$16,SavingsSupportTable,MATCH(Worksheet!$G$17,HVACe_Options,0)+4,FALSE),1)/IF(Worksheet!M355>0,Worksheet!M355,Worksheet!L355),\"\"),\"\")","v":""},{"$f":"IF(Worksheet!L355<>0, IFERROR(VLOOKUP(Worksheet!$C$16,SavingsSupportTable,2,FALSE)*Worksheet!AQ355*IF(IFERROR(MATCH(Worksheet!$G$17,HVACe_Options,0),0)>0,1+VLOOKUP(Worksheet!$C$16,SavingsSupportTable,4,FALSE),1)/IF(Worksheet!M355>0,Worksheet!M355,Worksheet!L355),\"\"),\"\")","v":""},"",{"$f":"IF(Worksheet!L355<>0,IFERROR(VLOOKUP(Worksheet!$C$16,SavingsSupportTable,3,FALSE)*Worksheet!AQ355*IF(IFERROR(SEARCH(\"Gas\",Worksheet!$G$17),0)>0,VLOOKUP(\"Gas\",HVACg_Lookup,MATCH(Worksheet!$G$16,BuildingSize,0)+1,FALSE),IF(IFERROR(SEARCH(\"Oil\",Worksheet!$G$17),0)>0,VLOOKUP(\"Oil\",HVACg_Lookup,MATCH(Worksheet!$G$16,BuildingSize,0)+1,FALSE),IF(IFERROR(SEARCH(\"Propane\",Worksheet!$G$17),0)>0,VLOOKUP(\"Propane\",HVACg_Lookup,MATCH(Worksheet!$G$16,BuildingSize,0)+1,FALSE),0)))/IF(Worksheet!M355>0,Worksheet!M355,Worksheet!L355),0),\"\")","v":""},"",null,null,null,{"$f":"IF(ISBLANK(Worksheet!M355)=FALSE,Worksheet!M355,\"\")","v":0},{"$f":"IF(Worksheet!A355=\"-\",\"\",IF(Worksheet!A355=\"\",S331,Worksheet!A355))","v":""},{"$f":"IF(S332=\"\",\"\",IF(AND(Worksheet!G355=\"\",Worksheet!H355=\"\")=TRUE,T331,IF(Worksheet!G355=\"\",\"\",Worksheet!G355)))","v":""},{"$f":"IF(S332=\"\",\"\",IF(AND(Worksheet!G355=\"\",Worksheet!H355=\"\")=TRUE,U331,IF(Worksheet!H355=\"\",\"\",Worksheet!H355)))","v":""},{"$f":"IF(Worksheet!N355=\"\",\"\",Worksheet!N355)","v":""},{"$f":"IF(Worksheet!O355=\"\",\"\",Worksheet!O355)","v":""},{"$f":"IF(Worksheet!F355=0,\"\",Worksheet!F355)","v":""},{"$f":"IF(Worksheet!P355=0,\"\",Worksheet!P355)","v":""},{"$f":"IF(Worksheet!$A$11=TRUE,\"Y\",\"N\")","v":"N"},{"$f":"IF(Worksheet!$A$12=TRUE,\"Y\",\"N\")","v":"N"},{"$f":"IF(Worksheet!$B$11=TRUE,\"Y\",\"N\")","v":"N"},{"$f":"IF(Worksheet!$B$12=TRUE,\"Y\",\"N\")","v":"N"},{"$f":"IF(Worksheet!$C$11=TRUE,\"Y\",\"N\")","v":"N"},{"$f":"IF(Worksheet!$C$12=TRUE,\"Y\",\"N\")","v":"N"},""]
[{"$f":"IF(ISERROR(VLOOKUP(Worksheet!N356,MeasureLookup,2,FALSE))=FALSE,VLOOKUP(Worksheet!N356,MeasureLookup,2,FALSE),\"\")","v":""},{"$f":"Worksheet!Q356","v":0},{"$f":"Worksheet!R356","v":0},{"$f":"IF(ISERROR(Worksheet!P356)=FALSE,Worksheet!P356,\"\")","v":0},"Watts",null,null,{"$f":"IF(Worksheet!AP356<>\"\",IF(Worksheet!AP356>0,Worksheet!AP356/IF(Worksheet!M356>0,Worksheet!M356,Worksheet!L356),\"\"),\"\")","v":""},{"$f":"IF(ISBLANK(Worksheet!L356)=FALSE,Worksheet!L356,\"\")","v":0},{"$f":"IF(Worksheet!L356<>0, IFERROR(VLOOKUP(Worksheet!$C$16,SavingsSupportTable,3,FALSE)*Worksheet!AQ356*IFERROR(1+VLOOKUP(Worksheet!$C$16,SavingsSupportTable,MATCH(Worksheet!$G$17,HVACe_Options,0)+4,FALSE),1)/IF(Worksheet!M356>0,Worksheet!M356,Worksheet!L356),\"\"),\"\")","v":""},{"$f":"IF(Worksheet!L356<>0, IFERROR(VLOOKUP(Worksheet!$C$16,SavingsSupportTable,2,FALSE)*Worksheet!AQ356*IF(IFERROR(MATCH(Worksheet!$G$17,HVACe_Options,0),0)>0,1+VLOOKUP(Worksheet!$C$16,SavingsSupportTable,4,FALSE),1)/IF(Worksheet!M356>0,Worksheet!M356,Worksheet!L356),\"\"),\"\")","v":""},"",{"$f":"IF(Worksheet!L356<>0,IFERROR(VLOOKUP(Worksheet!$C$16,SavingsSupportTable,3,FALSE)*Worksheet!AQ356*IF(IFERROR(SEARCH(\"Gas\",Worksheet!$G$17),0)>0,VLOOKUP(\"Gas\",HVACg_Lookup,MATCH(Worksheet!$G$16,BuildingSize,0)+1,FALSE),IF(IFERROR(SEARCH(\"Oil\",Worksheet!$G$17),0)>0,VLOOKUP(\"Oil\",HVACg_Lookup,MATCH(Worksheet!$G$16,BuildingSize,0)+1,FALSE),IF(IFERROR(SEARCH(\"Propane\",Worksheet!$G$17),0)>0,VLOOKUP(\"Propane\",HVACg_Lookup,MATCH(Worksheet!$G$16,BuildingSize,0)+1,FALSE),0)))/IF(Worksheet!M356>0,Worksheet!M356,Worksheet!L356),0),\"\")","v":""},"",null,null,null,{"$f":"IF(ISBLANK(Worksheet!M356)=FALSE,Worksheet!M356,\"\")","v":0},{"$f":"IF(Worksheet!A356=\"-\",\"\",IF(Worksheet!A356=\"\",S332,Worksheet!A356))","v":""},{"$f":"IF(S333=\"\",\"\",IF(AND(Worksheet!G356=\"\",Worksheet!H356=\"\")=TRUE,T332,IF(Worksheet!G356=\"\",\"\",Worksheet!G356)))","v":""},{"$f":"IF(S333=\"\",\"\",IF(AND(Worksheet!G356=\"\",Worksheet!H356=\"\")=TRUE,U332,IF(Worksheet!H356=\"\",\"\",Worksheet!H356)))","v":""},{"$f":"IF(Worksheet!N356=\"\",\"\",Worksheet!N356)","v":""},{"$f":"IF(Worksheet!O356=\"\",\"\",Worksheet!O356)","v":""},{"$f":"IF(Worksheet!F356=0,\"\",Worksheet!F356)","v":""},{"$f":"IF(Worksheet!P356=0,\"\",Worksheet!P356)","v":""},{"$f":"IF(Worksheet!$A$11=TRUE,\"Y\",\"N\")","v":"N"},{"$f":"IF(Worksheet!$A$12=TRUE,\"Y\",\"N\")","v":"N"},{"$f":"IF(Worksheet!$B$11=TRUE,\"Y\",\"N\")","v":"N"},{"$f":"IF(Worksheet!$B$12=TRUE,\"Y\",\"N\")","v":"N"},{"$f":"IF(Worksheet!$C$11=TRUE,\"Y\",\"N\")","v":"N"},{"$f":"IF(Worksheet!$C$12=TRUE,\"Y\",\"N\")","v":"N"},""]
[{"$f":"IF(ISERROR(VLOOKUP(Worksheet!N357,MeasureLookup,2,FALSE))=FALSE,VLOOKUP(Worksheet!N357,MeasureLookup,2,FALSE),\"\")","v":""},{"$f":"Worksheet!Q357","v":0},{"$f":"Worksheet!R357","v":0},{"$f":"IF(ISERROR(Worksheet!P357)=FALSE,Worksheet!P357,\"\")","v":0},"Watts",null,null,{"$f":"IF(Worksheet!AP357<>\"\",IF(Worksheet!AP357>0,Worksheet!AP357/IF(Worksheet!M357>0,Worksheet!M357,Worksheet!L357),\"\"),\"\")","v":""},{"$f":"IF(ISBLANK(Worksheet!L357)=FALSE,Worksheet!L357,\"\")","v":0},{"$f":"IF(Worksheet!L357<>0, IFERROR(VLOOKUP(Worksheet!$C$16,SavingsSupportTable,3,FALSE)*Worksheet!AQ357*IFERROR(1+VLOOKUP(Worksheet!$C$16,SavingsSupportTable,MATCH(Worksheet!$G$17,HVACe_Options,0)+4,FALSE),1)/IF(Worksheet!M357>0,Worksheet!M357,Worksheet!L357),\"\"),\"\")","v":""},{"$f":"IF(Worksheet!L357<>0, IFERROR(VLOOKUP(Worksheet!$C$16,SavingsSupportTable,2,FALSE)*Worksheet!AQ357*IF(IFERROR(MATCH(Worksheet!$G$17,HVACe_Options,0),0)>0,1+VLOOKUP(Worksheet!$C$16,SavingsSupportTable,4,FALSE),1)/IF(Worksheet!M357>0,Worksheet!M357,Worksheet!L357),\"\"),\"\")","v":""},"",{"$f":"IF(Worksheet!L357<>0,IFERROR(VLOOKUP(Worksheet!$C$16,SavingsSupportTable,3,FALSE)*Worksheet!AQ357*IF(IFERROR(SEARCH(\"Gas\",Worksheet!$G$17),0)>0,VLOOKUP(\"Gas\",HVACg_Lookup,MATCH(Worksheet!$G$16,BuildingSize,0)+1,FALSE),IF(IFERROR(SEARCH(\"Oil\",Worksheet!$G$17),0)>0,VLOOKUP(\"Oil\",HVACg_Lookup,MATCH(Worksheet!$G$16,BuildingSize,0)+1,FALSE),IF(IFERROR(SEARCH(\"Propane\",Worksheet!$G$17),0)>0,VLOOKUP(\"Propane\",HVACg_Lookup,MATCH(Worksheet!$G$16,BuildingSize,0)+1,FALSE),0)))/IF(Worksheet!M357>0,Worksheet!M357,Worksheet!L357),0),\"\")","v":""},"",null,null,null,{"$f":"IF(ISBLANK(Worksheet!M357)=FALSE,Worksheet!M357,\"\")","v":0},{"$f":"IF(Worksheet!A357=\"-\",\"\",IF(Worksheet!A357=\"\",S333,Worksheet!A357))","v":""},{"$f":"IF(S334=\"\",\"\",IF(AND(Worksheet!G357=\"\",Worksheet!H357=\"\")=TRUE,T333,IF(Worksheet!G357=\"\",\"\",Worksheet!G357)))","v":""},{"$f":"IF(S334=\"\",\"\",IF(AND(Worksheet!G357=\"\",Worksheet!H357=\"\")=TRUE,U333,IF(Worksheet!H357=\"\",\"\",Worksheet!H357)))","v":""},{"$f":"IF(Worksheet!N357=\"\",\"\",Worksheet!N357)","v":""},{"$f":"IF(Worksheet!O357=\"\",\"\",Worksheet!O357)","v":""},{"$f":"IF(Worksheet!F357=0,\"\",Worksheet!F357)","v":""},{"$f":"IF(Worksheet!P357=0,\"\",Worksheet!P357)","v":""},{"$f":"IF(Worksheet!$A$11=TRUE,\"Y\",\"N\")","v":"N"},{"$f":"IF(Worksheet!$A$12=TRUE,\"Y\",\"N\")","v":"N"},{"$f":"IF(Worksheet!$B$11=TRUE,\"Y\",\"N\")","v":"N"},{"$f":"IF(Worksheet!$B$12=TRUE,\"Y\",\"N\")","v":"N"},{"$f":"IF(Worksheet!$C$11=TRUE,\"Y\",\"N\")","v":"N"},{"$f":"IF(Worksheet!$C$12=TRUE,\"Y\",\"N\")","v":"N"},""]
[{"$f":"IF(ISERROR(VLOOKUP(Worksheet!N358,MeasureLookup,2,FALSE))=FALSE,VLOOKUP(Worksheet!N358,MeasureLookup,2,FALSE),\"\")","v":""},{"$f":"Worksheet!Q358","v":0},{"$f":"Worksheet!R358","v":0},{"$f":"IF(ISERROR(Worksheet!P358)=FALSE,Worksheet!P358,\"\")","v":0},"Watts",null,null,{"$f":"IF(Worksheet!AP358<>\"\",IF(Worksheet!AP358>0,Worksheet!AP358/IF(Worksheet!M358>0,Worksheet!M358,Worksheet!L358),\"\"),\"\")","v":""},{"$f":"IF(ISBLANK(Worksheet!L358)=FALSE,Worksheet!L358,\"\")","v":0},{"$f":"IF(Worksheet!L358<>0, IFERROR(VLOOKUP(Worksheet!$C$16,SavingsSupportTable,3,FALSE)*Worksheet!AQ358*IFERROR(1+VLOOKUP(Worksheet!$C$16,SavingsSupportTable,MATCH(Worksheet!$G$17,HVACe_Options,0)+4,FALSE),1)/IF(Worksheet!M358>0,Worksheet!M358,Worksheet!L358),\"\"),\"\")","v":""},{"$f":"IF(Worksheet!L358<>0, IFERROR(VLOOKUP(Worksheet!$C$16,SavingsSupportTable,2,FALSE)*Worksheet!AQ358*IF(IFERROR(MATCH(Worksheet!$G$17,HVACe_Options,0),0)>0,1+VLOOKUP(Worksheet!$C$16,SavingsSupportTable,4,FALSE),1)/IF(Worksheet!M358>0,Worksheet!M358,Worksheet!L358),\"\"),\"\")","v":""},"",{"$f":"IF(Worksheet!L358<>0,IFERROR(VLOOKUP(Worksheet!$C$16,SavingsSupportTable,3,FALSE)*Worksheet!AQ358*IF(IFERROR(SEARCH(\"Gas\",Worksheet!$G$17),0)>0,VLOOKUP(\"Gas\",HVACg_Lookup,MATCH(Worksheet!$G$16,BuildingSize,0)+1,FALSE),IF(IFERROR(SEARCH(\"Oil\",Worksheet!$G$17),0)>0,VLOOKUP(\"Oil\",HVACg_Lookup,MATCH(Worksheet!$G$16,BuildingSize,0)+1,FALSE),IF(IFERROR(SEARCH(\"Propane\",Worksheet!$G$17),0)>0,VLOOKUP(\"Propane\",HVACg_Lookup,MATCH(Worksheet!$G$16,BuildingSize,0)+1,FALSE),0)))/IF(Worksheet!M358>0,Worksheet!M358,Worksheet!L358),0),\"\")","v":""},"",null,null,null,{"$f":"IF(ISBLANK(Worksheet!M358)=FALSE,Worksheet!M358,\"\")","v":0},{"$f":"IF(Worksheet!A358=\"-\",\"\",IF(Worksheet!A358=\"\",S334,Worksheet!A358))","v":""},{"$f":"IF(S335=\"\",\"\",IF(AND(Worksheet!G358=\"\",Worksheet!H358=\"\")=TRUE,T334,IF(Worksheet!G358=\"\",\"\",Worksheet!G358)))","v":""},{"$f":"IF(S335=\"\",\"\",IF(AND(Worksheet!G358=\"\",Worksheet!H358=\"\")=TRUE,U334,IF(Worksheet!H358=\"\",\"\",Worksheet!H358)))","v":""},{"$f":"IF(Worksheet!N358=\"\",\"\",Worksheet!N358)","v":""},{"$f":"IF(Worksheet!O358=\"\",\"\",Worksheet!O358)","v":""},{"$f":"IF(Worksheet!F358=0,\"\",Worksheet!F358)","v":""},{"$f":"IF(Worksheet!P358=0,\"\",Worksheet!P358)","v":""},{"$f":"IF(Worksheet!$A$11=TRUE,\"Y\",\"N\")","v":"N"},{"$f":"IF(Worksheet!$A$12=TRUE,\"Y\",\"N\")","v":"N"},{"$f":"IF(Worksheet!$B$11=TRUE,\"Y\",\"N\")","v":"N"},{"$f":"IF(Worksheet!$B$12=TRUE,\"Y\",\"N\")","v":"N"},{"$f":"IF(Worksheet!$C$11=TRUE,\"Y\",\"N\")","v":"N"},{"$f":"IF(Worksheet!$C$12=TRUE,\"Y\",\"N\")","v":"N"},""]
[{"$f":"IF(ISERROR(VLOOKUP(Worksheet!N359,MeasureLookup,2,FALSE))=FALSE,VLOOKUP(Worksheet!N359,MeasureLookup,2,FALSE),\"\")","v":""},{"$f":"Worksheet!Q359","v":0},{"$f":"Worksheet!R359","v":0},{"$f":"IF(ISERROR(Worksheet!P359)=FALSE,Worksheet!P359,\"\")","v":0},"Watts",null,null,{"$f":"IF(Worksheet!AP359<>\"\",IF(Worksheet!AP359>0,Worksheet!AP359/IF(Worksheet!M359>0,Worksheet!M359,Worksheet!L359),\"\"),\"\")","v":""},{"$f":"IF(ISBLANK(Worksheet!L359)=FALSE,Worksheet!L359,\"\")","v":0},{"$f":"IF(Worksheet!L359<>0, IFERROR(VLOOKUP(Worksheet!$C$16,SavingsSupportTable,3,FALSE)*Worksheet!AQ359*IFERROR(1+VLOOKUP(Worksheet!$C$16,SavingsSupportTable,MATCH(Worksheet!$G$17,HVACe_Options,0)+4,FALSE),1)/IF(Worksheet!M359>0,Worksheet!M359,Worksheet!L359),\"\"),\"\")","v":""},{"$f":"IF(Worksheet!L359<>0, IFERROR(VLOOKUP(Worksheet!$C$16,SavingsSupportTable,2,FALSE)*Worksheet!AQ359*IF(IFERROR(MATCH(Worksheet!$G$17,HVACe_Options,0),0)>0,1+VLOOKUP(Worksheet!$C$16,SavingsSupportTable,4,FALSE),1)/IF(Worksheet!M359>0,Worksheet!M359,Worksheet!L359),\"\"),\"\")","v":""},"",{"$f":"IF(Worksheet!L359<>0,IFERROR(VLOOKUP(Worksheet!$C$16,SavingsSupportTable,3,FALSE)*Worksheet!AQ359*IF(IFERROR(SEARCH(\"Gas\",Worksheet!$G$17),0)>0,VLOOKUP(\"Gas\",HVACg_Lookup,MATCH(Worksheet!$G$16,BuildingSize,0)+1,FALSE),IF(IFERROR(SEARCH(\"Oil\",Worksheet!$G$17),0)>0,VLOOKUP(\"Oil\",HVACg_Lookup,MATCH(Worksheet!$G$16,BuildingSize,0)+1,FALSE),IF(IFERROR(SEARCH(\"Propane\",Worksheet!$G$17),0)>0,VLOOKUP(\"Propane\",HVACg_Lookup,MATCH(Worksheet!$G$16,BuildingSize,0)+1,FALSE),0)))/IF(Worksheet!M359>0,Worksheet!M359,Worksheet!L359),0),\"\")","v":""},"",null,null,null,{"$f":"IF(ISBLANK(Worksheet!M359)=FALSE,Worksheet!M359,\"\")","v":0},{"$f":"IF(Worksheet!A359=\"-\",\"\",IF(Worksheet!A359=\"\",S335,Worksheet!A359))","v":""},{"$f":"IF(S336=\"\",\"\",IF(AND(Worksheet!G359=\"\",Worksheet!H359=\"\")=TRUE,T335,IF(Worksheet!G359=\"\",\"\",Worksheet!G359)))","v":""},{"$f":"IF(S336=\"\",\"\",IF(AND(Worksheet!G359=\"\",Worksheet!H359=\"\")=TRUE,U335,IF(Worksheet!H359=\"\",\"\",Worksheet!H359)))","v":""},{"$f":"IF(Worksheet!N359=\"\",\"\",Worksheet!N359)","v":""},{"$f":"IF(Worksheet!O359=\"\",\"\",Worksheet!O359)","v":""},{"$f":"IF(Worksheet!F359=0,\"\",Worksheet!F359)","v":""},{"$f":"IF(Worksheet!P359=0,\"\",Worksheet!P359)","v":""},{"$f":"IF(Worksheet!$A$11=TRUE,\"Y\",\"N\")","v":"N"},{"$f":"IF(Worksheet!$A$12=TRUE,\"Y\",\"N\")","v":"N"},{"$f":"IF(Worksheet!$B$11=TRUE,\"Y\",\"N\")","v":"N"},{"$f":"IF(Worksheet!$B$12=TRUE,\"Y\",\"N\")","v":"N"},{"$f":"IF(Worksheet!$C$11=TRUE,\"Y\",\"N\")","v":"N"},{"$f":"IF(Worksheet!$C$12=TRUE,\"Y\",\"N\")","v":"N"},""]
[{"$f":"IF(ISERROR(VLOOKUP(Worksheet!N360,MeasureLookup,2,FALSE))=FALSE,VLOOKUP(Worksheet!N360,MeasureLookup,2,FALSE),\"\")","v":""},{"$f":"Worksheet!Q360","v":0},{"$f":"Worksheet!R360","v":0},{"$f":"IF(ISERROR(Worksheet!P360)=FALSE,Worksheet!P360,\"\")","v":0},"Watts",null,null,{"$f":"IF(Worksheet!AP360<>\"\",IF(Worksheet!AP360>0,Worksheet!AP360/IF(Worksheet!M360>0,Worksheet!M360,Worksheet!L360),\"\"),\"\")","v":""},{"$f":"IF(ISBLANK(Worksheet!L360)=FALSE,Worksheet!L360,\"\")","v":0},{"$f":"IF(Worksheet!L360<>0, IFERROR(VLOOKUP(Worksheet!$C$16,SavingsSupportTable,3,FALSE)*Worksheet!AQ360*IFERROR(1+VLOOKUP(Worksheet!$C$16,SavingsSupportTable,MATCH(Worksheet!$G$17,HVACe_Options,0)+4,FALSE),1)/IF(Worksheet!M360>0,Worksheet!M360,Worksheet!L360),\"\"),\"\")","v":""},{"$f":"IF(Worksheet!L360<>0, IFERROR(VLOOKUP(Worksheet!$C$16,SavingsSupportTable,2,FALSE)*Worksheet!AQ360*IF(IFERROR(MATCH(Worksheet!$G$17,HVACe_Options,0),0)>0,1+VLOOKUP(Worksheet!$C$16,SavingsSupportTable,4,FALSE),1)/IF(Worksheet!M360>0,Worksheet!M360,Worksheet!L360),\"\"),\"\")","v":""},"",{"$f":"IF(Worksheet!L360<>0,IFERROR(VLOOKUP(Worksheet!$C$16,SavingsSupportTable,3,FALSE)*Worksheet!AQ360*IF(IFERROR(SEARCH(\"Gas\",Worksheet!$G$17),0)>0,VLOOKUP(\"Gas\",HVACg_Lookup,MATCH(Worksheet!$G$16,BuildingSize,0)+1,FALSE),IF(IFERROR(SEARCH(\"Oil\",Worksheet!$G$17),0)>0,VLOOKUP(\"Oil\",HVACg_Lookup,MATCH(Worksheet!$G$16,BuildingSize,0)+1,FALSE),IF(IFERROR(SEARCH(\"Propane\",Worksheet!$G$17),0)>0,VLOOKUP(\"Propane\",HVACg_Lookup,MATCH(Worksheet!$G$16,BuildingSize,0)+1,FALSE),0)))/IF(Worksheet!M360>0,Worksheet!M360,Worksheet!L360),0),\"\")","v":""},"",null,null,null,{"$f":"IF(ISBLANK(Worksheet!M360)=FALSE,Worksheet!M360,\"\")","v":0},{"$f":"IF(Worksheet!A360=\"-\",\"\",IF(Worksheet!A360=\"\",S336,Worksheet!A360))","v":""},{"$f":"IF(S337=\"\",\"\",IF(AND(Worksheet!G360=\"\",Worksheet!H360=\"\")=TRUE,T336,IF(Worksheet!G360=\"\",\"\",Worksheet!G360)))","v":""},{"$f":"IF(S337=\"\",\"\",IF(AND(Worksheet!G360=\"\",Worksheet!H360=\"\")=TRUE,U336,IF(Worksheet!H360=\"\",\"\",Worksheet!H360)))","v":""},{"$f":"IF(Worksheet!N360=\"\",\"\",Worksheet!N360)","v":""},{"$f":"IF(Worksheet!O360=\"\",\"\",Worksheet!O360)","v":""},{"$f":"IF(Worksheet!F360=0,\"\",Worksheet!F360)","v":""},{"$f":"IF(Worksheet!P360=0,\"\",Worksheet!P360)","v":""},{"$f":"IF(Worksheet!$A$11=TRUE,\"Y\",\"N\")","v":"N"},{"$f":"IF(Worksheet!$A$12=TRUE,\"Y\",\"N\")","v":"N"},{"$f":"IF(Worksheet!$B$11=TRUE,\"Y\",\"N\")","v":"N"},{"$f":"IF(Worksheet!$B$12=TRUE,\"Y\",\"N\")","v":"N"},{"$f":"IF(Worksheet!$C$11=TRUE,\"Y\",\"N\")","v":"N"},{"$f":"IF(Worksheet!$C$12=TRUE,\"Y\",\"N\")","v":"N"},""]
[{"$f":"IF(ISERROR(VLOOKUP(Worksheet!N361,MeasureLookup,2,FALSE))=FALSE,VLOOKUP(Worksheet!N361,MeasureLookup,2,FALSE),\"\")","v":""},{"$f":"Worksheet!Q361","v":0},{"$f":"Worksheet!R361","v":0},{"$f":"IF(ISERROR(Worksheet!P361)=FALSE,Worksheet!P361,\"\")","v":0},"Watts",null,null,{"$f":"IF(Worksheet!AP361<>\"\",IF(Worksheet!AP361>0,Worksheet!AP361/IF(Worksheet!M361>0,Worksheet!M361,Worksheet!L361),\"\"),\"\")","v":""},{"$f":"IF(ISBLANK(Worksheet!L361)=FALSE,Worksheet!L361,\"\")","v":0},{"$f":"IF(Worksheet!L361<>0, IFERROR(VLOOKUP(Worksheet!$C$16,SavingsSupportTable,3,FALSE)*Worksheet!AQ361*IFERROR(1+VLOOKUP(Worksheet!$C$16,SavingsSupportTable,MATCH(Worksheet!$G$17,HVACe_Options,0)+4,FALSE),1)/IF(Worksheet!M361>0,Worksheet!M361,Worksheet!L361),\"\"),\"\")","v":""},{"$f":"IF(Worksheet!L361<>0, IFERROR(VLOOKUP(Worksheet!$C$16,SavingsSupportTable,2,FALSE)*Worksheet!AQ361*IF(IFERROR(MATCH(Worksheet!$G$17,HVACe_Options,0),0)>0,1+VLOOKUP(Worksheet!$C$16,SavingsSupportTable,4,FALSE),1)/IF(Worksheet!M361>0,Worksheet!M361,Worksheet!L361),\"\"),\"\")","v":""},"",{"$f":"IF(Worksheet!L361<>0,IFERROR(VLOOKUP(Worksheet!$C$16,SavingsSupportTable,3,FALSE)*Worksheet!AQ361*IF(IFERROR(SEARCH(\"Gas\",Worksheet!$G$17),0)>0,VLOOKUP(\"Gas\",HVACg_Lookup,MATCH(Worksheet!$G$16,BuildingSize,0)+1,FALSE),IF(IFERROR(SEARCH(\"Oil\",Worksheet!$G$17),0)>0,VLOOKUP(\"Oil\",HVACg_Lookup,MATCH(Worksheet!$G$16,BuildingSize,0)+1,FALSE),IF(IFERROR(SEARCH(\"Propane\",Worksheet!$G$17),0)>0,VLOOKUP(\"Propane\",HVACg_Lookup,MATCH(Worksheet!$G$16,BuildingSize,0)+1,FALSE),0)))/IF(Worksheet!M361>0,Worksheet!M361,Worksheet!L361),0),\"\")","v":""},"",null,null,null,{"$f":"IF(ISBLANK(Worksheet!M361)=FALSE,Worksheet!M361,\"\")","v":0},{"$f":"IF(Worksheet!A361=\"-\",\"\",IF(Worksheet!A361=\"\",S337,Worksheet!A361))","v":""},{"$f":"IF(S338=\"\",\"\",IF(AND(Worksheet!G361=\"\",Worksheet!H361=\"\")=TRUE,T337,IF(Worksheet!G361=\"\",\"\",Worksheet!G361)))","v":""},{"$f":"IF(S338=\"\",\"\",IF(AND(Worksheet!G361=\"\",Worksheet!H361=\"\")=TRUE,U337,IF(Worksheet!H361=\"\",\"\",Worksheet!H361)))","v":""},{"$f":"IF(Worksheet!N361=\"\",\"\",Worksheet!N361)","v":""},{"$f":"IF(Worksheet!O361=\"\",\"\",Worksheet!O361)","v":""},{"$f":"IF(Worksheet!F361=0,\"\",Worksheet!F361)","v":""},{"$f":"IF(Worksheet!P361=0,\"\",Worksheet!P361)","v":""},{"$f":"IF(Worksheet!$A$11=TRUE,\"Y\",\"N\")","v":"N"},{"$f":"IF(Worksheet!$A$12=TRUE,\"Y\",\"N\")","v":"N"},{"$f":"IF(Worksheet!$B$11=TRUE,\"Y\",\"N\")","v":"N"},{"$f":"IF(Worksheet!$B$12=TRUE,\"Y\",\"N\")","v":"N"},{"$f":"IF(Worksheet!$C$11=TRUE,\"Y\",\"N\")","v":"N"},{"$f":"IF(Worksheet!$C$12=TRUE,\"Y\",\"N\")","v":"N"},""]
[{"$f":"IF(ISERROR(VLOOKUP(Worksheet!N362,MeasureLookup,2,FALSE))=FALSE,VLOOKUP(Worksheet!N362,MeasureLookup,2,FALSE),\"\")","v":""},{"$f":"Worksheet!Q362","v":0},{"$f":"Worksheet!R362","v":0},{"$f":"IF(ISERROR(Worksheet!P362)=FALSE,Worksheet!P362,\"\")","v":0},"Watts",null,null,{"$f":"IF(Worksheet!AP362<>\"\",IF(Worksheet!AP362>0,Worksheet!AP362/IF(Worksheet!M362>0,Worksheet!M362,Worksheet!L362),\"\"),\"\")","v":""},{"$f":"IF(ISBLANK(Worksheet!L362)=FALSE,Worksheet!L362,\"\")","v":0},{"$f":"IF(Worksheet!L362<>0, IFERROR(VLOOKUP(Worksheet!$C$16,SavingsSupportTable,3,FALSE)*Worksheet!AQ362*IFERROR(1+VLOOKUP(Worksheet!$C$16,SavingsSupportTable,MATCH(Worksheet!$G$17,HVACe_Options,0)+4,FALSE),1)/IF(Worksheet!M362>0,Worksheet!M362,Worksheet!L362),\"\"),\"\")","v":""},{"$f":"IF(Worksheet!L362<>0, IFERROR(VLOOKUP(Worksheet!$C$16,SavingsSupportTable,2,FALSE)*Worksheet!AQ362*IF(IFERROR(MATCH(Worksheet!$G$17,HVACe_Options,0),0)>0,1+VLOOKUP(Worksheet!$C$16,SavingsSupportTable,4,FALSE),1)/IF(Worksheet!M362>0,Worksheet!M362,Worksheet!L362),\"\"),\"\")","v":""},"",{"$f":"IF(Worksheet!L362<>0,IFERROR(VLOOKUP(Worksheet!$C$16,SavingsSupportTable,3,FALSE)*Worksheet!AQ362*IF(IFERROR(SEARCH(\"Gas\",Worksheet!$G$17),0)>0,VLOOKUP(\"Gas\",HVACg_Lookup,MATCH(Worksheet!$G$16,BuildingSize,0)+1,FALSE),IF(IFERROR(SEARCH(\"Oil\",Worksheet!$G$17),0)>0,VLOOKUP(\"Oil\",HVACg_Lookup,MATCH(Worksheet!$G$16,BuildingSize,0)+1,FALSE),IF(IFERROR(SEARCH(\"Propane\",Worksheet!$G$17),0)>0,VLOOKUP(\"Propane\",HVACg_Lookup,MATCH(Worksheet!$G$16,BuildingSize,0)+1,FALSE),0)))/IF(Worksheet!M362>0,Worksheet!M362,Worksheet!L362),0),\"\")","v":""},"",null,null,null,{"$f":"IF(ISBLANK(Worksheet!M362)=FALSE,Worksheet!M362,\"\")","v":0},{"$f":"IF(Worksheet!A362=\"-\",\"\",IF(Worksheet!A362=\"\",S338,Worksheet!A362))","v":""},{"$f":"IF(S339=\"\",\"\",IF(AND(Worksheet!G362=\"\",Worksheet!H362=\"\")=TRUE,T338,IF(Worksheet!G362=\"\",\"\",Worksheet!G362)))","v":""},{"$f":"IF(S339=\"\",\"\",IF(AND(Worksheet!G362=\"\",Worksheet!H362=\"\")=TRUE,U338,IF(Worksheet!H362=\"\",\"\",Worksheet!H362)))","v":""},{"$f":"IF(Worksheet!N362=\"\",\"\",Worksheet!N362)","v":""},{"$f":"IF(Worksheet!O362=\"\",\"\",Worksheet!O362)","v":""},{"$f":"IF(Worksheet!F362=0,\"\",Worksheet!F362)","v":""},{"$f":"IF(Worksheet!P362=0,\"\",Worksheet!P362)","v":""},{"$f":"IF(Worksheet!$A$11=TRUE,\"Y\",\"N\")","v":"N"},{"$f":"IF(Worksheet!$A$12=TRUE,\"Y\",\"N\")","v":"N"},{"$f":"IF(Worksheet!$B$11=TRUE,\"Y\",\"N\")","v":"N"},{"$f":"IF(Worksheet!$B$12=TRUE,\"Y\",\"N\")","v":"N"},{"$f":"IF(Worksheet!$C$11=TRUE,\"Y\",\"N\")","v":"N"},{"$f":"IF(Worksheet!$C$12=TRUE,\"Y\",\"N\")","v":"N"},""]
[{"$f":"IF(ISERROR(VLOOKUP(Worksheet!N363,MeasureLookup,2,FALSE))=FALSE,VLOOKUP(Worksheet!N363,MeasureLookup,2,FALSE),\"\")","v":""},{"$f":"Worksheet!Q363","v":0},{"$f":"Worksheet!R363","v":0},{"$f":"IF(ISERROR(Worksheet!P363)=FALSE,Worksheet!P363,\"\")","v":0},"Watts",null,null,{"$f":"IF(Worksheet!AP363<>\"\",IF(Worksheet!AP363>0,Worksheet!AP363/IF(Worksheet!M363>0,Worksheet!M363,Worksheet!L363),\"\"),\"\")","v":""},{"$f":"IF(ISBLANK(Worksheet!L363)=FALSE,Worksheet!L363,\"\")","v":0},{"$f":"IF(Worksheet!L363<>0, IFERROR(VLOOKUP(Worksheet!$C$16,SavingsSupportTable,3,FALSE)*Worksheet!AQ363*IFERROR(1+VLOOKUP(Worksheet!$C$16,SavingsSupportTable,MATCH(Worksheet!$G$17,HVACe_Options,0)+4,FALSE),1)/IF(Worksheet!M363>0,Worksheet!M363,Worksheet!L363),\"\"),\"\")","v":""},{"$f":"IF(Worksheet!L363<>0, IFERROR(VLOOKUP(Worksheet!$C$16,SavingsSupportTable,2,FALSE)*Worksheet!AQ363*IF(IFERROR(MATCH(Worksheet!$G$17,HVACe_Options,0),0)>0,1+VLOOKUP(Worksheet!$C$16,SavingsSupportTable,4,FALSE),1)/IF(Worksheet!M363>0,Worksheet!M363,Worksheet!L363),\"\"),\"\")","v":""},"",{"$f":"IF(Worksheet!L363<>0,IFERROR(VLOOKUP(Worksheet!$C$16,SavingsSupportTable,3,FALSE)*Worksheet!AQ363*IF(IFERROR(SEARCH(\"Gas\",Worksheet!$G$17),0)>0,VLOOKUP(\"Gas\",HVACg_Lookup,MATCH(Worksheet!$G$16,BuildingSize,0)+1,FALSE),IF(IFERROR(SEARCH(\"Oil\",Worksheet!$G$17),0)>0,VLOOKUP(\"Oil\",HVACg_Lookup,MATCH(Worksheet!$G$16,BuildingSize,0)+1,FALSE),IF(IFERROR(SEARCH(\"Propane\",Worksheet!$G$17),0)>0,VLOOKUP(\"Propane\",HVACg_Lookup,MATCH(Worksheet!$G$16,BuildingSize,0)+1,FALSE),0)))/IF(Worksheet!M363>0,Worksheet!M363,Worksheet!L363),0),\"\")","v":""},"",null,null,null,{"$f":"IF(ISBLANK(Worksheet!M363)=FALSE,Worksheet!M363,\"\")","v":0},{"$f":"IF(Worksheet!A363=\"-\",\"\",IF(Worksheet!A363=\"\",S339,Worksheet!A363))","v":""},{"$f":"IF(S340=\"\",\"\",IF(AND(Worksheet!G363=\"\",Worksheet!H363=\"\")=TRUE,T339,IF(Worksheet!G363=\"\",\"\",Worksheet!G363)))","v":""},{"$f":"IF(S340=\"\",\"\",IF(AND(Worksheet!G363=\"\",Worksheet!H363=\"\")=TRUE,U339,IF(Worksheet!H363=\"\",\"\",Worksheet!H363)))","v":""},{"$f":"IF(Worksheet!N363=\"\",\"\",Worksheet!N363)","v":""},{"$f":"IF(Worksheet!O363=\"\",\"\",Worksheet!O363)","v":""},{"$f":"IF(Worksheet!F363=0,\"\",Worksheet!F363)","v":""},{"$f":"IF(Worksheet!P363=0,\"\",Worksheet!P363)","v":""},{"$f":"IF(Worksheet!$A$11=TRUE,\"Y\",\"N\")","v":"N"},{"$f":"IF(Worksheet!$A$12=TRUE,\"Y\",\"N\")","v":"N"},{"$f":"IF(Worksheet!$B$11=TRUE,\"Y\",\"N\")","v":"N"},{"$f":"IF(Worksheet!$B$12=TRUE,\"Y\",\"N\")","v":"N"},{"$f":"IF(Worksheet!$C$11=TRUE,\"Y\",\"N\")","v":"N"},{"$f":"IF(Worksheet!$C$12=TRUE,\"Y\",\"N\")","v":"N"},""]
[{"$f":"IF(ISERROR(VLOOKUP(Worksheet!N364,MeasureLookup,2,FALSE))=FALSE,VLOOKUP(Worksheet!N364,MeasureLookup,2,FALSE),\"\")","v":""},{"$f":"Worksheet!Q364","v":0},{"$f":"Worksheet!R364","v":0},{"$f":"IF(ISERROR(Worksheet!P364)=FALSE,Worksheet!P364,\"\")","v":0},"Watts",null,null,{"$f":"IF(Worksheet!AP364<>\"\",IF(Worksheet!AP364>0,Worksheet!AP364/IF(Worksheet!M364>0,Worksheet!M364,Worksheet!L364),\"\"),\"\")","v":""},{"$f":"IF(ISBLANK(Worksheet!L364)=FALSE,Worksheet!L364,\"\")","v":0},{"$f":"IF(Worksheet!L364<>0, IFERROR(VLOOKUP(Worksheet!$C$16,SavingsSupportTable,3,FALSE)*Worksheet!AQ364*IFERROR(1+VLOOKUP(Worksheet!$C$16,SavingsSupportTable,MATCH(Worksheet!$G$17,HVACe_Options,0)+4,FALSE),1)/IF(Worksheet!M364>0,Worksheet!M364,Worksheet!L364),\"\"),\"\")","v":""},{"$f":"IF(Worksheet!L364<>0, IFERROR(VLOOKUP(Worksheet!$C$16,SavingsSupportTable,2,FALSE)*Worksheet!AQ364*IF(IFERROR(MATCH(Worksheet!$G$17,HVACe_Options,0),0)>0,1+VLOOKUP(Worksheet!$C$16,SavingsSupportTable,4,FALSE),1)/IF(Worksheet!M364>0,Worksheet!M364,Worksheet!L364),\"\"),\"\")","v":""},"",{"$f":"IF(Worksheet!L364<>0,IFERROR(VLOOKUP(Worksheet!$C$16,SavingsSupportTable,3,FALSE)*Worksheet!AQ364*IF(IFERROR(SEARCH(\"Gas\",Worksheet!$G$17),0)>0,VLOOKUP(\"Gas\",HVACg_Lookup,MATCH(Worksheet!$G$16,BuildingSize,0)+1,FALSE),IF(IFERROR(SEARCH(\"Oil\",Worksheet!$G$17),0)>0,VLOOKUP(\"Oil\",HVACg_Lookup,MATCH(Worksheet!$G$16,BuildingSize,0)+1,FALSE),IF(IFERROR(SEARCH(\"Propane\",Worksheet!$G$17),0)>0,VLOOKUP(\"Propane\",HVACg_Lookup,MATCH(Worksheet!$G$16,BuildingSize,0)+1,FALSE),0)))/IF(Worksheet!M364>0,Worksheet!M364,Worksheet!L364),0),\"\")","v":""},"",null,null,null,{"$f":"IF(ISBLANK(Worksheet!M364)=FALSE,Worksheet!M364,\"\")","v":0},{"$f":"IF(Worksheet!A364=\"-\",\"\",IF(Worksheet!A364=\"\",S340,Worksheet!A364))","v":""},{"$f":"IF(S341=\"\",\"\",IF(AND(Worksheet!G364=\"\",Worksheet!H364=\"\")=TRUE,T340,IF(Worksheet!G364=\"\",\"\",Worksheet!G364)))","v":""},{"$f":"IF(S341=\"\",\"\",IF(AND(Worksheet!G364=\"\",Worksheet!H364=\"\")=TRUE,U340,IF(Worksheet!H364=\"\",\"\",Worksheet!H364)))","v":""},{"$f":"IF(Worksheet!N364=\"\",\"\",Worksheet!N364)","v":""},{"$f":"IF(Worksheet!O364=\"\",\"\",Worksheet!O364)","v":""},{"$f":"IF(Worksheet!F364=0,\"\",Worksheet!F364)","v":""},{"$f":"IF(Worksheet!P364=0,\"\",Worksheet!P364)","v":""},{"$f":"IF(Worksheet!$A$11=TRUE,\"Y\",\"N\")","v":"N"},{"$f":"IF(Worksheet!$A$12=TRUE,\"Y\",\"N\")","v":"N"},{"$f":"IF(Worksheet!$B$11=TRUE,\"Y\",\"N\")","v":"N"},{"$f":"IF(Worksheet!$B$12=TRUE,\"Y\",\"N\")","v":"N"},{"$f":"IF(Worksheet!$C$11=TRUE,\"Y\",\"N\")","v":"N"},{"$f":"IF(Worksheet!$C$12=TRUE,\"Y\",\"N\")","v":"N"},""]
[{"$f":"IF(ISERROR(VLOOKUP(Worksheet!N365,MeasureLookup,2,FALSE))=FALSE,VLOOKUP(Worksheet!N365,MeasureLookup,2,FALSE),\"\")","v":""},{"$f":"Worksheet!Q365","v":0},{"$f":"Worksheet!R365","v":0},{"$f":"IF(ISERROR(Worksheet!P365)=FALSE,Worksheet!P365,\"\")","v":0},"Watts",null,null,{"$f":"IF(Worksheet!AP365<>\"\",IF(Worksheet!AP365>0,Worksheet!AP365/IF(Worksheet!M365>0,Worksheet!M365,Worksheet!L365),\"\"),\"\")","v":""},{"$f":"IF(ISBLANK(Worksheet!L365)=FALSE,Worksheet!L365,\"\")","v":0},{"$f":"IF(Worksheet!L365<>0, IFERROR(VLOOKUP(Worksheet!$C$16,SavingsSupportTable,3,FALSE)*Worksheet!AQ365*IFERROR(1+VLOOKUP(Worksheet!$C$16,SavingsSupportTable,MATCH(Worksheet!$G$17,HVACe_Options,0)+4,FALSE),1)/IF(Worksheet!M365>0,Worksheet!M365,Worksheet!L365),\"\"),\"\")","v":""},{"$f":"IF(Worksheet!L365<>0, IFERROR(VLOOKUP(Worksheet!$C$16,SavingsSupportTable,2,FALSE)*Worksheet!AQ365*IF(IFERROR(MATCH(Worksheet!$G$17,HVACe_Options,0),0)>0,1+VLOOKUP(Worksheet!$C$16,SavingsSupportTable,4,FALSE),1)/IF(Worksheet!M365>0,Worksheet!M365,Worksheet!L365),\"\"),\"\")","v":""},"",{"$f":"IF(Worksheet!L365<>0,IFERROR(VLOOKUP(Worksheet!$C$16,SavingsSupportTable,3,FALSE)*Worksheet!AQ365*IF(IFERROR(SEARCH(\"Gas\",Worksheet!$G$17),0)>0,VLOOKUP(\"Gas\",HVACg_Lookup,MATCH(Worksheet!$G$16,BuildingSize,0)+1,FALSE),IF(IFERROR(SEARCH(\"Oil\",Worksheet!$G$17),0)>0,VLOOKUP(\"Oil\",HVACg_Lookup,MATCH(Worksheet!$G$16,BuildingSize,0)+1,FALSE),IF(IFERROR(SEARCH(\"Propane\",Worksheet!$G$17),0)>0,VLOOKUP(\"Propane\",HVACg_Lookup,MATCH(Worksheet!$G$16,BuildingSize,0)+1,FALSE),0)))/IF(Worksheet!M365>0,Worksheet!M365,Worksheet!L365),0),\"\")","v":""},"",null,null,null,{"$f":"IF(ISBLANK(Worksheet!M365)=FALSE,Worksheet!M365,\"\")","v":0},{"$f":"IF(Worksheet!A365=\"-\",\"\",IF(Worksheet!A365=\"\",S341,Worksheet!A365))","v":""},{"$f":"IF(S342=\"\",\"\",IF(AND(Worksheet!G365=\"\",Worksheet!H365=\"\")=TRUE,T341,IF(Worksheet!G365=\"\",\"\",Worksheet!G365)))","v":""},{"$f":"IF(S342=\"\",\"\",IF(AND(Worksheet!G365=\"\",Worksheet!H365=\"\")=TRUE,U341,IF(Worksheet!H365=\"\",\"\",Worksheet!H365)))","v":""},{"$f":"IF(Worksheet!N365=\"\",\"\",Worksheet!N365)","v":""},{"$f":"IF(Worksheet!O365=\"\",\"\",Worksheet!O365)","v":""},{"$f":"IF(Worksheet!F365=0,\"\",Worksheet!F365)","v":""},{"$f":"IF(Worksheet!P365=0,\"\",Worksheet!P365)","v":""},{"$f":"IF(Worksheet!$A$11=TRUE,\"Y\",\"N\")","v":"N"},{"$f":"IF(Worksheet!$A$12=TRUE,\"Y\",\"N\")","v":"N"},{"$f":"IF(Worksheet!$B$11=TRUE,\"Y\",\"N\")","v":"N"},{"$f":"IF(Worksheet!$B$12=TRUE,\"Y\",\"N\")","v":"N"},{"$f":"IF(Worksheet!$C$11=TRUE,\"Y\",\"N\")","v":"N"},{"$f":"IF(Worksheet!$C$12=TRUE,\"Y\",\"N\")","v":"N"},""]
[{"$f":"IF(ISERROR(VLOOKUP(Worksheet!N366,MeasureLookup,2,FALSE))=FALSE,VLOOKUP(Worksheet!N366,MeasureLookup,2,FALSE),\"\")","v":""},{"$f":"Worksheet!Q366","v":0},{"$f":"Worksheet!R366","v":0},{"$f":"IF(ISERROR(Worksheet!P366)=FALSE,Worksheet!P366,\"\")","v":0},"Watts",null,null,{"$f":"IF(Worksheet!AP366<>\"\",IF(Worksheet!AP366>0,Worksheet!AP366/IF(Worksheet!M366>0,Worksheet!M366,Worksheet!L366),\"\"),\"\")","v":""},{"$f":"IF(ISBLANK(Worksheet!L366)=FALSE,Worksheet!L366,\"\")","v":0},{"$f":"IF(Worksheet!L366<>0, IFERROR(VLOOKUP(Worksheet!$C$16,SavingsSupportTable,3,FALSE)*Worksheet!AQ366*IFERROR(1+VLOOKUP(Worksheet!$C$16,SavingsSupportTable,MATCH(Worksheet!$G$17,HVACe_Options,0)+4,FALSE),1)/IF(Worksheet!M366>0,Worksheet!M366,Worksheet!L366),\"\"),\"\")","v":""},{"$f":"IF(Worksheet!L366<>0, IFERROR(VLOOKUP(Worksheet!$C$16,SavingsSupportTable,2,FALSE)*Worksheet!AQ366*IF(IFERROR(MATCH(Worksheet!$G$17,HVACe_Options,0),0)>0,1+VLOOKUP(Worksheet!$C$16,SavingsSupportTable,4,FALSE),1)/IF(Worksheet!M366>0,Worksheet!M366,Worksheet!L366),\"\"),\"\")","v":""},"",{"$f":"IF(Worksheet!L366<>0,IFERROR(VLOOKUP(Worksheet!$C$16,SavingsSupportTable,3,FALSE)*Worksheet!AQ366*IF(IFERROR(SEARCH(\"Gas\",Worksheet!$G$17),0)>0,VLOOKUP(\"Gas\",HVACg_Lookup,MATCH(Worksheet!$G$16,BuildingSize,0)+1,FALSE),IF(IFERROR(SEARCH(\"Oil\",Worksheet!$G$17),0)>0,VLOOKUP(\"Oil\",HVACg_Lookup,MATCH(Worksheet!$G$16,BuildingSize,0)+1,FALSE),IF(IFERROR(SEARCH(\"Propane\",Worksheet!$G$17),0)>0,VLOOKUP(\"Propane\",HVACg_Lookup,MATCH(Worksheet!$G$16,BuildingSize,0)+1,FALSE),0)))/IF(Worksheet!M366>0,Worksheet!M366,Worksheet!L366),0),\"\")","v":""},"",null,null,null,{"$f":"IF(ISBLANK(Worksheet!M366)=FALSE,Worksheet!M366,\"\")","v":0},{"$f":"IF(Worksheet!A366=\"-\",\"\",IF(Worksheet!A366=\"\",S342,Worksheet!A366))","v":""},{"$f":"IF(S343=\"\",\"\",IF(AND(Worksheet!G366=\"\",Worksheet!H366=\"\")=TRUE,T342,IF(Worksheet!G366=\"\",\"\",Worksheet!G366)))","v":""},{"$f":"IF(S343=\"\",\"\",IF(AND(Worksheet!G366=\"\",Worksheet!H366=\"\")=TRUE,U342,IF(Worksheet!H366=\"\",\"\",Worksheet!H366)))","v":""},{"$f":"IF(Worksheet!N366=\"\",\"\",Worksheet!N366)","v":""},{"$f":"IF(Worksheet!O366=\"\",\"\",Worksheet!O366)","v":""},{"$f":"IF(Worksheet!F366=0,\"\",Worksheet!F366)","v":""},{"$f":"IF(Worksheet!P366=0,\"\",Worksheet!P366)","v":""},{"$f":"IF(Worksheet!$A$11=TRUE,\"Y\",\"N\")","v":"N"},{"$f":"IF(Worksheet!$A$12=TRUE,\"Y\",\"N\")","v":"N"},{"$f":"IF(Worksheet!$B$11=TRUE,\"Y\",\"N\")","v":"N"},{"$f":"IF(Worksheet!$B$12=TRUE,\"Y\",\"N\")","v":"N"},{"$f":"IF(Worksheet!$C$11=TRUE,\"Y\",\"N\")","v":"N"},{"$f":"IF(Worksheet!$C$12=TRUE,\"Y\",\"N\")","v":"N"},""]
[{"$f":"IF(ISERROR(VLOOKUP(Worksheet!N367,MeasureLookup,2,FALSE))=FALSE,VLOOKUP(Worksheet!N367,MeasureLookup,2,FALSE),\"\")","v":""},{"$f":"Worksheet!Q367","v":0},{"$f":"Worksheet!R367","v":0},{"$f":"IF(ISERROR(Worksheet!P367)=FALSE,Worksheet!P367,\"\")","v":0},"Watts",null,null,{"$f":"IF(Worksheet!AP367<>\"\",IF(Worksheet!AP367>0,Worksheet!AP367/IF(Worksheet!M367>0,Worksheet!M367,Worksheet!L367),\"\"),\"\")","v":""},{"$f":"IF(ISBLANK(Worksheet!L367)=FALSE,Worksheet!L367,\"\")","v":0},{"$f":"IF(Worksheet!L367<>0, IFERROR(VLOOKUP(Worksheet!$C$16,SavingsSupportTable,3,FALSE)*Worksheet!AQ367*IFERROR(1+VLOOKUP(Worksheet!$C$16,SavingsSupportTable,MATCH(Worksheet!$G$17,HVACe_Options,0)+4,FALSE),1)/IF(Worksheet!M367>0,Worksheet!M367,Worksheet!L367),\"\"),\"\")","v":""},{"$f":"IF(Worksheet!L367<>0, IFERROR(VLOOKUP(Worksheet!$C$16,SavingsSupportTable,2,FALSE)*Worksheet!AQ367*IF(IFERROR(MATCH(Worksheet!$G$17,HVACe_Options,0),0)>0,1+VLOOKUP(Worksheet!$C$16,SavingsSupportTable,4,FALSE),1)/IF(Worksheet!M367>0,Worksheet!M367,Worksheet!L367),\"\"),\"\")","v":""},"",{"$f":"IF(Worksheet!L367<>0,IFERROR(VLOOKUP(Worksheet!$C$16,SavingsSupportTable,3,FALSE)*Worksheet!AQ367*IF(IFERROR(SEARCH(\"Gas\",Worksheet!$G$17),0)>0,VLOOKUP(\"Gas\",HVACg_Lookup,MATCH(Worksheet!$G$16,BuildingSize,0)+1,FALSE),IF(IFERROR(SEARCH(\"Oil\",Worksheet!$G$17),0)>0,VLOOKUP(\"Oil\",HVACg_Lookup,MATCH(Worksheet!$G$16,BuildingSize,0)+1,FALSE),IF(IFERROR(SEARCH(\"Propane\",Worksheet!$G$17),0)>0,VLOOKUP(\"Propane\",HVACg_Lookup,MATCH(Worksheet!$G$16,BuildingSize,0)+1,FALSE),0)))/IF(Worksheet!M367>0,Worksheet!M367,Worksheet!L367),0),\"\")","v":""},"",null,null,null,{"$f":"IF(ISBLANK(Worksheet!M367)=FALSE,Worksheet!M367,\"\")","v":0},{"$f":"IF(Worksheet!A367=\"-\",\"\",IF(Worksheet!A367=\"\",S343,Worksheet!A367))","v":""},{"$f":"IF(S344=\"\",\"\",IF(AND(Worksheet!G367=\"\",Worksheet!H367=\"\")=TRUE,T343,IF(Worksheet!G367=\"\",\"\",Worksheet!G367)))","v":""},{"$f":"IF(S344=\"\",\"\",IF(AND(Worksheet!G367=\"\",Worksheet!H367=\"\")=TRUE,U343,IF(Worksheet!H367=\"\",\"\",Worksheet!H367)))","v":""},{"$f":"IF(Worksheet!N367=\"\",\"\",Worksheet!N367)","v":""},{"$f":"IF(Worksheet!O367=\"\",\"\",Worksheet!O367)","v":""},{"$f":"IF(Worksheet!F367=0,\"\",Worksheet!F367)","v":""},{"$f":"IF(Worksheet!P367=0,\"\",Worksheet!P367)","v":""},{"$f":"IF(Worksheet!$A$11=TRUE,\"Y\",\"N\")","v":"N"},{"$f":"IF(Worksheet!$A$12=TRUE,\"Y\",\"N\")","v":"N"},{"$f":"IF(Worksheet!$B$11=TRUE,\"Y\",\"N\")","v":"N"},{"$f":"IF(Worksheet!$B$12=TRUE,\"Y\",\"N\")","v":"N"},{"$f":"IF(Worksheet!$C$11=TRUE,\"Y\",\"N\")","v":"N"},{"$f":"IF(Worksheet!$C$12=TRUE,\"Y\",\"N\")","v":"N"},""]
[{"$f":"IF(ISERROR(VLOOKUP(Worksheet!N368,MeasureLookup,2,FALSE))=FALSE,VLOOKUP(Worksheet!N368,MeasureLookup,2,FALSE),\"\")","v":""},{"$f":"Worksheet!Q368","v":0},{"$f":"Worksheet!R368","v":0},{"$f":"IF(ISERROR(Worksheet!P368)=FALSE,Worksheet!P368,\"\")","v":0},"Watts",null,null,{"$f":"IF(Worksheet!AP368<>\"\",IF(Worksheet!AP368>0,Worksheet!AP368/IF(Worksheet!M368>0,Worksheet!M368,Worksheet!L368),\"\"),\"\")","v":""},{"$f":"IF(ISBLANK(Worksheet!L368)=FALSE,Worksheet!L368,\"\")","v":0},{"$f":"IF(Worksheet!L368<>0, IFERROR(VLOOKUP(Worksheet!$C$16,SavingsSupportTable,3,FALSE)*Worksheet!AQ368*IFERROR(1+VLOOKUP(Worksheet!$C$16,SavingsSupportTable,MATCH(Worksheet!$G$17,HVACe_Options,0)+4,FALSE),1)/IF(Worksheet!M368>0,Worksheet!M368,Worksheet!L368),\"\"),\"\")","v":""},{"$f":"IF(Worksheet!L368<>0, IFERROR(VLOOKUP(Worksheet!$C$16,SavingsSupportTable,2,FALSE)*Worksheet!AQ368*IF(IFERROR(MATCH(Worksheet!$G$17,HVACe_Options,0),0)>0,1+VLOOKUP(Worksheet!$C$16,SavingsSupportTable,4,FALSE),1)/IF(Worksheet!M368>0,Worksheet!M368,Worksheet!L368),\"\"),\"\")","v":""},"",{"$f":"IF(Worksheet!L368<>0,IFERROR(VLOOKUP(Worksheet!$C$16,SavingsSupportTable,3,FALSE)*Worksheet!AQ368*IF(IFERROR(SEARCH(\"Gas\",Worksheet!$G$17),0)>0,VLOOKUP(\"Gas\",HVACg_Lookup,MATCH(Worksheet!$G$16,BuildingSize,0)+1,FALSE),IF(IFERROR(SEARCH(\"Oil\",Worksheet!$G$17),0)>0,VLOOKUP(\"Oil\",HVACg_Lookup,MATCH(Worksheet!$G$16,BuildingSize,0)+1,FALSE),IF(IFERROR(SEARCH(\"Propane\",Worksheet!$G$17),0)>0,VLOOKUP(\"Propane\",HVACg_Lookup,MATCH(Worksheet!$G$16,BuildingSize,0)+1,FALSE),0)))/IF(Worksheet!M368>0,Worksheet!M368,Worksheet!L368),0),\"\")","v":""},"",null,null,null,{"$f":"IF(ISBLANK(Worksheet!M368)=FALSE,Worksheet!M368,\"\")","v":0},{"$f":"IF(Worksheet!A368=\"-\",\"\",IF(Worksheet!A368=\"\",S344,Worksheet!A368))","v":""},{"$f":"IF(S345=\"\",\"\",IF(AND(Worksheet!G368=\"\",Worksheet!H368=\"\")=TRUE,T344,IF(Worksheet!G368=\"\",\"\",Worksheet!G368)))","v":""},{"$f":"IF(S345=\"\",\"\",IF(AND(Worksheet!G368=\"\",Worksheet!H368=\"\")=TRUE,U344,IF(Worksheet!H368=\"\",\"\",Worksheet!H368)))","v":""},{"$f":"IF(Worksheet!N368=\"\",\"\",Worksheet!N368)","v":""},{"$f":"IF(Worksheet!O368=\"\",\"\",Worksheet!O368)","v":""},{"$f":"IF(Worksheet!F368=0,\"\",Worksheet!F368)","v":""},{"$f":"IF(Worksheet!P368=0,\"\",Worksheet!P368)","v":""},{"$f":"IF(Worksheet!$A$11=TRUE,\"Y\",\"N\")","v":"N"},{"$f":"IF(Worksheet!$A$12=TRUE,\"Y\",\"N\")","v":"N"},{"$f":"IF(Worksheet!$B$11=TRUE,\"Y\",\"N\")","v":"N"},{"$f":"IF(Worksheet!$B$12=TRUE,\"Y\",\"N\")","v":"N"},{"$f":"IF(Worksheet!$C$11=TRUE,\"Y\",\"N\")","v":"N"},{"$f":"IF(Worksheet!$C$12=TRUE,\"Y\",\"N\")","v":"N"},""]
[{"$f":"IF(ISERROR(VLOOKUP(Worksheet!N369,MeasureLookup,2,FALSE))=FALSE,VLOOKUP(Worksheet!N369,MeasureLookup,2,FALSE),\"\")","v":""},{"$f":"Worksheet!Q369","v":0},{"$f":"Worksheet!R369","v":0},{"$f":"IF(ISERROR(Worksheet!P369)=FALSE,Worksheet!P369,\"\")","v":0},"Watts",null,null,{"$f":"IF(Worksheet!AP369<>\"\",IF(Worksheet!AP369>0,Worksheet!AP369/IF(Worksheet!M369>0,Worksheet!M369,Worksheet!L369),\"\"),\"\")","v":""},{"$f":"IF(ISBLANK(Worksheet!L369)=FALSE,Worksheet!L369,\"\")","v":0},{"$f":"IF(Worksheet!L369<>0, IFERROR(VLOOKUP(Worksheet!$C$16,SavingsSupportTable,3,FALSE)*Worksheet!AQ369*IFERROR(1+VLOOKUP(Worksheet!$C$16,SavingsSupportTable,MATCH(Worksheet!$G$17,HVACe_Options,0)+4,FALSE),1)/IF(Worksheet!M369>0,Worksheet!M369,Worksheet!L369),\"\"),\"\")","v":""},{"$f":"IF(Worksheet!L369<>0, IFERROR(VLOOKUP(Worksheet!$C$16,SavingsSupportTable,2,FALSE)*Worksheet!AQ369*IF(IFERROR(MATCH(Worksheet!$G$17,HVACe_Options,0),0)>0,1+VLOOKUP(Worksheet!$C$16,SavingsSupportTable,4,FALSE),1)/IF(Worksheet!M369>0,Worksheet!M369,Worksheet!L369),\"\"),\"\")","v":""},"",{"$f":"IF(Worksheet!L369<>0,IFERROR(VLOOKUP(Worksheet!$C$16,SavingsSupportTable,3,FALSE)*Worksheet!AQ369*IF(IFERROR(SEARCH(\"Gas\",Worksheet!$G$17),0)>0,VLOOKUP(\"Gas\",HVACg_Lookup,MATCH(Worksheet!$G$16,BuildingSize,0)+1,FALSE),IF(IFERROR(SEARCH(\"Oil\",Worksheet!$G$17),0)>0,VLOOKUP(\"Oil\",HVACg_Lookup,MATCH(Worksheet!$G$16,BuildingSize,0)+1,FALSE),IF(IFERROR(SEARCH(\"Propane\",Worksheet!$G$17),0)>0,VLOOKUP(\"Propane\",HVACg_Lookup,MATCH(Worksheet!$G$16,BuildingSize,0)+1,FALSE),0)))/IF(Worksheet!M369>0,Worksheet!M369,Worksheet!L369),0),\"\")","v":""},"",null,null,null,{"$f":"IF(ISBLANK(Worksheet!M369)=FALSE,Worksheet!M369,\"\")","v":0},{"$f":"IF(Worksheet!A369=\"-\",\"\",IF(Worksheet!A369=\"\",S345,Worksheet!A369))","v":""},{"$f":"IF(S346=\"\",\"\",IF(AND(Worksheet!G369=\"\",Worksheet!H369=\"\")=TRUE,T345,IF(Worksheet!G369=\"\",\"\",Worksheet!G369)))","v":""},{"$f":"IF(S346=\"\",\"\",IF(AND(Worksheet!G369=\"\",Worksheet!H369=\"\")=TRUE,U345,IF(Worksheet!H369=\"\",\"\",Worksheet!H369)))","v":""},{"$f":"IF(Worksheet!N369=\"\",\"\",Worksheet!N369)","v":""},{"$f":"IF(Worksheet!O369=\"\",\"\",Worksheet!O369)","v":""},{"$f":"IF(Worksheet!F369=0,\"\",Worksheet!F369)","v":""},{"$f":"IF(Worksheet!P369=0,\"\",Worksheet!P369)","v":""},{"$f":"IF(Worksheet!$A$11=TRUE,\"Y\",\"N\")","v":"N"},{"$f":"IF(Worksheet!$A$12=TRUE,\"Y\",\"N\")","v":"N"},{"$f":"IF(Worksheet!$B$11=TRUE,\"Y\",\"N\")","v":"N"},{"$f":"IF(Worksheet!$B$12=TRUE,\"Y\",\"N\")","v":"N"},{"$f":"IF(Worksheet!$C$11=TRUE,\"Y\",\"N\")","v":"N"},{"$f":"IF(Worksheet!$C$12=TRUE,\"Y\",\"N\")","v":"N"},""]
[{"$f":"IF(ISERROR(VLOOKUP(Worksheet!N370,MeasureLookup,2,FALSE))=FALSE,VLOOKUP(Worksheet!N370,MeasureLookup,2,FALSE),\"\")","v":""},{"$f":"Worksheet!Q370","v":0},{"$f":"Worksheet!R370","v":0},{"$f":"IF(ISERROR(Worksheet!P370)=FALSE,Worksheet!P370,\"\")","v":0},"Watts",null,null,{"$f":"IF(Worksheet!AP370<>\"\",IF(Worksheet!AP370>0,Worksheet!AP370/IF(Worksheet!M370>0,Worksheet!M370,Worksheet!L370),\"\"),\"\")","v":""},{"$f":"IF(ISBLANK(Worksheet!L370)=FALSE,Worksheet!L370,\"\")","v":0},{"$f":"IF(Worksheet!L370<>0, IFERROR(VLOOKUP(Worksheet!$C$16,SavingsSupportTable,3,FALSE)*Worksheet!AQ370*IFERROR(1+VLOOKUP(Worksheet!$C$16,SavingsSupportTable,MATCH(Worksheet!$G$17,HVACe_Options,0)+4,FALSE),1)/IF(Worksheet!M370>0,Worksheet!M370,Worksheet!L370),\"\"),\"\")","v":""},{"$f":"IF(Worksheet!L370<>0, IFERROR(VLOOKUP(Worksheet!$C$16,SavingsSupportTable,2,FALSE)*Worksheet!AQ370*IF(IFERROR(MATCH(Worksheet!$G$17,HVACe_Options,0),0)>0,1+VLOOKUP(Worksheet!$C$16,SavingsSupportTable,4,FALSE),1)/IF(Worksheet!M370>0,Worksheet!M370,Worksheet!L370),\"\"),\"\")","v":""},"",{"$f":"IF(Worksheet!L370<>0,IFERROR(VLOOKUP(Worksheet!$C$16,SavingsSupportTable,3,FALSE)*Worksheet!AQ370*IF(IFERROR(SEARCH(\"Gas\",Worksheet!$G$17),0)>0,VLOOKUP(\"Gas\",HVACg_Lookup,MATCH(Worksheet!$G$16,BuildingSize,0)+1,FALSE),IF(IFERROR(SEARCH(\"Oil\",Worksheet!$G$17),0)>0,VLOOKUP(\"Oil\",HVACg_Lookup,MATCH(Worksheet!$G$16,BuildingSize,0)+1,FALSE),IF(IFERROR(SEARCH(\"Propane\",Worksheet!$G$17),0)>0,VLOOKUP(\"Propane\",HVACg_Lookup,MATCH(Worksheet!$G$16,BuildingSize,0)+1,FALSE),0)))/IF(Worksheet!M370>0,Worksheet!M370,Worksheet!L370),0),\"\")","v":""},"",null,null,null,{"$f":"IF(ISBLANK(Worksheet!M370)=FALSE,Worksheet!M370,\"\")","v":0},{"$f":"IF(Worksheet!A370=\"-\",\"\",IF(Worksheet!A370=\"\",S346,Worksheet!A370))","v":""},{"$f":"IF(S347=\"\",\"\",IF(AND(Worksheet!G370=\"\",Worksheet!H370=\"\")=TRUE,T346,IF(Worksheet!G370=\"\",\"\",Worksheet!G370)))","v":""},{"$f":"IF(S347=\"\",\"\",IF(AND(Worksheet!G370=\"\",Worksheet!H370=\"\")=TRUE,U346,IF(Worksheet!H370=\"\",\"\",Worksheet!H370)))","v":""},{"$f":"IF(Worksheet!N370=\"\",\"\",Worksheet!N370)","v":""},{"$f":"IF(Worksheet!O370=\"\",\"\",Worksheet!O370)","v":""},{"$f":"IF(Worksheet!F370=0,\"\",Worksheet!F370)","v":""},{"$f":"IF(Worksheet!P370=0,\"\",Worksheet!P370)","v":""},{"$f":"IF(Worksheet!$A$11=TRUE,\"Y\",\"N\")","v":"N"},{"$f":"IF(Worksheet!$A$12=TRUE,\"Y\",\"N\")","v":"N"},{"$f":"IF(Worksheet!$B$11=TRUE,\"Y\",\"N\")","v":"N"},{"$f":"IF(Worksheet!$B$12=TRUE,\"Y\",\"N\")","v":"N"},{"$f":"IF(Worksheet!$C$11=TRUE,\"Y\",\"N\")","v":"N"},{"$f":"IF(Worksheet!$C$12=TRUE,\"Y\",\"N\")","v":"N"},""]
[{"$f":"IF(ISERROR(VLOOKUP(Worksheet!N371,MeasureLookup,2,FALSE))=FALSE,VLOOKUP(Worksheet!N371,MeasureLookup,2,FALSE),\"\")","v":""},{"$f":"Worksheet!Q371","v":0},{"$f":"Worksheet!R371","v":0},{"$f":"IF(ISERROR(Worksheet!P371)=FALSE,Worksheet!P371,\"\")","v":0},"Watts",null,null,{"$f":"IF(Worksheet!AP371<>\"\",IF(Worksheet!AP371>0,Worksheet!AP371/IF(Worksheet!M371>0,Worksheet!M371,Worksheet!L371),\"\"),\"\")","v":""},{"$f":"IF(ISBLANK(Worksheet!L371)=FALSE,Worksheet!L371,\"\")","v":0},{"$f":"IF(Worksheet!L371<>0, IFERROR(VLOOKUP(Worksheet!$C$16,SavingsSupportTable,3,FALSE)*Worksheet!AQ371*IFERROR(1+VLOOKUP(Worksheet!$C$16,SavingsSupportTable,MATCH(Worksheet!$G$17,HVACe_Options,0)+4,FALSE),1)/IF(Worksheet!M371>0,Worksheet!M371,Worksheet!L371),\"\"),\"\")","v":""},{"$f":"IF(Worksheet!L371<>0, IFERROR(VLOOKUP(Worksheet!$C$16,SavingsSupportTable,2,FALSE)*Worksheet!AQ371*IF(IFERROR(MATCH(Worksheet!$G$17,HVACe_Options,0),0)>0,1+VLOOKUP(Worksheet!$C$16,SavingsSupportTable,4,FALSE),1)/IF(Worksheet!M371>0,Worksheet!M371,Worksheet!L371),\"\"),\"\")","v":""},"",{"$f":"IF(Worksheet!L371<>0,IFERROR(VLOOKUP(Worksheet!$C$16,SavingsSupportTable,3,FALSE)*Worksheet!AQ371*IF(IFERROR(SEARCH(\"Gas\",Worksheet!$G$17),0)>0,VLOOKUP(\"Gas\",HVACg_Lookup,MATCH(Worksheet!$G$16,BuildingSize,0)+1,FALSE),IF(IFERROR(SEARCH(\"Oil\",Worksheet!$G$17),0)>0,VLOOKUP(\"Oil\",HVACg_Lookup,MATCH(Worksheet!$G$16,BuildingSize,0)+1,FALSE),IF(IFERROR(SEARCH(\"Propane\",Worksheet!$G$17),0)>0,VLOOKUP(\"Propane\",HVACg_Lookup,MATCH(Worksheet!$G$16,BuildingSize,0)+1,FALSE),0)))/IF(Worksheet!M371>0,Worksheet!M371,Worksheet!L371),0),\"\")","v":""},"",null,null,null,{"$f":"IF(ISBLANK(Worksheet!M371)=FALSE,Worksheet!M371,\"\")","v":0},{"$f":"IF(Worksheet!A371=\"-\",\"\",IF(Worksheet!A371=\"\",S347,Worksheet!A371))","v":""},{"$f":"IF(S348=\"\",\"\",IF(AND(Worksheet!G371=\"\",Worksheet!H371=\"\")=TRUE,T347,IF(Worksheet!G371=\"\",\"\",Worksheet!G371)))","v":""},{"$f":"IF(S348=\"\",\"\",IF(AND(Worksheet!G371=\"\",Worksheet!H371=\"\")=TRUE,U347,IF(Worksheet!H371=\"\",\"\",Worksheet!H371)))","v":""},{"$f":"IF(Worksheet!N371=\"\",\"\",Worksheet!N371)","v":""},{"$f":"IF(Worksheet!O371=\"\",\"\",Worksheet!O371)","v":""},{"$f":"IF(Worksheet!F371=0,\"\",Worksheet!F371)","v":""},{"$f":"IF(Worksheet!P371=0,\"\",Worksheet!P371)","v":""},{"$f":"IF(Worksheet!$A$11=TRUE,\"Y\",\"N\")","v":"N"},{"$f":"IF(Worksheet!$A$12=TRUE,\"Y\",\"N\")","v":"N"},{"$f":"IF(Worksheet!$B$11=TRUE,\"Y\",\"N\")","v":"N"},{"$f":"IF(Worksheet!$B$12=TRUE,\"Y\",\"N\")","v":"N"},{"$f":"IF(Worksheet!$C$11=TRUE,\"Y\",\"N\")","v":"N"},{"$f":"IF(Worksheet!$C$12=TRUE,\"Y\",\"N\")","v":"N"},""]
[{"$f":"IF(ISERROR(VLOOKUP(Worksheet!N372,MeasureLookup,2,FALSE))=FALSE,VLOOKUP(Worksheet!N372,MeasureLookup,2,FALSE),\"\")","v":""},{"$f":"Worksheet!Q372","v":0},{"$f":"Worksheet!R372","v":0},{"$f":"IF(ISERROR(Worksheet!P372)=FALSE,Worksheet!P372,\"\")","v":0},"Watts",null,null,{"$f":"IF(Worksheet!AP372<>\"\",IF(Worksheet!AP372>0,Worksheet!AP372/IF(Worksheet!M372>0,Worksheet!M372,Worksheet!L372),\"\"),\"\")","v":""},{"$f":"IF(ISBLANK(Worksheet!L372)=FALSE,Worksheet!L372,\"\")","v":0},{"$f":"IF(Worksheet!L372<>0, IFERROR(VLOOKUP(Worksheet!$C$16,SavingsSupportTable,3,FALSE)*Worksheet!AQ372*IFERROR(1+VLOOKUP(Worksheet!$C$16,SavingsSupportTable,MATCH(Worksheet!$G$17,HVACe_Options,0)+4,FALSE),1)/IF(Worksheet!M372>0,Worksheet!M372,Worksheet!L372),\"\"),\"\")","v":""},{"$f":"IF(Worksheet!L372<>0, IFERROR(VLOOKUP(Worksheet!$C$16,SavingsSupportTable,2,FALSE)*Worksheet!AQ372*IF(IFERROR(MATCH(Worksheet!$G$17,HVACe_Options,0),0)>0,1+VLOOKUP(Worksheet!$C$16,SavingsSupportTable,4,FALSE),1)/IF(Worksheet!M372>0,Worksheet!M372,Worksheet!L372),\"\"),\"\")","v":""},"",{"$f":"IF(Worksheet!L372<>0,IFERROR(VLOOKUP(Worksheet!$C$16,SavingsSupportTable,3,FALSE)*Worksheet!AQ372*IF(IFERROR(SEARCH(\"Gas\",Worksheet!$G$17),0)>0,VLOOKUP(\"Gas\",HVACg_Lookup,MATCH(Worksheet!$G$16,BuildingSize,0)+1,FALSE),IF(IFERROR(SEARCH(\"Oil\",Worksheet!$G$17),0)>0,VLOOKUP(\"Oil\",HVACg_Lookup,MATCH(Worksheet!$G$16,BuildingSize,0)+1,FALSE),IF(IFERROR(SEARCH(\"Propane\",Worksheet!$G$17),0)>0,VLOOKUP(\"Propane\",HVACg_Lookup,MATCH(Worksheet!$G$16,BuildingSize,0)+1,FALSE),0)))/IF(Worksheet!M372>0,Worksheet!M372,Worksheet!L372),0),\"\")","v":""},"",null,null,null,{"$f":"IF(ISBLANK(Worksheet!M372)=FALSE,Worksheet!M372,\"\")","v":0},{"$f":"IF(Worksheet!A372=\"-\",\"\",IF(Worksheet!A372=\"\",S348,Worksheet!A372))","v":""},{"$f":"IF(S349=\"\",\"\",IF(AND(Worksheet!G372=\"\",Worksheet!H372=\"\")=TRUE,T348,IF(Worksheet!G372=\"\",\"\",Worksheet!G372)))","v":""},{"$f":"IF(S349=\"\",\"\",IF(AND(Worksheet!G372=\"\",Worksheet!H372=\"\")=TRUE,U348,IF(Worksheet!H372=\"\",\"\",Worksheet!H372)))","v":""},{"$f":"IF(Worksheet!N372=\"\",\"\",Worksheet!N372)","v":""},{"$f":"IF(Worksheet!O372=\"\",\"\",Worksheet!O372)","v":""},{"$f":"IF(Worksheet!F372=0,\"\",Worksheet!F372)","v":""},{"$f":"IF(Worksheet!P372=0,\"\",Worksheet!P372)","v":""},{"$f":"IF(Worksheet!$A$11=TRUE,\"Y\",\"N\")","v":"N"},{"$f":"IF(Worksheet!$A$12=TRUE,\"Y\",\"N\")","v":"N"},{"$f":"IF(Worksheet!$B$11=TRUE,\"Y\",\"N\")","v":"N"},{"$f":"IF(Worksheet!$B$12=TRUE,\"Y\",\"N\")","v":"N"},{"$f":"IF(Worksheet!$C$11=TRUE,\"Y\",\"N\")","v":"N"},{"$f":"IF(Worksheet!$C$12=TRUE,\"Y\",\"N\")","v":"N"},""]
[{"$f":"IF(ISERROR(VLOOKUP(Worksheet!N373,MeasureLookup,2,FALSE))=FALSE,VLOOKUP(Worksheet!N373,MeasureLookup,2,FALSE),\"\")","v":""},{"$f":"Worksheet!Q373","v":0},{"$f":"Worksheet!R373","v":0},{"$f":"IF(ISERROR(Worksheet!P373)=FALSE,Worksheet!P373,\"\")","v":0},"Watts",null,null,{"$f":"IF(Worksheet!AP373<>\"\",IF(Worksheet!AP373>0,Worksheet!AP373/IF(Worksheet!M373>0,Worksheet!M373,Worksheet!L373),\"\"),\"\")","v":""},{"$f":"IF(ISBLANK(Worksheet!L373)=FALSE,Worksheet!L373,\"\")","v":0},{"$f":"IF(Worksheet!L373<>0, IFERROR(VLOOKUP(Worksheet!$C$16,SavingsSupportTable,3,FALSE)*Worksheet!AQ373*IFERROR(1+VLOOKUP(Worksheet!$C$16,SavingsSupportTable,MATCH(Worksheet!$G$17,HVACe_Options,0)+4,FALSE),1)/IF(Worksheet!M373>0,Worksheet!M373,Worksheet!L373),\"\"),\"\")","v":""},{"$f":"IF(Worksheet!L373<>0, IFERROR(VLOOKUP(Worksheet!$C$16,SavingsSupportTable,2,FALSE)*Worksheet!AQ373*IF(IFERROR(MATCH(Worksheet!$G$17,HVACe_Options,0),0)>0,1+VLOOKUP(Worksheet!$C$16,SavingsSupportTable,4,FALSE),1)/IF(Worksheet!M373>0,Worksheet!M373,Worksheet!L373),\"\"),\"\")","v":""},"",{"$f":"IF(Worksheet!L373<>0,IFERROR(VLOOKUP(Worksheet!$C$16,SavingsSupportTable,3,FALSE)*Worksheet!AQ373*IF(IFERROR(SEARCH(\"Gas\",Worksheet!$G$17),0)>0,VLOOKUP(\"Gas\",HVACg_Lookup,MATCH(Worksheet!$G$16,BuildingSize,0)+1,FALSE),IF(IFERROR(SEARCH(\"Oil\",Worksheet!$G$17),0)>0,VLOOKUP(\"Oil\",HVACg_Lookup,MATCH(Worksheet!$G$16,BuildingSize,0)+1,FALSE),IF(IFERROR(SEARCH(\"Propane\",Worksheet!$G$17),0)>0,VLOOKUP(\"Propane\",HVACg_Lookup,MATCH(Worksheet!$G$16,BuildingSize,0)+1,FALSE),0)))/IF(Worksheet!M373>0,Worksheet!M373,Worksheet!L373),0),\"\")","v":""},"",null,null,null,{"$f":"IF(ISBLANK(Worksheet!M373)=FALSE,Worksheet!M373,\"\")","v":0},{"$f":"IF(Worksheet!A373=\"-\",\"\",IF(Worksheet!A373=\"\",S349,Worksheet!A373))","v":""},{"$f":"IF(S350=\"\",\"\",IF(AND(Worksheet!G373=\"\",Worksheet!H373=\"\")=TRUE,T349,IF(Worksheet!G373=\"\",\"\",Worksheet!G373)))","v":""},{"$f":"IF(S350=\"\",\"\",IF(AND(Worksheet!G373=\"\",Worksheet!H373=\"\")=TRUE,U349,IF(Worksheet!H373=\"\",\"\",Worksheet!H373)))","v":""},{"$f":"IF(Worksheet!N373=\"\",\"\",Worksheet!N373)","v":""},{"$f":"IF(Worksheet!O373=\"\",\"\",Worksheet!O373)","v":""},{"$f":"IF(Worksheet!F373=0,\"\",Worksheet!F373)","v":""},{"$f":"IF(Worksheet!P373=0,\"\",Worksheet!P373)","v":""},{"$f":"IF(Worksheet!$A$11=TRUE,\"Y\",\"N\")","v":"N"},{"$f":"IF(Worksheet!$A$12=TRUE,\"Y\",\"N\")","v":"N"},{"$f":"IF(Worksheet!$B$11=TRUE,\"Y\",\"N\")","v":"N"},{"$f":"IF(Worksheet!$B$12=TRUE,\"Y\",\"N\")","v":"N"},{"$f":"IF(Worksheet!$C$11=TRUE,\"Y\",\"N\")","v":"N"},{"$f":"IF(Worksheet!$C$12=TRUE,\"Y\",\"N\")","v":"N"},""]
[{"$f":"IF(ISERROR(VLOOKUP(Worksheet!N374,MeasureLookup,2,FALSE))=FALSE,VLOOKUP(Worksheet!N374,MeasureLookup,2,FALSE),\"\")","v":""},{"$f":"Worksheet!Q374","v":0},{"$f":"Worksheet!R374","v":0},{"$f":"IF(ISERROR(Worksheet!P374)=FALSE,Worksheet!P374,\"\")","v":0},"Watts",null,null,{"$f":"IF(Worksheet!AP374<>\"\",IF(Worksheet!AP374>0,Worksheet!AP374/IF(Worksheet!M374>0,Worksheet!M374,Worksheet!L374),\"\"),\"\")","v":""},{"$f":"IF(ISBLANK(Worksheet!L374)=FALSE,Worksheet!L374,\"\")","v":0},{"$f":"IF(Worksheet!L374<>0, IFERROR(VLOOKUP(Worksheet!$C$16,SavingsSupportTable,3,FALSE)*Worksheet!AQ374*IFERROR(1+VLOOKUP(Worksheet!$C$16,SavingsSupportTable,MATCH(Worksheet!$G$17,HVACe_Options,0)+4,FALSE),1)/IF(Worksheet!M374>0,Worksheet!M374,Worksheet!L374),\"\"),\"\")","v":""},{"$f":"IF(Worksheet!L374<>0, IFERROR(VLOOKUP(Worksheet!$C$16,SavingsSupportTable,2,FALSE)*Worksheet!AQ374*IF(IFERROR(MATCH(Worksheet!$G$17,HVACe_Options,0),0)>0,1+VLOOKUP(Worksheet!$C$16,SavingsSupportTable,4,FALSE),1)/IF(Worksheet!M374>0,Worksheet!M374,Worksheet!L374),\"\"),\"\")","v":""},"",{"$f":"IF(Worksheet!L374<>0,IFERROR(VLOOKUP(Worksheet!$C$16,SavingsSupportTable,3,FALSE)*Worksheet!AQ374*IF(IFERROR(SEARCH(\"Gas\",Worksheet!$G$17),0)>0,VLOOKUP(\"Gas\",HVACg_Lookup,MATCH(Worksheet!$G$16,BuildingSize,0)+1,FALSE),IF(IFERROR(SEARCH(\"Oil\",Worksheet!$G$17),0)>0,VLOOKUP(\"Oil\",HVACg_Lookup,MATCH(Worksheet!$G$16,BuildingSize,0)+1,FALSE),IF(IFERROR(SEARCH(\"Propane\",Worksheet!$G$17),0)>0,VLOOKUP(\"Propane\",HVACg_Lookup,MATCH(Worksheet!$G$16,BuildingSize,0)+1,FALSE),0)))/IF(Worksheet!M374>0,Worksheet!M374,Worksheet!L374),0),\"\")","v":""},"",null,null,null,{"$f":"IF(ISBLANK(Worksheet!M374)=FALSE,Worksheet!M374,\"\")","v":0},{"$f":"IF(Worksheet!A374=\"-\",\"\",IF(Worksheet!A374=\"\",S350,Worksheet!A374))","v":""},{"$f":"IF(S351=\"\",\"\",IF(AND(Worksheet!G374=\"\",Worksheet!H374=\"\")=TRUE,T350,IF(Worksheet!G374=\"\",\"\",Worksheet!G374)))","v":""},{"$f":"IF(S351=\"\",\"\",IF(AND(Worksheet!G374=\"\",Worksheet!H374=\"\")=TRUE,U350,IF(Worksheet!H374=\"\",\"\",Worksheet!H374)))","v":""},{"$f":"IF(Worksheet!N374=\"\",\"\",Worksheet!N374)","v":""},{"$f":"IF(Worksheet!O374=\"\",\"\",Worksheet!O374)","v":""},{"$f":"IF(Worksheet!F374=0,\"\",Worksheet!F374)","v":""},{"$f":"IF(Worksheet!P374=0,\"\",Worksheet!P374)","v":""},{"$f":"IF(Worksheet!$A$11=TRUE,\"Y\",\"N\")","v":"N"},{"$f":"IF(Worksheet!$A$12=TRUE,\"Y\",\"N\")","v":"N"},{"$f":"IF(Worksheet!$B$11=TRUE,\"Y\",\"N\")","v":"N"},{"$f":"IF(Worksheet!$B$12=TRUE,\"Y\",\"N\")","v":"N"},{"$f":"IF(Worksheet!$C$11=TRUE,\"Y\",\"N\")","v":"N"},{"$f":"IF(Worksheet!$C$12=TRUE,\"Y\",\"N\")","v":"N"},""]
[{"$f":"IF(ISERROR(VLOOKUP(Worksheet!N375,MeasureLookup,2,FALSE))=FALSE,VLOOKUP(Worksheet!N375,MeasureLookup,2,FALSE),\"\")","v":""},{"$f":"Worksheet!Q375","v":0},{"$f":"Worksheet!R375","v":0},{"$f":"IF(ISERROR(Worksheet!P375)=FALSE,Worksheet!P375,\"\")","v":0},"Watts",null,null,{"$f":"IF(Worksheet!AP375<>\"\",IF(Worksheet!AP375>0,Worksheet!AP375/IF(Worksheet!M375>0,Worksheet!M375,Worksheet!L375),\"\"),\"\")","v":""},{"$f":"IF(ISBLANK(Worksheet!L375)=FALSE,Worksheet!L375,\"\")","v":0},{"$f":"IF(Worksheet!L375<>0, IFERROR(VLOOKUP(Worksheet!$C$16,SavingsSupportTable,3,FALSE)*Worksheet!AQ375*IFERROR(1+VLOOKUP(Worksheet!$C$16,SavingsSupportTable,MATCH(Worksheet!$G$17,HVACe_Options,0)+4,FALSE),1)/IF(Worksheet!M375>0,Worksheet!M375,Worksheet!L375),\"\"),\"\")","v":""},{"$f":"IF(Worksheet!L375<>0, IFERROR(VLOOKUP(Worksheet!$C$16,SavingsSupportTable,2,FALSE)*Worksheet!AQ375*IF(IFERROR(MATCH(Worksheet!$G$17,HVACe_Options,0),0)>0,1+VLOOKUP(Worksheet!$C$16,SavingsSupportTable,4,FALSE),1)/IF(Worksheet!M375>0,Worksheet!M375,Worksheet!L375),\"\"),\"\")","v":""},"",{"$f":"IF(Worksheet!L375<>0,IFERROR(VLOOKUP(Worksheet!$C$16,SavingsSupportTable,3,FALSE)*Worksheet!AQ375*IF(IFERROR(SEARCH(\"Gas\",Worksheet!$G$17),0)>0,VLOOKUP(\"Gas\",HVACg_Lookup,MATCH(Worksheet!$G$16,BuildingSize,0)+1,FALSE),IF(IFERROR(SEARCH(\"Oil\",Worksheet!$G$17),0)>0,VLOOKUP(\"Oil\",HVACg_Lookup,MATCH(Worksheet!$G$16,BuildingSize,0)+1,FALSE),IF(IFERROR(SEARCH(\"Propane\",Worksheet!$G$17),0)>0,VLOOKUP(\"Propane\",HVACg_Lookup,MATCH(Worksheet!$G$16,BuildingSize,0)+1,FALSE),0)))/IF(Worksheet!M375>0,Worksheet!M375,Worksheet!L375),0),\"\")","v":""},"",null,null,null,{"$f":"IF(ISBLANK(Worksheet!M375)=FALSE,Worksheet!M375,\"\")","v":0},{"$f":"IF(Worksheet!A375=\"-\",\"\",IF(Worksheet!A375=\"\",S351,Worksheet!A375))","v":""},{"$f":"IF(S352=\"\",\"\",IF(AND(Worksheet!G375=\"\",Worksheet!H375=\"\")=TRUE,T351,IF(Worksheet!G375=\"\",\"\",Worksheet!G375)))","v":""},{"$f":"IF(S352=\"\",\"\",IF(AND(Worksheet!G375=\"\",Worksheet!H375=\"\")=TRUE,U351,IF(Worksheet!H375=\"\",\"\",Worksheet!H375)))","v":""},{"$f":"IF(Worksheet!N375=\"\",\"\",Worksheet!N375)","v":""},{"$f":"IF(Worksheet!O375=\"\",\"\",Worksheet!O375)","v":""},{"$f":"IF(Worksheet!F375=0,\"\",Worksheet!F375)","v":""},{"$f":"IF(Worksheet!P375=0,\"\",Worksheet!P375)","v":""},{"$f":"IF(Worksheet!$A$11=TRUE,\"Y\",\"N\")","v":"N"},{"$f":"IF(Worksheet!$A$12=TRUE,\"Y\",\"N\")","v":"N"},{"$f":"IF(Worksheet!$B$11=TRUE,\"Y\",\"N\")","v":"N"},{"$f":"IF(Worksheet!$B$12=TRUE,\"Y\",\"N\")","v":"N"},{"$f":"IF(Worksheet!$C$11=TRUE,\"Y\",\"N\")","v":"N"},{"$f":"IF(Worksheet!$C$12=TRUE,\"Y\",\"N\")","v":"N"},""]
[{"$f":"IF(ISERROR(VLOOKUP(Worksheet!N376,MeasureLookup,2,FALSE))=FALSE,VLOOKUP(Worksheet!N376,MeasureLookup,2,FALSE),\"\")","v":""},{"$f":"Worksheet!Q376","v":0},{"$f":"Worksheet!R376","v":0},{"$f":"IF(ISERROR(Worksheet!P376)=FALSE,Worksheet!P376,\"\")","v":0},"Watts",null,null,{"$f":"IF(Worksheet!AP376<>\"\",IF(Worksheet!AP376>0,Worksheet!AP376/IF(Worksheet!M376>0,Worksheet!M376,Worksheet!L376),\"\"),\"\")","v":""},{"$f":"IF(ISBLANK(Worksheet!L376)=FALSE,Worksheet!L376,\"\")","v":0},{"$f":"IF(Worksheet!L376<>0, IFERROR(VLOOKUP(Worksheet!$C$16,SavingsSupportTable,3,FALSE)*Worksheet!AQ376*IFERROR(1+VLOOKUP(Worksheet!$C$16,SavingsSupportTable,MATCH(Worksheet!$G$17,HVACe_Options,0)+4,FALSE),1)/IF(Worksheet!M376>0,Worksheet!M376,Worksheet!L376),\"\"),\"\")","v":""},{"$f":"IF(Worksheet!L376<>0, IFERROR(VLOOKUP(Worksheet!$C$16,SavingsSupportTable,2,FALSE)*Worksheet!AQ376*IF(IFERROR(MATCH(Worksheet!$G$17,HVACe_Options,0),0)>0,1+VLOOKUP(Worksheet!$C$16,SavingsSupportTable,4,FALSE),1)/IF(Worksheet!M376>0,Worksheet!M376,Worksheet!L376),\"\"),\"\")","v":""},"",{"$f":"IF(Worksheet!L376<>0,IFERROR(VLOOKUP(Worksheet!$C$16,SavingsSupportTable,3,FALSE)*Worksheet!AQ376*IF(IFERROR(SEARCH(\"Gas\",Worksheet!$G$17),0)>0,VLOOKUP(\"Gas\",HVACg_Lookup,MATCH(Worksheet!$G$16,BuildingSize,0)+1,FALSE),IF(IFERROR(SEARCH(\"Oil\",Worksheet!$G$17),0)>0,VLOOKUP(\"Oil\",HVACg_Lookup,MATCH(Worksheet!$G$16,BuildingSize,0)+1,FALSE),IF(IFERROR(SEARCH(\"Propane\",Worksheet!$G$17),0)>0,VLOOKUP(\"Propane\",HVACg_Lookup,MATCH(Worksheet!$G$16,BuildingSize,0)+1,FALSE),0)))/IF(Worksheet!M376>0,Worksheet!M376,Worksheet!L376),0),\"\")","v":""},"",null,null,null,{"$f":"IF(ISBLANK(Worksheet!M376)=FALSE,Worksheet!M376,\"\")","v":0},{"$f":"IF(Worksheet!A376=\"-\",\"\",IF(Worksheet!A376=\"\",S352,Worksheet!A376))","v":""},{"$f":"IF(S353=\"\",\"\",IF(AND(Worksheet!G376=\"\",Worksheet!H376=\"\")=TRUE,T352,IF(Worksheet!G376=\"\",\"\",Worksheet!G376)))","v":""},{"$f":"IF(S353=\"\",\"\",IF(AND(Worksheet!G376=\"\",Worksheet!H376=\"\")=TRUE,U352,IF(Worksheet!H376=\"\",\"\",Worksheet!H376)))","v":""},{"$f":"IF(Worksheet!N376=\"\",\"\",Worksheet!N376)","v":""},{"$f":"IF(Worksheet!O376=\"\",\"\",Worksheet!O376)","v":""},{"$f":"IF(Worksheet!F376=0,\"\",Worksheet!F376)","v":""},{"$f":"IF(Worksheet!P376=0,\"\",Worksheet!P376)","v":""},{"$f":"IF(Worksheet!$A$11=TRUE,\"Y\",\"N\")","v":"N"},{"$f":"IF(Worksheet!$A$12=TRUE,\"Y\",\"N\")","v":"N"},{"$f":"IF(Worksheet!$B$11=TRUE,\"Y\",\"N\")","v":"N"},{"$f":"IF(Worksheet!$B$12=TRUE,\"Y\",\"N\")","v":"N"},{"$f":"IF(Worksheet!$C$11=TRUE,\"Y\",\"N\")","v":"N"},{"$f":"IF(Worksheet!$C$12=TRUE,\"Y\",\"N\")","v":"N"},""]
[{"$f":"IF(ISERROR(VLOOKUP(Worksheet!N377,MeasureLookup,2,FALSE))=FALSE,VLOOKUP(Worksheet!N377,MeasureLookup,2,FALSE),\"\")","v":""},{"$f":"Worksheet!Q377","v":0},{"$f":"Worksheet!R377","v":0},{"$f":"IF(ISERROR(Worksheet!P377)=FALSE,Worksheet!P377,\"\")","v":0},"Watts",null,null,{"$f":"IF(Worksheet!AP377<>\"\",IF(Worksheet!AP377>0,Worksheet!AP377/IF(Worksheet!M377>0,Worksheet!M377,Worksheet!L377),\"\"),\"\")","v":""},{"$f":"IF(ISBLANK(Worksheet!L377)=FALSE,Worksheet!L377,\"\")","v":0},{"$f":"IF(Worksheet!L377<>0, IFERROR(VLOOKUP(Worksheet!$C$16,SavingsSupportTable,3,FALSE)*Worksheet!AQ377*IFERROR(1+VLOOKUP(Worksheet!$C$16,SavingsSupportTable,MATCH(Worksheet!$G$17,HVACe_Options,0)+4,FALSE),1)/IF(Worksheet!M377>0,Worksheet!M377,Worksheet!L377),\"\"),\"\")","v":""},{"$f":"IF(Worksheet!L377<>0, IFERROR(VLOOKUP(Worksheet!$C$16,SavingsSupportTable,2,FALSE)*Worksheet!AQ377*IF(IFERROR(MATCH(Worksheet!$G$17,HVACe_Options,0),0)>0,1+VLOOKUP(Worksheet!$C$16,SavingsSupportTable,4,FALSE),1)/IF(Worksheet!M377>0,Worksheet!M377,Worksheet!L377),\"\"),\"\")","v":""},"",{"$f":"IF(Worksheet!L377<>0,IFERROR(VLOOKUP(Worksheet!$C$16,SavingsSupportTable,3,FALSE)*Worksheet!AQ377*IF(IFERROR(SEARCH(\"Gas\",Worksheet!$G$17),0)>0,VLOOKUP(\"Gas\",HVACg_Lookup,MATCH(Worksheet!$G$16,BuildingSize,0)+1,FALSE),IF(IFERROR(SEARCH(\"Oil\",Worksheet!$G$17),0)>0,VLOOKUP(\"Oil\",HVACg_Lookup,MATCH(Worksheet!$G$16,BuildingSize,0)+1,FALSE),IF(IFERROR(SEARCH(\"Propane\",Worksheet!$G$17),0)>0,VLOOKUP(\"Propane\",HVACg_Lookup,MATCH(Worksheet!$G$16,BuildingSize,0)+1,FALSE),0)))/IF(Worksheet!M377>0,Worksheet!M377,Worksheet!L377),0),\"\")","v":""},"",null,null,null,{"$f":"IF(ISBLANK(Worksheet!M377)=FALSE,Worksheet!M377,\"\")","v":0},{"$f":"IF(Worksheet!A377=\"-\",\"\",IF(Worksheet!A377=\"\",S353,Worksheet!A377))","v":""},{"$f":"IF(S354=\"\",\"\",IF(AND(Worksheet!G377=\"\",Worksheet!H377=\"\")=TRUE,T353,IF(Worksheet!G377=\"\",\"\",Worksheet!G377)))","v":""},{"$f":"IF(S354=\"\",\"\",IF(AND(Worksheet!G377=\"\",Worksheet!H377=\"\")=TRUE,U353,IF(Worksheet!H377=\"\",\"\",Worksheet!H377)))","v":""},{"$f":"IF(Worksheet!N377=\"\",\"\",Worksheet!N377)","v":""},{"$f":"IF(Worksheet!O377=\"\",\"\",Worksheet!O377)","v":""},{"$f":"IF(Worksheet!F377=0,\"\",Worksheet!F377)","v":""},{"$f":"IF(Worksheet!P377=0,\"\",Worksheet!P377)","v":""},{"$f":"IF(Worksheet!$A$11=TRUE,\"Y\",\"N\")","v":"N"},{"$f":"IF(Worksheet!$A$12=TRUE,\"Y\",\"N\")","v":"N"},{"$f":"IF(Worksheet!$B$11=TRUE,\"Y\",\"N\")","v":"N"},{"$f":"IF(Worksheet!$B$12=TRUE,\"Y\",\"N\")","v":"N"},{"$f":"IF(Worksheet!$C$11=TRUE,\"Y\",\"N\")","v":"N"},{"$f":"IF(Worksheet!$C$12=TRUE,\"Y\",\"N\")","v":"N"},""]
[{"$f":"IF(ISERROR(VLOOKUP(Worksheet!N378,MeasureLookup,2,FALSE))=FALSE,VLOOKUP(Worksheet!N378,MeasureLookup,2,FALSE),\"\")","v":""},{"$f":"Worksheet!Q378","v":0},{"$f":"Worksheet!R378","v":0},{"$f":"IF(ISERROR(Worksheet!P378)=FALSE,Worksheet!P378,\"\")","v":0},"Watts",null,null,{"$f":"IF(Worksheet!AP378<>\"\",IF(Worksheet!AP378>0,Worksheet!AP378/IF(Worksheet!M378>0,Worksheet!M378,Worksheet!L378),\"\"),\"\")","v":""},{"$f":"IF(ISBLANK(Worksheet!L378)=FALSE,Worksheet!L378,\"\")","v":0},{"$f":"IF(Worksheet!L378<>0, IFERROR(VLOOKUP(Worksheet!$C$16,SavingsSupportTable,3,FALSE)*Worksheet!AQ378*IFERROR(1+VLOOKUP(Worksheet!$C$16,SavingsSupportTable,MATCH(Worksheet!$G$17,HVACe_Options,0)+4,FALSE),1)/IF(Worksheet!M378>0,Worksheet!M378,Worksheet!L378),\"\"),\"\")","v":""},{"$f":"IF(Worksheet!L378<>0, IFERROR(VLOOKUP(Worksheet!$C$16,SavingsSupportTable,2,FALSE)*Worksheet!AQ378*IF(IFERROR(MATCH(Worksheet!$G$17,HVACe_Options,0),0)>0,1+VLOOKUP(Worksheet!$C$16,SavingsSupportTable,4,FALSE),1)/IF(Worksheet!M378>0,Worksheet!M378,Worksheet!L378),\"\"),\"\")","v":""},"",{"$f":"IF(Worksheet!L378<>0,IFERROR(VLOOKUP(Worksheet!$C$16,SavingsSupportTable,3,FALSE)*Worksheet!AQ378*IF(IFERROR(SEARCH(\"Gas\",Worksheet!$G$17),0)>0,VLOOKUP(\"Gas\",HVACg_Lookup,MATCH(Worksheet!$G$16,BuildingSize,0)+1,FALSE),IF(IFERROR(SEARCH(\"Oil\",Worksheet!$G$17),0)>0,VLOOKUP(\"Oil\",HVACg_Lookup,MATCH(Worksheet!$G$16,BuildingSize,0)+1,FALSE),IF(IFERROR(SEARCH(\"Propane\",Worksheet!$G$17),0)>0,VLOOKUP(\"Propane\",HVACg_Lookup,MATCH(Worksheet!$G$16,BuildingSize,0)+1,FALSE),0)))/IF(Worksheet!M378>0,Worksheet!M378,Worksheet!L378),0),\"\")","v":""},"",null,null,null,{"$f":"IF(ISBLANK(Worksheet!M378)=FALSE,Worksheet!M378,\"\")","v":0},{"$f":"IF(Worksheet!A378=\"-\",\"\",IF(Worksheet!A378=\"\",S354,Worksheet!A378))","v":""},{"$f":"IF(S355=\"\",\"\",IF(AND(Worksheet!G378=\"\",Worksheet!H378=\"\")=TRUE,T354,IF(Worksheet!G378=\"\",\"\",Worksheet!G378)))","v":""},{"$f":"IF(S355=\"\",\"\",IF(AND(Worksheet!G378=\"\",Worksheet!H378=\"\")=TRUE,U354,IF(Worksheet!H378=\"\",\"\",Worksheet!H378)))","v":""},{"$f":"IF(Worksheet!N378=\"\",\"\",Worksheet!N378)","v":""},{"$f":"IF(Worksheet!O378=\"\",\"\",Worksheet!O378)","v":""},{"$f":"IF(Worksheet!F378=0,\"\",Worksheet!F378)","v":""},{"$f":"IF(Worksheet!P378=0,\"\",Worksheet!P378)","v":""},{"$f":"IF(Worksheet!$A$11=TRUE,\"Y\",\"N\")","v":"N"},{"$f":"IF(Worksheet!$A$12=TRUE,\"Y\",\"N\")","v":"N"},{"$f":"IF(Worksheet!$B$11=TRUE,\"Y\",\"N\")","v":"N"},{"$f":"IF(Worksheet!$B$12=TRUE,\"Y\",\"N\")","v":"N"},{"$f":"IF(Worksheet!$C$11=TRUE,\"Y\",\"N\")","v":"N"},{"$f":"IF(Worksheet!$C$12=TRUE,\"Y\",\"N\")","v":"N"},""]
[{"$f":"IF(ISERROR(VLOOKUP(Worksheet!N379,MeasureLookup,2,FALSE))=FALSE,VLOOKUP(Worksheet!N379,MeasureLookup,2,FALSE),\"\")","v":""},{"$f":"Worksheet!Q379","v":0},{"$f":"Worksheet!R379","v":0},{"$f":"IF(ISERROR(Worksheet!P379)=FALSE,Worksheet!P379,\"\")","v":0},"Watts",null,null,{"$f":"IF(Worksheet!AP379<>\"\",IF(Worksheet!AP379>0,Worksheet!AP379/IF(Worksheet!M379>0,Worksheet!M379,Worksheet!L379),\"\"),\"\")","v":""},{"$f":"IF(ISBLANK(Worksheet!L379)=FALSE,Worksheet!L379,\"\")","v":0},{"$f":"IF(Worksheet!L379<>0, IFERROR(VLOOKUP(Worksheet!$C$16,SavingsSupportTable,3,FALSE)*Worksheet!AQ379*IFERROR(1+VLOOKUP(Worksheet!$C$16,SavingsSupportTable,MATCH(Worksheet!$G$17,HVACe_Options,0)+4,FALSE),1)/IF(Worksheet!M379>0,Worksheet!M379,Worksheet!L379),\"\"),\"\")","v":""},{"$f":"IF(Worksheet!L379<>0, IFERROR(VLOOKUP(Worksheet!$C$16,SavingsSupportTable,2,FALSE)*Worksheet!AQ379*IF(IFERROR(MATCH(Worksheet!$G$17,HVACe_Options,0),0)>0,1+VLOOKUP(Worksheet!$C$16,SavingsSupportTable,4,FALSE),1)/IF(Worksheet!M379>0,Worksheet!M379,Worksheet!L379),\"\"),\"\")","v":""},"",{"$f":"IF(Worksheet!L379<>0,IFERROR(VLOOKUP(Worksheet!$C$16,SavingsSupportTable,3,FALSE)*Worksheet!AQ379*IF(IFERROR(SEARCH(\"Gas\",Worksheet!$G$17),0)>0,VLOOKUP(\"Gas\",HVACg_Lookup,MATCH(Worksheet!$G$16,BuildingSize,0)+1,FALSE),IF(IFERROR(SEARCH(\"Oil\",Worksheet!$G$17),0)>0,VLOOKUP(\"Oil\",HVACg_Lookup,MATCH(Worksheet!$G$16,BuildingSize,0)+1,FALSE),IF(IFERROR(SEARCH(\"Propane\",Worksheet!$G$17),0)>0,VLOOKUP(\"Propane\",HVACg_Lookup,MATCH(Worksheet!$G$16,BuildingSize,0)+1,FALSE),0)))/IF(Worksheet!M379>0,Worksheet!M379,Worksheet!L379),0),\"\")","v":""},"",null,null,null,{"$f":"IF(ISBLANK(Worksheet!M379)=FALSE,Worksheet!M379,\"\")","v":0},{"$f":"IF(Worksheet!A379=\"-\",\"\",IF(Worksheet!A379=\"\",S355,Worksheet!A379))","v":""},{"$f":"IF(S356=\"\",\"\",IF(AND(Worksheet!G379=\"\",Worksheet!H379=\"\")=TRUE,T355,IF(Worksheet!G379=\"\",\"\",Worksheet!G379)))","v":""},{"$f":"IF(S356=\"\",\"\",IF(AND(Worksheet!G379=\"\",Worksheet!H379=\"\")=TRUE,U355,IF(Worksheet!H379=\"\",\"\",Worksheet!H379)))","v":""},{"$f":"IF(Worksheet!N379=\"\",\"\",Worksheet!N379)","v":""},{"$f":"IF(Worksheet!O379=\"\",\"\",Worksheet!O379)","v":""},{"$f":"IF(Worksheet!F379=0,\"\",Worksheet!F379)","v":""},{"$f":"IF(Worksheet!P379=0,\"\",Worksheet!P379)","v":""},{"$f":"IF(Worksheet!$A$11=TRUE,\"Y\",\"N\")","v":"N"},{"$f":"IF(Worksheet!$A$12=TRUE,\"Y\",\"N\")","v":"N"},{"$f":"IF(Worksheet!$B$11=TRUE,\"Y\",\"N\")","v":"N"},{"$f":"IF(Worksheet!$B$12=TRUE,\"Y\",\"N\")","v":"N"},{"$f":"IF(Worksheet!$C$11=TRUE,\"Y\",\"N\")","v":"N"},{"$f":"IF(Worksheet!$C$12=TRUE,\"Y\",\"N\")","v":"N"},""]
[{"$f":"IF(ISERROR(VLOOKUP(Worksheet!N380,MeasureLookup,2,FALSE))=FALSE,VLOOKUP(Worksheet!N380,MeasureLookup,2,FALSE),\"\")","v":""},{"$f":"Worksheet!Q380","v":0},{"$f":"Worksheet!R380","v":0},{"$f":"IF(ISERROR(Worksheet!P380)=FALSE,Worksheet!P380,\"\")","v":0},"Watts",null,null,{"$f":"IF(Worksheet!AP380<>\"\",IF(Worksheet!AP380>0,Worksheet!AP380/IF(Worksheet!M380>0,Worksheet!M380,Worksheet!L380),\"\"),\"\")","v":""},{"$f":"IF(ISBLANK(Worksheet!L380)=FALSE,Worksheet!L380,\"\")","v":0},{"$f":"IF(Worksheet!L380<>0, IFERROR(VLOOKUP(Worksheet!$C$16,SavingsSupportTable,3,FALSE)*Worksheet!AQ380*IFERROR(1+VLOOKUP(Worksheet!$C$16,SavingsSupportTable,MATCH(Worksheet!$G$17,HVACe_Options,0)+4,FALSE),1)/IF(Worksheet!M380>0,Worksheet!M380,Worksheet!L380),\"\"),\"\")","v":""},{"$f":"IF(Worksheet!L380<>0, IFERROR(VLOOKUP(Worksheet!$C$16,SavingsSupportTable,2,FALSE)*Worksheet!AQ380*IF(IFERROR(MATCH(Worksheet!$G$17,HVACe_Options,0),0)>0,1+VLOOKUP(Worksheet!$C$16,SavingsSupportTable,4,FALSE),1)/IF(Worksheet!M380>0,Worksheet!M380,Worksheet!L380),\"\"),\"\")","v":""},"",{"$f":"IF(Worksheet!L380<>0,IFERROR(VLOOKUP(Worksheet!$C$16,SavingsSupportTable,3,FALSE)*Worksheet!AQ380*IF(IFERROR(SEARCH(\"Gas\",Worksheet!$G$17),0)>0,VLOOKUP(\"Gas\",HVACg_Lookup,MATCH(Worksheet!$G$16,BuildingSize,0)+1,FALSE),IF(IFERROR(SEARCH(\"Oil\",Worksheet!$G$17),0)>0,VLOOKUP(\"Oil\",HVACg_Lookup,MATCH(Worksheet!$G$16,BuildingSize,0)+1,FALSE),IF(IFERROR(SEARCH(\"Propane\",Worksheet!$G$17),0)>0,VLOOKUP(\"Propane\",HVACg_Lookup,MATCH(Worksheet!$G$16,BuildingSize,0)+1,FALSE),0)))/IF(Worksheet!M380>0,Worksheet!M380,Worksheet!L380),0),\"\")","v":""},"",null,null,null,{"$f":"IF(ISBLANK(Worksheet!M380)=FALSE,Worksheet!M380,\"\")","v":0},{"$f":"IF(Worksheet!A380=\"-\",\"\",IF(Worksheet!A380=\"\",S356,Worksheet!A380))","v":""},{"$f":"IF(S357=\"\",\"\",IF(AND(Worksheet!G380=\"\",Worksheet!H380=\"\")=TRUE,T356,IF(Worksheet!G380=\"\",\"\",Worksheet!G380)))","v":""},{"$f":"IF(S357=\"\",\"\",IF(AND(Worksheet!G380=\"\",Worksheet!H380=\"\")=TRUE,U356,IF(Worksheet!H380=\"\",\"\",Worksheet!H380)))","v":""},{"$f":"IF(Worksheet!N380=\"\",\"\",Worksheet!N380)","v":""},{"$f":"IF(Worksheet!O380=\"\",\"\",Worksheet!O380)","v":""},{"$f":"IF(Worksheet!F380=0,\"\",Worksheet!F380)","v":""},{"$f":"IF(Worksheet!P380=0,\"\",Worksheet!P380)","v":""},{"$f":"IF(Worksheet!$A$11=TRUE,\"Y\",\"N\")","v":"N"},{"$f":"IF(Worksheet!$A$12=TRUE,\"Y\",\"N\")","v":"N"},{"$f":"IF(Worksheet!$B$11=TRUE,\"Y\",\"N\")","v":"N"},{"$f":"IF(Worksheet!$B$12=TRUE,\"Y\",\"N\")","v":"N"},{"$f":"IF(Worksheet!$C$11=TRUE,\"Y\",\"N\")","v":"N"},{"$f":"IF(Worksheet!$C$12=TRUE,\"Y\",\"N\")","v":"N"},""]
[{"$f":"IF(ISERROR(VLOOKUP(Worksheet!N381,MeasureLookup,2,FALSE))=FALSE,VLOOKUP(Worksheet!N381,MeasureLookup,2,FALSE),\"\")","v":""},{"$f":"Worksheet!Q381","v":0},{"$f":"Worksheet!R381","v":0},{"$f":"IF(ISERROR(Worksheet!P381)=FALSE,Worksheet!P381,\"\")","v":0},"Watts",null,null,{"$f":"IF(Worksheet!AP381<>\"\",IF(Worksheet!AP381>0,Worksheet!AP381/IF(Worksheet!M381>0,Worksheet!M381,Worksheet!L381),\"\"),\"\")","v":""},{"$f":"IF(ISBLANK(Worksheet!L381)=FALSE,Worksheet!L381,\"\")","v":0},{"$f":"IF(Worksheet!L381<>0, IFERROR(VLOOKUP(Worksheet!$C$16,SavingsSupportTable,3,FALSE)*Worksheet!AQ381*IFERROR(1+VLOOKUP(Worksheet!$C$16,SavingsSupportTable,MATCH(Worksheet!$G$17,HVACe_Options,0)+4,FALSE),1)/IF(Worksheet!M381>0,Worksheet!M381,Worksheet!L381),\"\"),\"\")","v":""},{"$f":"IF(Worksheet!L381<>0, IFERROR(VLOOKUP(Worksheet!$C$16,SavingsSupportTable,2,FALSE)*Worksheet!AQ381*IF(IFERROR(MATCH(Worksheet!$G$17,HVACe_Options,0),0)>0,1+VLOOKUP(Worksheet!$C$16,SavingsSupportTable,4,FALSE),1)/IF(Worksheet!M381>0,Worksheet!M381,Worksheet!L381),\"\"),\"\")","v":""},"",{"$f":"IF(Worksheet!L381<>0,IFERROR(VLOOKUP(Worksheet!$C$16,SavingsSupportTable,3,FALSE)*Worksheet!AQ381*IF(IFERROR(SEARCH(\"Gas\",Worksheet!$G$17),0)>0,VLOOKUP(\"Gas\",HVACg_Lookup,MATCH(Worksheet!$G$16,BuildingSize,0)+1,FALSE),IF(IFERROR(SEARCH(\"Oil\",Worksheet!$G$17),0)>0,VLOOKUP(\"Oil\",HVACg_Lookup,MATCH(Worksheet!$G$16,BuildingSize,0)+1,FALSE),IF(IFERROR(SEARCH(\"Propane\",Worksheet!$G$17),0)>0,VLOOKUP(\"Propane\",HVACg_Lookup,MATCH(Worksheet!$G$16,BuildingSize,0)+1,FALSE),0)))/IF(Worksheet!M381>0,Worksheet!M381,Worksheet!L381),0),\"\")","v":""},"",null,null,null,{"$f":"IF(ISBLANK(Worksheet!M381)=FALSE,Worksheet!M381,\"\")","v":0},{"$f":"IF(Worksheet!A381=\"-\",\"\",IF(Worksheet!A381=\"\",S357,Worksheet!A381))","v":""},{"$f":"IF(S358=\"\",\"\",IF(AND(Worksheet!G381=\"\",Worksheet!H381=\"\")=TRUE,T357,IF(Worksheet!G381=\"\",\"\",Worksheet!G381)))","v":""},{"$f":"IF(S358=\"\",\"\",IF(AND(Worksheet!G381=\"\",Worksheet!H381=\"\")=TRUE,U357,IF(Worksheet!H381=\"\",\"\",Worksheet!H381)))","v":""},{"$f":"IF(Worksheet!N381=\"\",\"\",Worksheet!N381)","v":""},{"$f":"IF(Worksheet!O381=\"\",\"\",Worksheet!O381)","v":""},{"$f":"IF(Worksheet!F381=0,\"\",Worksheet!F381)","v":""},{"$f":"IF(Worksheet!P381=0,\"\",Worksheet!P381)","v":""},{"$f":"IF(Worksheet!$A$11=TRUE,\"Y\",\"N\")","v":"N"},{"$f":"IF(Worksheet!$A$12=TRUE,\"Y\",\"N\")","v":"N"},{"$f":"IF(Worksheet!$B$11=TRUE,\"Y\",\"N\")","v":"N"},{"$f":"IF(Worksheet!$B$12=TRUE,\"Y\",\"N\")","v":"N"},{"$f":"IF(Worksheet!$C$11=TRUE,\"Y\",\"N\")","v":"N"},{"$f":"IF(Worksheet!$C$12=TRUE,\"Y\",\"N\")","v":"N"},""]
[{"$f":"IF(ISERROR(VLOOKUP(Worksheet!N382,MeasureLookup,2,FALSE))=FALSE,VLOOKUP(Worksheet!N382,MeasureLookup,2,FALSE),\"\")","v":""},{"$f":"Worksheet!Q382","v":0},{"$f":"Worksheet!R382","v":0},{"$f":"IF(ISERROR(Worksheet!P382)=FALSE,Worksheet!P382,\"\")","v":0},"Watts",null,null,{"$f":"IF(Worksheet!AP382<>\"\",IF(Worksheet!AP382>0,Worksheet!AP382/IF(Worksheet!M382>0,Worksheet!M382,Worksheet!L382),\"\"),\"\")","v":""},{"$f":"IF(ISBLANK(Worksheet!L382)=FALSE,Worksheet!L382,\"\")","v":0},{"$f":"IF(Worksheet!L382<>0, IFERROR(VLOOKUP(Worksheet!$C$16,SavingsSupportTable,3,FALSE)*Worksheet!AQ382*IFERROR(1+VLOOKUP(Worksheet!$C$16,SavingsSupportTable,MATCH(Worksheet!$G$17,HVACe_Options,0)+4,FALSE),1)/IF(Worksheet!M382>0,Worksheet!M382,Worksheet!L382),\"\"),\"\")","v":""},{"$f":"IF(Worksheet!L382<>0, IFERROR(VLOOKUP(Worksheet!$C$16,SavingsSupportTable,2,FALSE)*Worksheet!AQ382*IF(IFERROR(MATCH(Worksheet!$G$17,HVACe_Options,0),0)>0,1+VLOOKUP(Worksheet!$C$16,SavingsSupportTable,4,FALSE),1)/IF(Worksheet!M382>0,Worksheet!M382,Worksheet!L382),\"\"),\"\")","v":""},"",{"$f":"IF(Worksheet!L382<>0,IFERROR(VLOOKUP(Worksheet!$C$16,SavingsSupportTable,3,FALSE)*Worksheet!AQ382*IF(IFERROR(SEARCH(\"Gas\",Worksheet!$G$17),0)>0,VLOOKUP(\"Gas\",HVACg_Lookup,MATCH(Worksheet!$G$16,BuildingSize,0)+1,FALSE),IF(IFERROR(SEARCH(\"Oil\",Worksheet!$G$17),0)>0,VLOOKUP(\"Oil\",HVACg_Lookup,MATCH(Worksheet!$G$16,BuildingSize,0)+1,FALSE),IF(IFERROR(SEARCH(\"Propane\",Worksheet!$G$17),0)>0,VLOOKUP(\"Propane\",HVACg_Lookup,MATCH(Worksheet!$G$16,BuildingSize,0)+1,FALSE),0)))/IF(Worksheet!M382>0,Worksheet!M382,Worksheet!L382),0),\"\")","v":""},"",null,null,null,{"$f":"IF(ISBLANK(Worksheet!M382)=FALSE,Worksheet!M382,\"\")","v":0},{"$f":"IF(Worksheet!A382=\"-\",\"\",IF(Worksheet!A382=\"\",S358,Worksheet!A382))","v":""},{"$f":"IF(S359=\"\",\"\",IF(AND(Worksheet!G382=\"\",Worksheet!H382=\"\")=TRUE,T358,IF(Worksheet!G382=\"\",\"\",Worksheet!G382)))","v":""},{"$f":"IF(S359=\"\",\"\",IF(AND(Worksheet!G382=\"\",Worksheet!H382=\"\")=TRUE,U358,IF(Worksheet!H382=\"\",\"\",Worksheet!H382)))","v":""},{"$f":"IF(Worksheet!N382=\"\",\"\",Worksheet!N382)","v":""},{"$f":"IF(Worksheet!O382=\"\",\"\",Worksheet!O382)","v":""},{"$f":"IF(Worksheet!F382=0,\"\",Worksheet!F382)","v":""},{"$f":"IF(Worksheet!P382=0,\"\",Worksheet!P382)","v":""},{"$f":"IF(Worksheet!$A$11=TRUE,\"Y\",\"N\")","v":"N"},{"$f":"IF(Worksheet!$A$12=TRUE,\"Y\",\"N\")","v":"N"},{"$f":"IF(Worksheet!$B$11=TRUE,\"Y\",\"N\")","v":"N"},{"$f":"IF(Worksheet!$B$12=TRUE,\"Y\",\"N\")","v":"N"},{"$f":"IF(Worksheet!$C$11=TRUE,\"Y\",\"N\")","v":"N"},{"$f":"IF(Worksheet!$C$12=TRUE,\"Y\",\"N\")","v":"N"},""]
[{"$f":"IF(ISERROR(VLOOKUP(Worksheet!N383,MeasureLookup,2,FALSE))=FALSE,VLOOKUP(Worksheet!N383,MeasureLookup,2,FALSE),\"\")","v":""},{"$f":"Worksheet!Q383","v":0},{"$f":"Worksheet!R383","v":0},{"$f":"IF(ISERROR(Worksheet!P383)=FALSE,Worksheet!P383,\"\")","v":0},"Watts",null,null,{"$f":"IF(Worksheet!AP383<>\"\",IF(Worksheet!AP383>0,Worksheet!AP383/IF(Worksheet!M383>0,Worksheet!M383,Worksheet!L383),\"\"),\"\")","v":""},{"$f":"IF(ISBLANK(Worksheet!L383)=FALSE,Worksheet!L383,\"\")","v":0},{"$f":"IF(Worksheet!L383<>0, IFERROR(VLOOKUP(Worksheet!$C$16,SavingsSupportTable,3,FALSE)*Worksheet!AQ383*IFERROR(1+VLOOKUP(Worksheet!$C$16,SavingsSupportTable,MATCH(Worksheet!$G$17,HVACe_Options,0)+4,FALSE),1)/IF(Worksheet!M383>0,Worksheet!M383,Worksheet!L383),\"\"),\"\")","v":""},{"$f":"IF(Worksheet!L383<>0, IFERROR(VLOOKUP(Worksheet!$C$16,SavingsSupportTable,2,FALSE)*Worksheet!AQ383*IF(IFERROR(MATCH(Worksheet!$G$17,HVACe_Options,0),0)>0,1+VLOOKUP(Worksheet!$C$16,SavingsSupportTable,4,FALSE),1)/IF(Worksheet!M383>0,Worksheet!M383,Worksheet!L383),\"\"),\"\")","v":""},"",{"$f":"IF(Worksheet!L383<>0,IFERROR(VLOOKUP(Worksheet!$C$16,SavingsSupportTable,3,FALSE)*Worksheet!AQ383*IF(IFERROR(SEARCH(\"Gas\",Worksheet!$G$17),0)>0,VLOOKUP(\"Gas\",HVACg_Lookup,MATCH(Worksheet!$G$16,BuildingSize,0)+1,FALSE),IF(IFERROR(SEARCH(\"Oil\",Worksheet!$G$17),0)>0,VLOOKUP(\"Oil\",HVACg_Lookup,MATCH(Worksheet!$G$16,BuildingSize,0)+1,FALSE),IF(IFERROR(SEARCH(\"Propane\",Worksheet!$G$17),0)>0,VLOOKUP(\"Propane\",HVACg_Lookup,MATCH(Worksheet!$G$16,BuildingSize,0)+1,FALSE),0)))/IF(Worksheet!M383>0,Worksheet!M383,Worksheet!L383),0),\"\")","v":""},"",null,null,null,{"$f":"IF(ISBLANK(Worksheet!M383)=FALSE,Worksheet!M383,\"\")","v":0},{"$f":"IF(Worksheet!A383=\"-\",\"\",IF(Worksheet!A383=\"\",S359,Worksheet!A383))","v":""},{"$f":"IF(S360=\"\",\"\",IF(AND(Worksheet!G383=\"\",Worksheet!H383=\"\")=TRUE,T359,IF(Worksheet!G383=\"\",\"\",Worksheet!G383)))","v":""},{"$f":"IF(S360=\"\",\"\",IF(AND(Worksheet!G383=\"\",Worksheet!H383=\"\")=TRUE,U359,IF(Worksheet!H383=\"\",\"\",Worksheet!H383)))","v":""},{"$f":"IF(Worksheet!N383=\"\",\"\",Worksheet!N383)","v":""},{"$f":"IF(Worksheet!O383=\"\",\"\",Worksheet!O383)","v":""},{"$f":"IF(Worksheet!F383=0,\"\",Worksheet!F383)","v":""},{"$f":"IF(Worksheet!P383=0,\"\",Worksheet!P383)","v":""},{"$f":"IF(Worksheet!$A$11=TRUE,\"Y\",\"N\")","v":"N"},{"$f":"IF(Worksheet!$A$12=TRUE,\"Y\",\"N\")","v":"N"},{"$f":"IF(Worksheet!$B$11=TRUE,\"Y\",\"N\")","v":"N"},{"$f":"IF(Worksheet!$B$12=TRUE,\"Y\",\"N\")","v":"N"},{"$f":"IF(Worksheet!$C$11=TRUE,\"Y\",\"N\")","v":"N"},{"$f":"IF(Worksheet!$C$12=TRUE,\"Y\",\"N\")","v":"N"},""]
[{"$f":"IF(ISERROR(VLOOKUP(Worksheet!N384,MeasureLookup,2,FALSE))=FALSE,VLOOKUP(Worksheet!N384,MeasureLookup,2,FALSE),\"\")","v":""},{"$f":"Worksheet!Q384","v":0},{"$f":"Worksheet!R384","v":0},{"$f":"IF(ISERROR(Worksheet!P384)=FALSE,Worksheet!P384,\"\")","v":0},"Watts",null,null,{"$f":"IF(Worksheet!AP384<>\"\",IF(Worksheet!AP384>0,Worksheet!AP384/IF(Worksheet!M384>0,Worksheet!M384,Worksheet!L384),\"\"),\"\")","v":""},{"$f":"IF(ISBLANK(Worksheet!L384)=FALSE,Worksheet!L384,\"\")","v":0},{"$f":"IF(Worksheet!L384<>0, IFERROR(VLOOKUP(Worksheet!$C$16,SavingsSupportTable,3,FALSE)*Worksheet!AQ384*IFERROR(1+VLOOKUP(Worksheet!$C$16,SavingsSupportTable,MATCH(Worksheet!$G$17,HVACe_Options,0)+4,FALSE),1)/IF(Worksheet!M384>0,Worksheet!M384,Worksheet!L384),\"\"),\"\")","v":""},{"$f":"IF(Worksheet!L384<>0, IFERROR(VLOOKUP(Worksheet!$C$16,SavingsSupportTable,2,FALSE)*Worksheet!AQ384*IF(IFERROR(MATCH(Worksheet!$G$17,HVACe_Options,0),0)>0,1+VLOOKUP(Worksheet!$C$16,SavingsSupportTable,4,FALSE),1)/IF(Worksheet!M384>0,Worksheet!M384,Worksheet!L384),\"\"),\"\")","v":""},"",{"$f":"IF(Worksheet!L384<>0,IFERROR(VLOOKUP(Worksheet!$C$16,SavingsSupportTable,3,FALSE)*Worksheet!AQ384*IF(IFERROR(SEARCH(\"Gas\",Worksheet!$G$17),0)>0,VLOOKUP(\"Gas\",HVACg_Lookup,MATCH(Worksheet!$G$16,BuildingSize,0)+1,FALSE),IF(IFERROR(SEARCH(\"Oil\",Worksheet!$G$17),0)>0,VLOOKUP(\"Oil\",HVACg_Lookup,MATCH(Worksheet!$G$16,BuildingSize,0)+1,FALSE),IF(IFERROR(SEARCH(\"Propane\",Worksheet!$G$17),0)>0,VLOOKUP(\"Propane\",HVACg_Lookup,MATCH(Worksheet!$G$16,BuildingSize,0)+1,FALSE),0)))/IF(Worksheet!M384>0,Worksheet!M384,Worksheet!L384),0),\"\")","v":""},"",null,null,null,{"$f":"IF(ISBLANK(Worksheet!M384)=FALSE,Worksheet!M384,\"\")","v":0},{"$f":"IF(Worksheet!A384=\"-\",\"\",IF(Worksheet!A384=\"\",S360,Worksheet!A384))","v":""},{"$f":"IF(S361=\"\",\"\",IF(AND(Worksheet!G384=\"\",Worksheet!H384=\"\")=TRUE,T360,IF(Worksheet!G384=\"\",\"\",Worksheet!G384)))","v":""},{"$f":"IF(S361=\"\",\"\",IF(AND(Worksheet!G384=\"\",Worksheet!H384=\"\")=TRUE,U360,IF(Worksheet!H384=\"\",\"\",Worksheet!H384)))","v":""},{"$f":"IF(Worksheet!N384=\"\",\"\",Worksheet!N384)","v":""},{"$f":"IF(Worksheet!O384=\"\",\"\",Worksheet!O384)","v":""},{"$f":"IF(Worksheet!F384=0,\"\",Worksheet!F384)","v":""},{"$f":"IF(Worksheet!P384=0,\"\",Worksheet!P384)","v":""},{"$f":"IF(Worksheet!$A$11=TRUE,\"Y\",\"N\")","v":"N"},{"$f":"IF(Worksheet!$A$12=TRUE,\"Y\",\"N\")","v":"N"},{"$f":"IF(Worksheet!$B$11=TRUE,\"Y\",\"N\")","v":"N"},{"$f":"IF(Worksheet!$B$12=TRUE,\"Y\",\"N\")","v":"N"},{"$f":"IF(Worksheet!$C$11=TRUE,\"Y\",\"N\")","v":"N"},{"$f":"IF(Worksheet!$C$12=TRUE,\"Y\",\"N\")","v":"N"},""]
[{"$f":"IF(ISERROR(VLOOKUP(Worksheet!N385,MeasureLookup,2,FALSE))=FALSE,VLOOKUP(Worksheet!N385,MeasureLookup,2,FALSE),\"\")","v":""},{"$f":"Worksheet!Q385","v":0},{"$f":"Worksheet!R385","v":0},{"$f":"IF(ISERROR(Worksheet!P385)=FALSE,Worksheet!P385,\"\")","v":0},"Watts",null,null,{"$f":"IF(Worksheet!AP385<>\"\",IF(Worksheet!AP385>0,Worksheet!AP385/IF(Worksheet!M385>0,Worksheet!M385,Worksheet!L385),\"\"),\"\")","v":""},{"$f":"IF(ISBLANK(Worksheet!L385)=FALSE,Worksheet!L385,\"\")","v":0},{"$f":"IF(Worksheet!L385<>0, IFERROR(VLOOKUP(Worksheet!$C$16,SavingsSupportTable,3,FALSE)*Worksheet!AQ385*IFERROR(1+VLOOKUP(Worksheet!$C$16,SavingsSupportTable,MATCH(Worksheet!$G$17,HVACe_Options,0)+4,FALSE),1)/IF(Worksheet!M385>0,Worksheet!M385,Worksheet!L385),\"\"),\"\")","v":""},{"$f":"IF(Worksheet!L385<>0, IFERROR(VLOOKUP(Worksheet!$C$16,SavingsSupportTable,2,FALSE)*Worksheet!AQ385*IF(IFERROR(MATCH(Worksheet!$G$17,HVACe_Options,0),0)>0,1+VLOOKUP(Worksheet!$C$16,SavingsSupportTable,4,FALSE),1)/IF(Worksheet!M385>0,Worksheet!M385,Worksheet!L385),\"\"),\"\")","v":""},"",{"$f":"IF(Worksheet!L385<>0,IFERROR(VLOOKUP(Worksheet!$C$16,SavingsSupportTable,3,FALSE)*Worksheet!AQ385*IF(IFERROR(SEARCH(\"Gas\",Worksheet!$G$17),0)>0,VLOOKUP(\"Gas\",HVACg_Lookup,MATCH(Worksheet!$G$16,BuildingSize,0)+1,FALSE),IF(IFERROR(SEARCH(\"Oil\",Worksheet!$G$17),0)>0,VLOOKUP(\"Oil\",HVACg_Lookup,MATCH(Worksheet!$G$16,BuildingSize,0)+1,FALSE),IF(IFERROR(SEARCH(\"Propane\",Worksheet!$G$17),0)>0,VLOOKUP(\"Propane\",HVACg_Lookup,MATCH(Worksheet!$G$16,BuildingSize,0)+1,FALSE),0)))/IF(Worksheet!M385>0,Worksheet!M385,Worksheet!L385),0),\"\")","v":""},"",null,null,null,{"$f":"IF(ISBLANK(Worksheet!M385)=FALSE,Worksheet!M385,\"\")","v":0},{"$f":"IF(Worksheet!A385=\"-\",\"\",IF(Worksheet!A385=\"\",S361,Worksheet!A385))","v":""},{"$f":"IF(S362=\"\",\"\",IF(AND(Worksheet!G385=\"\",Worksheet!H385=\"\")=TRUE,T361,IF(Worksheet!G385=\"\",\"\",Worksheet!G385)))","v":""},{"$f":"IF(S362=\"\",\"\",IF(AND(Worksheet!G385=\"\",Worksheet!H385=\"\")=TRUE,U361,IF(Worksheet!H385=\"\",\"\",Worksheet!H385)))","v":""},{"$f":"IF(Worksheet!N385=\"\",\"\",Worksheet!N385)","v":""},{"$f":"IF(Worksheet!O385=\"\",\"\",Worksheet!O385)","v":""},{"$f":"IF(Worksheet!F385=0,\"\",Worksheet!F385)","v":""},{"$f":"IF(Worksheet!P385=0,\"\",Worksheet!P385)","v":""},{"$f":"IF(Worksheet!$A$11=TRUE,\"Y\",\"N\")","v":"N"},{"$f":"IF(Worksheet!$A$12=TRUE,\"Y\",\"N\")","v":"N"},{"$f":"IF(Worksheet!$B$11=TRUE,\"Y\",\"N\")","v":"N"},{"$f":"IF(Worksheet!$B$12=TRUE,\"Y\",\"N\")","v":"N"},{"$f":"IF(Worksheet!$C$11=TRUE,\"Y\",\"N\")","v":"N"},{"$f":"IF(Worksheet!$C$12=TRUE,\"Y\",\"N\")","v":"N"},""]
[{"$f":"IF(ISERROR(VLOOKUP(Worksheet!N386,MeasureLookup,2,FALSE))=FALSE,VLOOKUP(Worksheet!N386,MeasureLookup,2,FALSE),\"\")","v":""},{"$f":"Worksheet!Q386","v":0},{"$f":"Worksheet!R386","v":0},{"$f":"IF(ISERROR(Worksheet!P386)=FALSE,Worksheet!P386,\"\")","v":0},"Watts",null,null,{"$f":"IF(Worksheet!AP386<>\"\",IF(Worksheet!AP386>0,Worksheet!AP386/IF(Worksheet!M386>0,Worksheet!M386,Worksheet!L386),\"\"),\"\")","v":""},{"$f":"IF(ISBLANK(Worksheet!L386)=FALSE,Worksheet!L386,\"\")","v":0},{"$f":"IF(Worksheet!L386<>0, IFERROR(VLOOKUP(Worksheet!$C$16,SavingsSupportTable,3,FALSE)*Worksheet!AQ386*IFERROR(1+VLOOKUP(Worksheet!$C$16,SavingsSupportTable,MATCH(Worksheet!$G$17,HVACe_Options,0)+4,FALSE),1)/IF(Worksheet!M386>0,Worksheet!M386,Worksheet!L386),\"\"),\"\")","v":""},{"$f":"IF(Worksheet!L386<>0, IFERROR(VLOOKUP(Worksheet!$C$16,SavingsSupportTable,2,FALSE)*Worksheet!AQ386*IF(IFERROR(MATCH(Worksheet!$G$17,HVACe_Options,0),0)>0,1+VLOOKUP(Worksheet!$C$16,SavingsSupportTable,4,FALSE),1)/IF(Worksheet!M386>0,Worksheet!M386,Worksheet!L386),\"\"),\"\")","v":""},"",{"$f":"IF(Worksheet!L386<>0,IFERROR(VLOOKUP(Worksheet!$C$16,SavingsSupportTable,3,FALSE)*Worksheet!AQ386*IF(IFERROR(SEARCH(\"Gas\",Worksheet!$G$17),0)>0,VLOOKUP(\"Gas\",HVACg_Lookup,MATCH(Worksheet!$G$16,BuildingSize,0)+1,FALSE),IF(IFERROR(SEARCH(\"Oil\",Worksheet!$G$17),0)>0,VLOOKUP(\"Oil\",HVACg_Lookup,MATCH(Worksheet!$G$16,BuildingSize,0)+1,FALSE),IF(IFERROR(SEARCH(\"Propane\",Worksheet!$G$17),0)>0,VLOOKUP(\"Propane\",HVACg_Lookup,MATCH(Worksheet!$G$16,BuildingSize,0)+1,FALSE),0)))/IF(Worksheet!M386>0,Worksheet!M386,Worksheet!L386),0),\"\")","v":""},"",null,null,null,{"$f":"IF(ISBLANK(Worksheet!M386)=FALSE,Worksheet!M386,\"\")","v":0},{"$f":"IF(Worksheet!A386=\"-\",\"\",IF(Worksheet!A386=\"\",S362,Worksheet!A386))","v":""},{"$f":"IF(S363=\"\",\"\",IF(AND(Worksheet!G386=\"\",Worksheet!H386=\"\")=TRUE,T362,IF(Worksheet!G386=\"\",\"\",Worksheet!G386)))","v":""},{"$f":"IF(S363=\"\",\"\",IF(AND(Worksheet!G386=\"\",Worksheet!H386=\"\")=TRUE,U362,IF(Worksheet!H386=\"\",\"\",Worksheet!H386)))","v":""},{"$f":"IF(Worksheet!N386=\"\",\"\",Worksheet!N386)","v":""},{"$f":"IF(Worksheet!O386=\"\",\"\",Worksheet!O386)","v":""},{"$f":"IF(Worksheet!F386=0,\"\",Worksheet!F386)","v":""},{"$f":"IF(Worksheet!P386=0,\"\",Worksheet!P386)","v":""},{"$f":"IF(Worksheet!$A$11=TRUE,\"Y\",\"N\")","v":"N"},{"$f":"IF(Worksheet!$A$12=TRUE,\"Y\",\"N\")","v":"N"},{"$f":"IF(Worksheet!$B$11=TRUE,\"Y\",\"N\")","v":"N"},{"$f":"IF(Worksheet!$B$12=TRUE,\"Y\",\"N\")","v":"N"},{"$f":"IF(Worksheet!$C$11=TRUE,\"Y\",\"N\")","v":"N"},{"$f":"IF(Worksheet!$C$12=TRUE,\"Y\",\"N\")","v":"N"},""]
[{"$f":"IF(ISERROR(VLOOKUP(Worksheet!N387,MeasureLookup,2,FALSE))=FALSE,VLOOKUP(Worksheet!N387,MeasureLookup,2,FALSE),\"\")","v":""},{"$f":"Worksheet!Q387","v":0},{"$f":"Worksheet!R387","v":0},{"$f":"IF(ISERROR(Worksheet!P387)=FALSE,Worksheet!P387,\"\")","v":0},"Watts",null,null,{"$f":"IF(Worksheet!AP387<>\"\",IF(Worksheet!AP387>0,Worksheet!AP387/IF(Worksheet!M387>0,Worksheet!M387,Worksheet!L387),\"\"),\"\")","v":""},{"$f":"IF(ISBLANK(Worksheet!L387)=FALSE,Worksheet!L387,\"\")","v":0},{"$f":"IF(Worksheet!L387<>0, IFERROR(VLOOKUP(Worksheet!$C$16,SavingsSupportTable,3,FALSE)*Worksheet!AQ387*IFERROR(1+VLOOKUP(Worksheet!$C$16,SavingsSupportTable,MATCH(Worksheet!$G$17,HVACe_Options,0)+4,FALSE),1)/IF(Worksheet!M387>0,Worksheet!M387,Worksheet!L387),\"\"),\"\")","v":""},{"$f":"IF(Worksheet!L387<>0, IFERROR(VLOOKUP(Worksheet!$C$16,SavingsSupportTable,2,FALSE)*Worksheet!AQ387*IF(IFERROR(MATCH(Worksheet!$G$17,HVACe_Options,0),0)>0,1+VLOOKUP(Worksheet!$C$16,SavingsSupportTable,4,FALSE),1)/IF(Worksheet!M387>0,Worksheet!M387,Worksheet!L387),\"\"),\"\")","v":""},"",{"$f":"IF(Worksheet!L387<>0,IFERROR(VLOOKUP(Worksheet!$C$16,SavingsSupportTable,3,FALSE)*Worksheet!AQ387*IF(IFERROR(SEARCH(\"Gas\",Worksheet!$G$17),0)>0,VLOOKUP(\"Gas\",HVACg_Lookup,MATCH(Worksheet!$G$16,BuildingSize,0)+1,FALSE),IF(IFERROR(SEARCH(\"Oil\",Worksheet!$G$17),0)>0,VLOOKUP(\"Oil\",HVACg_Lookup,MATCH(Worksheet!$G$16,BuildingSize,0)+1,FALSE),IF(IFERROR(SEARCH(\"Propane\",Worksheet!$G$17),0)>0,VLOOKUP(\"Propane\",HVACg_Lookup,MATCH(Worksheet!$G$16,BuildingSize,0)+1,FALSE),0)))/IF(Worksheet!M387>0,Worksheet!M387,Worksheet!L387),0),\"\")","v":""},"",null,null,null,{"$f":"IF(ISBLANK(Worksheet!M387)=FALSE,Worksheet!M387,\"\")","v":0},{"$f":"IF(Worksheet!A387=\"-\",\"\",IF(Worksheet!A387=\"\",S363,Worksheet!A387))","v":""},{"$f":"IF(S364=\"\",\"\",IF(AND(Worksheet!G387=\"\",Worksheet!H387=\"\")=TRUE,T363,IF(Worksheet!G387=\"\",\"\",Worksheet!G387)))","v":""},{"$f":"IF(S364=\"\",\"\",IF(AND(Worksheet!G387=\"\",Worksheet!H387=\"\")=TRUE,U363,IF(Worksheet!H387=\"\",\"\",Worksheet!H387)))","v":""},{"$f":"IF(Worksheet!N387=\"\",\"\",Worksheet!N387)","v":""},{"$f":"IF(Worksheet!O387=\"\",\"\",Worksheet!O387)","v":""},{"$f":"IF(Worksheet!F387=0,\"\",Worksheet!F387)","v":""},{"$f":"IF(Worksheet!P387=0,\"\",Worksheet!P387)","v":""},{"$f":"IF(Worksheet!$A$11=TRUE,\"Y\",\"N\")","v":"N"},{"$f":"IF(Worksheet!$A$12=TRUE,\"Y\",\"N\")","v":"N"},{"$f":"IF(Worksheet!$B$11=TRUE,\"Y\",\"N\")","v":"N"},{"$f":"IF(Worksheet!$B$12=TRUE,\"Y\",\"N\")","v":"N"},{"$f":"IF(Worksheet!$C$11=TRUE,\"Y\",\"N\")","v":"N"},{"$f":"IF(Worksheet!$C$12=TRUE,\"Y\",\"N\")","v":"N"},""]
[{"$f":"IF(ISERROR(VLOOKUP(Worksheet!N388,MeasureLookup,2,FALSE))=FALSE,VLOOKUP(Worksheet!N388,MeasureLookup,2,FALSE),\"\")","v":""},{"$f":"Worksheet!Q388","v":0},{"$f":"Worksheet!R388","v":0},{"$f":"IF(ISERROR(Worksheet!P388)=FALSE,Worksheet!P388,\"\")","v":0},"Watts",null,null,{"$f":"IF(Worksheet!AP388<>\"\",IF(Worksheet!AP388>0,Worksheet!AP388/IF(Worksheet!M388>0,Worksheet!M388,Worksheet!L388),\"\"),\"\")","v":""},{"$f":"IF(ISBLANK(Worksheet!L388)=FALSE,Worksheet!L388,\"\")","v":0},{"$f":"IF(Worksheet!L388<>0, IFERROR(VLOOKUP(Worksheet!$C$16,SavingsSupportTable,3,FALSE)*Worksheet!AQ388*IFERROR(1+VLOOKUP(Worksheet!$C$16,SavingsSupportTable,MATCH(Worksheet!$G$17,HVACe_Options,0)+4,FALSE),1)/IF(Worksheet!M388>0,Worksheet!M388,Worksheet!L388),\"\"),\"\")","v":""},{"$f":"IF(Worksheet!L388<>0, IFERROR(VLOOKUP(Worksheet!$C$16,SavingsSupportTable,2,FALSE)*Worksheet!AQ388*IF(IFERROR(MATCH(Worksheet!$G$17,HVACe_Options,0),0)>0,1+VLOOKUP(Worksheet!$C$16,SavingsSupportTable,4,FALSE),1)/IF(Worksheet!M388>0,Worksheet!M388,Worksheet!L388),\"\"),\"\")","v":""},"",{"$f":"IF(Worksheet!L388<>0,IFERROR(VLOOKUP(Worksheet!$C$16,SavingsSupportTable,3,FALSE)*Worksheet!AQ388*IF(IFERROR(SEARCH(\"Gas\",Worksheet!$G$17),0)>0,VLOOKUP(\"Gas\",HVACg_Lookup,MATCH(Worksheet!$G$16,BuildingSize,0)+1,FALSE),IF(IFERROR(SEARCH(\"Oil\",Worksheet!$G$17),0)>0,VLOOKUP(\"Oil\",HVACg_Lookup,MATCH(Worksheet!$G$16,BuildingSize,0)+1,FALSE),IF(IFERROR(SEARCH(\"Propane\",Worksheet!$G$17),0)>0,VLOOKUP(\"Propane\",HVACg_Lookup,MATCH(Worksheet!$G$16,BuildingSize,0)+1,FALSE),0)))/IF(Worksheet!M388>0,Worksheet!M388,Worksheet!L388),0),\"\")","v":""},"",null,null,null,{"$f":"IF(ISBLANK(Worksheet!M388)=FALSE,Worksheet!M388,\"\")","v":0},{"$f":"IF(Worksheet!A388=\"-\",\"\",IF(Worksheet!A388=\"\",S364,Worksheet!A388))","v":""},{"$f":"IF(S365=\"\",\"\",IF(AND(Worksheet!G388=\"\",Worksheet!H388=\"\")=TRUE,T364,IF(Worksheet!G388=\"\",\"\",Worksheet!G388)))","v":""},{"$f":"IF(S365=\"\",\"\",IF(AND(Worksheet!G388=\"\",Worksheet!H388=\"\")=TRUE,U364,IF(Worksheet!H388=\"\",\"\",Worksheet!H388)))","v":""},{"$f":"IF(Worksheet!N388=\"\",\"\",Worksheet!N388)","v":""},{"$f":"IF(Worksheet!O388=\"\",\"\",Worksheet!O388)","v":""},{"$f":"IF(Worksheet!F388=0,\"\",Worksheet!F388)","v":""},{"$f":"IF(Worksheet!P388=0,\"\",Worksheet!P388)","v":""},{"$f":"IF(Worksheet!$A$11=TRUE,\"Y\",\"N\")","v":"N"},{"$f":"IF(Worksheet!$A$12=TRUE,\"Y\",\"N\")","v":"N"},{"$f":"IF(Worksheet!$B$11=TRUE,\"Y\",\"N\")","v":"N"},{"$f":"IF(Worksheet!$B$12=TRUE,\"Y\",\"N\")","v":"N"},{"$f":"IF(Worksheet!$C$11=TRUE,\"Y\",\"N\")","v":"N"},{"$f":"IF(Worksheet!$C$12=TRUE,\"Y\",\"N\")","v":"N"},""]
[{"$f":"IF(ISERROR(VLOOKUP(Worksheet!N389,MeasureLookup,2,FALSE))=FALSE,VLOOKUP(Worksheet!N389,MeasureLookup,2,FALSE),\"\")","v":""},{"$f":"Worksheet!Q389","v":0},{"$f":"Worksheet!R389","v":0},{"$f":"IF(ISERROR(Worksheet!P389)=FALSE,Worksheet!P389,\"\")","v":0},"Watts",null,null,{"$f":"IF(Worksheet!AP389<>\"\",IF(Worksheet!AP389>0,Worksheet!AP389/IF(Worksheet!M389>0,Worksheet!M389,Worksheet!L389),\"\"),\"\")","v":""},{"$f":"IF(ISBLANK(Worksheet!L389)=FALSE,Worksheet!L389,\"\")","v":0},{"$f":"IF(Worksheet!L389<>0, IFERROR(VLOOKUP(Worksheet!$C$16,SavingsSupportTable,3,FALSE)*Worksheet!AQ389*IFERROR(1+VLOOKUP(Worksheet!$C$16,SavingsSupportTable,MATCH(Worksheet!$G$17,HVACe_Options,0)+4,FALSE),1)/IF(Worksheet!M389>0,Worksheet!M389,Worksheet!L389),\"\"),\"\")","v":""},{"$f":"IF(Worksheet!L389<>0, IFERROR(VLOOKUP(Worksheet!$C$16,SavingsSupportTable,2,FALSE)*Worksheet!AQ389*IF(IFERROR(MATCH(Worksheet!$G$17,HVACe_Options,0),0)>0,1+VLOOKUP(Worksheet!$C$16,SavingsSupportTable,4,FALSE),1)/IF(Worksheet!M389>0,Worksheet!M389,Worksheet!L389),\"\"),\"\")","v":""},"",{"$f":"IF(Worksheet!L389<>0,IFERROR(VLOOKUP(Worksheet!$C$16,SavingsSupportTable,3,FALSE)*Worksheet!AQ389*IF(IFERROR(SEARCH(\"Gas\",Worksheet!$G$17),0)>0,VLOOKUP(\"Gas\",HVACg_Lookup,MATCH(Worksheet!$G$16,BuildingSize,0)+1,FALSE),IF(IFERROR(SEARCH(\"Oil\",Worksheet!$G$17),0)>0,VLOOKUP(\"Oil\",HVACg_Lookup,MATCH(Worksheet!$G$16,BuildingSize,0)+1,FALSE),IF(IFERROR(SEARCH(\"Propane\",Worksheet!$G$17),0)>0,VLOOKUP(\"Propane\",HVACg_Lookup,MATCH(Worksheet!$G$16,BuildingSize,0)+1,FALSE),0)))/IF(Worksheet!M389>0,Worksheet!M389,Worksheet!L389),0),\"\")","v":""},"",null,null,null,{"$f":"IF(ISBLANK(Worksheet!M389)=FALSE,Worksheet!M389,\"\")","v":0},{"$f":"IF(Worksheet!A389=\"-\",\"\",IF(Worksheet!A389=\"\",S365,Worksheet!A389))","v":""},{"$f":"IF(S366=\"\",\"\",IF(AND(Worksheet!G389=\"\",Worksheet!H389=\"\")=TRUE,T365,IF(Worksheet!G389=\"\",\"\",Worksheet!G389)))","v":""},{"$f":"IF(S366=\"\",\"\",IF(AND(Worksheet!G389=\"\",Worksheet!H389=\"\")=TRUE,U365,IF(Worksheet!H389=\"\",\"\",Worksheet!H389)))","v":""},{"$f":"IF(Worksheet!N389=\"\",\"\",Worksheet!N389)","v":""},{"$f":"IF(Worksheet!O389=\"\",\"\",Worksheet!O389)","v":""},{"$f":"IF(Worksheet!F389=0,\"\",Worksheet!F389)","v":""},{"$f":"IF(Worksheet!P389=0,\"\",Worksheet!P389)","v":""},{"$f":"IF(Worksheet!$A$11=TRUE,\"Y\",\"N\")","v":"N"},{"$f":"IF(Worksheet!$A$12=TRUE,\"Y\",\"N\")","v":"N"},{"$f":"IF(Worksheet!$B$11=TRUE,\"Y\",\"N\")","v":"N"},{"$f":"IF(Worksheet!$B$12=TRUE,\"Y\",\"N\")","v":"N"},{"$f":"IF(Worksheet!$C$11=TRUE,\"Y\",\"N\")","v":"N"},{"$f":"IF(Worksheet!$C$12=TRUE,\"Y\",\"N\")","v":"N"},""]
[{"$f":"IF(ISERROR(VLOOKUP(Worksheet!N390,MeasureLookup,2,FALSE))=FALSE,VLOOKUP(Worksheet!N390,MeasureLookup,2,FALSE),\"\")","v":""},{"$f":"Worksheet!Q390","v":0},{"$f":"Worksheet!R390","v":0},{"$f":"IF(ISERROR(Worksheet!P390)=FALSE,Worksheet!P390,\"\")","v":0},"Watts",null,null,{"$f":"IF(Worksheet!AP390<>\"\",IF(Worksheet!AP390>0,Worksheet!AP390/IF(Worksheet!M390>0,Worksheet!M390,Worksheet!L390),\"\"),\"\")","v":""},{"$f":"IF(ISBLANK(Worksheet!L390)=FALSE,Worksheet!L390,\"\")","v":0},{"$f":"IF(Worksheet!L390<>0, IFERROR(VLOOKUP(Worksheet!$C$16,SavingsSupportTable,3,FALSE)*Worksheet!AQ390*IFERROR(1+VLOOKUP(Worksheet!$C$16,SavingsSupportTable,MATCH(Worksheet!$G$17,HVACe_Options,0)+4,FALSE),1)/IF(Worksheet!M390>0,Worksheet!M390,Worksheet!L390),\"\"),\"\")","v":""},{"$f":"IF(Worksheet!L390<>0, IFERROR(VLOOKUP(Worksheet!$C$16,SavingsSupportTable,2,FALSE)*Worksheet!AQ390*IF(IFERROR(MATCH(Worksheet!$G$17,HVACe_Options,0),0)>0,1+VLOOKUP(Worksheet!$C$16,SavingsSupportTable,4,FALSE),1)/IF(Worksheet!M390>0,Worksheet!M390,Worksheet!L390),\"\"),\"\")","v":""},"",{"$f":"IF(Worksheet!L390<>0,IFERROR(VLOOKUP(Worksheet!$C$16,SavingsSupportTable,3,FALSE)*Worksheet!AQ390*IF(IFERROR(SEARCH(\"Gas\",Worksheet!$G$17),0)>0,VLOOKUP(\"Gas\",HVACg_Lookup,MATCH(Worksheet!$G$16,BuildingSize,0)+1,FALSE),IF(IFERROR(SEARCH(\"Oil\",Worksheet!$G$17),0)>0,VLOOKUP(\"Oil\",HVACg_Lookup,MATCH(Worksheet!$G$16,BuildingSize,0)+1,FALSE),IF(IFERROR(SEARCH(\"Propane\",Worksheet!$G$17),0)>0,VLOOKUP(\"Propane\",HVACg_Lookup,MATCH(Worksheet!$G$16,BuildingSize,0)+1,FALSE),0)))/IF(Worksheet!M390>0,Worksheet!M390,Worksheet!L390),0),\"\")","v":""},"",null,null,null,{"$f":"IF(ISBLANK(Worksheet!M390)=FALSE,Worksheet!M390,\"\")","v":0},{"$f":"IF(Worksheet!A390=\"-\",\"\",IF(Worksheet!A390=\"\",S366,Worksheet!A390))","v":""},{"$f":"IF(S367=\"\",\"\",IF(AND(Worksheet!G390=\"\",Worksheet!H390=\"\")=TRUE,T366,IF(Worksheet!G390=\"\",\"\",Worksheet!G390)))","v":""},{"$f":"IF(S367=\"\",\"\",IF(AND(Worksheet!G390=\"\",Worksheet!H390=\"\")=TRUE,U366,IF(Worksheet!H390=\"\",\"\",Worksheet!H390)))","v":""},{"$f":"IF(Worksheet!N390=\"\",\"\",Worksheet!N390)","v":""},{"$f":"IF(Worksheet!O390=\"\",\"\",Worksheet!O390)","v":""},{"$f":"IF(Worksheet!F390=0,\"\",Worksheet!F390)","v":""},{"$f":"IF(Worksheet!P390=0,\"\",Worksheet!P390)","v":""},{"$f":"IF(Worksheet!$A$11=TRUE,\"Y\",\"N\")","v":"N"},{"$f":"IF(Worksheet!$A$12=TRUE,\"Y\",\"N\")","v":"N"},{"$f":"IF(Worksheet!$B$11=TRUE,\"Y\",\"N\")","v":"N"},{"$f":"IF(Worksheet!$B$12=TRUE,\"Y\",\"N\")","v":"N"},{"$f":"IF(Worksheet!$C$11=TRUE,\"Y\",\"N\")","v":"N"},{"$f":"IF(Worksheet!$C$12=TRUE,\"Y\",\"N\")","v":"N"},""]
[{"$f":"IF(ISERROR(VLOOKUP(Worksheet!N391,MeasureLookup,2,FALSE))=FALSE,VLOOKUP(Worksheet!N391,MeasureLookup,2,FALSE),\"\")","v":""},{"$f":"Worksheet!Q391","v":0},{"$f":"Worksheet!R391","v":0},{"$f":"IF(ISERROR(Worksheet!P391)=FALSE,Worksheet!P391,\"\")","v":0},"Watts",null,null,{"$f":"IF(Worksheet!AP391<>\"\",IF(Worksheet!AP391>0,Worksheet!AP391/IF(Worksheet!M391>0,Worksheet!M391,Worksheet!L391),\"\"),\"\")","v":""},{"$f":"IF(ISBLANK(Worksheet!L391)=FALSE,Worksheet!L391,\"\")","v":0},{"$f":"IF(Worksheet!L391<>0, IFERROR(VLOOKUP(Worksheet!$C$16,SavingsSupportTable,3,FALSE)*Worksheet!AQ391*IFERROR(1+VLOOKUP(Worksheet!$C$16,SavingsSupportTable,MATCH(Worksheet!$G$17,HVACe_Options,0)+4,FALSE),1)/IF(Worksheet!M391>0,Worksheet!M391,Worksheet!L391),\"\"),\"\")","v":""},{"$f":"IF(Worksheet!L391<>0, IFERROR(VLOOKUP(Worksheet!$C$16,SavingsSupportTable,2,FALSE)*Worksheet!AQ391*IF(IFERROR(MATCH(Worksheet!$G$17,HVACe_Options,0),0)>0,1+VLOOKUP(Worksheet!$C$16,SavingsSupportTable,4,FALSE),1)/IF(Worksheet!M391>0,Worksheet!M391,Worksheet!L391),\"\"),\"\")","v":""},"",{"$f":"IF(Worksheet!L391<>0,IFERROR(VLOOKUP(Worksheet!$C$16,SavingsSupportTable,3,FALSE)*Worksheet!AQ391*IF(IFERROR(SEARCH(\"Gas\",Worksheet!$G$17),0)>0,VLOOKUP(\"Gas\",HVACg_Lookup,MATCH(Worksheet!$G$16,BuildingSize,0)+1,FALSE),IF(IFERROR(SEARCH(\"Oil\",Worksheet!$G$17),0)>0,VLOOKUP(\"Oil\",HVACg_Lookup,MATCH(Worksheet!$G$16,BuildingSize,0)+1,FALSE),IF(IFERROR(SEARCH(\"Propane\",Worksheet!$G$17),0)>0,VLOOKUP(\"Propane\",HVACg_Lookup,MATCH(Worksheet!$G$16,BuildingSize,0)+1,FALSE),0)))/IF(Worksheet!M391>0,Worksheet!M391,Worksheet!L391),0),\"\")","v":""},"",null,null,null,{"$f":"IF(ISBLANK(Worksheet!M391)=FALSE,Worksheet!M391,\"\")","v":0},{"$f":"IF(Worksheet!A391=\"-\",\"\",IF(Worksheet!A391=\"\",S367,Worksheet!A391))","v":""},{"$f":"IF(S368=\"\",\"\",IF(AND(Worksheet!G391=\"\",Worksheet!H391=\"\")=TRUE,T367,IF(Worksheet!G391=\"\",\"\",Worksheet!G391)))","v":""},{"$f":"IF(S368=\"\",\"\",IF(AND(Worksheet!G391=\"\",Worksheet!H391=\"\")=TRUE,U367,IF(Worksheet!H391=\"\",\"\",Worksheet!H391)))","v":""},{"$f":"IF(Worksheet!N391=\"\",\"\",Worksheet!N391)","v":""},{"$f":"IF(Worksheet!O391=\"\",\"\",Worksheet!O391)","v":""},{"$f":"IF(Worksheet!F391=0,\"\",Worksheet!F391)","v":""},{"$f":"IF(Worksheet!P391=0,\"\",Worksheet!P391)","v":""},{"$f":"IF(Worksheet!$A$11=TRUE,\"Y\",\"N\")","v":"N"},{"$f":"IF(Worksheet!$A$12=TRUE,\"Y\",\"N\")","v":"N"},{"$f":"IF(Worksheet!$B$11=TRUE,\"Y\",\"N\")","v":"N"},{"$f":"IF(Worksheet!$B$12=TRUE,\"Y\",\"N\")","v":"N"},{"$f":"IF(Worksheet!$C$11=TRUE,\"Y\",\"N\")","v":"N"},{"$f":"IF(Worksheet!$C$12=TRUE,\"Y\",\"N\")","v":"N"},""]
[{"$f":"IF(ISERROR(VLOOKUP(Worksheet!N392,MeasureLookup,2,FALSE))=FALSE,VLOOKUP(Worksheet!N392,MeasureLookup,2,FALSE),\"\")","v":""},{"$f":"Worksheet!Q392","v":0},{"$f":"Worksheet!R392","v":0},{"$f":"IF(ISERROR(Worksheet!P392)=FALSE,Worksheet!P392,\"\")","v":0},"Watts",null,null,{"$f":"IF(Worksheet!AP392<>\"\",IF(Worksheet!AP392>0,Worksheet!AP392/IF(Worksheet!M392>0,Worksheet!M392,Worksheet!L392),\"\"),\"\")","v":""},{"$f":"IF(ISBLANK(Worksheet!L392)=FALSE,Worksheet!L392,\"\")","v":0},{"$f":"IF(Worksheet!L392<>0, IFERROR(VLOOKUP(Worksheet!$C$16,SavingsSupportTable,3,FALSE)*Worksheet!AQ392*IFERROR(1+VLOOKUP(Worksheet!$C$16,SavingsSupportTable,MATCH(Worksheet!$G$17,HVACe_Options,0)+4,FALSE),1)/IF(Worksheet!M392>0,Worksheet!M392,Worksheet!L392),\"\"),\"\")","v":""},{"$f":"IF(Worksheet!L392<>0, IFERROR(VLOOKUP(Worksheet!$C$16,SavingsSupportTable,2,FALSE)*Worksheet!AQ392*IF(IFERROR(MATCH(Worksheet!$G$17,HVACe_Options,0),0)>0,1+VLOOKUP(Worksheet!$C$16,SavingsSupportTable,4,FALSE),1)/IF(Worksheet!M392>0,Worksheet!M392,Worksheet!L392),\"\"),\"\")","v":""},"",{"$f":"IF(Worksheet!L392<>0,IFERROR(VLOOKUP(Worksheet!$C$16,SavingsSupportTable,3,FALSE)*Worksheet!AQ392*IF(IFERROR(SEARCH(\"Gas\",Worksheet!$G$17),0)>0,VLOOKUP(\"Gas\",HVACg_Lookup,MATCH(Worksheet!$G$16,BuildingSize,0)+1,FALSE),IF(IFERROR(SEARCH(\"Oil\",Worksheet!$G$17),0)>0,VLOOKUP(\"Oil\",HVACg_Lookup,MATCH(Worksheet!$G$16,BuildingSize,0)+1,FALSE),IF(IFERROR(SEARCH(\"Propane\",Worksheet!$G$17),0)>0,VLOOKUP(\"Propane\",HVACg_Lookup,MATCH(Worksheet!$G$16,BuildingSize,0)+1,FALSE),0)))/IF(Worksheet!M392>0,Worksheet!M392,Worksheet!L392),0),\"\")","v":""},"",null,null,null,{"$f":"IF(ISBLANK(Worksheet!M392)=FALSE,Worksheet!M392,\"\")","v":0},{"$f":"IF(Worksheet!A392=\"-\",\"\",IF(Worksheet!A392=\"\",S368,Worksheet!A392))","v":""},{"$f":"IF(S369=\"\",\"\",IF(AND(Worksheet!G392=\"\",Worksheet!H392=\"\")=TRUE,T368,IF(Worksheet!G392=\"\",\"\",Worksheet!G392)))","v":""},{"$f":"IF(S369=\"\",\"\",IF(AND(Worksheet!G392=\"\",Worksheet!H392=\"\")=TRUE,U368,IF(Worksheet!H392=\"\",\"\",Worksheet!H392)))","v":""},{"$f":"IF(Worksheet!N392=\"\",\"\",Worksheet!N392)","v":""},{"$f":"IF(Worksheet!O392=\"\",\"\",Worksheet!O392)","v":""},{"$f":"IF(Worksheet!F392=0,\"\",Worksheet!F392)","v":""},{"$f":"IF(Worksheet!P392=0,\"\",Worksheet!P392)","v":""},{"$f":"IF(Worksheet!$A$11=TRUE,\"Y\",\"N\")","v":"N"},{"$f":"IF(Worksheet!$A$12=TRUE,\"Y\",\"N\")","v":"N"},{"$f":"IF(Worksheet!$B$11=TRUE,\"Y\",\"N\")","v":"N"},{"$f":"IF(Worksheet!$B$12=TRUE,\"Y\",\"N\")","v":"N"},{"$f":"IF(Worksheet!$C$11=TRUE,\"Y\",\"N\")","v":"N"},{"$f":"IF(Worksheet!$C$12=TRUE,\"Y\",\"N\")","v":"N"},""]
[{"$f":"IF(ISERROR(VLOOKUP(Worksheet!N393,MeasureLookup,2,FALSE))=FALSE,VLOOKUP(Worksheet!N393,MeasureLookup,2,FALSE),\"\")","v":""},{"$f":"Worksheet!Q393","v":0},{"$f":"Worksheet!R393","v":0},{"$f":"IF(ISERROR(Worksheet!P393)=FALSE,Worksheet!P393,\"\")","v":0},"Watts",null,null,{"$f":"IF(Worksheet!AP393<>\"\",IF(Worksheet!AP393>0,Worksheet!AP393/IF(Worksheet!M393>0,Worksheet!M393,Worksheet!L393),\"\"),\"\")","v":""},{"$f":"IF(ISBLANK(Worksheet!L393)=FALSE,Worksheet!L393,\"\")","v":0},{"$f":"IF(Worksheet!L393<>0, IFERROR(VLOOKUP(Worksheet!$C$16,SavingsSupportTable,3,FALSE)*Worksheet!AQ393*IFERROR(1+VLOOKUP(Worksheet!$C$16,SavingsSupportTable,MATCH(Worksheet!$G$17,HVACe_Options,0)+4,FALSE),1)/IF(Worksheet!M393>0,Worksheet!M393,Worksheet!L393),\"\"),\"\")","v":""},{"$f":"IF(Worksheet!L393<>0, IFERROR(VLOOKUP(Worksheet!$C$16,SavingsSupportTable,2,FALSE)*Worksheet!AQ393*IF(IFERROR(MATCH(Worksheet!$G$17,HVACe_Options,0),0)>0,1+VLOOKUP(Worksheet!$C$16,SavingsSupportTable,4,FALSE),1)/IF(Worksheet!M393>0,Worksheet!M393,Worksheet!L393),\"\"),\"\")","v":""},"",{"$f":"IF(Worksheet!L393<>0,IFERROR(VLOOKUP(Worksheet!$C$16,SavingsSupportTable,3,FALSE)*Worksheet!AQ393*IF(IFERROR(SEARCH(\"Gas\",Worksheet!$G$17),0)>0,VLOOKUP(\"Gas\",HVACg_Lookup,MATCH(Worksheet!$G$16,BuildingSize,0)+1,FALSE),IF(IFERROR(SEARCH(\"Oil\",Worksheet!$G$17),0)>0,VLOOKUP(\"Oil\",HVACg_Lookup,MATCH(Worksheet!$G$16,BuildingSize,0)+1,FALSE),IF(IFERROR(SEARCH(\"Propane\",Worksheet!$G$17),0)>0,VLOOKUP(\"Propane\",HVACg_Lookup,MATCH(Worksheet!$G$16,BuildingSize,0)+1,FALSE),0)))/IF(Worksheet!M393>0,Worksheet!M393,Worksheet!L393),0),\"\")","v":""},"",null,null,null,{"$f":"IF(ISBLANK(Worksheet!M393)=FALSE,Worksheet!M393,\"\")","v":0},{"$f":"IF(Worksheet!A393=\"-\",\"\",IF(Worksheet!A393=\"\",S369,Worksheet!A393))","v":""},{"$f":"IF(S370=\"\",\"\",IF(AND(Worksheet!G393=\"\",Worksheet!H393=\"\")=TRUE,T369,IF(Worksheet!G393=\"\",\"\",Worksheet!G393)))","v":""},{"$f":"IF(S370=\"\",\"\",IF(AND(Worksheet!G393=\"\",Worksheet!H393=\"\")=TRUE,U369,IF(Worksheet!H393=\"\",\"\",Worksheet!H393)))","v":""},{"$f":"IF(Worksheet!N393=\"\",\"\",Worksheet!N393)","v":""},{"$f":"IF(Worksheet!O393=\"\",\"\",Worksheet!O393)","v":""},{"$f":"IF(Worksheet!F393=0,\"\",Worksheet!F393)","v":""},{"$f":"IF(Worksheet!P393=0,\"\",Worksheet!P393)","v":""},{"$f":"IF(Worksheet!$A$11=TRUE,\"Y\",\"N\")","v":"N"},{"$f":"IF(Worksheet!$A$12=TRUE,\"Y\",\"N\")","v":"N"},{"$f":"IF(Worksheet!$B$11=TRUE,\"Y\",\"N\")","v":"N"},{"$f":"IF(Worksheet!$B$12=TRUE,\"Y\",\"N\")","v":"N"},{"$f":"IF(Worksheet!$C$11=TRUE,\"Y\",\"N\")","v":"N"},{"$f":"IF(Worksheet!$C$12=TRUE,\"Y\",\"N\")","v":"N"},""]
[{"$f":"IF(ISERROR(VLOOKUP(Worksheet!N394,MeasureLookup,2,FALSE))=FALSE,VLOOKUP(Worksheet!N394,MeasureLookup,2,FALSE),\"\")","v":""},{"$f":"Worksheet!Q394","v":0},{"$f":"Worksheet!R394","v":0},{"$f":"IF(ISERROR(Worksheet!P394)=FALSE,Worksheet!P394,\"\")","v":0},"Watts",null,null,{"$f":"IF(Worksheet!AP394<>\"\",IF(Worksheet!AP394>0,Worksheet!AP394/IF(Worksheet!M394>0,Worksheet!M394,Worksheet!L394),\"\"),\"\")","v":""},{"$f":"IF(ISBLANK(Worksheet!L394)=FALSE,Worksheet!L394,\"\")","v":0},{"$f":"IF(Worksheet!L394<>0, IFERROR(VLOOKUP(Worksheet!$C$16,SavingsSupportTable,3,FALSE)*Worksheet!AQ394*IFERROR(1+VLOOKUP(Worksheet!$C$16,SavingsSupportTable,MATCH(Worksheet!$G$17,HVACe_Options,0)+4,FALSE),1)/IF(Worksheet!M394>0,Worksheet!M394,Worksheet!L394),\"\"),\"\")","v":""},{"$f":"IF(Worksheet!L394<>0, IFERROR(VLOOKUP(Worksheet!$C$16,SavingsSupportTable,2,FALSE)*Worksheet!AQ394*IF(IFERROR(MATCH(Worksheet!$G$17,HVACe_Options,0),0)>0,1+VLOOKUP(Worksheet!$C$16,SavingsSupportTable,4,FALSE),1)/IF(Worksheet!M394>0,Worksheet!M394,Worksheet!L394),\"\"),\"\")","v":""},"",{"$f":"IF(Worksheet!L394<>0,IFERROR(VLOOKUP(Worksheet!$C$16,SavingsSupportTable,3,FALSE)*Worksheet!AQ394*IF(IFERROR(SEARCH(\"Gas\",Worksheet!$G$17),0)>0,VLOOKUP(\"Gas\",HVACg_Lookup,MATCH(Worksheet!$G$16,BuildingSize,0)+1,FALSE),IF(IFERROR(SEARCH(\"Oil\",Worksheet!$G$17),0)>0,VLOOKUP(\"Oil\",HVACg_Lookup,MATCH(Worksheet!$G$16,BuildingSize,0)+1,FALSE),IF(IFERROR(SEARCH(\"Propane\",Worksheet!$G$17),0)>0,VLOOKUP(\"Propane\",HVACg_Lookup,MATCH(Worksheet!$G$16,BuildingSize,0)+1,FALSE),0)))/IF(Worksheet!M394>0,Worksheet!M394,Worksheet!L394),0),\"\")","v":""},"",null,null,null,{"$f":"IF(ISBLANK(Worksheet!M394)=FALSE,Worksheet!M394,\"\")","v":0},{"$f":"IF(Worksheet!A394=\"-\",\"\",IF(Worksheet!A394=\"\",S370,Worksheet!A394))","v":""},{"$f":"IF(S371=\"\",\"\",IF(AND(Worksheet!G394=\"\",Worksheet!H394=\"\")=TRUE,T370,IF(Worksheet!G394=\"\",\"\",Worksheet!G394)))","v":""},{"$f":"IF(S371=\"\",\"\",IF(AND(Worksheet!G394=\"\",Worksheet!H394=\"\")=TRUE,U370,IF(Worksheet!H394=\"\",\"\",Worksheet!H394)))","v":""},{"$f":"IF(Worksheet!N394=\"\",\"\",Worksheet!N394)","v":""},{"$f":"IF(Worksheet!O394=\"\",\"\",Worksheet!O394)","v":""},{"$f":"IF(Worksheet!F394=0,\"\",Worksheet!F394)","v":""},{"$f":"IF(Worksheet!P394=0,\"\",Worksheet!P394)","v":""},{"$f":"IF(Worksheet!$A$11=TRUE,\"Y\",\"N\")","v":"N"},{"$f":"IF(Worksheet!$A$12=TRUE,\"Y\",\"N\")","v":"N"},{"$f":"IF(Worksheet!$B$11=TRUE,\"Y\",\"N\")","v":"N"},{"$f":"IF(Worksheet!$B$12=TRUE,\"Y\",\"N\")","v":"N"},{"$f":"IF(Worksheet!$C$11=TRUE,\"Y\",\"N\")","v":"N"},{"$f":"IF(Worksheet!$C$12=TRUE,\"Y\",\"N\")","v":"N"},""]
[{"$f":"IF(ISERROR(VLOOKUP(Worksheet!N395,MeasureLookup,2,FALSE))=FALSE,VLOOKUP(Worksheet!N395,MeasureLookup,2,FALSE),\"\")","v":""},{"$f":"Worksheet!Q395","v":0},{"$f":"Worksheet!R395","v":0},{"$f":"IF(ISERROR(Worksheet!P395)=FALSE,Worksheet!P395,\"\")","v":0},"Watts",null,null,{"$f":"IF(Worksheet!AP395<>\"\",IF(Worksheet!AP395>0,Worksheet!AP395/IF(Worksheet!M395>0,Worksheet!M395,Worksheet!L395),\"\"),\"\")","v":""},{"$f":"IF(ISBLANK(Worksheet!L395)=FALSE,Worksheet!L395,\"\")","v":0},{"$f":"IF(Worksheet!L395<>0, IFERROR(VLOOKUP(Worksheet!$C$16,SavingsSupportTable,3,FALSE)*Worksheet!AQ395*IFERROR(1+VLOOKUP(Worksheet!$C$16,SavingsSupportTable,MATCH(Worksheet!$G$17,HVACe_Options,0)+4,FALSE),1)/IF(Worksheet!M395>0,Worksheet!M395,Worksheet!L395),\"\"),\"\")","v":""},{"$f":"IF(Worksheet!L395<>0, IFERROR(VLOOKUP(Worksheet!$C$16,SavingsSupportTable,2,FALSE)*Worksheet!AQ395*IF(IFERROR(MATCH(Worksheet!$G$17,HVACe_Options,0),0)>0,1+VLOOKUP(Worksheet!$C$16,SavingsSupportTable,4,FALSE),1)/IF(Worksheet!M395>0,Worksheet!M395,Worksheet!L395),\"\"),\"\")","v":""},"",{"$f":"IF(Worksheet!L395<>0,IFERROR(VLOOKUP(Worksheet!$C$16,SavingsSupportTable,3,FALSE)*Worksheet!AQ395*IF(IFERROR(SEARCH(\"Gas\",Worksheet!$G$17),0)>0,VLOOKUP(\"Gas\",HVACg_Lookup,MATCH(Worksheet!$G$16,BuildingSize,0)+1,FALSE),IF(IFERROR(SEARCH(\"Oil\",Worksheet!$G$17),0)>0,VLOOKUP(\"Oil\",HVACg_Lookup,MATCH(Worksheet!$G$16,BuildingSize,0)+1,FALSE),IF(IFERROR(SEARCH(\"Propane\",Worksheet!$G$17),0)>0,VLOOKUP(\"Propane\",HVACg_Lookup,MATCH(Worksheet!$G$16,BuildingSize,0)+1,FALSE),0)))/IF(Worksheet!M395>0,Worksheet!M395,Worksheet!L395),0),\"\")","v":""},"",null,null,null,{"$f":"IF(ISBLANK(Worksheet!M395)=FALSE,Worksheet!M395,\"\")","v":0},{"$f":"IF(Worksheet!A395=\"-\",\"\",IF(Worksheet!A395=\"\",S371,Worksheet!A395))","v":""},{"$f":"IF(S372=\"\",\"\",IF(AND(Worksheet!G395=\"\",Worksheet!H395=\"\")=TRUE,T371,IF(Worksheet!G395=\"\",\"\",Worksheet!G395)))","v":""},{"$f":"IF(S372=\"\",\"\",IF(AND(Worksheet!G395=\"\",Worksheet!H395=\"\")=TRUE,U371,IF(Worksheet!H395=\"\",\"\",Worksheet!H395)))","v":""},{"$f":"IF(Worksheet!N395=\"\",\"\",Worksheet!N395)","v":""},{"$f":"IF(Worksheet!O395=\"\",\"\",Worksheet!O395)","v":""},{"$f":"IF(Worksheet!F395=0,\"\",Worksheet!F395)","v":""},{"$f":"IF(Worksheet!P395=0,\"\",Worksheet!P395)","v":""},{"$f":"IF(Worksheet!$A$11=TRUE,\"Y\",\"N\")","v":"N"},{"$f":"IF(Worksheet!$A$12=TRUE,\"Y\",\"N\")","v":"N"},{"$f":"IF(Worksheet!$B$11=TRUE,\"Y\",\"N\")","v":"N"},{"$f":"IF(Worksheet!$B$12=TRUE,\"Y\",\"N\")","v":"N"},{"$f":"IF(Worksheet!$C$11=TRUE,\"Y\",\"N\")","v":"N"},{"$f":"IF(Worksheet!$C$12=TRUE,\"Y\",\"N\")","v":"N"},""]
[{"$f":"IF(ISERROR(VLOOKUP(Worksheet!N396,MeasureLookup,2,FALSE))=FALSE,VLOOKUP(Worksheet!N396,MeasureLookup,2,FALSE),\"\")","v":""},{"$f":"Worksheet!Q396","v":0},{"$f":"Worksheet!R396","v":0},{"$f":"IF(ISERROR(Worksheet!P396)=FALSE,Worksheet!P396,\"\")","v":0},"Watts",null,null,{"$f":"IF(Worksheet!AP396<>\"\",IF(Worksheet!AP396>0,Worksheet!AP396/IF(Worksheet!M396>0,Worksheet!M396,Worksheet!L396),\"\"),\"\")","v":""},{"$f":"IF(ISBLANK(Worksheet!L396)=FALSE,Worksheet!L396,\"\")","v":0},{"$f":"IF(Worksheet!L396<>0, IFERROR(VLOOKUP(Worksheet!$C$16,SavingsSupportTable,3,FALSE)*Worksheet!AQ396*IFERROR(1+VLOOKUP(Worksheet!$C$16,SavingsSupportTable,MATCH(Worksheet!$G$17,HVACe_Options,0)+4,FALSE),1)/IF(Worksheet!M396>0,Worksheet!M396,Worksheet!L396),\"\"),\"\")","v":""},{"$f":"IF(Worksheet!L396<>0, IFERROR(VLOOKUP(Worksheet!$C$16,SavingsSupportTable,2,FALSE)*Worksheet!AQ396*IF(IFERROR(MATCH(Worksheet!$G$17,HVACe_Options,0),0)>0,1+VLOOKUP(Worksheet!$C$16,SavingsSupportTable,4,FALSE),1)/IF(Worksheet!M396>0,Worksheet!M396,Worksheet!L396),\"\"),\"\")","v":""},"",{"$f":"IF(Worksheet!L396<>0,IFERROR(VLOOKUP(Worksheet!$C$16,SavingsSupportTable,3,FALSE)*Worksheet!AQ396*IF(IFERROR(SEARCH(\"Gas\",Worksheet!$G$17),0)>0,VLOOKUP(\"Gas\",HVACg_Lookup,MATCH(Worksheet!$G$16,BuildingSize,0)+1,FALSE),IF(IFERROR(SEARCH(\"Oil\",Worksheet!$G$17),0)>0,VLOOKUP(\"Oil\",HVACg_Lookup,MATCH(Worksheet!$G$16,BuildingSize,0)+1,FALSE),IF(IFERROR(SEARCH(\"Propane\",Worksheet!$G$17),0)>0,VLOOKUP(\"Propane\",HVACg_Lookup,MATCH(Worksheet!$G$16,BuildingSize,0)+1,FALSE),0)))/IF(Worksheet!M396>0,Worksheet!M396,Worksheet!L396),0),\"\")","v":""},"",null,null,null,{"$f":"IF(ISBLANK(Worksheet!M396)=FALSE,Worksheet!M396,\"\")","v":0},{"$f":"IF(Worksheet!A396=\"-\",\"\",IF(Worksheet!A396=\"\",S372,Worksheet!A396))","v":""},{"$f":"IF(S373=\"\",\"\",IF(AND(Worksheet!G396=\"\",Worksheet!H396=\"\")=TRUE,T372,IF(Worksheet!G396=\"\",\"\",Worksheet!G396)))","v":""},{"$f":"IF(S373=\"\",\"\",IF(AND(Worksheet!G396=\"\",Worksheet!H396=\"\")=TRUE,U372,IF(Worksheet!H396=\"\",\"\",Worksheet!H396)))","v":""},{"$f":"IF(Worksheet!N396=\"\",\"\",Worksheet!N396)","v":""},{"$f":"IF(Worksheet!O396=\"\",\"\",Worksheet!O396)","v":""},{"$f":"IF(Worksheet!F396=0,\"\",Worksheet!F396)","v":""},{"$f":"IF(Worksheet!P396=0,\"\",Worksheet!P396)","v":""},{"$f":"IF(Worksheet!$A$11=TRUE,\"Y\",\"N\")","v":"N"},{"$f":"IF(Worksheet!$A$12=TRUE,\"Y\",\"N\")","v":"N"},{"$f":"IF(Worksheet!$B$11=TRUE,\"Y\",\"N\")","v":"N"},{"$f":"IF(Worksheet!$B$12=TRUE,\"Y\",\"N\")","v":"N"},{"$f":"IF(Worksheet!$C$11=TRUE,\"Y\",\"N\")","v":"N"},{"$f":"IF(Worksheet!$C$12=TRUE,\"Y\",\"N\")","v":"N"},""]
[{"$f":"IF(ISERROR(VLOOKUP(Worksheet!N397,MeasureLookup,2,FALSE))=FALSE,VLOOKUP(Worksheet!N397,MeasureLookup,2,FALSE),\"\")","v":""},{"$f":"Worksheet!Q397","v":0},{"$f":"Worksheet!R397","v":0},{"$f":"IF(ISERROR(Worksheet!P397)=FALSE,Worksheet!P397,\"\")","v":0},"Watts",null,null,{"$f":"IF(Worksheet!AP397<>\"\",IF(Worksheet!AP397>0,Worksheet!AP397/IF(Worksheet!M397>0,Worksheet!M397,Worksheet!L397),\"\"),\"\")","v":""},{"$f":"IF(ISBLANK(Worksheet!L397)=FALSE,Worksheet!L397,\"\")","v":0},{"$f":"IF(Worksheet!L397<>0, IFERROR(VLOOKUP(Worksheet!$C$16,SavingsSupportTable,3,FALSE)*Worksheet!AQ397*IFERROR(1+VLOOKUP(Worksheet!$C$16,SavingsSupportTable,MATCH(Worksheet!$G$17,HVACe_Options,0)+4,FALSE),1)/IF(Worksheet!M397>0,Worksheet!M397,Worksheet!L397),\"\"),\"\")","v":""},{"$f":"IF(Worksheet!L397<>0, IFERROR(VLOOKUP(Worksheet!$C$16,SavingsSupportTable,2,FALSE)*Worksheet!AQ397*IF(IFERROR(MATCH(Worksheet!$G$17,HVACe_Options,0),0)>0,1+VLOOKUP(Worksheet!$C$16,SavingsSupportTable,4,FALSE),1)/IF(Worksheet!M397>0,Worksheet!M397,Worksheet!L397),\"\"),\"\")","v":""},"",{"$f":"IF(Worksheet!L397<>0,IFERROR(VLOOKUP(Worksheet!$C$16,SavingsSupportTable,3,FALSE)*Worksheet!AQ397*IF(IFERROR(SEARCH(\"Gas\",Worksheet!$G$17),0)>0,VLOOKUP(\"Gas\",HVACg_Lookup,MATCH(Worksheet!$G$16,BuildingSize,0)+1,FALSE),IF(IFERROR(SEARCH(\"Oil\",Worksheet!$G$17),0)>0,VLOOKUP(\"Oil\",HVACg_Lookup,MATCH(Worksheet!$G$16,BuildingSize,0)+1,FALSE),IF(IFERROR(SEARCH(\"Propane\",Worksheet!$G$17),0)>0,VLOOKUP(\"Propane\",HVACg_Lookup,MATCH(Worksheet!$G$16,BuildingSize,0)+1,FALSE),0)))/IF(Worksheet!M397>0,Worksheet!M397,Worksheet!L397),0),\"\")","v":""},"",null,null,null,{"$f":"IF(ISBLANK(Worksheet!M397)=FALSE,Worksheet!M397,\"\")","v":0},{"$f":"IF(Worksheet!A397=\"-\",\"\",IF(Worksheet!A397=\"\",S373,Worksheet!A397))","v":""},{"$f":"IF(S374=\"\",\"\",IF(AND(Worksheet!G397=\"\",Worksheet!H397=\"\")=TRUE,T373,IF(Worksheet!G397=\"\",\"\",Worksheet!G397)))","v":""},{"$f":"IF(S374=\"\",\"\",IF(AND(Worksheet!G397=\"\",Worksheet!H397=\"\")=TRUE,U373,IF(Worksheet!H397=\"\",\"\",Worksheet!H397)))","v":""},{"$f":"IF(Worksheet!N397=\"\",\"\",Worksheet!N397)","v":""},{"$f":"IF(Worksheet!O397=\"\",\"\",Worksheet!O397)","v":""},{"$f":"IF(Worksheet!F397=0,\"\",Worksheet!F397)","v":""},{"$f":"IF(Worksheet!P397=0,\"\",Worksheet!P397)","v":""},{"$f":"IF(Worksheet!$A$11=TRUE,\"Y\",\"N\")","v":"N"},{"$f":"IF(Worksheet!$A$12=TRUE,\"Y\",\"N\")","v":"N"},{"$f":"IF(Worksheet!$B$11=TRUE,\"Y\",\"N\")","v":"N"},{"$f":"IF(Worksheet!$B$12=TRUE,\"Y\",\"N\")","v":"N"},{"$f":"IF(Worksheet!$C$11=TRUE,\"Y\",\"N\")","v":"N"},{"$f":"IF(Worksheet!$C$12=TRUE,\"Y\",\"N\")","v":"N"},""]
[{"$f":"IF(ISERROR(VLOOKUP(Worksheet!N398,MeasureLookup,2,FALSE))=FALSE,VLOOKUP(Worksheet!N398,MeasureLookup,2,FALSE),\"\")","v":""},{"$f":"Worksheet!Q398","v":0},{"$f":"Worksheet!R398","v":0},{"$f":"IF(ISERROR(Worksheet!P398)=FALSE,Worksheet!P398,\"\")","v":0},"Watts",null,null,{"$f":"IF(Worksheet!AP398<>\"\",IF(Worksheet!AP398>0,Worksheet!AP398/IF(Worksheet!M398>0,Worksheet!M398,Worksheet!L398),\"\"),\"\")","v":""},{"$f":"IF(ISBLANK(Worksheet!L398)=FALSE,Worksheet!L398,\"\")","v":0},{"$f":"IF(Worksheet!L398<>0, IFERROR(VLOOKUP(Worksheet!$C$16,SavingsSupportTable,3,FALSE)*Worksheet!AQ398*IFERROR(1+VLOOKUP(Worksheet!$C$16,SavingsSupportTable,MATCH(Worksheet!$G$17,HVACe_Options,0)+4,FALSE),1)/IF(Worksheet!M398>0,Worksheet!M398,Worksheet!L398),\"\"),\"\")","v":""},{"$f":"IF(Worksheet!L398<>0, IFERROR(VLOOKUP(Worksheet!$C$16,SavingsSupportTable,2,FALSE)*Worksheet!AQ398*IF(IFERROR(MATCH(Worksheet!$G$17,HVACe_Options,0),0)>0,1+VLOOKUP(Worksheet!$C$16,SavingsSupportTable,4,FALSE),1)/IF(Worksheet!M398>0,Worksheet!M398,Worksheet!L398),\"\"),\"\")","v":""},"",{"$f":"IF(Worksheet!L398<>0,IFERROR(VLOOKUP(Worksheet!$C$16,SavingsSupportTable,3,FALSE)*Worksheet!AQ398*IF(IFERROR(SEARCH(\"Gas\",Worksheet!$G$17),0)>0,VLOOKUP(\"Gas\",HVACg_Lookup,MATCH(Worksheet!$G$16,BuildingSize,0)+1,FALSE),IF(IFERROR(SEARCH(\"Oil\",Worksheet!$G$17),0)>0,VLOOKUP(\"Oil\",HVACg_Lookup,MATCH(Worksheet!$G$16,BuildingSize,0)+1,FALSE),IF(IFERROR(SEARCH(\"Propane\",Worksheet!$G$17),0)>0,VLOOKUP(\"Propane\",HVACg_Lookup,MATCH(Worksheet!$G$16,BuildingSize,0)+1,FALSE),0)))/IF(Worksheet!M398>0,Worksheet!M398,Worksheet!L398),0),\"\")","v":""},"",null,null,null,{"$f":"IF(ISBLANK(Worksheet!M398)=FALSE,Worksheet!M398,\"\")","v":0},{"$f":"IF(Worksheet!A398=\"-\",\"\",IF(Worksheet!A398=\"\",S374,Worksheet!A398))","v":""},{"$f":"IF(S375=\"\",\"\",IF(AND(Worksheet!G398=\"\",Worksheet!H398=\"\")=TRUE,T374,IF(Worksheet!G398=\"\",\"\",Worksheet!G398)))","v":""},{"$f":"IF(S375=\"\",\"\",IF(AND(Worksheet!G398=\"\",Worksheet!H398=\"\")=TRUE,U374,IF(Worksheet!H398=\"\",\"\",Worksheet!H398)))","v":""},{"$f":"IF(Worksheet!N398=\"\",\"\",Worksheet!N398)","v":""},{"$f":"IF(Worksheet!O398=\"\",\"\",Worksheet!O398)","v":""},{"$f":"IF(Worksheet!F398=0,\"\",Worksheet!F398)","v":""},{"$f":"IF(Worksheet!P398=0,\"\",Worksheet!P398)","v":""},{"$f":"IF(Worksheet!$A$11=TRUE,\"Y\",\"N\")","v":"N"},{"$f":"IF(Worksheet!$A$12=TRUE,\"Y\",\"N\")","v":"N"},{"$f":"IF(Worksheet!$B$11=TRUE,\"Y\",\"N\")","v":"N"},{"$f":"IF(Worksheet!$B$12=TRUE,\"Y\",\"N\")","v":"N"},{"$f":"IF(Worksheet!$C$11=TRUE,\"Y\",\"N\")","v":"N"},{"$f":"IF(Worksheet!$C$12=TRUE,\"Y\",\"N\")","v":"N"},""]
[{"$f":"IF(ISERROR(VLOOKUP(Worksheet!N399,MeasureLookup,2,FALSE))=FALSE,VLOOKUP(Worksheet!N399,MeasureLookup,2,FALSE),\"\")","v":""},{"$f":"Worksheet!Q399","v":0},{"$f":"Worksheet!R399","v":0},{"$f":"IF(ISERROR(Worksheet!P399)=FALSE,Worksheet!P399,\"\")","v":0},"Watts",null,null,{"$f":"IF(Worksheet!AP399<>\"\",IF(Worksheet!AP399>0,Worksheet!AP399/IF(Worksheet!M399>0,Worksheet!M399,Worksheet!L399),\"\"),\"\")","v":""},{"$f":"IF(ISBLANK(Worksheet!L399)=FALSE,Worksheet!L399,\"\")","v":0},{"$f":"IF(Worksheet!L399<>0, IFERROR(VLOOKUP(Worksheet!$C$16,SavingsSupportTable,3,FALSE)*Worksheet!AQ399*IFERROR(1+VLOOKUP(Worksheet!$C$16,SavingsSupportTable,MATCH(Worksheet!$G$17,HVACe_Options,0)+4,FALSE),1)/IF(Worksheet!M399>0,Worksheet!M399,Worksheet!L399),\"\"),\"\")","v":""},{"$f":"IF(Worksheet!L399<>0, IFERROR(VLOOKUP(Worksheet!$C$16,SavingsSupportTable,2,FALSE)*Worksheet!AQ399*IF(IFERROR(MATCH(Worksheet!$G$17,HVACe_Options,0),0)>0,1+VLOOKUP(Worksheet!$C$16,SavingsSupportTable,4,FALSE),1)/IF(Worksheet!M399>0,Worksheet!M399,Worksheet!L399),\"\"),\"\")","v":""},"",{"$f":"IF(Worksheet!L399<>0,IFERROR(VLOOKUP(Worksheet!$C$16,SavingsSupportTable,3,FALSE)*Worksheet!AQ399*IF(IFERROR(SEARCH(\"Gas\",Worksheet!$G$17),0)>0,VLOOKUP(\"Gas\",HVACg_Lookup,MATCH(Worksheet!$G$16,BuildingSize,0)+1,FALSE),IF(IFERROR(SEARCH(\"Oil\",Worksheet!$G$17),0)>0,VLOOKUP(\"Oil\",HVACg_Lookup,MATCH(Worksheet!$G$16,BuildingSize,0)+1,FALSE),IF(IFERROR(SEARCH(\"Propane\",Worksheet!$G$17),0)>0,VLOOKUP(\"Propane\",HVACg_Lookup,MATCH(Worksheet!$G$16,BuildingSize,0)+1,FALSE),0)))/IF(Worksheet!M399>0,Worksheet!M399,Worksheet!L399),0),\"\")","v":""},"",null,null,null,{"$f":"IF(ISBLANK(Worksheet!M399)=FALSE,Worksheet!M399,\"\")","v":0},{"$f":"IF(Worksheet!A399=\"-\",\"\",IF(Worksheet!A399=\"\",S375,Worksheet!A399))","v":""},{"$f":"IF(S376=\"\",\"\",IF(AND(Worksheet!G399=\"\",Worksheet!H399=\"\")=TRUE,T375,IF(Worksheet!G399=\"\",\"\",Worksheet!G399)))","v":""},{"$f":"IF(S376=\"\",\"\",IF(AND(Worksheet!G399=\"\",Worksheet!H399=\"\")=TRUE,U375,IF(Worksheet!H399=\"\",\"\",Worksheet!H399)))","v":""},{"$f":"IF(Worksheet!N399=\"\",\"\",Worksheet!N399)","v":""},{"$f":"IF(Worksheet!O399=\"\",\"\",Worksheet!O399)","v":""},{"$f":"IF(Worksheet!F399=0,\"\",Worksheet!F399)","v":""},{"$f":"IF(Worksheet!P399=0,\"\",Worksheet!P399)","v":""},{"$f":"IF(Worksheet!$A$11=TRUE,\"Y\",\"N\")","v":"N"},{"$f":"IF(Worksheet!$A$12=TRUE,\"Y\",\"N\")","v":"N"},{"$f":"IF(Worksheet!$B$11=TRUE,\"Y\",\"N\")","v":"N"},{"$f":"IF(Worksheet!$B$12=TRUE,\"Y\",\"N\")","v":"N"},{"$f":"IF(Worksheet!$C$11=TRUE,\"Y\",\"N\")","v":"N"},{"$f":"IF(Worksheet!$C$12=TRUE,\"Y\",\"N\")","v":"N"},""]
[{"$f":"IF(ISERROR(VLOOKUP(Worksheet!N400,MeasureLookup,2,FALSE))=FALSE,VLOOKUP(Worksheet!N400,MeasureLookup,2,FALSE),\"\")","v":""},{"$f":"Worksheet!Q400","v":0},{"$f":"Worksheet!R400","v":0},{"$f":"IF(ISERROR(Worksheet!P400)=FALSE,Worksheet!P400,\"\")","v":0},"Watts",null,null,{"$f":"IF(Worksheet!AP400<>\"\",IF(Worksheet!AP400>0,Worksheet!AP400/IF(Worksheet!M400>0,Worksheet!M400,Worksheet!L400),\"\"),\"\")","v":""},{"$f":"IF(ISBLANK(Worksheet!L400)=FALSE,Worksheet!L400,\"\")","v":0},{"$f":"IF(Worksheet!L400<>0, IFERROR(VLOOKUP(Worksheet!$C$16,SavingsSupportTable,3,FALSE)*Worksheet!AQ400*IFERROR(1+VLOOKUP(Worksheet!$C$16,SavingsSupportTable,MATCH(Worksheet!$G$17,HVACe_Options,0)+4,FALSE),1)/IF(Worksheet!M400>0,Worksheet!M400,Worksheet!L400),\"\"),\"\")","v":""},{"$f":"IF(Worksheet!L400<>0, IFERROR(VLOOKUP(Worksheet!$C$16,SavingsSupportTable,2,FALSE)*Worksheet!AQ400*IF(IFERROR(MATCH(Worksheet!$G$17,HVACe_Options,0),0)>0,1+VLOOKUP(Worksheet!$C$16,SavingsSupportTable,4,FALSE),1)/IF(Worksheet!M400>0,Worksheet!M400,Worksheet!L400),\"\"),\"\")","v":""},"",{"$f":"IF(Worksheet!L400<>0,IFERROR(VLOOKUP(Worksheet!$C$16,SavingsSupportTable,3,FALSE)*Worksheet!AQ400*IF(IFERROR(SEARCH(\"Gas\",Worksheet!$G$17),0)>0,VLOOKUP(\"Gas\",HVACg_Lookup,MATCH(Worksheet!$G$16,BuildingSize,0)+1,FALSE),IF(IFERROR(SEARCH(\"Oil\",Worksheet!$G$17),0)>0,VLOOKUP(\"Oil\",HVACg_Lookup,MATCH(Worksheet!$G$16,BuildingSize,0)+1,FALSE),IF(IFERROR(SEARCH(\"Propane\",Worksheet!$G$17),0)>0,VLOOKUP(\"Propane\",HVACg_Lookup,MATCH(Worksheet!$G$16,BuildingSize,0)+1,FALSE),0)))/IF(Worksheet!M400>0,Worksheet!M400,Worksheet!L400),0),\"\")","v":""},"",null,null,null,{"$f":"IF(ISBLANK(Worksheet!M400)=FALSE,Worksheet!M400,\"\")","v":0},{"$f":"IF(Worksheet!A400=\"-\",\"\",IF(Worksheet!A400=\"\",S376,Worksheet!A400))","v":""},{"$f":"IF(S377=\"\",\"\",IF(AND(Worksheet!G400=\"\",Worksheet!H400=\"\")=TRUE,T376,IF(Worksheet!G400=\"\",\"\",Worksheet!G400)))","v":""},{"$f":"IF(S377=\"\",\"\",IF(AND(Worksheet!G400=\"\",Worksheet!H400=\"\")=TRUE,U376,IF(Worksheet!H400=\"\",\"\",Worksheet!H400)))","v":""},{"$f":"IF(Worksheet!N400=\"\",\"\",Worksheet!N400)","v":""},{"$f":"IF(Worksheet!O400=\"\",\"\",Worksheet!O400)","v":""},{"$f":"IF(Worksheet!F400=0,\"\",Worksheet!F400)","v":""},{"$f":"IF(Worksheet!P400=0,\"\",Worksheet!P400)","v":""},{"$f":"IF(Worksheet!$A$11=TRUE,\"Y\",\"N\")","v":"N"},{"$f":"IF(Worksheet!$A$12=TRUE,\"Y\",\"N\")","v":"N"},{"$f":"IF(Worksheet!$B$11=TRUE,\"Y\",\"N\")","v":"N"},{"$f":"IF(Worksheet!$B$12=TRUE,\"Y\",\"N\")","v":"N"},{"$f":"IF(Worksheet!$C$11=TRUE,\"Y\",\"N\")","v":"N"},{"$f":"IF(Worksheet!$C$12=TRUE,\"Y\",\"N\")","v":"N"},""]
[{"$f":"IF(ISERROR(VLOOKUP(Worksheet!N401,MeasureLookup,2,FALSE))=FALSE,VLOOKUP(Worksheet!N401,MeasureLookup,2,FALSE),\"\")","v":""},{"$f":"Worksheet!Q401","v":0},{"$f":"Worksheet!R401","v":0},{"$f":"IF(ISERROR(Worksheet!P401)=FALSE,Worksheet!P401,\"\")","v":0},"Watts",null,null,{"$f":"IF(Worksheet!AP401<>\"\",IF(Worksheet!AP401>0,Worksheet!AP401/IF(Worksheet!M401>0,Worksheet!M401,Worksheet!L401),\"\"),\"\")","v":""},{"$f":"IF(ISBLANK(Worksheet!L401)=FALSE,Worksheet!L401,\"\")","v":0},{"$f":"IF(Worksheet!L401<>0, IFERROR(VLOOKUP(Worksheet!$C$16,SavingsSupportTable,3,FALSE)*Worksheet!AQ401*IFERROR(1+VLOOKUP(Worksheet!$C$16,SavingsSupportTable,MATCH(Worksheet!$G$17,HVACe_Options,0)+4,FALSE),1)/IF(Worksheet!M401>0,Worksheet!M401,Worksheet!L401),\"\"),\"\")","v":""},{"$f":"IF(Worksheet!L401<>0, IFERROR(VLOOKUP(Worksheet!$C$16,SavingsSupportTable,2,FALSE)*Worksheet!AQ401*IF(IFERROR(MATCH(Worksheet!$G$17,HVACe_Options,0),0)>0,1+VLOOKUP(Worksheet!$C$16,SavingsSupportTable,4,FALSE),1)/IF(Worksheet!M401>0,Worksheet!M401,Worksheet!L401),\"\"),\"\")","v":""},"",{"$f":"IF(Worksheet!L401<>0,IFERROR(VLOOKUP(Worksheet!$C$16,SavingsSupportTable,3,FALSE)*Worksheet!AQ401*IF(IFERROR(SEARCH(\"Gas\",Worksheet!$G$17),0)>0,VLOOKUP(\"Gas\",HVACg_Lookup,MATCH(Worksheet!$G$16,BuildingSize,0)+1,FALSE),IF(IFERROR(SEARCH(\"Oil\",Worksheet!$G$17),0)>0,VLOOKUP(\"Oil\",HVACg_Lookup,MATCH(Worksheet!$G$16,BuildingSize,0)+1,FALSE),IF(IFERROR(SEARCH(\"Propane\",Worksheet!$G$17),0)>0,VLOOKUP(\"Propane\",HVACg_Lookup,MATCH(Worksheet!$G$16,BuildingSize,0)+1,FALSE),0)))/IF(Worksheet!M401>0,Worksheet!M401,Worksheet!L401),0),\"\")","v":""},"",null,null,null,{"$f":"IF(ISBLANK(Worksheet!M401)=FALSE,Worksheet!M401,\"\")","v":0},{"$f":"IF(Worksheet!A401=\"-\",\"\",IF(Worksheet!A401=\"\",S377,Worksheet!A401))","v":""},{"$f":"IF(S378=\"\",\"\",IF(AND(Worksheet!G401=\"\",Worksheet!H401=\"\")=TRUE,T377,IF(Worksheet!G401=\"\",\"\",Worksheet!G401)))","v":""},{"$f":"IF(S378=\"\",\"\",IF(AND(Worksheet!G401=\"\",Worksheet!H401=\"\")=TRUE,U377,IF(Worksheet!H401=\"\",\"\",Worksheet!H401)))","v":""},{"$f":"IF(Worksheet!N401=\"\",\"\",Worksheet!N401)","v":""},{"$f":"IF(Worksheet!O401=\"\",\"\",Worksheet!O401)","v":""},{"$f":"IF(Worksheet!F401=0,\"\",Worksheet!F401)","v":""},{"$f":"IF(Worksheet!P401=0,\"\",Worksheet!P401)","v":""},{"$f":"IF(Worksheet!$A$11=TRUE,\"Y\",\"N\")","v":"N"},{"$f":"IF(Worksheet!$A$12=TRUE,\"Y\",\"N\")","v":"N"},{"$f":"IF(Worksheet!$B$11=TRUE,\"Y\",\"N\")","v":"N"},{"$f":"IF(Worksheet!$B$12=TRUE,\"Y\",\"N\")","v":"N"},{"$f":"IF(Worksheet!$C$11=TRUE,\"Y\",\"N\")","v":"N"},{"$f":"IF(Worksheet!$C$12=TRUE,\"Y\",\"N\")","v":"N"},""]
[{"$f":"IF(ISERROR(VLOOKUP(Worksheet!N402,MeasureLookup,2,FALSE))=FALSE,VLOOKUP(Worksheet!N402,MeasureLookup,2,FALSE),\"\")","v":""},{"$f":"Worksheet!Q402","v":0},{"$f":"Worksheet!R402","v":0},{"$f":"IF(ISERROR(Worksheet!P402)=FALSE,Worksheet!P402,\"\")","v":0},"Watts",null,null,{"$f":"IF(Worksheet!AP402<>\"\",IF(Worksheet!AP402>0,Worksheet!AP402/IF(Worksheet!M402>0,Worksheet!M402,Worksheet!L402),\"\"),\"\")","v":""},{"$f":"IF(ISBLANK(Worksheet!L402)=FALSE,Worksheet!L402,\"\")","v":0},{"$f":"IF(Worksheet!L402<>0, IFERROR(VLOOKUP(Worksheet!$C$16,SavingsSupportTable,3,FALSE)*Worksheet!AQ402*IFERROR(1+VLOOKUP(Worksheet!$C$16,SavingsSupportTable,MATCH(Worksheet!$G$17,HVACe_Options,0)+4,FALSE),1)/IF(Worksheet!M402>0,Worksheet!M402,Worksheet!L402),\"\"),\"\")","v":""},{"$f":"IF(Worksheet!L402<>0, IFERROR(VLOOKUP(Worksheet!$C$16,SavingsSupportTable,2,FALSE)*Worksheet!AQ402*IF(IFERROR(MATCH(Worksheet!$G$17,HVACe_Options,0),0)>0,1+VLOOKUP(Worksheet!$C$16,SavingsSupportTable,4,FALSE),1)/IF(Worksheet!M402>0,Worksheet!M402,Worksheet!L402),\"\"),\"\")","v":""},"",{"$f":"IF(Worksheet!L402<>0,IFERROR(VLOOKUP(Worksheet!$C$16,SavingsSupportTable,3,FALSE)*Worksheet!AQ402*IF(IFERROR(SEARCH(\"Gas\",Worksheet!$G$17),0)>0,VLOOKUP(\"Gas\",HVACg_Lookup,MATCH(Worksheet!$G$16,BuildingSize,0)+1,FALSE),IF(IFERROR(SEARCH(\"Oil\",Worksheet!$G$17),0)>0,VLOOKUP(\"Oil\",HVACg_Lookup,MATCH(Worksheet!$G$16,BuildingSize,0)+1,FALSE),IF(IFERROR(SEARCH(\"Propane\",Worksheet!$G$17),0)>0,VLOOKUP(\"Propane\",HVACg_Lookup,MATCH(Worksheet!$G$16,BuildingSize,0)+1,FALSE),0)))/IF(Worksheet!M402>0,Worksheet!M402,Worksheet!L402),0),\"\")","v":""},"",null,null,null,{"$f":"IF(ISBLANK(Worksheet!M402)=FALSE,Worksheet!M402,\"\")","v":0},{"$f":"IF(Worksheet!A402=\"-\",\"\",IF(Worksheet!A402=\"\",S378,Worksheet!A402))","v":""},{"$f":"IF(S379=\"\",\"\",IF(AND(Worksheet!G402=\"\",Worksheet!H402=\"\")=TRUE,T378,IF(Worksheet!G402=\"\",\"\",Worksheet!G402)))","v":""},{"$f":"IF(S379=\"\",\"\",IF(AND(Worksheet!G402=\"\",Worksheet!H402=\"\")=TRUE,U378,IF(Worksheet!H402=\"\",\"\",Worksheet!H402)))","v":""},{"$f":"IF(Worksheet!N402=\"\",\"\",Worksheet!N402)","v":""},{"$f":"IF(Worksheet!O402=\"\",\"\",Worksheet!O402)","v":""},{"$f":"IF(Worksheet!F402=0,\"\",Worksheet!F402)","v":""},{"$f":"IF(Worksheet!P402=0,\"\",Worksheet!P402)","v":""},{"$f":"IF(Worksheet!$A$11=TRUE,\"Y\",\"N\")","v":"N"},{"$f":"IF(Worksheet!$A$12=TRUE,\"Y\",\"N\")","v":"N"},{"$f":"IF(Worksheet!$B$11=TRUE,\"Y\",\"N\")","v":"N"},{"$f":"IF(Worksheet!$B$12=TRUE,\"Y\",\"N\")","v":"N"},{"$f":"IF(Worksheet!$C$11=TRUE,\"Y\",\"N\")","v":"N"},{"$f":"IF(Worksheet!$C$12=TRUE,\"Y\",\"N\")","v":"N"},""]
[{"$f":"IF(ISERROR(VLOOKUP(Worksheet!N403,MeasureLookup,2,FALSE))=FALSE,VLOOKUP(Worksheet!N403,MeasureLookup,2,FALSE),\"\")","v":""},{"$f":"Worksheet!Q403","v":0},{"$f":"Worksheet!R403","v":0},{"$f":"IF(ISERROR(Worksheet!P403)=FALSE,Worksheet!P403,\"\")","v":0},"Watts",null,null,{"$f":"IF(Worksheet!AP403<>\"\",IF(Worksheet!AP403>0,Worksheet!AP403/IF(Worksheet!M403>0,Worksheet!M403,Worksheet!L403),\"\"),\"\")","v":""},{"$f":"IF(ISBLANK(Worksheet!L403)=FALSE,Worksheet!L403,\"\")","v":0},{"$f":"IF(Worksheet!L403<>0, IFERROR(VLOOKUP(Worksheet!$C$16,SavingsSupportTable,3,FALSE)*Worksheet!AQ403*IFERROR(1+VLOOKUP(Worksheet!$C$16,SavingsSupportTable,MATCH(Worksheet!$G$17,HVACe_Options,0)+4,FALSE),1)/IF(Worksheet!M403>0,Worksheet!M403,Worksheet!L403),\"\"),\"\")","v":""},{"$f":"IF(Worksheet!L403<>0, IFERROR(VLOOKUP(Worksheet!$C$16,SavingsSupportTable,2,FALSE)*Worksheet!AQ403*IF(IFERROR(MATCH(Worksheet!$G$17,HVACe_Options,0),0)>0,1+VLOOKUP(Worksheet!$C$16,SavingsSupportTable,4,FALSE),1)/IF(Worksheet!M403>0,Worksheet!M403,Worksheet!L403),\"\"),\"\")","v":""},"",{"$f":"IF(Worksheet!L403<>0,IFERROR(VLOOKUP(Worksheet!$C$16,SavingsSupportTable,3,FALSE)*Worksheet!AQ403*IF(IFERROR(SEARCH(\"Gas\",Worksheet!$G$17),0)>0,VLOOKUP(\"Gas\",HVACg_Lookup,MATCH(Worksheet!$G$16,BuildingSize,0)+1,FALSE),IF(IFERROR(SEARCH(\"Oil\",Worksheet!$G$17),0)>0,VLOOKUP(\"Oil\",HVACg_Lookup,MATCH(Worksheet!$G$16,BuildingSize,0)+1,FALSE),IF(IFERROR(SEARCH(\"Propane\",Worksheet!$G$17),0)>0,VLOOKUP(\"Propane\",HVACg_Lookup,MATCH(Worksheet!$G$16,BuildingSize,0)+1,FALSE),0)))/IF(Worksheet!M403>0,Worksheet!M403,Worksheet!L403),0),\"\")","v":""},"",null,null,null,{"$f":"IF(ISBLANK(Worksheet!M403)=FALSE,Worksheet!M403,\"\")","v":0},{"$f":"IF(Worksheet!A403=\"-\",\"\",IF(Worksheet!A403=\"\",S379,Worksheet!A403))","v":""},{"$f":"IF(S380=\"\",\"\",IF(AND(Worksheet!G403=\"\",Worksheet!H403=\"\")=TRUE,T379,IF(Worksheet!G403=\"\",\"\",Worksheet!G403)))","v":""},{"$f":"IF(S380=\"\",\"\",IF(AND(Worksheet!G403=\"\",Worksheet!H403=\"\")=TRUE,U379,IF(Worksheet!H403=\"\",\"\",Worksheet!H403)))","v":""},{"$f":"IF(Worksheet!N403=\"\",\"\",Worksheet!N403)","v":""},{"$f":"IF(Worksheet!O403=\"\",\"\",Worksheet!O403)","v":""},{"$f":"IF(Worksheet!F403=0,\"\",Worksheet!F403)","v":""},{"$f":"IF(Worksheet!P403=0,\"\",Worksheet!P403)","v":""},{"$f":"IF(Worksheet!$A$11=TRUE,\"Y\",\"N\")","v":"N"},{"$f":"IF(Worksheet!$A$12=TRUE,\"Y\",\"N\")","v":"N"},{"$f":"IF(Worksheet!$B$11=TRUE,\"Y\",\"N\")","v":"N"},{"$f":"IF(Worksheet!$B$12=TRUE,\"Y\",\"N\")","v":"N"},{"$f":"IF(Worksheet!$C$11=TRUE,\"Y\",\"N\")","v":"N"},{"$f":"IF(Worksheet!$C$12=TRUE,\"Y\",\"N\")","v":"N"},""]
[{"$f":"IF(ISERROR(VLOOKUP(Worksheet!N404,MeasureLookup,2,FALSE))=FALSE,VLOOKUP(Worksheet!N404,MeasureLookup,2,FALSE),\"\")","v":""},{"$f":"Worksheet!Q404","v":0},{"$f":"Worksheet!R404","v":0},{"$f":"IF(ISERROR(Worksheet!P404)=FALSE,Worksheet!P404,\"\")","v":0},"Watts",null,null,{"$f":"IF(Worksheet!AP404<>\"\",IF(Worksheet!AP404>0,Worksheet!AP404/IF(Worksheet!M404>0,Worksheet!M404,Worksheet!L404),\"\"),\"\")","v":""},{"$f":"IF(ISBLANK(Worksheet!L404)=FALSE,Worksheet!L404,\"\")","v":0},{"$f":"IF(Worksheet!L404<>0, IFERROR(VLOOKUP(Worksheet!$C$16,SavingsSupportTable,3,FALSE)*Worksheet!AQ404*IFERROR(1+VLOOKUP(Worksheet!$C$16,SavingsSupportTable,MATCH(Worksheet!$G$17,HVACe_Options,0)+4,FALSE),1)/IF(Worksheet!M404>0,Worksheet!M404,Worksheet!L404),\"\"),\"\")","v":""},{"$f":"IF(Worksheet!L404<>0, IFERROR(VLOOKUP(Worksheet!$C$16,SavingsSupportTable,2,FALSE)*Worksheet!AQ404*IF(IFERROR(MATCH(Worksheet!$G$17,HVACe_Options,0),0)>0,1+VLOOKUP(Worksheet!$C$16,SavingsSupportTable,4,FALSE),1)/IF(Worksheet!M404>0,Worksheet!M404,Worksheet!L404),\"\"),\"\")","v":""},"",{"$f":"IF(Worksheet!L404<>0,IFERROR(VLOOKUP(Worksheet!$C$16,SavingsSupportTable,3,FALSE)*Worksheet!AQ404*IF(IFERROR(SEARCH(\"Gas\",Worksheet!$G$17),0)>0,VLOOKUP(\"Gas\",HVACg_Lookup,MATCH(Worksheet!$G$16,BuildingSize,0)+1,FALSE),IF(IFERROR(SEARCH(\"Oil\",Worksheet!$G$17),0)>0,VLOOKUP(\"Oil\",HVACg_Lookup,MATCH(Worksheet!$G$16,BuildingSize,0)+1,FALSE),IF(IFERROR(SEARCH(\"Propane\",Worksheet!$G$17),0)>0,VLOOKUP(\"Propane\",HVACg_Lookup,MATCH(Worksheet!$G$16,BuildingSize,0)+1,FALSE),0)))/IF(Worksheet!M404>0,Worksheet!M404,Worksheet!L404),0),\"\")","v":""},"",null,null,null,{"$f":"IF(ISBLANK(Worksheet!M404)=FALSE,Worksheet!M404,\"\")","v":0},{"$f":"IF(Worksheet!A404=\"-\",\"\",IF(Worksheet!A404=\"\",S380,Worksheet!A404))","v":""},{"$f":"IF(S381=\"\",\"\",IF(AND(Worksheet!G404=\"\",Worksheet!H404=\"\")=TRUE,T380,IF(Worksheet!G404=\"\",\"\",Worksheet!G404)))","v":""},{"$f":"IF(S381=\"\",\"\",IF(AND(Worksheet!G404=\"\",Worksheet!H404=\"\")=TRUE,U380,IF(Worksheet!H404=\"\",\"\",Worksheet!H404)))","v":""},{"$f":"IF(Worksheet!N404=\"\",\"\",Worksheet!N404)","v":""},{"$f":"IF(Worksheet!O404=\"\",\"\",Worksheet!O404)","v":""},{"$f":"IF(Worksheet!F404=0,\"\",Worksheet!F404)","v":""},{"$f":"IF(Worksheet!P404=0,\"\",Worksheet!P404)","v":""},{"$f":"IF(Worksheet!$A$11=TRUE,\"Y\",\"N\")","v":"N"},{"$f":"IF(Worksheet!$A$12=TRUE,\"Y\",\"N\")","v":"N"},{"$f":"IF(Worksheet!$B$11=TRUE,\"Y\",\"N\")","v":"N"},{"$f":"IF(Worksheet!$B$12=TRUE,\"Y\",\"N\")","v":"N"},{"$f":"IF(Worksheet!$C$11=TRUE,\"Y\",\"N\")","v":"N"},{"$f":"IF(Worksheet!$C$12=TRUE,\"Y\",\"N\")","v":"N"},""]
[{"$f":"IF(ISERROR(VLOOKUP(Worksheet!N405,MeasureLookup,2,FALSE))=FALSE,VLOOKUP(Worksheet!N405,MeasureLookup,2,FALSE),\"\")","v":""},{"$f":"Worksheet!Q405","v":0},{"$f":"Worksheet!R405","v":0},{"$f":"IF(ISERROR(Worksheet!P405)=FALSE,Worksheet!P405,\"\")","v":0},"Watts",null,null,{"$f":"IF(Worksheet!AP405<>\"\",IF(Worksheet!AP405>0,Worksheet!AP405/IF(Worksheet!M405>0,Worksheet!M405,Worksheet!L405),\"\"),\"\")","v":""},{"$f":"IF(ISBLANK(Worksheet!L405)=FALSE,Worksheet!L405,\"\")","v":0},{"$f":"IF(Worksheet!L405<>0, IFERROR(VLOOKUP(Worksheet!$C$16,SavingsSupportTable,3,FALSE)*Worksheet!AQ405*IFERROR(1+VLOOKUP(Worksheet!$C$16,SavingsSupportTable,MATCH(Worksheet!$G$17,HVACe_Options,0)+4,FALSE),1)/IF(Worksheet!M405>0,Worksheet!M405,Worksheet!L405),\"\"),\"\")","v":""},{"$f":"IF(Worksheet!L405<>0, IFERROR(VLOOKUP(Worksheet!$C$16,SavingsSupportTable,2,FALSE)*Worksheet!AQ405*IF(IFERROR(MATCH(Worksheet!$G$17,HVACe_Options,0),0)>0,1+VLOOKUP(Worksheet!$C$16,SavingsSupportTable,4,FALSE),1)/IF(Worksheet!M405>0,Worksheet!M405,Worksheet!L405),\"\"),\"\")","v":""},"",{"$f":"IF(Worksheet!L405<>0,IFERROR(VLOOKUP(Worksheet!$C$16,SavingsSupportTable,3,FALSE)*Worksheet!AQ405*IF(IFERROR(SEARCH(\"Gas\",Worksheet!$G$17),0)>0,VLOOKUP(\"Gas\",HVACg_Lookup,MATCH(Worksheet!$G$16,BuildingSize,0)+1,FALSE),IF(IFERROR(SEARCH(\"Oil\",Worksheet!$G$17),0)>0,VLOOKUP(\"Oil\",HVACg_Lookup,MATCH(Worksheet!$G$16,BuildingSize,0)+1,FALSE),IF(IFERROR(SEARCH(\"Propane\",Worksheet!$G$17),0)>0,VLOOKUP(\"Propane\",HVACg_Lookup,MATCH(Worksheet!$G$16,BuildingSize,0)+1,FALSE),0)))/IF(Worksheet!M405>0,Worksheet!M405,Worksheet!L405),0),\"\")","v":""},"",null,null,null,{"$f":"IF(ISBLANK(Worksheet!M405)=FALSE,Worksheet!M405,\"\")","v":0},{"$f":"IF(Worksheet!A405=\"-\",\"\",IF(Worksheet!A405=\"\",S381,Worksheet!A405))","v":""},{"$f":"IF(S382=\"\",\"\",IF(AND(Worksheet!G405=\"\",Worksheet!H405=\"\")=TRUE,T381,IF(Worksheet!G405=\"\",\"\",Worksheet!G405)))","v":""},{"$f":"IF(S382=\"\",\"\",IF(AND(Worksheet!G405=\"\",Worksheet!H405=\"\")=TRUE,U381,IF(Worksheet!H405=\"\",\"\",Worksheet!H405)))","v":""},{"$f":"IF(Worksheet!N405=\"\",\"\",Worksheet!N405)","v":""},{"$f":"IF(Worksheet!O405=\"\",\"\",Worksheet!O405)","v":""},{"$f":"IF(Worksheet!F405=0,\"\",Worksheet!F405)","v":""},{"$f":"IF(Worksheet!P405=0,\"\",Worksheet!P405)","v":""},{"$f":"IF(Worksheet!$A$11=TRUE,\"Y\",\"N\")","v":"N"},{"$f":"IF(Worksheet!$A$12=TRUE,\"Y\",\"N\")","v":"N"},{"$f":"IF(Worksheet!$B$11=TRUE,\"Y\",\"N\")","v":"N"},{"$f":"IF(Worksheet!$B$12=TRUE,\"Y\",\"N\")","v":"N"},{"$f":"IF(Worksheet!$C$11=TRUE,\"Y\",\"N\")","v":"N"},{"$f":"IF(Worksheet!$C$12=TRUE,\"Y\",\"N\")","v":"N"},""]
[{"$f":"IF(ISERROR(VLOOKUP(Worksheet!N406,MeasureLookup,2,FALSE))=FALSE,VLOOKUP(Worksheet!N406,MeasureLookup,2,FALSE),\"\")","v":""},{"$f":"Worksheet!Q406","v":0},{"$f":"Worksheet!R406","v":0},{"$f":"IF(ISERROR(Worksheet!P406)=FALSE,Worksheet!P406,\"\")","v":0},"Watts",null,null,{"$f":"IF(Worksheet!AP406<>\"\",IF(Worksheet!AP406>0,Worksheet!AP406/IF(Worksheet!M406>0,Worksheet!M406,Worksheet!L406),\"\"),\"\")","v":""},{"$f":"IF(ISBLANK(Worksheet!L406)=FALSE,Worksheet!L406,\"\")","v":0},{"$f":"IF(Worksheet!L406<>0, IFERROR(VLOOKUP(Worksheet!$C$16,SavingsSupportTable,3,FALSE)*Worksheet!AQ406*IFERROR(1+VLOOKUP(Worksheet!$C$16,SavingsSupportTable,MATCH(Worksheet!$G$17,HVACe_Options,0)+4,FALSE),1)/IF(Worksheet!M406>0,Worksheet!M406,Worksheet!L406),\"\"),\"\")","v":""},{"$f":"IF(Worksheet!L406<>0, IFERROR(VLOOKUP(Worksheet!$C$16,SavingsSupportTable,2,FALSE)*Worksheet!AQ406*IF(IFERROR(MATCH(Worksheet!$G$17,HVACe_Options,0),0)>0,1+VLOOKUP(Worksheet!$C$16,SavingsSupportTable,4,FALSE),1)/IF(Worksheet!M406>0,Worksheet!M406,Worksheet!L406),\"\"),\"\")","v":""},"",{"$f":"IF(Worksheet!L406<>0,IFERROR(VLOOKUP(Worksheet!$C$16,SavingsSupportTable,3,FALSE)*Worksheet!AQ406*IF(IFERROR(SEARCH(\"Gas\",Worksheet!$G$17),0)>0,VLOOKUP(\"Gas\",HVACg_Lookup,MATCH(Worksheet!$G$16,BuildingSize,0)+1,FALSE),IF(IFERROR(SEARCH(\"Oil\",Worksheet!$G$17),0)>0,VLOOKUP(\"Oil\",HVACg_Lookup,MATCH(Worksheet!$G$16,BuildingSize,0)+1,FALSE),IF(IFERROR(SEARCH(\"Propane\",Worksheet!$G$17),0)>0,VLOOKUP(\"Propane\",HVACg_Lookup,MATCH(Worksheet!$G$16,BuildingSize,0)+1,FALSE),0)))/IF(Worksheet!M406>0,Worksheet!M406,Worksheet!L406),0),\"\")","v":""},"",null,null,null,{"$f":"IF(ISBLANK(Worksheet!M406)=FALSE,Worksheet!M406,\"\")","v":0},{"$f":"IF(Worksheet!A406=\"-\",\"\",IF(Worksheet!A406=\"\",S382,Worksheet!A406))","v":""},{"$f":"IF(S383=\"\",\"\",IF(AND(Worksheet!G406=\"\",Worksheet!H406=\"\")=TRUE,T382,IF(Worksheet!G406=\"\",\"\",Worksheet!G406)))","v":""},{"$f":"IF(S383=\"\",\"\",IF(AND(Worksheet!G406=\"\",Worksheet!H406=\"\")=TRUE,U382,IF(Worksheet!H406=\"\",\"\",Worksheet!H406)))","v":""},{"$f":"IF(Worksheet!N406=\"\",\"\",Worksheet!N406)","v":""},{"$f":"IF(Worksheet!O406=\"\",\"\",Worksheet!O406)","v":""},{"$f":"IF(Worksheet!F406=0,\"\",Worksheet!F406)","v":""},{"$f":"IF(Worksheet!P406=0,\"\",Worksheet!P406)","v":""},{"$f":"IF(Worksheet!$A$11=TRUE,\"Y\",\"N\")","v":"N"},{"$f":"IF(Worksheet!$A$12=TRUE,\"Y\",\"N\")","v":"N"},{"$f":"IF(Worksheet!$B$11=TRUE,\"Y\",\"N\")","v":"N"},{"$f":"IF(Worksheet!$B$12=TRUE,\"Y\",\"N\")","v":"N"},{"$f":"IF(Worksheet!$C$11=TRUE,\"Y\",\"N\")","v":"N"},{"$f":"IF(Worksheet!$C$12=TRUE,\"Y\",\"N\")","v":"N"},""]
[{"$f":"IF(ISERROR(VLOOKUP(Worksheet!N407,MeasureLookup,2,FALSE))=FALSE,VLOOKUP(Worksheet!N407,MeasureLookup,2,FALSE),\"\")","v":""},{"$f":"Worksheet!Q407","v":0},{"$f":"Worksheet!R407","v":0},{"$f":"IF(ISERROR(Worksheet!P407)=FALSE,Worksheet!P407,\"\")","v":0},"Watts",null,null,{"$f":"IF(Worksheet!AP407<>\"\",IF(Worksheet!AP407>0,Worksheet!AP407/IF(Worksheet!M407>0,Worksheet!M407,Worksheet!L407),\"\"),\"\")","v":""},{"$f":"IF(ISBLANK(Worksheet!L407)=FALSE,Worksheet!L407,\"\")","v":0},{"$f":"IF(Worksheet!L407<>0, IFERROR(VLOOKUP(Worksheet!$C$16,SavingsSupportTable,3,FALSE)*Worksheet!AQ407*IFERROR(1+VLOOKUP(Worksheet!$C$16,SavingsSupportTable,MATCH(Worksheet!$G$17,HVACe_Options,0)+4,FALSE),1)/IF(Worksheet!M407>0,Worksheet!M407,Worksheet!L407),\"\"),\"\")","v":""},{"$f":"IF(Worksheet!L407<>0, IFERROR(VLOOKUP(Worksheet!$C$16,SavingsSupportTable,2,FALSE)*Worksheet!AQ407*IF(IFERROR(MATCH(Worksheet!$G$17,HVACe_Options,0),0)>0,1+VLOOKUP(Worksheet!$C$16,SavingsSupportTable,4,FALSE),1)/IF(Worksheet!M407>0,Worksheet!M407,Worksheet!L407),\"\"),\"\")","v":""},"",{"$f":"IF(Worksheet!L407<>0,IFERROR(VLOOKUP(Worksheet!$C$16,SavingsSupportTable,3,FALSE)*Worksheet!AQ407*IF(IFERROR(SEARCH(\"Gas\",Worksheet!$G$17),0)>0,VLOOKUP(\"Gas\",HVACg_Lookup,MATCH(Worksheet!$G$16,BuildingSize,0)+1,FALSE),IF(IFERROR(SEARCH(\"Oil\",Worksheet!$G$17),0)>0,VLOOKUP(\"Oil\",HVACg_Lookup,MATCH(Worksheet!$G$16,BuildingSize,0)+1,FALSE),IF(IFERROR(SEARCH(\"Propane\",Worksheet!$G$17),0)>0,VLOOKUP(\"Propane\",HVACg_Lookup,MATCH(Worksheet!$G$16,BuildingSize,0)+1,FALSE),0)))/IF(Worksheet!M407>0,Worksheet!M407,Worksheet!L407),0),\"\")","v":""},"",null,null,null,{"$f":"IF(ISBLANK(Worksheet!M407)=FALSE,Worksheet!M407,\"\")","v":0},{"$f":"IF(Worksheet!A407=\"-\",\"\",IF(Worksheet!A407=\"\",S383,Worksheet!A407))","v":""},{"$f":"IF(S384=\"\",\"\",IF(AND(Worksheet!G407=\"\",Worksheet!H407=\"\")=TRUE,T383,IF(Worksheet!G407=\"\",\"\",Worksheet!G407)))","v":""},{"$f":"IF(S384=\"\",\"\",IF(AND(Worksheet!G407=\"\",Worksheet!H407=\"\")=TRUE,U383,IF(Worksheet!H407=\"\",\"\",Worksheet!H407)))","v":""},{"$f":"IF(Worksheet!N407=\"\",\"\",Worksheet!N407)","v":""},{"$f":"IF(Worksheet!O407=\"\",\"\",Worksheet!O407)","v":""},{"$f":"IF(Worksheet!F407=0,\"\",Worksheet!F407)","v":""},{"$f":"IF(Worksheet!P407=0,\"\",Worksheet!P407)","v":""},{"$f":"IF(Worksheet!$A$11=TRUE,\"Y\",\"N\")","v":"N"},{"$f":"IF(Worksheet!$A$12=TRUE,\"Y\",\"N\")","v":"N"},{"$f":"IF(Worksheet!$B$11=TRUE,\"Y\",\"N\")","v":"N"},{"$f":"IF(Worksheet!$B$12=TRUE,\"Y\",\"N\")","v":"N"},{"$f":"IF(Worksheet!$C$11=TRUE,\"Y\",\"N\")","v":"N"},{"$f":"IF(Worksheet!$C$12=TRUE,\"Y\",\"N\")","v":"N"},""]
[{"$f":"IF(ISERROR(VLOOKUP(Worksheet!N408,MeasureLookup,2,FALSE))=FALSE,VLOOKUP(Worksheet!N408,MeasureLookup,2,FALSE),\"\")","v":""},{"$f":"Worksheet!Q408","v":0},{"$f":"Worksheet!R408","v":0},{"$f":"IF(ISERROR(Worksheet!P408)=FALSE,Worksheet!P408,\"\")","v":0},"Watts",null,null,{"$f":"IF(Worksheet!AP408<>\"\",IF(Worksheet!AP408>0,Worksheet!AP408/IF(Worksheet!M408>0,Worksheet!M408,Worksheet!L408),\"\"),\"\")","v":""},{"$f":"IF(ISBLANK(Worksheet!L408)=FALSE,Worksheet!L408,\"\")","v":0},{"$f":"IF(Worksheet!L408<>0, IFERROR(VLOOKUP(Worksheet!$C$16,SavingsSupportTable,3,FALSE)*Worksheet!AQ408*IFERROR(1+VLOOKUP(Worksheet!$C$16,SavingsSupportTable,MATCH(Worksheet!$G$17,HVACe_Options,0)+4,FALSE),1)/IF(Worksheet!M408>0,Worksheet!M408,Worksheet!L408),\"\"),\"\")","v":""},{"$f":"IF(Worksheet!L408<>0, IFERROR(VLOOKUP(Worksheet!$C$16,SavingsSupportTable,2,FALSE)*Worksheet!AQ408*IF(IFERROR(MATCH(Worksheet!$G$17,HVACe_Options,0),0)>0,1+VLOOKUP(Worksheet!$C$16,SavingsSupportTable,4,FALSE),1)/IF(Worksheet!M408>0,Worksheet!M408,Worksheet!L408),\"\"),\"\")","v":""},"",{"$f":"IF(Worksheet!L408<>0,IFERROR(VLOOKUP(Worksheet!$C$16,SavingsSupportTable,3,FALSE)*Worksheet!AQ408*IF(IFERROR(SEARCH(\"Gas\",Worksheet!$G$17),0)>0,VLOOKUP(\"Gas\",HVACg_Lookup,MATCH(Worksheet!$G$16,BuildingSize,0)+1,FALSE),IF(IFERROR(SEARCH(\"Oil\",Worksheet!$G$17),0)>0,VLOOKUP(\"Oil\",HVACg_Lookup,MATCH(Worksheet!$G$16,BuildingSize,0)+1,FALSE),IF(IFERROR(SEARCH(\"Propane\",Worksheet!$G$17),0)>0,VLOOKUP(\"Propane\",HVACg_Lookup,MATCH(Worksheet!$G$16,BuildingSize,0)+1,FALSE),0)))/IF(Worksheet!M408>0,Worksheet!M408,Worksheet!L408),0),\"\")","v":""},"",null,null,null,{"$f":"IF(ISBLANK(Worksheet!M408)=FALSE,Worksheet!M408,\"\")","v":0},{"$f":"IF(Worksheet!A408=\"-\",\"\",IF(Worksheet!A408=\"\",S384,Worksheet!A408))","v":""},{"$f":"IF(S385=\"\",\"\",IF(AND(Worksheet!G408=\"\",Worksheet!H408=\"\")=TRUE,T384,IF(Worksheet!G408=\"\",\"\",Worksheet!G408)))","v":""},{"$f":"IF(S385=\"\",\"\",IF(AND(Worksheet!G408=\"\",Worksheet!H408=\"\")=TRUE,U384,IF(Worksheet!H408=\"\",\"\",Worksheet!H408)))","v":""},{"$f":"IF(Worksheet!N408=\"\",\"\",Worksheet!N408)","v":""},{"$f":"IF(Worksheet!O408=\"\",\"\",Worksheet!O408)","v":""},{"$f":"IF(Worksheet!F408=0,\"\",Worksheet!F408)","v":""},{"$f":"IF(Worksheet!P408=0,\"\",Worksheet!P408)","v":""},{"$f":"IF(Worksheet!$A$11=TRUE,\"Y\",\"N\")","v":"N"},{"$f":"IF(Worksheet!$A$12=TRUE,\"Y\",\"N\")","v":"N"},{"$f":"IF(Worksheet!$B$11=TRUE,\"Y\",\"N\")","v":"N"},{"$f":"IF(Worksheet!$B$12=TRUE,\"Y\",\"N\")","v":"N"},{"$f":"IF(Worksheet!$C$11=TRUE,\"Y\",\"N\")","v":"N"},{"$f":"IF(Worksheet!$C$12=TRUE,\"Y\",\"N\")","v":"N"},""]
[{"$f":"IF(ISERROR(VLOOKUP(Worksheet!N409,MeasureLookup,2,FALSE))=FALSE,VLOOKUP(Worksheet!N409,MeasureLookup,2,FALSE),\"\")","v":""},{"$f":"Worksheet!Q409","v":0},{"$f":"Worksheet!R409","v":0},{"$f":"IF(ISERROR(Worksheet!P409)=FALSE,Worksheet!P409,\"\")","v":0},"Watts",null,null,{"$f":"IF(Worksheet!AP409<>\"\",IF(Worksheet!AP409>0,Worksheet!AP409/IF(Worksheet!M409>0,Worksheet!M409,Worksheet!L409),\"\"),\"\")","v":""},{"$f":"IF(ISBLANK(Worksheet!L409)=FALSE,Worksheet!L409,\"\")","v":0},{"$f":"IF(Worksheet!L409<>0, IFERROR(VLOOKUP(Worksheet!$C$16,SavingsSupportTable,3,FALSE)*Worksheet!AQ409*IFERROR(1+VLOOKUP(Worksheet!$C$16,SavingsSupportTable,MATCH(Worksheet!$G$17,HVACe_Options,0)+4,FALSE),1)/IF(Worksheet!M409>0,Worksheet!M409,Worksheet!L409),\"\"),\"\")","v":""},{"$f":"IF(Worksheet!L409<>0, IFERROR(VLOOKUP(Worksheet!$C$16,SavingsSupportTable,2,FALSE)*Worksheet!AQ409*IF(IFERROR(MATCH(Worksheet!$G$17,HVACe_Options,0),0)>0,1+VLOOKUP(Worksheet!$C$16,SavingsSupportTable,4,FALSE),1)/IF(Worksheet!M409>0,Worksheet!M409,Worksheet!L409),\"\"),\"\")","v":""},"",{"$f":"IF(Worksheet!L409<>0,IFERROR(VLOOKUP(Worksheet!$C$16,SavingsSupportTable,3,FALSE)*Worksheet!AQ409*IF(IFERROR(SEARCH(\"Gas\",Worksheet!$G$17),0)>0,VLOOKUP(\"Gas\",HVACg_Lookup,MATCH(Worksheet!$G$16,BuildingSize,0)+1,FALSE),IF(IFERROR(SEARCH(\"Oil\",Worksheet!$G$17),0)>0,VLOOKUP(\"Oil\",HVACg_Lookup,MATCH(Worksheet!$G$16,BuildingSize,0)+1,FALSE),IF(IFERROR(SEARCH(\"Propane\",Worksheet!$G$17),0)>0,VLOOKUP(\"Propane\",HVACg_Lookup,MATCH(Worksheet!$G$16,BuildingSize,0)+1,FALSE),0)))/IF(Worksheet!M409>0,Worksheet!M409,Worksheet!L409),0),\"\")","v":""},"",null,null,null,{"$f":"IF(ISBLANK(Worksheet!M409)=FALSE,Worksheet!M409,\"\")","v":0},{"$f":"IF(Worksheet!A409=\"-\",\"\",IF(Worksheet!A409=\"\",S385,Worksheet!A409))","v":""},{"$f":"IF(S386=\"\",\"\",IF(AND(Worksheet!G409=\"\",Worksheet!H409=\"\")=TRUE,T385,IF(Worksheet!G409=\"\",\"\",Worksheet!G409)))","v":""},{"$f":"IF(S386=\"\",\"\",IF(AND(Worksheet!G409=\"\",Worksheet!H409=\"\")=TRUE,U385,IF(Worksheet!H409=\"\",\"\",Worksheet!H409)))","v":""},{"$f":"IF(Worksheet!N409=\"\",\"\",Worksheet!N409)","v":""},{"$f":"IF(Worksheet!O409=\"\",\"\",Worksheet!O409)","v":""},{"$f":"IF(Worksheet!F409=0,\"\",Worksheet!F409)","v":""},{"$f":"IF(Worksheet!P409=0,\"\",Worksheet!P409)","v":""},{"$f":"IF(Worksheet!$A$11=TRUE,\"Y\",\"N\")","v":"N"},{"$f":"IF(Worksheet!$A$12=TRUE,\"Y\",\"N\")","v":"N"},{"$f":"IF(Worksheet!$B$11=TRUE,\"Y\",\"N\")","v":"N"},{"$f":"IF(Worksheet!$B$12=TRUE,\"Y\",\"N\")","v":"N"},{"$f":"IF(Worksheet!$C$11=TRUE,\"Y\",\"N\")","v":"N"},{"$f":"IF(Worksheet!$C$12=TRUE,\"Y\",\"N\")","v":"N"},""]
[{"$f":"IF(ISERROR(VLOOKUP(Worksheet!N410,MeasureLookup,2,FALSE))=FALSE,VLOOKUP(Worksheet!N410,MeasureLookup,2,FALSE),\"\")","v":""},{"$f":"Worksheet!Q410","v":0},{"$f":"Worksheet!R410","v":0},{"$f":"IF(ISERROR(Worksheet!P410)=FALSE,Worksheet!P410,\"\")","v":0},"Watts",null,null,{"$f":"IF(Worksheet!AP410<>\"\",IF(Worksheet!AP410>0,Worksheet!AP410/IF(Worksheet!M410>0,Worksheet!M410,Worksheet!L410),\"\"),\"\")","v":""},{"$f":"IF(ISBLANK(Worksheet!L410)=FALSE,Worksheet!L410,\"\")","v":0},{"$f":"IF(Worksheet!L410<>0, IFERROR(VLOOKUP(Worksheet!$C$16,SavingsSupportTable,3,FALSE)*Worksheet!AQ410*IFERROR(1+VLOOKUP(Worksheet!$C$16,SavingsSupportTable,MATCH(Worksheet!$G$17,HVACe_Options,0)+4,FALSE),1)/IF(Worksheet!M410>0,Worksheet!M410,Worksheet!L410),\"\"),\"\")","v":""},{"$f":"IF(Worksheet!L410<>0, IFERROR(VLOOKUP(Worksheet!$C$16,SavingsSupportTable,2,FALSE)*Worksheet!AQ410*IF(IFERROR(MATCH(Worksheet!$G$17,HVACe_Options,0),0)>0,1+VLOOKUP(Worksheet!$C$16,SavingsSupportTable,4,FALSE),1)/IF(Worksheet!M410>0,Worksheet!M410,Worksheet!L410),\"\"),\"\")","v":""},{"$f":"IF(ISERROR(J387*15)=FALSE,J387*15,\"\")","v":""},{"$f":"IF(Worksheet!L410<>0,IFERROR(VLOOKUP(Worksheet!$C$16,SavingsSupportTable,3,FALSE)*Worksheet!AQ410*IF(IFERROR(SEARCH(\"Gas\",Worksheet!$G$17),0)>0,VLOOKUP(\"Gas\",HVACg_Lookup,MATCH(Worksheet!$G$16,BuildingSize,0)+1,FALSE),IF(IFERROR(SEARCH(\"Oil\",Worksheet!$G$17),0)>0,VLOOKUP(\"Oil\",HVACg_Lookup,MATCH(Worksheet!$G$16,BuildingSize,0)+1,FALSE),IF(IFERROR(SEARCH(\"Propane\",Worksheet!$G$17),0)>0,VLOOKUP(\"Propane\",HVACg_Lookup,MATCH(Worksheet!$G$16,BuildingSize,0)+1,FALSE),0)))/IF(Worksheet!M410>0,Worksheet!M410,Worksheet!L410),0),\"\")","v":""},{"$f":"IF(ISERROR(M387*15)=FALSE,M387*15,\"\")","v":""},null,null,null,{"$f":"IF(ISBLANK(Worksheet!M410)=FALSE,Worksheet!M410,\"\")","v":0},{"$f":"IF(Worksheet!A410=\"-\",\"\",IF(Worksheet!A410=\"\",S386,Worksheet!A410))","v":""},{"$f":"IF(S387=\"\",\"\",IF(AND(Worksheet!G410=\"\",Worksheet!H410=\"\")=TRUE,T386,IF(Worksheet!G410=\"\",\"\",Worksheet!G410)))","v":""},{"$f":"IF(S387=\"\",\"\",IF(AND(Worksheet!G410=\"\",Worksheet!H410=\"\")=TRUE,U386,IF(Worksheet!H410=\"\",\"\",Worksheet!H410)))","v":""},{"$f":"IF(Worksheet!N410=\"\",\"\",Worksheet!N410)","v":""},{"$f":"IF(Worksheet!O410=\"\",\"\",Worksheet!O410)","v":""},{"$f":"IF(Worksheet!F410=0,\"\",Worksheet!F410)","v":""},{"$f":"IF(Worksheet!P410=0,\"\",Worksheet!P410)","v":""},{"$f":"IF(Worksheet!$A$11=TRUE,\"Y\",\"N\")","v":"N"},{"$f":"IF(Worksheet!$A$12=TRUE,\"Y\",\"N\")","v":"N"},{"$f":"IF(Worksheet!$B$11=TRUE,\"Y\",\"N\")","v":"N"},{"$f":"IF(Worksheet!$B$12=TRUE,\"Y\",\"N\")","v":"N"},{"$f":"IF(Worksheet!$C$11=TRUE,\"Y\",\"N\")","v":"N"},{"$f":"IF(Worksheet!$C$12=TRUE,\"Y\",\"N\")","v":"N"},{"$f":"IFERROR(IF(OR(Z387=\"Y\",AA387=\"Y\",AB387=\"Y\",AC387=\"Y\",AD387=\"Y\",AE387=\"Y\")=TRUE,H387,\"\"),\"\")","v":""}]
[{"$f":"IF(ISERROR(VLOOKUP(Worksheet!N411,MeasureLookup,2,FALSE))=FALSE,VLOOKUP(Worksheet!N411,MeasureLookup,2,FALSE),\"\")","v":""},{"$f":"Worksheet!Q411","v":0},{"$f":"Worksheet!R411","v":0},{"$f":"IF(ISERROR(Worksheet!P411)=FALSE,Worksheet!P411,\"\")","v":0},"Watts",null,null,{"$f":"IF(Worksheet!AP411<>\"\",IF(Worksheet!AP411>0,Worksheet!AP411/IF(Worksheet!M411>0,Worksheet!M411,Worksheet!L411),\"\"),\"\")","v":""},{"$f":"IF(ISBLANK(Worksheet!L411)=FALSE,Worksheet!L411,\"\")","v":0},{"$f":"IF(Worksheet!L411<>0, IFERROR(VLOOKUP(Worksheet!$C$16,SavingsSupportTable,3,FALSE)*Worksheet!AQ411*IFERROR(1+VLOOKUP(Worksheet!$C$16,SavingsSupportTable,MATCH(Worksheet!$G$17,HVACe_Options,0)+4,FALSE),1)/IF(Worksheet!M411>0,Worksheet!M411,Worksheet!L411),\"\"),\"\")","v":""},{"$f":"IF(Worksheet!L411<>0, IFERROR(VLOOKUP(Worksheet!$C$16,SavingsSupportTable,2,FALSE)*Worksheet!AQ411*IF(IFERROR(MATCH(Worksheet!$G$17,HVACe_Options,0),0)>0,1+VLOOKUP(Worksheet!$C$16,SavingsSupportTable,4,FALSE),1)/IF(Worksheet!M411>0,Worksheet!M411,Worksheet!L411),\"\"),\"\")","v":""},"",{"$f":"IF(Worksheet!L411<>0,IFERROR(VLOOKUP(Worksheet!$C$16,SavingsSupportTable,3,FALSE)*Worksheet!AQ411*IF(IFERROR(SEARCH(\"Gas\",Worksheet!$G$17),0)>0,VLOOKUP(\"Gas\",HVACg_Lookup,MATCH(Worksheet!$G$16,BuildingSize,0)+1,FALSE),IF(IFERROR(SEARCH(\"Oil\",Worksheet!$G$17),0)>0,VLOOKUP(\"Oil\",HVACg_Lookup,MATCH(Worksheet!$G$16,BuildingSize,0)+1,FALSE),IF(IFERROR(SEARCH(\"Propane\",Worksheet!$G$17),0)>0,VLOOKUP(\"Propane\",HVACg_Lookup,MATCH(Worksheet!$G$16,BuildingSize,0)+1,FALSE),0)))/IF(Worksheet!M411>0,Worksheet!M411,Worksheet!L411),0),\"\")","v":""},"",null,null,null,{"$f":"IF(ISBLANK(Worksheet!M411)=FALSE,Worksheet!M411,\"\")","v":0},{"$f":"IF(Worksheet!A411=\"-\",\"\",IF(Worksheet!A411=\"\",S387,Worksheet!A411))","v":""},{"$f":"IF(S388=\"\",\"\",IF(AND(Worksheet!G411=\"\",Worksheet!H411=\"\")=TRUE,T387,IF(Worksheet!G411=\"\",\"\",Worksheet!G411)))","v":""},{"$f":"IF(S388=\"\",\"\",IF(AND(Worksheet!G411=\"\",Worksheet!H411=\"\")=TRUE,U387,IF(Worksheet!H411=\"\",\"\",Worksheet!H411)))","v":""},{"$f":"IF(Worksheet!N411=\"\",\"\",Worksheet!N411)","v":""},{"$f":"IF(Worksheet!O411=\"\",\"\",Worksheet!O411)","v":""},{"$f":"IF(Worksheet!F411=0,\"\",Worksheet!F411)","v":""},{"$f":"IF(Worksheet!P411=0,\"\",Worksheet!P411)","v":""},{"$f":"IF(Worksheet!$A$11=TRUE,\"Y\",\"N\")","v":"N"},{"$f":"IF(Worksheet!$A$12=TRUE,\"Y\",\"N\")","v":"N"},{"$f":"IF(Worksheet!$B$11=TRUE,\"Y\",\"N\")","v":"N"},{"$f":"IF(Worksheet!$B$12=TRUE,\"Y\",\"N\")","v":"N"},{"$f":"IF(Worksheet!$C$11=TRUE,\"Y\",\"N\")","v":"N"},{"$f":"IF(Worksheet!$C$12=TRUE,\"Y\",\"N\")","v":"N"},""]
[{"$f":"IF(ISERROR(VLOOKUP(Worksheet!N412,MeasureLookup,2,FALSE))=FALSE,VLOOKUP(Worksheet!N412,MeasureLookup,2,FALSE),\"\")","v":""},{"$f":"Worksheet!Q412","v":0},{"$f":"Worksheet!R412","v":0},{"$f":"IF(ISERROR(Worksheet!P412)=FALSE,Worksheet!P412,\"\")","v":0},"Watts",null,null,{"$f":"IF(Worksheet!AP412<>\"\",IF(Worksheet!AP412>0,Worksheet!AP412/IF(Worksheet!M412>0,Worksheet!M412,Worksheet!L412),\"\"),\"\")","v":""},{"$f":"IF(ISBLANK(Worksheet!L412)=FALSE,Worksheet!L412,\"\")","v":0},{"$f":"IF(Worksheet!L412<>0, IFERROR(VLOOKUP(Worksheet!$C$16,SavingsSupportTable,3,FALSE)*Worksheet!AQ412*IFERROR(1+VLOOKUP(Worksheet!$C$16,SavingsSupportTable,MATCH(Worksheet!$G$17,HVACe_Options,0)+4,FALSE),1)/IF(Worksheet!M412>0,Worksheet!M412,Worksheet!L412),\"\"),\"\")","v":""},{"$f":"IF(Worksheet!L412<>0, IFERROR(VLOOKUP(Worksheet!$C$16,SavingsSupportTable,2,FALSE)*Worksheet!AQ412*IF(IFERROR(MATCH(Worksheet!$G$17,HVACe_Options,0),0)>0,1+VLOOKUP(Worksheet!$C$16,SavingsSupportTable,4,FALSE),1)/IF(Worksheet!M412>0,Worksheet!M412,Worksheet!L412),\"\"),\"\")","v":""},"",{"$f":"IF(Worksheet!L412<>0,IFERROR(VLOOKUP(Worksheet!$C$16,SavingsSupportTable,3,FALSE)*Worksheet!AQ412*IF(IFERROR(SEARCH(\"Gas\",Worksheet!$G$17),0)>0,VLOOKUP(\"Gas\",HVACg_Lookup,MATCH(Worksheet!$G$16,BuildingSize,0)+1,FALSE),IF(IFERROR(SEARCH(\"Oil\",Worksheet!$G$17),0)>0,VLOOKUP(\"Oil\",HVACg_Lookup,MATCH(Worksheet!$G$16,BuildingSize,0)+1,FALSE),IF(IFERROR(SEARCH(\"Propane\",Worksheet!$G$17),0)>0,VLOOKUP(\"Propane\",HVACg_Lookup,MATCH(Worksheet!$G$16,BuildingSize,0)+1,FALSE),0)))/IF(Worksheet!M412>0,Worksheet!M412,Worksheet!L412),0),\"\")","v":""},"",null,null,null,{"$f":"IF(ISBLANK(Worksheet!M412)=FALSE,Worksheet!M412,\"\")","v":0},{"$f":"IF(Worksheet!A412=\"-\",\"\",IF(Worksheet!A412=\"\",S388,Worksheet!A412))","v":""},{"$f":"IF(S389=\"\",\"\",IF(AND(Worksheet!G412=\"\",Worksheet!H412=\"\")=TRUE,T388,IF(Worksheet!G412=\"\",\"\",Worksheet!G412)))","v":""},{"$f":"IF(S389=\"\",\"\",IF(AND(Worksheet!G412=\"\",Worksheet!H412=\"\")=TRUE,U388,IF(Worksheet!H412=\"\",\"\",Worksheet!H412)))","v":""},{"$f":"IF(Worksheet!N412=\"\",\"\",Worksheet!N412)","v":""},{"$f":"IF(Worksheet!O412=\"\",\"\",Worksheet!O412)","v":""},{"$f":"IF(Worksheet!F412=0,\"\",Worksheet!F412)","v":""},{"$f":"IF(Worksheet!P412=0,\"\",Worksheet!P412)","v":""},{"$f":"IF(Worksheet!$A$11=TRUE,\"Y\",\"N\")","v":"N"},{"$f":"IF(Worksheet!$A$12=TRUE,\"Y\",\"N\")","v":"N"},{"$f":"IF(Worksheet!$B$11=TRUE,\"Y\",\"N\")","v":"N"},{"$f":"IF(Worksheet!$B$12=TRUE,\"Y\",\"N\")","v":"N"},{"$f":"IF(Worksheet!$C$11=TRUE,\"Y\",\"N\")","v":"N"},{"$f":"IF(Worksheet!$C$12=TRUE,\"Y\",\"N\")","v":"N"},""]
[{"$f":"IF(ISERROR(VLOOKUP(Worksheet!N413,MeasureLookup,2,FALSE))=FALSE,VLOOKUP(Worksheet!N413,MeasureLookup,2,FALSE),\"\")","v":""},{"$f":"Worksheet!Q413","v":0},{"$f":"Worksheet!R413","v":0},{"$f":"IF(ISERROR(Worksheet!P413)=FALSE,Worksheet!P413,\"\")","v":0},"Watts",null,null,{"$f":"IF(Worksheet!AP413<>\"\",IF(Worksheet!AP413>0,Worksheet!AP413/IF(Worksheet!M413>0,Worksheet!M413,Worksheet!L413),\"\"),\"\")","v":""},{"$f":"IF(ISBLANK(Worksheet!L413)=FALSE,Worksheet!L413,\"\")","v":0},{"$f":"IF(Worksheet!L413<>0, IFERROR(VLOOKUP(Worksheet!$C$16,SavingsSupportTable,3,FALSE)*Worksheet!AQ413*IFERROR(1+VLOOKUP(Worksheet!$C$16,SavingsSupportTable,MATCH(Worksheet!$G$17,HVACe_Options,0)+4,FALSE),1)/IF(Worksheet!M413>0,Worksheet!M413,Worksheet!L413),\"\"),\"\")","v":""},{"$f":"IF(Worksheet!L413<>0, IFERROR(VLOOKUP(Worksheet!$C$16,SavingsSupportTable,2,FALSE)*Worksheet!AQ413*IF(IFERROR(MATCH(Worksheet!$G$17,HVACe_Options,0),0)>0,1+VLOOKUP(Worksheet!$C$16,SavingsSupportTable,4,FALSE),1)/IF(Worksheet!M413>0,Worksheet!M413,Worksheet!L413),\"\"),\"\")","v":""},"",{"$f":"IF(Worksheet!L413<>0,IFERROR(VLOOKUP(Worksheet!$C$16,SavingsSupportTable,3,FALSE)*Worksheet!AQ413*IF(IFERROR(SEARCH(\"Gas\",Worksheet!$G$17),0)>0,VLOOKUP(\"Gas\",HVACg_Lookup,MATCH(Worksheet!$G$16,BuildingSize,0)+1,FALSE),IF(IFERROR(SEARCH(\"Oil\",Worksheet!$G$17),0)>0,VLOOKUP(\"Oil\",HVACg_Lookup,MATCH(Worksheet!$G$16,BuildingSize,0)+1,FALSE),IF(IFERROR(SEARCH(\"Propane\",Worksheet!$G$17),0)>0,VLOOKUP(\"Propane\",HVACg_Lookup,MATCH(Worksheet!$G$16,BuildingSize,0)+1,FALSE),0)))/IF(Worksheet!M413>0,Worksheet!M413,Worksheet!L413),0),\"\")","v":""},"",null,null,null,{"$f":"IF(ISBLANK(Worksheet!M413)=FALSE,Worksheet!M413,\"\")","v":0},{"$f":"IF(Worksheet!A413=\"-\",\"\",IF(Worksheet!A413=\"\",S389,Worksheet!A413))","v":""},{"$f":"IF(S390=\"\",\"\",IF(AND(Worksheet!G413=\"\",Worksheet!H413=\"\")=TRUE,T389,IF(Worksheet!G413=\"\",\"\",Worksheet!G413)))","v":""},{"$f":"IF(S390=\"\",\"\",IF(AND(Worksheet!G413=\"\",Worksheet!H413=\"\")=TRUE,U389,IF(Worksheet!H413=\"\",\"\",Worksheet!H413)))","v":""},{"$f":"IF(Worksheet!N413=\"\",\"\",Worksheet!N413)","v":""},{"$f":"IF(Worksheet!O413=\"\",\"\",Worksheet!O413)","v":""},{"$f":"IF(Worksheet!F413=0,\"\",Worksheet!F413)","v":""},{"$f":"IF(Worksheet!P413=0,\"\",Worksheet!P413)","v":""},{"$f":"IF(Worksheet!$A$11=TRUE,\"Y\",\"N\")","v":"N"},{"$f":"IF(Worksheet!$A$12=TRUE,\"Y\",\"N\")","v":"N"},{"$f":"IF(Worksheet!$B$11=TRUE,\"Y\",\"N\")","v":"N"},{"$f":"IF(Worksheet!$B$12=TRUE,\"Y\",\"N\")","v":"N"},{"$f":"IF(Worksheet!$C$11=TRUE,\"Y\",\"N\")","v":"N"},{"$f":"IF(Worksheet!$C$12=TRUE,\"Y\",\"N\")","v":"N"},""]
[{"$f":"IF(ISERROR(VLOOKUP(Worksheet!N414,MeasureLookup,2,FALSE))=FALSE,VLOOKUP(Worksheet!N414,MeasureLookup,2,FALSE),\"\")","v":""},{"$f":"Worksheet!Q414","v":0},{"$f":"Worksheet!R414","v":0},{"$f":"IF(ISERROR(Worksheet!P414)=FALSE,Worksheet!P414,\"\")","v":0},"Watts",null,null,{"$f":"IF(Worksheet!AP414<>\"\",IF(Worksheet!AP414>0,Worksheet!AP414/IF(Worksheet!M414>0,Worksheet!M414,Worksheet!L414),\"\"),\"\")","v":""},{"$f":"IF(ISBLANK(Worksheet!L414)=FALSE,Worksheet!L414,\"\")","v":0},{"$f":"IF(Worksheet!L414<>0, IFERROR(VLOOKUP(Worksheet!$C$16,SavingsSupportTable,3,FALSE)*Worksheet!AQ414*IFERROR(1+VLOOKUP(Worksheet!$C$16,SavingsSupportTable,MATCH(Worksheet!$G$17,HVACe_Options,0)+4,FALSE),1)/IF(Worksheet!M414>0,Worksheet!M414,Worksheet!L414),\"\"),\"\")","v":""},{"$f":"IF(Worksheet!L414<>0, IFERROR(VLOOKUP(Worksheet!$C$16,SavingsSupportTable,2,FALSE)*Worksheet!AQ414*IF(IFERROR(MATCH(Worksheet!$G$17,HVACe_Options,0),0)>0,1+VLOOKUP(Worksheet!$C$16,SavingsSupportTable,4,FALSE),1)/IF(Worksheet!M414>0,Worksheet!M414,Worksheet!L414),\"\"),\"\")","v":""},"",{"$f":"IF(Worksheet!L414<>0,IFERROR(VLOOKUP(Worksheet!$C$16,SavingsSupportTable,3,FALSE)*Worksheet!AQ414*IF(IFERROR(SEARCH(\"Gas\",Worksheet!$G$17),0)>0,VLOOKUP(\"Gas\",HVACg_Lookup,MATCH(Worksheet!$G$16,BuildingSize,0)+1,FALSE),IF(IFERROR(SEARCH(\"Oil\",Worksheet!$G$17),0)>0,VLOOKUP(\"Oil\",HVACg_Lookup,MATCH(Worksheet!$G$16,BuildingSize,0)+1,FALSE),IF(IFERROR(SEARCH(\"Propane\",Worksheet!$G$17),0)>0,VLOOKUP(\"Propane\",HVACg_Lookup,MATCH(Worksheet!$G$16,BuildingSize,0)+1,FALSE),0)))/IF(Worksheet!M414>0,Worksheet!M414,Worksheet!L414),0),\"\")","v":""},"",null,null,null,{"$f":"IF(ISBLANK(Worksheet!M414)=FALSE,Worksheet!M414,\"\")","v":0},{"$f":"IF(Worksheet!A414=\"-\",\"\",IF(Worksheet!A414=\"\",S390,Worksheet!A414))","v":""},{"$f":"IF(S391=\"\",\"\",IF(AND(Worksheet!G414=\"\",Worksheet!H414=\"\")=TRUE,T390,IF(Worksheet!G414=\"\",\"\",Worksheet!G414)))","v":""},{"$f":"IF(S391=\"\",\"\",IF(AND(Worksheet!G414=\"\",Worksheet!H414=\"\")=TRUE,U390,IF(Worksheet!H414=\"\",\"\",Worksheet!H414)))","v":""},{"$f":"IF(Worksheet!N414=\"\",\"\",Worksheet!N414)","v":""},{"$f":"IF(Worksheet!O414=\"\",\"\",Worksheet!O414)","v":""},{"$f":"IF(Worksheet!F414=0,\"\",Worksheet!F414)","v":""},{"$f":"IF(Worksheet!P414=0,\"\",Worksheet!P414)","v":""},{"$f":"IF(Worksheet!$A$11=TRUE,\"Y\",\"N\")","v":"N"},{"$f":"IF(Worksheet!$A$12=TRUE,\"Y\",\"N\")","v":"N"},{"$f":"IF(Worksheet!$B$11=TRUE,\"Y\",\"N\")","v":"N"},{"$f":"IF(Worksheet!$B$12=TRUE,\"Y\",\"N\")","v":"N"},{"$f":"IF(Worksheet!$C$11=TRUE,\"Y\",\"N\")","v":"N"},{"$f":"IF(Worksheet!$C$12=TRUE,\"Y\",\"N\")","v":"N"},""]
[{"$f":"IF(ISERROR(VLOOKUP(Worksheet!N415,MeasureLookup,2,FALSE))=FALSE,VLOOKUP(Worksheet!N415,MeasureLookup,2,FALSE),\"\")","v":""},{"$f":"Worksheet!Q415","v":0},{"$f":"Worksheet!R415","v":0},{"$f":"IF(ISERROR(Worksheet!P415)=FALSE,Worksheet!P415,\"\")","v":0},"Watts",null,null,{"$f":"IF(Worksheet!AP415<>\"\",IF(Worksheet!AP415>0,Worksheet!AP415/IF(Worksheet!M415>0,Worksheet!M415,Worksheet!L415),\"\"),\"\")","v":""},{"$f":"IF(ISBLANK(Worksheet!L415)=FALSE,Worksheet!L415,\"\")","v":0},{"$f":"IF(Worksheet!L415<>0, IFERROR(VLOOKUP(Worksheet!$C$16,SavingsSupportTable,3,FALSE)*Worksheet!AQ415*IFERROR(1+VLOOKUP(Worksheet!$C$16,SavingsSupportTable,MATCH(Worksheet!$G$17,HVACe_Options,0)+4,FALSE),1)/IF(Worksheet!M415>0,Worksheet!M415,Worksheet!L415),\"\"),\"\")","v":""},{"$f":"IF(Worksheet!L415<>0, IFERROR(VLOOKUP(Worksheet!$C$16,SavingsSupportTable,2,FALSE)*Worksheet!AQ415*IF(IFERROR(MATCH(Worksheet!$G$17,HVACe_Options,0),0)>0,1+VLOOKUP(Worksheet!$C$16,SavingsSupportTable,4,FALSE),1)/IF(Worksheet!M415>0,Worksheet!M415,Worksheet!L415),\"\"),\"\")","v":""},"",{"$f":"IF(Worksheet!L415<>0,IFERROR(VLOOKUP(Worksheet!$C$16,SavingsSupportTable,3,FALSE)*Worksheet!AQ415*IF(IFERROR(SEARCH(\"Gas\",Worksheet!$G$17),0)>0,VLOOKUP(\"Gas\",HVACg_Lookup,MATCH(Worksheet!$G$16,BuildingSize,0)+1,FALSE),IF(IFERROR(SEARCH(\"Oil\",Worksheet!$G$17),0)>0,VLOOKUP(\"Oil\",HVACg_Lookup,MATCH(Worksheet!$G$16,BuildingSize,0)+1,FALSE),IF(IFERROR(SEARCH(\"Propane\",Worksheet!$G$17),0)>0,VLOOKUP(\"Propane\",HVACg_Lookup,MATCH(Worksheet!$G$16,BuildingSize,0)+1,FALSE),0)))/IF(Worksheet!M415>0,Worksheet!M415,Worksheet!L415),0),\"\")","v":""},"",null,null,null,{"$f":"IF(ISBLANK(Worksheet!M415)=FALSE,Worksheet!M415,\"\")","v":0},{"$f":"IF(Worksheet!A415=\"-\",\"\",IF(Worksheet!A415=\"\",S391,Worksheet!A415))","v":""},{"$f":"IF(S392=\"\",\"\",IF(AND(Worksheet!G415=\"\",Worksheet!H415=\"\")=TRUE,T391,IF(Worksheet!G415=\"\",\"\",Worksheet!G415)))","v":""},{"$f":"IF(S392=\"\",\"\",IF(AND(Worksheet!G415=\"\",Worksheet!H415=\"\")=TRUE,U391,IF(Worksheet!H415=\"\",\"\",Worksheet!H415)))","v":""},{"$f":"IF(Worksheet!N415=\"\",\"\",Worksheet!N415)","v":""},{"$f":"IF(Worksheet!O415=\"\",\"\",Worksheet!O415)","v":""},{"$f":"IF(Worksheet!F415=0,\"\",Worksheet!F415)","v":""},{"$f":"IF(Worksheet!P415=0,\"\",Worksheet!P415)","v":""},{"$f":"IF(Worksheet!$A$11=TRUE,\"Y\",\"N\")","v":"N"},{"$f":"IF(Worksheet!$A$12=TRUE,\"Y\",\"N\")","v":"N"},{"$f":"IF(Worksheet!$B$11=TRUE,\"Y\",\"N\")","v":"N"},{"$f":"IF(Worksheet!$B$12=TRUE,\"Y\",\"N\")","v":"N"},{"$f":"IF(Worksheet!$C$11=TRUE,\"Y\",\"N\")","v":"N"},{"$f":"IF(Worksheet!$C$12=TRUE,\"Y\",\"N\")","v":"N"},""]
[{"$f":"IF(ISERROR(VLOOKUP(Worksheet!N416,MeasureLookup,2,FALSE))=FALSE,VLOOKUP(Worksheet!N416,MeasureLookup,2,FALSE),\"\")","v":""},{"$f":"Worksheet!Q416","v":0},{"$f":"Worksheet!R416","v":0},{"$f":"IF(ISERROR(Worksheet!P416)=FALSE,Worksheet!P416,\"\")","v":0},"Watts",null,null,{"$f":"IF(Worksheet!AP416<>\"\",IF(Worksheet!AP416>0,Worksheet!AP416/IF(Worksheet!M416>0,Worksheet!M416,Worksheet!L416),\"\"),\"\")","v":""},{"$f":"IF(ISBLANK(Worksheet!L416)=FALSE,Worksheet!L416,\"\")","v":0},{"$f":"IF(Worksheet!L416<>0, IFERROR(VLOOKUP(Worksheet!$C$16,SavingsSupportTable,3,FALSE)*Worksheet!AQ416*IFERROR(1+VLOOKUP(Worksheet!$C$16,SavingsSupportTable,MATCH(Worksheet!$G$17,HVACe_Options,0)+4,FALSE),1)/IF(Worksheet!M416>0,Worksheet!M416,Worksheet!L416),\"\"),\"\")","v":""},{"$f":"IF(Worksheet!L416<>0, IFERROR(VLOOKUP(Worksheet!$C$16,SavingsSupportTable,2,FALSE)*Worksheet!AQ416*IF(IFERROR(MATCH(Worksheet!$G$17,HVACe_Options,0),0)>0,1+VLOOKUP(Worksheet!$C$16,SavingsSupportTable,4,FALSE),1)/IF(Worksheet!M416>0,Worksheet!M416,Worksheet!L416),\"\"),\"\")","v":""},"",{"$f":"IF(Worksheet!L416<>0,IFERROR(VLOOKUP(Worksheet!$C$16,SavingsSupportTable,3,FALSE)*Worksheet!AQ416*IF(IFERROR(SEARCH(\"Gas\",Worksheet!$G$17),0)>0,VLOOKUP(\"Gas\",HVACg_Lookup,MATCH(Worksheet!$G$16,BuildingSize,0)+1,FALSE),IF(IFERROR(SEARCH(\"Oil\",Worksheet!$G$17),0)>0,VLOOKUP(\"Oil\",HVACg_Lookup,MATCH(Worksheet!$G$16,BuildingSize,0)+1,FALSE),IF(IFERROR(SEARCH(\"Propane\",Worksheet!$G$17),0)>0,VLOOKUP(\"Propane\",HVACg_Lookup,MATCH(Worksheet!$G$16,BuildingSize,0)+1,FALSE),0)))/IF(Worksheet!M416>0,Worksheet!M416,Worksheet!L416),0),\"\")","v":""},"",null,null,null,{"$f":"IF(ISBLANK(Worksheet!M416)=FALSE,Worksheet!M416,\"\")","v":0},{"$f":"IF(Worksheet!A416=\"-\",\"\",IF(Worksheet!A416=\"\",S392,Worksheet!A416))","v":""},{"$f":"IF(S393=\"\",\"\",IF(AND(Worksheet!G416=\"\",Worksheet!H416=\"\")=TRUE,T392,IF(Worksheet!G416=\"\",\"\",Worksheet!G416)))","v":""},{"$f":"IF(S393=\"\",\"\",IF(AND(Worksheet!G416=\"\",Worksheet!H416=\"\")=TRUE,U392,IF(Worksheet!H416=\"\",\"\",Worksheet!H416)))","v":""},{"$f":"IF(Worksheet!N416=\"\",\"\",Worksheet!N416)","v":""},{"$f":"IF(Worksheet!O416=\"\",\"\",Worksheet!O416)","v":""},{"$f":"IF(Worksheet!F416=0,\"\",Worksheet!F416)","v":""},{"$f":"IF(Worksheet!P416=0,\"\",Worksheet!P416)","v":""},{"$f":"IF(Worksheet!$A$11=TRUE,\"Y\",\"N\")","v":"N"},{"$f":"IF(Worksheet!$A$12=TRUE,\"Y\",\"N\")","v":"N"},{"$f":"IF(Worksheet!$B$11=TRUE,\"Y\",\"N\")","v":"N"},{"$f":"IF(Worksheet!$B$12=TRUE,\"Y\",\"N\")","v":"N"},{"$f":"IF(Worksheet!$C$11=TRUE,\"Y\",\"N\")","v":"N"},{"$f":"IF(Worksheet!$C$12=TRUE,\"Y\",\"N\")","v":"N"},""]
[{"$f":"IF(ISERROR(VLOOKUP(Worksheet!N417,MeasureLookup,2,FALSE))=FALSE,VLOOKUP(Worksheet!N417,MeasureLookup,2,FALSE),\"\")","v":""},{"$f":"Worksheet!Q417","v":0},{"$f":"Worksheet!R417","v":0},{"$f":"IF(ISERROR(Worksheet!P417)=FALSE,Worksheet!P417,\"\")","v":0},"Watts",null,null,{"$f":"IF(Worksheet!AP417<>\"\",IF(Worksheet!AP417>0,Worksheet!AP417/IF(Worksheet!M417>0,Worksheet!M417,Worksheet!L417),\"\"),\"\")","v":""},{"$f":"IF(ISBLANK(Worksheet!L417)=FALSE,Worksheet!L417,\"\")","v":0},{"$f":"IF(Worksheet!L417<>0, IFERROR(VLOOKUP(Worksheet!$C$16,SavingsSupportTable,3,FALSE)*Worksheet!AQ417*IFERROR(1+VLOOKUP(Worksheet!$C$16,SavingsSupportTable,MATCH(Worksheet!$G$17,HVACe_Options,0)+4,FALSE),1)/IF(Worksheet!M417>0,Worksheet!M417,Worksheet!L417),\"\"),\"\")","v":""},{"$f":"IF(Worksheet!L417<>0, IFERROR(VLOOKUP(Worksheet!$C$16,SavingsSupportTable,2,FALSE)*Worksheet!AQ417*IF(IFERROR(MATCH(Worksheet!$G$17,HVACe_Options,0),0)>0,1+VLOOKUP(Worksheet!$C$16,SavingsSupportTable,4,FALSE),1)/IF(Worksheet!M417>0,Worksheet!M417,Worksheet!L417),\"\"),\"\")","v":""},"",{"$f":"IF(Worksheet!L417<>0,IFERROR(VLOOKUP(Worksheet!$C$16,SavingsSupportTable,3,FALSE)*Worksheet!AQ417*IF(IFERROR(SEARCH(\"Gas\",Worksheet!$G$17),0)>0,VLOOKUP(\"Gas\",HVACg_Lookup,MATCH(Worksheet!$G$16,BuildingSize,0)+1,FALSE),IF(IFERROR(SEARCH(\"Oil\",Worksheet!$G$17),0)>0,VLOOKUP(\"Oil\",HVACg_Lookup,MATCH(Worksheet!$G$16,BuildingSize,0)+1,FALSE),IF(IFERROR(SEARCH(\"Propane\",Worksheet!$G$17),0)>0,VLOOKUP(\"Propane\",HVACg_Lookup,MATCH(Worksheet!$G$16,BuildingSize,0)+1,FALSE),0)))/IF(Worksheet!M417>0,Worksheet!M417,Worksheet!L417),0),\"\")","v":""},"",null,null,null,{"$f":"IF(ISBLANK(Worksheet!M417)=FALSE,Worksheet!M417,\"\")","v":0},{"$f":"IF(Worksheet!A417=\"-\",\"\",IF(Worksheet!A417=\"\",S393,Worksheet!A417))","v":""},{"$f":"IF(S394=\"\",\"\",IF(AND(Worksheet!G417=\"\",Worksheet!H417=\"\")=TRUE,T393,IF(Worksheet!G417=\"\",\"\",Worksheet!G417)))","v":""},{"$f":"IF(S394=\"\",\"\",IF(AND(Worksheet!G417=\"\",Worksheet!H417=\"\")=TRUE,U393,IF(Worksheet!H417=\"\",\"\",Worksheet!H417)))","v":""},{"$f":"IF(Worksheet!N417=\"\",\"\",Worksheet!N417)","v":""},{"$f":"IF(Worksheet!O417=\"\",\"\",Worksheet!O417)","v":""},{"$f":"IF(Worksheet!F417=0,\"\",Worksheet!F417)","v":""},{"$f":"IF(Worksheet!P417=0,\"\",Worksheet!P417)","v":""},{"$f":"IF(Worksheet!$A$11=TRUE,\"Y\",\"N\")","v":"N"},{"$f":"IF(Worksheet!$A$12=TRUE,\"Y\",\"N\")","v":"N"},{"$f":"IF(Worksheet!$B$11=TRUE,\"Y\",\"N\")","v":"N"},{"$f":"IF(Worksheet!$B$12=TRUE,\"Y\",\"N\")","v":"N"},{"$f":"IF(Worksheet!$C$11=TRUE,\"Y\",\"N\")","v":"N"},{"$f":"IF(Worksheet!$C$12=TRUE,\"Y\",\"N\")","v":"N"},""]
[{"$f":"IF(ISERROR(VLOOKUP(Worksheet!N418,MeasureLookup,2,FALSE))=FALSE,VLOOKUP(Worksheet!N418,MeasureLookup,2,FALSE),\"\")","v":""},{"$f":"Worksheet!Q418","v":0},{"$f":"Worksheet!R418","v":0},{"$f":"IF(ISERROR(Worksheet!P418)=FALSE,Worksheet!P418,\"\")","v":0},"Watts",null,null,{"$f":"IF(Worksheet!AP418<>\"\",IF(Worksheet!AP418>0,Worksheet!AP418/IF(Worksheet!M418>0,Worksheet!M418,Worksheet!L418),\"\"),\"\")","v":""},{"$f":"IF(ISBLANK(Worksheet!L418)=FALSE,Worksheet!L418,\"\")","v":0},{"$f":"IF(Worksheet!L418<>0, IFERROR(VLOOKUP(Worksheet!$C$16,SavingsSupportTable,3,FALSE)*Worksheet!AQ418*IFERROR(1+VLOOKUP(Worksheet!$C$16,SavingsSupportTable,MATCH(Worksheet!$G$17,HVACe_Options,0)+4,FALSE),1)/IF(Worksheet!M418>0,Worksheet!M418,Worksheet!L418),\"\"),\"\")","v":""},{"$f":"IF(Worksheet!L418<>0, IFERROR(VLOOKUP(Worksheet!$C$16,SavingsSupportTable,2,FALSE)*Worksheet!AQ418*IF(IFERROR(MATCH(Worksheet!$G$17,HVACe_Options,0),0)>0,1+VLOOKUP(Worksheet!$C$16,SavingsSupportTable,4,FALSE),1)/IF(Worksheet!M418>0,Worksheet!M418,Worksheet!L418),\"\"),\"\")","v":""},"",{"$f":"IF(Worksheet!L418<>0,IFERROR(VLOOKUP(Worksheet!$C$16,SavingsSupportTable,3,FALSE)*Worksheet!AQ418*IF(IFERROR(SEARCH(\"Gas\",Worksheet!$G$17),0)>0,VLOOKUP(\"Gas\",HVACg_Lookup,MATCH(Worksheet!$G$16,BuildingSize,0)+1,FALSE),IF(IFERROR(SEARCH(\"Oil\",Worksheet!$G$17),0)>0,VLOOKUP(\"Oil\",HVACg_Lookup,MATCH(Worksheet!$G$16,BuildingSize,0)+1,FALSE),IF(IFERROR(SEARCH(\"Propane\",Worksheet!$G$17),0)>0,VLOOKUP(\"Propane\",HVACg_Lookup,MATCH(Worksheet!$G$16,BuildingSize,0)+1,FALSE),0)))/IF(Worksheet!M418>0,Worksheet!M418,Worksheet!L418),0),\"\")","v":""},"",null,null,null,{"$f":"IF(ISBLANK(Worksheet!M418)=FALSE,Worksheet!M418,\"\")","v":0},{"$f":"IF(Worksheet!A418=\"-\",\"\",IF(Worksheet!A418=\"\",S394,Worksheet!A418))","v":""},{"$f":"IF(S395=\"\",\"\",IF(AND(Worksheet!G418=\"\",Worksheet!H418=\"\")=TRUE,T394,IF(Worksheet!G418=\"\",\"\",Worksheet!G418)))","v":""},{"$f":"IF(S395=\"\",\"\",IF(AND(Worksheet!G418=\"\",Worksheet!H418=\"\")=TRUE,U394,IF(Worksheet!H418=\"\",\"\",Worksheet!H418)))","v":""},{"$f":"IF(Worksheet!N418=\"\",\"\",Worksheet!N418)","v":""},{"$f":"IF(Worksheet!O418=\"\",\"\",Worksheet!O418)","v":""},{"$f":"IF(Worksheet!F418=0,\"\",Worksheet!F418)","v":""},{"$f":"IF(Worksheet!P418=0,\"\",Worksheet!P418)","v":""},{"$f":"IF(Worksheet!$A$11=TRUE,\"Y\",\"N\")","v":"N"},{"$f":"IF(Worksheet!$A$12=TRUE,\"Y\",\"N\")","v":"N"},{"$f":"IF(Worksheet!$B$11=TRUE,\"Y\",\"N\")","v":"N"},{"$f":"IF(Worksheet!$B$12=TRUE,\"Y\",\"N\")","v":"N"},{"$f":"IF(Worksheet!$C$11=TRUE,\"Y\",\"N\")","v":"N"},{"$f":"IF(Worksheet!$C$12=TRUE,\"Y\",\"N\")","v":"N"},""]
[{"$f":"IF(ISERROR(VLOOKUP(Worksheet!N419,MeasureLookup,2,FALSE))=FALSE,VLOOKUP(Worksheet!N419,MeasureLookup,2,FALSE),\"\")","v":""},{"$f":"Worksheet!Q419","v":0},{"$f":"Worksheet!R419","v":0},{"$f":"IF(ISERROR(Worksheet!P419)=FALSE,Worksheet!P419,\"\")","v":0},"Watts",null,null,{"$f":"IF(Worksheet!AP419<>\"\",IF(Worksheet!AP419>0,Worksheet!AP419/IF(Worksheet!M419>0,Worksheet!M419,Worksheet!L419),\"\"),\"\")","v":""},{"$f":"IF(ISBLANK(Worksheet!L419)=FALSE,Worksheet!L419,\"\")","v":0},{"$f":"IF(Worksheet!L419<>0, IFERROR(VLOOKUP(Worksheet!$C$16,SavingsSupportTable,3,FALSE)*Worksheet!AQ419*IFERROR(1+VLOOKUP(Worksheet!$C$16,SavingsSupportTable,MATCH(Worksheet!$G$17,HVACe_Options,0)+4,FALSE),1)/IF(Worksheet!M419>0,Worksheet!M419,Worksheet!L419),\"\"),\"\")","v":""},{"$f":"IF(Worksheet!L419<>0, IFERROR(VLOOKUP(Worksheet!$C$16,SavingsSupportTable,2,FALSE)*Worksheet!AQ419*IF(IFERROR(MATCH(Worksheet!$G$17,HVACe_Options,0),0)>0,1+VLOOKUP(Worksheet!$C$16,SavingsSupportTable,4,FALSE),1)/IF(Worksheet!M419>0,Worksheet!M419,Worksheet!L419),\"\"),\"\")","v":""},"",{"$f":"IF(Worksheet!L419<>0,IFERROR(VLOOKUP(Worksheet!$C$16,SavingsSupportTable,3,FALSE)*Worksheet!AQ419*IF(IFERROR(SEARCH(\"Gas\",Worksheet!$G$17),0)>0,VLOOKUP(\"Gas\",HVACg_Lookup,MATCH(Worksheet!$G$16,BuildingSize,0)+1,FALSE),IF(IFERROR(SEARCH(\"Oil\",Worksheet!$G$17),0)>0,VLOOKUP(\"Oil\",HVACg_Lookup,MATCH(Worksheet!$G$16,BuildingSize,0)+1,FALSE),IF(IFERROR(SEARCH(\"Propane\",Worksheet!$G$17),0)>0,VLOOKUP(\"Propane\",HVACg_Lookup,MATCH(Worksheet!$G$16,BuildingSize,0)+1,FALSE),0)))/IF(Worksheet!M419>0,Worksheet!M419,Worksheet!L419),0),\"\")","v":""},"",null,null,null,{"$f":"IF(ISBLANK(Worksheet!M419)=FALSE,Worksheet!M419,\"\")","v":0},{"$f":"IF(Worksheet!A419=\"-\",\"\",IF(Worksheet!A419=\"\",S395,Worksheet!A419))","v":""},{"$f":"IF(S396=\"\",\"\",IF(AND(Worksheet!G419=\"\",Worksheet!H419=\"\")=TRUE,T395,IF(Worksheet!G419=\"\",\"\",Worksheet!G419)))","v":""},{"$f":"IF(S396=\"\",\"\",IF(AND(Worksheet!G419=\"\",Worksheet!H419=\"\")=TRUE,U395,IF(Worksheet!H419=\"\",\"\",Worksheet!H419)))","v":""},{"$f":"IF(Worksheet!N419=\"\",\"\",Worksheet!N419)","v":""},{"$f":"IF(Worksheet!O419=\"\",\"\",Worksheet!O419)","v":""},{"$f":"IF(Worksheet!F419=0,\"\",Worksheet!F419)","v":""},{"$f":"IF(Worksheet!P419=0,\"\",Worksheet!P419)","v":""},{"$f":"IF(Worksheet!$A$11=TRUE,\"Y\",\"N\")","v":"N"},{"$f":"IF(Worksheet!$A$12=TRUE,\"Y\",\"N\")","v":"N"},{"$f":"IF(Worksheet!$B$11=TRUE,\"Y\",\"N\")","v":"N"},{"$f":"IF(Worksheet!$B$12=TRUE,\"Y\",\"N\")","v":"N"},{"$f":"IF(Worksheet!$C$11=TRUE,\"Y\",\"N\")","v":"N"},{"$f":"IF(Worksheet!$C$12=TRUE,\"Y\",\"N\")","v":"N"},""]
[{"$f":"IF(ISERROR(VLOOKUP(Worksheet!N420,MeasureLookup,2,FALSE))=FALSE,VLOOKUP(Worksheet!N420,MeasureLookup,2,FALSE),\"\")","v":""},{"$f":"Worksheet!Q420","v":0},{"$f":"Worksheet!R420","v":0},{"$f":"IF(ISERROR(Worksheet!P420)=FALSE,Worksheet!P420,\"\")","v":0},"Watts",null,null,{"$f":"IF(Worksheet!AP420<>\"\",IF(Worksheet!AP420>0,Worksheet!AP420/IF(Worksheet!M420>0,Worksheet!M420,Worksheet!L420),\"\"),\"\")","v":""},{"$f":"IF(ISBLANK(Worksheet!L420)=FALSE,Worksheet!L420,\"\")","v":0},{"$f":"IF(Worksheet!L420<>0, IFERROR(VLOOKUP(Worksheet!$C$16,SavingsSupportTable,3,FALSE)*Worksheet!AQ420*IFERROR(1+VLOOKUP(Worksheet!$C$16,SavingsSupportTable,MATCH(Worksheet!$G$17,HVACe_Options,0)+4,FALSE),1)/IF(Worksheet!M420>0,Worksheet!M420,Worksheet!L420),\"\"),\"\")","v":""},{"$f":"IF(Worksheet!L420<>0, IFERROR(VLOOKUP(Worksheet!$C$16,SavingsSupportTable,2,FALSE)*Worksheet!AQ420*IF(IFERROR(MATCH(Worksheet!$G$17,HVACe_Options,0),0)>0,1+VLOOKUP(Worksheet!$C$16,SavingsSupportTable,4,FALSE),1)/IF(Worksheet!M420>0,Worksheet!M420,Worksheet!L420),\"\"),\"\")","v":""},"",{"$f":"IF(Worksheet!L420<>0,IFERROR(VLOOKUP(Worksheet!$C$16,SavingsSupportTable,3,FALSE)*Worksheet!AQ420*IF(IFERROR(SEARCH(\"Gas\",Worksheet!$G$17),0)>0,VLOOKUP(\"Gas\",HVACg_Lookup,MATCH(Worksheet!$G$16,BuildingSize,0)+1,FALSE),IF(IFERROR(SEARCH(\"Oil\",Worksheet!$G$17),0)>0,VLOOKUP(\"Oil\",HVACg_Lookup,MATCH(Worksheet!$G$16,BuildingSize,0)+1,FALSE),IF(IFERROR(SEARCH(\"Propane\",Worksheet!$G$17),0)>0,VLOOKUP(\"Propane\",HVACg_Lookup,MATCH(Worksheet!$G$16,BuildingSize,0)+1,FALSE),0)))/IF(Worksheet!M420>0,Worksheet!M420,Worksheet!L420),0),\"\")","v":""},"",null,null,null,{"$f":"IF(ISBLANK(Worksheet!M420)=FALSE,Worksheet!M420,\"\")","v":0},{"$f":"IF(Worksheet!A420=\"-\",\"\",IF(Worksheet!A420=\"\",S396,Worksheet!A420))","v":""},{"$f":"IF(S397=\"\",\"\",IF(AND(Worksheet!G420=\"\",Worksheet!H420=\"\")=TRUE,T396,IF(Worksheet!G420=\"\",\"\",Worksheet!G420)))","v":""},{"$f":"IF(S397=\"\",\"\",IF(AND(Worksheet!G420=\"\",Worksheet!H420=\"\")=TRUE,U396,IF(Worksheet!H420=\"\",\"\",Worksheet!H420)))","v":""},{"$f":"IF(Worksheet!N420=\"\",\"\",Worksheet!N420)","v":""},{"$f":"IF(Worksheet!O420=\"\",\"\",Worksheet!O420)","v":""},{"$f":"IF(Worksheet!F420=0,\"\",Worksheet!F420)","v":""},{"$f":"IF(Worksheet!P420=0,\"\",Worksheet!P420)","v":""},{"$f":"IF(Worksheet!$A$11=TRUE,\"Y\",\"N\")","v":"N"},{"$f":"IF(Worksheet!$A$12=TRUE,\"Y\",\"N\")","v":"N"},{"$f":"IF(Worksheet!$B$11=TRUE,\"Y\",\"N\")","v":"N"},{"$f":"IF(Worksheet!$B$12=TRUE,\"Y\",\"N\")","v":"N"},{"$f":"IF(Worksheet!$C$11=TRUE,\"Y\",\"N\")","v":"N"},{"$f":"IF(Worksheet!$C$12=TRUE,\"Y\",\"N\")","v":"N"},""]
[{"$f":"IF(ISERROR(VLOOKUP(Worksheet!N421,MeasureLookup,2,FALSE))=FALSE,VLOOKUP(Worksheet!N421,MeasureLookup,2,FALSE),\"\")","v":""},{"$f":"Worksheet!Q421","v":0},{"$f":"Worksheet!R421","v":0},{"$f":"IF(ISERROR(Worksheet!P421)=FALSE,Worksheet!P421,\"\")","v":0},"Watts",null,null,{"$f":"IF(Worksheet!AP421<>\"\",IF(Worksheet!AP421>0,Worksheet!AP421/IF(Worksheet!M421>0,Worksheet!M421,Worksheet!L421),\"\"),\"\")","v":""},{"$f":"IF(ISBLANK(Worksheet!L421)=FALSE,Worksheet!L421,\"\")","v":0},{"$f":"IF(Worksheet!L421<>0, IFERROR(VLOOKUP(Worksheet!$C$16,SavingsSupportTable,3,FALSE)*Worksheet!AQ421*IFERROR(1+VLOOKUP(Worksheet!$C$16,SavingsSupportTable,MATCH(Worksheet!$G$17,HVACe_Options,0)+4,FALSE),1)/IF(Worksheet!M421>0,Worksheet!M421,Worksheet!L421),\"\"),\"\")","v":""},{"$f":"IF(Worksheet!L421<>0, IFERROR(VLOOKUP(Worksheet!$C$16,SavingsSupportTable,2,FALSE)*Worksheet!AQ421*IF(IFERROR(MATCH(Worksheet!$G$17,HVACe_Options,0),0)>0,1+VLOOKUP(Worksheet!$C$16,SavingsSupportTable,4,FALSE),1)/IF(Worksheet!M421>0,Worksheet!M421,Worksheet!L421),\"\"),\"\")","v":""},"",{"$f":"IF(Worksheet!L421<>0,IFERROR(VLOOKUP(Worksheet!$C$16,SavingsSupportTable,3,FALSE)*Worksheet!AQ421*IF(IFERROR(SEARCH(\"Gas\",Worksheet!$G$17),0)>0,VLOOKUP(\"Gas\",HVACg_Lookup,MATCH(Worksheet!$G$16,BuildingSize,0)+1,FALSE),IF(IFERROR(SEARCH(\"Oil\",Worksheet!$G$17),0)>0,VLOOKUP(\"Oil\",HVACg_Lookup,MATCH(Worksheet!$G$16,BuildingSize,0)+1,FALSE),IF(IFERROR(SEARCH(\"Propane\",Worksheet!$G$17),0)>0,VLOOKUP(\"Propane\",HVACg_Lookup,MATCH(Worksheet!$G$16,BuildingSize,0)+1,FALSE),0)))/IF(Worksheet!M421>0,Worksheet!M421,Worksheet!L421),0),\"\")","v":""},"",null,null,null,{"$f":"IF(ISBLANK(Worksheet!M421)=FALSE,Worksheet!M421,\"\")","v":0},{"$f":"IF(Worksheet!A421=\"-\",\"\",IF(Worksheet!A421=\"\",S397,Worksheet!A421))","v":""},{"$f":"IF(S398=\"\",\"\",IF(AND(Worksheet!G421=\"\",Worksheet!H421=\"\")=TRUE,T397,IF(Worksheet!G421=\"\",\"\",Worksheet!G421)))","v":""},{"$f":"IF(S398=\"\",\"\",IF(AND(Worksheet!G421=\"\",Worksheet!H421=\"\")=TRUE,U397,IF(Worksheet!H421=\"\",\"\",Worksheet!H421)))","v":""},{"$f":"IF(Worksheet!N421=\"\",\"\",Worksheet!N421)","v":""},{"$f":"IF(Worksheet!O421=\"\",\"\",Worksheet!O421)","v":""},{"$f":"IF(Worksheet!F421=0,\"\",Worksheet!F421)","v":""},{"$f":"IF(Worksheet!P421=0,\"\",Worksheet!P421)","v":""},{"$f":"IF(Worksheet!$A$11=TRUE,\"Y\",\"N\")","v":"N"},{"$f":"IF(Worksheet!$A$12=TRUE,\"Y\",\"N\")","v":"N"},{"$f":"IF(Worksheet!$B$11=TRUE,\"Y\",\"N\")","v":"N"},{"$f":"IF(Worksheet!$B$12=TRUE,\"Y\",\"N\")","v":"N"},{"$f":"IF(Worksheet!$C$11=TRUE,\"Y\",\"N\")","v":"N"},{"$f":"IF(Worksheet!$C$12=TRUE,\"Y\",\"N\")","v":"N"},""]
[{"$f":"IF(ISERROR(VLOOKUP(Worksheet!N422,MeasureLookup,2,FALSE))=FALSE,VLOOKUP(Worksheet!N422,MeasureLookup,2,FALSE),\"\")","v":""},{"$f":"Worksheet!Q422","v":0},{"$f":"Worksheet!R422","v":0},{"$f":"IF(ISERROR(Worksheet!P422)=FALSE,Worksheet!P422,\"\")","v":0},"Watts",null,null,{"$f":"IF(Worksheet!AP422<>\"\",IF(Worksheet!AP422>0,Worksheet!AP422/IF(Worksheet!M422>0,Worksheet!M422,Worksheet!L422),\"\"),\"\")","v":""},{"$f":"IF(ISBLANK(Worksheet!L422)=FALSE,Worksheet!L422,\"\")","v":0},{"$f":"IF(Worksheet!L422<>0, IFERROR(VLOOKUP(Worksheet!$C$16,SavingsSupportTable,3,FALSE)*Worksheet!AQ422*IFERROR(1+VLOOKUP(Worksheet!$C$16,SavingsSupportTable,MATCH(Worksheet!$G$17,HVACe_Options,0)+4,FALSE),1)/IF(Worksheet!M422>0,Worksheet!M422,Worksheet!L422),\"\"),\"\")","v":""},{"$f":"IF(Worksheet!L422<>0, IFERROR(VLOOKUP(Worksheet!$C$16,SavingsSupportTable,2,FALSE)*Worksheet!AQ422*IF(IFERROR(MATCH(Worksheet!$G$17,HVACe_Options,0),0)>0,1+VLOOKUP(Worksheet!$C$16,SavingsSupportTable,4,FALSE),1)/IF(Worksheet!M422>0,Worksheet!M422,Worksheet!L422),\"\"),\"\")","v":""},"",{"$f":"IF(Worksheet!L422<>0,IFERROR(VLOOKUP(Worksheet!$C$16,SavingsSupportTable,3,FALSE)*Worksheet!AQ422*IF(IFERROR(SEARCH(\"Gas\",Worksheet!$G$17),0)>0,VLOOKUP(\"Gas\",HVACg_Lookup,MATCH(Worksheet!$G$16,BuildingSize,0)+1,FALSE),IF(IFERROR(SEARCH(\"Oil\",Worksheet!$G$17),0)>0,VLOOKUP(\"Oil\",HVACg_Lookup,MATCH(Worksheet!$G$16,BuildingSize,0)+1,FALSE),IF(IFERROR(SEARCH(\"Propane\",Worksheet!$G$17),0)>0,VLOOKUP(\"Propane\",HVACg_Lookup,MATCH(Worksheet!$G$16,BuildingSize,0)+1,FALSE),0)))/IF(Worksheet!M422>0,Worksheet!M422,Worksheet!L422),0),\"\")","v":""},"",null,null,null,{"$f":"IF(ISBLANK(Worksheet!M422)=FALSE,Worksheet!M422,\"\")","v":0},{"$f":"IF(Worksheet!A422=\"-\",\"\",IF(Worksheet!A422=\"\",S398,Worksheet!A422))","v":""},{"$f":"IF(S399=\"\",\"\",IF(AND(Worksheet!G422=\"\",Worksheet!H422=\"\")=TRUE,T398,IF(Worksheet!G422=\"\",\"\",Worksheet!G422)))","v":""},{"$f":"IF(S399=\"\",\"\",IF(AND(Worksheet!G422=\"\",Worksheet!H422=\"\")=TRUE,U398,IF(Worksheet!H422=\"\",\"\",Worksheet!H422)))","v":""},{"$f":"IF(Worksheet!N422=\"\",\"\",Worksheet!N422)","v":""},{"$f":"IF(Worksheet!O422=\"\",\"\",Worksheet!O422)","v":""},{"$f":"IF(Worksheet!F422=0,\"\",Worksheet!F422)","v":""},{"$f":"IF(Worksheet!P422=0,\"\",Worksheet!P422)","v":""},{"$f":"IF(Worksheet!$A$11=TRUE,\"Y\",\"N\")","v":"N"},{"$f":"IF(Worksheet!$A$12=TRUE,\"Y\",\"N\")","v":"N"},{"$f":"IF(Worksheet!$B$11=TRUE,\"Y\",\"N\")","v":"N"},{"$f":"IF(Worksheet!$B$12=TRUE,\"Y\",\"N\")","v":"N"},{"$f":"IF(Worksheet!$C$11=TRUE,\"Y\",\"N\")","v":"N"},{"$f":"IF(Worksheet!$C$12=TRUE,\"Y\",\"N\")","v":"N"},""]
[{"$f":"IF(ISERROR(VLOOKUP(Worksheet!N423,MeasureLookup,2,FALSE))=FALSE,VLOOKUP(Worksheet!N423,MeasureLookup,2,FALSE),\"\")","v":""},{"$f":"Worksheet!Q423","v":0},{"$f":"Worksheet!R423","v":0},{"$f":"IF(ISERROR(Worksheet!P423)=FALSE,Worksheet!P423,\"\")","v":0},"Watts",null,null,{"$f":"IF(Worksheet!AP423<>\"\",IF(Worksheet!AP423>0,Worksheet!AP423/IF(Worksheet!M423>0,Worksheet!M423,Worksheet!L423),\"\"),\"\")","v":""},{"$f":"IF(ISBLANK(Worksheet!L423)=FALSE,Worksheet!L423,\"\")","v":0},{"$f":"IF(Worksheet!L423<>0, IFERROR(VLOOKUP(Worksheet!$C$16,SavingsSupportTable,3,FALSE)*Worksheet!AQ423*IFERROR(1+VLOOKUP(Worksheet!$C$16,SavingsSupportTable,MATCH(Worksheet!$G$17,HVACe_Options,0)+4,FALSE),1)/IF(Worksheet!M423>0,Worksheet!M423,Worksheet!L423),\"\"),\"\")","v":""},{"$f":"IF(Worksheet!L423<>0, IFERROR(VLOOKUP(Worksheet!$C$16,SavingsSupportTable,2,FALSE)*Worksheet!AQ423*IF(IFERROR(MATCH(Worksheet!$G$17,HVACe_Options,0),0)>0,1+VLOOKUP(Worksheet!$C$16,SavingsSupportTable,4,FALSE),1)/IF(Worksheet!M423>0,Worksheet!M423,Worksheet!L423),\"\"),\"\")","v":""},"",{"$f":"IF(Worksheet!L423<>0,IFERROR(VLOOKUP(Worksheet!$C$16,SavingsSupportTable,3,FALSE)*Worksheet!AQ423*IF(IFERROR(SEARCH(\"Gas\",Worksheet!$G$17),0)>0,VLOOKUP(\"Gas\",HVACg_Lookup,MATCH(Worksheet!$G$16,BuildingSize,0)+1,FALSE),IF(IFERROR(SEARCH(\"Oil\",Worksheet!$G$17),0)>0,VLOOKUP(\"Oil\",HVACg_Lookup,MATCH(Worksheet!$G$16,BuildingSize,0)+1,FALSE),IF(IFERROR(SEARCH(\"Propane\",Worksheet!$G$17),0)>0,VLOOKUP(\"Propane\",HVACg_Lookup,MATCH(Worksheet!$G$16,BuildingSize,0)+1,FALSE),0)))/IF(Worksheet!M423>0,Worksheet!M423,Worksheet!L423),0),\"\")","v":""},"",null,null,null,{"$f":"IF(ISBLANK(Worksheet!M423)=FALSE,Worksheet!M423,\"\")","v":0},{"$f":"IF(Worksheet!A423=\"-\",\"\",IF(Worksheet!A423=\"\",S399,Worksheet!A423))","v":""},{"$f":"IF(S400=\"\",\"\",IF(AND(Worksheet!G423=\"\",Worksheet!H423=\"\")=TRUE,T399,IF(Worksheet!G423=\"\",\"\",Worksheet!G423)))","v":""},{"$f":"IF(S400=\"\",\"\",IF(AND(Worksheet!G423=\"\",Worksheet!H423=\"\")=TRUE,U399,IF(Worksheet!H423=\"\",\"\",Worksheet!H423)))","v":""},{"$f":"IF(Worksheet!N423=\"\",\"\",Worksheet!N423)","v":""},{"$f":"IF(Worksheet!O423=\"\",\"\",Worksheet!O423)","v":""},{"$f":"IF(Worksheet!F423=0,\"\",Worksheet!F423)","v":""},{"$f":"IF(Worksheet!P423=0,\"\",Worksheet!P423)","v":""},{"$f":"IF(Worksheet!$A$11=TRUE,\"Y\",\"N\")","v":"N"},{"$f":"IF(Worksheet!$A$12=TRUE,\"Y\",\"N\")","v":"N"},{"$f":"IF(Worksheet!$B$11=TRUE,\"Y\",\"N\")","v":"N"},{"$f":"IF(Worksheet!$B$12=TRUE,\"Y\",\"N\")","v":"N"},{"$f":"IF(Worksheet!$C$11=TRUE,\"Y\",\"N\")","v":"N"},{"$f":"IF(Worksheet!$C$12=TRUE,\"Y\",\"N\")","v":"N"},""]
[{"$f":"IF(ISERROR(VLOOKUP(Worksheet!N424,MeasureLookup,2,FALSE))=FALSE,VLOOKUP(Worksheet!N424,MeasureLookup,2,FALSE),\"\")","v":""},{"$f":"Worksheet!Q424","v":0},{"$f":"Worksheet!R424","v":0},{"$f":"IF(ISERROR(Worksheet!P424)=FALSE,Worksheet!P424,\"\")","v":0},"Watts",null,null,{"$f":"IF(Worksheet!AP424<>\"\",IF(Worksheet!AP424>0,Worksheet!AP424/IF(Worksheet!M424>0,Worksheet!M424,Worksheet!L424),\"\"),\"\")","v":""},{"$f":"IF(ISBLANK(Worksheet!L424)=FALSE,Worksheet!L424,\"\")","v":0},{"$f":"IF(Worksheet!L424<>0, IFERROR(VLOOKUP(Worksheet!$C$16,SavingsSupportTable,3,FALSE)*Worksheet!AQ424*IFERROR(1+VLOOKUP(Worksheet!$C$16,SavingsSupportTable,MATCH(Worksheet!$G$17,HVACe_Options,0)+4,FALSE),1)/IF(Worksheet!M424>0,Worksheet!M424,Worksheet!L424),\"\"),\"\")","v":""},{"$f":"IF(Worksheet!L424<>0, IFERROR(VLOOKUP(Worksheet!$C$16,SavingsSupportTable,2,FALSE)*Worksheet!AQ424*IF(IFERROR(MATCH(Worksheet!$G$17,HVACe_Options,0),0)>0,1+VLOOKUP(Worksheet!$C$16,SavingsSupportTable,4,FALSE),1)/IF(Worksheet!M424>0,Worksheet!M424,Worksheet!L424),\"\"),\"\")","v":""},"",{"$f":"IF(Worksheet!L424<>0,IFERROR(VLOOKUP(Worksheet!$C$16,SavingsSupportTable,3,FALSE)*Worksheet!AQ424*IF(IFERROR(SEARCH(\"Gas\",Worksheet!$G$17),0)>0,VLOOKUP(\"Gas\",HVACg_Lookup,MATCH(Worksheet!$G$16,BuildingSize,0)+1,FALSE),IF(IFERROR(SEARCH(\"Oil\",Worksheet!$G$17),0)>0,VLOOKUP(\"Oil\",HVACg_Lookup,MATCH(Worksheet!$G$16,BuildingSize,0)+1,FALSE),IF(IFERROR(SEARCH(\"Propane\",Worksheet!$G$17),0)>0,VLOOKUP(\"Propane\",HVACg_Lookup,MATCH(Worksheet!$G$16,BuildingSize,0)+1,FALSE),0)))/IF(Worksheet!M424>0,Worksheet!M424,Worksheet!L424),0),\"\")","v":""},"",null,null,null,{"$f":"IF(ISBLANK(Worksheet!M424)=FALSE,Worksheet!M424,\"\")","v":0},{"$f":"IF(Worksheet!A424=\"-\",\"\",IF(Worksheet!A424=\"\",S400,Worksheet!A424))","v":""},{"$f":"IF(S401=\"\",\"\",IF(AND(Worksheet!G424=\"\",Worksheet!H424=\"\")=TRUE,T400,IF(Worksheet!G424=\"\",\"\",Worksheet!G424)))","v":""},{"$f":"IF(S401=\"\",\"\",IF(AND(Worksheet!G424=\"\",Worksheet!H424=\"\")=TRUE,U400,IF(Worksheet!H424=\"\",\"\",Worksheet!H424)))","v":""},{"$f":"IF(Worksheet!N424=\"\",\"\",Worksheet!N424)","v":""},{"$f":"IF(Worksheet!O424=\"\",\"\",Worksheet!O424)","v":""},{"$f":"IF(Worksheet!F424=0,\"\",Worksheet!F424)","v":""},{"$f":"IF(Worksheet!P424=0,\"\",Worksheet!P424)","v":""},{"$f":"IF(Worksheet!$A$11=TRUE,\"Y\",\"N\")","v":"N"},{"$f":"IF(Worksheet!$A$12=TRUE,\"Y\",\"N\")","v":"N"},{"$f":"IF(Worksheet!$B$11=TRUE,\"Y\",\"N\")","v":"N"},{"$f":"IF(Worksheet!$B$12=TRUE,\"Y\",\"N\")","v":"N"},{"$f":"IF(Worksheet!$C$11=TRUE,\"Y\",\"N\")","v":"N"},{"$f":"IF(Worksheet!$C$12=TRUE,\"Y\",\"N\")","v":"N"},""]
[{"$f":"IF(ISERROR(VLOOKUP(Worksheet!N425,MeasureLookup,2,FALSE))=FALSE,VLOOKUP(Worksheet!N425,MeasureLookup,2,FALSE),\"\")","v":""},{"$f":"Worksheet!Q425","v":0},{"$f":"Worksheet!R425","v":0},{"$f":"IF(ISERROR(Worksheet!P425)=FALSE,Worksheet!P425,\"\")","v":0},"Watts",null,null,{"$f":"IF(Worksheet!AP425<>\"\",IF(Worksheet!AP425>0,Worksheet!AP425/IF(Worksheet!M425>0,Worksheet!M425,Worksheet!L425),\"\"),\"\")","v":""},{"$f":"IF(ISBLANK(Worksheet!L425)=FALSE,Worksheet!L425,\"\")","v":0},{"$f":"IF(Worksheet!L425<>0, IFERROR(VLOOKUP(Worksheet!$C$16,SavingsSupportTable,3,FALSE)*Worksheet!AQ425*IFERROR(1+VLOOKUP(Worksheet!$C$16,SavingsSupportTable,MATCH(Worksheet!$G$17,HVACe_Options,0)+4,FALSE),1)/IF(Worksheet!M425>0,Worksheet!M425,Worksheet!L425),\"\"),\"\")","v":""},{"$f":"IF(Worksheet!L425<>0, IFERROR(VLOOKUP(Worksheet!$C$16,SavingsSupportTable,2,FALSE)*Worksheet!AQ425*IF(IFERROR(MATCH(Worksheet!$G$17,HVACe_Options,0),0)>0,1+VLOOKUP(Worksheet!$C$16,SavingsSupportTable,4,FALSE),1)/IF(Worksheet!M425>0,Worksheet!M425,Worksheet!L425),\"\"),\"\")","v":""},"",{"$f":"IF(Worksheet!L425<>0,IFERROR(VLOOKUP(Worksheet!$C$16,SavingsSupportTable,3,FALSE)*Worksheet!AQ425*IF(IFERROR(SEARCH(\"Gas\",Worksheet!$G$17),0)>0,VLOOKUP(\"Gas\",HVACg_Lookup,MATCH(Worksheet!$G$16,BuildingSize,0)+1,FALSE),IF(IFERROR(SEARCH(\"Oil\",Worksheet!$G$17),0)>0,VLOOKUP(\"Oil\",HVACg_Lookup,MATCH(Worksheet!$G$16,BuildingSize,0)+1,FALSE),IF(IFERROR(SEARCH(\"Propane\",Worksheet!$G$17),0)>0,VLOOKUP(\"Propane\",HVACg_Lookup,MATCH(Worksheet!$G$16,BuildingSize,0)+1,FALSE),0)))/IF(Worksheet!M425>0,Worksheet!M425,Worksheet!L425),0),\"\")","v":""},"",null,null,null,{"$f":"IF(ISBLANK(Worksheet!M425)=FALSE,Worksheet!M425,\"\")","v":0},{"$f":"IF(Worksheet!A425=\"-\",\"\",IF(Worksheet!A425=\"\",S401,Worksheet!A425))","v":""},{"$f":"IF(S402=\"\",\"\",IF(AND(Worksheet!G425=\"\",Worksheet!H425=\"\")=TRUE,T401,IF(Worksheet!G425=\"\",\"\",Worksheet!G425)))","v":""},{"$f":"IF(S402=\"\",\"\",IF(AND(Worksheet!G425=\"\",Worksheet!H425=\"\")=TRUE,U401,IF(Worksheet!H425=\"\",\"\",Worksheet!H425)))","v":""},{"$f":"IF(Worksheet!N425=\"\",\"\",Worksheet!N425)","v":""},{"$f":"IF(Worksheet!O425=\"\",\"\",Worksheet!O425)","v":""},{"$f":"IF(Worksheet!F425=0,\"\",Worksheet!F425)","v":""},{"$f":"IF(Worksheet!P425=0,\"\",Worksheet!P425)","v":""},{"$f":"IF(Worksheet!$A$11=TRUE,\"Y\",\"N\")","v":"N"},{"$f":"IF(Worksheet!$A$12=TRUE,\"Y\",\"N\")","v":"N"},{"$f":"IF(Worksheet!$B$11=TRUE,\"Y\",\"N\")","v":"N"},{"$f":"IF(Worksheet!$B$12=TRUE,\"Y\",\"N\")","v":"N"},{"$f":"IF(Worksheet!$C$11=TRUE,\"Y\",\"N\")","v":"N"},{"$f":"IF(Worksheet!$C$12=TRUE,\"Y\",\"N\")","v":"N"},""]
[{"$f":"IF(ISERROR(VLOOKUP(Worksheet!N426,MeasureLookup,2,FALSE))=FALSE,VLOOKUP(Worksheet!N426,MeasureLookup,2,FALSE),\"\")","v":""},{"$f":"Worksheet!Q426","v":0},{"$f":"Worksheet!R426","v":0},{"$f":"IF(ISERROR(Worksheet!P426)=FALSE,Worksheet!P426,\"\")","v":0},"Watts",null,null,{"$f":"IF(Worksheet!AP426<>\"\",IF(Worksheet!AP426>0,Worksheet!AP426/IF(Worksheet!M426>0,Worksheet!M426,Worksheet!L426),\"\"),\"\")","v":""},{"$f":"IF(ISBLANK(Worksheet!L426)=FALSE,Worksheet!L426,\"\")","v":0},{"$f":"IF(Worksheet!L426<>0, IFERROR(VLOOKUP(Worksheet!$C$16,SavingsSupportTable,3,FALSE)*Worksheet!AQ426*IFERROR(1+VLOOKUP(Worksheet!$C$16,SavingsSupportTable,MATCH(Worksheet!$G$17,HVACe_Options,0)+4,FALSE),1)/IF(Worksheet!M426>0,Worksheet!M426,Worksheet!L426),\"\"),\"\")","v":""},{"$f":"IF(Worksheet!L426<>0, IFERROR(VLOOKUP(Worksheet!$C$16,SavingsSupportTable,2,FALSE)*Worksheet!AQ426*IF(IFERROR(MATCH(Worksheet!$G$17,HVACe_Options,0),0)>0,1+VLOOKUP(Worksheet!$C$16,SavingsSupportTable,4,FALSE),1)/IF(Worksheet!M426>0,Worksheet!M426,Worksheet!L426),\"\"),\"\")","v":""},"",{"$f":"IF(Worksheet!L426<>0,IFERROR(VLOOKUP(Worksheet!$C$16,SavingsSupportTable,3,FALSE)*Worksheet!AQ426*IF(IFERROR(SEARCH(\"Gas\",Worksheet!$G$17),0)>0,VLOOKUP(\"Gas\",HVACg_Lookup,MATCH(Worksheet!$G$16,BuildingSize,0)+1,FALSE),IF(IFERROR(SEARCH(\"Oil\",Worksheet!$G$17),0)>0,VLOOKUP(\"Oil\",HVACg_Lookup,MATCH(Worksheet!$G$16,BuildingSize,0)+1,FALSE),IF(IFERROR(SEARCH(\"Propane\",Worksheet!$G$17),0)>0,VLOOKUP(\"Propane\",HVACg_Lookup,MATCH(Worksheet!$G$16,BuildingSize,0)+1,FALSE),0)))/IF(Worksheet!M426>0,Worksheet!M426,Worksheet!L426),0),\"\")","v":""},"",null,null,null,{"$f":"IF(ISBLANK(Worksheet!M426)=FALSE,Worksheet!M426,\"\")","v":0},{"$f":"IF(Worksheet!A426=\"-\",\"\",IF(Worksheet!A426=\"\",S402,Worksheet!A426))","v":""},{"$f":"IF(S403=\"\",\"\",IF(AND(Worksheet!G426=\"\",Worksheet!H426=\"\")=TRUE,T402,IF(Worksheet!G426=\"\",\"\",Worksheet!G426)))","v":""},{"$f":"IF(S403=\"\",\"\",IF(AND(Worksheet!G426=\"\",Worksheet!H426=\"\")=TRUE,U402,IF(Worksheet!H426=\"\",\"\",Worksheet!H426)))","v":""},{"$f":"IF(Worksheet!N426=\"\",\"\",Worksheet!N426)","v":""},{"$f":"IF(Worksheet!O426=\"\",\"\",Worksheet!O426)","v":""},{"$f":"IF(Worksheet!F426=0,\"\",Worksheet!F426)","v":""},{"$f":"IF(Worksheet!P426=0,\"\",Worksheet!P426)","v":""},{"$f":"IF(Worksheet!$A$11=TRUE,\"Y\",\"N\")","v":"N"},{"$f":"IF(Worksheet!$A$12=TRUE,\"Y\",\"N\")","v":"N"},{"$f":"IF(Worksheet!$B$11=TRUE,\"Y\",\"N\")","v":"N"},{"$f":"IF(Worksheet!$B$12=TRUE,\"Y\",\"N\")","v":"N"},{"$f":"IF(Worksheet!$C$11=TRUE,\"Y\",\"N\")","v":"N"},{"$f":"IF(Worksheet!$C$12=TRUE,\"Y\",\"N\")","v":"N"},""]
[{"$f":"IF(ISERROR(VLOOKUP(Worksheet!N427,MeasureLookup,2,FALSE))=FALSE,VLOOKUP(Worksheet!N427,MeasureLookup,2,FALSE),\"\")","v":""},{"$f":"Worksheet!Q427","v":0},{"$f":"Worksheet!R427","v":0},{"$f":"IF(ISERROR(Worksheet!P427)=FALSE,Worksheet!P427,\"\")","v":0},"Watts",null,null,{"$f":"IF(Worksheet!AP427<>\"\",IF(Worksheet!AP427>0,Worksheet!AP427/IF(Worksheet!M427>0,Worksheet!M427,Worksheet!L427),\"\"),\"\")","v":""},{"$f":"IF(ISBLANK(Worksheet!L427)=FALSE,Worksheet!L427,\"\")","v":0},{"$f":"IF(Worksheet!L427<>0, IFERROR(VLOOKUP(Worksheet!$C$16,SavingsSupportTable,3,FALSE)*Worksheet!AQ427*IFERROR(1+VLOOKUP(Worksheet!$C$16,SavingsSupportTable,MATCH(Worksheet!$G$17,HVACe_Options,0)+4,FALSE),1)/IF(Worksheet!M427>0,Worksheet!M427,Worksheet!L427),\"\"),\"\")","v":""},{"$f":"IF(Worksheet!L427<>0, IFERROR(VLOOKUP(Worksheet!$C$16,SavingsSupportTable,2,FALSE)*Worksheet!AQ427*IF(IFERROR(MATCH(Worksheet!$G$17,HVACe_Options,0),0)>0,1+VLOOKUP(Worksheet!$C$16,SavingsSupportTable,4,FALSE),1)/IF(Worksheet!M427>0,Worksheet!M427,Worksheet!L427),\"\"),\"\")","v":""},"",{"$f":"IF(Worksheet!L427<>0,IFERROR(VLOOKUP(Worksheet!$C$16,SavingsSupportTable,3,FALSE)*Worksheet!AQ427*IF(IFERROR(SEARCH(\"Gas\",Worksheet!$G$17),0)>0,VLOOKUP(\"Gas\",HVACg_Lookup,MATCH(Worksheet!$G$16,BuildingSize,0)+1,FALSE),IF(IFERROR(SEARCH(\"Oil\",Worksheet!$G$17),0)>0,VLOOKUP(\"Oil\",HVACg_Lookup,MATCH(Worksheet!$G$16,BuildingSize,0)+1,FALSE),IF(IFERROR(SEARCH(\"Propane\",Worksheet!$G$17),0)>0,VLOOKUP(\"Propane\",HVACg_Lookup,MATCH(Worksheet!$G$16,BuildingSize,0)+1,FALSE),0)))/IF(Worksheet!M427>0,Worksheet!M427,Worksheet!L427),0),\"\")","v":""},"",null,null,null,{"$f":"IF(ISBLANK(Worksheet!M427)=FALSE,Worksheet!M427,\"\")","v":0},{"$f":"IF(Worksheet!A427=\"-\",\"\",IF(Worksheet!A427=\"\",S403,Worksheet!A427))","v":""},{"$f":"IF(S404=\"\",\"\",IF(AND(Worksheet!G427=\"\",Worksheet!H427=\"\")=TRUE,T403,IF(Worksheet!G427=\"\",\"\",Worksheet!G427)))","v":""},{"$f":"IF(S404=\"\",\"\",IF(AND(Worksheet!G427=\"\",Worksheet!H427=\"\")=TRUE,U403,IF(Worksheet!H427=\"\",\"\",Worksheet!H427)))","v":""},{"$f":"IF(Worksheet!N427=\"\",\"\",Worksheet!N427)","v":""},{"$f":"IF(Worksheet!O427=\"\",\"\",Worksheet!O427)","v":""},{"$f":"IF(Worksheet!F427=0,\"\",Worksheet!F427)","v":""},{"$f":"IF(Worksheet!P427=0,\"\",Worksheet!P427)","v":""},{"$f":"IF(Worksheet!$A$11=TRUE,\"Y\",\"N\")","v":"N"},{"$f":"IF(Worksheet!$A$12=TRUE,\"Y\",\"N\")","v":"N"},{"$f":"IF(Worksheet!$B$11=TRUE,\"Y\",\"N\")","v":"N"},{"$f":"IF(Worksheet!$B$12=TRUE,\"Y\",\"N\")","v":"N"},{"$f":"IF(Worksheet!$C$11=TRUE,\"Y\",\"N\")","v":"N"},{"$f":"IF(Worksheet!$C$12=TRUE,\"Y\",\"N\")","v":"N"},""]
[{"$f":"IF(ISERROR(VLOOKUP(Worksheet!N428,MeasureLookup,2,FALSE))=FALSE,VLOOKUP(Worksheet!N428,MeasureLookup,2,FALSE),\"\")","v":""},{"$f":"Worksheet!Q428","v":0},{"$f":"Worksheet!R428","v":0},{"$f":"IF(ISERROR(Worksheet!P428)=FALSE,Worksheet!P428,\"\")","v":0},"Watts",null,null,{"$f":"IF(Worksheet!AP428<>\"\",IF(Worksheet!AP428>0,Worksheet!AP428/IF(Worksheet!M428>0,Worksheet!M428,Worksheet!L428),\"\"),\"\")","v":""},{"$f":"IF(ISBLANK(Worksheet!L428)=FALSE,Worksheet!L428,\"\")","v":0},{"$f":"IF(Worksheet!L428<>0, IFERROR(VLOOKUP(Worksheet!$C$16,SavingsSupportTable,3,FALSE)*Worksheet!AQ428*IFERROR(1+VLOOKUP(Worksheet!$C$16,SavingsSupportTable,MATCH(Worksheet!$G$17,HVACe_Options,0)+4,FALSE),1)/IF(Worksheet!M428>0,Worksheet!M428,Worksheet!L428),\"\"),\"\")","v":""},{"$f":"IF(Worksheet!L428<>0, IFERROR(VLOOKUP(Worksheet!$C$16,SavingsSupportTable,2,FALSE)*Worksheet!AQ428*IF(IFERROR(MATCH(Worksheet!$G$17,HVACe_Options,0),0)>0,1+VLOOKUP(Worksheet!$C$16,SavingsSupportTable,4,FALSE),1)/IF(Worksheet!M428>0,Worksheet!M428,Worksheet!L428),\"\"),\"\")","v":""},"",{"$f":"IF(Worksheet!L428<>0,IFERROR(VLOOKUP(Worksheet!$C$16,SavingsSupportTable,3,FALSE)*Worksheet!AQ428*IF(IFERROR(SEARCH(\"Gas\",Worksheet!$G$17),0)>0,VLOOKUP(\"Gas\",HVACg_Lookup,MATCH(Worksheet!$G$16,BuildingSize,0)+1,FALSE),IF(IFERROR(SEARCH(\"Oil\",Worksheet!$G$17),0)>0,VLOOKUP(\"Oil\",HVACg_Lookup,MATCH(Worksheet!$G$16,BuildingSize,0)+1,FALSE),IF(IFERROR(SEARCH(\"Propane\",Worksheet!$G$17),0)>0,VLOOKUP(\"Propane\",HVACg_Lookup,MATCH(Worksheet!$G$16,BuildingSize,0)+1,FALSE),0)))/IF(Worksheet!M428>0,Worksheet!M428,Worksheet!L428),0),\"\")","v":""},"",null,null,null,{"$f":"IF(ISBLANK(Worksheet!M428)=FALSE,Worksheet!M428,\"\")","v":0},{"$f":"IF(Worksheet!A428=\"-\",\"\",IF(Worksheet!A428=\"\",S404,Worksheet!A428))","v":""},{"$f":"IF(S405=\"\",\"\",IF(AND(Worksheet!G428=\"\",Worksheet!H428=\"\")=TRUE,T404,IF(Worksheet!G428=\"\",\"\",Worksheet!G428)))","v":""},{"$f":"IF(S405=\"\",\"\",IF(AND(Worksheet!G428=\"\",Worksheet!H428=\"\")=TRUE,U404,IF(Worksheet!H428=\"\",\"\",Worksheet!H428)))","v":""},{"$f":"IF(Worksheet!N428=\"\",\"\",Worksheet!N428)","v":""},{"$f":"IF(Worksheet!O428=\"\",\"\",Worksheet!O428)","v":""},{"$f":"IF(Worksheet!F428=0,\"\",Worksheet!F428)","v":""},{"$f":"IF(Worksheet!P428=0,\"\",Worksheet!P428)","v":""},{"$f":"IF(Worksheet!$A$11=TRUE,\"Y\",\"N\")","v":"N"},{"$f":"IF(Worksheet!$A$12=TRUE,\"Y\",\"N\")","v":"N"},{"$f":"IF(Worksheet!$B$11=TRUE,\"Y\",\"N\")","v":"N"},{"$f":"IF(Worksheet!$B$12=TRUE,\"Y\",\"N\")","v":"N"},{"$f":"IF(Worksheet!$C$11=TRUE,\"Y\",\"N\")","v":"N"},{"$f":"IF(Worksheet!$C$12=TRUE,\"Y\",\"N\")","v":"N"},""]
[{"$f":"IF(ISERROR(VLOOKUP(Worksheet!N429,MeasureLookup,2,FALSE))=FALSE,VLOOKUP(Worksheet!N429,MeasureLookup,2,FALSE),\"\")","v":""},{"$f":"Worksheet!Q429","v":0},{"$f":"Worksheet!R429","v":0},{"$f":"IF(ISERROR(Worksheet!P429)=FALSE,Worksheet!P429,\"\")","v":0},"Watts",null,null,{"$f":"IF(Worksheet!AP429<>\"\",IF(Worksheet!AP429>0,Worksheet!AP429/IF(Worksheet!M429>0,Worksheet!M429,Worksheet!L429),\"\"),\"\")","v":""},{"$f":"IF(ISBLANK(Worksheet!L429)=FALSE,Worksheet!L429,\"\")","v":0},{"$f":"IF(Worksheet!L429<>0, IFERROR(VLOOKUP(Worksheet!$C$16,SavingsSupportTable,3,FALSE)*Worksheet!AQ429*IFERROR(1+VLOOKUP(Worksheet!$C$16,SavingsSupportTable,MATCH(Worksheet!$G$17,HVACe_Options,0)+4,FALSE),1)/IF(Worksheet!M429>0,Worksheet!M429,Worksheet!L429),\"\"),\"\")","v":""},{"$f":"IF(Worksheet!L429<>0, IFERROR(VLOOKUP(Worksheet!$C$16,SavingsSupportTable,2,FALSE)*Worksheet!AQ429*IF(IFERROR(MATCH(Worksheet!$G$17,HVACe_Options,0),0)>0,1+VLOOKUP(Worksheet!$C$16,SavingsSupportTable,4,FALSE),1)/IF(Worksheet!M429>0,Worksheet!M429,Worksheet!L429),\"\"),\"\")","v":""},"",{"$f":"IF(Worksheet!L429<>0,IFERROR(VLOOKUP(Worksheet!$C$16,SavingsSupportTable,3,FALSE)*Worksheet!AQ429*IF(IFERROR(SEARCH(\"Gas\",Worksheet!$G$17),0)>0,VLOOKUP(\"Gas\",HVACg_Lookup,MATCH(Worksheet!$G$16,BuildingSize,0)+1,FALSE),IF(IFERROR(SEARCH(\"Oil\",Worksheet!$G$17),0)>0,VLOOKUP(\"Oil\",HVACg_Lookup,MATCH(Worksheet!$G$16,BuildingSize,0)+1,FALSE),IF(IFERROR(SEARCH(\"Propane\",Worksheet!$G$17),0)>0,VLOOKUP(\"Propane\",HVACg_Lookup,MATCH(Worksheet!$G$16,BuildingSize,0)+1,FALSE),0)))/IF(Worksheet!M429>0,Worksheet!M429,Worksheet!L429),0),\"\")","v":""},"",null,null,null,{"$f":"IF(ISBLANK(Worksheet!M429)=FALSE,Worksheet!M429,\"\")","v":0},{"$f":"IF(Worksheet!A429=\"-\",\"\",IF(Worksheet!A429=\"\",S405,Worksheet!A429))","v":""},{"$f":"IF(S406=\"\",\"\",IF(AND(Worksheet!G429=\"\",Worksheet!H429=\"\")=TRUE,T405,IF(Worksheet!G429=\"\",\"\",Worksheet!G429)))","v":""},{"$f":"IF(S406=\"\",\"\",IF(AND(Worksheet!G429=\"\",Worksheet!H429=\"\")=TRUE,U405,IF(Worksheet!H429=\"\",\"\",Worksheet!H429)))","v":""},{"$f":"IF(Worksheet!N429=\"\",\"\",Worksheet!N429)","v":""},{"$f":"IF(Worksheet!O429=\"\",\"\",Worksheet!O429)","v":""},{"$f":"IF(Worksheet!F429=0,\"\",Worksheet!F429)","v":""},{"$f":"IF(Worksheet!P429=0,\"\",Worksheet!P429)","v":""},{"$f":"IF(Worksheet!$A$11=TRUE,\"Y\",\"N\")","v":"N"},{"$f":"IF(Worksheet!$A$12=TRUE,\"Y\",\"N\")","v":"N"},{"$f":"IF(Worksheet!$B$11=TRUE,\"Y\",\"N\")","v":"N"},{"$f":"IF(Worksheet!$B$12=TRUE,\"Y\",\"N\")","v":"N"},{"$f":"IF(Worksheet!$C$11=TRUE,\"Y\",\"N\")","v":"N"},{"$f":"IF(Worksheet!$C$12=TRUE,\"Y\",\"N\")","v":"N"},""]
[{"$f":"IF(ISERROR(VLOOKUP(Worksheet!N430,MeasureLookup,2,FALSE))=FALSE,VLOOKUP(Worksheet!N430,MeasureLookup,2,FALSE),\"\")","v":""},{"$f":"Worksheet!Q430","v":0},{"$f":"Worksheet!R430","v":0},{"$f":"IF(ISERROR(Worksheet!P430)=FALSE,Worksheet!P430,\"\")","v":0},"Watts",null,null,{"$f":"IF(Worksheet!AP430<>\"\",IF(Worksheet!AP430>0,Worksheet!AP430/IF(Worksheet!M430>0,Worksheet!M430,Worksheet!L430),\"\"),\"\")","v":""},{"$f":"IF(ISBLANK(Worksheet!L430)=FALSE,Worksheet!L430,\"\")","v":0},{"$f":"IF(Worksheet!L430<>0, IFERROR(VLOOKUP(Worksheet!$C$16,SavingsSupportTable,3,FALSE)*Worksheet!AQ430*IFERROR(1+VLOOKUP(Worksheet!$C$16,SavingsSupportTable,MATCH(Worksheet!$G$17,HVACe_Options,0)+4,FALSE),1)/IF(Worksheet!M430>0,Worksheet!M430,Worksheet!L430),\"\"),\"\")","v":""},{"$f":"IF(Worksheet!L430<>0, IFERROR(VLOOKUP(Worksheet!$C$16,SavingsSupportTable,2,FALSE)*Worksheet!AQ430*IF(IFERROR(MATCH(Worksheet!$G$17,HVACe_Options,0),0)>0,1+VLOOKUP(Worksheet!$C$16,SavingsSupportTable,4,FALSE),1)/IF(Worksheet!M430>0,Worksheet!M430,Worksheet!L430),\"\"),\"\")","v":""},"",{"$f":"IF(Worksheet!L430<>0,IFERROR(VLOOKUP(Worksheet!$C$16,SavingsSupportTable,3,FALSE)*Worksheet!AQ430*IF(IFERROR(SEARCH(\"Gas\",Worksheet!$G$17),0)>0,VLOOKUP(\"Gas\",HVACg_Lookup,MATCH(Worksheet!$G$16,BuildingSize,0)+1,FALSE),IF(IFERROR(SEARCH(\"Oil\",Worksheet!$G$17),0)>0,VLOOKUP(\"Oil\",HVACg_Lookup,MATCH(Worksheet!$G$16,BuildingSize,0)+1,FALSE),IF(IFERROR(SEARCH(\"Propane\",Worksheet!$G$17),0)>0,VLOOKUP(\"Propane\",HVACg_Lookup,MATCH(Worksheet!$G$16,BuildingSize,0)+1,FALSE),0)))/IF(Worksheet!M430>0,Worksheet!M430,Worksheet!L430),0),\"\")","v":""},"",null,null,null,{"$f":"IF(ISBLANK(Worksheet!M430)=FALSE,Worksheet!M430,\"\")","v":0},{"$f":"IF(Worksheet!A430=\"-\",\"\",IF(Worksheet!A430=\"\",S406,Worksheet!A430))","v":""},{"$f":"IF(S407=\"\",\"\",IF(AND(Worksheet!G430=\"\",Worksheet!H430=\"\")=TRUE,T406,IF(Worksheet!G430=\"\",\"\",Worksheet!G430)))","v":""},{"$f":"IF(S407=\"\",\"\",IF(AND(Worksheet!G430=\"\",Worksheet!H430=\"\")=TRUE,U406,IF(Worksheet!H430=\"\",\"\",Worksheet!H430)))","v":""},{"$f":"IF(Worksheet!N430=\"\",\"\",Worksheet!N430)","v":""},{"$f":"IF(Worksheet!O430=\"\",\"\",Worksheet!O430)","v":""},{"$f":"IF(Worksheet!F430=0,\"\",Worksheet!F430)","v":""},{"$f":"IF(Worksheet!P430=0,\"\",Worksheet!P430)","v":""},{"$f":"IF(Worksheet!$A$11=TRUE,\"Y\",\"N\")","v":"N"},{"$f":"IF(Worksheet!$A$12=TRUE,\"Y\",\"N\")","v":"N"},{"$f":"IF(Worksheet!$B$11=TRUE,\"Y\",\"N\")","v":"N"},{"$f":"IF(Worksheet!$B$12=TRUE,\"Y\",\"N\")","v":"N"},{"$f":"IF(Worksheet!$C$11=TRUE,\"Y\",\"N\")","v":"N"},{"$f":"IF(Worksheet!$C$12=TRUE,\"Y\",\"N\")","v":"N"},""]
[{"$f":"IF(ISERROR(VLOOKUP(Worksheet!N431,MeasureLookup,2,FALSE))=FALSE,VLOOKUP(Worksheet!N431,MeasureLookup,2,FALSE),\"\")","v":""},{"$f":"Worksheet!Q431","v":0},{"$f":"Worksheet!R431","v":0},{"$f":"IF(ISERROR(Worksheet!P431)=FALSE,Worksheet!P431,\"\")","v":0},"Watts",null,null,{"$f":"IF(Worksheet!AP431<>\"\",IF(Worksheet!AP431>0,Worksheet!AP431/IF(Worksheet!M431>0,Worksheet!M431,Worksheet!L431),\"\"),\"\")","v":""},{"$f":"IF(ISBLANK(Worksheet!L431)=FALSE,Worksheet!L431,\"\")","v":0},{"$f":"IF(Worksheet!L431<>0, IFERROR(VLOOKUP(Worksheet!$C$16,SavingsSupportTable,3,FALSE)*Worksheet!AQ431*IFERROR(1+VLOOKUP(Worksheet!$C$16,SavingsSupportTable,MATCH(Worksheet!$G$17,HVACe_Options,0)+4,FALSE),1)/IF(Worksheet!M431>0,Worksheet!M431,Worksheet!L431),\"\"),\"\")","v":""},{"$f":"IF(Worksheet!L431<>0, IFERROR(VLOOKUP(Worksheet!$C$16,SavingsSupportTable,2,FALSE)*Worksheet!AQ431*IF(IFERROR(MATCH(Worksheet!$G$17,HVACe_Options,0),0)>0,1+VLOOKUP(Worksheet!$C$16,SavingsSupportTable,4,FALSE),1)/IF(Worksheet!M431>0,Worksheet!M431,Worksheet!L431),\"\"),\"\")","v":""},"",{"$f":"IF(Worksheet!L431<>0,IFERROR(VLOOKUP(Worksheet!$C$16,SavingsSupportTable,3,FALSE)*Worksheet!AQ431*IF(IFERROR(SEARCH(\"Gas\",Worksheet!$G$17),0)>0,VLOOKUP(\"Gas\",HVACg_Lookup,MATCH(Worksheet!$G$16,BuildingSize,0)+1,FALSE),IF(IFERROR(SEARCH(\"Oil\",Worksheet!$G$17),0)>0,VLOOKUP(\"Oil\",HVACg_Lookup,MATCH(Worksheet!$G$16,BuildingSize,0)+1,FALSE),IF(IFERROR(SEARCH(\"Propane\",Worksheet!$G$17),0)>0,VLOOKUP(\"Propane\",HVACg_Lookup,MATCH(Worksheet!$G$16,BuildingSize,0)+1,FALSE),0)))/IF(Worksheet!M431>0,Worksheet!M431,Worksheet!L431),0),\"\")","v":""},"",null,null,null,{"$f":"IF(ISBLANK(Worksheet!M431)=FALSE,Worksheet!M431,\"\")","v":0},{"$f":"IF(Worksheet!A431=\"-\",\"\",IF(Worksheet!A431=\"\",S407,Worksheet!A431))","v":""},{"$f":"IF(S408=\"\",\"\",IF(AND(Worksheet!G431=\"\",Worksheet!H431=\"\")=TRUE,T407,IF(Worksheet!G431=\"\",\"\",Worksheet!G431)))","v":""},{"$f":"IF(S408=\"\",\"\",IF(AND(Worksheet!G431=\"\",Worksheet!H431=\"\")=TRUE,U407,IF(Worksheet!H431=\"\",\"\",Worksheet!H431)))","v":""},{"$f":"IF(Worksheet!N431=\"\",\"\",Worksheet!N431)","v":""},{"$f":"IF(Worksheet!O431=\"\",\"\",Worksheet!O431)","v":""},{"$f":"IF(Worksheet!F431=0,\"\",Worksheet!F431)","v":""},{"$f":"IF(Worksheet!P431=0,\"\",Worksheet!P431)","v":""},{"$f":"IF(Worksheet!$A$11=TRUE,\"Y\",\"N\")","v":"N"},{"$f":"IF(Worksheet!$A$12=TRUE,\"Y\",\"N\")","v":"N"},{"$f":"IF(Worksheet!$B$11=TRUE,\"Y\",\"N\")","v":"N"},{"$f":"IF(Worksheet!$B$12=TRUE,\"Y\",\"N\")","v":"N"},{"$f":"IF(Worksheet!$C$11=TRUE,\"Y\",\"N\")","v":"N"},{"$f":"IF(Worksheet!$C$12=TRUE,\"Y\",\"N\")","v":"N"},""]
[{"$f":"IF(ISERROR(VLOOKUP(Worksheet!N432,MeasureLookup,2,FALSE))=FALSE,VLOOKUP(Worksheet!N432,MeasureLookup,2,FALSE),\"\")","v":""},{"$f":"Worksheet!Q432","v":0},{"$f":"Worksheet!R432","v":0},{"$f":"IF(ISERROR(Worksheet!P432)=FALSE,Worksheet!P432,\"\")","v":0},"Watts",null,null,{"$f":"IF(Worksheet!AP432<>\"\",IF(Worksheet!AP432>0,Worksheet!AP432/IF(Worksheet!M432>0,Worksheet!M432,Worksheet!L432),\"\"),\"\")","v":""},{"$f":"IF(ISBLANK(Worksheet!L432)=FALSE,Worksheet!L432,\"\")","v":0},{"$f":"IF(Worksheet!L432<>0, IFERROR(VLOOKUP(Worksheet!$C$16,SavingsSupportTable,3,FALSE)*Worksheet!AQ432*IFERROR(1+VLOOKUP(Worksheet!$C$16,SavingsSupportTable,MATCH(Worksheet!$G$17,HVACe_Options,0)+4,FALSE),1)/IF(Worksheet!M432>0,Worksheet!M432,Worksheet!L432),\"\"),\"\")","v":""},{"$f":"IF(Worksheet!L432<>0, IFERROR(VLOOKUP(Worksheet!$C$16,SavingsSupportTable,2,FALSE)*Worksheet!AQ432*IF(IFERROR(MATCH(Worksheet!$G$17,HVACe_Options,0),0)>0,1+VLOOKUP(Worksheet!$C$16,SavingsSupportTable,4,FALSE),1)/IF(Worksheet!M432>0,Worksheet!M432,Worksheet!L432),\"\"),\"\")","v":""},"",{"$f":"IF(Worksheet!L432<>0,IFERROR(VLOOKUP(Worksheet!$C$16,SavingsSupportTable,3,FALSE)*Worksheet!AQ432*IF(IFERROR(SEARCH(\"Gas\",Worksheet!$G$17),0)>0,VLOOKUP(\"Gas\",HVACg_Lookup,MATCH(Worksheet!$G$16,BuildingSize,0)+1,FALSE),IF(IFERROR(SEARCH(\"Oil\",Worksheet!$G$17),0)>0,VLOOKUP(\"Oil\",HVACg_Lookup,MATCH(Worksheet!$G$16,BuildingSize,0)+1,FALSE),IF(IFERROR(SEARCH(\"Propane\",Worksheet!$G$17),0)>0,VLOOKUP(\"Propane\",HVACg_Lookup,MATCH(Worksheet!$G$16,BuildingSize,0)+1,FALSE),0)))/IF(Worksheet!M432>0,Worksheet!M432,Worksheet!L432),0),\"\")","v":""},"",null,null,null,{"$f":"IF(ISBLANK(Worksheet!M432)=FALSE,Worksheet!M432,\"\")","v":0},{"$f":"IF(Worksheet!A432=\"-\",\"\",IF(Worksheet!A432=\"\",S408,Worksheet!A432))","v":""},{"$f":"IF(S409=\"\",\"\",IF(AND(Worksheet!G432=\"\",Worksheet!H432=\"\")=TRUE,T408,IF(Worksheet!G432=\"\",\"\",Worksheet!G432)))","v":""},{"$f":"IF(S409=\"\",\"\",IF(AND(Worksheet!G432=\"\",Worksheet!H432=\"\")=TRUE,U408,IF(Worksheet!H432=\"\",\"\",Worksheet!H432)))","v":""},{"$f":"IF(Worksheet!N432=\"\",\"\",Worksheet!N432)","v":""},{"$f":"IF(Worksheet!O432=\"\",\"\",Worksheet!O432)","v":""},{"$f":"IF(Worksheet!F432=0,\"\",Worksheet!F432)","v":""},{"$f":"IF(Worksheet!P432=0,\"\",Worksheet!P432)","v":""},{"$f":"IF(Worksheet!$A$11=TRUE,\"Y\",\"N\")","v":"N"},{"$f":"IF(Worksheet!$A$12=TRUE,\"Y\",\"N\")","v":"N"},{"$f":"IF(Worksheet!$B$11=TRUE,\"Y\",\"N\")","v":"N"},{"$f":"IF(Worksheet!$B$12=TRUE,\"Y\",\"N\")","v":"N"},{"$f":"IF(Worksheet!$C$11=TRUE,\"Y\",\"N\")","v":"N"},{"$f":"IF(Worksheet!$C$12=TRUE,\"Y\",\"N\")","v":"N"},""]
[{"$f":"IF(ISERROR(VLOOKUP(Worksheet!N433,MeasureLookup,2,FALSE))=FALSE,VLOOKUP(Worksheet!N433,MeasureLookup,2,FALSE),\"\")","v":""},{"$f":"Worksheet!Q433","v":0},{"$f":"Worksheet!R433","v":0},{"$f":"IF(ISERROR(Worksheet!P433)=FALSE,Worksheet!P433,\"\")","v":0},"Watts",null,null,{"$f":"IF(Worksheet!AP433<>\"\",IF(Worksheet!AP433>0,Worksheet!AP433/IF(Worksheet!M433>0,Worksheet!M433,Worksheet!L433),\"\"),\"\")","v":""},{"$f":"IF(ISBLANK(Worksheet!L433)=FALSE,Worksheet!L433,\"\")","v":0},{"$f":"IF(Worksheet!L433<>0, IFERROR(VLOOKUP(Worksheet!$C$16,SavingsSupportTable,3,FALSE)*Worksheet!AQ433*IFERROR(1+VLOOKUP(Worksheet!$C$16,SavingsSupportTable,MATCH(Worksheet!$G$17,HVACe_Options,0)+4,FALSE),1)/IF(Worksheet!M433>0,Worksheet!M433,Worksheet!L433),\"\"),\"\")","v":""},{"$f":"IF(Worksheet!L433<>0, IFERROR(VLOOKUP(Worksheet!$C$16,SavingsSupportTable,2,FALSE)*Worksheet!AQ433*IF(IFERROR(MATCH(Worksheet!$G$17,HVACe_Options,0),0)>0,1+VLOOKUP(Worksheet!$C$16,SavingsSupportTable,4,FALSE),1)/IF(Worksheet!M433>0,Worksheet!M433,Worksheet!L433),\"\"),\"\")","v":""},"",{"$f":"IF(Worksheet!L433<>0,IFERROR(VLOOKUP(Worksheet!$C$16,SavingsSupportTable,3,FALSE)*Worksheet!AQ433*IF(IFERROR(SEARCH(\"Gas\",Worksheet!$G$17),0)>0,VLOOKUP(\"Gas\",HVACg_Lookup,MATCH(Worksheet!$G$16,BuildingSize,0)+1,FALSE),IF(IFERROR(SEARCH(\"Oil\",Worksheet!$G$17),0)>0,VLOOKUP(\"Oil\",HVACg_Lookup,MATCH(Worksheet!$G$16,BuildingSize,0)+1,FALSE),IF(IFERROR(SEARCH(\"Propane\",Worksheet!$G$17),0)>0,VLOOKUP(\"Propane\",HVACg_Lookup,MATCH(Worksheet!$G$16,BuildingSize,0)+1,FALSE),0)))/IF(Worksheet!M433>0,Worksheet!M433,Worksheet!L433),0),\"\")","v":""},"",null,null,null,{"$f":"IF(ISBLANK(Worksheet!M433)=FALSE,Worksheet!M433,\"\")","v":0},{"$f":"IF(Worksheet!A433=\"-\",\"\",IF(Worksheet!A433=\"\",S409,Worksheet!A433))","v":""},{"$f":"IF(S410=\"\",\"\",IF(AND(Worksheet!G433=\"\",Worksheet!H433=\"\")=TRUE,T409,IF(Worksheet!G433=\"\",\"\",Worksheet!G433)))","v":""},{"$f":"IF(S410=\"\",\"\",IF(AND(Worksheet!G433=\"\",Worksheet!H433=\"\")=TRUE,U409,IF(Worksheet!H433=\"\",\"\",Worksheet!H433)))","v":""},{"$f":"IF(Worksheet!N433=\"\",\"\",Worksheet!N433)","v":""},{"$f":"IF(Worksheet!O433=\"\",\"\",Worksheet!O433)","v":""},{"$f":"IF(Worksheet!F433=0,\"\",Worksheet!F433)","v":""},{"$f":"IF(Worksheet!P433=0,\"\",Worksheet!P433)","v":""},{"$f":"IF(Worksheet!$A$11=TRUE,\"Y\",\"N\")","v":"N"},{"$f":"IF(Worksheet!$A$12=TRUE,\"Y\",\"N\")","v":"N"},{"$f":"IF(Worksheet!$B$11=TRUE,\"Y\",\"N\")","v":"N"},{"$f":"IF(Worksheet!$B$12=TRUE,\"Y\",\"N\")","v":"N"},{"$f":"IF(Worksheet!$C$11=TRUE,\"Y\",\"N\")","v":"N"},{"$f":"IF(Worksheet!$C$12=TRUE,\"Y\",\"N\")","v":"N"},""]
[{"$f":"IF(ISERROR(VLOOKUP(Worksheet!N434,MeasureLookup,2,FALSE))=FALSE,VLOOKUP(Worksheet!N434,MeasureLookup,2,FALSE),\"\")","v":""},{"$f":"Worksheet!Q434","v":0},{"$f":"Worksheet!R434","v":0},{"$f":"IF(ISERROR(Worksheet!P434)=FALSE,Worksheet!P434,\"\")","v":0},"Watts",null,null,{"$f":"IF(Worksheet!AP434<>\"\",IF(Worksheet!AP434>0,Worksheet!AP434/IF(Worksheet!M434>0,Worksheet!M434,Worksheet!L434),\"\"),\"\")","v":""},{"$f":"IF(ISBLANK(Worksheet!L434)=FALSE,Worksheet!L434,\"\")","v":0},{"$f":"IF(Worksheet!L434<>0, IFERROR(VLOOKUP(Worksheet!$C$16,SavingsSupportTable,3,FALSE)*Worksheet!AQ434*IFERROR(1+VLOOKUP(Worksheet!$C$16,SavingsSupportTable,MATCH(Worksheet!$G$17,HVACe_Options,0)+4,FALSE),1)/IF(Worksheet!M434>0,Worksheet!M434,Worksheet!L434),\"\"),\"\")","v":""},{"$f":"IF(Worksheet!L434<>0, IFERROR(VLOOKUP(Worksheet!$C$16,SavingsSupportTable,2,FALSE)*Worksheet!AQ434*IF(IFERROR(MATCH(Worksheet!$G$17,HVACe_Options,0),0)>0,1+VLOOKUP(Worksheet!$C$16,SavingsSupportTable,4,FALSE),1)/IF(Worksheet!M434>0,Worksheet!M434,Worksheet!L434),\"\"),\"\")","v":""},"",{"$f":"IF(Worksheet!L434<>0,IFERROR(VLOOKUP(Worksheet!$C$16,SavingsSupportTable,3,FALSE)*Worksheet!AQ434*IF(IFERROR(SEARCH(\"Gas\",Worksheet!$G$17),0)>0,VLOOKUP(\"Gas\",HVACg_Lookup,MATCH(Worksheet!$G$16,BuildingSize,0)+1,FALSE),IF(IFERROR(SEARCH(\"Oil\",Worksheet!$G$17),0)>0,VLOOKUP(\"Oil\",HVACg_Lookup,MATCH(Worksheet!$G$16,BuildingSize,0)+1,FALSE),IF(IFERROR(SEARCH(\"Propane\",Worksheet!$G$17),0)>0,VLOOKUP(\"Propane\",HVACg_Lookup,MATCH(Worksheet!$G$16,BuildingSize,0)+1,FALSE),0)))/IF(Worksheet!M434>0,Worksheet!M434,Worksheet!L434),0),\"\")","v":""},"",null,null,null,{"$f":"IF(ISBLANK(Worksheet!M434)=FALSE,Worksheet!M434,\"\")","v":0},{"$f":"IF(Worksheet!A434=\"-\",\"\",IF(Worksheet!A434=\"\",S410,Worksheet!A434))","v":""},{"$f":"IF(S411=\"\",\"\",IF(AND(Worksheet!G434=\"\",Worksheet!H434=\"\")=TRUE,T410,IF(Worksheet!G434=\"\",\"\",Worksheet!G434)))","v":""},{"$f":"IF(S411=\"\",\"\",IF(AND(Worksheet!G434=\"\",Worksheet!H434=\"\")=TRUE,U410,IF(Worksheet!H434=\"\",\"\",Worksheet!H434)))","v":""},{"$f":"IF(Worksheet!N434=\"\",\"\",Worksheet!N434)","v":""},{"$f":"IF(Worksheet!O434=\"\",\"\",Worksheet!O434)","v":""},{"$f":"IF(Worksheet!F434=0,\"\",Worksheet!F434)","v":""},{"$f":"IF(Worksheet!P434=0,\"\",Worksheet!P434)","v":""},{"$f":"IF(Worksheet!$A$11=TRUE,\"Y\",\"N\")","v":"N"},{"$f":"IF(Worksheet!$A$12=TRUE,\"Y\",\"N\")","v":"N"},{"$f":"IF(Worksheet!$B$11=TRUE,\"Y\",\"N\")","v":"N"},{"$f":"IF(Worksheet!$B$12=TRUE,\"Y\",\"N\")","v":"N"},{"$f":"IF(Worksheet!$C$11=TRUE,\"Y\",\"N\")","v":"N"},{"$f":"IF(Worksheet!$C$12=TRUE,\"Y\",\"N\")","v":"N"},""]
[{"$f":"IF(ISERROR(VLOOKUP(Worksheet!N435,MeasureLookup,2,FALSE))=FALSE,VLOOKUP(Worksheet!N435,MeasureLookup,2,FALSE),\"\")","v":""},{"$f":"Worksheet!Q435","v":0},{"$f":"Worksheet!R435","v":0},{"$f":"IF(ISERROR(Worksheet!P435)=FALSE,Worksheet!P435,\"\")","v":0},"Watts",null,null,{"$f":"IF(Worksheet!AP435<>\"\",IF(Worksheet!AP435>0,Worksheet!AP435/IF(Worksheet!M435>0,Worksheet!M435,Worksheet!L435),\"\"),\"\")","v":""},{"$f":"IF(ISBLANK(Worksheet!L435)=FALSE,Worksheet!L435,\"\")","v":0},{"$f":"IF(Worksheet!L435<>0, IFERROR(VLOOKUP(Worksheet!$C$16,SavingsSupportTable,3,FALSE)*Worksheet!AQ435*IFERROR(1+VLOOKUP(Worksheet!$C$16,SavingsSupportTable,MATCH(Worksheet!$G$17,HVACe_Options,0)+4,FALSE),1)/IF(Worksheet!M435>0,Worksheet!M435,Worksheet!L435),\"\"),\"\")","v":""},{"$f":"IF(Worksheet!L435<>0, IFERROR(VLOOKUP(Worksheet!$C$16,SavingsSupportTable,2,FALSE)*Worksheet!AQ435*IF(IFERROR(MATCH(Worksheet!$G$17,HVACe_Options,0),0)>0,1+VLOOKUP(Worksheet!$C$16,SavingsSupportTable,4,FALSE),1)/IF(Worksheet!M435>0,Worksheet!M435,Worksheet!L435),\"\"),\"\")","v":""},"",{"$f":"IF(Worksheet!L435<>0,IFERROR(VLOOKUP(Worksheet!$C$16,SavingsSupportTable,3,FALSE)*Worksheet!AQ435*IF(IFERROR(SEARCH(\"Gas\",Worksheet!$G$17),0)>0,VLOOKUP(\"Gas\",HVACg_Lookup,MATCH(Worksheet!$G$16,BuildingSize,0)+1,FALSE),IF(IFERROR(SEARCH(\"Oil\",Worksheet!$G$17),0)>0,VLOOKUP(\"Oil\",HVACg_Lookup,MATCH(Worksheet!$G$16,BuildingSize,0)+1,FALSE),IF(IFERROR(SEARCH(\"Propane\",Worksheet!$G$17),0)>0,VLOOKUP(\"Propane\",HVACg_Lookup,MATCH(Worksheet!$G$16,BuildingSize,0)+1,FALSE),0)))/IF(Worksheet!M435>0,Worksheet!M435,Worksheet!L435),0),\"\")","v":""},"",null,null,null,{"$f":"IF(ISBLANK(Worksheet!M435)=FALSE,Worksheet!M435,\"\")","v":0},{"$f":"IF(Worksheet!A435=\"-\",\"\",IF(Worksheet!A435=\"\",S411,Worksheet!A435))","v":""},{"$f":"IF(S412=\"\",\"\",IF(AND(Worksheet!G435=\"\",Worksheet!H435=\"\")=TRUE,T411,IF(Worksheet!G435=\"\",\"\",Worksheet!G435)))","v":""},{"$f":"IF(S412=\"\",\"\",IF(AND(Worksheet!G435=\"\",Worksheet!H435=\"\")=TRUE,U411,IF(Worksheet!H435=\"\",\"\",Worksheet!H435)))","v":""},{"$f":"IF(Worksheet!N435=\"\",\"\",Worksheet!N435)","v":""},{"$f":"IF(Worksheet!O435=\"\",\"\",Worksheet!O435)","v":""},{"$f":"IF(Worksheet!F435=0,\"\",Worksheet!F435)","v":""},{"$f":"IF(Worksheet!P435=0,\"\",Worksheet!P435)","v":""},{"$f":"IF(Worksheet!$A$11=TRUE,\"Y\",\"N\")","v":"N"},{"$f":"IF(Worksheet!$A$12=TRUE,\"Y\",\"N\")","v":"N"},{"$f":"IF(Worksheet!$B$11=TRUE,\"Y\",\"N\")","v":"N"},{"$f":"IF(Worksheet!$B$12=TRUE,\"Y\",\"N\")","v":"N"},{"$f":"IF(Worksheet!$C$11=TRUE,\"Y\",\"N\")","v":"N"},{"$f":"IF(Worksheet!$C$12=TRUE,\"Y\",\"N\")","v":"N"},""]
[{"$f":"IF(ISERROR(VLOOKUP(Worksheet!N436,MeasureLookup,2,FALSE))=FALSE,VLOOKUP(Worksheet!N436,MeasureLookup,2,FALSE),\"\")","v":""},{"$f":"Worksheet!Q436","v":0},{"$f":"Worksheet!R436","v":0},{"$f":"IF(ISERROR(Worksheet!P436)=FALSE,Worksheet!P436,\"\")","v":0},"Watts",null,null,{"$f":"IF(Worksheet!AP436<>\"\",IF(Worksheet!AP436>0,Worksheet!AP436/IF(Worksheet!M436>0,Worksheet!M436,Worksheet!L436),\"\"),\"\")","v":""},{"$f":"IF(ISBLANK(Worksheet!L436)=FALSE,Worksheet!L436,\"\")","v":0},{"$f":"IF(Worksheet!L436<>0, IFERROR(VLOOKUP(Worksheet!$C$16,SavingsSupportTable,3,FALSE)*Worksheet!AQ436*IFERROR(1+VLOOKUP(Worksheet!$C$16,SavingsSupportTable,MATCH(Worksheet!$G$17,HVACe_Options,0)+4,FALSE),1)/IF(Worksheet!M436>0,Worksheet!M436,Worksheet!L436),\"\"),\"\")","v":""},{"$f":"IF(Worksheet!L436<>0, IFERROR(VLOOKUP(Worksheet!$C$16,SavingsSupportTable,2,FALSE)*Worksheet!AQ436*IF(IFERROR(MATCH(Worksheet!$G$17,HVACe_Options,0),0)>0,1+VLOOKUP(Worksheet!$C$16,SavingsSupportTable,4,FALSE),1)/IF(Worksheet!M436>0,Worksheet!M436,Worksheet!L436),\"\"),\"\")","v":""},"",{"$f":"IF(Worksheet!L436<>0,IFERROR(VLOOKUP(Worksheet!$C$16,SavingsSupportTable,3,FALSE)*Worksheet!AQ436*IF(IFERROR(SEARCH(\"Gas\",Worksheet!$G$17),0)>0,VLOOKUP(\"Gas\",HVACg_Lookup,MATCH(Worksheet!$G$16,BuildingSize,0)+1,FALSE),IF(IFERROR(SEARCH(\"Oil\",Worksheet!$G$17),0)>0,VLOOKUP(\"Oil\",HVACg_Lookup,MATCH(Worksheet!$G$16,BuildingSize,0)+1,FALSE),IF(IFERROR(SEARCH(\"Propane\",Worksheet!$G$17),0)>0,VLOOKUP(\"Propane\",HVACg_Lookup,MATCH(Worksheet!$G$16,BuildingSize,0)+1,FALSE),0)))/IF(Worksheet!M436>0,Worksheet!M436,Worksheet!L436),0),\"\")","v":""},"",null,null,null,{"$f":"IF(ISBLANK(Worksheet!M436)=FALSE,Worksheet!M436,\"\")","v":0},{"$f":"IF(Worksheet!A436=\"-\",\"\",IF(Worksheet!A436=\"\",S412,Worksheet!A436))","v":""},{"$f":"IF(S413=\"\",\"\",IF(AND(Worksheet!G436=\"\",Worksheet!H436=\"\")=TRUE,T412,IF(Worksheet!G436=\"\",\"\",Worksheet!G436)))","v":""},{"$f":"IF(S413=\"\",\"\",IF(AND(Worksheet!G436=\"\",Worksheet!H436=\"\")=TRUE,U412,IF(Worksheet!H436=\"\",\"\",Worksheet!H436)))","v":""},{"$f":"IF(Worksheet!N436=\"\",\"\",Worksheet!N436)","v":""},{"$f":"IF(Worksheet!O436=\"\",\"\",Worksheet!O436)","v":""},{"$f":"IF(Worksheet!F436=0,\"\",Worksheet!F436)","v":""},{"$f":"IF(Worksheet!P436=0,\"\",Worksheet!P436)","v":""},{"$f":"IF(Worksheet!$A$11=TRUE,\"Y\",\"N\")","v":"N"},{"$f":"IF(Worksheet!$A$12=TRUE,\"Y\",\"N\")","v":"N"},{"$f":"IF(Worksheet!$B$11=TRUE,\"Y\",\"N\")","v":"N"},{"$f":"IF(Worksheet!$B$12=TRUE,\"Y\",\"N\")","v":"N"},{"$f":"IF(Worksheet!$C$11=TRUE,\"Y\",\"N\")","v":"N"},{"$f":"IF(Worksheet!$C$12=TRUE,\"Y\",\"N\")","v":"N"},""]
[{"$f":"IF(ISERROR(VLOOKUP(Worksheet!N437,MeasureLookup,2,FALSE))=FALSE,VLOOKUP(Worksheet!N437,MeasureLookup,2,FALSE),\"\")","v":""},{"$f":"Worksheet!Q437","v":0},{"$f":"Worksheet!R437","v":0},{"$f":"IF(ISERROR(Worksheet!P437)=FALSE,Worksheet!P437,\"\")","v":0},"Watts",null,null,{"$f":"IF(Worksheet!AP437<>\"\",IF(Worksheet!AP437>0,Worksheet!AP437/IF(Worksheet!M437>0,Worksheet!M437,Worksheet!L437),\"\"),\"\")","v":""},{"$f":"IF(ISBLANK(Worksheet!L437)=FALSE,Worksheet!L437,\"\")","v":0},{"$f":"IF(Worksheet!L437<>0, IFERROR(VLOOKUP(Worksheet!$C$16,SavingsSupportTable,3,FALSE)*Worksheet!AQ437*IFERROR(1+VLOOKUP(Worksheet!$C$16,SavingsSupportTable,MATCH(Worksheet!$G$17,HVACe_Options,0)+4,FALSE),1)/IF(Worksheet!M437>0,Worksheet!M437,Worksheet!L437),\"\"),\"\")","v":""},{"$f":"IF(Worksheet!L437<>0, IFERROR(VLOOKUP(Worksheet!$C$16,SavingsSupportTable,2,FALSE)*Worksheet!AQ437*IF(IFERROR(MATCH(Worksheet!$G$17,HVACe_Options,0),0)>0,1+VLOOKUP(Worksheet!$C$16,SavingsSupportTable,4,FALSE),1)/IF(Worksheet!M437>0,Worksheet!M437,Worksheet!L437),\"\"),\"\")","v":""},"",{"$f":"IF(Worksheet!L437<>0,IFERROR(VLOOKUP(Worksheet!$C$16,SavingsSupportTable,3,FALSE)*Worksheet!AQ437*IF(IFERROR(SEARCH(\"Gas\",Worksheet!$G$17),0)>0,VLOOKUP(\"Gas\",HVACg_Lookup,MATCH(Worksheet!$G$16,BuildingSize,0)+1,FALSE),IF(IFERROR(SEARCH(\"Oil\",Worksheet!$G$17),0)>0,VLOOKUP(\"Oil\",HVACg_Lookup,MATCH(Worksheet!$G$16,BuildingSize,0)+1,FALSE),IF(IFERROR(SEARCH(\"Propane\",Worksheet!$G$17),0)>0,VLOOKUP(\"Propane\",HVACg_Lookup,MATCH(Worksheet!$G$16,BuildingSize,0)+1,FALSE),0)))/IF(Worksheet!M437>0,Worksheet!M437,Worksheet!L437),0),\"\")","v":""},"",null,null,null,{"$f":"IF(ISBLANK(Worksheet!M437)=FALSE,Worksheet!M437,\"\")","v":0},{"$f":"IF(Worksheet!A437=\"-\",\"\",IF(Worksheet!A437=\"\",S413,Worksheet!A437))","v":""},{"$f":"IF(S414=\"\",\"\",IF(AND(Worksheet!G437=\"\",Worksheet!H437=\"\")=TRUE,T413,IF(Worksheet!G437=\"\",\"\",Worksheet!G437)))","v":""},{"$f":"IF(S414=\"\",\"\",IF(AND(Worksheet!G437=\"\",Worksheet!H437=\"\")=TRUE,U413,IF(Worksheet!H437=\"\",\"\",Worksheet!H437)))","v":""},{"$f":"IF(Worksheet!N437=\"\",\"\",Worksheet!N437)","v":""},{"$f":"IF(Worksheet!O437=\"\",\"\",Worksheet!O437)","v":""},{"$f":"IF(Worksheet!F437=0,\"\",Worksheet!F437)","v":""},{"$f":"IF(Worksheet!P437=0,\"\",Worksheet!P437)","v":""},{"$f":"IF(Worksheet!$A$11=TRUE,\"Y\",\"N\")","v":"N"},{"$f":"IF(Worksheet!$A$12=TRUE,\"Y\",\"N\")","v":"N"},{"$f":"IF(Worksheet!$B$11=TRUE,\"Y\",\"N\")","v":"N"},{"$f":"IF(Worksheet!$B$12=TRUE,\"Y\",\"N\")","v":"N"},{"$f":"IF(Worksheet!$C$11=TRUE,\"Y\",\"N\")","v":"N"},{"$f":"IF(Worksheet!$C$12=TRUE,\"Y\",\"N\")","v":"N"},""]
[{"$f":"IF(ISERROR(VLOOKUP(Worksheet!N438,MeasureLookup,2,FALSE))=FALSE,VLOOKUP(Worksheet!N438,MeasureLookup,2,FALSE),\"\")","v":""},{"$f":"Worksheet!Q438","v":0},{"$f":"Worksheet!R438","v":0},{"$f":"IF(ISERROR(Worksheet!P438)=FALSE,Worksheet!P438,\"\")","v":0},"Watts",null,null,{"$f":"IF(Worksheet!AP438<>\"\",IF(Worksheet!AP438>0,Worksheet!AP438/IF(Worksheet!M438>0,Worksheet!M438,Worksheet!L438),\"\"),\"\")","v":""},{"$f":"IF(ISBLANK(Worksheet!L438)=FALSE,Worksheet!L438,\"\")","v":0},{"$f":"IF(Worksheet!L438<>0, IFERROR(VLOOKUP(Worksheet!$C$16,SavingsSupportTable,3,FALSE)*Worksheet!AQ438*IFERROR(1+VLOOKUP(Worksheet!$C$16,SavingsSupportTable,MATCH(Worksheet!$G$17,HVACe_Options,0)+4,FALSE),1)/IF(Worksheet!M438>0,Worksheet!M438,Worksheet!L438),\"\"),\"\")","v":""},{"$f":"IF(Worksheet!L438<>0, IFERROR(VLOOKUP(Worksheet!$C$16,SavingsSupportTable,2,FALSE)*Worksheet!AQ438*IF(IFERROR(MATCH(Worksheet!$G$17,HVACe_Options,0),0)>0,1+VLOOKUP(Worksheet!$C$16,SavingsSupportTable,4,FALSE),1)/IF(Worksheet!M438>0,Worksheet!M438,Worksheet!L438),\"\"),\"\")","v":""},"",{"$f":"IF(Worksheet!L438<>0,IFERROR(VLOOKUP(Worksheet!$C$16,SavingsSupportTable,3,FALSE)*Worksheet!AQ438*IF(IFERROR(SEARCH(\"Gas\",Worksheet!$G$17),0)>0,VLOOKUP(\"Gas\",HVACg_Lookup,MATCH(Worksheet!$G$16,BuildingSize,0)+1,FALSE),IF(IFERROR(SEARCH(\"Oil\",Worksheet!$G$17),0)>0,VLOOKUP(\"Oil\",HVACg_Lookup,MATCH(Worksheet!$G$16,BuildingSize,0)+1,FALSE),IF(IFERROR(SEARCH(\"Propane\",Worksheet!$G$17),0)>0,VLOOKUP(\"Propane\",HVACg_Lookup,MATCH(Worksheet!$G$16,BuildingSize,0)+1,FALSE),0)))/IF(Worksheet!M438>0,Worksheet!M438,Worksheet!L438),0),\"\")","v":""},"",null,null,null,{"$f":"IF(ISBLANK(Worksheet!M438)=FALSE,Worksheet!M438,\"\")","v":0},{"$f":"IF(Worksheet!A438=\"-\",\"\",IF(Worksheet!A438=\"\",S414,Worksheet!A438))","v":""},{"$f":"IF(S415=\"\",\"\",IF(AND(Worksheet!G438=\"\",Worksheet!H438=\"\")=TRUE,T414,IF(Worksheet!G438=\"\",\"\",Worksheet!G438)))","v":""},{"$f":"IF(S415=\"\",\"\",IF(AND(Worksheet!G438=\"\",Worksheet!H438=\"\")=TRUE,U414,IF(Worksheet!H438=\"\",\"\",Worksheet!H438)))","v":""},{"$f":"IF(Worksheet!N438=\"\",\"\",Worksheet!N438)","v":""},{"$f":"IF(Worksheet!O438=\"\",\"\",Worksheet!O438)","v":""},{"$f":"IF(Worksheet!F438=0,\"\",Worksheet!F438)","v":""},{"$f":"IF(Worksheet!P438=0,\"\",Worksheet!P438)","v":""},{"$f":"IF(Worksheet!$A$11=TRUE,\"Y\",\"N\")","v":"N"},{"$f":"IF(Worksheet!$A$12=TRUE,\"Y\",\"N\")","v":"N"},{"$f":"IF(Worksheet!$B$11=TRUE,\"Y\",\"N\")","v":"N"},{"$f":"IF(Worksheet!$B$12=TRUE,\"Y\",\"N\")","v":"N"},{"$f":"IF(Worksheet!$C$11=TRUE,\"Y\",\"N\")","v":"N"},{"$f":"IF(Worksheet!$C$12=TRUE,\"Y\",\"N\")","v":"N"},""]
[{"$f":"IF(ISERROR(VLOOKUP(Worksheet!N439,MeasureLookup,2,FALSE))=FALSE,VLOOKUP(Worksheet!N439,MeasureLookup,2,FALSE),\"\")","v":""},{"$f":"Worksheet!Q439","v":0},{"$f":"Worksheet!R439","v":0},{"$f":"IF(ISERROR(Worksheet!P439)=FALSE,Worksheet!P439,\"\")","v":0},"Watts",null,null,{"$f":"IF(Worksheet!AP439<>\"\",IF(Worksheet!AP439>0,Worksheet!AP439/IF(Worksheet!M439>0,Worksheet!M439,Worksheet!L439),\"\"),\"\")","v":""},{"$f":"IF(ISBLANK(Worksheet!L439)=FALSE,Worksheet!L439,\"\")","v":0},{"$f":"IF(Worksheet!L439<>0, IFERROR(VLOOKUP(Worksheet!$C$16,SavingsSupportTable,3,FALSE)*Worksheet!AQ439*IFERROR(1+VLOOKUP(Worksheet!$C$16,SavingsSupportTable,MATCH(Worksheet!$G$17,HVACe_Options,0)+4,FALSE),1)/IF(Worksheet!M439>0,Worksheet!M439,Worksheet!L439),\"\"),\"\")","v":""},{"$f":"IF(Worksheet!L439<>0, IFERROR(VLOOKUP(Worksheet!$C$16,SavingsSupportTable,2,FALSE)*Worksheet!AQ439*IF(IFERROR(MATCH(Worksheet!$G$17,HVACe_Options,0),0)>0,1+VLOOKUP(Worksheet!$C$16,SavingsSupportTable,4,FALSE),1)/IF(Worksheet!M439>0,Worksheet!M439,Worksheet!L439),\"\"),\"\")","v":""},"",{"$f":"IF(Worksheet!L439<>0,IFERROR(VLOOKUP(Worksheet!$C$16,SavingsSupportTable,3,FALSE)*Worksheet!AQ439*IF(IFERROR(SEARCH(\"Gas\",Worksheet!$G$17),0)>0,VLOOKUP(\"Gas\",HVACg_Lookup,MATCH(Worksheet!$G$16,BuildingSize,0)+1,FALSE),IF(IFERROR(SEARCH(\"Oil\",Worksheet!$G$17),0)>0,VLOOKUP(\"Oil\",HVACg_Lookup,MATCH(Worksheet!$G$16,BuildingSize,0)+1,FALSE),IF(IFERROR(SEARCH(\"Propane\",Worksheet!$G$17),0)>0,VLOOKUP(\"Propane\",HVACg_Lookup,MATCH(Worksheet!$G$16,BuildingSize,0)+1,FALSE),0)))/IF(Worksheet!M439>0,Worksheet!M439,Worksheet!L439),0),\"\")","v":""},"",null,null,null,{"$f":"IF(ISBLANK(Worksheet!M439)=FALSE,Worksheet!M439,\"\")","v":0},{"$f":"IF(Worksheet!A439=\"-\",\"\",IF(Worksheet!A439=\"\",S415,Worksheet!A439))","v":""},{"$f":"IF(S416=\"\",\"\",IF(AND(Worksheet!G439=\"\",Worksheet!H439=\"\")=TRUE,T415,IF(Worksheet!G439=\"\",\"\",Worksheet!G439)))","v":""},{"$f":"IF(S416=\"\",\"\",IF(AND(Worksheet!G439=\"\",Worksheet!H439=\"\")=TRUE,U415,IF(Worksheet!H439=\"\",\"\",Worksheet!H439)))","v":""},{"$f":"IF(Worksheet!N439=\"\",\"\",Worksheet!N439)","v":""},{"$f":"IF(Worksheet!O439=\"\",\"\",Worksheet!O439)","v":""},{"$f":"IF(Worksheet!F439=0,\"\",Worksheet!F439)","v":""},{"$f":"IF(Worksheet!P439=0,\"\",Worksheet!P439)","v":""},{"$f":"IF(Worksheet!$A$11=TRUE,\"Y\",\"N\")","v":"N"},{"$f":"IF(Worksheet!$A$12=TRUE,\"Y\",\"N\")","v":"N"},{"$f":"IF(Worksheet!$B$11=TRUE,\"Y\",\"N\")","v":"N"},{"$f":"IF(Worksheet!$B$12=TRUE,\"Y\",\"N\")","v":"N"},{"$f":"IF(Worksheet!$C$11=TRUE,\"Y\",\"N\")","v":"N"},{"$f":"IF(Worksheet!$C$12=TRUE,\"Y\",\"N\")","v":"N"},""]
[{"$f":"IF(ISERROR(VLOOKUP(Worksheet!N440,MeasureLookup,2,FALSE))=FALSE,VLOOKUP(Worksheet!N440,MeasureLookup,2,FALSE),\"\")","v":""},{"$f":"Worksheet!Q440","v":0},{"$f":"Worksheet!R440","v":0},{"$f":"IF(ISERROR(Worksheet!P440)=FALSE,Worksheet!P440,\"\")","v":0},"Watts",null,null,{"$f":"IF(Worksheet!AP440<>\"\",IF(Worksheet!AP440>0,Worksheet!AP440/IF(Worksheet!M440>0,Worksheet!M440,Worksheet!L440),\"\"),\"\")","v":""},{"$f":"IF(ISBLANK(Worksheet!L440)=FALSE,Worksheet!L440,\"\")","v":0},{"$f":"IF(Worksheet!L440<>0, IFERROR(VLOOKUP(Worksheet!$C$16,SavingsSupportTable,3,FALSE)*Worksheet!AQ440*IFERROR(1+VLOOKUP(Worksheet!$C$16,SavingsSupportTable,MATCH(Worksheet!$G$17,HVACe_Options,0)+4,FALSE),1)/IF(Worksheet!M440>0,Worksheet!M440,Worksheet!L440),\"\"),\"\")","v":""},{"$f":"IF(Worksheet!L440<>0, IFERROR(VLOOKUP(Worksheet!$C$16,SavingsSupportTable,2,FALSE)*Worksheet!AQ440*IF(IFERROR(MATCH(Worksheet!$G$17,HVACe_Options,0),0)>0,1+VLOOKUP(Worksheet!$C$16,SavingsSupportTable,4,FALSE),1)/IF(Worksheet!M440>0,Worksheet!M440,Worksheet!L440),\"\"),\"\")","v":""},"",{"$f":"IF(Worksheet!L440<>0,IFERROR(VLOOKUP(Worksheet!$C$16,SavingsSupportTable,3,FALSE)*Worksheet!AQ440*IF(IFERROR(SEARCH(\"Gas\",Worksheet!$G$17),0)>0,VLOOKUP(\"Gas\",HVACg_Lookup,MATCH(Worksheet!$G$16,BuildingSize,0)+1,FALSE),IF(IFERROR(SEARCH(\"Oil\",Worksheet!$G$17),0)>0,VLOOKUP(\"Oil\",HVACg_Lookup,MATCH(Worksheet!$G$16,BuildingSize,0)+1,FALSE),IF(IFERROR(SEARCH(\"Propane\",Worksheet!$G$17),0)>0,VLOOKUP(\"Propane\",HVACg_Lookup,MATCH(Worksheet!$G$16,BuildingSize,0)+1,FALSE),0)))/IF(Worksheet!M440>0,Worksheet!M440,Worksheet!L440),0),\"\")","v":""},"",null,null,null,{"$f":"IF(ISBLANK(Worksheet!M440)=FALSE,Worksheet!M440,\"\")","v":0},{"$f":"IF(Worksheet!A440=\"-\",\"\",IF(Worksheet!A440=\"\",S416,Worksheet!A440))","v":""},{"$f":"IF(S417=\"\",\"\",IF(AND(Worksheet!G440=\"\",Worksheet!H440=\"\")=TRUE,T416,IF(Worksheet!G440=\"\",\"\",Worksheet!G440)))","v":""},{"$f":"IF(S417=\"\",\"\",IF(AND(Worksheet!G440=\"\",Worksheet!H440=\"\")=TRUE,U416,IF(Worksheet!H440=\"\",\"\",Worksheet!H440)))","v":""},{"$f":"IF(Worksheet!N440=\"\",\"\",Worksheet!N440)","v":""},{"$f":"IF(Worksheet!O440=\"\",\"\",Worksheet!O440)","v":""},{"$f":"IF(Worksheet!F440=0,\"\",Worksheet!F440)","v":""},{"$f":"IF(Worksheet!P440=0,\"\",Worksheet!P440)","v":""},{"$f":"IF(Worksheet!$A$11=TRUE,\"Y\",\"N\")","v":"N"},{"$f":"IF(Worksheet!$A$12=TRUE,\"Y\",\"N\")","v":"N"},{"$f":"IF(Worksheet!$B$11=TRUE,\"Y\",\"N\")","v":"N"},{"$f":"IF(Worksheet!$B$12=TRUE,\"Y\",\"N\")","v":"N"},{"$f":"IF(Worksheet!$C$11=TRUE,\"Y\",\"N\")","v":"N"},{"$f":"IF(Worksheet!$C$12=TRUE,\"Y\",\"N\")","v":"N"},""]
[{"$f":"IF(ISERROR(VLOOKUP(Worksheet!N441,MeasureLookup,2,FALSE))=FALSE,VLOOKUP(Worksheet!N441,MeasureLookup,2,FALSE),\"\")","v":""},{"$f":"Worksheet!Q441","v":0},{"$f":"Worksheet!R441","v":0},{"$f":"IF(ISERROR(Worksheet!P441)=FALSE,Worksheet!P441,\"\")","v":0},"Watts",null,null,{"$f":"IF(Worksheet!AP441<>\"\",IF(Worksheet!AP441>0,Worksheet!AP441/IF(Worksheet!M441>0,Worksheet!M441,Worksheet!L441),\"\"),\"\")","v":""},{"$f":"IF(ISBLANK(Worksheet!L441)=FALSE,Worksheet!L441,\"\")","v":0},{"$f":"IF(Worksheet!L441<>0, IFERROR(VLOOKUP(Worksheet!$C$16,SavingsSupportTable,3,FALSE)*Worksheet!AQ441*IFERROR(1+VLOOKUP(Worksheet!$C$16,SavingsSupportTable,MATCH(Worksheet!$G$17,HVACe_Options,0)+4,FALSE),1)/IF(Worksheet!M441>0,Worksheet!M441,Worksheet!L441),\"\"),\"\")","v":""},{"$f":"IF(Worksheet!L441<>0, IFERROR(VLOOKUP(Worksheet!$C$16,SavingsSupportTable,2,FALSE)*Worksheet!AQ441*IF(IFERROR(MATCH(Worksheet!$G$17,HVACe_Options,0),0)>0,1+VLOOKUP(Worksheet!$C$16,SavingsSupportTable,4,FALSE),1)/IF(Worksheet!M441>0,Worksheet!M441,Worksheet!L441),\"\"),\"\")","v":""},"",{"$f":"IF(Worksheet!L441<>0,IFERROR(VLOOKUP(Worksheet!$C$16,SavingsSupportTable,3,FALSE)*Worksheet!AQ441*IF(IFERROR(SEARCH(\"Gas\",Worksheet!$G$17),0)>0,VLOOKUP(\"Gas\",HVACg_Lookup,MATCH(Worksheet!$G$16,BuildingSize,0)+1,FALSE),IF(IFERROR(SEARCH(\"Oil\",Worksheet!$G$17),0)>0,VLOOKUP(\"Oil\",HVACg_Lookup,MATCH(Worksheet!$G$16,BuildingSize,0)+1,FALSE),IF(IFERROR(SEARCH(\"Propane\",Worksheet!$G$17),0)>0,VLOOKUP(\"Propane\",HVACg_Lookup,MATCH(Worksheet!$G$16,BuildingSize,0)+1,FALSE),0)))/IF(Worksheet!M441>0,Worksheet!M441,Worksheet!L441),0),\"\")","v":""},"",null,null,null,{"$f":"IF(ISBLANK(Worksheet!M441)=FALSE,Worksheet!M441,\"\")","v":0},{"$f":"IF(Worksheet!A441=\"-\",\"\",IF(Worksheet!A441=\"\",S417,Worksheet!A441))","v":""},{"$f":"IF(S418=\"\",\"\",IF(AND(Worksheet!G441=\"\",Worksheet!H441=\"\")=TRUE,T417,IF(Worksheet!G441=\"\",\"\",Worksheet!G441)))","v":""},{"$f":"IF(S418=\"\",\"\",IF(AND(Worksheet!G441=\"\",Worksheet!H441=\"\")=TRUE,U417,IF(Worksheet!H441=\"\",\"\",Worksheet!H441)))","v":""},{"$f":"IF(Worksheet!N441=\"\",\"\",Worksheet!N441)","v":""},{"$f":"IF(Worksheet!O441=\"\",\"\",Worksheet!O441)","v":""},{"$f":"IF(Worksheet!F441=0,\"\",Worksheet!F441)","v":""},{"$f":"IF(Worksheet!P441=0,\"\",Worksheet!P441)","v":""},{"$f":"IF(Worksheet!$A$11=TRUE,\"Y\",\"N\")","v":"N"},{"$f":"IF(Worksheet!$A$12=TRUE,\"Y\",\"N\")","v":"N"},{"$f":"IF(Worksheet!$B$11=TRUE,\"Y\",\"N\")","v":"N"},{"$f":"IF(Worksheet!$B$12=TRUE,\"Y\",\"N\")","v":"N"},{"$f":"IF(Worksheet!$C$11=TRUE,\"Y\",\"N\")","v":"N"},{"$f":"IF(Worksheet!$C$12=TRUE,\"Y\",\"N\")","v":"N"},""]
[{"$f":"IF(ISERROR(VLOOKUP(Worksheet!N442,MeasureLookup,2,FALSE))=FALSE,VLOOKUP(Worksheet!N442,MeasureLookup,2,FALSE),\"\")","v":""},{"$f":"Worksheet!Q442","v":0},{"$f":"Worksheet!R442","v":0},{"$f":"IF(ISERROR(Worksheet!P442)=FALSE,Worksheet!P442,\"\")","v":0},"Watts",null,null,{"$f":"IF(Worksheet!AP442<>\"\",IF(Worksheet!AP442>0,Worksheet!AP442/IF(Worksheet!M442>0,Worksheet!M442,Worksheet!L442),\"\"),\"\")","v":""},{"$f":"IF(ISBLANK(Worksheet!L442)=FALSE,Worksheet!L442,\"\")","v":0},{"$f":"IF(Worksheet!L442<>0, IFERROR(VLOOKUP(Worksheet!$C$16,SavingsSupportTable,3,FALSE)*Worksheet!AQ442*IFERROR(1+VLOOKUP(Worksheet!$C$16,SavingsSupportTable,MATCH(Worksheet!$G$17,HVACe_Options,0)+4,FALSE),1)/IF(Worksheet!M442>0,Worksheet!M442,Worksheet!L442),\"\"),\"\")","v":""},{"$f":"IF(Worksheet!L442<>0, IFERROR(VLOOKUP(Worksheet!$C$16,SavingsSupportTable,2,FALSE)*Worksheet!AQ442*IF(IFERROR(MATCH(Worksheet!$G$17,HVACe_Options,0),0)>0,1+VLOOKUP(Worksheet!$C$16,SavingsSupportTable,4,FALSE),1)/IF(Worksheet!M442>0,Worksheet!M442,Worksheet!L442),\"\"),\"\")","v":""},"",{"$f":"IF(Worksheet!L442<>0,IFERROR(VLOOKUP(Worksheet!$C$16,SavingsSupportTable,3,FALSE)*Worksheet!AQ442*IF(IFERROR(SEARCH(\"Gas\",Worksheet!$G$17),0)>0,VLOOKUP(\"Gas\",HVACg_Lookup,MATCH(Worksheet!$G$16,BuildingSize,0)+1,FALSE),IF(IFERROR(SEARCH(\"Oil\",Worksheet!$G$17),0)>0,VLOOKUP(\"Oil\",HVACg_Lookup,MATCH(Worksheet!$G$16,BuildingSize,0)+1,FALSE),IF(IFERROR(SEARCH(\"Propane\",Worksheet!$G$17),0)>0,VLOOKUP(\"Propane\",HVACg_Lookup,MATCH(Worksheet!$G$16,BuildingSize,0)+1,FALSE),0)))/IF(Worksheet!M442>0,Worksheet!M442,Worksheet!L442),0),\"\")","v":""},"",null,null,null,{"$f":"IF(ISBLANK(Worksheet!M442)=FALSE,Worksheet!M442,\"\")","v":0},{"$f":"IF(Worksheet!A442=\"-\",\"\",IF(Worksheet!A442=\"\",S418,Worksheet!A442))","v":""},{"$f":"IF(S419=\"\",\"\",IF(AND(Worksheet!G442=\"\",Worksheet!H442=\"\")=TRUE,T418,IF(Worksheet!G442=\"\",\"\",Worksheet!G442)))","v":""},{"$f":"IF(S419=\"\",\"\",IF(AND(Worksheet!G442=\"\",Worksheet!H442=\"\")=TRUE,U418,IF(Worksheet!H442=\"\",\"\",Worksheet!H442)))","v":""},{"$f":"IF(Worksheet!N442=\"\",\"\",Worksheet!N442)","v":""},{"$f":"IF(Worksheet!O442=\"\",\"\",Worksheet!O442)","v":""},{"$f":"IF(Worksheet!F442=0,\"\",Worksheet!F442)","v":""},{"$f":"IF(Worksheet!P442=0,\"\",Worksheet!P442)","v":""},{"$f":"IF(Worksheet!$A$11=TRUE,\"Y\",\"N\")","v":"N"},{"$f":"IF(Worksheet!$A$12=TRUE,\"Y\",\"N\")","v":"N"},{"$f":"IF(Worksheet!$B$11=TRUE,\"Y\",\"N\")","v":"N"},{"$f":"IF(Worksheet!$B$12=TRUE,\"Y\",\"N\")","v":"N"},{"$f":"IF(Worksheet!$C$11=TRUE,\"Y\",\"N\")","v":"N"},{"$f":"IF(Worksheet!$C$12=TRUE,\"Y\",\"N\")","v":"N"},""]
[{"$f":"IF(ISERROR(VLOOKUP(Worksheet!N443,MeasureLookup,2,FALSE))=FALSE,VLOOKUP(Worksheet!N443,MeasureLookup,2,FALSE),\"\")","v":""},{"$f":"Worksheet!Q443","v":0},{"$f":"Worksheet!R443","v":0},{"$f":"IF(ISERROR(Worksheet!P443)=FALSE,Worksheet!P443,\"\")","v":0},"Watts",null,null,{"$f":"IF(Worksheet!AP443<>\"\",IF(Worksheet!AP443>0,Worksheet!AP443/IF(Worksheet!M443>0,Worksheet!M443,Worksheet!L443),\"\"),\"\")","v":""},{"$f":"IF(ISBLANK(Worksheet!L443)=FALSE,Worksheet!L443,\"\")","v":0},{"$f":"IF(Worksheet!L443<>0, IFERROR(VLOOKUP(Worksheet!$C$16,SavingsSupportTable,3,FALSE)*Worksheet!AQ443*IFERROR(1+VLOOKUP(Worksheet!$C$16,SavingsSupportTable,MATCH(Worksheet!$G$17,HVACe_Options,0)+4,FALSE),1)/IF(Worksheet!M443>0,Worksheet!M443,Worksheet!L443),\"\"),\"\")","v":""},{"$f":"IF(Worksheet!L443<>0, IFERROR(VLOOKUP(Worksheet!$C$16,SavingsSupportTable,2,FALSE)*Worksheet!AQ443*IF(IFERROR(MATCH(Worksheet!$G$17,HVACe_Options,0),0)>0,1+VLOOKUP(Worksheet!$C$16,SavingsSupportTable,4,FALSE),1)/IF(Worksheet!M443>0,Worksheet!M443,Worksheet!L443),\"\"),\"\")","v":""},"",{"$f":"IF(Worksheet!L443<>0,IFERROR(VLOOKUP(Worksheet!$C$16,SavingsSupportTable,3,FALSE)*Worksheet!AQ443*IF(IFERROR(SEARCH(\"Gas\",Worksheet!$G$17),0)>0,VLOOKUP(\"Gas\",HVACg_Lookup,MATCH(Worksheet!$G$16,BuildingSize,0)+1,FALSE),IF(IFERROR(SEARCH(\"Oil\",Worksheet!$G$17),0)>0,VLOOKUP(\"Oil\",HVACg_Lookup,MATCH(Worksheet!$G$16,BuildingSize,0)+1,FALSE),IF(IFERROR(SEARCH(\"Propane\",Worksheet!$G$17),0)>0,VLOOKUP(\"Propane\",HVACg_Lookup,MATCH(Worksheet!$G$16,BuildingSize,0)+1,FALSE),0)))/IF(Worksheet!M443>0,Worksheet!M443,Worksheet!L443),0),\"\")","v":""},"",null,null,null,{"$f":"IF(ISBLANK(Worksheet!M443)=FALSE,Worksheet!M443,\"\")","v":0},{"$f":"IF(Worksheet!A443=\"-\",\"\",IF(Worksheet!A443=\"\",S419,Worksheet!A443))","v":""},{"$f":"IF(S420=\"\",\"\",IF(AND(Worksheet!G443=\"\",Worksheet!H443=\"\")=TRUE,T419,IF(Worksheet!G443=\"\",\"\",Worksheet!G443)))","v":""},{"$f":"IF(S420=\"\",\"\",IF(AND(Worksheet!G443=\"\",Worksheet!H443=\"\")=TRUE,U419,IF(Worksheet!H443=\"\",\"\",Worksheet!H443)))","v":""},{"$f":"IF(Worksheet!N443=\"\",\"\",Worksheet!N443)","v":""},{"$f":"IF(Worksheet!O443=\"\",\"\",Worksheet!O443)","v":""},{"$f":"IF(Worksheet!F443=0,\"\",Worksheet!F443)","v":""},{"$f":"IF(Worksheet!P443=0,\"\",Worksheet!P443)","v":""},{"$f":"IF(Worksheet!$A$11=TRUE,\"Y\",\"N\")","v":"N"},{"$f":"IF(Worksheet!$A$12=TRUE,\"Y\",\"N\")","v":"N"},{"$f":"IF(Worksheet!$B$11=TRUE,\"Y\",\"N\")","v":"N"},{"$f":"IF(Worksheet!$B$12=TRUE,\"Y\",\"N\")","v":"N"},{"$f":"IF(Worksheet!$C$11=TRUE,\"Y\",\"N\")","v":"N"},{"$f":"IF(Worksheet!$C$12=TRUE,\"Y\",\"N\")","v":"N"},""]
[{"$f":"IF(ISERROR(VLOOKUP(Worksheet!N444,MeasureLookup,2,FALSE))=FALSE,VLOOKUP(Worksheet!N444,MeasureLookup,2,FALSE),\"\")","v":""},{"$f":"Worksheet!Q444","v":0},{"$f":"Worksheet!R444","v":0},{"$f":"IF(ISERROR(Worksheet!P444)=FALSE,Worksheet!P444,\"\")","v":0},"Watts",null,null,{"$f":"IF(Worksheet!AP444<>\"\",IF(Worksheet!AP444>0,Worksheet!AP444/IF(Worksheet!M444>0,Worksheet!M444,Worksheet!L444),\"\"),\"\")","v":""},{"$f":"IF(ISBLANK(Worksheet!L444)=FALSE,Worksheet!L444,\"\")","v":0},{"$f":"IF(Worksheet!L444<>0, IFERROR(VLOOKUP(Worksheet!$C$16,SavingsSupportTable,3,FALSE)*Worksheet!AQ444*IFERROR(1+VLOOKUP(Worksheet!$C$16,SavingsSupportTable,MATCH(Worksheet!$G$17,HVACe_Options,0)+4,FALSE),1)/IF(Worksheet!M444>0,Worksheet!M444,Worksheet!L444),\"\"),\"\")","v":""},{"$f":"IF(Worksheet!L444<>0, IFERROR(VLOOKUP(Worksheet!$C$16,SavingsSupportTable,2,FALSE)*Worksheet!AQ444*IF(IFERROR(MATCH(Worksheet!$G$17,HVACe_Options,0),0)>0,1+VLOOKUP(Worksheet!$C$16,SavingsSupportTable,4,FALSE),1)/IF(Worksheet!M444>0,Worksheet!M444,Worksheet!L444),\"\"),\"\")","v":""},"",{"$f":"IF(Worksheet!L444<>0,IFERROR(VLOOKUP(Worksheet!$C$16,SavingsSupportTable,3,FALSE)*Worksheet!AQ444*IF(IFERROR(SEARCH(\"Gas\",Worksheet!$G$17),0)>0,VLOOKUP(\"Gas\",HVACg_Lookup,MATCH(Worksheet!$G$16,BuildingSize,0)+1,FALSE),IF(IFERROR(SEARCH(\"Oil\",Worksheet!$G$17),0)>0,VLOOKUP(\"Oil\",HVACg_Lookup,MATCH(Worksheet!$G$16,BuildingSize,0)+1,FALSE),IF(IFERROR(SEARCH(\"Propane\",Worksheet!$G$17),0)>0,VLOOKUP(\"Propane\",HVACg_Lookup,MATCH(Worksheet!$G$16,BuildingSize,0)+1,FALSE),0)))/IF(Worksheet!M444>0,Worksheet!M444,Worksheet!L444),0),\"\")","v":""},"",null,null,null,{"$f":"IF(ISBLANK(Worksheet!M444)=FALSE,Worksheet!M444,\"\")","v":0},{"$f":"IF(Worksheet!A444=\"-\",\"\",IF(Worksheet!A444=\"\",S420,Worksheet!A444))","v":""},{"$f":"IF(S421=\"\",\"\",IF(AND(Worksheet!G444=\"\",Worksheet!H444=\"\")=TRUE,T420,IF(Worksheet!G444=\"\",\"\",Worksheet!G444)))","v":""},{"$f":"IF(S421=\"\",\"\",IF(AND(Worksheet!G444=\"\",Worksheet!H444=\"\")=TRUE,U420,IF(Worksheet!H444=\"\",\"\",Worksheet!H444)))","v":""},{"$f":"IF(Worksheet!N444=\"\",\"\",Worksheet!N444)","v":""},{"$f":"IF(Worksheet!O444=\"\",\"\",Worksheet!O444)","v":""},{"$f":"IF(Worksheet!F444=0,\"\",Worksheet!F444)","v":""},{"$f":"IF(Worksheet!P444=0,\"\",Worksheet!P444)","v":""},{"$f":"IF(Worksheet!$A$11=TRUE,\"Y\",\"N\")","v":"N"},{"$f":"IF(Worksheet!$A$12=TRUE,\"Y\",\"N\")","v":"N"},{"$f":"IF(Worksheet!$B$11=TRUE,\"Y\",\"N\")","v":"N"},{"$f":"IF(Worksheet!$B$12=TRUE,\"Y\",\"N\")","v":"N"},{"$f":"IF(Worksheet!$C$11=TRUE,\"Y\",\"N\")","v":"N"},{"$f":"IF(Worksheet!$C$12=TRUE,\"Y\",\"N\")","v":"N"},""]
[{"$f":"IF(ISERROR(VLOOKUP(Worksheet!N445,MeasureLookup,2,FALSE))=FALSE,VLOOKUP(Worksheet!N445,MeasureLookup,2,FALSE),\"\")","v":""},{"$f":"Worksheet!Q445","v":0},{"$f":"Worksheet!R445","v":0},{"$f":"IF(ISERROR(Worksheet!P445)=FALSE,Worksheet!P445,\"\")","v":0},"Watts",null,null,{"$f":"IF(Worksheet!AP445<>\"\",IF(Worksheet!AP445>0,Worksheet!AP445/IF(Worksheet!M445>0,Worksheet!M445,Worksheet!L445),\"\"),\"\")","v":""},{"$f":"IF(ISBLANK(Worksheet!L445)=FALSE,Worksheet!L445,\"\")","v":0},{"$f":"IF(Worksheet!L445<>0, IFERROR(VLOOKUP(Worksheet!$C$16,SavingsSupportTable,3,FALSE)*Worksheet!AQ445*IFERROR(1+VLOOKUP(Worksheet!$C$16,SavingsSupportTable,MATCH(Worksheet!$G$17,HVACe_Options,0)+4,FALSE),1)/IF(Worksheet!M445>0,Worksheet!M445,Worksheet!L445),\"\"),\"\")","v":""},{"$f":"IF(Worksheet!L445<>0, IFERROR(VLOOKUP(Worksheet!$C$16,SavingsSupportTable,2,FALSE)*Worksheet!AQ445*IF(IFERROR(MATCH(Worksheet!$G$17,HVACe_Options,0),0)>0,1+VLOOKUP(Worksheet!$C$16,SavingsSupportTable,4,FALSE),1)/IF(Worksheet!M445>0,Worksheet!M445,Worksheet!L445),\"\"),\"\")","v":""},"",{"$f":"IF(Worksheet!L445<>0,IFERROR(VLOOKUP(Worksheet!$C$16,SavingsSupportTable,3,FALSE)*Worksheet!AQ445*IF(IFERROR(SEARCH(\"Gas\",Worksheet!$G$17),0)>0,VLOOKUP(\"Gas\",HVACg_Lookup,MATCH(Worksheet!$G$16,BuildingSize,0)+1,FALSE),IF(IFERROR(SEARCH(\"Oil\",Worksheet!$G$17),0)>0,VLOOKUP(\"Oil\",HVACg_Lookup,MATCH(Worksheet!$G$16,BuildingSize,0)+1,FALSE),IF(IFERROR(SEARCH(\"Propane\",Worksheet!$G$17),0)>0,VLOOKUP(\"Propane\",HVACg_Lookup,MATCH(Worksheet!$G$16,BuildingSize,0)+1,FALSE),0)))/IF(Worksheet!M445>0,Worksheet!M445,Worksheet!L445),0),\"\")","v":""},"",null,null,null,{"$f":"IF(ISBLANK(Worksheet!M445)=FALSE,Worksheet!M445,\"\")","v":0},{"$f":"IF(Worksheet!A445=\"-\",\"\",IF(Worksheet!A445=\"\",S421,Worksheet!A445))","v":""},{"$f":"IF(S422=\"\",\"\",IF(AND(Worksheet!G445=\"\",Worksheet!H445=\"\")=TRUE,T421,IF(Worksheet!G445=\"\",\"\",Worksheet!G445)))","v":""},{"$f":"IF(S422=\"\",\"\",IF(AND(Worksheet!G445=\"\",Worksheet!H445=\"\")=TRUE,U421,IF(Worksheet!H445=\"\",\"\",Worksheet!H445)))","v":""},{"$f":"IF(Worksheet!N445=\"\",\"\",Worksheet!N445)","v":""},{"$f":"IF(Worksheet!O445=\"\",\"\",Worksheet!O445)","v":""},{"$f":"IF(Worksheet!F445=0,\"\",Worksheet!F445)","v":""},{"$f":"IF(Worksheet!P445=0,\"\",Worksheet!P445)","v":""},{"$f":"IF(Worksheet!$A$11=TRUE,\"Y\",\"N\")","v":"N"},{"$f":"IF(Worksheet!$A$12=TRUE,\"Y\",\"N\")","v":"N"},{"$f":"IF(Worksheet!$B$11=TRUE,\"Y\",\"N\")","v":"N"},{"$f":"IF(Worksheet!$B$12=TRUE,\"Y\",\"N\")","v":"N"},{"$f":"IF(Worksheet!$C$11=TRUE,\"Y\",\"N\")","v":"N"},{"$f":"IF(Worksheet!$C$12=TRUE,\"Y\",\"N\")","v":"N"},""]
[{"$f":"IF(ISERROR(VLOOKUP(Worksheet!N446,MeasureLookup,2,FALSE))=FALSE,VLOOKUP(Worksheet!N446,MeasureLookup,2,FALSE),\"\")","v":""},{"$f":"Worksheet!Q446","v":0},{"$f":"Worksheet!R446","v":0},{"$f":"IF(ISERROR(Worksheet!P446)=FALSE,Worksheet!P446,\"\")","v":0},"Watts",null,null,{"$f":"IF(Worksheet!AP446<>\"\",IF(Worksheet!AP446>0,Worksheet!AP446/IF(Worksheet!M446>0,Worksheet!M446,Worksheet!L446),\"\"),\"\")","v":""},{"$f":"IF(ISBLANK(Worksheet!L446)=FALSE,Worksheet!L446,\"\")","v":0},{"$f":"IF(Worksheet!L446<>0, IFERROR(VLOOKUP(Worksheet!$C$16,SavingsSupportTable,3,FALSE)*Worksheet!AQ446*IFERROR(1+VLOOKUP(Worksheet!$C$16,SavingsSupportTable,MATCH(Worksheet!$G$17,HVACe_Options,0)+4,FALSE),1)/IF(Worksheet!M446>0,Worksheet!M446,Worksheet!L446),\"\"),\"\")","v":""},{"$f":"IF(Worksheet!L446<>0, IFERROR(VLOOKUP(Worksheet!$C$16,SavingsSupportTable,2,FALSE)*Worksheet!AQ446*IF(IFERROR(MATCH(Worksheet!$G$17,HVACe_Options,0),0)>0,1+VLOOKUP(Worksheet!$C$16,SavingsSupportTable,4,FALSE),1)/IF(Worksheet!M446>0,Worksheet!M446,Worksheet!L446),\"\"),\"\")","v":""},"",{"$f":"IF(Worksheet!L446<>0,IFERROR(VLOOKUP(Worksheet!$C$16,SavingsSupportTable,3,FALSE)*Worksheet!AQ446*IF(IFERROR(SEARCH(\"Gas\",Worksheet!$G$17),0)>0,VLOOKUP(\"Gas\",HVACg_Lookup,MATCH(Worksheet!$G$16,BuildingSize,0)+1,FALSE),IF(IFERROR(SEARCH(\"Oil\",Worksheet!$G$17),0)>0,VLOOKUP(\"Oil\",HVACg_Lookup,MATCH(Worksheet!$G$16,BuildingSize,0)+1,FALSE),IF(IFERROR(SEARCH(\"Propane\",Worksheet!$G$17),0)>0,VLOOKUP(\"Propane\",HVACg_Lookup,MATCH(Worksheet!$G$16,BuildingSize,0)+1,FALSE),0)))/IF(Worksheet!M446>0,Worksheet!M446,Worksheet!L446),0),\"\")","v":""},"",null,null,null,{"$f":"IF(ISBLANK(Worksheet!M446)=FALSE,Worksheet!M446,\"\")","v":0},{"$f":"IF(Worksheet!A446=\"-\",\"\",IF(Worksheet!A446=\"\",S422,Worksheet!A446))","v":""},{"$f":"IF(S423=\"\",\"\",IF(AND(Worksheet!G446=\"\",Worksheet!H446=\"\")=TRUE,T422,IF(Worksheet!G446=\"\",\"\",Worksheet!G446)))","v":""},{"$f":"IF(S423=\"\",\"\",IF(AND(Worksheet!G446=\"\",Worksheet!H446=\"\")=TRUE,U422,IF(Worksheet!H446=\"\",\"\",Worksheet!H446)))","v":""},{"$f":"IF(Worksheet!N446=\"\",\"\",Worksheet!N446)","v":""},{"$f":"IF(Worksheet!O446=\"\",\"\",Worksheet!O446)","v":""},{"$f":"IF(Worksheet!F446=0,\"\",Worksheet!F446)","v":""},{"$f":"IF(Worksheet!P446=0,\"\",Worksheet!P446)","v":""},{"$f":"IF(Worksheet!$A$11=TRUE,\"Y\",\"N\")","v":"N"},{"$f":"IF(Worksheet!$A$12=TRUE,\"Y\",\"N\")","v":"N"},{"$f":"IF(Worksheet!$B$11=TRUE,\"Y\",\"N\")","v":"N"},{"$f":"IF(Worksheet!$B$12=TRUE,\"Y\",\"N\")","v":"N"},{"$f":"IF(Worksheet!$C$11=TRUE,\"Y\",\"N\")","v":"N"},{"$f":"IF(Worksheet!$C$12=TRUE,\"Y\",\"N\")","v":"N"},""]
[{"$f":"IF(ISERROR(VLOOKUP(Worksheet!N447,MeasureLookup,2,FALSE))=FALSE,VLOOKUP(Worksheet!N447,MeasureLookup,2,FALSE),\"\")","v":""},{"$f":"Worksheet!Q447","v":0},{"$f":"Worksheet!R447","v":0},{"$f":"IF(ISERROR(Worksheet!P447)=FALSE,Worksheet!P447,\"\")","v":0},"Watts",null,null,{"$f":"IF(Worksheet!AP447<>\"\",IF(Worksheet!AP447>0,Worksheet!AP447/IF(Worksheet!M447>0,Worksheet!M447,Worksheet!L447),\"\"),\"\")","v":""},{"$f":"IF(ISBLANK(Worksheet!L447)=FALSE,Worksheet!L447,\"\")","v":0},{"$f":"IF(Worksheet!L447<>0, IFERROR(VLOOKUP(Worksheet!$C$16,SavingsSupportTable,3,FALSE)*Worksheet!AQ447*IFERROR(1+VLOOKUP(Worksheet!$C$16,SavingsSupportTable,MATCH(Worksheet!$G$17,HVACe_Options,0)+4,FALSE),1)/IF(Worksheet!M447>0,Worksheet!M447,Worksheet!L447),\"\"),\"\")","v":""},{"$f":"IF(Worksheet!L447<>0, IFERROR(VLOOKUP(Worksheet!$C$16,SavingsSupportTable,2,FALSE)*Worksheet!AQ447*IF(IFERROR(MATCH(Worksheet!$G$17,HVACe_Options,0),0)>0,1+VLOOKUP(Worksheet!$C$16,SavingsSupportTable,4,FALSE),1)/IF(Worksheet!M447>0,Worksheet!M447,Worksheet!L447),\"\"),\"\")","v":""},"",{"$f":"IF(Worksheet!L447<>0,IFERROR(VLOOKUP(Worksheet!$C$16,SavingsSupportTable,3,FALSE)*Worksheet!AQ447*IF(IFERROR(SEARCH(\"Gas\",Worksheet!$G$17),0)>0,VLOOKUP(\"Gas\",HVACg_Lookup,MATCH(Worksheet!$G$16,BuildingSize,0)+1,FALSE),IF(IFERROR(SEARCH(\"Oil\",Worksheet!$G$17),0)>0,VLOOKUP(\"Oil\",HVACg_Lookup,MATCH(Worksheet!$G$16,BuildingSize,0)+1,FALSE),IF(IFERROR(SEARCH(\"Propane\",Worksheet!$G$17),0)>0,VLOOKUP(\"Propane\",HVACg_Lookup,MATCH(Worksheet!$G$16,BuildingSize,0)+1,FALSE),0)))/IF(Worksheet!M447>0,Worksheet!M447,Worksheet!L447),0),\"\")","v":""},"",null,null,null,{"$f":"IF(ISBLANK(Worksheet!M447)=FALSE,Worksheet!M447,\"\")","v":0},{"$f":"IF(Worksheet!A447=\"-\",\"\",IF(Worksheet!A447=\"\",S423,Worksheet!A447))","v":""},{"$f":"IF(S424=\"\",\"\",IF(AND(Worksheet!G447=\"\",Worksheet!H447=\"\")=TRUE,T423,IF(Worksheet!G447=\"\",\"\",Worksheet!G447)))","v":""},{"$f":"IF(S424=\"\",\"\",IF(AND(Worksheet!G447=\"\",Worksheet!H447=\"\")=TRUE,U423,IF(Worksheet!H447=\"\",\"\",Worksheet!H447)))","v":""},{"$f":"IF(Worksheet!N447=\"\",\"\",Worksheet!N447)","v":""},{"$f":"IF(Worksheet!O447=\"\",\"\",Worksheet!O447)","v":""},{"$f":"IF(Worksheet!F447=0,\"\",Worksheet!F447)","v":""},{"$f":"IF(Worksheet!P447=0,\"\",Worksheet!P447)","v":""},{"$f":"IF(Worksheet!$A$11=TRUE,\"Y\",\"N\")","v":"N"},{"$f":"IF(Worksheet!$A$12=TRUE,\"Y\",\"N\")","v":"N"},{"$f":"IF(Worksheet!$B$11=TRUE,\"Y\",\"N\")","v":"N"},{"$f":"IF(Worksheet!$B$12=TRUE,\"Y\",\"N\")","v":"N"},{"$f":"IF(Worksheet!$C$11=TRUE,\"Y\",\"N\")","v":"N"},{"$f":"IF(Worksheet!$C$12=TRUE,\"Y\",\"N\")","v":"N"},""]
[{"$f":"IF(ISERROR(VLOOKUP(Worksheet!N448,MeasureLookup,2,FALSE))=FALSE,VLOOKUP(Worksheet!N448,MeasureLookup,2,FALSE),\"\")","v":""},{"$f":"Worksheet!Q448","v":0},{"$f":"Worksheet!R448","v":0},{"$f":"IF(ISERROR(Worksheet!P448)=FALSE,Worksheet!P448,\"\")","v":0},"Watts",null,null,{"$f":"IF(Worksheet!AP448<>\"\",IF(Worksheet!AP448>0,Worksheet!AP448/IF(Worksheet!M448>0,Worksheet!M448,Worksheet!L448),\"\"),\"\")","v":""},{"$f":"IF(ISBLANK(Worksheet!L448)=FALSE,Worksheet!L448,\"\")","v":0},{"$f":"IF(Worksheet!L448<>0, IFERROR(VLOOKUP(Worksheet!$C$16,SavingsSupportTable,3,FALSE)*Worksheet!AQ448*IFERROR(1+VLOOKUP(Worksheet!$C$16,SavingsSupportTable,MATCH(Worksheet!$G$17,HVACe_Options,0)+4,FALSE),1)/IF(Worksheet!M448>0,Worksheet!M448,Worksheet!L448),\"\"),\"\")","v":""},{"$f":"IF(Worksheet!L448<>0, IFERROR(VLOOKUP(Worksheet!$C$16,SavingsSupportTable,2,FALSE)*Worksheet!AQ448*IF(IFERROR(MATCH(Worksheet!$G$17,HVACe_Options,0),0)>0,1+VLOOKUP(Worksheet!$C$16,SavingsSupportTable,4,FALSE),1)/IF(Worksheet!M448>0,Worksheet!M448,Worksheet!L448),\"\"),\"\")","v":""},"",{"$f":"IF(Worksheet!L448<>0,IFERROR(VLOOKUP(Worksheet!$C$16,SavingsSupportTable,3,FALSE)*Worksheet!AQ448*IF(IFERROR(SEARCH(\"Gas\",Worksheet!$G$17),0)>0,VLOOKUP(\"Gas\",HVACg_Lookup,MATCH(Worksheet!$G$16,BuildingSize,0)+1,FALSE),IF(IFERROR(SEARCH(\"Oil\",Worksheet!$G$17),0)>0,VLOOKUP(\"Oil\",HVACg_Lookup,MATCH(Worksheet!$G$16,BuildingSize,0)+1,FALSE),IF(IFERROR(SEARCH(\"Propane\",Worksheet!$G$17),0)>0,VLOOKUP(\"Propane\",HVACg_Lookup,MATCH(Worksheet!$G$16,BuildingSize,0)+1,FALSE),0)))/IF(Worksheet!M448>0,Worksheet!M448,Worksheet!L448),0),\"\")","v":""},"",null,null,null,{"$f":"IF(ISBLANK(Worksheet!M448)=FALSE,Worksheet!M448,\"\")","v":0},{"$f":"IF(Worksheet!A448=\"-\",\"\",IF(Worksheet!A448=\"\",S424,Worksheet!A448))","v":""},{"$f":"IF(S425=\"\",\"\",IF(AND(Worksheet!G448=\"\",Worksheet!H448=\"\")=TRUE,T424,IF(Worksheet!G448=\"\",\"\",Worksheet!G448)))","v":""},{"$f":"IF(S425=\"\",\"\",IF(AND(Worksheet!G448=\"\",Worksheet!H448=\"\")=TRUE,U424,IF(Worksheet!H448=\"\",\"\",Worksheet!H448)))","v":""},{"$f":"IF(Worksheet!N448=\"\",\"\",Worksheet!N448)","v":""},{"$f":"IF(Worksheet!O448=\"\",\"\",Worksheet!O448)","v":""},{"$f":"IF(Worksheet!F448=0,\"\",Worksheet!F448)","v":""},{"$f":"IF(Worksheet!P448=0,\"\",Worksheet!P448)","v":""},{"$f":"IF(Worksheet!$A$11=TRUE,\"Y\",\"N\")","v":"N"},{"$f":"IF(Worksheet!$A$12=TRUE,\"Y\",\"N\")","v":"N"},{"$f":"IF(Worksheet!$B$11=TRUE,\"Y\",\"N\")","v":"N"},{"$f":"IF(Worksheet!$B$12=TRUE,\"Y\",\"N\")","v":"N"},{"$f":"IF(Worksheet!$C$11=TRUE,\"Y\",\"N\")","v":"N"},{"$f":"IF(Worksheet!$C$12=TRUE,\"Y\",\"N\")","v":"N"},""]
[{"$f":"IF(ISERROR(VLOOKUP(Worksheet!N449,MeasureLookup,2,FALSE))=FALSE,VLOOKUP(Worksheet!N449,MeasureLookup,2,FALSE),\"\")","v":""},{"$f":"Worksheet!Q449","v":0},{"$f":"Worksheet!R449","v":0},{"$f":"IF(ISERROR(Worksheet!P449)=FALSE,Worksheet!P449,\"\")","v":0},"Watts",null,null,{"$f":"IF(Worksheet!AP449<>\"\",IF(Worksheet!AP449>0,Worksheet!AP449/IF(Worksheet!M449>0,Worksheet!M449,Worksheet!L449),\"\"),\"\")","v":""},{"$f":"IF(ISBLANK(Worksheet!L449)=FALSE,Worksheet!L449,\"\")","v":0},{"$f":"IF(Worksheet!L449<>0, IFERROR(VLOOKUP(Worksheet!$C$16,SavingsSupportTable,3,FALSE)*Worksheet!AQ449*IFERROR(1+VLOOKUP(Worksheet!$C$16,SavingsSupportTable,MATCH(Worksheet!$G$17,HVACe_Options,0)+4,FALSE),1)/IF(Worksheet!M449>0,Worksheet!M449,Worksheet!L449),\"\"),\"\")","v":""},{"$f":"IF(Worksheet!L449<>0, IFERROR(VLOOKUP(Worksheet!$C$16,SavingsSupportTable,2,FALSE)*Worksheet!AQ449*IF(IFERROR(MATCH(Worksheet!$G$17,HVACe_Options,0),0)>0,1+VLOOKUP(Worksheet!$C$16,SavingsSupportTable,4,FALSE),1)/IF(Worksheet!M449>0,Worksheet!M449,Worksheet!L449),\"\"),\"\")","v":""},"",{"$f":"IF(Worksheet!L449<>0,IFERROR(VLOOKUP(Worksheet!$C$16,SavingsSupportTable,3,FALSE)*Worksheet!AQ449*IF(IFERROR(SEARCH(\"Gas\",Worksheet!$G$17),0)>0,VLOOKUP(\"Gas\",HVACg_Lookup,MATCH(Worksheet!$G$16,BuildingSize,0)+1,FALSE),IF(IFERROR(SEARCH(\"Oil\",Worksheet!$G$17),0)>0,VLOOKUP(\"Oil\",HVACg_Lookup,MATCH(Worksheet!$G$16,BuildingSize,0)+1,FALSE),IF(IFERROR(SEARCH(\"Propane\",Worksheet!$G$17),0)>0,VLOOKUP(\"Propane\",HVACg_Lookup,MATCH(Worksheet!$G$16,BuildingSize,0)+1,FALSE),0)))/IF(Worksheet!M449>0,Worksheet!M449,Worksheet!L449),0),\"\")","v":""},"",null,null,null,{"$f":"IF(ISBLANK(Worksheet!M449)=FALSE,Worksheet!M449,\"\")","v":0},{"$f":"IF(Worksheet!A449=\"-\",\"\",IF(Worksheet!A449=\"\",S425,Worksheet!A449))","v":""},{"$f":"IF(S426=\"\",\"\",IF(AND(Worksheet!G449=\"\",Worksheet!H449=\"\")=TRUE,T425,IF(Worksheet!G449=\"\",\"\",Worksheet!G449)))","v":""},{"$f":"IF(S426=\"\",\"\",IF(AND(Worksheet!G449=\"\",Worksheet!H449=\"\")=TRUE,U425,IF(Worksheet!H449=\"\",\"\",Worksheet!H449)))","v":""},{"$f":"IF(Worksheet!N449=\"\",\"\",Worksheet!N449)","v":""},{"$f":"IF(Worksheet!O449=\"\",\"\",Worksheet!O449)","v":""},{"$f":"IF(Worksheet!F449=0,\"\",Worksheet!F449)","v":""},{"$f":"IF(Worksheet!P449=0,\"\",Worksheet!P449)","v":""},{"$f":"IF(Worksheet!$A$11=TRUE,\"Y\",\"N\")","v":"N"},{"$f":"IF(Worksheet!$A$12=TRUE,\"Y\",\"N\")","v":"N"},{"$f":"IF(Worksheet!$B$11=TRUE,\"Y\",\"N\")","v":"N"},{"$f":"IF(Worksheet!$B$12=TRUE,\"Y\",\"N\")","v":"N"},{"$f":"IF(Worksheet!$C$11=TRUE,\"Y\",\"N\")","v":"N"},{"$f":"IF(Worksheet!$C$12=TRUE,\"Y\",\"N\")","v":"N"},""]
[{"$f":"IF(ISERROR(VLOOKUP(Worksheet!N450,MeasureLookup,2,FALSE))=FALSE,VLOOKUP(Worksheet!N450,MeasureLookup,2,FALSE),\"\")","v":""},{"$f":"Worksheet!Q450","v":0},{"$f":"Worksheet!R450","v":0},{"$f":"IF(ISERROR(Worksheet!P450)=FALSE,Worksheet!P450,\"\")","v":0},"Watts",null,null,{"$f":"IF(Worksheet!AP450<>\"\",IF(Worksheet!AP450>0,Worksheet!AP450/IF(Worksheet!M450>0,Worksheet!M450,Worksheet!L450),\"\"),\"\")","v":""},{"$f":"IF(ISBLANK(Worksheet!L450)=FALSE,Worksheet!L450,\"\")","v":0},{"$f":"IF(Worksheet!L450<>0, IFERROR(VLOOKUP(Worksheet!$C$16,SavingsSupportTable,3,FALSE)*Worksheet!AQ450*IFERROR(1+VLOOKUP(Worksheet!$C$16,SavingsSupportTable,MATCH(Worksheet!$G$17,HVACe_Options,0)+4,FALSE),1)/IF(Worksheet!M450>0,Worksheet!M450,Worksheet!L450),\"\"),\"\")","v":""},{"$f":"IF(Worksheet!L450<>0, IFERROR(VLOOKUP(Worksheet!$C$16,SavingsSupportTable,2,FALSE)*Worksheet!AQ450*IF(IFERROR(MATCH(Worksheet!$G$17,HVACe_Options,0),0)>0,1+VLOOKUP(Worksheet!$C$16,SavingsSupportTable,4,FALSE),1)/IF(Worksheet!M450>0,Worksheet!M450,Worksheet!L450),\"\"),\"\")","v":""},"",{"$f":"IF(Worksheet!L450<>0,IFERROR(VLOOKUP(Worksheet!$C$16,SavingsSupportTable,3,FALSE)*Worksheet!AQ450*IF(IFERROR(SEARCH(\"Gas\",Worksheet!$G$17),0)>0,VLOOKUP(\"Gas\",HVACg_Lookup,MATCH(Worksheet!$G$16,BuildingSize,0)+1,FALSE),IF(IFERROR(SEARCH(\"Oil\",Worksheet!$G$17),0)>0,VLOOKUP(\"Oil\",HVACg_Lookup,MATCH(Worksheet!$G$16,BuildingSize,0)+1,FALSE),IF(IFERROR(SEARCH(\"Propane\",Worksheet!$G$17),0)>0,VLOOKUP(\"Propane\",HVACg_Lookup,MATCH(Worksheet!$G$16,BuildingSize,0)+1,FALSE),0)))/IF(Worksheet!M450>0,Worksheet!M450,Worksheet!L450),0),\"\")","v":""},"",null,null,null,{"$f":"IF(ISBLANK(Worksheet!M450)=FALSE,Worksheet!M450,\"\")","v":0},{"$f":"IF(Worksheet!A450=\"-\",\"\",IF(Worksheet!A450=\"\",S426,Worksheet!A450))","v":""},{"$f":"IF(S427=\"\",\"\",IF(AND(Worksheet!G450=\"\",Worksheet!H450=\"\")=TRUE,T426,IF(Worksheet!G450=\"\",\"\",Worksheet!G450)))","v":""},{"$f":"IF(S427=\"\",\"\",IF(AND(Worksheet!G450=\"\",Worksheet!H450=\"\")=TRUE,U426,IF(Worksheet!H450=\"\",\"\",Worksheet!H450)))","v":""},{"$f":"IF(Worksheet!N450=\"\",\"\",Worksheet!N450)","v":""},{"$f":"IF(Worksheet!O450=\"\",\"\",Worksheet!O450)","v":""},{"$f":"IF(Worksheet!F450=0,\"\",Worksheet!F450)","v":""},{"$f":"IF(Worksheet!P450=0,\"\",Worksheet!P450)","v":""},{"$f":"IF(Worksheet!$A$11=TRUE,\"Y\",\"N\")","v":"N"},{"$f":"IF(Worksheet!$A$12=TRUE,\"Y\",\"N\")","v":"N"},{"$f":"IF(Worksheet!$B$11=TRUE,\"Y\",\"N\")","v":"N"},{"$f":"IF(Worksheet!$B$12=TRUE,\"Y\",\"N\")","v":"N"},{"$f":"IF(Worksheet!$C$11=TRUE,\"Y\",\"N\")","v":"N"},{"$f":"IF(Worksheet!$C$12=TRUE,\"Y\",\"N\")","v":"N"},""]
[{"$f":"IF(ISERROR(VLOOKUP(Worksheet!N451,MeasureLookup,2,FALSE))=FALSE,VLOOKUP(Worksheet!N451,MeasureLookup,2,FALSE),\"\")","v":""},{"$f":"Worksheet!Q451","v":0},{"$f":"Worksheet!R451","v":0},{"$f":"IF(ISERROR(Worksheet!P451)=FALSE,Worksheet!P451,\"\")","v":0},"Watts",null,null,{"$f":"IF(Worksheet!AP451<>\"\",IF(Worksheet!AP451>0,Worksheet!AP451/IF(Worksheet!M451>0,Worksheet!M451,Worksheet!L451),\"\"),\"\")","v":""},{"$f":"IF(ISBLANK(Worksheet!L451)=FALSE,Worksheet!L451,\"\")","v":0},{"$f":"IF(Worksheet!L451<>0, IFERROR(VLOOKUP(Worksheet!$C$16,SavingsSupportTable,3,FALSE)*Worksheet!AQ451*IFERROR(1+VLOOKUP(Worksheet!$C$16,SavingsSupportTable,MATCH(Worksheet!$G$17,HVACe_Options,0)+4,FALSE),1)/IF(Worksheet!M451>0,Worksheet!M451,Worksheet!L451),\"\"),\"\")","v":""},{"$f":"IF(Worksheet!L451<>0, IFERROR(VLOOKUP(Worksheet!$C$16,SavingsSupportTable,2,FALSE)*Worksheet!AQ451*IF(IFERROR(MATCH(Worksheet!$G$17,HVACe_Options,0),0)>0,1+VLOOKUP(Worksheet!$C$16,SavingsSupportTable,4,FALSE),1)/IF(Worksheet!M451>0,Worksheet!M451,Worksheet!L451),\"\"),\"\")","v":""},"",{"$f":"IF(Worksheet!L451<>0,IFERROR(VLOOKUP(Worksheet!$C$16,SavingsSupportTable,3,FALSE)*Worksheet!AQ451*IF(IFERROR(SEARCH(\"Gas\",Worksheet!$G$17),0)>0,VLOOKUP(\"Gas\",HVACg_Lookup,MATCH(Worksheet!$G$16,BuildingSize,0)+1,FALSE),IF(IFERROR(SEARCH(\"Oil\",Worksheet!$G$17),0)>0,VLOOKUP(\"Oil\",HVACg_Lookup,MATCH(Worksheet!$G$16,BuildingSize,0)+1,FALSE),IF(IFERROR(SEARCH(\"Propane\",Worksheet!$G$17),0)>0,VLOOKUP(\"Propane\",HVACg_Lookup,MATCH(Worksheet!$G$16,BuildingSize,0)+1,FALSE),0)))/IF(Worksheet!M451>0,Worksheet!M451,Worksheet!L451),0),\"\")","v":""},"",null,null,null,{"$f":"IF(ISBLANK(Worksheet!M451)=FALSE,Worksheet!M451,\"\")","v":0},{"$f":"IF(Worksheet!A451=\"-\",\"\",IF(Worksheet!A451=\"\",S427,Worksheet!A451))","v":""},{"$f":"IF(S428=\"\",\"\",IF(AND(Worksheet!G451=\"\",Worksheet!H451=\"\")=TRUE,T427,IF(Worksheet!G451=\"\",\"\",Worksheet!G451)))","v":""},{"$f":"IF(S428=\"\",\"\",IF(AND(Worksheet!G451=\"\",Worksheet!H451=\"\")=TRUE,U427,IF(Worksheet!H451=\"\",\"\",Worksheet!H451)))","v":""},{"$f":"IF(Worksheet!N451=\"\",\"\",Worksheet!N451)","v":""},{"$f":"IF(Worksheet!O451=\"\",\"\",Worksheet!O451)","v":""},{"$f":"IF(Worksheet!F451=0,\"\",Worksheet!F451)","v":""},{"$f":"IF(Worksheet!P451=0,\"\",Worksheet!P451)","v":""},{"$f":"IF(Worksheet!$A$11=TRUE,\"Y\",\"N\")","v":"N"},{"$f":"IF(Worksheet!$A$12=TRUE,\"Y\",\"N\")","v":"N"},{"$f":"IF(Worksheet!$B$11=TRUE,\"Y\",\"N\")","v":"N"},{"$f":"IF(Worksheet!$B$12=TRUE,\"Y\",\"N\")","v":"N"},{"$f":"IF(Worksheet!$C$11=TRUE,\"Y\",\"N\")","v":"N"},{"$f":"IF(Worksheet!$C$12=TRUE,\"Y\",\"N\")","v":"N"},""]
[{"$f":"IF(ISERROR(VLOOKUP(Worksheet!N452,MeasureLookup,2,FALSE))=FALSE,VLOOKUP(Worksheet!N452,MeasureLookup,2,FALSE),\"\")","v":""},{"$f":"Worksheet!Q452","v":0},{"$f":"Worksheet!R452","v":0},{"$f":"IF(ISERROR(Worksheet!P452)=FALSE,Worksheet!P452,\"\")","v":0},"Watts",null,null,{"$f":"IF(Worksheet!AP452<>\"\",IF(Worksheet!AP452>0,Worksheet!AP452/IF(Worksheet!M452>0,Worksheet!M452,Worksheet!L452),\"\"),\"\")","v":""},{"$f":"IF(ISBLANK(Worksheet!L452)=FALSE,Worksheet!L452,\"\")","v":0},{"$f":"IF(Worksheet!L452<>0, IFERROR(VLOOKUP(Worksheet!$C$16,SavingsSupportTable,3,FALSE)*Worksheet!AQ452*IFERROR(1+VLOOKUP(Worksheet!$C$16,SavingsSupportTable,MATCH(Worksheet!$G$17,HVACe_Options,0)+4,FALSE),1)/IF(Worksheet!M452>0,Worksheet!M452,Worksheet!L452),\"\"),\"\")","v":""},{"$f":"IF(Worksheet!L452<>0, IFERROR(VLOOKUP(Worksheet!$C$16,SavingsSupportTable,2,FALSE)*Worksheet!AQ452*IF(IFERROR(MATCH(Worksheet!$G$17,HVACe_Options,0),0)>0,1+VLOOKUP(Worksheet!$C$16,SavingsSupportTable,4,FALSE),1)/IF(Worksheet!M452>0,Worksheet!M452,Worksheet!L452),\"\"),\"\")","v":""},"",{"$f":"IF(Worksheet!L452<>0,IFERROR(VLOOKUP(Worksheet!$C$16,SavingsSupportTable,3,FALSE)*Worksheet!AQ452*IF(IFERROR(SEARCH(\"Gas\",Worksheet!$G$17),0)>0,VLOOKUP(\"Gas\",HVACg_Lookup,MATCH(Worksheet!$G$16,BuildingSize,0)+1,FALSE),IF(IFERROR(SEARCH(\"Oil\",Worksheet!$G$17),0)>0,VLOOKUP(\"Oil\",HVACg_Lookup,MATCH(Worksheet!$G$16,BuildingSize,0)+1,FALSE),IF(IFERROR(SEARCH(\"Propane\",Worksheet!$G$17),0)>0,VLOOKUP(\"Propane\",HVACg_Lookup,MATCH(Worksheet!$G$16,BuildingSize,0)+1,FALSE),0)))/IF(Worksheet!M452>0,Worksheet!M452,Worksheet!L452),0),\"\")","v":""},"",null,null,null,{"$f":"IF(ISBLANK(Worksheet!M452)=FALSE,Worksheet!M452,\"\")","v":0},{"$f":"IF(Worksheet!A452=\"-\",\"\",IF(Worksheet!A452=\"\",S428,Worksheet!A452))","v":""},{"$f":"IF(S429=\"\",\"\",IF(AND(Worksheet!G452=\"\",Worksheet!H452=\"\")=TRUE,T428,IF(Worksheet!G452=\"\",\"\",Worksheet!G452)))","v":""},{"$f":"IF(S429=\"\",\"\",IF(AND(Worksheet!G452=\"\",Worksheet!H452=\"\")=TRUE,U428,IF(Worksheet!H452=\"\",\"\",Worksheet!H452)))","v":""},{"$f":"IF(Worksheet!N452=\"\",\"\",Worksheet!N452)","v":""},{"$f":"IF(Worksheet!O452=\"\",\"\",Worksheet!O452)","v":""},{"$f":"IF(Worksheet!F452=0,\"\",Worksheet!F452)","v":""},{"$f":"IF(Worksheet!P452=0,\"\",Worksheet!P452)","v":""},{"$f":"IF(Worksheet!$A$11=TRUE,\"Y\",\"N\")","v":"N"},{"$f":"IF(Worksheet!$A$12=TRUE,\"Y\",\"N\")","v":"N"},{"$f":"IF(Worksheet!$B$11=TRUE,\"Y\",\"N\")","v":"N"},{"$f":"IF(Worksheet!$B$12=TRUE,\"Y\",\"N\")","v":"N"},{"$f":"IF(Worksheet!$C$11=TRUE,\"Y\",\"N\")","v":"N"},{"$f":"IF(Worksheet!$C$12=TRUE,\"Y\",\"N\")","v":"N"},""]
[{"$f":"IF(ISERROR(VLOOKUP(Worksheet!N453,MeasureLookup,2,FALSE))=FALSE,VLOOKUP(Worksheet!N453,MeasureLookup,2,FALSE),\"\")","v":""},{"$f":"Worksheet!Q453","v":0},{"$f":"Worksheet!R453","v":0},{"$f":"IF(ISERROR(Worksheet!P453)=FALSE,Worksheet!P453,\"\")","v":0},"Watts",null,null,{"$f":"IF(Worksheet!AP453<>\"\",IF(Worksheet!AP453>0,Worksheet!AP453/IF(Worksheet!M453>0,Worksheet!M453,Worksheet!L453),\"\"),\"\")","v":""},{"$f":"IF(ISBLANK(Worksheet!L453)=FALSE,Worksheet!L453,\"\")","v":0},{"$f":"IF(Worksheet!L453<>0, IFERROR(VLOOKUP(Worksheet!$C$16,SavingsSupportTable,3,FALSE)*Worksheet!AQ453*IFERROR(1+VLOOKUP(Worksheet!$C$16,SavingsSupportTable,MATCH(Worksheet!$G$17,HVACe_Options,0)+4,FALSE),1)/IF(Worksheet!M453>0,Worksheet!M453,Worksheet!L453),\"\"),\"\")","v":""},{"$f":"IF(Worksheet!L453<>0, IFERROR(VLOOKUP(Worksheet!$C$16,SavingsSupportTable,2,FALSE)*Worksheet!AQ453*IF(IFERROR(MATCH(Worksheet!$G$17,HVACe_Options,0),0)>0,1+VLOOKUP(Worksheet!$C$16,SavingsSupportTable,4,FALSE),1)/IF(Worksheet!M453>0,Worksheet!M453,Worksheet!L453),\"\"),\"\")","v":""},"",{"$f":"IF(Worksheet!L453<>0,IFERROR(VLOOKUP(Worksheet!$C$16,SavingsSupportTable,3,FALSE)*Worksheet!AQ453*IF(IFERROR(SEARCH(\"Gas\",Worksheet!$G$17),0)>0,VLOOKUP(\"Gas\",HVACg_Lookup,MATCH(Worksheet!$G$16,BuildingSize,0)+1,FALSE),IF(IFERROR(SEARCH(\"Oil\",Worksheet!$G$17),0)>0,VLOOKUP(\"Oil\",HVACg_Lookup,MATCH(Worksheet!$G$16,BuildingSize,0)+1,FALSE),IF(IFERROR(SEARCH(\"Propane\",Worksheet!$G$17),0)>0,VLOOKUP(\"Propane\",HVACg_Lookup,MATCH(Worksheet!$G$16,BuildingSize,0)+1,FALSE),0)))/IF(Worksheet!M453>0,Worksheet!M453,Worksheet!L453),0),\"\")","v":""},"",null,null,null,{"$f":"IF(ISBLANK(Worksheet!M453)=FALSE,Worksheet!M453,\"\")","v":0},{"$f":"IF(Worksheet!A453=\"-\",\"\",IF(Worksheet!A453=\"\",S429,Worksheet!A453))","v":""},{"$f":"IF(S430=\"\",\"\",IF(AND(Worksheet!G453=\"\",Worksheet!H453=\"\")=TRUE,T429,IF(Worksheet!G453=\"\",\"\",Worksheet!G453)))","v":""},{"$f":"IF(S430=\"\",\"\",IF(AND(Worksheet!G453=\"\",Worksheet!H453=\"\")=TRUE,U429,IF(Worksheet!H453=\"\",\"\",Worksheet!H453)))","v":""},{"$f":"IF(Worksheet!N453=\"\",\"\",Worksheet!N453)","v":""},{"$f":"IF(Worksheet!O453=\"\",\"\",Worksheet!O453)","v":""},{"$f":"IF(Worksheet!F453=0,\"\",Worksheet!F453)","v":""},{"$f":"IF(Worksheet!P453=0,\"\",Worksheet!P453)","v":""},{"$f":"IF(Worksheet!$A$11=TRUE,\"Y\",\"N\")","v":"N"},{"$f":"IF(Worksheet!$A$12=TRUE,\"Y\",\"N\")","v":"N"},{"$f":"IF(Worksheet!$B$11=TRUE,\"Y\",\"N\")","v":"N"},{"$f":"IF(Worksheet!$B$12=TRUE,\"Y\",\"N\")","v":"N"},{"$f":"IF(Worksheet!$C$11=TRUE,\"Y\",\"N\")","v":"N"},{"$f":"IF(Worksheet!$C$12=TRUE,\"Y\",\"N\")","v":"N"},""]
[{"$f":"IF(ISERROR(VLOOKUP(Worksheet!N454,MeasureLookup,2,FALSE))=FALSE,VLOOKUP(Worksheet!N454,MeasureLookup,2,FALSE),\"\")","v":""},{"$f":"Worksheet!Q454","v":0},{"$f":"Worksheet!R454","v":0},{"$f":"IF(ISERROR(Worksheet!P454)=FALSE,Worksheet!P454,\"\")","v":0},"Watts",null,null,{"$f":"IF(Worksheet!AP454<>\"\",IF(Worksheet!AP454>0,Worksheet!AP454/IF(Worksheet!M454>0,Worksheet!M454,Worksheet!L454),\"\"),\"\")","v":""},{"$f":"IF(ISBLANK(Worksheet!L454)=FALSE,Worksheet!L454,\"\")","v":0},{"$f":"IF(Worksheet!L454<>0, IFERROR(VLOOKUP(Worksheet!$C$16,SavingsSupportTable,3,FALSE)*Worksheet!AQ454*IFERROR(1+VLOOKUP(Worksheet!$C$16,SavingsSupportTable,MATCH(Worksheet!$G$17,HVACe_Options,0)+4,FALSE),1)/IF(Worksheet!M454>0,Worksheet!M454,Worksheet!L454),\"\"),\"\")","v":""},{"$f":"IF(Worksheet!L454<>0, IFERROR(VLOOKUP(Worksheet!$C$16,SavingsSupportTable,2,FALSE)*Worksheet!AQ454*IF(IFERROR(MATCH(Worksheet!$G$17,HVACe_Options,0),0)>0,1+VLOOKUP(Worksheet!$C$16,SavingsSupportTable,4,FALSE),1)/IF(Worksheet!M454>0,Worksheet!M454,Worksheet!L454),\"\"),\"\")","v":""},"",{"$f":"IF(Worksheet!L454<>0,IFERROR(VLOOKUP(Worksheet!$C$16,SavingsSupportTable,3,FALSE)*Worksheet!AQ454*IF(IFERROR(SEARCH(\"Gas\",Worksheet!$G$17),0)>0,VLOOKUP(\"Gas\",HVACg_Lookup,MATCH(Worksheet!$G$16,BuildingSize,0)+1,FALSE),IF(IFERROR(SEARCH(\"Oil\",Worksheet!$G$17),0)>0,VLOOKUP(\"Oil\",HVACg_Lookup,MATCH(Worksheet!$G$16,BuildingSize,0)+1,FALSE),IF(IFERROR(SEARCH(\"Propane\",Worksheet!$G$17),0)>0,VLOOKUP(\"Propane\",HVACg_Lookup,MATCH(Worksheet!$G$16,BuildingSize,0)+1,FALSE),0)))/IF(Worksheet!M454>0,Worksheet!M454,Worksheet!L454),0),\"\")","v":""},"",null,null,null,{"$f":"IF(ISBLANK(Worksheet!M454)=FALSE,Worksheet!M454,\"\")","v":0},{"$f":"IF(Worksheet!A454=\"-\",\"\",IF(Worksheet!A454=\"\",S430,Worksheet!A454))","v":""},{"$f":"IF(S431=\"\",\"\",IF(AND(Worksheet!G454=\"\",Worksheet!H454=\"\")=TRUE,T430,IF(Worksheet!G454=\"\",\"\",Worksheet!G454)))","v":""},{"$f":"IF(S431=\"\",\"\",IF(AND(Worksheet!G454=\"\",Worksheet!H454=\"\")=TRUE,U430,IF(Worksheet!H454=\"\",\"\",Worksheet!H454)))","v":""},{"$f":"IF(Worksheet!N454=\"\",\"\",Worksheet!N454)","v":""},{"$f":"IF(Worksheet!O454=\"\",\"\",Worksheet!O454)","v":""},{"$f":"IF(Worksheet!F454=0,\"\",Worksheet!F454)","v":""},{"$f":"IF(Worksheet!P454=0,\"\",Worksheet!P454)","v":""},{"$f":"IF(Worksheet!$A$11=TRUE,\"Y\",\"N\")","v":"N"},{"$f":"IF(Worksheet!$A$12=TRUE,\"Y\",\"N\")","v":"N"},{"$f":"IF(Worksheet!$B$11=TRUE,\"Y\",\"N\")","v":"N"},{"$f":"IF(Worksheet!$B$12=TRUE,\"Y\",\"N\")","v":"N"},{"$f":"IF(Worksheet!$C$11=TRUE,\"Y\",\"N\")","v":"N"},{"$f":"IF(Worksheet!$C$12=TRUE,\"Y\",\"N\")","v":"N"},""]
[{"$f":"IF(ISERROR(VLOOKUP(Worksheet!N455,MeasureLookup,2,FALSE))=FALSE,VLOOKUP(Worksheet!N455,MeasureLookup,2,FALSE),\"\")","v":""},{"$f":"Worksheet!Q455","v":0},{"$f":"Worksheet!R455","v":0},{"$f":"IF(ISERROR(Worksheet!P455)=FALSE,Worksheet!P455,\"\")","v":0},"Watts",null,null,{"$f":"IF(Worksheet!AP455<>\"\",IF(Worksheet!AP455>0,Worksheet!AP455/IF(Worksheet!M455>0,Worksheet!M455,Worksheet!L455),\"\"),\"\")","v":""},{"$f":"IF(ISBLANK(Worksheet!L455)=FALSE,Worksheet!L455,\"\")","v":0},{"$f":"IF(Worksheet!L455<>0, IFERROR(VLOOKUP(Worksheet!$C$16,SavingsSupportTable,3,FALSE)*Worksheet!AQ455*IFERROR(1+VLOOKUP(Worksheet!$C$16,SavingsSupportTable,MATCH(Worksheet!$G$17,HVACe_Options,0)+4,FALSE),1)/IF(Worksheet!M455>0,Worksheet!M455,Worksheet!L455),\"\"),\"\")","v":""},{"$f":"IF(Worksheet!L455<>0, IFERROR(VLOOKUP(Worksheet!$C$16,SavingsSupportTable,2,FALSE)*Worksheet!AQ455*IF(IFERROR(MATCH(Worksheet!$G$17,HVACe_Options,0),0)>0,1+VLOOKUP(Worksheet!$C$16,SavingsSupportTable,4,FALSE),1)/IF(Worksheet!M455>0,Worksheet!M455,Worksheet!L455),\"\"),\"\")","v":""},"",{"$f":"IF(Worksheet!L455<>0,IFERROR(VLOOKUP(Worksheet!$C$16,SavingsSupportTable,3,FALSE)*Worksheet!AQ455*IF(IFERROR(SEARCH(\"Gas\",Worksheet!$G$17),0)>0,VLOOKUP(\"Gas\",HVACg_Lookup,MATCH(Worksheet!$G$16,BuildingSize,0)+1,FALSE),IF(IFERROR(SEARCH(\"Oil\",Worksheet!$G$17),0)>0,VLOOKUP(\"Oil\",HVACg_Lookup,MATCH(Worksheet!$G$16,BuildingSize,0)+1,FALSE),IF(IFERROR(SEARCH(\"Propane\",Worksheet!$G$17),0)>0,VLOOKUP(\"Propane\",HVACg_Lookup,MATCH(Worksheet!$G$16,BuildingSize,0)+1,FALSE),0)))/IF(Worksheet!M455>0,Worksheet!M455,Worksheet!L455),0),\"\")","v":""},"",null,null,null,{"$f":"IF(ISBLANK(Worksheet!M455)=FALSE,Worksheet!M455,\"\")","v":0},{"$f":"IF(Worksheet!A455=\"-\",\"\",IF(Worksheet!A455=\"\",S431,Worksheet!A455))","v":""},{"$f":"IF(S432=\"\",\"\",IF(AND(Worksheet!G455=\"\",Worksheet!H455=\"\")=TRUE,T431,IF(Worksheet!G455=\"\",\"\",Worksheet!G455)))","v":""},{"$f":"IF(S432=\"\",\"\",IF(AND(Worksheet!G455=\"\",Worksheet!H455=\"\")=TRUE,U431,IF(Worksheet!H455=\"\",\"\",Worksheet!H455)))","v":""},{"$f":"IF(Worksheet!N455=\"\",\"\",Worksheet!N455)","v":""},{"$f":"IF(Worksheet!O455=\"\",\"\",Worksheet!O455)","v":""},{"$f":"IF(Worksheet!F455=0,\"\",Worksheet!F455)","v":""},{"$f":"IF(Worksheet!P455=0,\"\",Worksheet!P455)","v":""},{"$f":"IF(Worksheet!$A$11=TRUE,\"Y\",\"N\")","v":"N"},{"$f":"IF(Worksheet!$A$12=TRUE,\"Y\",\"N\")","v":"N"},{"$f":"IF(Worksheet!$B$11=TRUE,\"Y\",\"N\")","v":"N"},{"$f":"IF(Worksheet!$B$12=TRUE,\"Y\",\"N\")","v":"N"},{"$f":"IF(Worksheet!$C$11=TRUE,\"Y\",\"N\")","v":"N"},{"$f":"IF(Worksheet!$C$12=TRUE,\"Y\",\"N\")","v":"N"},""]
[{"$f":"IF(ISERROR(VLOOKUP(Worksheet!N456,MeasureLookup,2,FALSE))=FALSE,VLOOKUP(Worksheet!N456,MeasureLookup,2,FALSE),\"\")","v":""},{"$f":"Worksheet!Q456","v":0},{"$f":"Worksheet!R456","v":0},{"$f":"IF(ISERROR(Worksheet!P456)=FALSE,Worksheet!P456,\"\")","v":0},"Watts",null,null,{"$f":"IF(Worksheet!AP456<>\"\",IF(Worksheet!AP456>0,Worksheet!AP456/IF(Worksheet!M456>0,Worksheet!M456,Worksheet!L456),\"\"),\"\")","v":""},{"$f":"IF(ISBLANK(Worksheet!L456)=FALSE,Worksheet!L456,\"\")","v":0},{"$f":"IF(Worksheet!L456<>0, IFERROR(VLOOKUP(Worksheet!$C$16,SavingsSupportTable,3,FALSE)*Worksheet!AQ456*IFERROR(1+VLOOKUP(Worksheet!$C$16,SavingsSupportTable,MATCH(Worksheet!$G$17,HVACe_Options,0)+4,FALSE),1)/IF(Worksheet!M456>0,Worksheet!M456,Worksheet!L456),\"\"),\"\")","v":""},{"$f":"IF(Worksheet!L456<>0, IFERROR(VLOOKUP(Worksheet!$C$16,SavingsSupportTable,2,FALSE)*Worksheet!AQ456*IF(IFERROR(MATCH(Worksheet!$G$17,HVACe_Options,0),0)>0,1+VLOOKUP(Worksheet!$C$16,SavingsSupportTable,4,FALSE),1)/IF(Worksheet!M456>0,Worksheet!M456,Worksheet!L456),\"\"),\"\")","v":""},"",{"$f":"IF(Worksheet!L456<>0,IFERROR(VLOOKUP(Worksheet!$C$16,SavingsSupportTable,3,FALSE)*Worksheet!AQ456*IF(IFERROR(SEARCH(\"Gas\",Worksheet!$G$17),0)>0,VLOOKUP(\"Gas\",HVACg_Lookup,MATCH(Worksheet!$G$16,BuildingSize,0)+1,FALSE),IF(IFERROR(SEARCH(\"Oil\",Worksheet!$G$17),0)>0,VLOOKUP(\"Oil\",HVACg_Lookup,MATCH(Worksheet!$G$16,BuildingSize,0)+1,FALSE),IF(IFERROR(SEARCH(\"Propane\",Worksheet!$G$17),0)>0,VLOOKUP(\"Propane\",HVACg_Lookup,MATCH(Worksheet!$G$16,BuildingSize,0)+1,FALSE),0)))/IF(Worksheet!M456>0,Worksheet!M456,Worksheet!L456),0),\"\")","v":""},"",null,null,null,{"$f":"IF(ISBLANK(Worksheet!M456)=FALSE,Worksheet!M456,\"\")","v":0},{"$f":"IF(Worksheet!A456=\"-\",\"\",IF(Worksheet!A456=\"\",S432,Worksheet!A456))","v":""},{"$f":"IF(S433=\"\",\"\",IF(AND(Worksheet!G456=\"\",Worksheet!H456=\"\")=TRUE,T432,IF(Worksheet!G456=\"\",\"\",Worksheet!G456)))","v":""},{"$f":"IF(S433=\"\",\"\",IF(AND(Worksheet!G456=\"\",Worksheet!H456=\"\")=TRUE,U432,IF(Worksheet!H456=\"\",\"\",Worksheet!H456)))","v":""},{"$f":"IF(Worksheet!N456=\"\",\"\",Worksheet!N456)","v":""},{"$f":"IF(Worksheet!O456=\"\",\"\",Worksheet!O456)","v":""},{"$f":"IF(Worksheet!F456=0,\"\",Worksheet!F456)","v":""},{"$f":"IF(Worksheet!P456=0,\"\",Worksheet!P456)","v":""},{"$f":"IF(Worksheet!$A$11=TRUE,\"Y\",\"N\")","v":"N"},{"$f":"IF(Worksheet!$A$12=TRUE,\"Y\",\"N\")","v":"N"},{"$f":"IF(Worksheet!$B$11=TRUE,\"Y\",\"N\")","v":"N"},{"$f":"IF(Worksheet!$B$12=TRUE,\"Y\",\"N\")","v":"N"},{"$f":"IF(Worksheet!$C$11=TRUE,\"Y\",\"N\")","v":"N"},{"$f":"IF(Worksheet!$C$12=TRUE,\"Y\",\"N\")","v":"N"},""]
[{"$f":"IF(ISERROR(VLOOKUP(Worksheet!N457,MeasureLookup,2,FALSE))=FALSE,VLOOKUP(Worksheet!N457,MeasureLookup,2,FALSE),\"\")","v":""},{"$f":"Worksheet!Q457","v":0},{"$f":"Worksheet!R457","v":0},{"$f":"IF(ISERROR(Worksheet!P457)=FALSE,Worksheet!P457,\"\")","v":0},"Watts",null,null,{"$f":"IF(Worksheet!AP457<>\"\",IF(Worksheet!AP457>0,Worksheet!AP457/IF(Worksheet!M457>0,Worksheet!M457,Worksheet!L457),\"\"),\"\")","v":""},{"$f":"IF(ISBLANK(Worksheet!L457)=FALSE,Worksheet!L457,\"\")","v":0},{"$f":"IF(Worksheet!L457<>0, IFERROR(VLOOKUP(Worksheet!$C$16,SavingsSupportTable,3,FALSE)*Worksheet!AQ457*IFERROR(1+VLOOKUP(Worksheet!$C$16,SavingsSupportTable,MATCH(Worksheet!$G$17,HVACe_Options,0)+4,FALSE),1)/IF(Worksheet!M457>0,Worksheet!M457,Worksheet!L457),\"\"),\"\")","v":""},{"$f":"IF(Worksheet!L457<>0, IFERROR(VLOOKUP(Worksheet!$C$16,SavingsSupportTable,2,FALSE)*Worksheet!AQ457*IF(IFERROR(MATCH(Worksheet!$G$17,HVACe_Options,0),0)>0,1+VLOOKUP(Worksheet!$C$16,SavingsSupportTable,4,FALSE),1)/IF(Worksheet!M457>0,Worksheet!M457,Worksheet!L457),\"\"),\"\")","v":""},"",{"$f":"IF(Worksheet!L457<>0,IFERROR(VLOOKUP(Worksheet!$C$16,SavingsSupportTable,3,FALSE)*Worksheet!AQ457*IF(IFERROR(SEARCH(\"Gas\",Worksheet!$G$17),0)>0,VLOOKUP(\"Gas\",HVACg_Lookup,MATCH(Worksheet!$G$16,BuildingSize,0)+1,FALSE),IF(IFERROR(SEARCH(\"Oil\",Worksheet!$G$17),0)>0,VLOOKUP(\"Oil\",HVACg_Lookup,MATCH(Worksheet!$G$16,BuildingSize,0)+1,FALSE),IF(IFERROR(SEARCH(\"Propane\",Worksheet!$G$17),0)>0,VLOOKUP(\"Propane\",HVACg_Lookup,MATCH(Worksheet!$G$16,BuildingSize,0)+1,FALSE),0)))/IF(Worksheet!M457>0,Worksheet!M457,Worksheet!L457),0),\"\")","v":""},"",null,null,null,{"$f":"IF(ISBLANK(Worksheet!M457)=FALSE,Worksheet!M457,\"\")","v":0},{"$f":"IF(Worksheet!A457=\"-\",\"\",IF(Worksheet!A457=\"\",S433,Worksheet!A457))","v":""},{"$f":"IF(S434=\"\",\"\",IF(AND(Worksheet!G457=\"\",Worksheet!H457=\"\")=TRUE,T433,IF(Worksheet!G457=\"\",\"\",Worksheet!G457)))","v":""},{"$f":"IF(S434=\"\",\"\",IF(AND(Worksheet!G457=\"\",Worksheet!H457=\"\")=TRUE,U433,IF(Worksheet!H457=\"\",\"\",Worksheet!H457)))","v":""},{"$f":"IF(Worksheet!N457=\"\",\"\",Worksheet!N457)","v":""},{"$f":"IF(Worksheet!O457=\"\",\"\",Worksheet!O457)","v":""},{"$f":"IF(Worksheet!F457=0,\"\",Worksheet!F457)","v":""},{"$f":"IF(Worksheet!P457=0,\"\",Worksheet!P457)","v":""},{"$f":"IF(Worksheet!$A$11=TRUE,\"Y\",\"N\")","v":"N"},{"$f":"IF(Worksheet!$A$12=TRUE,\"Y\",\"N\")","v":"N"},{"$f":"IF(Worksheet!$B$11=TRUE,\"Y\",\"N\")","v":"N"},{"$f":"IF(Worksheet!$B$12=TRUE,\"Y\",\"N\")","v":"N"},{"$f":"IF(Worksheet!$C$11=TRUE,\"Y\",\"N\")","v":"N"},{"$f":"IF(Worksheet!$C$12=TRUE,\"Y\",\"N\")","v":"N"},""]
[{"$f":"IF(ISERROR(VLOOKUP(Worksheet!N458,MeasureLookup,2,FALSE))=FALSE,VLOOKUP(Worksheet!N458,MeasureLookup,2,FALSE),\"\")","v":""},{"$f":"Worksheet!Q458","v":0},{"$f":"Worksheet!R458","v":0},{"$f":"IF(ISERROR(Worksheet!P458)=FALSE,Worksheet!P458,\"\")","v":0},"Watts",null,null,{"$f":"IF(Worksheet!AP458<>\"\",IF(Worksheet!AP458>0,Worksheet!AP458/IF(Worksheet!M458>0,Worksheet!M458,Worksheet!L458),\"\"),\"\")","v":""},{"$f":"IF(ISBLANK(Worksheet!L458)=FALSE,Worksheet!L458,\"\")","v":0},{"$f":"IF(Worksheet!L458<>0, IFERROR(VLOOKUP(Worksheet!$C$16,SavingsSupportTable,3,FALSE)*Worksheet!AQ458*IFERROR(1+VLOOKUP(Worksheet!$C$16,SavingsSupportTable,MATCH(Worksheet!$G$17,HVACe_Options,0)+4,FALSE),1)/IF(Worksheet!M458>0,Worksheet!M458,Worksheet!L458),\"\"),\"\")","v":""},{"$f":"IF(Worksheet!L458<>0, IFERROR(VLOOKUP(Worksheet!$C$16,SavingsSupportTable,2,FALSE)*Worksheet!AQ458*IF(IFERROR(MATCH(Worksheet!$G$17,HVACe_Options,0),0)>0,1+VLOOKUP(Worksheet!$C$16,SavingsSupportTable,4,FALSE),1)/IF(Worksheet!M458>0,Worksheet!M458,Worksheet!L458),\"\"),\"\")","v":""},"",{"$f":"IF(Worksheet!L458<>0,IFERROR(VLOOKUP(Worksheet!$C$16,SavingsSupportTable,3,FALSE)*Worksheet!AQ458*IF(IFERROR(SEARCH(\"Gas\",Worksheet!$G$17),0)>0,VLOOKUP(\"Gas\",HVACg_Lookup,MATCH(Worksheet!$G$16,BuildingSize,0)+1,FALSE),IF(IFERROR(SEARCH(\"Oil\",Worksheet!$G$17),0)>0,VLOOKUP(\"Oil\",HVACg_Lookup,MATCH(Worksheet!$G$16,BuildingSize,0)+1,FALSE),IF(IFERROR(SEARCH(\"Propane\",Worksheet!$G$17),0)>0,VLOOKUP(\"Propane\",HVACg_Lookup,MATCH(Worksheet!$G$16,BuildingSize,0)+1,FALSE),0)))/IF(Worksheet!M458>0,Worksheet!M458,Worksheet!L458),0),\"\")","v":""},"",null,null,null,{"$f":"IF(ISBLANK(Worksheet!M458)=FALSE,Worksheet!M458,\"\")","v":0},{"$f":"IF(Worksheet!A458=\"-\",\"\",IF(Worksheet!A458=\"\",S434,Worksheet!A458))","v":""},{"$f":"IF(S435=\"\",\"\",IF(AND(Worksheet!G458=\"\",Worksheet!H458=\"\")=TRUE,T434,IF(Worksheet!G458=\"\",\"\",Worksheet!G458)))","v":""},{"$f":"IF(S435=\"\",\"\",IF(AND(Worksheet!G458=\"\",Worksheet!H458=\"\")=TRUE,U434,IF(Worksheet!H458=\"\",\"\",Worksheet!H458)))","v":""},{"$f":"IF(Worksheet!N458=\"\",\"\",Worksheet!N458)","v":""},{"$f":"IF(Worksheet!O458=\"\",\"\",Worksheet!O458)","v":""},{"$f":"IF(Worksheet!F458=0,\"\",Worksheet!F458)","v":""},{"$f":"IF(Worksheet!P458=0,\"\",Worksheet!P458)","v":""},{"$f":"IF(Worksheet!$A$11=TRUE,\"Y\",\"N\")","v":"N"},{"$f":"IF(Worksheet!$A$12=TRUE,\"Y\",\"N\")","v":"N"},{"$f":"IF(Worksheet!$B$11=TRUE,\"Y\",\"N\")","v":"N"},{"$f":"IF(Worksheet!$B$12=TRUE,\"Y\",\"N\")","v":"N"},{"$f":"IF(Worksheet!$C$11=TRUE,\"Y\",\"N\")","v":"N"},{"$f":"IF(Worksheet!$C$12=TRUE,\"Y\",\"N\")","v":"N"},""]
[{"$f":"IF(ISERROR(VLOOKUP(Worksheet!N459,MeasureLookup,2,FALSE))=FALSE,VLOOKUP(Worksheet!N459,MeasureLookup,2,FALSE),\"\")","v":""},{"$f":"Worksheet!Q459","v":0},{"$f":"Worksheet!R459","v":0},{"$f":"IF(ISERROR(Worksheet!P459)=FALSE,Worksheet!P459,\"\")","v":0},"Watts",null,null,{"$f":"IF(Worksheet!AP459<>\"\",IF(Worksheet!AP459>0,Worksheet!AP459/IF(Worksheet!M459>0,Worksheet!M459,Worksheet!L459),\"\"),\"\")","v":""},{"$f":"IF(ISBLANK(Worksheet!L459)=FALSE,Worksheet!L459,\"\")","v":0},{"$f":"IF(Worksheet!L459<>0, IFERROR(VLOOKUP(Worksheet!$C$16,SavingsSupportTable,3,FALSE)*Worksheet!AQ459*IFERROR(1+VLOOKUP(Worksheet!$C$16,SavingsSupportTable,MATCH(Worksheet!$G$17,HVACe_Options,0)+4,FALSE),1)/IF(Worksheet!M459>0,Worksheet!M459,Worksheet!L459),\"\"),\"\")","v":""},{"$f":"IF(Worksheet!L459<>0, IFERROR(VLOOKUP(Worksheet!$C$16,SavingsSupportTable,2,FALSE)*Worksheet!AQ459*IF(IFERROR(MATCH(Worksheet!$G$17,HVACe_Options,0),0)>0,1+VLOOKUP(Worksheet!$C$16,SavingsSupportTable,4,FALSE),1)/IF(Worksheet!M459>0,Worksheet!M459,Worksheet!L459),\"\"),\"\")","v":""},"",{"$f":"IF(Worksheet!L459<>0,IFERROR(VLOOKUP(Worksheet!$C$16,SavingsSupportTable,3,FALSE)*Worksheet!AQ459*IF(IFERROR(SEARCH(\"Gas\",Worksheet!$G$17),0)>0,VLOOKUP(\"Gas\",HVACg_Lookup,MATCH(Worksheet!$G$16,BuildingSize,0)+1,FALSE),IF(IFERROR(SEARCH(\"Oil\",Worksheet!$G$17),0)>0,VLOOKUP(\"Oil\",HVACg_Lookup,MATCH(Worksheet!$G$16,BuildingSize,0)+1,FALSE),IF(IFERROR(SEARCH(\"Propane\",Worksheet!$G$17),0)>0,VLOOKUP(\"Propane\",HVACg_Lookup,MATCH(Worksheet!$G$16,BuildingSize,0)+1,FALSE),0)))/IF(Worksheet!M459>0,Worksheet!M459,Worksheet!L459),0),\"\")","v":""},"",null,null,null,{"$f":"IF(ISBLANK(Worksheet!M459)=FALSE,Worksheet!M459,\"\")","v":0},{"$f":"IF(Worksheet!A459=\"-\",\"\",IF(Worksheet!A459=\"\",S435,Worksheet!A459))","v":""},{"$f":"IF(S436=\"\",\"\",IF(AND(Worksheet!G459=\"\",Worksheet!H459=\"\")=TRUE,T435,IF(Worksheet!G459=\"\",\"\",Worksheet!G459)))","v":""},{"$f":"IF(S436=\"\",\"\",IF(AND(Worksheet!G459=\"\",Worksheet!H459=\"\")=TRUE,U435,IF(Worksheet!H459=\"\",\"\",Worksheet!H459)))","v":""},{"$f":"IF(Worksheet!N459=\"\",\"\",Worksheet!N459)","v":""},{"$f":"IF(Worksheet!O459=\"\",\"\",Worksheet!O459)","v":""},{"$f":"IF(Worksheet!F459=0,\"\",Worksheet!F459)","v":""},{"$f":"IF(Worksheet!P459=0,\"\",Worksheet!P459)","v":""},{"$f":"IF(Worksheet!$A$11=TRUE,\"Y\",\"N\")","v":"N"},{"$f":"IF(Worksheet!$A$12=TRUE,\"Y\",\"N\")","v":"N"},{"$f":"IF(Worksheet!$B$11=TRUE,\"Y\",\"N\")","v":"N"},{"$f":"IF(Worksheet!$B$12=TRUE,\"Y\",\"N\")","v":"N"},{"$f":"IF(Worksheet!$C$11=TRUE,\"Y\",\"N\")","v":"N"},{"$f":"IF(Worksheet!$C$12=TRUE,\"Y\",\"N\")","v":"N"},""]
[{"$f":"IF(ISERROR(VLOOKUP(Worksheet!N460,MeasureLookup,2,FALSE))=FALSE,VLOOKUP(Worksheet!N460,MeasureLookup,2,FALSE),\"\")","v":""},{"$f":"Worksheet!Q460","v":0},{"$f":"Worksheet!R460","v":0},{"$f":"IF(ISERROR(Worksheet!P460)=FALSE,Worksheet!P460,\"\")","v":0},"Watts",null,null,{"$f":"IF(Worksheet!AP460<>\"\",IF(Worksheet!AP460>0,Worksheet!AP460/IF(Worksheet!M460>0,Worksheet!M460,Worksheet!L460),\"\"),\"\")","v":""},{"$f":"IF(ISBLANK(Worksheet!L460)=FALSE,Worksheet!L460,\"\")","v":0},{"$f":"IF(Worksheet!L460<>0, IFERROR(VLOOKUP(Worksheet!$C$16,SavingsSupportTable,3,FALSE)*Worksheet!AQ460*IFERROR(1+VLOOKUP(Worksheet!$C$16,SavingsSupportTable,MATCH(Worksheet!$G$17,HVACe_Options,0)+4,FALSE),1)/IF(Worksheet!M460>0,Worksheet!M460,Worksheet!L460),\"\"),\"\")","v":""},{"$f":"IF(Worksheet!L460<>0, IFERROR(VLOOKUP(Worksheet!$C$16,SavingsSupportTable,2,FALSE)*Worksheet!AQ460*IF(IFERROR(MATCH(Worksheet!$G$17,HVACe_Options,0),0)>0,1+VLOOKUP(Worksheet!$C$16,SavingsSupportTable,4,FALSE),1)/IF(Worksheet!M460>0,Worksheet!M460,Worksheet!L460),\"\"),\"\")","v":""},"",{"$f":"IF(Worksheet!L460<>0,IFERROR(VLOOKUP(Worksheet!$C$16,SavingsSupportTable,3,FALSE)*Worksheet!AQ460*IF(IFERROR(SEARCH(\"Gas\",Worksheet!$G$17),0)>0,VLOOKUP(\"Gas\",HVACg_Lookup,MATCH(Worksheet!$G$16,BuildingSize,0)+1,FALSE),IF(IFERROR(SEARCH(\"Oil\",Worksheet!$G$17),0)>0,VLOOKUP(\"Oil\",HVACg_Lookup,MATCH(Worksheet!$G$16,BuildingSize,0)+1,FALSE),IF(IFERROR(SEARCH(\"Propane\",Worksheet!$G$17),0)>0,VLOOKUP(\"Propane\",HVACg_Lookup,MATCH(Worksheet!$G$16,BuildingSize,0)+1,FALSE),0)))/IF(Worksheet!M460>0,Worksheet!M460,Worksheet!L460),0),\"\")","v":""},"",null,null,null,{"$f":"IF(ISBLANK(Worksheet!M460)=FALSE,Worksheet!M460,\"\")","v":0},{"$f":"IF(Worksheet!A460=\"-\",\"\",IF(Worksheet!A460=\"\",S436,Worksheet!A460))","v":""},{"$f":"IF(S437=\"\",\"\",IF(AND(Worksheet!G460=\"\",Worksheet!H460=\"\")=TRUE,T436,IF(Worksheet!G460=\"\",\"\",Worksheet!G460)))","v":""},{"$f":"IF(S437=\"\",\"\",IF(AND(Worksheet!G460=\"\",Worksheet!H460=\"\")=TRUE,U436,IF(Worksheet!H460=\"\",\"\",Worksheet!H460)))","v":""},{"$f":"IF(Worksheet!N460=\"\",\"\",Worksheet!N460)","v":""},{"$f":"IF(Worksheet!O460=\"\",\"\",Worksheet!O460)","v":""},{"$f":"IF(Worksheet!F460=0,\"\",Worksheet!F460)","v":""},{"$f":"IF(Worksheet!P460=0,\"\",Worksheet!P460)","v":""},{"$f":"IF(Worksheet!$A$11=TRUE,\"Y\",\"N\")","v":"N"},{"$f":"IF(Worksheet!$A$12=TRUE,\"Y\",\"N\")","v":"N"},{"$f":"IF(Worksheet!$B$11=TRUE,\"Y\",\"N\")","v":"N"},{"$f":"IF(Worksheet!$B$12=TRUE,\"Y\",\"N\")","v":"N"},{"$f":"IF(Worksheet!$C$11=TRUE,\"Y\",\"N\")","v":"N"},{"$f":"IF(Worksheet!$C$12=TRUE,\"Y\",\"N\")","v":"N"},""]
[{"$f":"IF(ISERROR(VLOOKUP(Worksheet!N461,MeasureLookup,2,FALSE))=FALSE,VLOOKUP(Worksheet!N461,MeasureLookup,2,FALSE),\"\")","v":""},{"$f":"Worksheet!Q461","v":0},{"$f":"Worksheet!R461","v":0},{"$f":"IF(ISERROR(Worksheet!P461)=FALSE,Worksheet!P461,\"\")","v":0},"Watts",null,null,{"$f":"IF(Worksheet!AP461<>\"\",IF(Worksheet!AP461>0,Worksheet!AP461/IF(Worksheet!M461>0,Worksheet!M461,Worksheet!L461),\"\"),\"\")","v":""},{"$f":"IF(ISBLANK(Worksheet!L461)=FALSE,Worksheet!L461,\"\")","v":0},{"$f":"IF(Worksheet!L461<>0, IFERROR(VLOOKUP(Worksheet!$C$16,SavingsSupportTable,3,FALSE)*Worksheet!AQ461*IFERROR(1+VLOOKUP(Worksheet!$C$16,SavingsSupportTable,MATCH(Worksheet!$G$17,HVACe_Options,0)+4,FALSE),1)/IF(Worksheet!M461>0,Worksheet!M461,Worksheet!L461),\"\"),\"\")","v":""},{"$f":"IF(Worksheet!L461<>0, IFERROR(VLOOKUP(Worksheet!$C$16,SavingsSupportTable,2,FALSE)*Worksheet!AQ461*IF(IFERROR(MATCH(Worksheet!$G$17,HVACe_Options,0),0)>0,1+VLOOKUP(Worksheet!$C$16,SavingsSupportTable,4,FALSE),1)/IF(Worksheet!M461>0,Worksheet!M461,Worksheet!L461),\"\"),\"\")","v":""},"",{"$f":"IF(Worksheet!L461<>0,IFERROR(VLOOKUP(Worksheet!$C$16,SavingsSupportTable,3,FALSE)*Worksheet!AQ461*IF(IFERROR(SEARCH(\"Gas\",Worksheet!$G$17),0)>0,VLOOKUP(\"Gas\",HVACg_Lookup,MATCH(Worksheet!$G$16,BuildingSize,0)+1,FALSE),IF(IFERROR(SEARCH(\"Oil\",Worksheet!$G$17),0)>0,VLOOKUP(\"Oil\",HVACg_Lookup,MATCH(Worksheet!$G$16,BuildingSize,0)+1,FALSE),IF(IFERROR(SEARCH(\"Propane\",Worksheet!$G$17),0)>0,VLOOKUP(\"Propane\",HVACg_Lookup,MATCH(Worksheet!$G$16,BuildingSize,0)+1,FALSE),0)))/IF(Worksheet!M461>0,Worksheet!M461,Worksheet!L461),0),\"\")","v":""},"",null,null,null,{"$f":"IF(ISBLANK(Worksheet!M461)=FALSE,Worksheet!M461,\"\")","v":0},{"$f":"IF(Worksheet!A461=\"-\",\"\",IF(Worksheet!A461=\"\",S437,Worksheet!A461))","v":""},{"$f":"IF(S438=\"\",\"\",IF(AND(Worksheet!G461=\"\",Worksheet!H461=\"\")=TRUE,T437,IF(Worksheet!G461=\"\",\"\",Worksheet!G461)))","v":""},{"$f":"IF(S438=\"\",\"\",IF(AND(Worksheet!G461=\"\",Worksheet!H461=\"\")=TRUE,U437,IF(Worksheet!H461=\"\",\"\",Worksheet!H461)))","v":""},{"$f":"IF(Worksheet!N461=\"\",\"\",Worksheet!N461)","v":""},{"$f":"IF(Worksheet!O461=\"\",\"\",Worksheet!O461)","v":""},{"$f":"IF(Worksheet!F461=0,\"\",Worksheet!F461)","v":""},{"$f":"IF(Worksheet!P461=0,\"\",Worksheet!P461)","v":""},{"$f":"IF(Worksheet!$A$11=TRUE,\"Y\",\"N\")","v":"N"},{"$f":"IF(Worksheet!$A$12=TRUE,\"Y\",\"N\")","v":"N"},{"$f":"IF(Worksheet!$B$11=TRUE,\"Y\",\"N\")","v":"N"},{"$f":"IF(Worksheet!$B$12=TRUE,\"Y\",\"N\")","v":"N"},{"$f":"IF(Worksheet!$C$11=TRUE,\"Y\",\"N\")","v":"N"},{"$f":"IF(Worksheet!$C$12=TRUE,\"Y\",\"N\")","v":"N"},""]
[{"$f":"IF(ISERROR(VLOOKUP(Worksheet!N462,MeasureLookup,2,FALSE))=FALSE,VLOOKUP(Worksheet!N462,MeasureLookup,2,FALSE),\"\")","v":""},{"$f":"Worksheet!Q462","v":0},{"$f":"Worksheet!R462","v":0},{"$f":"IF(ISERROR(Worksheet!P462)=FALSE,Worksheet!P462,\"\")","v":0},"Watts",null,null,{"$f":"IF(Worksheet!AP462<>\"\",IF(Worksheet!AP462>0,Worksheet!AP462/IF(Worksheet!M462>0,Worksheet!M462,Worksheet!L462),\"\"),\"\")","v":""},{"$f":"IF(ISBLANK(Worksheet!L462)=FALSE,Worksheet!L462,\"\")","v":0},{"$f":"IF(Worksheet!L462<>0, IFERROR(VLOOKUP(Worksheet!$C$16,SavingsSupportTable,3,FALSE)*Worksheet!AQ462*IFERROR(1+VLOOKUP(Worksheet!$C$16,SavingsSupportTable,MATCH(Worksheet!$G$17,HVACe_Options,0)+4,FALSE),1)/IF(Worksheet!M462>0,Worksheet!M462,Worksheet!L462),\"\"),\"\")","v":""},{"$f":"IF(Worksheet!L462<>0, IFERROR(VLOOKUP(Worksheet!$C$16,SavingsSupportTable,2,FALSE)*Worksheet!AQ462*IF(IFERROR(MATCH(Worksheet!$G$17,HVACe_Options,0),0)>0,1+VLOOKUP(Worksheet!$C$16,SavingsSupportTable,4,FALSE),1)/IF(Worksheet!M462>0,Worksheet!M462,Worksheet!L462),\"\"),\"\")","v":""},"",{"$f":"IF(Worksheet!L462<>0,IFERROR(VLOOKUP(Worksheet!$C$16,SavingsSupportTable,3,FALSE)*Worksheet!AQ462*IF(IFERROR(SEARCH(\"Gas\",Worksheet!$G$17),0)>0,VLOOKUP(\"Gas\",HVACg_Lookup,MATCH(Worksheet!$G$16,BuildingSize,0)+1,FALSE),IF(IFERROR(SEARCH(\"Oil\",Worksheet!$G$17),0)>0,VLOOKUP(\"Oil\",HVACg_Lookup,MATCH(Worksheet!$G$16,BuildingSize,0)+1,FALSE),IF(IFERROR(SEARCH(\"Propane\",Worksheet!$G$17),0)>0,VLOOKUP(\"Propane\",HVACg_Lookup,MATCH(Worksheet!$G$16,BuildingSize,0)+1,FALSE),0)))/IF(Worksheet!M462>0,Worksheet!M462,Worksheet!L462),0),\"\")","v":""},"",null,null,null,{"$f":"IF(ISBLANK(Worksheet!M462)=FALSE,Worksheet!M462,\"\")","v":0},{"$f":"IF(Worksheet!A462=\"-\",\"\",IF(Worksheet!A462=\"\",S438,Worksheet!A462))","v":""},{"$f":"IF(S439=\"\",\"\",IF(AND(Worksheet!G462=\"\",Worksheet!H462=\"\")=TRUE,T438,IF(Worksheet!G462=\"\",\"\",Worksheet!G462)))","v":""},{"$f":"IF(S439=\"\",\"\",IF(AND(Worksheet!G462=\"\",Worksheet!H462=\"\")=TRUE,U438,IF(Worksheet!H462=\"\",\"\",Worksheet!H462)))","v":""},{"$f":"IF(Worksheet!N462=\"\",\"\",Worksheet!N462)","v":""},{"$f":"IF(Worksheet!O462=\"\",\"\",Worksheet!O462)","v":""},{"$f":"IF(Worksheet!F462=0,\"\",Worksheet!F462)","v":""},{"$f":"IF(Worksheet!P462=0,\"\",Worksheet!P462)","v":""},{"$f":"IF(Worksheet!$A$11=TRUE,\"Y\",\"N\")","v":"N"},{"$f":"IF(Worksheet!$A$12=TRUE,\"Y\",\"N\")","v":"N"},{"$f":"IF(Worksheet!$B$11=TRUE,\"Y\",\"N\")","v":"N"},{"$f":"IF(Worksheet!$B$12=TRUE,\"Y\",\"N\")","v":"N"},{"$f":"IF(Worksheet!$C$11=TRUE,\"Y\",\"N\")","v":"N"},{"$f":"IF(Worksheet!$C$12=TRUE,\"Y\",\"N\")","v":"N"},""]
[{"$f":"IF(ISERROR(VLOOKUP(Worksheet!N463,MeasureLookup,2,FALSE))=FALSE,VLOOKUP(Worksheet!N463,MeasureLookup,2,FALSE),\"\")","v":""},{"$f":"Worksheet!Q463","v":0},{"$f":"Worksheet!R463","v":0},{"$f":"IF(ISERROR(Worksheet!P463)=FALSE,Worksheet!P463,\"\")","v":0},"Watts",null,null,{"$f":"IF(Worksheet!AP463<>\"\",IF(Worksheet!AP463>0,Worksheet!AP463/IF(Worksheet!M463>0,Worksheet!M463,Worksheet!L463),\"\"),\"\")","v":""},{"$f":"IF(ISBLANK(Worksheet!L463)=FALSE,Worksheet!L463,\"\")","v":0},{"$f":"IF(Worksheet!L463<>0, IFERROR(VLOOKUP(Worksheet!$C$16,SavingsSupportTable,3,FALSE)*Worksheet!AQ463*IFERROR(1+VLOOKUP(Worksheet!$C$16,SavingsSupportTable,MATCH(Worksheet!$G$17,HVACe_Options,0)+4,FALSE),1)/IF(Worksheet!M463>0,Worksheet!M463,Worksheet!L463),\"\"),\"\")","v":""},{"$f":"IF(Worksheet!L463<>0, IFERROR(VLOOKUP(Worksheet!$C$16,SavingsSupportTable,2,FALSE)*Worksheet!AQ463*IF(IFERROR(MATCH(Worksheet!$G$17,HVACe_Options,0),0)>0,1+VLOOKUP(Worksheet!$C$16,SavingsSupportTable,4,FALSE),1)/IF(Worksheet!M463>0,Worksheet!M463,Worksheet!L463),\"\"),\"\")","v":""},"",{"$f":"IF(Worksheet!L463<>0,IFERROR(VLOOKUP(Worksheet!$C$16,SavingsSupportTable,3,FALSE)*Worksheet!AQ463*IF(IFERROR(SEARCH(\"Gas\",Worksheet!$G$17),0)>0,VLOOKUP(\"Gas\",HVACg_Lookup,MATCH(Worksheet!$G$16,BuildingSize,0)+1,FALSE),IF(IFERROR(SEARCH(\"Oil\",Worksheet!$G$17),0)>0,VLOOKUP(\"Oil\",HVACg_Lookup,MATCH(Worksheet!$G$16,BuildingSize,0)+1,FALSE),IF(IFERROR(SEARCH(\"Propane\",Worksheet!$G$17),0)>0,VLOOKUP(\"Propane\",HVACg_Lookup,MATCH(Worksheet!$G$16,BuildingSize,0)+1,FALSE),0)))/IF(Worksheet!M463>0,Worksheet!M463,Worksheet!L463),0),\"\")","v":""},"",null,null,null,{"$f":"IF(ISBLANK(Worksheet!M463)=FALSE,Worksheet!M463,\"\")","v":0},{"$f":"IF(Worksheet!A463=\"-\",\"\",IF(Worksheet!A463=\"\",S439,Worksheet!A463))","v":""},{"$f":"IF(S440=\"\",\"\",IF(AND(Worksheet!G463=\"\",Worksheet!H463=\"\")=TRUE,T439,IF(Worksheet!G463=\"\",\"\",Worksheet!G463)))","v":""},{"$f":"IF(S440=\"\",\"\",IF(AND(Worksheet!G463=\"\",Worksheet!H463=\"\")=TRUE,U439,IF(Worksheet!H463=\"\",\"\",Worksheet!H463)))","v":""},{"$f":"IF(Worksheet!N463=\"\",\"\",Worksheet!N463)","v":""},{"$f":"IF(Worksheet!O463=\"\",\"\",Worksheet!O463)","v":""},{"$f":"IF(Worksheet!F463=0,\"\",Worksheet!F463)","v":""},{"$f":"IF(Worksheet!P463=0,\"\",Worksheet!P463)","v":""},{"$f":"IF(Worksheet!$A$11=TRUE,\"Y\",\"N\")","v":"N"},{"$f":"IF(Worksheet!$A$12=TRUE,\"Y\",\"N\")","v":"N"},{"$f":"IF(Worksheet!$B$11=TRUE,\"Y\",\"N\")","v":"N"},{"$f":"IF(Worksheet!$B$12=TRUE,\"Y\",\"N\")","v":"N"},{"$f":"IF(Worksheet!$C$11=TRUE,\"Y\",\"N\")","v":"N"},{"$f":"IF(Worksheet!$C$12=TRUE,\"Y\",\"N\")","v":"N"},""]
[{"$f":"IF(ISERROR(VLOOKUP(Worksheet!N464,MeasureLookup,2,FALSE))=FALSE,VLOOKUP(Worksheet!N464,MeasureLookup,2,FALSE),\"\")","v":""},{"$f":"Worksheet!Q464","v":0},{"$f":"Worksheet!R464","v":0},{"$f":"IF(ISERROR(Worksheet!P464)=FALSE,Worksheet!P464,\"\")","v":0},"Watts",null,null,{"$f":"IF(Worksheet!AP464<>\"\",IF(Worksheet!AP464>0,Worksheet!AP464/IF(Worksheet!M464>0,Worksheet!M464,Worksheet!L464),\"\"),\"\")","v":""},{"$f":"IF(ISBLANK(Worksheet!L464)=FALSE,Worksheet!L464,\"\")","v":0},{"$f":"IF(Worksheet!L464<>0, IFERROR(VLOOKUP(Worksheet!$C$16,SavingsSupportTable,3,FALSE)*Worksheet!AQ464*IFERROR(1+VLOOKUP(Worksheet!$C$16,SavingsSupportTable,MATCH(Worksheet!$G$17,HVACe_Options,0)+4,FALSE),1)/IF(Worksheet!M464>0,Worksheet!M464,Worksheet!L464),\"\"),\"\")","v":""},{"$f":"IF(Worksheet!L464<>0, IFERROR(VLOOKUP(Worksheet!$C$16,SavingsSupportTable,2,FALSE)*Worksheet!AQ464*IF(IFERROR(MATCH(Worksheet!$G$17,HVACe_Options,0),0)>0,1+VLOOKUP(Worksheet!$C$16,SavingsSupportTable,4,FALSE),1)/IF(Worksheet!M464>0,Worksheet!M464,Worksheet!L464),\"\"),\"\")","v":""},"",{"$f":"IF(Worksheet!L464<>0,IFERROR(VLOOKUP(Worksheet!$C$16,SavingsSupportTable,3,FALSE)*Worksheet!AQ464*IF(IFERROR(SEARCH(\"Gas\",Worksheet!$G$17),0)>0,VLOOKUP(\"Gas\",HVACg_Lookup,MATCH(Worksheet!$G$16,BuildingSize,0)+1,FALSE),IF(IFERROR(SEARCH(\"Oil\",Worksheet!$G$17),0)>0,VLOOKUP(\"Oil\",HVACg_Lookup,MATCH(Worksheet!$G$16,BuildingSize,0)+1,FALSE),IF(IFERROR(SEARCH(\"Propane\",Worksheet!$G$17),0)>0,VLOOKUP(\"Propane\",HVACg_Lookup,MATCH(Worksheet!$G$16,BuildingSize,0)+1,FALSE),0)))/IF(Worksheet!M464>0,Worksheet!M464,Worksheet!L464),0),\"\")","v":""},"",null,null,null,{"$f":"IF(ISBLANK(Worksheet!M464)=FALSE,Worksheet!M464,\"\")","v":0},{"$f":"IF(Worksheet!A464=\"-\",\"\",IF(Worksheet!A464=\"\",S440,Worksheet!A464))","v":""},{"$f":"IF(S441=\"\",\"\",IF(AND(Worksheet!G464=\"\",Worksheet!H464=\"\")=TRUE,T440,IF(Worksheet!G464=\"\",\"\",Worksheet!G464)))","v":""},{"$f":"IF(S441=\"\",\"\",IF(AND(Worksheet!G464=\"\",Worksheet!H464=\"\")=TRUE,U440,IF(Worksheet!H464=\"\",\"\",Worksheet!H464)))","v":""},{"$f":"IF(Worksheet!N464=\"\",\"\",Worksheet!N464)","v":""},{"$f":"IF(Worksheet!O464=\"\",\"\",Worksheet!O464)","v":""},{"$f":"IF(Worksheet!F464=0,\"\",Worksheet!F464)","v":""},{"$f":"IF(Worksheet!P464=0,\"\",Worksheet!P464)","v":""},{"$f":"IF(Worksheet!$A$11=TRUE,\"Y\",\"N\")","v":"N"},{"$f":"IF(Worksheet!$A$12=TRUE,\"Y\",\"N\")","v":"N"},{"$f":"IF(Worksheet!$B$11=TRUE,\"Y\",\"N\")","v":"N"},{"$f":"IF(Worksheet!$B$12=TRUE,\"Y\",\"N\")","v":"N"},{"$f":"IF(Worksheet!$C$11=TRUE,\"Y\",\"N\")","v":"N"},{"$f":"IF(Worksheet!$C$12=TRUE,\"Y\",\"N\")","v":"N"},""]
[{"$f":"IF(ISERROR(VLOOKUP(Worksheet!N465,MeasureLookup,2,FALSE))=FALSE,VLOOKUP(Worksheet!N465,MeasureLookup,2,FALSE),\"\")","v":""},{"$f":"Worksheet!Q465","v":0},{"$f":"Worksheet!R465","v":0},{"$f":"IF(ISERROR(Worksheet!P465)=FALSE,Worksheet!P465,\"\")","v":0},"Watts",null,null,{"$f":"IF(Worksheet!AP465<>\"\",IF(Worksheet!AP465>0,Worksheet!AP465/IF(Worksheet!M465>0,Worksheet!M465,Worksheet!L465),\"\"),\"\")","v":""},{"$f":"IF(ISBLANK(Worksheet!L465)=FALSE,Worksheet!L465,\"\")","v":0},{"$f":"IF(Worksheet!L465<>0, IFERROR(VLOOKUP(Worksheet!$C$16,SavingsSupportTable,3,FALSE)*Worksheet!AQ465*IFERROR(1+VLOOKUP(Worksheet!$C$16,SavingsSupportTable,MATCH(Worksheet!$G$17,HVACe_Options,0)+4,FALSE),1)/IF(Worksheet!M465>0,Worksheet!M465,Worksheet!L465),\"\"),\"\")","v":""},{"$f":"IF(Worksheet!L465<>0, IFERROR(VLOOKUP(Worksheet!$C$16,SavingsSupportTable,2,FALSE)*Worksheet!AQ465*IF(IFERROR(MATCH(Worksheet!$G$17,HVACe_Options,0),0)>0,1+VLOOKUP(Worksheet!$C$16,SavingsSupportTable,4,FALSE),1)/IF(Worksheet!M465>0,Worksheet!M465,Worksheet!L465),\"\"),\"\")","v":""},"",{"$f":"IF(Worksheet!L465<>0,IFERROR(VLOOKUP(Worksheet!$C$16,SavingsSupportTable,3,FALSE)*Worksheet!AQ465*IF(IFERROR(SEARCH(\"Gas\",Worksheet!$G$17),0)>0,VLOOKUP(\"Gas\",HVACg_Lookup,MATCH(Worksheet!$G$16,BuildingSize,0)+1,FALSE),IF(IFERROR(SEARCH(\"Oil\",Worksheet!$G$17),0)>0,VLOOKUP(\"Oil\",HVACg_Lookup,MATCH(Worksheet!$G$16,BuildingSize,0)+1,FALSE),IF(IFERROR(SEARCH(\"Propane\",Worksheet!$G$17),0)>0,VLOOKUP(\"Propane\",HVACg_Lookup,MATCH(Worksheet!$G$16,BuildingSize,0)+1,FALSE),0)))/IF(Worksheet!M465>0,Worksheet!M465,Worksheet!L465),0),\"\")","v":""},"",null,null,null,{"$f":"IF(ISBLANK(Worksheet!M465)=FALSE,Worksheet!M465,\"\")","v":0},{"$f":"IF(Worksheet!A465=\"-\",\"\",IF(Worksheet!A465=\"\",S441,Worksheet!A465))","v":""},{"$f":"IF(S442=\"\",\"\",IF(AND(Worksheet!G465=\"\",Worksheet!H465=\"\")=TRUE,T441,IF(Worksheet!G465=\"\",\"\",Worksheet!G465)))","v":""},{"$f":"IF(S442=\"\",\"\",IF(AND(Worksheet!G465=\"\",Worksheet!H465=\"\")=TRUE,U441,IF(Worksheet!H465=\"\",\"\",Worksheet!H465)))","v":""},{"$f":"IF(Worksheet!N465=\"\",\"\",Worksheet!N465)","v":""},{"$f":"IF(Worksheet!O465=\"\",\"\",Worksheet!O465)","v":""},{"$f":"IF(Worksheet!F465=0,\"\",Worksheet!F465)","v":""},{"$f":"IF(Worksheet!P465=0,\"\",Worksheet!P465)","v":""},{"$f":"IF(Worksheet!$A$11=TRUE,\"Y\",\"N\")","v":"N"},{"$f":"IF(Worksheet!$A$12=TRUE,\"Y\",\"N\")","v":"N"},{"$f":"IF(Worksheet!$B$11=TRUE,\"Y\",\"N\")","v":"N"},{"$f":"IF(Worksheet!$B$12=TRUE,\"Y\",\"N\")","v":"N"},{"$f":"IF(Worksheet!$C$11=TRUE,\"Y\",\"N\")","v":"N"},{"$f":"IF(Worksheet!$C$12=TRUE,\"Y\",\"N\")","v":"N"},""]
[{"$f":"IF(ISERROR(VLOOKUP(Worksheet!N466,MeasureLookup,2,FALSE))=FALSE,VLOOKUP(Worksheet!N466,MeasureLookup,2,FALSE),\"\")","v":""},{"$f":"Worksheet!Q466","v":0},{"$f":"Worksheet!R466","v":0},{"$f":"IF(ISERROR(Worksheet!P466)=FALSE,Worksheet!P466,\"\")","v":0},"Watts",null,null,{"$f":"IF(Worksheet!AP466<>\"\",IF(Worksheet!AP466>0,Worksheet!AP466/IF(Worksheet!M466>0,Worksheet!M466,Worksheet!L466),\"\"),\"\")","v":""},{"$f":"IF(ISBLANK(Worksheet!L466)=FALSE,Worksheet!L466,\"\")","v":0},{"$f":"IF(Worksheet!L466<>0, IFERROR(VLOOKUP(Worksheet!$C$16,SavingsSupportTable,3,FALSE)*Worksheet!AQ466*IFERROR(1+VLOOKUP(Worksheet!$C$16,SavingsSupportTable,MATCH(Worksheet!$G$17,HVACe_Options,0)+4,FALSE),1)/IF(Worksheet!M466>0,Worksheet!M466,Worksheet!L466),\"\"),\"\")","v":""},{"$f":"IF(Worksheet!L466<>0, IFERROR(VLOOKUP(Worksheet!$C$16,SavingsSupportTable,2,FALSE)*Worksheet!AQ466*IF(IFERROR(MATCH(Worksheet!$G$17,HVACe_Options,0),0)>0,1+VLOOKUP(Worksheet!$C$16,SavingsSupportTable,4,FALSE),1)/IF(Worksheet!M466>0,Worksheet!M466,Worksheet!L466),\"\"),\"\")","v":""},"",{"$f":"IF(Worksheet!L466<>0,IFERROR(VLOOKUP(Worksheet!$C$16,SavingsSupportTable,3,FALSE)*Worksheet!AQ466*IF(IFERROR(SEARCH(\"Gas\",Worksheet!$G$17),0)>0,VLOOKUP(\"Gas\",HVACg_Lookup,MATCH(Worksheet!$G$16,BuildingSize,0)+1,FALSE),IF(IFERROR(SEARCH(\"Oil\",Worksheet!$G$17),0)>0,VLOOKUP(\"Oil\",HVACg_Lookup,MATCH(Worksheet!$G$16,BuildingSize,0)+1,FALSE),IF(IFERROR(SEARCH(\"Propane\",Worksheet!$G$17),0)>0,VLOOKUP(\"Propane\",HVACg_Lookup,MATCH(Worksheet!$G$16,BuildingSize,0)+1,FALSE),0)))/IF(Worksheet!M466>0,Worksheet!M466,Worksheet!L466),0),\"\")","v":""},"",null,null,null,{"$f":"IF(ISBLANK(Worksheet!M466)=FALSE,Worksheet!M466,\"\")","v":0},{"$f":"IF(Worksheet!A466=\"-\",\"\",IF(Worksheet!A466=\"\",S442,Worksheet!A466))","v":""},{"$f":"IF(S443=\"\",\"\",IF(AND(Worksheet!G466=\"\",Worksheet!H466=\"\")=TRUE,T442,IF(Worksheet!G466=\"\",\"\",Worksheet!G466)))","v":""},{"$f":"IF(S443=\"\",\"\",IF(AND(Worksheet!G466=\"\",Worksheet!H466=\"\")=TRUE,U442,IF(Worksheet!H466=\"\",\"\",Worksheet!H466)))","v":""},{"$f":"IF(Worksheet!N466=\"\",\"\",Worksheet!N466)","v":""},{"$f":"IF(Worksheet!O466=\"\",\"\",Worksheet!O466)","v":""},{"$f":"IF(Worksheet!F466=0,\"\",Worksheet!F466)","v":""},{"$f":"IF(Worksheet!P466=0,\"\",Worksheet!P466)","v":""},{"$f":"IF(Worksheet!$A$11=TRUE,\"Y\",\"N\")","v":"N"},{"$f":"IF(Worksheet!$A$12=TRUE,\"Y\",\"N\")","v":"N"},{"$f":"IF(Worksheet!$B$11=TRUE,\"Y\",\"N\")","v":"N"},{"$f":"IF(Worksheet!$B$12=TRUE,\"Y\",\"N\")","v":"N"},{"$f":"IF(Worksheet!$C$11=TRUE,\"Y\",\"N\")","v":"N"},{"$f":"IF(Worksheet!$C$12=TRUE,\"Y\",\"N\")","v":"N"},""]
[{"$f":"IF(ISERROR(VLOOKUP(Worksheet!N467,MeasureLookup,2,FALSE))=FALSE,VLOOKUP(Worksheet!N467,MeasureLookup,2,FALSE),\"\")","v":""},{"$f":"Worksheet!Q467","v":0},{"$f":"Worksheet!R467","v":0},{"$f":"IF(ISERROR(Worksheet!P467)=FALSE,Worksheet!P467,\"\")","v":0},"Watts",null,null,{"$f":"IF(Worksheet!AP467<>\"\",IF(Worksheet!AP467>0,Worksheet!AP467/IF(Worksheet!M467>0,Worksheet!M467,Worksheet!L467),\"\"),\"\")","v":""},{"$f":"IF(ISBLANK(Worksheet!L467)=FALSE,Worksheet!L467,\"\")","v":0},{"$f":"IF(Worksheet!L467<>0, IFERROR(VLOOKUP(Worksheet!$C$16,SavingsSupportTable,3,FALSE)*Worksheet!AQ467*IFERROR(1+VLOOKUP(Worksheet!$C$16,SavingsSupportTable,MATCH(Worksheet!$G$17,HVACe_Options,0)+4,FALSE),1)/IF(Worksheet!M467>0,Worksheet!M467,Worksheet!L467),\"\"),\"\")","v":""},{"$f":"IF(Worksheet!L467<>0, IFERROR(VLOOKUP(Worksheet!$C$16,SavingsSupportTable,2,FALSE)*Worksheet!AQ467*IF(IFERROR(MATCH(Worksheet!$G$17,HVACe_Options,0),0)>0,1+VLOOKUP(Worksheet!$C$16,SavingsSupportTable,4,FALSE),1)/IF(Worksheet!M467>0,Worksheet!M467,Worksheet!L467),\"\"),\"\")","v":""},"",{"$f":"IF(Worksheet!L467<>0,IFERROR(VLOOKUP(Worksheet!$C$16,SavingsSupportTable,3,FALSE)*Worksheet!AQ467*IF(IFERROR(SEARCH(\"Gas\",Worksheet!$G$17),0)>0,VLOOKUP(\"Gas\",HVACg_Lookup,MATCH(Worksheet!$G$16,BuildingSize,0)+1,FALSE),IF(IFERROR(SEARCH(\"Oil\",Worksheet!$G$17),0)>0,VLOOKUP(\"Oil\",HVACg_Lookup,MATCH(Worksheet!$G$16,BuildingSize,0)+1,FALSE),IF(IFERROR(SEARCH(\"Propane\",Worksheet!$G$17),0)>0,VLOOKUP(\"Propane\",HVACg_Lookup,MATCH(Worksheet!$G$16,BuildingSize,0)+1,FALSE),0)))/IF(Worksheet!M467>0,Worksheet!M467,Worksheet!L467),0),\"\")","v":""},"",null,null,null,{"$f":"IF(ISBLANK(Worksheet!M467)=FALSE,Worksheet!M467,\"\")","v":0},{"$f":"IF(Worksheet!A467=\"-\",\"\",IF(Worksheet!A467=\"\",S443,Worksheet!A467))","v":""},{"$f":"IF(S444=\"\",\"\",IF(AND(Worksheet!G467=\"\",Worksheet!H467=\"\")=TRUE,T443,IF(Worksheet!G467=\"\",\"\",Worksheet!G467)))","v":""},{"$f":"IF(S444=\"\",\"\",IF(AND(Worksheet!G467=\"\",Worksheet!H467=\"\")=TRUE,U443,IF(Worksheet!H467=\"\",\"\",Worksheet!H467)))","v":""},{"$f":"IF(Worksheet!N467=\"\",\"\",Worksheet!N467)","v":""},{"$f":"IF(Worksheet!O467=\"\",\"\",Worksheet!O467)","v":""},{"$f":"IF(Worksheet!F467=0,\"\",Worksheet!F467)","v":""},{"$f":"IF(Worksheet!P467=0,\"\",Worksheet!P467)","v":""},{"$f":"IF(Worksheet!$A$11=TRUE,\"Y\",\"N\")","v":"N"},{"$f":"IF(Worksheet!$A$12=TRUE,\"Y\",\"N\")","v":"N"},{"$f":"IF(Worksheet!$B$11=TRUE,\"Y\",\"N\")","v":"N"},{"$f":"IF(Worksheet!$B$12=TRUE,\"Y\",\"N\")","v":"N"},{"$f":"IF(Worksheet!$C$11=TRUE,\"Y\",\"N\")","v":"N"},{"$f":"IF(Worksheet!$C$12=TRUE,\"Y\",\"N\")","v":"N"},""]
[{"$f":"IF(ISERROR(VLOOKUP(Worksheet!N468,MeasureLookup,2,FALSE))=FALSE,VLOOKUP(Worksheet!N468,MeasureLookup,2,FALSE),\"\")","v":""},{"$f":"Worksheet!Q468","v":0},{"$f":"Worksheet!R468","v":0},{"$f":"IF(ISERROR(Worksheet!P468)=FALSE,Worksheet!P468,\"\")","v":0},"Watts",null,null,{"$f":"IF(Worksheet!AP468<>\"\",IF(Worksheet!AP468>0,Worksheet!AP468/IF(Worksheet!M468>0,Worksheet!M468,Worksheet!L468),\"\"),\"\")","v":""},{"$f":"IF(ISBLANK(Worksheet!L468)=FALSE,Worksheet!L468,\"\")","v":0},{"$f":"IF(Worksheet!L468<>0, IFERROR(VLOOKUP(Worksheet!$C$16,SavingsSupportTable,3,FALSE)*Worksheet!AQ468*IFERROR(1+VLOOKUP(Worksheet!$C$16,SavingsSupportTable,MATCH(Worksheet!$G$17,HVACe_Options,0)+4,FALSE),1)/IF(Worksheet!M468>0,Worksheet!M468,Worksheet!L468),\"\"),\"\")","v":""},{"$f":"IF(Worksheet!L468<>0, IFERROR(VLOOKUP(Worksheet!$C$16,SavingsSupportTable,2,FALSE)*Worksheet!AQ468*IF(IFERROR(MATCH(Worksheet!$G$17,HVACe_Options,0),0)>0,1+VLOOKUP(Worksheet!$C$16,SavingsSupportTable,4,FALSE),1)/IF(Worksheet!M468>0,Worksheet!M468,Worksheet!L468),\"\"),\"\")","v":""},"",{"$f":"IF(Worksheet!L468<>0,IFERROR(VLOOKUP(Worksheet!$C$16,SavingsSupportTable,3,FALSE)*Worksheet!AQ468*IF(IFERROR(SEARCH(\"Gas\",Worksheet!$G$17),0)>0,VLOOKUP(\"Gas\",HVACg_Lookup,MATCH(Worksheet!$G$16,BuildingSize,0)+1,FALSE),IF(IFERROR(SEARCH(\"Oil\",Worksheet!$G$17),0)>0,VLOOKUP(\"Oil\",HVACg_Lookup,MATCH(Worksheet!$G$16,BuildingSize,0)+1,FALSE),IF(IFERROR(SEARCH(\"Propane\",Worksheet!$G$17),0)>0,VLOOKUP(\"Propane\",HVACg_Lookup,MATCH(Worksheet!$G$16,BuildingSize,0)+1,FALSE),0)))/IF(Worksheet!M468>0,Worksheet!M468,Worksheet!L468),0),\"\")","v":""},"",null,null,null,{"$f":"IF(ISBLANK(Worksheet!M468)=FALSE,Worksheet!M468,\"\")","v":0},{"$f":"IF(Worksheet!A468=\"-\",\"\",IF(Worksheet!A468=\"\",S444,Worksheet!A468))","v":""},{"$f":"IF(S445=\"\",\"\",IF(AND(Worksheet!G468=\"\",Worksheet!H468=\"\")=TRUE,T444,IF(Worksheet!G468=\"\",\"\",Worksheet!G468)))","v":""},{"$f":"IF(S445=\"\",\"\",IF(AND(Worksheet!G468=\"\",Worksheet!H468=\"\")=TRUE,U444,IF(Worksheet!H468=\"\",\"\",Worksheet!H468)))","v":""},{"$f":"IF(Worksheet!N468=\"\",\"\",Worksheet!N468)","v":""},{"$f":"IF(Worksheet!O468=\"\",\"\",Worksheet!O468)","v":""},{"$f":"IF(Worksheet!F468=0,\"\",Worksheet!F468)","v":""},{"$f":"IF(Worksheet!P468=0,\"\",Worksheet!P468)","v":""},{"$f":"IF(Worksheet!$A$11=TRUE,\"Y\",\"N\")","v":"N"},{"$f":"IF(Worksheet!$A$12=TRUE,\"Y\",\"N\")","v":"N"},{"$f":"IF(Worksheet!$B$11=TRUE,\"Y\",\"N\")","v":"N"},{"$f":"IF(Worksheet!$B$12=TRUE,\"Y\",\"N\")","v":"N"},{"$f":"IF(Worksheet!$C$11=TRUE,\"Y\",\"N\")","v":"N"},{"$f":"IF(Worksheet!$C$12=TRUE,\"Y\",\"N\")","v":"N"},""]
[{"$f":"IF(ISERROR(VLOOKUP(Worksheet!N469,MeasureLookup,2,FALSE))=FALSE,VLOOKUP(Worksheet!N469,MeasureLookup,2,FALSE),\"\")","v":""},{"$f":"Worksheet!Q469","v":0},{"$f":"Worksheet!R469","v":0},{"$f":"IF(ISERROR(Worksheet!P469)=FALSE,Worksheet!P469,\"\")","v":0},"Watts",null,null,{"$f":"IF(Worksheet!AP469<>\"\",IF(Worksheet!AP469>0,Worksheet!AP469/IF(Worksheet!M469>0,Worksheet!M469,Worksheet!L469),\"\"),\"\")","v":""},{"$f":"IF(ISBLANK(Worksheet!L469)=FALSE,Worksheet!L469,\"\")","v":0},{"$f":"IF(Worksheet!L469<>0, IFERROR(VLOOKUP(Worksheet!$C$16,SavingsSupportTable,3,FALSE)*Worksheet!AQ469*IFERROR(1+VLOOKUP(Worksheet!$C$16,SavingsSupportTable,MATCH(Worksheet!$G$17,HVACe_Options,0)+4,FALSE),1)/IF(Worksheet!M469>0,Worksheet!M469,Worksheet!L469),\"\"),\"\")","v":""},{"$f":"IF(Worksheet!L469<>0, IFERROR(VLOOKUP(Worksheet!$C$16,SavingsSupportTable,2,FALSE)*Worksheet!AQ469*IF(IFERROR(MATCH(Worksheet!$G$17,HVACe_Options,0),0)>0,1+VLOOKUP(Worksheet!$C$16,SavingsSupportTable,4,FALSE),1)/IF(Worksheet!M469>0,Worksheet!M469,Worksheet!L469),\"\"),\"\")","v":""},"",{"$f":"IF(Worksheet!L469<>0,IFERROR(VLOOKUP(Worksheet!$C$16,SavingsSupportTable,3,FALSE)*Worksheet!AQ469*IF(IFERROR(SEARCH(\"Gas\",Worksheet!$G$17),0)>0,VLOOKUP(\"Gas\",HVACg_Lookup,MATCH(Worksheet!$G$16,BuildingSize,0)+1,FALSE),IF(IFERROR(SEARCH(\"Oil\",Worksheet!$G$17),0)>0,VLOOKUP(\"Oil\",HVACg_Lookup,MATCH(Worksheet!$G$16,BuildingSize,0)+1,FALSE),IF(IFERROR(SEARCH(\"Propane\",Worksheet!$G$17),0)>0,VLOOKUP(\"Propane\",HVACg_Lookup,MATCH(Worksheet!$G$16,BuildingSize,0)+1,FALSE),0)))/IF(Worksheet!M469>0,Worksheet!M469,Worksheet!L469),0),\"\")","v":""},"",null,null,null,{"$f":"IF(ISBLANK(Worksheet!M469)=FALSE,Worksheet!M469,\"\")","v":0},{"$f":"IF(Worksheet!A469=\"-\",\"\",IF(Worksheet!A469=\"\",S445,Worksheet!A469))","v":""},{"$f":"IF(S446=\"\",\"\",IF(AND(Worksheet!G469=\"\",Worksheet!H469=\"\")=TRUE,T445,IF(Worksheet!G469=\"\",\"\",Worksheet!G469)))","v":""},{"$f":"IF(S446=\"\",\"\",IF(AND(Worksheet!G469=\"\",Worksheet!H469=\"\")=TRUE,U445,IF(Worksheet!H469=\"\",\"\",Worksheet!H469)))","v":""},{"$f":"IF(Worksheet!N469=\"\",\"\",Worksheet!N469)","v":""},{"$f":"IF(Worksheet!O469=\"\",\"\",Worksheet!O469)","v":""},{"$f":"IF(Worksheet!F469=0,\"\",Worksheet!F469)","v":""},{"$f":"IF(Worksheet!P469=0,\"\",Worksheet!P469)","v":""},{"$f":"IF(Worksheet!$A$11=TRUE,\"Y\",\"N\")","v":"N"},{"$f":"IF(Worksheet!$A$12=TRUE,\"Y\",\"N\")","v":"N"},{"$f":"IF(Worksheet!$B$11=TRUE,\"Y\",\"N\")","v":"N"},{"$f":"IF(Worksheet!$B$12=TRUE,\"Y\",\"N\")","v":"N"},{"$f":"IF(Worksheet!$C$11=TRUE,\"Y\",\"N\")","v":"N"},{"$f":"IF(Worksheet!$C$12=TRUE,\"Y\",\"N\")","v":"N"},""]
[{"$f":"IF(ISERROR(VLOOKUP(Worksheet!N470,MeasureLookup,2,FALSE))=FALSE,VLOOKUP(Worksheet!N470,MeasureLookup,2,FALSE),\"\")","v":""},{"$f":"Worksheet!Q470","v":0},{"$f":"Worksheet!R470","v":0},{"$f":"IF(ISERROR(Worksheet!P470)=FALSE,Worksheet!P470,\"\")","v":0},"Watts",null,null,{"$f":"IF(Worksheet!AP470<>\"\",IF(Worksheet!AP470>0,Worksheet!AP470/IF(Worksheet!M470>0,Worksheet!M470,Worksheet!L470),\"\"),\"\")","v":""},{"$f":"IF(ISBLANK(Worksheet!L470)=FALSE,Worksheet!L470,\"\")","v":0},{"$f":"IF(Worksheet!L470<>0, IFERROR(VLOOKUP(Worksheet!$C$16,SavingsSupportTable,3,FALSE)*Worksheet!AQ470*IFERROR(1+VLOOKUP(Worksheet!$C$16,SavingsSupportTable,MATCH(Worksheet!$G$17,HVACe_Options,0)+4,FALSE),1)/IF(Worksheet!M470>0,Worksheet!M470,Worksheet!L470),\"\"),\"\")","v":""},{"$f":"IF(Worksheet!L470<>0, IFERROR(VLOOKUP(Worksheet!$C$16,SavingsSupportTable,2,FALSE)*Worksheet!AQ470*IF(IFERROR(MATCH(Worksheet!$G$17,HVACe_Options,0),0)>0,1+VLOOKUP(Worksheet!$C$16,SavingsSupportTable,4,FALSE),1)/IF(Worksheet!M470>0,Worksheet!M470,Worksheet!L470),\"\"),\"\")","v":""},"",{"$f":"IF(Worksheet!L470<>0,IFERROR(VLOOKUP(Worksheet!$C$16,SavingsSupportTable,3,FALSE)*Worksheet!AQ470*IF(IFERROR(SEARCH(\"Gas\",Worksheet!$G$17),0)>0,VLOOKUP(\"Gas\",HVACg_Lookup,MATCH(Worksheet!$G$16,BuildingSize,0)+1,FALSE),IF(IFERROR(SEARCH(\"Oil\",Worksheet!$G$17),0)>0,VLOOKUP(\"Oil\",HVACg_Lookup,MATCH(Worksheet!$G$16,BuildingSize,0)+1,FALSE),IF(IFERROR(SEARCH(\"Propane\",Worksheet!$G$17),0)>0,VLOOKUP(\"Propane\",HVACg_Lookup,MATCH(Worksheet!$G$16,BuildingSize,0)+1,FALSE),0)))/IF(Worksheet!M470>0,Worksheet!M470,Worksheet!L470),0),\"\")","v":""},"",null,null,null,{"$f":"IF(ISBLANK(Worksheet!M470)=FALSE,Worksheet!M470,\"\")","v":0},{"$f":"IF(Worksheet!A470=\"-\",\"\",IF(Worksheet!A470=\"\",S446,Worksheet!A470))","v":""},{"$f":"IF(S447=\"\",\"\",IF(AND(Worksheet!G470=\"\",Worksheet!H470=\"\")=TRUE,T446,IF(Worksheet!G470=\"\",\"\",Worksheet!G470)))","v":""},{"$f":"IF(S447=\"\",\"\",IF(AND(Worksheet!G470=\"\",Worksheet!H470=\"\")=TRUE,U446,IF(Worksheet!H470=\"\",\"\",Worksheet!H470)))","v":""},{"$f":"IF(Worksheet!N470=\"\",\"\",Worksheet!N470)","v":""},{"$f":"IF(Worksheet!O470=\"\",\"\",Worksheet!O470)","v":""},{"$f":"IF(Worksheet!F470=0,\"\",Worksheet!F470)","v":""},{"$f":"IF(Worksheet!P470=0,\"\",Worksheet!P470)","v":""},{"$f":"IF(Worksheet!$A$11=TRUE,\"Y\",\"N\")","v":"N"},{"$f":"IF(Worksheet!$A$12=TRUE,\"Y\",\"N\")","v":"N"},{"$f":"IF(Worksheet!$B$11=TRUE,\"Y\",\"N\")","v":"N"},{"$f":"IF(Worksheet!$B$12=TRUE,\"Y\",\"N\")","v":"N"},{"$f":"IF(Worksheet!$C$11=TRUE,\"Y\",\"N\")","v":"N"},{"$f":"IF(Worksheet!$C$12=TRUE,\"Y\",\"N\")","v":"N"},""]
[{"$f":"IF(ISERROR(VLOOKUP(Worksheet!N471,MeasureLookup,2,FALSE))=FALSE,VLOOKUP(Worksheet!N471,MeasureLookup,2,FALSE),\"\")","v":""},{"$f":"Worksheet!Q471","v":0},{"$f":"Worksheet!R471","v":0},{"$f":"IF(ISERROR(Worksheet!P471)=FALSE,Worksheet!P471,\"\")","v":0},"Watts",null,null,{"$f":"IF(Worksheet!AP471<>\"\",IF(Worksheet!AP471>0,Worksheet!AP471/IF(Worksheet!M471>0,Worksheet!M471,Worksheet!L471),\"\"),\"\")","v":""},{"$f":"IF(ISBLANK(Worksheet!L471)=FALSE,Worksheet!L471,\"\")","v":0},{"$f":"IF(Worksheet!L471<>0, IFERROR(VLOOKUP(Worksheet!$C$16,SavingsSupportTable,3,FALSE)*Worksheet!AQ471*IFERROR(1+VLOOKUP(Worksheet!$C$16,SavingsSupportTable,MATCH(Worksheet!$G$17,HVACe_Options,0)+4,FALSE),1)/IF(Worksheet!M471>0,Worksheet!M471,Worksheet!L471),\"\"),\"\")","v":""},{"$f":"IF(Worksheet!L471<>0, IFERROR(VLOOKUP(Worksheet!$C$16,SavingsSupportTable,2,FALSE)*Worksheet!AQ471*IF(IFERROR(MATCH(Worksheet!$G$17,HVACe_Options,0),0)>0,1+VLOOKUP(Worksheet!$C$16,SavingsSupportTable,4,FALSE),1)/IF(Worksheet!M471>0,Worksheet!M471,Worksheet!L471),\"\"),\"\")","v":""},"",{"$f":"IF(Worksheet!L471<>0,IFERROR(VLOOKUP(Worksheet!$C$16,SavingsSupportTable,3,FALSE)*Worksheet!AQ471*IF(IFERROR(SEARCH(\"Gas\",Worksheet!$G$17),0)>0,VLOOKUP(\"Gas\",HVACg_Lookup,MATCH(Worksheet!$G$16,BuildingSize,0)+1,FALSE),IF(IFERROR(SEARCH(\"Oil\",Worksheet!$G$17),0)>0,VLOOKUP(\"Oil\",HVACg_Lookup,MATCH(Worksheet!$G$16,BuildingSize,0)+1,FALSE),IF(IFERROR(SEARCH(\"Propane\",Worksheet!$G$17),0)>0,VLOOKUP(\"Propane\",HVACg_Lookup,MATCH(Worksheet!$G$16,BuildingSize,0)+1,FALSE),0)))/IF(Worksheet!M471>0,Worksheet!M471,Worksheet!L471),0),\"\")","v":""},"",null,null,null,{"$f":"IF(ISBLANK(Worksheet!M471)=FALSE,Worksheet!M471,\"\")","v":0},{"$f":"IF(Worksheet!A471=\"-\",\"\",IF(Worksheet!A471=\"\",S447,Worksheet!A471))","v":""},{"$f":"IF(S448=\"\",\"\",IF(AND(Worksheet!G471=\"\",Worksheet!H471=\"\")=TRUE,T447,IF(Worksheet!G471=\"\",\"\",Worksheet!G471)))","v":""},{"$f":"IF(S448=\"\",\"\",IF(AND(Worksheet!G471=\"\",Worksheet!H471=\"\")=TRUE,U447,IF(Worksheet!H471=\"\",\"\",Worksheet!H471)))","v":""},{"$f":"IF(Worksheet!N471=\"\",\"\",Worksheet!N471)","v":""},{"$f":"IF(Worksheet!O471=\"\",\"\",Worksheet!O471)","v":""},{"$f":"IF(Worksheet!F471=0,\"\",Worksheet!F471)","v":""},{"$f":"IF(Worksheet!P471=0,\"\",Worksheet!P471)","v":""},{"$f":"IF(Worksheet!$A$11=TRUE,\"Y\",\"N\")","v":"N"},{"$f":"IF(Worksheet!$A$12=TRUE,\"Y\",\"N\")","v":"N"},{"$f":"IF(Worksheet!$B$11=TRUE,\"Y\",\"N\")","v":"N"},{"$f":"IF(Worksheet!$B$12=TRUE,\"Y\",\"N\")","v":"N"},{"$f":"IF(Worksheet!$C$11=TRUE,\"Y\",\"N\")","v":"N"},{"$f":"IF(Worksheet!$C$12=TRUE,\"Y\",\"N\")","v":"N"},""]
[{"$f":"IF(ISERROR(VLOOKUP(Worksheet!N472,MeasureLookup,2,FALSE))=FALSE,VLOOKUP(Worksheet!N472,MeasureLookup,2,FALSE),\"\")","v":""},{"$f":"Worksheet!Q472","v":0},{"$f":"Worksheet!R472","v":0},{"$f":"IF(ISERROR(Worksheet!P472)=FALSE,Worksheet!P472,\"\")","v":0},"Watts",null,null,{"$f":"IF(Worksheet!AP472<>\"\",IF(Worksheet!AP472>0,Worksheet!AP472/IF(Worksheet!M472>0,Worksheet!M472,Worksheet!L472),\"\"),\"\")","v":""},{"$f":"IF(ISBLANK(Worksheet!L472)=FALSE,Worksheet!L472,\"\")","v":0},{"$f":"IF(Worksheet!L472<>0, IFERROR(VLOOKUP(Worksheet!$C$16,SavingsSupportTable,3,FALSE)*Worksheet!AQ472*IFERROR(1+VLOOKUP(Worksheet!$C$16,SavingsSupportTable,MATCH(Worksheet!$G$17,HVACe_Options,0)+4,FALSE),1)/IF(Worksheet!M472>0,Worksheet!M472,Worksheet!L472),\"\"),\"\")","v":""},{"$f":"IF(Worksheet!L472<>0, IFERROR(VLOOKUP(Worksheet!$C$16,SavingsSupportTable,2,FALSE)*Worksheet!AQ472*IF(IFERROR(MATCH(Worksheet!$G$17,HVACe_Options,0),0)>0,1+VLOOKUP(Worksheet!$C$16,SavingsSupportTable,4,FALSE),1)/IF(Worksheet!M472>0,Worksheet!M472,Worksheet!L472),\"\"),\"\")","v":""},"",{"$f":"IF(Worksheet!L472<>0,IFERROR(VLOOKUP(Worksheet!$C$16,SavingsSupportTable,3,FALSE)*Worksheet!AQ472*IF(IFERROR(SEARCH(\"Gas\",Worksheet!$G$17),0)>0,VLOOKUP(\"Gas\",HVACg_Lookup,MATCH(Worksheet!$G$16,BuildingSize,0)+1,FALSE),IF(IFERROR(SEARCH(\"Oil\",Worksheet!$G$17),0)>0,VLOOKUP(\"Oil\",HVACg_Lookup,MATCH(Worksheet!$G$16,BuildingSize,0)+1,FALSE),IF(IFERROR(SEARCH(\"Propane\",Worksheet!$G$17),0)>0,VLOOKUP(\"Propane\",HVACg_Lookup,MATCH(Worksheet!$G$16,BuildingSize,0)+1,FALSE),0)))/IF(Worksheet!M472>0,Worksheet!M472,Worksheet!L472),0),\"\")","v":""},"",null,null,null,{"$f":"IF(ISBLANK(Worksheet!M472)=FALSE,Worksheet!M472,\"\")","v":0},{"$f":"IF(Worksheet!A472=\"-\",\"\",IF(Worksheet!A472=\"\",S448,Worksheet!A472))","v":""},{"$f":"IF(S449=\"\",\"\",IF(AND(Worksheet!G472=\"\",Worksheet!H472=\"\")=TRUE,T448,IF(Worksheet!G472=\"\",\"\",Worksheet!G472)))","v":""},{"$f":"IF(S449=\"\",\"\",IF(AND(Worksheet!G472=\"\",Worksheet!H472=\"\")=TRUE,U448,IF(Worksheet!H472=\"\",\"\",Worksheet!H472)))","v":""},{"$f":"IF(Worksheet!N472=\"\",\"\",Worksheet!N472)","v":""},{"$f":"IF(Worksheet!O472=\"\",\"\",Worksheet!O472)","v":""},{"$f":"IF(Worksheet!F472=0,\"\",Worksheet!F472)","v":""},{"$f":"IF(Worksheet!P472=0,\"\",Worksheet!P472)","v":""},{"$f":"IF(Worksheet!$A$11=TRUE,\"Y\",\"N\")","v":"N"},{"$f":"IF(Worksheet!$A$12=TRUE,\"Y\",\"N\")","v":"N"},{"$f":"IF(Worksheet!$B$11=TRUE,\"Y\",\"N\")","v":"N"},{"$f":"IF(Worksheet!$B$12=TRUE,\"Y\",\"N\")","v":"N"},{"$f":"IF(Worksheet!$C$11=TRUE,\"Y\",\"N\")","v":"N"},{"$f":"IF(Worksheet!$C$12=TRUE,\"Y\",\"N\")","v":"N"},""]
[{"$f":"IF(ISERROR(VLOOKUP(Worksheet!N473,MeasureLookup,2,FALSE))=FALSE,VLOOKUP(Worksheet!N473,MeasureLookup,2,FALSE),\"\")","v":""},{"$f":"Worksheet!Q473","v":0},{"$f":"Worksheet!R473","v":0},{"$f":"IF(ISERROR(Worksheet!P473)=FALSE,Worksheet!P473,\"\")","v":0},"Watts",null,null,{"$f":"IF(Worksheet!AP473<>\"\",IF(Worksheet!AP473>0,Worksheet!AP473/IF(Worksheet!M473>0,Worksheet!M473,Worksheet!L473),\"\"),\"\")","v":""},{"$f":"IF(ISBLANK(Worksheet!L473)=FALSE,Worksheet!L473,\"\")","v":0},{"$f":"IF(Worksheet!L473<>0, IFERROR(VLOOKUP(Worksheet!$C$16,SavingsSupportTable,3,FALSE)*Worksheet!AQ473*IFERROR(1+VLOOKUP(Worksheet!$C$16,SavingsSupportTable,MATCH(Worksheet!$G$17,HVACe_Options,0)+4,FALSE),1)/IF(Worksheet!M473>0,Worksheet!M473,Worksheet!L473),\"\"),\"\")","v":""},{"$f":"IF(Worksheet!L473<>0, IFERROR(VLOOKUP(Worksheet!$C$16,SavingsSupportTable,2,FALSE)*Worksheet!AQ473*IF(IFERROR(MATCH(Worksheet!$G$17,HVACe_Options,0),0)>0,1+VLOOKUP(Worksheet!$C$16,SavingsSupportTable,4,FALSE),1)/IF(Worksheet!M473>0,Worksheet!M473,Worksheet!L473),\"\"),\"\")","v":""},"",{"$f":"IF(Worksheet!L473<>0,IFERROR(VLOOKUP(Worksheet!$C$16,SavingsSupportTable,3,FALSE)*Worksheet!AQ473*IF(IFERROR(SEARCH(\"Gas\",Worksheet!$G$17),0)>0,VLOOKUP(\"Gas\",HVACg_Lookup,MATCH(Worksheet!$G$16,BuildingSize,0)+1,FALSE),IF(IFERROR(SEARCH(\"Oil\",Worksheet!$G$17),0)>0,VLOOKUP(\"Oil\",HVACg_Lookup,MATCH(Worksheet!$G$16,BuildingSize,0)+1,FALSE),IF(IFERROR(SEARCH(\"Propane\",Worksheet!$G$17),0)>0,VLOOKUP(\"Propane\",HVACg_Lookup,MATCH(Worksheet!$G$16,BuildingSize,0)+1,FALSE),0)))/IF(Worksheet!M473>0,Worksheet!M473,Worksheet!L473),0),\"\")","v":""},"",null,null,null,{"$f":"IF(ISBLANK(Worksheet!M473)=FALSE,Worksheet!M473,\"\")","v":0},{"$f":"IF(Worksheet!A473=\"-\",\"\",IF(Worksheet!A473=\"\",S449,Worksheet!A473))","v":""},{"$f":"IF(S450=\"\",\"\",IF(AND(Worksheet!G473=\"\",Worksheet!H473=\"\")=TRUE,T449,IF(Worksheet!G473=\"\",\"\",Worksheet!G473)))","v":""},{"$f":"IF(S450=\"\",\"\",IF(AND(Worksheet!G473=\"\",Worksheet!H473=\"\")=TRUE,U449,IF(Worksheet!H473=\"\",\"\",Worksheet!H473)))","v":""},{"$f":"IF(Worksheet!N473=\"\",\"\",Worksheet!N473)","v":""},{"$f":"IF(Worksheet!O473=\"\",\"\",Worksheet!O473)","v":""},{"$f":"IF(Worksheet!F473=0,\"\",Worksheet!F473)","v":""},{"$f":"IF(Worksheet!P473=0,\"\",Worksheet!P473)","v":""},{"$f":"IF(Worksheet!$A$11=TRUE,\"Y\",\"N\")","v":"N"},{"$f":"IF(Worksheet!$A$12=TRUE,\"Y\",\"N\")","v":"N"},{"$f":"IF(Worksheet!$B$11=TRUE,\"Y\",\"N\")","v":"N"},{"$f":"IF(Worksheet!$B$12=TRUE,\"Y\",\"N\")","v":"N"},{"$f":"IF(Worksheet!$C$11=TRUE,\"Y\",\"N\")","v":"N"},{"$f":"IF(Worksheet!$C$12=TRUE,\"Y\",\"N\")","v":"N"},""]
[{"$f":"IF(ISERROR(VLOOKUP(Worksheet!N474,MeasureLookup,2,FALSE))=FALSE,VLOOKUP(Worksheet!N474,MeasureLookup,2,FALSE),\"\")","v":""},{"$f":"Worksheet!Q474","v":0},{"$f":"Worksheet!R474","v":0},{"$f":"IF(ISERROR(Worksheet!P474)=FALSE,Worksheet!P474,\"\")","v":0},"Watts",null,null,{"$f":"IF(Worksheet!AP474<>\"\",IF(Worksheet!AP474>0,Worksheet!AP474/IF(Worksheet!M474>0,Worksheet!M474,Worksheet!L474),\"\"),\"\")","v":""},{"$f":"IF(ISBLANK(Worksheet!L474)=FALSE,Worksheet!L474,\"\")","v":0},{"$f":"IF(Worksheet!L474<>0, IFERROR(VLOOKUP(Worksheet!$C$16,SavingsSupportTable,3,FALSE)*Worksheet!AQ474*IFERROR(1+VLOOKUP(Worksheet!$C$16,SavingsSupportTable,MATCH(Worksheet!$G$17,HVACe_Options,0)+4,FALSE),1)/IF(Worksheet!M474>0,Worksheet!M474,Worksheet!L474),\"\"),\"\")","v":""},{"$f":"IF(Worksheet!L474<>0, IFERROR(VLOOKUP(Worksheet!$C$16,SavingsSupportTable,2,FALSE)*Worksheet!AQ474*IF(IFERROR(MATCH(Worksheet!$G$17,HVACe_Options,0),0)>0,1+VLOOKUP(Worksheet!$C$16,SavingsSupportTable,4,FALSE),1)/IF(Worksheet!M474>0,Worksheet!M474,Worksheet!L474),\"\"),\"\")","v":""},{"$f":"IF(ISERROR(J451*15)=FALSE,J451*15,\"\")","v":""},{"$f":"IF(Worksheet!L474<>0,IFERROR(VLOOKUP(Worksheet!$C$16,SavingsSupportTable,3,FALSE)*Worksheet!AQ474*IF(IFERROR(SEARCH(\"Gas\",Worksheet!$G$17),0)>0,VLOOKUP(\"Gas\",HVACg_Lookup,MATCH(Worksheet!$G$16,BuildingSize,0)+1,FALSE),IF(IFERROR(SEARCH(\"Oil\",Worksheet!$G$17),0)>0,VLOOKUP(\"Oil\",HVACg_Lookup,MATCH(Worksheet!$G$16,BuildingSize,0)+1,FALSE),IF(IFERROR(SEARCH(\"Propane\",Worksheet!$G$17),0)>0,VLOOKUP(\"Propane\",HVACg_Lookup,MATCH(Worksheet!$G$16,BuildingSize,0)+1,FALSE),0)))/IF(Worksheet!M474>0,Worksheet!M474,Worksheet!L474),0),\"\")","v":""},{"$f":"IF(ISERROR(M451*15)=FALSE,M451*15,\"\")","v":""},null,null,null,{"$f":"IF(ISBLANK(Worksheet!M474)=FALSE,Worksheet!M474,\"\")","v":0},{"$f":"IF(Worksheet!A474=\"-\",\"\",IF(Worksheet!A474=\"\",S450,Worksheet!A474))","v":""},{"$f":"IF(S451=\"\",\"\",IF(AND(Worksheet!G474=\"\",Worksheet!H474=\"\")=TRUE,T450,IF(Worksheet!G474=\"\",\"\",Worksheet!G474)))","v":""},{"$f":"IF(S451=\"\",\"\",IF(AND(Worksheet!G474=\"\",Worksheet!H474=\"\")=TRUE,U450,IF(Worksheet!H474=\"\",\"\",Worksheet!H474)))","v":""},{"$f":"IF(Worksheet!N474=\"\",\"\",Worksheet!N474)","v":""},{"$f":"IF(Worksheet!O474=\"\",\"\",Worksheet!O474)","v":""},{"$f":"IF(Worksheet!F474=0,\"\",Worksheet!F474)","v":""},{"$f":"IF(Worksheet!P474=0,\"\",Worksheet!P474)","v":""},{"$f":"IF(Worksheet!$A$11=TRUE,\"Y\",\"N\")","v":"N"},{"$f":"IF(Worksheet!$A$12=TRUE,\"Y\",\"N\")","v":"N"},{"$f":"IF(Worksheet!$B$11=TRUE,\"Y\",\"N\")","v":"N"},{"$f":"IF(Worksheet!$B$12=TRUE,\"Y\",\"N\")","v":"N"},{"$f":"IF(Worksheet!$C$11=TRUE,\"Y\",\"N\")","v":"N"},{"$f":"IF(Worksheet!$C$12=TRUE,\"Y\",\"N\")","v":"N"},{"$f":"IFERROR(IF(OR(Z451=\"Y\",AA451=\"Y\",AB451=\"Y\",AC451=\"Y\",AD451=\"Y\",AE451=\"Y\")=TRUE,H451,\"\"),\"\")","v":""}]
[{"$f":"IF(ISERROR(VLOOKUP(Worksheet!N475,MeasureLookup,2,FALSE))=FALSE,VLOOKUP(Worksheet!N475,MeasureLookup,2,FALSE),\"\")","v":""},{"$f":"Worksheet!Q475","v":0},{"$f":"Worksheet!R475","v":0},{"$f":"IF(ISERROR(Worksheet!P475)=FALSE,Worksheet!P475,\"\")","v":0},"Watts",null,null,{"$f":"IF(Worksheet!AP475<>\"\",IF(Worksheet!AP475>0,Worksheet!AP475/IF(Worksheet!M475>0,Worksheet!M475,Worksheet!L475),\"\"),\"\")","v":""},{"$f":"IF(ISBLANK(Worksheet!L475)=FALSE,Worksheet!L475,\"\")","v":0},{"$f":"IF(Worksheet!L475<>0, IFERROR(VLOOKUP(Worksheet!$C$16,SavingsSupportTable,3,FALSE)*Worksheet!AQ475*IFERROR(1+VLOOKUP(Worksheet!$C$16,SavingsSupportTable,MATCH(Worksheet!$G$17,HVACe_Options,0)+4,FALSE),1)/IF(Worksheet!M475>0,Worksheet!M475,Worksheet!L475),\"\"),\"\")","v":""},{"$f":"IF(Worksheet!L475<>0, IFERROR(VLOOKUP(Worksheet!$C$16,SavingsSupportTable,2,FALSE)*Worksheet!AQ475*IF(IFERROR(MATCH(Worksheet!$G$17,HVACe_Options,0),0)>0,1+VLOOKUP(Worksheet!$C$16,SavingsSupportTable,4,FALSE),1)/IF(Worksheet!M475>0,Worksheet!M475,Worksheet!L475),\"\"),\"\")","v":""},"",{"$f":"IF(Worksheet!L475<>0,IFERROR(VLOOKUP(Worksheet!$C$16,SavingsSupportTable,3,FALSE)*Worksheet!AQ475*IF(IFERROR(SEARCH(\"Gas\",Worksheet!$G$17),0)>0,VLOOKUP(\"Gas\",HVACg_Lookup,MATCH(Worksheet!$G$16,BuildingSize,0)+1,FALSE),IF(IFERROR(SEARCH(\"Oil\",Worksheet!$G$17),0)>0,VLOOKUP(\"Oil\",HVACg_Lookup,MATCH(Worksheet!$G$16,BuildingSize,0)+1,FALSE),IF(IFERROR(SEARCH(\"Propane\",Worksheet!$G$17),0)>0,VLOOKUP(\"Propane\",HVACg_Lookup,MATCH(Worksheet!$G$16,BuildingSize,0)+1,FALSE),0)))/IF(Worksheet!M475>0,Worksheet!M475,Worksheet!L475),0),\"\")","v":""},"",null,null,null,{"$f":"IF(ISBLANK(Worksheet!M475)=FALSE,Worksheet!M475,\"\")","v":0},{"$f":"IF(Worksheet!A475=\"-\",\"\",IF(Worksheet!A475=\"\",S451,Worksheet!A475))","v":""},{"$f":"IF(S452=\"\",\"\",IF(AND(Worksheet!G475=\"\",Worksheet!H475=\"\")=TRUE,T451,IF(Worksheet!G475=\"\",\"\",Worksheet!G475)))","v":""},{"$f":"IF(S452=\"\",\"\",IF(AND(Worksheet!G475=\"\",Worksheet!H475=\"\")=TRUE,U451,IF(Worksheet!H475=\"\",\"\",Worksheet!H475)))","v":""},{"$f":"IF(Worksheet!N475=\"\",\"\",Worksheet!N475)","v":""},{"$f":"IF(Worksheet!O475=\"\",\"\",Worksheet!O475)","v":""},{"$f":"IF(Worksheet!F475=0,\"\",Worksheet!F475)","v":""},{"$f":"IF(Worksheet!P475=0,\"\",Worksheet!P475)","v":""},{"$f":"IF(Worksheet!$A$11=TRUE,\"Y\",\"N\")","v":"N"},{"$f":"IF(Worksheet!$A$12=TRUE,\"Y\",\"N\")","v":"N"},{"$f":"IF(Worksheet!$B$11=TRUE,\"Y\",\"N\")","v":"N"},{"$f":"IF(Worksheet!$B$12=TRUE,\"Y\",\"N\")","v":"N"},{"$f":"IF(Worksheet!$C$11=TRUE,\"Y\",\"N\")","v":"N"},{"$f":"IF(Worksheet!$C$12=TRUE,\"Y\",\"N\")","v":"N"},""]
[{"$f":"IF(ISERROR(VLOOKUP(Worksheet!N476,MeasureLookup,2,FALSE))=FALSE,VLOOKUP(Worksheet!N476,MeasureLookup,2,FALSE),\"\")","v":""},{"$f":"Worksheet!Q476","v":0},{"$f":"Worksheet!R476","v":0},{"$f":"IF(ISERROR(Worksheet!P476)=FALSE,Worksheet!P476,\"\")","v":0},"Watts",null,null,{"$f":"IF(Worksheet!AP476<>\"\",IF(Worksheet!AP476>0,Worksheet!AP476/IF(Worksheet!M476>0,Worksheet!M476,Worksheet!L476),\"\"),\"\")","v":""},{"$f":"IF(ISBLANK(Worksheet!L476)=FALSE,Worksheet!L476,\"\")","v":0},{"$f":"IF(Worksheet!L476<>0, IFERROR(VLOOKUP(Worksheet!$C$16,SavingsSupportTable,3,FALSE)*Worksheet!AQ476*IFERROR(1+VLOOKUP(Worksheet!$C$16,SavingsSupportTable,MATCH(Worksheet!$G$17,HVACe_Options,0)+4,FALSE),1)/IF(Worksheet!M476>0,Worksheet!M476,Worksheet!L476),\"\"),\"\")","v":""},{"$f":"IF(Worksheet!L476<>0, IFERROR(VLOOKUP(Worksheet!$C$16,SavingsSupportTable,2,FALSE)*Worksheet!AQ476*IF(IFERROR(MATCH(Worksheet!$G$17,HVACe_Options,0),0)>0,1+VLOOKUP(Worksheet!$C$16,SavingsSupportTable,4,FALSE),1)/IF(Worksheet!M476>0,Worksheet!M476,Worksheet!L476),\"\"),\"\")","v":""},"",{"$f":"IF(Worksheet!L476<>0,IFERROR(VLOOKUP(Worksheet!$C$16,SavingsSupportTable,3,FALSE)*Worksheet!AQ476*IF(IFERROR(SEARCH(\"Gas\",Worksheet!$G$17),0)>0,VLOOKUP(\"Gas\",HVACg_Lookup,MATCH(Worksheet!$G$16,BuildingSize,0)+1,FALSE),IF(IFERROR(SEARCH(\"Oil\",Worksheet!$G$17),0)>0,VLOOKUP(\"Oil\",HVACg_Lookup,MATCH(Worksheet!$G$16,BuildingSize,0)+1,FALSE),IF(IFERROR(SEARCH(\"Propane\",Worksheet!$G$17),0)>0,VLOOKUP(\"Propane\",HVACg_Lookup,MATCH(Worksheet!$G$16,BuildingSize,0)+1,FALSE),0)))/IF(Worksheet!M476>0,Worksheet!M476,Worksheet!L476),0),\"\")","v":""},"",null,null,null,{"$f":"IF(ISBLANK(Worksheet!M476)=FALSE,Worksheet!M476,\"\")","v":0},{"$f":"IF(Worksheet!A476=\"-\",\"\",IF(Worksheet!A476=\"\",S452,Worksheet!A476))","v":""},{"$f":"IF(S453=\"\",\"\",IF(AND(Worksheet!G476=\"\",Worksheet!H476=\"\")=TRUE,T452,IF(Worksheet!G476=\"\",\"\",Worksheet!G476)))","v":""},{"$f":"IF(S453=\"\",\"\",IF(AND(Worksheet!G476=\"\",Worksheet!H476=\"\")=TRUE,U452,IF(Worksheet!H476=\"\",\"\",Worksheet!H476)))","v":""},{"$f":"IF(Worksheet!N476=\"\",\"\",Worksheet!N476)","v":""},{"$f":"IF(Worksheet!O476=\"\",\"\",Worksheet!O476)","v":""},{"$f":"IF(Worksheet!F476=0,\"\",Worksheet!F476)","v":""},{"$f":"IF(Worksheet!P476=0,\"\",Worksheet!P476)","v":""},{"$f":"IF(Worksheet!$A$11=TRUE,\"Y\",\"N\")","v":"N"},{"$f":"IF(Worksheet!$A$12=TRUE,\"Y\",\"N\")","v":"N"},{"$f":"IF(Worksheet!$B$11=TRUE,\"Y\",\"N\")","v":"N"},{"$f":"IF(Worksheet!$B$12=TRUE,\"Y\",\"N\")","v":"N"},{"$f":"IF(Worksheet!$C$11=TRUE,\"Y\",\"N\")","v":"N"},{"$f":"IF(Worksheet!$C$12=TRUE,\"Y\",\"N\")","v":"N"},""]
[{"$f":"IF(ISERROR(VLOOKUP(Worksheet!N477,MeasureLookup,2,FALSE))=FALSE,VLOOKUP(Worksheet!N477,MeasureLookup,2,FALSE),\"\")","v":""},{"$f":"Worksheet!Q477","v":0},{"$f":"Worksheet!R477","v":0},{"$f":"IF(ISERROR(Worksheet!P477)=FALSE,Worksheet!P477,\"\")","v":0},"Watts",null,null,{"$f":"IF(Worksheet!AP477<>\"\",IF(Worksheet!AP477>0,Worksheet!AP477/IF(Worksheet!M477>0,Worksheet!M477,Worksheet!L477),\"\"),\"\")","v":""},{"$f":"IF(ISBLANK(Worksheet!L477)=FALSE,Worksheet!L477,\"\")","v":0},{"$f":"IF(Worksheet!L477<>0, IFERROR(VLOOKUP(Worksheet!$C$16,SavingsSupportTable,3,FALSE)*Worksheet!AQ477*IFERROR(1+VLOOKUP(Worksheet!$C$16,SavingsSupportTable,MATCH(Worksheet!$G$17,HVACe_Options,0)+4,FALSE),1)/IF(Worksheet!M477>0,Worksheet!M477,Worksheet!L477),\"\"),\"\")","v":""},{"$f":"IF(Worksheet!L477<>0, IFERROR(VLOOKUP(Worksheet!$C$16,SavingsSupportTable,2,FALSE)*Worksheet!AQ477*IF(IFERROR(MATCH(Worksheet!$G$17,HVACe_Options,0),0)>0,1+VLOOKUP(Worksheet!$C$16,SavingsSupportTable,4,FALSE),1)/IF(Worksheet!M477>0,Worksheet!M477,Worksheet!L477),\"\"),\"\")","v":""},"",{"$f":"IF(Worksheet!L477<>0,IFERROR(VLOOKUP(Worksheet!$C$16,SavingsSupportTable,3,FALSE)*Worksheet!AQ477*IF(IFERROR(SEARCH(\"Gas\",Worksheet!$G$17),0)>0,VLOOKUP(\"Gas\",HVACg_Lookup,MATCH(Worksheet!$G$16,BuildingSize,0)+1,FALSE),IF(IFERROR(SEARCH(\"Oil\",Worksheet!$G$17),0)>0,VLOOKUP(\"Oil\",HVACg_Lookup,MATCH(Worksheet!$G$16,BuildingSize,0)+1,FALSE),IF(IFERROR(SEARCH(\"Propane\",Worksheet!$G$17),0)>0,VLOOKUP(\"Propane\",HVACg_Lookup,MATCH(Worksheet!$G$16,BuildingSize,0)+1,FALSE),0)))/IF(Worksheet!M477>0,Worksheet!M477,Worksheet!L477),0),\"\")","v":""},"",null,null,null,{"$f":"IF(ISBLANK(Worksheet!M477)=FALSE,Worksheet!M477,\"\")","v":0},{"$f":"IF(Worksheet!A477=\"-\",\"\",IF(Worksheet!A477=\"\",S453,Worksheet!A477))","v":""},{"$f":"IF(S454=\"\",\"\",IF(AND(Worksheet!G477=\"\",Worksheet!H477=\"\")=TRUE,T453,IF(Worksheet!G477=\"\",\"\",Worksheet!G477)))","v":""},{"$f":"IF(S454=\"\",\"\",IF(AND(Worksheet!G477=\"\",Worksheet!H477=\"\")=TRUE,U453,IF(Worksheet!H477=\"\",\"\",Worksheet!H477)))","v":""},{"$f":"IF(Worksheet!N477=\"\",\"\",Worksheet!N477)","v":""},{"$f":"IF(Worksheet!O477=\"\",\"\",Worksheet!O477)","v":""},{"$f":"IF(Worksheet!F477=0,\"\",Worksheet!F477)","v":""},{"$f":"IF(Worksheet!P477=0,\"\",Worksheet!P477)","v":""},{"$f":"IF(Worksheet!$A$11=TRUE,\"Y\",\"N\")","v":"N"},{"$f":"IF(Worksheet!$A$12=TRUE,\"Y\",\"N\")","v":"N"},{"$f":"IF(Worksheet!$B$11=TRUE,\"Y\",\"N\")","v":"N"},{"$f":"IF(Worksheet!$B$12=TRUE,\"Y\",\"N\")","v":"N"},{"$f":"IF(Worksheet!$C$11=TRUE,\"Y\",\"N\")","v":"N"},{"$f":"IF(Worksheet!$C$12=TRUE,\"Y\",\"N\")","v":"N"},""]
[{"$f":"IF(ISERROR(VLOOKUP(Worksheet!N478,MeasureLookup,2,FALSE))=FALSE,VLOOKUP(Worksheet!N478,MeasureLookup,2,FALSE),\"\")","v":""},{"$f":"Worksheet!Q478","v":0},{"$f":"Worksheet!R478","v":0},{"$f":"IF(ISERROR(Worksheet!P478)=FALSE,Worksheet!P478,\"\")","v":0},"Watts",null,null,{"$f":"IF(Worksheet!AP478<>\"\",IF(Worksheet!AP478>0,Worksheet!AP478/IF(Worksheet!M478>0,Worksheet!M478,Worksheet!L478),\"\"),\"\")","v":""},{"$f":"IF(ISBLANK(Worksheet!L478)=FALSE,Worksheet!L478,\"\")","v":0},{"$f":"IF(Worksheet!L478<>0, IFERROR(VLOOKUP(Worksheet!$C$16,SavingsSupportTable,3,FALSE)*Worksheet!AQ478*IFERROR(1+VLOOKUP(Worksheet!$C$16,SavingsSupportTable,MATCH(Worksheet!$G$17,HVACe_Options,0)+4,FALSE),1)/IF(Worksheet!M478>0,Worksheet!M478,Worksheet!L478),\"\"),\"\")","v":""},{"$f":"IF(Worksheet!L478<>0, IFERROR(VLOOKUP(Worksheet!$C$16,SavingsSupportTable,2,FALSE)*Worksheet!AQ478*IF(IFERROR(MATCH(Worksheet!$G$17,HVACe_Options,0),0)>0,1+VLOOKUP(Worksheet!$C$16,SavingsSupportTable,4,FALSE),1)/IF(Worksheet!M478>0,Worksheet!M478,Worksheet!L478),\"\"),\"\")","v":""},"",{"$f":"IF(Worksheet!L478<>0,IFERROR(VLOOKUP(Worksheet!$C$16,SavingsSupportTable,3,FALSE)*Worksheet!AQ478*IF(IFERROR(SEARCH(\"Gas\",Worksheet!$G$17),0)>0,VLOOKUP(\"Gas\",HVACg_Lookup,MATCH(Worksheet!$G$16,BuildingSize,0)+1,FALSE),IF(IFERROR(SEARCH(\"Oil\",Worksheet!$G$17),0)>0,VLOOKUP(\"Oil\",HVACg_Lookup,MATCH(Worksheet!$G$16,BuildingSize,0)+1,FALSE),IF(IFERROR(SEARCH(\"Propane\",Worksheet!$G$17),0)>0,VLOOKUP(\"Propane\",HVACg_Lookup,MATCH(Worksheet!$G$16,BuildingSize,0)+1,FALSE),0)))/IF(Worksheet!M478>0,Worksheet!M478,Worksheet!L478),0),\"\")","v":""},"",null,null,null,{"$f":"IF(ISBLANK(Worksheet!M478)=FALSE,Worksheet!M478,\"\")","v":0},{"$f":"IF(Worksheet!A478=\"-\",\"\",IF(Worksheet!A478=\"\",S454,Worksheet!A478))","v":""},{"$f":"IF(S455=\"\",\"\",IF(AND(Worksheet!G478=\"\",Worksheet!H478=\"\")=TRUE,T454,IF(Worksheet!G478=\"\",\"\",Worksheet!G478)))","v":""},{"$f":"IF(S455=\"\",\"\",IF(AND(Worksheet!G478=\"\",Worksheet!H478=\"\")=TRUE,U454,IF(Worksheet!H478=\"\",\"\",Worksheet!H478)))","v":""},{"$f":"IF(Worksheet!N478=\"\",\"\",Worksheet!N478)","v":""},{"$f":"IF(Worksheet!O478=\"\",\"\",Worksheet!O478)","v":""},{"$f":"IF(Worksheet!F478=0,\"\",Worksheet!F478)","v":""},{"$f":"IF(Worksheet!P478=0,\"\",Worksheet!P478)","v":""},{"$f":"IF(Worksheet!$A$11=TRUE,\"Y\",\"N\")","v":"N"},{"$f":"IF(Worksheet!$A$12=TRUE,\"Y\",\"N\")","v":"N"},{"$f":"IF(Worksheet!$B$11=TRUE,\"Y\",\"N\")","v":"N"},{"$f":"IF(Worksheet!$B$12=TRUE,\"Y\",\"N\")","v":"N"},{"$f":"IF(Worksheet!$C$11=TRUE,\"Y\",\"N\")","v":"N"},{"$f":"IF(Worksheet!$C$12=TRUE,\"Y\",\"N\")","v":"N"},""]
[{"$f":"IF(ISERROR(VLOOKUP(Worksheet!N479,MeasureLookup,2,FALSE))=FALSE,VLOOKUP(Worksheet!N479,MeasureLookup,2,FALSE),\"\")","v":""},{"$f":"Worksheet!Q479","v":0},{"$f":"Worksheet!R479","v":0},{"$f":"IF(ISERROR(Worksheet!P479)=FALSE,Worksheet!P479,\"\")","v":0},"Watts",null,null,{"$f":"IF(Worksheet!AP479<>\"\",IF(Worksheet!AP479>0,Worksheet!AP479/IF(Worksheet!M479>0,Worksheet!M479,Worksheet!L479),\"\"),\"\")","v":""},{"$f":"IF(ISBLANK(Worksheet!L479)=FALSE,Worksheet!L479,\"\")","v":0},{"$f":"IF(Worksheet!L479<>0, IFERROR(VLOOKUP(Worksheet!$C$16,SavingsSupportTable,3,FALSE)*Worksheet!AQ479*IFERROR(1+VLOOKUP(Worksheet!$C$16,SavingsSupportTable,MATCH(Worksheet!$G$17,HVACe_Options,0)+4,FALSE),1)/IF(Worksheet!M479>0,Worksheet!M479,Worksheet!L479),\"\"),\"\")","v":""},{"$f":"IF(Worksheet!L479<>0, IFERROR(VLOOKUP(Worksheet!$C$16,SavingsSupportTable,2,FALSE)*Worksheet!AQ479*IF(IFERROR(MATCH(Worksheet!$G$17,HVACe_Options,0),0)>0,1+VLOOKUP(Worksheet!$C$16,SavingsSupportTable,4,FALSE),1)/IF(Worksheet!M479>0,Worksheet!M479,Worksheet!L479),\"\"),\"\")","v":""},"",{"$f":"IF(Worksheet!L479<>0,IFERROR(VLOOKUP(Worksheet!$C$16,SavingsSupportTable,3,FALSE)*Worksheet!AQ479*IF(IFERROR(SEARCH(\"Gas\",Worksheet!$G$17),0)>0,VLOOKUP(\"Gas\",HVACg_Lookup,MATCH(Worksheet!$G$16,BuildingSize,0)+1,FALSE),IF(IFERROR(SEARCH(\"Oil\",Worksheet!$G$17),0)>0,VLOOKUP(\"Oil\",HVACg_Lookup,MATCH(Worksheet!$G$16,BuildingSize,0)+1,FALSE),IF(IFERROR(SEARCH(\"Propane\",Worksheet!$G$17),0)>0,VLOOKUP(\"Propane\",HVACg_Lookup,MATCH(Worksheet!$G$16,BuildingSize,0)+1,FALSE),0)))/IF(Worksheet!M479>0,Worksheet!M479,Worksheet!L479),0),\"\")","v":""},"",null,null,null,{"$f":"IF(ISBLANK(Worksheet!M479)=FALSE,Worksheet!M479,\"\")","v":0},{"$f":"IF(Worksheet!A479=\"-\",\"\",IF(Worksheet!A479=\"\",S455,Worksheet!A479))","v":""},{"$f":"IF(S456=\"\",\"\",IF(AND(Worksheet!G479=\"\",Worksheet!H479=\"\")=TRUE,T455,IF(Worksheet!G479=\"\",\"\",Worksheet!G479)))","v":""},{"$f":"IF(S456=\"\",\"\",IF(AND(Worksheet!G479=\"\",Worksheet!H479=\"\")=TRUE,U455,IF(Worksheet!H479=\"\",\"\",Worksheet!H479)))","v":""},{"$f":"IF(Worksheet!N479=\"\",\"\",Worksheet!N479)","v":""},{"$f":"IF(Worksheet!O479=\"\",\"\",Worksheet!O479)","v":""},{"$f":"IF(Worksheet!F479=0,\"\",Worksheet!F479)","v":""},{"$f":"IF(Worksheet!P479=0,\"\",Worksheet!P479)","v":""},{"$f":"IF(Worksheet!$A$11=TRUE,\"Y\",\"N\")","v":"N"},{"$f":"IF(Worksheet!$A$12=TRUE,\"Y\",\"N\")","v":"N"},{"$f":"IF(Worksheet!$B$11=TRUE,\"Y\",\"N\")","v":"N"},{"$f":"IF(Worksheet!$B$12=TRUE,\"Y\",\"N\")","v":"N"},{"$f":"IF(Worksheet!$C$11=TRUE,\"Y\",\"N\")","v":"N"},{"$f":"IF(Worksheet!$C$12=TRUE,\"Y\",\"N\")","v":"N"},""]
[{"$f":"IF(ISERROR(VLOOKUP(Worksheet!N480,MeasureLookup,2,FALSE))=FALSE,VLOOKUP(Worksheet!N480,MeasureLookup,2,FALSE),\"\")","v":""},{"$f":"Worksheet!Q480","v":0},{"$f":"Worksheet!R480","v":0},{"$f":"IF(ISERROR(Worksheet!P480)=FALSE,Worksheet!P480,\"\")","v":0},"Watts",null,null,{"$f":"IF(Worksheet!AP480<>\"\",IF(Worksheet!AP480>0,Worksheet!AP480/IF(Worksheet!M480>0,Worksheet!M480,Worksheet!L480),\"\"),\"\")","v":""},{"$f":"IF(ISBLANK(Worksheet!L480)=FALSE,Worksheet!L480,\"\")","v":0},{"$f":"IF(Worksheet!L480<>0, IFERROR(VLOOKUP(Worksheet!$C$16,SavingsSupportTable,3,FALSE)*Worksheet!AQ480*IFERROR(1+VLOOKUP(Worksheet!$C$16,SavingsSupportTable,MATCH(Worksheet!$G$17,HVACe_Options,0)+4,FALSE),1)/IF(Worksheet!M480>0,Worksheet!M480,Worksheet!L480),\"\"),\"\")","v":""},{"$f":"IF(Worksheet!L480<>0, IFERROR(VLOOKUP(Worksheet!$C$16,SavingsSupportTable,2,FALSE)*Worksheet!AQ480*IF(IFERROR(MATCH(Worksheet!$G$17,HVACe_Options,0),0)>0,1+VLOOKUP(Worksheet!$C$16,SavingsSupportTable,4,FALSE),1)/IF(Worksheet!M480>0,Worksheet!M480,Worksheet!L480),\"\"),\"\")","v":""},"",{"$f":"IF(Worksheet!L480<>0,IFERROR(VLOOKUP(Worksheet!$C$16,SavingsSupportTable,3,FALSE)*Worksheet!AQ480*IF(IFERROR(SEARCH(\"Gas\",Worksheet!$G$17),0)>0,VLOOKUP(\"Gas\",HVACg_Lookup,MATCH(Worksheet!$G$16,BuildingSize,0)+1,FALSE),IF(IFERROR(SEARCH(\"Oil\",Worksheet!$G$17),0)>0,VLOOKUP(\"Oil\",HVACg_Lookup,MATCH(Worksheet!$G$16,BuildingSize,0)+1,FALSE),IF(IFERROR(SEARCH(\"Propane\",Worksheet!$G$17),0)>0,VLOOKUP(\"Propane\",HVACg_Lookup,MATCH(Worksheet!$G$16,BuildingSize,0)+1,FALSE),0)))/IF(Worksheet!M480>0,Worksheet!M480,Worksheet!L480),0),\"\")","v":""},"",null,null,null,{"$f":"IF(ISBLANK(Worksheet!M480)=FALSE,Worksheet!M480,\"\")","v":0},{"$f":"IF(Worksheet!A480=\"-\",\"\",IF(Worksheet!A480=\"\",S456,Worksheet!A480))","v":""},{"$f":"IF(S457=\"\",\"\",IF(AND(Worksheet!G480=\"\",Worksheet!H480=\"\")=TRUE,T456,IF(Worksheet!G480=\"\",\"\",Worksheet!G480)))","v":""},{"$f":"IF(S457=\"\",\"\",IF(AND(Worksheet!G480=\"\",Worksheet!H480=\"\")=TRUE,U456,IF(Worksheet!H480=\"\",\"\",Worksheet!H480)))","v":""},{"$f":"IF(Worksheet!N480=\"\",\"\",Worksheet!N480)","v":""},{"$f":"IF(Worksheet!O480=\"\",\"\",Worksheet!O480)","v":""},{"$f":"IF(Worksheet!F480=0,\"\",Worksheet!F480)","v":""},{"$f":"IF(Worksheet!P480=0,\"\",Worksheet!P480)","v":""},{"$f":"IF(Worksheet!$A$11=TRUE,\"Y\",\"N\")","v":"N"},{"$f":"IF(Worksheet!$A$12=TRUE,\"Y\",\"N\")","v":"N"},{"$f":"IF(Worksheet!$B$11=TRUE,\"Y\",\"N\")","v":"N"},{"$f":"IF(Worksheet!$B$12=TRUE,\"Y\",\"N\")","v":"N"},{"$f":"IF(Worksheet!$C$11=TRUE,\"Y\",\"N\")","v":"N"},{"$f":"IF(Worksheet!$C$12=TRUE,\"Y\",\"N\")","v":"N"},""]
[{"$f":"IF(ISERROR(VLOOKUP(Worksheet!N481,MeasureLookup,2,FALSE))=FALSE,VLOOKUP(Worksheet!N481,MeasureLookup,2,FALSE),\"\")","v":""},{"$f":"Worksheet!Q481","v":0},{"$f":"Worksheet!R481","v":0},{"$f":"IF(ISERROR(Worksheet!P481)=FALSE,Worksheet!P481,\"\")","v":0},"Watts",null,null,{"$f":"IF(Worksheet!AP481<>\"\",IF(Worksheet!AP481>0,Worksheet!AP481/IF(Worksheet!M481>0,Worksheet!M481,Worksheet!L481),\"\"),\"\")","v":""},{"$f":"IF(ISBLANK(Worksheet!L481)=FALSE,Worksheet!L481,\"\")","v":0},{"$f":"IF(Worksheet!L481<>0, IFERROR(VLOOKUP(Worksheet!$C$16,SavingsSupportTable,3,FALSE)*Worksheet!AQ481*IFERROR(1+VLOOKUP(Worksheet!$C$16,SavingsSupportTable,MATCH(Worksheet!$G$17,HVACe_Options,0)+4,FALSE),1)/IF(Worksheet!M481>0,Worksheet!M481,Worksheet!L481),\"\"),\"\")","v":""},{"$f":"IF(Worksheet!L481<>0, IFERROR(VLOOKUP(Worksheet!$C$16,SavingsSupportTable,2,FALSE)*Worksheet!AQ481*IF(IFERROR(MATCH(Worksheet!$G$17,HVACe_Options,0),0)>0,1+VLOOKUP(Worksheet!$C$16,SavingsSupportTable,4,FALSE),1)/IF(Worksheet!M481>0,Worksheet!M481,Worksheet!L481),\"\"),\"\")","v":""},"",{"$f":"IF(Worksheet!L481<>0,IFERROR(VLOOKUP(Worksheet!$C$16,SavingsSupportTable,3,FALSE)*Worksheet!AQ481*IF(IFERROR(SEARCH(\"Gas\",Worksheet!$G$17),0)>0,VLOOKUP(\"Gas\",HVACg_Lookup,MATCH(Worksheet!$G$16,BuildingSize,0)+1,FALSE),IF(IFERROR(SEARCH(\"Oil\",Worksheet!$G$17),0)>0,VLOOKUP(\"Oil\",HVACg_Lookup,MATCH(Worksheet!$G$16,BuildingSize,0)+1,FALSE),IF(IFERROR(SEARCH(\"Propane\",Worksheet!$G$17),0)>0,VLOOKUP(\"Propane\",HVACg_Lookup,MATCH(Worksheet!$G$16,BuildingSize,0)+1,FALSE),0)))/IF(Worksheet!M481>0,Worksheet!M481,Worksheet!L481),0),\"\")","v":""},"",null,null,null,{"$f":"IF(ISBLANK(Worksheet!M481)=FALSE,Worksheet!M481,\"\")","v":0},{"$f":"IF(Worksheet!A481=\"-\",\"\",IF(Worksheet!A481=\"\",S457,Worksheet!A481))","v":""},{"$f":"IF(S458=\"\",\"\",IF(AND(Worksheet!G481=\"\",Worksheet!H481=\"\")=TRUE,T457,IF(Worksheet!G481=\"\",\"\",Worksheet!G481)))","v":""},{"$f":"IF(S458=\"\",\"\",IF(AND(Worksheet!G481=\"\",Worksheet!H481=\"\")=TRUE,U457,IF(Worksheet!H481=\"\",\"\",Worksheet!H481)))","v":""},{"$f":"IF(Worksheet!N481=\"\",\"\",Worksheet!N481)","v":""},{"$f":"IF(Worksheet!O481=\"\",\"\",Worksheet!O481)","v":""},{"$f":"IF(Worksheet!F481=0,\"\",Worksheet!F481)","v":""},{"$f":"IF(Worksheet!P481=0,\"\",Worksheet!P481)","v":""},{"$f":"IF(Worksheet!$A$11=TRUE,\"Y\",\"N\")","v":"N"},{"$f":"IF(Worksheet!$A$12=TRUE,\"Y\",\"N\")","v":"N"},{"$f":"IF(Worksheet!$B$11=TRUE,\"Y\",\"N\")","v":"N"},{"$f":"IF(Worksheet!$B$12=TRUE,\"Y\",\"N\")","v":"N"},{"$f":"IF(Worksheet!$C$11=TRUE,\"Y\",\"N\")","v":"N"},{"$f":"IF(Worksheet!$C$12=TRUE,\"Y\",\"N\")","v":"N"},""]
[{"$f":"IF(ISERROR(VLOOKUP(Worksheet!N482,MeasureLookup,2,FALSE))=FALSE,VLOOKUP(Worksheet!N482,MeasureLookup,2,FALSE),\"\")","v":""},{"$f":"Worksheet!Q482","v":0},{"$f":"Worksheet!R482","v":0},{"$f":"IF(ISERROR(Worksheet!P482)=FALSE,Worksheet!P482,\"\")","v":0},"Watts",null,null,{"$f":"IF(Worksheet!AP482<>\"\",IF(Worksheet!AP482>0,Worksheet!AP482/IF(Worksheet!M482>0,Worksheet!M482,Worksheet!L482),\"\"),\"\")","v":""},{"$f":"IF(ISBLANK(Worksheet!L482)=FALSE,Worksheet!L482,\"\")","v":0},{"$f":"IF(Worksheet!L482<>0, IFERROR(VLOOKUP(Worksheet!$C$16,SavingsSupportTable,3,FALSE)*Worksheet!AQ482*IFERROR(1+VLOOKUP(Worksheet!$C$16,SavingsSupportTable,MATCH(Worksheet!$G$17,HVACe_Options,0)+4,FALSE),1)/IF(Worksheet!M482>0,Worksheet!M482,Worksheet!L482),\"\"),\"\")","v":""},{"$f":"IF(Worksheet!L482<>0, IFERROR(VLOOKUP(Worksheet!$C$16,SavingsSupportTable,2,FALSE)*Worksheet!AQ482*IF(IFERROR(MATCH(Worksheet!$G$17,HVACe_Options,0),0)>0,1+VLOOKUP(Worksheet!$C$16,SavingsSupportTable,4,FALSE),1)/IF(Worksheet!M482>0,Worksheet!M482,Worksheet!L482),\"\"),\"\")","v":""},"",{"$f":"IF(Worksheet!L482<>0,IFERROR(VLOOKUP(Worksheet!$C$16,SavingsSupportTable,3,FALSE)*Worksheet!AQ482*IF(IFERROR(SEARCH(\"Gas\",Worksheet!$G$17),0)>0,VLOOKUP(\"Gas\",HVACg_Lookup,MATCH(Worksheet!$G$16,BuildingSize,0)+1,FALSE),IF(IFERROR(SEARCH(\"Oil\",Worksheet!$G$17),0)>0,VLOOKUP(\"Oil\",HVACg_Lookup,MATCH(Worksheet!$G$16,BuildingSize,0)+1,FALSE),IF(IFERROR(SEARCH(\"Propane\",Worksheet!$G$17),0)>0,VLOOKUP(\"Propane\",HVACg_Lookup,MATCH(Worksheet!$G$16,BuildingSize,0)+1,FALSE),0)))/IF(Worksheet!M482>0,Worksheet!M482,Worksheet!L482),0),\"\")","v":""},"",null,null,null,{"$f":"IF(ISBLANK(Worksheet!M482)=FALSE,Worksheet!M482,\"\")","v":0},{"$f":"IF(Worksheet!A482=\"-\",\"\",IF(Worksheet!A482=\"\",S458,Worksheet!A482))","v":""},{"$f":"IF(S459=\"\",\"\",IF(AND(Worksheet!G482=\"\",Worksheet!H482=\"\")=TRUE,T458,IF(Worksheet!G482=\"\",\"\",Worksheet!G482)))","v":""},{"$f":"IF(S459=\"\",\"\",IF(AND(Worksheet!G482=\"\",Worksheet!H482=\"\")=TRUE,U458,IF(Worksheet!H482=\"\",\"\",Worksheet!H482)))","v":""},{"$f":"IF(Worksheet!N482=\"\",\"\",Worksheet!N482)","v":""},{"$f":"IF(Worksheet!O482=\"\",\"\",Worksheet!O482)","v":""},{"$f":"IF(Worksheet!F482=0,\"\",Worksheet!F482)","v":""},{"$f":"IF(Worksheet!P482=0,\"\",Worksheet!P482)","v":""},{"$f":"IF(Worksheet!$A$11=TRUE,\"Y\",\"N\")","v":"N"},{"$f":"IF(Worksheet!$A$12=TRUE,\"Y\",\"N\")","v":"N"},{"$f":"IF(Worksheet!$B$11=TRUE,\"Y\",\"N\")","v":"N"},{"$f":"IF(Worksheet!$B$12=TRUE,\"Y\",\"N\")","v":"N"},{"$f":"IF(Worksheet!$C$11=TRUE,\"Y\",\"N\")","v":"N"},{"$f":"IF(Worksheet!$C$12=TRUE,\"Y\",\"N\")","v":"N"},""]
[{"$f":"IF(ISERROR(VLOOKUP(Worksheet!N483,MeasureLookup,2,FALSE))=FALSE,VLOOKUP(Worksheet!N483,MeasureLookup,2,FALSE),\"\")","v":""},{"$f":"Worksheet!Q483","v":0},{"$f":"Worksheet!R483","v":0},{"$f":"IF(ISERROR(Worksheet!P483)=FALSE,Worksheet!P483,\"\")","v":0},"Watts",null,null,{"$f":"IF(Worksheet!AP483<>\"\",IF(Worksheet!AP483>0,Worksheet!AP483/IF(Worksheet!M483>0,Worksheet!M483,Worksheet!L483),\"\"),\"\")","v":""},{"$f":"IF(ISBLANK(Worksheet!L483)=FALSE,Worksheet!L483,\"\")","v":0},{"$f":"IF(Worksheet!L483<>0, IFERROR(VLOOKUP(Worksheet!$C$16,SavingsSupportTable,3,FALSE)*Worksheet!AQ483*IFERROR(1+VLOOKUP(Worksheet!$C$16,SavingsSupportTable,MATCH(Worksheet!$G$17,HVACe_Options,0)+4,FALSE),1)/IF(Worksheet!M483>0,Worksheet!M483,Worksheet!L483),\"\"),\"\")","v":""},{"$f":"IF(Worksheet!L483<>0, IFERROR(VLOOKUP(Worksheet!$C$16,SavingsSupportTable,2,FALSE)*Worksheet!AQ483*IF(IFERROR(MATCH(Worksheet!$G$17,HVACe_Options,0),0)>0,1+VLOOKUP(Worksheet!$C$16,SavingsSupportTable,4,FALSE),1)/IF(Worksheet!M483>0,Worksheet!M483,Worksheet!L483),\"\"),\"\")","v":""},"",{"$f":"IF(Worksheet!L483<>0,IFERROR(VLOOKUP(Worksheet!$C$16,SavingsSupportTable,3,FALSE)*Worksheet!AQ483*IF(IFERROR(SEARCH(\"Gas\",Worksheet!$G$17),0)>0,VLOOKUP(\"Gas\",HVACg_Lookup,MATCH(Worksheet!$G$16,BuildingSize,0)+1,FALSE),IF(IFERROR(SEARCH(\"Oil\",Worksheet!$G$17),0)>0,VLOOKUP(\"Oil\",HVACg_Lookup,MATCH(Worksheet!$G$16,BuildingSize,0)+1,FALSE),IF(IFERROR(SEARCH(\"Propane\",Worksheet!$G$17),0)>0,VLOOKUP(\"Propane\",HVACg_Lookup,MATCH(Worksheet!$G$16,BuildingSize,0)+1,FALSE),0)))/IF(Worksheet!M483>0,Worksheet!M483,Worksheet!L483),0),\"\")","v":""},"",null,null,null,{"$f":"IF(ISBLANK(Worksheet!M483)=FALSE,Worksheet!M483,\"\")","v":0},{"$f":"IF(Worksheet!A483=\"-\",\"\",IF(Worksheet!A483=\"\",S459,Worksheet!A483))","v":""},{"$f":"IF(S460=\"\",\"\",IF(AND(Worksheet!G483=\"\",Worksheet!H483=\"\")=TRUE,T459,IF(Worksheet!G483=\"\",\"\",Worksheet!G483)))","v":""},{"$f":"IF(S460=\"\",\"\",IF(AND(Worksheet!G483=\"\",Worksheet!H483=\"\")=TRUE,U459,IF(Worksheet!H483=\"\",\"\",Worksheet!H483)))","v":""},{"$f":"IF(Worksheet!N483=\"\",\"\",Worksheet!N483)","v":""},{"$f":"IF(Worksheet!O483=\"\",\"\",Worksheet!O483)","v":""},{"$f":"IF(Worksheet!F483=0,\"\",Worksheet!F483)","v":""},{"$f":"IF(Worksheet!P483=0,\"\",Worksheet!P483)","v":""},{"$f":"IF(Worksheet!$A$11=TRUE,\"Y\",\"N\")","v":"N"},{"$f":"IF(Worksheet!$A$12=TRUE,\"Y\",\"N\")","v":"N"},{"$f":"IF(Worksheet!$B$11=TRUE,\"Y\",\"N\")","v":"N"},{"$f":"IF(Worksheet!$B$12=TRUE,\"Y\",\"N\")","v":"N"},{"$f":"IF(Worksheet!$C$11=TRUE,\"Y\",\"N\")","v":"N"},{"$f":"IF(Worksheet!$C$12=TRUE,\"Y\",\"N\")","v":"N"},""]
[{"$f":"IF(ISERROR(VLOOKUP(Worksheet!N484,MeasureLookup,2,FALSE))=FALSE,VLOOKUP(Worksheet!N484,MeasureLookup,2,FALSE),\"\")","v":""},{"$f":"Worksheet!Q484","v":0},{"$f":"Worksheet!R484","v":0},{"$f":"IF(ISERROR(Worksheet!P484)=FALSE,Worksheet!P484,\"\")","v":0},"Watts",null,null,{"$f":"IF(Worksheet!AP484<>\"\",IF(Worksheet!AP484>0,Worksheet!AP484/IF(Worksheet!M484>0,Worksheet!M484,Worksheet!L484),\"\"),\"\")","v":""},{"$f":"IF(ISBLANK(Worksheet!L484)=FALSE,Worksheet!L484,\"\")","v":0},{"$f":"IF(Worksheet!L484<>0, IFERROR(VLOOKUP(Worksheet!$C$16,SavingsSupportTable,3,FALSE)*Worksheet!AQ484*IFERROR(1+VLOOKUP(Worksheet!$C$16,SavingsSupportTable,MATCH(Worksheet!$G$17,HVACe_Options,0)+4,FALSE),1)/IF(Worksheet!M484>0,Worksheet!M484,Worksheet!L484),\"\"),\"\")","v":""},{"$f":"IF(Worksheet!L484<>0, IFERROR(VLOOKUP(Worksheet!$C$16,SavingsSupportTable,2,FALSE)*Worksheet!AQ484*IF(IFERROR(MATCH(Worksheet!$G$17,HVACe_Options,0),0)>0,1+VLOOKUP(Worksheet!$C$16,SavingsSupportTable,4,FALSE),1)/IF(Worksheet!M484>0,Worksheet!M484,Worksheet!L484),\"\"),\"\")","v":""},"",{"$f":"IF(Worksheet!L484<>0,IFERROR(VLOOKUP(Worksheet!$C$16,SavingsSupportTable,3,FALSE)*Worksheet!AQ484*IF(IFERROR(SEARCH(\"Gas\",Worksheet!$G$17),0)>0,VLOOKUP(\"Gas\",HVACg_Lookup,MATCH(Worksheet!$G$16,BuildingSize,0)+1,FALSE),IF(IFERROR(SEARCH(\"Oil\",Worksheet!$G$17),0)>0,VLOOKUP(\"Oil\",HVACg_Lookup,MATCH(Worksheet!$G$16,BuildingSize,0)+1,FALSE),IF(IFERROR(SEARCH(\"Propane\",Worksheet!$G$17),0)>0,VLOOKUP(\"Propane\",HVACg_Lookup,MATCH(Worksheet!$G$16,BuildingSize,0)+1,FALSE),0)))/IF(Worksheet!M484>0,Worksheet!M484,Worksheet!L484),0),\"\")","v":""},"",null,null,null,{"$f":"IF(ISBLANK(Worksheet!M484)=FALSE,Worksheet!M484,\"\")","v":0},{"$f":"IF(Worksheet!A484=\"-\",\"\",IF(Worksheet!A484=\"\",S460,Worksheet!A484))","v":""},{"$f":"IF(S461=\"\",\"\",IF(AND(Worksheet!G484=\"\",Worksheet!H484=\"\")=TRUE,T460,IF(Worksheet!G484=\"\",\"\",Worksheet!G484)))","v":""},{"$f":"IF(S461=\"\",\"\",IF(AND(Worksheet!G484=\"\",Worksheet!H484=\"\")=TRUE,U460,IF(Worksheet!H484=\"\",\"\",Worksheet!H484)))","v":""},{"$f":"IF(Worksheet!N484=\"\",\"\",Worksheet!N484)","v":""},{"$f":"IF(Worksheet!O484=\"\",\"\",Worksheet!O484)","v":""},{"$f":"IF(Worksheet!F484=0,\"\",Worksheet!F484)","v":""},{"$f":"IF(Worksheet!P484=0,\"\",Worksheet!P484)","v":""},{"$f":"IF(Worksheet!$A$11=TRUE,\"Y\",\"N\")","v":"N"},{"$f":"IF(Worksheet!$A$12=TRUE,\"Y\",\"N\")","v":"N"},{"$f":"IF(Worksheet!$B$11=TRUE,\"Y\",\"N\")","v":"N"},{"$f":"IF(Worksheet!$B$12=TRUE,\"Y\",\"N\")","v":"N"},{"$f":"IF(Worksheet!$C$11=TRUE,\"Y\",\"N\")","v":"N"},{"$f":"IF(Worksheet!$C$12=TRUE,\"Y\",\"N\")","v":"N"},""]
[{"$f":"IF(ISERROR(VLOOKUP(Worksheet!N485,MeasureLookup,2,FALSE))=FALSE,VLOOKUP(Worksheet!N485,MeasureLookup,2,FALSE),\"\")","v":""},{"$f":"Worksheet!Q485","v":0},{"$f":"Worksheet!R485","v":0},{"$f":"IF(ISERROR(Worksheet!P485)=FALSE,Worksheet!P485,\"\")","v":0},"Watts",null,null,{"$f":"IF(Worksheet!AP485<>\"\",IF(Worksheet!AP485>0,Worksheet!AP485/IF(Worksheet!M485>0,Worksheet!M485,Worksheet!L485),\"\"),\"\")","v":""},{"$f":"IF(ISBLANK(Worksheet!L485)=FALSE,Worksheet!L485,\"\")","v":0},{"$f":"IF(Worksheet!L485<>0, IFERROR(VLOOKUP(Worksheet!$C$16,SavingsSupportTable,3,FALSE)*Worksheet!AQ485*IFERROR(1+VLOOKUP(Worksheet!$C$16,SavingsSupportTable,MATCH(Worksheet!$G$17,HVACe_Options,0)+4,FALSE),1)/IF(Worksheet!M485>0,Worksheet!M485,Worksheet!L485),\"\"),\"\")","v":""},{"$f":"IF(Worksheet!L485<>0, IFERROR(VLOOKUP(Worksheet!$C$16,SavingsSupportTable,2,FALSE)*Worksheet!AQ485*IF(IFERROR(MATCH(Worksheet!$G$17,HVACe_Options,0),0)>0,1+VLOOKUP(Worksheet!$C$16,SavingsSupportTable,4,FALSE),1)/IF(Worksheet!M485>0,Worksheet!M485,Worksheet!L485),\"\"),\"\")","v":""},"",{"$f":"IF(Worksheet!L485<>0,IFERROR(VLOOKUP(Worksheet!$C$16,SavingsSupportTable,3,FALSE)*Worksheet!AQ485*IF(IFERROR(SEARCH(\"Gas\",Worksheet!$G$17),0)>0,VLOOKUP(\"Gas\",HVACg_Lookup,MATCH(Worksheet!$G$16,BuildingSize,0)+1,FALSE),IF(IFERROR(SEARCH(\"Oil\",Worksheet!$G$17),0)>0,VLOOKUP(\"Oil\",HVACg_Lookup,MATCH(Worksheet!$G$16,BuildingSize,0)+1,FALSE),IF(IFERROR(SEARCH(\"Propane\",Worksheet!$G$17),0)>0,VLOOKUP(\"Propane\",HVACg_Lookup,MATCH(Worksheet!$G$16,BuildingSize,0)+1,FALSE),0)))/IF(Worksheet!M485>0,Worksheet!M485,Worksheet!L485),0),\"\")","v":""},"",null,null,null,{"$f":"IF(ISBLANK(Worksheet!M485)=FALSE,Worksheet!M485,\"\")","v":0},{"$f":"IF(Worksheet!A485=\"-\",\"\",IF(Worksheet!A485=\"\",S461,Worksheet!A485))","v":""},{"$f":"IF(S462=\"\",\"\",IF(AND(Worksheet!G485=\"\",Worksheet!H485=\"\")=TRUE,T461,IF(Worksheet!G485=\"\",\"\",Worksheet!G485)))","v":""},{"$f":"IF(S462=\"\",\"\",IF(AND(Worksheet!G485=\"\",Worksheet!H485=\"\")=TRUE,U461,IF(Worksheet!H485=\"\",\"\",Worksheet!H485)))","v":""},{"$f":"IF(Worksheet!N485=\"\",\"\",Worksheet!N485)","v":""},{"$f":"IF(Worksheet!O485=\"\",\"\",Worksheet!O485)","v":""},{"$f":"IF(Worksheet!F485=0,\"\",Worksheet!F485)","v":""},{"$f":"IF(Worksheet!P485=0,\"\",Worksheet!P485)","v":""},{"$f":"IF(Worksheet!$A$11=TRUE,\"Y\",\"N\")","v":"N"},{"$f":"IF(Worksheet!$A$12=TRUE,\"Y\",\"N\")","v":"N"},{"$f":"IF(Worksheet!$B$11=TRUE,\"Y\",\"N\")","v":"N"},{"$f":"IF(Worksheet!$B$12=TRUE,\"Y\",\"N\")","v":"N"},{"$f":"IF(Worksheet!$C$11=TRUE,\"Y\",\"N\")","v":"N"},{"$f":"IF(Worksheet!$C$12=TRUE,\"Y\",\"N\")","v":"N"},""]
[{"$f":"IF(ISERROR(VLOOKUP(Worksheet!N486,MeasureLookup,2,FALSE))=FALSE,VLOOKUP(Worksheet!N486,MeasureLookup,2,FALSE),\"\")","v":""},{"$f":"Worksheet!Q486","v":0},{"$f":"Worksheet!R486","v":0},{"$f":"IF(ISERROR(Worksheet!P486)=FALSE,Worksheet!P486,\"\")","v":0},"Watts",null,null,{"$f":"IF(Worksheet!AP486<>\"\",IF(Worksheet!AP486>0,Worksheet!AP486/IF(Worksheet!M486>0,Worksheet!M486,Worksheet!L486),\"\"),\"\")","v":""},{"$f":"IF(ISBLANK(Worksheet!L486)=FALSE,Worksheet!L486,\"\")","v":0},{"$f":"IF(Worksheet!L486<>0, IFERROR(VLOOKUP(Worksheet!$C$16,SavingsSupportTable,3,FALSE)*Worksheet!AQ486*IFERROR(1+VLOOKUP(Worksheet!$C$16,SavingsSupportTable,MATCH(Worksheet!$G$17,HVACe_Options,0)+4,FALSE),1)/IF(Worksheet!M486>0,Worksheet!M486,Worksheet!L486),\"\"),\"\")","v":""},{"$f":"IF(Worksheet!L486<>0, IFERROR(VLOOKUP(Worksheet!$C$16,SavingsSupportTable,2,FALSE)*Worksheet!AQ486*IF(IFERROR(MATCH(Worksheet!$G$17,HVACe_Options,0),0)>0,1+VLOOKUP(Worksheet!$C$16,SavingsSupportTable,4,FALSE),1)/IF(Worksheet!M486>0,Worksheet!M486,Worksheet!L486),\"\"),\"\")","v":""},"",{"$f":"IF(Worksheet!L486<>0,IFERROR(VLOOKUP(Worksheet!$C$16,SavingsSupportTable,3,FALSE)*Worksheet!AQ486*IF(IFERROR(SEARCH(\"Gas\",Worksheet!$G$17),0)>0,VLOOKUP(\"Gas\",HVACg_Lookup,MATCH(Worksheet!$G$16,BuildingSize,0)+1,FALSE),IF(IFERROR(SEARCH(\"Oil\",Worksheet!$G$17),0)>0,VLOOKUP(\"Oil\",HVACg_Lookup,MATCH(Worksheet!$G$16,BuildingSize,0)+1,FALSE),IF(IFERROR(SEARCH(\"Propane\",Worksheet!$G$17),0)>0,VLOOKUP(\"Propane\",HVACg_Lookup,MATCH(Worksheet!$G$16,BuildingSize,0)+1,FALSE),0)))/IF(Worksheet!M486>0,Worksheet!M486,Worksheet!L486),0),\"\")","v":""},"",null,null,null,{"$f":"IF(ISBLANK(Worksheet!M486)=FALSE,Worksheet!M486,\"\")","v":0},{"$f":"IF(Worksheet!A486=\"-\",\"\",IF(Worksheet!A486=\"\",S462,Worksheet!A486))","v":""},{"$f":"IF(S463=\"\",\"\",IF(AND(Worksheet!G486=\"\",Worksheet!H486=\"\")=TRUE,T462,IF(Worksheet!G486=\"\",\"\",Worksheet!G486)))","v":""},{"$f":"IF(S463=\"\",\"\",IF(AND(Worksheet!G486=\"\",Worksheet!H486=\"\")=TRUE,U462,IF(Worksheet!H486=\"\",\"\",Worksheet!H486)))","v":""},{"$f":"IF(Worksheet!N486=\"\",\"\",Worksheet!N486)","v":""},{"$f":"IF(Worksheet!O486=\"\",\"\",Worksheet!O486)","v":""},{"$f":"IF(Worksheet!F486=0,\"\",Worksheet!F486)","v":""},{"$f":"IF(Worksheet!P486=0,\"\",Worksheet!P486)","v":""},{"$f":"IF(Worksheet!$A$11=TRUE,\"Y\",\"N\")","v":"N"},{"$f":"IF(Worksheet!$A$12=TRUE,\"Y\",\"N\")","v":"N"},{"$f":"IF(Worksheet!$B$11=TRUE,\"Y\",\"N\")","v":"N"},{"$f":"IF(Worksheet!$B$12=TRUE,\"Y\",\"N\")","v":"N"},{"$f":"IF(Worksheet!$C$11=TRUE,\"Y\",\"N\")","v":"N"},{"$f":"IF(Worksheet!$C$12=TRUE,\"Y\",\"N\")","v":"N"},""]
[{"$f":"IF(ISERROR(VLOOKUP(Worksheet!N487,MeasureLookup,2,FALSE))=FALSE,VLOOKUP(Worksheet!N487,MeasureLookup,2,FALSE),\"\")","v":""},{"$f":"Worksheet!Q487","v":0},{"$f":"Worksheet!R487","v":0},{"$f":"IF(ISERROR(Worksheet!P487)=FALSE,Worksheet!P487,\"\")","v":0},"Watts",null,null,{"$f":"IF(Worksheet!AP487<>\"\",IF(Worksheet!AP487>0,Worksheet!AP487/IF(Worksheet!M487>0,Worksheet!M487,Worksheet!L487),\"\"),\"\")","v":""},{"$f":"IF(ISBLANK(Worksheet!L487)=FALSE,Worksheet!L487,\"\")","v":0},{"$f":"IF(Worksheet!L487<>0, IFERROR(VLOOKUP(Worksheet!$C$16,SavingsSupportTable,3,FALSE)*Worksheet!AQ487*IFERROR(1+VLOOKUP(Worksheet!$C$16,SavingsSupportTable,MATCH(Worksheet!$G$17,HVACe_Options,0)+4,FALSE),1)/IF(Worksheet!M487>0,Worksheet!M487,Worksheet!L487),\"\"),\"\")","v":""},{"$f":"IF(Worksheet!L487<>0, IFERROR(VLOOKUP(Worksheet!$C$16,SavingsSupportTable,2,FALSE)*Worksheet!AQ487*IF(IFERROR(MATCH(Worksheet!$G$17,HVACe_Options,0),0)>0,1+VLOOKUP(Worksheet!$C$16,SavingsSupportTable,4,FALSE),1)/IF(Worksheet!M487>0,Worksheet!M487,Worksheet!L487),\"\"),\"\")","v":""},"",{"$f":"IF(Worksheet!L487<>0,IFERROR(VLOOKUP(Worksheet!$C$16,SavingsSupportTable,3,FALSE)*Worksheet!AQ487*IF(IFERROR(SEARCH(\"Gas\",Worksheet!$G$17),0)>0,VLOOKUP(\"Gas\",HVACg_Lookup,MATCH(Worksheet!$G$16,BuildingSize,0)+1,FALSE),IF(IFERROR(SEARCH(\"Oil\",Worksheet!$G$17),0)>0,VLOOKUP(\"Oil\",HVACg_Lookup,MATCH(Worksheet!$G$16,BuildingSize,0)+1,FALSE),IF(IFERROR(SEARCH(\"Propane\",Worksheet!$G$17),0)>0,VLOOKUP(\"Propane\",HVACg_Lookup,MATCH(Worksheet!$G$16,BuildingSize,0)+1,FALSE),0)))/IF(Worksheet!M487>0,Worksheet!M487,Worksheet!L487),0),\"\")","v":""},"",null,null,null,{"$f":"IF(ISBLANK(Worksheet!M487)=FALSE,Worksheet!M487,\"\")","v":0},{"$f":"IF(Worksheet!A487=\"-\",\"\",IF(Worksheet!A487=\"\",S463,Worksheet!A487))","v":""},{"$f":"IF(S464=\"\",\"\",IF(AND(Worksheet!G487=\"\",Worksheet!H487=\"\")=TRUE,T463,IF(Worksheet!G487=\"\",\"\",Worksheet!G487)))","v":""},{"$f":"IF(S464=\"\",\"\",IF(AND(Worksheet!G487=\"\",Worksheet!H487=\"\")=TRUE,U463,IF(Worksheet!H487=\"\",\"\",Worksheet!H487)))","v":""},{"$f":"IF(Worksheet!N487=\"\",\"\",Worksheet!N487)","v":""},{"$f":"IF(Worksheet!O487=\"\",\"\",Worksheet!O487)","v":""},{"$f":"IF(Worksheet!F487=0,\"\",Worksheet!F487)","v":""},{"$f":"IF(Worksheet!P487=0,\"\",Worksheet!P487)","v":""},{"$f":"IF(Worksheet!$A$11=TRUE,\"Y\",\"N\")","v":"N"},{"$f":"IF(Worksheet!$A$12=TRUE,\"Y\",\"N\")","v":"N"},{"$f":"IF(Worksheet!$B$11=TRUE,\"Y\",\"N\")","v":"N"},{"$f":"IF(Worksheet!$B$12=TRUE,\"Y\",\"N\")","v":"N"},{"$f":"IF(Worksheet!$C$11=TRUE,\"Y\",\"N\")","v":"N"},{"$f":"IF(Worksheet!$C$12=TRUE,\"Y\",\"N\")","v":"N"},""]
[{"$f":"IF(ISERROR(VLOOKUP(Worksheet!N488,MeasureLookup,2,FALSE))=FALSE,VLOOKUP(Worksheet!N488,MeasureLookup,2,FALSE),\"\")","v":""},{"$f":"Worksheet!Q488","v":0},{"$f":"Worksheet!R488","v":0},{"$f":"IF(ISERROR(Worksheet!P488)=FALSE,Worksheet!P488,\"\")","v":0},"Watts",null,null,{"$f":"IF(Worksheet!AP488<>\"\",IF(Worksheet!AP488>0,Worksheet!AP488/IF(Worksheet!M488>0,Worksheet!M488,Worksheet!L488),\"\"),\"\")","v":""},{"$f":"IF(ISBLANK(Worksheet!L488)=FALSE,Worksheet!L488,\"\")","v":0},{"$f":"IF(Worksheet!L488<>0, IFERROR(VLOOKUP(Worksheet!$C$16,SavingsSupportTable,3,FALSE)*Worksheet!AQ488*IFERROR(1+VLOOKUP(Worksheet!$C$16,SavingsSupportTable,MATCH(Worksheet!$G$17,HVACe_Options,0)+4,FALSE),1)/IF(Worksheet!M488>0,Worksheet!M488,Worksheet!L488),\"\"),\"\")","v":""},{"$f":"IF(Worksheet!L488<>0, IFERROR(VLOOKUP(Worksheet!$C$16,SavingsSupportTable,2,FALSE)*Worksheet!AQ488*IF(IFERROR(MATCH(Worksheet!$G$17,HVACe_Options,0),0)>0,1+VLOOKUP(Worksheet!$C$16,SavingsSupportTable,4,FALSE),1)/IF(Worksheet!M488>0,Worksheet!M488,Worksheet!L488),\"\"),\"\")","v":""},"",{"$f":"IF(Worksheet!L488<>0,IFERROR(VLOOKUP(Worksheet!$C$16,SavingsSupportTable,3,FALSE)*Worksheet!AQ488*IF(IFERROR(SEARCH(\"Gas\",Worksheet!$G$17),0)>0,VLOOKUP(\"Gas\",HVACg_Lookup,MATCH(Worksheet!$G$16,BuildingSize,0)+1,FALSE),IF(IFERROR(SEARCH(\"Oil\",Worksheet!$G$17),0)>0,VLOOKUP(\"Oil\",HVACg_Lookup,MATCH(Worksheet!$G$16,BuildingSize,0)+1,FALSE),IF(IFERROR(SEARCH(\"Propane\",Worksheet!$G$17),0)>0,VLOOKUP(\"Propane\",HVACg_Lookup,MATCH(Worksheet!$G$16,BuildingSize,0)+1,FALSE),0)))/IF(Worksheet!M488>0,Worksheet!M488,Worksheet!L488),0),\"\")","v":""},"",null,null,null,{"$f":"IF(ISBLANK(Worksheet!M488)=FALSE,Worksheet!M488,\"\")","v":0},{"$f":"IF(Worksheet!A488=\"-\",\"\",IF(Worksheet!A488=\"\",S464,Worksheet!A488))","v":""},{"$f":"IF(S465=\"\",\"\",IF(AND(Worksheet!G488=\"\",Worksheet!H488=\"\")=TRUE,T464,IF(Worksheet!G488=\"\",\"\",Worksheet!G488)))","v":""},{"$f":"IF(S465=\"\",\"\",IF(AND(Worksheet!G488=\"\",Worksheet!H488=\"\")=TRUE,U464,IF(Worksheet!H488=\"\",\"\",Worksheet!H488)))","v":""},{"$f":"IF(Worksheet!N488=\"\",\"\",Worksheet!N488)","v":""},{"$f":"IF(Worksheet!O488=\"\",\"\",Worksheet!O488)","v":""},{"$f":"IF(Worksheet!F488=0,\"\",Worksheet!F488)","v":""},{"$f":"IF(Worksheet!P488=0,\"\",Worksheet!P488)","v":""},{"$f":"IF(Worksheet!$A$11=TRUE,\"Y\",\"N\")","v":"N"},{"$f":"IF(Worksheet!$A$12=TRUE,\"Y\",\"N\")","v":"N"},{"$f":"IF(Worksheet!$B$11=TRUE,\"Y\",\"N\")","v":"N"},{"$f":"IF(Worksheet!$B$12=TRUE,\"Y\",\"N\")","v":"N"},{"$f":"IF(Worksheet!$C$11=TRUE,\"Y\",\"N\")","v":"N"},{"$f":"IF(Worksheet!$C$12=TRUE,\"Y\",\"N\")","v":"N"},""]
[{"$f":"IF(ISERROR(VLOOKUP(Worksheet!N489,MeasureLookup,2,FALSE))=FALSE,VLOOKUP(Worksheet!N489,MeasureLookup,2,FALSE),\"\")","v":""},{"$f":"Worksheet!Q489","v":0},{"$f":"Worksheet!R489","v":0},{"$f":"IF(ISERROR(Worksheet!P489)=FALSE,Worksheet!P489,\"\")","v":0},"Watts",null,null,{"$f":"IF(Worksheet!AP489<>\"\",IF(Worksheet!AP489>0,Worksheet!AP489/IF(Worksheet!M489>0,Worksheet!M489,Worksheet!L489),\"\"),\"\")","v":""},{"$f":"IF(ISBLANK(Worksheet!L489)=FALSE,Worksheet!L489,\"\")","v":0},{"$f":"IF(Worksheet!L489<>0, IFERROR(VLOOKUP(Worksheet!$C$16,SavingsSupportTable,3,FALSE)*Worksheet!AQ489*IFERROR(1+VLOOKUP(Worksheet!$C$16,SavingsSupportTable,MATCH(Worksheet!$G$17,HVACe_Options,0)+4,FALSE),1)/IF(Worksheet!M489>0,Worksheet!M489,Worksheet!L489),\"\"),\"\")","v":""},{"$f":"IF(Worksheet!L489<>0, IFERROR(VLOOKUP(Worksheet!$C$16,SavingsSupportTable,2,FALSE)*Worksheet!AQ489*IF(IFERROR(MATCH(Worksheet!$G$17,HVACe_Options,0),0)>0,1+VLOOKUP(Worksheet!$C$16,SavingsSupportTable,4,FALSE),1)/IF(Worksheet!M489>0,Worksheet!M489,Worksheet!L489),\"\"),\"\")","v":""},"",{"$f":"IF(Worksheet!L489<>0,IFERROR(VLOOKUP(Worksheet!$C$16,SavingsSupportTable,3,FALSE)*Worksheet!AQ489*IF(IFERROR(SEARCH(\"Gas\",Worksheet!$G$17),0)>0,VLOOKUP(\"Gas\",HVACg_Lookup,MATCH(Worksheet!$G$16,BuildingSize,0)+1,FALSE),IF(IFERROR(SEARCH(\"Oil\",Worksheet!$G$17),0)>0,VLOOKUP(\"Oil\",HVACg_Lookup,MATCH(Worksheet!$G$16,BuildingSize,0)+1,FALSE),IF(IFERROR(SEARCH(\"Propane\",Worksheet!$G$17),0)>0,VLOOKUP(\"Propane\",HVACg_Lookup,MATCH(Worksheet!$G$16,BuildingSize,0)+1,FALSE),0)))/IF(Worksheet!M489>0,Worksheet!M489,Worksheet!L489),0),\"\")","v":""},"",null,null,null,{"$f":"IF(ISBLANK(Worksheet!M489)=FALSE,Worksheet!M489,\"\")","v":0},{"$f":"IF(Worksheet!A489=\"-\",\"\",IF(Worksheet!A489=\"\",S465,Worksheet!A489))","v":""},{"$f":"IF(S466=\"\",\"\",IF(AND(Worksheet!G489=\"\",Worksheet!H489=\"\")=TRUE,T465,IF(Worksheet!G489=\"\",\"\",Worksheet!G489)))","v":""},{"$f":"IF(S466=\"\",\"\",IF(AND(Worksheet!G489=\"\",Worksheet!H489=\"\")=TRUE,U465,IF(Worksheet!H489=\"\",\"\",Worksheet!H489)))","v":""},{"$f":"IF(Worksheet!N489=\"\",\"\",Worksheet!N489)","v":""},{"$f":"IF(Worksheet!O489=\"\",\"\",Worksheet!O489)","v":""},{"$f":"IF(Worksheet!F489=0,\"\",Worksheet!F489)","v":""},{"$f":"IF(Worksheet!P489=0,\"\",Worksheet!P489)","v":""},{"$f":"IF(Worksheet!$A$11=TRUE,\"Y\",\"N\")","v":"N"},{"$f":"IF(Worksheet!$A$12=TRUE,\"Y\",\"N\")","v":"N"},{"$f":"IF(Worksheet!$B$11=TRUE,\"Y\",\"N\")","v":"N"},{"$f":"IF(Worksheet!$B$12=TRUE,\"Y\",\"N\")","v":"N"},{"$f":"IF(Worksheet!$C$11=TRUE,\"Y\",\"N\")","v":"N"},{"$f":"IF(Worksheet!$C$12=TRUE,\"Y\",\"N\")","v":"N"},""]
[{"$f":"IF(ISERROR(VLOOKUP(Worksheet!N490,MeasureLookup,2,FALSE))=FALSE,VLOOKUP(Worksheet!N490,MeasureLookup,2,FALSE),\"\")","v":""},{"$f":"Worksheet!Q490","v":0},{"$f":"Worksheet!R490","v":0},{"$f":"IF(ISERROR(Worksheet!P490)=FALSE,Worksheet!P490,\"\")","v":0},"Watts",null,null,{"$f":"IF(Worksheet!AP490<>\"\",IF(Worksheet!AP490>0,Worksheet!AP490/IF(Worksheet!M490>0,Worksheet!M490,Worksheet!L490),\"\"),\"\")","v":""},{"$f":"IF(ISBLANK(Worksheet!L490)=FALSE,Worksheet!L490,\"\")","v":0},{"$f":"IF(Worksheet!L490<>0, IFERROR(VLOOKUP(Worksheet!$C$16,SavingsSupportTable,3,FALSE)*Worksheet!AQ490*IFERROR(1+VLOOKUP(Worksheet!$C$16,SavingsSupportTable,MATCH(Worksheet!$G$17,HVACe_Options,0)+4,FALSE),1)/IF(Worksheet!M490>0,Worksheet!M490,Worksheet!L490),\"\"),\"\")","v":""},{"$f":"IF(Worksheet!L490<>0, IFERROR(VLOOKUP(Worksheet!$C$16,SavingsSupportTable,2,FALSE)*Worksheet!AQ490*IF(IFERROR(MATCH(Worksheet!$G$17,HVACe_Options,0),0)>0,1+VLOOKUP(Worksheet!$C$16,SavingsSupportTable,4,FALSE),1)/IF(Worksheet!M490>0,Worksheet!M490,Worksheet!L490),\"\"),\"\")","v":""},"",{"$f":"IF(Worksheet!L490<>0,IFERROR(VLOOKUP(Worksheet!$C$16,SavingsSupportTable,3,FALSE)*Worksheet!AQ490*IF(IFERROR(SEARCH(\"Gas\",Worksheet!$G$17),0)>0,VLOOKUP(\"Gas\",HVACg_Lookup,MATCH(Worksheet!$G$16,BuildingSize,0)+1,FALSE),IF(IFERROR(SEARCH(\"Oil\",Worksheet!$G$17),0)>0,VLOOKUP(\"Oil\",HVACg_Lookup,MATCH(Worksheet!$G$16,BuildingSize,0)+1,FALSE),IF(IFERROR(SEARCH(\"Propane\",Worksheet!$G$17),0)>0,VLOOKUP(\"Propane\",HVACg_Lookup,MATCH(Worksheet!$G$16,BuildingSize,0)+1,FALSE),0)))/IF(Worksheet!M490>0,Worksheet!M490,Worksheet!L490),0),\"\")","v":""},"",null,null,null,{"$f":"IF(ISBLANK(Worksheet!M490)=FALSE,Worksheet!M490,\"\")","v":0},{"$f":"IF(Worksheet!A490=\"-\",\"\",IF(Worksheet!A490=\"\",S466,Worksheet!A490))","v":""},{"$f":"IF(S467=\"\",\"\",IF(AND(Worksheet!G490=\"\",Worksheet!H490=\"\")=TRUE,T466,IF(Worksheet!G490=\"\",\"\",Worksheet!G490)))","v":""},{"$f":"IF(S467=\"\",\"\",IF(AND(Worksheet!G490=\"\",Worksheet!H490=\"\")=TRUE,U466,IF(Worksheet!H490=\"\",\"\",Worksheet!H490)))","v":""},{"$f":"IF(Worksheet!N490=\"\",\"\",Worksheet!N490)","v":""},{"$f":"IF(Worksheet!O490=\"\",\"\",Worksheet!O490)","v":""},{"$f":"IF(Worksheet!F490=0,\"\",Worksheet!F490)","v":""},{"$f":"IF(Worksheet!P490=0,\"\",Worksheet!P490)","v":""},{"$f":"IF(Worksheet!$A$11=TRUE,\"Y\",\"N\")","v":"N"},{"$f":"IF(Worksheet!$A$12=TRUE,\"Y\",\"N\")","v":"N"},{"$f":"IF(Worksheet!$B$11=TRUE,\"Y\",\"N\")","v":"N"},{"$f":"IF(Worksheet!$B$12=TRUE,\"Y\",\"N\")","v":"N"},{"$f":"IF(Worksheet!$C$11=TRUE,\"Y\",\"N\")","v":"N"},{"$f":"IF(Worksheet!$C$12=TRUE,\"Y\",\"N\")","v":"N"},""]
[{"$f":"IF(ISERROR(VLOOKUP(Worksheet!N491,MeasureLookup,2,FALSE))=FALSE,VLOOKUP(Worksheet!N491,MeasureLookup,2,FALSE),\"\")","v":""},{"$f":"Worksheet!Q491","v":0},{"$f":"Worksheet!R491","v":0},{"$f":"IF(ISERROR(Worksheet!P491)=FALSE,Worksheet!P491,\"\")","v":0},"Watts",null,null,{"$f":"IF(Worksheet!AP491<>\"\",IF(Worksheet!AP491>0,Worksheet!AP491/IF(Worksheet!M491>0,Worksheet!M491,Worksheet!L491),\"\"),\"\")","v":""},{"$f":"IF(ISBLANK(Worksheet!L491)=FALSE,Worksheet!L491,\"\")","v":0},{"$f":"IF(Worksheet!L491<>0, IFERROR(VLOOKUP(Worksheet!$C$16,SavingsSupportTable,3,FALSE)*Worksheet!AQ491*IFERROR(1+VLOOKUP(Worksheet!$C$16,SavingsSupportTable,MATCH(Worksheet!$G$17,HVACe_Options,0)+4,FALSE),1)/IF(Worksheet!M491>0,Worksheet!M491,Worksheet!L491),\"\"),\"\")","v":""},{"$f":"IF(Worksheet!L491<>0, IFERROR(VLOOKUP(Worksheet!$C$16,SavingsSupportTable,2,FALSE)*Worksheet!AQ491*IF(IFERROR(MATCH(Worksheet!$G$17,HVACe_Options,0),0)>0,1+VLOOKUP(Worksheet!$C$16,SavingsSupportTable,4,FALSE),1)/IF(Worksheet!M491>0,Worksheet!M491,Worksheet!L491),\"\"),\"\")","v":""},"",{"$f":"IF(Worksheet!L491<>0,IFERROR(VLOOKUP(Worksheet!$C$16,SavingsSupportTable,3,FALSE)*Worksheet!AQ491*IF(IFERROR(SEARCH(\"Gas\",Worksheet!$G$17),0)>0,VLOOKUP(\"Gas\",HVACg_Lookup,MATCH(Worksheet!$G$16,BuildingSize,0)+1,FALSE),IF(IFERROR(SEARCH(\"Oil\",Worksheet!$G$17),0)>0,VLOOKUP(\"Oil\",HVACg_Lookup,MATCH(Worksheet!$G$16,BuildingSize,0)+1,FALSE),IF(IFERROR(SEARCH(\"Propane\",Worksheet!$G$17),0)>0,VLOOKUP(\"Propane\",HVACg_Lookup,MATCH(Worksheet!$G$16,BuildingSize,0)+1,FALSE),0)))/IF(Worksheet!M491>0,Worksheet!M491,Worksheet!L491),0),\"\")","v":""},"",null,null,null,{"$f":"IF(ISBLANK(Worksheet!M491)=FALSE,Worksheet!M491,\"\")","v":0},{"$f":"IF(Worksheet!A491=\"-\",\"\",IF(Worksheet!A491=\"\",S467,Worksheet!A491))","v":""},{"$f":"IF(S468=\"\",\"\",IF(AND(Worksheet!G491=\"\",Worksheet!H491=\"\")=TRUE,T467,IF(Worksheet!G491=\"\",\"\",Worksheet!G491)))","v":""},{"$f":"IF(S468=\"\",\"\",IF(AND(Worksheet!G491=\"\",Worksheet!H491=\"\")=TRUE,U467,IF(Worksheet!H491=\"\",\"\",Worksheet!H491)))","v":""},{"$f":"IF(Worksheet!N491=\"\",\"\",Worksheet!N491)","v":""},{"$f":"IF(Worksheet!O491=\"\",\"\",Worksheet!O491)","v":""},{"$f":"IF(Worksheet!F491=0,\"\",Worksheet!F491)","v":""},{"$f":"IF(Worksheet!P491=0,\"\",Worksheet!P491)","v":""},{"$f":"IF(Worksheet!$A$11=TRUE,\"Y\",\"N\")","v":"N"},{"$f":"IF(Worksheet!$A$12=TRUE,\"Y\",\"N\")","v":"N"},{"$f":"IF(Worksheet!$B$11=TRUE,\"Y\",\"N\")","v":"N"},{"$f":"IF(Worksheet!$B$12=TRUE,\"Y\",\"N\")","v":"N"},{"$f":"IF(Worksheet!$C$11=TRUE,\"Y\",\"N\")","v":"N"},{"$f":"IF(Worksheet!$C$12=TRUE,\"Y\",\"N\")","v":"N"},""]
[{"$f":"IF(ISERROR(VLOOKUP(Worksheet!N492,MeasureLookup,2,FALSE))=FALSE,VLOOKUP(Worksheet!N492,MeasureLookup,2,FALSE),\"\")","v":""},{"$f":"Worksheet!Q492","v":0},{"$f":"Worksheet!R492","v":0},{"$f":"IF(ISERROR(Worksheet!P492)=FALSE,Worksheet!P492,\"\")","v":0},"Watts",null,null,{"$f":"IF(Worksheet!AP492<>\"\",IF(Worksheet!AP492>0,Worksheet!AP492/IF(Worksheet!M492>0,Worksheet!M492,Worksheet!L492),\"\"),\"\")","v":""},{"$f":"IF(ISBLANK(Worksheet!L492)=FALSE,Worksheet!L492,\"\")","v":0},{"$f":"IF(Worksheet!L492<>0, IFERROR(VLOOKUP(Worksheet!$C$16,SavingsSupportTable,3,FALSE)*Worksheet!AQ492*IFERROR(1+VLOOKUP(Worksheet!$C$16,SavingsSupportTable,MATCH(Worksheet!$G$17,HVACe_Options,0)+4,FALSE),1)/IF(Worksheet!M492>0,Worksheet!M492,Worksheet!L492),\"\"),\"\")","v":""},{"$f":"IF(Worksheet!L492<>0, IFERROR(VLOOKUP(Worksheet!$C$16,SavingsSupportTable,2,FALSE)*Worksheet!AQ492*IF(IFERROR(MATCH(Worksheet!$G$17,HVACe_Options,0),0)>0,1+VLOOKUP(Worksheet!$C$16,SavingsSupportTable,4,FALSE),1)/IF(Worksheet!M492>0,Worksheet!M492,Worksheet!L492),\"\"),\"\")","v":""},"",{"$f":"IF(Worksheet!L492<>0,IFERROR(VLOOKUP(Worksheet!$C$16,SavingsSupportTable,3,FALSE)*Worksheet!AQ492*IF(IFERROR(SEARCH(\"Gas\",Worksheet!$G$17),0)>0,VLOOKUP(\"Gas\",HVACg_Lookup,MATCH(Worksheet!$G$16,BuildingSize,0)+1,FALSE),IF(IFERROR(SEARCH(\"Oil\",Worksheet!$G$17),0)>0,VLOOKUP(\"Oil\",HVACg_Lookup,MATCH(Worksheet!$G$16,BuildingSize,0)+1,FALSE),IF(IFERROR(SEARCH(\"Propane\",Worksheet!$G$17),0)>0,VLOOKUP(\"Propane\",HVACg_Lookup,MATCH(Worksheet!$G$16,BuildingSize,0)+1,FALSE),0)))/IF(Worksheet!M492>0,Worksheet!M492,Worksheet!L492),0),\"\")","v":""},"",null,null,null,{"$f":"IF(ISBLANK(Worksheet!M492)=FALSE,Worksheet!M492,\"\")","v":0},{"$f":"IF(Worksheet!A492=\"-\",\"\",IF(Worksheet!A492=\"\",S468,Worksheet!A492))","v":""},{"$f":"IF(S469=\"\",\"\",IF(AND(Worksheet!G492=\"\",Worksheet!H492=\"\")=TRUE,T468,IF(Worksheet!G492=\"\",\"\",Worksheet!G492)))","v":""},{"$f":"IF(S469=\"\",\"\",IF(AND(Worksheet!G492=\"\",Worksheet!H492=\"\")=TRUE,U468,IF(Worksheet!H492=\"\",\"\",Worksheet!H492)))","v":""},{"$f":"IF(Worksheet!N492=\"\",\"\",Worksheet!N492)","v":""},{"$f":"IF(Worksheet!O492=\"\",\"\",Worksheet!O492)","v":""},{"$f":"IF(Worksheet!F492=0,\"\",Worksheet!F492)","v":""},{"$f":"IF(Worksheet!P492=0,\"\",Worksheet!P492)","v":""},{"$f":"IF(Worksheet!$A$11=TRUE,\"Y\",\"N\")","v":"N"},{"$f":"IF(Worksheet!$A$12=TRUE,\"Y\",\"N\")","v":"N"},{"$f":"IF(Worksheet!$B$11=TRUE,\"Y\",\"N\")","v":"N"},{"$f":"IF(Worksheet!$B$12=TRUE,\"Y\",\"N\")","v":"N"},{"$f":"IF(Worksheet!$C$11=TRUE,\"Y\",\"N\")","v":"N"},{"$f":"IF(Worksheet!$C$12=TRUE,\"Y\",\"N\")","v":"N"},""]
[{"$f":"IF(ISERROR(VLOOKUP(Worksheet!N493,MeasureLookup,2,FALSE))=FALSE,VLOOKUP(Worksheet!N493,MeasureLookup,2,FALSE),\"\")","v":""},{"$f":"Worksheet!Q493","v":0},{"$f":"Worksheet!R493","v":0},{"$f":"IF(ISERROR(Worksheet!P493)=FALSE,Worksheet!P493,\"\")","v":0},"Watts",null,null,{"$f":"IF(Worksheet!AP493<>\"\",IF(Worksheet!AP493>0,Worksheet!AP493/IF(Worksheet!M493>0,Worksheet!M493,Worksheet!L493),\"\"),\"\")","v":""},{"$f":"IF(ISBLANK(Worksheet!L493)=FALSE,Worksheet!L493,\"\")","v":0},{"$f":"IF(Worksheet!L493<>0, IFERROR(VLOOKUP(Worksheet!$C$16,SavingsSupportTable,3,FALSE)*Worksheet!AQ493*IFERROR(1+VLOOKUP(Worksheet!$C$16,SavingsSupportTable,MATCH(Worksheet!$G$17,HVACe_Options,0)+4,FALSE),1)/IF(Worksheet!M493>0,Worksheet!M493,Worksheet!L493),\"\"),\"\")","v":""},{"$f":"IF(Worksheet!L493<>0, IFERROR(VLOOKUP(Worksheet!$C$16,SavingsSupportTable,2,FALSE)*Worksheet!AQ493*IF(IFERROR(MATCH(Worksheet!$G$17,HVACe_Options,0),0)>0,1+VLOOKUP(Worksheet!$C$16,SavingsSupportTable,4,FALSE),1)/IF(Worksheet!M493>0,Worksheet!M493,Worksheet!L493),\"\"),\"\")","v":""},"",{"$f":"IF(Worksheet!L493<>0,IFERROR(VLOOKUP(Worksheet!$C$16,SavingsSupportTable,3,FALSE)*Worksheet!AQ493*IF(IFERROR(SEARCH(\"Gas\",Worksheet!$G$17),0)>0,VLOOKUP(\"Gas\",HVACg_Lookup,MATCH(Worksheet!$G$16,BuildingSize,0)+1,FALSE),IF(IFERROR(SEARCH(\"Oil\",Worksheet!$G$17),0)>0,VLOOKUP(\"Oil\",HVACg_Lookup,MATCH(Worksheet!$G$16,BuildingSize,0)+1,FALSE),IF(IFERROR(SEARCH(\"Propane\",Worksheet!$G$17),0)>0,VLOOKUP(\"Propane\",HVACg_Lookup,MATCH(Worksheet!$G$16,BuildingSize,0)+1,FALSE),0)))/IF(Worksheet!M493>0,Worksheet!M493,Worksheet!L493),0),\"\")","v":""},"",null,null,null,{"$f":"IF(ISBLANK(Worksheet!M493)=FALSE,Worksheet!M493,\"\")","v":0},{"$f":"IF(Worksheet!A493=\"-\",\"\",IF(Worksheet!A493=\"\",S469,Worksheet!A493))","v":""},{"$f":"IF(S470=\"\",\"\",IF(AND(Worksheet!G493=\"\",Worksheet!H493=\"\")=TRUE,T469,IF(Worksheet!G493=\"\",\"\",Worksheet!G493)))","v":""},{"$f":"IF(S470=\"\",\"\",IF(AND(Worksheet!G493=\"\",Worksheet!H493=\"\")=TRUE,U469,IF(Worksheet!H493=\"\",\"\",Worksheet!H493)))","v":""},{"$f":"IF(Worksheet!N493=\"\",\"\",Worksheet!N493)","v":""},{"$f":"IF(Worksheet!O493=\"\",\"\",Worksheet!O493)","v":""},{"$f":"IF(Worksheet!F493=0,\"\",Worksheet!F493)","v":""},{"$f":"IF(Worksheet!P493=0,\"\",Worksheet!P493)","v":""},{"$f":"IF(Worksheet!$A$11=TRUE,\"Y\",\"N\")","v":"N"},{"$f":"IF(Worksheet!$A$12=TRUE,\"Y\",\"N\")","v":"N"},{"$f":"IF(Worksheet!$B$11=TRUE,\"Y\",\"N\")","v":"N"},{"$f":"IF(Worksheet!$B$12=TRUE,\"Y\",\"N\")","v":"N"},{"$f":"IF(Worksheet!$C$11=TRUE,\"Y\",\"N\")","v":"N"},{"$f":"IF(Worksheet!$C$12=TRUE,\"Y\",\"N\")","v":"N"},""]
[{"$f":"IF(ISERROR(VLOOKUP(Worksheet!N494,MeasureLookup,2,FALSE))=FALSE,VLOOKUP(Worksheet!N494,MeasureLookup,2,FALSE),\"\")","v":""},{"$f":"Worksheet!Q494","v":0},{"$f":"Worksheet!R494","v":0},{"$f":"IF(ISERROR(Worksheet!P494)=FALSE,Worksheet!P494,\"\")","v":0},"Watts",null,null,{"$f":"IF(Worksheet!AP494<>\"\",IF(Worksheet!AP494>0,Worksheet!AP494/IF(Worksheet!M494>0,Worksheet!M494,Worksheet!L494),\"\"),\"\")","v":""},{"$f":"IF(ISBLANK(Worksheet!L494)=FALSE,Worksheet!L494,\"\")","v":0},{"$f":"IF(Worksheet!L494<>0, IFERROR(VLOOKUP(Worksheet!$C$16,SavingsSupportTable,3,FALSE)*Worksheet!AQ494*IFERROR(1+VLOOKUP(Worksheet!$C$16,SavingsSupportTable,MATCH(Worksheet!$G$17,HVACe_Options,0)+4,FALSE),1)/IF(Worksheet!M494>0,Worksheet!M494,Worksheet!L494),\"\"),\"\")","v":""},{"$f":"IF(Worksheet!L494<>0, IFERROR(VLOOKUP(Worksheet!$C$16,SavingsSupportTable,2,FALSE)*Worksheet!AQ494*IF(IFERROR(MATCH(Worksheet!$G$17,HVACe_Options,0),0)>0,1+VLOOKUP(Worksheet!$C$16,SavingsSupportTable,4,FALSE),1)/IF(Worksheet!M494>0,Worksheet!M494,Worksheet!L494),\"\"),\"\")","v":""},"",{"$f":"IF(Worksheet!L494<>0,IFERROR(VLOOKUP(Worksheet!$C$16,SavingsSupportTable,3,FALSE)*Worksheet!AQ494*IF(IFERROR(SEARCH(\"Gas\",Worksheet!$G$17),0)>0,VLOOKUP(\"Gas\",HVACg_Lookup,MATCH(Worksheet!$G$16,BuildingSize,0)+1,FALSE),IF(IFERROR(SEARCH(\"Oil\",Worksheet!$G$17),0)>0,VLOOKUP(\"Oil\",HVACg_Lookup,MATCH(Worksheet!$G$16,BuildingSize,0)+1,FALSE),IF(IFERROR(SEARCH(\"Propane\",Worksheet!$G$17),0)>0,VLOOKUP(\"Propane\",HVACg_Lookup,MATCH(Worksheet!$G$16,BuildingSize,0)+1,FALSE),0)))/IF(Worksheet!M494>0,Worksheet!M494,Worksheet!L494),0),\"\")","v":""},"",null,null,null,{"$f":"IF(ISBLANK(Worksheet!M494)=FALSE,Worksheet!M494,\"\")","v":0},{"$f":"IF(Worksheet!A494=\"-\",\"\",IF(Worksheet!A494=\"\",S470,Worksheet!A494))","v":""},{"$f":"IF(S471=\"\",\"\",IF(AND(Worksheet!G494=\"\",Worksheet!H494=\"\")=TRUE,T470,IF(Worksheet!G494=\"\",\"\",Worksheet!G494)))","v":""},{"$f":"IF(S471=\"\",\"\",IF(AND(Worksheet!G494=\"\",Worksheet!H494=\"\")=TRUE,U470,IF(Worksheet!H494=\"\",\"\",Worksheet!H494)))","v":""},{"$f":"IF(Worksheet!N494=\"\",\"\",Worksheet!N494)","v":""},{"$f":"IF(Worksheet!O494=\"\",\"\",Worksheet!O494)","v":""},{"$f":"IF(Worksheet!F494=0,\"\",Worksheet!F494)","v":""},{"$f":"IF(Worksheet!P494=0,\"\",Worksheet!P494)","v":""},{"$f":"IF(Worksheet!$A$11=TRUE,\"Y\",\"N\")","v":"N"},{"$f":"IF(Worksheet!$A$12=TRUE,\"Y\",\"N\")","v":"N"},{"$f":"IF(Worksheet!$B$11=TRUE,\"Y\",\"N\")","v":"N"},{"$f":"IF(Worksheet!$B$12=TRUE,\"Y\",\"N\")","v":"N"},{"$f":"IF(Worksheet!$C$11=TRUE,\"Y\",\"N\")","v":"N"},{"$f":"IF(Worksheet!$C$12=TRUE,\"Y\",\"N\")","v":"N"},""]
[{"$f":"IF(ISERROR(VLOOKUP(Worksheet!N495,MeasureLookup,2,FALSE))=FALSE,VLOOKUP(Worksheet!N495,MeasureLookup,2,FALSE),\"\")","v":""},{"$f":"Worksheet!Q495","v":0},{"$f":"Worksheet!R495","v":0},{"$f":"IF(ISERROR(Worksheet!P495)=FALSE,Worksheet!P495,\"\")","v":0},"Watts",null,null,{"$f":"IF(Worksheet!AP495<>\"\",IF(Worksheet!AP495>0,Worksheet!AP495/IF(Worksheet!M495>0,Worksheet!M495,Worksheet!L495),\"\"),\"\")","v":""},{"$f":"IF(ISBLANK(Worksheet!L495)=FALSE,Worksheet!L495,\"\")","v":0},{"$f":"IF(Worksheet!L495<>0, IFERROR(VLOOKUP(Worksheet!$C$16,SavingsSupportTable,3,FALSE)*Worksheet!AQ495*IFERROR(1+VLOOKUP(Worksheet!$C$16,SavingsSupportTable,MATCH(Worksheet!$G$17,HVACe_Options,0)+4,FALSE),1)/IF(Worksheet!M495>0,Worksheet!M495,Worksheet!L495),\"\"),\"\")","v":""},{"$f":"IF(Worksheet!L495<>0, IFERROR(VLOOKUP(Worksheet!$C$16,SavingsSupportTable,2,FALSE)*Worksheet!AQ495*IF(IFERROR(MATCH(Worksheet!$G$17,HVACe_Options,0),0)>0,1+VLOOKUP(Worksheet!$C$16,SavingsSupportTable,4,FALSE),1)/IF(Worksheet!M495>0,Worksheet!M495,Worksheet!L495),\"\"),\"\")","v":""},"",{"$f":"IF(Worksheet!L495<>0,IFERROR(VLOOKUP(Worksheet!$C$16,SavingsSupportTable,3,FALSE)*Worksheet!AQ495*IF(IFERROR(SEARCH(\"Gas\",Worksheet!$G$17),0)>0,VLOOKUP(\"Gas\",HVACg_Lookup,MATCH(Worksheet!$G$16,BuildingSize,0)+1,FALSE),IF(IFERROR(SEARCH(\"Oil\",Worksheet!$G$17),0)>0,VLOOKUP(\"Oil\",HVACg_Lookup,MATCH(Worksheet!$G$16,BuildingSize,0)+1,FALSE),IF(IFERROR(SEARCH(\"Propane\",Worksheet!$G$17),0)>0,VLOOKUP(\"Propane\",HVACg_Lookup,MATCH(Worksheet!$G$16,BuildingSize,0)+1,FALSE),0)))/IF(Worksheet!M495>0,Worksheet!M495,Worksheet!L495),0),\"\")","v":""},"",null,null,null,{"$f":"IF(ISBLANK(Worksheet!M495)=FALSE,Worksheet!M495,\"\")","v":0},{"$f":"IF(Worksheet!A495=\"-\",\"\",IF(Worksheet!A495=\"\",S471,Worksheet!A495))","v":""},{"$f":"IF(S472=\"\",\"\",IF(AND(Worksheet!G495=\"\",Worksheet!H495=\"\")=TRUE,T471,IF(Worksheet!G495=\"\",\"\",Worksheet!G495)))","v":""},{"$f":"IF(S472=\"\",\"\",IF(AND(Worksheet!G495=\"\",Worksheet!H495=\"\")=TRUE,U471,IF(Worksheet!H495=\"\",\"\",Worksheet!H495)))","v":""},{"$f":"IF(Worksheet!N495=\"\",\"\",Worksheet!N495)","v":""},{"$f":"IF(Worksheet!O495=\"\",\"\",Worksheet!O495)","v":""},{"$f":"IF(Worksheet!F495=0,\"\",Worksheet!F495)","v":""},{"$f":"IF(Worksheet!P495=0,\"\",Worksheet!P495)","v":""},{"$f":"IF(Worksheet!$A$11=TRUE,\"Y\",\"N\")","v":"N"},{"$f":"IF(Worksheet!$A$12=TRUE,\"Y\",\"N\")","v":"N"},{"$f":"IF(Worksheet!$B$11=TRUE,\"Y\",\"N\")","v":"N"},{"$f":"IF(Worksheet!$B$12=TRUE,\"Y\",\"N\")","v":"N"},{"$f":"IF(Worksheet!$C$11=TRUE,\"Y\",\"N\")","v":"N"},{"$f":"IF(Worksheet!$C$12=TRUE,\"Y\",\"N\")","v":"N"},""]
[{"$f":"IF(ISERROR(VLOOKUP(Worksheet!N496,MeasureLookup,2,FALSE))=FALSE,VLOOKUP(Worksheet!N496,MeasureLookup,2,FALSE),\"\")","v":""},{"$f":"Worksheet!Q496","v":0},{"$f":"Worksheet!R496","v":0},{"$f":"IF(ISERROR(Worksheet!P496)=FALSE,Worksheet!P496,\"\")","v":0},"Watts",null,null,{"$f":"IF(Worksheet!AP496<>\"\",IF(Worksheet!AP496>0,Worksheet!AP496/IF(Worksheet!M496>0,Worksheet!M496,Worksheet!L496),\"\"),\"\")","v":""},{"$f":"IF(ISBLANK(Worksheet!L496)=FALSE,Worksheet!L496,\"\")","v":0},{"$f":"IF(Worksheet!L496<>0, IFERROR(VLOOKUP(Worksheet!$C$16,SavingsSupportTable,3,FALSE)*Worksheet!AQ496*IFERROR(1+VLOOKUP(Worksheet!$C$16,SavingsSupportTable,MATCH(Worksheet!$G$17,HVACe_Options,0)+4,FALSE),1)/IF(Worksheet!M496>0,Worksheet!M496,Worksheet!L496),\"\"),\"\")","v":""},{"$f":"IF(Worksheet!L496<>0, IFERROR(VLOOKUP(Worksheet!$C$16,SavingsSupportTable,2,FALSE)*Worksheet!AQ496*IF(IFERROR(MATCH(Worksheet!$G$17,HVACe_Options,0),0)>0,1+VLOOKUP(Worksheet!$C$16,SavingsSupportTable,4,FALSE),1)/IF(Worksheet!M496>0,Worksheet!M496,Worksheet!L496),\"\"),\"\")","v":""},"",{"$f":"IF(Worksheet!L496<>0,IFERROR(VLOOKUP(Worksheet!$C$16,SavingsSupportTable,3,FALSE)*Worksheet!AQ496*IF(IFERROR(SEARCH(\"Gas\",Worksheet!$G$17),0)>0,VLOOKUP(\"Gas\",HVACg_Lookup,MATCH(Worksheet!$G$16,BuildingSize,0)+1,FALSE),IF(IFERROR(SEARCH(\"Oil\",Worksheet!$G$17),0)>0,VLOOKUP(\"Oil\",HVACg_Lookup,MATCH(Worksheet!$G$16,BuildingSize,0)+1,FALSE),IF(IFERROR(SEARCH(\"Propane\",Worksheet!$G$17),0)>0,VLOOKUP(\"Propane\",HVACg_Lookup,MATCH(Worksheet!$G$16,BuildingSize,0)+1,FALSE),0)))/IF(Worksheet!M496>0,Worksheet!M496,Worksheet!L496),0),\"\")","v":""},"",null,null,null,{"$f":"IF(ISBLANK(Worksheet!M496)=FALSE,Worksheet!M496,\"\")","v":0},{"$f":"IF(Worksheet!A496=\"-\",\"\",IF(Worksheet!A496=\"\",S472,Worksheet!A496))","v":""},{"$f":"IF(S473=\"\",\"\",IF(AND(Worksheet!G496=\"\",Worksheet!H496=\"\")=TRUE,T472,IF(Worksheet!G496=\"\",\"\",Worksheet!G496)))","v":""},{"$f":"IF(S473=\"\",\"\",IF(AND(Worksheet!G496=\"\",Worksheet!H496=\"\")=TRUE,U472,IF(Worksheet!H496=\"\",\"\",Worksheet!H496)))","v":""},{"$f":"IF(Worksheet!N496=\"\",\"\",Worksheet!N496)","v":""},{"$f":"IF(Worksheet!O496=\"\",\"\",Worksheet!O496)","v":""},{"$f":"IF(Worksheet!F496=0,\"\",Worksheet!F496)","v":""},{"$f":"IF(Worksheet!P496=0,\"\",Worksheet!P496)","v":""},{"$f":"IF(Worksheet!$A$11=TRUE,\"Y\",\"N\")","v":"N"},{"$f":"IF(Worksheet!$A$12=TRUE,\"Y\",\"N\")","v":"N"},{"$f":"IF(Worksheet!$B$11=TRUE,\"Y\",\"N\")","v":"N"},{"$f":"IF(Worksheet!$B$12=TRUE,\"Y\",\"N\")","v":"N"},{"$f":"IF(Worksheet!$C$11=TRUE,\"Y\",\"N\")","v":"N"},{"$f":"IF(Worksheet!$C$12=TRUE,\"Y\",\"N\")","v":"N"},""]
[{"$f":"IF(ISERROR(VLOOKUP(Worksheet!N497,MeasureLookup,2,FALSE))=FALSE,VLOOKUP(Worksheet!N497,MeasureLookup,2,FALSE),\"\")","v":""},{"$f":"Worksheet!Q497","v":0},{"$f":"Worksheet!R497","v":0},{"$f":"IF(ISERROR(Worksheet!P497)=FALSE,Worksheet!P497,\"\")","v":0},"Watts",null,null,{"$f":"IF(Worksheet!AP497<>\"\",IF(Worksheet!AP497>0,Worksheet!AP497/IF(Worksheet!M497>0,Worksheet!M497,Worksheet!L497),\"\"),\"\")","v":""},{"$f":"IF(ISBLANK(Worksheet!L497)=FALSE,Worksheet!L497,\"\")","v":0},{"$f":"IF(Worksheet!L497<>0, IFERROR(VLOOKUP(Worksheet!$C$16,SavingsSupportTable,3,FALSE)*Worksheet!AQ497*IFERROR(1+VLOOKUP(Worksheet!$C$16,SavingsSupportTable,MATCH(Worksheet!$G$17,HVACe_Options,0)+4,FALSE),1)/IF(Worksheet!M497>0,Worksheet!M497,Worksheet!L497),\"\"),\"\")","v":""},{"$f":"IF(Worksheet!L497<>0, IFERROR(VLOOKUP(Worksheet!$C$16,SavingsSupportTable,2,FALSE)*Worksheet!AQ497*IF(IFERROR(MATCH(Worksheet!$G$17,HVACe_Options,0),0)>0,1+VLOOKUP(Worksheet!$C$16,SavingsSupportTable,4,FALSE),1)/IF(Worksheet!M497>0,Worksheet!M497,Worksheet!L497),\"\"),\"\")","v":""},"",{"$f":"IF(Worksheet!L497<>0,IFERROR(VLOOKUP(Worksheet!$C$16,SavingsSupportTable,3,FALSE)*Worksheet!AQ497*IF(IFERROR(SEARCH(\"Gas\",Worksheet!$G$17),0)>0,VLOOKUP(\"Gas\",HVACg_Lookup,MATCH(Worksheet!$G$16,BuildingSize,0)+1,FALSE),IF(IFERROR(SEARCH(\"Oil\",Worksheet!$G$17),0)>0,VLOOKUP(\"Oil\",HVACg_Lookup,MATCH(Worksheet!$G$16,BuildingSize,0)+1,FALSE),IF(IFERROR(SEARCH(\"Propane\",Worksheet!$G$17),0)>0,VLOOKUP(\"Propane\",HVACg_Lookup,MATCH(Worksheet!$G$16,BuildingSize,0)+1,FALSE),0)))/IF(Worksheet!M497>0,Worksheet!M497,Worksheet!L497),0),\"\")","v":""},"",null,null,null,{"$f":"IF(ISBLANK(Worksheet!M497)=FALSE,Worksheet!M497,\"\")","v":0},{"$f":"IF(Worksheet!A497=\"-\",\"\",IF(Worksheet!A497=\"\",S473,Worksheet!A497))","v":""},{"$f":"IF(S474=\"\",\"\",IF(AND(Worksheet!G497=\"\",Worksheet!H497=\"\")=TRUE,T473,IF(Worksheet!G497=\"\",\"\",Worksheet!G497)))","v":""},{"$f":"IF(S474=\"\",\"\",IF(AND(Worksheet!G497=\"\",Worksheet!H497=\"\")=TRUE,U473,IF(Worksheet!H497=\"\",\"\",Worksheet!H497)))","v":""},{"$f":"IF(Worksheet!N497=\"\",\"\",Worksheet!N497)","v":""},{"$f":"IF(Worksheet!O497=\"\",\"\",Worksheet!O497)","v":""},{"$f":"IF(Worksheet!F497=0,\"\",Worksheet!F497)","v":""},{"$f":"IF(Worksheet!P497=0,\"\",Worksheet!P497)","v":""},{"$f":"IF(Worksheet!$A$11=TRUE,\"Y\",\"N\")","v":"N"},{"$f":"IF(Worksheet!$A$12=TRUE,\"Y\",\"N\")","v":"N"},{"$f":"IF(Worksheet!$B$11=TRUE,\"Y\",\"N\")","v":"N"},{"$f":"IF(Worksheet!$B$12=TRUE,\"Y\",\"N\")","v":"N"},{"$f":"IF(Worksheet!$C$11=TRUE,\"Y\",\"N\")","v":"N"},{"$f":"IF(Worksheet!$C$12=TRUE,\"Y\",\"N\")","v":"N"},""]
[{"$f":"IF(ISERROR(VLOOKUP(Worksheet!N498,MeasureLookup,2,FALSE))=FALSE,VLOOKUP(Worksheet!N498,MeasureLookup,2,FALSE),\"\")","v":""},{"$f":"Worksheet!Q498","v":0},{"$f":"Worksheet!R498","v":0},{"$f":"IF(ISERROR(Worksheet!P498)=FALSE,Worksheet!P498,\"\")","v":0},"Watts",null,null,{"$f":"IF(Worksheet!AP498<>\"\",IF(Worksheet!AP498>0,Worksheet!AP498/IF(Worksheet!M498>0,Worksheet!M498,Worksheet!L498),\"\"),\"\")","v":""},{"$f":"IF(ISBLANK(Worksheet!L498)=FALSE,Worksheet!L498,\"\")","v":0},{"$f":"IF(Worksheet!L498<>0, IFERROR(VLOOKUP(Worksheet!$C$16,SavingsSupportTable,3,FALSE)*Worksheet!AQ498*IFERROR(1+VLOOKUP(Worksheet!$C$16,SavingsSupportTable,MATCH(Worksheet!$G$17,HVACe_Options,0)+4,FALSE),1)/IF(Worksheet!M498>0,Worksheet!M498,Worksheet!L498),\"\"),\"\")","v":""},{"$f":"IF(Worksheet!L498<>0, IFERROR(VLOOKUP(Worksheet!$C$16,SavingsSupportTable,2,FALSE)*Worksheet!AQ498*IF(IFERROR(MATCH(Worksheet!$G$17,HVACe_Options,0),0)>0,1+VLOOKUP(Worksheet!$C$16,SavingsSupportTable,4,FALSE),1)/IF(Worksheet!M498>0,Worksheet!M498,Worksheet!L498),\"\"),\"\")","v":""},"",{"$f":"IF(Worksheet!L498<>0,IFERROR(VLOOKUP(Worksheet!$C$16,SavingsSupportTable,3,FALSE)*Worksheet!AQ498*IF(IFERROR(SEARCH(\"Gas\",Worksheet!$G$17),0)>0,VLOOKUP(\"Gas\",HVACg_Lookup,MATCH(Worksheet!$G$16,BuildingSize,0)+1,FALSE),IF(IFERROR(SEARCH(\"Oil\",Worksheet!$G$17),0)>0,VLOOKUP(\"Oil\",HVACg_Lookup,MATCH(Worksheet!$G$16,BuildingSize,0)+1,FALSE),IF(IFERROR(SEARCH(\"Propane\",Worksheet!$G$17),0)>0,VLOOKUP(\"Propane\",HVACg_Lookup,MATCH(Worksheet!$G$16,BuildingSize,0)+1,FALSE),0)))/IF(Worksheet!M498>0,Worksheet!M498,Worksheet!L498),0),\"\")","v":""},"",null,null,null,{"$f":"IF(ISBLANK(Worksheet!M498)=FALSE,Worksheet!M498,\"\")","v":0},{"$f":"IF(Worksheet!A498=\"-\",\"\",IF(Worksheet!A498=\"\",S474,Worksheet!A498))","v":""},{"$f":"IF(S475=\"\",\"\",IF(AND(Worksheet!G498=\"\",Worksheet!H498=\"\")=TRUE,T474,IF(Worksheet!G498=\"\",\"\",Worksheet!G498)))","v":""},{"$f":"IF(S475=\"\",\"\",IF(AND(Worksheet!G498=\"\",Worksheet!H498=\"\")=TRUE,U474,IF(Worksheet!H498=\"\",\"\",Worksheet!H498)))","v":""},{"$f":"IF(Worksheet!N498=\"\",\"\",Worksheet!N498)","v":""},{"$f":"IF(Worksheet!O498=\"\",\"\",Worksheet!O498)","v":""},{"$f":"IF(Worksheet!F498=0,\"\",Worksheet!F498)","v":""},{"$f":"IF(Worksheet!P498=0,\"\",Worksheet!P498)","v":""},{"$f":"IF(Worksheet!$A$11=TRUE,\"Y\",\"N\")","v":"N"},{"$f":"IF(Worksheet!$A$12=TRUE,\"Y\",\"N\")","v":"N"},{"$f":"IF(Worksheet!$B$11=TRUE,\"Y\",\"N\")","v":"N"},{"$f":"IF(Worksheet!$B$12=TRUE,\"Y\",\"N\")","v":"N"},{"$f":"IF(Worksheet!$C$11=TRUE,\"Y\",\"N\")","v":"N"},{"$f":"IF(Worksheet!$C$12=TRUE,\"Y\",\"N\")","v":"N"},""]
[{"$f":"IF(ISERROR(VLOOKUP(Worksheet!N499,MeasureLookup,2,FALSE))=FALSE,VLOOKUP(Worksheet!N499,MeasureLookup,2,FALSE),\"\")","v":""},{"$f":"Worksheet!Q499","v":0},{"$f":"Worksheet!R499","v":0},{"$f":"IF(ISERROR(Worksheet!P499)=FALSE,Worksheet!P499,\"\")","v":0},"Watts",null,null,{"$f":"IF(Worksheet!AP499<>\"\",IF(Worksheet!AP499>0,Worksheet!AP499/IF(Worksheet!M499>0,Worksheet!M499,Worksheet!L499),\"\"),\"\")","v":""},{"$f":"IF(ISBLANK(Worksheet!L499)=FALSE,Worksheet!L499,\"\")","v":0},{"$f":"IF(Worksheet!L499<>0, IFERROR(VLOOKUP(Worksheet!$C$16,SavingsSupportTable,3,FALSE)*Worksheet!AQ499*IFERROR(1+VLOOKUP(Worksheet!$C$16,SavingsSupportTable,MATCH(Worksheet!$G$17,HVACe_Options,0)+4,FALSE),1)/IF(Worksheet!M499>0,Worksheet!M499,Worksheet!L499),\"\"),\"\")","v":""},{"$f":"IF(Worksheet!L499<>0, IFERROR(VLOOKUP(Worksheet!$C$16,SavingsSupportTable,2,FALSE)*Worksheet!AQ499*IF(IFERROR(MATCH(Worksheet!$G$17,HVACe_Options,0),0)>0,1+VLOOKUP(Worksheet!$C$16,SavingsSupportTable,4,FALSE),1)/IF(Worksheet!M499>0,Worksheet!M499,Worksheet!L499),\"\"),\"\")","v":""},"",{"$f":"IF(Worksheet!L499<>0,IFERROR(VLOOKUP(Worksheet!$C$16,SavingsSupportTable,3,FALSE)*Worksheet!AQ499*IF(IFERROR(SEARCH(\"Gas\",Worksheet!$G$17),0)>0,VLOOKUP(\"Gas\",HVACg_Lookup,MATCH(Worksheet!$G$16,BuildingSize,0)+1,FALSE),IF(IFERROR(SEARCH(\"Oil\",Worksheet!$G$17),0)>0,VLOOKUP(\"Oil\",HVACg_Lookup,MATCH(Worksheet!$G$16,BuildingSize,0)+1,FALSE),IF(IFERROR(SEARCH(\"Propane\",Worksheet!$G$17),0)>0,VLOOKUP(\"Propane\",HVACg_Lookup,MATCH(Worksheet!$G$16,BuildingSize,0)+1,FALSE),0)))/IF(Worksheet!M499>0,Worksheet!M499,Worksheet!L499),0),\"\")","v":""},"",null,null,null,{"$f":"IF(ISBLANK(Worksheet!M499)=FALSE,Worksheet!M499,\"\")","v":0},{"$f":"IF(Worksheet!A499=\"-\",\"\",IF(Worksheet!A499=\"\",S475,Worksheet!A499))","v":""},{"$f":"IF(S476=\"\",\"\",IF(AND(Worksheet!G499=\"\",Worksheet!H499=\"\")=TRUE,T475,IF(Worksheet!G499=\"\",\"\",Worksheet!G499)))","v":""},{"$f":"IF(S476=\"\",\"\",IF(AND(Worksheet!G499=\"\",Worksheet!H499=\"\")=TRUE,U475,IF(Worksheet!H499=\"\",\"\",Worksheet!H499)))","v":""},{"$f":"IF(Worksheet!N499=\"\",\"\",Worksheet!N499)","v":""},{"$f":"IF(Worksheet!O499=\"\",\"\",Worksheet!O499)","v":""},{"$f":"IF(Worksheet!F499=0,\"\",Worksheet!F499)","v":""},{"$f":"IF(Worksheet!P499=0,\"\",Worksheet!P499)","v":""},{"$f":"IF(Worksheet!$A$11=TRUE,\"Y\",\"N\")","v":"N"},{"$f":"IF(Worksheet!$A$12=TRUE,\"Y\",\"N\")","v":"N"},{"$f":"IF(Worksheet!$B$11=TRUE,\"Y\",\"N\")","v":"N"},{"$f":"IF(Worksheet!$B$12=TRUE,\"Y\",\"N\")","v":"N"},{"$f":"IF(Worksheet!$C$11=TRUE,\"Y\",\"N\")","v":"N"},{"$f":"IF(Worksheet!$C$12=TRUE,\"Y\",\"N\")","v":"N"},""]
[{"$f":"IF(ISERROR(VLOOKUP(Worksheet!N500,MeasureLookup,2,FALSE))=FALSE,VLOOKUP(Worksheet!N500,MeasureLookup,2,FALSE),\"\")","v":""},{"$f":"Worksheet!Q500","v":0},{"$f":"Worksheet!R500","v":0},{"$f":"IF(ISERROR(Worksheet!P500)=FALSE,Worksheet!P500,\"\")","v":0},"Watts",null,null,{"$f":"IF(Worksheet!AP500<>\"\",IF(Worksheet!AP500>0,Worksheet!AP500/IF(Worksheet!M500>0,Worksheet!M500,Worksheet!L500),\"\"),\"\")","v":""},{"$f":"IF(ISBLANK(Worksheet!L500)=FALSE,Worksheet!L500,\"\")","v":0},{"$f":"IF(Worksheet!L500<>0, IFERROR(VLOOKUP(Worksheet!$C$16,SavingsSupportTable,3,FALSE)*Worksheet!AQ500*IFERROR(1+VLOOKUP(Worksheet!$C$16,SavingsSupportTable,MATCH(Worksheet!$G$17,HVACe_Options,0)+4,FALSE),1)/IF(Worksheet!M500>0,Worksheet!M500,Worksheet!L500),\"\"),\"\")","v":""},{"$f":"IF(Worksheet!L500<>0, IFERROR(VLOOKUP(Worksheet!$C$16,SavingsSupportTable,2,FALSE)*Worksheet!AQ500*IF(IFERROR(MATCH(Worksheet!$G$17,HVACe_Options,0),0)>0,1+VLOOKUP(Worksheet!$C$16,SavingsSupportTable,4,FALSE),1)/IF(Worksheet!M500>0,Worksheet!M500,Worksheet!L500),\"\"),\"\")","v":""},"",{"$f":"IF(Worksheet!L500<>0,IFERROR(VLOOKUP(Worksheet!$C$16,SavingsSupportTable,3,FALSE)*Worksheet!AQ500*IF(IFERROR(SEARCH(\"Gas\",Worksheet!$G$17),0)>0,VLOOKUP(\"Gas\",HVACg_Lookup,MATCH(Worksheet!$G$16,BuildingSize,0)+1,FALSE),IF(IFERROR(SEARCH(\"Oil\",Worksheet!$G$17),0)>0,VLOOKUP(\"Oil\",HVACg_Lookup,MATCH(Worksheet!$G$16,BuildingSize,0)+1,FALSE),IF(IFERROR(SEARCH(\"Propane\",Worksheet!$G$17),0)>0,VLOOKUP(\"Propane\",HVACg_Lookup,MATCH(Worksheet!$G$16,BuildingSize,0)+1,FALSE),0)))/IF(Worksheet!M500>0,Worksheet!M500,Worksheet!L500),0),\"\")","v":""},"",null,null,null,{"$f":"IF(ISBLANK(Worksheet!M500)=FALSE,Worksheet!M500,\"\")","v":0},{"$f":"IF(Worksheet!A500=\"-\",\"\",IF(Worksheet!A500=\"\",S476,Worksheet!A500))","v":""},{"$f":"IF(S477=\"\",\"\",IF(AND(Worksheet!G500=\"\",Worksheet!H500=\"\")=TRUE,T476,IF(Worksheet!G500=\"\",\"\",Worksheet!G500)))","v":""},{"$f":"IF(S477=\"\",\"\",IF(AND(Worksheet!G500=\"\",Worksheet!H500=\"\")=TRUE,U476,IF(Worksheet!H500=\"\",\"\",Worksheet!H500)))","v":""},{"$f":"IF(Worksheet!N500=\"\",\"\",Worksheet!N500)","v":""},{"$f":"IF(Worksheet!O500=\"\",\"\",Worksheet!O500)","v":""},{"$f":"IF(Worksheet!F500=0,\"\",Worksheet!F500)","v":""},{"$f":"IF(Worksheet!P500=0,\"\",Worksheet!P500)","v":""},{"$f":"IF(Worksheet!$A$11=TRUE,\"Y\",\"N\")","v":"N"},{"$f":"IF(Worksheet!$A$12=TRUE,\"Y\",\"N\")","v":"N"},{"$f":"IF(Worksheet!$B$11=TRUE,\"Y\",\"N\")","v":"N"},{"$f":"IF(Worksheet!$B$12=TRUE,\"Y\",\"N\")","v":"N"},{"$f":"IF(Worksheet!$C$11=TRUE,\"Y\",\"N\")","v":"N"},{"$f":"IF(Worksheet!$C$12=TRUE,\"Y\",\"N\")","v":"N"},""]
[{"$f":"IF(ISERROR(VLOOKUP(Worksheet!N501,MeasureLookup,2,FALSE))=FALSE,VLOOKUP(Worksheet!N501,MeasureLookup,2,FALSE),\"\")","v":""},{"$f":"Worksheet!Q501","v":0},{"$f":"Worksheet!R501","v":0},{"$f":"IF(ISERROR(Worksheet!P501)=FALSE,Worksheet!P501,\"\")","v":0},"Watts",null,null,{"$f":"IF(Worksheet!AP501<>\"\",IF(Worksheet!AP501>0,Worksheet!AP501/IF(Worksheet!M501>0,Worksheet!M501,Worksheet!L501),\"\"),\"\")","v":""},{"$f":"IF(ISBLANK(Worksheet!L501)=FALSE,Worksheet!L501,\"\")","v":0},{"$f":"IF(Worksheet!L501<>0, IFERROR(VLOOKUP(Worksheet!$C$16,SavingsSupportTable,3,FALSE)*Worksheet!AQ501*IFERROR(1+VLOOKUP(Worksheet!$C$16,SavingsSupportTable,MATCH(Worksheet!$G$17,HVACe_Options,0)+4,FALSE),1)/IF(Worksheet!M501>0,Worksheet!M501,Worksheet!L501),\"\"),\"\")","v":""},{"$f":"IF(Worksheet!L501<>0, IFERROR(VLOOKUP(Worksheet!$C$16,SavingsSupportTable,2,FALSE)*Worksheet!AQ501*IF(IFERROR(MATCH(Worksheet!$G$17,HVACe_Options,0),0)>0,1+VLOOKUP(Worksheet!$C$16,SavingsSupportTable,4,FALSE),1)/IF(Worksheet!M501>0,Worksheet!M501,Worksheet!L501),\"\"),\"\")","v":""},"",{"$f":"IF(Worksheet!L501<>0,IFERROR(VLOOKUP(Worksheet!$C$16,SavingsSupportTable,3,FALSE)*Worksheet!AQ501*IF(IFERROR(SEARCH(\"Gas\",Worksheet!$G$17),0)>0,VLOOKUP(\"Gas\",HVACg_Lookup,MATCH(Worksheet!$G$16,BuildingSize,0)+1,FALSE),IF(IFERROR(SEARCH(\"Oil\",Worksheet!$G$17),0)>0,VLOOKUP(\"Oil\",HVACg_Lookup,MATCH(Worksheet!$G$16,BuildingSize,0)+1,FALSE),IF(IFERROR(SEARCH(\"Propane\",Worksheet!$G$17),0)>0,VLOOKUP(\"Propane\",HVACg_Lookup,MATCH(Worksheet!$G$16,BuildingSize,0)+1,FALSE),0)))/IF(Worksheet!M501>0,Worksheet!M501,Worksheet!L501),0),\"\")","v":""},"",null,null,null,{"$f":"IF(ISBLANK(Worksheet!M501)=FALSE,Worksheet!M501,\"\")","v":0},{"$f":"IF(Worksheet!A501=\"-\",\"\",IF(Worksheet!A501=\"\",S477,Worksheet!A501))","v":""},{"$f":"IF(S478=\"\",\"\",IF(AND(Worksheet!G501=\"\",Worksheet!H501=\"\")=TRUE,T477,IF(Worksheet!G501=\"\",\"\",Worksheet!G501)))","v":""},{"$f":"IF(S478=\"\",\"\",IF(AND(Worksheet!G501=\"\",Worksheet!H501=\"\")=TRUE,U477,IF(Worksheet!H501=\"\",\"\",Worksheet!H501)))","v":""},{"$f":"IF(Worksheet!N501=\"\",\"\",Worksheet!N501)","v":""},{"$f":"IF(Worksheet!O501=\"\",\"\",Worksheet!O501)","v":""},{"$f":"IF(Worksheet!F501=0,\"\",Worksheet!F501)","v":""},{"$f":"IF(Worksheet!P501=0,\"\",Worksheet!P501)","v":""},{"$f":"IF(Worksheet!$A$11=TRUE,\"Y\",\"N\")","v":"N"},{"$f":"IF(Worksheet!$A$12=TRUE,\"Y\",\"N\")","v":"N"},{"$f":"IF(Worksheet!$B$11=TRUE,\"Y\",\"N\")","v":"N"},{"$f":"IF(Worksheet!$B$12=TRUE,\"Y\",\"N\")","v":"N"},{"$f":"IF(Worksheet!$C$11=TRUE,\"Y\",\"N\")","v":"N"},{"$f":"IF(Worksheet!$C$12=TRUE,\"Y\",\"N\")","v":"N"},""]
[{"$f":"IF(ISERROR(VLOOKUP(Worksheet!N502,MeasureLookup,2,FALSE))=FALSE,VLOOKUP(Worksheet!N502,MeasureLookup,2,FALSE),\"\")","v":""},{"$f":"Worksheet!Q502","v":0},{"$f":"Worksheet!R502","v":0},{"$f":"IF(ISERROR(Worksheet!P502)=FALSE,Worksheet!P502,\"\")","v":0},"Watts",null,null,{"$f":"IF(Worksheet!AP502<>\"\",IF(Worksheet!AP502>0,Worksheet!AP502/IF(Worksheet!M502>0,Worksheet!M502,Worksheet!L502),\"\"),\"\")","v":""},{"$f":"IF(ISBLANK(Worksheet!L502)=FALSE,Worksheet!L502,\"\")","v":0},{"$f":"IF(Worksheet!L502<>0, IFERROR(VLOOKUP(Worksheet!$C$16,SavingsSupportTable,3,FALSE)*Worksheet!AQ502*IFERROR(1+VLOOKUP(Worksheet!$C$16,SavingsSupportTable,MATCH(Worksheet!$G$17,HVACe_Options,0)+4,FALSE),1)/IF(Worksheet!M502>0,Worksheet!M502,Worksheet!L502),\"\"),\"\")","v":""},{"$f":"IF(Worksheet!L502<>0, IFERROR(VLOOKUP(Worksheet!$C$16,SavingsSupportTable,2,FALSE)*Worksheet!AQ502*IF(IFERROR(MATCH(Worksheet!$G$17,HVACe_Options,0),0)>0,1+VLOOKUP(Worksheet!$C$16,SavingsSupportTable,4,FALSE),1)/IF(Worksheet!M502>0,Worksheet!M502,Worksheet!L502),\"\"),\"\")","v":""},"",{"$f":"IF(Worksheet!L502<>0,IFERROR(VLOOKUP(Worksheet!$C$16,SavingsSupportTable,3,FALSE)*Worksheet!AQ502*IF(IFERROR(SEARCH(\"Gas\",Worksheet!$G$17),0)>0,VLOOKUP(\"Gas\",HVACg_Lookup,MATCH(Worksheet!$G$16,BuildingSize,0)+1,FALSE),IF(IFERROR(SEARCH(\"Oil\",Worksheet!$G$17),0)>0,VLOOKUP(\"Oil\",HVACg_Lookup,MATCH(Worksheet!$G$16,BuildingSize,0)+1,FALSE),IF(IFERROR(SEARCH(\"Propane\",Worksheet!$G$17),0)>0,VLOOKUP(\"Propane\",HVACg_Lookup,MATCH(Worksheet!$G$16,BuildingSize,0)+1,FALSE),0)))/IF(Worksheet!M502>0,Worksheet!M502,Worksheet!L502),0),\"\")","v":""},"",null,null,null,{"$f":"IF(ISBLANK(Worksheet!M502)=FALSE,Worksheet!M502,\"\")","v":0},{"$f":"IF(Worksheet!A502=\"-\",\"\",IF(Worksheet!A502=\"\",S478,Worksheet!A502))","v":""},{"$f":"IF(S479=\"\",\"\",IF(AND(Worksheet!G502=\"\",Worksheet!H502=\"\")=TRUE,T478,IF(Worksheet!G502=\"\",\"\",Worksheet!G502)))","v":""},{"$f":"IF(S479=\"\",\"\",IF(AND(Worksheet!G502=\"\",Worksheet!H502=\"\")=TRUE,U478,IF(Worksheet!H502=\"\",\"\",Worksheet!H502)))","v":""},{"$f":"IF(Worksheet!N502=\"\",\"\",Worksheet!N502)","v":""},{"$f":"IF(Worksheet!O502=\"\",\"\",Worksheet!O502)","v":""},{"$f":"IF(Worksheet!F502=0,\"\",Worksheet!F502)","v":""},{"$f":"IF(Worksheet!P502=0,\"\",Worksheet!P502)","v":""},{"$f":"IF(Worksheet!$A$11=TRUE,\"Y\",\"N\")","v":"N"},{"$f":"IF(Worksheet!$A$12=TRUE,\"Y\",\"N\")","v":"N"},{"$f":"IF(Worksheet!$B$11=TRUE,\"Y\",\"N\")","v":"N"},{"$f":"IF(Worksheet!$B$12=TRUE,\"Y\",\"N\")","v":"N"},{"$f":"IF(Worksheet!$C$11=TRUE,\"Y\",\"N\")","v":"N"},{"$f":"IF(Worksheet!$C$12=TRUE,\"Y\",\"N\")","v":"N"},""]
[{"$f":"IF(ISERROR(VLOOKUP(Worksheet!N503,MeasureLookup,2,FALSE))=FALSE,VLOOKUP(Worksheet!N503,MeasureLookup,2,FALSE),\"\")","v":""},{"$f":"Worksheet!Q503","v":0},{"$f":"Worksheet!R503","v":0},{"$f":"IF(ISERROR(Worksheet!P503)=FALSE,Worksheet!P503,\"\")","v":0},"Watts",null,null,{"$f":"IF(Worksheet!AP503<>\"\",IF(Worksheet!AP503>0,Worksheet!AP503/IF(Worksheet!M503>0,Worksheet!M503,Worksheet!L503),\"\"),\"\")","v":""},{"$f":"IF(ISBLANK(Worksheet!L503)=FALSE,Worksheet!L503,\"\")","v":0},{"$f":"IF(Worksheet!L503<>0, IFERROR(VLOOKUP(Worksheet!$C$16,SavingsSupportTable,3,FALSE)*Worksheet!AQ503*IFERROR(1+VLOOKUP(Worksheet!$C$16,SavingsSupportTable,MATCH(Worksheet!$G$17,HVACe_Options,0)+4,FALSE),1)/IF(Worksheet!M503>0,Worksheet!M503,Worksheet!L503),\"\"),\"\")","v":""},{"$f":"IF(Worksheet!L503<>0, IFERROR(VLOOKUP(Worksheet!$C$16,SavingsSupportTable,2,FALSE)*Worksheet!AQ503*IF(IFERROR(MATCH(Worksheet!$G$17,HVACe_Options,0),0)>0,1+VLOOKUP(Worksheet!$C$16,SavingsSupportTable,4,FALSE),1)/IF(Worksheet!M503>0,Worksheet!M503,Worksheet!L503),\"\"),\"\")","v":""},"",{"$f":"IF(Worksheet!L503<>0,IFERROR(VLOOKUP(Worksheet!$C$16,SavingsSupportTable,3,FALSE)*Worksheet!AQ503*IF(IFERROR(SEARCH(\"Gas\",Worksheet!$G$17),0)>0,VLOOKUP(\"Gas\",HVACg_Lookup,MATCH(Worksheet!$G$16,BuildingSize,0)+1,FALSE),IF(IFERROR(SEARCH(\"Oil\",Worksheet!$G$17),0)>0,VLOOKUP(\"Oil\",HVACg_Lookup,MATCH(Worksheet!$G$16,BuildingSize,0)+1,FALSE),IF(IFERROR(SEARCH(\"Propane\",Worksheet!$G$17),0)>0,VLOOKUP(\"Propane\",HVACg_Lookup,MATCH(Worksheet!$G$16,BuildingSize,0)+1,FALSE),0)))/IF(Worksheet!M503>0,Worksheet!M503,Worksheet!L503),0),\"\")","v":""},"",null,null,null,{"$f":"IF(ISBLANK(Worksheet!M503)=FALSE,Worksheet!M503,\"\")","v":0},{"$f":"IF(Worksheet!A503=\"-\",\"\",IF(Worksheet!A503=\"\",S479,Worksheet!A503))","v":""},{"$f":"IF(S480=\"\",\"\",IF(AND(Worksheet!G503=\"\",Worksheet!H503=\"\")=TRUE,T479,IF(Worksheet!G503=\"\",\"\",Worksheet!G503)))","v":""},{"$f":"IF(S480=\"\",\"\",IF(AND(Worksheet!G503=\"\",Worksheet!H503=\"\")=TRUE,U479,IF(Worksheet!H503=\"\",\"\",Worksheet!H503)))","v":""},{"$f":"IF(Worksheet!N503=\"\",\"\",Worksheet!N503)","v":""},{"$f":"IF(Worksheet!O503=\"\",\"\",Worksheet!O503)","v":""},{"$f":"IF(Worksheet!F503=0,\"\",Worksheet!F503)","v":""},{"$f":"IF(Worksheet!P503=0,\"\",Worksheet!P503)","v":""},{"$f":"IF(Worksheet!$A$11=TRUE,\"Y\",\"N\")","v":"N"},{"$f":"IF(Worksheet!$A$12=TRUE,\"Y\",\"N\")","v":"N"},{"$f":"IF(Worksheet!$B$11=TRUE,\"Y\",\"N\")","v":"N"},{"$f":"IF(Worksheet!$B$12=TRUE,\"Y\",\"N\")","v":"N"},{"$f":"IF(Worksheet!$C$11=TRUE,\"Y\",\"N\")","v":"N"},{"$f":"IF(Worksheet!$C$12=TRUE,\"Y\",\"N\")","v":"N"},""]
[{"$f":"IF(ISERROR(VLOOKUP(Worksheet!N504,MeasureLookup,2,FALSE))=FALSE,VLOOKUP(Worksheet!N504,MeasureLookup,2,FALSE),\"\")","v":""},{"$f":"Worksheet!Q504","v":0},{"$f":"Worksheet!R504","v":0},{"$f":"IF(ISERROR(Worksheet!P504)=FALSE,Worksheet!P504,\"\")","v":0},"Watts",null,null,{"$f":"IF(Worksheet!AP504<>\"\",IF(Worksheet!AP504>0,Worksheet!AP504/IF(Worksheet!M504>0,Worksheet!M504,Worksheet!L504),\"\"),\"\")","v":""},{"$f":"IF(ISBLANK(Worksheet!L504)=FALSE,Worksheet!L504,\"\")","v":0},{"$f":"IF(Worksheet!L504<>0, IFERROR(VLOOKUP(Worksheet!$C$16,SavingsSupportTable,3,FALSE)*Worksheet!AQ504*IFERROR(1+VLOOKUP(Worksheet!$C$16,SavingsSupportTable,MATCH(Worksheet!$G$17,HVACe_Options,0)+4,FALSE),1)/IF(Worksheet!M504>0,Worksheet!M504,Worksheet!L504),\"\"),\"\")","v":""},{"$f":"IF(Worksheet!L504<>0, IFERROR(VLOOKUP(Worksheet!$C$16,SavingsSupportTable,2,FALSE)*Worksheet!AQ504*IF(IFERROR(MATCH(Worksheet!$G$17,HVACe_Options,0),0)>0,1+VLOOKUP(Worksheet!$C$16,SavingsSupportTable,4,FALSE),1)/IF(Worksheet!M504>0,Worksheet!M504,Worksheet!L504),\"\"),\"\")","v":""},"",{"$f":"IF(Worksheet!L504<>0,IFERROR(VLOOKUP(Worksheet!$C$16,SavingsSupportTable,3,FALSE)*Worksheet!AQ504*IF(IFERROR(SEARCH(\"Gas\",Worksheet!$G$17),0)>0,VLOOKUP(\"Gas\",HVACg_Lookup,MATCH(Worksheet!$G$16,BuildingSize,0)+1,FALSE),IF(IFERROR(SEARCH(\"Oil\",Worksheet!$G$17),0)>0,VLOOKUP(\"Oil\",HVACg_Lookup,MATCH(Worksheet!$G$16,BuildingSize,0)+1,FALSE),IF(IFERROR(SEARCH(\"Propane\",Worksheet!$G$17),0)>0,VLOOKUP(\"Propane\",HVACg_Lookup,MATCH(Worksheet!$G$16,BuildingSize,0)+1,FALSE),0)))/IF(Worksheet!M504>0,Worksheet!M504,Worksheet!L504),0),\"\")","v":""},"",null,null,null,{"$f":"IF(ISBLANK(Worksheet!M504)=FALSE,Worksheet!M504,\"\")","v":0},{"$f":"IF(Worksheet!A504=\"-\",\"\",IF(Worksheet!A504=\"\",S480,Worksheet!A504))","v":""},{"$f":"IF(S481=\"\",\"\",IF(AND(Worksheet!G504=\"\",Worksheet!H504=\"\")=TRUE,T480,IF(Worksheet!G504=\"\",\"\",Worksheet!G504)))","v":""},{"$f":"IF(S481=\"\",\"\",IF(AND(Worksheet!G504=\"\",Worksheet!H504=\"\")=TRUE,U480,IF(Worksheet!H504=\"\",\"\",Worksheet!H504)))","v":""},{"$f":"IF(Worksheet!N504=\"\",\"\",Worksheet!N504)","v":""},{"$f":"IF(Worksheet!O504=\"\",\"\",Worksheet!O504)","v":""},{"$f":"IF(Worksheet!F504=0,\"\",Worksheet!F504)","v":""},{"$f":"IF(Worksheet!P504=0,\"\",Worksheet!P504)","v":""},{"$f":"IF(Worksheet!$A$11=TRUE,\"Y\",\"N\")","v":"N"},{"$f":"IF(Worksheet!$A$12=TRUE,\"Y\",\"N\")","v":"N"},{"$f":"IF(Worksheet!$B$11=TRUE,\"Y\",\"N\")","v":"N"},{"$f":"IF(Worksheet!$B$12=TRUE,\"Y\",\"N\")","v":"N"},{"$f":"IF(Worksheet!$C$11=TRUE,\"Y\",\"N\")","v":"N"},{"$f":"IF(Worksheet!$C$12=TRUE,\"Y\",\"N\")","v":"N"},""]

{"sheet":"Version","index":10,"n_rows":12,"n_cols":10,"rows_kept":12,"cut":false,"hidden":true,"merged":[]}
[13]
[]
["Log"]
["2008-12-01","Updated for compatability with measure tracking"]
[]
["http://www1.eere.energy.gov/buildings/ssl/efficacy.html",null,null,null,null,null,null,null,null,"US DOE"]
["http://www.energysavers.gov/your_home/lighting_daylighting/index.cfm/mytopic=12080"]
[]
["2012-01-13","V5","no change for 2012"]
["2013-07-09","V7","no change for V7, skipped V6"]
["2018-06-21","V12","Updated to align with FY19 Protocols"]
["2019-07-01","V13","Added Enhanced Incentive Eligibility Section and Updated for FY20 Program"]