{"text_format":"1","workbook":"xlsx","n_sheets":13,"sheets":["Utility Info","Electric Totals","Apt-Elec","Gas Totals","Apt-Gas","Oil","Propane","Steam","Chilled Water","Hot Water","Other","Utility Use Summary","UDAT Support"],"not_rendered":{"charts":14,"images":0,"macros":1,"external_links":0,"defined_names":25,"comments":12,"pivot_tables":0},"unopened":[],"bounds":{"document_bytes":16777216,"sheet_cells":100000,"rows_first":2000,"rows_last":500,"rows_between":2000,"halvings":0,"cell_chars":16384,"cell_head_chars":4096},"cells_cut":0,"cells_raw":0,"read":"whole","date_system":"1900"}

{"sheet":"Utility Info","index":0,"n_rows":501,"n_cols":14,"rows_kept":501,"cut":false,"hidden":false,"merged":[[284,3,284,9],[288,3,288,9],[92,3,92,9],[95,3,95,9],[2,1,2,9],[16,11,16,13],[9,11,15,13],[10,1,10,2],[19,1,19,2],[4,1,4,9],[13,1,13,9],[11,1,11,2],[376,3,376,9],[378,3,378,9],[392,3,392,9],[394,3,394,9],[410,3,410,9],[411,3,411,9],[480,3,480,9],[483,3,483,9],[496,3,496,9],[499,3,499,9]]}
[null,"Utility Data Summary"]
[null,"Instructions"]
[null,"1) Fill in all utility information that is applicable to your project. Note: Rate structure is required for all P4P-ICP Pilot projects, optional for all others.\n2) Navigation buttons have been provided on this and other utility data tabs for convenience.  Use these buttons (e.g. \"Enter Common Area Electric Use\") to navigate through these utility data tabs.\n3) Read the notes, which are indicated by red corners, where appropriate, to assist in properly completing this tab.\n4) Enter Start and End date for the pre-construction billing period in cells M7 & M8. Utility data across all accounts should be no more than 15 days out of sync.\n5) If property is multifamily direct-metered and you are collecting a sample of in-unit bills, fill out the Direct Meter Sampling Requirements table.\n6) Difference between pre and post construction utility information is for reference only. Final/actual post-retrofit savings will be calculated by the Savings Verification Tool. \n7) Please reference Program Guidelines v4.1, Section 3.2 for utility bill collection requirements, including allowed adjustments to utility bills. "]
[]
[null,"PRE-CONSTRUCTION UTILITY INFORMATION"]
[null,null,"Electric","Gas","Fuel Oil","Propane","Steam","Chilled Water","Hot Water","Other",null,null,"PRE-CONSTRUCTION","POST-CONSTRUCTION"]
[null,"Energy Units","kWh","<Not Used>","<Not Used>","<Not Used>","<Not Used>","<Not Used>","<Not Used>","<Not Used>",null,"Start Date"]
[null,"Utility Company",null,null,null,null,null,null,null,null,null,"End Date"]
[null,"3rd Party Supplier"]
[null,"Metering Configuration"]
[null,"Is the Project Firm Gas?",null,"<Select>"]
[null,"Is this a Firm Gas Fuel Conversion Project?",null,"<Select>"]
[]
[null,"POST-CONSTRUCTION UTILITY INFORMATION"]
[null,null,"Electric","Gas","Fuel Oil","Propane","Steam","Chilled Water","Hot Water","<Other Fuel Type>"]
[null,"Energy Units","kWh","<Not Used>","<Not Used>","<Not Used>","<Not Used>","<Not Used>","<Not Used>","<Not Used>"]
[null,"Utility Company","<Select One>","<Select One>"]
[null,"3rd Party Supplier"]
[null,"Metering Configuration"]
[null,"Is the Project Firm Gas?",null,"<Select>"]
[]
[null,"Electric Meters - Common Area/Master Meters"]
[null,"Meter Number","Account Number","Location(s) Served","# Apts Served","Rate Class"]
[]
[]
[]
[]
[]
[]
[]
[]
[]
[]
[]
[]
[]
[]
[]
[]
[]
[]
[]
[]
[]
[]
[]
[]
[]
[]
[]
[]
[]
[]
[]
[]
[]
[]
[]
[]
[]
[]
[]
[]
[]
[]
[]
[]
[]
[]
[]
[]
[]
[]
[]
[null,"Electric Meter Data - Apartment Meter Sampling Requirements"]
[null,null,"Description","Total # of Unit Type","Minimum Sample Size"]
[null,"Unit Type 1",null,null,{"$f":"IF(D77=0,0,MAX(1,ROUNDUP(D77*0.1,0)))","v":0}]
[null,"Unit Type 2",null,null,{"$f":"IF(D78=0,0,MAX(1,ROUNDUP(D78*0.1,0)))","v":0}]
[null,"Unit Type 3",null,null,0]
[null,"Unit Type 4",null,null,0]
[null,"Unit Type 5",null,null,0]
[null,"Unit Type 6",null,null,0]
[null,"Unit Type 7",null,null,0]
[null,"Unit Type 8",null,null,0]
[null,"Unit Type 9",null,null,0]
[null,"Unit Type 10",null,null,{"$f":"IF(D86=0,0,MAX(1,ROUNDUP(D86*0.1,0)))","v":0}]
[null,null,null,{"$f":"SUM(D77:D86)","v":0}]
[]
[null,"Electric Rate Structure"]
[null,"Billing Structure","<Select>",{"$f":"IF(OR(C90=\"Tiered TOU\",C90=\"Other\")=TRUE,\"Please include copies of utility and commodity provider electric tariffs and identify the project's service rate schedule(s) as part of the ERP submittal.\",\"\")","v":""}]
[null,"Customer/Service Charge ($/Month)"]
[null,"Fuel Surcharge ($/Month)"]
[null,"Other Fixed Charges ($/Month)",null,"<Notes>"]
[null,"Societal Benefits Charge ($/kWh)"]
[null,"Non-Utility Generation Charge ($/kWh)"]
[null,"Other Per Unit Charges ($/kWh)",null,"<Notes>"]
[null,"Sales and Use Tax (%)",7.0000000000000007E-2]
[]
[null,"# of Seasonal Periods"]
[null,"# of Usage Tiers"]
[null,"# of Daily TOU Periods"]
[]
[null,"Seasonal Period 1"]
[null,"Period Start Date"]
[null,"Period End Date"]
[]
[null,"Seasonal Period 1 - Rate Structure"]
[null,null,{"$f":"IF($C$90=\"Tiered/Stepped\",\"Tier 1\",IF($C$90=\"Time of Use (TOU)\",\"TOU Period 1\",\"\"))","v":""},{"$f":"IF($C$90=\"Tiered/Stepped\",\"Tier 2\",IF($C$90=\"Time of Use (TOU)\",\"TOU Period 2\",\"\"))","v":""},{"$f":"IF($C$90=\"Tiered/Stepped\",IF($C$100>=3,\"Tier 3\",\"\"),IF($C$90=\"Time of Use (TOU)\",IF($C$101>=3,\"TOU Period 3\",\"\"),\"\"))","v":""},{"$f":"IF($C$90=\"Tiered/Stepped\",IF($C$100>=4,\"Tier 4\",\"\"),IF($C$90=\"Time of Use (TOU)\",IF($C$101>=4,\"TOU Period 4\",\"\"),\"\"))","v":""}]
[null,"Tier Max kWh"]
[null,"TOU Period Start Time"]
[null,"Distribution Charge ($/kWh)"]
[null,"Off-Peak WH Distribution Charge ($/kWh)"]
[null,"Controlled WH Distribution Charge ($/kWh)"]
[null,"Transmission Charge ($/kWh)"]
[null,"Generation Charge ($/kWh)"]
[null,"Energy Credit ($/kWh)…"]
[null,"…for usage up to (kWh)"]
[]
[null,"Capacity Charge ($/kW)…",null,"per day"]
[null,"… in excess of (kW)"]
[null,"Monthly Transmission Charge ($/kW)…"]
[null,"… in excess of (kW)"]
[null,"Monthly Distribution Charge ($/kW)…"]
[null,"… in excess of (kW)"]
[null,"Reactive Demand Charge ($/kvar)…"]
[null,"...for each kvar over (%) of kW demand"]
[null,"Demand Adjustment (kW)"]
[null,"Ratcheted Demand?"]
[null,"Minimum Demand Charge (%)"]
[]
[null,"Seasonal Period 2"]
[null,"Period Start Date"]
[null,"Period End Date"]
[]
[null,"Seasonal Period 2 - Rate Structure"]
[null,null,{"$f":"IF($C$90=\"Tiered/Stepped\",\"Tier 1\",IF($C$90=\"Time of Use (TOU)\",\"TOU Period 1\",\"\"))","v":""},{"$f":"IF($C$90=\"Tiered/Stepped\",\"Tier 2\",IF($C$90=\"Time of Use (TOU)\",\"TOU Period 2\",\"\"))","v":""},{"$f":"IF($C$90=\"Tiered/Stepped\",IF($C$100>=3,\"Tier 3\",\"\"),IF($C$90=\"Time of Use (TOU)\",IF($C$101>=3,\"TOU Period 3\",\"\"),\"\"))","v":""},{"$f":"IF($C$90=\"Tiered/Stepped\",IF($C$100>=4,\"Tier 4\",\"\"),IF($C$90=\"Time of Use (TOU)\",IF($C$101>=4,\"TOU Period 4\",\"\"),\"\"))","v":""}]
[null,"Tier Max kWh"]
[null,"TOU Period Start Time"]
[null,"Distribution Charge ($/kWh)"]
[null,"Off-Peak WH Distribution Charge ($/kWh)"]
[null,"Controlled WH Distribution Charge ($/kWh)"]
[null,"Transmission Charge ($/kWh)"]
[null,"Generation Charge ($/kWh)"]
[null,"Energy Credit ($/kWh)…"]
[null,"…for usage up to (kWh)"]
[]
[null,"Capacity Charge ($/kW)…",null,"per day"]
[null,"… in excess of (kW)"]
[null,"Monthly Transmission Charge ($/kW)…"]
[null,"… in excess of (kW)"]
[null,"Monthly Distribution Charge ($/kW)…"]
[null,"… in excess of (kW)"]
[null,"Reactive Demand Charge ($/kvar)…"]
[null,"...for each kvar over (%) of kW demand"]
[null,"Demand Adjustment (kW)"]
[null,"Ratcheted Demand?"]
[null,"Minimum Demand Charge (%)"]
[]
[null,"Seasonal Period 3"]
[null,"Period Start Date"]
[null,"Period End Date"]
[]
[null,"Seasonal Period 3 - Rate Structure"]
[null,null,{"$f":"IF($C$90=\"Tiered/Stepped\",\"Tier 1\",IF($C$90=\"Time of Use (TOU)\",\"TOU Period 1\",\"\"))","v":""},{"$f":"IF($C$90=\"Tiered/Stepped\",\"Tier 2\",IF($C$90=\"Time of Use (TOU)\",\"TOU Period 2\",\"\"))","v":""},{"$f":"IF($C$90=\"Tiered/Stepped\",IF($C$100>=3,\"Tier 3\",\"\"),IF($C$90=\"Time of Use (TOU)\",IF($C$101>=3,\"TOU Period 3\",\"\"),\"\"))","v":""},{"$f":"IF($C$90=\"Tiered/Stepped\",IF($C$100>=4,\"Tier 4\",\"\"),IF($C$90=\"Time of Use (TOU)\",IF($C$101>=4,\"TOU Period 4\",\"\"),\"\"))","v":""}]
[null,"Tier Max kWh"]
[null,"TOU Period Start Time"]
[null,"Distribution Charge ($/kWh)"]
[null,"Off-Peak WH Distribution Charge ($/kWh)"]
[null,"Controlled WH Distribution Charge ($/kWh)"]
[null,"Transmission Charge ($/kWh)"]
[null,"Generation Charge ($/kWh)"]
[null,"Energy Credit ($/kWh)…"]
[null,"…for usage up to (kWh)"]
[]
[null,"Capacity Charge ($/kW)…",null,"per day"]
[null,"… in excess of (kW)"]
[null,"Monthly Transmission Charge ($/kW)…"]
[null,"… in excess of (kW)"]
[null,"Monthly Distribution Charge ($/kW)…"]
[null,"… in excess of (kW)"]
[null,"Reactive Demand Charge ($/kvar)…"]
[null,"...for each kvar over (%) of kW demand"]
[null,"Demand Adjustment (kW)"]
[null,"Ratcheted Demand?"]
[null,"Minimum Demand Charge (%)"]
[]
[null,"Seasonal Period 4"]
[null,"Period Start Date"]
[null,"Period End Date"]
[]
[null,"Seasonal Period 4 - Rate Structure"]
[null,null,{"$f":"IF($C$90=\"Tiered/Stepped\",\"Tier 1\",IF($C$90=\"Time of Use (TOU)\",\"TOU Period 1\",\"\"))","v":""},{"$f":"IF($C$90=\"Tiered/Stepped\",\"Tier 2\",IF($C$90=\"Time of Use (TOU)\",\"TOU Period 2\",\"\"))","v":""},{"$f":"IF($C$90=\"Tiered/Stepped\",IF($C$100>=3,\"Tier 3\",\"\"),IF($C$90=\"Time of Use (TOU)\",IF($C$101>=3,\"TOU Period 3\",\"\"),\"\"))","v":""},{"$f":"IF($C$90=\"Tiered/Stepped\",IF($C$100>=4,\"Tier 4\",\"\"),IF($C$90=\"Time of Use (TOU)\",IF($C$101>=4,\"TOU Period 4\",\"\"),\"\"))","v":""}]
[null,"Tier Max kWh"]
[null,"TOU Period Start Time"]
[null,"Distribution Charge ($/kWh)"]
[null,"Off-Peak WH Distribution Charge ($/kWh)"]
[null,"Controlled WH Distribution Charge ($/kWh)"]
[null,"Transmission Charge ($/kWh)"]
[null,"Generation Charge ($/kWh)"]
[null,"Energy Credit ($/kWh)…"]
[null,"…for usage up to (kWh)"]
[]
[null,"Capacity Charge ($/kW)…",null,"per day"]
[null,"… in excess of (kW)"]
[null,"Monthly Transmission Charge ($/kW)…"]
[null,"… in excess of (kW)"]
[null,"Monthly Distribution Charge ($/kW)…"]
[null,"… in excess of (kW)"]
[null,"Reactive Demand Charge ($/kvar)…"]
[null,"...for each kvar over (%) of kW demand"]
[null,"Demand Adjustment (kW)"]
[null,"Ratcheted Demand?"]
[null,"Minimum Demand Charge (%)"]
[]
[null,"Gas Meters - Common Area/Master Meters"]
[null,"Meter Number","Account Number","Location(s) Served","# Apts Served","Rate Class"]
[]
[]
[]
[]
[]
[]
[]
[]
[]
[]
[]
[]
[]
[]
[]
[]
[]
[]
[]
[]
[]
[]
[]
[]
[]
[]
[]
[]
[]
[]
[]
[]
[]
[]
[]
[]
[]
[]
[]
[]
[]
[]
[]
[]
[]
[]
[]
[]
[]
[]
[]
[null,"Gas Meter Data - Apartment Meter Sampling Requirements"]
[null,null,"Description","Total # of Unit Type","Minimum Sample Size"]
[null,"Unit Type 1",null,null,{"$f":"IF(D270=0,0,MAX(1,ROUNDUP(D270*0.1,0)))","v":0}]
[null,"Unit Type 2",null,null,0]
[null,"Unit Type 3",null,null,0]
[null,"Unit Type 4",null,null,0]
[null,"Unit Type 5",null,null,0]
[null,"Unit Type 6",null,null,0]
[null,"Unit Type 7",null,null,0]
[null,"Unit Type 8",null,null,0]
[null,"Unit Type 9",null,null,0]
[null,"Unit Type 10",null,null,{"$f":"IF(D279=0,0,MAX(1,ROUNDUP(D279*0.1,0)))","v":0}]
[null,null,null,{"$f":"SUM(D270:D279)","v":0}]
[]
[null,"Natural Gas Rate Structure"]
[null,"Billing Structure","<Select>",{"$f":"IF(C283=\"Other\",\"Please include copies of utility and commodity provider natural gas tariffs and identify the project's service rate schedule(s) as part of the ERP submittal.\",\"\")","v":""}]
[null,"Customer/Service Charge ($/Month)"]
[null,"Other Fixed Charges ($/Month)",null,"<Notes>"]
[null,"Societal Benefits Charge ($/Therm)"]
[null,"Clean Energy Program Charge ($/Therm)"]
[null,"Weather Normalization Charge ($/Therm)"]
[null,"Other Per Unit Charges ($/Therm)",null,"<Notes>"]
[null,"Sales and Use Tax (%)",7.0000000000000007E-2]
[]
[null,"# of Seasonal Periods"]
[null,"# of Usage Tiers"]
[]
[null,"Seasonal Period 1"]
[null,"Period Start Date"]
[null,"Period End Date"]
[]
[null,"Seasonal Period 1 - Rate Structure"]
[null,null,{"$f":"IF($C$283=\"Tiered/Stepped\",\"Tier 1\",\"\")","v":""},{"$f":"IF($C$283=\"Tiered/Stepped\",\"Tier 2\",\"\")","v":""},{"$f":"IF($C$283=\"Tiered/Stepped\",IF($C$293>=3,\"Tier 3\",\"\"),\"\")","v":""},{"$f":"IF($C$283=\"Tiered/Stepped\",IF($C$293>=4,\"Tier 4\",\"\"),\"\")","v":""}]
[null,"Tier Max Therms"]
[null,"Distribution Charge - All Usage ($/Therm)"]
[null,"Distribution Charge - Heating ($/Therm)"]
[null,"Distribution Charge - Non-Heating ($/Therm)"]
[null,"Commodity Charge ($/Therm)"]
[null,"Distributed Generation Charge ($/Therm)"]
[null,"Gas AC Charge ($/Therm)"]
[null,"Demand Charge ($/Therm)"]
[null,"Balancing Charge ($/Therm)"]
[null,"Energy Credit ($/Therm)"]
[null,"…for usage up to (Therm)"]
[]
[null,"Seasonal Period 2"]
[null,"Period Start Date"]
[null,"Period End Date"]
[]
[null,"Seasonal Period 2 - Rate Structure"]
[null,null,{"$f":"IF($C$283=\"Tiered/Stepped\",\"Tier 1\",\"\")","v":""},{"$f":"IF($C$283=\"Tiered/Stepped\",\"Tier 2\",\"\")","v":""},{"$f":"IF($C$283=\"Tiered/Stepped\",IF($C$293>=3,\"Tier 3\",\"\"),\"\")","v":""},{"$f":"IF($C$283=\"Tiered/Stepped\",IF($C$293>=4,\"Tier 4\",\"\"),\"\")","v":""}]
[null,"Tier Max Therms"]
[null,"Distribution Charge - All Usage ($/Therm)"]
[null,"Distribution Charge - Heating ($/Therm)"]
[null,"Distribution Charge - Non-Heating ($/Therm)"]
[null,"Commodity Charge ($/Therm)"]
[null,"Distributed Generation Charge ($/Therm)"]
[null,"Gas AC Charge ($/Therm)"]
[null,"Demand Charge ($/Therm)"]
[null,"Balancing Charge ($/Therm)"]
[null,"Energy Credit ($/Therm)"]
[null,"…for usage up to (Therm)"]
[]
[null,"Seasonal Period 3"]
[null,"Period Start Date"]
[null,"Period End Date"]
[]
[null,"Seasonal Period 3 - Rate Structure"]
[null,null,{"$f":"IF($C$283=\"Tiered/Stepped\",\"Tier 1\",\"\")","v":""},{"$f":"IF($C$283=\"Tiered/Stepped\",\"Tier 2\",\"\")","v":""},{"$f":"IF($C$283=\"Tiered/Stepped\",IF($C$293>=3,\"Tier 3\",\"\"),\"\")","v":""},{"$f":"IF($C$283=\"Tiered/Stepped\",IF($C$293>=4,\"Tier 4\",\"\"),\"\")","v":""}]
[null,"Tier Max Therms"]
[null,"Distribution Charge - All Usage ($/Therm)"]
[null,"Distribution Charge - Heating ($/Therm)"]
[null,"Distribution Charge - Non-Heating ($/Therm)"]
[null,"Commodity Charge ($/Therm)"]
[null,"Distributed Generation Charge ($/Therm)"]
[null,"Gas AC Charge ($/Therm)"]
[null,"Demand Charge ($/Therm)"]
[null,"Balancing Charge ($/Therm)"]
[null,"Energy Credit ($/Therm)"]
[null,"…for usage up to (Therm)"]
[]
[null,"Seasonal Period 4"]
[null,"Period Start Date"]
[null,"Period End Date"]
[]
[null,"Seasonal Period 4 - Rate Structure"]
[null,null,{"$f":"IF($C$283=\"Tiered/Stepped\",\"Tier 1\",\"\")","v":""},{"$f":"IF($C$283=\"Tiered/Stepped\",\"Tier 2\",\"\")","v":""},{"$f":"IF($C$283=\"Tiered/Stepped\",IF($C$293>=3,\"Tier 3\",\"\"),\"\")","v":""},{"$f":"IF($C$283=\"Tiered/Stepped\",IF($C$293>=4,\"Tier 4\",\"\"),\"\")","v":""}]
[null,"Tier Max Therms"]
[null,"Distribution Charge - All Usage ($/Therm)"]
[null,"Distribution Charge - Heating ($/Therm)"]
[null,"Distribution Charge - Non-Heating ($/Therm)"]
[null,"Commodity Charge ($/Therm)"]
[null,"Distributed Generation Charge ($/Therm)"]
[null,"Gas AC Charge ($/Therm)"]
[null,"Demand Charge ($/Therm)"]
[null,"Balancing Charge ($/Therm)"]
[null,"Energy Credit ($/Therm)"]
[null,"…for usage up to (Therm)"]
[]
[null,"Oil Meters"]
[null,"Meter Number","Account Number","Location(s) Served","# Apts Served","Rate Class"]
[]
[]
[]
[]
[]
[]
[null,"Oil Rates"]
[null,"Customer/Service Charge ($/Month)"]
[null,"Other Fixed Charges ($/Month)",null,"<Notes>"]
[null,"Supply Cost ($/Gallon)"]
[null,"Other Per Unit Costs ($/Gallon)",null,"<Notes>"]
[null,"Delivery Cost ($/Delivery)"]
[null,"Sales and Use Tax (%)",7.0000000000000007E-2]
[]
[null,"Propane Meters"]
[null,"Meter Number","Account Number","Location(s) Served","# Apts Served","Rate Class"]
[]
[]
[]
[]
[]
[]
[null,"Propane Rates"]
[null,"Customer/Service Charge ($/Month)"]
[null,"Other Fixed Charges ($/Month)",null,"<Notes>"]
[null,"Supply Cost ($/Gallon)"]
[null,"Other Per Unit Costs ($/Gallon)",null,"<Notes>"]
[null,"Delivery Cost ($/Delivery)"]
[null,"Sales and Use Tax (%)",7.0000000000000007E-2]
[]
[null,"Steam Meters"]
[null,"Meter Number","Account Number","Location(s) Served","# Apts Served","Rate Class"]
[]
[]
[]
[]
[]
[]
[null,"Steam Rate Structure"]
[null,"Billing Structure","<Select>",{"$f":"IF(OR(C408=\"Other\",C408=\"Tiered TOU\")=TRUE,\"Please include copies of steam tariffs and identify the project's service rate schedule(s) as part of the ERP submittal.\",\"\")","v":""}]
[null,"Customer/Service Charge ($/Month)"]
[null,"Fuel Surcharge ($/Month)"]
[null,"Other Fixed Charges ($/Month)",null,"<Notes>"]
[null,"Non-Usage Per Unit Charges ($/Mlb)",null,"<Notes>"]
[null,"Sales and Use Tax (%)",7.0000000000000007E-2]
[]
[null,"# of Seasonal Periods"]
[null,"# of Usage Tiers"]
[null,"# of Daily TOU Periods"]
[]
[null,"Seasonal Period 1"]
[null,"Period Start Date"]
[null,"Period End Date"]
[]
[null,"Seasonal Period 1 - Rate Structure"]
[null,null,{"$f":"IF($C$408=\"Tiered/Stepped\",\"Tier 1\",IF($C$408=\"Time of Use (TOU)\",\"TOU Period 1\",\"\"))","v":""},{"$f":"IF($C$408=\"Tiered/Stepped\",\"Tier 2\",IF($C$408=\"Time of Use (TOU)\",\"TOU Period 2\",\"\"))","v":""},{"$f":"IF($C$408=\"Tiered/Stepped\",IF($C$416>=3,\"Tier 3\",\"\"),IF($C$408=\"Time of Use (TOU)\",IF($C$417>=3,\"TOU Period 3\",\"\"),\"\"))","v":""},{"$f":"IF($C$408=\"Tiered/Stepped\",IF($C$416>=4,\"Tier 4\",\"\"),IF($C$408=\"Time of Use (TOU)\",IF($C$417>=4,\"TOU Period 4\",\"\"),\"\"))","v":""}]
[null,"Tier Max Mlb"]
[null,"TOU Period Start Time"]
[null,"Usage Charge ($/Mlb)"]
[]
[null,"Peak Demand Charge ($/Mlb/hr)"]
[null,"Off-Peak Demand Charge ($/Mlb/hr)"]
[]
[null,"Seasonal Period 2"]
[null,"Period Start Date"]
[null,"Period End Date"]
[]
[null,"Seasonal Period 2 - Rate Structure"]
[null,null,{"$f":"IF($C$408=\"Tiered/Stepped\",\"Tier 1\",IF($C$408=\"Time of Use (TOU)\",\"TOU Period 1\",\"\"))","v":""},{"$f":"IF($C$408=\"Tiered/Stepped\",\"Tier 2\",IF($C$408=\"Time of Use (TOU)\",\"TOU Period 2\",\"\"))","v":""},{"$f":"IF($C$408=\"Tiered/Stepped\",IF($C$416>=3,\"Tier 3\",\"\"),IF($C$408=\"Time of Use (TOU)\",IF($C$417>=3,\"TOU Period 3\",\"\"),\"\"))","v":""},{"$f":"IF($C$408=\"Tiered/Stepped\",IF($C$416>=4,\"Tier 4\",\"\"),IF($C$408=\"Time of Use (TOU)\",IF($C$417>=4,\"TOU Period 4\",\"\"),\"\"))","v":""}]
[null,"Tier Max Mlb"]
[null,"TOU Period Start Time"]
[null,"Usage Charge ($/Mlb)"]
[]
[null,"Peak Demand Charge ($/Mlb/hr)"]
[null,"Off-Peak Demand Charge ($/Mlb/hr)"]
[]
[null,"Seasonal Period 3"]
[null,"Period Start Date"]
[null,"Period End Date"]
[]
[null,"Seasonal Period 3 - Rate Structure"]
[null,null,{"$f":"IF($C$408=\"Tiered/Stepped\",\"Tier 1\",IF($C$408=\"Time of Use (TOU)\",\"TOU Period 1\",\"\"))","v":""},{"$f":"IF($C$408=\"Tiered/Stepped\",\"Tier 2\",IF($C$408=\"Time of Use (TOU)\",\"TOU Period 2\",\"\"))","v":""},{"$f":"IF($C$408=\"Tiered/Stepped\",IF($C$416>=3,\"Tier 3\",\"\"),IF($C$408=\"Time of Use (TOU)\",IF($C$417>=3,\"TOU Period 3\",\"\"),\"\"))","v":""},{"$f":"IF($C$408=\"Tiered/Stepped\",IF($C$416>=4,\"Tier 4\",\"\"),IF($C$408=\"Time of Use (TOU)\",IF($C$417>=4,\"TOU Period 4\",\"\"),\"\"))","v":""}]
[null,"Tier Max Mlb"]
[null,"TOU Period Start Time"]
[null,"Usage Charge ($/Mlb)"]
[]
[null,"Peak Demand Charge ($/Mlb/hr)"]
[null,"Off-Peak Demand Charge ($/Mlb/hr)"]
[]
[null,"Seasonal Period 4"]
[null,"Period Start Date"]
[null,"Period End Date"]
[]
[null,"Seasonal Period 4 - Rate Structure"]
[null,null,{"$f":"IF($C$408=\"Tiered/Stepped\",\"Tier 1\",IF($C$408=\"Time of Use (TOU)\",\"TOU Period 1\",\"\"))","v":""},{"$f":"IF($C$408=\"Tiered/Stepped\",\"Tier 2\",IF($C$408=\"Time of Use (TOU)\",\"TOU Period 2\",\"\"))","v":""},{"$f":"IF($C$408=\"Tiered/Stepped\",IF($C$416>=3,\"Tier 3\",\"\"),IF($C$408=\"Time of Use (TOU)\",IF($C$417>=3,\"TOU Period 3\",\"\"),\"\"))","v":""},{"$f":"IF($C$408=\"Tiered/Stepped\",IF($C$416>=4,\"Tier 4\",\"\"),IF($C$408=\"Time of Use (TOU)\",IF($C$417>=4,\"TOU Period 4\",\"\"),\"\"))","v":""}]
[null,"Tier Max Mlb"]
[null,"TOU Period Start Time"]
[null,"Usage Charge ($/Mlb)"]
[]
[null,"Peak Demand Charge ($/Mlb/hr)"]
[null,"Off-Peak Demand Charge ($/Mlb/hr)"]
[]
[null,"Chilled Water Meters"]
[null,"Meter Number","Account Number","Location(s) Served","# Apts Served","Rate Class"]
[]
[]
[]
[]
[]
[]
[null,"Chilled Water Rate"]
[null,"Customer/Service Charge ($/Month)"]
[null,"Other Fixed Charges ($/Month)",null,"<Notes>"]
[null,"Commodity Cost ($/MMBtu)"]
[null,"Capacity Cost ($/MMBtu/hr)"]
[null,"Other Per Unit Costs ($/MMBtu)",null,"<Notes>"]
[null,"Sales and Use Tax (%)",7.0000000000000007E-2]
[]
[null,"Hot Water Meters"]
[null,"Meter Number","Account Number","Location(s) Served","# Apts Served","Rate Class"]
[]
[]
[]
[]
[]
[]
[null,"Hot Water Rate"]
[null,"Customer/Service Charge ($/Month)"]
[null,"Other Fixed Charges ($/Month)",null,"<Notes>"]
[null,"Commodity Cost ($/MMBtu)"]
[null,"Capacity Cost ($/MMBtu/hr)"]
[null,"Other Per Unit Costs ($/MMBtu)",null,"<Notes>"]
[null,"Sales and Use Tax (%)",7.0000000000000007E-2]

{"sheet":"Electric Totals","index":1,"n_rows":60,"n_cols":183,"rows_kept":60,"cut":false,"hidden":false,"merged":[[51,149,51,151],[52,149,52,151],[4,152,4,154],[5,152,5,154],[6,152,6,154],[26,152,26,154],[27,152,27,154],[29,152,29,154],[30,152,30,154],[31,152,31,154],[51,152,51,154],[52,152,52,154],[4,149,4,151],[5,149,5,151],[6,149,6,151],[26,149,26,151],[27,149,27,151],[29,149,29,151],[30,149,30,151],[31,149,31,151],[51,143,51,145],[52,143,52,145],[4,146,4,148],[5,146,5,148],[6,146,6,148],[26,146,26,148],[27,146,27,148],[29,146,29,148],[30,146,30,148],[31,146,31,148],[51,146,51,148],[52,146,52,148],[4,143,4,145],[5,143,5,145],[6,143,6,145],[26,143,26,145],[27,143,27,145],[29,143,29,145],[30,143,30,145],[31,143,31,145],[51,137,51,139],[52,137,52,139],[4,140,4,142],[5,140,5,142],[6,140,6,142],[26,140,26,142],[27,140,27,142],[29,140,29,142],[30,140,30,142],[31,140,31,142],[51,140,51,142],[52,140,52,142],[4,137,4,139],[5,137,5,139],[6,137,6,139],[26,137,26,139],[27,137,27,139],[29,137,29,139],[30,137,30,139],[31,137,31,139],[51,131,51,133],[52,131,52,133],[4,134,4,136],[5,134,5,136],[6,134,6,136],[26,134,26,136],[27,134,27,136],[29,134,29,136],[30,134,30,136],[31,134,31,136],[51,134,51,136],[52,134,52,136],[4,131,4,133],[5,131,5,133],[6,131,6,133],[26,131,26,133],[27,131,27,133],[29,131,29,133],[30,131,30,133],[31,131,31,133],[51,125,51,127],[52,125,52,127],[4,128,4,130],[5,128,5,130],[6,128,6,130],[26,128,26,130],[27,128,27,130],[29,128,29,130],[30,128,30,130],[31,128,31,130],[51,128,51,130],[52,128,52,130],[4,125,4,127],[5,125,5,127],[6,125,6,127],[26,125,26,127],[27,125,27,127],[29,125,29,127],[30,125,30,127],[31,125,31,127],[51,119,51,121],[52,119,52,121],[4,122,4,124],[5,122,5,124],[6,122,6,124],[26,122,26,124],[27,122,27,124],[29,122,29,124],[30,122,30,124],[31,122,31,124],[51,122,51,124],[52,122,52,124],[4,119,4,121],[5,119,5,121],[6,119,6,121],[26,119,26,121],[27,119,27,121],[29,119,29,121],[30,119,30,121],[31,119,31,121],[51,113,51,115],[52,113,52,115],[4,116,4,118],[5,116,5,118],[6,116,6,118],[26,116,26,118],[27,116,27,118],[29,116,29,118],[30,116,30,118],[31,116,31,118],[51,116,51,118],[52,116,52,118],[4,113,4,115],[5,113,5,115],[6,113,6,115],[26,113,26,115],[27,113,27,115],[29,113,29,115],[30,113,30,115],[31,113,31,115],[51,107,51,109],[52,107,52,109],[4,110,4,112],[5,110,5,112],[6,110,6,112],[26,110,26,112],[27,110,27,112],[29,110,29,112],[30,110,30,112],[31,110,31,112],[51,110,51,112],[52,110,52,112],[4,107,4,109],[5,107,5,109],[6,107,6,109],[26,107,26,109],[27,107,27,109],[29,107,29,109],[30,107,30,109],[31,107,31,109],[51,101,51,103],[52,101,52,103],[4,104,4,106],[5,104,5,106],[6,104,6,106],[26,104,26,106],[27,104,27,106],[29,104,29,106],[30,104,30,106],[31,104,31,106],[51,104,51,106],[52,104,52,106],[4,101,4,103],[5,101,5,103],[6,101,6,103],[26,101,26,103],[27,101,27,103],[29,101,29,103],[30,101,30,103],[31,101,31,103],[51,95,51,97],[52,95,52,97],[4,98,4,100],[5,98,5,100],[6,98,6,100],[26,98,26,100],[27,98,27,100],[29,98,29,100],[30,98,30,100],[31,98,31,100],[51,98,51,100],[52,98,52,100],[4,95,4,97],[5,95,5,97],[6,95,6,97],[26,95,26,97],[27,95,27,97],[29,95,29,97],[30,95,30,97],[31,95,31,97],[4,1,5,3],[4,5,4,7],[4,8,4,10],[4,11,4,13],[4,14,4,16],[4,17,4,19],[4,20,4,22],[29,1,30,3],[25,1,26,3],[26,5,26,7],[26,8,26,10],[26,11,26,13],[26,14,26,16],[26,17,26,19],[29,5,29,7],[29,8,29,10],[29,11,29,13],[29,14,29,16],[29,17,29,19],[29,20,29,22],[30,5,30,7],[30,8,30,10],[30,11,30,13],[30,14,30,16],[4,59,4,61],[4,62,4,64],[4,159,5,161],[5,5,5,7],[5,8,5,10],[5,11,5,13],[5,14,5,16],[5,17,5,19],[5,20,5,22],[5,23,5,25],[4,41,4,43],[4,44,4,46],[4,47,4,49],[4,50,4,52],[4,53,4,55],[4,56,4,58],[4,23,4,25],[4,26,4,28],[4,29,4,31],[4,32,4,34],[4,35,4,37],[6,23,6,25],[4,38,4,40],[6,29,6,31],[6,32,6,34],[6,35,6,37],[6,38,6,40],[5,62,5,64],[6,1,7,1],[6,2,7,2],[6,3,7,3],[6,5,6,7],[6,8,6,10],[6,11,6,13],[6,14,6,16],[6,17,6,19],[6,20,6,22],[5,44,5,46],[5,47,5,49],[5,50,5,52],[5,53,5,55],[5,56,5,58],[5,59,5,61],[5,26,5,28],[5,29,5,31],[6,26,6,28],[5,35,5,37],[6,162,7,162],[6,164,7,164],[6,59,6,61],[6,62,6,64],[6,155,7,155],[6,159,7,159],[6,160,7,160],[6,161,7,161],[6,41,6,43],[6,44,6,46],[6,47,6,49],[6,50,6,52],[6,53,6,55],[6,56,6,58],[5,32,5,34],[6,157,7,157],[5,38,5,40],[5,41,5,43],[26,56,26,58],[26,59,26,61],[26,62,26,64],[27,5,27,7],[27,8,27,10],[27,11,27,13],[27,14,27,16],[27,17,27,19],[27,20,27,22],[27,23,27,25],[26,38,26,40],[26,41,26,43],[26,44,26,46],[26,47,26,49],[26,50,26,52],[26,53,26,55],[26,20,26,22],[26,23,26,25],[26,26,26,28],[26,29,26,31],[26,32,26,34],[26,35,26,37],[27,62,27,64],[29,23,29,25],[29,26,29,28],[27,44,27,46],[27,47,27,49],[27,50,27,52],[27,53,27,55],[27,56,27,58],[27,59,27,61],[27,26,27,28],[27,29,27,31],[27,32,27,34],[27,35,27,37],[27,38,27,40],[27,41,27,43],[30,17,30,19],[30,20,30,22],[30,23,30,25],[30,26,30,28],[30,29,30,31],[30,32,30,34],[30,35,30,37],[30,38,30,40],[30,41,30,43],[31,26,31,28],[31,29,31,31],[31,32,31,34],[31,35,31,37],[29,159,30,161],[29,47,29,49],[29,50,29,52],[29,53,29,55],[29,56,29,58],[29,59,29,61],[29,62,29,64],[29,29,29,31],[29,32,29,34],[29,35,29,37],[29,38,29,40],[29,41,29,43],[29,44,29,46],[30,50,30,52],[30,53,30,55],[31,157,32,157],[30,56,30,58],[30,59,30,61],[30,62,30,64],[30,44,30,46],[30,47,30,49],[31,161,32,161],[31,162,32,162],[31,164,32,164],[31,56,31,58],[31,59,31,61],[31,62,31,64],[31,155,32,155],[31,159,32,159],[31,160,32,160],[31,89,31,91],[31,44,31,46],[31,47,31,49],[31,50,31,52],[31,53,31,55],[31,20,31,22],[31,23,31,25],[50,1,51,3],[51,5,51,7],[51,8,51,10],[51,11,51,13],[51,14,51,16],[51,17,51,19],[51,20,51,22],[51,23,51,25],[51,26,51,28],[31,38,31,40],[31,41,31,43],[31,5,31,7],[31,8,31,10],[31,11,31,13],[31,14,31,16],[31,17,31,19],[31,1,32,1],[31,2,32,2],[31,3,32,3],[51,38,51,40],[51,41,51,43],[51,44,51,46],[52,59,52,61],[52,62,52,64],[51,47,51,49],[51,50,51,52],[51,53,51,55],[51,56,51,58],[51,59,51,61],[51,62,51,64],[52,5,52,7],[52,8,52,10],[52,11,52,13],[52,14,52,16],[52,17,52,19],[52,20,52,22],[51,29,51,31],[51,32,51,34],[51,35,51,37],[52,41,52,43],[52,44,52,46],[52,47,52,49],[52,50,52,52],[52,53,52,55],[52,56,52,58],[52,23,52,25],[52,26,52,28],[52,29,52,31],[52,32,52,34],[52,35,52,37],[52,38,52,40],[51,65,51,67],[52,65,52,67],[4,68,4,70],[5,68,5,70],[6,68,6,70],[26,68,26,70],[27,68,27,70],[29,68,29,70],[30,68,30,70],[31,68,31,70],[51,68,51,70],[52,68,52,70],[4,65,4,67],[5,65,5,67],[6,65,6,67],[26,65,26,67],[27,65,27,67],[29,65,29,67],[30,65,30,67],[31,65,31,67],[51,71,51,73],[52,71,52,73],[4,74,4,76],[5,74,5,76],[6,74,6,76],[26,74,26,76],[27,74,27,76],[29,74,29,76],[30,74,30,76],[31,74,31,76],[51,74,51,76],[52,74,52,76],[4,71,4,73],[5,71,5,73],[6,71,6,73],[26,71,26,73],[27,71,27,73],[29,71,29,73],[30,71,30,73],[31,71,31,73],[51,77,51,79],[52,77,52,79],[4,80,4,82],[5,80,5,82],[6,80,6,82],[26,80,26,82],[27,80,27,82],[29,80,29,82],[30,80,30,82],[31,80,31,82],[51,80,51,82],[52,80,52,82],[4,77,4,79],[5,77,5,79],[6,77,6,79],[26,77,26,79],[27,77,27,79],[29,77,29,79],[30,77,30,79],[31,77,31,79],[51,83,51,85],[52,83,52,85],[4,86,4,88],[5,86,5,88],[6,86,6,88],[26,86,26,88],[27,86,27,88],[29,86,29,88],[30,86,30,88],[31,86,31,88],[51,86,51,88],[52,86,52,88],[4,83,4,85],[5,83,5,85],[6,83,6,85],[26,83,26,85],[27,83,27,85],[29,83,29,85],[30,83,30,85],[31,83,31,85],[59,1,59,16],[60,1,64,16],[2,1,2,14],[6,156,7,156],[31,156,32,156],[51,89,51,91],[52,89,52,91],[4,92,4,94],[5,92,5,94],[6,92,6,94],[26,92,26,94],[27,92,27,94],[29,92,29,94],[30,92,30,94],[31,92,31,94],[51,92,51,94],[52,92,52,94],[4,89,4,91],[5,89,5,91],[6,89,6,91],[26,89,26,91],[27,89,27,91],[29,89,29,91],[30,89,30,91]]}
[null,"Electric Utility Data Summary"]
[null,"Instructions"]
[null,"1) Enter data for pre-construction energy use in blue cells. Please ensure beginning and end read dates are 'Actual'.                                                      \n2) Unhide columns (P-AS) if there are more than 5 common area accounts. You may hide columns that are not needed, do not delete them.\n3) If the project is master-metered, enter data in this tab. Use Apt-Elec tab for direct-metered apartment data, if applicable.\n4) If there is on-site electric generation, please provide NET electricity consumed at the site (i.e. kWh produced less exported) in column AU.\n5) Review graphs to the right for irregularities in the usage data.\n6) Post-Construction data will be filled in one year after construction has been completed.\n7) Please use the \"Notes\" field below the data entry section of this tab to explain unusual circumstances, any anomalies in the data, or adjustments made. Also, please follow Program Guidelines v4.1, Section 3.2.2 for irregular delivers, outliers, and estimated bills.\n\n"]
[]
[null,"Pre-Construction Common Area Billing Dates",null,null,null,"Common Area Meter #1",null,null,"Common Area Meter #2",null,null,"Common Area Meter #3",null,null,"Common Area Meter #4",null,null,"Common Area Meter #5",null,null,"Common Area Meter #6",null,null,"Common Area Meter #7",null,null,"Common Area Meter #8",null,null,"Common Area Meter #9",null,null,"Common Area Meter #10",null,null,"Common Area Meter #11",null,null,"Common Area Meter #12",null,null,"Common Area Meter #13",null,null,"Common Area Meter #14",null,null,"Common Area Meter #15",null,null,"Common Area Meter #16",null,null,"Common Area Meter #17",null,null,"Common Area Meter #18",null,null,"Common Area Meter #19",null,null,"Common Area Meter #20",null,null,"Common Area Meter #21",null,null,"Common Area Meter #22",null,null,"Common Area Meter #23",null,null,"Common Area Meter #24",null,null,"Common Area Meter #25",null,null,"Common Area Meter #26",null,null,"Common Area Meter #27",null,null,"Common Area Meter #28",null,null,"Common Area Meter #29",null,null,"Common Area Meter #30",null,null,"Common Area Meter #31",null,null,"Common Area Meter #32",null,null,"Common Area Meter #33",null,null,"Common Area Meter #34",null,null,"Common Area Meter #35",null,null,"Common Area Meter #36",null,null,"Common Area Meter #37",null,null,"Common Area Meter #38",null,null,"Common Area Meter #39",null,null,"Common Area Meter #40",null,null,"Common Area Meter #41",null,null,"Common Area Meter #42",null,null,"Common Area Meter #43",null,null,"Common Area Meter #44",null,null,"Common Area Meter #45",null,null,"Common Area Meter #46",null,null,"Common Area Meter #47",null,null,"Common Area Meter #48",null,null,"Common Area Meter #49",null,null,"Common Area Meter #50",null,null,null,null,null,null,"Pre-Construction In-Unit Billing Dates"]
[null,null,null,null,null,"Account #",null,null,"Account #",null,null,"Account #",null,null,"Account #",null,null,"Account #",null,null,"Account #",null,null,"Account #",null,null,"Account #",null,null,"Account #",null,null,"Account #",null,null,"Account #",null,null,"Account #",null,null,"Account #",null,null,"Account #",null,null,"Account #",null,null,"Account #",null,null,"Account #",null,null,"Account #",null,null,"Account #",null,null,"Account #",null,null,"Account #",null,null,"Account #",null,null,"Account #",null,null,"Account #",null,null,"Account #",null,null,"Account #",null,null,"Account #",null,null,"Account #",null,null,"Account #",null,null,"Account #",null,null,"Account #",null,null,"Account #",null,null,"Account #",null,null,"Account #",null,null,"Account #",null,null,"Account #",null,null,"Account #",null,null,"Account #",null,null,"Account #",null,null,"Account #",null,null,"Account #",null,null,"Account #",null,null,"Account #",null,null,"Account #",null,null,"Account #",null,null,"Account #",null,null,"Account #",null,null,"Account #",null,null,"Account #",null,null,"Account #"]
[null,"Billing Period Start Date","Read Date","Days in Billing Period",null,{"$f":"'Utility Info'!C24","v":0},null,null,{"$f":"'Utility Info'!C25","v":0},null,null,{"$f":"'Utility Info'!C26","v":0},null,null,{"$f":"'Utility Info'!C27","v":0},null,null,{"$f":"'Utility Info'!C28","v":0},null,null,{"$f":"'Utility Info'!C29","v":0},null,null,{"$f":"'Utility Info'!C30","v":0},null,null,{"$f":"'Utility Info'!C31","v":0},null,null,{"$f":"'Utility Info'!C32","v":0},null,null,{"$f":"'Utility Info'!C33","v":0},null,null,{"$f":"'Utility Info'!C34","v":0},null,null,{"$f":"'Utility Info'!C35","v":0},null,null,{"$f":"'Utility Info'!C36","v":0},null,null,{"$f":"'Utility Info'!C37","v":0},null,null,{"$f":"'Utility Info'!C38","v":0},null,null,{"$f":"'Utility Info'!C39","v":0},null,null,{"$f":"'Utility Info'!C40","v":0},null,null,{"$f":"'Utility Info'!C41","v":0},null,null,{"$f":"'Utility Info'!C42","v":0},null,null,{"$f":"'Utility Info'!C43","v":0},null,null,{"$f":"'Utility Info'!C44","v":0},null,null,{"$f":"'Utility Info'!C45","v":0},null,null,{"$f":"'Utility Info'!C46","v":0},null,null,{"$f":"'Utility Info'!C47","v":0},null,null,{"$f":"'Utility Info'!C48","v":0},null,null,{"$f":"'Utility Info'!C49","v":0},null,null,{"$f":"'Utility Info'!C50","v":0},null,null,{"$f":"'Utility Info'!C51","v":0},null,null,{"$f":"'Utility Info'!C52","v":0},null,null,{"$f":"'Utility Info'!C53","v":0},null,null,{"$f":"'Utility Info'!C54","v":0},null,null,{"$f":"'Utility Info'!C55","v":0},null,null,{"$f":"'Utility Info'!C56","v":0},null,null,{"$f":"'Utility Info'!C57","v":0},null,null,{"$f":"'Utility Info'!C58","v":0},null,null,{"$f":"'Utility Info'!C59","v":0},null,null,{"$f":"'Utility Info'!C60","v":0},null,null,{"$f":"'Utility Info'!C61","v":0},null,null,{"$f":"'Utility Info'!C62","v":0},null,null,{"$f":"'Utility Info'!C63","v":0},null,null,{"$f":"'Utility Info'!C64","v":0},null,null,{"$f":"'Utility Info'!C65","v":0},null,null,{"$f":"'Utility Info'!C66","v":0},null,null,{"$f":"'Utility Info'!C67","v":0},null,null,{"$f":"'Utility Info'!C68","v":0},null,null,{"$f":"'Utility Info'!C69","v":0},null,null,{"$f":"'Utility Info'!C70","v":0},null,null,{"$f":"'Utility Info'!C71","v":0},null,null,{"$f":"'Utility Info'!C72","v":0},null,null,{"$f":"'Utility Info'!C73","v":0},null,null,"Total Common Area kWh Consumption","Total Common Area Peak kW","On-Site Net kWh Generation",null,"Billing Period Start Date","Read Date","Days in Billing Period","In-Unit kWh Consumption",null,"Total kWh Consumption",null,null,null,null,null,null,"Data for Graphs:"]
[null,null,null,null,null,"kWh","kW","Actual/ Estimated","kWh","kW","Actual/ Estimated","kWh","kW","Actual/ Estimated","kWh","kW","Actual/ Estimated","kWh","kW","Actual/ Estimated","kWh","kW","Actual/ Estimated","kWh","kW","Actual/ Estimated","kWh","kW","Actual/ Estimated","kWh","kW","Actual/ Estimated","kWh","kW","Actual/ Estimated","kWh","kW","Actual/ Estimated","kWh","kW","Actual/ Estimated","kWh","kW","Actual/ Estimated","kWh","kW","Actual/ Estimated","kWh","kW","Actual/ Estimated","kWh","kW","Actual/ Estimated","kWh","kW","Actual/ Estimated","kWh","kW","Actual/ Estimated","kWh","kW","Actual/ Estimated","kWh","kW","Actual/ Estimated","kWh","kW","Actual/ Estimated","kWh","kW","Actual/ Estimated","kWh","kW","Actual/ Estimated","kWh","kW","Actual/ Estimated","kWh","kW","Actual/ Estimated","kWh","kW","Actual/ Estimated","kWh","kW","Actual/ Estimated","kWh","kW","Actual/ Estimated","kWh","kW","Actual/ Estimated","kWh","kW","Actual/ Estimated","kWh","kW","Actual/ Estimated","kWh","kW","Actual/ Estimated","kWh","kW","Actual/ Estimated","kWh","kW","Actual/ Estimated","kWh","kW","Actual/ Estimated","kWh","kW","Actual/ Estimated","kWh","kW","Actual/ Estimated","kWh","kW","Actual/ Estimated","kWh","kW","Actual/ Estimated","kWh","kW","Actual/ Estimated","kWh","kW","Actual/ Estimated","kWh","kW","Actual/ Estimated","kWh","kW","Actual/ Estimated","kWh","kW","Actual/ Estimated","kWh","kW","Actual/ Estimated","kWh","kW","Actual/ Estimated","kWh","kW","Actual/ Estimated","kWh","kW","Actual/ Estimated","kWh","kW","Actual/ Estimated","kWh","kW","Actual/ Estimated",null,null,null,null,null,null,null,null,null,null,null,null,null,null,null,null,"Common Area Ref Date","Common Area Month","In-unit Ref Date","In-Unit Month",null,"Months","Common Area Pre","Common Area Post","In-Unit Pre","In-Unit Post","Common Area Pre kW","Common Area Post kW"]
[null,null,null,null,null,null,null,null,null,null,null,null,null,null,null,null,null,null,null,null,null,null,null,null,null,null,null,null,null,null,null,null,null,null,null,null,null,null,null,null,null,null,null,null,null,null,null,null,null,null,null,null,null,null,null,null,null,null,null,null,null,null,null,null,null,null,null,null,null,null,null,null,null,null,null,null,null,null,null,null,null,null,null,null,null,null,null,null,null,null,null,null,null,null,null,null,null,null,null,null,null,null,null,null,null,null,null,null,null,null,null,null,null,null,null,null,null,null,null,null,null,null,null,null,null,null,null,null,null,null,null,null,null,null,null,null,null,null,null,null,null,null,null,null,null,null,null,null,null,null,null,null,null,null,null,null,null,null,null,null,{"$f":"'Apt-Elec'!C11","v":"00:00:00"}]
[null,{"$f":"C9+1","v":"1900-01-01"},null,{"$f":"IF(C10>0,C10+1-B10,0)","v":0},null,null,null,null,null,null,null,null,null,null,null,null,null,null,null,null,null,null,null,null,null,null,null,null,null,null,null,null,null,null,null,null,null,null,null,null,null,null,null,null,null,null,null,null,null,null,null,null,null,null,null,null,null,null,null,null,null,null,null,null,null,null,null,null,null,null,null,null,null,null,null,null,null,null,null,null,null,null,null,null,null,null,null,null,null,null,null,null,null,null,null,null,null,null,null,null,null,null,null,null,null,null,null,null,null,null,null,null,null,null,null,null,null,null,null,null,null,null,null,null,null,null,null,null,null,null,null,null,null,null,null,null,null,null,null,null,null,null,null,null,null,null,null,null,null,null,null,null,null,null,null,{"$f":"SUM(F10,I10,L10,O10,R10,U10,X10,AA10,AD10,AG10,AJ10,AM10,AP10,AS10,AV10,AY10,BB10,BE10,BH10,BK10,BN10,BQ10,BT10,BW10,BZ10,CC10,CF10,CI10,CL10,CO10,CR10,CU10,CX10,DA10,DD10,DG10,DJ10,DM10,DP10,DS10,DV10,DY10,EB10,EE10,EH10,EK10,EN10,EQ10,ET10,EW10)+FB10","v":0},{"$f":"SUM(G10,J10,M10,P10,S10,V10,Y10,AB10,AE10,AH10,AK10,AN10,AQ10,AT10,AW10,AZ10,BC10,BF10,BI10,BL10,BO10,BR10,BU10,BX10,CA10,CD10,CG10,CJ10,CM10,CP10,CS10,CV10,CY10,DB10,DE10,DH10,DK10,DN10,DQ10,DT10,DW10,DZ10,EC10,EF10,EI10,EL10,EO10,ER10,EU10,EX10)","v":0},null,null,{"$f":"'Apt-Elec'!B12","v":"1900-01-01"},{"$f":"'Apt-Elec'!C12","v":"00:00:00"},{"$f":"IF(FE10>0,FE10+1-FD10,0)","v":0},{"$f":"'Apt-Elec'!PT12","v":0},null,{"$f":"EZ10+FG10","v":0},null,null,null,null,null,null,{"$f":"DATE(YEAR(C10),MONTH(C10),1)","v":"1900-01-01"},{"$f":"IF((FP10-B10)>(C10-FP10),MONTH(B10),MONTH(C10))","v":1},{"$f":"DATE(YEAR(FE10),MONTH(FE10),1)","v":"1900-01-01"},{"$f":"IF((FR10-FD10)>(FE10-FR10),MONTH(FD10),MONTH(FE10))","v":1},null,"2012-01-15",{"$f":"SUMIF($FQ$10:$FQ$24,MONTH($FU10),$EZ$10:$EZ$24)","v":0},{"$f":"SUMIF($FQ$35:$FQ$49,MONTH($FU10),$EZ$35:$EZ$49)","v":0},{"$f":"SUMIF($FS$10:$FS$24,MONTH($FU10),$FG$10:$FG$24)","v":0},{"$f":"SUMIF($FS$35:$FS$49,MONTH($FU10),$FG$35:$FG$49)","v":0},{"$f":"MAX(IF($FQ$10:$FQ$24=MONTH($FU10),$FA$10:$FA$24))","v":0},{"$f":"MAX(IF($FQ$35:$FQ$49=MONTH($FU10),$FA$35:$FA$49))","v":0}]
[null,"1900-01-01",null,{"$f":"IF(C11>0,C11+1-B11,0)","v":0},null,null,null,null,null,null,null,null,null,null,null,null,null,null,null,null,null,null,null,null,null,null,null,null,null,null,null,null,null,null,null,null,null,null,null,null,null,null,null,null,null,null,null,null,null,null,null,null,null,null,null,null,null,null,null,null,null,null,null,null,null,null,null,null,null,null,null,null,null,null,null,null,null,null,null,null,null,null,null,null,null,null,null,null,null,null,null,null,null,null,null,null,null,null,null,null,null,null,null,null,null,null,null,null,null,null,null,null,null,null,null,null,null,null,null,null,null,null,null,null,null,null,null,null,null,null,null,null,null,null,null,null,null,null,null,null,null,null,null,null,null,null,null,null,null,null,null,null,null,null,null,{"$f":"SUM(F11,I11,L11,O11,R11,U11,X11,AA11,AD11,AG11,AJ11,AM11,AP11,AS11,AV11,AY11,BB11,BE11,BH11,BK11,BN11,BQ11,BT11,BW11,BZ11,CC11,CF11,CI11,CL11,CO11,CR11,CU11,CX11,DA11,DD11,DG11,DJ11,DM11,DP11,DS11,DV11,DY11,EB11,EE11,EH11,EK11,EN11,EQ11,ET11,EW11)+FB11","v":0},{"$f":"SUM(G11,J11,M11,P11,S11,V11,Y11,AB11,AE11,AH11,AK11,AN11,AQ11,AT11,AW11,AZ11,BC11,BF11,BI11,BL11,BO11,BR11,BU11,BX11,CA11,CD11,CG11,CJ11,CM11,CP11,CS11,CV11,CY11,DB11,DE11,DH11,DK11,DN11,DQ11,DT11,DW11,DZ11,EC11,EF11,EI11,EL11,EO11,ER11,EU11,EX11)","v":0},null,null,{"$f":"'Apt-Elec'!B13","v":"1900-01-01"},{"$f":"'Apt-Elec'!C13","v":"00:00:00"},{"$f":"IF(FE11>0,FE11+1-FD11,0)","v":0},{"$f":"'Apt-Elec'!PT13","v":0},null,{"$f":"EZ11+FG11","v":0},null,null,null,null,null,null,"1900-01-01",1,{"$f":"DATE(YEAR(FE11),MONTH(FE11),1)","v":"1900-01-01"},{"$f":"IF((FR11-FD11)>(FE11-FR11),MONTH(FD11),MONTH(FE11))","v":1},null,"2012-02-15",{"$f":"SUMIF($FQ$10:$FQ$24,MONTH($FU11),$EZ$10:$EZ$24)","v":0},0,{"$f":"SUMIF($FS$10:$FS$24,MONTH($FU11),$FG$10:$FG$24)","v":0},0,{"$f":"MAX(IF($FQ$10:$FQ$24=MONTH($FU11),$FA$10:$FA$24))","v":0},{"$f":"MAX(IF($FQ$35:$FQ$49=MONTH($FU11),$FA$35:$FA$49))","v":0}]
[null,"1900-01-01",null,0,null,null,null,null,null,null,null,null,null,null,null,null,null,null,null,null,null,null,null,null,null,null,null,null,null,null,null,null,null,null,null,null,null,null,null,null,null,null,null,null,null,null,null,null,null,null,null,null,null,null,null,null,null,null,null,null,null,null,null,null,null,null,null,null,null,null,null,null,null,null,null,null,null,null,null,null,null,null,null,null,null,null,null,null,null,null,null,null,null,null,null,null,null,null,null,null,null,null,null,null,null,null,null,null,null,null,null,null,null,null,null,null,null,null,null,null,null,null,null,null,null,null,null,null,null,null,null,null,null,null,null,null,null,null,null,null,null,null,null,null,null,null,null,null,null,null,null,null,null,null,null,0,0,null,null,{"$f":"'Apt-Elec'!B14","v":"1900-01-01"},{"$f":"'Apt-Elec'!C14","v":"00:00:00"},0,{"$f":"'Apt-Elec'!PT14","v":0},null,0,null,null,null,null,null,null,"1900-01-01",1,"1900-01-01",1,null,"2012-03-15",0,0,0,0,{"$f":"MAX(IF($FQ$10:$FQ$24=MONTH($FU12),$FA$10:$FA$24))","v":0},{"$f":"MAX(IF($FQ$35:$FQ$49=MONTH($FU12),$FA$35:$FA$49))","v":0}]
[null,"1900-01-01",null,0,null,null,null,null,null,null,null,null,null,null,null,null,null,null,null,null,null,null,null,null,null,null,null,null,null,null,null,null,null,null,null,null,null,null,null,null,null,null,null,null,null,null,null,null,null,null,null,null,null,null,null,null,null,null,null,null,null,null,null,null,null,null,null,null,null,null,null,null,null,null,null,null,null,null,null,null,null,null,null,null,null,null,null,null,null,null,null,null,null,null,null,null,null,null,null,null,null,null,null,null,null,null,null,null,null,null,null,null,null,null,null,null,null,null,null,null,null,null,null,null,null,null,null,null,null,null,null,null,null,null,null,null,null,null,null,null,null,null,null,null,null,null,null,null,null,null,null,null,null,null,null,0,0,null,null,{"$f":"'Apt-Elec'!B15","v":"1900-01-01"},{"$f":"'Apt-Elec'!C15","v":"00:00:00"},0,{"$f":"'Apt-Elec'!PT15","v":0},null,0,null,null,null,null,null,null,"1900-01-01",1,"1900-01-01",1,null,"2012-04-15",0,0,0,0,{"$f":"MAX(IF($FQ$10:$FQ$24=MONTH($FU13),$FA$10:$FA$24))","v":0},{"$f":"MAX(IF($FQ$35:$FQ$49=MONTH($FU13),$FA$35:$FA$49))","v":0}]
[null,"1900-01-01",null,0,null,null,null,null,null,null,null,null,null,null,null,null,null,null,null,null,null,null,null,null,null,null,null,null,null,null,null,null,null,null,null,null,null,null,null,null,null,null,null,null,null,null,null,null,null,null,null,null,null,null,null,null,null,null,null,null,null,null,null,null,null,null,null,null,null,null,null,null,null,null,null,null,null,null,null,null,null,null,null,null,null,null,null,null,null,null,null,null,null,null,null,null,null,null,null,null,null,null,null,null,null,null,null,null,null,null,null,null,null,null,null,null,null,null,null,null,null,null,null,null,null,null,null,null,null,null,null,null,null,null,null,null,null,null,null,null,null,null,null,null,null,null,null,null,null,null,null,null,null,null,null,0,0,null,null,{"$f":"'Apt-Elec'!B16","v":"1900-01-01"},{"$f":"'Apt-Elec'!C16","v":"00:00:00"},0,{"$f":"'Apt-Elec'!PT16","v":0},null,0,null,null,null,null,null,null,"1900-01-01",1,{"$f":"DATE(YEAR(FE14),MONTH(FE14),1)","v":"1900-01-01"},1,null,"2012-05-15",0,0,0,0,{"$f":"MAX(IF($FQ$10:$FQ$24=MONTH($FU14),$FA$10:$FA$24))","v":0},{"$f":"MAX(IF($FQ$35:$FQ$49=MONTH($FU14),$FA$35:$FA$49))","v":0}]
[null,"1900-01-01",null,0,null,null,null,null,null,null,null,null,null,null,null,null,null,null,null,null,null,null,null,null,null,null,null,null,null,null,null,null,null,null,null,null,null,null,null,null,null,null,null,null,null,null,null,null,null,null,null,null,null,null,null,null,null,null,null,null,null,null,null,null,null,null,null,null,null,null,null,null,null,null,null,null,null,null,null,null,null,null,null,null,null,null,null,null,null,null,null,null,null,null,null,null,null,null,null,null,null,null,null,null,null,null,null,null,null,null,null,null,null,null,null,null,null,null,null,null,null,null,null,null,null,null,null,null,null,null,null,null,null,null,null,null,null,null,null,null,null,null,null,null,null,null,null,null,null,null,null,null,null,null,null,0,0,null,null,{"$f":"'Apt-Elec'!B17","v":"1900-01-01"},{"$f":"'Apt-Elec'!C17","v":"00:00:00"},0,{"$f":"'Apt-Elec'!PT17","v":0},null,0,null,null,null,null,null,null,"1900-01-01",1,"1900-01-01",1,null,"2012-06-15",0,0,0,0,{"$f":"MAX(IF($FQ$10:$FQ$24=MONTH($FU15),$FA$10:$FA$24))","v":0},{"$f":"MAX(IF($FQ$35:$FQ$49=MONTH($FU15),$FA$35:$FA$49))","v":0}]
[null,"1900-01-01",null,0,null,null,null,null,null,null,null,null,null,null,null,null,null,null,null,null,null,null,null,null,null,null,null,null,null,null,null,null,null,null,null,null,null,null,null,null,null,null,null,null,null,null,null,null,null,null,null,null,null,null,null,null,null,null,null,null,null,null,null,null,null,null,null,null,null,null,null,null,null,null,null,null,null,null,null,null,null,null,null,null,null,null,null,null,null,null,null,null,null,null,null,null,null,null,null,null,null,null,null,null,null,null,null,null,null,null,null,null,null,null,null,null,null,null,null,null,null,null,null,null,null,null,null,null,null,null,null,null,null,null,null,null,null,null,null,null,null,null,null,null,null,null,null,null,null,null,null,null,null,null,null,0,0,null,null,{"$f":"'Apt-Elec'!B18","v":"1900-01-01"},{"$f":"'Apt-Elec'!C18","v":"00:00:00"},0,{"$f":"'Apt-Elec'!PT18","v":0},null,0,null,null,null,null,null,null,"1900-01-01",1,"1900-01-01",1,null,"2012-07-15",0,0,0,0,{"$f":"MAX(IF($FQ$10:$FQ$24=MONTH($FU16),$FA$10:$FA$24))","v":0},{"$f":"MAX(IF($FQ$35:$FQ$49=MONTH($FU16),$FA$35:$FA$49))","v":0}]
[null,"1900-01-01",null,0,null,null,null,null,null,null,null,null,null,null,null,null,null,null,null,null,null,null,null,null,null,null,null,null,null,null,null,null,null,null,null,null,null,null,null,null,null,null,null,null,null,null,null,null,null,null,null,null,null,null,null,null,null,null,null,null,null,null,null,null,null,null,null,null,null,null,null,null,null,null,null,null,null,null,null,null,null,null,null,null,null,null,null,null,null,null,null,null,null,null,null,null,null,null,null,null,null,null,null,null,null,null,null,null,null,null,null,null,null,null,null,null,null,null,null,null,null,null,null,null,null,null,null,null,null,null,null,null,null,null,null,null,null,null,null,null,null,null,null,null,null,null,null,null,null,null,null,null,null,null,null,0,0,null,null,{"$f":"'Apt-Elec'!B19","v":"1900-01-01"},{"$f":"'Apt-Elec'!C19","v":"00:00:00"},0,{"$f":"'Apt-Elec'!PT19","v":0},null,0,null,null,null,null,null,null,"1900-01-01",1,"1900-01-01",1,null,"2012-08-15",0,0,0,0,{"$f":"MAX(IF($FQ$10:$FQ$24=MONTH($FU17),$FA$10:$FA$24))","v":0},{"$f":"MAX(IF($FQ$35:$FQ$49=MONTH($FU17),$FA$35:$FA$49))","v":0}]
[null,"1900-01-01",null,0,null,null,null,null,null,null,null,null,null,null,null,null,null,null,null,null,null,null,null,null,null,null,null,null,null,null,null,null,null,null,null,null,null,null,null,null,null,null,null,null,null,null,null,null,null,null,null,null,null,null,null,null,null,null,null,null,null,null,null,null,null,null,null,null,null,null,null,null,null,null,null,null,null,null,null,null,null,null,null,null,null,null,null,null,null,null,null,null,null,null,null,null,null,null,null,null,null,null,null,null,null,null,null,null,null,null,null,null,null,null,null,null,null,null,null,null,null,null,null,null,null,null,null,null,null,null,null,null,null,null,null,null,null,null,null,null,null,null,null,null,null,null,null,null,null,null,null,null,null,null,null,0,0,null,null,{"$f":"'Apt-Elec'!B20","v":"1900-01-01"},{"$f":"'Apt-Elec'!C20","v":"00:00:00"},0,{"$f":"'Apt-Elec'!PT20","v":0},null,0,null,null,null,null,null,null,"1900-01-01",1,"1900-01-01",1,null,"2012-09-15",0,0,0,0,{"$f":"MAX(IF($FQ$10:$FQ$24=MONTH($FU18),$FA$10:$FA$24))","v":0},{"$f":"MAX(IF($FQ$35:$FQ$49=MONTH($FU18),$FA$35:$FA$49))","v":0}]
[null,"1900-01-01",null,0,null,null,null,null,null,null,null,null,null,null,null,null,null,null,null,null,null,null,null,null,null,null,null,null,null,null,null,null,null,null,null,null,null,null,null,null,null,null,null,null,null,null,null,null,null,null,null,null,null,null,null,null,null,null,null,null,null,null,null,null,null,null,null,null,null,null,null,null,null,null,null,null,null,null,null,null,null,null,null,null,null,null,null,null,null,null,null,null,null,null,null,null,null,null,null,null,null,null,null,null,null,null,null,null,null,null,null,null,null,null,null,null,null,null,null,null,null,null,null,null,null,null,null,null,null,null,null,null,null,null,null,null,null,null,null,null,null,null,null,null,null,null,null,null,null,null,null,null,null,null,null,0,0,null,null,{"$f":"'Apt-Elec'!B21","v":"1900-01-01"},{"$f":"'Apt-Elec'!C21","v":"00:00:00"},0,{"$f":"'Apt-Elec'!PT21","v":0},null,0,null,null,null,null,null,null,"1900-01-01",1,"1900-01-01",1,null,"2012-10-15",0,0,0,0,{"$f":"MAX(IF($FQ$10:$FQ$24=MONTH($FU19),$FA$10:$FA$24))","v":0},{"$f":"MAX(IF($FQ$35:$FQ$49=MONTH($FU19),$FA$35:$FA$49))","v":0}]
[null,"1900-01-01",null,0,null,null,null,null,null,null,null,null,null,null,null,null,null,null,null,null,null,null,null,null,null,null,null,null,null,null,null,null,null,null,null,null,null,null,null,null,null,null,null,null,null,null,null,null,null,null,null,null,null,null,null,null,null,null,null,null,null,null,null,null,null,null,null,null,null,null,null,null,null,null,null,null,null,null,null,null,null,null,null,null,null,null,null,null,null,null,null,null,null,null,null,null,null,null,null,null,null,null,null,null,null,null,null,null,null,null,null,null,null,null,null,null,null,null,null,null,null,null,null,null,null,null,null,null,null,null,null,null,null,null,null,null,null,null,null,null,null,null,null,null,null,null,null,null,null,null,null,null,null,null,null,0,0,null,null,{"$f":"'Apt-Elec'!B22","v":"1900-01-01"},{"$f":"'Apt-Elec'!C22","v":"00:00:00"},0,{"$f":"'Apt-Elec'!PT22","v":0},null,0,null,null,null,null,null,null,"1900-01-01",1,"1900-01-01",1,null,"2012-11-15",0,0,0,0,{"$f":"MAX(IF($FQ$10:$FQ$24=MONTH($FU20),$FA$10:$FA$24))","v":0},{"$f":"MAX(IF($FQ$35:$FQ$49=MONTH($FU20),$FA$35:$FA$49))","v":0}]
[null,"1900-01-01",null,0,null,null,null,null,null,null,null,null,null,null,null,null,null,null,null,null,null,null,null,null,null,null,null,null,null,null,null,null,null,null,null,null,null,null,null,null,null,null,null,null,null,null,null,null,null,null,null,null,null,null,null,null,null,null,null,null,null,null,null,null,null,null,null,null,null,null,null,null,null,null,null,null,null,null,null,null,null,null,null,null,null,null,null,null,null,null,null,null,null,null,null,null,null,null,null,null,null,null,null,null,null,null,null,null,null,null,null,null,null,null,null,null,null,null,null,null,null,null,null,null,null,null,null,null,null,null,null,null,null,null,null,null,null,null,null,null,null,null,null,null,null,null,null,null,null,null,null,null,null,null,null,0,0,null,null,{"$f":"'Apt-Elec'!B23","v":"1900-01-01"},{"$f":"'Apt-Elec'!C23","v":"00:00:00"},0,{"$f":"'Apt-Elec'!PT23","v":0},null,0,null,null,null,null,null,null,"1900-01-01",1,"1900-01-01",1,null,"2012-12-15",0,0,0,0,{"$f":"MAX(IF($FQ$10:$FQ$24=MONTH($FU21),$FA$10:$FA$24))","v":0},{"$f":"MAX(IF($FQ$35:$FQ$49=MONTH($FU21),$FA$35:$FA$49))","v":0}]
[null,"1900-01-01",null,0,null,null,null,null,null,null,null,null,null,null,null,null,null,null,null,null,null,null,null,null,null,null,null,null,null,null,null,null,null,null,null,null,null,null,null,null,null,null,null,null,null,null,null,null,null,null,null,null,null,null,null,null,null,null,null,null,null,null,null,null,null,null,null,null,null,null,null,null,null,null,null,null,null,null,null,null,null,null,null,null,null,null,null,null,null,null,null,null,null,null,null,null,null,null,null,null,null,null,null,null,null,null,null,null,null,null,null,null,null,null,null,null,null,null,null,null,null,null,null,null,null,null,null,null,null,null,null,null,null,null,null,null,null,null,null,null,null,null,null,null,null,null,null,null,null,null,null,null,null,null,null,0,0,null,null,{"$f":"'Apt-Elec'!B24","v":"1900-01-01"},{"$f":"'Apt-Elec'!C24","v":"00:00:00"},0,{"$f":"'Apt-Elec'!PT24","v":0},null,0,null,null,null,null,null,null,"1900-01-01",1,"1900-01-01",1,null,null,null,null,null,null,{"$f":"MAX(IF($FQ$10:$FQ$24=MONTH($FU22),$FA$10:$FA$24))","v":0},{"$f":"MAX(IF($FQ$35:$FQ$49=MONTH($FU22),$FA$35:$FA$49))","v":0}]
[null,"1900-01-01",null,0,null,null,null,null,null,null,null,null,null,null,null,null,null,null,null,null,null,null,null,null,null,null,null,null,null,null,null,null,null,null,null,null,null,null,null,null,null,null,null,null,null,null,null,null,null,null,null,null,null,null,null,null,null,null,null,null,null,null,null,null,null,null,null,null,null,null,null,null,null,null,null,null,null,null,null,null,null,null,null,null,null,null,null,null,null,null,null,null,null,null,null,null,null,null,null,null,null,null,null,null,null,null,null,null,null,null,null,null,null,null,null,null,null,null,null,null,null,null,null,null,null,null,null,null,null,null,null,null,null,null,null,null,null,null,null,null,null,null,null,null,null,null,null,null,null,null,null,null,null,null,null,0,0,null,null,{"$f":"'Apt-Elec'!B25","v":"1900-01-01"},{"$f":"'Apt-Elec'!C25","v":"00:00:00"},0,{"$f":"'Apt-Elec'!PT25","v":0},null,0,null,null,null,null,null,null,"1900-01-01",1,"1900-01-01",1,null,null,null,null,null,null,{"$f":"MAX(IF($FQ$10:$FQ$24=MONTH($FU23),$FA$10:$FA$24))","v":0},{"$f":"MAX(IF($FQ$35:$FQ$49=MONTH($FU23),$FA$35:$FA$49))","v":0}]
[null,"1900-01-01",null,0,null,null,null,null,null,null,null,null,null,null,null,null,null,null,null,null,null,null,null,null,null,null,null,null,null,null,null,null,null,null,null,null,null,null,null,null,null,null,null,null,null,null,null,null,null,null,null,null,null,null,null,null,null,null,null,null,null,null,null,null,null,null,null,null,null,null,null,null,null,null,null,null,null,null,null,null,null,null,null,null,null,null,null,null,null,null,null,null,null,null,null,null,null,null,null,null,null,null,null,null,null,null,null,null,null,null,null,null,null,null,null,null,null,null,null,null,null,null,null,null,null,null,null,null,null,null,null,null,null,null,null,null,null,null,null,null,null,null,null,null,null,null,null,null,null,null,null,null,null,null,null,0,0,null,null,{"$f":"'Apt-Elec'!B26","v":"1900-01-01"},{"$f":"'Apt-Elec'!C26","v":"00:00:00"},0,{"$f":"'Apt-Elec'!PT26","v":0},null,0,null,null,null,null,null,null,"1900-01-01",1,"1900-01-01",1,null,null,null,null,null,null,{"$f":"MAX(IF($FQ$10:$FQ$24=MONTH($FU24),$FA$10:$FA$24))","v":0},{"$f":"MAX(IF($FQ$35:$FQ$49=MONTH($FU24),$FA$35:$FA$49))","v":0}]
[null,null,{"$f":"IF(ABS(D25-365)>4,\"Must have 365 ± 4 days.\",\"\")","v":"Must have 365 ± 4 days."},{"$f":"SUM(D10:D24)","v":0},null,{"$f":"SUM(F10:F24)","v":0},{"$f":"MAX(G10:G24)","v":0},null,{"$f":"SUM(I10:I24)","v":0},{"$f":"MAX(J10:J24)","v":0},null,{"$f":"SUM(L10:L24)","v":0},{"$f":"MAX(M10:M24)","v":0},null,{"$f":"SUM(O10:O24)","v":0},{"$f":"MAX(P10:P24)","v":0},null,{"$f":"SUM(R10:R24)","v":0},{"$f":"MAX(S10:S24)","v":0},null,{"$f":"SUM(U10:U24)","v":0},{"$f":"MAX(V10:V24)","v":0},null,{"$f":"SUM(X10:X24)","v":0},{"$f":"MAX(Y10:Y24)","v":0},null,{"$f":"SUM(AA10:AA24)","v":0},{"$f":"MAX(AB10:AB24)","v":0},null,{"$f":"SUM(AD10:AD24)","v":0},{"$f":"MAX(AE10:AE24)","v":0},null,{"$f":"SUM(AG10:AG24)","v":0},{"$f":"MAX(AH10:AH24)","v":0},null,{"$f":"SUM(AJ10:AJ24)","v":0},{"$f":"MAX(AK10:AK24)","v":0},null,{"$f":"SUM(AM10:AM24)","v":0},{"$f":"MAX(AN10:AN24)","v":0},null,{"$f":"SUM(AP10:AP24)","v":0},{"$f":"MAX(AQ10:AQ24)","v":0},null,{"$f":"SUM(AS10:AS24)","v":0},{"$f":"MAX(AT10:AT24)","v":0},null,{"$f":"SUM(AV10:AV24)","v":0},{"$f":"MAX(AW10:AW24)","v":0},null,{"$f":"SUM(AY10:AY24)","v":0},{"$f":"MAX(AZ10:AZ24)","v":0},null,{"$f":"SUM(BB10:BB24)","v":0},{"$f":"MAX(BC10:BC24)","v":0},null,{"$f":"SUM(BE10:BE24)","v":0},{"$f":"MAX(BF10:BF24)","v":0},null,{"$f":"SUM(BH10:BH24)","v":0},{"$f":"MAX(BI10:BI24)","v":0},null,{"$f":"SUM(BK10:BK24)","v":0},{"$f":"MAX(BL10:BL24)","v":0},null,{"$f":"SUM(BN10:BN24)","v":0},{"$f":"MAX(BO10:BO24)","v":0},null,{"$f":"SUM(BQ10:BQ24)","v":0},{"$f":"MAX(BR10:BR24)","v":0},null,{"$f":"SUM(BT10:BT24)","v":0},{"$f":"MAX(BU10:BU24)","v":0},null,{"$f":"SUM(BW10:BW24)","v":0},{"$f":"MAX(BX10:BX24)","v":0},null,{"$f":"SUM(BZ10:BZ24)","v":0},{"$f":"MAX(CA10:CA24)","v":0},null,{"$f":"SUM(CC10:CC24)","v":0},{"$f":"MAX(CD10:CD24)","v":0},null,{"$f":"SUM(CF10:CF24)","v":0},{"$f":"MAX(CG10:CG24)","v":0},null,{"$f":"SUM(CI10:CI24)","v":0},{"$f":"MAX(CJ10:CJ24)","v":0},null,{"$f":"SUM(CL10:CL24)","v":0},{"$f":"MAX(CM10:CM24)","v":0},null,{"$f":"SUM(CO10:CO24)","v":0},{"$f":"MAX(CP10:CP24)","v":0},null,{"$f":"SUM(CR10:CR24)","v":0},{"$f":"MAX(CS10:CS24)","v":0},null,{"$f":"SUM(CU10:CU24)","v":0},{"$f":"MAX(CV10:CV24)","v":0},null,{"$f":"SUM(CX10:CX24)","v":0},{"$f":"MAX(CY10:CY24)","v":0},null,{"$f":"SUM(DA10:DA24)","v":0},{"$f":"MAX(DB10:DB24)","v":0},null,{"$f":"SUM(DD10:DD24)","v":0},{"$f":"MAX(DE10:DE24)","v":0},null,{"$f":"SUM(DG10:DG24)","v":0},{"$f":"MAX(DH10:DH24)","v":0},null,{"$f":"SUM(DJ10:DJ24)","v":0},{"$f":"MAX(DK10:DK24)","v":0},null,{"$f":"SUM(DM10:DM24)","v":0},{"$f":"MAX(DN10:DN24)","v":0},null,{"$f":"SUM(DP10:DP24)","v":0},{"$f":"MAX(DQ10:DQ24)","v":0},null,{"$f":"SUM(DS10:DS24)","v":0},{"$f":"MAX(DT10:DT24)","v":0},null,{"$f":"SUM(DV10:DV24)","v":0},{"$f":"MAX(DW10:DW24)","v":0},null,{"$f":"SUM(DY10:DY24)","v":0},{"$f":"MAX(DZ10:DZ24)","v":0},null,{"$f":"SUM(EB10:EB24)","v":0},{"$f":"MAX(EC10:EC24)","v":0},null,{"$f":"SUM(EE10:EE24)","v":0},{"$f":"MAX(EF10:EF24)","v":0},null,{"$f":"SUM(EH10:EH24)","v":0},{"$f":"MAX(EI10:EI24)","v":0},null,{"$f":"SUM(EK10:EK24)","v":0},{"$f":"MAX(EL10:EL24)","v":0},null,{"$f":"SUM(EN10:EN24)","v":0},{"$f":"MAX(EO10:EO24)","v":0},null,{"$f":"SUM(EQ10:EQ24)","v":0},{"$f":"MAX(ER10:ER24)","v":0},null,{"$f":"SUM(ET10:ET24)","v":0},{"$f":"MAX(EU10:EU24)","v":0},null,{"$f":"SUM(EW10:EW24)","v":0},{"$f":"MAX(EX10:EX24)","v":0},null,{"$f":"SUM(EZ10:EZ24)","v":0},{"$f":"MAX(FA12:FA24)","v":0},{"$f":"SUM(FB10:FB24)","v":0},null,null,{"$f":"IF(ABS(FF25-365)>4,\"Must have 365 ± 4 days.\",\"\")","v":"Must have 365 ± 4 days."},{"$f":"SUM(FF10:FF24)","v":0},{"$f":"SUM(FG10:FG24)","v":0},null,{"$f":"SUM(FI10:FI24)","v":0}]
[null,{"$f":"IF(FD10=1,\"\",IF(ABS(B10-FD10)>15,\"The dates for the common area and apartment bills are out of synch. Please select start dates within 2 weeks of each other.\",\"\"))","v":""}]
[null,null,null,null,null,"Total Annual kWh Cost",null,null,"Total Annual kWh Cost",null,null,"Total Annual kWh Cost",null,null,"Total Annual kWh Cost",null,null,"Total Annual kWh Cost",null,null,"Total Annual kWh Cost",null,null,"Total Annual kWh Cost",null,null,"Total Annual kWh Cost",null,null,"Total Annual kWh Cost",null,null,"Total Annual kWh Cost",null,null,"Total Annual kWh Cost",null,null,"Total Annual kWh Cost",null,null,"Total Annual kWh Cost",null,null,"Total Annual kWh Cost",null,null,"Total Annual kWh Cost",null,null,"Total Annual kWh Cost",null,null,"Total Annual kWh Cost",null,null,"Total Annual kWh Cost",null,null,"Total Annual kWh Cost",null,null,"Total Annual kWh Cost",null,null,"Total Annual kWh Cost",null,null,"Total Annual kWh Cost",null,null,"Total Annual kWh Cost",null,null,"Total Annual kWh Cost",null,null,"Total Annual kWh Cost",null,null,"Total Annual kWh Cost",null,null,"Total Annual kWh Cost",null,null,"Total Annual kWh Cost",null,null,"Total Annual kWh Cost",null,null,"Total Annual kWh Cost",null,null,"Total Annual kWh Cost",null,null,"Total Annual kWh Cost",null,null,"Total Annual kWh Cost",null,null,"Total Annual kWh Cost",null,null,"Total Annual kWh Cost",null,null,"Total Annual kWh Cost",null,null,"Total Annual kWh Cost",null,null,"Total Annual kWh Cost",null,null,"Total Annual kWh Cost",null,null,"Total Annual kWh Cost",null,null,"Total Annual kWh Cost",null,null,"Total Annual kWh Cost",null,null,"Total Annual kWh Cost",null,null,"Total Annual kWh Cost",null,null,"Total Annual kWh Cost",null,null,"Total Annual kWh Cost",null,null,"Total Annual kWh Cost",null,null,"Total Annual kWh Cost",null,null,"Total Annual kWh Cost",null,null,"Total Annual kWh Cost",null,null,"Total Annual Common Area kWh Cost",null,null,null,null,null,null,"Total In-Unit Annual kWh Cost",null,"Total Annual kWh Cost"]
[null,null,null,null,null,null,null,null,null,null,null,null,null,null,null,null,null,null,null,null,null,null,null,null,null,null,null,null,null,null,null,null,null,null,null,null,null,null,null,null,null,null,null,null,null,null,null,null,null,null,null,null,null,null,null,null,null,null,null,null,null,null,null,null,null,null,null,null,null,null,null,null,null,null,null,null,null,null,null,null,null,null,null,null,null,null,null,null,null,null,null,null,null,null,null,null,null,null,null,null,null,null,null,null,null,null,null,null,null,null,null,null,null,null,null,null,null,null,null,null,null,null,null,null,null,null,null,null,null,null,null,null,null,null,null,null,null,null,null,null,null,null,null,null,null,null,null,null,null,null,null,null,null,null,null,{"$f":"SUM(F28:EY28)","v":0},null,null,null,null,null,null,{"$f":"IF(N('Apt-Elec'!$PT$30)=0,IF(N($EZ$28)=0,0.15,$EZ$28/$EZ$25)*$FG$25,'Apt-Elec'!$PT$30)","v":0},null,{"$f":"EZ28+FG28","v":0}]
[]
[null,"Post-Construction Common Area Billing Dates",null,null,null,"Common Area Meter #1",null,null,"Common Area Meter #2",null,null,"Common Area Meter #3",null,null,"Common Area Meter #4",null,null,"Common Area Meter #5",null,null,"Common Area Meter #6",null,null,"Common Area Meter #7",null,null,"Common Area Meter #8",null,null,"Common Area Meter #9",null,null,"Common Area Meter #10",null,null,"Common Area Meter #11",null,null,"Common Area Meter #12",null,null,"Common Area Meter #13",null,null,"Common Area Meter #14",null,null,"Common Area Meter #15",null,null,"Common Area Meter #16",null,null,"Common Area Meter #17",null,null,"Common Area Meter #18",null,null,"Common Area Meter #19",null,null,"Common Area Meter #20",null,null,"Common Area Meter #21",null,null,"Common Area Meter #22",null,null,"Common Area Meter #23",null,null,"Common Area Meter #24",null,null,"Common Area Meter #25",null,null,"Common Area Meter #26",null,null,"Common Area Meter #27",null,null,"Common Area Meter #28",null,null,"Common Area Meter #29",null,null,"Common Area Meter #30",null,null,"Common Area Meter #31",null,null,"Common Area Meter #32",null,null,"Common Area Meter #33",null,null,"Common Area Meter #34",null,null,"Common Area Meter #35",null,null,"Common Area Meter #36",null,null,"Common Area Meter #37",null,null,"Common Area Meter #38",null,null,"Common Area Meter #39",null,null,"Common Area Meter #40",null,null,"Common Area Meter #41",null,null,"Common Area Meter #42",null,null,"Common Area Meter #43",null,null,"Common Area Meter #44",null,null,"Common Area Meter #45",null,null,"Common Area Meter #46",null,null,"Common Area Meter #47",null,null,"Common Area Meter #48",null,null,"Common Area Meter #49",null,null,"Common Area Meter #50",null,null,null,null,null,null,"Post-Construction In-Unit Billing Dates"]
[null,null,null,null,null,"Account #",null,null,"Account #",null,null,"Account #",null,null,"Account #",null,null,"Account #",null,null,"Account #",null,null,"Account #",null,null,"Account #",null,null,"Account #",null,null,"Account #",null,null,"Account #",null,null,"Account #",null,null,"Account #",null,null,"Account #",null,null,"Account #",null,null,"Account #",null,null,"Account #",null,null,"Account #",null,null,"Account #",null,null,"Account #",null,null,"Account #",null,null,"Account #",null,null,"Account #",null,null,"Account #",null,null,"Account #",null,null,"Account #",null,null,"Account #",null,null,"Account #",null,null,"Account #",null,null,"Account #",null,null,"Account #",null,null,"Account #",null,null,"Account #",null,null,"Account #",null,null,"Account #",null,null,"Account #",null,null,"Account #",null,null,"Account #",null,null,"Account #",null,null,"Account #",null,null,"Account #",null,null,"Account #",null,null,"Account #",null,null,"Account #",null,null,"Account #",null,null,"Account #",null,null,"Account #",null,null,"Account #",null,null,"Account #",null,null,"Account #"]
[null,"Billing Period Start Date","Read Date","Days in Billing Period",null,{"$f":"F7","v":0},null,null,{"$f":"I7","v":0},null,null,{"$f":"L7","v":0},null,null,{"$f":"O7","v":0},null,null,{"$f":"R7","v":0},null,null,{"$f":"U7","v":0},null,null,{"$f":"X7","v":0},null,null,{"$f":"AA7","v":0},null,null,{"$f":"AD7","v":0},null,null,{"$f":"AG7","v":0},null,null,{"$f":"AJ7","v":0},null,null,{"$f":"AM7","v":0},null,null,{"$f":"AP7","v":0},null,null,{"$f":"AS7","v":0},null,null,{"$f":"AV7","v":0},null,null,{"$f":"AY7","v":0},null,null,{"$f":"BB7","v":0},null,null,{"$f":"BE7","v":0},null,null,{"$f":"BH7","v":0},null,null,{"$f":"BK7","v":0},null,null,{"$f":"BN7","v":0},null,null,{"$f":"BQ7","v":0},null,null,{"$f":"BT7","v":0},null,null,{"$f":"BW7","v":0},null,null,{"$f":"BZ7","v":0},null,null,{"$f":"CC7","v":0},null,null,{"$f":"CF7","v":0},null,null,{"$f":"CI7","v":0},null,null,{"$f":"CL7","v":0},null,null,{"$f":"CO7","v":0},null,null,{"$f":"CR7","v":0},null,null,{"$f":"CU7","v":0},null,null,{"$f":"CX7","v":0},null,null,{"$f":"DA7","v":0},null,null,{"$f":"DD7","v":0},null,null,{"$f":"DG7","v":0},null,null,{"$f":"DJ7","v":0},null,null,{"$f":"DM7","v":0},null,null,{"$f":"DP7","v":0},null,null,{"$f":"DS7","v":0},null,null,{"$f":"DV7","v":0},null,null,{"$f":"DY7","v":0},null,null,{"$f":"EB7","v":0},null,null,{"$f":"EE7","v":0},null,null,{"$f":"EH7","v":0},null,null,{"$f":"EK7","v":0},null,null,{"$f":"EN7","v":0},null,null,{"$f":"EQ7","v":0},null,null,{"$f":"ET7","v":0},null,null,{"$f":"EW7","v":0},null,null,"Total Common Area kWh Consumption","Total Common Area Peak kW","On-Site Net kWh Generation",null,"Billing Period Start Date","Read Date","Days in Billing Period","In-Unit kWh Consumption",null,"Total kWh Consumption",null,null,null,null,null,null,"Data for Graphs:"]
[null,null,null,null,null,"kWh","kW","Actual/ Estimated","kWh","kW","Actual/ Estimated","kWh","kW","Actual/ Estimated","kWh","kW","Actual/ Estimated","kWh","kW","Actual/ Estimated","kWh","kW","Actual/ Estimated","kWh","kW","Actual/ Estimated","kWh","kW","Actual/ Estimated","kWh","kW","Actual/ Estimated","kWh","kW","Actual/ Estimated","kWh","kW","Actual/ Estimated","kWh","kW","Actual/ Estimated","kWh","kW","Actual/ Estimated","kWh","kW","Actual/ Estimated","kWh","kW","Actual/ Estimated","kWh","kW","Actual/ Estimated","kWh","kW","Actual/ Estimated","kWh","kW","Actual/ Estimated","kWh","kW","Actual/ Estimated","kWh","kW","Actual/ Estimated","kWh","kW","Actual/ Estimated","kWh","kW","Actual/ Estimated","kWh","kW","Actual/ Estimated","kWh","kW","Actual/ Estimated","kWh","kW","Actual/ Estimated","kWh","kW","Actual/ Estimated","kWh","kW","Actual/ Estimated","kWh","kW","Actual/ Estimated","kWh","kW","Actual/ Estimated","kWh","kW","Actual/ Estimated","kWh","kW","Actual/ Estimated","kWh","kW","Actual/ Estimated","kWh","kW","Actual/ Estimated","kWh","kW","Actual/ Estimated","kWh","kW","Actual/ Estimated","kWh","kW","Actual/ Estimated","kWh","kW","Actual/ Estimated","kWh","kW","Actual/ Estimated","kWh","kW","Actual/ Estimated","kWh","kW","Actual/ Estimated","kWh","kW","Actual/ Estimated","kWh","kW","Actual/ Estimated","kWh","kW","Actual/ Estimated","kWh","kW","Actual/ Estimated","kWh","kW","Actual/ Estimated","kWh","kW","Actual/ Estimated","kWh","kW","Actual/ Estimated","kWh","kW","Actual/ Estimated","kWh","kW","Actual/ Estimated","kWh","kW","Actual/ Estimated",null,null,null,null,null,null,null,null,null,null,null,null,null,null,null,null,"Common Area Ref Date","Common Area Month","In-unit Ref Date","In-Unit Month"]
[null,null,null,null,null,null,null,null,null,null,null,null,null,null,null,null,null,null,null,null,null,null,null,null,null,null,null,null,null,null,null,null,null,null,null,null,null,null,null,null,null,null,null,null,null,null,null,null,null,null,null,null,null,null,null,null,null,null,null,null,null,null,null,null,null,null,null,null,null,null,null,null,null,null,null,null,null,null,null,null,null,null,null,null,null,null,null,null,null,null,null,null,null,null,null,null,null,null,null,null,null,null,null,null,null,null,null,null,null,null,null,null,null,null,null,null,null,null,null,null,null,null,null,null,null,null,null,null,null,null,null,null,null,null,null,null,null,null,null,null,null,null,null,null,null,null,null,null,null,null,null,null,null,null,null,null,null,null,null,null,{"$f":"'Apt-Elec'!C38","v":"00:00:00"}]
[null,{"$f":"C34+1","v":"1900-01-01"},null,{"$f":"IF(C35>0,C35+1-B35,0)","v":0},null,null,null,null,null,null,null,null,null,null,null,null,null,null,null,null,null,null,null,null,null,null,null,null,null,null,null,null,null,null,null,null,null,null,null,null,null,null,null,null,null,null,null,null,null,null,null,null,null,null,null,null,null,null,null,null,null,null,null,null,null,null,null,null,null,null,null,null,null,null,null,null,null,null,null,null,null,null,null,null,null,null,null,null,null,null,null,null,null,null,null,null,null,null,null,null,null,null,null,null,null,null,null,null,null,null,null,null,null,null,null,null,null,null,null,null,null,null,null,null,null,null,null,null,null,null,null,null,null,null,null,null,null,null,null,null,null,null,null,null,null,null,null,null,null,null,null,null,null,null,null,{"$f":"SUM(F35:EY35)+FB35","v":0},{"$f":"SUM(G35,J35,M35,P35,S35,V35,Y35,AB35,AE35,AH35,AK35,AN35,AQ35,AT35,AW35,AZ35,BC35,BF35,BI35,BL35,BO35,BR35,BU35,BX35,CA35,CD35,CG35,CJ35,CM35,CP35,CS35,CV35,CY35,DB35,DE35,DH35,DK35,DN35,DQ35,DT35,DW35,DZ35,EC35,EF35,EI35,EL35,EO35,ER35,EU35,EX35)","v":0},null,null,{"$f":"'Apt-Elec'!B39","v":"1900-01-01"},{"$f":"'Apt-Elec'!C39","v":"00:00:00"},{"$f":"IF(FE35>0,FE35+1-FD35,0)","v":0},{"$f":"'Apt-Elec'!PT39","v":0},null,{"$f":"EZ35+FG35","v":0},null,null,null,null,null,null,{"$f":"DATE(YEAR(C35),MONTH(C35),1)","v":"1900-01-01"},{"$f":"IF((FP35-B35)>(C35-FP35),MONTH(B35),MONTH(C35))","v":1},{"$f":"DATE(YEAR(FE35),MONTH(FE35),1)","v":"1900-01-01"},{"$f":"IF((FR35-FD35)>(FE35-FR35),MONTH(FD35),MONTH(FE35))","v":1}]
[null,"1900-01-01",null,0,null,null,null,null,null,null,null,null,null,null,null,null,null,null,null,null,null,null,null,null,null,null,null,null,null,null,null,null,null,null,null,null,null,null,null,null,null,null,null,null,null,null,null,null,null,null,null,null,null,null,null,null,null,null,null,null,null,null,null,null,null,null,null,null,null,null,null,null,null,null,null,null,null,null,null,null,null,null,null,null,null,null,null,null,null,null,null,null,null,null,null,null,null,null,null,null,null,null,null,null,null,null,null,null,null,null,null,null,null,null,null,null,null,null,null,null,null,null,null,null,null,null,null,null,null,null,null,null,null,null,null,null,null,null,null,null,null,null,null,null,null,null,null,null,null,null,null,null,null,null,null,0,{"$f":"SUM(G36,J36,M36,P36,S36,V36,Y36,AB36,AE36,AH36,AK36,AN36,AQ36,AT36,AW36,AZ36,BC36,BF36,BI36,BL36,BO36,BR36,BU36,BX36,CA36,CD36,CG36,CJ36,CM36,CP36,CS36,CV36,CY36,DB36,DE36,DH36,DK36,DN36,DQ36,DT36,DW36,DZ36,EC36,EF36,EI36,EL36,EO36,ER36,EU36,EX36)","v":0},null,null,{"$f":"'Apt-Elec'!B40","v":"1900-01-01"},{"$f":"'Apt-Elec'!C40","v":"00:00:00"},{"$f":"IF(FE36>0,FE36+1-FD36,0)","v":0},{"$f":"'Apt-Elec'!PT40","v":0},null,{"$f":"EZ36+FG36","v":0},null,null,null,null,null,null,"1900-01-01",1,{"$f":"DATE(YEAR(FE36),MONTH(FE36),1)","v":"1900-01-01"},{"$f":"IF((FR36-FD36)>(FE36-FR36),MONTH(FD36),MONTH(FE36))","v":1}]
[null,"1900-01-01",null,0,null,null,null,null,null,null,null,null,null,null,null,null,null,null,null,null,null,null,null,null,null,null,null,null,null,null,null,null,null,null,null,null,null,null,null,null,null,null,null,null,null,null,null,null,null,null,null,null,null,null,null,null,null,null,null,null,null,null,null,null,null,null,null,null,null,null,null,null,null,null,null,null,null,null,null,null,null,null,null,null,null,null,null,null,null,null,null,null,null,null,null,null,null,null,null,null,null,null,null,null,null,null,null,null,null,null,null,null,null,null,null,null,null,null,null,null,null,null,null,null,null,null,null,null,null,null,null,null,null,null,null,null,null,null,null,null,null,null,null,null,null,null,null,null,null,null,null,null,null,null,null,0,0,null,null,{"$f":"'Apt-Elec'!B41","v":"1900-01-01"},{"$f":"'Apt-Elec'!C41","v":"00:00:00"},0,{"$f":"'Apt-Elec'!PT41","v":0},null,0,null,null,null,null,null,null,"1900-01-01",1,{"$f":"DATE(YEAR(FE37),MONTH(FE37),1)","v":"1900-01-01"},1]
[null,"1900-01-01",null,0,null,null,null,null,null,null,null,null,null,null,null,null,null,null,null,null,null,null,null,null,null,null,null,null,null,null,null,null,null,null,null,null,null,null,null,null,null,null,null,null,null,null,null,null,null,null,null,null,null,null,null,null,null,null,null,null,null,null,null,null,null,null,null,null,null,null,null,null,null,null,null,null,null,null,null,null,null,null,null,null,null,null,null,null,null,null,null,null,null,null,null,null,null,null,null,null,null,null,null,null,null,null,null,null,null,null,null,null,null,null,null,null,null,null,null,null,null,null,null,null,null,null,null,null,null,null,null,null,null,null,null,null,null,null,null,null,null,null,null,null,null,null,null,null,null,null,null,null,null,null,null,0,0,null,null,{"$f":"'Apt-Elec'!B42","v":"1900-01-01"},{"$f":"'Apt-Elec'!C42","v":"00:00:00"},0,{"$f":"'Apt-Elec'!PT42","v":0},null,0,null,null,null,null,null,null,"1900-01-01",1,{"$f":"DATE(YEAR(FE38),MONTH(FE38),1)","v":"1900-01-01"},1]
[null,"1900-01-01",null,0,null,null,null,null,null,null,null,null,null,null,null,null,null,null,null,null,null,null,null,null,null,null,null,null,null,null,null,null,null,null,null,null,null,null,null,null,null,null,null,null,null,null,null,null,null,null,null,null,null,null,null,null,null,null,null,null,null,null,null,null,null,null,null,null,null,null,null,null,null,null,null,null,null,null,null,null,null,null,null,null,null,null,null,null,null,null,null,null,null,null,null,null,null,null,null,null,null,null,null,null,null,null,null,null,null,null,null,null,null,null,null,null,null,null,null,null,null,null,null,null,null,null,null,null,null,null,null,null,null,null,null,null,null,null,null,null,null,null,null,null,null,null,null,null,null,null,null,null,null,null,null,0,0,null,null,{"$f":"'Apt-Elec'!B43","v":"1900-01-01"},{"$f":"'Apt-Elec'!C43","v":"00:00:00"},0,{"$f":"'Apt-Elec'!PT43","v":0},null,0,null,null,null,null,null,null,"1900-01-01",1,{"$f":"DATE(YEAR(FE39),MONTH(FE39),1)","v":"1900-01-01"},1]
[null,"1900-01-01",null,0,null,null,null,null,null,null,null,null,null,null,null,null,null,null,null,null,null,null,null,null,null,null,null,null,null,null,null,null,null,null,null,null,null,null,null,null,null,null,null,null,null,null,null,null,null,null,null,null,null,null,null,null,null,null,null,null,null,null,null,null,null,null,null,null,null,null,null,null,null,null,null,null,null,null,null,null,null,null,null,null,null,null,null,null,null,null,null,null,null,null,null,null,null,null,null,null,null,null,null,null,null,null,null,null,null,null,null,null,null,null,null,null,null,null,null,null,null,null,null,null,null,null,null,null,null,null,null,null,null,null,null,null,null,null,null,null,null,null,null,null,null,null,null,null,null,null,null,null,null,null,null,0,0,null,null,{"$f":"'Apt-Elec'!B44","v":"1900-01-01"},{"$f":"'Apt-Elec'!C44","v":"00:00:00"},0,{"$f":"'Apt-Elec'!PT44","v":0},null,0,null,null,null,null,null,null,"1900-01-01",1,{"$f":"DATE(YEAR(FE40),MONTH(FE40),1)","v":"1900-01-01"},1]
[null,"1900-01-01",null,0,null,null,null,null,null,null,null,null,null,null,null,null,null,null,null,null,null,null,null,null,null,null,null,null,null,null,null,null,null,null,null,null,null,null,null,null,null,null,null,null,null,null,null,null,null,null,null,null,null,null,null,null,null,null,null,null,null,null,null,null,null,null,null,null,null,null,null,null,null,null,null,null,null,null,null,null,null,null,null,null,null,null,null,null,null,null,null,null,null,null,null,null,null,null,null,null,null,null,null,null,null,null,null,null,null,null,null,null,null,null,null,null,null,null,null,null,null,null,null,null,null,null,null,null,null,null,null,null,null,null,null,null,null,null,null,null,null,null,null,null,null,null,null,null,null,null,null,null,null,null,null,0,0,null,null,{"$f":"'Apt-Elec'!B45","v":"1900-01-01"},{"$f":"'Apt-Elec'!C45","v":"00:00:00"},0,{"$f":"'Apt-Elec'!PT45","v":0},null,0,null,null,null,null,null,null,"1900-01-01",1,"1900-01-01",1]
[null,"1900-01-01",null,0,null,null,null,null,null,null,null,null,null,null,null,null,null,null,null,null,null,null,null,null,null,null,null,null,null,null,null,null,null,null,null,null,null,null,null,null,null,null,null,null,null,null,null,null,null,null,null,null,null,null,null,null,null,null,null,null,null,null,null,null,null,null,null,null,null,null,null,null,null,null,null,null,null,null,null,null,null,null,null,null,null,null,null,null,null,null,null,null,null,null,null,null,null,null,null,null,null,null,null,null,null,null,null,null,null,null,null,null,null,null,null,null,null,null,null,null,null,null,null,null,null,null,null,null,null,null,null,null,null,null,null,null,null,null,null,null,null,null,null,null,null,null,null,null,null,null,null,null,null,null,null,0,0,null,null,{"$f":"'Apt-Elec'!B46","v":"1900-01-01"},{"$f":"'Apt-Elec'!C46","v":"00:00:00"},0,{"$f":"'Apt-Elec'!PT46","v":0},null,0,null,null,null,null,null,null,"1900-01-01",1,"1900-01-01",1]
[null,"1900-01-01",null,0,null,null,null,null,null,null,null,null,null,null,null,null,null,null,null,null,null,null,null,null,null,null,null,null,null,null,null,null,null,null,null,null,null,null,null,null,null,null,null,null,null,null,null,null,null,null,null,null,null,null,null,null,null,null,null,null,null,null,null,null,null,null,null,null,null,null,null,null,null,null,null,null,null,null,null,null,null,null,null,null,null,null,null,null,null,null,null,null,null,null,null,null,null,null,null,null,null,null,null,null,null,null,null,null,null,null,null,null,null,null,null,null,null,null,null,null,null,null,null,null,null,null,null,null,null,null,null,null,null,null,null,null,null,null,null,null,null,null,null,null,null,null,null,null,null,null,null,null,null,null,null,0,0,null,null,{"$f":"'Apt-Elec'!B47","v":"1900-01-01"},{"$f":"'Apt-Elec'!C47","v":"00:00:00"},0,{"$f":"'Apt-Elec'!PT47","v":0},null,0,null,null,null,null,null,null,"1900-01-01",1,"1900-01-01",1]
[null,"1900-01-01",null,0,null,null,null,null,null,null,null,null,null,null,null,null,null,null,null,null,null,null,null,null,null,null,null,null,null,null,null,null,null,null,null,null,null,null,null,null,null,null,null,null,null,null,null,null,null,null,null,null,null,null,null,null,null,null,null,null,null,null,null,null,null,null,null,null,null,null,null,null,null,null,null,null,null,null,null,null,null,null,null,null,null,null,null,null,null,null,null,null,null,null,null,null,null,null,null,null,null,null,null,null,null,null,null,null,null,null,null,null,null,null,null,null,null,null,null,null,null,null,null,null,null,null,null,null,null,null,null,null,null,null,null,null,null,null,null,null,null,null,null,null,null,null,null,null,null,null,null,null,null,null,null,0,0,null,null,{"$f":"'Apt-Elec'!B48","v":"1900-01-01"},{"$f":"'Apt-Elec'!C48","v":"00:00:00"},0,{"$f":"'Apt-Elec'!PT48","v":0},null,0,null,null,null,null,null,null,"1900-01-01",1,"1900-01-01",1]
[null,"1900-01-01",null,0,null,null,null,null,null,null,null,null,null,null,null,null,null,null,null,null,null,null,null,null,null,null,null,null,null,null,null,null,null,null,null,null,null,null,null,null,null,null,null,null,null,null,null,null,null,null,null,null,null,null,null,null,null,null,null,null,null,null,null,null,null,null,null,null,null,null,null,null,null,null,null,null,null,null,null,null,null,null,null,null,null,null,null,null,null,null,null,null,null,null,null,null,null,null,null,null,null,null,null,null,null,null,null,null,null,null,null,null,null,null,null,null,null,null,null,null,null,null,null,null,null,null,null,null,null,null,null,null,null,null,null,null,null,null,null,null,null,null,null,null,null,null,null,null,null,null,null,null,null,null,null,0,0,null,null,{"$f":"'Apt-Elec'!B49","v":"1900-01-01"},{"$f":"'Apt-Elec'!C49","v":"00:00:00"},0,{"$f":"'Apt-Elec'!PT49","v":0},null,0,null,null,null,null,null,null,"1900-01-01",1,"1900-01-01",1]
[null,"1900-01-01",null,0,null,null,null,null,null,null,null,null,null,null,null,null,null,null,null,null,null,null,null,null,null,null,null,null,null,null,null,null,null,null,null,null,null,null,null,null,null,null,null,null,null,null,null,null,null,null,null,null,null,null,null,null,null,null,null,null,null,null,null,null,null,null,null,null,null,null,null,null,null,null,null,null,null,null,null,null,null,null,null,null,null,null,null,null,null,null,null,null,null,null,null,null,null,null,null,null,null,null,null,null,null,null,null,null,null,null,null,null,null,null,null,null,null,null,null,null,null,null,null,null,null,null,null,null,null,null,null,null,null,null,null,null,null,null,null,null,null,null,null,null,null,null,null,null,null,null,null,null,null,null,null,0,0,null,null,{"$f":"'Apt-Elec'!B50","v":"1900-01-01"},{"$f":"'Apt-Elec'!C50","v":"00:00:00"},0,{"$f":"'Apt-Elec'!PT50","v":0},null,0,null,null,null,null,null,null,"1900-01-01",1,"1900-01-01",1]
[null,"1900-01-01",null,0,null,null,null,null,null,null,null,null,null,null,null,null,null,null,null,null,null,null,null,null,null,null,null,null,null,null,null,null,null,null,null,null,null,null,null,null,null,null,null,null,null,null,null,null,null,null,null,null,null,null,null,null,null,null,null,null,null,null,null,null,null,null,null,null,null,null,null,null,null,null,null,null,null,null,null,null,null,null,null,null,null,null,null,null,null,null,null,null,null,null,null,null,null,null,null,null,null,null,null,null,null,null,null,null,null,null,null,null,null,null,null,null,null,null,null,null,null,null,null,null,null,null,null,null,null,null,null,null,null,null,null,null,null,null,null,null,null,null,null,null,null,null,null,null,null,null,null,null,null,null,null,0,0,null,null,{"$f":"'Apt-Elec'!B51","v":"1900-01-01"},{"$f":"'Apt-Elec'!C51","v":"00:00:00"},0,{"$f":"'Apt-Elec'!PT51","v":0},null,0,null,null,null,null,null,null,"1900-01-01",1,"1900-01-01",1]
[null,"1900-01-01",null,0,null,null,null,null,null,null,null,null,null,null,null,null,null,null,null,null,null,null,null,null,null,null,null,null,null,null,null,null,null,null,null,null,null,null,null,null,null,null,null,null,null,null,null,null,null,null,null,null,null,null,null,null,null,null,null,null,null,null,null,null,null,null,null,null,null,null,null,null,null,null,null,null,null,null,null,null,null,null,null,null,null,null,null,null,null,null,null,null,null,null,null,null,null,null,null,null,null,null,null,null,null,null,null,null,null,null,null,null,null,null,null,null,null,null,null,null,null,null,null,null,null,null,null,null,null,null,null,null,null,null,null,null,null,null,null,null,null,null,null,null,null,null,null,null,null,null,null,null,null,null,null,0,0,null,null,{"$f":"'Apt-Elec'!B52","v":"1900-01-01"},{"$f":"'Apt-Elec'!C52","v":"00:00:00"},0,{"$f":"'Apt-Elec'!PT52","v":0},null,0,null,null,null,null,null,null,"1900-01-01",1,"1900-01-01",1]
[null,"1900-01-01",null,0,null,null,null,null,null,null,null,null,null,null,null,null,null,null,null,null,null,null,null,null,null,null,null,null,null,null,null,null,null,null,null,null,null,null,null,null,null,null,null,null,null,null,null,null,null,null,null,null,null,null,null,null,null,null,null,null,null,null,null,null,null,null,null,null,null,null,null,null,null,null,null,null,null,null,null,null,null,null,null,null,null,null,null,null,null,null,null,null,null,null,null,null,null,null,null,null,null,null,null,null,null,null,null,null,null,null,null,null,null,null,null,null,null,null,null,null,null,null,null,null,null,null,null,null,null,null,null,null,null,null,null,null,null,null,null,null,null,null,null,null,null,null,null,null,null,null,null,null,null,null,null,0,0,null,null,{"$f":"'Apt-Elec'!B53","v":"1900-01-01"},{"$f":"'Apt-Elec'!C53","v":"00:00:00"},0,{"$f":"'Apt-Elec'!PT53","v":0},null,0,null,null,null,null,null,null,"1900-01-01",1,"1900-01-01",1]
[null,null,{"$f":"IF(ABS(D50-365)>4,\"Must have 365 ± 4 days.\",\"\")","v":"Must have 365 ± 4 days."},{"$f":"SUM(D35:D49)","v":0},null,{"$f":"SUM(F35:F49)","v":0},{"$f":"MAX(G35:G49)","v":0},null,{"$f":"SUM(I35:I49)","v":0},{"$f":"MAX(J35:J49)","v":0},null,{"$f":"SUM(L35:L49)","v":0},{"$f":"MAX(M35:M49)","v":0},null,{"$f":"SUM(O35:O49)","v":0},{"$f":"MAX(P35:P49)","v":0},null,{"$f":"SUM(R35:R49)","v":0},{"$f":"MAX(S35:S49)","v":0},null,{"$f":"SUM(U35:U49)","v":0},{"$f":"MAX(V35:V49)","v":0},null,{"$f":"SUM(X35:X49)","v":0},{"$f":"MAX(Y35:Y49)","v":0},null,{"$f":"SUM(AA35:AA49)","v":0},{"$f":"MAX(AB35:AB49)","v":0},null,{"$f":"SUM(AD35:AD49)","v":0},{"$f":"MAX(AE35:AE49)","v":0},null,{"$f":"SUM(AG35:AG49)","v":0},{"$f":"MAX(AH35:AH49)","v":0},null,{"$f":"SUM(AJ35:AJ49)","v":0},{"$f":"MAX(AK35:AK49)","v":0},null,{"$f":"SUM(AM35:AM49)","v":0},{"$f":"MAX(AN35:AN49)","v":0},null,{"$f":"SUM(AP35:AP49)","v":0},{"$f":"MAX(AQ35:AQ49)","v":0},null,{"$f":"SUM(AS35:AS49)","v":0},{"$f":"MAX(AT35:AT49)","v":0},null,{"$f":"SUM(AV35:AV49)","v":0},{"$f":"MAX(AW35:AW49)","v":0},null,{"$f":"SUM(AY35:AY49)","v":0},{"$f":"MAX(AZ35:AZ49)","v":0},null,{"$f":"SUM(BB35:BB49)","v":0},{"$f":"MAX(BC35:BC49)","v":0},null,{"$f":"SUM(BE35:BE49)","v":0},{"$f":"MAX(BF35:BF49)","v":0},null,{"$f":"SUM(BH35:BH49)","v":0},{"$f":"MAX(BI35:BI49)","v":0},null,{"$f":"SUM(BK35:BK49)","v":0},{"$f":"MAX(BL35:BL49)","v":0},null,{"$f":"SUM(BN35:BN49)","v":0},{"$f":"MAX(BO35:BO49)","v":0},null,{"$f":"SUM(BQ35:BQ49)","v":0},{"$f":"MAX(BR35:BR49)","v":0},null,{"$f":"SUM(BT35:BT49)","v":0},{"$f":"MAX(BU35:BU49)","v":0},null,{"$f":"SUM(BW35:BW49)","v":0},{"$f":"MAX(BX35:BX49)","v":0},null,{"$f":"SUM(BZ35:BZ49)","v":0},{"$f":"MAX(CA35:CA49)","v":0},null,{"$f":"SUM(CC35:CC49)","v":0},{"$f":"MAX(CD35:CD49)","v":0},null,{"$f":"SUM(CF35:CF49)","v":0},{"$f":"MAX(CG35:CG49)","v":0},null,{"$f":"SUM(CI35:CI49)","v":0},{"$f":"MAX(CJ35:CJ49)","v":0},null,{"$f":"SUM(CL35:CL49)","v":0},{"$f":"MAX(CM35:CM49)","v":0},null,{"$f":"SUM(CO35:CO49)","v":0},{"$f":"MAX(CP35:CP49)","v":0},null,{"$f":"SUM(CR35:CR49)","v":0},{"$f":"MAX(CS35:CS49)","v":0},null,{"$f":"SUM(CU35:CU49)","v":0},{"$f":"MAX(CV35:CV49)","v":0},null,{"$f":"SUM(CX35:CX49)","v":0},{"$f":"MAX(CY35:CY49)","v":0},null,{"$f":"SUM(DA35:DA49)","v":0},{"$f":"MAX(DB35:DB49)","v":0},null,{"$f":"SUM(DD35:DD49)","v":0},{"$f":"MAX(DE35:DE49)","v":0},null,{"$f":"SUM(DG35:DG49)","v":0},{"$f":"MAX(DH35:DH49)","v":0},null,{"$f":"SUM(DJ35:DJ49)","v":0},{"$f":"MAX(DK35:DK49)","v":0},null,{"$f":"SUM(DM35:DM49)","v":0},{"$f":"MAX(DN35:DN49)","v":0},null,{"$f":"SUM(DP35:DP49)","v":0},{"$f":"MAX(DQ35:DQ49)","v":0},null,{"$f":"SUM(DS35:DS49)","v":0},{"$f":"MAX(DT35:DT49)","v":0},null,{"$f":"SUM(DV35:DV49)","v":0},{"$f":"MAX(DW35:DW49)","v":0},null,{"$f":"SUM(DY35:DY49)","v":0},{"$f":"MAX(DZ35:DZ49)","v":0},null,{"$f":"SUM(EB35:EB49)","v":0},{"$f":"MAX(EC35:EC49)","v":0},null,{"$f":"SUM(EE35:EE49)","v":0},{"$f":"MAX(EF35:EF49)","v":0},null,{"$f":"SUM(EH35:EH49)","v":0},{"$f":"MAX(EI35:EI49)","v":0},null,{"$f":"SUM(EK35:EK49)","v":0},{"$f":"MAX(EL35:EL49)","v":0},null,{"$f":"SUM(EN35:EN49)","v":0},{"$f":"MAX(EO35:EO49)","v":0},null,{"$f":"SUM(EQ35:EQ49)","v":0},{"$f":"MAX(ER35:ER49)","v":0},null,{"$f":"SUM(ET35:ET49)","v":0},{"$f":"MAX(EU35:EU49)","v":0},null,{"$f":"SUM(EW35:EW49)","v":0},{"$f":"MAX(EX35:EX49)","v":0},null,{"$f":"SUM(EZ35:EZ49)","v":0},{"$f":"MAX(FA37:FA49)","v":0},{"$f":"SUM(FB35:FB49)","v":0},null,null,{"$f":"IF(ABS(FF50-365)>4,\"Must have 365 ± 4 days.\",\"\")","v":"Must have 365 ± 4 days."},{"$f":"SUM(FF35:FF49)","v":0},{"$f":"SUM(FG35:FG49)","v":0},null,{"$f":"SUM(FI35:FI49)","v":0}]
[null,{"$f":"IF(FD35=1,\"\",IF(ABS(B35-FD35)>15,\"The dates for the common area and apartment bills are out of synch. Please select start dates within 2 weeks of each other.\",\"\"))","v":""}]
[null,null,null,null,null,"Total Annual kWh Cost",null,null,"Total Annual kWh Cost",null,null,"Total Annual kWh Cost",null,null,"Total Annual kWh Cost",null,null,"Total Annual kWh Cost",null,null,"Total Annual kWh Cost",null,null,"Total Annual kWh Cost",null,null,"Total Annual kWh Cost",null,null,"Total Annual kWh Cost",null,null,"Total Annual kWh Cost",null,null,"Total Annual kWh Cost",null,null,"Total Annual kWh Cost",null,null,"Total Annual kWh Cost",null,null,"Total Annual kWh Cost",null,null,"Total Annual kWh Cost",null,null,"Total Annual kWh Cost",null,null,"Total Annual kWh Cost",null,null,"Total Annual kWh Cost",null,null,"Total Annual kWh Cost",null,null,"Total Annual kWh Cost",null,null,"Total Annual kWh Cost",null,null,"Total Annual kWh Cost",null,null,"Total Annual kWh Cost",null,null,"Total Annual kWh Cost",null,null,"Total Annual kWh Cost",null,null,"Total Annual kWh Cost",null,null,"Total Annual kWh Cost",null,null,"Total Annual kWh Cost",null,null,"Total Annual kWh Cost",null,null,"Total Annual kWh Cost",null,null,"Total Annual kWh Cost",null,null,"Total Annual kWh Cost",null,null,"Total Annual kWh Cost",null,null,"Total Annual kWh Cost",null,null,"Total Annual kWh Cost",null,null,"Total Annual kWh Cost",null,null,"Total Annual kWh Cost",null,null,"Total Annual kWh Cost",null,null,"Total Annual kWh Cost",null,null,"Total Annual kWh Cost",null,null,"Total Annual kWh Cost",null,null,"Total Annual kWh Cost",null,null,"Total Annual kWh Cost",null,null,"Total Annual kWh Cost",null,null,"Total Annual kWh Cost",null,null,"Total Annual kWh Cost",null,null,"Total Annual kWh Cost",null,null,"Total Annual kWh Cost",null,null,"Total Annual kWh Cost",null,null,"Total Annual kWh Cost",null,null,"Total Annual Common Area kWh Cost",null,null,null,null,null,null,"Total In-Unit Annual kWh Cost",null,"Total Annual kWh Cost"]
[null,null,null,null,null,null,null,null,null,null,null,null,null,null,null,null,null,null,null,null,null,null,null,null,null,null,null,null,null,null,null,null,null,null,null,null,null,null,null,null,null,null,null,null,null,null,null,null,null,null,null,null,null,null,null,null,null,null,null,null,null,null,null,null,null,null,null,null,null,null,null,null,null,null,null,null,null,null,null,null,null,null,null,null,null,null,null,null,null,null,null,null,null,null,null,null,null,null,null,null,null,null,null,null,null,null,null,null,null,null,null,null,null,null,null,null,null,null,null,null,null,null,null,null,null,null,null,null,null,null,null,null,null,null,null,null,null,null,null,null,null,null,null,null,null,null,null,null,null,null,null,null,null,null,null,{"$f":"SUM(F53:EY53)","v":0},null,null,null,null,null,null,{"$f":"IF(N('Apt-Elec'!$PT$57)=0,IF(N($EZ$53)=0,0.15,$EZ$53/$EZ$50)*$FG$50,'Apt-Elec'!$PT$57)","v":0},null,{"$f":"EZ53+FG53","v":0}]
[]
[null,null,null,null,null,"Building Area","Pre Construction Usage ","Post Construction Usage","Difference","% Difference"]
[null,null,null,null,null,"Common Area",{"$f":"EZ25","v":0},{"$f":"EZ50","v":0},{"$f":"H56-G56","v":0},{"$f":"IF(G56>0,I56/G56,\"\")","v":""}]
[null,null,null,null,null,"In-Unit",{"$f":"FG25","v":0},{"$f":"FG50","v":0},{"$f":"H57-G57","v":0},{"$f":"IF(G57>0,I57/G57,\"\")","v":""}]
[]
[]
[null,"Notes:"]

{"sheet":"Apt-Elec","index":2,"n_rows":80,"n_cols":436,"rows_kept":80,"cut":false,"hidden":true,"merged":[[2,1,2,13],[59,425,63,435],[32,417,32,418],[32,419,32,420],[32,421,32,422],[34,383,34,384],[34,385,34,386],[34,387,34,388],[34,389,34,390],[34,391,34,392],[34,393,34,394],[34,395,34,396],[34,397,34,398],[34,399,34,400],[34,401,34,402],[34,403,34,404],[34,405,34,406],[34,407,34,408],[34,409,34,410],[34,411,34,412],[34,413,34,414],[34,415,34,416],[34,417,34,418],[34,419,34,420],[34,421,34,422],[32,383,32,384],[32,385,32,386],[32,387,32,388],[32,389,32,390],[32,391,32,392],[32,393,32,394],[32,395,32,396],[32,397,32,398],[32,399,32,400],[32,401,32,402],[32,403,32,404],[32,405,32,406],[32,407,32,408],[32,409,32,410],[32,411,32,412],[32,413,32,414],[32,415,32,416],[32,375,32,376],[32,377,32,378],[32,379,32,380],[34,341,34,342],[34,343,34,344],[34,345,34,346],[34,347,34,348],[34,349,34,350],[34,351,34,352],[34,353,34,354],[34,355,34,356],[34,357,34,358],[34,359,34,360],[34,361,34,362],[34,363,34,364],[34,365,34,366],[34,367,34,368],[34,369,34,370],[34,371,34,372],[34,373,34,374],[34,375,34,376],[34,377,34,378],[34,379,34,380],[32,341,32,342],[32,343,32,344],[32,345,32,346],[32,347,32,348],[32,349,32,350],[32,351,32,352],[32,353,32,354],[32,355,32,356],[32,357,32,358],[32,359,32,360],[32,361,32,362],[32,363,32,364],[32,365,32,366],[32,367,32,368],[32,369,32,370],[32,371,32,372],[32,373,32,374],[33,369,33,370],[32,333,32,334],[32,335,32,336],[32,337,32,338],[34,299,34,300],[34,301,34,302],[34,303,34,304],[34,305,34,306],[34,307,34,308],[34,309,34,310],[34,311,34,312],[34,313,34,314],[34,315,34,316],[34,317,34,318],[34,319,34,320],[34,321,34,322],[34,323,34,324],[34,325,34,326],[34,327,34,328],[34,329,34,330],[34,331,34,332],[34,333,34,334],[34,335,34,336],[34,337,34,338],[32,299,32,300],[32,301,32,302],[32,303,32,304],[32,305,32,306],[32,307,32,308],[32,309,32,310],[32,311,32,312],[32,313,32,314],[32,315,32,316],[32,317,32,318],[32,319,32,320],[32,321,32,322],[32,323,32,324],[32,325,32,326],[32,327,32,328],[32,329,32,330],[32,331,32,332],[33,313,33,314],[33,315,33,316],[33,317,33,318],[33,319,33,320],[33,321,33,322],[33,323,33,324],[33,301,33,302],[33,303,33,304],[33,305,33,306],[33,307,33,308],[33,309,33,310],[33,311,33,312],[33,325,33,326],[33,327,33,328],[33,329,33,330],[33,331,33,332],[32,291,32,292],[32,293,32,294],[32,295,32,296],[34,257,34,258],[34,259,34,260],[34,261,34,262],[34,263,34,264],[34,265,34,266],[34,267,34,268],[34,269,34,270],[34,271,34,272],[34,273,34,274],[34,275,34,276],[34,277,34,278],[34,279,34,280],[34,281,34,282],[34,283,34,284],[34,285,34,286],[34,287,34,288],[34,289,34,290],[34,291,34,292],[34,293,34,294],[34,295,34,296],[32,257,32,258],[32,259,32,260],[32,261,32,262],[32,263,32,264],[32,265,32,266],[32,267,32,268],[32,269,32,270],[32,271,32,272],[32,273,32,274],[32,287,32,288],[32,289,32,290],[32,249,32,250],[32,251,32,252],[32,253,32,254],[34,215,34,216],[34,217,34,218],[34,219,34,220],[34,221,34,222],[34,223,34,224],[34,225,34,226],[34,227,34,228],[34,229,34,230],[34,231,34,232],[34,233,34,234],[34,235,34,236],[34,237,34,238],[34,239,34,240],[34,241,34,242],[34,243,34,244],[34,245,34,246],[34,247,34,248],[34,249,34,250],[34,251,34,252],[34,253,34,254],[32,215,32,216],[32,233,32,234],[32,235,32,236],[32,237,32,238],[32,239,32,240],[32,241,32,242],[32,243,32,244],[32,275,32,276],[32,277,32,278],[32,279,32,280],[32,281,32,282],[32,283,32,284],[32,285,32,286],[34,189,34,190],[34,191,34,192],[34,193,34,194],[34,195,34,196],[34,197,34,198],[34,199,34,200],[34,201,34,202],[34,203,34,204],[34,205,34,206],[32,217,32,218],[32,219,32,220],[32,221,32,222],[32,223,32,224],[32,225,32,226],[32,227,32,228],[32,229,32,230],[32,231,32,232],[34,207,34,208],[34,209,34,210],[34,211,34,212],[33,203,33,204],[33,199,33,200],[33,201,33,202],[33,235,33,236],[33,253,33,254],[33,257,33,258],[32,179,32,180],[32,181,32,182],[32,183,32,184],[32,185,32,186],[32,187,32,188],[32,189,32,190],[32,191,32,192],[32,193,32,194],[32,195,32,196],[32,197,32,198],[32,199,32,200],[32,201,32,202],[32,203,32,204],[32,205,32,206],[32,245,32,246],[32,247,32,248],[32,207,32,208],[32,209,32,210],[32,211,32,212],[34,173,34,174],[34,175,34,176],[34,177,34,178],[34,179,34,180],[34,181,34,182],[34,183,34,184],[34,185,34,186],[34,187,34,188],[32,165,32,166],[32,167,32,168],[32,169,32,170],[34,131,34,132],[34,133,34,134],[34,135,34,136],[34,137,34,138],[34,139,34,140],[34,141,34,142],[34,143,34,144],[34,145,34,146],[34,147,34,148],[34,149,34,150],[34,151,34,152],[34,153,34,154],[34,155,34,156],[34,157,34,158],[34,159,34,160],[34,161,34,162],[34,163,34,164],[34,165,34,166],[32,173,32,174],[32,175,32,176],[32,177,32,178],[34,167,34,168],[34,169,34,170],[32,131,32,132],[32,133,32,134],[32,135,32,136],[32,137,32,138],[32,139,32,140],[32,141,32,142],[32,143,32,144],[32,145,32,146],[32,147,32,148],[32,153,32,154],[32,155,32,156],[32,157,32,158],[32,159,32,160],[32,161,32,162],[32,163,32,164],[33,163,33,164],[33,165,33,166],[33,167,33,168],[33,169,33,170],[32,123,32,124],[32,125,32,126],[32,127,32,128],[34,89,34,90],[34,91,34,92],[34,93,34,94],[34,95,34,96],[34,97,34,98],[34,99,34,100],[34,101,34,102],[34,103,34,104],[34,105,34,106],[34,107,34,108],[34,109,34,110],[34,111,34,112],[34,113,34,114],[34,115,34,116],[34,117,34,118],[34,119,34,120],[34,121,34,122],[34,123,34,124],[34,125,34,126],[34,127,34,128],[32,89,32,90],[32,103,32,104],[32,105,32,106],[32,107,32,108],[32,109,32,110],[32,111,32,112],[32,113,32,114],[32,115,32,116],[32,117,32,118],[32,119,32,120],[32,121,32,122],[32,77,32,78],[32,79,32,80],[32,81,32,82],[32,83,32,84],[32,85,32,86],[32,149,32,150],[32,151,32,152],[34,59,34,60],[34,61,34,62],[34,63,34,64],[34,65,34,66],[34,67,34,68],[34,69,34,70],[34,71,34,72],[34,73,34,74],[34,75,34,76],[34,77,34,78],[34,79,34,80],[32,91,32,92],[32,93,32,94],[32,95,32,96],[32,97,32,98],[32,99,32,100],[32,101,32,102],[34,81,34,82],[34,83,34,84],[34,85,34,86],[33,97,33,98],[33,123,33,124],[33,125,33,126],[34,41,34,42],[34,43,34,44],[32,47,32,48],[32,49,32,50],[32,51,32,52],[32,53,32,54],[32,55,32,56],[32,57,32,58],[32,59,32,60],[32,61,32,62],[32,63,32,64],[32,65,32,66],[32,67,32,68],[32,69,32,70],[32,71,32,72],[32,73,32,74],[32,75,32,76],[33,49,33,50],[33,51,33,52],[33,53,33,54],[33,55,33,56],[33,57,33,58],[33,59,33,60],[34,47,34,48],[34,49,34,50],[34,51,34,52],[34,53,34,54],[34,55,34,56],[34,57,34,58],[32,15,32,16],[32,17,32,18],[32,19,32,20],[32,21,32,22],[32,23,32,24],[32,25,32,26],[32,27,32,28],[32,29,32,30],[32,31,32,32],[32,33,32,34],[32,35,32,36],[32,37,32,38],[32,39,32,40],[32,41,32,42],[32,43,32,44],[34,7,34,8],[34,9,34,10],[34,11,34,12],[34,13,34,14],[34,15,34,16],[34,17,34,18],[34,19,34,20],[34,21,34,22],[34,23,34,24],[34,25,34,26],[34,27,34,28],[34,29,34,30],[34,31,34,32],[34,33,34,34],[34,35,34,36],[34,37,34,38],[34,39,34,40],[5,417,5,418],[5,419,5,420],[5,421,5,422],[7,383,7,384],[7,385,7,386],[7,387,7,388],[7,389,7,390],[7,391,7,392],[7,393,7,394],[7,395,7,396],[7,397,7,398],[7,399,7,400],[7,401,7,402],[7,403,7,404],[7,405,7,406],[7,407,7,408],[7,409,7,410],[7,411,7,412],[7,413,7,414],[7,415,7,416],[7,417,7,418],[7,419,7,420],[7,421,7,422],[5,383,5,384],[5,385,5,386],[5,387,5,388],[5,389,5,390],[5,391,5,392],[5,393,5,394],[5,395,5,396],[5,397,5,398],[5,399,5,400],[5,401,5,402],[5,403,5,404],[5,405,5,406],[5,407,5,408],[5,409,5,410],[5,411,5,412],[5,413,5,414],[5,415,5,416],[5,375,5,376],[5,377,5,378],[5,379,5,380],[7,341,7,342],[7,343,7,344],[7,345,7,346],[7,347,7,348],[7,349,7,350],[7,351,7,352],[7,353,7,354],[7,355,7,356],[7,357,7,358],[7,359,7,360],[7,361,7,362],[7,363,7,364],[7,365,7,366],[7,367,7,368],[7,369,7,370],[7,371,7,372],[7,373,7,374],[7,375,7,376],[7,377,7,378],[7,379,7,380],[5,341,5,342],[5,343,5,344],[5,345,5,346],[5,347,5,348],[5,349,5,350],[5,351,5,352],[5,353,5,354],[5,355,5,356],[5,357,5,358],[5,359,5,360],[5,361,5,362],[5,363,5,364],[5,365,5,366],[5,367,5,368],[5,369,5,370],[5,371,5,372],[5,373,5,374],[5,333,5,334],[5,335,5,336],[5,337,5,338],[7,299,7,300],[7,301,7,302],[7,303,7,304],[7,305,7,306],[7,307,7,308],[7,309,7,310],[7,311,7,312],[7,313,7,314],[7,315,7,316],[7,317,7,318],[7,319,7,320],[7,321,7,322],[7,323,7,324],[7,325,7,326],[7,327,7,328],[7,329,7,330],[7,331,7,332],[7,333,7,334],[7,335,7,336],[7,337,7,338],[5,299,5,300],[5,301,5,302],[5,303,5,304],[5,305,5,306],[5,307,5,308],[5,309,5,310],[5,311,5,312],[5,313,5,314],[5,315,5,316],[5,317,5,318],[5,319,5,320],[5,321,5,322],[5,323,5,324],[5,325,5,326],[5,327,5,328],[5,329,5,330],[5,331,5,332],[6,321,6,322],[6,323,6,324],[6,325,6,326],[6,327,6,328],[6,329,6,330],[6,331,6,332],[6,309,6,310],[6,311,6,312],[6,313,6,314],[6,315,6,316],[6,317,6,318],[6,319,6,320],[5,291,5,292],[5,293,5,294],[5,295,5,296],[7,257,7,258],[7,259,7,260],[7,261,7,262],[7,263,7,264],[7,265,7,266],[7,267,7,268],[7,269,7,270],[7,271,7,272],[7,273,7,274],[7,275,7,276],[7,277,7,278],[7,279,7,280],[7,281,7,282],[7,283,7,284],[7,285,7,286],[7,287,7,288],[7,289,7,290],[7,291,7,292],[7,293,7,294],[7,295,7,296],[5,257,5,258],[5,259,5,260],[5,261,5,262],[5,263,5,264],[5,265,5,266],[5,267,5,268],[5,269,5,270],[5,271,5,272],[5,273,5,274],[5,289,5,290],[5,249,5,250],[5,251,5,252],[5,253,5,254],[7,215,7,216],[7,217,7,218],[7,219,7,220],[7,221,7,222],[7,223,7,224],[7,225,7,226],[7,227,7,228],[7,229,7,230],[7,231,7,232],[7,233,7,234],[7,235,7,236],[7,237,7,238],[7,239,7,240],[7,241,7,242],[7,243,7,244],[7,245,7,246],[7,247,7,248],[7,249,7,250],[7,251,7,252],[7,253,7,254],[5,215,5,216],[5,235,5,236],[5,237,5,238],[5,239,5,240],[5,241,5,242],[5,243,5,244],[5,245,5,246],[5,247,5,248],[5,209,5,210],[5,211,5,212],[5,275,5,276],[5,277,5,278],[5,279,5,280],[5,281,5,282],[5,283,5,284],[5,285,5,286],[5,287,5,288],[7,191,7,192],[7,193,7,194],[7,195,7,196],[7,197,7,198],[7,199,7,200],[7,201,7,202],[7,203,7,204],[7,205,7,206],[5,217,5,218],[5,219,5,220],[5,221,5,222],[5,223,5,224],[5,225,5,226],[5,227,5,228],[5,229,5,230],[5,231,5,232],[5,233,5,234],[7,207,7,208],[7,209,7,210],[7,211,7,212],[6,207,6,208],[6,209,6,210],[6,215,6,216],[5,175,5,176],[5,177,5,178],[5,179,5,180],[5,181,5,182],[5,183,5,184],[5,185,5,186],[5,187,5,188],[5,189,5,190],[5,191,5,192],[5,193,5,194],[5,195,5,196],[5,197,5,198],[5,199,5,200],[5,201,5,202],[5,203,5,204],[5,205,5,206],[5,207,5,208],[7,173,7,174],[7,175,7,176],[7,177,7,178],[7,179,7,180],[7,181,7,182],[7,183,7,184],[7,185,7,186],[7,187,7,188],[7,189,7,190],[5,165,5,166],[5,167,5,168],[5,169,5,170],[7,131,7,132],[7,133,7,134],[7,135,7,136],[7,137,7,138],[7,139,7,140],[7,141,7,142],[7,143,7,144],[7,145,7,146],[7,147,7,148],[7,149,7,150],[7,151,7,152],[7,153,7,154],[7,155,7,156],[7,157,7,158],[7,159,7,160],[7,161,7,162],[7,163,7,164],[7,165,7,166],[7,167,7,168],[5,173,5,174],[7,169,7,170],[5,131,5,132],[5,133,5,134],[5,135,5,136],[5,137,5,138],[5,139,5,140],[5,141,5,142],[5,143,5,144],[5,145,5,146],[5,147,5,148],[5,149,5,150],[5,151,5,152],[5,153,5,154],[5,155,5,156],[5,157,5,158],[5,159,5,160],[5,161,5,162],[5,163,5,164],[6,169,6,170],[5,123,5,124],[5,125,5,126],[5,127,5,128],[7,89,7,90],[7,91,7,92],[7,93,7,94],[7,95,7,96],[7,97,7,98],[7,99,7,100],[7,101,7,102],[7,103,7,104],[7,105,7,106],[7,107,7,108],[7,109,7,110],[7,111,7,112],[7,113,7,114],[7,115,7,116],[7,117,7,118],[7,119,7,120],[7,121,7,122],[7,123,7,124],[7,125,7,126],[7,127,7,128],[5,89,5,90],[5,91,5,92],[5,93,5,94],[5,95,5,96],[5,97,5,98],[5,99,5,100],[5,101,5,102],[5,103,5,104],[5,105,5,106],[5,107,5,108],[5,109,5,110],[5,111,5,112],[5,113,5,114],[5,115,5,116],[5,117,5,118],[5,119,5,120],[5,121,5,122],[5,67,5,68],[5,69,5,70],[5,71,5,72],[5,73,5,74],[5,75,5,76],[5,77,5,78],[5,79,5,80],[5,81,5,82],[5,83,5,84],[5,85,5,86],[7,47,7,48],[7,49,7,50],[7,51,7,52],[7,53,7,54],[7,55,7,56],[7,57,7,58],[7,59,7,60],[7,61,7,62],[7,63,7,64],[7,65,7,66],[7,67,7,68],[7,69,7,70],[7,71,7,72],[7,73,7,74],[7,75,7,76],[7,77,7,78],[7,79,7,80],[7,81,7,82],[7,83,7,84],[7,85,7,86],[58,299,58,304],[58,341,58,346],[58,383,58,388],[5,5,5,6],[7,5,7,6],[5,7,5,8],[5,9,5,10],[5,11,5,12],[5,13,5,14],[5,15,5,16],[5,17,5,18],[5,19,5,20],[5,21,5,22],[5,23,5,24],[5,25,5,26],[5,27,5,28],[5,29,5,30],[5,31,5,32],[5,33,5,34],[5,35,5,36],[5,37,5,38],[5,39,5,40],[5,41,5,42],[5,43,5,44],[7,7,7,8],[7,9,7,10],[7,11,7,12],[7,13,7,14],[7,15,7,16],[7,17,7,18],[7,19,7,20],[7,21,7,22],[4,1,8,3],[4,5,4,45],[4,47,4,87],[4,89,4,129],[4,131,4,171],[6,23,6,24],[6,25,6,26],[6,27,6,28],[6,29,6,30],[58,47,58,52],[58,5,58,10],[58,89,58,94],[58,131,58,136],[6,35,6,36],[6,37,6,38],[6,39,6,40],[6,41,6,42],[6,95,6,96],[6,97,6,98],[6,99,6,100],[6,101,6,102],[6,103,6,104],[6,105,6,106],[6,81,6,82],[6,83,6,84],[6,85,6,86],[6,89,6,90],[6,91,6,92],[6,93,6,94],[58,173,58,178],[58,215,58,220],[58,257,58,262],[7,23,7,24],[7,25,7,26],[7,27,7,28],[7,29,7,30],[7,31,7,32],[7,33,7,34],[7,35,7,36],[7,37,7,38],[7,39,7,40],[7,41,7,42],[7,43,7,44],[5,47,5,48],[5,49,5,50],[5,51,5,52],[5,53,5,54],[6,57,6,58],[6,59,6,60],[6,61,6,62],[6,63,6,64],[6,65,6,66],[6,67,6,68],[6,43,6,44],[6,47,6,48],[6,49,6,50],[6,51,6,52],[6,53,6,54],[6,55,6,56],[6,31,6,32],[6,33,6,34],[5,423,8,423],[6,5,6,6],[6,7,6,8],[6,9,6,10],[6,11,6,12],[6,13,6,14],[6,15,6,16],[6,17,6,18],[6,19,6,20],[6,21,6,22],[4,425,6,435],[5,45,8,45],[5,87,8,87],[5,129,8,129],[5,171,8,171],[5,213,8,213],[5,255,8,255],[5,297,8,297],[5,339,8,339],[5,381,8,381],[4,173,4,213],[4,215,4,255],[4,257,4,297],[4,299,4,339],[4,341,4,381],[4,383,4,423],[5,55,5,56],[5,57,5,58],[5,59,5,60],[5,61,5,62],[5,63,5,64],[5,65,5,66],[6,69,6,70],[6,71,6,72],[6,73,6,74],[6,75,6,76],[6,77,6,78],[6,79,6,80],[6,133,6,134],[6,135,6,136],[6,137,6,138],[6,139,6,140],[6,141,6,142],[6,143,6,144],[6,119,6,120],[6,121,6,122],[6,123,6,124],[6,125,6,126],[6,127,6,128],[6,131,6,132],[6,107,6,108],[6,109,6,110],[6,111,6,112],[6,113,6,114],[6,115,6,116],[6,117,6,118],[6,173,6,174],[6,175,6,176],[6,177,6,178],[6,179,6,180],[6,181,6,182],[6,157,6,158],[6,159,6,160],[6,161,6,162],[6,163,6,164],[6,165,6,166],[6,167,6,168],[6,145,6,146],[6,147,6,148],[6,149,6,150],[6,151,6,152],[6,153,6,154],[6,155,6,156],[6,217,6,218],[6,219,6,220],[6,195,6,196],[6,197,6,198],[6,199,6,200],[6,201,6,202],[6,203,6,204],[6,205,6,206],[6,183,6,184],[6,185,6,186],[6,187,6,188],[6,189,6,190],[6,191,6,192],[6,193,6,194],[6,245,6,246],[6,247,6,248],[6,211,6,212],[6,249,6,250],[6,251,6,252],[6,253,6,254],[6,257,6,258],[6,233,6,234],[6,235,6,236],[6,237,6,238],[6,239,6,240],[6,241,6,242],[6,243,6,244],[6,221,6,222],[6,223,6,224],[6,225,6,226],[6,227,6,228],[6,229,6,230],[6,231,6,232],[6,283,6,284],[6,285,6,286],[6,287,6,288]],"merged_total":2859,"flags":["merged_cut"]}
[null,"Electric Utility Data - Apartment Meters"]
[null,"Instructions"]
[null,"1) Enter data for pre-construction apartment-level energy use. First cell must not be blank. For months with zero consumption, please leave cell blank. \n2) Unhide columns (OD-PI) if there are more than 10 units sampled for a given unit type. You may hide columns that are not needed, do not delete them.\n3) Post-Construction data will be filled in one year after construction has been completed.\n4) Please use the \"Notes\" field below the data entry section of this tab to explain unusual circumstances, any anomalies in the data, or adjustments made. Also, please follow Program Guidelines v4.1, Section 3.2.2 for irregular delivers, outliers, and estimated bills.\n\n"]
[]
[null,"Pre-Construction In-Unit Billing Dates",null,null,null,{"$f":"CONCATENATE('Utility Info'!B77,\" - \",'Utility Info'!C77)","v":"Unit Type 1 - "},null,null,null,null,null,null,null,null,null,null,null,null,null,null,null,null,null,null,null,null,null,null,null,null,null,null,null,null,null,null,null,null,null,null,null,null,null,null,null,null,null,{"$f":"CONCATENATE('Utility Info'!B78,\" - \",'Utility Info'!C78)","v":"Unit Type 2 - "},null,null,null,null,null,null,null,null,null,null,null,null,null,null,null,null,null,null,null,null,null,null,null,null,null,null,null,null,null,null,null,null,null,null,null,null,null,null,null,null,null,{"$f":"CONCATENATE('Utility Info'!B79,\" - \",'Utility Info'!C79)","v":"Unit Type 3 - "},null,null,null,null,null,null,null,null,null,null,null,null,null,null,null,null,null,null,null,null,null,null,null,null,null,null,null,null,null,null,null,null,null,null,null,null,null,null,null,null,null,{"$f":"CONCATENATE('Utility Info'!B80,\" - \",'Utility Info'!C80)","v":"Unit Type 4 - "},null,null,null,null,null,null,null,null,null,null,null,null,null,null,null,null,null,null,null,null,null,null,null,null,null,null,null,null,null,null,null,null,null,null,null,null,null,null,null,null,null,{"$f":"CONCATENATE('Utility Info'!B81,\" - \",'Utility Info'!C81)","v":"Unit Type 5 - "},null,null,null,null,null,null,null,null,null,null,null,null,null,null,null,null,null,null,null,null,null,null,null,null,null,null,null,null,null,null,null,null,null,null,null,null,null,null,null,null,null,{"$f":"CONCATENATE('Utility Info'!B82,\" - \",'Utility Info'!C82)","v":"Unit Type 6 - "},null,null,null,null,null,null,null,null,null,null,null,null,null,null,null,null,null,null,null,null,null,null,null,null,null,null,null,null,null,null,null,null,null,null,null,null,null,null,null,null,null,{"$f":"CONCATENATE('Utility Info'!B83,\" - \",'Utility Info'!C83)","v":"Unit Type 7 - "},null,null,null,null,null,null,null,null,null,null,null,null,null,null,null,null,null,null,null,null,null,null,null,null,null,null,null,null,null,null,null,null,null,null,null,null,null,null,null,null,null,{"$f":"CONCATENATE('Utility Info'!B84,\" - \",'Utility Info'!C84)","v":"Unit Type 8 - "},null,null,null,null,null,null,null,null,null,null,null,null,null,null,null,null,null,null,null,null,null,null,null,null,null,null,null,null,null,null,null,null,null,null,null,null,null,null,null,null,null,{"$f":"CONCATENATE('Utility Info'!B85,\" - \",'Utility Info'!C85)","v":"Unit Type 9 - "},null,null,null,null,null,null,null,null,null,null,null,null,null,null,null,null,null,null,null,null,null,null,null,null,null,null,null,null,null,null,null,null,null,null,null,null,null,null,null,null,null,{"$f":"CONCATENATE('Utility Info'!B86,\" - \",'Utility Info'!C86)","v":"Unit Type 10 - "},null,null,null,null,null,null,null,null,null,null,null,null,null,null,null,null,null,null,null,null,null,null,null,null,null,null,null,null,null,null,null,null,null,null,null,null,null,null,null,null,null,"PRE-CONSTRUCTION\nSummary of In-Unit Electricity Use"]
[null,null,null,null,null,"Unit #:",null,"Unit #:",null,"Unit #:",null,"Unit #:",null,"Unit #:",null,"Unit #:",null,"Unit #:",null,"Unit #:",null,"Unit #:",null,"Unit #:",null,"Unit #:",null,"Unit #:",null,"Unit #:",null,"Unit #:",null,"Unit #:",null,"Unit #:",null,"Unit #:",null,"Unit #:",null,"Unit #:",null,"Unit #:",null,"SUMMARY",null,"Unit #:",null,"Unit #:",null,"Unit #:",null,"Unit #:",null,"Unit #:",null,"Unit #:",null,"Unit #:",null,"Unit #:",null,"Unit #:",null,"Unit #:",null,"Unit #:",null,"Unit #:",null,"Unit #:",null,"Unit #:",null,"Unit #:",null,"Unit #:",null,"Unit #:",null,"Unit #:",null,"Unit #:",null,"Unit #:",null,"SUMMARY",null,"Unit #:",null,"Unit #:",null,"Unit #:",null,"Unit #:",null,"Unit #:",null,"Unit #:",null,"Unit #:",null,"Unit #:",null,"Unit #:",null,"Unit #:",null,"Unit #:",null,"Unit #:",null,"Unit #:",null,"Unit #:",null,"Unit #:",null,"Unit #:",null,"Unit #:",null,"Unit #:",null,"Unit #:",null,"Unit #:",null,"SUMMARY",null,"Unit #:",null,"Unit #:",null,"Unit #:",null,"Unit #:",null,"Unit #:",null,"Unit #:",null,"Unit #:",null,"Unit #:",null,"Unit #:",null,"Unit #:",null,"Unit #:",null,"Unit #:",null,"Unit #:",null,"Unit #:",null,"Unit #:",null,"Unit #:",null,"Unit #:",null,"Unit #:",null,"Unit #:",null,"Unit #:",null,"SUMMARY",null,"Unit #:",null,"Unit #:",null,"Unit #:",null,"Unit #:",null,"Unit #:",null,"Unit #:",null,"Unit #:",null,"Unit #:",null,"Unit #:",null,"Unit #:",null,"Unit #:",null,"Unit #:",null,"Unit #:",null,"Unit #:",null,"Unit #:",null,"Unit #:",null,"Unit #:",null,"Unit #:",null,"Unit #:",null,"Unit #:",null,"SUMMARY",null,"Unit #:",null,"Unit #:",null,"Unit #:",null,"Unit #:",null,"Unit #:",null,"Unit #:",null,"Unit #:",null,"Unit #:",null,"Unit #:",null,"Unit #:",null,"Unit #:",null,"Unit #:",null,"Unit #:",null,"Unit #:",null,"Unit #:",null,"Unit #:",null,"Unit #:",null,"Unit #:",null,"Unit #:",null,"Unit #:",null,"SUMMARY",null,"Unit #:",null,"Unit #:",null,"Unit #:",null,"Unit #:",null,"Unit #:",null,"Unit #:",null,"Unit #:",null,"Unit #:",null,"Unit #:",null,"Unit #:",null,"Unit #:",null,"Unit #:",null,"Unit #:",null,"Unit #:",null,"Unit #:",null,"Unit #:",null,"Unit #:",null,"Unit #:",null,"Unit #:",null,"Unit #:",null,"SUMMARY",null,"Unit #:",null,"Unit #:",null,"Unit #:",null,"Unit #:",null,"Unit #:",null,"Unit #:",null,"Unit #:",null,"Unit #:",null,"Unit #:",null,"Unit #:",null,"Unit #:",null,"Unit #:",null,"Unit #:",null,"Unit #:",null,"Unit #:",null,"Unit #:",null,"Unit #:",null,"Unit #:",null,"Unit #:",null,"Unit #:",null,"SUMMARY",null,"Unit #:",null,"Unit #:",null,"Unit #:",null,"Unit #:",null,"Unit #:",null,"Unit #:",null,"Unit #:",null,"Unit #:",null,"Unit #:",null,"Unit #:",null,"Unit #:",null,"Unit #:",null,"Unit #:",null,"Unit #:",null,"Unit #:",null,"Unit #:",null,"Unit #:",null,"Unit #:",null,"Unit #:",null,"Unit #:",null,"SUMMARY",null,"Unit #:",null,"Unit #:",null,"Unit #:",null,"Unit #:",null,"Unit #:",null,"Unit #:",null,"Unit #:",null,"Unit #:",null,"Unit #:",null,"Unit #:",null,"Unit #:",null,"Unit #:",null,"Unit #:",null,"Unit #:",null,"Unit #:",null,"Unit #:",null,"Unit #:",null,"Unit #:",null,"Unit #:",null,"Unit #:",null,"SUMMARY"]
[]
[null,null,null,null,null,"Account #:",null,"Account #:",null,"Account #:",null,"Account #:",null,"Account #:",null,"Account #:",null,"Account #:",null,"Account #:",null,"Account #:",null,"Account #:",null,"Account #:",null,"Account #:",null,"Account #:",null,"Account #:",null,"Account #:",null,"Account #:",null,"Account #:",null,"Account #:",null,"Account #:",null,"Account #:",null,null,null,"Account #:",null,"Account #:",null,"Account #:",null,"Account #:",null,"Account #:",null,"Account #:",null,"Account #:",null,"Account #:",null,"Account #:",null,"Account #:",null,"Account #:",null,"Account #:",null,"Account #:",null,"Account #:",null,"Account #:",null,"Account #:",null,"Account #:",null,"Account #:",null,"Account #:",null,"Account #:",null,null,null,"Account #:",null,"Account #:",null,"Account #:",null,"Account #:",null,"Account #:",null,"Account #:",null,"Account #:",null,"Account #:",null,"Account #:",null,"Account #:",null,"Account #:",null,"Account #:",null,"Account #:",null,"Account #:",null,"Account #:",null,"Account #:",null,"Account #:",null,"Account #:",null,"Account #:",null,"Account #:",null,null,null,"Account #:",null,"Account #:",null,"Account #:",null,"Account #:",null,"Account #:",null,"Account #:",null,"Account #:",null,"Account #:",null,"Account #:",null,"Account #:",null,"Account #:",null,"Account #:",null,"Account #:",null,"Account #:",null,"Account #:",null,"Account #:",null,"Account #:",null,"Account #:",null,"Account #:",null,"Account #:",null,null,null,"Account #:",null,"Account #:",null,"Account #:",null,"Account #:",null,"Account #:",null,"Account #:",null,"Account #:",null,"Account #:",null,"Account #:",null,"Account #:",null,"Account #:",null,"Account #:",null,"Account #:",null,"Account #:",null,"Account #:",null,"Account #:",null,"Account #:",null,"Account #:",null,"Account #:",null,"Account #:",null,null,null,"Account #:",null,"Account #:",null,"Account #:",null,"Account #:",null,"Account #:",null,"Account #:",null,"Account #:",null,"Account #:",null,"Account #:",null,"Account #:",null,"Account #:",null,"Account #:",null,"Account #:",null,"Account #:",null,"Account #:",null,"Account #:",null,"Account #:",null,"Account #:",null,"Account #:",null,"Account #:",null,null,null,"Account #:",null,"Account #:",null,"Account #:",null,"Account #:",null,"Account #:",null,"Account #:",null,"Account #:",null,"Account #:",null,"Account #:",null,"Account #:",null,"Account #:",null,"Account #:",null,"Account #:",null,"Account #:",null,"Account #:",null,"Account #:",null,"Account #:",null,"Account #:",null,"Account #:",null,"Account #:",null,null,null,"Account #:",null,"Account #:",null,"Account #:",null,"Account #:",null,"Account #:",null,"Account #:",null,"Account #:",null,"Account #:",null,"Account #:",null,"Account #:",null,"Account #:",null,"Account #:",null,"Account #:",null,"Account #:",null,"Account #:",null,"Account #:",null,"Account #:",null,"Account #:",null,"Account #:",null,"Account #:",null,null,null,"Account #:",null,"Account #:",null,"Account #:",null,"Account #:",null,"Account #:",null,"Account #:",null,"Account #:",null,"Account #:",null,"Account #:",null,"Account #:",null,"Account #:",null,"Account #:",null,"Account #:",null,"Account #:",null,"Account #:",null,"Account #:",null,"Account #:",null,"Account #:",null,"Account #:",null,"Account #:",null,null,null,"Account #:",null,"Account #:",null,"Account #:",null,"Account #:",null,"Account #:",null,"Account #:",null,"Account #:",null,"Account #:",null,"Account #:",null,"Account #:",null,"Account #:",null,"Account #:",null,"Account #:",null,"Account #:",null,"Account #:",null,"Account #:",null,"Account #:",null,"Account #:",null,"Account #:",null,"Account #:",null,null,null,{"$f":"'Utility Info'!$D$77","v":0},{"$f":"'Utility Info'!$D$78","v":0},{"$f":"'Utility Info'!$D$79","v":0},{"$f":"'Utility Info'!$D$80","v":0},{"$f":"'Utility Info'!$D$81","v":0},{"$f":"'Utility Info'!$D$82","v":0},{"$f":"'Utility Info'!$D$83","v":0},{"$f":"'Utility Info'!$D$84","v":0},{"$f":"'Utility Info'!$D$85","v":0},{"$f":"'Utility Info'!$D$86","v":0}]
[null,null,null,null,null,null,null,null,null,null,null,null,null,null,null,null,null,null,null,null,null,null,null,null,null,null,null,null,null,null,null,null,null,null,null,null,null,null,null,null,null,null,null,null,null,null,null,null,null,null,null,null,null,null,null,null,null,null,null,null,null,null,null,null,null,null,null,null,null,null,null,null,null,null,null,null,null,null,null,null,null,null,null,null,null,null,null,null,null,null,null,null,null,null,null,null,null,null,null,null,null,null,null,null,null,null,null,null,null,null,null,null,null,null,null,null,null,null,null,null,null,null,null,null,null,null,null,null,null,null,null,null,null,null,null,null,null,null,null,null,null,null,null,null,null,null,null,null,null,null,null,null,null,null,null,null,null,null,null,null,null,null,null,null,null,null,null,null,null,null,null,null,null,null,null,null,null,null,null,null,null,null,null,null,null,null,null,null,null,null,null,null,null,null,null,null,null,null,null,null,null,null,null,null,null,null,null,null,null,null,null,null,null,null,null,null,null,null,null,null,null,null,null,null,null,null,null,null,null,null,null,null,null,null,null,null,null,null,null,null,null,null,null,null,null,null,null,null,null,null,null,null,null,null,null,null,null,null,null,null,null,null,null,null,null,null,null,null,null,null,null,null,null,null,null,null,null,null,null,null,null,null,null,null,null,null,null,null,null,null,null,null,null,null,null,null,null,null,null,null,null,null,null,null,null,null,null,null,null,null,null,null,null,null,null,null,null,null,null,null,null,null,null,null,null,null,null,null,null,null,null,null,null,null,null,null,null,null,null,null,null,null,null,null,null,null,null,null,null,null,null,null,null,null,null,null,null,null,null,null,null,null,null,null,null,null,null,null,null,null,null,null,null,null,null,null,null,null,null,null,null,null,null,null,null,null,null,null,null,null,null,null,null,null,null,null,null,null,null,null,null,null,null,null,null,null,null,null,null,null,null,null,null,null,null,null,null,null,null,null,null,null,null,null,null,{"$f":"'Utility Info'!B77","v":"Unit Type 1"},{"$f":"'Utility Info'!B78","v":"Unit Type 2"},{"$f":"'Utility Info'!B79","v":"Unit Type 3"},{"$f":"'Utility Info'!B80","v":"Unit Type 4"},{"$f":"'Utility Info'!B81","v":"Unit Type 5"},{"$f":"'Utility Info'!B82","v":"Unit Type 6"},{"$f":"'Utility Info'!B83","v":"Unit Type 7"},{"$f":"'Utility Info'!B84","v":"Unit Type 8"},{"$f":"'Utility Info'!B85","v":"Unit Type 9"},{"$f":"'Utility Info'!B86","v":"Unit Type 10"},"SUMMARY"]
[null,"Billing Period Start Date","Read Date","Days in Billing Period",null,"kWh","Actual/ Estimated","kWh","Actual/ Estimated","kWh","Actual/ Estimated","kWh","Actual/ Estimated","kWh","Actual/ Estimated","kWh","Actual/ Estimated","kWh","Actual/ Estimated","kWh","Actual/ Estimated","kWh","Actual/ Estimated","kWh","Actual/ Estimated","kWh","Actual/ Estimated","kWh","Actual/ Estimated","kWh","Actual/ Estimated","kWh","Actual/ Estimated","kWh","Actual/ Estimated","kWh","Actual/ Estimated","kWh","Actual/ Estimated","kWh","Actual/ Estimated","kWh","Actual/ Estimated","kWh","Actual/ Estimated","Average kWh Consumption",null,"kWh","Actual/ Estimated","kWh","Actual/ Estimated","kWh","Actual/ Estimated","kWh","Actual/ Estimated","kWh","Actual/ Estimated","kWh","Actual/ Estimated","kWh","Actual/ Estimated","kWh","Actual/ Estimated","kWh","Actual/ Estimated","kWh","Actual/ Estimated","kWh","Actual/ Estimated","kWh","Actual/ Estimated","kWh","Actual/ Estimated","kWh","Actual/ Estimated","kWh","Actual/ Estimated","kWh","Actual/ Estimated","kWh","Actual/ Estimated","kWh","Actual/ Estimated","kWh","Actual/ Estimated","kWh","Actual/ Estimated","Average kWh Consumption",null,"kWh","Actual/ Estimated","kWh","Actual/ Estimated","kWh","Actual/ Estimated","kWh","Actual/ Estimated","kWh","Actual/ Estimated","kWh","Actual/ Estimated","kWh","Actual/ Estimated","kWh","Actual/ Estimated","kWh","Actual/ Estimated","kWh","Actual/ Estimated","kWh","Actual/ Estimated","kWh","Actual/ Estimated","kWh","Actual/ Estimated","kWh","Actual/ Estimated","kWh","Actual/ Estimated","kWh","Actual/ Estimated","kWh","Actual/ Estimated","kWh","Actual/ Estimated","kWh","Actual/ Estimated","kWh","Actual/ Estimated","Average kWh Consumption",null,"kWh","Actual/ Estimated","kWh","Actual/ Estimated","kWh","Actual/ Estimated","kWh","Actual/ Estimated","kWh","Actual/ Estimated","kWh","Actual/ Estimated","kWh","Actual/ Estimated","kWh","Actual/ Estimated","kWh","Actual/ Estimated","kWh","Actual/ Estimated","kWh","Actual/ Estimated","kWh","Actual/ Estimated","kWh","Actual/ Estimated","kWh","Actual/ Estimated","kWh","Actual/ Estimated","kWh","Actual/ Estimated","kWh","Actual/ Estimated","kWh","Actual/ Estimated","kWh","Actual/ Estimated","kWh","Actual/ Estimated","Average kWh Consumption",null,"kWh","Actual/ Estimated","kWh","Actual/ Estimated","kWh","Actual/ Estimated","kWh","Actual/ Estimated","kWh","Actual/ Estimated","kWh","Actual/ Estimated","kWh","Actual/ Estimated","kWh","Actual/ Estimated","kWh","Actual/ Estimated","kWh","Actual/ Estimated","kWh","Actual/ Estimated","kWh","Actual/ Estimated","kWh","Actual/ Estimated","kWh","Actual/ Estimated","kWh","Actual/ Estimated","kWh","Actual/ Estimated","kWh","Actual/ Estimated","kWh","Actual/ Estimated","kWh","Actual/ Estimated","kWh","Actual/ Estimated","Average kWh Consumption",null,"kWh","Actual/ Estimated","kWh","Actual/ Estimated","kWh","Actual/ Estimated","kWh","Actual/ Estimated","kWh","Actual/ Estimated","kWh","Actual/ Estimated","kWh","Actual/ Estimated","kWh","Actual/ Estimated","kWh","Actual/ Estimated","kWh","Actual/ Estimated","kWh","Actual/ Estimated","kWh","Actual/ Estimated","kWh","Actual/ Estimated","kWh","Actual/ Estimated","kWh","Actual/ Estimated","kWh","Actual/ Estimated","kWh","Actual/ Estimated","kWh","Actual/ Estimated","kWh","Actual/ Estimated","kWh","Actual/ Estimated","Average kWh Consumption",null,"kWh","Actual/ Estimated","kWh","Actual/ Estimated","kWh","Actual/ Estimated","kWh","Actual/ Estimated","kWh","Actual/ Estimated","kWh","Actual/ Estimated","kWh","Actual/ Estimated","kWh","Actual/ Estimated","kWh","Actual/ Estimated","kWh","Actual/ Estimated","kWh","Actual/ Estimated","kWh","Actual/ Estimated","kWh","Actual/ Estimated","kWh","Actual/ Estimated","kWh","Actual/ Estimated","kWh","Actual/ Estimated","kWh","Actual/ Estimated","kWh","Actual/ Estimated","kWh","Actual/ Estimated","kWh","Actual/ Estimated","Average kWh Consumption",null,"kWh","Actual/ Estimated","kWh","Actual/ Estimated","kWh","Actual/ Estimated","kWh","Actual/ Estimated","kWh","Actual/ Estimated","kWh","Actual/ Estimated","kWh","Actual/ Estimated","kWh","Actual/ Estimated","kWh","Actual/ Estimated","kWh","Actual/ Estimated","kWh","Actual/ Estimated","kWh","Actual/ Estimated","kWh","Actual/ Estimated","kWh","Actual/ Estimated","kWh","Actual/ Estimated","kWh","Actual/ Estimated","kWh","Actual/ Estimated","kWh","Actual/ Estimated","kWh","Actual/ Estimated","kWh","Actual/ Estimated","Average kWh Consumption",null,"kWh","Actual/ Estimated","kWh","Actual/ Estimated","kWh","Actual/ Estimated","kWh","Actual/ Estimated","kWh","Actual/ Estimated","kWh","Actual/ Estimated","kWh","Actual/ Estimated","kWh","Actual/ Estimated","kWh","Actual/ Estimated","kWh","Actual/ Estimated","kWh","Actual/ Estimated","kWh","Actual/ Estimated","kWh","Actual/ Estimated","kWh","Actual/ Estimated","kWh","Actual/ Estimated","kWh","Actual/ Estimated","kWh","Actual/ Estimated","kWh","Actual/ Estimated","kWh","Actual/ Estimated","kWh","Actual/ Estimated","Average kWh Consumption",null,"kWh","Actual/ Estimated","kWh","Actual/ Estimated","kWh","Actual/ Estimated","kWh","Actual/ Estimated","kWh","Actual/ Estimated","kWh","Actual/ Estimated","kWh","Actual/ Estimated","kWh","Actual/ Estimated","kWh","Actual/ Estimated","kWh","Actual/ Estimated","kWh","Actual/ Estimated","kWh","Actual/ Estimated","kWh","Actual/ Estimated","kWh","Actual/ Estimated","kWh","Actual/ Estimated","kWh","Actual/ Estimated","kWh","Actual/ Estimated","kWh","Actual/ Estimated","kWh","Actual/ Estimated","kWh","Actual/ Estimated","Average kWh Consumption",null,"Average kWh Consumption","Average kWh Consumption","Average kWh Consumption","Average kWh Consumption","Average kWh Consumption","Average kWh Consumption","Average kWh Consumption","Average kWh Consumption","Average kWh Consumption","Average kWh Consumption","Total In-Unit kWh Consumption"]
[]
[null,{"$f":"C11+1","v":"1900-01-01"},null,{"$f":"IF(C12>0,C12+1-B12,0)","v":0},null,null,null,null,null,null,null,null,null,null,null,null,null,null,null,null,null,null,null,null,null,null,null,null,null,null,null,null,null,null,null,null,null,null,null,null,null,null,null,null,null,{"$f":"IF(ISBLANK(F12),\"\",AVERAGE(F12:AR12))","v":""},null,null,null,null,null,null,null,null,null,null,null,null,null,null,null,null,null,null,null,null,null,null,null,null,null,null,null,null,null,null,null,null,null,null,null,null,null,null,null,null,null,{"$f":"IF(ISBLANK(AV12),\"\",AVERAGE(AV12:CH12))","v":""},null,null,null,null,null,null,null,null,null,null,null,null,null,null,null,null,null,null,null,null,null,null,null,null,null,null,null,null,null,null,null,null,null,null,null,null,null,null,null,null,null,{"$f":"IF(ISBLANK(CL12),\"\",AVERAGE(CL12:DX12))","v":""},null,null,null,null,null,null,null,null,null,null,null,null,null,null,null,null,null,null,null,null,null,null,null,null,null,null,null,null,null,null,null,null,null,null,null,null,null,null,null,null,null,{"$f":"IF(ISBLANK(EB12),\"\",AVERAGE(EB12:FN12))","v":""},null,null,null,null,null,null,null,null,null,null,null,null,null,null,null,null,null,null,null,null,null,null,null,null,null,null,null,null,null,null,null,null,null,null,null,null,null,null,null,null,null,{"$f":"IF(ISBLANK(FR12),\"\",AVERAGE(FR12:HD12))","v":""},null,null,null,null,null,null,null,null,null,null,null,null,null,null,null,null,null,null,null,null,null,null,null,null,null,null,null,null,null,null,null,null,null,null,null,null,null,null,null,null,null,{"$f":"IF(ISBLANK(HH12),\"\",AVERAGE(HH12:IT12))","v":""},null,null,null,null,null,null,null,null,null,null,null,null,null,null,null,null,null,null,null,null,null,null,null,null,null,null,null,null,null,null,null,null,null,null,null,null,null,null,null,null,null,{"$f":"IF(ISBLANK(IX12),\"\",AVERAGE(IX12:KJ12))","v":""},null,null,null,null,null,null,null,null,null,null,null,null,null,null,null,null,null,null,null,null,null,null,null,null,null,null,null,null,null,null,null,null,null,null,null,null,null,null,null,null,null,{"$f":"IF(ISBLANK(KN12),\"\",AVERAGE(KN12:LZ12))","v":""},null,null,null,null,null,null,null,null,null,null,null,null,null,null,null,null,null,null,null,null,null,null,null,null,null,null,null,null,null,null,null,null,null,null,null,null,null,null,null,null,null,{"$f":"IF(ISBLANK(MD12),\"\",AVERAGE(MD12:NP12))","v":""},null,null,null,null,null,null,null,null,null,null,null,null,null,null,null,null,null,null,null,null,null,null,null,null,null,null,null,null,null,null,null,null,null,null,null,null,null,null,null,null,null,{"$f":"IF(ISBLANK(NT12),\"\",AVERAGE(NT12:PF12))","v":""},null,{"$f":"IF(AT12=\"\",0,AT12)","v":0},{"$f":"IF(CJ12=\"\",0,CJ12)","v":0},{"$f":"IF(DZ12=\"\",0,DZ12)","v":0},{"$f":"IF(FP12=\"\",0,FP12)","v":0},{"$f":"IF(HF12=\"\",0,HF12)","v":0},{"$f":"IF(IV12=\"\",0,IV12)","v":0},{"$f":"IF(KL12=\"\",0,KL12)","v":0},{"$f":"IF(MB12=\"\",0,MB12)","v":0},{"$f":"IF(NR12=\"\",0,NR12)","v":0},{"$f":"IF(PH12=\"\",0,PH12)","v":0},{"$f":"SUMPRODUCT($PJ$8:$PS$8,PJ12:PS12)","v":0}]
[null,{"$f":"C12+1","v":"1900-01-01"},null,0,null,null,null,null,null,null,null,null,null,null,null,null,null,null,null,null,null,null,null,null,null,null,null,null,null,null,null,null,null,null,null,null,null,null,null,null,null,null,null,null,null,"",null,null,null,null,null,null,null,null,null,null,null,null,null,null,null,null,null,null,null,null,null,null,null,null,null,null,null,null,null,null,null,null,null,null,null,null,null,null,null,null,null,"",null,null,null,null,null,null,null,null,null,null,null,null,null,null,null,null,null,null,null,null,null,null,null,null,null,null,null,null,null,null,null,null,null,null,null,null,null,null,null,null,null,"",null,null,null,null,null,null,null,null,null,null,null,null,null,null,null,null,null,null,null,null,null,null,null,null,null,null,null,null,null,null,null,null,null,null,null,null,null,null,null,null,null,"",null,null,null,null,null,null,null,null,null,null,null,null,null,null,null,null,null,null,null,null,null,null,null,null,null,null,null,null,null,null,null,null,null,null,null,null,null,null,null,null,null,"",null,null,null,null,null,null,null,null,null,null,null,null,null,null,null,null,null,null,null,null,null,null,null,null,null,null,null,null,null,null,null,null,null,null,null,null,null,null,null,null,null,"",null,null,null,null,null,null,null,null,null,null,null,null,null,null,null,null,null,null,null,null,null,null,null,null,null,null,null,null,null,null,null,null,null,null,null,null,null,null,null,null,null,"",null,null,null,null,null,null,null,null,null,null,null,null,null,null,null,null,null,null,null,null,null,null,null,null,null,null,null,null,null,null,null,null,null,null,null,null,null,null,null,null,null,"",null,null,null,null,null,null,null,null,null,null,null,null,null,null,null,null,null,null,null,null,null,null,null,null,null,null,null,null,null,null,null,null,null,null,null,null,null,null,null,null,null,"",null,null,null,null,null,null,null,null,null,null,null,null,null,null,null,null,null,null,null,null,null,null,null,null,null,null,null,null,null,null,null,null,null,null,null,null,null,null,null,null,null,"",null,0,0,0,0,0,0,0,0,0,0,{"$f":"SUMPRODUCT($PJ$8:$PS$8,PJ13:PS13)","v":0}]
[null,"1900-01-01",null,0,null,null,null,null,null,null,null,null,null,null,null,null,null,null,null,null,null,null,null,null,null,null,null,null,null,null,null,null,null,null,null,null,null,null,null,null,null,null,null,null,null,"",null,null,null,null,null,null,null,null,null,null,null,null,null,null,null,null,null,null,null,null,null,null,null,null,null,null,null,null,null,null,null,null,null,null,null,null,null,null,null,null,null,"",null,null,null,null,null,null,null,null,null,null,null,null,null,null,null,null,null,null,null,null,null,null,null,null,null,null,null,null,null,null,null,null,null,null,null,null,null,null,null,null,null,"",null,null,null,null,null,null,null,null,null,null,null,null,null,null,null,null,null,null,null,null,null,null,null,null,null,null,null,null,null,null,null,null,null,null,null,null,null,null,null,null,null,"",null,null,null,null,null,null,null,null,null,null,null,null,null,null,null,null,null,null,null,null,null,null,null,null,null,null,null,null,null,null,null,null,null,null,null,null,null,null,null,null,null,"",null,null,null,null,null,null,null,null,null,null,null,null,null,null,null,null,null,null,null,null,null,null,null,null,null,null,null,null,null,null,null,null,null,null,null,null,null,null,null,null,null,"",null,null,null,null,null,null,null,null,null,null,null,null,null,null,null,null,null,null,null,null,null,null,null,null,null,null,null,null,null,null,null,null,null,null,null,null,null,null,null,null,null,"",null,null,null,null,null,null,null,null,null,null,null,null,null,null,null,null,null,null,null,null,null,null,null,null,null,null,null,null,null,null,null,null,null,null,null,null,null,null,null,null,null,"",null,null,null,null,null,null,null,null,null,null,null,null,null,null,null,null,null,null,null,null,null,null,null,null,null,null,null,null,null,null,null,null,null,null,null,null,null,null,null,null,null,"",null,null,null,null,null,null,null,null,null,null,null,null,null,null,null,null,null,null,null,null,null,null,null,null,null,null,null,null,null,null,null,null,null,null,null,null,null,null,null,null,null,"",null,0,0,0,0,0,0,0,0,0,0,0]
[null,"1900-01-01",null,0,null,null,null,null,null,null,null,null,null,null,null,null,null,null,null,null,null,null,null,null,null,null,null,null,null,null,null,null,null,null,null,null,null,null,null,null,null,null,null,null,null,"",null,null,null,null,null,null,null,null,null,null,null,null,null,null,null,null,null,null,null,null,null,null,null,null,null,null,null,null,null,null,null,null,null,null,null,null,null,null,null,null,null,"",null,null,null,null,null,null,null,null,null,null,null,null,null,null,null,null,null,null,null,null,null,null,null,null,null,null,null,null,null,null,null,null,null,null,null,null,null,null,null,null,null,"",null,null,null,null,null,null,null,null,null,null,null,null,null,null,null,null,null,null,null,null,null,null,null,null,null,null,null,null,null,null,null,null,null,null,null,null,null,null,null,null,null,"",null,null,null,null,null,null,null,null,null,null,null,null,null,null,null,null,null,null,null,null,null,null,null,null,null,null,null,null,null,null,null,null,null,null,null,null,null,null,null,null,null,"",null,null,null,null,null,null,null,null,null,null,null,null,null,null,null,null,null,null,null,null,null,null,null,null,null,null,null,null,null,null,null,null,null,null,null,null,null,null,null,null,null,"",null,null,null,null,null,null,null,null,null,null,null,null,null,null,null,null,null,null,null,null,null,null,null,null,null,null,null,null,null,null,null,null,null,null,null,null,null,null,null,null,null,"",null,null,null,null,null,null,null,null,null,null,null,null,null,null,null,null,null,null,null,null,null,null,null,null,null,null,null,null,null,null,null,null,null,null,null,null,null,null,null,null,null,"",null,null,null,null,null,null,null,null,null,null,null,null,null,null,null,null,null,null,null,null,null,null,null,null,null,null,null,null,null,null,null,null,null,null,null,null,null,null,null,null,null,"",null,null,null,null,null,null,null,null,null,null,null,null,null,null,null,null,null,null,null,null,null,null,null,null,null,null,null,null,null,null,null,null,null,null,null,null,null,null,null,null,null,"",null,0,0,0,0,0,0,0,0,0,0,0]
[null,"1900-01-01",null,0,null,null,null,null,null,null,null,null,null,null,null,null,null,null,null,null,null,null,null,null,null,null,null,null,null,null,null,null,null,null,null,null,null,null,null,null,null,null,null,null,null,"",null,null,null,null,null,null,null,null,null,null,null,null,null,null,null,null,null,null,null,null,null,null,null,null,null,null,null,null,null,null,null,null,null,null,null,null,null,null,null,null,null,"",null,null,null,null,null,null,null,null,null,null,null,null,null,null,null,null,null,null,null,null,null,null,null,null,null,null,null,null,null,null,null,null,null,null,null,null,null,null,null,null,null,"",null,null,null,null,null,null,null,null,null,null,null,null,null,null,null,null,null,null,null,null,null,null,null,null,null,null,null,null,null,null,null,null,null,null,null,null,null,null,null,null,null,"",null,null,null,null,null,null,null,null,null,null,null,null,null,null,null,null,null,null,null,null,null,null,null,null,null,null,null,null,null,null,null,null,null,null,null,null,null,null,null,null,null,"",null,null,null,null,null,null,null,null,null,null,null,null,null,null,null,null,null,null,null,null,null,null,null,null,null,null,null,null,null,null,null,null,null,null,null,null,null,null,null,null,null,"",null,null,null,null,null,null,null,null,null,null,null,null,null,null,null,null,null,null,null,null,null,null,null,null,null,null,null,null,null,null,null,null,null,null,null,null,null,null,null,null,null,"",null,null,null,null,null,null,null,null,null,null,null,null,null,null,null,null,null,null,null,null,null,null,null,null,null,null,null,null,null,null,null,null,null,null,null,null,null,null,null,null,null,"",null,null,null,null,null,null,null,null,null,null,null,null,null,null,null,null,null,null,null,null,null,null,null,null,null,null,null,null,null,null,null,null,null,null,null,null,null,null,null,null,null,"",null,null,null,null,null,null,null,null,null,null,null,null,null,null,null,null,null,null,null,null,null,null,null,null,null,null,null,null,null,null,null,null,null,null,null,null,null,null,null,null,null,"",null,0,0,0,0,0,0,0,0,0,0,0]
[null,"1900-01-01",null,0,null,null,null,null,null,null,null,null,null,null,null,null,null,null,null,null,null,null,null,null,null,null,null,null,null,null,null,null,null,null,null,null,null,null,null,null,null,null,null,null,null,"",null,null,null,null,null,null,null,null,null,null,null,null,null,null,null,null,null,null,null,null,null,null,null,null,null,null,null,null,null,null,null,null,null,null,null,null,null,null,null,null,null,"",null,null,null,null,null,null,null,null,null,null,null,null,null,null,null,null,null,null,null,null,null,null,null,null,null,null,null,null,null,null,null,null,null,null,null,null,null,null,null,null,null,"",null,null,null,null,null,null,null,null,null,null,null,null,null,null,null,null,null,null,null,null,null,null,null,null,null,null,null,null,null,null,null,null,null,null,null,null,null,null,null,null,null,"",null,null,null,null,null,null,null,null,null,null,null,null,null,null,null,null,null,null,null,null,null,null,null,null,null,null,null,null,null,null,null,null,null,null,null,null,null,null,null,null,null,"",null,null,null,null,null,null,null,null,null,null,null,null,null,null,null,null,null,null,null,null,null,null,null,null,null,null,null,null,null,null,null,null,null,null,null,null,null,null,null,null,null,"",null,null,null,null,null,null,null,null,null,null,null,null,null,null,null,null,null,null,null,null,null,null,null,null,null,null,null,null,null,null,null,null,null,null,null,null,null,null,null,null,null,"",null,null,null,null,null,null,null,null,null,null,null,null,null,null,null,null,null,null,null,null,null,null,null,null,null,null,null,null,null,null,null,null,null,null,null,null,null,null,null,null,null,"",null,null,null,null,null,null,null,null,null,null,null,null,null,null,null,null,null,null,null,null,null,null,null,null,null,null,null,null,null,null,null,null,null,null,null,null,null,null,null,null,null,"",null,null,null,null,null,null,null,null,null,null,null,null,null,null,null,null,null,null,null,null,null,null,null,null,null,null,null,null,null,null,null,null,null,null,null,null,null,null,null,null,null,"",null,0,0,0,0,0,0,0,0,0,0,0]
[null,"1900-01-01",null,0,null,null,null,null,null,null,null,null,null,null,null,null,null,null,null,null,null,null,null,null,null,null,null,null,null,null,null,null,null,null,null,null,null,null,null,null,null,null,null,null,null,"",null,null,null,null,null,null,null,null,null,null,null,null,null,null,null,null,null,null,null,null,null,null,null,null,null,null,null,null,null,null,null,null,null,null,null,null,null,null,null,null,null,"",null,null,null,null,null,null,null,null,null,null,null,null,null,null,null,null,null,null,null,null,null,null,null,null,null,null,null,null,null,null,null,null,null,null,null,null,null,null,null,null,null,"",null,null,null,null,null,null,null,null,null,null,null,null,null,null,null,null,null,null,null,null,null,null,null,null,null,null,null,null,null,null,null,null,null,null,null,null,null,null,null,null,null,"",null,null,null,null,null,null,null,null,null,null,null,null,null,null,null,null,null,null,null,null,null,null,null,null,null,null,null,null,null,null,null,null,null,null,null,null,null,null,null,null,null,"",null,null,null,null,null,null,null,null,null,null,null,null,null,null,null,null,null,null,null,null,null,null,null,null,null,null,null,null,null,null,null,null,null,null,null,null,null,null,null,null,null,"",null,null,null,null,null,null,null,null,null,null,null,null,null,null,null,null,null,null,null,null,null,null,null,null,null,null,null,null,null,null,null,null,null,null,null,null,null,null,null,null,null,"",null,null,null,null,null,null,null,null,null,null,null,null,null,null,null,null,null,null,null,null,null,null,null,null,null,null,null,null,null,null,null,null,null,null,null,null,null,null,null,null,null,"",null,null,null,null,null,null,null,null,null,null,null,null,null,null,null,null,null,null,null,null,null,null,null,null,null,null,null,null,null,null,null,null,null,null,null,null,null,null,null,null,null,"",null,null,null,null,null,null,null,null,null,null,null,null,null,null,null,null,null,null,null,null,null,null,null,null,null,null,null,null,null,null,null,null,null,null,null,null,null,null,null,null,null,"",null,0,0,0,0,0,0,0,0,0,0,0]
[null,"1900-01-01",null,0,null,null,null,null,null,null,null,null,null,null,null,null,null,null,null,null,null,null,null,null,null,null,null,null,null,null,null,null,null,null,null,null,null,null,null,null,null,null,null,null,null,"",null,null,null,null,null,null,null,null,null,null,null,null,null,null,null,null,null,null,null,null,null,null,null,null,null,null,null,null,null,null,null,null,null,null,null,null,null,null,null,null,null,"",null,null,null,null,null,null,null,null,null,null,null,null,null,null,null,null,null,null,null,null,null,null,null,null,null,null,null,null,null,null,null,null,null,null,null,null,null,null,null,null,null,"",null,null,null,null,null,null,null,null,null,null,null,null,null,null,null,null,null,null,null,null,null,null,null,null,null,null,null,null,null,null,null,null,null,null,null,null,null,null,null,null,null,"",null,null,null,null,null,null,null,null,null,null,null,null,null,null,null,null,null,null,null,null,null,null,null,null,null,null,null,null,null,null,null,null,null,null,null,null,null,null,null,null,null,"",null,null,null,null,null,null,null,null,null,null,null,null,null,null,null,null,null,null,null,null,null,null,null,null,null,null,null,null,null,null,null,null,null,null,null,null,null,null,null,null,null,"",null,null,null,null,null,null,null,null,null,null,null,null,null,null,null,null,null,null,null,null,null,null,null,null,null,null,null,null,null,null,null,null,null,null,null,null,null,null,null,null,null,"",null,null,null,null,null,null,null,null,null,null,null,null,null,null,null,null,null,null,null,null,null,null,null,null,null,null,null,null,null,null,null,null,null,null,null,null,null,null,null,null,null,"",null,null,null,null,null,null,null,null,null,null,null,null,null,null,null,null,null,null,null,null,null,null,null,null,null,null,null,null,null,null,null,null,null,null,null,null,null,null,null,null,null,"",null,null,null,null,null,null,null,null,null,null,null,null,null,null,null,null,null,null,null,null,null,null,null,null,null,null,null,null,null,null,null,null,null,null,null,null,null,null,null,null,null,"",null,0,0,0,0,0,0,0,0,0,0,0]
[null,"1900-01-01",null,0,null,null,null,null,null,null,null,null,null,null,null,null,null,null,null,null,null,null,null,null,null,null,null,null,null,null,null,null,null,null,null,null,null,null,null,null,null,null,null,null,null,"",null,null,null,null,null,null,null,null,null,null,null,null,null,null,null,null,null,null,null,null,null,null,null,null,null,null,null,null,null,null,null,null,null,null,null,null,null,null,null,null,null,"",null,null,null,null,null,null,null,null,null,null,null,null,null,null,null,null,null,null,null,null,null,null,null,null,null,null,null,null,null,null,null,null,null,null,null,null,null,null,null,null,null,"",null,null,null,null,null,null,null,null,null,null,null,null,null,null,null,null,null,null,null,null,null,null,null,null,null,null,null,null,null,null,null,null,null,null,null,null,null,null,null,null,null,"",null,null,null,null,null,null,null,null,null,null,null,null,null,null,null,null,null,null,null,null,null,null,null,null,null,null,null,null,null,null,null,null,null,null,null,null,null,null,null,null,null,"",null,null,null,null,null,null,null,null,null,null,null,null,null,null,null,null,null,null,null,null,null,null,null,null,null,null,null,null,null,null,null,null,null,null,null,null,null,null,null,null,null,"",null,null,null,null,null,null,null,null,null,null,null,null,null,null,null,null,null,null,null,null,null,null,null,null,null,null,null,null,null,null,null,null,null,null,null,null,null,null,null,null,null,"",null,null,null,null,null,null,null,null,null,null,null,null,null,null,null,null,null,null,null,null,null,null,null,null,null,null,null,null,null,null,null,null,null,null,null,null,null,null,null,null,null,"",null,null,null,null,null,null,null,null,null,null,null,null,null,null,null,null,null,null,null,null,null,null,null,null,null,null,null,null,null,null,null,null,null,null,null,null,null,null,null,null,null,"",null,null,null,null,null,null,null,null,null,null,null,null,null,null,null,null,null,null,null,null,null,null,null,null,null,null,null,null,null,null,null,null,null,null,null,null,null,null,null,null,null,"",null,0,0,0,0,0,0,0,0,0,0,0]
[null,"1900-01-01",null,0,null,null,null,null,null,null,null,null,null,null,null,null,null,null,null,null,null,null,null,null,null,null,null,null,null,null,null,null,null,null,null,null,null,null,null,null,null,null,null,null,null,"",null,null,null,null,null,null,null,null,null,null,null,null,null,null,null,null,null,null,null,null,null,null,null,null,null,null,null,null,null,null,null,null,null,null,null,null,null,null,null,null,null,"",null,null,null,null,null,null,null,null,null,null,null,null,null,null,null,null,null,null,null,null,null,null,null,null,null,null,null,null,null,null,null,null,null,null,null,null,null,null,null,null,null,"",null,null,null,null,null,null,null,null,null,null,null,null,null,null,null,null,null,null,null,null,null,null,null,null,null,null,null,null,null,null,null,null,null,null,null,null,null,null,null,null,null,"",null,null,null,null,null,null,null,null,null,null,null,null,null,null,null,null,null,null,null,null,null,null,null,null,null,null,null,null,null,null,null,null,null,null,null,null,null,null,null,null,null,"",null,null,null,null,null,null,null,null,null,null,null,null,null,null,null,null,null,null,null,null,null,null,null,null,null,null,null,null,null,null,null,null,null,null,null,null,null,null,null,null,null,"",null,null,null,null,null,null,null,null,null,null,null,null,null,null,null,null,null,null,null,null,null,null,null,null,null,null,null,null,null,null,null,null,null,null,null,null,null,null,null,null,null,"",null,null,null,null,null,null,null,null,null,null,null,null,null,null,null,null,null,null,null,null,null,null,null,null,null,null,null,null,null,null,null,null,null,null,null,null,null,null,null,null,null,"",null,null,null,null,null,null,null,null,null,null,null,null,null,null,null,null,null,null,null,null,null,null,null,null,null,null,null,null,null,null,null,null,null,null,null,null,null,null,null,null,null,"",null,null,null,null,null,null,null,null,null,null,null,null,null,null,null,null,null,null,null,null,null,null,null,null,null,null,null,null,null,null,null,null,null,null,null,null,null,null,null,null,null,"",null,0,0,0,0,0,0,0,0,0,0,0]
[null,"1900-01-01",null,0,null,null,null,null,null,null,null,null,null,null,null,null,null,null,null,null,null,null,null,null,null,null,null,null,null,null,null,null,null,null,null,null,null,null,null,null,null,null,null,null,null,"",null,null,null,null,null,null,null,null,null,null,null,null,null,null,null,null,null,null,null,null,null,null,null,null,null,null,null,null,null,null,null,null,null,null,null,null,null,null,null,null,null,"",null,null,null,null,null,null,null,null,null,null,null,null,null,null,null,null,null,null,null,null,null,null,null,null,null,null,null,null,null,null,null,null,null,null,null,null,null,null,null,null,null,"",null,null,null,null,null,null,null,null,null,null,null,null,null,null,null,null,null,null,null,null,null,null,null,null,null,null,null,null,null,null,null,null,null,null,null,null,null,null,null,null,null,"",null,null,null,null,null,null,null,null,null,null,null,null,null,null,null,null,null,null,null,null,null,null,null,null,null,null,null,null,null,null,null,null,null,null,null,null,null,null,null,null,null,"",null,null,null,null,null,null,null,null,null,null,null,null,null,null,null,null,null,null,null,null,null,null,null,null,null,null,null,null,null,null,null,null,null,null,null,null,null,null,null,null,null,"",null,null,null,null,null,null,null,null,null,null,null,null,null,null,null,null,null,null,null,null,null,null,null,null,null,null,null,null,null,null,null,null,null,null,null,null,null,null,null,null,null,"",null,null,null,null,null,null,null,null,null,null,null,null,null,null,null,null,null,null,null,null,null,null,null,null,null,null,null,null,null,null,null,null,null,null,null,null,null,null,null,null,null,"",null,null,null,null,null,null,null,null,null,null,null,null,null,null,null,null,null,null,null,null,null,null,null,null,null,null,null,null,null,null,null,null,null,null,null,null,null,null,null,null,null,"",null,null,null,null,null,null,null,null,null,null,null,null,null,null,null,null,null,null,null,null,null,null,null,null,null,null,null,null,null,null,null,null,null,null,null,null,null,null,null,null,null,"",null,0,0,0,0,0,0,0,0,0,0,0]
[null,"1900-01-01",null,0,null,null,null,null,null,null,null,null,null,null,null,null,null,null,null,null,null,null,null,null,null,null,null,null,null,null,null,null,null,null,null,null,null,null,null,null,null,null,null,null,null,"",null,null,null,null,null,null,null,null,null,null,null,null,null,null,null,null,null,null,null,null,null,null,null,null,null,null,null,null,null,null,null,null,null,null,null,null,null,null,null,null,null,"",null,null,null,null,null,null,null,null,null,null,null,null,null,null,null,null,null,null,null,null,null,null,null,null,null,null,null,null,null,null,null,null,null,null,null,null,null,null,null,null,null,"",null,null,null,null,null,null,null,null,null,null,null,null,null,null,null,null,null,null,null,null,null,null,null,null,null,null,null,null,null,null,null,null,null,null,null,null,null,null,null,null,null,"",null,null,null,null,null,null,null,null,null,null,null,null,null,null,null,null,null,null,null,null,null,null,null,null,null,null,null,null,null,null,null,null,null,null,null,null,null,null,null,null,null,"",null,null,null,null,null,null,null,null,null,null,null,null,null,null,null,null,null,null,null,null,null,null,null,null,null,null,null,null,null,null,null,null,null,null,null,null,null,null,null,null,null,"",null,null,null,null,null,null,null,null,null,null,null,null,null,null,null,null,null,null,null,null,null,null,null,null,null,null,null,null,null,null,null,null,null,null,null,null,null,null,null,null,null,"",null,null,null,null,null,null,null,null,null,null,null,null,null,null,null,null,null,null,null,null,null,null,null,null,null,null,null,null,null,null,null,null,null,null,null,null,null,null,null,null,null,"",null,null,null,null,null,null,null,null,null,null,null,null,null,null,null,null,null,null,null,null,null,null,null,null,null,null,null,null,null,null,null,null,null,null,null,null,null,null,null,null,null,"",null,null,null,null,null,null,null,null,null,null,null,null,null,null,null,null,null,null,null,null,null,null,null,null,null,null,null,null,null,null,null,null,null,null,null,null,null,null,null,null,null,"",null,0,0,0,0,0,0,0,0,0,0,0]
[null,"1900-01-01",null,0,null,null,null,null,null,null,null,null,null,null,null,null,null,null,null,null,null,null,null,null,null,null,null,null,null,null,null,null,null,null,null,null,null,null,null,null,null,null,null,null,null,"",null,null,null,null,null,null,null,null,null,null,null,null,null,null,null,null,null,null,null,null,null,null,null,null,null,null,null,null,null,null,null,null,null,null,null,null,null,null,null,null,null,"",null,null,null,null,null,null,null,null,null,null,null,null,null,null,null,null,null,null,null,null,null,null,null,null,null,null,null,null,null,null,null,null,null,null,null,null,null,null,null,null,null,"",null,null,null,null,null,null,null,null,null,null,null,null,null,null,null,null,null,null,null,null,null,null,null,null,null,null,null,null,null,null,null,null,null,null,null,null,null,null,null,null,null,"",null,null,null,null,null,null,null,null,null,null,null,null,null,null,null,null,null,null,null,null,null,null,null,null,null,null,null,null,null,null,null,null,null,null,null,null,null,null,null,null,null,"",null,null,null,null,null,null,null,null,null,null,null,null,null,null,null,null,null,null,null,null,null,null,null,null,null,null,null,null,null,null,null,null,null,null,null,null,null,null,null,null,null,"",null,null,null,null,null,null,null,null,null,null,null,null,null,null,null,null,null,null,null,null,null,null,null,null,null,null,null,null,null,null,null,null,null,null,null,null,null,null,null,null,null,"",null,null,null,null,null,null,null,null,null,null,null,null,null,null,null,null,null,null,null,null,null,null,null,null,null,null,null,null,null,null,null,null,null,null,null,null,null,null,null,null,null,"",null,null,null,null,null,null,null,null,null,null,null,null,null,null,null,null,null,null,null,null,null,null,null,null,null,null,null,null,null,null,null,null,null,null,null,null,null,null,null,null,null,"",null,null,null,null,null,null,null,null,null,null,null,null,null,null,null,null,null,null,null,null,null,null,null,null,null,null,null,null,null,null,null,null,null,null,null,null,null,null,null,null,null,"",null,0,0,0,0,0,0,0,0,0,0,0]
[null,"1900-01-01",null,0,null,null,null,null,null,null,null,null,null,null,null,null,null,null,null,null,null,null,null,null,null,null,null,null,null,null,null,null,null,null,null,null,null,null,null,null,null,null,null,null,null,"",null,null,null,null,null,null,null,null,null,null,null,null,null,null,null,null,null,null,null,null,null,null,null,null,null,null,null,null,null,null,null,null,null,null,null,null,null,null,null,null,null,"",null,null,null,null,null,null,null,null,null,null,null,null,null,null,null,null,null,null,null,null,null,null,null,null,null,null,null,null,null,null,null,null,null,null,null,null,null,null,null,null,null,"",null,null,null,null,null,null,null,null,null,null,null,null,null,null,null,null,null,null,null,null,null,null,null,null,null,null,null,null,null,null,null,null,null,null,null,null,null,null,null,null,null,"",null,null,null,null,null,null,null,null,null,null,null,null,null,null,null,null,null,null,null,null,null,null,null,null,null,null,null,null,null,null,null,null,null,null,null,null,null,null,null,null,null,"",null,null,null,null,null,null,null,null,null,null,null,null,null,null,null,null,null,null,null,null,null,null,null,null,null,null,null,null,null,null,null,null,null,null,null,null,null,null,null,null,null,"",null,null,null,null,null,null,null,null,null,null,null,null,null,null,null,null,null,null,null,null,null,null,null,null,null,null,null,null,null,null,null,null,null,null,null,null,null,null,null,null,null,"",null,null,null,null,null,null,null,null,null,null,null,null,null,null,null,null,null,null,null,null,null,null,null,null,null,null,null,null,null,null,null,null,null,null,null,null,null,null,null,null,null,"",null,null,null,null,null,null,null,null,null,null,null,null,null,null,null,null,null,null,null,null,null,null,null,null,null,null,null,null,null,null,null,null,null,null,null,null,null,null,null,null,null,"",null,null,null,null,null,null,null,null,null,null,null,null,null,null,null,null,null,null,null,null,null,null,null,null,null,null,null,null,null,null,null,null,null,null,null,null,null,null,null,null,null,"",null,0,0,0,0,0,0,0,0,0,0,0]
[null,"1900-01-01",null,0,null,null,null,null,null,null,null,null,null,null,null,null,null,null,null,null,null,null,null,null,null,null,null,null,null,null,null,null,null,null,null,null,null,null,null,null,null,null,null,null,null,"",null,null,null,null,null,null,null,null,null,null,null,null,null,null,null,null,null,null,null,null,null,null,null,null,null,null,null,null,null,null,null,null,null,null,null,null,null,null,null,null,null,"",null,null,null,null,null,null,null,null,null,null,null,null,null,null,null,null,null,null,null,null,null,null,null,null,null,null,null,null,null,null,null,null,null,null,null,null,null,null,null,null,null,"",null,null,null,null,null,null,null,null,null,null,null,null,null,null,null,null,null,null,null,null,null,null,null,null,null,null,null,null,null,null,null,null,null,null,null,null,null,null,null,null,null,"",null,null,null,null,null,null,null,null,null,null,null,null,null,null,null,null,null,null,null,null,null,null,null,null,null,null,null,null,null,null,null,null,null,null,null,null,null,null,null,null,null,"",null,null,null,null,null,null,null,null,null,null,null,null,null,null,null,null,null,null,null,null,null,null,null,null,null,null,null,null,null,null,null,null,null,null,null,null,null,null,null,null,null,"",null,null,null,null,null,null,null,null,null,null,null,null,null,null,null,null,null,null,null,null,null,null,null,null,null,null,null,null,null,null,null,null,null,null,null,null,null,null,null,null,null,"",null,null,null,null,null,null,null,null,null,null,null,null,null,null,null,null,null,null,null,null,null,null,null,null,null,null,null,null,null,null,null,null,null,null,null,null,null,null,null,null,null,"",null,null,null,null,null,null,null,null,null,null,null,null,null,null,null,null,null,null,null,null,null,null,null,null,null,null,null,null,null,null,null,null,null,null,null,null,null,null,null,null,null,"",null,null,null,null,null,null,null,null,null,null,null,null,null,null,null,null,null,null,null,null,null,null,null,null,null,null,null,null,null,null,null,null,null,null,null,null,null,null,null,null,null,"",null,0,0,0,0,0,0,0,0,0,0,0]
[null,null,{"$f":"IF(ABS(D27-365)>4,\"Must have 365 ± 4 days.\",\"\")","v":"Must have 365 ± 4 days."},{"$f":"SUM(D12:D26)","v":0},null,{"$f":"SUM(F12:F26)","v":0},null,{"$f":"SUM(H12:H26)","v":0},null,{"$f":"SUM(J12:J26)","v":0},null,{"$f":"SUM(L12:L26)","v":0},null,{"$f":"SUM(N12:N26)","v":0},null,{"$f":"SUM(P12:P26)","v":0},null,{"$f":"SUM(R12:R26)","v":0},null,{"$f":"SUM(T12:T26)","v":0},null,{"$f":"SUM(V12:V26)","v":0},null,{"$f":"SUM(X12:X26)","v":0},null,{"$f":"SUM(Z12:Z26)","v":0},null,{"$f":"SUM(AB12:AB26)","v":0},null,{"$f":"SUM(AD12:AD26)","v":0},null,{"$f":"SUM(AF12:AF26)","v":0},null,{"$f":"SUM(AH12:AH26)","v":0},null,{"$f":"SUM(AJ12:AJ26)","v":0},null,{"$f":"SUM(AL12:AL26)","v":0},null,{"$f":"SUM(AN12:AN26)","v":0},null,{"$f":"SUM(AP12:AP26)","v":0},null,{"$f":"SUM(AR12:AR26)","v":0},null,{"$f":"SUM(AT12:AT26)","v":0},null,{"$f":"SUM(AV12:AV26)","v":0},null,{"$f":"SUM(AX12:AX26)","v":0},null,{"$f":"SUM(AZ12:AZ26)","v":0},null,{"$f":"SUM(BB12:BB26)","v":0},null,{"$f":"SUM(BD12:BD26)","v":0},null,{"$f":"SUM(BF12:BF26)","v":0},null,{"$f":"SUM(BH12:BH26)","v":0},null,{"$f":"SUM(BJ12:BJ26)","v":0},null,{"$f":"SUM(BL12:BL26)","v":0},null,{"$f":"SUM(BN12:BN26)","v":0},null,{"$f":"SUM(BP12:BP26)","v":0},null,{"$f":"SUM(BR12:BR26)","v":0},null,{"$f":"SUM(BT12:BT26)","v":0},null,{"$f":"SUM(BV12:BV26)","v":0},null,{"$f":"SUM(BX12:BX26)","v":0},null,{"$f":"SUM(BZ12:BZ26)","v":0},null,{"$f":"SUM(CB12:CB26)","v":0},null,{"$f":"SUM(CD12:CD26)","v":0},null,{"$f":"SUM(CF12:CF26)","v":0},null,{"$f":"SUM(CH12:CH26)","v":0},null,{"$f":"SUM(CJ12:CJ26)","v":0},null,{"$f":"SUM(CL12:CL26)","v":0},null,{"$f":"SUM(CN12:CN26)","v":0},null,{"$f":"SUM(CP12:CP26)","v":0},null,{"$f":"SUM(CR12:CR26)","v":0},null,{"$f":"SUM(CT12:CT26)","v":0},null,{"$f":"SUM(CV12:CV26)","v":0},null,{"$f":"SUM(CX12:CX26)","v":0},null,{"$f":"SUM(CZ12:CZ26)","v":0},null,{"$f":"SUM(DB12:DB26)","v":0},null,{"$f":"SUM(DD12:DD26)","v":0},null,{"$f":"SUM(DF12:DF26)","v":0},null,{"$f":"SUM(DH12:DH26)","v":0},null,{"$f":"SUM(DJ12:DJ26)","v":0},null,{"$f":"SUM(DL12:DL26)","v":0},null,{"$f":"SUM(DN12:DN26)","v":0},null,{"$f":"SUM(DP12:DP26)","v":0},null,{"$f":"SUM(DR12:DR26)","v":0},null,{"$f":"SUM(DT12:DT26)","v":0},null,{"$f":"SUM(DV12:DV26)","v":0},null,{"$f":"SUM(DX12:DX26)","v":0},null,{"$f":"SUM(DZ12:DZ26)","v":0},null,{"$f":"SUM(EB12:EB26)","v":0},null,{"$f":"SUM(ED12:ED26)","v":0},null,{"$f":"SUM(EF12:EF26)","v":0},null,{"$f":"SUM(EH12:EH26)","v":0},null,{"$f":"SUM(EJ12:EJ26)","v":0},null,{"$f":"SUM(EL12:EL26)","v":0},null,{"$f":"SUM(EN12:EN26)","v":0},null,{"$f":"SUM(EP12:EP26)","v":0},null,{"$f":"SUM(ER12:ER26)","v":0},null,{"$f":"SUM(ET12:ET26)","v":0},null,{"$f":"SUM(EV12:EV26)","v":0},null,{"$f":"SUM(EX12:EX26)","v":0},null,{"$f":"SUM(EZ12:EZ26)","v":0},null,{"$f":"SUM(FB12:FB26)","v":0},null,{"$f":"SUM(FD12:FD26)","v":0},null,{"$f":"SUM(FF12:FF26)","v":0},null,{"$f":"SUM(FH12:FH26)","v":0},null,{"$f":"SUM(FJ12:FJ26)","v":0},null,{"$f":"SUM(FL12:FL26)","v":0},null,{"$f":"SUM(FN12:FN26)","v":0},null,{"$f":"SUM(FP12:FP26)","v":0},null,{"$f":"SUM(FR12:FR26)","v":0},null,{"$f":"SUM(FT12:FT26)","v":0},null,{"$f":"SUM(FV12:FV26)","v":0},null,{"$f":"SUM(FX12:FX26)","v":0},null,{"$f":"SUM(FZ12:FZ26)","v":0},null,{"$f":"SUM(GB12:GB26)","v":0},null,{"$f":"SUM(GD12:GD26)","v":0},null,{"$f":"SUM(GF12:GF26)","v":0},null,{"$f":"SUM(GH12:GH26)","v":0},null,{"$f":"SUM(GJ12:GJ26)","v":0},null,{"$f":"SUM(GL12:GL26)","v":0},null,{"$f":"SUM(GN12:GN26)","v":0},null,{"$f":"SUM(GP12:GP26)","v":0},null,{"$f":"SUM(GR12:GR26)","v":0},null,{"$f":"SUM(GT12:GT26)","v":0},null,{"$f":"SUM(GV12:GV26)","v":0},null,{"$f":"SUM(GX12:GX26)","v":0},null,{"$f":"SUM(GZ12:GZ26)","v":0},null,{"$f":"SUM(HB12:HB26)","v":0},null,{"$f":"SUM(HD12:HD26)","v":0},null,{"$f":"SUM(HF12:HF26)","v":0},null,{"$f":"SUM(HH12:HH26)","v":0},null,{"$f":"SUM(HJ12:HJ26)","v":0},null,{"$f":"SUM(HL12:HL26)","v":0},null,{"$f":"SUM(HN12:HN26)","v":0},null,{"$f":"SUM(HP12:HP26)","v":0},null,{"$f":"SUM(HR12:HR26)","v":0},null,{"$f":"SUM(HT12:HT26)","v":0},null,{"$f":"SUM(HV12:HV26)","v":0},null,{"$f":"SUM(HX12:HX26)","v":0},null,{"$f":"SUM(HZ12:HZ26)","v":0},null,{"$f":"SUM(IB12:IB26)","v":0},null,{"$f":"SUM(ID12:ID26)","v":0},null,{"$f":"SUM(IF12:IF26)","v":0},null,{"$f":"SUM(IH12:IH26)","v":0},null,{"$f":"SUM(IJ12:IJ26)","v":0},null,{"$f":"SUM(IL12:IL26)","v":0},null,{"$f":"SUM(IN12:IN26)","v":0},null,{"$f":"SUM(IP12:IP26)","v":0},null,{"$f":"SUM(IR12:IR26)","v":0},null,{"$f":"SUM(IT12:IT26)","v":0},null,{"$f":"SUM(IV12:IV26)","v":0},null,{"$f":"SUM(IX12:IX26)","v":0},null,{"$f":"SUM(IZ12:IZ26)","v":0},null,{"$f":"SUM(JB12:JB26)","v":0},null,{"$f":"SUM(JD12:JD26)","v":0},null,{"$f":"SUM(JF12:JF26)","v":0},null,{"$f":"SUM(JH12:JH26)","v":0},null,{"$f":"SUM(JJ12:JJ26)","v":0},null,{"$f":"SUM(JL12:JL26)","v":0},null,{"$f":"SUM(JN12:JN26)","v":0},null,{"$f":"SUM(JP12:JP26)","v":0},null,{"$f":"SUM(JR12:JR26)","v":0},null,{"$f":"SUM(JT12:JT26)","v":0},null,{"$f":"SUM(JV12:JV26)","v":0},null,{"$f":"SUM(JX12:JX26)","v":0},null,{"$f":"SUM(JZ12:JZ26)","v":0},null,{"$f":"SUM(KB12:KB26)","v":0},null,{"$f":"SUM(KD12:KD26)","v":0},null,{"$f":"SUM(KF12:KF26)","v":0},null,{"$f":"SUM(KH12:KH26)","v":0},null,{"$f":"SUM(KJ12:KJ26)","v":0},null,{"$f":"SUM(KL12:KL26)","v":0},null,{"$f":"SUM(KN12:KN26)","v":0},null,{"$f":"SUM(KP12:KP26)","v":0},null,{"$f":"SUM(KR12:KR26)","v":0},null,{"$f":"SUM(KT12:KT26)","v":0},null,{"$f":"SUM(KV12:KV26)","v":0},null,{"$f":"SUM(KX12:KX26)","v":0},null,{"$f":"SUM(KZ12:KZ26)","v":0},null,{"$f":"SUM(LB12:LB26)","v":0},null,{"$f":"SUM(LD12:LD26)","v":0},null,{"$f":"SUM(LF12:LF26)","v":0},null,{"$f":"SUM(LH12:LH26)","v":0},null,{"$f":"SUM(LJ12:LJ26)","v":0},null,{"$f":"SUM(LL12:LL26)","v":0},null,{"$f":"SUM(LN12:LN26)","v":0},null,{"$f":"SUM(LP12:LP26)","v":0},null,{"$f":"SUM(LR12:LR26)","v":0},null,{"$f":"SUM(LT12:LT26)","v":0},null,{"$f":"SUM(LV12:LV26)","v":0},null,{"$f":"SUM(LX12:LX26)","v":0},null,{"$f":"SUM(LZ12:LZ26)","v":0},null,{"$f":"SUM(MB12:MB26)","v":0},null,{"$f":"SUM(MD12:MD26)","v":0},null,{"$f":"SUM(MF12:MF26)","v":0},null,{"$f":"SUM(MH12:MH26)","v":0},null,{"$f":"SUM(MJ12:MJ26)","v":0},null,{"$f":"SUM(ML12:ML26)","v":0},null,{"$f":"SUM(MN12:MN26)","v":0},null,{"$f":"SUM(MP12:MP26)","v":0},null,{"$f":"SUM(MR12:MR26)","v":0},null,{"$f":"SUM(MT12:MT26)","v":0},null,{"$f":"SUM(MV12:MV26)","v":0},null,{"$f":"SUM(MX12:MX26)","v":0},null,{"$f":"SUM(MZ12:MZ26)","v":0},null,{"$f":"SUM(NB12:NB26)","v":0},null,{"$f":"SUM(ND12:ND26)","v":0},null,{"$f":"SUM(NF12:NF26)","v":0},null,{"$f":"SUM(NH12:NH26)","v":0},null,{"$f":"SUM(NJ12:NJ26)","v":0},null,{"$f":"SUM(NL12:NL26)","v":0},null,{"$f":"SUM(NN12:NN26)","v":0},null,{"$f":"SUM(NP12:NP26)","v":0},null,{"$f":"SUM(NR12:NR26)","v":0},null,{"$f":"SUM(NT12:NT26)","v":0},null,{"$f":"SUM(NV12:NV26)","v":0},null,{"$f":"SUM(NX12:NX26)","v":0},null,{"$f":"SUM(NZ12:NZ26)","v":0},null,{"$f":"SUM(OB12:OB26)","v":0},null,{"$f":"SUM(OD12:OD26)","v":0},null,{"$f":"SUM(OF12:OF26)","v":0},null,{"$f":"SUM(OH12:OH26)","v":0},null,{"$f":"SUM(OJ12:OJ26)","v":0},null,{"$f":"SUM(OL12:OL26)","v":0},null,{"$f":"SUM(ON12:ON26)","v":0},null,{"$f":"SUM(OP12:OP26)","v":0},null,{"$f":"SUM(OR12:OR26)","v":0},null,{"$f":"SUM(OT12:OT26)","v":0},null,{"$f":"SUM(OV12:OV26)","v":0},null,{"$f":"SUM(OX12:OX26)","v":0},null,{"$f":"SUM(OZ12:OZ26)","v":0},null,{"$f":"SUM(PB12:PB26)","v":0},null,{"$f":"SUM(PD12:PD26)","v":0},null,{"$f":"SUM(PF12:PF26)","v":0},null,{"$f":"SUM(PH12:PH26)","v":0},null,{"$f":"SUM(PJ12:PJ26)","v":0},0,0,0,0,0,0,0,0,0,0]
[]
[null,null,null,null,null,"Total Annual kWh Cost",null,"Total Annual kWh Cost",null,"Total Annual kWh Cost",null,"Total Annual kWh Cost",null,"Total Annual kWh Cost",null,"Total Annual kWh Cost",null,"Total Annual kWh Cost",null,"Total Annual kWh Cost",null,"Total Annual kWh Cost",null,"Total Annual kWh Cost",null,"Total Annual kWh Cost",null,"Total Annual kWh Cost",null,"Total Annual kWh Cost",null,"Total Annual kWh Cost",null,"Total Annual kWh Cost",null,"Total Annual kWh Cost",null,"Total Annual kWh Cost",null,"Total Annual kWh Cost",null,"Total Annual kWh Cost",null,"Total Annual kWh Cost",null,"Average Annual kWh  Cost",null,"Total Annual kWh Cost",null,"Total Annual kWh Cost",null,"Total Annual kWh Cost",null,"Total Annual kWh Cost",null,"Total Annual kWh Cost",null,"Total Annual kWh Cost",null,"Total Annual kWh Cost",null,"Total Annual kWh Cost",null,"Total Annual kWh Cost",null,"Total Annual kWh Cost",null,"Total Annual kWh Cost",null,"Total Annual kWh Cost",null,"Total Annual kWh Cost",null,"Total Annual kWh Cost",null,"Total Annual kWh Cost",null,"Total Annual kWh Cost",null,"Total Annual kWh Cost",null,"Total Annual kWh Cost",null,"Total Annual kWh Cost",null,"Total Annual kWh Cost",null,"Average Annual kWh  Cost",null,"Total Annual kWh Cost",null,"Total Annual kWh Cost",null,"Total Annual kWh Cost",null,"Total Annual kWh Cost",null,"Total Annual kWh Cost",null,"Total Annual kWh Cost",null,"Total Annual kWh Cost",null,"Total Annual kWh Cost",null,"Total Annual kWh Cost",null,"Total Annual kWh Cost",null,"Total Annual kWh Cost",null,"Total Annual kWh Cost",null,"Total Annual kWh Cost",null,"Total Annual kWh Cost",null,"Total Annual kWh Cost",null,"Total Annual kWh Cost",null,"Total Annual kWh Cost",null,"Total Annual kWh Cost",null,"Total Annual kWh Cost",null,"Total Annual kWh Cost",null,"Average Annual kWh  Cost",null,"Total Annual kWh Cost",null,"Total Annual kWh Cost",null,"Total Annual kWh Cost",null,"Total Annual kWh Cost",null,"Total Annual kWh Cost",null,"Total Annual kWh Cost",null,"Total Annual kWh Cost",null,"Total Annual kWh Cost",null,"Total Annual kWh Cost",null,"Total Annual kWh Cost",null,"Total Annual kWh Cost",null,"Total Annual kWh Cost",null,"Total Annual kWh Cost",null,"Total Annual kWh Cost",null,"Total Annual kWh Cost",null,"Total Annual kWh Cost",null,"Total Annual kWh Cost",null,"Total Annual kWh Cost",null,"Total Annual kWh Cost",null,"Total Annual kWh Cost",null,"Average Annual kWh  Cost",null,"Total Annual kWh Cost",null,"Total Annual kWh Cost",null,"Total Annual kWh Cost",null,"Total Annual kWh Cost",null,"Total Annual kWh Cost",null,"Total Annual kWh Cost",null,"Total Annual kWh Cost",null,"Total Annual kWh Cost",null,"Total Annual kWh Cost",null,"Total Annual kWh Cost",null,"Total Annual kWh Cost",null,"Total Annual kWh Cost",null,"Total Annual kWh Cost",null,"Total Annual kWh Cost",null,"Total Annual kWh Cost",null,"Total Annual kWh Cost",null,"Total Annual kWh Cost",null,"Total Annual kWh Cost",null,"Total Annual kWh Cost",null,"Total Annual kWh Cost",null,"Average Annual kWh  Cost",null,"Total Annual kWh Cost",null,"Total Annual kWh Cost",null,"Total Annual kWh Cost",null,"Total Annual kWh Cost",null,"Total Annual kWh Cost",null,"Total Annual kWh Cost",null,"Total Annual kWh Cost",null,"Total Annual kWh Cost",null,"Total Annual kWh Cost",null,"Total Annual kWh Cost",null,"Total Annual kWh Cost",null,"Total Annual kWh Cost",null,"Total Annual kWh Cost",null,"Total Annual kWh Cost",null,"Total Annual kWh Cost",null,"Total Annual kWh Cost",null,"Total Annual kWh Cost",null,"Total Annual kWh Cost",null,"Total Annual kWh Cost",null,"Total Annual kWh Cost",null,"Average Annual kWh  Cost",null,"Total Annual kWh Cost",null,"Total Annual kWh Cost",null,"Total Annual kWh Cost",null,"Total Annual kWh Cost",null,"Total Annual kWh Cost",null,"Total Annual kWh Cost",null,"Total Annual kWh Cost",null,"Total Annual kWh Cost",null,"Total Annual kWh Cost",null,"Total Annual kWh Cost",null,"Total Annual kWh Cost",null,"Total Annual kWh Cost",null,"Total Annual kWh Cost",null,"Total Annual kWh Cost",null,"Total Annual kWh Cost",null,"Total Annual kWh Cost",null,"Total Annual kWh Cost",null,"Total Annual kWh Cost",null,"Total Annual kWh Cost",null,"Total Annual kWh Cost",null,"Average Annual kWh  Cost",null,"Total Annual kWh Cost",null,"Total Annual kWh Cost",null,"Total Annual kWh Cost",null,"Total Annual kWh Cost",null,"Total Annual kWh Cost",null,"Total Annual kWh Cost",null,"Total Annual kWh Cost",null,"Total Annual kWh Cost",null,"Total Annual kWh Cost",null,"Total Annual kWh Cost",null,"Total Annual kWh Cost",null,"Total Annual kWh Cost",null,"Total Annual kWh Cost",null,"Total Annual kWh Cost",null,"Total Annual kWh Cost",null,"Total Annual kWh Cost",null,"Total Annual kWh Cost",null,"Total Annual kWh Cost",null,"Total Annual kWh Cost",null,"Total Annual kWh Cost",null,"Average Annual kWh  Cost",null,"Total Annual kWh Cost",null,"Total Annual kWh Cost",null,"Total Annual kWh Cost",null,"Total Annual kWh Cost",null,"Total Annual kWh Cost",null,"Total Annual kWh Cost",null,"Total Annual kWh Cost",null,"Total Annual kWh Cost",null,"Total Annual kWh Cost",null,"Total Annual kWh Cost",null,"Total Annual kWh Cost",null,"Total Annual kWh Cost",null,"Total Annual kWh Cost",null,"Total Annual kWh Cost",null,"Total Annual kWh Cost",null,"Total Annual kWh Cost",null,"Total Annual kWh Cost",null,"Total Annual kWh Cost",null,"Total Annual kWh Cost",null,"Total Annual kWh Cost",null,"Average Annual kWh  Cost",null,"Total Annual kWh Cost",null,"Total Annual kWh Cost",null,"Total Annual kWh Cost",null,"Total Annual kWh Cost",null,"Total Annual kWh Cost",null,"Total Annual kWh Cost",null,"Total Annual kWh Cost",null,"Total Annual kWh Cost",null,"Total Annual kWh Cost",null,"Total Annual kWh Cost",null,"Total Annual kWh Cost",null,"Total Annual kWh Cost",null,"Total Annual kWh Cost",null,"Total Annual kWh Cost",null,"Total Annual kWh Cost",null,"Total Annual kWh Cost",null,"Total Annual kWh Cost",null,"Total Annual kWh Cost",null,"Total Annual kWh Cost",null,"Total Annual kWh Cost",null,"Average Annual kWh  Cost",null,"Average Annual kWh  Cost","Average Annual kWh  Cost","Average Annual kWh  Cost","Average Annual kWh  Cost","Average Annual kWh  Cost","Average Annual kWh  Cost","Average Annual kWh  Cost","Average Annual kWh  Cost","Average Annual kWh  Cost","Average Annual kWh  Cost","Total In-Unit Annual kWh  Cost"]
[null,null,null,null,null,null,null,null,null,null,null,null,null,null,null,null,null,null,null,null,null,null,null,null,null,null,null,null,null,null,null,null,null,null,null,null,null,null,null,null,null,null,null,null,null,{"$f":"IF(F30>0,AVERAGE(F30:AR30),0)","v":0},null,null,null,null,null,null,null,null,null,null,null,null,null,null,null,null,null,null,null,null,null,null,null,null,null,null,null,null,null,null,null,null,null,null,null,null,null,null,null,null,null,{"$f":"IF(AV30>0,AVERAGE(AV30:CH30),0)","v":0},null,null,null,null,null,null,null,null,null,null,null,null,null,null,null,null,null,null,null,null,null,null,null,null,null,null,null,null,null,null,null,null,null,null,null,null,null,null,null,null,null,{"$f":"IF(CL30>0,AVERAGE(CL30:DY30),0)","v":0},null,null,null,null,null,null,null,null,null,null,null,null,null,null,null,null,null,null,null,null,null,null,null,null,null,null,null,null,null,null,null,null,null,null,null,null,null,null,null,null,null,{"$f":"IF(EB30>0,AVERAGE(EB30:FN30),0)","v":0},null,null,null,null,null,null,null,null,null,null,null,null,null,null,null,null,null,null,null,null,null,null,null,null,null,null,null,null,null,null,null,null,null,null,null,null,null,null,null,null,null,{"$f":"IF(FR30>0,AVERAGE(FR30:HD30),0)","v":0},null,null,null,null,null,null,null,null,null,null,null,null,null,null,null,null,null,null,null,null,null,null,null,null,null,null,null,null,null,null,null,null,null,null,null,null,null,null,null,null,null,{"$f":"IF(HH30>0,AVERAGE(HH30:IT30),0)","v":0},null,null,null,null,null,null,null,null,null,null,null,null,null,null,null,null,null,null,null,null,null,null,null,null,null,null,null,null,null,null,null,null,null,null,null,null,null,null,null,null,null,{"$f":"IF(IX30>0,AVERAGE(IX30:KJ30),0)","v":0},null,null,null,null,null,null,null,null,null,null,null,null,null,null,null,null,null,null,null,null,null,null,null,null,null,null,null,null,null,null,null,null,null,null,null,null,null,null,null,null,null,{"$f":"IF(KN30>0,AVERAGE(KN30:LZ30),0)","v":0},null,null,null,null,null,null,null,null,null,null,null,null,null,null,null,null,null,null,null,null,null,null,null,null,null,null,null,null,null,null,null,null,null,null,null,null,null,null,null,null,null,{"$f":"IF(MD30>0,AVERAGE(MD30:NP30),0)","v":0},null,null,null,null,null,null,null,null,null,null,null,null,null,null,null,null,null,null,null,null,null,null,null,null,null,null,null,null,null,null,null,null,null,null,null,null,null,null,null,null,null,{"$f":"IF(NT30>0,AVERAGE(NT30:PF30),0)","v":0},null,{"$f":"AT30","v":0},{"$f":"CJ30","v":0},{"$f":"DZ30","v":0},{"$f":"FP30","v":0},{"$f":"HF30","v":0},{"$f":"IV30","v":0},{"$f":"KL30","v":0},{"$f":"MB30","v":0},{"$f":"NR30","v":0},{"$f":"PH30","v":0},{"$f":"SUMPRODUCT($PJ$8:$PS$8,PJ30:PS30)","v":0}]
[]
[null,"Post-Construction In-Unit Billing Dates",null,null,null,{"$f":"F5","v":"Unit Type 1 - "},null,null,null,null,null,null,null,null,null,null,null,null,null,null,null,null,null,null,null,null,null,null,null,null,null,null,null,null,null,null,null,null,null,null,null,null,null,null,null,null,null,{"$f":"AV5","v":"Unit Type 2 - "},null,null,null,null,null,null,null,null,null,null,null,null,null,null,null,null,null,null,null,null,null,null,null,null,null,null,null,null,null,null,null,null,null,null,null,null,null,null,null,null,null,{"$f":"CL5","v":"Unit Type 3 - "},null,null,null,null,null,null,null,null,null,null,null,null,null,null,null,null,null,null,null,null,null,null,null,null,null,null,null,null,null,null,null,null,null,null,null,null,null,null,null,null,null,{"$f":"EB5","v":"Unit Type 4 - "},null,null,null,null,null,null,null,null,null,null,null,null,null,null,null,null,null,null,null,null,null,null,null,null,null,null,null,null,null,null,null,null,null,null,null,null,null,null,null,null,null,{"$f":"FR5","v":"Unit Type 5 - "},null,null,null,null,null,null,null,null,null,null,null,null,null,null,null,null,null,null,null,null,null,null,null,null,null,null,null,null,null,null,null,null,null,null,null,null,null,null,null,null,null,{"$f":"HH5","v":"Unit Type 6 - "},null,null,null,null,null,null,null,null,null,null,null,null,null,null,null,null,null,null,null,null,null,null,null,null,null,null,null,null,null,null,null,null,null,null,null,null,null,null,null,null,null,{"$f":"IX5","v":"Unit Type 7 - "},null,null,null,null,null,null,null,null,null,null,null,null,null,null,null,null,null,null,null,null,null,null,null,null,null,null,null,null,null,null,null,null,null,null,null,null,null,null,null,null,null,{"$f":"KN5","v":"Unit Type 8 - "},null,null,null,null,null,null,null,null,null,null,null,null,null,null,null,null,null,null,null,null,null,null,null,null,null,null,null,null,null,null,null,null,null,null,null,null,null,null,null,null,null,{"$f":"MD5","v":"Unit Type 9 - "},null,null,null,null,null,null,null,null,null,null,null,null,null,null,null,null,null,null,null,null,null,null,null,null,null,null,null,null,null,null,null,null,null,null,null,null,null,null,null,null,null,{"$f":"NT5","v":"Unit Type 10 - "},null,null,null,null,null,null,null,null,null,null,null,null,null,null,null,null,null,null,null,null,null,null,null,null,null,null,null,null,null,null,null,null,null,null,null,null,null,null,null,null,null,"POST-CONSTRUCTION\nSummary of In-Unit Electricity Use"]
[null,null,null,null,null,"Unit #:",null,"Unit #:",null,"Unit #:",null,"Unit #:",null,"Unit #:",null,"Unit #:",null,"Unit #:",null,"Unit #:",null,"Unit #:",null,"Unit #:",null,"Unit #:",null,"Unit #:",null,"Unit #:",null,"Unit #:",null,"Unit #:",null,"Unit #:",null,"Unit #:",null,"Unit #:",null,"Unit #:",null,"Unit #:",null,"SUMMARY",null,"Unit #:",null,"Unit #:",null,"Unit #:",null,"Unit #:",null,"Unit #:",null,"Unit #:",null,"Unit #:",null,"Unit #:",null,"Unit #:",null,"Unit #:",null,"Unit #:",null,"Unit #:",null,"Unit #:",null,"Unit #:",null,"Unit #:",null,"Unit #:",null,"Unit #:",null,"Unit #:",null,"Unit #:",null,"Unit #:",null,"SUMMARY",null,"Unit #:",null,"Unit #:",null,"Unit #:",null,"Unit #:",null,"Unit #:",null,"Unit #:",null,"Unit #:",null,"Unit #:",null,"Unit #:",null,"Unit #:",null,"Unit #:",null,"Unit #:",null,"Unit #:",null,"Unit #:",null,"Unit #:",null,"Unit #:",null,"Unit #:",null,"Unit #:",null,"Unit #:",null,"Unit #:",null,"SUMMARY",null,"Unit #:",null,"Unit #:",null,"Unit #:",null,"Unit #:",null,"Unit #:",null,"Unit #:",null,"Unit #:",null,"Unit #:",null,"Unit #:",null,"Unit #:",null,"Unit #:",null,"Unit #:",null,"Unit #:",null,"Unit #:",null,"Unit #:",null,"Unit #:",null,"Unit #:",null,"Unit #:",null,"Unit #:",null,"Unit #:",null,"SUMMARY",null,"Unit #:",null,"Unit #:",null,"Unit #:",null,"Unit #:",null,"Unit #:",null,"Unit #:",null,"Unit #:",null,"Unit #:",null,"Unit #:",null,"Unit #:",null,"Unit #:",null,"Unit #:",null,"Unit #:",null,"Unit #:",null,"Unit #:",null,"Unit #:",null,"Unit #:",null,"Unit #:",null,"Unit #:",null,"Unit #:",null,"SUMMARY",null,"Unit #:",null,"Unit #:",null,"Unit #:",null,"Unit #:",null,"Unit #:",null,"Unit #:",null,"Unit #:",null,"Unit #:",null,"Unit #:",null,"Unit #:",null,"Unit #:",null,"Unit #:",null,"Unit #:",null,"Unit #:",null,"Unit #:",null,"Unit #:",null,"Unit #:",null,"Unit #:",null,"Unit #:",null,"Unit #:",null,"SUMMARY",null,"Unit #:",null,"Unit #:",null,"Unit #:",null,"Unit #:",null,"Unit #:",null,"Unit #:",null,"Unit #:",null,"Unit #:",null,"Unit #:",null,"Unit #:",null,"Unit #:",null,"Unit #:",null,"Unit #:",null,"Unit #:",null,"Unit #:",null,"Unit #:",null,"Unit #:",null,"Unit #:",null,"Unit #:",null,"Unit #:",null,"SUMMARY",null,"Unit #:",null,"Unit #:",null,"Unit #:",null,"Unit #:",null,"Unit #:",null,"Unit #:",null,"Unit #:",null,"Unit #:",null,"Unit #:",null,"Unit #:",null,"Unit #:",null,"Unit #:",null,"Unit #:",null,"Unit #:",null,"Unit #:",null,"Unit #:",null,"Unit #:",null,"Unit #:",null,"Unit #:",null,"Unit #:",null,"SUMMARY",null,"Unit #:",null,"Unit #:",null,"Unit #:",null,"Unit #:",null,"Unit #:",null,"Unit #:",null,"Unit #:",null,"Unit #:",null,"Unit #:",null,"Unit #:",null,"Unit #:",null,"Unit #:",null,"Unit #:",null,"Unit #:",null,"Unit #:",null,"Unit #:",null,"Unit #:",null,"Unit #:",null,"Unit #:",null,"Unit #:",null,"SUMMARY",null,"Unit #:",null,"Unit #:",null,"Unit #:",null,"Unit #:",null,"Unit #:",null,"Unit #:",null,"Unit #:",null,"Unit #:",null,"Unit #:",null,"Unit #:",null,"Unit #:",null,"Unit #:",null,"Unit #:",null,"Unit #:",null,"Unit #:",null,"Unit #:",null,"Unit #:",null,"Unit #:",null,"Unit #:",null,"Unit #:",null,"SUMMARY"]
[]
[null,null,null,null,null,"Account #:",null,"Account #:",null,"Account #:",null,"Account #:",null,"Account #:",null,"Account #:",null,"Account #:",null,"Account #:",null,"Account #:",null,"Account #:",null,"Account #:",null,"Account #:",null,"Account #:",null,"Account #:",null,"Account #:",null,"Account #:",null,"Account #:",null,"Account #:",null,"Account #:",null,"Account #:",null,null,null,"Account #:",null,"Account #:",null,"Account #:",null,"Account #:",null,"Account #:",null,"Account #:",null,"Account #:",null,"Account #:",null,"Account #:",null,"Account #:",null,"Account #:",null,"Account #:",null,"Account #:",null,"Account #:",null,"Account #:",null,"Account #:",null,"Account #:",null,"Account #:",null,"Account #:",null,"Account #:",null,null,null,"Account #:",null,"Account #:",null,"Account #:",null,"Account #:",null,"Account #:",null,"Account #:",null,"Account #:",null,"Account #:",null,"Account #:",null,"Account #:",null,"Account #:",null,"Account #:",null,"Account #:",null,"Account #:",null,"Account #:",null,"Account #:",null,"Account #:",null,"Account #:",null,"Account #:",null,"Account #:",null,null,null,"Account #:",null,"Account #:",null,"Account #:",null,"Account #:",null,"Account #:",null,"Account #:",null,"Account #:",null,"Account #:",null,"Account #:",null,"Account #:",null,"Account #:",null,"Account #:",null,"Account #:",null,"Account #:",null,"Account #:",null,"Account #:",null,"Account #:",null,"Account #:",null,"Account #:",null,"Account #:",null,null,null,"Account #:",null,"Account #:",null,"Account #:",null,"Account #:",null,"Account #:",null,"Account #:",null,"Account #:",null,"Account #:",null,"Account #:",null,"Account #:",null,"Account #:",null,"Account #:",null,"Account #:",null,"Account #:",null,"Account #:",null,"Account #:",null,"Account #:",null,"Account #:",null,"Account #:",null,"Account #:",null,null,null,"Account #:",null,"Account #:",null,"Account #:",null,"Account #:",null,"Account #:",null,"Account #:",null,"Account #:",null,"Account #:",null,"Account #:",null,"Account #:",null,"Account #:",null,"Account #:",null,"Account #:",null,"Account #:",null,"Account #:",null,"Account #:",null,"Account #:",null,"Account #:",null,"Account #:",null,"Account #:",null,null,null,"Account #:",null,"Account #:",null,"Account #:",null,"Account #:",null,"Account #:",null,"Account #:",null,"Account #:",null,"Account #:",null,"Account #:",null,"Account #:",null,"Account #:",null,"Account #:",null,"Account #:",null,"Account #:",null,"Account #:",null,"Account #:",null,"Account #:",null,"Account #:",null,"Account #:",null,"Account #:",null,null,null,"Account #:",null,"Account #:",null,"Account #:",null,"Account #:",null,"Account #:",null,"Account #:",null,"Account #:",null,"Account #:",null,"Account #:",null,"Account #:",null,"Account #:",null,"Account #:",null,"Account #:",null,"Account #:",null,"Account #:",null,"Account #:",null,"Account #:",null,"Account #:",null,"Account #:",null,"Account #:",null,null,null,"Account #:",null,"Account #:",null,"Account #:",null,"Account #:",null,"Account #:",null,"Account #:",null,"Account #:",null,"Account #:",null,"Account #:",null,"Account #:",null,"Account #:",null,"Account #:",null,"Account #:",null,"Account #:",null,"Account #:",null,"Account #:",null,"Account #:",null,"Account #:",null,"Account #:",null,"Account #:",null,null,null,"Account #:",null,"Account #:",null,"Account #:",null,"Account #:",null,"Account #:",null,"Account #:",null,"Account #:",null,"Account #:",null,"Account #:",null,"Account #:",null,"Account #:",null,"Account #:",null,"Account #:",null,"Account #:",null,"Account #:",null,"Account #:",null,"Account #:",null,"Account #:",null,"Account #:",null,"Account #:",null,null,null,{"$f":"PJ8","v":0},{"$f":"PK8","v":0},0,0,0,0,0,0,0,0]
[null,null,null,null,null,null,null,null,null,null,null,null,null,null,null,null,null,null,null,null,null,null,null,null,null,null,null,null,null,null,null,null,null,null,null,null,null,null,null,null,null,null,null,null,null,null,null,null,null,null,null,null,null,null,null,null,null,null,null,null,null,null,null,null,null,null,null,null,null,null,null,null,null,null,null,null,null,null,null,null,null,null,null,null,null,null,null,null,null,null,null,null,null,null,null,null,null,null,null,null,null,null,null,null,null,null,null,null,null,null,null,null,null,null,null,null,null,null,null,null,null,null,null,null,null,null,null,null,null,null,null,null,null,null,null,null,null,null,null,null,null,null,null,null,null,null,null,null,null,null,null,null,null,null,null,null,null,null,null,null,null,null,null,null,null,null,null,null,null,null,null,null,null,null,null,null,null,null,null,null,null,null,null,null,null,null,null,null,null,null,null,null,null,null,null,null,null,null,null,null,null,null,null,null,null,null,null,null,null,null,null,null,null,null,null,null,null,null,null,null,null,null,null,null,null,null,null,null,null,null,null,null,null,null,null,null,null,null,null,null,null,null,null,null,null,null,null,null,null,null,null,null,null,null,null,null,null,null,null,null,null,null,null,null,null,null,null,null,null,null,null,null,null,null,null,null,null,null,null,null,null,null,null,null,null,null,null,null,null,null,null,null,null,null,null,null,null,null,null,null,null,null,null,null,null,null,null,null,null,null,null,null,null,null,null,null,null,null,null,null,null,null,null,null,null,null,null,null,null,null,null,null,null,null,null,null,null,null,null,null,null,null,null,null,null,null,null,null,null,null,null,null,null,null,null,null,null,null,null,null,null,null,null,null,null,null,null,null,null,null,null,null,null,null,null,null,null,null,null,null,null,null,null,null,null,null,null,null,null,null,null,null,null,null,null,null,null,null,null,null,null,null,null,null,null,null,null,null,null,null,null,null,null,null,null,null,null,null,null,null,null,null,null,null,null,{"$f":"PJ9","v":"Unit Type 1"},"Unit Type 2","Unit Type 3","Unit Type 4","Unit Type 5","Unit Type 6","Unit Type 7","Unit Type 8","Unit Type 9","Unit Type 10","SUMMARY"]
[null,"Billing Period Start Date","Read Date","Days in Billing Period",null,"kWh","Actual/ Estimated","kWh","Actual/ Estimated","kWh","Actual/ Estimated","kWh","Actual/ Estimated","kWh","Actual/ Estimated","kWh","Actual/ Estimated","kWh","Actual/ Estimated","kWh","Actual/ Estimated","kWh","Actual/ Estimated","kWh","Actual/ Estimated","kWh","Actual/ Estimated","kWh","Actual/ Estimated","kWh","Actual/ Estimated","kWh","Actual/ Estimated","kWh","Actual/ Estimated","kWh","Actual/ Estimated","kWh","Actual/ Estimated","kWh","Actual/ Estimated","kWh","Actual/ Estimated","kWh","Actual/ Estimated","Average kWh Consumption",null,"kWh","Actual/ Estimated","kWh","Actual/ Estimated","kWh","Actual/ Estimated","kWh","Actual/ Estimated","kWh","Actual/ Estimated","kWh","Actual/ Estimated","kWh","Actual/ Estimated","kWh","Actual/ Estimated","kWh","Actual/ Estimated","kWh","Actual/ Estimated","kWh","Actual/ Estimated","kWh","Actual/ Estimated","kWh","Actual/ Estimated","kWh","Actual/ Estimated","kWh","Actual/ Estimated","kWh","Actual/ Estimated","kWh","Actual/ Estimated","kWh","Actual/ Estimated","kWh","Actual/ Estimated","kWh","Actual/ Estimated","Average kWh Consumption",null,"kWh","Actual/ Estimated","kWh","Actual/ Estimated","kWh","Actual/ Estimated","kWh","Actual/ Estimated","kWh","Actual/ Estimated","kWh","Actual/ Estimated","kWh","Actual/ Estimated","kWh","Actual/ Estimated","kWh","Actual/ Estimated","kWh","Actual/ Estimated","kWh","Actual/ Estimated","kWh","Actual/ Estimated","kWh","Actual/ Estimated","kWh","Actual/ Estimated","kWh","Actual/ Estimated","kWh","Actual/ Estimated","kWh","Actual/ Estimated","kWh","Actual/ Estimated","kWh","Actual/ Estimated","kWh","Actual/ Estimated","Average kWh Consumption",null,"kWh","Actual/ Estimated","kWh","Actual/ Estimated","kWh","Actual/ Estimated","kWh","Actual/ Estimated","kWh","Actual/ Estimated","kWh","Actual/ Estimated","kWh","Actual/ Estimated","kWh","Actual/ Estimated","kWh","Actual/ Estimated","kWh","Actual/ Estimated","kWh","Actual/ Estimated","kWh","Actual/ Estimated","kWh","Actual/ Estimated","kWh","Actual/ Estimated","kWh","Actual/ Estimated","kWh","Actual/ Estimated","kWh","Actual/ Estimated","kWh","Actual/ Estimated","kWh","Actual/ Estimated","kWh","Actual/ Estimated","Average kWh Consumption",null,"kWh","Actual/ Estimated","kWh","Actual/ Estimated","kWh","Actual/ Estimated","kWh","Actual/ Estimated","kWh","Actual/ Estimated","kWh","Actual/ Estimated","kWh","Actual/ Estimated","kWh","Actual/ Estimated","kWh","Actual/ Estimated","kWh","Actual/ Estimated","kWh","Actual/ Estimated","kWh","Actual/ Estimated","kWh","Actual/ Estimated","kWh","Actual/ Estimated","kWh","Actual/ Estimated","kWh","Actual/ Estimated","kWh","Actual/ Estimated","kWh","Actual/ Estimated","kWh","Actual/ Estimated","kWh","Actual/ Estimated","Average kWh Consumption",null,"kWh","Actual/ Estimated","kWh","Actual/ Estimated","kWh","Actual/ Estimated","kWh","Actual/ Estimated","kWh","Actual/ Estimated","kWh","Actual/ Estimated","kWh","Actual/ Estimated","kWh","Actual/ Estimated","kWh","Actual/ Estimated","kWh","Actual/ Estimated","kWh","Actual/ Estimated","kWh","Actual/ Estimated","kWh","Actual/ Estimated","kWh","Actual/ Estimated","kWh","Actual/ Estimated","kWh","Actual/ Estimated","kWh","Actual/ Estimated","kWh","Actual/ Estimated","kWh","Actual/ Estimated","kWh","Actual/ Estimated","Average kWh Consumption",null,"kWh","Actual/ Estimated","kWh","Actual/ Estimated","kWh","Actual/ Estimated","kWh","Actual/ Estimated","kWh","Actual/ Estimated","kWh","Actual/ Estimated","kWh","Actual/ Estimated","kWh","Actual/ Estimated","kWh","Actual/ Estimated","kWh","Actual/ Estimated","kWh","Actual/ Estimated","kWh","Actual/ Estimated","kWh","Actual/ Estimated","kWh","Actual/ Estimated","kWh","Actual/ Estimated","kWh","Actual/ Estimated","kWh","Actual/ Estimated","kWh","Actual/ Estimated","kWh","Actual/ Estimated","kWh","Actual/ Estimated","Average kWh Consumption",null,"kWh","Actual/ Estimated","kWh","Actual/ Estimated","kWh","Actual/ Estimated","kWh","Actual/ Estimated","kWh","Actual/ Estimated","kWh","Actual/ Estimated","kWh","Actual/ Estimated","kWh","Actual/ Estimated","kWh","Actual/ Estimated","kWh","Actual/ Estimated","kWh","Actual/ Estimated","kWh","Actual/ Estimated","kWh","Actual/ Estimated","kWh","Actual/ Estimated","kWh","Actual/ Estimated","kWh","Actual/ Estimated","kWh","Actual/ Estimated","kWh","Actual/ Estimated","kWh","Actual/ Estimated","kWh","Actual/ Estimated","Average kWh Consumption",null,"kWh","Actual/ Estimated","kWh","Actual/ Estimated","kWh","Actual/ Estimated","kWh","Actual/ Estimated","kWh","Actual/ Estimated","kWh","Actual/ Estimated","kWh","Actual/ Estimated","kWh","Actual/ Estimated","kWh","Actual/ Estimated","kWh","Actual/ Estimated","kWh","Actual/ Estimated","kWh","Actual/ Estimated","kWh","Actual/ Estimated","kWh","Actual/ Estimated","kWh","Actual/ Estimated","kWh","Actual/ Estimated","kWh","Actual/ Estimated","kWh","Actual/ Estimated","kWh","Actual/ Estimated","kWh","Actual/ Estimated","Average kWh Consumption",null,"kWh","Actual/ Estimated","kWh","Actual/ Estimated","kWh","Actual/ Estimated","kWh","Actual/ Estimated","kWh","Actual/ Estimated","kWh","Actual/ Estimated","kWh","Actual/ Estimated","kWh","Actual/ Estimated","kWh","Actual/ Estimated","kWh","Actual/ Estimated","kWh","Actual/ Estimated","kWh","Actual/ Estimated","kWh","Actual/ Estimated","kWh","Actual/ Estimated","kWh","Actual/ Estimated","kWh","Actual/ Estimated","kWh","Actual/ Estimated","kWh","Actual/ Estimated","kWh","Actual/ Estimated","kWh","Actual/ Estimated","Average kWh Consumption",null,"Average kWh Consumption","Average kWh Consumption","Average kWh Consumption","Average kWh Consumption","Average kWh Consumption","Average kWh Consumption","Average kWh Consumption","Average kWh Consumption","Average kWh Consumption","Average kWh Consumption","Total In-Unit kWh Consumption"]
[]
[null,{"$f":"C38+1","v":"1900-01-01"},null,{"$f":"IF(C39>0,C39+1-B39,0)","v":0},null,null,null,null,null,null,null,null,null,null,null,null,null,null,null,null,null,null,null,null,null,null,null,null,null,null,null,null,null,null,null,null,null,null,null,null,null,null,null,null,null,{"$f":"IF(ISBLANK(F39)=FALSE,AVERAGE(F39:AR39),\"\")","v":""},null,null,null,null,null,null,null,null,null,null,null,null,null,null,null,null,null,null,null,null,null,null,null,null,null,null,null,null,null,null,null,null,null,null,null,null,null,null,null,null,null,{"$f":"IF(ISBLANK(AV39)=FALSE,AVERAGE(AV39:CH39),\"\")","v":""},null,null,null,null,null,null,null,null,null,null,null,null,null,null,null,null,null,null,null,null,null,null,null,null,null,null,null,null,null,null,null,null,null,null,null,null,null,null,null,null,null,{"$f":"IF(ISBLANK(CL39)=FALSE,AVERAGE(CL39:DW39),\"\")","v":""},null,null,null,null,null,null,null,null,null,null,null,null,null,null,null,null,null,null,null,null,null,null,null,null,null,null,null,null,null,null,null,null,null,null,null,null,null,null,null,null,null,{"$f":"IF(ISBLANK(EB39)=FALSE,AVERAGE(EB39:FN39),\"\")","v":""},null,null,null,null,null,null,null,null,null,null,null,null,null,null,null,null,null,null,null,null,null,null,null,null,null,null,null,null,null,null,null,null,null,null,null,null,null,null,null,null,null,{"$f":"IF(ISBLANK(FR39)=FALSE,AVERAGE(FR39:HD39),\"\")","v":""},null,null,null,null,null,null,null,null,null,null,null,null,null,null,null,null,null,null,null,null,null,null,null,null,null,null,null,null,null,null,null,null,null,null,null,null,null,null,null,null,null,{"$f":"IF(ISBLANK(HH39)=FALSE,AVERAGE(HH39:IT39),\"\")","v":""},null,null,null,null,null,null,null,null,null,null,null,null,null,null,null,null,null,null,null,null,null,null,null,null,null,null,null,null,null,null,null,null,null,null,null,null,null,null,null,null,null,{"$f":"IF(ISBLANK(IX39)=FALSE,AVERAGE(IX39:KJ39),\"\")","v":""},null,null,null,null,null,null,null,null,null,null,null,null,null,null,null,null,null,null,null,null,null,null,null,null,null,null,null,null,null,null,null,null,null,null,null,null,null,null,null,null,null,{"$f":"IF(ISBLANK(KN39)=FALSE,AVERAGE(KN39:LZ39),\"\")","v":""},null,null,null,null,null,null,null,null,null,null,null,null,null,null,null,null,null,null,null,null,null,null,null,null,null,null,null,null,null,null,null,null,null,null,null,null,null,null,null,null,null,{"$f":"IF(ISBLANK(MD39)=FALSE,AVERAGE(MD39:NP39),\"\")","v":""},null,null,null,null,null,null,null,null,null,null,null,null,null,null,null,null,null,null,null,null,null,null,null,null,null,null,null,null,null,null,null,null,null,null,null,null,null,null,null,null,null,{"$f":"IF(ISBLANK(NT39)=FALSE,AVERAGE(NT39:PF39),\"\")","v":""},null,{"$f":"IF(AT39=\"\",0,AT39)","v":0},{"$f":"IF(CJ39=\"\",0,CJ39)","v":0},{"$f":"IF(DZ39=\"\",0,DZ39)","v":0},{"$f":"IF(FP39=\"\",0,FP39)","v":0},{"$f":"IF(HF39=\"\",0,HF39)","v":0},{"$f":"IF(IV39=\"\",0,IV39)","v":0},{"$f":"IF(KL39=\"\",0,KL39)","v":0},{"$f":"IF(MB39=\"\",0,MB39)","v":0},{"$f":"IF(NR39=\"\",0,NR39)","v":0},{"$f":"IF(PH39=\"\",0,PH39)","v":0},{"$f":"SUMPRODUCT($PJ$35:$PS$35,PJ39:PS39)","v":0}]
[null,{"$f":"C39+1","v":"1900-01-01"},null,0,null,null,null,null,null,null,null,null,null,null,null,null,null,null,null,null,null,null,null,null,null,null,null,null,null,null,null,null,null,null,null,null,null,null,null,null,null,null,null,null,null,"",null,null,null,null,null,null,null,null,null,null,null,null,null,null,null,null,null,null,null,null,null,null,null,null,null,null,null,null,null,null,null,null,null,null,null,null,null,null,null,null,null,"",null,null,null,null,null,null,null,null,null,null,null,null,null,null,null,null,null,null,null,null,null,null,null,null,null,null,null,null,null,null,null,null,null,null,null,null,null,null,null,null,null,"",null,null,null,null,null,null,null,null,null,null,null,null,null,null,null,null,null,null,null,null,null,null,null,null,null,null,null,null,null,null,null,null,null,null,null,null,null,null,null,null,null,"",null,null,null,null,null,null,null,null,null,null,null,null,null,null,null,null,null,null,null,null,null,null,null,null,null,null,null,null,null,null,null,null,null,null,null,null,null,null,null,null,null,"",null,null,null,null,null,null,null,null,null,null,null,null,null,null,null,null,null,null,null,null,null,null,null,null,null,null,null,null,null,null,null,null,null,null,null,null,null,null,null,null,null,"",null,null,null,null,null,null,null,null,null,null,null,null,null,null,null,null,null,null,null,null,null,null,null,null,null,null,null,null,null,null,null,null,null,null,null,null,null,null,null,null,null,"",null,null,null,null,null,null,null,null,null,null,null,null,null,null,null,null,null,null,null,null,null,null,null,null,null,null,null,null,null,null,null,null,null,null,null,null,null,null,null,null,null,"",null,null,null,null,null,null,null,null,null,null,null,null,null,null,null,null,null,null,null,null,null,null,null,null,null,null,null,null,null,null,null,null,null,null,null,null,null,null,null,null,null,"",null,null,null,null,null,null,null,null,null,null,null,null,null,null,null,null,null,null,null,null,null,null,null,null,null,null,null,null,null,null,null,null,null,null,null,null,null,null,null,null,null,"",null,0,0,0,0,0,0,0,0,0,0,{"$f":"SUMPRODUCT($PJ$35:$PS$35,PJ40:PS40)","v":0}]
[null,"1900-01-01",null,0,null,null,null,null,null,null,null,null,null,null,null,null,null,null,null,null,null,null,null,null,null,null,null,null,null,null,null,null,null,null,null,null,null,null,null,null,null,null,null,null,null,"",null,null,null,null,null,null,null,null,null,null,null,null,null,null,null,null,null,null,null,null,null,null,null,null,null,null,null,null,null,null,null,null,null,null,null,null,null,null,null,null,null,"",null,null,null,null,null,null,null,null,null,null,null,null,null,null,null,null,null,null,null,null,null,null,null,null,null,null,null,null,null,null,null,null,null,null,null,null,null,null,null,null,null,"",null,null,null,null,null,null,null,null,null,null,null,null,null,null,null,null,null,null,null,null,null,null,null,null,null,null,null,null,null,null,null,null,null,null,null,null,null,null,null,null,null,"",null,null,null,null,null,null,null,null,null,null,null,null,null,null,null,null,null,null,null,null,null,null,null,null,null,null,null,null,null,null,null,null,null,null,null,null,null,null,null,null,null,"",null,null,null,null,null,null,null,null,null,null,null,null,null,null,null,null,null,null,null,null,null,null,null,null,null,null,null,null,null,null,null,null,null,null,null,null,null,null,null,null,null,"",null,null,null,null,null,null,null,null,null,null,null,null,null,null,null,null,null,null,null,null,null,null,null,null,null,null,null,null,null,null,null,null,null,null,null,null,null,null,null,null,null,"",null,null,null,null,null,null,null,null,null,null,null,null,null,null,null,null,null,null,null,null,null,null,null,null,null,null,null,null,null,null,null,null,null,null,null,null,null,null,null,null,null,"",null,null,null,null,null,null,null,null,null,null,null,null,null,null,null,null,null,null,null,null,null,null,null,null,null,null,null,null,null,null,null,null,null,null,null,null,null,null,null,null,null,"",null,null,null,null,null,null,null,null,null,null,null,null,null,null,null,null,null,null,null,null,null,null,null,null,null,null,null,null,null,null,null,null,null,null,null,null,null,null,null,null,null,"",null,0,0,0,0,0,0,0,0,0,0,0]
[null,"1900-01-01",null,0,null,null,null,null,null,null,null,null,null,null,null,null,null,null,null,null,null,null,null,null,null,null,null,null,null,null,null,null,null,null,null,null,null,null,null,null,null,null,null,null,null,"",null,null,null,null,null,null,null,null,null,null,null,null,null,null,null,null,null,null,null,null,null,null,null,null,null,null,null,null,null,null,null,null,null,null,null,null,null,null,null,null,null,"",null,null,null,null,null,null,null,null,null,null,null,null,null,null,null,null,null,null,null,null,null,null,null,null,null,null,null,null,null,null,null,null,null,null,null,null,null,null,null,null,null,"",null,null,null,null,null,null,null,null,null,null,null,null,null,null,null,null,null,null,null,null,null,null,null,null,null,null,null,null,null,null,null,null,null,null,null,null,null,null,null,null,null,"",null,null,null,null,null,null,null,null,null,null,null,null,null,null,null,null,null,null,null,null,null,null,null,null,null,null,null,null,null,null,null,null,null,null,null,null,null,null,null,null,null,"",null,null,null,null,null,null,null,null,null,null,null,null,null,null,null,null,null,null,null,null,null,null,null,null,null,null,null,null,null,null,null,null,null,null,null,null,null,null,null,null,null,"",null,null,null,null,null,null,null,null,null,null,null,null,null,null,null,null,null,null,null,null,null,null,null,null,null,null,null,null,null,null,null,null,null,null,null,null,null,null,null,null,null,"",null,null,null,null,null,null,null,null,null,null,null,null,null,null,null,null,null,null,null,null,null,null,null,null,null,null,null,null,null,null,null,null,null,null,null,null,null,null,null,null,null,"",null,null,null,null,null,null,null,null,null,null,null,null,null,null,null,null,null,null,null,null,null,null,null,null,null,null,null,null,null,null,null,null,null,null,null,null,null,null,null,null,null,"",null,null,null,null,null,null,null,null,null,null,null,null,null,null,null,null,null,null,null,null,null,null,null,null,null,null,null,null,null,null,null,null,null,null,null,null,null,null,null,null,null,"",null,0,0,0,0,0,0,0,0,0,0,0]
[null,"1900-01-01",null,0,null,null,null,null,null,null,null,null,null,null,null,null,null,null,null,null,null,null,null,null,null,null,null,null,null,null,null,null,null,null,null,null,null,null,null,null,null,null,null,null,null,"",null,null,null,null,null,null,null,null,null,null,null,null,null,null,null,null,null,null,null,null,null,null,null,null,null,null,null,null,null,null,null,null,null,null,null,null,null,null,null,null,null,"",null,null,null,null,null,null,null,null,null,null,null,null,null,null,null,null,null,null,null,null,null,null,null,null,null,null,null,null,null,null,null,null,null,null,null,null,null,null,null,null,null,"",null,null,null,null,null,null,null,null,null,null,null,null,null,null,null,null,null,null,null,null,null,null,null,null,null,null,null,null,null,null,null,null,null,null,null,null,null,null,null,null,null,"",null,null,null,null,null,null,null,null,null,null,null,null,null,null,null,null,null,null,null,null,null,null,null,null,null,null,null,null,null,null,null,null,null,null,null,null,null,null,null,null,null,"",null,null,null,null,null,null,null,null,null,null,null,null,null,null,null,null,null,null,null,null,null,null,null,null,null,null,null,null,null,null,null,null,null,null,null,null,null,null,null,null,null,"",null,null,null,null,null,null,null,null,null,null,null,null,null,null,null,null,null,null,null,null,null,null,null,null,null,null,null,null,null,null,null,null,null,null,null,null,null,null,null,null,null,"",null,null,null,null,null,null,null,null,null,null,null,null,null,null,null,null,null,null,null,null,null,null,null,null,null,null,null,null,null,null,null,null,null,null,null,null,null,null,null,null,null,"",null,null,null,null,null,null,null,null,null,null,null,null,null,null,null,null,null,null,null,null,null,null,null,null,null,null,null,null,null,null,null,null,null,null,null,null,null,null,null,null,null,"",null,null,null,null,null,null,null,null,null,null,null,null,null,null,null,null,null,null,null,null,null,null,null,null,null,null,null,null,null,null,null,null,null,null,null,null,null,null,null,null,null,"",null,0,0,0,0,0,0,0,0,0,0,0]
[null,"1900-01-01",null,0,null,null,null,null,null,null,null,null,null,null,null,null,null,null,null,null,null,null,null,null,null,null,null,null,null,null,null,null,null,null,null,null,null,null,null,null,null,null,null,null,null,"",null,null,null,null,null,null,null,null,null,null,null,null,null,null,null,null,null,null,null,null,null,null,null,null,null,null,null,null,null,null,null,null,null,null,null,null,null,null,null,null,null,"",null,null,null,null,null,null,null,null,null,null,null,null,null,null,null,null,null,null,null,null,null,null,null,null,null,null,null,null,null,null,null,null,null,null,null,null,null,null,null,null,null,"",null,null,null,null,null,null,null,null,null,null,null,null,null,null,null,null,null,null,null,null,null,null,null,null,null,null,null,null,null,null,null,null,null,null,null,null,null,null,null,null,null,"",null,null,null,null,null,null,null,null,null,null,null,null,null,null,null,null,null,null,null,null,null,null,null,null,null,null,null,null,null,null,null,null,null,null,null,null,null,null,null,null,null,"",null,null,null,null,null,null,null,null,null,null,null,null,null,null,null,null,null,null,null,null,null,null,null,null,null,null,null,null,null,null,null,null,null,null,null,null,null,null,null,null,null,"",null,null,null,null,null,null,null,null,null,null,null,null,null,null,null,null,null,null,null,null,null,null,null,null,null,null,null,null,null,null,null,null,null,null,null,null,null,null,null,null,null,"",null,null,null,null,null,null,null,null,null,null,null,null,null,null,null,null,null,null,null,null,null,null,null,null,null,null,null,null,null,null,null,null,null,null,null,null,null,null,null,null,null,"",null,null,null,null,null,null,null,null,null,null,null,null,null,null,null,null,null,null,null,null,null,null,null,null,null,null,null,null,null,null,null,null,null,null,null,null,null,null,null,null,null,"",null,null,null,null,null,null,null,null,null,null,null,null,null,null,null,null,null,null,null,null,null,null,null,null,null,null,null,null,null,null,null,null,null,null,null,null,null,null,null,null,null,"",null,0,0,0,0,0,0,0,0,0,0,0]
[null,"1900-01-01",null,0,null,null,null,null,null,null,null,null,null,null,null,null,null,null,null,null,null,null,null,null,null,null,null,null,null,null,null,null,null,null,null,null,null,null,null,null,null,null,null,null,null,"",null,null,null,null,null,null,null,null,null,null,null,null,null,null,null,null,null,null,null,null,null,null,null,null,null,null,null,null,null,null,null,null,null,null,null,null,null,null,null,null,null,"",null,null,null,null,null,null,null,null,null,null,null,null,null,null,null,null,null,null,null,null,null,null,null,null,null,null,null,null,null,null,null,null,null,null,null,null,null,null,null,null,null,"",null,null,null,null,null,null,null,null,null,null,null,null,null,null,null,null,null,null,null,null,null,null,null,null,null,null,null,null,null,null,null,null,null,null,null,null,null,null,null,null,null,"",null,null,null,null,null,null,null,null,null,null,null,null,null,null,null,null,null,null,null,null,null,null,null,null,null,null,null,null,null,null,null,null,null,null,null,null,null,null,null,null,null,"",null,null,null,null,null,null,null,null,null,null,null,null,null,null,null,null,null,null,null,null,null,null,null,null,null,null,null,null,null,null,null,null,null,null,null,null,null,null,null,null,null,"",null,null,null,null,null,null,null,null,null,null,null,null,null,null,null,null,null,null,null,null,null,null,null,null,null,null,null,null,null,null,null,null,null,null,null,null,null,null,null,null,null,"",null,null,null,null,null,null,null,null,null,null,null,null,null,null,null,null,null,null,null,null,null,null,null,null,null,null,null,null,null,null,null,null,null,null,null,null,null,null,null,null,null,"",null,null,null,null,null,null,null,null,null,null,null,null,null,null,null,null,null,null,null,null,null,null,null,null,null,null,null,null,null,null,null,null,null,null,null,null,null,null,null,null,null,"",null,null,null,null,null,null,null,null,null,null,null,null,null,null,null,null,null,null,null,null,null,null,null,null,null,null,null,null,null,null,null,null,null,null,null,null,null,null,null,null,null,"",null,0,0,0,0,0,0,0,0,0,0,0]
[null,"1900-01-01",null,0,null,null,null,null,null,null,null,null,null,null,null,null,null,null,null,null,null,null,null,null,null,null,null,null,null,null,null,null,null,null,null,null,null,null,null,null,null,null,null,null,null,"",null,null,null,null,null,null,null,null,null,null,null,null,null,null,null,null,null,null,null,null,null,null,null,null,null,null,null,null,null,null,null,null,null,null,null,null,null,null,null,null,null,"",null,null,null,null,null,null,null,null,null,null,null,null,null,null,null,null,null,null,null,null,null,null,null,null,null,null,null,null,null,null,null,null,null,null,null,null,null,null,null,null,null,"",null,null,null,null,null,null,null,null,null,null,null,null,null,null,null,null,null,null,null,null,null,null,null,null,null,null,null,null,null,null,null,null,null,null,null,null,null,null,null,null,null,"",null,null,null,null,null,null,null,null,null,null,null,null,null,null,null,null,null,null,null,null,null,null,null,null,null,null,null,null,null,null,null,null,null,null,null,null,null,null,null,null,null,"",null,null,null,null,null,null,null,null,null,null,null,null,null,null,null,null,null,null,null,null,null,null,null,null,null,null,null,null,null,null,null,null,null,null,null,null,null,null,null,null,null,"",null,null,null,null,null,null,null,null,null,null,null,null,null,null,null,null,null,null,null,null,null,null,null,null,null,null,null,null,null,null,null,null,null,null,null,null,null,null,null,null,null,"",null,null,null,null,null,null,null,null,null,null,null,null,null,null,null,null,null,null,null,null,null,null,null,null,null,null,null,null,null,null,null,null,null,null,null,null,null,null,null,null,null,"",null,null,null,null,null,null,null,null,null,null,null,null,null,null,null,null,null,null,null,null,null,null,null,null,null,null,null,null,null,null,null,null,null,null,null,null,null,null,null,null,null,"",null,null,null,null,null,null,null,null,null,null,null,null,null,null,null,null,null,null,null,null,null,null,null,null,null,null,null,null,null,null,null,null,null,null,null,null,null,null,null,null,null,"",null,0,0,0,0,0,0,0,0,0,0,0]
[null,"1900-01-01",null,0,null,null,null,null,null,null,null,null,null,null,null,null,null,null,null,null,null,null,null,null,null,null,null,null,null,null,null,null,null,null,null,null,null,null,null,null,null,null,null,null,null,"",null,null,null,null,null,null,null,null,null,null,null,null,null,null,null,null,null,null,null,null,null,null,null,null,null,null,null,null,null,null,null,null,null,null,null,null,null,null,null,null,null,"",null,null,null,null,null,null,null,null,null,null,null,null,null,null,null,null,null,null,null,null,null,null,null,null,null,null,null,null,null,null,null,null,null,null,null,null,null,null,null,null,null,"",null,null,null,null,null,null,null,null,null,null,null,null,null,null,null,null,null,null,null,null,null,null,null,null,null,null,null,null,null,null,null,null,null,null,null,null,null,null,null,null,null,"",null,null,null,null,null,null,null,null,null,null,null,null,null,null,null,null,null,null,null,null,null,null,null,null,null,null,null,null,null,null,null,null,null,null,null,null,null,null,null,null,null,"",null,null,null,null,null,null,null,null,null,null,null,null,null,null,null,null,null,null,null,null,null,null,null,null,null,null,null,null,null,null,null,null,null,null,null,null,null,null,null,null,null,"",null,null,null,null,null,null,null,null,null,null,null,null,null,null,null,null,null,null,null,null,null,null,null,null,null,null,null,null,null,null,null,null,null,null,null,null,null,null,null,null,null,"",null,null,null,null,null,null,null,null,null,null,null,null,null,null,null,null,null,null,null,null,null,null,null,null,null,null,null,null,null,null,null,null,null,null,null,null,null,null,null,null,null,"",null,null,null,null,null,null,null,null,null,null,null,null,null,null,null,null,null,null,null,null,null,null,null,null,null,null,null,null,null,null,null,null,null,null,null,null,null,null,null,null,null,"",null,null,null,null,null,null,null,null,null,null,null,null,null,null,null,null,null,null,null,null,null,null,null,null,null,null,null,null,null,null,null,null,null,null,null,null,null,null,null,null,null,"",null,0,0,0,0,0,0,0,0,0,0,0]
[null,"1900-01-01",null,0,null,null,null,null,null,null,null,null,null,null,null,null,null,null,null,null,null,null,null,null,null,null,null,null,null,null,null,null,null,null,null,null,null,null,null,null,null,null,null,null,null,"",null,null,null,null,null,null,null,null,null,null,null,null,null,null,null,null,null,null,null,null,null,null,null,null,null,null,null,null,null,null,null,null,null,null,null,null,null,null,null,null,null,"",null,null,null,null,null,null,null,null,null,null,null,null,null,null,null,null,null,null,null,null,null,null,null,null,null,null,null,null,null,null,null,null,null,null,null,null,null,null,null,null,null,"",null,null,null,null,null,null,null,null,null,null,null,null,null,null,null,null,null,null,null,null,null,null,null,null,null,null,null,null,null,null,null,null,null,null,null,null,null,null,null,null,null,"",null,null,null,null,null,null,null,null,null,null,null,null,null,null,null,null,null,null,null,null,null,null,null,null,null,null,null,null,null,null,null,null,null,null,null,null,null,null,null,null,null,"",null,null,null,null,null,null,null,null,null,null,null,null,null,null,null,null,null,null,null,null,null,null,null,null,null,null,null,null,null,null,null,null,null,null,null,null,null,null,null,null,null,"",null,null,null,null,null,null,null,null,null,null,null,null,null,null,null,null,null,null,null,null,null,null,null,null,null,null,null,null,null,null,null,null,null,null,null,null,null,null,null,null,null,"",null,null,null,null,null,null,null,null,null,null,null,null,null,null,null,null,null,null,null,null,null,null,null,null,null,null,null,null,null,null,null,null,null,null,null,null,null,null,null,null,null,"",null,null,null,null,null,null,null,null,null,null,null,null,null,null,null,null,null,null,null,null,null,null,null,null,null,null,null,null,null,null,null,null,null,null,null,null,null,null,null,null,null,"",null,null,null,null,null,null,null,null,null,null,null,null,null,null,null,null,null,null,null,null,null,null,null,null,null,null,null,null,null,null,null,null,null,null,null,null,null,null,null,null,null,"",null,0,0,0,0,0,0,0,0,0,0,0]
[null,"1900-01-01",null,0,null,null,null,null,null,null,null,null,null,null,null,null,null,null,null,null,null,null,null,null,null,null,null,null,null,null,null,null,null,null,null,null,null,null,null,null,null,null,null,null,null,"",null,null,null,null,null,null,null,null,null,null,null,null,null,null,null,null,null,null,null,null,null,null,null,null,null,null,null,null,null,null,null,null,null,null,null,null,null,null,null,null,null,"",null,null,null,null,null,null,null,null,null,null,null,null,null,null,null,null,null,null,null,null,null,null,null,null,null,null,null,null,null,null,null,null,null,null,null,null,null,null,null,null,null,"",null,null,null,null,null,null,null,null,null,null,null,null,null,null,null,null,null,null,null,null,null,null,null,null,null,null,null,null,null,null,null,null,null,null,null,null,null,null,null,null,null,"",null,null,null,null,null,null,null,null,null,null,null,null,null,null,null,null,null,null,null,null,null,null,null,null,null,null,null,null,null,null,null,null,null,null,null,null,null,null,null,null,null,"",null,null,null,null,null,null,null,null,null,null,null,null,null,null,null,null,null,null,null,null,null,null,null,null,null,null,null,null,null,null,null,null,null,null,null,null,null,null,null,null,null,"",null,null,null,null,null,null,null,null,null,null,null,null,null,null,null,null,null,null,null,null,null,null,null,null,null,null,null,null,null,null,null,null,null,null,null,null,null,null,null,null,null,"",null,null,null,null,null,null,null,null,null,null,null,null,null,null,null,null,null,null,null,null,null,null,null,null,null,null,null,null,null,null,null,null,null,null,null,null,null,null,null,null,null,"",null,null,null,null,null,null,null,null,null,null,null,null,null,null,null,null,null,null,null,null,null,null,null,null,null,null,null,null,null,null,null,null,null,null,null,null,null,null,null,null,null,"",null,null,null,null,null,null,null,null,null,null,null,null,null,null,null,null,null,null,null,null,null,null,null,null,null,null,null,null,null,null,null,null,null,null,null,null,null,null,null,null,null,"",null,0,0,0,0,0,0,0,0,0,0,0]
[null,"1900-01-01",null,0,null,null,null,null,null,null,null,null,null,null,null,null,null,null,null,null,null,null,null,null,null,null,null,null,null,null,null,null,null,null,null,null,null,null,null,null,null,null,null,null,null,"",null,null,null,null,null,null,null,null,null,null,null,null,null,null,null,null,null,null,null,null,null,null,null,null,null,null,null,null,null,null,null,null,null,null,null,null,null,null,null,null,null,"",null,null,null,null,null,null,null,null,null,null,null,null,null,null,null,null,null,null,null,null,null,null,null,null,null,null,null,null,null,null,null,null,null,null,null,null,null,null,null,null,null,"",null,null,null,null,null,null,null,null,null,null,null,null,null,null,null,null,null,null,null,null,null,null,null,null,null,null,null,null,null,null,null,null,null,null,null,null,null,null,null,null,null,"",null,null,null,null,null,null,null,null,null,null,null,null,null,null,null,null,null,null,null,null,null,null,null,null,null,null,null,null,null,null,null,null,null,null,null,null,null,null,null,null,null,"",null,null,null,null,null,null,null,null,null,null,null,null,null,null,null,null,null,null,null,null,null,null,null,null,null,null,null,null,null,null,null,null,null,null,null,null,null,null,null,null,null,"",null,null,null,null,null,null,null,null,null,null,null,null,null,null,null,null,null,null,null,null,null,null,null,null,null,null,null,null,null,null,null,null,null,null,null,null,null,null,null,null,null,"",null,null,null,null,null,null,null,null,null,null,null,null,null,null,null,null,null,null,null,null,null,null,null,null,null,null,null,null,null,null,null,null,null,null,null,null,null,null,null,null,null,"",null,null,null,null,null,null,null,null,null,null,null,null,null,null,null,null,null,null,null,null,null,null,null,null,null,null,null,null,null,null,null,null,null,null,null,null,null,null,null,null,null,"",null,null,null,null,null,null,null,null,null,null,null,null,null,null,null,null,null,null,null,null,null,null,null,null,null,null,null,null,null,null,null,null,null,null,null,null,null,null,null,null,null,"",null,0,0,0,0,0,0,0,0,0,0,0]
[null,"1900-01-01",null,0,null,null,null,null,null,null,null,null,null,null,null,null,null,null,null,null,null,null,null,null,null,null,null,null,null,null,null,null,null,null,null,null,null,null,null,null,null,null,null,null,null,"",null,null,null,null,null,null,null,null,null,null,null,null,null,null,null,null,null,null,null,null,null,null,null,null,null,null,null,null,null,null,null,null,null,null,null,null,null,null,null,null,null,"",null,null,null,null,null,null,null,null,null,null,null,null,null,null,null,null,null,null,null,null,null,null,null,null,null,null,null,null,null,null,null,null,null,null,null,null,null,null,null,null,null,"",null,null,null,null,null,null,null,null,null,null,null,null,null,null,null,null,null,null,null,null,null,null,null,null,null,null,null,null,null,null,null,null,null,null,null,null,null,null,null,null,null,"",null,null,null,null,null,null,null,null,null,null,null,null,null,null,null,null,null,null,null,null,null,null,null,null,null,null,null,null,null,null,null,null,null,null,null,null,null,null,null,null,null,"",null,null,null,null,null,null,null,null,null,null,null,null,null,null,null,null,null,null,null,null,null,null,null,null,null,null,null,null,null,null,null,null,null,null,null,null,null,null,null,null,null,"",null,null,null,null,null,null,null,null,null,null,null,null,null,null,null,null,null,null,null,null,null,null,null,null,null,null,null,null,null,null,null,null,null,null,null,null,null,null,null,null,null,"",null,null,null,null,null,null,null,null,null,null,null,null,null,null,null,null,null,null,null,null,null,null,null,null,null,null,null,null,null,null,null,null,null,null,null,null,null,null,null,null,null,"",null,null,null,null,null,null,null,null,null,null,null,null,null,null,null,null,null,null,null,null,null,null,null,null,null,null,null,null,null,null,null,null,null,null,null,null,null,null,null,null,null,"",null,null,null,null,null,null,null,null,null,null,null,null,null,null,null,null,null,null,null,null,null,null,null,null,null,null,null,null,null,null,null,null,null,null,null,null,null,null,null,null,null,"",null,0,0,0,0,0,0,0,0,0,0,0]
[null,"1900-01-01",null,0,null,null,null,null,null,null,null,null,null,null,null,null,null,null,null,null,null,null,null,null,null,null,null,null,null,null,null,null,null,null,null,null,null,null,null,null,null,null,null,null,null,"",null,null,null,null,null,null,null,null,null,null,null,null,null,null,null,null,null,null,null,null,null,null,null,null,null,null,null,null,null,null,null,null,null,null,null,null,null,null,null,null,null,"",null,null,null,null,null,null,null,null,null,null,null,null,null,null,null,null,null,null,null,null,null,null,null,null,null,null,null,null,null,null,null,null,null,null,null,null,null,null,null,null,null,"",null,null,null,null,null,null,null,null,null,null,null,null,null,null,null,null,null,null,null,null,null,null,null,null,null,null,null,null,null,null,null,null,null,null,null,null,null,null,null,null,null,"",null,null,null,null,null,null,null,null,null,null,null,null,null,null,null,null,null,null,null,null,null,null,null,null,null,null,null,null,null,null,null,null,null,null,null,null,null,null,null,null,null,"",null,null,null,null,null,null,null,null,null,null,null,null,null,null,null,null,null,null,null,null,null,null,null,null,null,null,null,null,null,null,null,null,null,null,null,null,null,null,null,null,null,"",null,null,null,null,null,null,null,null,null,null,null,null,null,null,null,null,null,null,null,null,null,null,null,null,null,null,null,null,null,null,null,null,null,null,null,null,null,null,null,null,null,"",null,null,null,null,null,null,null,null,null,null,null,null,null,null,null,null,null,null,null,null,null,null,null,null,null,null,null,null,null,null,null,null,null,null,null,null,null,null,null,null,null,"",null,null,null,null,null,null,null,null,null,null,null,null,null,null,null,null,null,null,null,null,null,null,null,null,null,null,null,null,null,null,null,null,null,null,null,null,null,null,null,null,null,"",null,null,null,null,null,null,null,null,null,null,null,null,null,null,null,null,null,null,null,null,null,null,null,null,null,null,null,null,null,null,null,null,null,null,null,null,null,null,null,null,null,"",null,0,0,0,0,0,0,0,0,0,0,0]
[null,"1900-01-01",null,0,null,null,null,null,null,null,null,null,null,null,null,null,null,null,null,null,null,null,null,null,null,null,null,null,null,null,null,null,null,null,null,null,null,null,null,null,null,null,null,null,null,"",null,null,null,null,null,null,null,null,null,null,null,null,null,null,null,null,null,null,null,null,null,null,null,null,null,null,null,null,null,null,null,null,null,null,null,null,null,null,null,null,null,"",null,null,null,null,null,null,null,null,null,null,null,null,null,null,null,null,null,null,null,null,null,null,null,null,null,null,null,null,null,null,null,null,null,null,null,null,null,null,null,null,null,"",null,null,null,null,null,null,null,null,null,null,null,null,null,null,null,null,null,null,null,null,null,null,null,null,null,null,null,null,null,null,null,null,null,null,null,null,null,null,null,null,null,"",null,null,null,null,null,null,null,null,null,null,null,null,null,null,null,null,null,null,null,null,null,null,null,null,null,null,null,null,null,null,null,null,null,null,null,null,null,null,null,null,null,"",null,null,null,null,null,null,null,null,null,null,null,null,null,null,null,null,null,null,null,null,null,null,null,null,null,null,null,null,null,null,null,null,null,null,null,null,null,null,null,null,null,"",null,null,null,null,null,null,null,null,null,null,null,null,null,null,null,null,null,null,null,null,null,null,null,null,null,null,null,null,null,null,null,null,null,null,null,null,null,null,null,null,null,"",null,null,null,null,null,null,null,null,null,null,null,null,null,null,null,null,null,null,null,null,null,null,null,null,null,null,null,null,null,null,null,null,null,null,null,null,null,null,null,null,null,"",null,null,null,null,null,null,null,null,null,null,null,null,null,null,null,null,null,null,null,null,null,null,null,null,null,null,null,null,null,null,null,null,null,null,null,null,null,null,null,null,null,"",null,null,null,null,null,null,null,null,null,null,null,null,null,null,null,null,null,null,null,null,null,null,null,null,null,null,null,null,null,null,null,null,null,null,null,null,null,null,null,null,null,"",null,0,0,0,0,0,0,0,0,0,0,0]
[null,null,{"$f":"IF(ABS(D54-365)>4,\"Must have 365 ± 4 days.\",\"\")","v":"Must have 365 ± 4 days."},{"$f":"SUM(D39:D53)","v":0},null,{"$f":"SUM(F39:F53)","v":0},null,{"$f":"SUM(H39:H53)","v":0},null,{"$f":"SUM(J39:J53)","v":0},null,{"$f":"SUM(L39:L53)","v":0},null,{"$f":"SUM(N39:N53)","v":0},null,{"$f":"SUM(P39:P53)","v":0},null,{"$f":"SUM(R39:R53)","v":0},null,{"$f":"SUM(T39:T53)","v":0},null,{"$f":"SUM(V39:V53)","v":0},null,{"$f":"SUM(X39:X53)","v":0},null,{"$f":"SUM(Z39:Z53)","v":0},null,{"$f":"SUM(AB39:AB53)","v":0},null,{"$f":"SUM(AD39:AD53)","v":0},null,{"$f":"SUM(AF39:AF53)","v":0},null,{"$f":"SUM(AH39:AH53)","v":0},null,{"$f":"SUM(AJ39:AJ53)","v":0},null,{"$f":"SUM(AL39:AL53)","v":0},null,{"$f":"SUM(AN39:AN53)","v":0},null,{"$f":"SUM(AP39:AP53)","v":0},null,{"$f":"SUM(AR39:AR53)","v":0},null,{"$f":"SUM(AT39:AT53)","v":0},null,{"$f":"SUM(AV39:AV53)","v":0},null,{"$f":"SUM(AX39:AX53)","v":0},null,{"$f":"SUM(AZ39:AZ53)","v":0},null,{"$f":"SUM(BB39:BB53)","v":0},null,{"$f":"SUM(BD39:BD53)","v":0},null,{"$f":"SUM(BF39:BF53)","v":0},null,{"$f":"SUM(BH39:BH53)","v":0},null,{"$f":"SUM(BJ39:BJ53)","v":0},null,{"$f":"SUM(BL39:BL53)","v":0},null,{"$f":"SUM(BN39:BN53)","v":0},null,{"$f":"SUM(BP39:BP53)","v":0},null,{"$f":"SUM(BR39:BR53)","v":0},null,{"$f":"SUM(BT39:BT53)","v":0},null,{"$f":"SUM(BV39:BV53)","v":0},null,{"$f":"SUM(BX39:BX53)","v":0},null,{"$f":"SUM(BZ39:BZ53)","v":0},null,{"$f":"SUM(CB39:CB53)","v":0},null,{"$f":"SUM(CD39:CD53)","v":0},null,{"$f":"SUM(CF39:CF53)","v":0},null,{"$f":"SUM(CH39:CH53)","v":0},null,{"$f":"SUM(CJ39:CJ53)","v":0},null,{"$f":"SUM(CL39:CL53)","v":0},null,{"$f":"SUM(CN39:CN53)","v":0},null,{"$f":"SUM(CP39:CP53)","v":0},null,{"$f":"SUM(CR39:CR53)","v":0},null,{"$f":"SUM(CT39:CT53)","v":0},null,{"$f":"SUM(CV39:CV53)","v":0},null,{"$f":"SUM(CX39:CX53)","v":0},null,{"$f":"SUM(CZ39:CZ53)","v":0},null,{"$f":"SUM(DB39:DB53)","v":0},null,{"$f":"SUM(DD39:DD53)","v":0},null,{"$f":"SUM(DF39:DF53)","v":0},null,{"$f":"SUM(DH39:DH53)","v":0},null,{"$f":"SUM(DJ39:DJ53)","v":0},null,{"$f":"SUM(DL39:DL53)","v":0},null,{"$f":"SUM(DN39:DN53)","v":0},null,{"$f":"SUM(DP39:DP53)","v":0},null,{"$f":"SUM(DR39:DR53)","v":0},null,{"$f":"SUM(DT39:DT53)","v":0},null,{"$f":"SUM(DV39:DV53)","v":0},null,{"$f":"SUM(DX39:DX53)","v":0},null,{"$f":"SUM(DZ39:DZ53)","v":0},null,{"$f":"SUM(EB39:EB53)","v":0},null,{"$f":"SUM(ED39:ED53)","v":0},null,{"$f":"SUM(EF39:EF53)","v":0},null,{"$f":"SUM(EH39:EH53)","v":0},null,{"$f":"SUM(EJ39:EJ53)","v":0},null,{"$f":"SUM(EL39:EL53)","v":0},null,{"$f":"SUM(EN39:EN53)","v":0},null,{"$f":"SUM(EP39:EP53)","v":0},null,{"$f":"SUM(ER39:ER53)","v":0},null,{"$f":"SUM(ET39:ET53)","v":0},null,{"$f":"SUM(EV39:EV53)","v":0},null,{"$f":"SUM(EX39:EX53)","v":0},null,{"$f":"SUM(EZ39:EZ53)","v":0},null,{"$f":"SUM(FB39:FB53)","v":0},null,{"$f":"SUM(FD39:FD53)","v":0},null,{"$f":"SUM(FF39:FF53)","v":0},null,{"$f":"SUM(FH39:FH53)","v":0},null,{"$f":"SUM(FJ39:FJ53)","v":0},null,{"$f":"SUM(FL39:FL53)","v":0},null,{"$f":"SUM(FN39:FN53)","v":0},null,{"$f":"SUM(FP39:FP53)","v":0},null,{"$f":"SUM(FR39:FR53)","v":0},null,{"$f":"SUM(FT39:FT53)","v":0},null,{"$f":"SUM(FV39:FV53)","v":0},null,{"$f":"SUM(FX39:FX53)","v":0},null,{"$f":"SUM(FZ39:FZ53)","v":0},null,{"$f":"SUM(GB39:GB53)","v":0},null,{"$f":"SUM(GD39:GD53)","v":0},null,{"$f":"SUM(GF39:GF53)","v":0},null,{"$f":"SUM(GH39:GH53)","v":0},null,{"$f":"SUM(GJ39:GJ53)","v":0},null,{"$f":"SUM(GL39:GL53)","v":0},null,{"$f":"SUM(GN39:GN53)","v":0},null,{"$f":"SUM(GP39:GP53)","v":0},null,{"$f":"SUM(GR39:GR53)","v":0},null,{"$f":"SUM(GT39:GT53)","v":0},null,{"$f":"SUM(GV39:GV53)","v":0},null,{"$f":"SUM(GX39:GX53)","v":0},null,{"$f":"SUM(GZ39:GZ53)","v":0},null,{"$f":"SUM(HB39:HB53)","v":0},null,{"$f":"SUM(HD39:HD53)","v":0},null,{"$f":"SUM(HF39:HF53)","v":0},null,{"$f":"SUM(HH39:HH53)","v":0},null,{"$f":"SUM(HJ39:HJ53)","v":0},null,{"$f":"SUM(HL39:HL53)","v":0},null,{"$f":"SUM(HN39:HN53)","v":0},null,{"$f":"SUM(HP39:HP53)","v":0},null,{"$f":"SUM(HR39:HR53)","v":0},null,{"$f":"SUM(HT39:HT53)","v":0},null,{"$f":"SUM(HV39:HV53)","v":0},null,{"$f":"SUM(HX39:HX53)","v":0},null,{"$f":"SUM(HZ39:HZ53)","v":0},null,{"$f":"SUM(IB39:IB53)","v":0},null,{"$f":"SUM(ID39:ID53)","v":0},null,{"$f":"SUM(IF39:IF53)","v":0},null,{"$f":"SUM(IH39:IH53)","v":0},null,{"$f":"SUM(IJ39:IJ53)","v":0},null,{"$f":"SUM(IL39:IL53)","v":0},null,{"$f":"SUM(IN39:IN53)","v":0},null,{"$f":"SUM(IP39:IP53)","v":0},null,{"$f":"SUM(IR39:IR53)","v":0},null,{"$f":"SUM(IT39:IT53)","v":0},null,{"$f":"SUM(IV39:IV53)","v":0},null,{"$f":"SUM(IX39:IX53)","v":0},null,{"$f":"SUM(IZ39:IZ53)","v":0},null,{"$f":"SUM(JB39:JB53)","v":0},null,{"$f":"SUM(JD39:JD53)","v":0},null,{"$f":"SUM(JF39:JF53)","v":0},null,{"$f":"SUM(JH39:JH53)","v":0},null,{"$f":"SUM(JJ39:JJ53)","v":0},null,{"$f":"SUM(JL39:JL53)","v":0},null,{"$f":"SUM(JN39:JN53)","v":0},null,{"$f":"SUM(JP39:JP53)","v":0},null,{"$f":"SUM(JR39:JR53)","v":0},null,{"$f":"SUM(JT39:JT53)","v":0},null,{"$f":"SUM(JV39:JV53)","v":0},null,{"$f":"SUM(JX39:JX53)","v":0},null,{"$f":"SUM(JZ39:JZ53)","v":0},null,{"$f":"SUM(KB39:KB53)","v":0},null,{"$f":"SUM(KD39:KD53)","v":0},null,{"$f":"SUM(KF39:KF53)","v":0},null,{"$f":"SUM(KH39:KH53)","v":0},null,{"$f":"SUM(KJ39:KJ53)","v":0},null,{"$f":"SUM(KL39:KL53)","v":0},null,{"$f":"SUM(KN39:KN53)","v":0},null,{"$f":"SUM(KP39:KP53)","v":0},null,{"$f":"SUM(KR39:KR53)","v":0},null,{"$f":"SUM(KT39:KT53)","v":0},null,{"$f":"SUM(KV39:KV53)","v":0},null,{"$f":"SUM(KX39:KX53)","v":0},null,{"$f":"SUM(KZ39:KZ53)","v":0},null,{"$f":"SUM(LB39:LB53)","v":0},null,{"$f":"SUM(LD39:LD53)","v":0},null,{"$f":"SUM(LF39:LF53)","v":0},null,{"$f":"SUM(LH39:LH53)","v":0},null,{"$f":"SUM(LJ39:LJ53)","v":0},null,{"$f":"SUM(LL39:LL53)","v":0},null,{"$f":"SUM(LN39:LN53)","v":0},null,{"$f":"SUM(LP39:LP53)","v":0},null,{"$f":"SUM(LR39:LR53)","v":0},null,{"$f":"SUM(LT39:LT53)","v":0},null,{"$f":"SUM(LV39:LV53)","v":0},null,{"$f":"SUM(LX39:LX53)","v":0},null,{"$f":"SUM(LZ39:LZ53)","v":0},null,{"$f":"SUM(MB39:MB53)","v":0},null,{"$f":"SUM(MD39:MD53)","v":0},null,{"$f":"SUM(MF39:MF53)","v":0},null,{"$f":"SUM(MH39:MH53)","v":0},null,{"$f":"SUM(MJ39:MJ53)","v":0},null,{"$f":"SUM(ML39:ML53)","v":0},null,{"$f":"SUM(MN39:MN53)","v":0},null,{"$f":"SUM(MP39:MP53)","v":0},null,{"$f":"SUM(MR39:MR53)","v":0},null,{"$f":"SUM(MT39:MT53)","v":0},null,{"$f":"SUM(MV39:MV53)","v":0},null,{"$f":"SUM(MX39:MX53)","v":0},null,{"$f":"SUM(MZ39:MZ53)","v":0},null,{"$f":"SUM(NB39:NB53)","v":0},null,{"$f":"SUM(ND39:ND53)","v":0},null,{"$f":"SUM(NF39:NF53)","v":0},null,{"$f":"SUM(NH39:NH53)","v":0},null,{"$f":"SUM(NJ39:NJ53)","v":0},null,{"$f":"SUM(NL39:NL53)","v":0},null,{"$f":"SUM(NN39:NN53)","v":0},null,{"$f":"SUM(NP39:NP53)","v":0},null,{"$f":"SUM(NR39:NR53)","v":0},null,{"$f":"SUM(NT39:NT53)","v":0},null,{"$f":"SUM(NV39:NV53)","v":0},null,{"$f":"SUM(NX39:NX53)","v":0},null,{"$f":"SUM(NZ39:NZ53)","v":0},null,{"$f":"SUM(OB39:OB53)","v":0},null,{"$f":"SUM(OD39:OD53)","v":0},null,{"$f":"SUM(OF39:OF53)","v":0},null,{"$f":"SUM(OH39:OH53)","v":0},null,{"$f":"SUM(OJ39:OJ53)","v":0},null,{"$f":"SUM(OL39:OL53)","v":0},null,{"$f":"SUM(ON39:ON53)","v":0},null,{"$f":"SUM(OP39:OP53)","v":0},null,{"$f":"SUM(OR39:OR53)","v":0},null,{"$f":"SUM(OT39:OT53)","v":0},null,{"$f":"SUM(OV39:OV53)","v":0},null,{"$f":"SUM(OX39:OX53)","v":0},null,{"$f":"SUM(OZ39:OZ53)","v":0},null,{"$f":"SUM(PB39:PB53)","v":0},null,{"$f":"SUM(PD39:PD53)","v":0},null,{"$f":"SUM(PF39:PF53)","v":0},null,{"$f":"SUM(PH39:PH53)","v":0},null,{"$f":"SUM(PJ39:PJ53)","v":0},{"$f":"SUM(PK39:PK53)","v":0},{"$f":"SUM(PL39:PL53)","v":0},{"$f":"SUM(PM39:PM53)","v":0},0,0,0,0,0,{"$f":"SUM(PS39:PS53)","v":0},{"$f":"SUM(PT39:PT53)","v":0}]
[]
[null,null,null,null,null,"Total Annual kWh Cost",null,"Total Annual kWh Cost",null,"Total Annual kWh Cost",null,"Total Annual kWh Cost",null,"Total Annual kWh Cost",null,"Total Annual kWh Cost",null,"Total Annual kWh Cost",null,"Total Annual kWh Cost",null,"Total Annual kWh Cost",null,"Total Annual kWh Cost",null,"Total Annual kWh Cost",null,"Total Annual kWh Cost",null,"Total Annual kWh Cost",null,"Total Annual kWh Cost",null,"Total Annual kWh Cost",null,"Total Annual kWh Cost",null,"Total Annual kWh Cost",null,"Total Annual kWh Cost",null,"Total Annual kWh Cost",null,"Total Annual kWh Cost",null,"Average Annual kWh  Cost",null,"Total Annual kWh Cost",null,"Total Annual kWh Cost",null,"Total Annual kWh Cost",null,"Total Annual kWh Cost",null,"Total Annual kWh Cost",null,"Total Annual kWh Cost",null,"Total Annual kWh Cost",null,"Total Annual kWh Cost",null,"Total Annual kWh Cost",null,"Total Annual kWh Cost",null,"Total Annual kWh Cost",null,"Total Annual kWh Cost",null,"Total Annual kWh Cost",null,"Total Annual kWh Cost",null,"Total Annual kWh Cost",null,"Total Annual kWh Cost",null,"Total Annual kWh Cost",null,"Total Annual kWh Cost",null,"Total Annual kWh Cost",null,"Total Annual kWh Cost",null,"Average Annual kWh  Cost",null,"Total Annual kWh Cost",null,"Total Annual kWh Cost",null,"Total Annual kWh Cost",null,"Total Annual kWh Cost",null,"Total Annual kWh Cost",null,"Total Annual kWh Cost",null,"Total Annual kWh Cost",null,"Total Annual kWh Cost",null,"Total Annual kWh Cost",null,"Total Annual kWh Cost",null,"Total Annual kWh Cost",null,"Total Annual kWh Cost",null,"Total Annual kWh Cost",null,"Total Annual kWh Cost",null,"Total Annual kWh Cost",null,"Total Annual kWh Cost",null,"Total Annual kWh Cost",null,"Total Annual kWh Cost",null,"Total Annual kWh Cost",null,"Total Annual kWh Cost",null,"Average Annual kWh  Cost",null,"Total Annual kWh Cost",null,"Total Annual kWh Cost",null,"Total Annual kWh Cost",null,"Total Annual kWh Cost",null,"Total Annual kWh Cost",null,"Total Annual kWh Cost",null,"Total Annual kWh Cost",null,"Total Annual kWh Cost",null,"Total Annual kWh Cost",null,"Total Annual kWh Cost",null,"Total Annual kWh Cost",null,"Total Annual kWh Cost",null,"Total Annual kWh Cost",null,"Total Annual kWh Cost",null,"Total Annual kWh Cost",null,"Total Annual kWh Cost",null,"Total Annual kWh Cost",null,"Total Annual kWh Cost",null,"Total Annual kWh Cost",null,"Total Annual kWh Cost",null,"Average Annual kWh  Cost",null,"Total Annual kWh Cost",null,"Total Annual kWh Cost",null,"Total Annual kWh Cost",null,"Total Annual kWh Cost",null,"Total Annual kWh Cost",null,"Total Annual kWh Cost",null,"Total Annual kWh Cost",null,"Total Annual kWh Cost",null,"Total Annual kWh Cost",null,"Total Annual kWh Cost",null,"Total Annual kWh Cost",null,"Total Annual kWh Cost",null,"Total Annual kWh Cost",null,"Total Annual kWh Cost",null,"Total Annual kWh Cost",null,"Total Annual kWh Cost",null,"Total Annual kWh Cost",null,"Total Annual kWh Cost",null,"Total Annual kWh Cost",null,"Total Annual kWh Cost",null,"Average Annual kWh  Cost",null,"Total Annual kWh Cost",null,"Total Annual kWh Cost",null,"Total Annual kWh Cost",null,"Total Annual kWh Cost",null,"Total Annual kWh Cost",null,"Total Annual kWh Cost",null,"Total Annual kWh Cost",null,"Total Annual kWh Cost",null,"Total Annual kWh Cost",null,"Total Annual kWh Cost",null,"Total Annual kWh Cost",null,"Total Annual kWh Cost",null,"Total Annual kWh Cost",null,"Total Annual kWh Cost",null,"Total Annual kWh Cost",null,"Total Annual kWh Cost",null,"Total Annual kWh Cost",null,"Total Annual kWh Cost",null,"Total Annual kWh Cost",null,"Total Annual kWh Cost",null,"Average Annual kWh  Cost",null,"Total Annual kWh Cost",null,"Total Annual kWh Cost",null,"Total Annual kWh Cost",null,"Total Annual kWh Cost",null,"Total Annual kWh Cost",null,"Total Annual kWh Cost",null,"Total Annual kWh Cost",null,"Total Annual kWh Cost",null,"Total Annual kWh Cost",null,"Total Annual kWh Cost",null,"Total Annual kWh Cost",null,"Total Annual kWh Cost",null,"Total Annual kWh Cost",null,"Total Annual kWh Cost",null,"Total Annual kWh Cost",null,"Total Annual kWh Cost",null,"Total Annual kWh Cost",null,"Total Annual kWh Cost",null,"Total Annual kWh Cost",null,"Total Annual kWh Cost",null,"Average Annual kWh  Cost",null,"Total Annual kWh Cost",null,"Total Annual kWh Cost",null,"Total Annual kWh Cost",null,"Total Annual kWh Cost",null,"Total Annual kWh Cost",null,"Total Annual kWh Cost",null,"Total Annual kWh Cost",null,"Total Annual kWh Cost",null,"Total Annual kWh Cost",null,"Total Annual kWh Cost",null,"Total Annual kWh Cost",null,"Total Annual kWh Cost",null,"Total Annual kWh Cost",null,"Total Annual kWh Cost",null,"Total Annual kWh Cost",null,"Total Annual kWh Cost",null,"Total Annual kWh Cost",null,"Total Annual kWh Cost",null,"Total Annual kWh Cost",null,"Total Annual kWh Cost",null,"Average Annual kWh  Cost",null,"Total Annual kWh Cost",null,"Total Annual kWh Cost",null,"Total Annual kWh Cost",null,"Total Annual kWh Cost",null,"Total Annual kWh Cost",null,"Total Annual kWh Cost",null,"Total Annual kWh Cost",null,"Total Annual kWh Cost",null,"Total Annual kWh Cost",null,"Total Annual kWh Cost",null,"Total Annual kWh Cost",null,"Total Annual kWh Cost",null,"Total Annual kWh Cost",null,"Total Annual kWh Cost",null,"Total Annual kWh Cost",null,"Total Annual kWh Cost",null,"Total Annual kWh Cost",null,"Total Annual kWh Cost",null,"Total Annual kWh Cost",null,"Total Annual kWh Cost",null,"Average Annual kWh  Cost",null,"Total Annual kWh Cost",null,"Total Annual kWh Cost",null,"Total Annual kWh Cost",null,"Total Annual kWh Cost",null,"Total Annual kWh Cost",null,"Total Annual kWh Cost",null,"Total Annual kWh Cost",null,"Total Annual kWh Cost",null,"Total Annual kWh Cost",null,"Total Annual kWh Cost",null,"Total Annual kWh Cost",null,"Total Annual kWh Cost",null,"Total Annual kWh Cost",null,"Total Annual kWh Cost",null,"Total Annual kWh Cost",null,"Total Annual kWh Cost",null,"Total Annual kWh Cost",null,"Total Annual kWh Cost",null,"Total Annual kWh Cost",null,"Total Annual kWh Cost",null,"Average Annual kWh  Cost",null,"Average Annual kWh  Cost","Average Annual kWh  Cost","Average Annual kWh  Cost","Average Annual kWh  Cost","Average Annual kWh  Cost","Average Annual kWh  Cost","Average Annual kWh  Cost","Average Annual kWh  Cost","Average Annual kWh  Cost","Average Annual kWh  Cost","Total In-Unit Annual kWh  Cost"]
[null,null,null,null,null,null,null,null,null,null,null,null,null,null,null,null,null,null,null,null,null,null,null,null,null,null,null,null,null,null,null,null,null,null,null,null,null,null,null,null,null,null,null,null,null,{"$f":"IF(F57>0,AVERAGE(F57:AR57),0)","v":0},null,null,null,null,null,null,null,null,null,null,null,null,null,null,null,null,null,null,null,null,null,null,null,null,null,null,null,null,null,null,null,null,null,null,null,null,null,null,null,null,null,{"$f":"IF(AV57>0,AVERAGE(AV57:CH57),0)","v":0},null,null,null,null,null,null,null,null,null,null,null,null,null,null,null,null,null,null,null,null,null,null,null,null,null,null,null,null,null,null,null,null,null,null,null,null,null,null,null,null,null,{"$f":"IF(CL57>0,AVERAGE(CN57:DY57),0)","v":0},null,null,null,null,null,null,null,null,null,null,null,null,null,null,null,null,null,null,null,null,null,null,null,null,null,null,null,null,null,null,null,null,null,null,null,null,null,null,null,null,null,{"$f":"IF(EB57>0,AVERAGE(EB57:FN57),0)","v":0},null,null,null,null,null,null,null,null,null,null,null,null,null,null,null,null,null,null,null,null,null,null,null,null,null,null,null,null,null,null,null,null,null,null,null,null,null,null,null,null,null,{"$f":"IF(FR57>0,AVERAGE(FR57:HD57),0)","v":0},null,null,null,null,null,null,null,null,null,null,null,null,null,null,null,null,null,null,null,null,null,null,null,null,null,null,null,null,null,null,null,null,null,null,null,null,null,null,null,null,null,{"$f":"IF(HH57>0,AVERAGE(HH57:IT57),0)","v":0},null,null,null,null,null,null,null,null,null,null,null,null,null,null,null,null,null,null,null,null,null,null,null,null,null,null,null,null,null,null,null,null,null,null,null,null,null,null,null,null,null,{"$f":"IF(IX57>0,AVERAGE(IX57:KJ57),0)","v":0},null,null,null,null,null,null,null,null,null,null,null,null,null,null,null,null,null,null,null,null,null,null,null,null,null,null,null,null,null,null,null,null,null,null,null,null,null,null,null,null,null,{"$f":"IF(KN57>0,AVERAGE(KN57:LZ57),0)","v":0},null,null,null,null,null,null,null,null,null,null,null,null,null,null,null,null,null,null,null,null,null,null,null,null,null,null,null,null,null,null,null,null,null,null,null,null,null,null,null,null,null,{"$f":"IF(MD57>0,AVERAGE(MD57:NP57),0)","v":0},null,null,null,null,null,null,null,null,null,null,null,null,null,null,null,null,null,null,null,null,null,null,null,null,null,null,null,null,null,null,null,null,null,null,null,null,null,null,null,null,null,{"$f":"IF(NT57>0,AVERAGE(NT57:PF57),0)","v":0},null,{"$f":"AT57","v":0},{"$f":"CJ57","v":0},{"$f":"DZ57","v":0},{"$f":"FP57","v":0},{"$f":"HF57","v":0},{"$f":"IV57","v":0},{"$f":"KL57","v":0},{"$f":"MB57","v":0},{"$f":"NR57","v":0},{"$f":"PH57","v":0},{"$f":"SUMPRODUCT($PJ$35:$PS$35,PJ57:PS57)","v":0}]
[]
[null,"Notes:",null,null,null,{"$f":"PJ9","v":"Unit Type 1"},null,null,null,null,null,null,null,null,null,null,null,null,null,null,null,null,null,null,null,null,null,null,null,null,null,null,null,null,null,null,null,null,null,null,null,null,null,null,null,null,null,{"$f":"PK9","v":"Unit Type 2"},null,null,null,null,null,null,null,null,null,null,null,null,null,null,null,null,null,null,null,null,null,null,null,null,null,null,null,null,null,null,null,null,null,null,null,null,null,null,null,null,null,{"$f":"PL9","v":"Unit Type 3"},null,null,null,null,null,null,null,null,null,null,null,null,null,null,null,null,null,null,null,null,null,null,null,null,null,null,null,null,null,null,null,null,null,null,null,null,null,null,null,null,null,{"$f":"PM9","v":"Unit Type 4"},null,null,null,null,null,null,null,null,null,null,null,null,null,null,null,null,null,null,null,null,null,null,null,null,null,null,null,null,null,null,null,null,null,null,null,null,null,null,null,null,null,{"$f":"PN9","v":"Unit Type 5"},null,null,null,null,null,null,null,null,null,null,null,null,null,null,null,null,null,null,null,null,null,null,null,null,null,null,null,null,null,null,null,null,null,null,null,null,null,null,null,null,null,{"$f":"PO9","v":"Unit Type 6"},null,null,null,null,null,null,null,null,null,null,null,null,null,null,null,null,null,null,null,null,null,null,null,null,null,null,null,null,null,null,null,null,null,null,null,null,null,null,null,null,null,{"$f":"PP9","v":"Unit Type 7"},null,null,null,null,null,null,null,null,null,null,null,null,null,null,null,null,null,null,null,null,null,null,null,null,null,null,null,null,null,null,null,null,null,null,null,null,null,null,null,null,null,{"$f":"PQ9","v":"Unit Type 8"},null,null,null,null,null,null,null,null,null,null,null,null,null,null,null,null,null,null,null,null,null,null,null,null,null,null,null,null,null,null,null,null,null,null,null,null,null,null,null,null,null,{"$f":"PR9","v":"Unit Type 9"},null,null,null,null,null,null,null,null,null,null,null,null,null,null,null,null,null,null,null,null,null,null,null,null,null,null,null,null,null,null,null,null,null,null,null,null,null,null,null,null,null,{"$f":"PS9","v":"Unit Type 10"},null,null,null,null,null,null,null,null,null,null,null,null,null,null,null,null,null,null,null,null,null,null,null,null,null,null,null,null,null,null,null,null,null,null,null,null,null,null,null,null,null,"Notes:"]
[null,null,null,null,null,"Pre-Construction Unit #","Post-Construction Unit #","Pre- Construction Use ","Post-Construction Use","Difference","% Difference",null,null,null,null,null,null,null,null,null,null,null,null,null,null,null,null,null,null,null,null,null,null,null,null,null,null,null,null,null,null,null,null,null,null,null,null,"Pre-Construction Unit #","Post-Construction Unit #","Pre- Construction Use ","Post-Construction Use","Difference","% Difference",null,null,null,null,null,null,null,null,null,null,null,null,null,null,null,null,null,null,null,null,null,null,null,null,null,null,null,null,null,null,null,null,null,null,null,null,"Pre-Construction Unit #","Post-Construction Unit #","Pre- Construction Use ","Post-Construction Use","Difference","% Difference",null,null,null,null,null,null,null,null,null,null,null,null,null,null,null,null,null,null,null,null,null,null,null,null,null,null,null,null,null,null,null,null,null,null,null,null,"Pre-Construction Unit #","Post-Construction Unit #","Pre- Construction Use ","Post-Construction Use","Difference","% Difference",null,null,null,null,null,null,null,null,null,null,null,null,null,null,null,null,null,null,null,null,null,null,null,null,null,null,null,null,null,null,null,null,null,null,null,null,"Pre-Construction Unit #","Post-Construction Unit #","Pre- Construction Use ","Post-Construction Use","Difference","% Difference",null,null,null,null,null,null,null,null,null,null,null,null,null,null,null,null,null,null,null,null,null,null,null,null,null,null,null,null,null,null,null,null,null,null,null,null,"Pre-Construction Unit #","Post-Construction Unit #","Pre- Construction Use ","Post-Construction Use","Difference","% Difference",null,null,null,null,null,null,null,null,null,null,null,null,null,null,null,null,null,null,null,null,null,null,null,null,null,null,null,null,null,null,null,null,null,null,null,null,"Pre-Construction Unit #","Post-Construction Unit #","Pre- Construction Use ","Post-Construction Use","Difference","% Difference",null,null,null,null,null,null,null,null,null,null,null,null,null,null,null,null,null,null,null,null,null,null,null,null,null,null,null,null,null,null,null,null,null,null,null,null,"Pre-Construction Unit #","Post-Construction Unit #","Pre- Construction Use ","Post-Construction Use","Difference","% Difference",null,null,null,null,null,null,null,null,null,null,null,null,null,null,null,null,null,null,null,null,null,null,null,null,null,null,null,null,null,null,null,null,null,null,null,null,"Pre-Construction Unit #","Post-Construction Unit #","Pre- Construction Use ","Post-Construction Use","Difference","% Difference",null,null,null,null,null,null,null,null,null,null,null,null,null,null,null,null,null,null,null,null,null,null,null,null,null,null,null,null,null,null,null,null,null,null,null,null,"Pre-Construction Unit #","Post-Construction Unit #","Pre- Construction Use ","Post-Construction Use","Difference","% Difference"]
[null,null,null,null,null,{"$f":"F7","v":0},{"$f":"F34","v":0},{"$f":"F27","v":0},{"$f":"F54","v":0},{"$f":"I61-H61","v":0},{"$f":"IF(H61>0,J61/H61,\"\")","v":""},null,null,null,null,null,null,null,null,null,null,null,null,null,null,null,null,null,null,null,null,null,null,null,null,null,null,null,null,null,null,null,null,null,null,null,null,{"$f":"AV7","v":0},{"$f":"AV34","v":0},{"$f":"AV27","v":0},{"$f":"AV54","v":0},{"$f":"AY61-AX61","v":0},{"$f":"IF(AX61>0,AZ61/AX61,\"\")","v":""},null,null,null,null,null,null,null,null,null,null,null,null,null,null,null,null,null,null,null,null,null,null,null,null,null,null,null,null,null,null,null,null,null,null,null,null,{"$f":"CL7","v":0},{"$f":"CL34","v":0},{"$f":"CL27","v":0},{"$f":"CL54","v":0},{"$f":"CO61-CN61","v":0},{"$f":"IF(CN61>0,CP61/CN61,\"\")","v":""},null,null,null,null,null,null,null,null,null,null,null,null,null,null,null,null,null,null,null,null,null,null,null,null,null,null,null,null,null,null,null,null,null,null,null,null,{"$f":"EB7","v":0},{"$f":"EB34","v":0},{"$f":"EB27","v":0},{"$f":"EB54","v":0},{"$f":"EE61-ED61","v":0},{"$f":"IF(ED61>0,EF61/ED61,\"\")","v":""},null,null,null,null,null,null,null,null,null,null,null,null,null,null,null,null,null,null,null,null,null,null,null,null,null,null,null,null,null,null,null,null,null,null,null,null,{"$f":"FR7","v":0},{"$f":"FR34","v":0},{"$f":"FR27","v":0},{"$f":"FR54","v":0},{"$f":"FU61-FT61","v":0},{"$f":"IF(FT61>0,FV61/FT61,\"\")","v":""},null,null,null,null,null,null,null,null,null,null,null,null,null,null,null,null,null,null,null,null,null,null,null,null,null,null,null,null,null,null,null,null,null,null,null,null,{"$f":"HH7","v":0},{"$f":"HH34","v":0},{"$f":"HH27","v":0},{"$f":"HH54","v":0},{"$f":"HK61-HJ61","v":0},{"$f":"IF(HJ61>0,HL61/HJ61,\"\")","v":""},null,null,null,null,null,null,null,null,null,null,null,null,null,null,null,null,null,null,null,null,null,null,null,null,null,null,null,null,null,null,null,null,null,null,null,null,{"$f":"IX7","v":0},{"$f":"IX34","v":0},{"$f":"IX27","v":0},{"$f":"IX54","v":0},{"$f":"JA61-IZ61","v":0},{"$f":"IF(IZ61>0,JB61/IZ61,\"\")","v":""},null,null,null,null,null,null,null,null,null,null,null,null,null,null,null,null,null,null,null,null,null,null,null,null,null,null,null,null,null,null,null,null,null,null,null,null,{"$f":"KN7","v":0},{"$f":"KN34","v":0},{"$f":"KN27","v":0},{"$f":"KN54","v":0},{"$f":"KQ61-KP61","v":0},{"$f":"IF(KP61>0,KR61/KP61,\"\")","v":""},null,null,null,null,null,null,null,null,null,null,null,null,null,null,null,null,null,null,null,null,null,null,null,null,null,null,null,null,null,null,null,null,null,null,null,null,{"$f":"MD7","v":0},{"$f":"MD34","v":0},{"$f":"MD27","v":0},{"$f":"MD54","v":0},{"$f":"MG61-MF61","v":0},{"$f":"IF(MF61>0,MH61/MF61,\"\")","v":""},null,null,null,null,null,null,null,null,null,null,null,null,null,null,null,null,null,null,null,null,null,null,null,null,null,null,null,null,null,null,null,null,null,null,null,null,{"$f":"NT7","v":0},{"$f":"NT34","v":0},{"$f":"NT27","v":0},{"$f":"NT54","v":0},{"$f":"NW61-NV61","v":0},{"$f":"IF(NV61>0,NX61/NV61,\"\")","v":""}]
[null,null,null,null,null,{"$f":"H7","v":0},{"$f":"H34","v":0},{"$f":"H27","v":0},{"$f":"H54","v":0},0,"",null,null,null,null,null,null,null,null,null,null,null,null,null,null,null,null,null,null,null,null,null,null,null,null,null,null,null,null,null,null,null,null,null,null,null,null,{"$f":"AX7","v":0},{"$f":"AX34","v":0},{"$f":"AX27","v":0},{"$f":"AX54","v":0},0,"",null,null,null,null,null,null,null,null,null,null,null,null,null,null,null,null,null,null,null,null,null,null,null,null,null,null,null,null,null,null,null,null,null,null,null,null,{"$f":"CN7","v":0},{"$f":"CN34","v":0},{"$f":"CN27","v":0},{"$f":"CN54","v":0},0,"",null,null,null,null,null,null,null,null,null,null,null,null,null,null,null,null,null,null,null,null,null,null,null,null,null,null,null,null,null,null,null,null,null,null,null,null,{"$f":"ED7","v":0},{"$f":"ED34","v":0},{"$f":"ED27","v":0},{"$f":"ED54","v":0},0,"",null,null,null,null,null,null,null,null,null,null,null,null,null,null,null,null,null,null,null,null,null,null,null,null,null,null,null,null,null,null,null,null,null,null,null,null,{"$f":"FT7","v":0},{"$f":"FT34","v":0},{"$f":"FT27","v":0},{"$f":"FT54","v":0},0,"",null,null,null,null,null,null,null,null,null,null,null,null,null,null,null,null,null,null,null,null,null,null,null,null,null,null,null,null,null,null,null,null,null,null,null,null,{"$f":"HJ7","v":0},{"$f":"HJ34","v":0},{"$f":"HJ27","v":0},{"$f":"HJ54","v":0},0,"",null,null,null,null,null,null,null,null,null,null,null,null,null,null,null,null,null,null,null,null,null,null,null,null,null,null,null,null,null,null,null,null,null,null,null,null,{"$f":"IZ7","v":0},{"$f":"IZ34","v":0},{"$f":"IZ27","v":0},{"$f":"IZ54","v":0},0,"",null,null,null,null,null,null,null,null,null,null,null,null,null,null,null,null,null,null,null,null,null,null,null,null,null,null,null,null,null,null,null,null,null,null,null,null,{"$f":"KP7","v":0},{"$f":"KP34","v":0},{"$f":"KP27","v":0},{"$f":"KP54","v":0},0,"",null,null,null,null,null,null,null,null,null,null,null,null,null,null,null,null,null,null,null,null,null,null,null,null,null,null,null,null,null,null,null,null,null,null,null,null,{"$f":"MF7","v":0},{"$f":"MF34","v":0},{"$f":"MF27","v":0},{"$f":"MF54","v":0},0,"",null,null,null,null,null,null,null,null,null,null,null,null,null,null,null,null,null,null,null,null,null,null,null,null,null,null,null,null,null,null,null,null,null,null,null,null,{"$f":"NV7","v":0},{"$f":"NV34","v":0},{"$f":"NV27","v":0},{"$f":"NV54","v":0},0,""]
[null,null,null,null,null,{"$f":"J7","v":0},{"$f":"J34","v":0},{"$f":"J27","v":0},{"$f":"J54","v":0},0,"",null,null,null,null,null,null,null,null,null,null,null,null,null,null,null,null,null,null,null,null,null,null,null,null,null,null,null,null,null,null,null,null,null,null,null,null,{"$f":"AZ7","v":0},{"$f":"AZ34","v":0},{"$f":"AZ27","v":0},{"$f":"AZ54","v":0},0,"",null,null,null,null,null,null,null,null,null,null,null,null,null,null,null,null,null,null,null,null,null,null,null,null,null,null,null,null,null,null,null,null,null,null,null,null,{"$f":"CP7","v":0},{"$f":"CP34","v":0},{"$f":"CP27","v":0},{"$f":"CP54","v":0},0,"",null,null,null,null,null,null,null,null,null,null,null,null,null,null,null,null,null,null,null,null,null,null,null,null,null,null,null,null,null,null,null,null,null,null,null,null,{"$f":"EF7","v":0},{"$f":"EF34","v":0},{"$f":"EF27","v":0},{"$f":"EF54","v":0},0,"",null,null,null,null,null,null,null,null,null,null,null,null,null,null,null,null,null,null,null,null,null,null,null,null,null,null,null,null,null,null,null,null,null,null,null,null,{"$f":"FV7","v":0},{"$f":"FV34","v":0},{"$f":"FV27","v":0},{"$f":"FV54","v":0},0,"",null,null,null,null,null,null,null,null,null,null,null,null,null,null,null,null,null,null,null,null,null,null,null,null,null,null,null,null,null,null,null,null,null,null,null,null,{"$f":"HL7","v":0},{"$f":"HL34","v":0},{"$f":"HL27","v":0},{"$f":"HL54","v":0},0,"",null,null,null,null,null,null,null,null,null,null,null,null,null,null,null,null,null,null,null,null,null,null,null,null,null,null,null,null,null,null,null,null,null,null,null,null,{"$f":"JB7","v":0},{"$f":"JB34","v":0},{"$f":"JB27","v":0},{"$f":"JB54","v":0},0,"",null,null,null,null,null,null,null,null,null,null,null,null,null,null,null,null,null,null,null,null,null,null,null,null,null,null,null,null,null,null,null,null,null,null,null,null,{"$f":"KR7","v":0},{"$f":"KR34","v":0},{"$f":"KR27","v":0},{"$f":"KR54","v":0},0,"",null,null,null,null,null,null,null,null,null,null,null,null,null,null,null,null,null,null,null,null,null,null,null,null,null,null,null,null,null,null,null,null,null,null,null,null,{"$f":"MH7","v":0},{"$f":"MH34","v":0},{"$f":"MH27","v":0},{"$f":"MH54","v":0},0,"",null,null,null,null,null,null,null,null,null,null,null,null,null,null,null,null,null,null,null,null,null,null,null,null,null,null,null,null,null,null,null,null,null,null,null,null,{"$f":"NX7","v":0},{"$f":"NX34","v":0},{"$f":"NX27","v":0},{"$f":"NX54","v":0},0,""]
[null,null,null,null,null,{"$f":"L7","v":0},{"$f":"L34","v":0},{"$f":"L27","v":0},{"$f":"L54","v":0},0,"",null,null,null,null,null,null,null,null,null,null,null,null,null,null,null,null,null,null,null,null,null,null,null,null,null,null,null,null,null,null,null,null,null,null,null,null,{"$f":"BB7","v":0},{"$f":"BB34","v":0},{"$f":"BB27","v":0},{"$f":"BB54","v":0},0,"",null,null,null,null,null,null,null,null,null,null,null,null,null,null,null,null,null,null,null,null,null,null,null,null,null,null,null,null,null,null,null,null,null,null,null,null,{"$f":"CR7","v":0},{"$f":"CR34","v":0},{"$f":"CR27","v":0},{"$f":"CR54","v":0},0,"",null,null,null,null,null,null,null,null,null,null,null,null,null,null,null,null,null,null,null,null,null,null,null,null,null,null,null,null,null,null,null,null,null,null,null,null,{"$f":"EH7","v":0},{"$f":"EH34","v":0},{"$f":"EH27","v":0},{"$f":"EH54","v":0},0,"",null,null,null,null,null,null,null,null,null,null,null,null,null,null,null,null,null,null,null,null,null,null,null,null,null,null,null,null,null,null,null,null,null,null,null,null,{"$f":"FX7","v":0},{"$f":"FX34","v":0},{"$f":"FX27","v":0},{"$f":"FX54","v":0},0,"",null,null,null,null,null,null,null,null,null,null,null,null,null,null,null,null,null,null,null,null,null,null,null,null,null,null,null,null,null,null,null,null,null,null,null,null,{"$f":"HN7","v":0},{"$f":"HN34","v":0},{"$f":"HN27","v":0},{"$f":"HN54","v":0},0,"",null,null,null,null,null,null,null,null,null,null,null,null,null,null,null,null,null,null,null,null,null,null,null,null,null,null,null,null,null,null,null,null,null,null,null,null,{"$f":"JD7","v":0},{"$f":"JD34","v":0},{"$f":"JD27","v":0},{"$f":"JD54","v":0},0,"",null,null,null,null,null,null,null,null,null,null,null,null,null,null,null,null,null,null,null,null,null,null,null,null,null,null,null,null,null,null,null,null,null,null,null,null,{"$f":"KT7","v":0},{"$f":"KT34","v":0},{"$f":"KT27","v":0},{"$f":"KT54","v":0},0,"",null,null,null,null,null,null,null,null,null,null,null,null,null,null,null,null,null,null,null,null,null,null,null,null,null,null,null,null,null,null,null,null,null,null,null,null,{"$f":"MJ7","v":0},{"$f":"MJ34","v":0},{"$f":"MJ27","v":0},{"$f":"MJ54","v":0},0,"",null,null,null,null,null,null,null,null,null,null,null,null,null,null,null,null,null,null,null,null,null,null,null,null,null,null,null,null,null,null,null,null,null,null,null,null,{"$f":"NZ7","v":0},{"$f":"NZ34","v":0},{"$f":"NZ27","v":0},{"$f":"NZ54","v":0},0,""]
[null,null,null,null,null,{"$f":"N7","v":0},{"$f":"N34","v":0},{"$f":"N27","v":0},{"$f":"N54","v":0},0,"",null,null,null,null,null,null,null,null,null,null,null,null,null,null,null,null,null,null,null,null,null,null,null,null,null,null,null,null,null,null,null,null,null,null,null,null,{"$f":"BD7","v":0},{"$f":"BD34","v":0},{"$f":"BD27","v":0},{"$f":"BD54","v":0},0,"",null,null,null,null,null,null,null,null,null,null,null,null,null,null,null,null,null,null,null,null,null,null,null,null,null,null,null,null,null,null,null,null,null,null,null,null,{"$f":"CT7","v":0},{"$f":"CT34","v":0},{"$f":"CT27","v":0},{"$f":"CT54","v":0},0,"",null,null,null,null,null,null,null,null,null,null,null,null,null,null,null,null,null,null,null,null,null,null,null,null,null,null,null,null,null,null,null,null,null,null,null,null,{"$f":"EJ7","v":0},{"$f":"EJ34","v":0},{"$f":"EJ27","v":0},{"$f":"EJ54","v":0},0,"",null,null,null,null,null,null,null,null,null,null,null,null,null,null,null,null,null,null,null,null,null,null,null,null,null,null,null,null,null,null,null,null,null,null,null,null,{"$f":"FZ7","v":0},{"$f":"FZ34","v":0},{"$f":"FZ27","v":0},{"$f":"FZ54","v":0},0,"",null,null,null,null,null,null,null,null,null,null,null,null,null,null,null,null,null,null,null,null,null,null,null,null,null,null,null,null,null,null,null,null,null,null,null,null,{"$f":"HP7","v":0},{"$f":"HP34","v":0},{"$f":"HP27","v":0},{"$f":"HP54","v":0},0,"",null,null,null,null,null,null,null,null,null,null,null,null,null,null,null,null,null,null,null,null,null,null,null,null,null,null,null,null,null,null,null,null,null,null,null,null,{"$f":"JF7","v":0},{"$f":"JF34","v":0},{"$f":"JF27","v":0},{"$f":"JF54","v":0},0,"",null,null,null,null,null,null,null,null,null,null,null,null,null,null,null,null,null,null,null,null,null,null,null,null,null,null,null,null,null,null,null,null,null,null,null,null,{"$f":"KV7","v":0},{"$f":"KV34","v":0},{"$f":"KV27","v":0},{"$f":"KV54","v":0},0,"",null,null,null,null,null,null,null,null,null,null,null,null,null,null,null,null,null,null,null,null,null,null,null,null,null,null,null,null,null,null,null,null,null,null,null,null,{"$f":"ML7","v":0},{"$f":"ML34","v":0},{"$f":"ML27","v":0},{"$f":"ML54","v":0},0,"",null,null,null,null,null,null,null,null,null,null,null,null,null,null,null,null,null,null,null,null,null,null,null,null,null,null,null,null,null,null,null,null,null,null,null,null,{"$f":"OB7","v":0},{"$f":"OB34","v":0},{"$f":"OB27","v":0},{"$f":"OB54","v":0},0,""]
[null,null,null,null,null,{"$f":"P7","v":0},{"$f":"P34","v":0},{"$f":"P27","v":0},{"$f":"P54","v":0},0,"",null,null,null,null,null,null,null,null,null,null,null,null,null,null,null,null,null,null,null,null,null,null,null,null,null,null,null,null,null,null,null,null,null,null,null,null,{"$f":"BF7","v":0},{"$f":"BF34","v":0},{"$f":"BF27","v":0},{"$f":"BF54","v":0},0,"",null,null,null,null,null,null,null,null,null,null,null,null,null,null,null,null,null,null,null,null,null,null,null,null,null,null,null,null,null,null,null,null,null,null,null,null,{"$f":"CV7","v":0},{"$f":"CV34","v":0},{"$f":"CV27","v":0},{"$f":"CV54","v":0},0,"",null,null,null,null,null,null,null,null,null,null,null,null,null,null,null,null,null,null,null,null,null,null,null,null,null,null,null,null,null,null,null,null,null,null,null,null,{"$f":"EL7","v":0},{"$f":"EL34","v":0},{"$f":"EL27","v":0},{"$f":"EL54","v":0},0,"",null,null,null,null,null,null,null,null,null,null,null,null,null,null,null,null,null,null,null,null,null,null,null,null,null,null,null,null,null,null,null,null,null,null,null,null,{"$f":"GB7","v":0},{"$f":"GB34","v":0},{"$f":"GB27","v":0},{"$f":"GB54","v":0},0,"",null,null,null,null,null,null,null,null,null,null,null,null,null,null,null,null,null,null,null,null,null,null,null,null,null,null,null,null,null,null,null,null,null,null,null,null,{"$f":"HR7","v":0},{"$f":"HR34","v":0},{"$f":"HR27","v":0},{"$f":"HR54","v":0},0,"",null,null,null,null,null,null,null,null,null,null,null,null,null,null,null,null,null,null,null,null,null,null,null,null,null,null,null,null,null,null,null,null,null,null,null,null,{"$f":"JH7","v":0},{"$f":"JH34","v":0},{"$f":"JH27","v":0},{"$f":"JH54","v":0},0,"",null,null,null,null,null,null,null,null,null,null,null,null,null,null,null,null,null,null,null,null,null,null,null,null,null,null,null,null,null,null,null,null,null,null,null,null,{"$f":"KX7","v":0},{"$f":"KX34","v":0},{"$f":"KX27","v":0},{"$f":"KX54","v":0},0,"",null,null,null,null,null,null,null,null,null,null,null,null,null,null,null,null,null,null,null,null,null,null,null,null,null,null,null,null,null,null,null,null,null,null,null,null,{"$f":"MN7","v":0},{"$f":"MN34","v":0},{"$f":"MN27","v":0},{"$f":"MN54","v":0},0,"",null,null,null,null,null,null,null,null,null,null,null,null,null,null,null,null,null,null,null,null,null,null,null,null,null,null,null,null,null,null,null,null,null,null,null,null,{"$f":"OD7","v":0},{"$f":"OD34","v":0},{"$f":"OD27","v":0},{"$f":"OD54","v":0},0,""]
[null,null,null,null,null,{"$f":"R7","v":0},{"$f":"R34","v":0},{"$f":"R27","v":0},{"$f":"R54","v":0},0,"",null,null,null,null,null,null,null,null,null,null,null,null,null,null,null,null,null,null,null,null,null,null,null,null,null,null,null,null,null,null,null,null,null,null,null,null,{"$f":"BH7","v":0},{"$f":"BH34","v":0},{"$f":"BH27","v":0},{"$f":"BH54","v":0},0,"",null,null,null,null,null,null,null,null,null,null,null,null,null,null,null,null,null,null,null,null,null,null,null,null,null,null,null,null,null,null,null,null,null,null,null,null,{"$f":"CX7","v":0},{"$f":"CX34","v":0},{"$f":"CX27","v":0},{"$f":"CX54","v":0},0,"",null,null,null,null,null,null,null,null,null,null,null,null,null,null,null,null,null,null,null,null,null,null,null,null,null,null,null,null,null,null,null,null,null,null,null,null,{"$f":"EN7","v":0},{"$f":"EN34","v":0},{"$f":"EN27","v":0},{"$f":"EN54","v":0},0,"",null,null,null,null,null,null,null,null,null,null,null,null,null,null,null,null,null,null,null,null,null,null,null,null,null,null,null,null,null,null,null,null,null,null,null,null,{"$f":"GD7","v":0},{"$f":"GD34","v":0},{"$f":"GD27","v":0},{"$f":"GD54","v":0},0,"",null,null,null,null,null,null,null,null,null,null,null,null,null,null,null,null,null,null,null,null,null,null,null,null,null,null,null,null,null,null,null,null,null,null,null,null,{"$f":"HT7","v":0},{"$f":"HT34","v":0},{"$f":"HT27","v":0},{"$f":"HT54","v":0},0,"",null,null,null,null,null,null,null,null,null,null,null,null,null,null,null,null,null,null,null,null,null,null,null,null,null,null,null,null,null,null,null,null,null,null,null,null,{"$f":"JJ7","v":0},{"$f":"JJ34","v":0},{"$f":"JJ27","v":0},{"$f":"JJ54","v":0},0,"",null,null,null,null,null,null,null,null,null,null,null,null,null,null,null,null,null,null,null,null,null,null,null,null,null,null,null,null,null,null,null,null,null,null,null,null,{"$f":"KZ7","v":0},{"$f":"KZ34","v":0},{"$f":"KZ27","v":0},{"$f":"KZ54","v":0},0,"",null,null,null,null,null,null,null,null,null,null,null,null,null,null,null,null,null,null,null,null,null,null,null,null,null,null,null,null,null,null,null,null,null,null,null,null,{"$f":"MP7","v":0},{"$f":"MP34","v":0},{"$f":"MP27","v":0},{"$f":"MP54","v":0},0,"",null,null,null,null,null,null,null,null,null,null,null,null,null,null,null,null,null,null,null,null,null,null,null,null,null,null,null,null,null,null,null,null,null,null,null,null,{"$f":"OF7","v":0},{"$f":"OF34","v":0},{"$f":"OF27","v":0},{"$f":"OF54","v":0},0,""]
[null,null,null,null,null,{"$f":"T7","v":0},{"$f":"T34","v":0},{"$f":"T27","v":0},{"$f":"T54","v":0},0,"",null,null,null,null,null,null,null,null,null,null,null,null,null,null,null,null,null,null,null,null,null,null,null,null,null,null,null,null,null,null,null,null,null,null,null,null,{"$f":"BJ7","v":0},{"$f":"BJ34","v":0},{"$f":"BJ27","v":0},{"$f":"BJ54","v":0},0,"",null,null,null,null,null,null,null,null,null,null,null,null,null,null,null,null,null,null,null,null,null,null,null,null,null,null,null,null,null,null,null,null,null,null,null,null,{"$f":"CZ7","v":0},{"$f":"CZ34","v":0},{"$f":"CZ27","v":0},{"$f":"CZ54","v":0},0,"",null,null,null,null,null,null,null,null,null,null,null,null,null,null,null,null,null,null,null,null,null,null,null,null,null,null,null,null,null,null,null,null,null,null,null,null,{"$f":"EP7","v":0},{"$f":"EP34","v":0},{"$f":"EP27","v":0},{"$f":"EP54","v":0},0,"",null,null,null,null,null,null,null,null,null,null,null,null,null,null,null,null,null,null,null,null,null,null,null,null,null,null,null,null,null,null,null,null,null,null,null,null,{"$f":"GF7","v":0},{"$f":"GF34","v":0},{"$f":"GF27","v":0},{"$f":"GF54","v":0},0,"",null,null,null,null,null,null,null,null,null,null,null,null,null,null,null,null,null,null,null,null,null,null,null,null,null,null,null,null,null,null,null,null,null,null,null,null,{"$f":"HV7","v":0},{"$f":"HV34","v":0},{"$f":"HV27","v":0},{"$f":"HV54","v":0},0,"",null,null,null,null,null,null,null,null,null,null,null,null,null,null,null,null,null,null,null,null,null,null,null,null,null,null,null,null,null,null,null,null,null,null,null,null,{"$f":"JL7","v":0},{"$f":"JL34","v":0},{"$f":"JL27","v":0},{"$f":"JL54","v":0},0,"",null,null,null,null,null,null,null,null,null,null,null,null,null,null,null,null,null,null,null,null,null,null,null,null,null,null,null,null,null,null,null,null,null,null,null,null,{"$f":"LB7","v":0},{"$f":"LB34","v":0},{"$f":"LB27","v":0},{"$f":"LB54","v":0},0,"",null,null,null,null,null,null,null,null,null,null,null,null,null,null,null,null,null,null,null,null,null,null,null,null,null,null,null,null,null,null,null,null,null,null,null,null,{"$f":"MR7","v":0},{"$f":"MR34","v":0},{"$f":"MR27","v":0},{"$f":"MR54","v":0},0,"",null,null,null,null,null,null,null,null,null,null,null,null,null,null,null,null,null,null,null,null,null,null,null,null,null,null,null,null,null,null,null,null,null,null,null,null,{"$f":"OH7","v":0},{"$f":"OH34","v":0},{"$f":"OH27","v":0},{"$f":"OH54","v":0},0,""]
[null,null,null,null,null,{"$f":"V7","v":0},{"$f":"V34","v":0},{"$f":"V27","v":0},{"$f":"V54","v":0},0,"",null,null,null,null,null,null,null,null,null,null,null,null,null,null,null,null,null,null,null,null,null,null,null,null,null,null,null,null,null,null,null,null,null,null,null,null,{"$f":"BL7","v":0},{"$f":"BL34","v":0},{"$f":"BL27","v":0},{"$f":"BL54","v":0},0,"",null,null,null,null,null,null,null,null,null,null,null,null,null,null,null,null,null,null,null,null,null,null,null,null,null,null,null,null,null,null,null,null,null,null,null,null,{"$f":"DB7","v":0},{"$f":"DB34","v":0},{"$f":"DB27","v":0},{"$f":"DB54","v":0},0,"",null,null,null,null,null,null,null,null,null,null,null,null,null,null,null,null,null,null,null,null,null,null,null,null,null,null,null,null,null,null,null,null,null,null,null,null,{"$f":"ER7","v":0},{"$f":"ER34","v":0},{"$f":"ER27","v":0},{"$f":"ER54","v":0},0,"",null,null,null,null,null,null,null,null,null,null,null,null,null,null,null,null,null,null,null,null,null,null,null,null,null,null,null,null,null,null,null,null,null,null,null,null,{"$f":"GH7","v":0},{"$f":"GH34","v":0},{"$f":"GH27","v":0},{"$f":"GH54","v":0},0,"",null,null,null,null,null,null,null,null,null,null,null,null,null,null,null,null,null,null,null,null,null,null,null,null,null,null,null,null,null,null,null,null,null,null,null,null,{"$f":"HX7","v":0},{"$f":"HX34","v":0},{"$f":"HX27","v":0},{"$f":"HX54","v":0},0,"",null,null,null,null,null,null,null,null,null,null,null,null,null,null,null,null,null,null,null,null,null,null,null,null,null,null,null,null,null,null,null,null,null,null,null,null,{"$f":"JN7","v":0},{"$f":"JN34","v":0},{"$f":"JN27","v":0},{"$f":"JN54","v":0},0,"",null,null,null,null,null,null,null,null,null,null,null,null,null,null,null,null,null,null,null,null,null,null,null,null,null,null,null,null,null,null,null,null,null,null,null,null,{"$f":"LD7","v":0},{"$f":"LD34","v":0},{"$f":"LD27","v":0},{"$f":"LD54","v":0},0,"",null,null,null,null,null,null,null,null,null,null,null,null,null,null,null,null,null,null,null,null,null,null,null,null,null,null,null,null,null,null,null,null,null,null,null,null,{"$f":"MT7","v":0},{"$f":"MT34","v":0},{"$f":"MT27","v":0},{"$f":"MT54","v":0},0,"",null,null,null,null,null,null,null,null,null,null,null,null,null,null,null,null,null,null,null,null,null,null,null,null,null,null,null,null,null,null,null,null,null,null,null,null,{"$f":"OJ7","v":0},{"$f":"OJ34","v":0},{"$f":"OJ27","v":0},{"$f":"OJ54","v":0},0,""]
[null,null,null,null,null,{"$f":"X7","v":0},{"$f":"X34","v":0},{"$f":"X27","v":0},{"$f":"X54","v":0},0,"",null,null,null,null,null,null,null,null,null,null,null,null,null,null,null,null,null,null,null,null,null,null,null,null,null,null,null,null,null,null,null,null,null,null,null,null,{"$f":"BN7","v":0},{"$f":"BN34","v":0},{"$f":"BN27","v":0},{"$f":"BN54","v":0},0,"",null,null,null,null,null,null,null,null,null,null,null,null,null,null,null,null,null,null,null,null,null,null,null,null,null,null,null,null,null,null,null,null,null,null,null,null,{"$f":"DD7","v":0},{"$f":"DD34","v":0},{"$f":"DD27","v":0},{"$f":"DD54","v":0},0,"",null,null,null,null,null,null,null,null,null,null,null,null,null,null,null,null,null,null,null,null,null,null,null,null,null,null,null,null,null,null,null,null,null,null,null,null,{"$f":"ET7","v":0},{"$f":"ET34","v":0},{"$f":"ET27","v":0},{"$f":"ET54","v":0},0,"",null,null,null,null,null,null,null,null,null,null,null,null,null,null,null,null,null,null,null,null,null,null,null,null,null,null,null,null,null,null,null,null,null,null,null,null,{"$f":"GJ7","v":0},{"$f":"GJ34","v":0},{"$f":"GJ27","v":0},{"$f":"GJ54","v":0},0,"",null,null,null,null,null,null,null,null,null,null,null,null,null,null,null,null,null,null,null,null,null,null,null,null,null,null,null,null,null,null,null,null,null,null,null,null,{"$f":"HZ7","v":0},{"$f":"HZ34","v":0},{"$f":"HZ27","v":0},{"$f":"HZ54","v":0},0,"",null,null,null,null,null,null,null,null,null,null,null,null,null,null,null,null,null,null,null,null,null,null,null,null,null,null,null,null,null,null,null,null,null,null,null,null,{"$f":"JP7","v":0},{"$f":"JP34","v":0},{"$f":"JP27","v":0},{"$f":"JP54","v":0},0,"",null,null,null,null,null,null,null,null,null,null,null,null,null,null,null,null,null,null,null,null,null,null,null,null,null,null,null,null,null,null,null,null,null,null,null,null,{"$f":"LF7","v":0},{"$f":"LF34","v":0},{"$f":"LF27","v":0},{"$f":"LF54","v":0},0,"",null,null,null,null,null,null,null,null,null,null,null,null,null,null,null,null,null,null,null,null,null,null,null,null,null,null,null,null,null,null,null,null,null,null,null,null,{"$f":"MV7","v":0},{"$f":"MV34","v":0},{"$f":"MV27","v":0},{"$f":"MV54","v":0},0,"",null,null,null,null,null,null,null,null,null,null,null,null,null,null,null,null,null,null,null,null,null,null,null,null,null,null,null,null,null,null,null,null,null,null,null,null,{"$f":"OL7","v":0},{"$f":"OL34","v":0},{"$f":"OL27","v":0},{"$f":"OL54","v":0},0,""]
[null,null,null,null,null,{"$f":"Z7","v":0},{"$f":"Z34","v":0},{"$f":"Z27","v":0},{"$f":"Z54","v":0},0,"",null,null,null,null,null,null,null,null,null,null,null,null,null,null,null,null,null,null,null,null,null,null,null,null,null,null,null,null,null,null,null,null,null,null,null,null,{"$f":"BP7","v":0},{"$f":"BP34","v":0},{"$f":"BP27","v":0},{"$f":"BP54","v":0},0,"",null,null,null,null,null,null,null,null,null,null,null,null,null,null,null,null,null,null,null,null,null,null,null,null,null,null,null,null,null,null,null,null,null,null,null,null,{"$f":"DF7","v":0},{"$f":"DF34","v":0},{"$f":"DF27","v":0},{"$f":"DF54","v":0},0,"",null,null,null,null,null,null,null,null,null,null,null,null,null,null,null,null,null,null,null,null,null,null,null,null,null,null,null,null,null,null,null,null,null,null,null,null,{"$f":"EV7","v":0},{"$f":"EV34","v":0},{"$f":"EV27","v":0},{"$f":"EV54","v":0},0,"",null,null,null,null,null,null,null,null,null,null,null,null,null,null,null,null,null,null,null,null,null,null,null,null,null,null,null,null,null,null,null,null,null,null,null,null,{"$f":"GL7","v":0},{"$f":"GL34","v":0},{"$f":"GL27","v":0},{"$f":"GL54","v":0},0,"",null,null,null,null,null,null,null,null,null,null,null,null,null,null,null,null,null,null,null,null,null,null,null,null,null,null,null,null,null,null,null,null,null,null,null,null,{"$f":"IB7","v":0},{"$f":"IB34","v":0},{"$f":"IB27","v":0},{"$f":"IB54","v":0},0,"",null,null,null,null,null,null,null,null,null,null,null,null,null,null,null,null,null,null,null,null,null,null,null,null,null,null,null,null,null,null,null,null,null,null,null,null,{"$f":"JR7","v":0},{"$f":"JR34","v":0},{"$f":"JR27","v":0},{"$f":"JR54","v":0},0,"",null,null,null,null,null,null,null,null,null,null,null,null,null,null,null,null,null,null,null,null,null,null,null,null,null,null,null,null,null,null,null,null,null,null,null,null,{"$f":"LH7","v":0},{"$f":"LH34","v":0},{"$f":"LH27","v":0},{"$f":"LH54","v":0},0,"",null,null,null,null,null,null,null,null,null,null,null,null,null,null,null,null,null,null,null,null,null,null,null,null,null,null,null,null,null,null,null,null,null,null,null,null,{"$f":"MX7","v":0},{"$f":"MX34","v":0},{"$f":"MX27","v":0},{"$f":"MX54","v":0},0,"",null,null,null,null,null,null,null,null,null,null,null,null,null,null,null,null,null,null,null,null,null,null,null,null,null,null,null,null,null,null,null,null,null,null,null,null,{"$f":"ON7","v":0},{"$f":"ON34","v":0},{"$f":"ON27","v":0},{"$f":"ON54","v":0},0,""]
[null,null,null,null,null,{"$f":"AB7","v":0},{"$f":"AB34","v":0},{"$f":"AB27","v":0},{"$f":"AB54","v":0},0,"",null,null,null,null,null,null,null,null,null,null,null,null,null,null,null,null,null,null,null,null,null,null,null,null,null,null,null,null,null,null,null,null,null,null,null,null,{"$f":"BR7","v":0},{"$f":"BR34","v":0},{"$f":"BR27","v":0},{"$f":"BR54","v":0},0,"",null,null,null,null,null,null,null,null,null,null,null,null,null,null,null,null,null,null,null,null,null,null,null,null,null,null,null,null,null,null,null,null,null,null,null,null,{"$f":"DH7","v":0},{"$f":"DH34","v":0},{"$f":"DH27","v":0},{"$f":"DH54","v":0},0,"",null,null,null,null,null,null,null,null,null,null,null,null,null,null,null,null,null,null,null,null,null,null,null,null,null,null,null,null,null,null,null,null,null,null,null,null,{"$f":"EX7","v":0},{"$f":"EX34","v":0},{"$f":"EX27","v":0},{"$f":"EX54","v":0},0,"",null,null,null,null,null,null,null,null,null,null,null,null,null,null,null,null,null,null,null,null,null,null,null,null,null,null,null,null,null,null,null,null,null,null,null,null,{"$f":"GN7","v":0},{"$f":"GN34","v":0},{"$f":"GN27","v":0},{"$f":"GN54","v":0},0,"",null,null,null,null,null,null,null,null,null,null,null,null,null,null,null,null,null,null,null,null,null,null,null,null,null,null,null,null,null,null,null,null,null,null,null,null,{"$f":"ID7","v":0},{"$f":"ID34","v":0},{"$f":"ID27","v":0},{"$f":"ID54","v":0},0,"",null,null,null,null,null,null,null,null,null,null,null,null,null,null,null,null,null,null,null,null,null,null,null,null,null,null,null,null,null,null,null,null,null,null,null,null,{"$f":"JT7","v":0},{"$f":"JT34","v":0},{"$f":"JT27","v":0},{"$f":"JT54","v":0},0,"",null,null,null,null,null,null,null,null,null,null,null,null,null,null,null,null,null,null,null,null,null,null,null,null,null,null,null,null,null,null,null,null,null,null,null,null,{"$f":"LJ7","v":0},{"$f":"LJ34","v":0},{"$f":"LJ27","v":0},{"$f":"LJ54","v":0},0,"",null,null,null,null,null,null,null,null,null,null,null,null,null,null,null,null,null,null,null,null,null,null,null,null,null,null,null,null,null,null,null,null,null,null,null,null,{"$f":"MZ7","v":0},{"$f":"MZ34","v":0},{"$f":"MZ27","v":0},{"$f":"MZ54","v":0},0,"",null,null,null,null,null,null,null,null,null,null,null,null,null,null,null,null,null,null,null,null,null,null,null,null,null,null,null,null,null,null,null,null,null,null,null,null,{"$f":"OP7","v":0},{"$f":"OP34","v":0},{"$f":"OP27","v":0},{"$f":"OP54","v":0},0,""]
[null,null,null,null,null,{"$f":"AD7","v":0},{"$f":"AD34","v":0},{"$f":"AD27","v":0},{"$f":"AD54","v":0},0,"",null,null,null,null,null,null,null,null,null,null,null,null,null,null,null,null,null,null,null,null,null,null,null,null,null,null,null,null,null,null,null,null,null,null,null,null,{"$f":"BT7","v":0},{"$f":"BT34","v":0},{"$f":"BT27","v":0},{"$f":"BT54","v":0},0,"",null,null,null,null,null,null,null,null,null,null,null,null,null,null,null,null,null,null,null,null,null,null,null,null,null,null,null,null,null,null,null,null,null,null,null,null,{"$f":"DJ7","v":0},{"$f":"DJ34","v":0},{"$f":"DJ27","v":0},{"$f":"DJ54","v":0},0,"",null,null,null,null,null,null,null,null,null,null,null,null,null,null,null,null,null,null,null,null,null,null,null,null,null,null,null,null,null,null,null,null,null,null,null,null,{"$f":"EZ7","v":0},{"$f":"EZ34","v":0},{"$f":"EZ27","v":0},{"$f":"EZ54","v":0},0,"",null,null,null,null,null,null,null,null,null,null,null,null,null,null,null,null,null,null,null,null,null,null,null,null,null,null,null,null,null,null,null,null,null,null,null,null,{"$f":"GP7","v":0},{"$f":"GP34","v":0},{"$f":"GP27","v":0},{"$f":"GP54","v":0},0,"",null,null,null,null,null,null,null,null,null,null,null,null,null,null,null,null,null,null,null,null,null,null,null,null,null,null,null,null,null,null,null,null,null,null,null,null,{"$f":"IF7","v":0},{"$f":"IF34","v":0},{"$f":"IF27","v":0},{"$f":"IF54","v":0},0,"",null,null,null,null,null,null,null,null,null,null,null,null,null,null,null,null,null,null,null,null,null,null,null,null,null,null,null,null,null,null,null,null,null,null,null,null,{"$f":"JV7","v":0},{"$f":"JV34","v":0},{"$f":"JV27","v":0},{"$f":"JV54","v":0},0,"",null,null,null,null,null,null,null,null,null,null,null,null,null,null,null,null,null,null,null,null,null,null,null,null,null,null,null,null,null,null,null,null,null,null,null,null,{"$f":"LL7","v":0},{"$f":"LL34","v":0},{"$f":"LL27","v":0},{"$f":"LL54","v":0},0,"",null,null,null,null,null,null,null,null,null,null,null,null,null,null,null,null,null,null,null,null,null,null,null,null,null,null,null,null,null,null,null,null,null,null,null,null,{"$f":"NB7","v":0},{"$f":"NB34","v":0},{"$f":"NB27","v":0},{"$f":"NB54","v":0},0,"",null,null,null,null,null,null,null,null,null,null,null,null,null,null,null,null,null,null,null,null,null,null,null,null,null,null,null,null,null,null,null,null,null,null,null,null,{"$f":"OR7","v":0},{"$f":"OR34","v":0},{"$f":"OR27","v":0},{"$f":"OR54","v":0},0,""]
[null,null,null,null,null,{"$f":"AF7","v":0},{"$f":"AF34","v":0},{"$f":"AF27","v":0},{"$f":"AF54","v":0},0,"",null,null,null,null,null,null,null,null,null,null,null,null,null,null,null,null,null,null,null,null,null,null,null,null,null,null,null,null,null,null,null,null,null,null,null,null,{"$f":"BV7","v":0},{"$f":"BV34","v":0},{"$f":"BV27","v":0},{"$f":"BV54","v":0},0,"",null,null,null,null,null,null,null,null,null,null,null,null,null,null,null,null,null,null,null,null,null,null,null,null,null,null,null,null,null,null,null,null,null,null,null,null,{"$f":"DL7","v":0},{"$f":"DL34","v":0},{"$f":"DL27","v":0},{"$f":"DL54","v":0},0,"",null,null,null,null,null,null,null,null,null,null,null,null,null,null,null,null,null,null,null,null,null,null,null,null,null,null,null,null,null,null,null,null,null,null,null,null,{"$f":"FB7","v":0},{"$f":"FB34","v":0},{"$f":"FB27","v":0},{"$f":"FB54","v":0},0,"",null,null,null,null,null,null,null,null,null,null,null,null,null,null,null,null,null,null,null,null,null,null,null,null,null,null,null,null,null,null,null,null,null,null,null,null,{"$f":"GR7","v":0},{"$f":"GR34","v":0},{"$f":"GR27","v":0},{"$f":"GR54","v":0},0,"",null,null,null,null,null,null,null,null,null,null,null,null,null,null,null,null,null,null,null,null,null,null,null,null,null,null,null,null,null,null,null,null,null,null,null,null,{"$f":"IH7","v":0},{"$f":"IH34","v":0},{"$f":"IH27","v":0},{"$f":"IH54","v":0},0,"",null,null,null,null,null,null,null,null,null,null,null,null,null,null,null,null,null,null,null,null,null,null,null,null,null,null,null,null,null,null,null,null,null,null,null,null,{"$f":"JX7","v":0},{"$f":"JX34","v":0},{"$f":"JX27","v":0},{"$f":"JX54","v":0},0,"",null,null,null,null,null,null,null,null,null,null,null,null,null,null,null,null,null,null,null,null,null,null,null,null,null,null,null,null,null,null,null,null,null,null,null,null,{"$f":"LN7","v":0},{"$f":"LN34","v":0},{"$f":"LN27","v":0},{"$f":"LN54","v":0},0,"",null,null,null,null,null,null,null,null,null,null,null,null,null,null,null,null,null,null,null,null,null,null,null,null,null,null,null,null,null,null,null,null,null,null,null,null,{"$f":"ND7","v":0},{"$f":"ND34","v":0},{"$f":"ND27","v":0},{"$f":"ND54","v":0},0,"",null,null,null,null,null,null,null,null,null,null,null,null,null,null,null,null,null,null,null,null,null,null,null,null,null,null,null,null,null,null,null,null,null,null,null,null,{"$f":"OT7","v":0},{"$f":"OT34","v":0},{"$f":"OT27","v":0},{"$f":"OT54","v":0},0,""]
[null,null,null,null,null,{"$f":"AH7","v":0},{"$f":"AH34","v":0},{"$f":"AH27","v":0},{"$f":"AH54","v":0},0,"",null,null,null,null,null,null,null,null,null,null,null,null,null,null,null,null,null,null,null,null,null,null,null,null,null,null,null,null,null,null,null,null,null,null,null,null,{"$f":"BX7","v":0},{"$f":"BX34","v":0},{"$f":"BX27","v":0},{"$f":"BX54","v":0},0,"",null,null,null,null,null,null,null,null,null,null,null,null,null,null,null,null,null,null,null,null,null,null,null,null,null,null,null,null,null,null,null,null,null,null,null,null,{"$f":"DN7","v":0},{"$f":"DN34","v":0},{"$f":"DN27","v":0},{"$f":"DN54","v":0},0,"",null,null,null,null,null,null,null,null,null,null,null,null,null,null,null,null,null,null,null,null,null,null,null,null,null,null,null,null,null,null,null,null,null,null,null,null,{"$f":"FD7","v":0},{"$f":"FD34","v":0},{"$f":"FD27","v":0},{"$f":"FD54","v":0},0,"",null,null,null,null,null,null,null,null,null,null,null,null,null,null,null,null,null,null,null,null,null,null,null,null,null,null,null,null,null,null,null,null,null,null,null,null,{"$f":"GT7","v":0},{"$f":"GT34","v":0},{"$f":"GT27","v":0},{"$f":"GT54","v":0},0,"",null,null,null,null,null,null,null,null,null,null,null,null,null,null,null,null,null,null,null,null,null,null,null,null,null,null,null,null,null,null,null,null,null,null,null,null,{"$f":"IJ7","v":0},{"$f":"IJ34","v":0},{"$f":"IJ27","v":0},{"$f":"IJ54","v":0},0,"",null,null,null,null,null,null,null,null,null,null,null,null,null,null,null,null,null,null,null,null,null,null,null,null,null,null,null,null,null,null,null,null,null,null,null,null,{"$f":"JZ7","v":0},{"$f":"JZ34","v":0},{"$f":"JZ27","v":0},{"$f":"JZ54","v":0},0,"",null,null,null,null,null,null,null,null,null,null,null,null,null,null,null,null,null,null,null,null,null,null,null,null,null,null,null,null,null,null,null,null,null,null,null,null,{"$f":"LP7","v":0},{"$f":"LP34","v":0},{"$f":"LP27","v":0},{"$f":"LP54","v":0},0,"",null,null,null,null,null,null,null,null,null,null,null,null,null,null,null,null,null,null,null,null,null,null,null,null,null,null,null,null,null,null,null,null,null,null,null,null,{"$f":"NF7","v":0},{"$f":"NF34","v":0},{"$f":"NF27","v":0},{"$f":"NF54","v":0},0,"",null,null,null,null,null,null,null,null,null,null,null,null,null,null,null,null,null,null,null,null,null,null,null,null,null,null,null,null,null,null,null,null,null,null,null,null,{"$f":"OV7","v":0},{"$f":"OV34","v":0},{"$f":"OV27","v":0},{"$f":"OV54","v":0},0,""]
[null,null,null,null,null,{"$f":"AJ7","v":0},{"$f":"AJ34","v":0},{"$f":"AJ27","v":0},{"$f":"AJ54","v":0},0,"",null,null,null,null,null,null,null,null,null,null,null,null,null,null,null,null,null,null,null,null,null,null,null,null,null,null,null,null,null,null,null,null,null,null,null,null,{"$f":"BZ7","v":0},{"$f":"BZ34","v":0},{"$f":"BZ27","v":0},{"$f":"BZ54","v":0},0,"",null,null,null,null,null,null,null,null,null,null,null,null,null,null,null,null,null,null,null,null,null,null,null,null,null,null,null,null,null,null,null,null,null,null,null,null,{"$f":"DP7","v":0},{"$f":"DP34","v":0},{"$f":"DP27","v":0},{"$f":"DP54","v":0},0,"",null,null,null,null,null,null,null,null,null,null,null,null,null,null,null,null,null,null,null,null,null,null,null,null,null,null,null,null,null,null,null,null,null,null,null,null,{"$f":"FF7","v":0},{"$f":"FF34","v":0},{"$f":"FF27","v":0},{"$f":"FF54","v":0},0,"",null,null,null,null,null,null,null,null,null,null,null,null,null,null,null,null,null,null,null,null,null,null,null,null,null,null,null,null,null,null,null,null,null,null,null,null,{"$f":"GV7","v":0},{"$f":"GV34","v":0},{"$f":"GV27","v":0},{"$f":"GV54","v":0},0,"",null,null,null,null,null,null,null,null,null,null,null,null,null,null,null,null,null,null,null,null,null,null,null,null,null,null,null,null,null,null,null,null,null,null,null,null,{"$f":"IL7","v":0},{"$f":"IL34","v":0},{"$f":"IL27","v":0},{"$f":"IL54","v":0},0,"",null,null,null,null,null,null,null,null,null,null,null,null,null,null,null,null,null,null,null,null,null,null,null,null,null,null,null,null,null,null,null,null,null,null,null,null,{"$f":"KB7","v":0},{"$f":"KB34","v":0},{"$f":"KB27","v":0},{"$f":"KB54","v":0},0,"",null,null,null,null,null,null,null,null,null,null,null,null,null,null,null,null,null,null,null,null,null,null,null,null,null,null,null,null,null,null,null,null,null,null,null,null,{"$f":"LR7","v":0},{"$f":"LR34","v":0},{"$f":"LR27","v":0},{"$f":"LR54","v":0},0,"",null,null,null,null,null,null,null,null,null,null,null,null,null,null,null,null,null,null,null,null,null,null,null,null,null,null,null,null,null,null,null,null,null,null,null,null,{"$f":"NH7","v":0},{"$f":"NH34","v":0},{"$f":"NH27","v":0},{"$f":"NH54","v":0},0,"",null,null,null,null,null,null,null,null,null,null,null,null,null,null,null,null,null,null,null,null,null,null,null,null,null,null,null,null,null,null,null,null,null,null,null,null,{"$f":"OX7","v":0},{"$f":"OX34","v":0},{"$f":"OX27","v":0},{"$f":"OX54","v":0},0,""]
[null,null,null,null,null,{"$f":"AL7","v":0},{"$f":"AL34","v":0},{"$f":"AL27","v":0},{"$f":"AL54","v":0},0,"",null,null,null,null,null,null,null,null,null,null,null,null,null,null,null,null,null,null,null,null,null,null,null,null,null,null,null,null,null,null,null,null,null,null,null,null,{"$f":"CB7","v":0},{"$f":"CB34","v":0},{"$f":"CB27","v":0},{"$f":"CB54","v":0},0,"",null,null,null,null,null,null,null,null,null,null,null,null,null,null,null,null,null,null,null,null,null,null,null,null,null,null,null,null,null,null,null,null,null,null,null,null,{"$f":"DR7","v":0},{"$f":"DR34","v":0},{"$f":"DR27","v":0},{"$f":"DR54","v":0},0,"",null,null,null,null,null,null,null,null,null,null,null,null,null,null,null,null,null,null,null,null,null,null,null,null,null,null,null,null,null,null,null,null,null,null,null,null,{"$f":"FH7","v":0},{"$f":"FH34","v":0},{"$f":"FH27","v":0},{"$f":"FH54","v":0},0,"",null,null,null,null,null,null,null,null,null,null,null,null,null,null,null,null,null,null,null,null,null,null,null,null,null,null,null,null,null,null,null,null,null,null,null,null,{"$f":"GX7","v":0},{"$f":"GX34","v":0},{"$f":"GX27","v":0},{"$f":"GX54","v":0},0,"",null,null,null,null,null,null,null,null,null,null,null,null,null,null,null,null,null,null,null,null,null,null,null,null,null,null,null,null,null,null,null,null,null,null,null,null,{"$f":"IN7","v":0},{"$f":"IN34","v":0},{"$f":"IN27","v":0},{"$f":"IN54","v":0},0,"",null,null,null,null,null,null,null,null,null,null,null,null,null,null,null,null,null,null,null,null,null,null,null,null,null,null,null,null,null,null,null,null,null,null,null,null,{"$f":"KD7","v":0},{"$f":"KD34","v":0},{"$f":"KD27","v":0},{"$f":"KD54","v":0},0,"",null,null,null,null,null,null,null,null,null,null,null,null,null,null,null,null,null,null,null,null,null,null,null,null,null,null,null,null,null,null,null,null,null,null,null,null,{"$f":"LT7","v":0},{"$f":"LT34","v":0},{"$f":"LT27","v":0},{"$f":"LT54","v":0},0,"",null,null,null,null,null,null,null,null,null,null,null,null,null,null,null,null,null,null,null,null,null,null,null,null,null,null,null,null,null,null,null,null,null,null,null,null,{"$f":"NJ7","v":0},{"$f":"NJ34","v":0},{"$f":"NJ27","v":0},{"$f":"NJ54","v":0},0,"",null,null,null,null,null,null,null,null,null,null,null,null,null,null,null,null,null,null,null,null,null,null,null,null,null,null,null,null,null,null,null,null,null,null,null,null,{"$f":"OZ7","v":0},{"$f":"OZ34","v":0},{"$f":"OZ27","v":0},{"$f":"OZ54","v":0},0,""]
[null,null,null,null,null,{"$f":"AN7","v":0},{"$f":"AN34","v":0},{"$f":"AN27","v":0},{"$f":"AN54","v":0},0,"",null,null,null,null,null,null,null,null,null,null,null,null,null,null,null,null,null,null,null,null,null,null,null,null,null,null,null,null,null,null,null,null,null,null,null,null,{"$f":"CD7","v":0},{"$f":"CD34","v":0},{"$f":"CD27","v":0},{"$f":"CD54","v":0},0,"",null,null,null,null,null,null,null,null,null,null,null,null,null,null,null,null,null,null,null,null,null,null,null,null,null,null,null,null,null,null,null,null,null,null,null,null,{"$f":"DT7","v":0},{"$f":"DT34","v":0},{"$f":"DT27","v":0},{"$f":"DT54","v":0},0,"",null,null,null,null,null,null,null,null,null,null,null,null,null,null,null,null,null,null,null,null,null,null,null,null,null,null,null,null,null,null,null,null,null,null,null,null,{"$f":"FJ7","v":0},{"$f":"FJ34","v":0},{"$f":"FJ27","v":0},{"$f":"FJ54","v":0},0,"",null,null,null,null,null,null,null,null,null,null,null,null,null,null,null,null,null,null,null,null,null,null,null,null,null,null,null,null,null,null,null,null,null,null,null,null,{"$f":"GZ7","v":0},{"$f":"GZ34","v":0},{"$f":"GZ27","v":0},{"$f":"GZ54","v":0},0,"",null,null,null,null,null,null,null,null,null,null,null,null,null,null,null,null,null,null,null,null,null,null,null,null,null,null,null,null,null,null,null,null,null,null,null,null,{"$f":"IP7","v":0},{"$f":"IP34","v":0},{"$f":"IP27","v":0},{"$f":"IP54","v":0},0,"",null,null,null,null,null,null,null,null,null,null,null,null,null,null,null,null,null,null,null,null,null,null,null,null,null,null,null,null,null,null,null,null,null,null,null,null,{"$f":"KF7","v":0},{"$f":"KF34","v":0},{"$f":"KF27","v":0},{"$f":"KF54","v":0},0,"",null,null,null,null,null,null,null,null,null,null,null,null,null,null,null,null,null,null,null,null,null,null,null,null,null,null,null,null,null,null,null,null,null,null,null,null,{"$f":"LV7","v":0},{"$f":"LV34","v":0},{"$f":"LV27","v":0},{"$f":"LV54","v":0},0,"",null,null,null,null,null,null,null,null,null,null,null,null,null,null,null,null,null,null,null,null,null,null,null,null,null,null,null,null,null,null,null,null,null,null,null,null,{"$f":"NL7","v":0},{"$f":"NL34","v":0},{"$f":"NL27","v":0},{"$f":"NL54","v":0},0,"",null,null,null,null,null,null,null,null,null,null,null,null,null,null,null,null,null,null,null,null,null,null,null,null,null,null,null,null,null,null,null,null,null,null,null,null,{"$f":"PB7","v":0},{"$f":"PB34","v":0},{"$f":"PB27","v":0},{"$f":"PB54","v":0},0,""]
[null,null,null,null,null,{"$f":"AP7","v":0},{"$f":"AP34","v":0},{"$f":"AP27","v":0},{"$f":"AP54","v":0},0,"",null,null,null,null,null,null,null,null,null,null,null,null,null,null,null,null,null,null,null,null,null,null,null,null,null,null,null,null,null,null,null,null,null,null,null,null,{"$f":"CF7","v":0},{"$f":"CF34","v":0},{"$f":"CF27","v":0},{"$f":"CF54","v":0},0,"",null,null,null,null,null,null,null,null,null,null,null,null,null,null,null,null,null,null,null,null,null,null,null,null,null,null,null,null,null,null,null,null,null,null,null,null,{"$f":"DV7","v":0},{"$f":"DV34","v":0},{"$f":"DV27","v":0},{"$f":"DV54","v":0},0,"",null,null,null,null,null,null,null,null,null,null,null,null,null,null,null,null,null,null,null,null,null,null,null,null,null,null,null,null,null,null,null,null,null,null,null,null,{"$f":"FL7","v":0},{"$f":"FL34","v":0},{"$f":"FL27","v":0},{"$f":"FL54","v":0},0,"",null,null,null,null,null,null,null,null,null,null,null,null,null,null,null,null,null,null,null,null,null,null,null,null,null,null,null,null,null,null,null,null,null,null,null,null,{"$f":"HB7","v":0},{"$f":"HB34","v":0},{"$f":"HB27","v":0},{"$f":"HB54","v":0},0,"",null,null,null,null,null,null,null,null,null,null,null,null,null,null,null,null,null,null,null,null,null,null,null,null,null,null,null,null,null,null,null,null,null,null,null,null,{"$f":"IR7","v":0},{"$f":"IR34","v":0},{"$f":"IR27","v":0},{"$f":"IR54","v":0},0,"",null,null,null,null,null,null,null,null,null,null,null,null,null,null,null,null,null,null,null,null,null,null,null,null,null,null,null,null,null,null,null,null,null,null,null,null,{"$f":"KH7","v":0},{"$f":"KH34","v":0},{"$f":"KH27","v":0},{"$f":"KH54","v":0},0,"",null,null,null,null,null,null,null,null,null,null,null,null,null,null,null,null,null,null,null,null,null,null,null,null,null,null,null,null,null,null,null,null,null,null,null,null,{"$f":"LX7","v":0},{"$f":"LX34","v":0},{"$f":"LX27","v":0},{"$f":"LX54","v":0},0,"",null,null,null,null,null,null,null,null,null,null,null,null,null,null,null,null,null,null,null,null,null,null,null,null,null,null,null,null,null,null,null,null,null,null,null,null,{"$f":"NN7","v":0},{"$f":"NN34","v":0},{"$f":"NN27","v":0},{"$f":"NN54","v":0},0,"",null,null,null,null,null,null,null,null,null,null,null,null,null,null,null,null,null,null,null,null,null,null,null,null,null,null,null,null,null,null,null,null,null,null,null,null,{"$f":"PD7","v":0},{"$f":"PD34","v":0},{"$f":"PD27","v":0},{"$f":"PD54","v":0},0,""]
[null,null,null,null,null,{"$f":"AR7","v":0},{"$f":"AR34","v":0},{"$f":"AR27","v":0},{"$f":"AR54","v":0},0,"",null,null,null,null,null,null,null,null,null,null,null,null,null,null,null,null,null,null,null,null,null,null,null,null,null,null,null,null,null,null,null,null,null,null,null,null,{"$f":"CH7","v":0},{"$f":"CH34","v":0},{"$f":"CH27","v":0},{"$f":"CH54","v":0},0,"",null,null,null,null,null,null,null,null,null,null,null,null,null,null,null,null,null,null,null,null,null,null,null,null,null,null,null,null,null,null,null,null,null,null,null,null,{"$f":"DX7","v":0},{"$f":"DX34","v":0},{"$f":"DX27","v":0},{"$f":"DX54","v":0},0,null,null,null,null,null,null,null,null,null,null,null,null,null,null,null,null,null,null,null,null,null,null,null,null,null,null,null,null,null,null,null,null,null,null,null,null,null,{"$f":"FN7","v":0},{"$f":"FN34","v":0},{"$f":"FN27","v":0},{"$f":"FN54","v":0},0,"",null,null,null,null,null,null,null,null,null,null,null,null,null,null,null,null,null,null,null,null,null,null,null,null,null,null,null,null,null,null,null,null,null,null,null,null,{"$f":"HD7","v":0},{"$f":"HD34","v":0},{"$f":"HD27","v":0},{"$f":"HD54","v":0},0,"",null,null,null,null,null,null,null,null,null,null,null,null,null,null,null,null,null,null,null,null,null,null,null,null,null,null,null,null,null,null,null,null,null,null,null,null,{"$f":"IT7","v":0},{"$f":"IT34","v":0},{"$f":"IT27","v":0},{"$f":"IT54","v":0},0,"",null,null,null,null,null,null,null,null,null,null,null,null,null,null,null,null,null,null,null,null,null,null,null,null,null,null,null,null,null,null,null,null,null,null,null,null,{"$f":"KJ7","v":0},{"$f":"KJ34","v":0},{"$f":"KJ27","v":0},{"$f":"KJ54","v":0},0,"",null,null,null,null,null,null,null,null,null,null,null,null,null,null,null,null,null,null,null,null,null,null,null,null,null,null,null,null,null,null,null,null,null,null,null,null,{"$f":"LZ7","v":0},{"$f":"LZ34","v":0},{"$f":"LZ27","v":0},{"$f":"LZ54","v":0},0,"",null,null,null,null,null,null,null,null,null,null,null,null,null,null,null,null,null,null,null,null,null,null,null,null,null,null,null,null,null,null,null,null,null,null,null,null,{"$f":"NP7","v":0},{"$f":"NP34","v":0},{"$f":"NP27","v":0},{"$f":"NP54","v":0},0,"",null,null,null,null,null,null,null,null,null,null,null,null,null,null,null,null,null,null,null,null,null,null,null,null,null,null,null,null,null,null,null,null,null,null,null,null,{"$f":"PF7","v":0},{"$f":"PF34","v":0},{"$f":"PF27","v":0},{"$f":"PF54","v":0},0,""]

{"sheet":"Gas Totals","index":3,"n_rows":120,"n_cols":130,"rows_kept":120,"cut":false,"hidden":true,"merged":[[49,101,49,102],[51,101,51,102],[52,101,52,102],[4,103,4,104],[5,103,5,104],[6,103,6,104],[24,103,24,104],[26,103,26,104],[27,103,27,104],[29,103,29,104],[30,103,30,104],[31,103,31,104],[49,103,49,104],[51,103,51,104],[52,103,52,104],[4,101,4,102],[5,101,5,102],[6,101,6,102],[24,101,24,102],[26,101,26,102],[27,101,27,102],[29,101,29,102],[30,101,30,102],[31,101,31,102],[49,97,49,98],[51,97,51,98],[52,97,52,98],[4,99,4,100],[5,99,5,100],[6,99,6,100],[24,99,24,100],[26,99,26,100],[27,99,27,100],[29,99,29,100],[30,99,30,100],[31,99,31,100],[49,99,49,100],[51,99,51,100],[52,99,52,100],[4,97,4,98],[5,97,5,98],[6,97,6,98],[24,97,24,98],[26,97,26,98],[27,97,27,98],[29,97,29,98],[30,97,30,98],[31,97,31,98],[49,93,49,94],[51,93,51,94],[52,93,52,94],[4,95,4,96],[5,95,5,96],[6,95,6,96],[24,95,24,96],[26,95,26,96],[27,95,27,96],[29,95,29,96],[30,95,30,96],[31,95,31,96],[49,95,49,96],[51,95,51,96],[52,95,52,96],[4,93,4,94],[5,93,5,94],[6,93,6,94],[24,93,24,94],[26,93,26,94],[27,93,27,94],[29,93,29,94],[30,93,30,94],[31,93,31,94],[49,89,49,90],[51,89,51,90],[52,89,52,90],[4,91,4,92],[5,91,5,92],[6,91,6,92],[24,91,24,92],[26,91,26,92],[27,91,27,92],[29,91,29,92],[30,91,30,92],[31,91,31,92],[49,91,49,92],[51,91,51,92],[52,91,52,92],[4,89,4,90],[5,89,5,90],[6,89,6,90],[24,89,24,90],[26,89,26,90],[27,89,27,90],[29,89,29,90],[30,89,30,90],[31,89,31,90],[49,85,49,86],[51,85,51,86],[52,85,52,86],[4,87,4,88],[5,87,5,88],[6,87,6,88],[24,87,24,88],[26,87,26,88],[27,87,27,88],[29,87,29,88],[30,87,30,88],[31,87,31,88],[49,87,49,88],[51,87,51,88],[52,87,52,88],[4,85,4,86],[5,85,5,86],[6,85,6,86],[24,85,24,86],[26,85,26,86],[27,85,27,86],[29,85,29,86],[30,85,30,86],[31,85,31,86],[49,81,49,82],[51,81,51,82],[52,81,52,82],[4,83,4,84],[5,83,5,84],[6,83,6,84],[24,83,24,84],[26,83,26,84],[27,83,27,84],[29,83,29,84],[30,83,30,84],[31,83,31,84],[49,83,49,84],[51,83,51,84],[52,83,52,84],[4,81,4,82],[5,81,5,82],[6,81,6,82],[24,81,24,82],[26,81,26,82],[27,81,27,82],[29,81,29,82],[30,81,30,82],[31,81,31,82],[49,77,49,78],[51,77,51,78],[52,77,52,78],[4,79,4,80],[5,79,5,80],[6,79,6,80],[24,79,24,80],[26,79,26,80],[27,79,27,80],[29,79,29,80],[30,79,30,80],[31,79,31,80],[49,79,49,80],[51,79,51,80],[52,79,52,80],[4,77,4,78],[5,77,5,78],[6,77,6,78],[24,77,24,78],[26,77,26,78],[27,77,27,78],[29,77,29,78],[30,77,30,78],[31,77,31,78],[49,73,49,74],[51,73,51,74],[52,73,52,74],[4,75,4,76],[5,75,5,76],[6,75,6,76],[24,75,24,76],[26,75,26,76],[27,75,27,76],[29,75,29,76],[30,75,30,76],[31,75,31,76],[49,75,49,76],[51,75,51,76],[52,75,52,76],[4,73,4,74],[5,73,5,74],[6,73,6,74],[24,73,24,74],[26,73,26,74],[27,73,27,74],[29,73,29,74],[30,73,30,74],[31,73,31,74],[49,69,49,70],[51,69,51,70],[52,69,52,70],[4,71,4,72],[5,71,5,72],[6,71,6,72],[24,71,24,72],[26,71,26,72],[27,71,27,72],[29,71,29,72],[30,71,30,72],[31,71,31,72],[49,71,49,72],[51,71,51,72],[52,71,52,72],[4,69,4,70],[5,69,5,70],[6,69,6,70],[24,69,24,70],[26,69,26,70],[27,69,27,70],[29,69,29,70],[30,69,30,70],[31,69,31,70],[49,65,49,66],[51,65,51,66],[52,65,52,66],[4,67,4,68],[5,67,5,68],[6,67,6,68],[24,67,24,68],[26,67,26,68],[27,67,27,68],[29,67,29,68],[30,67,30,68],[31,67,31,68],[49,67,49,68],[51,67,51,68],[52,67,52,68],[4,65,4,66],[5,65,5,66],[6,65,6,66],[24,65,24,66],[26,65,26,66],[27,65,27,66],[29,65,29,66],[30,65,30,66],[31,65,31,66],[6,106,7,106],[31,106,32,106],[2,1,2,16],[4,1,5,3],[4,5,4,6],[4,7,4,8],[4,9,4,10],[4,11,4,12],[4,13,4,14],[4,15,4,16],[31,1,32,1],[31,2,32,2],[31,3,32,3],[29,1,30,3],[25,1,26,3],[26,5,26,6],[26,7,26,8],[26,9,26,10],[26,11,26,12],[26,13,26,14],[29,5,29,6],[29,7,29,8],[29,9,29,10],[29,11,29,12],[29,13,29,14],[29,15,29,16],[5,27,5,28],[5,29,5,30],[4,41,4,42],[4,43,4,44],[4,108,5,110],[5,5,5,6],[5,7,5,8],[5,9,5,10],[5,11,5,12],[5,13,5,14],[5,15,5,16],[5,17,5,18],[4,29,4,30],[4,31,4,32],[4,33,4,34],[4,35,4,36],[4,37,4,38],[4,39,4,40],[4,17,4,18],[4,19,4,20],[4,21,4,22],[4,23,4,24],[4,25,4,26],[4,27,4,28],[6,21,6,22],[6,23,6,24],[6,25,6,26],[6,27,6,28],[5,43,5,44],[6,1,7,1],[6,2,7,2],[6,3,7,3],[6,5,6,6],[6,7,6,8],[6,9,6,10],[6,11,6,12],[6,13,6,14],[6,15,6,16],[5,31,5,32],[5,33,5,34],[5,35,5,36],[5,37,5,38],[5,39,5,40],[5,41,5,42],[5,19,5,20],[5,21,5,22],[5,23,5,24],[5,25,5,26],[6,111,7,111],[6,113,7,113],[24,5,24,6],[24,7,24,8],[24,9,24,10],[24,11,24,12],[24,13,24,14],[24,15,24,16],[24,17,24,18],[24,19,24,20],[6,41,6,42],[6,43,6,44],[6,105,7,105],[6,108,7,108],[6,109,7,109],[6,110,7,110],[6,29,6,30],[6,31,6,32],[6,33,6,34],[6,35,6,36],[6,37,6,38],[6,39,6,40],[6,17,6,18],[6,19,6,20],[24,39,24,40],[24,41,24,42],[24,43,24,44],[24,21,24,22],[24,23,24,24],[24,25,24,26],[24,27,24,28],[24,29,24,30],[24,31,24,32],[24,33,24,34],[24,35,24,36],[24,37,24,38],[26,39,26,40],[26,41,26,42],[26,43,26,44],[27,5,27,6],[27,7,27,8],[27,9,27,10],[27,11,27,12],[27,13,27,14],[27,15,27,16],[27,17,27,18],[26,27,26,28],[26,29,26,30],[26,31,26,32],[26,33,26,34],[26,35,26,36],[26,37,26,38],[26,15,26,16],[26,17,26,18],[26,19,26,20],[26,21,26,22],[26,23,26,24],[26,25,26,26],[27,43,27,44],[29,17,29,18],[29,19,29,20],[27,31,27,32],[27,33,27,34],[27,35,27,36],[27,37,27,38],[27,39,27,40],[27,41,27,42],[27,19,27,20],[27,21,27,22],[27,23,27,24],[27,25,27,26],[27,27,27,28],[27,29,27,30],[29,108,30,110],[30,5,30,6],[30,7,30,8],[30,9,30,10],[30,11,30,12],[30,13,30,14],[30,15,30,16],[30,17,30,18],[30,19,30,20],[30,21,30,22],[29,33,29,34],[29,35,29,36],[29,37,29,38],[29,39,29,40],[29,41,29,42],[29,43,29,44],[29,21,29,22],[29,23,29,24],[29,25,29,26],[29,27,29,28],[29,29,29,30],[29,31,29,32],[30,35,30,36],[30,37,30,38],[31,5,31,6],[31,7,31,8],[31,9,31,10],[31,11,31,12],[31,13,31,14],[30,23,30,24],[30,25,30,26],[30,27,30,28],[30,29,30,30],[31,19,31,20],[31,21,31,22],[31,23,31,24],[31,25,31,26],[30,39,30,40],[30,41,30,42],[30,43,30,44],[30,31,30,32],[30,33,30,34],[31,110,32,110],[31,111,32,111],[31,113,32,113],[49,5,49,6],[49,7,49,8],[49,9,49,10],[49,11,49,12],[49,13,49,14],[49,15,49,16],[49,17,49,18],[31,39,31,40],[31,41,31,42],[31,43,31,44],[31,105,32,105],[31,108,32,108],[31,109,32,109],[31,27,31,28],[31,29,31,30],[31,31,31,32],[31,33,31,34],[31,35,31,36],[31,37,31,38],[31,15,31,16],[31,17,31,18],[49,43,49,44],[50,1,51,3],[51,5,51,6],[51,7,51,8],[51,9,51,10],[51,11,51,12],[51,13,51,14],[51,15,51,16],[51,17,51,18],[51,19,51,20],[49,31,49,32],[49,33,49,34],[49,35,49,36],[49,37,49,38],[49,39,49,40],[49,41,49,42],[49,19,49,20],[49,21,49,22],[49,23,49,24],[49,25,49,26],[49,27,49,28],[49,29,49,30],[51,33,51,34],[51,35,51,36],[51,37,51,38],[51,39,51,40],[51,41,51,42],[51,43,51,44],[51,21,51,22],[51,23,51,24],[51,25,51,26],[51,27,51,28],[51,29,51,30],[51,31,51,32],[52,41,52,42],[52,43,52,44],[59,1,59,16],[60,1,64,16],[52,29,52,30],[52,31,52,32],[52,33,52,34],[52,35,52,36],[52,37,52,38],[52,39,52,40],[52,17,52,18],[52,19,52,20],[52,21,52,22],[52,23,52,24],[52,25,52,26],[52,27,52,28],[52,5,52,6],[52,7,52,8],[52,9,52,10],[52,11,52,12],[52,13,52,14],[52,15,52,16],[49,45,49,46],[51,45,51,46],[52,45,52,46],[4,47,4,48],[5,47,5,48],[6,47,6,48],[24,47,24,48],[26,47,26,48],[27,47,27,48],[29,47,29,48],[30,47,30,48],[31,47,31,48],[49,47,49,48],[51,47,51,48],[52,47,52,48],[4,45,4,46],[5,45,5,46],[6,45,6,46],[24,45,24,46],[26,45,26,46],[27,45,27,46],[29,45,29,46],[30,45,30,46],[31,45,31,46],[49,49,49,50],[51,49,51,50],[52,49,52,50],[4,51,4,52],[5,51,5,52],[6,51,6,52],[24,51,24,52],[26,51,26,52],[27,51,27,52],[29,51,29,52],[30,51,30,52],[31,51,31,52],[49,51,49,52],[51,51,51,52],[52,51,52,52],[4,49,4,50],[5,49,5,50],[6,49,6,50],[24,49,24,50],[26,49,26,50],[27,49,27,50],[29,49,29,50],[30,49,30,50],[31,49,31,50],[49,53,49,54],[51,53,51,54],[52,53,52,54],[4,55,4,56],[5,55,5,56],[6,55,6,56],[24,55,24,56],[26,55,26,56],[27,55,27,56],[29,55,29,56],[30,55,30,56],[31,55,31,56],[49,55,49,56],[51,55,51,56],[52,55,52,56],[4,53,4,54],[5,53,5,54],[6,53,6,54],[24,53,24,54],[26,53,26,54],[27,53,27,54],[29,53,29,54],[30,53,30,54],[31,53,31,54],[49,57,49,58],[51,57,51,58],[52,57,52,58],[4,59,4,60],[5,59,5,60],[6,59,6,60],[24,59,24,60],[26,59,26,60],[27,59,27,60],[29,59,29,60],[30,59,30,60],[31,59,31,60],[49,59,49,60],[51,59,51,60],[52,59,52,60],[4,57,4,58],[5,57,5,58],[6,57,6,58],[24,57,24,58],[26,57,26,58],[27,57,27,58],[29,57,29,58],[30,57,30,58],[31,57,31,58],[49,61,49,62],[51,61,51,62],[52,61,52,62],[4,63,4,64],[5,63,5,64],[6,63,6,64],[24,63,24,64],[26,63,26,64],[27,63,27,64],[29,63,29,64],[30,63,30,64],[31,63,31,64],[49,63,49,64],[51,63,51,64],[52,63,52,64],[4,61,4,62],[5,61,5,62],[6,61,6,62],[24,61,24,62],[26,61,26,62],[27,61,27,62],[29,61,29,62],[30,61,30,62],[31,61,31,62]]}
[null,"Gas Utility Data Summary"]
[null,"Instructions"]
[null,"1) Enter data for pre-construction energy use in blue cells.  Please ensure beginning and end read dates are 'Actual'.\n2) Unhide columns (O-AR) if there are more than 5 common area accounts. You may hide columns that are not needed, do not delete them.\n3) If the project is master-metered, enter data in this tab. Use Apt-Gas tab for direct-metered apartment data, if applicable.\n4) If there is on-site generation that runs on natural gas (e.g. CHP/cogen), please provide the natural gas consumed in column AU.\n5) Review graphs to the right for irregularities in the usage data.\n6) Post-Construction data will be filled in one year after construction has been completed.\n7) Please use the \"Notes\" field below the data entry section of this tab to explain unusual circumstances, any anomalies in the data, or adjustments made. Also, please follow Program Guidelines v4.1, Section 3.2.2 for irregular delivers, outliers, and estimated bills.\n\n"]
[]
[null,"Pre-Construction Common Area Billing Dates",null,null,null,"Common Area Meter #1",null,"Common Area Meter #2",null,"Common Area Meter #3",null,"Common Area Meter #4",null,"Common Area Meter #5",null,"Common Area Meter #6",null,"Common Area Meter #7",null,"Common Area Meter #8",null,"Common Area Meter #9",null,"Common Area Meter #10",null,"Common Area Meter #11",null,"Common Area Meter #12",null,"Common Area Meter #13",null,"Common Area Meter #14",null,"Common Area Meter #15",null,"Common Area Meter #16",null,"Common Area Meter #17",null,"Common Area Meter #18",null,"Common Area Meter #19",null,"Common Area Meter #20",null,"Common Area Meter #21",null,"Common Area Meter #22",null,"Common Area Meter #23",null,"Common Area Meter #24",null,"Common Area Meter #25",null,"Common Area Meter #26",null,"Common Area Meter #27",null,"Common Area Meter #28",null,"Common Area Meter #29",null,"Common Area Meter #30",null,"Common Area Meter #31",null,"Common Area Meter #32",null,"Common Area Meter #33",null,"Common Area Meter #34",null,"Common Area Meter #35",null,"Common Area Meter #36",null,"Common Area Meter #37",null,"Common Area Meter #38",null,"Common Area Meter #39",null,"Common Area Meter #40",null,"Common Area Meter #41",null,"Common Area Meter #42",null,"Common Area Meter #43",null,"Common Area Meter #44",null,"Common Area Meter #45",null,"Common Area Meter #46",null,"Common Area Meter #47",null,"Common Area Meter #48",null,"Common Area Meter #49",null,"Common Area Meter #50",null,null,null,null,"Pre-Construction In-Unit Billing Dates"]
[null,null,null,null,null,"Account #",null,"Account #",null,"Account #",null,"Account #",null,"Account #",null,"Account #",null,"Account #",null,"Account #",null,"Account #",null,"Account #",null,"Account #",null,"Account #",null,"Account #",null,"Account #",null,"Account #",null,"Account #",null,"Account #",null,"Account #",null,"Account #",null,"Account #",null,"Account #",null,"Account #",null,"Account #",null,"Account #",null,"Account #",null,"Account #",null,"Account #",null,"Account #",null,"Account #",null,"Account #",null,"Account #",null,"Account #",null,"Account #",null,"Account #",null,"Account #",null,"Account #",null,"Account #",null,"Account #",null,"Account #",null,"Account #",null,"Account #",null,"Account #",null,"Account #",null,"Account #",null,"Account #",null,"Account #",null,"Account #",null,"Account #",null,"Account #",null,"Account #"]
[null,"Billing Period Start Date","Read Date","Days in Billing Period",null,{"$f":"'Utility Info'!C217","v":0},null,{"$f":"'Utility Info'!C218","v":0},null,{"$f":"'Utility Info'!C219","v":0},null,{"$f":"'Utility Info'!C220","v":0},null,{"$f":"'Utility Info'!C221","v":0},null,{"$f":"'Utility Info'!C222","v":0},null,{"$f":"'Utility Info'!C223","v":0},null,{"$f":"'Utility Info'!C224","v":0},null,{"$f":"'Utility Info'!C225","v":0},null,{"$f":"'Utility Info'!C226","v":0},null,{"$f":"'Utility Info'!C227","v":0},null,{"$f":"'Utility Info'!C228","v":0},null,{"$f":"'Utility Info'!C229","v":0},null,{"$f":"'Utility Info'!C230","v":0},null,{"$f":"'Utility Info'!C231","v":0},null,{"$f":"'Utility Info'!C232","v":0},null,{"$f":"'Utility Info'!C233","v":0},null,{"$f":"'Utility Info'!C234","v":0},null,{"$f":"'Utility Info'!C235","v":0},null,{"$f":"'Utility Info'!C236","v":0},null,{"$f":"'Utility Info'!C237","v":0},null,{"$f":"'Utility Info'!C238","v":0},null,{"$f":"'Utility Info'!C239","v":0},null,{"$f":"'Utility Info'!C240","v":0},null,{"$f":"'Utility Info'!C241","v":0},null,{"$f":"'Utility Info'!C242","v":0},null,{"$f":"'Utility Info'!C243","v":0},null,{"$f":"'Utility Info'!C244","v":0},null,{"$f":"'Utility Info'!C245","v":0},null,{"$f":"'Utility Info'!C246","v":0},null,{"$f":"'Utility Info'!C247","v":0},null,{"$f":"'Utility Info'!C248","v":0},null,{"$f":"'Utility Info'!C249","v":0},null,{"$f":"'Utility Info'!C250","v":0},null,{"$f":"'Utility Info'!C251","v":0},null,{"$f":"'Utility Info'!C252","v":0},null,{"$f":"'Utility Info'!C253","v":0},null,{"$f":"'Utility Info'!C254","v":0},null,{"$f":"'Utility Info'!C255","v":0},null,{"$f":"'Utility Info'!C256","v":0},null,{"$f":"'Utility Info'!C257","v":0},null,{"$f":"'Utility Info'!C258","v":0},null,{"$f":"'Utility Info'!C259","v":0},null,{"$f":"'Utility Info'!C260","v":0},null,{"$f":"'Utility Info'!C261","v":0},null,{"$f":"'Utility Info'!C262","v":0},null,{"$f":"'Utility Info'!C263","v":0},null,{"$f":"'Utility Info'!C264","v":0},null,{"$f":"'Utility Info'!C265","v":0},null,{"$f":"'Utility Info'!C266","v":0},null,{"$f":"\"Total Common Area Gas Consumption\n\" & 'Utility Info'!$D$7","v":"Total Common Area Gas Consumption\n<Not Used>"},"On-Site Gas Generation\n(Therms)",null,"Billing Period Start Date","Read Date","Days in Billing Period",{"$f":"\"In-unit Gas Consumption\n\" & 'Utility Info'!$D$7","v":"In-unit Gas Consumption\n<Not Used>"},null,{"$f":"\"Total Gas Consumption\n\" & 'Utility Info'!$D$7","v":"Total Gas Consumption\n<Not Used>"},null,null,null,null,null,null,"Data for Graphs:"]
[null,null,null,null,null,{"$f":"'Utility Info'!$D$7","v":"<Not Used>"},"Actual/ Estimated",{"$f":"'Utility Info'!$D$7","v":"<Not Used>"},"Actual/ Estimated",{"$f":"'Utility Info'!$D$7","v":"<Not Used>"},"Actual/ Estimated",{"$f":"'Utility Info'!$D$7","v":"<Not Used>"},"Actual/ Estimated",{"$f":"'Utility Info'!$D$7","v":"<Not Used>"},"Actual/ Estimated",{"$f":"'Utility Info'!$D$7","v":"<Not Used>"},"Actual/ Estimated",{"$f":"'Utility Info'!$D$7","v":"<Not Used>"},"Actual/ Estimated",{"$f":"'Utility Info'!$D$7","v":"<Not Used>"},"Actual/ Estimated",{"$f":"'Utility Info'!$D$7","v":"<Not Used>"},"Actual/ Estimated",{"$f":"'Utility Info'!$D$7","v":"<Not Used>"},"Actual/ Estimated",{"$f":"'Utility Info'!$D$7","v":"<Not Used>"},"Actual/ Estimated",{"$f":"'Utility Info'!$D$7","v":"<Not Used>"},"Actual/ Estimated",{"$f":"'Utility Info'!$D$7","v":"<Not Used>"},"Actual/ Estimated",{"$f":"'Utility Info'!$D$7","v":"<Not Used>"},"Actual/ Estimated",{"$f":"'Utility Info'!$D$7","v":"<Not Used>"},"Actual/ Estimated",{"$f":"'Utility Info'!$D$7","v":"<Not Used>"},"Actual/ Estimated",{"$f":"'Utility Info'!$D$7","v":"<Not Used>"},"Actual/ Estimated",{"$f":"'Utility Info'!$D$7","v":"<Not Used>"},"Actual/ Estimated",{"$f":"'Utility Info'!$D$7","v":"<Not Used>"},"Actual/ Estimated",{"$f":"'Utility Info'!$D$7","v":"<Not Used>"},"Actual/ Estimated",{"$f":"'Utility Info'!$D$7","v":"<Not Used>"},"Actual/ Estimated",{"$f":"'Utility Info'!$D$7","v":"<Not Used>"},"Actual/ Estimated",{"$f":"'Utility Info'!$D$7","v":"<Not Used>"},"Actual/ Estimated",{"$f":"'Utility Info'!$D$7","v":"<Not Used>"},"Actual/ Estimated",{"$f":"'Utility Info'!$D$7","v":"<Not Used>"},"Actual/ Estimated",{"$f":"'Utility Info'!$D$7","v":"<Not Used>"},"Actual/ Estimated",{"$f":"'Utility Info'!$D$7","v":"<Not Used>"},"Actual/ Estimated",{"$f":"'Utility Info'!$D$7","v":"<Not Used>"},"Actual/ Estimated",{"$f":"'Utility Info'!$D$7","v":"<Not Used>"},"Actual/ Estimated",{"$f":"'Utility Info'!$D$7","v":"<Not Used>"},"Actual/ Estimated",{"$f":"'Utility Info'!$D$7","v":"<Not Used>"},"Actual/ Estimated",{"$f":"'Utility Info'!$D$7","v":"<Not Used>"},"Actual/ Estimated",{"$f":"'Utility Info'!$D$7","v":"<Not Used>"},"Actual/ Estimated",{"$f":"'Utility Info'!$D$7","v":"<Not Used>"},"Actual/ Estimated",{"$f":"'Utility Info'!$D$7","v":"<Not Used>"},"Actual/ Estimated",{"$f":"'Utility Info'!$D$7","v":"<Not Used>"},"Actual/ Estimated",{"$f":"'Utility Info'!$D$7","v":"<Not Used>"},"Actual/ Estimated",{"$f":"'Utility Info'!$D$7","v":"<Not Used>"},"Actual/ Estimated",{"$f":"'Utility Info'!$D$7","v":"<Not Used>"},"Actual/ Estimated",{"$f":"'Utility Info'!$D$7","v":"<Not Used>"},"Actual/ Estimated",{"$f":"'Utility Info'!$D$7","v":"<Not Used>"},"Actual/ Estimated",{"$f":"'Utility Info'!$D$7","v":"<Not Used>"},"Actual/ Estimated",{"$f":"'Utility Info'!$D$7","v":"<Not Used>"},"Actual/ Estimated",{"$f":"'Utility Info'!$D$7","v":"<Not Used>"},"Actual/ Estimated",{"$f":"'Utility Info'!$D$7","v":"<Not Used>"},"Actual/ Estimated",{"$f":"'Utility Info'!$D$7","v":"<Not Used>"},"Actual/ Estimated",{"$f":"'Utility Info'!$D$7","v":"<Not Used>"},"Actual/ Estimated",{"$f":"'Utility Info'!$D$7","v":"<Not Used>"},"Actual/ Estimated",{"$f":"'Utility Info'!$D$7","v":"<Not Used>"},"Actual/ Estimated",{"$f":"'Utility Info'!$D$7","v":"<Not Used>"},"Actual/ Estimated",null,null,null,null,null,null,null,null,null,null,null,null,null,null,null,"Common Area Ref Date","Common Area Month","In-unit Ref Date","In-Unit Month",null,"Months","Common Area Pre","Common Area Post","In-Unit Pre","In-Unit Post"]
[null,null,null,null,null,null,null,null,null,null,null,null,null,null,null,null,null,null,null,null,null,null,null,null,null,null,null,null,null,null,null,null,null,null,null,null,null,null,null,null,null,null,null,null,null,null,null,null,null,null,null,null,null,null,null,null,null,null,null,null,null,null,null,null,null,null,null,null,null,null,null,null,null,null,null,null,null,null,null,null,null,null,null,null,null,null,null,null,null,null,null,null,null,null,null,null,null,null,null,null,null,null,null,null,null,null,null,null,null,{"$f":"'Apt-Gas'!C11","v":"00:00:00"}]
[null,{"$f":"C9+1","v":"1900-01-01"},null,{"$f":"IF(C10>0,C10+1-B10,0)","v":0},null,null,null,null,null,null,null,null,null,null,null,null,null,null,null,null,null,null,null,null,null,null,null,null,null,null,null,null,null,null,null,null,null,null,null,null,null,null,null,null,null,null,null,null,null,null,null,null,null,null,null,null,null,null,null,null,null,null,null,null,null,null,null,null,null,null,null,null,null,null,null,null,null,null,null,null,null,null,null,null,null,null,null,null,null,null,null,null,null,null,null,null,null,null,null,null,null,null,null,null,null,{"$f":"SUM(F10:DA10)+DC10","v":0},null,null,{"$f":"'Apt-Gas'!B12","v":"1900-01-01"},{"$f":"'Apt-Gas'!C12","v":"00:00:00"},{"$f":"IF(DF10>0,DF10+1-DE10,0)","v":0},{"$f":"'Apt-Gas'!PT12","v":0},null,{"$f":"DB10+DH10","v":0},null,null,null,null,null,null,{"$f":"DATE(YEAR(C10),MONTH(C10),1)","v":"1900-01-01"},{"$f":"IF((DQ10-B10)>(C10-DQ10),MONTH(B10),MONTH(C10))","v":1},{"$f":"DATE(YEAR(DF10),MONTH(DF10),1)","v":"1900-01-01"},{"$f":"IF((DS10-DE10)>(DF10-DS10),MONTH(DE10),MONTH(DF10))","v":1},null,"2012-01-15",{"$f":"SUMIF($DR$10:$DR$24,MONTH($DV10),$DB$10:$DB$24)","v":0},{"$f":"SUMIF($DR$35:$DR$49,MONTH($DV10),$DB$35:$DB$49)","v":0},{"$f":"SUMIF($DT$10:$DT$24,MONTH($DV10),$DH$10:$DH$24)","v":0},{"$f":"SUMIF($DT$35:$DT$49,MONTH($DV10),$DH$35:$DH$49)","v":0}]
[null,"1900-01-01",null,{"$f":"IF(C11>0,C11+1-B11,0)","v":0},null,null,null,null,null,null,null,null,null,null,null,null,null,null,null,null,null,null,null,null,null,null,null,null,null,null,null,null,null,null,null,null,null,null,null,null,null,null,null,null,null,null,null,null,null,null,null,null,null,null,null,null,null,null,null,null,null,null,null,null,null,null,null,null,null,null,null,null,null,null,null,null,null,null,null,null,null,null,null,null,null,null,null,null,null,null,null,null,null,null,null,null,null,null,null,null,null,null,null,null,null,{"$f":"SUM(F11:DA11)+DC11","v":0},null,null,{"$f":"'Apt-Gas'!B13","v":"1900-01-01"},{"$f":"'Apt-Gas'!C13","v":"00:00:00"},{"$f":"IF(DF11>0,DF11+1-DE11,0)","v":0},{"$f":"'Apt-Gas'!PT13","v":0},null,{"$f":"DB11+DH11","v":0},null,null,null,null,null,null,"1900-01-01",1,{"$f":"DATE(YEAR(DF11),MONTH(DF11),1)","v":"1900-01-01"},{"$f":"IF((DS11-DE11)>(DF11-DS11),MONTH(DE11),MONTH(DF11))","v":1},null,"2012-02-15",{"$f":"SUMIF($DR$10:$DR$24,MONTH($DV11),$DB$10:$DB$24)","v":0},0,{"$f":"SUMIF($DT$10:$DT$24,MONTH($DV11),$DH$10:$DH$24)","v":0},0]
[null,"1900-01-01",null,0,null,null,null,null,null,null,null,null,null,null,null,null,null,null,null,null,null,null,null,null,null,null,null,null,null,null,null,null,null,null,null,null,null,null,null,null,null,null,null,null,null,null,null,null,null,null,null,null,null,null,null,null,null,null,null,null,null,null,null,null,null,null,null,null,null,null,null,null,null,null,null,null,null,null,null,null,null,null,null,null,null,null,null,null,null,null,null,null,null,null,null,null,null,null,null,null,null,null,null,null,null,0,null,null,{"$f":"'Apt-Gas'!B14","v":"1900-01-01"},{"$f":"'Apt-Gas'!C14","v":"00:00:00"},0,{"$f":"'Apt-Gas'!PT14","v":0},null,0,null,null,null,null,null,null,"1900-01-01",1,"1900-01-01",1,null,"2012-03-15",0,0,0,0]
[null,"1900-01-01",null,0,null,null,null,null,null,null,null,null,null,null,null,null,null,null,null,null,null,null,null,null,null,null,null,null,null,null,null,null,null,null,null,null,null,null,null,null,null,null,null,null,null,null,null,null,null,null,null,null,null,null,null,null,null,null,null,null,null,null,null,null,null,null,null,null,null,null,null,null,null,null,null,null,null,null,null,null,null,null,null,null,null,null,null,null,null,null,null,null,null,null,null,null,null,null,null,null,null,null,null,null,null,0,null,null,{"$f":"'Apt-Gas'!B15","v":"1900-01-01"},{"$f":"'Apt-Gas'!C15","v":"00:00:00"},0,{"$f":"'Apt-Gas'!PT15","v":0},null,0,null,null,null,null,null,null,"1900-01-01",1,"1900-01-01",1,null,"2012-04-15",0,0,0,0]
[null,"1900-01-01",null,0,null,null,null,null,null,null,null,null,null,null,null,null,null,null,null,null,null,null,null,null,null,null,null,null,null,null,null,null,null,null,null,null,null,null,null,null,null,null,null,null,null,null,null,null,null,null,null,null,null,null,null,null,null,null,null,null,null,null,null,null,null,null,null,null,null,null,null,null,null,null,null,null,null,null,null,null,null,null,null,null,null,null,null,null,null,null,null,null,null,null,null,null,null,null,null,null,null,null,null,null,null,0,null,null,{"$f":"'Apt-Gas'!B16","v":"1900-01-01"},{"$f":"'Apt-Gas'!C16","v":"00:00:00"},0,{"$f":"'Apt-Gas'!PT16","v":0},null,0,null,null,null,null,null,null,"1900-01-01",1,{"$f":"DATE(YEAR(DF14),MONTH(DF14),1)","v":"1900-01-01"},1,null,"2012-05-15",0,0,0,0]
[null,"1900-01-01",null,0,null,null,null,null,null,null,null,null,null,null,null,null,null,null,null,null,null,null,null,null,null,null,null,null,null,null,null,null,null,null,null,null,null,null,null,null,null,null,null,null,null,null,null,null,null,null,null,null,null,null,null,null,null,null,null,null,null,null,null,null,null,null,null,null,null,null,null,null,null,null,null,null,null,null,null,null,null,null,null,null,null,null,null,null,null,null,null,null,null,null,null,null,null,null,null,null,null,null,null,null,null,0,null,null,{"$f":"'Apt-Gas'!B17","v":"1900-01-01"},{"$f":"'Apt-Gas'!C17","v":"00:00:00"},0,{"$f":"'Apt-Gas'!PT17","v":0},null,0,null,null,null,null,null,null,"1900-01-01",1,"1900-01-01",1,null,"2012-06-15",0,0,0,0]
[null,"1900-01-01",null,0,null,null,null,null,null,null,null,null,null,null,null,null,null,null,null,null,null,null,null,null,null,null,null,null,null,null,null,null,null,null,null,null,null,null,null,null,null,null,null,null,null,null,null,null,null,null,null,null,null,null,null,null,null,null,null,null,null,null,null,null,null,null,null,null,null,null,null,null,null,null,null,null,null,null,null,null,null,null,null,null,null,null,null,null,null,null,null,null,null,null,null,null,null,null,null,null,null,null,null,null,null,0,null,null,{"$f":"'Apt-Gas'!B18","v":"1900-01-01"},{"$f":"'Apt-Gas'!C18","v":"00:00:00"},0,{"$f":"'Apt-Gas'!PT18","v":0},null,0,null,null,null,null,null,null,"1900-01-01",1,"1900-01-01",1,null,"2012-07-15",0,0,0,0]
[null,"1900-01-01",null,0,null,null,null,null,null,null,null,null,null,null,null,null,null,null,null,null,null,null,null,null,null,null,null,null,null,null,null,null,null,null,null,null,null,null,null,null,null,null,null,null,null,null,null,null,null,null,null,null,null,null,null,null,null,null,null,null,null,null,null,null,null,null,null,null,null,null,null,null,null,null,null,null,null,null,null,null,null,null,null,null,null,null,null,null,null,null,null,null,null,null,null,null,null,null,null,null,null,null,null,null,null,0,null,null,{"$f":"'Apt-Gas'!B19","v":"1900-01-01"},{"$f":"'Apt-Gas'!C19","v":"00:00:00"},0,{"$f":"'Apt-Gas'!PT19","v":0},null,0,null,null,null,null,null,null,"1900-01-01",1,"1900-01-01",1,null,"2012-08-15",0,0,0,0]
[null,"1900-01-01",null,0,null,null,null,null,null,null,null,null,null,null,null,null,null,null,null,null,null,null,null,null,null,null,null,null,null,null,null,null,null,null,null,null,null,null,null,null,null,null,null,null,null,null,null,null,null,null,null,null,null,null,null,null,null,null,null,null,null,null,null,null,null,null,null,null,null,null,null,null,null,null,null,null,null,null,null,null,null,null,null,null,null,null,null,null,null,null,null,null,null,null,null,null,null,null,null,null,null,null,null,null,null,0,null,null,{"$f":"'Apt-Gas'!B20","v":"1900-01-01"},{"$f":"'Apt-Gas'!C20","v":"00:00:00"},0,{"$f":"'Apt-Gas'!PT20","v":0},null,0,null,null,null,null,null,null,"1900-01-01",1,"1900-01-01",1,null,"2012-09-15",0,0,0,0]
[null,"1900-01-01",null,0,null,null,null,null,null,null,null,null,null,null,null,null,null,null,null,null,null,null,null,null,null,null,null,null,null,null,null,null,null,null,null,null,null,null,null,null,null,null,null,null,null,null,null,null,null,null,null,null,null,null,null,null,null,null,null,null,null,null,null,null,null,null,null,null,null,null,null,null,null,null,null,null,null,null,null,null,null,null,null,null,null,null,null,null,null,null,null,null,null,null,null,null,null,null,null,null,null,null,null,null,null,0,null,null,{"$f":"'Apt-Gas'!B21","v":"1900-01-01"},{"$f":"'Apt-Gas'!C21","v":"00:00:00"},0,{"$f":"'Apt-Gas'!PT21","v":0},null,0,null,null,null,null,null,null,"1900-01-01",1,"1900-01-01",1,null,"2012-10-15",0,0,0,0]
[null,"1900-01-01",null,0,null,null,null,null,null,null,null,null,null,null,null,null,null,null,null,null,null,null,null,null,null,null,null,null,null,null,null,null,null,null,null,null,null,null,null,null,null,null,null,null,null,null,null,null,null,null,null,null,null,null,null,null,null,null,null,null,null,null,null,null,null,null,null,null,null,null,null,null,null,null,null,null,null,null,null,null,null,null,null,null,null,null,null,null,null,null,null,null,null,null,null,null,null,null,null,null,null,null,null,null,null,0,null,null,{"$f":"'Apt-Gas'!B22","v":"1900-01-01"},{"$f":"'Apt-Gas'!C22","v":"00:00:00"},0,{"$f":"'Apt-Gas'!PT22","v":0},null,0,null,null,null,null,null,null,"1900-01-01",1,"1900-01-01",1,null,"2012-11-15",0,0,0,0]
[null,"1900-01-01",null,0,null,null,null,null,null,null,null,null,null,null,null,null,null,null,null,null,null,null,null,null,null,null,null,null,null,null,null,null,null,null,null,null,null,null,null,null,null,null,null,null,null,null,null,null,null,null,null,null,null,null,null,null,null,null,null,null,null,null,null,null,null,null,null,null,null,null,null,null,null,null,null,null,null,null,null,null,null,null,null,null,null,null,null,null,null,null,null,null,null,null,null,null,null,null,null,null,null,null,null,null,null,0,null,null,{"$f":"'Apt-Gas'!B23","v":"1900-01-01"},{"$f":"'Apt-Gas'!C23","v":"00:00:00"},0,{"$f":"'Apt-Gas'!PT23","v":0},null,0,null,null,null,null,null,null,"1900-01-01",1,"1900-01-01",1,null,"2012-12-15",0,0,0,0]
[null,"1900-01-01",null,0,null,null,null,null,null,null,null,null,null,null,null,null,null,null,null,null,null,null,null,null,null,null,null,null,null,null,null,null,null,null,null,null,null,null,null,null,null,null,null,null,null,null,null,null,null,null,null,null,null,null,null,null,null,null,null,null,null,null,null,null,null,null,null,null,null,null,null,null,null,null,null,null,null,null,null,null,null,null,null,null,null,null,null,null,null,null,null,null,null,null,null,null,null,null,null,null,null,null,null,null,null,0,null,null,{"$f":"'Apt-Gas'!B24","v":"1900-01-01"},{"$f":"'Apt-Gas'!C24","v":"00:00:00"},0,{"$f":"'Apt-Gas'!PT24","v":0},null,0,null,null,null,null,null,null,"1900-01-01",1,"1900-01-01",1]
[null,"1900-01-01",null,0,null,null,null,null,null,null,null,null,null,null,null,null,null,null,null,null,null,null,null,null,null,null,null,null,null,null,null,null,null,null,null,null,null,null,null,null,null,null,null,null,null,null,null,null,null,null,null,null,null,null,null,null,null,null,null,null,null,null,null,null,null,null,null,null,null,null,null,null,null,null,null,null,null,null,null,null,null,null,null,null,null,null,null,null,null,null,null,null,null,null,null,null,null,null,null,null,null,null,null,null,null,0,null,null,{"$f":"'Apt-Gas'!B25","v":"1900-01-01"},{"$f":"'Apt-Gas'!C25","v":"00:00:00"},0,{"$f":"'Apt-Gas'!PT25","v":0},null,0,null,null,null,null,null,null,"1900-01-01",1,"1900-01-01",1]
[null,"1900-01-01",null,0,null,null,null,null,null,null,null,null,null,null,null,null,null,null,null,null,null,null,null,null,null,null,null,null,null,null,null,null,null,null,null,null,null,null,null,null,null,null,null,null,null,null,null,null,null,null,null,null,null,null,null,null,null,null,null,null,null,null,null,null,null,null,null,null,null,null,null,null,null,null,null,null,null,null,null,null,null,null,null,null,null,null,null,null,null,null,null,null,null,null,null,null,null,null,null,null,null,null,null,null,null,0,null,null,{"$f":"'Apt-Gas'!B26","v":"1900-01-01"},{"$f":"'Apt-Gas'!C26","v":"00:00:00"},0,{"$f":"'Apt-Gas'!PT26","v":0},null,{"$f":"DB24+DH24","v":0},null,null,null,null,null,null,"1900-01-01",1,"1900-01-01",1]
[null,null,{"$f":"IF(ABS(D25-365)>4,\"Must have 365 ± 4 days.\",\"\")","v":"Must have 365 ± 4 days."},{"$f":"SUM(D10:D24)","v":0},null,{"$f":"SUM(F10:F24)","v":0},null,{"$f":"SUM(H10:H24)","v":0},null,{"$f":"SUM(J10:J24)","v":0},null,{"$f":"SUM(L10:L24)","v":0},null,0,null,0,null,0,null,0,null,0,null,0,null,0,null,0,null,0,null,0,null,{"$f":"SUM(AH10:AH24)","v":0},null,{"$f":"SUM(AJ10:AJ24)","v":0},null,{"$f":"SUM(AL10:AL24)","v":0},null,{"$f":"SUM(AN10:AN24)","v":0},null,{"$f":"SUM(AP10:AP24)","v":0},null,{"$f":"SUM(AR10:AR24)","v":0},null,{"$f":"SUM(AT10:AT24)","v":0},null,{"$f":"SUM(AV10:AV24)","v":0},null,{"$f":"SUM(AX10:AX24)","v":0},null,{"$f":"SUM(AZ10:AZ24)","v":0},null,{"$f":"SUM(BB10:BB24)","v":0},null,{"$f":"SUM(BD10:BD24)","v":0},null,{"$f":"SUM(BF10:BF24)","v":0},null,{"$f":"SUM(BH10:BH24)","v":0},null,{"$f":"SUM(BJ10:BJ24)","v":0},null,{"$f":"SUM(BL10:BL24)","v":0},null,{"$f":"SUM(BN10:BN24)","v":0},null,{"$f":"SUM(BP10:BP24)","v":0},null,{"$f":"SUM(BR10:BR24)","v":0},null,{"$f":"SUM(BT10:BT24)","v":0},null,{"$f":"SUM(BV10:BV24)","v":0},null,{"$f":"SUM(BX10:BX24)","v":0},null,{"$f":"SUM(BZ10:BZ24)","v":0},null,{"$f":"SUM(CB10:CB24)","v":0},null,{"$f":"SUM(CD10:CD24)","v":0},null,{"$f":"SUM(CF10:CF24)","v":0},null,{"$f":"SUM(CH10:CH24)","v":0},null,{"$f":"SUM(CJ10:CJ24)","v":0},null,{"$f":"SUM(CL10:CL24)","v":0},null,{"$f":"SUM(CN10:CN24)","v":0},null,{"$f":"SUM(CP10:CP24)","v":0},null,{"$f":"SUM(CR10:CR24)","v":0},null,{"$f":"SUM(CT10:CT24)","v":0},null,{"$f":"SUM(CV10:CV24)","v":0},null,{"$f":"SUM(CX10:CX24)","v":0},null,{"$f":"SUM(CZ10:CZ24)","v":0},null,{"$f":"SUM(DB10:DB24)","v":0},{"$f":"SUM(DC10:DC24)","v":0},null,null,{"$f":"IF(ABS(DG25-365)>4,\"Must have 365 ± 4 days.\",\"\")","v":"Must have 365 ± 4 days."},{"$f":"SUM(DG10:DG24)","v":0},{"$f":"SUM(DH10:DH24)","v":0},null,{"$f":"SUM(DJ10:DJ24)","v":0}]
[null,{"$f":"IF(DE10=1,\"\",IF(ABS(B10-DE10)>15,\"The dates for the common area and apartment bills are out of synch. Please select start dates within 2 weeks of each other.\",\"\"))","v":""}]
[null,null,null,null,null,"Total Annual Gas Cost",null,"Total Annual Gas Cost",null,"Total Annual Gas Cost",null,"Total Annual Gas Cost",null,"Total Annual Gas Cost",null,"Total Annual Gas Cost",null,"Total Annual Gas Cost",null,"Total Annual Gas Cost",null,"Total Annual Gas Cost",null,"Total Annual Gas Cost",null,"Total Annual Gas Cost",null,"Total Annual Gas Cost",null,"Total Annual Gas Cost",null,"Total Annual Gas Cost",null,"Total Annual Gas Cost",null,"Total Annual Gas Cost",null,"Total Annual Gas Cost",null,"Total Annual Gas Cost",null,"Total Annual Gas Cost",null,"Total Annual Gas Cost",null,"Total Annual Gas Cost",null,"Total Annual Gas Cost",null,"Total Annual Gas Cost",null,"Total Annual Gas Cost",null,"Total Annual Gas Cost",null,"Total Annual Gas Cost",null,"Total Annual Gas Cost",null,"Total Annual Gas Cost",null,"Total Annual Gas Cost",null,"Total Annual Gas Cost",null,"Total Annual Gas Cost",null,"Total Annual Gas Cost",null,"Total Annual Gas Cost",null,"Total Annual Gas Cost",null,"Total Annual Gas Cost",null,"Total Annual Gas Cost",null,"Total Annual Gas Cost",null,"Total Annual Gas Cost",null,"Total Annual Gas Cost",null,"Total Annual Gas Cost",null,"Total Annual Gas Cost",null,"Total Annual Gas Cost",null,"Total Annual Gas Cost",null,"Total Annual Gas Cost",null,"Total Annual Gas Cost",null,"Total Annual Gas Cost",null,"Total Annual Gas Cost",null,"Total Annual Gas Cost",null,"Total Annual Gas Cost",null,"Total Annual Gas Cost",null,"Total Annual Common Area Gas Cost",null,null,null,null,null,"Total In-Unit Annual Gas Cost",null,"Total Annual Gas Cost"]
[null,null,null,null,null,null,null,null,null,null,null,null,null,null,null,null,null,null,null,null,null,null,null,null,null,null,null,null,null,null,null,null,null,null,null,null,null,null,null,null,null,null,null,null,null,null,null,null,null,null,null,null,null,null,null,null,null,null,null,null,null,null,null,null,null,null,null,null,null,null,null,null,null,null,null,null,null,null,null,null,null,null,null,null,null,null,null,null,null,null,null,null,null,null,null,null,null,null,null,null,null,null,null,null,null,{"$f":"SUM(F28:DA28)","v":0},null,null,null,null,null,{"$f":"IF(N('Apt-Gas'!$PT$30)=0,IF(N($DB$28)=0,1.15,$DB$28/$DB$25)*$DH$25,'Apt-Gas'!$PT$30)","v":0},null,{"$f":"DB28+DH28","v":0}]
[]
[null,"Post-Construction Common Area Billing Dates",null,null,null,"Common Area Meter #1",null,"Common Area Meter #2",null,"Common Area Meter #3",null,"Common Area Meter #4",null,"Common Area Meter #5",null,"Common Area Meter #6",null,"Common Area Meter #7",null,"Common Area Meter #8",null,"Common Area Meter #9",null,"Common Area Meter #10",null,"Common Area Meter #11",null,"Common Area Meter #12",null,"Common Area Meter #13",null,"Common Area Meter #14",null,"Common Area Meter #15",null,"Common Area Meter #16",null,"Common Area Meter #17",null,"Common Area Meter #18",null,"Common Area Meter #19",null,"Common Area Meter #20",null,"Common Area Meter #21",null,"Common Area Meter #22",null,"Common Area Meter #23",null,"Common Area Meter #24",null,"Common Area Meter #25",null,"Common Area Meter #26",null,"Common Area Meter #27",null,"Common Area Meter #28",null,"Common Area Meter #29",null,"Common Area Meter #30",null,"Common Area Meter #31",null,"Common Area Meter #32",null,"Common Area Meter #33",null,"Common Area Meter #34",null,"Common Area Meter #35",null,"Common Area Meter #36",null,"Common Area Meter #37",null,"Common Area Meter #38",null,"Common Area Meter #39",null,"Common Area Meter #40",null,"Common Area Meter #41",null,"Common Area Meter #42",null,"Common Area Meter #43",null,"Common Area Meter #44",null,"Common Area Meter #45",null,"Common Area Meter #46",null,"Common Area Meter #47",null,"Common Area Meter #48",null,"Common Area Meter #49",null,"Common Area Meter #50",null,null,null,null,"Post-Construction In-Unit Billing Dates"]
[null,null,null,null,null,"Account #",null,"Account #",null,"Account #",null,"Account #",null,"Account #",null,"Account #",null,"Account #",null,"Account #",null,"Account #",null,"Account #",null,"Account #",null,"Account #",null,"Account #",null,"Account #",null,"Account #",null,"Account #",null,"Account #",null,"Account #",null,"Account #",null,"Account #",null,"Account #",null,"Account #",null,"Account #",null,"Account #",null,"Account #",null,"Account #",null,"Account #",null,"Account #",null,"Account #",null,"Account #",null,"Account #",null,"Account #",null,"Account #",null,"Account #",null,"Account #",null,"Account #",null,"Account #",null,"Account #",null,"Account #",null,"Account #",null,"Account #",null,"Account #",null,"Account #",null,"Account #",null,"Account #",null,"Account #",null,"Account #",null,"Account #",null,"Account #",null,"Account #"]
[null,"Billing Period Start Date","Read Date","Days in Billing Period",null,{"$f":"F7","v":0},null,{"$f":"H7","v":0},null,{"$f":"J7","v":0},null,{"$f":"L7","v":0},null,{"$f":"N7","v":0},null,{"$f":"P7","v":0},null,{"$f":"R7","v":0},null,{"$f":"T7","v":0},null,{"$f":"V7","v":0},null,{"$f":"X7","v":0},null,{"$f":"Z7","v":0},null,{"$f":"AB7","v":0},null,{"$f":"AD7","v":0},null,{"$f":"AF7","v":0},null,{"$f":"AH7","v":0},null,{"$f":"AJ7","v":0},null,{"$f":"AL7","v":0},null,{"$f":"AN7","v":0},null,{"$f":"AP7","v":0},null,{"$f":"AR7","v":0},null,{"$f":"AT7","v":0},null,{"$f":"AV7","v":0},null,{"$f":"AX7","v":0},null,{"$f":"AZ7","v":0},null,{"$f":"BB7","v":0},null,{"$f":"BD7","v":0},null,{"$f":"BF7","v":0},null,{"$f":"BH7","v":0},null,{"$f":"BJ7","v":0},null,{"$f":"BL7","v":0},null,{"$f":"BN7","v":0},null,{"$f":"BP7","v":0},null,{"$f":"BR7","v":0},null,{"$f":"BT7","v":0},null,{"$f":"BV7","v":0},null,{"$f":"BX7","v":0},null,{"$f":"BZ7","v":0},null,{"$f":"CB7","v":0},null,{"$f":"CD7","v":0},null,{"$f":"CF7","v":0},null,{"$f":"CH7","v":0},null,{"$f":"CJ7","v":0},null,{"$f":"CL7","v":0},null,{"$f":"CN7","v":0},null,{"$f":"CP7","v":0},null,{"$f":"CR7","v":0},null,{"$f":"CT7","v":0},null,{"$f":"CV7","v":0},null,{"$f":"CX7","v":0},null,{"$f":"CZ7","v":0},null,{"$f":"\"Total Common Area Gas Consumption\n\" & 'Utility Info'!$D$16","v":"Total Common Area Gas Consumption\n<Not Used>"},"On-Site Gas Generation\n(Therms)",null,"Billing Period Start Date","Read Date","Days in Billing Period",{"$f":"\"In-unit Gas Consumption\n\" & 'Utility Info'!$D$7","v":"In-unit Gas Consumption\n<Not Used>"},null,{"$f":"\"Total Gas Consumption\n\" & 'Utility Info'!$D$16","v":"Total Gas Consumption\n<Not Used>"},null,null,null,null,null,null,"Data for Graphs:"]
[null,null,null,null,null,{"$f":"'Utility Info'!$D$16","v":"<Not Used>"},"Actual/ Estimated",{"$f":"'Utility Info'!$D$16","v":"<Not Used>"},"Actual/ Estimated",{"$f":"'Utility Info'!$D$16","v":"<Not Used>"},"Actual/ Estimated",{"$f":"'Utility Info'!$D$16","v":"<Not Used>"},"Actual/ Estimated",{"$f":"'Utility Info'!$D$16","v":"<Not Used>"},"Actual/ Estimated",{"$f":"'Utility Info'!$D$16","v":"<Not Used>"},"Actual/ Estimated",{"$f":"'Utility Info'!$D$16","v":"<Not Used>"},"Actual/ Estimated",{"$f":"'Utility Info'!$D$16","v":"<Not Used>"},"Actual/ Estimated",{"$f":"'Utility Info'!$D$16","v":"<Not Used>"},"Actual/ Estimated",{"$f":"'Utility Info'!$D$16","v":"<Not Used>"},"Actual/ Estimated",{"$f":"'Utility Info'!$D$16","v":"<Not Used>"},"Actual/ Estimated",{"$f":"'Utility Info'!$D$16","v":"<Not Used>"},"Actual/ Estimated",{"$f":"'Utility Info'!$D$16","v":"<Not Used>"},"Actual/ Estimated",{"$f":"'Utility Info'!$D$16","v":"<Not Used>"},"Actual/ Estimated",{"$f":"'Utility Info'!$D$16","v":"<Not Used>"},"Actual/ Estimated",{"$f":"'Utility Info'!$D$16","v":"<Not Used>"},"Actual/ Estimated",{"$f":"'Utility Info'!$D$16","v":"<Not Used>"},"Actual/ Estimated",{"$f":"'Utility Info'!$D$16","v":"<Not Used>"},"Actual/ Estimated",{"$f":"'Utility Info'!$D$16","v":"<Not Used>"},"Actual/ Estimated",{"$f":"'Utility Info'!$D$16","v":"<Not Used>"},"Actual/ Estimated",{"$f":"'Utility Info'!$D$16","v":"<Not Used>"},"Actual/ Estimated",{"$f":"'Utility Info'!$D$16","v":"<Not Used>"},"Actual/ Estimated",{"$f":"'Utility Info'!$D$16","v":"<Not Used>"},"Actual/ Estimated",{"$f":"'Utility Info'!$D$16","v":"<Not Used>"},"Actual/ Estimated",{"$f":"'Utility Info'!$D$16","v":"<Not Used>"},"Actual/ Estimated",{"$f":"'Utility Info'!$D$16","v":"<Not Used>"},"Actual/ Estimated",{"$f":"'Utility Info'!$D$16","v":"<Not Used>"},"Actual/ Estimated",{"$f":"'Utility Info'!$D$16","v":"<Not Used>"},"Actual/ Estimated",{"$f":"'Utility Info'!$D$16","v":"<Not Used>"},"Actual/ Estimated",{"$f":"'Utility Info'!$D$16","v":"<Not Used>"},"Actual/ Estimated",{"$f":"'Utility Info'!$D$16","v":"<Not Used>"},"Actual/ Estimated",{"$f":"'Utility Info'!$D$16","v":"<Not Used>"},"Actual/ Estimated",{"$f":"'Utility Info'!$D$16","v":"<Not Used>"},"Actual/ Estimated",{"$f":"'Utility Info'!$D$16","v":"<Not Used>"},"Actual/ Estimated",{"$f":"'Utility Info'!$D$16","v":"<Not Used>"},"Actual/ Estimated",{"$f":"'Utility Info'!$D$16","v":"<Not Used>"},"Actual/ Estimated",{"$f":"'Utility Info'!$D$16","v":"<Not Used>"},"Actual/ Estimated",{"$f":"'Utility Info'!$D$16","v":"<Not Used>"},"Actual/ Estimated",{"$f":"'Utility Info'!$D$16","v":"<Not Used>"},"Actual/ Estimated",{"$f":"'Utility Info'!$D$16","v":"<Not Used>"},"Actual/ Estimated",{"$f":"'Utility Info'!$D$16","v":"<Not Used>"},"Actual/ Estimated",{"$f":"'Utility Info'!$D$16","v":"<Not Used>"},"Actual/ Estimated",{"$f":"'Utility Info'!$D$16","v":"<Not Used>"},"Actual/ Estimated",{"$f":"'Utility Info'!$D$16","v":"<Not Used>"},"Actual/ Estimated",{"$f":"'Utility Info'!$D$16","v":"<Not Used>"},"Actual/ Estimated",{"$f":"'Utility Info'!$D$16","v":"<Not Used>"},"Actual/ Estimated",{"$f":"'Utility Info'!$D$16","v":"<Not Used>"},"Actual/ Estimated",{"$f":"'Utility Info'!$D$16","v":"<Not Used>"},"Actual/ Estimated",{"$f":"'Utility Info'!$D$16","v":"<Not Used>"},"Actual/ Estimated",{"$f":"'Utility Info'!$D$16","v":"<Not Used>"},"Actual/ Estimated",null,null,null,null,null,null,null,null,null,null,null,null,null,null,null,"Common Area Ref Date","Common Area Month","In-unit Ref Date","In-Unit Month"]
[null,null,null,null,null,null,null,null,null,null,null,null,null,null,null,null,null,null,null,null,null,null,null,null,null,null,null,null,null,null,null,null,null,null,null,null,null,null,null,null,null,null,null,null,null,null,null,null,null,null,null,null,null,null,null,null,null,null,null,null,null,null,null,null,null,null,null,null,null,null,null,null,null,null,null,null,null,null,null,null,null,null,null,null,null,null,null,null,null,null,null,null,null,null,null,null,null,null,null,null,null,null,null,null,null,null,null,null,null,{"$f":"'Apt-Gas'!C38","v":"00:00:00"}]
[null,{"$f":"C34+1","v":"1900-01-01"},null,{"$f":"IF(C35>0,C35+1-B35,0)","v":0},null,null,null,null,null,null,null,null,null,null,null,null,null,null,null,null,null,null,null,null,null,null,null,null,null,null,null,null,null,null,null,null,null,null,null,null,null,null,null,null,null,null,null,null,null,null,null,null,null,null,null,null,null,null,null,null,null,null,null,null,null,null,null,null,null,null,null,null,null,null,null,null,null,null,null,null,null,null,null,null,null,null,null,null,null,null,null,null,null,null,null,null,null,null,null,null,null,null,null,null,null,{"$f":"SUM(F35:DA35)+DC35","v":0},null,null,{"$f":"'Apt-Gas'!B39","v":"1900-01-01"},{"$f":"'Apt-Gas'!C39","v":"00:00:00"},{"$f":"IF(DF35>0,DF35+1-DE35,0)","v":0},{"$f":"'Apt-Gas'!PT39","v":0},null,{"$f":"DB35+DH35","v":0},null,null,null,null,null,null,{"$f":"DATE(YEAR(C35),MONTH(C35),1)","v":"1900-01-01"},{"$f":"IF((DQ35-B35)>(C35-DQ35),MONTH(B35),MONTH(C35))","v":1},{"$f":"DATE(YEAR(DF35),MONTH(DF35),1)","v":"1900-01-01"},{"$f":"IF((DS35-DE35)>(DF35-DS35),MONTH(DE35),MONTH(DF35))","v":1}]
[null,"1900-01-01",null,0,null,null,null,null,null,null,null,null,null,null,null,null,null,null,null,null,null,null,null,null,null,null,null,null,null,null,null,null,null,null,null,null,null,null,null,null,null,null,null,null,null,null,null,null,null,null,null,null,null,null,null,null,null,null,null,null,null,null,null,null,null,null,null,null,null,null,null,null,null,null,null,null,null,null,null,null,null,null,null,null,null,null,null,null,null,null,null,null,null,null,null,null,null,null,null,null,null,null,null,null,null,{"$f":"SUM(F36:DA36)+DC36","v":0},null,null,{"$f":"'Apt-Gas'!B40","v":"1900-01-01"},{"$f":"'Apt-Gas'!C40","v":"00:00:00"},{"$f":"IF(DF36>0,DF36+1-DE36,0)","v":0},{"$f":"'Apt-Gas'!PT40","v":0},null,{"$f":"DB36+DH36","v":0},null,null,null,null,null,null,"1900-01-01",1,{"$f":"DATE(YEAR(DF36),MONTH(DF36),1)","v":"1900-01-01"},{"$f":"IF((DS36-DE36)>(DF36-DS36),MONTH(DE36),MONTH(DF36))","v":1}]
[null,"1900-01-01",null,0,null,null,null,null,null,null,null,null,null,null,null,null,null,null,null,null,null,null,null,null,null,null,null,null,null,null,null,null,null,null,null,null,null,null,null,null,null,null,null,null,null,null,null,null,null,null,null,null,null,null,null,null,null,null,null,null,null,null,null,null,null,null,null,null,null,null,null,null,null,null,null,null,null,null,null,null,null,null,null,null,null,null,null,null,null,null,null,null,null,null,null,null,null,null,null,null,null,null,null,null,null,0,null,null,{"$f":"'Apt-Gas'!B41","v":"1900-01-01"},{"$f":"'Apt-Gas'!C41","v":"00:00:00"},0,{"$f":"'Apt-Gas'!PT41","v":0},null,0,null,null,null,null,null,null,"1900-01-01",1,{"$f":"DATE(YEAR(DF37),MONTH(DF37),1)","v":"1900-01-01"},1]
[null,"1900-01-01",null,0,null,null,null,null,null,null,null,null,null,null,null,null,null,null,null,null,null,null,null,null,null,null,null,null,null,null,null,null,null,null,null,null,null,null,null,null,null,null,null,null,null,null,null,null,null,null,null,null,null,null,null,null,null,null,null,null,null,null,null,null,null,null,null,null,null,null,null,null,null,null,null,null,null,null,null,null,null,null,null,null,null,null,null,null,null,null,null,null,null,null,null,null,null,null,null,null,null,null,null,null,null,0,null,null,{"$f":"'Apt-Gas'!B42","v":"1900-01-01"},{"$f":"'Apt-Gas'!C42","v":"00:00:00"},0,{"$f":"'Apt-Gas'!PT42","v":0},null,0,null,null,null,null,null,null,"1900-01-01",1,{"$f":"DATE(YEAR(DF38),MONTH(DF38),1)","v":"1900-01-01"},1]
[null,"1900-01-01",null,0,null,null,null,null,null,null,null,null,null,null,null,null,null,null,null,null,null,null,null,null,null,null,null,null,null,null,null,null,null,null,null,null,null,null,null,null,null,null,null,null,null,null,null,null,null,null,null,null,null,null,null,null,null,null,null,null,null,null,null,null,null,null,null,null,null,null,null,null,null,null,null,null,null,null,null,null,null,null,null,null,null,null,null,null,null,null,null,null,null,null,null,null,null,null,null,null,null,null,null,null,null,0,null,null,{"$f":"'Apt-Gas'!B43","v":"1900-01-01"},{"$f":"'Apt-Gas'!C43","v":"00:00:00"},0,{"$f":"'Apt-Gas'!PT43","v":0},null,0,null,null,null,null,null,null,"1900-01-01",1,{"$f":"DATE(YEAR(DF39),MONTH(DF39),1)","v":"1900-01-01"},1]
[null,"1900-01-01",null,0,null,null,null,null,null,null,null,null,null,null,null,null,null,null,null,null,null,null,null,null,null,null,null,null,null,null,null,null,null,null,null,null,null,null,null,null,null,null,null,null,null,null,null,null,null,null,null,null,null,null,null,null,null,null,null,null,null,null,null,null,null,null,null,null,null,null,null,null,null,null,null,null,null,null,null,null,null,null,null,null,null,null,null,null,null,null,null,null,null,null,null,null,null,null,null,null,null,null,null,null,null,0,null,null,{"$f":"'Apt-Gas'!B44","v":"1900-01-01"},{"$f":"'Apt-Gas'!C44","v":"00:00:00"},0,{"$f":"'Apt-Gas'!PT44","v":0},null,0,null,null,null,null,null,null,"1900-01-01",1,{"$f":"DATE(YEAR(DF40),MONTH(DF40),1)","v":"1900-01-01"},1]
[null,"1900-01-01",null,0,null,null,null,null,null,null,null,null,null,null,null,null,null,null,null,null,null,null,null,null,null,null,null,null,null,null,null,null,null,null,null,null,null,null,null,null,null,null,null,null,null,null,null,null,null,null,null,null,null,null,null,null,null,null,null,null,null,null,null,null,null,null,null,null,null,null,null,null,null,null,null,null,null,null,null,null,null,null,null,null,null,null,null,null,null,null,null,null,null,null,null,null,null,null,null,null,null,null,null,null,null,0,null,null,{"$f":"'Apt-Gas'!B45","v":"1900-01-01"},{"$f":"'Apt-Gas'!C45","v":"00:00:00"},0,{"$f":"'Apt-Gas'!PT45","v":0},null,0,null,null,null,null,null,null,"1900-01-01",1,"1900-01-01",1]
[null,"1900-01-01",null,0,null,null,null,null,null,null,null,null,null,null,null,null,null,null,null,null,null,null,null,null,null,null,null,null,null,null,null,null,null,null,null,null,null,null,null,null,null,null,null,null,null,null,null,null,null,null,null,null,null,null,null,null,null,null,null,null,null,null,null,null,null,null,null,null,null,null,null,null,null,null,null,null,null,null,null,null,null,null,null,null,null,null,null,null,null,null,null,null,null,null,null,null,null,null,null,null,null,null,null,null,null,0,null,null,{"$f":"'Apt-Gas'!B46","v":"1900-01-01"},{"$f":"'Apt-Gas'!C46","v":"00:00:00"},0,{"$f":"'Apt-Gas'!PT46","v":0},null,0,null,null,null,null,null,null,"1900-01-01",1,"1900-01-01",1]
[null,"1900-01-01",null,0,null,null,null,null,null,null,null,null,null,null,null,null,null,null,null,null,null,null,null,null,null,null,null,null,null,null,null,null,null,null,null,null,null,null,null,null,null,null,null,null,null,null,null,null,null,null,null,null,null,null,null,null,null,null,null,null,null,null,null,null,null,null,null,null,null,null,null,null,null,null,null,null,null,null,null,null,null,null,null,null,null,null,null,null,null,null,null,null,null,null,null,null,null,null,null,null,null,null,null,null,null,0,null,null,{"$f":"'Apt-Gas'!B47","v":"1900-01-01"},{"$f":"'Apt-Gas'!C47","v":"00:00:00"},0,{"$f":"'Apt-Gas'!PT47","v":0},null,0,null,null,null,null,null,null,"1900-01-01",1,"1900-01-01",1]
[null,"1900-01-01",null,0,null,null,null,null,null,null,null,null,null,null,null,null,null,null,null,null,null,null,null,null,null,null,null,null,null,null,null,null,null,null,null,null,null,null,null,null,null,null,null,null,null,null,null,null,null,null,null,null,null,null,null,null,null,null,null,null,null,null,null,null,null,null,null,null,null,null,null,null,null,null,null,null,null,null,null,null,null,null,null,null,null,null,null,null,null,null,null,null,null,null,null,null,null,null,null,null,null,null,null,null,null,0,null,null,{"$f":"'Apt-Gas'!B48","v":"1900-01-01"},{"$f":"'Apt-Gas'!C48","v":"00:00:00"},0,{"$f":"'Apt-Gas'!PT48","v":0},null,0,null,null,null,null,null,null,"1900-01-01",1,"1900-01-01",1]
[null,"1900-01-01",null,0,null,null,null,null,null,null,null,null,null,null,null,null,null,null,null,null,null,null,null,null,null,null,null,null,null,null,null,null,null,null,null,null,null,null,null,null,null,null,null,null,null,null,null,null,null,null,null,null,null,null,null,null,null,null,null,null,null,null,null,null,null,null,null,null,null,null,null,null,null,null,null,null,null,null,null,null,null,null,null,null,null,null,null,null,null,null,null,null,null,null,null,null,null,null,null,null,null,null,null,null,null,0,null,null,{"$f":"'Apt-Gas'!B49","v":"1900-01-01"},{"$f":"'Apt-Gas'!C49","v":"00:00:00"},0,{"$f":"'Apt-Gas'!PT49","v":0},null,0,null,null,null,null,null,null,"1900-01-01",1,"1900-01-01",1]
[null,"1900-01-01",null,0,null,null,null,null,null,null,null,null,null,null,null,null,null,null,null,null,null,null,null,null,null,null,null,null,null,null,null,null,null,null,null,null,null,null,null,null,null,null,null,null,null,null,null,null,null,null,null,null,null,null,null,null,null,null,null,null,null,null,null,null,null,null,null,null,null,null,null,null,null,null,null,null,null,null,null,null,null,null,null,null,null,null,null,null,null,null,null,null,null,null,null,null,null,null,null,null,null,null,null,null,null,0,null,null,{"$f":"'Apt-Gas'!B50","v":"1900-01-01"},{"$f":"'Apt-Gas'!C50","v":"00:00:00"},0,{"$f":"'Apt-Gas'!PT50","v":0},null,0,null,null,null,null,null,null,"1900-01-01",1,"1900-01-01",1]
[null,"1900-01-01",null,0,null,null,null,null,null,null,null,null,null,null,null,null,null,null,null,null,null,null,null,null,null,null,null,null,null,null,null,null,null,null,null,null,null,null,null,null,null,null,null,null,null,null,null,null,null,null,null,null,null,null,null,null,null,null,null,null,null,null,null,null,null,null,null,null,null,null,null,null,null,null,null,null,null,null,null,null,null,null,null,null,null,null,null,null,null,null,null,null,null,null,null,null,null,null,null,null,null,null,null,null,null,0,null,null,{"$f":"'Apt-Gas'!B51","v":"1900-01-01"},{"$f":"'Apt-Gas'!C51","v":"00:00:00"},0,{"$f":"'Apt-Gas'!PT51","v":0},null,0,null,null,null,null,null,null,"1900-01-01",1,"1900-01-01",1]
[null,"1900-01-01",null,0,null,null,null,null,null,null,null,null,null,null,null,null,null,null,null,null,null,null,null,null,null,null,null,null,null,null,null,null,null,null,null,null,null,null,null,null,null,null,null,null,null,null,null,null,null,null,null,null,null,null,null,null,null,null,null,null,null,null,null,null,null,null,null,null,null,null,null,null,null,null,null,null,null,null,null,null,null,null,null,null,null,null,null,null,null,null,null,null,null,null,null,null,null,null,null,null,null,null,null,null,null,0,null,null,{"$f":"'Apt-Gas'!B52","v":"1900-01-01"},{"$f":"'Apt-Gas'!C52","v":"00:00:00"},0,{"$f":"'Apt-Gas'!PT52","v":0},null,0,null,null,null,null,null,null,"1900-01-01",1,"1900-01-01",1]
[null,"1900-01-01",null,0,null,null,null,null,null,null,null,null,null,null,null,null,null,null,null,null,null,null,null,null,null,null,null,null,null,null,null,null,null,null,null,null,null,null,null,null,null,null,null,null,null,null,null,null,null,null,null,null,null,null,null,null,null,null,null,null,null,null,null,null,null,null,null,null,null,null,null,null,null,null,null,null,null,null,null,null,null,null,null,null,null,null,null,null,null,null,null,null,null,null,null,null,null,null,null,null,null,null,null,null,null,0,null,null,{"$f":"'Apt-Gas'!B53","v":"1900-01-01"},{"$f":"'Apt-Gas'!C53","v":"00:00:00"},0,{"$f":"'Apt-Gas'!PT53","v":0},null,0,null,null,null,null,null,null,"1900-01-01",1,"1900-01-01",1]
[null,null,{"$f":"IF(ABS(D50-365)>4,\"Must have 365 ± 4 days.\",\"\")","v":"Must have 365 ± 4 days."},{"$f":"SUM(D35:D49)","v":0},null,{"$f":"SUM(F34:F49)","v":0},null,{"$f":"SUM(H34:H49)","v":0},null,{"$f":"SUM(J34:J49)","v":0},null,{"$f":"SUM(L34:L49)","v":0},null,{"$f":"SUM(N34:N49)","v":0},null,{"$f":"SUM(P34:P49)","v":0},null,{"$f":"SUM(R34:R49)","v":0},null,{"$f":"SUM(T34:T49)","v":0},null,{"$f":"SUM(V34:V49)","v":0},null,{"$f":"SUM(X34:X49)","v":0},null,{"$f":"SUM(Z34:Z49)","v":0},null,{"$f":"SUM(AB34:AB49)","v":0},null,{"$f":"SUM(AD34:AD49)","v":0},null,{"$f":"SUM(AF34:AF49)","v":0},null,{"$f":"SUM(AH34:AH49)","v":0},null,{"$f":"SUM(AJ34:AJ49)","v":0},null,{"$f":"SUM(AL34:AL49)","v":0},null,{"$f":"SUM(AN34:AN49)","v":0},null,{"$f":"SUM(AP34:AP49)","v":0},null,{"$f":"SUM(AR34:AR49)","v":0},null,{"$f":"SUM(AT34:AT49)","v":0},null,{"$f":"SUM(AV34:AV49)","v":0},null,{"$f":"SUM(AX34:AX49)","v":0},null,{"$f":"SUM(AZ34:AZ49)","v":0},null,{"$f":"SUM(BB34:BB49)","v":0},null,{"$f":"SUM(BD34:BD49)","v":0},null,{"$f":"SUM(BF34:BF49)","v":0},null,{"$f":"SUM(BH34:BH49)","v":0},null,{"$f":"SUM(BJ34:BJ49)","v":0},null,{"$f":"SUM(BL34:BL49)","v":0},null,{"$f":"SUM(BN34:BN49)","v":0},null,{"$f":"SUM(BP34:BP49)","v":0},null,{"$f":"SUM(BR34:BR49)","v":0},null,{"$f":"SUM(BT34:BT49)","v":0},null,{"$f":"SUM(BV34:BV49)","v":0},null,{"$f":"SUM(BX34:BX49)","v":0},null,{"$f":"SUM(BZ34:BZ49)","v":0},null,{"$f":"SUM(CB34:CB49)","v":0},null,{"$f":"SUM(CD34:CD49)","v":0},null,{"$f":"SUM(CF34:CF49)","v":0},null,{"$f":"SUM(CH34:CH49)","v":0},null,{"$f":"SUM(CJ34:CJ49)","v":0},null,{"$f":"SUM(CL34:CL49)","v":0},null,{"$f":"SUM(CN34:CN49)","v":0},null,{"$f":"SUM(CP34:CP49)","v":0},null,{"$f":"SUM(CR34:CR49)","v":0},null,{"$f":"SUM(CT34:CT49)","v":0},null,{"$f":"SUM(CV34:CV49)","v":0},null,{"$f":"SUM(CX34:CX49)","v":0},null,{"$f":"SUM(CZ34:CZ49)","v":0},null,{"$f":"SUM(DB35:DB49)","v":0},{"$f":"SUM(DC35:DC49)","v":0},null,null,{"$f":"IF(ABS(DG50-365)>4,\"Must have 365 ± 4 days.\",\"\")","v":"Must have 365 ± 4 days."},{"$f":"SUM(DG35:DG49)","v":0},{"$f":"SUM(DH35:DH49)","v":0},null,{"$f":"SUM(DJ35:DJ49)","v":0}]
[null,{"$f":"IF(DE35=1,\"\",IF(ABS(B35-DE35)>15,\"The dates for the common area and apartment bills are out of synch. Please select start dates within 2 weeks of each other.\",\"\"))","v":""}]
[null,null,null,null,null,"Total Annual Gas Cost",null,"Total Annual Gas Cost",null,"Total Annual Gas Cost",null,"Total Annual Gas Cost",null,"Total Annual Gas Cost",null,"Total Annual Gas Cost",null,"Total Annual Gas Cost",null,"Total Annual Gas Cost",null,"Total Annual Gas Cost",null,"Total Annual Gas Cost",null,"Total Annual Gas Cost",null,"Total Annual Gas Cost",null,"Total Annual Gas Cost",null,"Total Annual Gas Cost",null,"Total Annual Gas Cost",null,"Total Annual Gas Cost",null,"Total Annual Gas Cost",null,"Total Annual Gas Cost",null,"Total Annual Gas Cost",null,"Total Annual Gas Cost",null,"Total Annual Gas Cost",null,"Total Annual Gas Cost",null,"Total Annual Gas Cost",null,"Total Annual Gas Cost",null,"Total Annual Gas Cost",null,"Total Annual Gas Cost",null,"Total Annual Gas Cost",null,"Total Annual Gas Cost",null,"Total Annual Gas Cost",null,"Total Annual Gas Cost",null,"Total Annual Gas Cost",null,"Total Annual Gas Cost",null,"Total Annual Gas Cost",null,"Total Annual Gas Cost",null,"Total Annual Gas Cost",null,"Total Annual Gas Cost",null,"Total Annual Gas Cost",null,"Total Annual Gas Cost",null,"Total Annual Gas Cost",null,"Total Annual Gas Cost",null,"Total Annual Gas Cost",null,"Total Annual Gas Cost",null,"Total Annual Gas Cost",null,"Total Annual Gas Cost",null,"Total Annual Gas Cost",null,"Total Annual Gas Cost",null,"Total Annual Gas Cost",null,"Total Annual Gas Cost",null,"Total Annual Gas Cost",null,"Total Annual Gas Cost",null,"Total Annual Common Area Gas Cost",null,null,null,null,null,"Total In-Unit Annual Gas Cost",null,"Total Annual Gas Cost"]
[null,null,null,null,null,null,null,null,null,null,null,null,null,null,null,null,null,null,null,null,null,null,null,null,null,null,null,null,null,null,null,null,null,null,null,null,null,null,null,null,null,null,null,null,null,null,null,null,null,null,null,null,null,null,null,null,null,null,null,null,null,null,null,null,null,null,null,null,null,null,null,null,null,null,null,null,null,null,null,null,null,null,null,null,null,null,null,null,null,null,null,null,null,null,null,null,null,null,null,null,null,null,null,null,null,{"$f":"SUM(F53:DA53)","v":0},null,null,null,null,null,{"$f":"IF(N('Apt-Gas'!$PT$57)=0,IF(N($DB$53)=0,1.15,$DB$53/$DB$50)*$DH$50,'Apt-Gas'!$PT$57)","v":0},null,{"$f":"DB53+DH53","v":0}]
[]
[null,null,null,null,null,"Building Area","Pre Construction Usage ","Post Construction Usage","Difference","% Difference"]
[null,null,null,null,null,"Common Area",{"$f":"DB25","v":0},{"$f":"DB50","v":0},{"$f":"H56-G56","v":0},{"$f":"IF(G56>0,I56/G56,\"\")","v":""}]
[null,null,null,null,null,"In-Unit",{"$f":"DH25","v":0},{"$f":"DH50","v":0},{"$f":"H57-G57","v":0},{"$f":"IF(G57>0,I57/G57,\"\")","v":""}]
[]
[]
[null,"Notes:"]
[]
[]
[]
[]
[]
[]
[]
[]
[]
[]
[]
[]
[]
[]
[]
[]
[]
[]
[]
[]
[]
[]
[]
[]
[]
[]
[]
[]
[]
[]
[]
[]
[]
[]
[]
[]
[]
[]
[]
[]
[]
[]
[]
[]
[]
[]
[]
[]
[]
[]
[]
[]
[]
[]
[]
[]
[]
[]
[null,"Actual"]
[null,"Estimated"]

{"sheet":"Apt-Gas","index":4,"n_rows":80,"n_cols":436,"rows_kept":80,"cut":false,"hidden":true,"merged":[[2,1,2,13],[59,425,63,435],[34,413,34,414],[34,415,34,416],[34,417,34,418],[34,419,34,420],[34,421,34,422],[58,5,58,10],[58,47,58,52],[58,89,58,94],[58,131,58,136],[58,173,58,178],[58,215,58,220],[58,257,58,262],[58,299,58,304],[58,341,58,346],[58,383,58,388],[34,377,34,378],[34,379,34,380],[34,383,34,384],[34,385,34,386],[34,387,34,388],[34,389,34,390],[34,391,34,392],[34,393,34,394],[34,395,34,396],[34,397,34,398],[34,399,34,400],[34,401,34,402],[34,403,34,404],[34,405,34,406],[34,407,34,408],[34,409,34,410],[34,411,34,412],[34,343,34,344],[34,345,34,346],[34,347,34,348],[34,349,34,350],[34,351,34,352],[34,353,34,354],[34,355,34,356],[34,357,34,358],[34,359,34,360],[34,361,34,362],[34,363,34,364],[34,365,34,366],[34,367,34,368],[34,369,34,370],[34,371,34,372],[34,373,34,374],[34,375,34,376],[34,307,34,308],[34,309,34,310],[34,311,34,312],[34,313,34,314],[34,315,34,316],[34,317,34,318],[34,319,34,320],[34,321,34,322],[34,323,34,324],[34,325,34,326],[34,327,34,328],[34,329,34,330],[34,331,34,332],[34,333,34,334],[34,335,34,336],[34,337,34,338],[34,341,34,342],[34,271,34,272],[34,273,34,274],[34,275,34,276],[34,277,34,278],[34,279,34,280],[34,281,34,282],[34,283,34,284],[34,285,34,286],[34,287,34,288],[34,289,34,290],[34,291,34,292],[34,293,34,294],[34,295,34,296],[34,299,34,300],[34,301,34,302],[34,303,34,304],[34,305,34,306],[34,235,34,236],[34,237,34,238],[34,239,34,240],[34,241,34,242],[34,243,34,244],[34,245,34,246],[34,247,34,248],[34,249,34,250],[34,251,34,252],[34,253,34,254],[34,257,34,258],[34,259,34,260],[34,261,34,262],[34,263,34,264],[34,265,34,266],[34,267,34,268],[34,269,34,270],[34,199,34,200],[34,201,34,202],[34,203,34,204],[34,205,34,206],[34,207,34,208],[34,209,34,210],[34,211,34,212],[34,215,34,216],[34,217,34,218],[34,219,34,220],[34,221,34,222],[34,223,34,224],[34,225,34,226],[34,227,34,228],[34,229,34,230],[34,231,34,232],[34,233,34,234],[34,163,34,164],[34,165,34,166],[34,167,34,168],[34,169,34,170],[34,173,34,174],[34,175,34,176],[34,177,34,178],[34,179,34,180],[34,181,34,182],[34,183,34,184],[34,185,34,186],[34,187,34,188],[34,189,34,190],[34,191,34,192],[34,193,34,194],[34,195,34,196],[34,197,34,198],[34,127,34,128],[34,131,34,132],[34,133,34,134],[34,135,34,136],[34,137,34,138],[34,139,34,140],[34,141,34,142],[34,143,34,144],[34,145,34,146],[34,147,34,148],[34,149,34,150],[34,151,34,152],[34,153,34,154],[34,155,34,156],[34,157,34,158],[34,159,34,160],[34,161,34,162],[34,93,34,94],[34,95,34,96],[34,97,34,98],[34,99,34,100],[34,101,34,102],[34,103,34,104],[34,105,34,106],[34,107,34,108],[34,109,34,110],[34,111,34,112],[34,113,34,114],[34,115,34,116],[34,117,34,118],[34,119,34,120],[34,121,34,122],[34,123,34,124],[34,125,34,126],[34,57,34,58],[34,59,34,60],[34,61,34,62],[34,63,34,64],[34,65,34,66],[34,67,34,68],[34,69,34,70],[34,71,34,72],[34,73,34,74],[34,75,34,76],[34,77,34,78],[34,79,34,80],[34,81,34,82],[34,83,34,84],[34,85,34,86],[34,89,34,90],[34,91,34,92],[32,409,32,410],[32,411,32,412],[32,413,32,414],[32,415,32,416],[32,417,32,418],[32,419,32,420],[32,421,32,422],[34,5,34,6],[34,7,34,8],[34,9,34,10],[34,11,34,12],[34,13,34,14],[34,15,34,16],[34,17,34,18],[34,19,34,20],[34,21,34,22],[34,23,34,24],[34,25,34,26],[34,27,34,28],[34,29,34,30],[34,31,34,32],[34,33,34,34],[34,35,34,36],[34,37,34,38],[34,39,34,40],[34,41,34,42],[34,43,34,44],[34,47,34,48],[34,49,34,50],[34,51,34,52],[34,53,34,54],[34,55,34,56],[32,373,32,374],[32,375,32,376],[32,377,32,378],[32,379,32,380],[32,383,32,384],[32,385,32,386],[32,387,32,388],[32,389,32,390],[32,391,32,392],[32,393,32,394],[32,395,32,396],[32,397,32,398],[32,399,32,400],[32,401,32,402],[32,403,32,404],[32,405,32,406],[32,407,32,408],[32,337,32,338],[32,341,32,342],[32,343,32,344],[32,345,32,346],[32,347,32,348],[32,349,32,350],[32,351,32,352],[32,353,32,354],[32,355,32,356],[32,357,32,358],[32,359,32,360],[32,361,32,362],[32,363,32,364],[32,365,32,366],[32,367,32,368],[32,369,32,370],[32,371,32,372],[32,303,32,304],[32,305,32,306],[32,307,32,308],[32,309,32,310],[32,311,32,312],[32,313,32,314],[32,315,32,316],[32,317,32,318],[32,319,32,320],[32,321,32,322],[32,323,32,324],[32,325,32,326],[32,327,32,328],[32,329,32,330],[32,331,32,332],[32,333,32,334],[32,335,32,336],[32,267,32,268],[32,269,32,270],[32,271,32,272],[32,273,32,274],[32,275,32,276],[32,277,32,278],[32,279,32,280],[32,281,32,282],[32,283,32,284],[32,285,32,286],[32,287,32,288],[32,289,32,290],[32,291,32,292],[32,293,32,294],[32,295,32,296],[32,299,32,300],[32,301,32,302],[32,231,32,232],[32,233,32,234],[32,235,32,236],[32,237,32,238],[32,239,32,240],[32,241,32,242],[32,243,32,244],[32,245,32,246],[32,247,32,248],[32,249,32,250],[32,251,32,252],[32,253,32,254],[32,257,32,258],[32,259,32,260],[32,261,32,262],[32,263,32,264],[32,265,32,266],[32,195,32,196],[32,197,32,198],[32,199,32,200],[32,201,32,202],[32,203,32,204],[32,205,32,206],[32,207,32,208],[32,209,32,210],[32,211,32,212],[32,215,32,216],[32,217,32,218],[32,219,32,220],[32,221,32,222],[32,223,32,224],[32,225,32,226],[32,227,32,228],[32,229,32,230],[32,159,32,160],[32,161,32,162],[32,163,32,164],[32,165,32,166],[32,167,32,168],[32,169,32,170],[32,173,32,174],[32,175,32,176],[32,177,32,178],[32,179,32,180],[32,181,32,182],[32,183,32,184],[32,185,32,186],[32,187,32,188],[32,189,32,190],[32,191,32,192],[32,193,32,194],[32,123,32,124],[32,125,32,126],[32,127,32,128],[32,131,32,132],[32,133,32,134],[32,135,32,136],[32,137,32,138],[32,139,32,140],[32,141,32,142],[32,143,32,144],[32,145,32,146],[32,147,32,148],[32,149,32,150],[32,151,32,152],[32,153,32,154],[32,155,32,156],[32,157,32,158],[32,89,32,90],[32,91,32,92],[32,93,32,94],[32,95,32,96],[32,97,32,98],[32,99,32,100],[32,101,32,102],[32,103,32,104],[32,105,32,106],[32,107,32,108],[32,109,32,110],[32,111,32,112],[32,113,32,114],[32,115,32,116],[32,117,32,118],[32,119,32,120],[32,121,32,122],[32,53,32,54],[32,55,32,56],[32,57,32,58],[32,59,32,60],[32,61,32,62],[32,63,32,64],[32,65,32,66],[32,67,32,68],[32,69,32,70],[32,71,32,72],[32,73,32,74],[32,75,32,76],[32,77,32,78],[32,79,32,80],[32,81,32,82],[32,83,32,84],[32,85,32,86],[32,17,32,18],[32,19,32,20],[32,21,32,22],[32,23,32,24],[32,25,32,26],[32,27,32,28],[32,29,32,30],[32,31,32,32],[32,33,32,34],[32,35,32,36],[32,37,32,38],[32,39,32,40],[32,41,32,42],[32,43,32,44],[32,47,32,48],[32,49,32,50],[32,51,32,52],[7,389,7,390],[7,391,7,392],[7,393,7,394],[7,395,7,396],[7,397,7,398],[7,399,7,400],[7,401,7,402],[7,403,7,404],[7,405,7,406],[7,407,7,408],[7,409,7,410],[7,411,7,412],[7,413,7,414],[7,415,7,416],[7,417,7,418],[7,419,7,420],[7,421,7,422],[7,353,7,354],[7,355,7,356],[7,357,7,358],[7,359,7,360],[7,361,7,362],[7,363,7,364],[7,365,7,366],[7,367,7,368],[7,369,7,370],[7,371,7,372],[7,373,7,374],[7,375,7,376],[7,377,7,378],[7,379,7,380],[7,383,7,384],[7,385,7,386],[7,387,7,388],[7,317,7,318],[7,319,7,320],[7,321,7,322],[7,323,7,324],[7,325,7,326],[7,327,7,328],[7,329,7,330],[7,331,7,332],[7,333,7,334],[7,335,7,336],[7,337,7,338],[7,341,7,342],[7,343,7,344],[7,345,7,346],[7,347,7,348],[7,349,7,350],[7,351,7,352],[7,281,7,282],[7,283,7,284],[7,285,7,286],[7,287,7,288],[7,289,7,290],[7,291,7,292],[7,293,7,294],[7,295,7,296],[7,299,7,300],[7,301,7,302],[7,303,7,304],[7,305,7,306],[7,307,7,308],[7,309,7,310],[7,311,7,312],[7,313,7,314],[7,315,7,316],[7,245,7,246],[7,247,7,248],[7,249,7,250],[7,251,7,252],[7,253,7,254],[7,257,7,258],[7,259,7,260],[7,261,7,262],[7,263,7,264],[7,265,7,266],[7,267,7,268],[7,269,7,270],[7,271,7,272],[7,273,7,274],[7,275,7,276],[7,277,7,278],[7,279,7,280],[7,209,7,210],[7,211,7,212],[7,215,7,216],[7,217,7,218],[7,219,7,220],[7,221,7,222],[7,223,7,224],[7,225,7,226],[7,227,7,228],[7,229,7,230],[7,231,7,232],[7,233,7,234],[7,235,7,236],[7,237,7,238],[7,239,7,240],[7,241,7,242],[7,243,7,244],[7,175,7,176],[7,177,7,178],[7,179,7,180],[7,181,7,182],[7,183,7,184],[7,185,7,186],[7,187,7,188],[7,189,7,190],[7,191,7,192],[7,193,7,194],[7,195,7,196],[7,197,7,198],[7,199,7,200],[7,201,7,202],[7,203,7,204],[7,205,7,206],[7,207,7,208],[7,139,7,140],[7,141,7,142],[7,143,7,144],[7,145,7,146],[7,147,7,148],[7,149,7,150],[7,151,7,152],[7,153,7,154],[7,155,7,156],[7,157,7,158],[7,159,7,160],[7,161,7,162],[7,163,7,164],[7,165,7,166],[7,167,7,168],[7,169,7,170],[7,173,7,174],[7,103,7,104],[7,105,7,106],[7,107,7,108],[7,109,7,110],[7,111,7,112],[7,113,7,114],[7,115,7,116],[7,117,7,118],[7,119,7,120],[7,121,7,122],[7,123,7,124],[7,125,7,126],[7,127,7,128],[7,131,7,132],[7,133,7,134],[7,135,7,136],[7,137,7,138],[7,67,7,68],[7,69,7,70],[7,71,7,72],[7,73,7,74],[7,75,7,76],[7,77,7,78],[7,79,7,80],[7,81,7,82],[7,83,7,84],[7,85,7,86],[7,89,7,90],[7,91,7,92],[7,93,7,94],[7,95,7,96],[7,97,7,98],[7,99,7,100],[7,101,7,102],[5,419,5,420],[5,421,5,422],[7,5,7,6],[7,7,7,8],[7,9,7,10],[7,11,7,12],[7,13,7,14],[7,15,7,16],[7,17,7,18],[7,19,7,20],[7,21,7,22],[7,23,7,24],[7,25,7,26],[7,27,7,28],[7,29,7,30],[7,31,7,32],[7,33,7,34],[7,35,7,36],[7,37,7,38],[7,39,7,40],[7,41,7,42],[7,43,7,44],[7,47,7,48],[7,49,7,50],[7,51,7,52],[7,53,7,54],[7,55,7,56],[7,57,7,58],[7,59,7,60],[7,61,7,62],[7,63,7,64],[7,65,7,66],[5,385,5,386],[5,387,5,388],[5,389,5,390],[5,391,5,392],[5,393,5,394],[5,395,5,396],[5,397,5,398],[5,399,5,400],[5,401,5,402],[5,403,5,404],[5,405,5,406],[5,407,5,408],[5,409,5,410],[5,411,5,412],[5,413,5,414],[5,415,5,416],[5,417,5,418],[5,349,5,350],[5,351,5,352],[5,353,5,354],[5,355,5,356],[5,357,5,358],[5,359,5,360],[5,361,5,362],[5,363,5,364],[5,365,5,366],[5,367,5,368],[5,369,5,370],[5,371,5,372],[5,373,5,374],[5,375,5,376],[5,377,5,378],[5,379,5,380],[5,383,5,384],[5,313,5,314],[5,315,5,316],[5,317,5,318],[5,319,5,320],[5,321,5,322],[5,323,5,324],[5,325,5,326],[5,327,5,328],[5,329,5,330],[5,331,5,332],[5,333,5,334],[5,335,5,336],[5,337,5,338],[5,341,5,342],[5,343,5,344],[5,345,5,346],[5,347,5,348],[5,277,5,278],[5,279,5,280],[5,281,5,282],[5,283,5,284],[5,285,5,286],[5,287,5,288],[5,289,5,290],[5,291,5,292],[5,293,5,294],[5,295,5,296],[5,299,5,300],[5,301,5,302],[5,303,5,304],[5,305,5,306],[5,307,5,308],[5,309,5,310],[5,311,5,312],[5,241,5,242],[5,243,5,244],[5,245,5,246],[5,247,5,248],[5,249,5,250],[5,251,5,252],[5,253,5,254],[5,257,5,258],[5,259,5,260],[5,261,5,262],[5,263,5,264],[5,265,5,266],[5,267,5,268],[5,269,5,270],[5,271,5,272],[5,273,5,274],[5,275,5,276],[5,205,5,206],[5,207,5,208],[5,209,5,210],[5,211,5,212],[5,215,5,216],[5,217,5,218],[5,219,5,220],[5,221,5,222],[5,223,5,224],[5,225,5,226],[5,227,5,228],[5,229,5,230],[5,231,5,232],[5,233,5,234],[5,235,5,236],[5,237,5,238],[5,239,5,240],[5,169,5,170],[5,173,5,174],[5,175,5,176],[5,177,5,178],[5,179,5,180],[5,181,5,182],[5,183,5,184],[5,185,5,186],[5,187,5,188],[5,189,5,190],[5,191,5,192],[5,193,5,194],[5,195,5,196],[5,197,5,198],[5,199,5,200],[5,201,5,202],[5,203,5,204],[5,135,5,136],[5,137,5,138],[5,139,5,140],[5,141,5,142],[5,143,5,144],[5,145,5,146],[5,147,5,148],[5,149,5,150],[5,151,5,152],[5,153,5,154],[5,155,5,156],[5,157,5,158],[5,159,5,160],[5,161,5,162],[5,163,5,164],[5,165,5,166],[5,167,5,168],[5,99,5,100],[5,101,5,102],[5,103,5,104],[5,105,5,106],[5,107,5,108],[5,109,5,110],[5,111,5,112],[5,113,5,114],[5,115,5,116],[5,117,5,118],[5,119,5,120],[5,121,5,122],[5,123,5,124],[5,125,5,126],[5,127,5,128],[5,131,5,132],[5,133,5,134],[5,63,5,64],[5,65,5,66],[5,67,5,68],[5,69,5,70],[5,71,5,72],[5,73,5,74],[5,75,5,76],[5,77,5,78],[5,79,5,80],[5,81,5,82],[5,83,5,84],[5,85,5,86],[5,89,5,90],[5,91,5,92],[5,93,5,94],[5,95,5,96],[5,97,5,98],[4,1,8,3],[4,5,4,45],[4,47,4,87],[4,89,4,129],[4,131,4,171],[6,23,6,24],[6,25,6,26],[6,27,6,28],[6,29,6,30],[5,5,5,6],[5,7,5,8],[5,9,5,10],[5,11,5,12],[5,13,5,14],[5,15,5,16],[5,17,5,18],[5,19,5,20],[5,21,5,22],[5,23,5,24],[5,25,5,26],[5,27,5,28],[5,29,5,30],[5,31,5,32],[5,33,5,34],[5,35,5,36],[5,37,5,38],[5,39,5,40],[5,41,5,42],[5,43,5,44],[5,47,5,48],[5,49,5,50],[6,57,6,58],[5,423,8,423],[6,5,6,6],[6,7,6,8],[6,9,6,10],[6,11,6,12],[6,13,6,14],[6,15,6,16],[6,17,6,18],[6,19,6,20],[6,21,6,22],[4,425,6,435],[5,45,8,45],[5,87,8,87],[5,129,8,129],[5,171,8,171],[5,213,8,213],[5,255,8,255],[5,297,8,297],[5,339,8,339],[5,381,8,381],[4,173,4,213],[4,215,4,255],[4,257,4,297],[4,299,4,339],[4,341,4,381],[4,383,4,423],[5,51,5,52],[5,53,5,54],[5,55,5,56],[5,57,5,58],[5,59,5,60],[5,61,5,62],[6,59,6,60],[6,61,6,62],[6,63,6,64],[6,65,6,66],[6,67,6,68],[6,43,6,44],[6,47,6,48],[6,49,6,50],[6,51,6,52],[6,53,6,54],[6,55,6,56],[6,31,6,32],[6,33,6,34],[6,35,6,36],[6,37,6,38],[6,39,6,40],[6,41,6,42],[6,95,6,96],[6,97,6,98],[6,99,6,100],[6,101,6,102],[6,103,6,104],[6,105,6,106],[6,81,6,82],[6,83,6,84],[6,85,6,86],[6,89,6,90],[6,91,6,92],[6,93,6,94],[6,69,6,70],[6,71,6,72],[6,73,6,74],[6,75,6,76],[6,77,6,78],[6,79,6,80],[6,133,6,134],[6,135,6,136],[6,137,6,138],[6,139,6,140],[6,141,6,142],[6,143,6,144],[6,119,6,120],[6,121,6,122],[6,123,6,124],[6,125,6,126],[6,127,6,128],[6,131,6,132],[6,107,6,108],[6,109,6,110],[6,111,6,112],[6,113,6,114],[6,115,6,116],[6,117,6,118],[6,169,6,170],[6,173,6,174],[6,175,6,176],[6,177,6,178],[6,179,6,180],[6,181,6,182],[6,157,6,158],[6,159,6,160],[6,161,6,162],[6,163,6,164],[6,165,6,166],[6,167,6,168],[6,145,6,146],[6,147,6,148],[6,149,6,150],[6,151,6,152],[6,153,6,154],[6,155,6,156],[6,207,6,208],[6,209,6,210],[6,211,6,212],[6,215,6,216],[6,217,6,218],[6,219,6,220],[6,195,6,196],[6,197,6,198],[6,199,6,200],[6,201,6,202],[6,203,6,204],[6,205,6,206],[6,183,6,184],[6,185,6,186],[6,187,6,188],[6,189,6,190],[6,191,6,192],[6,193,6,194],[6,245,6,246],[6,247,6,248],[6,249,6,250],[6,251,6,252],[6,253,6,254],[6,257,6,258],[6,233,6,234],[6,235,6,236],[6,237,6,238],[6,239,6,240],[6,241,6,242],[6,243,6,244],[6,221,6,222],[6,223,6,224],[6,225,6,226],[6,227,6,228],[6,229,6,230],[6,231,6,232],[6,283,6,284],[6,285,6,286],[6,287,6,288],[6,289,6,290],[6,291,6,292],[6,293,6,294],[6,271,6,272],[6,273,6,274],[6,275,6,276],[6,277,6,278],[6,279,6,280],[6,281,6,282],[6,259,6,260],[6,261,6,262],[6,263,6,264],[6,265,6,266],[6,267,6,268],[6,269,6,270],[6,321,6,322],[6,323,6,324],[6,325,6,326],[6,327,6,328],[6,329,6,330],[6,331,6,332],[6,309,6,310],[6,311,6,312],[6,313,6,314],[6,315,6,316],[6,317,6,318],[6,319,6,320],[6,295,6,296],[6,299,6,300],[6,301,6,302],[6,303,6,304],[6,305,6,306],[6,307,6,308],[6,379,6,380],[6,383,6,384],[6,359,6,360],[6,361,6,362],[6,363,6,364],[6,365,6,366],[6,367,6,368],[6,369,6,370],[6,347,6,348],[6,349,6,350],[6,351,6,352],[6,353,6,354],[6,355,6,356],[6,357,6,358],[6,333,6,334]],"merged_total":2859,"flags":["merged_cut"]}
[null,"Gas Utility Data - Apartment Meters"]
[null,"Instructions"]
[null,"1) Enter data for pre-construction apartment-level energy use.  First cell must not be blank. For months with zero consumption, please leave cell blank. \n2) Unhide columns (OD-PI) if there are more than 10 units sampled for a given unit type. You may hide columns that are not needed, do not delete them.\n3) Post-Construction data will be filled in one year after construction has been completed.\n4) Please use the \"Notes\" field below the data entry section of this tab to explain unusual circumstances, any anomalies in the data, or adjustments made. Also, please follow Program Guidelines v4.1, Section 3.2.2 for irregular delivers, outliers, and estimated bills.\n\n"]
[]
[null,"Pre-Construction In-Unit Billing Dates",null,null,null,{"$f":"CONCATENATE('Utility Info'!B77,\" - \",'Utility Info'!C77)","v":"Unit Type 1 - "},null,null,null,null,null,null,null,null,null,null,null,null,null,null,null,null,null,null,null,null,null,null,null,null,null,null,null,null,null,null,null,null,null,null,null,null,null,null,null,null,null,{"$f":"CONCATENATE('Utility Info'!B78,\" - \",'Utility Info'!C78)","v":"Unit Type 2 - "},null,null,null,null,null,null,null,null,null,null,null,null,null,null,null,null,null,null,null,null,null,null,null,null,null,null,null,null,null,null,null,null,null,null,null,null,null,null,null,null,null,{"$f":"CONCATENATE('Utility Info'!B79,\" - \",'Utility Info'!C79)","v":"Unit Type 3 - "},null,null,null,null,null,null,null,null,null,null,null,null,null,null,null,null,null,null,null,null,null,null,null,null,null,null,null,null,null,null,null,null,null,null,null,null,null,null,null,null,null,{"$f":"CONCATENATE('Utility Info'!B80,\" - \",'Utility Info'!C80)","v":"Unit Type 4 - "},null,null,null,null,null,null,null,null,null,null,null,null,null,null,null,null,null,null,null,null,null,null,null,null,null,null,null,null,null,null,null,null,null,null,null,null,null,null,null,null,null,{"$f":"CONCATENATE('Utility Info'!B81,\" - \",'Utility Info'!C81)","v":"Unit Type 5 - "},null,null,null,null,null,null,null,null,null,null,null,null,null,null,null,null,null,null,null,null,null,null,null,null,null,null,null,null,null,null,null,null,null,null,null,null,null,null,null,null,null,{"$f":"CONCATENATE('Utility Info'!B82,\" - \",'Utility Info'!C82)","v":"Unit Type 6 - "},null,null,null,null,null,null,null,null,null,null,null,null,null,null,null,null,null,null,null,null,null,null,null,null,null,null,null,null,null,null,null,null,null,null,null,null,null,null,null,null,null,{"$f":"CONCATENATE('Utility Info'!B83,\" - \",'Utility Info'!C83)","v":"Unit Type 7 - "},null,null,null,null,null,null,null,null,null,null,null,null,null,null,null,null,null,null,null,null,null,null,null,null,null,null,null,null,null,null,null,null,null,null,null,null,null,null,null,null,null,{"$f":"CONCATENATE('Utility Info'!B84,\" - \",'Utility Info'!C84)","v":"Unit Type 8 - "},null,null,null,null,null,null,null,null,null,null,null,null,null,null,null,null,null,null,null,null,null,null,null,null,null,null,null,null,null,null,null,null,null,null,null,null,null,null,null,null,null,{"$f":"CONCATENATE('Utility Info'!B85,\" - \",'Utility Info'!C85)","v":"Unit Type 9 - "},null,null,null,null,null,null,null,null,null,null,null,null,null,null,null,null,null,null,null,null,null,null,null,null,null,null,null,null,null,null,null,null,null,null,null,null,null,null,null,null,null,{"$f":"CONCATENATE('Utility Info'!B86,\" - \",'Utility Info'!C86)","v":"Unit Type 10 - "},null,null,null,null,null,null,null,null,null,null,null,null,null,null,null,null,null,null,null,null,null,null,null,null,null,null,null,null,null,null,null,null,null,null,null,null,null,null,null,null,null,"PRE-CONSTRUCTION\nSummary of In-Unit Gas Use"]
[null,null,null,null,null,"Unit #:",null,"Unit #:",null,"Unit #:",null,"Unit #:",null,"Unit #:",null,"Unit #:",null,"Unit #:",null,"Unit #:",null,"Unit #:",null,"Unit #:",null,"Unit #:",null,"Unit #:",null,"Unit #:",null,"Unit #:",null,"Unit #:",null,"Unit #:",null,"Unit #:",null,"Unit #:",null,"Unit #:",null,"Unit #:",null,"SUMMARY",null,"Unit #:",null,"Unit #:",null,"Unit #:",null,"Unit #:",null,"Unit #:",null,"Unit #:",null,"Unit #:",null,"Unit #:",null,"Unit #:",null,"Unit #:",null,"Unit #:",null,"Unit #:",null,"Unit #:",null,"Unit #:",null,"Unit #:",null,"Unit #:",null,"Unit #:",null,"Unit #:",null,"Unit #:",null,"Unit #:",null,"SUMMARY",null,"Unit #:",null,"Unit #:",null,"Unit #:",null,"Unit #:",null,"Unit #:",null,"Unit #:",null,"Unit #:",null,"Unit #:",null,"Unit #:",null,"Unit #:",null,"Unit #:",null,"Unit #:",null,"Unit #:",null,"Unit #:",null,"Unit #:",null,"Unit #:",null,"Unit #:",null,"Unit #:",null,"Unit #:",null,"Unit #:",null,"SUMMARY",null,"Unit #:",null,"Unit #:",null,"Unit #:",null,"Unit #:",null,"Unit #:",null,"Unit #:",null,"Unit #:",null,"Unit #:",null,"Unit #:",null,"Unit #:",null,"Unit #:",null,"Unit #:",null,"Unit #:",null,"Unit #:",null,"Unit #:",null,"Unit #:",null,"Unit #:",null,"Unit #:",null,"Unit #:",null,"Unit #:",null,"SUMMARY",null,"Unit #:",null,"Unit #:",null,"Unit #:",null,"Unit #:",null,"Unit #:",null,"Unit #:",null,"Unit #:",null,"Unit #:",null,"Unit #:",null,"Unit #:",null,"Unit #:",null,"Unit #:",null,"Unit #:",null,"Unit #:",null,"Unit #:",null,"Unit #:",null,"Unit #:",null,"Unit #:",null,"Unit #:",null,"Unit #:",null,"SUMMARY",null,"Unit #:",null,"Unit #:",null,"Unit #:",null,"Unit #:",null,"Unit #:",null,"Unit #:",null,"Unit #:",null,"Unit #:",null,"Unit #:",null,"Unit #:",null,"Unit #:",null,"Unit #:",null,"Unit #:",null,"Unit #:",null,"Unit #:",null,"Unit #:",null,"Unit #:",null,"Unit #:",null,"Unit #:",null,"Unit #:",null,"SUMMARY",null,"Unit #:",null,"Unit #:",null,"Unit #:",null,"Unit #:",null,"Unit #:",null,"Unit #:",null,"Unit #:",null,"Unit #:",null,"Unit #:",null,"Unit #:",null,"Unit #:",null,"Unit #:",null,"Unit #:",null,"Unit #:",null,"Unit #:",null,"Unit #:",null,"Unit #:",null,"Unit #:",null,"Unit #:",null,"Unit #:",null,"SUMMARY",null,"Unit #:",null,"Unit #:",null,"Unit #:",null,"Unit #:",null,"Unit #:",null,"Unit #:",null,"Unit #:",null,"Unit #:",null,"Unit #:",null,"Unit #:",null,"Unit #:",null,"Unit #:",null,"Unit #:",null,"Unit #:",null,"Unit #:",null,"Unit #:",null,"Unit #:",null,"Unit #:",null,"Unit #:",null,"Unit #:",null,"SUMMARY",null,"Unit #:",null,"Unit #:",null,"Unit #:",null,"Unit #:",null,"Unit #:",null,"Unit #:",null,"Unit #:",null,"Unit #:",null,"Unit #:",null,"Unit #:",null,"Unit #:",null,"Unit #:",null,"Unit #:",null,"Unit #:",null,"Unit #:",null,"Unit #:",null,"Unit #:",null,"Unit #:",null,"Unit #:",null,"Unit #:",null,"SUMMARY",null,"Unit #:",null,"Unit #:",null,"Unit #:",null,"Unit #:",null,"Unit #:",null,"Unit #:",null,"Unit #:",null,"Unit #:",null,"Unit #:",null,"Unit #:",null,"Unit #:",null,"Unit #:",null,"Unit #:",null,"Unit #:",null,"Unit #:",null,"Unit #:",null,"Unit #:",null,"Unit #:",null,"Unit #:",null,"Unit #:",null,"SUMMARY"]
[]
[null,null,null,null,null,"Account #:",null,"Account #:",null,"Account #:",null,"Account #:",null,"Account #:",null,"Account #:",null,"Account #:",null,"Account #:",null,"Account #:",null,"Account #:",null,"Account #:",null,"Account #:",null,"Account #:",null,"Account #:",null,"Account #:",null,"Account #:",null,"Account #:",null,"Account #:",null,"Account #:",null,"Account #:",null,null,null,"Account #:",null,"Account #:",null,"Account #:",null,"Account #:",null,"Account #:",null,"Account #:",null,"Account #:",null,"Account #:",null,"Account #:",null,"Account #:",null,"Account #:",null,"Account #:",null,"Account #:",null,"Account #:",null,"Account #:",null,"Account #:",null,"Account #:",null,"Account #:",null,"Account #:",null,"Account #:",null,null,null,"Account #:",null,"Account #:",null,"Account #:",null,"Account #:",null,"Account #:",null,"Account #:",null,"Account #:",null,"Account #:",null,"Account #:",null,"Account #:",null,"Account #:",null,"Account #:",null,"Account #:",null,"Account #:",null,"Account #:",null,"Account #:",null,"Account #:",null,"Account #:",null,"Account #:",null,"Account #:",null,null,null,"Account #:",null,"Account #:",null,"Account #:",null,"Account #:",null,"Account #:",null,"Account #:",null,"Account #:",null,"Account #:",null,"Account #:",null,"Account #:",null,"Account #:",null,"Account #:",null,"Account #:",null,"Account #:",null,"Account #:",null,"Account #:",null,"Account #:",null,"Account #:",null,"Account #:",null,"Account #:",null,null,null,"Account #:",null,"Account #:",null,"Account #:",null,"Account #:",null,"Account #:",null,"Account #:",null,"Account #:",null,"Account #:",null,"Account #:",null,"Account #:",null,"Account #:",null,"Account #:",null,"Account #:",null,"Account #:",null,"Account #:",null,"Account #:",null,"Account #:",null,"Account #:",null,"Account #:",null,"Account #:",null,null,null,"Account #:",null,"Account #:",null,"Account #:",null,"Account #:",null,"Account #:",null,"Account #:",null,"Account #:",null,"Account #:",null,"Account #:",null,"Account #:",null,"Account #:",null,"Account #:",null,"Account #:",null,"Account #:",null,"Account #:",null,"Account #:",null,"Account #:",null,"Account #:",null,"Account #:",null,"Account #:",null,null,null,"Account #:",null,"Account #:",null,"Account #:",null,"Account #:",null,"Account #:",null,"Account #:",null,"Account #:",null,"Account #:",null,"Account #:",null,"Account #:",null,"Account #:",null,"Account #:",null,"Account #:",null,"Account #:",null,"Account #:",null,"Account #:",null,"Account #:",null,"Account #:",null,"Account #:",null,"Account #:",null,null,null,"Account #:",null,"Account #:",null,"Account #:",null,"Account #:",null,"Account #:",null,"Account #:",null,"Account #:",null,"Account #:",null,"Account #:",null,"Account #:",null,"Account #:",null,"Account #:",null,"Account #:",null,"Account #:",null,"Account #:",null,"Account #:",null,"Account #:",null,"Account #:",null,"Account #:",null,"Account #:",null,null,null,"Account #:",null,"Account #:",null,"Account #:",null,"Account #:",null,"Account #:",null,"Account #:",null,"Account #:",null,"Account #:",null,"Account #:",null,"Account #:",null,"Account #:",null,"Account #:",null,"Account #:",null,"Account #:",null,"Account #:",null,"Account #:",null,"Account #:",null,"Account #:",null,"Account #:",null,"Account #:",null,null,null,"Account #:",null,"Account #:",null,"Account #:",null,"Account #:",null,"Account #:",null,"Account #:",null,"Account #:",null,"Account #:",null,"Account #:",null,"Account #:",null,"Account #:",null,"Account #:",null,"Account #:",null,"Account #:",null,"Account #:",null,"Account #:",null,"Account #:",null,"Account #:",null,"Account #:",null,"Account #:",null,null,null,{"$f":"'Utility Info'!$D$77","v":0},{"$f":"'Utility Info'!$D$78","v":0},{"$f":"'Utility Info'!$D$79","v":0},{"$f":"'Utility Info'!$D$80","v":0},{"$f":"'Utility Info'!$D$81","v":0},{"$f":"'Utility Info'!$D$82","v":0},{"$f":"'Utility Info'!$D$83","v":0},{"$f":"'Utility Info'!$D$84","v":0},{"$f":"'Utility Info'!$D$85","v":0},{"$f":"'Utility Info'!$D$86","v":0}]
[null,null,null,null,null,null,null,null,null,null,null,null,null,null,null,null,null,null,null,null,null,null,null,null,null,null,null,null,null,null,null,null,null,null,null,null,null,null,null,null,null,null,null,null,null,null,null,null,null,null,null,null,null,null,null,null,null,null,null,null,null,null,null,null,null,null,null,null,null,null,null,null,null,null,null,null,null,null,null,null,null,null,null,null,null,null,null,null,null,null,null,null,null,null,null,null,null,null,null,null,null,null,null,null,null,null,null,null,null,null,null,null,null,null,null,null,null,null,null,null,null,null,null,null,null,null,null,null,null,null,null,null,null,null,null,null,null,null,null,null,null,null,null,null,null,null,null,null,null,null,null,null,null,null,null,null,null,null,null,null,null,null,null,null,null,null,null,null,null,null,null,null,null,null,null,null,null,null,null,null,null,null,null,null,null,null,null,null,null,null,null,null,null,null,null,null,null,null,null,null,null,null,null,null,null,null,null,null,null,null,null,null,null,null,null,null,null,null,null,null,null,null,null,null,null,null,null,null,null,null,null,null,null,null,null,null,null,null,null,null,null,null,null,null,null,null,null,null,null,null,null,null,null,null,null,null,null,null,null,null,null,null,null,null,null,null,null,null,null,null,null,null,null,null,null,null,null,null,null,null,null,null,null,null,null,null,null,null,null,null,null,null,null,null,null,null,null,null,null,null,null,null,null,null,null,null,null,null,null,null,null,null,null,null,null,null,null,null,null,null,null,null,null,null,null,null,null,null,null,null,null,null,null,null,null,null,null,null,null,null,null,null,null,null,null,null,null,null,null,null,null,null,null,null,null,null,null,null,null,null,null,null,null,null,null,null,null,null,null,null,null,null,null,null,null,null,null,null,null,null,null,null,null,null,null,null,null,null,null,null,null,null,null,null,null,null,null,null,null,null,null,null,null,null,null,null,null,null,null,null,null,null,null,null,null,null,null,null,null,null,null,null,null,null,null,{"$f":"'Utility Info'!B77","v":"Unit Type 1"},{"$f":"'Utility Info'!B78","v":"Unit Type 2"},{"$f":"'Utility Info'!B79","v":"Unit Type 3"},{"$f":"'Utility Info'!B80","v":"Unit Type 4"},{"$f":"'Utility Info'!B81","v":"Unit Type 5"},{"$f":"'Utility Info'!B82","v":"Unit Type 6"},{"$f":"'Utility Info'!B83","v":"Unit Type 7"},{"$f":"'Utility Info'!B84","v":"Unit Type 8"},{"$f":"'Utility Info'!B85","v":"Unit Type 9"},{"$f":"'Utility Info'!B86","v":"Unit Type 10"},"SUMMARY"]
[null,"Billing Period Start Date","Read Date","Days in Billing Period",null,{"$f":"'Utility Info'!$D$7","v":"<Not Used>"},"Actual/ Estimated",{"$f":"'Utility Info'!$D$7","v":"<Not Used>"},"Actual/ Estimated",{"$f":"'Utility Info'!$D$7","v":"<Not Used>"},"Actual/ Estimated",{"$f":"'Utility Info'!$D$7","v":"<Not Used>"},"Actual/ Estimated",{"$f":"'Utility Info'!$D$7","v":"<Not Used>"},"Actual/ Estimated",{"$f":"'Utility Info'!$D$7","v":"<Not Used>"},"Actual/ Estimated",{"$f":"'Utility Info'!$D$7","v":"<Not Used>"},"Actual/ Estimated",{"$f":"'Utility Info'!$D$7","v":"<Not Used>"},"Actual/ Estimated",{"$f":"'Utility Info'!$D$7","v":"<Not Used>"},"Actual/ Estimated",{"$f":"'Utility Info'!$D$7","v":"<Not Used>"},"Actual/ Estimated",{"$f":"'Utility Info'!$D$7","v":"<Not Used>"},"Actual/ Estimated",{"$f":"'Utility Info'!$D$7","v":"<Not Used>"},"Actual/ Estimated",{"$f":"'Utility Info'!$D$7","v":"<Not Used>"},"Actual/ Estimated",{"$f":"'Utility Info'!$D$7","v":"<Not Used>"},"Actual/ Estimated",{"$f":"'Utility Info'!$D$7","v":"<Not Used>"},"Actual/ Estimated",{"$f":"'Utility Info'!$D$7","v":"<Not Used>"},"Actual/ Estimated",{"$f":"'Utility Info'!$D$7","v":"<Not Used>"},"Actual/ Estimated",{"$f":"'Utility Info'!$D$7","v":"<Not Used>"},"Actual/ Estimated",{"$f":"'Utility Info'!$D$7","v":"<Not Used>"},"Actual/ Estimated",{"$f":"'Utility Info'!$D$7","v":"<Not Used>"},"Actual/ Estimated","Average Gas Consumption",null,{"$f":"'Utility Info'!$D$7","v":"<Not Used>"},"Actual/ Estimated",{"$f":"'Utility Info'!$D$7","v":"<Not Used>"},"Actual/ Estimated",{"$f":"'Utility Info'!$D$7","v":"<Not Used>"},"Actual/ Estimated",{"$f":"'Utility Info'!$D$7","v":"<Not Used>"},"Actual/ Estimated",{"$f":"'Utility Info'!$D$7","v":"<Not Used>"},"Actual/ Estimated",{"$f":"'Utility Info'!$D$7","v":"<Not Used>"},"Actual/ Estimated",{"$f":"'Utility Info'!$D$7","v":"<Not Used>"},"Actual/ Estimated",{"$f":"'Utility Info'!$D$7","v":"<Not Used>"},"Actual/ Estimated",{"$f":"'Utility Info'!$D$7","v":"<Not Used>"},"Actual/ Estimated",{"$f":"'Utility Info'!$D$7","v":"<Not Used>"},"Actual/ Estimated",{"$f":"'Utility Info'!$D$7","v":"<Not Used>"},"Actual/ Estimated",{"$f":"'Utility Info'!$D$7","v":"<Not Used>"},"Actual/ Estimated",{"$f":"'Utility Info'!$D$7","v":"<Not Used>"},"Actual/ Estimated",{"$f":"'Utility Info'!$D$7","v":"<Not Used>"},"Actual/ Estimated",{"$f":"'Utility Info'!$D$7","v":"<Not Used>"},"Actual/ Estimated",{"$f":"'Utility Info'!$D$7","v":"<Not Used>"},"Actual/ Estimated",{"$f":"'Utility Info'!$D$7","v":"<Not Used>"},"Actual/ Estimated",{"$f":"'Utility Info'!$D$7","v":"<Not Used>"},"Actual/ Estimated",{"$f":"'Utility Info'!$D$7","v":"<Not Used>"},"Actual/ Estimated",{"$f":"'Utility Info'!$D$7","v":"<Not Used>"},"Actual/ Estimated","Average Gas Consumption",null,{"$f":"'Utility Info'!$D$7","v":"<Not Used>"},"Actual/ Estimated",{"$f":"'Utility Info'!$D$7","v":"<Not Used>"},"Actual/ Estimated",{"$f":"'Utility Info'!$D$7","v":"<Not Used>"},"Actual/ Estimated",{"$f":"'Utility Info'!$D$7","v":"<Not Used>"},"Actual/ Estimated",{"$f":"'Utility Info'!$D$7","v":"<Not Used>"},"Actual/ Estimated",{"$f":"'Utility Info'!$D$7","v":"<Not Used>"},"Actual/ Estimated",{"$f":"'Utility Info'!$D$7","v":"<Not Used>"},"Actual/ Estimated",{"$f":"'Utility Info'!$D$7","v":"<Not Used>"},"Actual/ Estimated",{"$f":"'Utility Info'!$D$7","v":"<Not Used>"},"Actual/ Estimated",{"$f":"'Utility Info'!$D$7","v":"<Not Used>"},"Actual/ Estimated",{"$f":"'Utility Info'!$D$7","v":"<Not Used>"},"Actual/ Estimated",{"$f":"'Utility Info'!$D$7","v":"<Not Used>"},"Actual/ Estimated",{"$f":"'Utility Info'!$D$7","v":"<Not Used>"},"Actual/ Estimated",{"$f":"'Utility Info'!$D$7","v":"<Not Used>"},"Actual/ Estimated",{"$f":"'Utility Info'!$D$7","v":"<Not Used>"},"Actual/ Estimated",{"$f":"'Utility Info'!$D$7","v":"<Not Used>"},"Actual/ Estimated",{"$f":"'Utility Info'!$D$7","v":"<Not Used>"},"Actual/ Estimated",{"$f":"'Utility Info'!$D$7","v":"<Not Used>"},"Actual/ Estimated",{"$f":"'Utility Info'!$D$7","v":"<Not Used>"},"Actual/ Estimated",{"$f":"'Utility Info'!$D$7","v":"<Not Used>"},"Actual/ Estimated","Average Gas Consumption",null,{"$f":"'Utility Info'!$D$7","v":"<Not Used>"},"Actual/ Estimated",{"$f":"'Utility Info'!$D$7","v":"<Not Used>"},"Actual/ Estimated",{"$f":"'Utility Info'!$D$7","v":"<Not Used>"},"Actual/ Estimated",{"$f":"'Utility Info'!$D$7","v":"<Not Used>"},"Actual/ Estimated",{"$f":"'Utility Info'!$D$7","v":"<Not Used>"},"Actual/ Estimated",{"$f":"'Utility Info'!$D$7","v":"<Not Used>"},"Actual/ Estimated",{"$f":"'Utility Info'!$D$7","v":"<Not Used>"},"Actual/ Estimated",{"$f":"'Utility Info'!$D$7","v":"<Not Used>"},"Actual/ Estimated",{"$f":"'Utility Info'!$D$7","v":"<Not Used>"},"Actual/ Estimated",{"$f":"'Utility Info'!$D$7","v":"<Not Used>"},"Actual/ Estimated",{"$f":"'Utility Info'!$D$7","v":"<Not Used>"},"Actual/ Estimated",{"$f":"'Utility Info'!$D$7","v":"<Not Used>"},"Actual/ Estimated",{"$f":"'Utility Info'!$D$7","v":"<Not Used>"},"Actual/ Estimated",{"$f":"'Utility Info'!$D$7","v":"<Not Used>"},"Actual/ Estimated",{"$f":"'Utility Info'!$D$7","v":"<Not Used>"},"Actual/ Estimated",{"$f":"'Utility Info'!$D$7","v":"<Not Used>"},"Actual/ Estimated",{"$f":"'Utility Info'!$D$7","v":"<Not Used>"},"Actual/ Estimated",{"$f":"'Utility Info'!$D$7","v":"<Not Used>"},"Actual/ Estimated",{"$f":"'Utility Info'!$D$7","v":"<Not Used>"},"Actual/ Estimated",{"$f":"'Utility Info'!$D$7","v":"<Not Used>"},"Actual/ Estimated","Average Gas Consumption",null,{"$f":"'Utility Info'!$D$7","v":"<Not Used>"},"Actual/ Estimated",{"$f":"'Utility Info'!$D$7","v":"<Not Used>"},"Actual/ Estimated",{"$f":"'Utility Info'!$D$7","v":"<Not Used>"},"Actual/ Estimated",{"$f":"'Utility Info'!$D$7","v":"<Not Used>"},"Actual/ Estimated",{"$f":"'Utility Info'!$D$7","v":"<Not Used>"},"Actual/ Estimated",{"$f":"'Utility Info'!$D$7","v":"<Not Used>"},"Actual/ Estimated",{"$f":"'Utility Info'!$D$7","v":"<Not Used>"},"Actual/ Estimated",{"$f":"'Utility Info'!$D$7","v":"<Not Used>"},"Actual/ Estimated",{"$f":"'Utility Info'!$D$7","v":"<Not Used>"},"Actual/ Estimated",{"$f":"'Utility Info'!$D$7","v":"<Not Used>"},"Actual/ Estimated",{"$f":"'Utility Info'!$D$7","v":"<Not Used>"},"Actual/ Estimated",{"$f":"'Utility Info'!$D$7","v":"<Not Used>"},"Actual/ Estimated",{"$f":"'Utility Info'!$D$7","v":"<Not Used>"},"Actual/ Estimated",{"$f":"'Utility Info'!$D$7","v":"<Not Used>"},"Actual/ Estimated",{"$f":"'Utility Info'!$D$7","v":"<Not Used>"},"Actual/ Estimated",{"$f":"'Utility Info'!$D$7","v":"<Not Used>"},"Actual/ Estimated",{"$f":"'Utility Info'!$D$7","v":"<Not Used>"},"Actual/ Estimated",{"$f":"'Utility Info'!$D$7","v":"<Not Used>"},"Actual/ Estimated",{"$f":"'Utility Info'!$D$7","v":"<Not Used>"},"Actual/ Estimated",{"$f":"'Utility Info'!$D$7","v":"<Not Used>"},"Actual/ Estimated","Average Gas Consumption",null,{"$f":"'Utility Info'!$D$7","v":"<Not Used>"},"Actual/ Estimated",{"$f":"'Utility Info'!$D$7","v":"<Not Used>"},"Actual/ Estimated",{"$f":"'Utility Info'!$D$7","v":"<Not Used>"},"Actual/ Estimated",{"$f":"'Utility Info'!$D$7","v":"<Not Used>"},"Actual/ Estimated",{"$f":"'Utility Info'!$D$7","v":"<Not Used>"},"Actual/ Estimated",{"$f":"'Utility Info'!$D$7","v":"<Not Used>"},"Actual/ Estimated",{"$f":"'Utility Info'!$D$7","v":"<Not Used>"},"Actual/ Estimated",{"$f":"'Utility Info'!$D$7","v":"<Not Used>"},"Actual/ Estimated",{"$f":"'Utility Info'!$D$7","v":"<Not Used>"},"Actual/ Estimated",{"$f":"'Utility Info'!$D$7","v":"<Not Used>"},"Actual/ Estimated",{"$f":"'Utility Info'!$D$7","v":"<Not Used>"},"Actual/ Estimated",{"$f":"'Utility Info'!$D$7","v":"<Not Used>"},"Actual/ Estimated",{"$f":"'Utility Info'!$D$7","v":"<Not Used>"},"Actual/ Estimated",{"$f":"'Utility Info'!$D$7","v":"<Not Used>"},"Actual/ Estimated",{"$f":"'Utility Info'!$D$7","v":"<Not Used>"},"Actual/ Estimated",{"$f":"'Utility Info'!$D$7","v":"<Not Used>"},"Actual/ Estimated",{"$f":"'Utility Info'!$D$7","v":"<Not Used>"},"Actual/ Estimated",{"$f":"'Utility Info'!$D$7","v":"<Not Used>"},"Actual/ Estimated",{"$f":"'Utility Info'!$D$7","v":"<Not Used>"},"Actual/ Estimated",{"$f":"'Utility Info'!$D$7","v":"<Not Used>"},"Actual/ Estimated","Average Gas Consumption",null,{"$f":"'Utility Info'!$D$7","v":"<Not Used>"},"Actual/ Estimated",{"$f":"'Utility Info'!$D$7","v":"<Not Used>"},"Actual/ Estimated",{"$f":"'Utility Info'!$D$7","v":"<Not Used>"},"Actual/ Estimated",{"$f":"'Utility Info'!$D$7","v":"<Not Used>"},"Actual/ Estimated",{"$f":"'Utility Info'!$D$7","v":"<Not Used>"},"Actual/ Estimated",{"$f":"'Utility Info'!$D$7","v":"<Not Used>"},"Actual/ Estimated",{"$f":"'Utility Info'!$D$7","v":"<Not Used>"},"Actual/ Estimated",{"$f":"'Utility Info'!$D$7","v":"<Not Used>"},"Actual/ Estimated",{"$f":"'Utility Info'!$D$7","v":"<Not Used>"},"Actual/ Estimated",{"$f":"'Utility Info'!$D$7","v":"<Not Used>"},"Actual/ Estimated",{"$f":"'Utility Info'!$D$7","v":"<Not Used>"},"Actual/ Estimated",{"$f":"'Utility Info'!$D$7","v":"<Not Used>"},"Actual/ Estimated",{"$f":"'Utility Info'!$D$7","v":"<Not Used>"},"Actual/ Estimated",{"$f":"'Utility Info'!$D$7","v":"<Not Used>"},"Actual/ Estimated",{"$f":"'Utility Info'!$D$7","v":"<Not Used>"},"Actual/ Estimated",{"$f":"'Utility Info'!$D$7","v":"<Not Used>"},"Actual/ Estimated",{"$f":"'Utility Info'!$D$7","v":"<Not Used>"},"Actual/ Estimated",{"$f":"'Utility Info'!$D$7","v":"<Not Used>"},"Actual/ Estimated",{"$f":"'Utility Info'!$D$7","v":"<Not Used>"},"Actual/ Estimated",{"$f":"'Utility Info'!$D$7","v":"<Not Used>"},"Actual/ Estimated","Average Gas Consumption",null,{"$f":"'Utility Info'!$D$7","v":"<Not Used>"},"Actual/ Estimated",{"$f":"'Utility Info'!$D$7","v":"<Not Used>"},"Actual/ Estimated",{"$f":"'Utility Info'!$D$7","v":"<Not Used>"},"Actual/ Estimated",{"$f":"'Utility Info'!$D$7","v":"<Not Used>"},"Actual/ Estimated",{"$f":"'Utility Info'!$D$7","v":"<Not Used>"},"Actual/ Estimated",{"$f":"'Utility Info'!$D$7","v":"<Not Used>"},"Actual/ Estimated",{"$f":"'Utility Info'!$D$7","v":"<Not Used>"},"Actual/ Estimated",{"$f":"'Utility Info'!$D$7","v":"<Not Used>"},"Actual/ Estimated",{"$f":"'Utility Info'!$D$7","v":"<Not Used>"},"Actual/ Estimated",{"$f":"'Utility Info'!$D$7","v":"<Not Used>"},"Actual/ Estimated",{"$f":"'Utility Info'!$D$7","v":"<Not Used>"},"Actual/ Estimated",{"$f":"'Utility Info'!$D$7","v":"<Not Used>"},"Actual/ Estimated",{"$f":"'Utility Info'!$D$7","v":"<Not Used>"},"Actual/ Estimated",{"$f":"'Utility Info'!$D$7","v":"<Not Used>"},"Actual/ Estimated",{"$f":"'Utility Info'!$D$7","v":"<Not Used>"},"Actual/ Estimated",{"$f":"'Utility Info'!$D$7","v":"<Not Used>"},"Actual/ Estimated",{"$f":"'Utility Info'!$D$7","v":"<Not Used>"},"Actual/ Estimated",{"$f":"'Utility Info'!$D$7","v":"<Not Used>"},"Actual/ Estimated",{"$f":"'Utility Info'!$D$7","v":"<Not Used>"},"Actual/ Estimated",{"$f":"'Utility Info'!$D$7","v":"<Not Used>"},"Actual/ Estimated","Average Gas Consumption",null,{"$f":"'Utility Info'!$D$7","v":"<Not Used>"},"Actual/ Estimated",{"$f":"'Utility Info'!$D$7","v":"<Not Used>"},"Actual/ Estimated",{"$f":"'Utility Info'!$D$7","v":"<Not Used>"},"Actual/ Estimated",{"$f":"'Utility Info'!$D$7","v":"<Not Used>"},"Actual/ Estimated",{"$f":"'Utility Info'!$D$7","v":"<Not Used>"},"Actual/ Estimated",{"$f":"'Utility Info'!$D$7","v":"<Not Used>"},"Actual/ Estimated",{"$f":"'Utility Info'!$D$7","v":"<Not Used>"},"Actual/ Estimated",{"$f":"'Utility Info'!$D$7","v":"<Not Used>"},"Actual/ Estimated",{"$f":"'Utility Info'!$D$7","v":"<Not Used>"},"Actual/ Estimated",{"$f":"'Utility Info'!$D$7","v":"<Not Used>"},"Actual/ Estimated",{"$f":"'Utility Info'!$D$7","v":"<Not Used>"},"Actual/ Estimated",{"$f":"'Utility Info'!$D$7","v":"<Not Used>"},"Actual/ Estimated",{"$f":"'Utility Info'!$D$7","v":"<Not Used>"},"Actual/ Estimated",{"$f":"'Utility Info'!$D$7","v":"<Not Used>"},"Actual/ Estimated",{"$f":"'Utility Info'!$D$7","v":"<Not Used>"},"Actual/ Estimated",{"$f":"'Utility Info'!$D$7","v":"<Not Used>"},"Actual/ Estimated",{"$f":"'Utility Info'!$D$7","v":"<Not Used>"},"Actual/ Estimated",{"$f":"'Utility Info'!$D$7","v":"<Not Used>"},"Actual/ Estimated",{"$f":"'Utility Info'!$D$7","v":"<Not Used>"},"Actual/ Estimated",{"$f":"'Utility Info'!$D$7","v":"<Not Used>"},"Actual/ Estimated","Average Gas Consumption",null,{"$f":"'Utility Info'!$D$7","v":"<Not Used>"},"Actual/ Estimated",{"$f":"'Utility Info'!$D$7","v":"<Not Used>"},"Actual/ Estimated",{"$f":"'Utility Info'!$D$7","v":"<Not Used>"},"Actual/ Estimated",{"$f":"'Utility Info'!$D$7","v":"<Not Used>"},"Actual/ Estimated",{"$f":"'Utility Info'!$D$7","v":"<Not Used>"},"Actual/ Estimated",{"$f":"'Utility Info'!$D$7","v":"<Not Used>"},"Actual/ Estimated",{"$f":"'Utility Info'!$D$7","v":"<Not Used>"},"Actual/ Estimated",{"$f":"'Utility Info'!$D$7","v":"<Not Used>"},"Actual/ Estimated",{"$f":"'Utility Info'!$D$7","v":"<Not Used>"},"Actual/ Estimated",{"$f":"'Utility Info'!$D$7","v":"<Not Used>"},"Actual/ Estimated",{"$f":"'Utility Info'!$D$7","v":"<Not Used>"},"Actual/ Estimated",{"$f":"'Utility Info'!$D$7","v":"<Not Used>"},"Actual/ Estimated",{"$f":"'Utility Info'!$D$7","v":"<Not Used>"},"Actual/ Estimated",{"$f":"'Utility Info'!$D$7","v":"<Not Used>"},"Actual/ Estimated",{"$f":"'Utility Info'!$D$7","v":"<Not Used>"},"Actual/ Estimated",{"$f":"'Utility Info'!$D$7","v":"<Not Used>"},"Actual/ Estimated",{"$f":"'Utility Info'!$D$7","v":"<Not Used>"},"Actual/ Estimated",{"$f":"'Utility Info'!$D$7","v":"<Not Used>"},"Actual/ Estimated",{"$f":"'Utility Info'!$D$7","v":"<Not Used>"},"Actual/ Estimated",{"$f":"'Utility Info'!$D$7","v":"<Not Used>"},"Actual/ Estimated","Average Gas Consumption",null,"Average Gas Consumption","Average Gas Consumption","Average Gas Consumption","Average Gas Consumption","Average Gas Consumption","Average Gas Consumption","Average Gas Consumption","Average Gas Consumption","Average Gas Consumption","Average Gas Consumption","Total In-unit Gas Consumption"]
[]
[null,{"$f":"C11+1","v":"1900-01-01"},null,{"$f":"IF(C12>0,C12+1-B12,0)","v":0},null,null,null,null,null,null,null,null,null,null,null,null,null,null,null,null,null,null,null,null,null,null,null,null,null,null,null,null,null,null,null,null,null,null,null,null,null,null,null,null,null,{"$f":"IF(ISBLANK(F12),\"\",AVERAGE(F12:AR12))","v":""},null,null,null,null,null,null,null,null,null,null,null,null,null,null,null,null,null,null,null,null,null,null,null,null,null,null,null,null,null,null,null,null,null,null,null,null,null,null,null,null,null,{"$f":"IF(ISBLANK(AV12),\"\",AVERAGE(AV12:CH12))","v":""},null,null,null,null,null,null,null,null,null,null,null,null,null,null,null,null,null,null,null,null,null,null,null,null,null,null,null,null,null,null,null,null,null,null,null,null,null,null,null,null,null,{"$f":"IF(ISBLANK(CL12),\"\",AVERAGE(CL12:DX12))","v":""},null,null,null,null,null,null,null,null,null,null,null,null,null,null,null,null,null,null,null,null,null,null,null,null,null,null,null,null,null,null,null,null,null,null,null,null,null,null,null,null,null,{"$f":"IF(ISBLANK(EB12),\"\",AVERAGE(EB12:FN12))","v":""},null,null,null,null,null,null,null,null,null,null,null,null,null,null,null,null,null,null,null,null,null,null,null,null,null,null,null,null,null,null,null,null,null,null,null,null,null,null,null,null,null,{"$f":"IF(ISBLANK(FR12),\"\",AVERAGE(FR12:HD12))","v":""},null,null,null,null,null,null,null,null,null,null,null,null,null,null,null,null,null,null,null,null,null,null,null,null,null,null,null,null,null,null,null,null,null,null,null,null,null,null,null,null,null,{"$f":"IF(ISBLANK(HH12),\"\",AVERAGE(HH12:IT12))","v":""},null,null,null,null,null,null,null,null,null,null,null,null,null,null,null,null,null,null,null,null,null,null,null,null,null,null,null,null,null,null,null,null,null,null,null,null,null,null,null,null,null,{"$f":"IF(ISBLANK(IX12),\"\",AVERAGE(IX12:KJ12))","v":""},null,null,null,null,null,null,null,null,null,null,null,null,null,null,null,null,null,null,null,null,null,null,null,null,null,null,null,null,null,null,null,null,null,null,null,null,null,null,null,null,null,{"$f":"IF(ISBLANK(KN12),\"\",AVERAGE(KN12:LZ12))","v":""},null,null,null,null,null,null,null,null,null,null,null,null,null,null,null,null,null,null,null,null,null,null,null,null,null,null,null,null,null,null,null,null,null,null,null,null,null,null,null,null,null,{"$f":"IF(ISBLANK(MD12),\"\",AVERAGE(MD12:NP12))","v":""},null,null,null,null,null,null,null,null,null,null,null,null,null,null,null,null,null,null,null,null,null,null,null,null,null,null,null,null,null,null,null,null,null,null,null,null,null,null,null,null,null,{"$f":"IF(ISBLANK(NT12),\"\",AVERAGE(NT12:PF12))","v":""},null,{"$f":"IF(AT12=\"\",0,AT12)","v":0},{"$f":"IF(CJ12=\"\",0,CJ12)","v":0},{"$f":"IF(DZ12=\"\",0,DZ12)","v":0},{"$f":"IF(FP12=\"\",0,FP12)","v":0},{"$f":"IF(HF12=\"\",0,HF12)","v":0},{"$f":"IF(IV12=\"\",0,IV12)","v":0},{"$f":"IF(KL12=\"\",0,KL12)","v":0},{"$f":"IF(MB12=\"\",0,MB12)","v":0},{"$f":"IF(NR12=\"\",0,NR12)","v":0},{"$f":"IF(PH12=\"\",0,PH12)","v":0},{"$f":"SUMPRODUCT($PJ$8:$PS$8,PJ12:PS12)","v":0}]
[null,{"$f":"C12+1","v":"1900-01-01"},null,0,null,null,null,null,null,null,null,null,null,null,null,null,null,null,null,null,null,null,null,null,null,null,null,null,null,null,null,null,null,null,null,null,null,null,null,null,null,null,null,null,null,"",null,null,null,null,null,null,null,null,null,null,null,null,null,null,null,null,null,null,null,null,null,null,null,null,null,null,null,null,null,null,null,null,null,null,null,null,null,null,null,null,null,"",null,null,null,null,null,null,null,null,null,null,null,null,null,null,null,null,null,null,null,null,null,null,null,null,null,null,null,null,null,null,null,null,null,null,null,null,null,null,null,null,null,"",null,null,null,null,null,null,null,null,null,null,null,null,null,null,null,null,null,null,null,null,null,null,null,null,null,null,null,null,null,null,null,null,null,null,null,null,null,null,null,null,null,"",null,null,null,null,null,null,null,null,null,null,null,null,null,null,null,null,null,null,null,null,null,null,null,null,null,null,null,null,null,null,null,null,null,null,null,null,null,null,null,null,null,"",null,null,null,null,null,null,null,null,null,null,null,null,null,null,null,null,null,null,null,null,null,null,null,null,null,null,null,null,null,null,null,null,null,null,null,null,null,null,null,null,null,"",null,null,null,null,null,null,null,null,null,null,null,null,null,null,null,null,null,null,null,null,null,null,null,null,null,null,null,null,null,null,null,null,null,null,null,null,null,null,null,null,null,"",null,null,null,null,null,null,null,null,null,null,null,null,null,null,null,null,null,null,null,null,null,null,null,null,null,null,null,null,null,null,null,null,null,null,null,null,null,null,null,null,null,"",null,null,null,null,null,null,null,null,null,null,null,null,null,null,null,null,null,null,null,null,null,null,null,null,null,null,null,null,null,null,null,null,null,null,null,null,null,null,null,null,null,"",null,null,null,null,null,null,null,null,null,null,null,null,null,null,null,null,null,null,null,null,null,null,null,null,null,null,null,null,null,null,null,null,null,null,null,null,null,null,null,null,null,"",null,0,0,0,0,0,0,0,0,0,0,{"$f":"SUMPRODUCT($PJ$8:$PS$8,PJ13:PS13)","v":0}]
[null,"1900-01-01",null,0,null,null,null,null,null,null,null,null,null,null,null,null,null,null,null,null,null,null,null,null,null,null,null,null,null,null,null,null,null,null,null,null,null,null,null,null,null,null,null,null,null,"",null,null,null,null,null,null,null,null,null,null,null,null,null,null,null,null,null,null,null,null,null,null,null,null,null,null,null,null,null,null,null,null,null,null,null,null,null,null,null,null,null,"",null,null,null,null,null,null,null,null,null,null,null,null,null,null,null,null,null,null,null,null,null,null,null,null,null,null,null,null,null,null,null,null,null,null,null,null,null,null,null,null,null,"",null,null,null,null,null,null,null,null,null,null,null,null,null,null,null,null,null,null,null,null,null,null,null,null,null,null,null,null,null,null,null,null,null,null,null,null,null,null,null,null,null,"",null,null,null,null,null,null,null,null,null,null,null,null,null,null,null,null,null,null,null,null,null,null,null,null,null,null,null,null,null,null,null,null,null,null,null,null,null,null,null,null,null,"",null,null,null,null,null,null,null,null,null,null,null,null,null,null,null,null,null,null,null,null,null,null,null,null,null,null,null,null,null,null,null,null,null,null,null,null,null,null,null,null,null,"",null,null,null,null,null,null,null,null,null,null,null,null,null,null,null,null,null,null,null,null,null,null,null,null,null,null,null,null,null,null,null,null,null,null,null,null,null,null,null,null,null,"",null,null,null,null,null,null,null,null,null,null,null,null,null,null,null,null,null,null,null,null,null,null,null,null,null,null,null,null,null,null,null,null,null,null,null,null,null,null,null,null,null,"",null,null,null,null,null,null,null,null,null,null,null,null,null,null,null,null,null,null,null,null,null,null,null,null,null,null,null,null,null,null,null,null,null,null,null,null,null,null,null,null,null,"",null,null,null,null,null,null,null,null,null,null,null,null,null,null,null,null,null,null,null,null,null,null,null,null,null,null,null,null,null,null,null,null,null,null,null,null,null,null,null,null,null,"",null,0,0,0,0,0,0,0,0,0,0,0]
[null,"1900-01-01",null,0,null,null,null,null,null,null,null,null,null,null,null,null,null,null,null,null,null,null,null,null,null,null,null,null,null,null,null,null,null,null,null,null,null,null,null,null,null,null,null,null,null,"",null,null,null,null,null,null,null,null,null,null,null,null,null,null,null,null,null,null,null,null,null,null,null,null,null,null,null,null,null,null,null,null,null,null,null,null,null,null,null,null,null,"",null,null,null,null,null,null,null,null,null,null,null,null,null,null,null,null,null,null,null,null,null,null,null,null,null,null,null,null,null,null,null,null,null,null,null,null,null,null,null,null,null,"",null,null,null,null,null,null,null,null,null,null,null,null,null,null,null,null,null,null,null,null,null,null,null,null,null,null,null,null,null,null,null,null,null,null,null,null,null,null,null,null,null,"",null,null,null,null,null,null,null,null,null,null,null,null,null,null,null,null,null,null,null,null,null,null,null,null,null,null,null,null,null,null,null,null,null,null,null,null,null,null,null,null,null,"",null,null,null,null,null,null,null,null,null,null,null,null,null,null,null,null,null,null,null,null,null,null,null,null,null,null,null,null,null,null,null,null,null,null,null,null,null,null,null,null,null,"",null,null,null,null,null,null,null,null,null,null,null,null,null,null,null,null,null,null,null,null,null,null,null,null,null,null,null,null,null,null,null,null,null,null,null,null,null,null,null,null,null,"",null,null,null,null,null,null,null,null,null,null,null,null,null,null,null,null,null,null,null,null,null,null,null,null,null,null,null,null,null,null,null,null,null,null,null,null,null,null,null,null,null,"",null,null,null,null,null,null,null,null,null,null,null,null,null,null,null,null,null,null,null,null,null,null,null,null,null,null,null,null,null,null,null,null,null,null,null,null,null,null,null,null,null,"",null,null,null,null,null,null,null,null,null,null,null,null,null,null,null,null,null,null,null,null,null,null,null,null,null,null,null,null,null,null,null,null,null,null,null,null,null,null,null,null,null,"",null,0,0,0,0,0,0,0,0,0,0,0]
[null,"1900-01-01",null,0,null,null,null,null,null,null,null,null,null,null,null,null,null,null,null,null,null,null,null,null,null,null,null,null,null,null,null,null,null,null,null,null,null,null,null,null,null,null,null,null,null,"",null,null,null,null,null,null,null,null,null,null,null,null,null,null,null,null,null,null,null,null,null,null,null,null,null,null,null,null,null,null,null,null,null,null,null,null,null,null,null,null,null,"",null,null,null,null,null,null,null,null,null,null,null,null,null,null,null,null,null,null,null,null,null,null,null,null,null,null,null,null,null,null,null,null,null,null,null,null,null,null,null,null,null,"",null,null,null,null,null,null,null,null,null,null,null,null,null,null,null,null,null,null,null,null,null,null,null,null,null,null,null,null,null,null,null,null,null,null,null,null,null,null,null,null,null,"",null,null,null,null,null,null,null,null,null,null,null,null,null,null,null,null,null,null,null,null,null,null,null,null,null,null,null,null,null,null,null,null,null,null,null,null,null,null,null,null,null,"",null,null,null,null,null,null,null,null,null,null,null,null,null,null,null,null,null,null,null,null,null,null,null,null,null,null,null,null,null,null,null,null,null,null,null,null,null,null,null,null,null,"",null,null,null,null,null,null,null,null,null,null,null,null,null,null,null,null,null,null,null,null,null,null,null,null,null,null,null,null,null,null,null,null,null,null,null,null,null,null,null,null,null,"",null,null,null,null,null,null,null,null,null,null,null,null,null,null,null,null,null,null,null,null,null,null,null,null,null,null,null,null,null,null,null,null,null,null,null,null,null,null,null,null,null,"",null,null,null,null,null,null,null,null,null,null,null,null,null,null,null,null,null,null,null,null,null,null,null,null,null,null,null,null,null,null,null,null,null,null,null,null,null,null,null,null,null,"",null,null,null,null,null,null,null,null,null,null,null,null,null,null,null,null,null,null,null,null,null,null,null,null,null,null,null,null,null,null,null,null,null,null,null,null,null,null,null,null,null,"",null,0,0,0,0,0,0,0,0,0,0,0]
[null,"1900-01-01",null,0,null,null,null,null,null,null,null,null,null,null,null,null,null,null,null,null,null,null,null,null,null,null,null,null,null,null,null,null,null,null,null,null,null,null,null,null,null,null,null,null,null,"",null,null,null,null,null,null,null,null,null,null,null,null,null,null,null,null,null,null,null,null,null,null,null,null,null,null,null,null,null,null,null,null,null,null,null,null,null,null,null,null,null,"",null,null,null,null,null,null,null,null,null,null,null,null,null,null,null,null,null,null,null,null,null,null,null,null,null,null,null,null,null,null,null,null,null,null,null,null,null,null,null,null,null,"",null,null,null,null,null,null,null,null,null,null,null,null,null,null,null,null,null,null,null,null,null,null,null,null,null,null,null,null,null,null,null,null,null,null,null,null,null,null,null,null,null,"",null,null,null,null,null,null,null,null,null,null,null,null,null,null,null,null,null,null,null,null,null,null,null,null,null,null,null,null,null,null,null,null,null,null,null,null,null,null,null,null,null,"",null,null,null,null,null,null,null,null,null,null,null,null,null,null,null,null,null,null,null,null,null,null,null,null,null,null,null,null,null,null,null,null,null,null,null,null,null,null,null,null,null,"",null,null,null,null,null,null,null,null,null,null,null,null,null,null,null,null,null,null,null,null,null,null,null,null,null,null,null,null,null,null,null,null,null,null,null,null,null,null,null,null,null,"",null,null,null,null,null,null,null,null,null,null,null,null,null,null,null,null,null,null,null,null,null,null,null,null,null,null,null,null,null,null,null,null,null,null,null,null,null,null,null,null,null,"",null,null,null,null,null,null,null,null,null,null,null,null,null,null,null,null,null,null,null,null,null,null,null,null,null,null,null,null,null,null,null,null,null,null,null,null,null,null,null,null,null,"",null,null,null,null,null,null,null,null,null,null,null,null,null,null,null,null,null,null,null,null,null,null,null,null,null,null,null,null,null,null,null,null,null,null,null,null,null,null,null,null,null,"",null,0,0,0,0,0,0,0,0,0,0,0]
[null,"1900-01-01",null,0,null,null,null,null,null,null,null,null,null,null,null,null,null,null,null,null,null,null,null,null,null,null,null,null,null,null,null,null,null,null,null,null,null,null,null,null,null,null,null,null,null,"",null,null,null,null,null,null,null,null,null,null,null,null,null,null,null,null,null,null,null,null,null,null,null,null,null,null,null,null,null,null,null,null,null,null,null,null,null,null,null,null,null,"",null,null,null,null,null,null,null,null,null,null,null,null,null,null,null,null,null,null,null,null,null,null,null,null,null,null,null,null,null,null,null,null,null,null,null,null,null,null,null,null,null,"",null,null,null,null,null,null,null,null,null,null,null,null,null,null,null,null,null,null,null,null,null,null,null,null,null,null,null,null,null,null,null,null,null,null,null,null,null,null,null,null,null,"",null,null,null,null,null,null,null,null,null,null,null,null,null,null,null,null,null,null,null,null,null,null,null,null,null,null,null,null,null,null,null,null,null,null,null,null,null,null,null,null,null,"",null,null,null,null,null,null,null,null,null,null,null,null,null,null,null,null,null,null,null,null,null,null,null,null,null,null,null,null,null,null,null,null,null,null,null,null,null,null,null,null,null,"",null,null,null,null,null,null,null,null,null,null,null,null,null,null,null,null,null,null,null,null,null,null,null,null,null,null,null,null,null,null,null,null,null,null,null,null,null,null,null,null,null,"",null,null,null,null,null,null,null,null,null,null,null,null,null,null,null,null,null,null,null,null,null,null,null,null,null,null,null,null,null,null,null,null,null,null,null,null,null,null,null,null,null,"",null,null,null,null,null,null,null,null,null,null,null,null,null,null,null,null,null,null,null,null,null,null,null,null,null,null,null,null,null,null,null,null,null,null,null,null,null,null,null,null,null,"",null,null,null,null,null,null,null,null,null,null,null,null,null,null,null,null,null,null,null,null,null,null,null,null,null,null,null,null,null,null,null,null,null,null,null,null,null,null,null,null,null,"",null,0,0,0,0,0,0,0,0,0,0,0]
[null,"1900-01-01",null,0,null,null,null,null,null,null,null,null,null,null,null,null,null,null,null,null,null,null,null,null,null,null,null,null,null,null,null,null,null,null,null,null,null,null,null,null,null,null,null,null,null,"",null,null,null,null,null,null,null,null,null,null,null,null,null,null,null,null,null,null,null,null,null,null,null,null,null,null,null,null,null,null,null,null,null,null,null,null,null,null,null,null,null,"",null,null,null,null,null,null,null,null,null,null,null,null,null,null,null,null,null,null,null,null,null,null,null,null,null,null,null,null,null,null,null,null,null,null,null,null,null,null,null,null,null,"",null,null,null,null,null,null,null,null,null,null,null,null,null,null,null,null,null,null,null,null,null,null,null,null,null,null,null,null,null,null,null,null,null,null,null,null,null,null,null,null,null,"",null,null,null,null,null,null,null,null,null,null,null,null,null,null,null,null,null,null,null,null,null,null,null,null,null,null,null,null,null,null,null,null,null,null,null,null,null,null,null,null,null,"",null,null,null,null,null,null,null,null,null,null,null,null,null,null,null,null,null,null,null,null,null,null,null,null,null,null,null,null,null,null,null,null,null,null,null,null,null,null,null,null,null,"",null,null,null,null,null,null,null,null,null,null,null,null,null,null,null,null,null,null,null,null,null,null,null,null,null,null,null,null,null,null,null,null,null,null,null,null,null,null,null,null,null,"",null,null,null,null,null,null,null,null,null,null,null,null,null,null,null,null,null,null,null,null,null,null,null,null,null,null,null,null,null,null,null,null,null,null,null,null,null,null,null,null,null,"",null,null,null,null,null,null,null,null,null,null,null,null,null,null,null,null,null,null,null,null,null,null,null,null,null,null,null,null,null,null,null,null,null,null,null,null,null,null,null,null,null,"",null,null,null,null,null,null,null,null,null,null,null,null,null,null,null,null,null,null,null,null,null,null,null,null,null,null,null,null,null,null,null,null,null,null,null,null,null,null,null,null,null,"",null,0,0,0,0,0,0,0,0,0,0,0]
[null,"1900-01-01",null,0,null,null,null,null,null,null,null,null,null,null,null,null,null,null,null,null,null,null,null,null,null,null,null,null,null,null,null,null,null,null,null,null,null,null,null,null,null,null,null,null,null,"",null,null,null,null,null,null,null,null,null,null,null,null,null,null,null,null,null,null,null,null,null,null,null,null,null,null,null,null,null,null,null,null,null,null,null,null,null,null,null,null,null,"",null,null,null,null,null,null,null,null,null,null,null,null,null,null,null,null,null,null,null,null,null,null,null,null,null,null,null,null,null,null,null,null,null,null,null,null,null,null,null,null,null,"",null,null,null,null,null,null,null,null,null,null,null,null,null,null,null,null,null,null,null,null,null,null,null,null,null,null,null,null,null,null,null,null,null,null,null,null,null,null,null,null,null,"",null,null,null,null,null,null,null,null,null,null,null,null,null,null,null,null,null,null,null,null,null,null,null,null,null,null,null,null,null,null,null,null,null,null,null,null,null,null,null,null,null,"",null,null,null,null,null,null,null,null,null,null,null,null,null,null,null,null,null,null,null,null,null,null,null,null,null,null,null,null,null,null,null,null,null,null,null,null,null,null,null,null,null,"",null,null,null,null,null,null,null,null,null,null,null,null,null,null,null,null,null,null,null,null,null,null,null,null,null,null,null,null,null,null,null,null,null,null,null,null,null,null,null,null,null,"",null,null,null,null,null,null,null,null,null,null,null,null,null,null,null,null,null,null,null,null,null,null,null,null,null,null,null,null,null,null,null,null,null,null,null,null,null,null,null,null,null,"",null,null,null,null,null,null,null,null,null,null,null,null,null,null,null,null,null,null,null,null,null,null,null,null,null,null,null,null,null,null,null,null,null,null,null,null,null,null,null,null,null,"",null,null,null,null,null,null,null,null,null,null,null,null,null,null,null,null,null,null,null,null,null,null,null,null,null,null,null,null,null,null,null,null,null,null,null,null,null,null,null,null,null,"",null,0,0,0,0,0,0,0,0,0,0,0]
[null,"1900-01-01",null,0,null,null,null,null,null,null,null,null,null,null,null,null,null,null,null,null,null,null,null,null,null,null,null,null,null,null,null,null,null,null,null,null,null,null,null,null,null,null,null,null,null,"",null,null,null,null,null,null,null,null,null,null,null,null,null,null,null,null,null,null,null,null,null,null,null,null,null,null,null,null,null,null,null,null,null,null,null,null,null,null,null,null,null,"",null,null,null,null,null,null,null,null,null,null,null,null,null,null,null,null,null,null,null,null,null,null,null,null,null,null,null,null,null,null,null,null,null,null,null,null,null,null,null,null,null,"",null,null,null,null,null,null,null,null,null,null,null,null,null,null,null,null,null,null,null,null,null,null,null,null,null,null,null,null,null,null,null,null,null,null,null,null,null,null,null,null,null,"",null,null,null,null,null,null,null,null,null,null,null,null,null,null,null,null,null,null,null,null,null,null,null,null,null,null,null,null,null,null,null,null,null,null,null,null,null,null,null,null,null,"",null,null,null,null,null,null,null,null,null,null,null,null,null,null,null,null,null,null,null,null,null,null,null,null,null,null,null,null,null,null,null,null,null,null,null,null,null,null,null,null,null,"",null,null,null,null,null,null,null,null,null,null,null,null,null,null,null,null,null,null,null,null,null,null,null,null,null,null,null,null,null,null,null,null,null,null,null,null,null,null,null,null,null,"",null,null,null,null,null,null,null,null,null,null,null,null,null,null,null,null,null,null,null,null,null,null,null,null,null,null,null,null,null,null,null,null,null,null,null,null,null,null,null,null,null,"",null,null,null,null,null,null,null,null,null,null,null,null,null,null,null,null,null,null,null,null,null,null,null,null,null,null,null,null,null,null,null,null,null,null,null,null,null,null,null,null,null,"",null,null,null,null,null,null,null,null,null,null,null,null,null,null,null,null,null,null,null,null,null,null,null,null,null,null,null,null,null,null,null,null,null,null,null,null,null,null,null,null,null,"",null,0,0,0,0,0,0,0,0,0,0,0]
[null,"1900-01-01",null,0,null,null,null,null,null,null,null,null,null,null,null,null,null,null,null,null,null,null,null,null,null,null,null,null,null,null,null,null,null,null,null,null,null,null,null,null,null,null,null,null,null,"",null,null,null,null,null,null,null,null,null,null,null,null,null,null,null,null,null,null,null,null,null,null,null,null,null,null,null,null,null,null,null,null,null,null,null,null,null,null,null,null,null,"",null,null,null,null,null,null,null,null,null,null,null,null,null,null,null,null,null,null,null,null,null,null,null,null,null,null,null,null,null,null,null,null,null,null,null,null,null,null,null,null,null,"",null,null,null,null,null,null,null,null,null,null,null,null,null,null,null,null,null,null,null,null,null,null,null,null,null,null,null,null,null,null,null,null,null,null,null,null,null,null,null,null,null,"",null,null,null,null,null,null,null,null,null,null,null,null,null,null,null,null,null,null,null,null,null,null,null,null,null,null,null,null,null,null,null,null,null,null,null,null,null,null,null,null,null,"",null,null,null,null,null,null,null,null,null,null,null,null,null,null,null,null,null,null,null,null,null,null,null,null,null,null,null,null,null,null,null,null,null,null,null,null,null,null,null,null,null,"",null,null,null,null,null,null,null,null,null,null,null,null,null,null,null,null,null,null,null,null,null,null,null,null,null,null,null,null,null,null,null,null,null,null,null,null,null,null,null,null,null,"",null,null,null,null,null,null,null,null,null,null,null,null,null,null,null,null,null,null,null,null,null,null,null,null,null,null,null,null,null,null,null,null,null,null,null,null,null,null,null,null,null,"",null,null,null,null,null,null,null,null,null,null,null,null,null,null,null,null,null,null,null,null,null,null,null,null,null,null,null,null,null,null,null,null,null,null,null,null,null,null,null,null,null,"",null,null,null,null,null,null,null,null,null,null,null,null,null,null,null,null,null,null,null,null,null,null,null,null,null,null,null,null,null,null,null,null,null,null,null,null,null,null,null,null,null,"",null,0,0,0,0,0,0,0,0,0,0,0]
[null,"1900-01-01",null,0,null,null,null,null,null,null,null,null,null,null,null,null,null,null,null,null,null,null,null,null,null,null,null,null,null,null,null,null,null,null,null,null,null,null,null,null,null,null,null,null,null,"",null,null,null,null,null,null,null,null,null,null,null,null,null,null,null,null,null,null,null,null,null,null,null,null,null,null,null,null,null,null,null,null,null,null,null,null,null,null,null,null,null,"",null,null,null,null,null,null,null,null,null,null,null,null,null,null,null,null,null,null,null,null,null,null,null,null,null,null,null,null,null,null,null,null,null,null,null,null,null,null,null,null,null,"",null,null,null,null,null,null,null,null,null,null,null,null,null,null,null,null,null,null,null,null,null,null,null,null,null,null,null,null,null,null,null,null,null,null,null,null,null,null,null,null,null,"",null,null,null,null,null,null,null,null,null,null,null,null,null,null,null,null,null,null,null,null,null,null,null,null,null,null,null,null,null,null,null,null,null,null,null,null,null,null,null,null,null,"",null,null,null,null,null,null,null,null,null,null,null,null,null,null,null,null,null,null,null,null,null,null,null,null,null,null,null,null,null,null,null,null,null,null,null,null,null,null,null,null,null,"",null,null,null,null,null,null,null,null,null,null,null,null,null,null,null,null,null,null,null,null,null,null,null,null,null,null,null,null,null,null,null,null,null,null,null,null,null,null,null,null,null,"",null,null,null,null,null,null,null,null,null,null,null,null,null,null,null,null,null,null,null,null,null,null,null,null,null,null,null,null,null,null,null,null,null,null,null,null,null,null,null,null,null,"",null,null,null,null,null,null,null,null,null,null,null,null,null,null,null,null,null,null,null,null,null,null,null,null,null,null,null,null,null,null,null,null,null,null,null,null,null,null,null,null,null,"",null,null,null,null,null,null,null,null,null,null,null,null,null,null,null,null,null,null,null,null,null,null,null,null,null,null,null,null,null,null,null,null,null,null,null,null,null,null,null,null,null,"",null,0,0,0,0,0,0,0,0,0,0,0]
[null,"1900-01-01",null,0,null,null,null,null,null,null,null,null,null,null,null,null,null,null,null,null,null,null,null,null,null,null,null,null,null,null,null,null,null,null,null,null,null,null,null,null,null,null,null,null,null,"",null,null,null,null,null,null,null,null,null,null,null,null,null,null,null,null,null,null,null,null,null,null,null,null,null,null,null,null,null,null,null,null,null,null,null,null,null,null,null,null,null,"",null,null,null,null,null,null,null,null,null,null,null,null,null,null,null,null,null,null,null,null,null,null,null,null,null,null,null,null,null,null,null,null,null,null,null,null,null,null,null,null,null,"",null,null,null,null,null,null,null,null,null,null,null,null,null,null,null,null,null,null,null,null,null,null,null,null,null,null,null,null,null,null,null,null,null,null,null,null,null,null,null,null,null,"",null,null,null,null,null,null,null,null,null,null,null,null,null,null,null,null,null,null,null,null,null,null,null,null,null,null,null,null,null,null,null,null,null,null,null,null,null,null,null,null,null,"",null,null,null,null,null,null,null,null,null,null,null,null,null,null,null,null,null,null,null,null,null,null,null,null,null,null,null,null,null,null,null,null,null,null,null,null,null,null,null,null,null,"",null,null,null,null,null,null,null,null,null,null,null,null,null,null,null,null,null,null,null,null,null,null,null,null,null,null,null,null,null,null,null,null,null,null,null,null,null,null,null,null,null,"",null,null,null,null,null,null,null,null,null,null,null,null,null,null,null,null,null,null,null,null,null,null,null,null,null,null,null,null,null,null,null,null,null,null,null,null,null,null,null,null,null,"",null,null,null,null,null,null,null,null,null,null,null,null,null,null,null,null,null,null,null,null,null,null,null,null,null,null,null,null,null,null,null,null,null,null,null,null,null,null,null,null,null,"",null,null,null,null,null,null,null,null,null,null,null,null,null,null,null,null,null,null,null,null,null,null,null,null,null,null,null,null,null,null,null,null,null,null,null,null,null,null,null,null,null,"",null,0,0,0,0,0,0,0,0,0,0,0]
[null,"1900-01-01",null,0,null,null,null,null,null,null,null,null,null,null,null,null,null,null,null,null,null,null,null,null,null,null,null,null,null,null,null,null,null,null,null,null,null,null,null,null,null,null,null,null,null,"",null,null,null,null,null,null,null,null,null,null,null,null,null,null,null,null,null,null,null,null,null,null,null,null,null,null,null,null,null,null,null,null,null,null,null,null,null,null,null,null,null,"",null,null,null,null,null,null,null,null,null,null,null,null,null,null,null,null,null,null,null,null,null,null,null,null,null,null,null,null,null,null,null,null,null,null,null,null,null,null,null,null,null,"",null,null,null,null,null,null,null,null,null,null,null,null,null,null,null,null,null,null,null,null,null,null,null,null,null,null,null,null,null,null,null,null,null,null,null,null,null,null,null,null,null,"",null,null,null,null,null,null,null,null,null,null,null,null,null,null,null,null,null,null,null,null,null,null,null,null,null,null,null,null,null,null,null,null,null,null,null,null,null,null,null,null,null,"",null,null,null,null,null,null,null,null,null,null,null,null,null,null,null,null,null,null,null,null,null,null,null,null,null,null,null,null,null,null,null,null,null,null,null,null,null,null,null,null,null,"",null,null,null,null,null,null,null,null,null,null,null,null,null,null,null,null,null,null,null,null,null,null,null,null,null,null,null,null,null,null,null,null,null,null,null,null,null,null,null,null,null,"",null,null,null,null,null,null,null,null,null,null,null,null,null,null,null,null,null,null,null,null,null,null,null,null,null,null,null,null,null,null,null,null,null,null,null,null,null,null,null,null,null,"",null,null,null,null,null,null,null,null,null,null,null,null,null,null,null,null,null,null,null,null,null,null,null,null,null,null,null,null,null,null,null,null,null,null,null,null,null,null,null,null,null,"",null,null,null,null,null,null,null,null,null,null,null,null,null,null,null,null,null,null,null,null,null,null,null,null,null,null,null,null,null,null,null,null,null,null,null,null,null,null,null,null,null,"",null,0,0,0,0,0,0,0,0,0,0,0]
[null,"1900-01-01",null,0,null,null,null,null,null,null,null,null,null,null,null,null,null,null,null,null,null,null,null,null,null,null,null,null,null,null,null,null,null,null,null,null,null,null,null,null,null,null,null,null,null,"",null,null,null,null,null,null,null,null,null,null,null,null,null,null,null,null,null,null,null,null,null,null,null,null,null,null,null,null,null,null,null,null,null,null,null,null,null,null,null,null,null,"",null,null,null,null,null,null,null,null,null,null,null,null,null,null,null,null,null,null,null,null,null,null,null,null,null,null,null,null,null,null,null,null,null,null,null,null,null,null,null,null,null,"",null,null,null,null,null,null,null,null,null,null,null,null,null,null,null,null,null,null,null,null,null,null,null,null,null,null,null,null,null,null,null,null,null,null,null,null,null,null,null,null,null,"",null,null,null,null,null,null,null,null,null,null,null,null,null,null,null,null,null,null,null,null,null,null,null,null,null,null,null,null,null,null,null,null,null,null,null,null,null,null,null,null,null,"",null,null,null,null,null,null,null,null,null,null,null,null,null,null,null,null,null,null,null,null,null,null,null,null,null,null,null,null,null,null,null,null,null,null,null,null,null,null,null,null,null,"",null,null,null,null,null,null,null,null,null,null,null,null,null,null,null,null,null,null,null,null,null,null,null,null,null,null,null,null,null,null,null,null,null,null,null,null,null,null,null,null,null,"",null,null,null,null,null,null,null,null,null,null,null,null,null,null,null,null,null,null,null,null,null,null,null,null,null,null,null,null,null,null,null,null,null,null,null,null,null,null,null,null,null,"",null,null,null,null,null,null,null,null,null,null,null,null,null,null,null,null,null,null,null,null,null,null,null,null,null,null,null,null,null,null,null,null,null,null,null,null,null,null,null,null,null,"",null,null,null,null,null,null,null,null,null,null,null,null,null,null,null,null,null,null,null,null,null,null,null,null,null,null,null,null,null,null,null,null,null,null,null,null,null,null,null,null,null,"",null,0,0,0,0,0,0,0,0,0,0,0]
[null,null,{"$f":"IF(ABS(D27-365)>4,\"Must have 365 ± 4 days.\",\"\")","v":"Must have 365 ± 4 days."},{"$f":"SUM(D12:D26)","v":0},null,{"$f":"SUM(F12:F26)","v":0},null,{"$f":"SUM(H12:H26)","v":0},null,{"$f":"SUM(J12:J26)","v":0},null,{"$f":"SUM(L12:L26)","v":0},null,{"$f":"SUM(N12:N26)","v":0},null,{"$f":"SUM(P12:P26)","v":0},null,{"$f":"SUM(R12:R26)","v":0},null,{"$f":"SUM(T12:T26)","v":0},null,{"$f":"SUM(V12:V26)","v":0},null,{"$f":"SUM(X12:X26)","v":0},null,{"$f":"SUM(Z12:Z26)","v":0},null,{"$f":"SUM(AB12:AB26)","v":0},null,{"$f":"SUM(AD12:AD26)","v":0},null,{"$f":"SUM(AF12:AF26)","v":0},null,{"$f":"SUM(AH12:AH26)","v":0},null,{"$f":"SUM(AJ12:AJ26)","v":0},null,{"$f":"SUM(AL12:AL26)","v":0},null,{"$f":"SUM(AN12:AN26)","v":0},null,{"$f":"SUM(AP12:AP26)","v":0},null,{"$f":"SUM(AR12:AR26)","v":0},null,{"$f":"SUM(AT12:AT26)","v":0},null,{"$f":"SUM(AV12:AV26)","v":0},null,{"$f":"SUM(AX12:AX26)","v":0},null,{"$f":"SUM(AZ12:AZ26)","v":0},null,{"$f":"SUM(BB12:BB26)","v":0},null,{"$f":"SUM(BD12:BD26)","v":0},null,{"$f":"SUM(BF12:BF26)","v":0},null,{"$f":"SUM(BH12:BH26)","v":0},null,{"$f":"SUM(BJ12:BJ26)","v":0},null,{"$f":"SUM(BL12:BL26)","v":0},null,{"$f":"SUM(BN12:BN26)","v":0},null,{"$f":"SUM(BP12:BP26)","v":0},null,{"$f":"SUM(BR12:BR26)","v":0},null,{"$f":"SUM(BT12:BT26)","v":0},null,{"$f":"SUM(BV12:BV26)","v":0},null,{"$f":"SUM(BX12:BX26)","v":0},null,{"$f":"SUM(BZ12:BZ26)","v":0},null,{"$f":"SUM(CB12:CB26)","v":0},null,{"$f":"SUM(CD12:CD26)","v":0},null,{"$f":"SUM(CF12:CF26)","v":0},null,{"$f":"SUM(CH12:CH26)","v":0},null,{"$f":"SUM(CJ12:CJ26)","v":0},null,{"$f":"SUM(CL12:CL26)","v":0},null,{"$f":"SUM(CN12:CN26)","v":0},null,{"$f":"SUM(CP12:CP26)","v":0},null,{"$f":"SUM(CR12:CR26)","v":0},null,{"$f":"SUM(CT12:CT26)","v":0},null,{"$f":"SUM(CV12:CV26)","v":0},null,{"$f":"SUM(CX12:CX26)","v":0},null,{"$f":"SUM(CZ12:CZ26)","v":0},null,{"$f":"SUM(DB12:DB26)","v":0},null,{"$f":"SUM(DD12:DD26)","v":0},null,{"$f":"SUM(DF12:DF26)","v":0},null,{"$f":"SUM(DH12:DH26)","v":0},null,{"$f":"SUM(DJ12:DJ26)","v":0},null,{"$f":"SUM(DL12:DL26)","v":0},null,{"$f":"SUM(DN12:DN26)","v":0},null,{"$f":"SUM(DP12:DP26)","v":0},null,{"$f":"SUM(DR12:DR26)","v":0},null,{"$f":"SUM(DT12:DT26)","v":0},null,{"$f":"SUM(DV12:DV26)","v":0},null,{"$f":"SUM(DX12:DX26)","v":0},null,{"$f":"SUM(DZ12:DZ26)","v":0},null,{"$f":"SUM(EB12:EB26)","v":0},null,{"$f":"SUM(ED12:ED26)","v":0},null,{"$f":"SUM(EF12:EF26)","v":0},null,{"$f":"SUM(EH12:EH26)","v":0},null,{"$f":"SUM(EJ12:EJ26)","v":0},null,{"$f":"SUM(EL12:EL26)","v":0},null,{"$f":"SUM(EN12:EN26)","v":0},null,{"$f":"SUM(EP12:EP26)","v":0},null,{"$f":"SUM(ER12:ER26)","v":0},null,{"$f":"SUM(ET12:ET26)","v":0},null,{"$f":"SUM(EV12:EV26)","v":0},null,{"$f":"SUM(EX12:EX26)","v":0},null,{"$f":"SUM(EZ12:EZ26)","v":0},null,{"$f":"SUM(FB12:FB26)","v":0},null,{"$f":"SUM(FD12:FD26)","v":0},null,{"$f":"SUM(FF12:FF26)","v":0},null,{"$f":"SUM(FH12:FH26)","v":0},null,{"$f":"SUM(FJ12:FJ26)","v":0},null,{"$f":"SUM(FL12:FL26)","v":0},null,{"$f":"SUM(FN12:FN26)","v":0},null,{"$f":"SUM(FP12:FP26)","v":0},null,{"$f":"SUM(FR12:FR26)","v":0},null,{"$f":"SUM(FT12:FT26)","v":0},null,{"$f":"SUM(FV12:FV26)","v":0},null,{"$f":"SUM(FX12:FX26)","v":0},null,{"$f":"SUM(FZ12:FZ26)","v":0},null,{"$f":"SUM(GB12:GB26)","v":0},null,{"$f":"SUM(GD12:GD26)","v":0},null,{"$f":"SUM(GF12:GF26)","v":0},null,{"$f":"SUM(GH12:GH26)","v":0},null,{"$f":"SUM(GJ12:GJ26)","v":0},null,{"$f":"SUM(GL12:GL26)","v":0},null,{"$f":"SUM(GN12:GN26)","v":0},null,{"$f":"SUM(GP12:GP26)","v":0},null,{"$f":"SUM(GR12:GR26)","v":0},null,{"$f":"SUM(GT12:GT26)","v":0},null,{"$f":"SUM(GV12:GV26)","v":0},null,{"$f":"SUM(GX12:GX26)","v":0},null,{"$f":"SUM(GZ12:GZ26)","v":0},null,{"$f":"SUM(HB12:HB26)","v":0},null,{"$f":"SUM(HD12:HD26)","v":0},null,{"$f":"SUM(HF12:HF26)","v":0},null,{"$f":"SUM(HH12:HH26)","v":0},null,{"$f":"SUM(HJ12:HJ26)","v":0},null,{"$f":"SUM(HL12:HL26)","v":0},null,{"$f":"SUM(HN12:HN26)","v":0},null,{"$f":"SUM(HP12:HP26)","v":0},null,{"$f":"SUM(HR12:HR26)","v":0},null,{"$f":"SUM(HT12:HT26)","v":0},null,{"$f":"SUM(HV12:HV26)","v":0},null,{"$f":"SUM(HX12:HX26)","v":0},null,{"$f":"SUM(HZ12:HZ26)","v":0},null,{"$f":"SUM(IB12:IB26)","v":0},null,{"$f":"SUM(ID12:ID26)","v":0},null,{"$f":"SUM(IF12:IF26)","v":0},null,{"$f":"SUM(IH12:IH26)","v":0},null,{"$f":"SUM(IJ12:IJ26)","v":0},null,{"$f":"SUM(IL12:IL26)","v":0},null,{"$f":"SUM(IN12:IN26)","v":0},null,{"$f":"SUM(IP12:IP26)","v":0},null,{"$f":"SUM(IR12:IR26)","v":0},null,{"$f":"SUM(IT12:IT26)","v":0},null,{"$f":"SUM(IV12:IV26)","v":0},null,{"$f":"SUM(IX12:IX26)","v":0},null,{"$f":"SUM(IZ12:IZ26)","v":0},null,{"$f":"SUM(JB12:JB26)","v":0},null,{"$f":"SUM(JD12:JD26)","v":0},null,{"$f":"SUM(JF12:JF26)","v":0},null,{"$f":"SUM(JH12:JH26)","v":0},null,{"$f":"SUM(JJ12:JJ26)","v":0},null,{"$f":"SUM(JL12:JL26)","v":0},null,{"$f":"SUM(JN12:JN26)","v":0},null,{"$f":"SUM(JP12:JP26)","v":0},null,{"$f":"SUM(JR12:JR26)","v":0},null,{"$f":"SUM(JT12:JT26)","v":0},null,{"$f":"SUM(JV12:JV26)","v":0},null,{"$f":"SUM(JX12:JX26)","v":0},null,{"$f":"SUM(JZ12:JZ26)","v":0},null,{"$f":"SUM(KB12:KB26)","v":0},null,{"$f":"SUM(KD12:KD26)","v":0},null,{"$f":"SUM(KF12:KF26)","v":0},null,{"$f":"SUM(KH12:KH26)","v":0},null,{"$f":"SUM(KJ12:KJ26)","v":0},null,{"$f":"SUM(KL12:KL26)","v":0},null,{"$f":"SUM(KN12:KN26)","v":0},null,{"$f":"SUM(KP12:KP26)","v":0},null,{"$f":"SUM(KR12:KR26)","v":0},null,{"$f":"SUM(KT12:KT26)","v":0},null,{"$f":"SUM(KV12:KV26)","v":0},null,{"$f":"SUM(KX12:KX26)","v":0},null,{"$f":"SUM(KZ12:KZ26)","v":0},null,{"$f":"SUM(LB12:LB26)","v":0},null,{"$f":"SUM(LD12:LD26)","v":0},null,{"$f":"SUM(LF12:LF26)","v":0},null,{"$f":"SUM(LH12:LH26)","v":0},null,{"$f":"SUM(LJ12:LJ26)","v":0},null,{"$f":"SUM(LL12:LL26)","v":0},null,{"$f":"SUM(LN12:LN26)","v":0},null,{"$f":"SUM(LP12:LP26)","v":0},null,{"$f":"SUM(LR12:LR26)","v":0},null,{"$f":"SUM(LT12:LT26)","v":0},null,{"$f":"SUM(LV12:LV26)","v":0},null,{"$f":"SUM(LX12:LX26)","v":0},null,{"$f":"SUM(LZ12:LZ26)","v":0},null,{"$f":"SUM(MB12:MB26)","v":0},null,{"$f":"SUM(MD12:MD26)","v":0},null,{"$f":"SUM(MF12:MF26)","v":0},null,{"$f":"SUM(MH12:MH26)","v":0},null,{"$f":"SUM(MJ12:MJ26)","v":0},null,{"$f":"SUM(ML12:ML26)","v":0},null,{"$f":"SUM(MN12:MN26)","v":0},null,{"$f":"SUM(MP12:MP26)","v":0},null,{"$f":"SUM(MR12:MR26)","v":0},null,{"$f":"SUM(MT12:MT26)","v":0},null,{"$f":"SUM(MV12:MV26)","v":0},null,{"$f":"SUM(MX12:MX26)","v":0},null,{"$f":"SUM(MZ12:MZ26)","v":0},null,{"$f":"SUM(NB12:NB26)","v":0},null,{"$f":"SUM(ND12:ND26)","v":0},null,{"$f":"SUM(NF12:NF26)","v":0},null,{"$f":"SUM(NH12:NH26)","v":0},null,{"$f":"SUM(NJ12:NJ26)","v":0},null,{"$f":"SUM(NL12:NL26)","v":0},null,{"$f":"SUM(NN12:NN26)","v":0},null,{"$f":"SUM(NP12:NP26)","v":0},null,{"$f":"SUM(NR12:NR26)","v":0},null,{"$f":"SUM(NT12:NT26)","v":0},null,{"$f":"SUM(NV12:NV26)","v":0},null,{"$f":"SUM(NX12:NX26)","v":0},null,{"$f":"SUM(NZ12:NZ26)","v":0},null,{"$f":"SUM(OB12:OB26)","v":0},null,{"$f":"SUM(OD12:OD26)","v":0},null,{"$f":"SUM(OF12:OF26)","v":0},null,{"$f":"SUM(OH12:OH26)","v":0},null,{"$f":"SUM(OJ12:OJ26)","v":0},null,{"$f":"SUM(OL12:OL26)","v":0},null,{"$f":"SUM(ON12:ON26)","v":0},null,{"$f":"SUM(OP12:OP26)","v":0},null,{"$f":"SUM(OR12:OR26)","v":0},null,{"$f":"SUM(OT12:OT26)","v":0},null,{"$f":"SUM(OV12:OV26)","v":0},null,{"$f":"SUM(OX12:OX26)","v":0},null,{"$f":"SUM(OZ12:OZ26)","v":0},null,{"$f":"SUM(PB12:PB26)","v":0},null,{"$f":"SUM(PD12:PD26)","v":0},null,{"$f":"SUM(PF12:PF26)","v":0},null,{"$f":"SUM(PH12:PH26)","v":0},null,{"$f":"SUM(PJ12:PJ26)","v":0},0,0,0,0,0,0,0,0,0,0]
[]
[null,null,null,null,null,"Total Annual Gas Cost",null,"Total Annual Gas Cost",null,"Total Annual Gas Cost",null,"Total Annual Gas Cost",null,"Total Annual Gas Cost",null,"Total Annual Gas Cost",null,"Total Annual Gas Cost",null,"Total Annual Gas Cost",null,"Total Annual Gas Cost",null,"Total Annual Gas Cost",null,"Total Annual Gas Cost",null,"Total Annual Gas Cost",null,"Total Annual Gas Cost",null,"Total Annual Gas Cost",null,"Total Annual Gas Cost",null,"Total Annual Gas Cost",null,"Total Annual Gas Cost",null,"Total Annual Gas Cost",null,"Total Annual Gas Cost",null,"Total Annual Gas Cost",null,"Average Annual Gas  Cost",null,"Total Annual Gas Cost",null,"Total Annual Gas Cost",null,"Total Annual Gas Cost",null,"Total Annual Gas Cost",null,"Total Annual Gas Cost",null,"Total Annual Gas Cost",null,"Total Annual Gas Cost",null,"Total Annual Gas Cost",null,"Total Annual Gas Cost",null,"Total Annual Gas Cost",null,"Total Annual Gas Cost",null,"Total Annual Gas Cost",null,"Total Annual Gas Cost",null,"Total Annual Gas Cost",null,"Total Annual Gas Cost",null,"Total Annual Gas Cost",null,"Total Annual Gas Cost",null,"Total Annual Gas Cost",null,"Total Annual Gas Cost",null,"Total Annual Gas Cost",null,"Average Annual Gas  Cost",null,"Total Annual Gas Cost",null,"Total Annual Gas Cost",null,"Total Annual Gas Cost",null,"Total Annual Gas Cost",null,"Total Annual Gas Cost",null,"Total Annual Gas Cost",null,"Total Annual Gas Cost",null,"Total Annual Gas Cost",null,"Total Annual Gas Cost",null,"Total Annual Gas Cost",null,"Total Annual Gas Cost",null,"Total Annual Gas Cost",null,"Total Annual Gas Cost",null,"Total Annual Gas Cost",null,"Total Annual Gas Cost",null,"Total Annual Gas Cost",null,"Total Annual Gas Cost",null,"Total Annual Gas Cost",null,"Total Annual Gas Cost",null,"Total Annual Gas Cost",null,"Average Annual Gas  Cost",null,"Total Annual Gas Cost",null,"Total Annual Gas Cost",null,"Total Annual Gas Cost",null,"Total Annual Gas Cost",null,"Total Annual Gas Cost",null,"Total Annual Gas Cost",null,"Total Annual Gas Cost",null,"Total Annual Gas Cost",null,"Total Annual Gas Cost",null,"Total Annual Gas Cost",null,"Total Annual Gas Cost",null,"Total Annual Gas Cost",null,"Total Annual Gas Cost",null,"Total Annual Gas Cost",null,"Total Annual Gas Cost",null,"Total Annual Gas Cost",null,"Total Annual Gas Cost",null,"Total Annual Gas Cost",null,"Total Annual Gas Cost",null,"Total Annual Gas Cost",null,"Average Annual Gas  Cost",null,"Total Annual Gas Cost",null,"Total Annual Gas Cost",null,"Total Annual Gas Cost",null,"Total Annual Gas Cost",null,"Total Annual Gas Cost",null,"Total Annual Gas Cost",null,"Total Annual Gas Cost",null,"Total Annual Gas Cost",null,"Total Annual Gas Cost",null,"Total Annual Gas Cost",null,"Total Annual Gas Cost",null,"Total Annual Gas Cost",null,"Total Annual Gas Cost",null,"Total Annual Gas Cost",null,"Total Annual Gas Cost",null,"Total Annual Gas Cost",null,"Total Annual Gas Cost",null,"Total Annual Gas Cost",null,"Total Annual Gas Cost",null,"Total Annual Gas Cost",null,"Average Annual Gas  Cost",null,"Total Annual Gas Cost",null,"Total Annual Gas Cost",null,"Total Annual Gas Cost",null,"Total Annual Gas Cost",null,"Total Annual Gas Cost",null,"Total Annual Gas Cost",null,"Total Annual Gas Cost",null,"Total Annual Gas Cost",null,"Total Annual Gas Cost",null,"Total Annual Gas Cost",null,"Total Annual Gas Cost",null,"Total Annual Gas Cost",null,"Total Annual Gas Cost",null,"Total Annual Gas Cost",null,"Total Annual Gas Cost",null,"Total Annual Gas Cost",null,"Total Annual Gas Cost",null,"Total Annual Gas Cost",null,"Total Annual Gas Cost",null,"Total Annual Gas Cost",null,"Average Annual Gas  Cost",null,"Total Annual Gas Cost",null,"Total Annual Gas Cost",null,"Total Annual Gas Cost",null,"Total Annual Gas Cost",null,"Total Annual Gas Cost",null,"Total Annual Gas Cost",null,"Total Annual Gas Cost",null,"Total Annual Gas Cost",null,"Total Annual Gas Cost",null,"Total Annual Gas Cost",null,"Total Annual Gas Cost",null,"Total Annual Gas Cost",null,"Total Annual Gas Cost",null,"Total Annual Gas Cost",null,"Total Annual Gas Cost",null,"Total Annual Gas Cost",null,"Total Annual Gas Cost",null,"Total Annual Gas Cost",null,"Total Annual Gas Cost",null,"Total Annual Gas Cost",null,"Average Annual Gas  Cost",null,"Total Annual Gas Cost",null,"Total Annual Gas Cost",null,"Total Annual Gas Cost",null,"Total Annual Gas Cost",null,"Total Annual Gas Cost",null,"Total Annual Gas Cost",null,"Total Annual Gas Cost",null,"Total Annual Gas Cost",null,"Total Annual Gas Cost",null,"Total Annual Gas Cost",null,"Total Annual Gas Cost",null,"Total Annual Gas Cost",null,"Total Annual Gas Cost",null,"Total Annual Gas Cost",null,"Total Annual Gas Cost",null,"Total Annual Gas Cost",null,"Total Annual Gas Cost",null,"Total Annual Gas Cost",null,"Total Annual Gas Cost",null,"Total Annual Gas Cost",null,"Average Annual Gas  Cost",null,"Total Annual Gas Cost",null,"Total Annual Gas Cost",null,"Total Annual Gas Cost",null,"Total Annual Gas Cost",null,"Total Annual Gas Cost",null,"Total Annual Gas Cost",null,"Total Annual Gas Cost",null,"Total Annual Gas Cost",null,"Total Annual Gas Cost",null,"Total Annual Gas Cost",null,"Total Annual Gas Cost",null,"Total Annual Gas Cost",null,"Total Annual Gas Cost",null,"Total Annual Gas Cost",null,"Total Annual Gas Cost",null,"Total Annual Gas Cost",null,"Total Annual Gas Cost",null,"Total Annual Gas Cost",null,"Total Annual Gas Cost",null,"Total Annual Gas Cost",null,"Average Annual Gas  Cost",null,"Total Annual Gas Cost",null,"Total Annual Gas Cost",null,"Total Annual Gas Cost",null,"Total Annual Gas Cost",null,"Total Annual Gas Cost",null,"Total Annual Gas Cost",null,"Total Annual Gas Cost",null,"Total Annual Gas Cost",null,"Total Annual Gas Cost",null,"Total Annual Gas Cost",null,"Total Annual Gas Cost",null,"Total Annual Gas Cost",null,"Total Annual Gas Cost",null,"Total Annual Gas Cost",null,"Total Annual Gas Cost",null,"Total Annual Gas Cost",null,"Total Annual Gas Cost",null,"Total Annual Gas Cost",null,"Total Annual Gas Cost",null,"Total Annual Gas Cost",null,"Average Annual Gas  Cost",null,"Average Annual Gas  Cost","Average Annual Gas  Cost","Average Annual Gas  Cost","Average Annual Gas  Cost","Average Annual Gas  Cost","Average Annual Gas  Cost","Average Annual Gas  Cost","Average Annual Gas  Cost","Average Annual Gas  Cost","Average Annual Gas  Cost","Total In-Unit Annual Gas Cost"]
[null,null,null,null,null,null,null,null,null,null,null,null,null,null,null,null,null,null,null,null,null,null,null,null,null,null,null,null,null,null,null,null,null,null,null,null,null,null,null,null,null,null,null,null,null,{"$f":"IF(F30>0,AVERAGE(F30:AR30),0)","v":0},null,null,null,null,null,null,null,null,null,null,null,null,null,null,null,null,null,null,null,null,null,null,null,null,null,null,null,null,null,null,null,null,null,null,null,null,null,null,null,null,null,{"$f":"IF(AV30>0,AVERAGE(AV30:CH30),0)","v":0},null,null,null,null,null,null,null,null,null,null,null,null,null,null,null,null,null,null,null,null,null,null,null,null,null,null,null,null,null,null,null,null,null,null,null,null,null,null,null,null,null,{"$f":"IF(CL30>0,AVERAGE(CL30:DY30),0)","v":0},null,null,null,null,null,null,null,null,null,null,null,null,null,null,null,null,null,null,null,null,null,null,null,null,null,null,null,null,null,null,null,null,null,null,null,null,null,null,null,null,null,{"$f":"IF(EB30>0,AVERAGE(EB30:FN30),0)","v":0},null,null,null,null,null,null,null,null,null,null,null,null,null,null,null,null,null,null,null,null,null,null,null,null,null,null,null,null,null,null,null,null,null,null,null,null,null,null,null,null,null,{"$f":"IF(FR30>0,AVERAGE(FR30:HD30),0)","v":0},null,null,null,null,null,null,null,null,null,null,null,null,null,null,null,null,null,null,null,null,null,null,null,null,null,null,null,null,null,null,null,null,null,null,null,null,null,null,null,null,null,{"$f":"IF(HH30>0,AVERAGE(HH30:IT30),0)","v":0},null,null,null,null,null,null,null,null,null,null,null,null,null,null,null,null,null,null,null,null,null,null,null,null,null,null,null,null,null,null,null,null,null,null,null,null,null,null,null,null,null,{"$f":"IF(IX30>0,AVERAGE(IX30:KJ30),0)","v":0},null,null,null,null,null,null,null,null,null,null,null,null,null,null,null,null,null,null,null,null,null,null,null,null,null,null,null,null,null,null,null,null,null,null,null,null,null,null,null,null,null,{"$f":"IF(KN30>0,AVERAGE(KN30:LZ30),0)","v":0},null,null,null,null,null,null,null,null,null,null,null,null,null,null,null,null,null,null,null,null,null,null,null,null,null,null,null,null,null,null,null,null,null,null,null,null,null,null,null,null,null,{"$f":"IF(MD30>0,AVERAGE(MD30:NP30),0)","v":0},null,null,null,null,null,null,null,null,null,null,null,null,null,null,null,null,null,null,null,null,null,null,null,null,null,null,null,null,null,null,null,null,null,null,null,null,null,null,null,null,null,{"$f":"IF(NT30>0,AVERAGE(NT30:PF30),0)","v":0},null,{"$f":"AT30","v":0},{"$f":"CJ30","v":0},{"$f":"DZ30","v":0},{"$f":"FP30","v":0},{"$f":"HF30","v":0},{"$f":"IV30","v":0},{"$f":"KL30","v":0},{"$f":"MB30","v":0},{"$f":"NR30","v":0},{"$f":"PH30","v":0},{"$f":"SUMPRODUCT($PJ$8:$PS$8,PJ30:PS30)","v":0}]
[]
[null,"Post-Construction In-Unit Billing Dates",null,null,null,{"$f":"F5","v":"Unit Type 1 - "},null,null,null,null,null,null,null,null,null,null,null,null,null,null,null,null,null,null,null,null,null,null,null,null,null,null,null,null,null,null,null,null,null,null,null,null,null,null,null,null,null,{"$f":"AV5","v":"Unit Type 2 - "},null,null,null,null,null,null,null,null,null,null,null,null,null,null,null,null,null,null,null,null,null,null,null,null,null,null,null,null,null,null,null,null,null,null,null,null,null,null,null,null,null,{"$f":"CL5","v":"Unit Type 3 - "},null,null,null,null,null,null,null,null,null,null,null,null,null,null,null,null,null,null,null,null,null,null,null,null,null,null,null,null,null,null,null,null,null,null,null,null,null,null,null,null,null,{"$f":"EB5","v":"Unit Type 4 - "},null,null,null,null,null,null,null,null,null,null,null,null,null,null,null,null,null,null,null,null,null,null,null,null,null,null,null,null,null,null,null,null,null,null,null,null,null,null,null,null,null,{"$f":"FR5","v":"Unit Type 5 - "},null,null,null,null,null,null,null,null,null,null,null,null,null,null,null,null,null,null,null,null,null,null,null,null,null,null,null,null,null,null,null,null,null,null,null,null,null,null,null,null,null,{"$f":"HH5","v":"Unit Type 6 - "},null,null,null,null,null,null,null,null,null,null,null,null,null,null,null,null,null,null,null,null,null,null,null,null,null,null,null,null,null,null,null,null,null,null,null,null,null,null,null,null,null,{"$f":"IX5","v":"Unit Type 7 - "},null,null,null,null,null,null,null,null,null,null,null,null,null,null,null,null,null,null,null,null,null,null,null,null,null,null,null,null,null,null,null,null,null,null,null,null,null,null,null,null,null,{"$f":"KN5","v":"Unit Type 8 - "},null,null,null,null,null,null,null,null,null,null,null,null,null,null,null,null,null,null,null,null,null,null,null,null,null,null,null,null,null,null,null,null,null,null,null,null,null,null,null,null,null,{"$f":"MD5","v":"Unit Type 9 - "},null,null,null,null,null,null,null,null,null,null,null,null,null,null,null,null,null,null,null,null,null,null,null,null,null,null,null,null,null,null,null,null,null,null,null,null,null,null,null,null,null,{"$f":"NT5","v":"Unit Type 10 - "},null,null,null,null,null,null,null,null,null,null,null,null,null,null,null,null,null,null,null,null,null,null,null,null,null,null,null,null,null,null,null,null,null,null,null,null,null,null,null,null,null,"POST-CONSTRUCTION\nSummary of In-Unit Gas Use"]
[null,null,null,null,null,"Unit #:",null,"Unit #:",null,"Unit #:",null,"Unit #:",null,"Unit #:",null,"Unit #:",null,"Unit #:",null,"Unit #:",null,"Unit #:",null,"Unit #:",null,"Unit #:",null,"Unit #:",null,"Unit #:",null,"Unit #:",null,"Unit #:",null,"Unit #:",null,"Unit #:",null,"Unit #:",null,"Unit #:",null,"Unit #:",null,"SUMMARY",null,"Unit #:",null,"Unit #:",null,"Unit #:",null,"Unit #:",null,"Unit #:",null,"Unit #:",null,"Unit #:",null,"Unit #:",null,"Unit #:",null,"Unit #:",null,"Unit #:",null,"Unit #:",null,"Unit #:",null,"Unit #:",null,"Unit #:",null,"Unit #:",null,"Unit #:",null,"Unit #:",null,"Unit #:",null,"Unit #:",null,"SUMMARY",null,"Unit #:",null,"Unit #:",null,"Unit #:",null,"Unit #:",null,"Unit #:",null,"Unit #:",null,"Unit #:",null,"Unit #:",null,"Unit #:",null,"Unit #:",null,"Unit #:",null,"Unit #:",null,"Unit #:",null,"Unit #:",null,"Unit #:",null,"Unit #:",null,"Unit #:",null,"Unit #:",null,"Unit #:",null,"Unit #:",null,"SUMMARY",null,"Unit #:",null,"Unit #:",null,"Unit #:",null,"Unit #:",null,"Unit #:",null,"Unit #:",null,"Unit #:",null,"Unit #:",null,"Unit #:",null,"Unit #:",null,"Unit #:",null,"Unit #:",null,"Unit #:",null,"Unit #:",null,"Unit #:",null,"Unit #:",null,"Unit #:",null,"Unit #:",null,"Unit #:",null,"Unit #:",null,"SUMMARY",null,"Unit #:",null,"Unit #:",null,"Unit #:",null,"Unit #:",null,"Unit #:",null,"Unit #:",null,"Unit #:",null,"Unit #:",null,"Unit #:",null,"Unit #:",null,"Unit #:",null,"Unit #:",null,"Unit #:",null,"Unit #:",null,"Unit #:",null,"Unit #:",null,"Unit #:",null,"Unit #:",null,"Unit #:",null,"Unit #:",null,"SUMMARY",null,"Unit #:",null,"Unit #:",null,"Unit #:",null,"Unit #:",null,"Unit #:",null,"Unit #:",null,"Unit #:",null,"Unit #:",null,"Unit #:",null,"Unit #:",null,"Unit #:",null,"Unit #:",null,"Unit #:",null,"Unit #:",null,"Unit #:",null,"Unit #:",null,"Unit #:",null,"Unit #:",null,"Unit #:",null,"Unit #:",null,"SUMMARY",null,"Unit #:",null,"Unit #:",null,"Unit #:",null,"Unit #:",null,"Unit #:",null,"Unit #:",null,"Unit #:",null,"Unit #:",null,"Unit #:",null,"Unit #:",null,"Unit #:",null,"Unit #:",null,"Unit #:",null,"Unit #:",null,"Unit #:",null,"Unit #:",null,"Unit #:",null,"Unit #:",null,"Unit #:",null,"Unit #:",null,"SUMMARY",null,"Unit #:",null,"Unit #:",null,"Unit #:",null,"Unit #:",null,"Unit #:",null,"Unit #:",null,"Unit #:",null,"Unit #:",null,"Unit #:",null,"Unit #:",null,"Unit #:",null,"Unit #:",null,"Unit #:",null,"Unit #:",null,"Unit #:",null,"Unit #:",null,"Unit #:",null,"Unit #:",null,"Unit #:",null,"Unit #:",null,"SUMMARY",null,"Unit #:",null,"Unit #:",null,"Unit #:",null,"Unit #:",null,"Unit #:",null,"Unit #:",null,"Unit #:",null,"Unit #:",null,"Unit #:",null,"Unit #:",null,"Unit #:",null,"Unit #:",null,"Unit #:",null,"Unit #:",null,"Unit #:",null,"Unit #:",null,"Unit #:",null,"Unit #:",null,"Unit #:",null,"Unit #:",null,"SUMMARY",null,"Unit #:",null,"Unit #:",null,"Unit #:",null,"Unit #:",null,"Unit #:",null,"Unit #:",null,"Unit #:",null,"Unit #:",null,"Unit #:",null,"Unit #:",null,"Unit #:",null,"Unit #:",null,"Unit #:",null,"Unit #:",null,"Unit #:",null,"Unit #:",null,"Unit #:",null,"Unit #:",null,"Unit #:",null,"Unit #:",null,"SUMMARY"]
[]
[null,null,null,null,null,"Account #:",null,"Account #:",null,"Account #:",null,"Account #:",null,"Account #:",null,"Account #:",null,"Account #:",null,"Account #:",null,"Account #:",null,"Account #:",null,"Account #:",null,"Account #:",null,"Account #:",null,"Account #:",null,"Account #:",null,"Account #:",null,"Account #:",null,"Account #:",null,"Account #:",null,"Account #:",null,null,null,"Account #:",null,"Account #:",null,"Account #:",null,"Account #:",null,"Account #:",null,"Account #:",null,"Account #:",null,"Account #:",null,"Account #:",null,"Account #:",null,"Account #:",null,"Account #:",null,"Account #:",null,"Account #:",null,"Account #:",null,"Account #:",null,"Account #:",null,"Account #:",null,"Account #:",null,"Account #:",null,null,null,"Account #:",null,"Account #:",null,"Account #:",null,"Account #:",null,"Account #:",null,"Account #:",null,"Account #:",null,"Account #:",null,"Account #:",null,"Account #:",null,"Account #:",null,"Account #:",null,"Account #:",null,"Account #:",null,"Account #:",null,"Account #:",null,"Account #:",null,"Account #:",null,"Account #:",null,"Account #:",null,null,null,"Account #:",null,"Account #:",null,"Account #:",null,"Account #:",null,"Account #:",null,"Account #:",null,"Account #:",null,"Account #:",null,"Account #:",null,"Account #:",null,"Account #:",null,"Account #:",null,"Account #:",null,"Account #:",null,"Account #:",null,"Account #:",null,"Account #:",null,"Account #:",null,"Account #:",null,"Account #:",null,null,null,"Account #:",null,"Account #:",null,"Account #:",null,"Account #:",null,"Account #:",null,"Account #:",null,"Account #:",null,"Account #:",null,"Account #:",null,"Account #:",null,"Account #:",null,"Account #:",null,"Account #:",null,"Account #:",null,"Account #:",null,"Account #:",null,"Account #:",null,"Account #:",null,"Account #:",null,"Account #:",null,null,null,"Account #:",null,"Account #:",null,"Account #:",null,"Account #:",null,"Account #:",null,"Account #:",null,"Account #:",null,"Account #:",null,"Account #:",null,"Account #:",null,"Account #:",null,"Account #:",null,"Account #:",null,"Account #:",null,"Account #:",null,"Account #:",null,"Account #:",null,"Account #:",null,"Account #:",null,"Account #:",null,null,null,"Account #:",null,"Account #:",null,"Account #:",null,"Account #:",null,"Account #:",null,"Account #:",null,"Account #:",null,"Account #:",null,"Account #:",null,"Account #:",null,"Account #:",null,"Account #:",null,"Account #:",null,"Account #:",null,"Account #:",null,"Account #:",null,"Account #:",null,"Account #:",null,"Account #:",null,"Account #:",null,null,null,"Account #:",null,"Account #:",null,"Account #:",null,"Account #:",null,"Account #:",null,"Account #:",null,"Account #:",null,"Account #:",null,"Account #:",null,"Account #:",null,"Account #:",null,"Account #:",null,"Account #:",null,"Account #:",null,"Account #:",null,"Account #:",null,"Account #:",null,"Account #:",null,"Account #:",null,"Account #:",null,null,null,"Account #:",null,"Account #:",null,"Account #:",null,"Account #:",null,"Account #:",null,"Account #:",null,"Account #:",null,"Account #:",null,"Account #:",null,"Account #:",null,"Account #:",null,"Account #:",null,"Account #:",null,"Account #:",null,"Account #:",null,"Account #:",null,"Account #:",null,"Account #:",null,"Account #:",null,"Account #:",null,null,null,"Account #:",null,"Account #:",null,"Account #:",null,"Account #:",null,"Account #:",null,"Account #:",null,"Account #:",null,"Account #:",null,"Account #:",null,"Account #:",null,"Account #:",null,"Account #:",null,"Account #:",null,"Account #:",null,"Account #:",null,"Account #:",null,"Account #:",null,"Account #:",null,"Account #:",null,"Account #:",null,null,null,{"$f":"PJ8","v":0},{"$f":"PK8","v":0},0,0,0,0,0,0,0,0]
[null,null,null,null,null,null,null,null,null,null,null,null,null,null,null,null,null,null,null,null,null,null,null,null,null,null,null,null,null,null,null,null,null,null,null,null,null,null,null,null,null,null,null,null,null,null,null,null,null,null,null,null,null,null,null,null,null,null,null,null,null,null,null,null,null,null,null,null,null,null,null,null,null,null,null,null,null,null,null,null,null,null,null,null,null,null,null,null,null,null,null,null,null,null,null,null,null,null,null,null,null,null,null,null,null,null,null,null,null,null,null,null,null,null,null,null,null,null,null,null,null,null,null,null,null,null,null,null,null,null,null,null,null,null,null,null,null,null,null,null,null,null,null,null,null,null,null,null,null,null,null,null,null,null,null,null,null,null,null,null,null,null,null,null,null,null,null,null,null,null,null,null,null,null,null,null,null,null,null,null,null,null,null,null,null,null,null,null,null,null,null,null,null,null,null,null,null,null,null,null,null,null,null,null,null,null,null,null,null,null,null,null,null,null,null,null,null,null,null,null,null,null,null,null,null,null,null,null,null,null,null,null,null,null,null,null,null,null,null,null,null,null,null,null,null,null,null,null,null,null,null,null,null,null,null,null,null,null,null,null,null,null,null,null,null,null,null,null,null,null,null,null,null,null,null,null,null,null,null,null,null,null,null,null,null,null,null,null,null,null,null,null,null,null,null,null,null,null,null,null,null,null,null,null,null,null,null,null,null,null,null,null,null,null,null,null,null,null,null,null,null,null,null,null,null,null,null,null,null,null,null,null,null,null,null,null,null,null,null,null,null,null,null,null,null,null,null,null,null,null,null,null,null,null,null,null,null,null,null,null,null,null,null,null,null,null,null,null,null,null,null,null,null,null,null,null,null,null,null,null,null,null,null,null,null,null,null,null,null,null,null,null,null,null,null,null,null,null,null,null,null,null,null,null,null,null,null,null,null,null,null,null,null,null,null,null,null,null,null,null,null,null,null,null,null,{"$f":"PJ9","v":"Unit Type 1"},"Unit Type 2","Unit Type 3","Unit Type 4","Unit Type 5","Unit Type 6","Unit Type 7","Unit Type 8","Unit Type 9","Unit Type 10","SUMMARY"]
[null,"Billing Period Start Date","Read Date","Days in Billing Period",null,{"$f":"'Utility Info'!$D$16","v":"<Not Used>"},"Actual/ Estimated",{"$f":"'Utility Info'!$D$16","v":"<Not Used>"},"Actual/ Estimated",{"$f":"'Utility Info'!$D$16","v":"<Not Used>"},"Actual/ Estimated",{"$f":"'Utility Info'!$D$16","v":"<Not Used>"},"Actual/ Estimated",{"$f":"'Utility Info'!$D$16","v":"<Not Used>"},"Actual/ Estimated",{"$f":"'Utility Info'!$D$16","v":"<Not Used>"},"Actual/ Estimated",{"$f":"'Utility Info'!$D$16","v":"<Not Used>"},"Actual/ Estimated",{"$f":"'Utility Info'!$D$16","v":"<Not Used>"},"Actual/ Estimated",{"$f":"'Utility Info'!$D$16","v":"<Not Used>"},"Actual/ Estimated",{"$f":"'Utility Info'!$D$16","v":"<Not Used>"},"Actual/ Estimated",{"$f":"'Utility Info'!$D$16","v":"<Not Used>"},"Actual/ Estimated",{"$f":"'Utility Info'!$D$16","v":"<Not Used>"},"Actual/ Estimated",{"$f":"'Utility Info'!$D$16","v":"<Not Used>"},"Actual/ Estimated",{"$f":"'Utility Info'!$D$16","v":"<Not Used>"},"Actual/ Estimated",{"$f":"'Utility Info'!$D$16","v":"<Not Used>"},"Actual/ Estimated",{"$f":"'Utility Info'!$D$16","v":"<Not Used>"},"Actual/ Estimated",{"$f":"'Utility Info'!$D$16","v":"<Not Used>"},"Actual/ Estimated",{"$f":"'Utility Info'!$D$16","v":"<Not Used>"},"Actual/ Estimated",{"$f":"'Utility Info'!$D$16","v":"<Not Used>"},"Actual/ Estimated",{"$f":"'Utility Info'!$D$16","v":"<Not Used>"},"Actual/ Estimated","Average Gas Consumption",null,{"$f":"'Utility Info'!$D$16","v":"<Not Used>"},"Actual/ Estimated",{"$f":"'Utility Info'!$D$16","v":"<Not Used>"},"Actual/ Estimated",{"$f":"'Utility Info'!$D$16","v":"<Not Used>"},"Actual/ Estimated",{"$f":"'Utility Info'!$D$16","v":"<Not Used>"},"Actual/ Estimated",{"$f":"'Utility Info'!$D$16","v":"<Not Used>"},"Actual/ Estimated",{"$f":"'Utility Info'!$D$16","v":"<Not Used>"},"Actual/ Estimated",{"$f":"'Utility Info'!$D$16","v":"<Not Used>"},"Actual/ Estimated",{"$f":"'Utility Info'!$D$16","v":"<Not Used>"},"Actual/ Estimated",{"$f":"'Utility Info'!$D$16","v":"<Not Used>"},"Actual/ Estimated",{"$f":"'Utility Info'!$D$16","v":"<Not Used>"},"Actual/ Estimated",{"$f":"'Utility Info'!$D$16","v":"<Not Used>"},"Actual/ Estimated",{"$f":"'Utility Info'!$D$16","v":"<Not Used>"},"Actual/ Estimated",{"$f":"'Utility Info'!$D$16","v":"<Not Used>"},"Actual/ Estimated",{"$f":"'Utility Info'!$D$16","v":"<Not Used>"},"Actual/ Estimated",{"$f":"'Utility Info'!$D$16","v":"<Not Used>"},"Actual/ Estimated",{"$f":"'Utility Info'!$D$16","v":"<Not Used>"},"Actual/ Estimated",{"$f":"'Utility Info'!$D$16","v":"<Not Used>"},"Actual/ Estimated",{"$f":"'Utility Info'!$D$16","v":"<Not Used>"},"Actual/ Estimated",{"$f":"'Utility Info'!$D$16","v":"<Not Used>"},"Actual/ Estimated",{"$f":"'Utility Info'!$D$16","v":"<Not Used>"},"Actual/ Estimated","Average Gas Consumption",null,{"$f":"'Utility Info'!$D$16","v":"<Not Used>"},"Actual/ Estimated",{"$f":"'Utility Info'!$D$16","v":"<Not Used>"},"Actual/ Estimated",{"$f":"'Utility Info'!$D$16","v":"<Not Used>"},"Actual/ Estimated",{"$f":"'Utility Info'!$D$16","v":"<Not Used>"},"Actual/ Estimated",{"$f":"'Utility Info'!$D$16","v":"<Not Used>"},"Actual/ Estimated",{"$f":"'Utility Info'!$D$16","v":"<Not Used>"},"Actual/ Estimated",{"$f":"'Utility Info'!$D$16","v":"<Not Used>"},"Actual/ Estimated",{"$f":"'Utility Info'!$D$16","v":"<Not Used>"},"Actual/ Estimated",{"$f":"'Utility Info'!$D$16","v":"<Not Used>"},"Actual/ Estimated",{"$f":"'Utility Info'!$D$16","v":"<Not Used>"},"Actual/ Estimated",{"$f":"'Utility Info'!$D$16","v":"<Not Used>"},"Actual/ Estimated",{"$f":"'Utility Info'!$D$16","v":"<Not Used>"},"Actual/ Estimated",{"$f":"'Utility Info'!$D$16","v":"<Not Used>"},"Actual/ Estimated",{"$f":"'Utility Info'!$D$16","v":"<Not Used>"},"Actual/ Estimated",{"$f":"'Utility Info'!$D$16","v":"<Not Used>"},"Actual/ Estimated",{"$f":"'Utility Info'!$D$16","v":"<Not Used>"},"Actual/ Estimated",{"$f":"'Utility Info'!$D$16","v":"<Not Used>"},"Actual/ Estimated",{"$f":"'Utility Info'!$D$16","v":"<Not Used>"},"Actual/ Estimated",{"$f":"'Utility Info'!$D$16","v":"<Not Used>"},"Actual/ Estimated",{"$f":"'Utility Info'!$D$16","v":"<Not Used>"},"Actual/ Estimated","Average Gas Consumption",null,{"$f":"'Utility Info'!$D$16","v":"<Not Used>"},"Actual/ Estimated",{"$f":"'Utility Info'!$D$16","v":"<Not Used>"},"Actual/ Estimated",{"$f":"'Utility Info'!$D$16","v":"<Not Used>"},"Actual/ Estimated",{"$f":"'Utility Info'!$D$16","v":"<Not Used>"},"Actual/ Estimated",{"$f":"'Utility Info'!$D$16","v":"<Not Used>"},"Actual/ Estimated",{"$f":"'Utility Info'!$D$16","v":"<Not Used>"},"Actual/ Estimated",{"$f":"'Utility Info'!$D$16","v":"<Not Used>"},"Actual/ Estimated",{"$f":"'Utility Info'!$D$16","v":"<Not Used>"},"Actual/ Estimated",{"$f":"'Utility Info'!$D$16","v":"<Not Used>"},"Actual/ Estimated",{"$f":"'Utility Info'!$D$16","v":"<Not Used>"},"Actual/ Estimated",{"$f":"'Utility Info'!$D$16","v":"<Not Used>"},"Actual/ Estimated",{"$f":"'Utility Info'!$D$16","v":"<Not Used>"},"Actual/ Estimated",{"$f":"'Utility Info'!$D$16","v":"<Not Used>"},"Actual/ Estimated",{"$f":"'Utility Info'!$D$16","v":"<Not Used>"},"Actual/ Estimated",{"$f":"'Utility Info'!$D$16","v":"<Not Used>"},"Actual/ Estimated",{"$f":"'Utility Info'!$D$16","v":"<Not Used>"},"Actual/ Estimated",{"$f":"'Utility Info'!$D$16","v":"<Not Used>"},"Actual/ Estimated",{"$f":"'Utility Info'!$D$16","v":"<Not Used>"},"Actual/ Estimated",{"$f":"'Utility Info'!$D$16","v":"<Not Used>"},"Actual/ Estimated",{"$f":"'Utility Info'!$D$16","v":"<Not Used>"},"Actual/ Estimated","Average Gas Consumption",null,{"$f":"'Utility Info'!$D$16","v":"<Not Used>"},"Actual/ Estimated",{"$f":"'Utility Info'!$D$16","v":"<Not Used>"},"Actual/ Estimated",{"$f":"'Utility Info'!$D$16","v":"<Not Used>"},"Actual/ Estimated",{"$f":"'Utility Info'!$D$16","v":"<Not Used>"},"Actual/ Estimated",{"$f":"'Utility Info'!$D$16","v":"<Not Used>"},"Actual/ Estimated",{"$f":"'Utility Info'!$D$16","v":"<Not Used>"},"Actual/ Estimated",{"$f":"'Utility Info'!$D$16","v":"<Not Used>"},"Actual/ Estimated",{"$f":"'Utility Info'!$D$16","v":"<Not Used>"},"Actual/ Estimated",{"$f":"'Utility Info'!$D$16","v":"<Not Used>"},"Actual/ Estimated",{"$f":"'Utility Info'!$D$16","v":"<Not Used>"},"Actual/ Estimated",{"$f":"'Utility Info'!$D$16","v":"<Not Used>"},"Actual/ Estimated",{"$f":"'Utility Info'!$D$16","v":"<Not Used>"},"Actual/ Estimated",{"$f":"'Utility Info'!$D$16","v":"<Not Used>"},"Actual/ Estimated",{"$f":"'Utility Info'!$D$16","v":"<Not Used>"},"Actual/ Estimated",{"$f":"'Utility Info'!$D$16","v":"<Not Used>"},"Actual/ Estimated",{"$f":"'Utility Info'!$D$16","v":"<Not Used>"},"Actual/ Estimated",{"$f":"'Utility Info'!$D$16","v":"<Not Used>"},"Actual/ Estimated",{"$f":"'Utility Info'!$D$16","v":"<Not Used>"},"Actual/ Estimated",{"$f":"'Utility Info'!$D$16","v":"<Not Used>"},"Actual/ Estimated",{"$f":"'Utility Info'!$D$16","v":"<Not Used>"},"Actual/ Estimated","Average Gas Consumption",null,{"$f":"'Utility Info'!$D$16","v":"<Not Used>"},"Actual/ Estimated",{"$f":"'Utility Info'!$D$16","v":"<Not Used>"},"Actual/ Estimated",{"$f":"'Utility Info'!$D$16","v":"<Not Used>"},"Actual/ Estimated",{"$f":"'Utility Info'!$D$16","v":"<Not Used>"},"Actual/ Estimated",{"$f":"'Utility Info'!$D$16","v":"<Not Used>"},"Actual/ Estimated",{"$f":"'Utility Info'!$D$16","v":"<Not Used>"},"Actual/ Estimated",{"$f":"'Utility Info'!$D$16","v":"<Not Used>"},"Actual/ Estimated",{"$f":"'Utility Info'!$D$16","v":"<Not Used>"},"Actual/ Estimated",{"$f":"'Utility Info'!$D$16","v":"<Not Used>"},"Actual/ Estimated",{"$f":"'Utility Info'!$D$16","v":"<Not Used>"},"Actual/ Estimated",{"$f":"'Utility Info'!$D$16","v":"<Not Used>"},"Actual/ Estimated",{"$f":"'Utility Info'!$D$16","v":"<Not Used>"},"Actual/ Estimated",{"$f":"'Utility Info'!$D$16","v":"<Not Used>"},"Actual/ Estimated",{"$f":"'Utility Info'!$D$16","v":"<Not Used>"},"Actual/ Estimated",{"$f":"'Utility Info'!$D$16","v":"<Not Used>"},"Actual/ Estimated",{"$f":"'Utility Info'!$D$16","v":"<Not Used>"},"Actual/ Estimated",{"$f":"'Utility Info'!$D$16","v":"<Not Used>"},"Actual/ Estimated",{"$f":"'Utility Info'!$D$16","v":"<Not Used>"},"Actual/ Estimated",{"$f":"'Utility Info'!$D$16","v":"<Not Used>"},"Actual/ Estimated",{"$f":"'Utility Info'!$D$16","v":"<Not Used>"},"Actual/ Estimated","Average Gas Consumption",null,{"$f":"'Utility Info'!$D$16","v":"<Not Used>"},"Actual/ Estimated",{"$f":"'Utility Info'!$D$16","v":"<Not Used>"},"Actual/ Estimated",{"$f":"'Utility Info'!$D$16","v":"<Not Used>"},"Actual/ Estimated",{"$f":"'Utility Info'!$D$16","v":"<Not Used>"},"Actual/ Estimated",{"$f":"'Utility Info'!$D$16","v":"<Not Used>"},"Actual/ Estimated",{"$f":"'Utility Info'!$D$16","v":"<Not Used>"},"Actual/ Estimated",{"$f":"'Utility Info'!$D$16","v":"<Not Used>"},"Actual/ Estimated",{"$f":"'Utility Info'!$D$16","v":"<Not Used>"},"Actual/ Estimated",{"$f":"'Utility Info'!$D$16","v":"<Not Used>"},"Actual/ Estimated",{"$f":"'Utility Info'!$D$16","v":"<Not Used>"},"Actual/ Estimated",{"$f":"'Utility Info'!$D$16","v":"<Not Used>"},"Actual/ Estimated",{"$f":"'Utility Info'!$D$16","v":"<Not Used>"},"Actual/ Estimated",{"$f":"'Utility Info'!$D$16","v":"<Not Used>"},"Actual/ Estimated",{"$f":"'Utility Info'!$D$16","v":"<Not Used>"},"Actual/ Estimated",{"$f":"'Utility Info'!$D$16","v":"<Not Used>"},"Actual/ Estimated",{"$f":"'Utility Info'!$D$16","v":"<Not Used>"},"Actual/ Estimated",{"$f":"'Utility Info'!$D$16","v":"<Not Used>"},"Actual/ Estimated",{"$f":"'Utility Info'!$D$16","v":"<Not Used>"},"Actual/ Estimated",{"$f":"'Utility Info'!$D$16","v":"<Not Used>"},"Actual/ Estimated",{"$f":"'Utility Info'!$D$16","v":"<Not Used>"},"Actual/ Estimated","Average Gas Consumption",null,{"$f":"'Utility Info'!$D$16","v":"<Not Used>"},"Actual/ Estimated",{"$f":"'Utility Info'!$D$16","v":"<Not Used>"},"Actual/ Estimated",{"$f":"'Utility Info'!$D$16","v":"<Not Used>"},"Actual/ Estimated",{"$f":"'Utility Info'!$D$16","v":"<Not Used>"},"Actual/ Estimated",{"$f":"'Utility Info'!$D$16","v":"<Not Used>"},"Actual/ Estimated",{"$f":"'Utility Info'!$D$16","v":"<Not Used>"},"Actual/ Estimated",{"$f":"'Utility Info'!$D$16","v":"<Not Used>"},"Actual/ Estimated",{"$f":"'Utility Info'!$D$16","v":"<Not Used>"},"Actual/ Estimated",{"$f":"'Utility Info'!$D$16","v":"<Not Used>"},"Actual/ Estimated",{"$f":"'Utility Info'!$D$16","v":"<Not Used>"},"Actual/ Estimated",{"$f":"'Utility Info'!$D$16","v":"<Not Used>"},"Actual/ Estimated",{"$f":"'Utility Info'!$D$16","v":"<Not Used>"},"Actual/ Estimated",{"$f":"'Utility Info'!$D$16","v":"<Not Used>"},"Actual/ Estimated",{"$f":"'Utility Info'!$D$16","v":"<Not Used>"},"Actual/ Estimated",{"$f":"'Utility Info'!$D$16","v":"<Not Used>"},"Actual/ Estimated",{"$f":"'Utility Info'!$D$16","v":"<Not Used>"},"Actual/ Estimated",{"$f":"'Utility Info'!$D$16","v":"<Not Used>"},"Actual/ Estimated",{"$f":"'Utility Info'!$D$16","v":"<Not Used>"},"Actual/ Estimated",{"$f":"'Utility Info'!$D$16","v":"<Not Used>"},"Actual/ Estimated",{"$f":"'Utility Info'!$D$16","v":"<Not Used>"},"Actual/ Estimated","Average Gas Consumption",null,{"$f":"'Utility Info'!$D$16","v":"<Not Used>"},"Actual/ Estimated",{"$f":"'Utility Info'!$D$16","v":"<Not Used>"},"Actual/ Estimated",{"$f":"'Utility Info'!$D$16","v":"<Not Used>"},"Actual/ Estimated",{"$f":"'Utility Info'!$D$16","v":"<Not Used>"},"Actual/ Estimated",{"$f":"'Utility Info'!$D$16","v":"<Not Used>"},"Actual/ Estimated",{"$f":"'Utility Info'!$D$16","v":"<Not Used>"},"Actual/ Estimated",{"$f":"'Utility Info'!$D$16","v":"<Not Used>"},"Actual/ Estimated",{"$f":"'Utility Info'!$D$16","v":"<Not Used>"},"Actual/ Estimated",{"$f":"'Utility Info'!$D$16","v":"<Not Used>"},"Actual/ Estimated",{"$f":"'Utility Info'!$D$16","v":"<Not Used>"},"Actual/ Estimated",{"$f":"'Utility Info'!$D$16","v":"<Not Used>"},"Actual/ Estimated",{"$f":"'Utility Info'!$D$16","v":"<Not Used>"},"Actual/ Estimated",{"$f":"'Utility Info'!$D$16","v":"<Not Used>"},"Actual/ Estimated",{"$f":"'Utility Info'!$D$16","v":"<Not Used>"},"Actual/ Estimated",{"$f":"'Utility Info'!$D$16","v":"<Not Used>"},"Actual/ Estimated",{"$f":"'Utility Info'!$D$16","v":"<Not Used>"},"Actual/ Estimated",{"$f":"'Utility Info'!$D$16","v":"<Not Used>"},"Actual/ Estimated",{"$f":"'Utility Info'!$D$16","v":"<Not Used>"},"Actual/ Estimated",{"$f":"'Utility Info'!$D$16","v":"<Not Used>"},"Actual/ Estimated",{"$f":"'Utility Info'!$D$16","v":"<Not Used>"},"Actual/ Estimated","Average Gas Consumption",null,{"$f":"'Utility Info'!$D$16","v":"<Not Used>"},"Actual/ Estimated",{"$f":"'Utility Info'!$D$16","v":"<Not Used>"},"Actual/ Estimated",{"$f":"'Utility Info'!$D$16","v":"<Not Used>"},"Actual/ Estimated",{"$f":"'Utility Info'!$D$16","v":"<Not Used>"},"Actual/ Estimated",{"$f":"'Utility Info'!$D$16","v":"<Not Used>"},"Actual/ Estimated",{"$f":"'Utility Info'!$D$16","v":"<Not Used>"},"Actual/ Estimated",{"$f":"'Utility Info'!$D$16","v":"<Not Used>"},"Actual/ Estimated",{"$f":"'Utility Info'!$D$16","v":"<Not Used>"},"Actual/ Estimated",{"$f":"'Utility Info'!$D$16","v":"<Not Used>"},"Actual/ Estimated",{"$f":"'Utility Info'!$D$16","v":"<Not Used>"},"Actual/ Estimated",{"$f":"'Utility Info'!$D$16","v":"<Not Used>"},"Actual/ Estimated",{"$f":"'Utility Info'!$D$16","v":"<Not Used>"},"Actual/ Estimated",{"$f":"'Utility Info'!$D$16","v":"<Not Used>"},"Actual/ Estimated",{"$f":"'Utility Info'!$D$16","v":"<Not Used>"},"Actual/ Estimated",{"$f":"'Utility Info'!$D$16","v":"<Not Used>"},"Actual/ Estimated",{"$f":"'Utility Info'!$D$16","v":"<Not Used>"},"Actual/ Estimated",{"$f":"'Utility Info'!$D$16","v":"<Not Used>"},"Actual/ Estimated",{"$f":"'Utility Info'!$D$16","v":"<Not Used>"},"Actual/ Estimated",{"$f":"'Utility Info'!$D$16","v":"<Not Used>"},"Actual/ Estimated",{"$f":"'Utility Info'!$D$16","v":"<Not Used>"},"Actual/ Estimated","Average Gas Consumption",null,"Average Gas Consumption","Average Gas Consumption","Average Gas Consumption","Average Gas Consumption","Average Gas Consumption","Average Gas Consumption","Average Gas Consumption","Average Gas Consumption","Average Gas Consumption","Average Gas Consumption","Total In-Unit Gas Consumption"]
[]
[null,{"$f":"C38+1","v":"1900-01-01"},null,{"$f":"IF(C39>0,C39+1-B39,0)","v":0},null,null,null,null,null,null,null,null,null,null,null,null,null,null,null,null,null,null,null,null,null,null,null,null,null,null,null,null,null,null,null,null,null,null,null,null,null,null,null,null,null,{"$f":"IF(ISBLANK(F39)=FALSE,AVERAGE(F39:AR39),\"\")","v":""},null,null,null,null,null,null,null,null,null,null,null,null,null,null,null,null,null,null,null,null,null,null,null,null,null,null,null,null,null,null,null,null,null,null,null,null,null,null,null,null,null,{"$f":"IF(ISBLANK(AV39)=FALSE,AVERAGE(AV39:CH39),\"\")","v":""},null,null,null,null,null,null,null,null,null,null,null,null,null,null,null,null,null,null,null,null,null,null,null,null,null,null,null,null,null,null,null,null,null,null,null,null,null,null,null,null,null,{"$f":"IF(ISBLANK(CL39)=FALSE,AVERAGE(CL39:DW39),\"\")","v":""},null,null,null,null,null,null,null,null,null,null,null,null,null,null,null,null,null,null,null,null,null,null,null,null,null,null,null,null,null,null,null,null,null,null,null,null,null,null,null,null,null,{"$f":"IF(ISBLANK(EB39)=FALSE,AVERAGE(EB39:FN39),\"\")","v":""},null,null,null,null,null,null,null,null,null,null,null,null,null,null,null,null,null,null,null,null,null,null,null,null,null,null,null,null,null,null,null,null,null,null,null,null,null,null,null,null,null,{"$f":"IF(ISBLANK(FR39)=FALSE,AVERAGE(FR39:HD39),\"\")","v":""},null,null,null,null,null,null,null,null,null,null,null,null,null,null,null,null,null,null,null,null,null,null,null,null,null,null,null,null,null,null,null,null,null,null,null,null,null,null,null,null,null,{"$f":"IF(ISBLANK(HH39)=FALSE,AVERAGE(HH39:IT39),\"\")","v":""},null,null,null,null,null,null,null,null,null,null,null,null,null,null,null,null,null,null,null,null,null,null,null,null,null,null,null,null,null,null,null,null,null,null,null,null,null,null,null,null,null,{"$f":"IF(ISBLANK(IX39)=FALSE,AVERAGE(IX39:KJ39),\"\")","v":""},null,null,null,null,null,null,null,null,null,null,null,null,null,null,null,null,null,null,null,null,null,null,null,null,null,null,null,null,null,null,null,null,null,null,null,null,null,null,null,null,null,{"$f":"IF(ISBLANK(KN39)=FALSE,AVERAGE(KN39:LZ39),\"\")","v":""},null,null,null,null,null,null,null,null,null,null,null,null,null,null,null,null,null,null,null,null,null,null,null,null,null,null,null,null,null,null,null,null,null,null,null,null,null,null,null,null,null,{"$f":"IF(ISBLANK(MD39)=FALSE,AVERAGE(MD39:NP39),\"\")","v":""},null,null,null,null,null,null,null,null,null,null,null,null,null,null,null,null,null,null,null,null,null,null,null,null,null,null,null,null,null,null,null,null,null,null,null,null,null,null,null,null,null,{"$f":"IF(ISBLANK(NT39)=FALSE,AVERAGE(NT39:PF39),\"\")","v":""},null,{"$f":"IF(AT39=\"\",0,AT39)","v":0},{"$f":"IF(CJ39=\"\",0,CJ39)","v":0},{"$f":"IF(DZ39=\"\",0,DZ39)","v":0},{"$f":"IF(FP39=\"\",0,FP39)","v":0},{"$f":"IF(HF39=\"\",0,HF39)","v":0},{"$f":"IF(IV39=\"\",0,IV39)","v":0},{"$f":"IF(KL39=\"\",0,KL39)","v":0},{"$f":"IF(MB39=\"\",0,MB39)","v":0},{"$f":"IF(NR39=\"\",0,NR39)","v":0},{"$f":"IF(PH39=\"\",0,PH39)","v":0},{"$f":"SUMPRODUCT($PJ$35:$PS$35,PJ39:PS39)","v":0}]
[null,{"$f":"C39+1","v":"1900-01-01"},null,0,null,null,null,null,null,null,null,null,null,null,null,null,null,null,null,null,null,null,null,null,null,null,null,null,null,null,null,null,null,null,null,null,null,null,null,null,null,null,null,null,null,"",null,null,null,null,null,null,null,null,null,null,null,null,null,null,null,null,null,null,null,null,null,null,null,null,null,null,null,null,null,null,null,null,null,null,null,null,null,null,null,null,null,"",null,null,null,null,null,null,null,null,null,null,null,null,null,null,null,null,null,null,null,null,null,null,null,null,null,null,null,null,null,null,null,null,null,null,null,null,null,null,null,null,null,"",null,null,null,null,null,null,null,null,null,null,null,null,null,null,null,null,null,null,null,null,null,null,null,null,null,null,null,null,null,null,null,null,null,null,null,null,null,null,null,null,null,"",null,null,null,null,null,null,null,null,null,null,null,null,null,null,null,null,null,null,null,null,null,null,null,null,null,null,null,null,null,null,null,null,null,null,null,null,null,null,null,null,null,"",null,null,null,null,null,null,null,null,null,null,null,null,null,null,null,null,null,null,null,null,null,null,null,null,null,null,null,null,null,null,null,null,null,null,null,null,null,null,null,null,null,"",null,null,null,null,null,null,null,null,null,null,null,null,null,null,null,null,null,null,null,null,null,null,null,null,null,null,null,null,null,null,null,null,null,null,null,null,null,null,null,null,null,"",null,null,null,null,null,null,null,null,null,null,null,null,null,null,null,null,null,null,null,null,null,null,null,null,null,null,null,null,null,null,null,null,null,null,null,null,null,null,null,null,null,"",null,null,null,null,null,null,null,null,null,null,null,null,null,null,null,null,null,null,null,null,null,null,null,null,null,null,null,null,null,null,null,null,null,null,null,null,null,null,null,null,null,"",null,null,null,null,null,null,null,null,null,null,null,null,null,null,null,null,null,null,null,null,null,null,null,null,null,null,null,null,null,null,null,null,null,null,null,null,null,null,null,null,null,"",null,0,0,0,0,0,0,0,0,0,0,{"$f":"SUMPRODUCT($PJ$35:$PS$35,PJ40:PS40)","v":0}]
[null,"1900-01-01",null,0,null,null,null,null,null,null,null,null,null,null,null,null,null,null,null,null,null,null,null,null,null,null,null,null,null,null,null,null,null,null,null,null,null,null,null,null,null,null,null,null,null,"",null,null,null,null,null,null,null,null,null,null,null,null,null,null,null,null,null,null,null,null,null,null,null,null,null,null,null,null,null,null,null,null,null,null,null,null,null,null,null,null,null,"",null,null,null,null,null,null,null,null,null,null,null,null,null,null,null,null,null,null,null,null,null,null,null,null,null,null,null,null,null,null,null,null,null,null,null,null,null,null,null,null,null,"",null,null,null,null,null,null,null,null,null,null,null,null,null,null,null,null,null,null,null,null,null,null,null,null,null,null,null,null,null,null,null,null,null,null,null,null,null,null,null,null,null,"",null,null,null,null,null,null,null,null,null,null,null,null,null,null,null,null,null,null,null,null,null,null,null,null,null,null,null,null,null,null,null,null,null,null,null,null,null,null,null,null,null,"",null,null,null,null,null,null,null,null,null,null,null,null,null,null,null,null,null,null,null,null,null,null,null,null,null,null,null,null,null,null,null,null,null,null,null,null,null,null,null,null,null,"",null,null,null,null,null,null,null,null,null,null,null,null,null,null,null,null,null,null,null,null,null,null,null,null,null,null,null,null,null,null,null,null,null,null,null,null,null,null,null,null,null,"",null,null,null,null,null,null,null,null,null,null,null,null,null,null,null,null,null,null,null,null,null,null,null,null,null,null,null,null,null,null,null,null,null,null,null,null,null,null,null,null,null,"",null,null,null,null,null,null,null,null,null,null,null,null,null,null,null,null,null,null,null,null,null,null,null,null,null,null,null,null,null,null,null,null,null,null,null,null,null,null,null,null,null,"",null,null,null,null,null,null,null,null,null,null,null,null,null,null,null,null,null,null,null,null,null,null,null,null,null,null,null,null,null,null,null,null,null,null,null,null,null,null,null,null,null,"",null,0,0,0,0,0,0,0,0,0,0,0]
[null,"1900-01-01",null,0,null,null,null,null,null,null,null,null,null,null,null,null,null,null,null,null,null,null,null,null,null,null,null,null,null,null,null,null,null,null,null,null,null,null,null,null,null,null,null,null,null,"",null,null,null,null,null,null,null,null,null,null,null,null,null,null,null,null,null,null,null,null,null,null,null,null,null,null,null,null,null,null,null,null,null,null,null,null,null,null,null,null,null,"",null,null,null,null,null,null,null,null,null,null,null,null,null,null,null,null,null,null,null,null,null,null,null,null,null,null,null,null,null,null,null,null,null,null,null,null,null,null,null,null,null,"",null,null,null,null,null,null,null,null,null,null,null,null,null,null,null,null,null,null,null,null,null,null,null,null,null,null,null,null,null,null,null,null,null,null,null,null,null,null,null,null,null,"",null,null,null,null,null,null,null,null,null,null,null,null,null,null,null,null,null,null,null,null,null,null,null,null,null,null,null,null,null,null,null,null,null,null,null,null,null,null,null,null,null,"",null,null,null,null,null,null,null,null,null,null,null,null,null,null,null,null,null,null,null,null,null,null,null,null,null,null,null,null,null,null,null,null,null,null,null,null,null,null,null,null,null,"",null,null,null,null,null,null,null,null,null,null,null,null,null,null,null,null,null,null,null,null,null,null,null,null,null,null,null,null,null,null,null,null,null,null,null,null,null,null,null,null,null,"",null,null,null,null,null,null,null,null,null,null,null,null,null,null,null,null,null,null,null,null,null,null,null,null,null,null,null,null,null,null,null,null,null,null,null,null,null,null,null,null,null,"",null,null,null,null,null,null,null,null,null,null,null,null,null,null,null,null,null,null,null,null,null,null,null,null,null,null,null,null,null,null,null,null,null,null,null,null,null,null,null,null,null,"",null,null,null,null,null,null,null,null,null,null,null,null,null,null,null,null,null,null,null,null,null,null,null,null,null,null,null,null,null,null,null,null,null,null,null,null,null,null,null,null,null,"",null,0,0,0,0,0,0,0,0,0,0,0]
[null,"1900-01-01",null,0,null,null,null,null,null,null,null,null,null,null,null,null,null,null,null,null,null,null,null,null,null,null,null,null,null,null,null,null,null,null,null,null,null,null,null,null,null,null,null,null,null,"",null,null,null,null,null,null,null,null,null,null,null,null,null,null,null,null,null,null,null,null,null,null,null,null,null,null,null,null,null,null,null,null,null,null,null,null,null,null,null,null,null,"",null,null,null,null,null,null,null,null,null,null,null,null,null,null,null,null,null,null,null,null,null,null,null,null,null,null,null,null,null,null,null,null,null,null,null,null,null,null,null,null,null,"",null,null,null,null,null,null,null,null,null,null,null,null,null,null,null,null,null,null,null,null,null,null,null,null,null,null,null,null,null,null,null,null,null,null,null,null,null,null,null,null,null,"",null,null,null,null,null,null,null,null,null,null,null,null,null,null,null,null,null,null,null,null,null,null,null,null,null,null,null,null,null,null,null,null,null,null,null,null,null,null,null,null,null,"",null,null,null,null,null,null,null,null,null,null,null,null,null,null,null,null,null,null,null,null,null,null,null,null,null,null,null,null,null,null,null,null,null,null,null,null,null,null,null,null,null,"",null,null,null,null,null,null,null,null,null,null,null,null,null,null,null,null,null,null,null,null,null,null,null,null,null,null,null,null,null,null,null,null,null,null,null,null,null,null,null,null,null,"",null,null,null,null,null,null,null,null,null,null,null,null,null,null,null,null,null,null,null,null,null,null,null,null,null,null,null,null,null,null,null,null,null,null,null,null,null,null,null,null,null,"",null,null,null,null,null,null,null,null,null,null,null,null,null,null,null,null,null,null,null,null,null,null,null,null,null,null,null,null,null,null,null,null,null,null,null,null,null,null,null,null,null,"",null,null,null,null,null,null,null,null,null,null,null,null,null,null,null,null,null,null,null,null,null,null,null,null,null,null,null,null,null,null,null,null,null,null,null,null,null,null,null,null,null,"",null,0,0,0,0,0,0,0,0,0,0,0]
[null,"1900-01-01",null,0,null,null,null,null,null,null,null,null,null,null,null,null,null,null,null,null,null,null,null,null,null,null,null,null,null,null,null,null,null,null,null,null,null,null,null,null,null,null,null,null,null,"",null,null,null,null,null,null,null,null,null,null,null,null,null,null,null,null,null,null,null,null,null,null,null,null,null,null,null,null,null,null,null,null,null,null,null,null,null,null,null,null,null,"",null,null,null,null,null,null,null,null,null,null,null,null,null,null,null,null,null,null,null,null,null,null,null,null,null,null,null,null,null,null,null,null,null,null,null,null,null,null,null,null,null,"",null,null,null,null,null,null,null,null,null,null,null,null,null,null,null,null,null,null,null,null,null,null,null,null,null,null,null,null,null,null,null,null,null,null,null,null,null,null,null,null,null,"",null,null,null,null,null,null,null,null,null,null,null,null,null,null,null,null,null,null,null,null,null,null,null,null,null,null,null,null,null,null,null,null,null,null,null,null,null,null,null,null,null,"",null,null,null,null,null,null,null,null,null,null,null,null,null,null,null,null,null,null,null,null,null,null,null,null,null,null,null,null,null,null,null,null,null,null,null,null,null,null,null,null,null,"",null,null,null,null,null,null,null,null,null,null,null,null,null,null,null,null,null,null,null,null,null,null,null,null,null,null,null,null,null,null,null,null,null,null,null,null,null,null,null,null,null,"",null,null,null,null,null,null,null,null,null,null,null,null,null,null,null,null,null,null,null,null,null,null,null,null,null,null,null,null,null,null,null,null,null,null,null,null,null,null,null,null,null,"",null,null,null,null,null,null,null,null,null,null,null,null,null,null,null,null,null,null,null,null,null,null,null,null,null,null,null,null,null,null,null,null,null,null,null,null,null,null,null,null,null,"",null,null,null,null,null,null,null,null,null,null,null,null,null,null,null,null,null,null,null,null,null,null,null,null,null,null,null,null,null,null,null,null,null,null,null,null,null,null,null,null,null,"",null,0,0,0,0,0,0,0,0,0,0,0]
[null,"1900-01-01",null,0,null,null,null,null,null,null,null,null,null,null,null,null,null,null,null,null,null,null,null,null,null,null,null,null,null,null,null,null,null,null,null,null,null,null,null,null,null,null,null,null,null,"",null,null,null,null,null,null,null,null,null,null,null,null,null,null,null,null,null,null,null,null,null,null,null,null,null,null,null,null,null,null,null,null,null,null,null,null,null,null,null,null,null,"",null,null,null,null,null,null,null,null,null,null,null,null,null,null,null,null,null,null,null,null,null,null,null,null,null,null,null,null,null,null,null,null,null,null,null,null,null,null,null,null,null,"",null,null,null,null,null,null,null,null,null,null,null,null,null,null,null,null,null,null,null,null,null,null,null,null,null,null,null,null,null,null,null,null,null,null,null,null,null,null,null,null,null,"",null,null,null,null,null,null,null,null,null,null,null,null,null,null,null,null,null,null,null,null,null,null,null,null,null,null,null,null,null,null,null,null,null,null,null,null,null,null,null,null,null,"",null,null,null,null,null,null,null,null,null,null,null,null,null,null,null,null,null,null,null,null,null,null,null,null,null,null,null,null,null,null,null,null,null,null,null,null,null,null,null,null,null,"",null,null,null,null,null,null,null,null,null,null,null,null,null,null,null,null,null,null,null,null,null,null,null,null,null,null,null,null,null,null,null,null,null,null,null,null,null,null,null,null,null,"",null,null,null,null,null,null,null,null,null,null,null,null,null,null,null,null,null,null,null,null,null,null,null,null,null,null,null,null,null,null,null,null,null,null,null,null,null,null,null,null,null,"",null,null,null,null,null,null,null,null,null,null,null,null,null,null,null,null,null,null,null,null,null,null,null,null,null,null,null,null,null,null,null,null,null,null,null,null,null,null,null,null,null,"",null,null,null,null,null,null,null,null,null,null,null,null,null,null,null,null,null,null,null,null,null,null,null,null,null,null,null,null,null,null,null,null,null,null,null,null,null,null,null,null,null,"",null,0,0,0,0,0,0,0,0,0,0,0]
[null,"1900-01-01",null,0,null,null,null,null,null,null,null,null,null,null,null,null,null,null,null,null,null,null,null,null,null,null,null,null,null,null,null,null,null,null,null,null,null,null,null,null,null,null,null,null,null,"",null,null,null,null,null,null,null,null,null,null,null,null,null,null,null,null,null,null,null,null,null,null,null,null,null,null,null,null,null,null,null,null,null,null,null,null,null,null,null,null,null,"",null,null,null,null,null,null,null,null,null,null,null,null,null,null,null,null,null,null,null,null,null,null,null,null,null,null,null,null,null,null,null,null,null,null,null,null,null,null,null,null,null,"",null,null,null,null,null,null,null,null,null,null,null,null,null,null,null,null,null,null,null,null,null,null,null,null,null,null,null,null,null,null,null,null,null,null,null,null,null,null,null,null,null,"",null,null,null,null,null,null,null,null,null,null,null,null,null,null,null,null,null,null,null,null,null,null,null,null,null,null,null,null,null,null,null,null,null,null,null,null,null,null,null,null,null,"",null,null,null,null,null,null,null,null,null,null,null,null,null,null,null,null,null,null,null,null,null,null,null,null,null,null,null,null,null,null,null,null,null,null,null,null,null,null,null,null,null,"",null,null,null,null,null,null,null,null,null,null,null,null,null,null,null,null,null,null,null,null,null,null,null,null,null,null,null,null,null,null,null,null,null,null,null,null,null,null,null,null,null,"",null,null,null,null,null,null,null,null,null,null,null,null,null,null,null,null,null,null,null,null,null,null,null,null,null,null,null,null,null,null,null,null,null,null,null,null,null,null,null,null,null,"",null,null,null,null,null,null,null,null,null,null,null,null,null,null,null,null,null,null,null,null,null,null,null,null,null,null,null,null,null,null,null,null,null,null,null,null,null,null,null,null,null,"",null,null,null,null,null,null,null,null,null,null,null,null,null,null,null,null,null,null,null,null,null,null,null,null,null,null,null,null,null,null,null,null,null,null,null,null,null,null,null,null,null,"",null,0,0,0,0,0,0,0,0,0,0,0]
[null,"1900-01-01",null,0,null,null,null,null,null,null,null,null,null,null,null,null,null,null,null,null,null,null,null,null,null,null,null,null,null,null,null,null,null,null,null,null,null,null,null,null,null,null,null,null,null,"",null,null,null,null,null,null,null,null,null,null,null,null,null,null,null,null,null,null,null,null,null,null,null,null,null,null,null,null,null,null,null,null,null,null,null,null,null,null,null,null,null,"",null,null,null,null,null,null,null,null,null,null,null,null,null,null,null,null,null,null,null,null,null,null,null,null,null,null,null,null,null,null,null,null,null,null,null,null,null,null,null,null,null,"",null,null,null,null,null,null,null,null,null,null,null,null,null,null,null,null,null,null,null,null,null,null,null,null,null,null,null,null,null,null,null,null,null,null,null,null,null,null,null,null,null,"",null,null,null,null,null,null,null,null,null,null,null,null,null,null,null,null,null,null,null,null,null,null,null,null,null,null,null,null,null,null,null,null,null,null,null,null,null,null,null,null,null,"",null,null,null,null,null,null,null,null,null,null,null,null,null,null,null,null,null,null,null,null,null,null,null,null,null,null,null,null,null,null,null,null,null,null,null,null,null,null,null,null,null,"",null,null,null,null,null,null,null,null,null,null,null,null,null,null,null,null,null,null,null,null,null,null,null,null,null,null,null,null,null,null,null,null,null,null,null,null,null,null,null,null,null,"",null,null,null,null,null,null,null,null,null,null,null,null,null,null,null,null,null,null,null,null,null,null,null,null,null,null,null,null,null,null,null,null,null,null,null,null,null,null,null,null,null,"",null,null,null,null,null,null,null,null,null,null,null,null,null,null,null,null,null,null,null,null,null,null,null,null,null,null,null,null,null,null,null,null,null,null,null,null,null,null,null,null,null,"",null,null,null,null,null,null,null,null,null,null,null,null,null,null,null,null,null,null,null,null,null,null,null,null,null,null,null,null,null,null,null,null,null,null,null,null,null,null,null,null,null,"",null,0,0,0,0,0,0,0,0,0,0,0]
[null,"1900-01-01",null,0,null,null,null,null,null,null,null,null,null,null,null,null,null,null,null,null,null,null,null,null,null,null,null,null,null,null,null,null,null,null,null,null,null,null,null,null,null,null,null,null,null,"",null,null,null,null,null,null,null,null,null,null,null,null,null,null,null,null,null,null,null,null,null,null,null,null,null,null,null,null,null,null,null,null,null,null,null,null,null,null,null,null,null,"",null,null,null,null,null,null,null,null,null,null,null,null,null,null,null,null,null,null,null,null,null,null,null,null,null,null,null,null,null,null,null,null,null,null,null,null,null,null,null,null,null,"",null,null,null,null,null,null,null,null,null,null,null,null,null,null,null,null,null,null,null,null,null,null,null,null,null,null,null,null,null,null,null,null,null,null,null,null,null,null,null,null,null,"",null,null,null,null,null,null,null,null,null,null,null,null,null,null,null,null,null,null,null,null,null,null,null,null,null,null,null,null,null,null,null,null,null,null,null,null,null,null,null,null,null,"",null,null,null,null,null,null,null,null,null,null,null,null,null,null,null,null,null,null,null,null,null,null,null,null,null,null,null,null,null,null,null,null,null,null,null,null,null,null,null,null,null,"",null,null,null,null,null,null,null,null,null,null,null,null,null,null,null,null,null,null,null,null,null,null,null,null,null,null,null,null,null,null,null,null,null,null,null,null,null,null,null,null,null,"",null,null,null,null,null,null,null,null,null,null,null,null,null,null,null,null,null,null,null,null,null,null,null,null,null,null,null,null,null,null,null,null,null,null,null,null,null,null,null,null,null,"",null,null,null,null,null,null,null,null,null,null,null,null,null,null,null,null,null,null,null,null,null,null,null,null,null,null,null,null,null,null,null,null,null,null,null,null,null,null,null,null,null,"",null,null,null,null,null,null,null,null,null,null,null,null,null,null,null,null,null,null,null,null,null,null,null,null,null,null,null,null,null,null,null,null,null,null,null,null,null,null,null,null,null,"",null,0,0,0,0,0,0,0,0,0,0,0]
[null,"1900-01-01",null,0,null,null,null,null,null,null,null,null,null,null,null,null,null,null,null,null,null,null,null,null,null,null,null,null,null,null,null,null,null,null,null,null,null,null,null,null,null,null,null,null,null,"",null,null,null,null,null,null,null,null,null,null,null,null,null,null,null,null,null,null,null,null,null,null,null,null,null,null,null,null,null,null,null,null,null,null,null,null,null,null,null,null,null,"",null,null,null,null,null,null,null,null,null,null,null,null,null,null,null,null,null,null,null,null,null,null,null,null,null,null,null,null,null,null,null,null,null,null,null,null,null,null,null,null,null,"",null,null,null,null,null,null,null,null,null,null,null,null,null,null,null,null,null,null,null,null,null,null,null,null,null,null,null,null,null,null,null,null,null,null,null,null,null,null,null,null,null,"",null,null,null,null,null,null,null,null,null,null,null,null,null,null,null,null,null,null,null,null,null,null,null,null,null,null,null,null,null,null,null,null,null,null,null,null,null,null,null,null,null,"",null,null,null,null,null,null,null,null,null,null,null,null,null,null,null,null,null,null,null,null,null,null,null,null,null,null,null,null,null,null,null,null,null,null,null,null,null,null,null,null,null,"",null,null,null,null,null,null,null,null,null,null,null,null,null,null,null,null,null,null,null,null,null,null,null,null,null,null,null,null,null,null,null,null,null,null,null,null,null,null,null,null,null,"",null,null,null,null,null,null,null,null,null,null,null,null,null,null,null,null,null,null,null,null,null,null,null,null,null,null,null,null,null,null,null,null,null,null,null,null,null,null,null,null,null,"",null,null,null,null,null,null,null,null,null,null,null,null,null,null,null,null,null,null,null,null,null,null,null,null,null,null,null,null,null,null,null,null,null,null,null,null,null,null,null,null,null,"",null,null,null,null,null,null,null,null,null,null,null,null,null,null,null,null,null,null,null,null,null,null,null,null,null,null,null,null,null,null,null,null,null,null,null,null,null,null,null,null,null,"",null,0,0,0,0,0,0,0,0,0,0,0]
[null,"1900-01-01",null,0,null,null,null,null,null,null,null,null,null,null,null,null,null,null,null,null,null,null,null,null,null,null,null,null,null,null,null,null,null,null,null,null,null,null,null,null,null,null,null,null,null,"",null,null,null,null,null,null,null,null,null,null,null,null,null,null,null,null,null,null,null,null,null,null,null,null,null,null,null,null,null,null,null,null,null,null,null,null,null,null,null,null,null,"",null,null,null,null,null,null,null,null,null,null,null,null,null,null,null,null,null,null,null,null,null,null,null,null,null,null,null,null,null,null,null,null,null,null,null,null,null,null,null,null,null,"",null,null,null,null,null,null,null,null,null,null,null,null,null,null,null,null,null,null,null,null,null,null,null,null,null,null,null,null,null,null,null,null,null,null,null,null,null,null,null,null,null,"",null,null,null,null,null,null,null,null,null,null,null,null,null,null,null,null,null,null,null,null,null,null,null,null,null,null,null,null,null,null,null,null,null,null,null,null,null,null,null,null,null,"",null,null,null,null,null,null,null,null,null,null,null,null,null,null,null,null,null,null,null,null,null,null,null,null,null,null,null,null,null,null,null,null,null,null,null,null,null,null,null,null,null,"",null,null,null,null,null,null,null,null,null,null,null,null,null,null,null,null,null,null,null,null,null,null,null,null,null,null,null,null,null,null,null,null,null,null,null,null,null,null,null,null,null,"",null,null,null,null,null,null,null,null,null,null,null,null,null,null,null,null,null,null,null,null,null,null,null,null,null,null,null,null,null,null,null,null,null,null,null,null,null,null,null,null,null,"",null,null,null,null,null,null,null,null,null,null,null,null,null,null,null,null,null,null,null,null,null,null,null,null,null,null,null,null,null,null,null,null,null,null,null,null,null,null,null,null,null,"",null,null,null,null,null,null,null,null,null,null,null,null,null,null,null,null,null,null,null,null,null,null,null,null,null,null,null,null,null,null,null,null,null,null,null,null,null,null,null,null,null,"",null,0,0,0,0,0,0,0,0,0,0,0]
[null,"1900-01-01",null,0,null,null,null,null,null,null,null,null,null,null,null,null,null,null,null,null,null,null,null,null,null,null,null,null,null,null,null,null,null,null,null,null,null,null,null,null,null,null,null,null,null,"",null,null,null,null,null,null,null,null,null,null,null,null,null,null,null,null,null,null,null,null,null,null,null,null,null,null,null,null,null,null,null,null,null,null,null,null,null,null,null,null,null,"",null,null,null,null,null,null,null,null,null,null,null,null,null,null,null,null,null,null,null,null,null,null,null,null,null,null,null,null,null,null,null,null,null,null,null,null,null,null,null,null,null,"",null,null,null,null,null,null,null,null,null,null,null,null,null,null,null,null,null,null,null,null,null,null,null,null,null,null,null,null,null,null,null,null,null,null,null,null,null,null,null,null,null,"",null,null,null,null,null,null,null,null,null,null,null,null,null,null,null,null,null,null,null,null,null,null,null,null,null,null,null,null,null,null,null,null,null,null,null,null,null,null,null,null,null,"",null,null,null,null,null,null,null,null,null,null,null,null,null,null,null,null,null,null,null,null,null,null,null,null,null,null,null,null,null,null,null,null,null,null,null,null,null,null,null,null,null,"",null,null,null,null,null,null,null,null,null,null,null,null,null,null,null,null,null,null,null,null,null,null,null,null,null,null,null,null,null,null,null,null,null,null,null,null,null,null,null,null,null,"",null,null,null,null,null,null,null,null,null,null,null,null,null,null,null,null,null,null,null,null,null,null,null,null,null,null,null,null,null,null,null,null,null,null,null,null,null,null,null,null,null,"",null,null,null,null,null,null,null,null,null,null,null,null,null,null,null,null,null,null,null,null,null,null,null,null,null,null,null,null,null,null,null,null,null,null,null,null,null,null,null,null,null,"",null,null,null,null,null,null,null,null,null,null,null,null,null,null,null,null,null,null,null,null,null,null,null,null,null,null,null,null,null,null,null,null,null,null,null,null,null,null,null,null,null,"",null,0,0,0,0,0,0,0,0,0,0,0]
[null,"1900-01-01",null,0,null,null,null,null,null,null,null,null,null,null,null,null,null,null,null,null,null,null,null,null,null,null,null,null,null,null,null,null,null,null,null,null,null,null,null,null,null,null,null,null,null,"",null,null,null,null,null,null,null,null,null,null,null,null,null,null,null,null,null,null,null,null,null,null,null,null,null,null,null,null,null,null,null,null,null,null,null,null,null,null,null,null,null,"",null,null,null,null,null,null,null,null,null,null,null,null,null,null,null,null,null,null,null,null,null,null,null,null,null,null,null,null,null,null,null,null,null,null,null,null,null,null,null,null,null,"",null,null,null,null,null,null,null,null,null,null,null,null,null,null,null,null,null,null,null,null,null,null,null,null,null,null,null,null,null,null,null,null,null,null,null,null,null,null,null,null,null,"",null,null,null,null,null,null,null,null,null,null,null,null,null,null,null,null,null,null,null,null,null,null,null,null,null,null,null,null,null,null,null,null,null,null,null,null,null,null,null,null,null,"",null,null,null,null,null,null,null,null,null,null,null,null,null,null,null,null,null,null,null,null,null,null,null,null,null,null,null,null,null,null,null,null,null,null,null,null,null,null,null,null,null,"",null,null,null,null,null,null,null,null,null,null,null,null,null,null,null,null,null,null,null,null,null,null,null,null,null,null,null,null,null,null,null,null,null,null,null,null,null,null,null,null,null,"",null,null,null,null,null,null,null,null,null,null,null,null,null,null,null,null,null,null,null,null,null,null,null,null,null,null,null,null,null,null,null,null,null,null,null,null,null,null,null,null,null,"",null,null,null,null,null,null,null,null,null,null,null,null,null,null,null,null,null,null,null,null,null,null,null,null,null,null,null,null,null,null,null,null,null,null,null,null,null,null,null,null,null,"",null,null,null,null,null,null,null,null,null,null,null,null,null,null,null,null,null,null,null,null,null,null,null,null,null,null,null,null,null,null,null,null,null,null,null,null,null,null,null,null,null,"",null,0,0,0,0,0,0,0,0,0,0,0]
[null,"1900-01-01",null,0,null,null,null,null,null,null,null,null,null,null,null,null,null,null,null,null,null,null,null,null,null,null,null,null,null,null,null,null,null,null,null,null,null,null,null,null,null,null,null,null,null,"",null,null,null,null,null,null,null,null,null,null,null,null,null,null,null,null,null,null,null,null,null,null,null,null,null,null,null,null,null,null,null,null,null,null,null,null,null,null,null,null,null,"",null,null,null,null,null,null,null,null,null,null,null,null,null,null,null,null,null,null,null,null,null,null,null,null,null,null,null,null,null,null,null,null,null,null,null,null,null,null,null,null,null,"",null,null,null,null,null,null,null,null,null,null,null,null,null,null,null,null,null,null,null,null,null,null,null,null,null,null,null,null,null,null,null,null,null,null,null,null,null,null,null,null,null,"",null,null,null,null,null,null,null,null,null,null,null,null,null,null,null,null,null,null,null,null,null,null,null,null,null,null,null,null,null,null,null,null,null,null,null,null,null,null,null,null,null,"",null,null,null,null,null,null,null,null,null,null,null,null,null,null,null,null,null,null,null,null,null,null,null,null,null,null,null,null,null,null,null,null,null,null,null,null,null,null,null,null,null,"",null,null,null,null,null,null,null,null,null,null,null,null,null,null,null,null,null,null,null,null,null,null,null,null,null,null,null,null,null,null,null,null,null,null,null,null,null,null,null,null,null,"",null,null,null,null,null,null,null,null,null,null,null,null,null,null,null,null,null,null,null,null,null,null,null,null,null,null,null,null,null,null,null,null,null,null,null,null,null,null,null,null,null,"",null,null,null,null,null,null,null,null,null,null,null,null,null,null,null,null,null,null,null,null,null,null,null,null,null,null,null,null,null,null,null,null,null,null,null,null,null,null,null,null,null,"",null,null,null,null,null,null,null,null,null,null,null,null,null,null,null,null,null,null,null,null,null,null,null,null,null,null,null,null,null,null,null,null,null,null,null,null,null,null,null,null,null,"",null,0,0,0,0,0,0,0,0,0,0,0]
[null,null,{"$f":"IF(ABS(D54-365)>4,\"Must have 365 ± 4 days.\",\"\")","v":"Must have 365 ± 4 days."},{"$f":"SUM(D39:D53)","v":0},null,{"$f":"SUM(F39:F53)","v":0},null,{"$f":"SUM(H39:H53)","v":0},null,{"$f":"SUM(J39:J53)","v":0},null,{"$f":"SUM(L39:L53)","v":0},null,{"$f":"SUM(N39:N53)","v":0},null,{"$f":"SUM(P39:P53)","v":0},null,{"$f":"SUM(R39:R53)","v":0},null,{"$f":"SUM(T39:T53)","v":0},null,{"$f":"SUM(V39:V53)","v":0},null,{"$f":"SUM(X39:X53)","v":0},null,{"$f":"SUM(Z39:Z53)","v":0},null,{"$f":"SUM(AB39:AB53)","v":0},null,{"$f":"SUM(AD39:AD53)","v":0},null,{"$f":"SUM(AF39:AF53)","v":0},null,{"$f":"SUM(AH39:AH53)","v":0},null,{"$f":"SUM(AJ39:AJ53)","v":0},null,{"$f":"SUM(AL39:AL53)","v":0},null,{"$f":"SUM(AN39:AN53)","v":0},null,{"$f":"SUM(AP39:AP53)","v":0},null,{"$f":"SUM(AR39:AR53)","v":0},null,{"$f":"SUM(AT39:AT53)","v":0},null,{"$f":"SUM(AV39:AV53)","v":0},null,{"$f":"SUM(AX39:AX53)","v":0},null,{"$f":"SUM(AZ39:AZ53)","v":0},null,{"$f":"SUM(BB39:BB53)","v":0},null,{"$f":"SUM(BD39:BD53)","v":0},null,{"$f":"SUM(BF39:BF53)","v":0},null,{"$f":"SUM(BH39:BH53)","v":0},null,{"$f":"SUM(BJ39:BJ53)","v":0},null,{"$f":"SUM(BL39:BL53)","v":0},null,{"$f":"SUM(BN39:BN53)","v":0},null,{"$f":"SUM(BP39:BP53)","v":0},null,{"$f":"SUM(BR39:BR53)","v":0},null,{"$f":"SUM(BT39:BT53)","v":0},null,{"$f":"SUM(BV39:BV53)","v":0},null,{"$f":"SUM(BX39:BX53)","v":0},null,{"$f":"SUM(BZ39:BZ53)","v":0},null,{"$f":"SUM(CB39:CB53)","v":0},null,{"$f":"SUM(CD39:CD53)","v":0},null,{"$f":"SUM(CF39:CF53)","v":0},null,{"$f":"SUM(CH39:CH53)","v":0},null,{"$f":"SUM(CJ39:CJ53)","v":0},null,{"$f":"SUM(CL39:CL53)","v":0},null,{"$f":"SUM(CN39:CN53)","v":0},null,{"$f":"SUM(CP39:CP53)","v":0},null,{"$f":"SUM(CR39:CR53)","v":0},null,{"$f":"SUM(CT39:CT53)","v":0},null,{"$f":"SUM(CV39:CV53)","v":0},null,{"$f":"SUM(CX39:CX53)","v":0},null,{"$f":"SUM(CZ39:CZ53)","v":0},null,{"$f":"SUM(DB39:DB53)","v":0},null,{"$f":"SUM(DD39:DD53)","v":0},null,{"$f":"SUM(DF39:DF53)","v":0},null,{"$f":"SUM(DH39:DH53)","v":0},null,{"$f":"SUM(DJ39:DJ53)","v":0},null,{"$f":"SUM(DL39:DL53)","v":0},null,{"$f":"SUM(DN39:DN53)","v":0},null,{"$f":"SUM(DP39:DP53)","v":0},null,{"$f":"SUM(DR39:DR53)","v":0},null,{"$f":"SUM(DT39:DT53)","v":0},null,{"$f":"SUM(DV39:DV53)","v":0},null,{"$f":"SUM(DX39:DX53)","v":0},null,{"$f":"SUM(DZ39:DZ53)","v":0},null,{"$f":"SUM(EB39:EB53)","v":0},null,{"$f":"SUM(ED39:ED53)","v":0},null,{"$f":"SUM(EF39:EF53)","v":0},null,{"$f":"SUM(EH39:EH53)","v":0},null,{"$f":"SUM(EJ39:EJ53)","v":0},null,{"$f":"SUM(EL39:EL53)","v":0},null,{"$f":"SUM(EN39:EN53)","v":0},null,{"$f":"SUM(EP39:EP53)","v":0},null,{"$f":"SUM(ER39:ER53)","v":0},null,{"$f":"SUM(ET39:ET53)","v":0},null,{"$f":"SUM(EV39:EV53)","v":0},null,{"$f":"SUM(EX39:EX53)","v":0},null,{"$f":"SUM(EZ39:EZ53)","v":0},null,{"$f":"SUM(FB39:FB53)","v":0},null,{"$f":"SUM(FD39:FD53)","v":0},null,{"$f":"SUM(FF39:FF53)","v":0},null,{"$f":"SUM(FH39:FH53)","v":0},null,{"$f":"SUM(FJ39:FJ53)","v":0},null,{"$f":"SUM(FL39:FL53)","v":0},null,{"$f":"SUM(FN39:FN53)","v":0},null,{"$f":"SUM(FP39:FP53)","v":0},null,{"$f":"SUM(FR39:FR53)","v":0},null,{"$f":"SUM(FT39:FT53)","v":0},null,{"$f":"SUM(FV39:FV53)","v":0},null,{"$f":"SUM(FX39:FX53)","v":0},null,{"$f":"SUM(FZ39:FZ53)","v":0},null,{"$f":"SUM(GB39:GB53)","v":0},null,{"$f":"SUM(GD39:GD53)","v":0},null,{"$f":"SUM(GF39:GF53)","v":0},null,{"$f":"SUM(GH39:GH53)","v":0},null,{"$f":"SUM(GJ39:GJ53)","v":0},null,{"$f":"SUM(GL39:GL53)","v":0},null,{"$f":"SUM(GN39:GN53)","v":0},null,{"$f":"SUM(GP39:GP53)","v":0},null,{"$f":"SUM(GR39:GR53)","v":0},null,{"$f":"SUM(GT39:GT53)","v":0},null,{"$f":"SUM(GV39:GV53)","v":0},null,{"$f":"SUM(GX39:GX53)","v":0},null,{"$f":"SUM(GZ39:GZ53)","v":0},null,{"$f":"SUM(HB39:HB53)","v":0},null,{"$f":"SUM(HD39:HD53)","v":0},null,{"$f":"SUM(HF39:HF53)","v":0},null,{"$f":"SUM(HH39:HH53)","v":0},null,{"$f":"SUM(HJ39:HJ53)","v":0},null,{"$f":"SUM(HL39:HL53)","v":0},null,{"$f":"SUM(HN39:HN53)","v":0},null,{"$f":"SUM(HP39:HP53)","v":0},null,{"$f":"SUM(HR39:HR53)","v":0},null,{"$f":"SUM(HT39:HT53)","v":0},null,{"$f":"SUM(HV39:HV53)","v":0},null,{"$f":"SUM(HX39:HX53)","v":0},null,{"$f":"SUM(HZ39:HZ53)","v":0},null,{"$f":"SUM(IB39:IB53)","v":0},null,{"$f":"SUM(ID39:ID53)","v":0},null,{"$f":"SUM(IF39:IF53)","v":0},null,{"$f":"SUM(IH39:IH53)","v":0},null,{"$f":"SUM(IJ39:IJ53)","v":0},null,{"$f":"SUM(IL39:IL53)","v":0},null,{"$f":"SUM(IN39:IN53)","v":0},null,{"$f":"SUM(IP39:IP53)","v":0},null,{"$f":"SUM(IR39:IR53)","v":0},null,{"$f":"SUM(IT39:IT53)","v":0},null,{"$f":"SUM(IV39:IV53)","v":0},null,{"$f":"SUM(IX39:IX53)","v":0},null,{"$f":"SUM(IZ39:IZ53)","v":0},null,{"$f":"SUM(JB39:JB53)","v":0},null,{"$f":"SUM(JD39:JD53)","v":0},null,{"$f":"SUM(JF39:JF53)","v":0},null,{"$f":"SUM(JH39:JH53)","v":0},null,{"$f":"SUM(JJ39:JJ53)","v":0},null,{"$f":"SUM(JL39:JL53)","v":0},null,{"$f":"SUM(JN39:JN53)","v":0},null,{"$f":"SUM(JP39:JP53)","v":0},null,{"$f":"SUM(JR39:JR53)","v":0},null,{"$f":"SUM(JT39:JT53)","v":0},null,{"$f":"SUM(JV39:JV53)","v":0},null,{"$f":"SUM(JX39:JX53)","v":0},null,{"$f":"SUM(JZ39:JZ53)","v":0},null,{"$f":"SUM(KB39:KB53)","v":0},null,{"$f":"SUM(KD39:KD53)","v":0},null,{"$f":"SUM(KF39:KF53)","v":0},null,{"$f":"SUM(KH39:KH53)","v":0},null,{"$f":"SUM(KJ39:KJ53)","v":0},null,{"$f":"SUM(KL39:KL53)","v":0},null,{"$f":"SUM(KN39:KN53)","v":0},null,{"$f":"SUM(KP39:KP53)","v":0},null,{"$f":"SUM(KR39:KR53)","v":0},null,{"$f":"SUM(KT39:KT53)","v":0},null,{"$f":"SUM(KV39:KV53)","v":0},null,{"$f":"SUM(KX39:KX53)","v":0},null,{"$f":"SUM(KZ39:KZ53)","v":0},null,{"$f":"SUM(LB39:LB53)","v":0},null,{"$f":"SUM(LD39:LD53)","v":0},null,{"$f":"SUM(LF39:LF53)","v":0},null,{"$f":"SUM(LH39:LH53)","v":0},null,{"$f":"SUM(LJ39:LJ53)","v":0},null,{"$f":"SUM(LL39:LL53)","v":0},null,{"$f":"SUM(LN39:LN53)","v":0},null,{"$f":"SUM(LP39:LP53)","v":0},null,{"$f":"SUM(LR39:LR53)","v":0},null,{"$f":"SUM(LT39:LT53)","v":0},null,{"$f":"SUM(LV39:LV53)","v":0},null,{"$f":"SUM(LX39:LX53)","v":0},null,{"$f":"SUM(LZ39:LZ53)","v":0},null,{"$f":"SUM(MB39:MB53)","v":0},null,{"$f":"SUM(MD39:MD53)","v":0},null,{"$f":"SUM(MF39:MF53)","v":0},null,{"$f":"SUM(MH39:MH53)","v":0},null,{"$f":"SUM(MJ39:MJ53)","v":0},null,{"$f":"SUM(ML39:ML53)","v":0},null,{"$f":"SUM(MN39:MN53)","v":0},null,{"$f":"SUM(MP39:MP53)","v":0},null,{"$f":"SUM(MR39:MR53)","v":0},null,{"$f":"SUM(MT39:MT53)","v":0},null,{"$f":"SUM(MV39:MV53)","v":0},null,{"$f":"SUM(MX39:MX53)","v":0},null,{"$f":"SUM(MZ39:MZ53)","v":0},null,{"$f":"SUM(NB39:NB53)","v":0},null,{"$f":"SUM(ND39:ND53)","v":0},null,{"$f":"SUM(NF39:NF53)","v":0},null,{"$f":"SUM(NH39:NH53)","v":0},null,{"$f":"SUM(NJ39:NJ53)","v":0},null,{"$f":"SUM(NL39:NL53)","v":0},null,{"$f":"SUM(NN39:NN53)","v":0},null,{"$f":"SUM(NP39:NP53)","v":0},null,{"$f":"SUM(NR39:NR53)","v":0},null,{"$f":"SUM(NT39:NT53)","v":0},null,{"$f":"SUM(NV39:NV53)","v":0},null,{"$f":"SUM(NX39:NX53)","v":0},null,{"$f":"SUM(NZ39:NZ53)","v":0},null,{"$f":"SUM(OB39:OB53)","v":0},null,{"$f":"SUM(OD39:OD53)","v":0},null,{"$f":"SUM(OF39:OF53)","v":0},null,{"$f":"SUM(OH39:OH53)","v":0},null,{"$f":"SUM(OJ39:OJ53)","v":0},null,{"$f":"SUM(OL39:OL53)","v":0},null,{"$f":"SUM(ON39:ON53)","v":0},null,{"$f":"SUM(OP39:OP53)","v":0},null,{"$f":"SUM(OR39:OR53)","v":0},null,{"$f":"SUM(OT39:OT53)","v":0},null,{"$f":"SUM(OV39:OV53)","v":0},null,{"$f":"SUM(OX39:OX53)","v":0},null,{"$f":"SUM(OZ39:OZ53)","v":0},null,{"$f":"SUM(PB39:PB53)","v":0},null,{"$f":"SUM(PD39:PD53)","v":0},null,{"$f":"SUM(PF39:PF53)","v":0},null,{"$f":"SUM(PH39:PH53)","v":0},null,{"$f":"SUM(PJ39:PJ53)","v":0},{"$f":"SUM(PK39:PK53)","v":0},{"$f":"SUM(PL39:PL53)","v":0},{"$f":"SUM(PM39:PM53)","v":0},0,0,0,0,0,{"$f":"SUM(PS39:PS53)","v":0},{"$f":"SUM(PT39:PT53)","v":0}]
[]
[null,null,null,null,null,"Total Annual Gas Cost",null,"Total Annual Gas Cost",null,"Total Annual Gas Cost",null,"Total Annual Gas Cost",null,"Total Annual Gas Cost",null,"Total Annual Gas Cost",null,"Total Annual Gas Cost",null,"Total Annual Gas Cost",null,"Total Annual Gas Cost",null,"Total Annual Gas Cost",null,"Total Annual Gas Cost",null,"Total Annual Gas Cost",null,"Total Annual Gas Cost",null,"Total Annual Gas Cost",null,"Total Annual Gas Cost",null,"Total Annual Gas Cost",null,"Total Annual Gas Cost",null,"Total Annual Gas Cost",null,"Total Annual Gas Cost",null,"Total Annual Gas Cost",null,"Average Annual Gas  Cost",null,"Total Annual Gas Cost",null,"Total Annual Gas Cost",null,"Total Annual Gas Cost",null,"Total Annual Gas Cost",null,"Total Annual Gas Cost",null,"Total Annual Gas Cost",null,"Total Annual Gas Cost",null,"Total Annual Gas Cost",null,"Total Annual Gas Cost",null,"Total Annual Gas Cost",null,"Total Annual Gas Cost",null,"Total Annual Gas Cost",null,"Total Annual Gas Cost",null,"Total Annual Gas Cost",null,"Total Annual Gas Cost",null,"Total Annual Gas Cost",null,"Total Annual Gas Cost",null,"Total Annual Gas Cost",null,"Total Annual Gas Cost",null,"Total Annual Gas Cost",null,"Average Annual Gas  Cost",null,"Total Annual Gas Cost",null,"Total Annual Gas Cost",null,"Total Annual Gas Cost",null,"Total Annual Gas Cost",null,"Total Annual Gas Cost",null,"Total Annual Gas Cost",null,"Total Annual Gas Cost",null,"Total Annual Gas Cost",null,"Total Annual Gas Cost",null,"Total Annual Gas Cost",null,"Total Annual Gas Cost",null,"Total Annual Gas Cost",null,"Total Annual Gas Cost",null,"Total Annual Gas Cost",null,"Total Annual Gas Cost",null,"Total Annual Gas Cost",null,"Total Annual Gas Cost",null,"Total Annual Gas Cost",null,"Total Annual Gas Cost",null,"Total Annual Gas Cost",null,"Average Annual Gas  Cost",null,"Total Annual Gas Cost",null,"Total Annual Gas Cost",null,"Total Annual Gas Cost",null,"Total Annual Gas Cost",null,"Total Annual Gas Cost",null,"Total Annual Gas Cost",null,"Total Annual Gas Cost",null,"Total Annual Gas Cost",null,"Total Annual Gas Cost",null,"Total Annual Gas Cost",null,"Total Annual Gas Cost",null,"Total Annual Gas Cost",null,"Total Annual Gas Cost",null,"Total Annual Gas Cost",null,"Total Annual Gas Cost",null,"Total Annual Gas Cost",null,"Total Annual Gas Cost",null,"Total Annual Gas Cost",null,"Total Annual Gas Cost",null,"Total Annual Gas Cost",null,"Average Annual Gas  Cost",null,"Total Annual Gas Cost",null,"Total Annual Gas Cost",null,"Total Annual Gas Cost",null,"Total Annual Gas Cost",null,"Total Annual Gas Cost",null,"Total Annual Gas Cost",null,"Total Annual Gas Cost",null,"Total Annual Gas Cost",null,"Total Annual Gas Cost",null,"Total Annual Gas Cost",null,"Total Annual Gas Cost",null,"Total Annual Gas Cost",null,"Total Annual Gas Cost",null,"Total Annual Gas Cost",null,"Total Annual Gas Cost",null,"Total Annual Gas Cost",null,"Total Annual Gas Cost",null,"Total Annual Gas Cost",null,"Total Annual Gas Cost",null,"Total Annual Gas Cost",null,"Average Annual Gas  Cost",null,"Total Annual Gas Cost",null,"Total Annual Gas Cost",null,"Total Annual Gas Cost",null,"Total Annual Gas Cost",null,"Total Annual Gas Cost",null,"Total Annual Gas Cost",null,"Total Annual Gas Cost",null,"Total Annual Gas Cost",null,"Total Annual Gas Cost",null,"Total Annual Gas Cost",null,"Total Annual Gas Cost",null,"Total Annual Gas Cost",null,"Total Annual Gas Cost",null,"Total Annual Gas Cost",null,"Total Annual Gas Cost",null,"Total Annual Gas Cost",null,"Total Annual Gas Cost",null,"Total Annual Gas Cost",null,"Total Annual Gas Cost",null,"Total Annual Gas Cost",null,"Average Annual Gas  Cost",null,"Total Annual Gas Cost",null,"Total Annual Gas Cost",null,"Total Annual Gas Cost",null,"Total Annual Gas Cost",null,"Total Annual Gas Cost",null,"Total Annual Gas Cost",null,"Total Annual Gas Cost",null,"Total Annual Gas Cost",null,"Total Annual Gas Cost",null,"Total Annual Gas Cost",null,"Total Annual Gas Cost",null,"Total Annual Gas Cost",null,"Total Annual Gas Cost",null,"Total Annual Gas Cost",null,"Total Annual Gas Cost",null,"Total Annual Gas Cost",null,"Total Annual Gas Cost",null,"Total Annual Gas Cost",null,"Total Annual Gas Cost",null,"Total Annual Gas Cost",null,"Average Annual Gas  Cost",null,"Total Annual Gas Cost",null,"Total Annual Gas Cost",null,"Total Annual Gas Cost",null,"Total Annual Gas Cost",null,"Total Annual Gas Cost",null,"Total Annual Gas Cost",null,"Total Annual Gas Cost",null,"Total Annual Gas Cost",null,"Total Annual Gas Cost",null,"Total Annual Gas Cost",null,"Total Annual Gas Cost",null,"Total Annual Gas Cost",null,"Total Annual Gas Cost",null,"Total Annual Gas Cost",null,"Total Annual Gas Cost",null,"Total Annual Gas Cost",null,"Total Annual Gas Cost",null,"Total Annual Gas Cost",null,"Total Annual Gas Cost",null,"Total Annual Gas Cost",null,"Average Annual Gas  Cost",null,"Total Annual Gas Cost",null,"Total Annual Gas Cost",null,"Total Annual Gas Cost",null,"Total Annual Gas Cost",null,"Total Annual Gas Cost",null,"Total Annual Gas Cost",null,"Total Annual Gas Cost",null,"Total Annual Gas Cost",null,"Total Annual Gas Cost",null,"Total Annual Gas Cost",null,"Total Annual Gas Cost",null,"Total Annual Gas Cost",null,"Total Annual Gas Cost",null,"Total Annual Gas Cost",null,"Total Annual Gas Cost",null,"Total Annual Gas Cost",null,"Total Annual Gas Cost",null,"Total Annual Gas Cost",null,"Total Annual Gas Cost",null,"Total Annual Gas Cost",null,"Average Annual Gas  Cost",null,"Total Annual Gas Cost",null,"Total Annual Gas Cost",null,"Total Annual Gas Cost",null,"Total Annual Gas Cost",null,"Total Annual Gas Cost",null,"Total Annual Gas Cost",null,"Total Annual Gas Cost",null,"Total Annual Gas Cost",null,"Total Annual Gas Cost",null,"Total Annual Gas Cost",null,"Total Annual Gas Cost",null,"Total Annual Gas Cost",null,"Total Annual Gas Cost",null,"Total Annual Gas Cost",null,"Total Annual Gas Cost",null,"Total Annual Gas Cost",null,"Total Annual Gas Cost",null,"Total Annual Gas Cost",null,"Total Annual Gas Cost",null,"Total Annual Gas Cost",null,"Average Annual Gas  Cost",null,"Average Annual Gas  Cost","Average Annual Gas  Cost","Average Annual Gas  Cost","Average Annual Gas  Cost","Average Annual Gas  Cost","Average Annual Gas  Cost","Average Annual Gas  Cost","Average Annual Gas  Cost","Average Annual Gas  Cost","Average Annual Gas  Cost","Total In-Unit Annual Gas  Cost"]
[null,null,null,null,null,null,null,null,null,null,null,null,null,null,null,null,null,null,null,null,null,null,null,null,null,null,null,null,null,null,null,null,null,null,null,null,null,null,null,null,null,null,null,null,null,{"$f":"IF(F57>0,AVERAGE(F57:AR57),0)","v":0},null,null,null,null,null,null,null,null,null,null,null,null,null,null,null,null,null,null,null,null,null,null,null,null,null,null,null,null,null,null,null,null,null,null,null,null,null,null,null,null,null,{"$f":"IF(AV57>0,AVERAGE(AV57:CH57),0)","v":0},null,null,null,null,null,null,null,null,null,null,null,null,null,null,null,null,null,null,null,null,null,null,null,null,null,null,null,null,null,null,null,null,null,null,null,null,null,null,null,null,null,{"$f":"IF(CL57>0,AVERAGE(CN57:DY57),0)","v":0},null,null,null,null,null,null,null,null,null,null,null,null,null,null,null,null,null,null,null,null,null,null,null,null,null,null,null,null,null,null,null,null,null,null,null,null,null,null,null,null,null,{"$f":"IF(EB57>0,AVERAGE(EB57:FN57),0)","v":0},null,null,null,null,null,null,null,null,null,null,null,null,null,null,null,null,null,null,null,null,null,null,null,null,null,null,null,null,null,null,null,null,null,null,null,null,null,null,null,null,null,{"$f":"IF(FR57>0,AVERAGE(FR57:HD57),0)","v":0},null,null,null,null,null,null,null,null,null,null,null,null,null,null,null,null,null,null,null,null,null,null,null,null,null,null,null,null,null,null,null,null,null,null,null,null,null,null,null,null,null,{"$f":"IF(HH57>0,AVERAGE(HH57:IT57),0)","v":0},null,null,null,null,null,null,null,null,null,null,null,null,null,null,null,null,null,null,null,null,null,null,null,null,null,null,null,null,null,null,null,null,null,null,null,null,null,null,null,null,null,{"$f":"IF(IX57>0,AVERAGE(IX57:KJ57),0)","v":0},null,null,null,null,null,null,null,null,null,null,null,null,null,null,null,null,null,null,null,null,null,null,null,null,null,null,null,null,null,null,null,null,null,null,null,null,null,null,null,null,null,{"$f":"IF(KN57>0,AVERAGE(KN57:LZ57),0)","v":0},null,null,null,null,null,null,null,null,null,null,null,null,null,null,null,null,null,null,null,null,null,null,null,null,null,null,null,null,null,null,null,null,null,null,null,null,null,null,null,null,null,{"$f":"IF(MD57>0,AVERAGE(MD57:NP57),0)","v":0},null,null,null,null,null,null,null,null,null,null,null,null,null,null,null,null,null,null,null,null,null,null,null,null,null,null,null,null,null,null,null,null,null,null,null,null,null,null,null,null,null,{"$f":"IF(NT57>0,AVERAGE(NT57:PF57),0)","v":0},null,{"$f":"AT57","v":0},{"$f":"CJ57","v":0},{"$f":"DZ57","v":0},{"$f":"FP57","v":0},{"$f":"HF57","v":0},{"$f":"IV57","v":0},{"$f":"KL57","v":0},{"$f":"MB57","v":0},{"$f":"NR57","v":0},{"$f":"PH57","v":0},{"$f":"SUMPRODUCT($PJ$35:$PS$35,PJ57:PS57)","v":0}]
[]
[null,"Notes:",null,null,null,{"$f":"PJ9","v":"Unit Type 1"},null,null,null,null,null,null,null,null,null,null,null,null,null,null,null,null,null,null,null,null,null,null,null,null,null,null,null,null,null,null,null,null,null,null,null,null,null,null,null,null,null,{"$f":"PK9","v":"Unit Type 2"},null,null,null,null,null,null,null,null,null,null,null,null,null,null,null,null,null,null,null,null,null,null,null,null,null,null,null,null,null,null,null,null,null,null,null,null,null,null,null,null,null,{"$f":"PL9","v":"Unit Type 3"},null,null,null,null,null,null,null,null,null,null,null,null,null,null,null,null,null,null,null,null,null,null,null,null,null,null,null,null,null,null,null,null,null,null,null,null,null,null,null,null,null,{"$f":"PM9","v":"Unit Type 4"},null,null,null,null,null,null,null,null,null,null,null,null,null,null,null,null,null,null,null,null,null,null,null,null,null,null,null,null,null,null,null,null,null,null,null,null,null,null,null,null,null,{"$f":"PN9","v":"Unit Type 5"},null,null,null,null,null,null,null,null,null,null,null,null,null,null,null,null,null,null,null,null,null,null,null,null,null,null,null,null,null,null,null,null,null,null,null,null,null,null,null,null,null,{"$f":"PO9","v":"Unit Type 6"},null,null,null,null,null,null,null,null,null,null,null,null,null,null,null,null,null,null,null,null,null,null,null,null,null,null,null,null,null,null,null,null,null,null,null,null,null,null,null,null,null,{"$f":"PP9","v":"Unit Type 7"},null,null,null,null,null,null,null,null,null,null,null,null,null,null,null,null,null,null,null,null,null,null,null,null,null,null,null,null,null,null,null,null,null,null,null,null,null,null,null,null,null,{"$f":"PQ9","v":"Unit Type 8"},null,null,null,null,null,null,null,null,null,null,null,null,null,null,null,null,null,null,null,null,null,null,null,null,null,null,null,null,null,null,null,null,null,null,null,null,null,null,null,null,null,{"$f":"PR9","v":"Unit Type 9"},null,null,null,null,null,null,null,null,null,null,null,null,null,null,null,null,null,null,null,null,null,null,null,null,null,null,null,null,null,null,null,null,null,null,null,null,null,null,null,null,null,{"$f":"PS9","v":"Unit Type 10"},null,null,null,null,null,null,null,null,null,null,null,null,null,null,null,null,null,null,null,null,null,null,null,null,null,null,null,null,null,null,null,null,null,null,null,null,null,null,null,null,null,"Notes:"]
[null,null,null,null,null,"Pre-Construction Unit #","Post-Construction Unit #","Pre- Construction Use ","Post-Construction Use","Difference","% Difference",null,null,null,null,null,null,null,null,null,null,null,null,null,null,null,null,null,null,null,null,null,null,null,null,null,null,null,null,null,null,null,null,null,null,null,null,"Pre-Construction Unit #","Post-Construction Unit #","Pre- Construction Use ","Post-Construction Use","Difference","% Difference",null,null,null,null,null,null,null,null,null,null,null,null,null,null,null,null,null,null,null,null,null,null,null,null,null,null,null,null,null,null,null,null,null,null,null,null,"Pre-Construction Unit #","Post-Construction Unit #","Pre- Construction Use ","Post-Construction Use","Difference","% Difference",null,null,null,null,null,null,null,null,null,null,null,null,null,null,null,null,null,null,null,null,null,null,null,null,null,null,null,null,null,null,null,null,null,null,null,null,"Pre-Construction Unit #","Post-Construction Unit #","Pre- Construction Use ","Post-Construction Use","Difference","% Difference",null,null,null,null,null,null,null,null,null,null,null,null,null,null,null,null,null,null,null,null,null,null,null,null,null,null,null,null,null,null,null,null,null,null,null,null,"Pre-Construction Unit #","Post-Construction Unit #","Pre- Construction Use ","Post-Construction Use","Difference","% Difference",null,null,null,null,null,null,null,null,null,null,null,null,null,null,null,null,null,null,null,null,null,null,null,null,null,null,null,null,null,null,null,null,null,null,null,null,"Pre-Construction Unit #","Post-Construction Unit #","Pre- Construction Use ","Post-Construction Use","Difference","% Difference",null,null,null,null,null,null,null,null,null,null,null,null,null,null,null,null,null,null,null,null,null,null,null,null,null,null,null,null,null,null,null,null,null,null,null,null,"Pre-Construction Unit #","Post-Construction Unit #","Pre- Construction Use ","Post-Construction Use","Difference","% Difference",null,null,null,null,null,null,null,null,null,null,null,null,null,null,null,null,null,null,null,null,null,null,null,null,null,null,null,null,null,null,null,null,null,null,null,null,"Pre-Construction Unit #","Post-Construction Unit #","Pre- Construction Use ","Post-Construction Use","Difference","% Difference",null,null,null,null,null,null,null,null,null,null,null,null,null,null,null,null,null,null,null,null,null,null,null,null,null,null,null,null,null,null,null,null,null,null,null,null,"Pre-Construction Unit #","Post-Construction Unit #","Pre- Construction Use ","Post-Construction Use","Difference","% Difference",null,null,null,null,null,null,null,null,null,null,null,null,null,null,null,null,null,null,null,null,null,null,null,null,null,null,null,null,null,null,null,null,null,null,null,null,"Pre-Construction Unit #","Post-Construction Unit #","Pre- Construction Use ","Post-Construction Use","Difference","% Difference"]
[null,null,null,null,null,{"$f":"F7","v":0},{"$f":"F34","v":0},{"$f":"F27","v":0},{"$f":"F54","v":0},{"$f":"I61-H61","v":0},{"$f":"IF(H61>0,J61/H61,\"\")","v":""},null,null,null,null,null,null,null,null,null,null,null,null,null,null,null,null,null,null,null,null,null,null,null,null,null,null,null,null,null,null,null,null,null,null,null,null,{"$f":"AV7","v":0},{"$f":"AV34","v":0},{"$f":"AV27","v":0},{"$f":"AV54","v":0},{"$f":"AY61-AX61","v":0},{"$f":"IF(AX61>0,AZ61/AX61,\"\")","v":""},null,null,null,null,null,null,null,null,null,null,null,null,null,null,null,null,null,null,null,null,null,null,null,null,null,null,null,null,null,null,null,null,null,null,null,null,{"$f":"CL7","v":0},{"$f":"CL34","v":0},{"$f":"CL27","v":0},{"$f":"CL54","v":0},{"$f":"CO61-CN61","v":0},{"$f":"IF(CN61>0,CP61/CN61,\"\")","v":""},null,null,null,null,null,null,null,null,null,null,null,null,null,null,null,null,null,null,null,null,null,null,null,null,null,null,null,null,null,null,null,null,null,null,null,null,{"$f":"EB7","v":0},{"$f":"EB34","v":0},{"$f":"EB27","v":0},{"$f":"EB54","v":0},{"$f":"EE61-ED61","v":0},{"$f":"IF(ED61>0,EF61/ED61,\"\")","v":""},null,null,null,null,null,null,null,null,null,null,null,null,null,null,null,null,null,null,null,null,null,null,null,null,null,null,null,null,null,null,null,null,null,null,null,null,{"$f":"FR7","v":0},{"$f":"FR34","v":0},{"$f":"FR27","v":0},{"$f":"FR54","v":0},{"$f":"FU61-FT61","v":0},{"$f":"IF(FT61>0,FV61/FT61,\"\")","v":""},null,null,null,null,null,null,null,null,null,null,null,null,null,null,null,null,null,null,null,null,null,null,null,null,null,null,null,null,null,null,null,null,null,null,null,null,{"$f":"HH7","v":0},{"$f":"HH34","v":0},{"$f":"HH27","v":0},{"$f":"HH54","v":0},{"$f":"HK61-HJ61","v":0},{"$f":"IF(HJ61>0,HL61/HJ61,\"\")","v":""},null,null,null,null,null,null,null,null,null,null,null,null,null,null,null,null,null,null,null,null,null,null,null,null,null,null,null,null,null,null,null,null,null,null,null,null,{"$f":"IX7","v":0},{"$f":"IX34","v":0},{"$f":"IX27","v":0},{"$f":"IX54","v":0},{"$f":"JA61-IZ61","v":0},{"$f":"IF(IZ61>0,JB61/IZ61,\"\")","v":""},null,null,null,null,null,null,null,null,null,null,null,null,null,null,null,null,null,null,null,null,null,null,null,null,null,null,null,null,null,null,null,null,null,null,null,null,{"$f":"KN7","v":0},{"$f":"KN34","v":0},{"$f":"KN27","v":0},{"$f":"KN54","v":0},{"$f":"KQ61-KP61","v":0},{"$f":"IF(KP61>0,KR61/KP61,\"\")","v":""},null,null,null,null,null,null,null,null,null,null,null,null,null,null,null,null,null,null,null,null,null,null,null,null,null,null,null,null,null,null,null,null,null,null,null,null,{"$f":"MD7","v":0},{"$f":"MD34","v":0},{"$f":"MD27","v":0},{"$f":"MD54","v":0},{"$f":"MG61-MF61","v":0},{"$f":"IF(MF61>0,MH61/MF61,\"\")","v":""},null,null,null,null,null,null,null,null,null,null,null,null,null,null,null,null,null,null,null,null,null,null,null,null,null,null,null,null,null,null,null,null,null,null,null,null,{"$f":"NT7","v":0},{"$f":"NT34","v":0},{"$f":"NT27","v":0},{"$f":"NT54","v":0},{"$f":"NW61-NV61","v":0},{"$f":"IF(NV61>0,NX61/NV61,\"\")","v":""}]
[null,null,null,null,null,{"$f":"H7","v":0},{"$f":"H34","v":0},{"$f":"H27","v":0},{"$f":"H54","v":0},0,"",null,null,null,null,null,null,null,null,null,null,null,null,null,null,null,null,null,null,null,null,null,null,null,null,null,null,null,null,null,null,null,null,null,null,null,null,{"$f":"AX7","v":0},{"$f":"AX34","v":0},{"$f":"AX27","v":0},{"$f":"AX54","v":0},0,"",null,null,null,null,null,null,null,null,null,null,null,null,null,null,null,null,null,null,null,null,null,null,null,null,null,null,null,null,null,null,null,null,null,null,null,null,{"$f":"CN7","v":0},{"$f":"CN34","v":0},{"$f":"CN27","v":0},{"$f":"CN54","v":0},0,"",null,null,null,null,null,null,null,null,null,null,null,null,null,null,null,null,null,null,null,null,null,null,null,null,null,null,null,null,null,null,null,null,null,null,null,null,{"$f":"ED7","v":0},{"$f":"ED34","v":0},{"$f":"ED27","v":0},{"$f":"ED54","v":0},0,"",null,null,null,null,null,null,null,null,null,null,null,null,null,null,null,null,null,null,null,null,null,null,null,null,null,null,null,null,null,null,null,null,null,null,null,null,{"$f":"FT7","v":0},{"$f":"FT34","v":0},{"$f":"FT27","v":0},{"$f":"FT54","v":0},0,"",null,null,null,null,null,null,null,null,null,null,null,null,null,null,null,null,null,null,null,null,null,null,null,null,null,null,null,null,null,null,null,null,null,null,null,null,{"$f":"HJ7","v":0},{"$f":"HJ34","v":0},{"$f":"HJ27","v":0},{"$f":"HJ54","v":0},0,"",null,null,null,null,null,null,null,null,null,null,null,null,null,null,null,null,null,null,null,null,null,null,null,null,null,null,null,null,null,null,null,null,null,null,null,null,{"$f":"IZ7","v":0},{"$f":"IZ34","v":0},{"$f":"IZ27","v":0},{"$f":"IZ54","v":0},0,"",null,null,null,null,null,null,null,null,null,null,null,null,null,null,null,null,null,null,null,null,null,null,null,null,null,null,null,null,null,null,null,null,null,null,null,null,{"$f":"KP7","v":0},{"$f":"KP34","v":0},{"$f":"KP27","v":0},{"$f":"KP54","v":0},0,"",null,null,null,null,null,null,null,null,null,null,null,null,null,null,null,null,null,null,null,null,null,null,null,null,null,null,null,null,null,null,null,null,null,null,null,null,{"$f":"MF7","v":0},{"$f":"MF34","v":0},{"$f":"MF27","v":0},{"$f":"MF54","v":0},0,"",null,null,null,null,null,null,null,null,null,null,null,null,null,null,null,null,null,null,null,null,null,null,null,null,null,null,null,null,null,null,null,null,null,null,null,null,{"$f":"NV7","v":0},{"$f":"NV34","v":0},{"$f":"NV27","v":0},{"$f":"NV54","v":0},0,""]
[null,null,null,null,null,{"$f":"J7","v":0},{"$f":"J34","v":0},{"$f":"J27","v":0},{"$f":"J54","v":0},0,"",null,null,null,null,null,null,null,null,null,null,null,null,null,null,null,null,null,null,null,null,null,null,null,null,null,null,null,null,null,null,null,null,null,null,null,null,{"$f":"AZ7","v":0},{"$f":"AZ34","v":0},{"$f":"AZ27","v":0},{"$f":"AZ54","v":0},0,"",null,null,null,null,null,null,null,null,null,null,null,null,null,null,null,null,null,null,null,null,null,null,null,null,null,null,null,null,null,null,null,null,null,null,null,null,{"$f":"CP7","v":0},{"$f":"CP34","v":0},{"$f":"CP27","v":0},{"$f":"CP54","v":0},0,"",null,null,null,null,null,null,null,null,null,null,null,null,null,null,null,null,null,null,null,null,null,null,null,null,null,null,null,null,null,null,null,null,null,null,null,null,{"$f":"EF7","v":0},{"$f":"EF34","v":0},{"$f":"EF27","v":0},{"$f":"EF54","v":0},0,"",null,null,null,null,null,null,null,null,null,null,null,null,null,null,null,null,null,null,null,null,null,null,null,null,null,null,null,null,null,null,null,null,null,null,null,null,{"$f":"FV7","v":0},{"$f":"FV34","v":0},{"$f":"FV27","v":0},{"$f":"FV54","v":0},0,"",null,null,null,null,null,null,null,null,null,null,null,null,null,null,null,null,null,null,null,null,null,null,null,null,null,null,null,null,null,null,null,null,null,null,null,null,{"$f":"HL7","v":0},{"$f":"HL34","v":0},{"$f":"HL27","v":0},{"$f":"HL54","v":0},0,"",null,null,null,null,null,null,null,null,null,null,null,null,null,null,null,null,null,null,null,null,null,null,null,null,null,null,null,null,null,null,null,null,null,null,null,null,{"$f":"JB7","v":0},{"$f":"JB34","v":0},{"$f":"JB27","v":0},{"$f":"JB54","v":0},0,"",null,null,null,null,null,null,null,null,null,null,null,null,null,null,null,null,null,null,null,null,null,null,null,null,null,null,null,null,null,null,null,null,null,null,null,null,{"$f":"KR7","v":0},{"$f":"KR34","v":0},{"$f":"KR27","v":0},{"$f":"KR54","v":0},0,"",null,null,null,null,null,null,null,null,null,null,null,null,null,null,null,null,null,null,null,null,null,null,null,null,null,null,null,null,null,null,null,null,null,null,null,null,{"$f":"MH7","v":0},{"$f":"MH34","v":0},{"$f":"MH27","v":0},{"$f":"MH54","v":0},0,"",null,null,null,null,null,null,null,null,null,null,null,null,null,null,null,null,null,null,null,null,null,null,null,null,null,null,null,null,null,null,null,null,null,null,null,null,{"$f":"NX7","v":0},{"$f":"NX34","v":0},{"$f":"NX27","v":0},{"$f":"NX54","v":0},0,""]
[null,null,null,null,null,{"$f":"L7","v":0},{"$f":"L34","v":0},{"$f":"L27","v":0},{"$f":"L54","v":0},0,"",null,null,null,null,null,null,null,null,null,null,null,null,null,null,null,null,null,null,null,null,null,null,null,null,null,null,null,null,null,null,null,null,null,null,null,null,{"$f":"BB7","v":0},{"$f":"BB34","v":0},{"$f":"BB27","v":0},{"$f":"BB54","v":0},0,"",null,null,null,null,null,null,null,null,null,null,null,null,null,null,null,null,null,null,null,null,null,null,null,null,null,null,null,null,null,null,null,null,null,null,null,null,{"$f":"CR7","v":0},{"$f":"CR34","v":0},{"$f":"CR27","v":0},{"$f":"CR54","v":0},0,"",null,null,null,null,null,null,null,null,null,null,null,null,null,null,null,null,null,null,null,null,null,null,null,null,null,null,null,null,null,null,null,null,null,null,null,null,{"$f":"EH7","v":0},{"$f":"EH34","v":0},{"$f":"EH27","v":0},{"$f":"EH54","v":0},0,"",null,null,null,null,null,null,null,null,null,null,null,null,null,null,null,null,null,null,null,null,null,null,null,null,null,null,null,null,null,null,null,null,null,null,null,null,{"$f":"FX7","v":0},{"$f":"FX34","v":0},{"$f":"FX27","v":0},{"$f":"FX54","v":0},0,"",null,null,null,null,null,null,null,null,null,null,null,null,null,null,null,null,null,null,null,null,null,null,null,null,null,null,null,null,null,null,null,null,null,null,null,null,{"$f":"HN7","v":0},{"$f":"HN34","v":0},{"$f":"HN27","v":0},{"$f":"HN54","v":0},0,"",null,null,null,null,null,null,null,null,null,null,null,null,null,null,null,null,null,null,null,null,null,null,null,null,null,null,null,null,null,null,null,null,null,null,null,null,{"$f":"JD7","v":0},{"$f":"JD34","v":0},{"$f":"JD27","v":0},{"$f":"JD54","v":0},0,"",null,null,null,null,null,null,null,null,null,null,null,null,null,null,null,null,null,null,null,null,null,null,null,null,null,null,null,null,null,null,null,null,null,null,null,null,{"$f":"KT7","v":0},{"$f":"KT34","v":0},{"$f":"KT27","v":0},{"$f":"KT54","v":0},0,"",null,null,null,null,null,null,null,null,null,null,null,null,null,null,null,null,null,null,null,null,null,null,null,null,null,null,null,null,null,null,null,null,null,null,null,null,{"$f":"MJ7","v":0},{"$f":"MJ34","v":0},{"$f":"MJ27","v":0},{"$f":"MJ54","v":0},0,"",null,null,null,null,null,null,null,null,null,null,null,null,null,null,null,null,null,null,null,null,null,null,null,null,null,null,null,null,null,null,null,null,null,null,null,null,{"$f":"NZ7","v":0},{"$f":"NZ34","v":0},{"$f":"NZ27","v":0},{"$f":"NZ54","v":0},0,""]
[null,null,null,null,null,{"$f":"N7","v":0},{"$f":"N34","v":0},{"$f":"N27","v":0},{"$f":"N54","v":0},0,"",null,null,null,null,null,null,null,null,null,null,null,null,null,null,null,null,null,null,null,null,null,null,null,null,null,null,null,null,null,null,null,null,null,null,null,null,{"$f":"BD7","v":0},{"$f":"BD34","v":0},{"$f":"BD27","v":0},{"$f":"BD54","v":0},0,"",null,null,null,null,null,null,null,null,null,null,null,null,null,null,null,null,null,null,null,null,null,null,null,null,null,null,null,null,null,null,null,null,null,null,null,null,{"$f":"CT7","v":0},{"$f":"CT34","v":0},{"$f":"CT27","v":0},{"$f":"CT54","v":0},0,"",null,null,null,null,null,null,null,null,null,null,null,null,null,null,null,null,null,null,null,null,null,null,null,null,null,null,null,null,null,null,null,null,null,null,null,null,{"$f":"EJ7","v":0},{"$f":"EJ34","v":0},{"$f":"EJ27","v":0},{"$f":"EJ54","v":0},0,"",null,null,null,null,null,null,null,null,null,null,null,null,null,null,null,null,null,null,null,null,null,null,null,null,null,null,null,null,null,null,null,null,null,null,null,null,{"$f":"FZ7","v":0},{"$f":"FZ34","v":0},{"$f":"FZ27","v":0},{"$f":"FZ54","v":0},0,"",null,null,null,null,null,null,null,null,null,null,null,null,null,null,null,null,null,null,null,null,null,null,null,null,null,null,null,null,null,null,null,null,null,null,null,null,{"$f":"HP7","v":0},{"$f":"HP34","v":0},{"$f":"HP27","v":0},{"$f":"HP54","v":0},0,"",null,null,null,null,null,null,null,null,null,null,null,null,null,null,null,null,null,null,null,null,null,null,null,null,null,null,null,null,null,null,null,null,null,null,null,null,{"$f":"JF7","v":0},{"$f":"JF34","v":0},{"$f":"JF27","v":0},{"$f":"JF54","v":0},0,"",null,null,null,null,null,null,null,null,null,null,null,null,null,null,null,null,null,null,null,null,null,null,null,null,null,null,null,null,null,null,null,null,null,null,null,null,{"$f":"KV7","v":0},{"$f":"KV34","v":0},{"$f":"KV27","v":0},{"$f":"KV54","v":0},0,"",null,null,null,null,null,null,null,null,null,null,null,null,null,null,null,null,null,null,null,null,null,null,null,null,null,null,null,null,null,null,null,null,null,null,null,null,{"$f":"ML7","v":0},{"$f":"ML34","v":0},{"$f":"ML27","v":0},{"$f":"ML54","v":0},0,"",null,null,null,null,null,null,null,null,null,null,null,null,null,null,null,null,null,null,null,null,null,null,null,null,null,null,null,null,null,null,null,null,null,null,null,null,{"$f":"OB7","v":0},{"$f":"OB34","v":0},{"$f":"OB27","v":0},{"$f":"OB54","v":0},0,""]
[null,null,null,null,null,{"$f":"P7","v":0},{"$f":"P34","v":0},{"$f":"P27","v":0},{"$f":"P54","v":0},0,"",null,null,null,null,null,null,null,null,null,null,null,null,null,null,null,null,null,null,null,null,null,null,null,null,null,null,null,null,null,null,null,null,null,null,null,null,{"$f":"BF7","v":0},{"$f":"BF34","v":0},{"$f":"BF27","v":0},{"$f":"BF54","v":0},0,"",null,null,null,null,null,null,null,null,null,null,null,null,null,null,null,null,null,null,null,null,null,null,null,null,null,null,null,null,null,null,null,null,null,null,null,null,{"$f":"CV7","v":0},{"$f":"CV34","v":0},{"$f":"CV27","v":0},{"$f":"CV54","v":0},0,"",null,null,null,null,null,null,null,null,null,null,null,null,null,null,null,null,null,null,null,null,null,null,null,null,null,null,null,null,null,null,null,null,null,null,null,null,{"$f":"EL7","v":0},{"$f":"EL34","v":0},{"$f":"EL27","v":0},{"$f":"EL54","v":0},0,"",null,null,null,null,null,null,null,null,null,null,null,null,null,null,null,null,null,null,null,null,null,null,null,null,null,null,null,null,null,null,null,null,null,null,null,null,{"$f":"GB7","v":0},{"$f":"GB34","v":0},{"$f":"GB27","v":0},{"$f":"GB54","v":0},0,"",null,null,null,null,null,null,null,null,null,null,null,null,null,null,null,null,null,null,null,null,null,null,null,null,null,null,null,null,null,null,null,null,null,null,null,null,{"$f":"HR7","v":0},{"$f":"HR34","v":0},{"$f":"HR27","v":0},{"$f":"HR54","v":0},0,"",null,null,null,null,null,null,null,null,null,null,null,null,null,null,null,null,null,null,null,null,null,null,null,null,null,null,null,null,null,null,null,null,null,null,null,null,{"$f":"JH7","v":0},{"$f":"JH34","v":0},{"$f":"JH27","v":0},{"$f":"JH54","v":0},0,"",null,null,null,null,null,null,null,null,null,null,null,null,null,null,null,null,null,null,null,null,null,null,null,null,null,null,null,null,null,null,null,null,null,null,null,null,{"$f":"KX7","v":0},{"$f":"KX34","v":0},{"$f":"KX27","v":0},{"$f":"KX54","v":0},0,"",null,null,null,null,null,null,null,null,null,null,null,null,null,null,null,null,null,null,null,null,null,null,null,null,null,null,null,null,null,null,null,null,null,null,null,null,{"$f":"MN7","v":0},{"$f":"MN34","v":0},{"$f":"MN27","v":0},{"$f":"MN54","v":0},0,"",null,null,null,null,null,null,null,null,null,null,null,null,null,null,null,null,null,null,null,null,null,null,null,null,null,null,null,null,null,null,null,null,null,null,null,null,{"$f":"OD7","v":0},{"$f":"OD34","v":0},{"$f":"OD27","v":0},{"$f":"OD54","v":0},0,""]
[null,null,null,null,null,{"$f":"R7","v":0},{"$f":"R34","v":0},{"$f":"R27","v":0},{"$f":"R54","v":0},0,"",null,null,null,null,null,null,null,null,null,null,null,null,null,null,null,null,null,null,null,null,null,null,null,null,null,null,null,null,null,null,null,null,null,null,null,null,{"$f":"BH7","v":0},{"$f":"BH34","v":0},{"$f":"BH27","v":0},{"$f":"BH54","v":0},0,"",null,null,null,null,null,null,null,null,null,null,null,null,null,null,null,null,null,null,null,null,null,null,null,null,null,null,null,null,null,null,null,null,null,null,null,null,{"$f":"CX7","v":0},{"$f":"CX34","v":0},{"$f":"CX27","v":0},{"$f":"CX54","v":0},0,"",null,null,null,null,null,null,null,null,null,null,null,null,null,null,null,null,null,null,null,null,null,null,null,null,null,null,null,null,null,null,null,null,null,null,null,null,{"$f":"EN7","v":0},{"$f":"EN34","v":0},{"$f":"EN27","v":0},{"$f":"EN54","v":0},0,"",null,null,null,null,null,null,null,null,null,null,null,null,null,null,null,null,null,null,null,null,null,null,null,null,null,null,null,null,null,null,null,null,null,null,null,null,{"$f":"GD7","v":0},{"$f":"GD34","v":0},{"$f":"GD27","v":0},{"$f":"GD54","v":0},0,"",null,null,null,null,null,null,null,null,null,null,null,null,null,null,null,null,null,null,null,null,null,null,null,null,null,null,null,null,null,null,null,null,null,null,null,null,{"$f":"HT7","v":0},{"$f":"HT34","v":0},{"$f":"HT27","v":0},{"$f":"HT54","v":0},0,"",null,null,null,null,null,null,null,null,null,null,null,null,null,null,null,null,null,null,null,null,null,null,null,null,null,null,null,null,null,null,null,null,null,null,null,null,{"$f":"JJ7","v":0},{"$f":"JJ34","v":0},{"$f":"JJ27","v":0},{"$f":"JJ54","v":0},0,"",null,null,null,null,null,null,null,null,null,null,null,null,null,null,null,null,null,null,null,null,null,null,null,null,null,null,null,null,null,null,null,null,null,null,null,null,{"$f":"KZ7","v":0},{"$f":"KZ34","v":0},{"$f":"KZ27","v":0},{"$f":"KZ54","v":0},0,"",null,null,null,null,null,null,null,null,null,null,null,null,null,null,null,null,null,null,null,null,null,null,null,null,null,null,null,null,null,null,null,null,null,null,null,null,{"$f":"MP7","v":0},{"$f":"MP34","v":0},{"$f":"MP27","v":0},{"$f":"MP54","v":0},0,"",null,null,null,null,null,null,null,null,null,null,null,null,null,null,null,null,null,null,null,null,null,null,null,null,null,null,null,null,null,null,null,null,null,null,null,null,{"$f":"OF7","v":0},{"$f":"OF34","v":0},{"$f":"OF27","v":0},{"$f":"OF54","v":0},0,""]
[null,null,null,null,null,{"$f":"T7","v":0},{"$f":"T34","v":0},{"$f":"T27","v":0},{"$f":"T54","v":0},0,"",null,null,null,null,null,null,null,null,null,null,null,null,null,null,null,null,null,null,null,null,null,null,null,null,null,null,null,null,null,null,null,null,null,null,null,null,{"$f":"BJ7","v":0},{"$f":"BJ34","v":0},{"$f":"BJ27","v":0},{"$f":"BJ54","v":0},0,"",null,null,null,null,null,null,null,null,null,null,null,null,null,null,null,null,null,null,null,null,null,null,null,null,null,null,null,null,null,null,null,null,null,null,null,null,{"$f":"CZ7","v":0},{"$f":"CZ34","v":0},{"$f":"CZ27","v":0},{"$f":"CZ54","v":0},0,"",null,null,null,null,null,null,null,null,null,null,null,null,null,null,null,null,null,null,null,null,null,null,null,null,null,null,null,null,null,null,null,null,null,null,null,null,{"$f":"EP7","v":0},{"$f":"EP34","v":0},{"$f":"EP27","v":0},{"$f":"EP54","v":0},0,"",null,null,null,null,null,null,null,null,null,null,null,null,null,null,null,null,null,null,null,null,null,null,null,null,null,null,null,null,null,null,null,null,null,null,null,null,{"$f":"GF7","v":0},{"$f":"GF34","v":0},{"$f":"GF27","v":0},{"$f":"GF54","v":0},0,"",null,null,null,null,null,null,null,null,null,null,null,null,null,null,null,null,null,null,null,null,null,null,null,null,null,null,null,null,null,null,null,null,null,null,null,null,{"$f":"HV7","v":0},{"$f":"HV34","v":0},{"$f":"HV27","v":0},{"$f":"HV54","v":0},0,"",null,null,null,null,null,null,null,null,null,null,null,null,null,null,null,null,null,null,null,null,null,null,null,null,null,null,null,null,null,null,null,null,null,null,null,null,{"$f":"JL7","v":0},{"$f":"JL34","v":0},{"$f":"JL27","v":0},{"$f":"JL54","v":0},0,"",null,null,null,null,null,null,null,null,null,null,null,null,null,null,null,null,null,null,null,null,null,null,null,null,null,null,null,null,null,null,null,null,null,null,null,null,{"$f":"LB7","v":0},{"$f":"LB34","v":0},{"$f":"LB27","v":0},{"$f":"LB54","v":0},0,"",null,null,null,null,null,null,null,null,null,null,null,null,null,null,null,null,null,null,null,null,null,null,null,null,null,null,null,null,null,null,null,null,null,null,null,null,{"$f":"MR7","v":0},{"$f":"MR34","v":0},{"$f":"MR27","v":0},{"$f":"MR54","v":0},0,"",null,null,null,null,null,null,null,null,null,null,null,null,null,null,null,null,null,null,null,null,null,null,null,null,null,null,null,null,null,null,null,null,null,null,null,null,{"$f":"OH7","v":0},{"$f":"OH34","v":0},{"$f":"OH27","v":0},{"$f":"OH54","v":0},0,""]
[null,null,null,null,null,{"$f":"V7","v":0},{"$f":"V34","v":0},{"$f":"V27","v":0},{"$f":"V54","v":0},0,"",null,null,null,null,null,null,null,null,null,null,null,null,null,null,null,null,null,null,null,null,null,null,null,null,null,null,null,null,null,null,null,null,null,null,null,null,{"$f":"BL7","v":0},{"$f":"BL34","v":0},{"$f":"BL27","v":0},{"$f":"BL54","v":0},0,"",null,null,null,null,null,null,null,null,null,null,null,null,null,null,null,null,null,null,null,null,null,null,null,null,null,null,null,null,null,null,null,null,null,null,null,null,{"$f":"DB7","v":0},{"$f":"DB34","v":0},{"$f":"DB27","v":0},{"$f":"DB54","v":0},0,"",null,null,null,null,null,null,null,null,null,null,null,null,null,null,null,null,null,null,null,null,null,null,null,null,null,null,null,null,null,null,null,null,null,null,null,null,{"$f":"ER7","v":0},{"$f":"ER34","v":0},{"$f":"ER27","v":0},{"$f":"ER54","v":0},0,"",null,null,null,null,null,null,null,null,null,null,null,null,null,null,null,null,null,null,null,null,null,null,null,null,null,null,null,null,null,null,null,null,null,null,null,null,{"$f":"GH7","v":0},{"$f":"GH34","v":0},{"$f":"GH27","v":0},{"$f":"GH54","v":0},0,"",null,null,null,null,null,null,null,null,null,null,null,null,null,null,null,null,null,null,null,null,null,null,null,null,null,null,null,null,null,null,null,null,null,null,null,null,{"$f":"HX7","v":0},{"$f":"HX34","v":0},{"$f":"HX27","v":0},{"$f":"HX54","v":0},0,"",null,null,null,null,null,null,null,null,null,null,null,null,null,null,null,null,null,null,null,null,null,null,null,null,null,null,null,null,null,null,null,null,null,null,null,null,{"$f":"JN7","v":0},{"$f":"JN34","v":0},{"$f":"JN27","v":0},{"$f":"JN54","v":0},0,"",null,null,null,null,null,null,null,null,null,null,null,null,null,null,null,null,null,null,null,null,null,null,null,null,null,null,null,null,null,null,null,null,null,null,null,null,{"$f":"LD7","v":0},{"$f":"LD34","v":0},{"$f":"LD27","v":0},{"$f":"LD54","v":0},0,"",null,null,null,null,null,null,null,null,null,null,null,null,null,null,null,null,null,null,null,null,null,null,null,null,null,null,null,null,null,null,null,null,null,null,null,null,{"$f":"MT7","v":0},{"$f":"MT34","v":0},{"$f":"MT27","v":0},{"$f":"MT54","v":0},0,"",null,null,null,null,null,null,null,null,null,null,null,null,null,null,null,null,null,null,null,null,null,null,null,null,null,null,null,null,null,null,null,null,null,null,null,null,{"$f":"OJ7","v":0},{"$f":"OJ34","v":0},{"$f":"OJ27","v":0},{"$f":"OJ54","v":0},0,""]
[null,null,null,null,null,{"$f":"X7","v":0},{"$f":"X34","v":0},{"$f":"X27","v":0},{"$f":"X54","v":0},0,"",null,null,null,null,null,null,null,null,null,null,null,null,null,null,null,null,null,null,null,null,null,null,null,null,null,null,null,null,null,null,null,null,null,null,null,null,{"$f":"BN7","v":0},{"$f":"BN34","v":0},{"$f":"BN27","v":0},{"$f":"BN54","v":0},0,"",null,null,null,null,null,null,null,null,null,null,null,null,null,null,null,null,null,null,null,null,null,null,null,null,null,null,null,null,null,null,null,null,null,null,null,null,{"$f":"DD7","v":0},{"$f":"DD34","v":0},{"$f":"DD27","v":0},{"$f":"DD54","v":0},0,"",null,null,null,null,null,null,null,null,null,null,null,null,null,null,null,null,null,null,null,null,null,null,null,null,null,null,null,null,null,null,null,null,null,null,null,null,{"$f":"ET7","v":0},{"$f":"ET34","v":0},{"$f":"ET27","v":0},{"$f":"ET54","v":0},0,"",null,null,null,null,null,null,null,null,null,null,null,null,null,null,null,null,null,null,null,null,null,null,null,null,null,null,null,null,null,null,null,null,null,null,null,null,{"$f":"GJ7","v":0},{"$f":"GJ34","v":0},{"$f":"GJ27","v":0},{"$f":"GJ54","v":0},0,"",null,null,null,null,null,null,null,null,null,null,null,null,null,null,null,null,null,null,null,null,null,null,null,null,null,null,null,null,null,null,null,null,null,null,null,null,{"$f":"HZ7","v":0},{"$f":"HZ34","v":0},{"$f":"HZ27","v":0},{"$f":"HZ54","v":0},0,"",null,null,null,null,null,null,null,null,null,null,null,null,null,null,null,null,null,null,null,null,null,null,null,null,null,null,null,null,null,null,null,null,null,null,null,null,{"$f":"JP7","v":0},{"$f":"JP34","v":0},{"$f":"JP27","v":0},{"$f":"JP54","v":0},0,"",null,null,null,null,null,null,null,null,null,null,null,null,null,null,null,null,null,null,null,null,null,null,null,null,null,null,null,null,null,null,null,null,null,null,null,null,{"$f":"LF7","v":0},{"$f":"LF34","v":0},{"$f":"LF27","v":0},{"$f":"LF54","v":0},0,"",null,null,null,null,null,null,null,null,null,null,null,null,null,null,null,null,null,null,null,null,null,null,null,null,null,null,null,null,null,null,null,null,null,null,null,null,{"$f":"MV7","v":0},{"$f":"MV34","v":0},{"$f":"MV27","v":0},{"$f":"MV54","v":0},0,"",null,null,null,null,null,null,null,null,null,null,null,null,null,null,null,null,null,null,null,null,null,null,null,null,null,null,null,null,null,null,null,null,null,null,null,null,{"$f":"OL7","v":0},{"$f":"OL34","v":0},{"$f":"OL27","v":0},{"$f":"OL54","v":0},0,""]
[null,null,null,null,null,{"$f":"Z7","v":0},{"$f":"Z34","v":0},{"$f":"Z27","v":0},{"$f":"Z54","v":0},0,"",null,null,null,null,null,null,null,null,null,null,null,null,null,null,null,null,null,null,null,null,null,null,null,null,null,null,null,null,null,null,null,null,null,null,null,null,{"$f":"BP7","v":0},{"$f":"BP34","v":0},{"$f":"BP27","v":0},{"$f":"BP54","v":0},0,"",null,null,null,null,null,null,null,null,null,null,null,null,null,null,null,null,null,null,null,null,null,null,null,null,null,null,null,null,null,null,null,null,null,null,null,null,{"$f":"DF7","v":0},{"$f":"DF34","v":0},{"$f":"DF27","v":0},{"$f":"DF54","v":0},0,"",null,null,null,null,null,null,null,null,null,null,null,null,null,null,null,null,null,null,null,null,null,null,null,null,null,null,null,null,null,null,null,null,null,null,null,null,{"$f":"EV7","v":0},{"$f":"EV34","v":0},{"$f":"EV27","v":0},{"$f":"EV54","v":0},0,"",null,null,null,null,null,null,null,null,null,null,null,null,null,null,null,null,null,null,null,null,null,null,null,null,null,null,null,null,null,null,null,null,null,null,null,null,{"$f":"GL7","v":0},{"$f":"GL34","v":0},{"$f":"GL27","v":0},{"$f":"GL54","v":0},0,"",null,null,null,null,null,null,null,null,null,null,null,null,null,null,null,null,null,null,null,null,null,null,null,null,null,null,null,null,null,null,null,null,null,null,null,null,{"$f":"IB7","v":0},{"$f":"IB34","v":0},{"$f":"IB27","v":0},{"$f":"IB54","v":0},0,"",null,null,null,null,null,null,null,null,null,null,null,null,null,null,null,null,null,null,null,null,null,null,null,null,null,null,null,null,null,null,null,null,null,null,null,null,{"$f":"JR7","v":0},{"$f":"JR34","v":0},{"$f":"JR27","v":0},{"$f":"JR54","v":0},0,"",null,null,null,null,null,null,null,null,null,null,null,null,null,null,null,null,null,null,null,null,null,null,null,null,null,null,null,null,null,null,null,null,null,null,null,null,{"$f":"LH7","v":0},{"$f":"LH34","v":0},{"$f":"LH27","v":0},{"$f":"LH54","v":0},0,"",null,null,null,null,null,null,null,null,null,null,null,null,null,null,null,null,null,null,null,null,null,null,null,null,null,null,null,null,null,null,null,null,null,null,null,null,{"$f":"MX7","v":0},{"$f":"MX34","v":0},{"$f":"MX27","v":0},{"$f":"MX54","v":0},0,"",null,null,null,null,null,null,null,null,null,null,null,null,null,null,null,null,null,null,null,null,null,null,null,null,null,null,null,null,null,null,null,null,null,null,null,null,{"$f":"ON7","v":0},{"$f":"ON34","v":0},{"$f":"ON27","v":0},{"$f":"ON54","v":0},0,""]
[null,null,null,null,null,{"$f":"AB7","v":0},{"$f":"AB34","v":0},{"$f":"AB27","v":0},{"$f":"AB54","v":0},0,"",null,null,null,null,null,null,null,null,null,null,null,null,null,null,null,null,null,null,null,null,null,null,null,null,null,null,null,null,null,null,null,null,null,null,null,null,{"$f":"BR7","v":0},{"$f":"BR34","v":0},{"$f":"BR27","v":0},{"$f":"BR54","v":0},0,"",null,null,null,null,null,null,null,null,null,null,null,null,null,null,null,null,null,null,null,null,null,null,null,null,null,null,null,null,null,null,null,null,null,null,null,null,{"$f":"DH7","v":0},{"$f":"DH34","v":0},{"$f":"DH27","v":0},{"$f":"DH54","v":0},0,"",null,null,null,null,null,null,null,null,null,null,null,null,null,null,null,null,null,null,null,null,null,null,null,null,null,null,null,null,null,null,null,null,null,null,null,null,{"$f":"EX7","v":0},{"$f":"EX34","v":0},{"$f":"EX27","v":0},{"$f":"EX54","v":0},0,"",null,null,null,null,null,null,null,null,null,null,null,null,null,null,null,null,null,null,null,null,null,null,null,null,null,null,null,null,null,null,null,null,null,null,null,null,{"$f":"GN7","v":0},{"$f":"GN34","v":0},{"$f":"GN27","v":0},{"$f":"GN54","v":0},0,"",null,null,null,null,null,null,null,null,null,null,null,null,null,null,null,null,null,null,null,null,null,null,null,null,null,null,null,null,null,null,null,null,null,null,null,null,{"$f":"ID7","v":0},{"$f":"ID34","v":0},{"$f":"ID27","v":0},{"$f":"ID54","v":0},0,"",null,null,null,null,null,null,null,null,null,null,null,null,null,null,null,null,null,null,null,null,null,null,null,null,null,null,null,null,null,null,null,null,null,null,null,null,{"$f":"JT7","v":0},{"$f":"JT34","v":0},{"$f":"JT27","v":0},{"$f":"JT54","v":0},0,"",null,null,null,null,null,null,null,null,null,null,null,null,null,null,null,null,null,null,null,null,null,null,null,null,null,null,null,null,null,null,null,null,null,null,null,null,{"$f":"LJ7","v":0},{"$f":"LJ34","v":0},{"$f":"LJ27","v":0},{"$f":"LJ54","v":0},0,"",null,null,null,null,null,null,null,null,null,null,null,null,null,null,null,null,null,null,null,null,null,null,null,null,null,null,null,null,null,null,null,null,null,null,null,null,{"$f":"MZ7","v":0},{"$f":"MZ34","v":0},{"$f":"MZ27","v":0},{"$f":"MZ54","v":0},0,"",null,null,null,null,null,null,null,null,null,null,null,null,null,null,null,null,null,null,null,null,null,null,null,null,null,null,null,null,null,null,null,null,null,null,null,null,{"$f":"OP7","v":0},{"$f":"OP34","v":0},{"$f":"OP27","v":0},{"$f":"OP54","v":0},0,""]
[null,null,null,null,null,{"$f":"AD7","v":0},{"$f":"AD34","v":0},{"$f":"AD27","v":0},{"$f":"AD54","v":0},0,"",null,null,null,null,null,null,null,null,null,null,null,null,null,null,null,null,null,null,null,null,null,null,null,null,null,null,null,null,null,null,null,null,null,null,null,null,{"$f":"BT7","v":0},{"$f":"BT34","v":0},{"$f":"BT27","v":0},{"$f":"BT54","v":0},0,"",null,null,null,null,null,null,null,null,null,null,null,null,null,null,null,null,null,null,null,null,null,null,null,null,null,null,null,null,null,null,null,null,null,null,null,null,{"$f":"DJ7","v":0},{"$f":"DJ34","v":0},{"$f":"DJ27","v":0},{"$f":"DJ54","v":0},0,"",null,null,null,null,null,null,null,null,null,null,null,null,null,null,null,null,null,null,null,null,null,null,null,null,null,null,null,null,null,null,null,null,null,null,null,null,{"$f":"EZ7","v":0},{"$f":"EZ34","v":0},{"$f":"EZ27","v":0},{"$f":"EZ54","v":0},0,"",null,null,null,null,null,null,null,null,null,null,null,null,null,null,null,null,null,null,null,null,null,null,null,null,null,null,null,null,null,null,null,null,null,null,null,null,{"$f":"GP7","v":0},{"$f":"GP34","v":0},{"$f":"GP27","v":0},{"$f":"GP54","v":0},0,"",null,null,null,null,null,null,null,null,null,null,null,null,null,null,null,null,null,null,null,null,null,null,null,null,null,null,null,null,null,null,null,null,null,null,null,null,{"$f":"IF7","v":0},{"$f":"IF34","v":0},{"$f":"IF27","v":0},{"$f":"IF54","v":0},0,"",null,null,null,null,null,null,null,null,null,null,null,null,null,null,null,null,null,null,null,null,null,null,null,null,null,null,null,null,null,null,null,null,null,null,null,null,{"$f":"JV7","v":0},{"$f":"JV34","v":0},{"$f":"JV27","v":0},{"$f":"JV54","v":0},0,"",null,null,null,null,null,null,null,null,null,null,null,null,null,null,null,null,null,null,null,null,null,null,null,null,null,null,null,null,null,null,null,null,null,null,null,null,{"$f":"LL7","v":0},{"$f":"LL34","v":0},{"$f":"LL27","v":0},{"$f":"LL54","v":0},0,"",null,null,null,null,null,null,null,null,null,null,null,null,null,null,null,null,null,null,null,null,null,null,null,null,null,null,null,null,null,null,null,null,null,null,null,null,{"$f":"NB7","v":0},{"$f":"NB34","v":0},{"$f":"NB27","v":0},{"$f":"NB54","v":0},0,"",null,null,null,null,null,null,null,null,null,null,null,null,null,null,null,null,null,null,null,null,null,null,null,null,null,null,null,null,null,null,null,null,null,null,null,null,{"$f":"OR7","v":0},{"$f":"OR34","v":0},{"$f":"OR27","v":0},{"$f":"OR54","v":0},0,""]
[null,null,null,null,null,{"$f":"AF7","v":0},{"$f":"AF34","v":0},{"$f":"AF27","v":0},{"$f":"AF54","v":0},0,"",null,null,null,null,null,null,null,null,null,null,null,null,null,null,null,null,null,null,null,null,null,null,null,null,null,null,null,null,null,null,null,null,null,null,null,null,{"$f":"BV7","v":0},{"$f":"BV34","v":0},{"$f":"BV27","v":0},{"$f":"BV54","v":0},0,"",null,null,null,null,null,null,null,null,null,null,null,null,null,null,null,null,null,null,null,null,null,null,null,null,null,null,null,null,null,null,null,null,null,null,null,null,{"$f":"DL7","v":0},{"$f":"DL34","v":0},{"$f":"DL27","v":0},{"$f":"DL54","v":0},0,"",null,null,null,null,null,null,null,null,null,null,null,null,null,null,null,null,null,null,null,null,null,null,null,null,null,null,null,null,null,null,null,null,null,null,null,null,{"$f":"FB7","v":0},{"$f":"FB34","v":0},{"$f":"FB27","v":0},{"$f":"FB54","v":0},0,"",null,null,null,null,null,null,null,null,null,null,null,null,null,null,null,null,null,null,null,null,null,null,null,null,null,null,null,null,null,null,null,null,null,null,null,null,{"$f":"GR7","v":0},{"$f":"GR34","v":0},{"$f":"GR27","v":0},{"$f":"GR54","v":0},0,"",null,null,null,null,null,null,null,null,null,null,null,null,null,null,null,null,null,null,null,null,null,null,null,null,null,null,null,null,null,null,null,null,null,null,null,null,{"$f":"IH7","v":0},{"$f":"IH34","v":0},{"$f":"IH27","v":0},{"$f":"IH54","v":0},0,"",null,null,null,null,null,null,null,null,null,null,null,null,null,null,null,null,null,null,null,null,null,null,null,null,null,null,null,null,null,null,null,null,null,null,null,null,{"$f":"JX7","v":0},{"$f":"JX34","v":0},{"$f":"JX27","v":0},{"$f":"JX54","v":0},0,"",null,null,null,null,null,null,null,null,null,null,null,null,null,null,null,null,null,null,null,null,null,null,null,null,null,null,null,null,null,null,null,null,null,null,null,null,{"$f":"LN7","v":0},{"$f":"LN34","v":0},{"$f":"LN27","v":0},{"$f":"LN54","v":0},0,"",null,null,null,null,null,null,null,null,null,null,null,null,null,null,null,null,null,null,null,null,null,null,null,null,null,null,null,null,null,null,null,null,null,null,null,null,{"$f":"ND7","v":0},{"$f":"ND34","v":0},{"$f":"ND27","v":0},{"$f":"ND54","v":0},0,"",null,null,null,null,null,null,null,null,null,null,null,null,null,null,null,null,null,null,null,null,null,null,null,null,null,null,null,null,null,null,null,null,null,null,null,null,{"$f":"OT7","v":0},{"$f":"OT34","v":0},{"$f":"OT27","v":0},{"$f":"OT54","v":0},0,""]
[null,null,null,null,null,{"$f":"AH7","v":0},{"$f":"AH34","v":0},{"$f":"AH27","v":0},{"$f":"AH54","v":0},0,"",null,null,null,null,null,null,null,null,null,null,null,null,null,null,null,null,null,null,null,null,null,null,null,null,null,null,null,null,null,null,null,null,null,null,null,null,{"$f":"BX7","v":0},{"$f":"BX34","v":0},{"$f":"BX27","v":0},{"$f":"BX54","v":0},0,"",null,null,null,null,null,null,null,null,null,null,null,null,null,null,null,null,null,null,null,null,null,null,null,null,null,null,null,null,null,null,null,null,null,null,null,null,{"$f":"DN7","v":0},{"$f":"DN34","v":0},{"$f":"DN27","v":0},{"$f":"DN54","v":0},0,"",null,null,null,null,null,null,null,null,null,null,null,null,null,null,null,null,null,null,null,null,null,null,null,null,null,null,null,null,null,null,null,null,null,null,null,null,{"$f":"FD7","v":0},{"$f":"FD34","v":0},{"$f":"FD27","v":0},{"$f":"FD54","v":0},0,"",null,null,null,null,null,null,null,null,null,null,null,null,null,null,null,null,null,null,null,null,null,null,null,null,null,null,null,null,null,null,null,null,null,null,null,null,{"$f":"GT7","v":0},{"$f":"GT34","v":0},{"$f":"GT27","v":0},{"$f":"GT54","v":0},0,"",null,null,null,null,null,null,null,null,null,null,null,null,null,null,null,null,null,null,null,null,null,null,null,null,null,null,null,null,null,null,null,null,null,null,null,null,{"$f":"IJ7","v":0},{"$f":"IJ34","v":0},{"$f":"IJ27","v":0},{"$f":"IJ54","v":0},0,"",null,null,null,null,null,null,null,null,null,null,null,null,null,null,null,null,null,null,null,null,null,null,null,null,null,null,null,null,null,null,null,null,null,null,null,null,{"$f":"JZ7","v":0},{"$f":"JZ34","v":0},{"$f":"JZ27","v":0},{"$f":"JZ54","v":0},0,"",null,null,null,null,null,null,null,null,null,null,null,null,null,null,null,null,null,null,null,null,null,null,null,null,null,null,null,null,null,null,null,null,null,null,null,null,{"$f":"LP7","v":0},{"$f":"LP34","v":0},{"$f":"LP27","v":0},{"$f":"LP54","v":0},0,"",null,null,null,null,null,null,null,null,null,null,null,null,null,null,null,null,null,null,null,null,null,null,null,null,null,null,null,null,null,null,null,null,null,null,null,null,{"$f":"NF7","v":0},{"$f":"NF34","v":0},{"$f":"NF27","v":0},{"$f":"NF54","v":0},0,"",null,null,null,null,null,null,null,null,null,null,null,null,null,null,null,null,null,null,null,null,null,null,null,null,null,null,null,null,null,null,null,null,null,null,null,null,{"$f":"OV7","v":0},{"$f":"OV34","v":0},{"$f":"OV27","v":0},{"$f":"OV54","v":0},0,""]
[null,null,null,null,null,{"$f":"AJ7","v":0},{"$f":"AJ34","v":0},{"$f":"AJ27","v":0},{"$f":"AJ54","v":0},0,"",null,null,null,null,null,null,null,null,null,null,null,null,null,null,null,null,null,null,null,null,null,null,null,null,null,null,null,null,null,null,null,null,null,null,null,null,{"$f":"BZ7","v":0},{"$f":"BZ34","v":0},{"$f":"BZ27","v":0},{"$f":"BZ54","v":0},0,"",null,null,null,null,null,null,null,null,null,null,null,null,null,null,null,null,null,null,null,null,null,null,null,null,null,null,null,null,null,null,null,null,null,null,null,null,{"$f":"DP7","v":0},{"$f":"DP34","v":0},{"$f":"DP27","v":0},{"$f":"DP54","v":0},0,"",null,null,null,null,null,null,null,null,null,null,null,null,null,null,null,null,null,null,null,null,null,null,null,null,null,null,null,null,null,null,null,null,null,null,null,null,{"$f":"FF7","v":0},{"$f":"FF34","v":0},{"$f":"FF27","v":0},{"$f":"FF54","v":0},0,"",null,null,null,null,null,null,null,null,null,null,null,null,null,null,null,null,null,null,null,null,null,null,null,null,null,null,null,null,null,null,null,null,null,null,null,null,{"$f":"GV7","v":0},{"$f":"GV34","v":0},{"$f":"GV27","v":0},{"$f":"GV54","v":0},0,"",null,null,null,null,null,null,null,null,null,null,null,null,null,null,null,null,null,null,null,null,null,null,null,null,null,null,null,null,null,null,null,null,null,null,null,null,{"$f":"IL7","v":0},{"$f":"IL34","v":0},{"$f":"IL27","v":0},{"$f":"IL54","v":0},0,"",null,null,null,null,null,null,null,null,null,null,null,null,null,null,null,null,null,null,null,null,null,null,null,null,null,null,null,null,null,null,null,null,null,null,null,null,{"$f":"KB7","v":0},{"$f":"KB34","v":0},{"$f":"KB27","v":0},{"$f":"KB54","v":0},0,"",null,null,null,null,null,null,null,null,null,null,null,null,null,null,null,null,null,null,null,null,null,null,null,null,null,null,null,null,null,null,null,null,null,null,null,null,{"$f":"LR7","v":0},{"$f":"LR34","v":0},{"$f":"LR27","v":0},{"$f":"LR54","v":0},0,"",null,null,null,null,null,null,null,null,null,null,null,null,null,null,null,null,null,null,null,null,null,null,null,null,null,null,null,null,null,null,null,null,null,null,null,null,{"$f":"NH7","v":0},{"$f":"NH34","v":0},{"$f":"NH27","v":0},{"$f":"NH54","v":0},0,"",null,null,null,null,null,null,null,null,null,null,null,null,null,null,null,null,null,null,null,null,null,null,null,null,null,null,null,null,null,null,null,null,null,null,null,null,{"$f":"OX7","v":0},{"$f":"OX34","v":0},{"$f":"OX27","v":0},{"$f":"OX54","v":0},0,""]
[null,null,null,null,null,{"$f":"AL7","v":0},{"$f":"AL34","v":0},{"$f":"AL27","v":0},{"$f":"AL54","v":0},0,"",null,null,null,null,null,null,null,null,null,null,null,null,null,null,null,null,null,null,null,null,null,null,null,null,null,null,null,null,null,null,null,null,null,null,null,null,{"$f":"CB7","v":0},{"$f":"CB34","v":0},{"$f":"CB27","v":0},{"$f":"CB54","v":0},0,"",null,null,null,null,null,null,null,null,null,null,null,null,null,null,null,null,null,null,null,null,null,null,null,null,null,null,null,null,null,null,null,null,null,null,null,null,{"$f":"DR7","v":0},{"$f":"DR34","v":0},{"$f":"DR27","v":0},{"$f":"DR54","v":0},0,"",null,null,null,null,null,null,null,null,null,null,null,null,null,null,null,null,null,null,null,null,null,null,null,null,null,null,null,null,null,null,null,null,null,null,null,null,{"$f":"FH7","v":0},{"$f":"FH34","v":0},{"$f":"FH27","v":0},{"$f":"FH54","v":0},0,"",null,null,null,null,null,null,null,null,null,null,null,null,null,null,null,null,null,null,null,null,null,null,null,null,null,null,null,null,null,null,null,null,null,null,null,null,{"$f":"GX7","v":0},{"$f":"GX34","v":0},{"$f":"GX27","v":0},{"$f":"GX54","v":0},0,"",null,null,null,null,null,null,null,null,null,null,null,null,null,null,null,null,null,null,null,null,null,null,null,null,null,null,null,null,null,null,null,null,null,null,null,null,{"$f":"IN7","v":0},{"$f":"IN34","v":0},{"$f":"IN27","v":0},{"$f":"IN54","v":0},0,"",null,null,null,null,null,null,null,null,null,null,null,null,null,null,null,null,null,null,null,null,null,null,null,null,null,null,null,null,null,null,null,null,null,null,null,null,{"$f":"KD7","v":0},{"$f":"KD34","v":0},{"$f":"KD27","v":0},{"$f":"KD54","v":0},0,"",null,null,null,null,null,null,null,null,null,null,null,null,null,null,null,null,null,null,null,null,null,null,null,null,null,null,null,null,null,null,null,null,null,null,null,null,{"$f":"LT7","v":0},{"$f":"LT34","v":0},{"$f":"LT27","v":0},{"$f":"LT54","v":0},0,"",null,null,null,null,null,null,null,null,null,null,null,null,null,null,null,null,null,null,null,null,null,null,null,null,null,null,null,null,null,null,null,null,null,null,null,null,{"$f":"NJ7","v":0},{"$f":"NJ34","v":0},{"$f":"NJ27","v":0},{"$f":"NJ54","v":0},0,"",null,null,null,null,null,null,null,null,null,null,null,null,null,null,null,null,null,null,null,null,null,null,null,null,null,null,null,null,null,null,null,null,null,null,null,null,{"$f":"OZ7","v":0},{"$f":"OZ34","v":0},{"$f":"OZ27","v":0},{"$f":"OZ54","v":0},0,""]
[null,null,null,null,null,{"$f":"AN7","v":0},{"$f":"AN34","v":0},{"$f":"AN27","v":0},{"$f":"AN54","v":0},0,"",null,null,null,null,null,null,null,null,null,null,null,null,null,null,null,null,null,null,null,null,null,null,null,null,null,null,null,null,null,null,null,null,null,null,null,null,{"$f":"CD7","v":0},{"$f":"CD34","v":0},{"$f":"CD27","v":0},{"$f":"CD54","v":0},0,"",null,null,null,null,null,null,null,null,null,null,null,null,null,null,null,null,null,null,null,null,null,null,null,null,null,null,null,null,null,null,null,null,null,null,null,null,{"$f":"DT7","v":0},{"$f":"DT34","v":0},{"$f":"DT27","v":0},{"$f":"DT54","v":0},0,"",null,null,null,null,null,null,null,null,null,null,null,null,null,null,null,null,null,null,null,null,null,null,null,null,null,null,null,null,null,null,null,null,null,null,null,null,{"$f":"FJ7","v":0},{"$f":"FJ34","v":0},{"$f":"FJ27","v":0},{"$f":"FJ54","v":0},0,"",null,null,null,null,null,null,null,null,null,null,null,null,null,null,null,null,null,null,null,null,null,null,null,null,null,null,null,null,null,null,null,null,null,null,null,null,{"$f":"GZ7","v":0},{"$f":"GZ34","v":0},{"$f":"GZ27","v":0},{"$f":"GZ54","v":0},0,"",null,null,null,null,null,null,null,null,null,null,null,null,null,null,null,null,null,null,null,null,null,null,null,null,null,null,null,null,null,null,null,null,null,null,null,null,{"$f":"IP7","v":0},{"$f":"IP34","v":0},{"$f":"IP27","v":0},{"$f":"IP54","v":0},0,"",null,null,null,null,null,null,null,null,null,null,null,null,null,null,null,null,null,null,null,null,null,null,null,null,null,null,null,null,null,null,null,null,null,null,null,null,{"$f":"KF7","v":0},{"$f":"KF34","v":0},{"$f":"KF27","v":0},{"$f":"KF54","v":0},0,"",null,null,null,null,null,null,null,null,null,null,null,null,null,null,null,null,null,null,null,null,null,null,null,null,null,null,null,null,null,null,null,null,null,null,null,null,{"$f":"LV7","v":0},{"$f":"LV34","v":0},{"$f":"LV27","v":0},{"$f":"LV54","v":0},0,"",null,null,null,null,null,null,null,null,null,null,null,null,null,null,null,null,null,null,null,null,null,null,null,null,null,null,null,null,null,null,null,null,null,null,null,null,{"$f":"NL7","v":0},{"$f":"NL34","v":0},{"$f":"NL27","v":0},{"$f":"NL54","v":0},0,"",null,null,null,null,null,null,null,null,null,null,null,null,null,null,null,null,null,null,null,null,null,null,null,null,null,null,null,null,null,null,null,null,null,null,null,null,{"$f":"PB7","v":0},{"$f":"PB34","v":0},{"$f":"PB27","v":0},{"$f":"PB54","v":0},0,""]
[null,null,null,null,null,{"$f":"AP7","v":0},{"$f":"AP34","v":0},{"$f":"AP27","v":0},{"$f":"AP54","v":0},0,"",null,null,null,null,null,null,null,null,null,null,null,null,null,null,null,null,null,null,null,null,null,null,null,null,null,null,null,null,null,null,null,null,null,null,null,null,{"$f":"CF7","v":0},{"$f":"CF34","v":0},{"$f":"CF27","v":0},{"$f":"CF54","v":0},0,"",null,null,null,null,null,null,null,null,null,null,null,null,null,null,null,null,null,null,null,null,null,null,null,null,null,null,null,null,null,null,null,null,null,null,null,null,{"$f":"DV7","v":0},{"$f":"DV34","v":0},{"$f":"DV27","v":0},{"$f":"DV54","v":0},0,"",null,null,null,null,null,null,null,null,null,null,null,null,null,null,null,null,null,null,null,null,null,null,null,null,null,null,null,null,null,null,null,null,null,null,null,null,{"$f":"FL7","v":0},{"$f":"FL34","v":0},{"$f":"FL27","v":0},{"$f":"FL54","v":0},0,"",null,null,null,null,null,null,null,null,null,null,null,null,null,null,null,null,null,null,null,null,null,null,null,null,null,null,null,null,null,null,null,null,null,null,null,null,{"$f":"HB7","v":0},{"$f":"HB34","v":0},{"$f":"HB27","v":0},{"$f":"HB54","v":0},0,"",null,null,null,null,null,null,null,null,null,null,null,null,null,null,null,null,null,null,null,null,null,null,null,null,null,null,null,null,null,null,null,null,null,null,null,null,{"$f":"IR7","v":0},{"$f":"IR34","v":0},{"$f":"IR27","v":0},{"$f":"IR54","v":0},0,"",null,null,null,null,null,null,null,null,null,null,null,null,null,null,null,null,null,null,null,null,null,null,null,null,null,null,null,null,null,null,null,null,null,null,null,null,{"$f":"KH7","v":0},{"$f":"KH34","v":0},{"$f":"KH27","v":0},{"$f":"KH54","v":0},0,"",null,null,null,null,null,null,null,null,null,null,null,null,null,null,null,null,null,null,null,null,null,null,null,null,null,null,null,null,null,null,null,null,null,null,null,null,{"$f":"LX7","v":0},{"$f":"LX34","v":0},{"$f":"LX27","v":0},{"$f":"LX54","v":0},0,"",null,null,null,null,null,null,null,null,null,null,null,null,null,null,null,null,null,null,null,null,null,null,null,null,null,null,null,null,null,null,null,null,null,null,null,null,{"$f":"NN7","v":0},{"$f":"NN34","v":0},{"$f":"NN27","v":0},{"$f":"NN54","v":0},0,"",null,null,null,null,null,null,null,null,null,null,null,null,null,null,null,null,null,null,null,null,null,null,null,null,null,null,null,null,null,null,null,null,null,null,null,null,{"$f":"PD7","v":0},{"$f":"PD34","v":0},{"$f":"PD27","v":0},{"$f":"PD54","v":0},0,""]
[null,null,null,null,null,{"$f":"AR7","v":0},{"$f":"AR34","v":0},{"$f":"AR27","v":0},{"$f":"AR54","v":0},0,"",null,null,null,null,null,null,null,null,null,null,null,null,null,null,null,null,null,null,null,null,null,null,null,null,null,null,null,null,null,null,null,null,null,null,null,null,{"$f":"CH7","v":0},{"$f":"CH34","v":0},{"$f":"CH27","v":0},{"$f":"CH54","v":0},0,"",null,null,null,null,null,null,null,null,null,null,null,null,null,null,null,null,null,null,null,null,null,null,null,null,null,null,null,null,null,null,null,null,null,null,null,null,{"$f":"DX7","v":0},{"$f":"DX34","v":0},{"$f":"DX27","v":0},{"$f":"DX54","v":0},0,null,null,null,null,null,null,null,null,null,null,null,null,null,null,null,null,null,null,null,null,null,null,null,null,null,null,null,null,null,null,null,null,null,null,null,null,null,{"$f":"FN7","v":0},{"$f":"FN34","v":0},{"$f":"FN27","v":0},{"$f":"FN54","v":0},0,"",null,null,null,null,null,null,null,null,null,null,null,null,null,null,null,null,null,null,null,null,null,null,null,null,null,null,null,null,null,null,null,null,null,null,null,null,{"$f":"HD7","v":0},{"$f":"HD34","v":0},{"$f":"HD27","v":0},{"$f":"HD54","v":0},0,"",null,null,null,null,null,null,null,null,null,null,null,null,null,null,null,null,null,null,null,null,null,null,null,null,null,null,null,null,null,null,null,null,null,null,null,null,{"$f":"IT7","v":0},{"$f":"IT34","v":0},{"$f":"IT27","v":0},{"$f":"IT54","v":0},0,"",null,null,null,null,null,null,null,null,null,null,null,null,null,null,null,null,null,null,null,null,null,null,null,null,null,null,null,null,null,null,null,null,null,null,null,null,{"$f":"KJ7","v":0},{"$f":"KJ34","v":0},{"$f":"KJ27","v":0},{"$f":"KJ54","v":0},0,"",null,null,null,null,null,null,null,null,null,null,null,null,null,null,null,null,null,null,null,null,null,null,null,null,null,null,null,null,null,null,null,null,null,null,null,null,{"$f":"LZ7","v":0},{"$f":"LZ34","v":0},{"$f":"LZ27","v":0},{"$f":"LZ54","v":0},0,"",null,null,null,null,null,null,null,null,null,null,null,null,null,null,null,null,null,null,null,null,null,null,null,null,null,null,null,null,null,null,null,null,null,null,null,null,{"$f":"NP7","v":0},{"$f":"NP34","v":0},{"$f":"NP27","v":0},{"$f":"NP54","v":0},0,"",null,null,null,null,null,null,null,null,null,null,null,null,null,null,null,null,null,null,null,null,null,null,null,null,null,null,null,null,null,null,null,null,null,null,null,null,{"$f":"PF7","v":0},{"$f":"PF34","v":0},{"$f":"PF27","v":0},{"$f":"PF54","v":0},0,""]

{"sheet":"Oil","index":5,"n_rows":93,"n_cols":24,"rows_kept":93,"cut":false,"hidden":true,"merged":[[2,1,2,10],[89,4,89,6],[92,1,92,6],[93,1,97,6],[88,4,88,6],[4,1,5,6],[44,4,44,6],[45,4,45,6],[48,1,49,6]]}
[null,"Oil Utility Data Summary"]
[null,"Instructions"]
[null,"1) Enter data for pre-construction energy use in blue cells. Note that for the Model Calibration Tool, inventory readings, including the amount of fuel in storage at the start and end of a period and the amount used during that period, will also be required in order to assess the volume of oil consumed monthly not simply delivered.                                                                                                                                                                                                                              2) If there is on-site generation that runs on oil, please provide the oil consumed in column F.\n3) Hide any unused rows; do not delete them.\n4) Review graphs to the right for irregularities in the usage data.\n5) Post-Construction data will be filled in one year after construction has been completed.\n6) Please use the \"Notes\" field below the data entry section of this tab to explain unusual circumstances, any anomalies in the data, or adjustments made. Also, please follow Program Guidelines v4.1, Section 3.2.2 for irregular delivers, outliers, and estimated bills.\n\n"]
[]
[null,"PRE-CONSTRUCTION"]
[null,null,null,null,null,null,null,null,null,null,null,null,null,null,null,"Data for Graph:"]
[null,"Billing Period Start Date","Delivery Date","Days in Billing Period",{"$f":"\"Oil Delivery \n(\"&'Utility Info'!E7&\")\"","v":"Oil Delivery \n(<Not Used>)"},"On-Site Oil Generation\n(MMBtu)","Oil Consumption\n(MMBtu)",null,null,null,null,null,null,null,null,"Delivery Month/Day"]
[]
[null,{"$f":"C8+1","v":"1900-01-01"},null,{"$f":"IF(C9>0,C9+1-B9,0)","v":0},null,null,{"$f":"(E9+F9)*'UDAT Support'!$C$12","v":0},null,null,null,null,null,null,null,null,{"$f":"DATE(2008,MONTH(C9),DAY(C9))","v":"2007-12-31"},null,null,"Gallons",null,"Days",null,"Gal/day"]
[null,{"$f":"C9+1","v":"1900-01-01"},null,{"$f":"IF(C10>0,C10+1-B10,0)","v":0},null,null,{"$f":"(E10+F10)*'UDAT Support'!$C$12","v":0},null,null,null,null,null,null,null,null,{"$f":"DATE(2008,MONTH(C10),DAY(C10))","v":"2007-12-31"},null,"Date","Pre","Post","Pre","Post","Pre","Post"]
[null,"1900-01-01",null,0,null,null,{"$f":"(E11+F11)*'UDAT Support'!$C$12","v":0},null,null,null,null,null,null,null,null,"2007-12-31",null,"2008-01-05",{"$f":"SUMIFS($E$9:$E$42,$P$9:$P$42,\"<=\"&R11)","v":0},{"$f":"SUMIFS($E$53:$E$86,$P$53:$P$86,\"<=\"&R11)","v":0},{"$f":"SUMIFS($D$9:$D$42,$P$9:$P$42,\"<=\"&$R$11)","v":0},{"$f":"SUMIFS($D$53:$D$86,$P$53:$P$86,\"<=\"&$R$11)","v":0},{"$f":"IF(U11>0,S11/U11,0)","v":0},{"$f":"IF(V11>0,T11/V11,0)","v":0}]
[null,"1900-01-01",null,0,null,null,{"$f":"(E12+F12)*'UDAT Support'!$C$12","v":0},null,null,null,null,null,null,null,null,"2007-12-31",null,{"$f":"R11+5","v":"2008-01-10"},{"$f":"SUMIFS($E$9:$E$42,$P$9:$P$42,\">\"& R11,$P$9:$P$42,\"<=\"&R12)","v":0},{"$f":"SUMIFS($E$53:$E$86,$P$53:$P$86,\">\"& R11,$P$53:$P$86,\"<=\"&R12)","v":0},{"$f":"SUMIFS($D$9:$D$42,$P$9:$P$42,\">\"& $R11,$P$9:$P$42,\"<=\"&$R12)","v":0},{"$f":"SUMIFS($D$53:$D$86,$P$53:$P$86,\">\"& $R11,$P$53:$P$86,\"<=\"&$R12)","v":0},{"$f":"IF(U12>0,S12/U12,0)","v":0},0]
[null,"1900-01-01",null,0,null,null,{"$f":"(E13+F13)*'UDAT Support'!$C$12","v":0},null,null,null,null,null,null,null,null,"2007-12-31",null,{"$f":"R12+5","v":"2008-01-15"},0,0,0,0,0,0]
[null,"1900-01-01",null,0,null,null,{"$f":"(E14+F14)*'UDAT Support'!$C$12","v":0},null,null,null,null,null,null,null,null,"2007-12-31",null,"2008-01-20",0,0,0,0,0,0]
[null,"1900-01-01",null,0,null,null,{"$f":"(E15+F15)*'UDAT Support'!$C$12","v":0},null,null,null,null,null,null,null,null,"2007-12-31",null,"2008-01-25",0,0,0,0,0,0]
[null,"1900-01-01",null,0,null,null,{"$f":"(E16+F16)*'UDAT Support'!$C$12","v":0},null,null,null,null,null,null,null,null,"2007-12-31",null,"2008-01-30",0,0,0,0,0,0]
[null,"1900-01-01",null,0,null,null,{"$f":"(E17+F17)*'UDAT Support'!$C$12","v":0},null,null,null,null,null,null,null,null,"2007-12-31",null,"2008-02-04",0,0,0,0,0,0]
[null,"1900-01-01",null,0,null,null,{"$f":"(E18+F18)*'UDAT Support'!$C$12","v":0},null,null,null,null,null,null,null,null,"2007-12-31",null,"2008-02-09",0,0,0,0,0,0]
[null,"1900-01-01",null,0,null,null,{"$f":"(E19+F19)*'UDAT Support'!$C$12","v":0},null,null,null,null,null,null,null,null,"2007-12-31",null,"2008-02-14",0,0,0,0,0,0]
[null,"1900-01-01",null,0,null,null,{"$f":"(E20+F20)*'UDAT Support'!$C$12","v":0},null,null,null,null,null,null,null,null,"2007-12-31",null,"2008-02-19",0,0,0,0,0,0]
[null,"1900-01-01",null,0,null,null,{"$f":"(E21+F21)*'UDAT Support'!$C$12","v":0},null,null,null,null,null,null,null,null,"2007-12-31",null,"2008-02-24",0,0,0,0,0,0]
[null,"1900-01-01",null,0,null,null,{"$f":"(E22+F22)*'UDAT Support'!$C$12","v":0},null,null,null,null,null,null,null,null,"2007-12-31",null,{"$f":"R21+6","v":"2008-03-01"},0,0,0,0,0,0]
[null,"1900-01-01",null,0,null,null,{"$f":"(E23+F23)*'UDAT Support'!$C$12","v":0},null,null,null,null,null,null,null,null,"2007-12-31",null,"2008-03-06",0,0,0,0,0,0]
[null,"1900-01-01",null,0,null,null,{"$f":"(E24+F24)*'UDAT Support'!$C$12","v":0},null,null,null,null,null,null,null,null,"2007-12-31",null,"2008-03-11",0,0,0,0,0,0]
[null,"1900-01-01",null,0,null,null,{"$f":"(E25+F25)*'UDAT Support'!$C$12","v":0},null,null,null,null,null,null,null,null,"2007-12-31",null,"2008-03-16",0,0,0,0,0,0]
[null,"1900-01-01",null,0,null,null,{"$f":"(E26+F26)*'UDAT Support'!$C$12","v":0},null,null,null,null,null,null,null,null,"2007-12-31",null,"2008-03-21",0,0,0,0,0,0]
[null,"1900-01-01",null,0,null,null,{"$f":"(E27+F27)*'UDAT Support'!$C$12","v":0},null,null,null,null,null,null,null,null,"2007-12-31",null,"2008-03-26",0,0,0,0,0,0]
[null,"1900-01-01",null,0,null,null,{"$f":"(E28+F28)*'UDAT Support'!$C$12","v":0},null,null,null,null,null,null,null,null,"2007-12-31",null,"2008-03-31",0,0,0,0,0,0]
[null,"1900-01-01",null,0,null,null,{"$f":"(E29+F29)*'UDAT Support'!$C$12","v":0},null,null,null,null,null,null,null,null,"2007-12-31",null,"2008-04-05",0,0,0,0,0,0]
[null,"1900-01-01",null,0,null,null,{"$f":"(E30+F30)*'UDAT Support'!$C$12","v":0},null,null,null,null,null,null,null,null,"2007-12-31",null,"2008-04-10",0,0,0,0,0,0]
[null,"1900-01-01",null,0,null,null,{"$f":"(E31+F31)*'UDAT Support'!$C$12","v":0},null,null,null,null,null,null,null,null,"2007-12-31",null,"2008-04-15",0,0,0,0,0,0]
[null,"1900-01-01",null,0,null,null,{"$f":"(E32+F32)*'UDAT Support'!$C$12","v":0},null,null,null,null,null,null,null,null,"2007-12-31",null,"2008-04-20",0,0,0,0,0,0]
[null,"1900-01-01",null,0,null,null,{"$f":"(E33+F33)*'UDAT Support'!$C$12","v":0},null,null,null,null,null,null,null,null,"2007-12-31",null,"2008-04-25",0,0,0,0,0,0]
[null,"1900-01-01",null,0,null,null,{"$f":"(E34+F34)*'UDAT Support'!$C$12","v":0},null,null,null,null,null,null,null,null,"2007-12-31",null,"2008-04-30",0,0,0,0,0,0]
[null,"1900-01-01",null,0,null,null,{"$f":"(E35+F35)*'UDAT Support'!$C$12","v":0},null,null,null,null,null,null,null,null,"2007-12-31",null,"2008-05-05",0,0,0,0,0,0]
[null,"1900-01-01",null,0,null,null,{"$f":"(E36+F36)*'UDAT Support'!$C$12","v":0},null,null,null,null,null,null,null,null,"2007-12-31",null,"2008-05-10",0,0,0,0,0,0]
[null,"1900-01-01",null,0,null,null,{"$f":"(E37+F37)*'UDAT Support'!$C$12","v":0},null,null,null,null,null,null,null,null,"2007-12-31",null,"2008-05-15",0,0,0,0,0,0]
[null,"1900-01-01",null,0,null,null,{"$f":"(E38+F38)*'UDAT Support'!$C$12","v":0},null,null,null,null,null,null,null,null,"2007-12-31",null,"2008-05-20",0,0,0,0,0,0]
[null,"1900-01-01",null,0,null,null,{"$f":"(E39+F39)*'UDAT Support'!$C$12","v":0},null,null,null,null,null,null,null,null,"2007-12-31",null,"2008-05-25",0,0,0,0,0,0]
[null,"1900-01-01",null,0,null,null,{"$f":"(E40+F40)*'UDAT Support'!$C$12","v":0},null,null,null,null,null,null,null,null,"2007-12-31",null,"2008-05-30",0,0,0,0,0,0]
[null,"1900-01-01",null,0,null,null,{"$f":"(E41+F41)*'UDAT Support'!$C$12","v":0},null,null,null,null,null,null,null,null,"2007-12-31",null,"2008-06-04",0,0,0,0,0,0]
[null,"1900-01-01",null,0,null,null,{"$f":"(E42+F42)*'UDAT Support'!$C$12","v":0},null,null,null,null,null,null,null,null,"2007-12-31",null,"2008-06-09",0,0,0,0,0,0]
[null,null,{"$f":"IF(ABS(D43-365)>4,\"Must have 365 ± 4 days.\",\"\")","v":"Must have 365 ± 4 days."},{"$f":"SUM(D9:D42)","v":0},{"$f":"SUM(E9:E42)","v":0},{"$f":"SUM(F9:F42)","v":0},{"$f":"SUM(G9:G42)","v":0},null,null,null,null,null,null,null,null,null,null,"2008-06-14",0,0,0,0,0,0]
[null,null,null,null,null,null,null,null,null,null,null,null,null,null,null,null,null,"2008-06-19",0,0,0,0,0,0]
[null,null,null,null,"Total Annual Oil Cost",null,null,null,null,null,null,null,null,null,null,null,null,"2008-06-24",0,0,0,0,0,0]
[null,null,null,null,null,null,null,null,null,null,null,null,null,null,null,null,null,"2008-06-29",0,0,0,0,0,0]
[null,null,null,null,null,null,null,null,null,null,null,null,null,null,null,null,null,"2008-07-04",0,0,0,0,0,0]
[null,null,null,null,null,null,null,null,null,null,null,null,null,null,null,null,null,"2008-07-09",0,0,0,0,0,0]
[null,"POST-CONSTRUCTION",null,null,null,null,null,null,null,null,null,null,null,null,null,null,null,"2008-07-14",0,0,0,0,0,0]
[null,null,null,null,null,null,null,null,null,null,null,null,null,null,null,null,null,"2008-07-19",0,0,0,0,0,0]
[null,"Billing Period Start Date","Delivery Date","Days in Billing Period",{"$f":"\"Oil Delivery \n(\"&'Utility Info'!E16&\")\"","v":"Oil Delivery \n(<Not Used>)"},"On-Site Oil Generation\n(MMBtu)","Oil Consumption\n(MMBtu)",null,null,null,null,null,null,null,null,"Delivery Month/Day",null,"2008-07-24",0,0,0,0,0,0]
[null,null,null,null,null,null,null,null,null,null,null,null,null,null,null,null,null,"2008-07-29",0,0,0,0,0,0]
[null,{"$f":"C52+1","v":"1900-01-01"},null,{"$f":"IF(C53>0,C53+1-B53,0)","v":0},null,null,{"$f":"(E53+F53)*'UDAT Support'!$C$13","v":0},null,null,null,null,null,null,null,null,{"$f":"DATE(2008,MONTH(C53),DAY(C53))","v":"2007-12-31"},null,"2008-08-03",0,0,0,0,0,0]
[null,{"$f":"C53+1","v":"1900-01-01"},null,0,null,null,{"$f":"(E54+F54)*'UDAT Support'!$C$13","v":0},null,null,null,null,null,null,null,null,"2007-12-31",null,"2008-08-08",0,0,0,0,0,0]
[null,"1900-01-01",null,0,null,null,{"$f":"(E55+F55)*'UDAT Support'!$C$13","v":0},null,null,null,null,null,null,null,null,"2007-12-31",null,"2008-08-13",0,0,0,0,0,0]
[null,"1900-01-01",null,0,null,null,{"$f":"(E56+F56)*'UDAT Support'!$C$13","v":0},null,null,null,null,null,null,null,null,"2007-12-31",null,"2008-08-18",0,0,0,0,0,0]
[null,"1900-01-01",null,0,null,null,{"$f":"(E57+F57)*'UDAT Support'!$C$13","v":0},null,null,null,null,null,null,null,null,"2007-12-31",null,"2008-08-23",0,0,0,0,0,0]
[null,"1900-01-01",null,0,null,null,{"$f":"(E58+F58)*'UDAT Support'!$C$13","v":0},null,null,null,null,null,null,null,null,"2007-12-31",null,"2008-08-28",0,0,0,0,0,0]
[null,"1900-01-01",null,0,null,null,{"$f":"(E59+F59)*'UDAT Support'!$C$13","v":0},null,null,null,null,null,null,null,null,"2007-12-31",null,"2008-09-02",0,0,0,0,0,0]
[null,"1900-01-01",null,0,null,null,{"$f":"(E60+F60)*'UDAT Support'!$C$13","v":0},null,null,null,null,null,null,null,null,"2007-12-31",null,"2008-09-07",0,0,0,0,0,0]
[null,"1900-01-01",null,0,null,null,{"$f":"(E61+F61)*'UDAT Support'!$C$13","v":0},null,null,null,null,null,null,null,null,"2007-12-31",null,"2008-09-12",0,0,0,0,0,0]
[null,"1900-01-01",null,0,null,null,{"$f":"(E62+F62)*'UDAT Support'!$C$13","v":0},null,null,null,null,null,null,null,null,"2007-12-31",null,"2008-09-17",0,0,0,0,0,0]
[null,"1900-01-01",null,0,null,null,{"$f":"(E63+F63)*'UDAT Support'!$C$13","v":0},null,null,null,null,null,null,null,null,"2007-12-31",null,"2008-09-22",0,0,0,0,{"$f":"IF(U63>0,S63/U63,0)","v":0},0]
[null,"1900-01-01",null,0,null,null,{"$f":"(E64+F64)*'UDAT Support'!$C$13","v":0},null,null,null,null,null,null,null,null,"2007-12-31",null,"2008-09-27",0,0,0,0,0,0]
[null,"1900-01-01",null,0,null,null,{"$f":"(E65+F65)*'UDAT Support'!$C$13","v":0},null,null,null,null,null,null,null,null,"2007-12-31",null,"2008-10-02",0,0,0,0,0,0]
[null,"1900-01-01",null,0,null,null,{"$f":"(E66+F66)*'UDAT Support'!$C$13","v":0},null,null,null,null,null,null,null,null,"2007-12-31",null,"2008-10-07",0,0,0,0,0,0]
[null,"1900-01-01",null,0,null,null,{"$f":"(E67+F67)*'UDAT Support'!$C$13","v":0},null,null,null,null,null,null,null,null,"2007-12-31",null,"2008-10-12",0,0,0,0,0,0]
[null,"1900-01-01",null,0,null,null,{"$f":"(E68+F68)*'UDAT Support'!$C$13","v":0},null,null,null,null,null,null,null,null,"2007-12-31",null,"2008-10-17",0,0,0,0,0,0]
[null,"1900-01-01",null,0,null,null,{"$f":"(E69+F69)*'UDAT Support'!$C$13","v":0},null,null,null,null,null,null,null,null,"2007-12-31",null,{"$f":"R68+5","v":"2008-10-22"},0,0,0,0,0,0]
[null,"1900-01-01",null,0,null,null,{"$f":"(E70+F70)*'UDAT Support'!$C$13","v":0},null,null,null,null,null,null,null,null,"2007-12-31",null,"2008-10-27",0,0,0,0,0,0]
[null,"1900-01-01",null,0,null,null,{"$f":"(E71+F71)*'UDAT Support'!$C$13","v":0},null,null,null,null,null,null,null,null,"2007-12-31",null,"2008-11-01",0,0,0,0,0,0]
[null,"1900-01-01",null,0,null,null,{"$f":"(E72+F72)*'UDAT Support'!$C$13","v":0},null,null,null,null,null,null,null,null,"2007-12-31",null,"2008-11-06",0,0,0,0,0,0]
[null,"1900-01-01",null,0,null,null,{"$f":"(E73+F73)*'UDAT Support'!$C$13","v":0},null,null,null,null,null,null,null,null,"2007-12-31",null,"2008-11-11",0,0,0,0,0,0]
[null,"1900-01-01",null,0,null,null,{"$f":"(E74+F74)*'UDAT Support'!$C$13","v":0},null,null,null,null,null,null,null,null,"2007-12-31",null,"2008-11-16",0,0,0,0,0,0]
[null,"1900-01-01",null,0,null,null,{"$f":"(E75+F75)*'UDAT Support'!$C$13","v":0},null,null,null,null,null,null,null,null,"2007-12-31",null,"2008-11-21",0,0,0,0,0,0]
[null,"1900-01-01",null,0,null,null,{"$f":"(E76+F76)*'UDAT Support'!$C$13","v":0},null,null,null,null,null,null,null,null,"2007-12-31",null,"2008-11-26",{"$f":"SUMIFS($E$9:$E$42,$P$9:$P$42,\">\"& R75,$P$9:$P$42,\"<=\"&R76)","v":0},{"$f":"SUMIFS($E$53:$E$86,$P$53:$P$86,\">\"& R75,$P$53:$P$86,\"<=\"&R76)","v":0},{"$f":"SUMIFS($D$9:$D$42,$P$9:$P$42,\">\"& $R75,$P$9:$P$42,\"<=\"&$R76)","v":0},{"$f":"SUMIFS($D$53:$D$86,$P$53:$P$86,\">\"& $R75,$P$53:$P$86,\"<=\"&$R76)","v":0},0,0]
[null,"1900-01-01",null,0,null,null,{"$f":"(E77+F77)*'UDAT Support'!$C$13","v":0},null,null,null,null,null,null,null,null,"2007-12-31",null,{"$f":"R76+5","v":"2008-12-01"},0,0,0,0,0,0]
[null,"1900-01-01",null,0,null,null,{"$f":"(E78+F78)*'UDAT Support'!$C$13","v":0},null,null,null,null,null,null,null,null,"2007-12-31",null,"2008-12-06",0,0,0,0,0,0]
[null,"1900-01-01",null,0,null,null,{"$f":"(E79+F79)*'UDAT Support'!$C$13","v":0},null,null,null,null,null,null,null,null,"2007-12-31",null,"2008-12-11",0,0,0,0,0,0]
[null,"1900-01-01",null,0,null,null,{"$f":"(E80+F80)*'UDAT Support'!$C$13","v":0},null,null,null,null,null,null,null,null,"2007-12-31",null,"2008-12-16",0,0,0,0,0,0]
[null,"1900-01-01",null,0,null,null,{"$f":"(E81+F81)*'UDAT Support'!$C$13","v":0},null,null,null,null,null,null,null,null,"2007-12-31",null,"2008-12-21",0,0,0,0,0,0]
[null,"1900-01-01",null,0,null,null,{"$f":"(E82+F82)*'UDAT Support'!$C$13","v":0},null,null,null,null,null,null,null,null,"2007-12-31",null,"2008-12-26",0,0,0,0,0,0]
[null,"1900-01-01",null,0,null,null,{"$f":"(E83+F83)*'UDAT Support'!$C$13","v":0},null,null,null,null,null,null,null,null,"2007-12-31",null,{"$f":"R82+5","v":"2008-12-31"},0,0,0,0,0,0]
[null,"1900-01-01",null,0,null,null,{"$f":"(E84+F84)*'UDAT Support'!$C$13","v":0},null,null,null,null,null,null,null,null,"2007-12-31"]
[null,"1900-01-01",null,0,null,null,{"$f":"(E85+F85)*'UDAT Support'!$C$13","v":0},null,null,null,null,null,null,null,null,"2007-12-31"]
[null,"1900-01-01",null,0,null,null,{"$f":"(E86+F86)*'UDAT Support'!$C$13","v":0},null,null,null,null,null,null,null,null,"2007-12-31"]
[null,null,{"$f":"IF(ABS(D87-365)>4,\"Must have 365 ± 4 days.\",\"\")","v":"Must have 365 ± 4 days."},{"$f":"SUM(D53:D86)","v":0},{"$f":"SUM(E53:E86)","v":0},{"$f":"SUM(F53:F86)","v":0},{"$f":"SUM(G53:G86)","v":0}]
[]
[null,null,null,null,"Total Annual Oil Cost"]
[]
[]
[]
[null,"Notes:"]

{"sheet":"Propane","index":6,"n_rows":92,"n_cols":24,"rows_kept":92,"cut":false,"hidden":true,"merged":[[2,1,2,10],[89,4,89,6],[91,1,91,6],[92,1,96,6],[88,4,88,6],[4,1,5,6],[44,4,44,6],[45,4,45,6],[48,1,49,6]]}
[null,"Propane Utility Data Summary"]
[null,"Instructions"]
[null,"1) Enter data for pre-construction energy use in blue cells. Note that for the Model Calibration Tool, inventory readings, including the amount of fuel in storage at the start and end of a period and the amount used during that period, will also be required in order to assess the volume of propane consumed monthly not simply delivered.                                                                                                                                                                                                                                                                 2) If there is on-site generation that runs on propane, please provide the propane consumed in column F.\n3) Hide any unused rows; do not delete them.\n4) Review graphs to the right for irregularities in the usage data.\n5) Post-Construction data will be filled in one year after construction has been completed.\n6) Please use the \"Notes\" field below the data entry section of this tab to explain unusual circumstances, any anomalies in the data, or adjustments made. Also, please follow Program Guidelines v4.1, Section 3.2.2 for irregular delivers, outliers, and estimated bills.\n\n"]
[]
[null,"PRE-CONSTRUCTION"]
[null,null,null,null,null,null,null,null,null,null,null,null,null,null,null,"Data for Graph:"]
[null,"Billing Period Start Date","Delivery Date","Days in Billing Period",{"$f":"\"Propane Delivery \n(\"&'Utility Info'!F7&\")\"","v":"Propane Delivery \n(<Not Used>)"},"On-Site Propane Generation\n(MMBtu)","Propane Consumption\n(MMBtu)",null,null,null,null,null,null,null,null,"Delivery Month/Day"]
[]
[null,{"$f":"C8+1","v":"1900-01-01"},null,{"$f":"IF(C9>0,C9+1-B9,0)","v":0},null,null,{"$f":"(E9+F9)*'UDAT Support'!$B$37","v":0},null,null,null,null,null,null,null,null,{"$f":"DATE(2008,MONTH(C9),DAY(C9))","v":"2007-12-31"},null,null,"Gallons",null,"Days",null,"Gal/day"]
[null,{"$f":"C9+1","v":"1900-01-01"},null,{"$f":"IF(C10>0,C10+1-B10,0)","v":0},null,null,{"$f":"(E10+F10)*'UDAT Support'!$B$37","v":0},null,null,null,null,null,null,null,null,{"$f":"DATE(2008,MONTH(C10),DAY(C10))","v":"2007-12-31"},null,"Date","Pre","Post","Pre","Post","Pre","Post"]
[null,"1900-01-01",null,0,null,null,{"$f":"(E11+F11)*'UDAT Support'!$B$37","v":0},null,null,null,null,null,null,null,null,"2007-12-31",null,"2008-01-05",{"$f":"SUMIFS($E$9:$E$42,$P$9:$P$42,\"<=\"&R11)","v":0},{"$f":"SUMIFS($E$53:$E$86,$P$53:$P$86,\"<=\"&R11)","v":0},{"$f":"SUMIFS($D$9:$D$42,$P$9:$P$42,\"<=\"&$R$11)","v":0},{"$f":"SUMIFS($D$53:$D$86,$P$53:$P$86,\"<=\"&$R$11)","v":0},{"$f":"IF(U11>0,S11/U11,0)","v":0},{"$f":"IF(V11>0,T11/V11,0)","v":0}]
[null,"1900-01-01",null,0,null,null,{"$f":"(E12+F12)*'UDAT Support'!$B$37","v":0},null,null,null,null,null,null,null,null,"2007-12-31",null,{"$f":"R11+5","v":"2008-01-10"},{"$f":"SUMIFS($E$9:$E$42,$P$9:$P$42,\">\"& R11,$P$9:$P$42,\"<=\"&R12)","v":0},{"$f":"SUMIFS($E$53:$E$86,$P$53:$P$86,\">\"& R11,$P$53:$P$86,\"<=\"&R12)","v":0},{"$f":"SUMIFS($D$9:$D$42,$P$9:$P$42,\">\"& $R11,$P$9:$P$42,\"<=\"&$R12)","v":0},{"$f":"SUMIFS($D$53:$D$86,$P$53:$P$86,\">\"& $R11,$P$53:$P$86,\"<=\"&$R12)","v":0},{"$f":"IF(U12>0,S12/U12,0)","v":0},0]
[null,"1900-01-01",null,0,null,null,{"$f":"(E13+F13)*'UDAT Support'!$B$37","v":0},null,null,null,null,null,null,null,null,"2007-12-31",null,{"$f":"R12+5","v":"2008-01-15"},0,0,0,0,0,0]
[null,"1900-01-01",null,0,null,null,{"$f":"(E14+F14)*'UDAT Support'!$B$37","v":0},null,null,null,null,null,null,null,null,"2007-12-31",null,"2008-01-20",0,0,0,0,0,0]
[null,"1900-01-01",null,0,null,null,{"$f":"(E15+F15)*'UDAT Support'!$B$37","v":0},null,null,null,null,null,null,null,null,"2007-12-31",null,"2008-01-25",0,0,0,0,0,0]
[null,"1900-01-01",null,0,null,null,{"$f":"(E16+F16)*'UDAT Support'!$B$37","v":0},null,null,null,null,null,null,null,null,"2007-12-31",null,"2008-01-30",0,0,0,0,0,0]
[null,"1900-01-01",null,0,null,null,{"$f":"(E17+F17)*'UDAT Support'!$B$37","v":0},null,null,null,null,null,null,null,null,"2007-12-31",null,"2008-02-04",0,0,0,0,0,0]
[null,"1900-01-01",null,0,null,null,{"$f":"(E18+F18)*'UDAT Support'!$B$37","v":0},null,null,null,null,null,null,null,null,"2007-12-31",null,"2008-02-09",0,0,0,0,0,0]
[null,"1900-01-01",null,0,null,null,{"$f":"(E19+F19)*'UDAT Support'!$B$37","v":0},null,null,null,null,null,null,null,null,"2007-12-31",null,"2008-02-14",0,0,0,0,0,0]
[null,"1900-01-01",null,0,null,null,{"$f":"(E20+F20)*'UDAT Support'!$B$37","v":0},null,null,null,null,null,null,null,null,"2007-12-31",null,"2008-02-19",0,0,0,0,0,0]
[null,"1900-01-01",null,0,null,null,{"$f":"(E21+F21)*'UDAT Support'!$B$37","v":0},null,null,null,null,null,null,null,null,"2007-12-31",null,"2008-02-24",0,0,0,0,0,0]
[null,"1900-01-01",null,0,null,null,{"$f":"(E22+F22)*'UDAT Support'!$B$37","v":0},null,null,null,null,null,null,null,null,"2007-12-31",null,{"$f":"R21+6","v":"2008-03-01"},0,0,0,0,0,0]
[null,"1900-01-01",null,0,null,null,{"$f":"(E23+F23)*'UDAT Support'!$B$37","v":0},null,null,null,null,null,null,null,null,"2007-12-31",null,"2008-03-06",0,0,0,0,0,0]
[null,"1900-01-01",null,0,null,null,{"$f":"(E24+F24)*'UDAT Support'!$B$37","v":0},null,null,null,null,null,null,null,null,"2007-12-31",null,"2008-03-11",0,0,0,0,0,0]
[null,"1900-01-01",null,0,null,null,{"$f":"(E25+F25)*'UDAT Support'!$B$37","v":0},null,null,null,null,null,null,null,null,"2007-12-31",null,"2008-03-16",0,0,0,0,0,0]
[null,"1900-01-01",null,0,null,null,{"$f":"(E26+F26)*'UDAT Support'!$B$37","v":0},null,null,null,null,null,null,null,null,"2007-12-31",null,"2008-03-21",0,0,0,0,0,0]
[null,"1900-01-01",null,0,null,null,{"$f":"(E27+F27)*'UDAT Support'!$B$37","v":0},null,null,null,null,null,null,null,null,"2007-12-31",null,"2008-03-26",0,0,0,0,0,0]
[null,"1900-01-01",null,0,null,null,{"$f":"(E28+F28)*'UDAT Support'!$B$37","v":0},null,null,null,null,null,null,null,null,"2007-12-31",null,"2008-03-31",0,0,0,0,0,0]
[null,"1900-01-01",null,0,null,null,{"$f":"(E29+F29)*'UDAT Support'!$B$37","v":0},null,null,null,null,null,null,null,null,"2007-12-31",null,"2008-04-05",0,0,0,0,0,0]
[null,"1900-01-01",null,0,null,null,{"$f":"(E30+F30)*'UDAT Support'!$B$37","v":0},null,null,null,null,null,null,null,null,"2007-12-31",null,"2008-04-10",0,0,0,0,0,0]
[null,"1900-01-01",null,0,null,null,{"$f":"(E31+F31)*'UDAT Support'!$B$37","v":0},null,null,null,null,null,null,null,null,"2007-12-31",null,"2008-04-15",0,0,0,0,0,0]
[null,"1900-01-01",null,0,null,null,{"$f":"(E32+F32)*'UDAT Support'!$B$37","v":0},null,null,null,null,null,null,null,null,"2007-12-31",null,"2008-04-20",0,0,0,0,0,0]
[null,"1900-01-01",null,0,null,null,{"$f":"(E33+F33)*'UDAT Support'!$B$37","v":0},null,null,null,null,null,null,null,null,"2007-12-31",null,"2008-04-25",0,0,0,0,0,0]
[null,"1900-01-01",null,0,null,null,{"$f":"(E34+F34)*'UDAT Support'!$B$37","v":0},null,null,null,null,null,null,null,null,"2007-12-31",null,"2008-04-30",0,0,0,0,0,0]
[null,"1900-01-01",null,0,null,null,{"$f":"(E35+F35)*'UDAT Support'!$B$37","v":0},null,null,null,null,null,null,null,null,"2007-12-31",null,"2008-05-05",0,0,0,0,0,0]
[null,"1900-01-01",null,0,null,null,{"$f":"(E36+F36)*'UDAT Support'!$B$37","v":0},null,null,null,null,null,null,null,null,"2007-12-31",null,"2008-05-10",0,0,0,0,0,0]
[null,"1900-01-01",null,0,null,null,{"$f":"(E37+F37)*'UDAT Support'!$B$37","v":0},null,null,null,null,null,null,null,null,"2007-12-31",null,"2008-05-15",0,0,0,0,0,0]
[null,"1900-01-01",null,0,null,null,{"$f":"(E38+F38)*'UDAT Support'!$B$37","v":0},null,null,null,null,null,null,null,null,"2007-12-31",null,"2008-05-20",0,0,0,0,0,0]
[null,"1900-01-01",null,0,null,null,{"$f":"(E39+F39)*'UDAT Support'!$B$37","v":0},null,null,null,null,null,null,null,null,"2007-12-31",null,"2008-05-25",0,0,0,0,0,0]
[null,"1900-01-01",null,0,null,null,{"$f":"(E40+F40)*'UDAT Support'!$B$37","v":0},null,null,null,null,null,null,null,null,"2007-12-31",null,"2008-05-30",0,0,0,0,0,0]
[null,"1900-01-01",null,0,null,null,{"$f":"(E41+F41)*'UDAT Support'!$B$37","v":0},null,null,null,null,null,null,null,null,"2007-12-31",null,"2008-06-04",0,0,0,0,0,0]
[null,"1900-01-01",null,0,null,null,{"$f":"(E42+F42)*'UDAT Support'!$B$37","v":0},null,null,null,null,null,null,null,null,"2007-12-31",null,"2008-06-09",0,0,0,0,0,0]
[null,null,{"$f":"IF(ABS(D43-365)>4,\"Must have 365 ± 4 days.\",\"\")","v":"Must have 365 ± 4 days."},{"$f":"SUM(D9:D42)","v":0},{"$f":"SUM(E9:E42)","v":0},{"$f":"SUM(F9:F42)","v":0},{"$f":"SUM(G9:G42)","v":0},null,null,null,null,null,null,null,null,null,null,"2008-06-14",0,0,0,0,0,0]
[null,null,null,null,null,null,null,null,null,null,null,null,null,null,null,null,null,"2008-06-19",0,0,0,0,0,0]
[null,null,null,null,"Total Annual Propane Cost",null,null,null,null,null,null,null,null,null,null,null,null,"2008-06-24",0,0,0,0,0,0]
[null,null,null,null,null,null,null,null,null,null,null,null,null,null,null,null,null,"2008-06-29",0,0,0,0,0,0]
[null,null,null,null,null,null,null,null,null,null,null,null,null,null,null,null,null,"2008-07-04",0,0,0,0,0,0]
[null,null,null,null,null,null,null,null,null,null,null,null,null,null,null,null,null,"2008-07-09",0,0,0,0,0,0]
[null,"POST-CONSTRUCTION",null,null,null,null,null,null,null,null,null,null,null,null,null,null,null,"2008-07-14",0,0,0,0,0,0]
[null,null,null,null,null,null,null,null,null,null,null,null,null,null,null,null,null,"2008-07-19",0,0,0,0,0,0]
[null,"Billing Period Start Date","Delivery Date","Days in Billing Period",{"$f":"\"Propane Delivery \n(\"&'Utility Info'!F16&\")\"","v":"Propane Delivery \n(<Not Used>)"},"On-Site Propane Generation\n(MMBtu)","Propane Consumption\n(MMBtu)",null,null,null,null,null,null,null,null,"Delivery Month/Day",null,"2008-07-24",0,0,0,0,0,0]
[null,null,null,null,null,null,null,null,null,null,null,null,null,null,null,null,null,"2008-07-29",0,0,0,0,0,0]
[null,{"$f":"C52+1","v":"1900-01-01"},null,{"$f":"IF(C53>0,C53+1-B53,0)","v":0},null,null,{"$f":"(E53+F53)*'UDAT Support'!$B$37","v":0},null,null,null,null,null,null,null,null,{"$f":"DATE(2008,MONTH(C53),DAY(C53))","v":"2007-12-31"},null,"2008-08-03",0,0,0,0,0,0]
[null,{"$f":"C53+1","v":"1900-01-01"},null,0,null,null,{"$f":"(E54+F54)*'UDAT Support'!$B$37","v":0},null,null,null,null,null,null,null,null,"2007-12-31",null,"2008-08-08",0,0,0,0,0,0]
[null,"1900-01-01",null,0,null,null,{"$f":"(E55+F55)*'UDAT Support'!$B$37","v":0},null,null,null,null,null,null,null,null,"2007-12-31",null,"2008-08-13",0,0,0,0,0,0]
[null,"1900-01-01",null,0,null,null,{"$f":"(E56+F56)*'UDAT Support'!$B$37","v":0},null,null,null,null,null,null,null,null,"2007-12-31",null,"2008-08-18",0,0,0,0,0,0]
[null,"1900-01-01",null,0,null,null,{"$f":"(E57+F57)*'UDAT Support'!$B$37","v":0},null,null,null,null,null,null,null,null,"2007-12-31",null,"2008-08-23",0,0,0,0,0,0]
[null,"1900-01-01",null,0,null,null,{"$f":"(E58+F58)*'UDAT Support'!$B$37","v":0},null,null,null,null,null,null,null,null,"2007-12-31",null,"2008-08-28",0,0,0,0,0,0]
[null,"1900-01-01",null,0,null,null,{"$f":"(E59+F59)*'UDAT Support'!$B$37","v":0},null,null,null,null,null,null,null,null,"2007-12-31",null,"2008-09-02",0,0,0,0,0,0]
[null,"1900-01-01",null,0,null,null,{"$f":"(E60+F60)*'UDAT Support'!$B$37","v":0},null,null,null,null,null,null,null,null,"2007-12-31",null,"2008-09-07",0,0,0,0,0,0]
[null,"1900-01-01",null,0,null,null,{"$f":"(E61+F61)*'UDAT Support'!$B$37","v":0},null,null,null,null,null,null,null,null,"2007-12-31",null,"2008-09-12",0,0,0,0,0,0]
[null,"1900-01-01",null,0,null,null,{"$f":"(E62+F62)*'UDAT Support'!$B$37","v":0},null,null,null,null,null,null,null,null,"2007-12-31",null,"2008-09-17",0,0,0,0,0,0]
[null,"1900-01-01",null,0,null,null,{"$f":"(E63+F63)*'UDAT Support'!$B$37","v":0},null,null,null,null,null,null,null,null,"2007-12-31",null,"2008-09-22",0,0,0,0,{"$f":"IF(U63>0,S63/U63,0)","v":0},0]
[null,"1900-01-01",null,0,null,null,{"$f":"(E64+F64)*'UDAT Support'!$B$37","v":0},null,null,null,null,null,null,null,null,"2007-12-31",null,"2008-09-27",0,0,0,0,0,0]
[null,"1900-01-01",null,0,null,null,{"$f":"(E65+F65)*'UDAT Support'!$B$37","v":0},null,null,null,null,null,null,null,null,"2007-12-31",null,"2008-10-02",0,0,0,0,0,0]
[null,"1900-01-01",null,0,null,null,{"$f":"(E66+F66)*'UDAT Support'!$B$37","v":0},null,null,null,null,null,null,null,null,"2007-12-31",null,"2008-10-07",0,0,0,0,0,0]
[null,"1900-01-01",null,0,null,null,{"$f":"(E67+F67)*'UDAT Support'!$B$37","v":0},null,null,null,null,null,null,null,null,"2007-12-31",null,"2008-10-12",0,0,0,0,0,0]
[null,"1900-01-01",null,0,null,null,{"$f":"(E68+F68)*'UDAT Support'!$B$37","v":0},null,null,null,null,null,null,null,null,"2007-12-31",null,"2008-10-17",0,0,0,0,0,0]
[null,"1900-01-01",null,0,null,null,{"$f":"(E69+F69)*'UDAT Support'!$B$37","v":0},null,null,null,null,null,null,null,null,"2007-12-31",null,{"$f":"R68+5","v":"2008-10-22"},0,0,0,0,0,0]
[null,"1900-01-01",null,0,null,null,{"$f":"(E70+F70)*'UDAT Support'!$B$37","v":0},null,null,null,null,null,null,null,null,"2007-12-31",null,"2008-10-27",0,0,0,0,0,0]
[null,"1900-01-01",null,0,null,null,{"$f":"(E71+F71)*'UDAT Support'!$B$37","v":0},null,null,null,null,null,null,null,null,"2007-12-31",null,"2008-11-01",0,0,0,0,0,0]
[null,"1900-01-01",null,0,null,null,{"$f":"(E72+F72)*'UDAT Support'!$B$37","v":0},null,null,null,null,null,null,null,null,"2007-12-31",null,"2008-11-06",0,0,0,0,0,0]
[null,"1900-01-01",null,0,null,null,{"$f":"(E73+F73)*'UDAT Support'!$B$37","v":0},null,null,null,null,null,null,null,null,"2007-12-31",null,"2008-11-11",0,0,0,0,0,0]
[null,"1900-01-01",null,0,null,null,{"$f":"(E74+F74)*'UDAT Support'!$B$37","v":0},null,null,null,null,null,null,null,null,"2007-12-31",null,"2008-11-16",0,0,0,0,0,0]
[null,"1900-01-01",null,0,null,null,{"$f":"(E75+F75)*'UDAT Support'!$B$37","v":0},null,null,null,null,null,null,null,null,"2007-12-31",null,"2008-11-21",0,0,0,0,0,0]
[null,"1900-01-01",null,0,null,null,{"$f":"(E76+F76)*'UDAT Support'!$B$37","v":0},null,null,null,null,null,null,null,null,"2007-12-31",null,"2008-11-26",{"$f":"SUMIFS($E$9:$E$42,$P$9:$P$42,\">\"& R75,$P$9:$P$42,\"<=\"&R76)","v":0},{"$f":"SUMIFS($E$53:$E$86,$P$53:$P$86,\">\"& R75,$P$53:$P$86,\"<=\"&R76)","v":0},{"$f":"SUMIFS($D$9:$D$42,$P$9:$P$42,\">\"& $R75,$P$9:$P$42,\"<=\"&$R76)","v":0},{"$f":"SUMIFS($D$53:$D$86,$P$53:$P$86,\">\"& $R75,$P$53:$P$86,\"<=\"&$R76)","v":0},0,0]
[null,"1900-01-01",null,0,null,null,{"$f":"(E77+F77)*'UDAT Support'!$B$37","v":0},null,null,null,null,null,null,null,null,"2007-12-31",null,{"$f":"R76+5","v":"2008-12-01"},0,0,0,0,0,0]
[null,"1900-01-01",null,0,null,null,{"$f":"(E78+F78)*'UDAT Support'!$B$37","v":0},null,null,null,null,null,null,null,null,"2007-12-31",null,"2008-12-06",0,0,0,0,0,0]
[null,"1900-01-01",null,0,null,null,{"$f":"(E79+F79)*'UDAT Support'!$B$37","v":0},null,null,null,null,null,null,null,null,"2007-12-31",null,"2008-12-11",0,0,0,0,0,0]
[null,"1900-01-01",null,0,null,null,{"$f":"(E80+F80)*'UDAT Support'!$B$37","v":0},null,null,null,null,null,null,null,null,"2007-12-31",null,"2008-12-16",0,0,0,0,0,0]
[null,"1900-01-01",null,0,null,null,{"$f":"(E81+F81)*'UDAT Support'!$B$37","v":0},null,null,null,null,null,null,null,null,"2007-12-31",null,"2008-12-21",0,0,0,0,0,0]
[null,"1900-01-01",null,0,null,null,{"$f":"(E82+F82)*'UDAT Support'!$B$37","v":0},null,null,null,null,null,null,null,null,"2007-12-31",null,"2008-12-26",0,0,0,0,0,0]
[null,"1900-01-01",null,0,null,null,{"$f":"(E83+F83)*'UDAT Support'!$B$37","v":0},null,null,null,null,null,null,null,null,"2007-12-31",null,{"$f":"R82+5","v":"2008-12-31"},0,0,0,0,0,0]
[null,"1900-01-01",null,0,null,null,{"$f":"(E84+F84)*'UDAT Support'!$B$37","v":0},null,null,null,null,null,null,null,null,"2007-12-31"]
[null,"1900-01-01",null,0,null,null,{"$f":"(E85+F85)*'UDAT Support'!$B$37","v":0},null,null,null,null,null,null,null,null,"2007-12-31"]
[null,"1900-01-01",null,0,null,null,{"$f":"(E86+F86)*'UDAT Support'!$B$37","v":0},null,null,null,null,null,null,null,null,"2007-12-31"]
[null,null,{"$f":"IF(ABS(D87-365)>4,\"Must have 365 ± 4 days.\",\"\")","v":"Must have 365 ± 4 days."},{"$f":"SUM(D53:D86)","v":0},{"$f":"SUM(E53:E86)","v":0},{"$f":"SUM(F53:F86)","v":0},{"$f":"SUM(G53:G86)","v":0}]
[]
[null,null,null,null,"Total Annual Propane Cost"]
[]
[]
[null,"Notes:"]

{"sheet":"Steam","index":7,"n_rows":53,"n_cols":53,"rows_kept":53,"cut":false,"hidden":true,"merged":[[93,4,93,5],[94,4,94,5],[2,1,2,7],[4,1,5,7],[28,1,29,7],[52,1,52,4],[53,1,57,4]]}
[null,"Steam Utility Data Summary"]
[null,"Instructions"]
[null,"1) Enter data for pre-construction energy use in blue cells. Please ensure beginning and end read dates are 'Actual'.                                                                                                                                                                                              2) If there is on-site generation that runs on purchased steam (vs. repurposed), please provide the steam consumed in column G. Alternitavely, if there is on-site generation that provides steam to the site (e.g. CHP/cogen), please include steam consumed in column G. \n3) Hide any unused rows; do not delete them.\n4) Review graphs to the right for irregularities in the usage data.\n5) Post-Construction data will be filled in one year after construction has been completed.\n6) Please use the \"Notes\" field below the data entry section of this tab to explain unusual circumstances, any anomalies in the data, or adjustments made. Also, please follow Program Guidelines v4.1, Section 3.2.2 for irregular delivers, outliers, and estimated bills.\n\n"]
[]
[null,"PRE-CONSTRUCTION"]
[null,null,null,null,null,null,null,null,null,null,null,null,null,null,null,"Data for Graphs:"]
[null,"Billing Period Start Date","Read Date","Days in Billing Period",{"$f":"\"Steam Consumption\n(\"&'Utility Info'!G7&\")\"","v":"Steam Consumption\n(<Not Used>)"},"Actual/ Estimated","On-Site Steam Generation\n(MMBtu)","Steam Consumption\n(MMBtu)",null,null,null,null,null,null,null,"Reference Date","Month",null,"Months","Steam Pre","Steam Post",null,null,null,null,null,null,null,null,null,null,null,null,null,null,null,null,null,null,null,null,null,null,null,null,null,null,null,null,null,null,null,"In-Unit Post"]
[]
[null,{"$f":"C8+1","v":"1900-01-01"},null,{"$f":"IF(C9>0,C9+1-B9,0)","v":0},null,null,null,{"$f":"(E9+G9)*'UDAT Support'!$C$24","v":0},null,null,null,null,null,null,null,{"$f":"DATE(YEAR(C9),MONTH(C9),1)","v":"1900-01-01"},{"$f":"IF((P9-B9)>(C9-P9),MONTH(B9),MONTH(C9))","v":1},null,"2012-01-15",{"$f":"SUMIF($Q$9:$Q$23,MONTH($S9),$H$9:$H$23)","v":0},{"$f":"SUMIF($Q$33:$Q$47,MONTH($S9),$H$33:$H$47)","v":0},null,null,null,null,null,null,null,null,null,null,null,null,null,null,null,null,null,null,null,null,null,null,null,null,null,null,null,null,null,null,null,{"$f":"SUMIF($AT$35:$AT$49,MONTH($S9),$AH$35:$AH$49)","v":0}]
[null,{"$f":"C9+1","v":"1900-01-01"},null,0,null,null,null,{"$f":"(E10+G10)*'UDAT Support'!$C$24","v":0},null,null,null,null,null,null,null,"1900-01-01",1,null,"2012-02-15",{"$f":"SUMIF($Q$9:$Q$23,MONTH($S10),$H$9:$H$23)","v":0},0,null,null,null,null,null,null,null,null,null,null,null,null,null,null,null,null,null,null,null,null,null,null,null,null,null,null,null,null,null,null,null,0]
[null,"1900-01-01",null,0,null,null,null,{"$f":"(E11+G11)*'UDAT Support'!$C$24","v":0},null,null,null,null,null,null,null,"1900-01-01",1,null,"2012-03-15",0,0,null,null,null,null,null,null,null,null,null,null,null,null,null,null,null,null,null,null,null,null,null,null,null,null,null,null,null,null,null,null,null,0]
[null,"1900-01-01",null,0,null,null,null,{"$f":"(E12+G12)*'UDAT Support'!$C$24","v":0},null,null,null,null,null,null,null,"1900-01-01",1,null,"2012-04-15",0,0,null,null,null,null,null,null,null,null,null,null,null,null,null,null,null,null,null,null,null,null,null,null,null,null,null,null,null,null,null,null,null,0]
[null,"1900-01-01",null,0,null,null,null,{"$f":"(E13+G13)*'UDAT Support'!$C$24","v":0},null,null,null,null,null,null,null,"1900-01-01",1,null,"2012-05-15",0,0,null,null,null,null,null,null,null,null,null,null,null,null,null,null,null,null,null,null,null,null,null,null,null,null,null,null,null,null,null,null,null,0]
[null,"1900-01-01",null,0,null,null,null,{"$f":"(E14+G14)*'UDAT Support'!$C$24","v":0},null,null,null,null,null,null,null,"1900-01-01",1,null,"2012-06-15",0,0,null,null,null,null,null,null,null,null,null,null,null,null,null,null,null,null,null,null,null,null,null,null,null,null,null,null,null,null,null,null,null,0]
[null,"1900-01-01",null,0,null,null,null,{"$f":"(E15+G15)*'UDAT Support'!$C$24","v":0},null,null,null,null,null,null,null,"1900-01-01",1,null,"2012-07-15",0,0,null,null,null,null,null,null,null,null,null,null,null,null,null,null,null,null,null,null,null,null,null,null,null,null,null,null,null,null,null,null,null,0]
[null,"1900-01-01",null,0,null,null,null,{"$f":"(E16+G16)*'UDAT Support'!$C$24","v":0},null,null,null,null,null,null,null,"1900-01-01",1,null,"2012-08-15",0,0,null,null,null,null,null,null,null,null,null,null,null,null,null,null,null,null,null,null,null,null,null,null,null,null,null,null,null,null,null,null,null,0]
[null,"1900-01-01",null,0,null,null,null,{"$f":"(E17+G17)*'UDAT Support'!$C$24","v":0},null,null,null,null,null,null,null,"1900-01-01",1,null,"2012-09-15",0,0,null,null,null,null,null,null,null,null,null,null,null,null,null,null,null,null,null,null,null,null,null,null,null,null,null,null,null,null,null,null,null,0]
[null,"1900-01-01",null,0,null,null,null,{"$f":"(E18+G18)*'UDAT Support'!$C$24","v":0},null,null,null,null,null,null,null,"1900-01-01",1,null,"2012-10-15",0,0,null,null,null,null,null,null,null,null,null,null,null,null,null,null,null,null,null,null,null,null,null,null,null,null,null,null,null,null,null,null,null,0]
[null,"1900-01-01",null,0,null,null,null,{"$f":"(E19+G19)*'UDAT Support'!$C$24","v":0},null,null,null,null,null,null,null,"1900-01-01",1,null,"2012-11-15",0,0,null,null,null,null,null,null,null,null,null,null,null,null,null,null,null,null,null,null,null,null,null,null,null,null,null,null,null,null,null,null,null,0]
[null,"1900-01-01",null,0,null,null,null,{"$f":"(E20+G20)*'UDAT Support'!$C$24","v":0},null,null,null,null,null,null,null,"1900-01-01",1,null,"2012-12-15",0,0,null,null,null,null,null,null,null,null,null,null,null,null,null,null,null,null,null,null,null,null,null,null,null,null,null,null,null,null,null,null,null,0]
[null,"1900-01-01",null,0,null,null,null,{"$f":"(E21+G21)*'UDAT Support'!$C$24","v":0},null,null,null,null,null,null,null,"1900-01-01",1]
[null,"1900-01-01",null,0,null,null,null,{"$f":"(E22+G22)*'UDAT Support'!$C$24","v":0},null,null,null,null,null,null,null,"1900-01-01",1]
[null,"1900-01-01",null,0,null,null,null,{"$f":"(E23+G23)*'UDAT Support'!$C$24","v":0},null,null,null,null,null,null,null,"1900-01-01",1]
[null,null,{"$f":"IF(ABS(D24-365)>4,\"Must have 365 ± 4 days.\",\"\")","v":"Must have 365 ± 4 days."},{"$f":"SUM(D9:D23)","v":0},{"$f":"SUM(E9:E23)","v":0},null,{"$f":"SUM(G9:G23)","v":0},{"$f":"SUM(H9:H23)","v":0}]
[]
[null,null,null,null,"Total Annual Steam Cost"]
[]
[]
[null,"POST-CONSTRUCTION"]
[null,null,null,null,null,null,null,null,null,null,null,null,null,null,null,"Data for Graphs:"]
[null,"Billing Period Start Date","Read Date","Days in Billing Period",{"$f":"\"Steam Consumption\n(\"&'Utility Info'!G16&\")\"","v":"Steam Consumption\n(<Not Used>)"},"Actual/ Estimated","On-Site Steam Generation\n(MMBtu)","Steam Consumption\n(MMBtu)",null,null,null,null,null,null,null,"Common Area Ref Date","Common Area Month"]
[]
[null,{"$f":"C32+1","v":"1900-01-01"},null,{"$f":"IF(C33>0,C33+1-B33,0)","v":0},null,null,null,{"$f":"(E33+G33)*'UDAT Support'!$C$25","v":0},null,null,null,null,null,null,null,{"$f":"DATE(YEAR(C33),MONTH(C33),1)","v":"1900-01-01"},{"$f":"IF((P33-B33)>(C33-P33),MONTH(B33),MONTH(C33))","v":1}]
[null,{"$f":"C33+1","v":"1900-01-01"},null,0,null,null,null,{"$f":"(E34+G34)*'UDAT Support'!$C$25","v":0},null,null,null,null,null,null,null,"1900-01-01",1]
[null,"1900-01-01",null,0,null,null,null,{"$f":"(E35+G35)*'UDAT Support'!$C$25","v":0},null,null,null,null,null,null,null,"1900-01-01",1]
[null,"1900-01-01",null,0,null,null,null,{"$f":"(E36+G36)*'UDAT Support'!$C$25","v":0},null,null,null,null,null,null,null,"1900-01-01",1]
[null,"1900-01-01",null,0,null,null,null,{"$f":"(E37+G37)*'UDAT Support'!$C$25","v":0},null,null,null,null,null,null,null,"1900-01-01",1]
[null,"1900-01-01",null,0,null,null,null,{"$f":"(E38+G38)*'UDAT Support'!$C$25","v":0},null,null,null,null,null,null,null,"1900-01-01",1]
[null,"1900-01-01",null,0,null,null,null,{"$f":"(E39+G39)*'UDAT Support'!$C$25","v":0},null,null,null,null,null,null,null,"1900-01-01",1]
[null,"1900-01-01",null,0,null,null,null,{"$f":"(E40+G40)*'UDAT Support'!$C$25","v":0},null,null,null,null,null,null,null,"1900-01-01",1]
[null,"1900-01-01",null,0,null,null,null,{"$f":"(E41+G41)*'UDAT Support'!$C$25","v":0},null,null,null,null,null,null,null,"1900-01-01",1]
[null,"1900-01-01",null,0,null,null,null,{"$f":"(E42+G42)*'UDAT Support'!$C$25","v":0},null,null,null,null,null,null,null,"1900-01-01",1]
[null,"1900-01-01",null,0,null,null,null,{"$f":"(E43+G43)*'UDAT Support'!$C$25","v":0},null,null,null,null,null,null,null,"1900-01-01",1]
[null,"1900-01-01",null,0,null,null,null,{"$f":"(E44+G44)*'UDAT Support'!$C$25","v":0},null,null,null,null,null,null,null,"1900-01-01",1]
[null,"1900-01-01",null,0,null,null,null,{"$f":"(E45+G45)*'UDAT Support'!$C$25","v":0},null,null,null,null,null,null,null,"1900-01-01",1]
[null,"1900-01-01",null,0,null,null,null,{"$f":"(E46+G46)*'UDAT Support'!$C$25","v":0},null,null,null,null,null,null,null,"1900-01-01",1]
[null,"1900-01-01",null,0,null,null,null,{"$f":"(E47+G47)*'UDAT Support'!$C$25","v":0},null,null,null,null,null,null,null,"1900-01-01",1]
[null,null,{"$f":"IF(ABS(D48-365)>4,\"Must have 365 ± 4 days.\",\"\")","v":"Must have 365 ± 4 days."},{"$f":"SUM(D33:D47)","v":0},{"$f":"SUM(E33:E47)","v":0},null,{"$f":"SUM(G33:G47)","v":0},{"$f":"SUM(H33:H47)","v":0}]
[]
[null,null,null,null,"Total Annual Steam Cost"]
[]
[]
[null,"Notes:"]

{"sheet":"Chilled Water","index":8,"n_rows":53,"n_cols":52,"rows_kept":53,"cut":false,"hidden":true,"merged":[[53,1,57,4],[2,1,2,6],[4,1,5,6],[28,1,29,6],[52,1,52,4],[25,4,25,6],[26,4,26,6],[49,4,49,6],[50,4,50,6]]}
[null,"Chilled Water Utility Data Summary"]
[null,"Instructions"]
[null,"1) Enter data for pre-construction energy use in blue cells.\n2) If there is on-site generation that provides chilled water to the site (e.g. absorption chiller via CHP/cogen), please include chilled water consumed in column F. \n3) Hide any unused rows; do not delete them.\n4) Review graphs to the right for irregularities in the usage data.\n5) Post-Construction data will be filled in one year after construction has been completed.\n6) Please use the \"Notes\" field below the data entry section of this tab to explain unusual circumstances, any anomalies in the data, or adjustments made. Also, please follow Program Guidelines v4.1, Section 3.2.2 for irregular delivers, outliers, and estimated bills.\n\n"]
[]
[null,"PRE-CONSTRUCTION"]
[null,null,null,null,null,null,null,null,null,null,null,null,null,null,"Data for Graphs:"]
[null,"Billing Period Start Date","Read Date","Days in Billing Period","Chilled Water Consumption\n(MMBtu)","On-Site Chilled Water Generation\n(MMBtu)","Chilled Water Consumption\n(MMBtu)",null,null,null,null,null,null,null,"Reference Date","Month",null,"Months","Steam Pre","Steam Post",null,null,null,null,null,null,null,null,null,null,null,null,null,null,null,null,null,null,null,null,null,null,null,null,null,null,null,null,null,null,null,"In-Unit Post"]
[]
[null,{"$f":"C8+1","v":"1900-01-01"},null,{"$f":"IF(C9>0,C9+1-B9,0)","v":0},null,null,{"$f":"E9+F9","v":0},null,null,null,null,null,null,null,{"$f":"DATE(YEAR(C9),MONTH(C9),1)","v":"1900-01-01"},{"$f":"IF((O9-B9)>(C9-O9),MONTH(B9),MONTH(C9))","v":1},null,"2012-01-15",{"$f":"SUMIF($P$9:$P$23,MONTH($R9),$G$9:$G$23)","v":0},{"$f":"SUMIF($P$33:$P$47,MONTH($R9),$G$33:$G$47)","v":0},null,null,null,null,null,null,null,null,null,null,null,null,null,null,null,null,null,null,null,null,null,null,null,null,null,null,null,null,null,null,null,{"$f":"SUMIF($AS$35:$AS$49,MONTH($R9),$AG$35:$AG$49)","v":0}]
[null,{"$f":"C9+1","v":"1900-01-01"},null,0,null,null,{"$f":"E10+F10","v":0},null,null,null,null,null,null,null,"1900-01-01",1,null,"2012-02-15",{"$f":"SUMIF($P$9:$P$23,MONTH($R10),$G$9:$G$23)","v":0},0,null,null,null,null,null,null,null,null,null,null,null,null,null,null,null,null,null,null,null,null,null,null,null,null,null,null,null,null,null,null,null,0]
[null,"1900-01-01",null,0,null,null,0,null,null,null,null,null,null,null,"1900-01-01",1,null,"2012-03-15",0,0,null,null,null,null,null,null,null,null,null,null,null,null,null,null,null,null,null,null,null,null,null,null,null,null,null,null,null,null,null,null,null,0]
[null,"1900-01-01",null,0,null,null,0,null,null,null,null,null,null,null,"1900-01-01",1,null,"2012-04-15",0,0,null,null,null,null,null,null,null,null,null,null,null,null,null,null,null,null,null,null,null,null,null,null,null,null,null,null,null,null,null,null,null,0]
[null,"1900-01-01",null,0,null,null,0,null,null,null,null,null,null,null,"1900-01-01",1,null,"2012-05-15",0,0,null,null,null,null,null,null,null,null,null,null,null,null,null,null,null,null,null,null,null,null,null,null,null,null,null,null,null,null,null,null,null,0]
[null,"1900-01-01",null,0,null,null,0,null,null,null,null,null,null,null,"1900-01-01",1,null,"2012-06-15",0,0,null,null,null,null,null,null,null,null,null,null,null,null,null,null,null,null,null,null,null,null,null,null,null,null,null,null,null,null,null,null,null,0]
[null,"1900-01-01",null,0,null,null,0,null,null,null,null,null,null,null,"1900-01-01",1,null,"2012-07-15",0,0,null,null,null,null,null,null,null,null,null,null,null,null,null,null,null,null,null,null,null,null,null,null,null,null,null,null,null,null,null,null,null,0]
[null,"1900-01-01",null,0,null,null,0,null,null,null,null,null,null,null,"1900-01-01",1,null,"2012-08-15",0,0,null,null,null,null,null,null,null,null,null,null,null,null,null,null,null,null,null,null,null,null,null,null,null,null,null,null,null,null,null,null,null,0]
[null,"1900-01-01",null,0,null,null,0,null,null,null,null,null,null,null,"1900-01-01",1,null,"2012-09-15",0,0,null,null,null,null,null,null,null,null,null,null,null,null,null,null,null,null,null,null,null,null,null,null,null,null,null,null,null,null,null,null,null,0]
[null,"1900-01-01",null,0,null,null,0,null,null,null,null,null,null,null,"1900-01-01",1,null,"2012-10-15",0,0,null,null,null,null,null,null,null,null,null,null,null,null,null,null,null,null,null,null,null,null,null,null,null,null,null,null,null,null,null,null,null,0]
[null,"1900-01-01",null,0,null,null,0,null,null,null,null,null,null,null,"1900-01-01",1,null,"2012-11-15",0,0,null,null,null,null,null,null,null,null,null,null,null,null,null,null,null,null,null,null,null,null,null,null,null,null,null,null,null,null,null,null,null,0]
[null,"1900-01-01",null,0,null,null,0,null,null,null,null,null,null,null,"1900-01-01",1,null,"2012-12-15",0,0,null,null,null,null,null,null,null,null,null,null,null,null,null,null,null,null,null,null,null,null,null,null,null,null,null,null,null,null,null,null,null,0]
[null,"1900-01-01",null,0,null,null,0,null,null,null,null,null,null,null,"1900-01-01",1]
[null,"1900-01-01",null,0,null,null,0,null,null,null,null,null,null,null,"1900-01-01",1]
[null,"1900-01-01",null,0,null,null,{"$f":"E23+F23","v":0},null,null,null,null,null,null,null,"1900-01-01",1]
[null,null,{"$f":"IF(ABS(D24-365)>4,\"Must have 365 ± 4 days.\",\"\")","v":"Must have 365 ± 4 days."},{"$f":"SUM(D9:D23)","v":0},{"$f":"SUM(E9:E23)","v":0},{"$f":"SUM(F9:F23)","v":0},{"$f":"SUM(G9:G23)","v":0}]
[]
[null,null,null,null,"Total Annual Chilled Water Cost"]
[]
[]
[null,"POST-CONSTRUCTION"]
[null,null,null,null,null,null,null,null,null,null,null,null,null,null,"Data for Graphs:"]
[null,"Billing Period Start Date","Read Date","Days in Billing Period","Chilled Water Consumption \n(MMBtu)","On-Site Chilled Water Generation\n(MMBtu)","Chilled Water Consumption\n(MMBtu)",null,null,null,null,null,null,null,"Common Area Ref Date","Common Area Month"]
[]
[null,{"$f":"C32+1","v":"1900-01-01"},null,{"$f":"IF(C33>0,C33+1-B33,0)","v":0},null,null,{"$f":"E33+F33","v":0},null,null,null,null,null,null,null,{"$f":"DATE(YEAR(C33),MONTH(C33),1)","v":"1900-01-01"},{"$f":"IF((O33-B33)>(C33-O33),MONTH(B33),MONTH(C33))","v":1}]
[null,{"$f":"C33+1","v":"1900-01-01"},null,0,null,null,{"$f":"E34+F34","v":0},null,null,null,null,null,null,null,"1900-01-01",1]
[null,"1900-01-01",null,0,null,null,0,null,null,null,null,null,null,null,"1900-01-01",1]
[null,"1900-01-01",null,0,null,null,0,null,null,null,null,null,null,null,"1900-01-01",1]
[null,"1900-01-01",null,0,null,null,0,null,null,null,null,null,null,null,"1900-01-01",1]
[null,"1900-01-01",null,0,null,null,0,null,null,null,null,null,null,null,"1900-01-01",1]
[null,"1900-01-01",null,0,null,null,0,null,null,null,null,null,null,null,"1900-01-01",1]
[null,"1900-01-01",null,0,null,null,0,null,null,null,null,null,null,null,"1900-01-01",1]
[null,"1900-01-01",null,0,null,null,0,null,null,null,null,null,null,null,"1900-01-01",1]
[null,"1900-01-01",null,0,null,null,0,null,null,null,null,null,null,null,"1900-01-01",1]
[null,"1900-01-01",null,0,null,null,0,null,null,null,null,null,null,null,"1900-01-01",1]
[null,"1900-01-01",null,0,null,null,0,null,null,null,null,null,null,null,"1900-01-01",1]
[null,"1900-01-01",null,0,null,null,0,null,null,null,null,null,null,null,"1900-01-01",1]
[null,"1900-01-01",null,0,null,null,0,null,null,null,null,null,null,null,"1900-01-01",1]
[null,"1900-01-01",null,0,null,null,0,null,null,null,null,null,null,null,"1900-01-01",1]
[null,null,{"$f":"IF(ABS(D48-365)>4,\"Must have 365 ± 4 days.\",\"\")","v":"Must have 365 ± 4 days."},{"$f":"SUM(D33:D47)","v":0},{"$f":"SUM(E33:E47)","v":0},{"$f":"SUM(F33:F47)","v":0},{"$f":"SUM(G33:G47)","v":0}]
[]
[null,null,null,null,"Total Annual Chilled Water Cost"]
[]
[]
[null,"Notes:"]

{"sheet":"Hot Water","index":9,"n_rows":53,"n_cols":52,"rows_kept":53,"cut":false,"hidden":true,"merged":[[53,1,57,4],[2,1,2,6],[4,1,5,6],[28,1,29,6],[52,1,52,4],[25,4,25,6],[26,4,26,6],[49,4,49,6],[50,4,50,6]]}
[null,"Hot Water Utility Data Summary"]
[null,"Instructions"]
[null,"1) Enter data for pre-construction energy use in blue cells.\n2) If there is on-site generation that provides hot water to the site (e.g. CHP/cogen), please include hot water consumed in column F.  \n3) Hide any unused rows; do not delete them.\n4) Review graphs to the right for irregularities in the usage data.\n5) Post-Construction data will be filled in one year after construction has been completed.\n6) Please use the \"Notes\" field below the data entry section of this tab to explain unusual circumstances, any anomalies in the data, or adjustments made. Also, please follow Program Guidelines v4.1, Section 3.2.2 for irregular delivers, outliers, and estimated bills.\n\n"]
[]
[null,"PRE-CONSTRUCTION"]
[null,null,null,null,null,null,null,null,null,null,null,null,null,null,"Data for Graphs:"]
[null,"Billing Period Start Date","Read Date","Days in Billing Period","Hot Water Consumption\n(MMBtu)","On-Site Hot Water Generation\n(MMBtu)","Hot Water Consumption\n(MMBtu)",null,null,null,null,null,null,null,"Reference Date","Month",null,"Months","Steam Pre","Steam Post",null,null,null,null,null,null,null,null,null,null,null,null,null,null,null,null,null,null,null,null,null,null,null,null,null,null,null,null,null,null,null,"In-Unit Post"]
[]
[null,{"$f":"C8+1","v":"1900-01-01"},null,{"$f":"IF(C9>0,C9+1-B9,0)","v":0},null,null,{"$f":"E9+F9","v":0},null,null,null,null,null,null,null,{"$f":"DATE(YEAR(C9),MONTH(C9),1)","v":"1900-01-01"},{"$f":"IF((O9-B9)>(C9-O9),MONTH(B9),MONTH(C9))","v":1},null,"2012-01-15",{"$f":"SUMIF($P$9:$P$23,MONTH($R9),$G$9:$G$23)","v":0},{"$f":"SUMIF($P$33:$P$47,MONTH($R9),$G$33:$G$47)","v":0},null,null,null,null,null,null,null,null,null,null,null,null,null,null,null,null,null,null,null,null,null,null,null,null,null,null,null,null,null,null,null,{"$f":"SUMIF($AS$35:$AS$49,MONTH($R9),$AG$35:$AG$49)","v":0}]
[null,{"$f":"C9+1","v":"1900-01-01"},null,0,null,null,{"$f":"E10+F10","v":0},null,null,null,null,null,null,null,"1900-01-01",1,null,"2012-02-15",{"$f":"SUMIF($P$9:$P$23,MONTH($R10),$G$9:$G$23)","v":0},0,null,null,null,null,null,null,null,null,null,null,null,null,null,null,null,null,null,null,null,null,null,null,null,null,null,null,null,null,null,null,null,0]
[null,"1900-01-01",null,0,null,null,0,null,null,null,null,null,null,null,"1900-01-01",1,null,"2012-03-15",0,0,null,null,null,null,null,null,null,null,null,null,null,null,null,null,null,null,null,null,null,null,null,null,null,null,null,null,null,null,null,null,null,0]
[null,"1900-01-01",null,0,null,null,0,null,null,null,null,null,null,null,"1900-01-01",1,null,"2012-04-15",0,0,null,null,null,null,null,null,null,null,null,null,null,null,null,null,null,null,null,null,null,null,null,null,null,null,null,null,null,null,null,null,null,0]
[null,"1900-01-01",null,0,null,null,0,null,null,null,null,null,null,null,"1900-01-01",1,null,"2012-05-15",0,0,null,null,null,null,null,null,null,null,null,null,null,null,null,null,null,null,null,null,null,null,null,null,null,null,null,null,null,null,null,null,null,0]
[null,"1900-01-01",null,0,null,null,0,null,null,null,null,null,null,null,"1900-01-01",1,null,"2012-06-15",0,0,null,null,null,null,null,null,null,null,null,null,null,null,null,null,null,null,null,null,null,null,null,null,null,null,null,null,null,null,null,null,null,0]
[null,"1900-01-01",null,0,null,null,0,null,null,null,null,null,null,null,"1900-01-01",1,null,"2012-07-15",0,0,null,null,null,null,null,null,null,null,null,null,null,null,null,null,null,null,null,null,null,null,null,null,null,null,null,null,null,null,null,null,null,0]
[null,"1900-01-01",null,0,null,null,0,null,null,null,null,null,null,null,"1900-01-01",1,null,"2012-08-15",0,0,null,null,null,null,null,null,null,null,null,null,null,null,null,null,null,null,null,null,null,null,null,null,null,null,null,null,null,null,null,null,null,0]
[null,"1900-01-01",null,0,null,null,0,null,null,null,null,null,null,null,"1900-01-01",1,null,"2012-09-15",0,0,null,null,null,null,null,null,null,null,null,null,null,null,null,null,null,null,null,null,null,null,null,null,null,null,null,null,null,null,null,null,null,0]
[null,"1900-01-01",null,0,null,null,0,null,null,null,null,null,null,null,"1900-01-01",1,null,"2012-10-15",0,0,null,null,null,null,null,null,null,null,null,null,null,null,null,null,null,null,null,null,null,null,null,null,null,null,null,null,null,null,null,null,null,0]
[null,"1900-01-01",null,0,null,null,0,null,null,null,null,null,null,null,"1900-01-01",1,null,"2012-11-15",0,0,null,null,null,null,null,null,null,null,null,null,null,null,null,null,null,null,null,null,null,null,null,null,null,null,null,null,null,null,null,null,null,0]
[null,"1900-01-01",null,0,null,null,0,null,null,null,null,null,null,null,"1900-01-01",1,null,"2012-12-15",0,0,null,null,null,null,null,null,null,null,null,null,null,null,null,null,null,null,null,null,null,null,null,null,null,null,null,null,null,null,null,null,null,0]
[null,"1900-01-01",null,0,null,null,0,null,null,null,null,null,null,null,"1900-01-01",1]
[null,"1900-01-01",null,0,null,null,0,null,null,null,null,null,null,null,"1900-01-01",1]
[null,"1900-01-01",null,0,null,null,0,null,null,null,null,null,null,null,"1900-01-01",1]
[null,null,{"$f":"IF(ABS(D24-365)>4,\"Must have 365 ± 4 days.\",\"\")","v":"Must have 365 ± 4 days."},{"$f":"SUM(D9:D23)","v":0},{"$f":"SUM(E9:E23)","v":0},{"$f":"SUM(F9:F23)","v":0},{"$f":"SUM(G9:G23)","v":0}]
[]
[null,null,null,null,"Total Annual Hot Water  Cost"]
[]
[]
[null,"POST-CONSTRUCTION"]
[null,null,null,null,null,null,null,null,null,null,null,null,null,null,"Data for Graphs:"]
[null,"Billing Period Start Date","Read Date","Days in Billing Period","Hot Water Consumption\n(MMBtu)","On-Site Hot Water Generation\n(MMBtu)","Hot Water Consumption\n(MMBtu)",null,null,null,null,null,null,null,"Common Area Ref Date","Common Area Month"]
[]
[null,{"$f":"C32+1","v":"1900-01-01"},null,{"$f":"IF(C33>0,C33+1-B33,0)","v":0},null,null,{"$f":"E33+F33","v":0},null,null,null,null,null,null,null,{"$f":"DATE(YEAR(C33),MONTH(C33),1)","v":"1900-01-01"},{"$f":"IF((O33-B33)>(C33-O33),MONTH(B33),MONTH(C33))","v":1}]
[null,{"$f":"C33+1","v":"1900-01-01"},null,0,null,null,{"$f":"E34+F34","v":0},null,null,null,null,null,null,null,"1900-01-01",1]
[null,"1900-01-01",null,0,null,null,0,null,null,null,null,null,null,null,"1900-01-01",1]
[null,"1900-01-01",null,0,null,null,0,null,null,null,null,null,null,null,"1900-01-01",1]
[null,"1900-01-01",null,0,null,null,0,null,null,null,null,null,null,null,"1900-01-01",1]
[null,"1900-01-01",null,0,null,null,0,null,null,null,null,null,null,null,"1900-01-01",1]
[null,"1900-01-01",null,0,null,null,0,null,null,null,null,null,null,null,"1900-01-01",1]
[null,"1900-01-01",null,0,null,null,0,null,null,null,null,null,null,null,"1900-01-01",1]
[null,"1900-01-01",null,0,null,null,0,null,null,null,null,null,null,null,"1900-01-01",1]
[null,"1900-01-01",null,0,null,null,0,null,null,null,null,null,null,null,"1900-01-01",1]
[null,"1900-01-01",null,0,null,null,0,null,null,null,null,null,null,null,"1900-01-01",1]
[null,"1900-01-01",null,0,null,null,0,null,null,null,null,null,null,null,"1900-01-01",1]
[null,"1900-01-01",null,0,null,null,0,null,null,null,null,null,null,null,"1900-01-01",1]
[null,"1900-01-01",null,0,null,null,0,null,null,null,null,null,null,null,"1900-01-01",1]
[null,"1900-01-01",null,0,null,null,{"$f":"E47+F47","v":0},null,null,null,null,null,null,null,"1900-01-01",1]
[null,null,{"$f":"IF(ABS(D48-365)>4,\"Must have 365 ± 4 days.\",\"\")","v":"Must have 365 ± 4 days."},{"$f":"SUM(D33:D47)","v":0},{"$f":"SUM(E33:E47)","v":0},{"$f":"SUM(F33:F47)","v":0},{"$f":"SUM(G33:G47)","v":0}]
[]
[null,null,null,null,"Total Annual Hot Water  Cost"]
[]
[]
[null,"Notes:"]

{"sheet":"Other","index":10,"n_rows":92,"n_cols":24,"rows_kept":92,"cut":false,"hidden":true,"merged":[[88,4,88,6],[91,1,91,6],[89,4,89,6],[92,1,96,6],[2,1,2,8],[4,1,5,6],[44,4,44,6],[45,4,45,6],[48,1,49,6]]}
[null,"Other Fuel Data Summary"]
[null,"Instructions"]
[null,"1) Enter data for pre-construction energy use in blue cells.\n2) If there is on-site generation that provides other fuel to the site, please include in column F.  \n3) Hide any unused rows; do not delete them.\n4) Review graphs to the right for irregularities in the usage data.\n5) Post-Construction data will be filled in one year after construction has been completed.\n6) Please use the \"Notes\" field below the data entry section of this tab to explain unusual circumstances, any anomalies in the data, or adjustments made. Also, please follow Program Guidelines v4.1, Section 3.2.2 for irregular delivers, outliers, and estimated bills.\n\n"]
[]
[null,"PRE-CONSTRUCTION"]
[null,null,null,null,null,null,null,null,null,null,null,null,null,null,null,"Data for Graph:"]
[null,"Billing Period Start Date","Delivery Date","Days in Billing Period",{"$f":"'Utility Info'!J6&\" Delivery\n\"&\"(\"&'Utility Info'!J7&\")\"","v":"Other Delivery\n(<Not Used>)"},{"$f":"\"On-Site \"&'Utility Info'!J6&\" Generation\n(MMBtu)\"","v":"On-Site Other Generation\n(MMBtu)"},{"$f":"'Utility Info'!J6&\" Consumption\n(MMBtu)\"","v":"Other Consumption\n(MMBtu)"},null,null,null,null,null,null,null,null,"Delivery Month/Day"]
[]
[null,{"$f":"C8+1","v":"1900-01-01"},null,{"$f":"IF(C9>0,C9+1-B9,0)","v":0},null,null,{"$f":"E9+F9","v":0},null,null,null,null,null,null,null,null,{"$f":"DATE(2008,MONTH(C9),DAY(C9))","v":"2007-12-31"},null,null,"Gallons",null,"Days",null,"Gal/day"]
[null,{"$f":"C9+1","v":"1900-01-01"},null,{"$f":"IF(C10>0,C10+1-B10,0)","v":0},null,null,{"$f":"E10+F10","v":0},null,null,null,null,null,null,null,null,{"$f":"DATE(2008,MONTH(C10),DAY(C10))","v":"2007-12-31"},null,"Date","Pre","Post","Pre","Post","Pre","Post"]
[null,"1900-01-01",null,0,null,null,0,null,null,null,null,null,null,null,null,"2007-12-31",null,"2008-01-05",{"$f":"SUMIFS($E$9:$E$42,$P$9:$P$42,\"<=\"&R11)","v":0},{"$f":"SUMIFS($E$53:$E$86,$P$53:$P$86,\"<=\"&R11)","v":0},{"$f":"SUMIFS($D$9:$D$42,$P$9:$P$42,\"<=\"&$R$11)","v":0},{"$f":"SUMIFS($D$53:$D$86,$P$53:$P$86,\"<=\"&$R$11)","v":0},{"$f":"IF(U11>0,S11/U11,0)","v":0},{"$f":"IF(V11>0,T11/V11,0)","v":0}]
[null,"1900-01-01",null,0,null,null,0,null,null,null,null,null,null,null,null,"2007-12-31",null,{"$f":"R11+5","v":"2008-01-10"},{"$f":"SUMIFS($E$9:$E$42,$P$9:$P$42,\">\"& R11,$P$9:$P$42,\"<=\"&R12)","v":0},{"$f":"SUMIFS($E$53:$E$86,$P$53:$P$86,\">\"& R11,$P$53:$P$86,\"<=\"&R12)","v":0},{"$f":"SUMIFS($D$9:$D$42,$P$9:$P$42,\">\"& $R11,$P$9:$P$42,\"<=\"&$R12)","v":0},{"$f":"SUMIFS($D$53:$D$86,$P$53:$P$86,\">\"& $R11,$P$53:$P$86,\"<=\"&$R12)","v":0},{"$f":"IF(U12>0,S12/U12,0)","v":0},0]
[null,"1900-01-01",null,0,null,null,0,null,null,null,null,null,null,null,null,"2007-12-31",null,{"$f":"R12+5","v":"2008-01-15"},0,0,0,0,0,0]
[null,"1900-01-01",null,0,null,null,0,null,null,null,null,null,null,null,null,"2007-12-31",null,"2008-01-20",0,0,0,0,0,0]
[null,"1900-01-01",null,0,null,null,0,null,null,null,null,null,null,null,null,"2007-12-31",null,"2008-01-25",0,0,0,0,0,0]
[null,"1900-01-01",null,0,null,null,0,null,null,null,null,null,null,null,null,"2007-12-31",null,"2008-01-30",0,0,0,0,0,0]
[null,"1900-01-01",null,0,null,null,0,null,null,null,null,null,null,null,null,"2007-12-31",null,"2008-02-04",0,0,0,0,0,0]
[null,"1900-01-01",null,0,null,null,0,null,null,null,null,null,null,null,null,"2007-12-31",null,"2008-02-09",0,0,0,0,0,0]
[null,"1900-01-01",null,0,null,null,0,null,null,null,null,null,null,null,null,"2007-12-31",null,"2008-02-14",0,0,0,0,0,0]
[null,"1900-01-01",null,0,null,null,0,null,null,null,null,null,null,null,null,"2007-12-31",null,"2008-02-19",0,0,0,0,0,0]
[null,"1900-01-01",null,0,null,null,0,null,null,null,null,null,null,null,null,"2007-12-31",null,"2008-02-24",0,0,0,0,0,0]
[null,"1900-01-01",null,0,null,null,0,null,null,null,null,null,null,null,null,"2007-12-31",null,{"$f":"R21+6","v":"2008-03-01"},0,0,0,0,0,0]
[null,"1900-01-01",null,0,null,null,0,null,null,null,null,null,null,null,null,"2007-12-31",null,"2008-03-06",0,0,0,0,0,0]
[null,"1900-01-01",null,0,null,null,0,null,null,null,null,null,null,null,null,"2007-12-31",null,"2008-03-11",0,0,0,0,0,0]
[null,"1900-01-01",null,0,null,null,0,null,null,null,null,null,null,null,null,"2007-12-31",null,"2008-03-16",0,0,0,0,0,0]
[null,"1900-01-01",null,0,null,null,0,null,null,null,null,null,null,null,null,"2007-12-31",null,"2008-03-21",0,0,0,0,0,0]
[null,"1900-01-01",null,0,null,null,0,null,null,null,null,null,null,null,null,"2007-12-31",null,"2008-03-26",0,0,0,0,0,0]
[null,"1900-01-01",null,0,null,null,0,null,null,null,null,null,null,null,null,"2007-12-31",null,"2008-03-31",0,0,0,0,0,0]
[null,"1900-01-01",null,0,null,null,0,null,null,null,null,null,null,null,null,"2007-12-31",null,"2008-04-05",0,0,0,0,0,0]
[null,"1900-01-01",null,0,null,null,0,null,null,null,null,null,null,null,null,"2007-12-31",null,"2008-04-10",0,0,0,0,0,0]
[null,"1900-01-01",null,0,null,null,0,null,null,null,null,null,null,null,null,"2007-12-31",null,"2008-04-15",0,0,0,0,0,0]
[null,"1900-01-01",null,0,null,null,0,null,null,null,null,null,null,null,null,"2007-12-31",null,"2008-04-20",0,0,0,0,0,0]
[null,"1900-01-01",null,0,null,null,0,null,null,null,null,null,null,null,null,"2007-12-31",null,"2008-04-25",0,0,0,0,0,0]
[null,"1900-01-01",null,0,null,null,0,null,null,null,null,null,null,null,null,"2007-12-31",null,"2008-04-30",0,0,0,0,0,0]
[null,"1900-01-01",null,0,null,null,0,null,null,null,null,null,null,null,null,"2007-12-31",null,"2008-05-05",0,0,0,0,0,0]
[null,"1900-01-01",null,0,null,null,0,null,null,null,null,null,null,null,null,"2007-12-31",null,"2008-05-10",0,0,0,0,0,0]
[null,"1900-01-01",null,0,null,null,0,null,null,null,null,null,null,null,null,"2007-12-31",null,"2008-05-15",0,0,0,0,0,0]
[null,"1900-01-01",null,0,null,null,0,null,null,null,null,null,null,null,null,"2007-12-31",null,"2008-05-20",0,0,0,0,0,0]
[null,"1900-01-01",null,0,null,null,0,null,null,null,null,null,null,null,null,"2007-12-31",null,"2008-05-25",0,0,0,0,0,0]
[null,"1900-01-01",null,0,null,null,0,null,null,null,null,null,null,null,null,"2007-12-31",null,"2008-05-30",0,0,0,0,0,0]
[null,"1900-01-01",null,0,null,null,0,null,null,null,null,null,null,null,null,"2007-12-31",null,"2008-06-04",0,0,0,0,0,0]
[null,"1900-01-01",null,0,null,null,{"$f":"E42+F42","v":0},null,null,null,null,null,null,null,null,"2007-12-31",null,"2008-06-09",0,0,0,0,0,0]
[null,null,{"$f":"IF(ABS(D43-365)>4,\"Must have 365 ± 4 days.\",\"\")","v":"Must have 365 ± 4 days."},{"$f":"SUM(D9:D42)","v":0},{"$f":"SUM(E9:E42)","v":0},{"$f":"SUM(F9:F42)","v":0},{"$f":"SUM(G9:G42)","v":0},null,null,null,null,null,null,null,null,null,null,"2008-06-14",0,0,0,0,0,0]
[null,null,null,null,null,null,null,null,null,null,null,null,null,null,null,null,null,"2008-06-19",0,0,0,0,0,0]
[null,null,null,null,"Total Annual Cost",null,null,null,null,null,null,null,null,null,null,null,null,"2008-06-24",0,0,0,0,0,0]
[null,null,null,null,null,null,null,null,null,null,null,null,null,null,null,null,null,"2008-06-29",0,0,0,0,0,0]
[null,null,null,null,null,null,null,null,null,null,null,null,null,null,null,null,null,"2008-07-04",0,0,0,0,0,0]
[null,null,null,null,null,null,null,null,null,null,null,null,null,null,null,null,null,"2008-07-09",0,0,0,0,0,0]
[null,"POST-CONSTRUCTION",null,null,null,null,null,null,null,null,null,null,null,null,null,null,null,"2008-07-14",0,0,0,0,0,0]
[null,null,null,null,null,null,null,null,null,null,null,null,null,null,null,null,null,"2008-07-19",0,0,0,0,0,0]
[null,"Billing Period Start Date","Delivery Date","Days in Billing Period",{"$f":"'Utility Info'!J15&\" Delivery\n\"&\"(\"&'Utility Info'!J16&\")\"","v":"<Other Fuel Type> Delivery\n(<Not Used>)"},{"$f":"\"On-Site \"&'Utility Info'!J15&\" Generation\n(MMBtu)\"","v":"On-Site <Other Fuel Type> Generation\n(MMBtu)"},{"$f":"'Utility Info'!J15&\" Consumption\n(MMBtu)\"","v":"<Other Fuel Type> Consumption\n(MMBtu)"},null,null,null,null,null,null,null,null,"Delivery Month/Day",null,"2008-07-24",0,0,0,0,0,0]
[null,null,null,null,null,null,null,null,null,null,null,null,null,null,null,null,null,"2008-07-29",0,0,0,0,0,0]
[null,{"$f":"C52+1","v":"1900-01-01"},null,{"$f":"IF(C53>0,C53+1-B53,0)","v":0},null,null,{"$f":"E53+F53","v":0},null,null,null,null,null,null,null,null,{"$f":"DATE(2008,MONTH(C53),DAY(C53))","v":"2007-12-31"},null,"2008-08-03",0,0,0,0,0,0]
[null,{"$f":"C53+1","v":"1900-01-01"},null,0,null,null,{"$f":"E54+F54","v":0},null,null,null,null,null,null,null,null,"2007-12-31",null,"2008-08-08",0,0,0,0,0,0]
[null,"1900-01-01",null,0,null,null,0,null,null,null,null,null,null,null,null,"2007-12-31",null,"2008-08-13",0,0,0,0,0,0]
[null,"1900-01-01",null,0,null,null,0,null,null,null,null,null,null,null,null,"2007-12-31",null,"2008-08-18",0,0,0,0,0,0]
[null,"1900-01-01",null,0,null,null,0,null,null,null,null,null,null,null,null,"2007-12-31",null,"2008-08-23",0,0,0,0,0,0]
[null,"1900-01-01",null,0,null,null,0,null,null,null,null,null,null,null,null,"2007-12-31",null,"2008-08-28",0,0,0,0,0,0]
[null,"1900-01-01",null,0,null,null,0,null,null,null,null,null,null,null,null,"2007-12-31",null,"2008-09-02",0,0,0,0,0,0]
[null,"1900-01-01",null,0,null,null,0,null,null,null,null,null,null,null,null,"2007-12-31",null,"2008-09-07",0,0,0,0,0,0]
[null,"1900-01-01",null,0,null,null,0,null,null,null,null,null,null,null,null,"2007-12-31",null,"2008-09-12",0,0,0,0,0,0]
[null,"1900-01-01",null,0,null,null,0,null,null,null,null,null,null,null,null,"2007-12-31",null,"2008-09-17",0,0,0,0,0,0]
[null,"1900-01-01",null,0,null,null,0,null,null,null,null,null,null,null,null,"2007-12-31",null,"2008-09-22",0,0,0,0,{"$f":"IF(U63>0,S63/U63,0)","v":0},0]
[null,"1900-01-01",null,0,null,null,0,null,null,null,null,null,null,null,null,"2007-12-31",null,"2008-09-27",0,0,0,0,0,0]
[null,"1900-01-01",null,0,null,null,0,null,null,null,null,null,null,null,null,"2007-12-31",null,"2008-10-02",0,0,0,0,0,0]
[null,"1900-01-01",null,0,null,null,0,null,null,null,null,null,null,null,null,"2007-12-31",null,"2008-10-07",0,0,0,0,0,0]
[null,"1900-01-01",null,0,null,null,0,null,null,null,null,null,null,null,null,"2007-12-31",null,"2008-10-12",0,0,0,0,0,0]
[null,"1900-01-01",null,0,null,null,0,null,null,null,null,null,null,null,null,"2007-12-31",null,"2008-10-17",0,0,0,0,0,0]
[null,"1900-01-01",null,0,null,null,0,null,null,null,null,null,null,null,null,"2007-12-31",null,{"$f":"R68+5","v":"2008-10-22"},0,0,0,0,0,0]
[null,"1900-01-01",null,0,null,null,0,null,null,null,null,null,null,null,null,"2007-12-31",null,"2008-10-27",0,0,0,0,0,0]
[null,"1900-01-01",null,0,null,null,0,null,null,null,null,null,null,null,null,"2007-12-31",null,"2008-11-01",0,0,0,0,0,0]
[null,"1900-01-01",null,0,null,null,0,null,null,null,null,null,null,null,null,"2007-12-31",null,"2008-11-06",0,0,0,0,0,0]
[null,"1900-01-01",null,0,null,null,0,null,null,null,null,null,null,null,null,"2007-12-31",null,"2008-11-11",0,0,0,0,0,0]
[null,"1900-01-01",null,0,null,null,0,null,null,null,null,null,null,null,null,"2007-12-31",null,"2008-11-16",0,0,0,0,0,0]
[null,"1900-01-01",null,0,null,null,0,null,null,null,null,null,null,null,null,"2007-12-31",null,"2008-11-21",0,0,0,0,0,0]
[null,"1900-01-01",null,0,null,null,0,null,null,null,null,null,null,null,null,"2007-12-31",null,"2008-11-26",{"$f":"SUMIFS($E$9:$E$42,$P$9:$P$42,\">\"& R75,$P$9:$P$42,\"<=\"&R76)","v":0},{"$f":"SUMIFS($E$53:$E$86,$P$53:$P$86,\">\"& R75,$P$53:$P$86,\"<=\"&R76)","v":0},{"$f":"SUMIFS($D$9:$D$42,$P$9:$P$42,\">\"& $R75,$P$9:$P$42,\"<=\"&$R76)","v":0},{"$f":"SUMIFS($D$53:$D$86,$P$53:$P$86,\">\"& $R75,$P$53:$P$86,\"<=\"&$R76)","v":0},0,0]
[null,"1900-01-01",null,0,null,null,0,null,null,null,null,null,null,null,null,"2007-12-31",null,{"$f":"R76+5","v":"2008-12-01"},0,0,0,0,0,0]
[null,"1900-01-01",null,0,null,null,0,null,null,null,null,null,null,null,null,"2007-12-31",null,"2008-12-06",0,0,0,0,0,0]
[null,"1900-01-01",null,0,null,null,0,null,null,null,null,null,null,null,null,"2007-12-31",null,"2008-12-11",0,0,0,0,0,0]
[null,"1900-01-01",null,0,null,null,0,null,null,null,null,null,null,null,null,"2007-12-31",null,"2008-12-16",0,0,0,0,0,0]
[null,"1900-01-01",null,0,null,null,0,null,null,null,null,null,null,null,null,"2007-12-31",null,"2008-12-21",0,0,0,0,0,0]
[null,"1900-01-01",null,0,null,null,0,null,null,null,null,null,null,null,null,"2007-12-31",null,"2008-12-26",0,0,0,0,0,0]
[null,"1900-01-01",null,0,null,null,0,null,null,null,null,null,null,null,null,"2007-12-31",null,{"$f":"R82+5","v":"2008-12-31"},0,0,0,0,0,0]
[null,"1900-01-01",null,0,null,null,0,null,null,null,null,null,null,null,null,"2007-12-31"]
[null,"1900-01-01",null,0,null,null,0,null,null,null,null,null,null,null,null,"2007-12-31"]
[null,"1900-01-01",null,0,null,null,{"$f":"E86+F86","v":0},null,null,null,null,null,null,null,null,"2007-12-31"]
[null,null,{"$f":"IF(ABS(D87-365)>4,\"Must have 365 ± 4 days.\",\"\")","v":"Must have 365 ± 4 days."},{"$f":"SUM(D53:D86)","v":0},{"$f":"SUM(E53:E86)","v":0},{"$f":"SUM(F53:F86)","v":0},{"$f":"SUM(G53:G86)","v":0}]
[]
[null,null,null,null,"Total Annual Cost"]
[]
[]
[null,"Notes:"]

{"sheet":"Utility Use Summary","index":11,"n_rows":234,"n_cols":25,"rows_kept":234,"cut":false,"hidden":false,"merged":[[197,1,197,5],[197,8,197,12],[45,8,45,12],[64,8,64,12],[140,8,140,12],[102,8,102,12],[45,1,45,5],[64,1,64,5],[139,4,139,5],[140,1,140,5],[102,1,102,5],[159,1,159,5],[159,8,159,12],[178,1,178,5],[178,8,178,12],[14,1,14,2],[15,1,15,2],[17,1,17,2],[10,16,10,17],[10,18,10,19],[10,1,10,2],[5,1,5,2],[9,16,9,17],[13,1,13,2],[13,6,13,7],[13,8,13,9],[13,10,13,11],[6,1,6,2],[7,1,7,2],[9,1,9,2],[13,16,13,17],[9,3,9,5],[10,3,10,5],[5,3,5,5],[17,14,17,15],[17,6,17,7],[5,8,5,9],[17,3,17,5],[10,6,10,7],[24,11,24,12],[21,13,21,14],[23,13,23,14],[24,13,24,14],[23,11,23,12],[21,11,21,12],[22,1,22,2],[18,14,18,15],[22,13,22,14],[18,12,18,13],[18,8,18,9],[18,6,18,7],[22,11,22,12],[21,15,21,16],[18,10,18,11],[18,3,18,5],[26,1,26,6],[26,8,26,13],[13,3,13,5],[13,12,13,13],[22,3,22,4],[20,1,20,18],[18,1,18,2],[24,5,24,6],[24,1,24,2],[24,3,24,4],[24,7,24,8],[24,9,24,10],[23,1,23,2],[23,3,23,4],[23,7,23,8],[23,9,23,10],[22,9,22,10],[21,9,21,10],[21,1,21,2],[23,15,23,16],[24,15,24,16],[22,17,22,18],[23,17,23,18],[24,17,24,18],[9,12,9,13],[9,6,9,7],[22,5,22,6],[21,3,21,4],[21,5,21,6],[5,6,5,7],[13,18,13,19],[21,7,21,8],[22,15,22,16],[17,16,17,17],[17,18,17,19],[21,17,21,18],[8,1,8,2],[16,1,16,2],[9,8,9,9],[2,1,2,8],[23,5,23,6],[18,18,18,19],[18,16,18,17],[5,16,5,17],[5,18,5,19],[5,12,5,13],[5,14,5,15],[9,14,9,15],[13,14,13,15],[10,8,10,9],[10,10,10,11],[10,12,10,13],[10,14,10,15],[9,18,9,19],[9,10,9,11],[22,7,22,8],[17,8,17,9],[17,12,17,13],[17,10,17,11],[5,10,5,11]]}
[null,"Pre- and Post-Construction Utility Data Summary"]
[null,"Instructions"]
[null,"1) This sheet summarizes utility data and project savings.  Data from this tab must be exported directly into the project's Model Calibration and Savings Verification Tools to ensure consistency across project documents. Same data must also be used to benchmark the project in EPA's ENERGY STAR Portfolio Manager. \n\n"]
[]
[null,"PRE-RETROFIT SUMMARY"]
[null,null,null,"Electricity",null,null,"Gas",null,"Fuel Oil",null,"Propane",null,"Steam",null,"Chilled Water",null,"Hot Water",null,{"$f":"'Utility Info'!J6","v":"Other"}]
[null,"Units",null,"kWh","MMBtu","kW",{"$f":"'Utility Info'!D7","v":"<Not Used>"},"MMBtu",{"$f":"'Utility Info'!E7","v":"<Not Used>"},"MMBtu",{"$f":"'Utility Info'!F7","v":"<Not Used>"},"MMBtu",{"$f":"'Utility Info'!G7","v":"<Not Used>"},"MMBtu",{"$f":"'Utility Info'!H7","v":"<Not Used>"},"MMBtu",{"$f":"'Utility Info'!I7","v":"<Not Used>"},"MMBtu",{"$f":"'Utility Info'!J7","v":"<Not Used>"},"MMBtu"]
[null,"Annual Usage/Demand",null,{"$f":"IF(D44=0,0,E44)","v":0},{"$f":"IF(D44=0,0,F44)","v":0},{"$f":"IF(D44=0,0,G44)","v":0},{"$f":"IF(D63=0,0,E63)","v":0},{"$f":"IF(D63=0,0,F63)","v":0},{"$f":"IF(D101=0,0,E101/D101*365)","v":0},{"$f":"IF(D101=0,0,F101/D101*365)","v":0},{"$f":"IF(D139=0,0,E139/D139*365)","v":0},{"$f":"IF(D139=0,0,F139/D139*365)","v":0},{"$f":"IF(D158=0,0,E158)","v":0},{"$f":"IF(D158=0,0,F158)","v":0},{"$f":"IF(D177=0,0,E177)","v":0},{"$f":"IF(D177=0,0,F177)","v":0},{"$f":"IF(D196=0,0,E196)","v":0},{"$f":"IF(D196=0,0,F196)","v":0},{"$f":"IF(D234=0,0,E234/D234*365)","v":0},{"$f":"IF(D234=0,0,F234/D234*365)","v":0}]
[null,"Average Cost per Unit",null,{"$f":"IF(D8=0,0,D10/D8)","v":0},{"$f":"IF(E8=0,0,D10/E8)","v":0},"N/A",{"$f":"IF(G8=0,0,G10/G8)","v":0},{"$f":"IF(H8=0,0,G10/H8)","v":0},{"$f":"IF(I8=0,0,I10/I8)","v":0},{"$f":"IF(J8=0,0,I10/J8)","v":0},{"$f":"IF(K8=0,0,K10/K8)","v":0},{"$f":"IF(L8=0,0,K10/L8)","v":0},{"$f":"IF(M8=0,0,M10/M8)","v":0},{"$f":"IF(N8=0,0,M10/N8)","v":0},{"$f":"IF(O8=0,0,O10/O8)","v":0},{"$f":"IF(P8=0,0,O10/P8)","v":0},{"$f":"IF(Q8=0,0,Q10/Q8)","v":0},{"$f":"IF(R8=0,0,Q10/R8)","v":0},{"$f":"IF(S8=0,0,S10/S8)","v":0},{"$f":"IF(T8=0,0,S10/T8)","v":0}]
[null,"Annual Cost",null,{"$f":"IF(D44=0,0,'Electric Totals'!FI28)","v":0},null,null,{"$f":"IF(D63=0,0,'Gas Totals'!DJ28)","v":0},null,{"$f":"IF(D101=0,0,Oil!E46/D101*365)","v":0},null,{"$f":"IF(D139=0,0,Propane!E46/D139*365)","v":0},null,{"$f":"IF(D158=0,0,Steam!E27)","v":0},null,{"$f":"IF(D177=0,0,'Chilled Water'!E27)","v":0},null,{"$f":"IF(D196=0,0,'Hot Water'!E27)","v":0},null,{"$f":"IF(D234=0,0,Other!E46/D234*365)","v":0}]
[null,"Renewable Energy Generation (MMBtu)",null,{"$f":"'Electric Totals'!FB25*0.003412","v":0},null,null,{"$f":"'Gas Totals'!DC25*0.1","v":0},null,{"$f":"Oil!F43","v":0},null,{"$f":"Propane!F43","v":0},null,{"$f":"Steam!G24","v":0},null,{"$f":"'Chilled Water'!F24","v":0},null,{"$f":"'Hot Water'!F24","v":0},null,{"$f":"Other!F43","v":0}]
[null,{"$f":"IF(X35-X34>15,\"The pre-retrofit start dates are more than 15 days out of synch. Please correct.\",\"\")","v":""}]
[null,"POST-RETROFIT SUMMARY"]
[null,null,null,"Electricity",null,null,"Gas",null,"Fuel Oil",null,"Propane",null,"Steam",null,"Chilled Water",null,"Hot Water",null,{"$f":"'Utility Info'!J15","v":"<Other Fuel Type>"}]
[null,"Units",null,"kWh","MMBtu","kW",{"$f":"'Utility Info'!D16","v":"<Not Used>"},"MMBtu",{"$f":"'Utility Info'!E16","v":"<Not Used>"},"MMBtu",{"$f":"'Utility Info'!F16","v":"<Not Used>"},"MMBtu",{"$f":"'Utility Info'!G16","v":"<Not Used>"},"MMBtu",{"$f":"'Utility Info'!H16","v":"<Not Used>"},"MMBtu",{"$f":"'Utility Info'!I16","v":"<Not Used>"},"MMBtu",{"$f":"'Utility Info'!J16","v":"<Not Used>"},"MMBtu"]
[null,"Annual Usage/Demand",null,{"$f":"IF(K44=0,0,L44)","v":0},{"$f":"IF(K44=0,0,M44)","v":0},{"$f":"IF(K44=0,0,N44)","v":0},{"$f":"IF(K63=0,0,L63)","v":0},{"$f":"IF(K63=0,0,M63)","v":0},{"$f":"IF(K101=0,0,L101/K101*365)","v":0},{"$f":"IF(K101=0,0,M101/K101*365)","v":0},{"$f":"IF(K139=0,0,L139/K139*365)","v":0},{"$f":"IF(K139=0,0,M139/K139*365)","v":0},{"$f":"IF(K158=0,0,L158)","v":0},{"$f":"IF(K158=0,0,M158)","v":0},{"$f":"IF(K177=0,0,L177)","v":0},{"$f":"IF(K177=0,0,M177)","v":0},{"$f":"IF(K196=0,0,L196)","v":0},{"$f":"IF(K196=0,0,M196)","v":0},{"$f":"IF(K234=0,0,L234/K234*365)","v":0},{"$f":"IF(K234=0,0,M234/K234*365)","v":0}]
[null,"Average Cost per Unit",null,{"$f":"IF(D16=0,0,D18/D16)","v":0},{"$f":"IF(E16=0,0,D18/E16)","v":0},"N/A",{"$f":"IF(G16=0,0,G18/G16)","v":0},{"$f":"IF(H16=0,0,G18/H16)","v":0},{"$f":"IF(I16=0,0,I18/I16)","v":0},{"$f":"IF(J16=0,0,I18/J16)","v":0},{"$f":"IF(K16=0,0,K18/K16)","v":0},{"$f":"IF(L16=0,0,K18/L16)","v":0},{"$f":"IF(M16=0,0,M18/M16)","v":0},{"$f":"IF(N16=0,0,M18/N16)","v":0},{"$f":"IF(O16=0,0,O18/O16)","v":0},{"$f":"IF(P16=0,0,O18/P16)","v":0},{"$f":"IF(Q16=0,0,Q18/Q16)","v":0},{"$f":"IF(R16=0,0,Q18/R16)","v":0},{"$f":"IF(S16=0,0,S18/S16)","v":0},{"$f":"IF(T16=0,0,S18/T16)","v":0}]
[null,"Annual Cost",null,{"$f":"IF(K44=0,0,'Electric Totals'!FI53)","v":0},null,null,{"$f":"IF(K63=0,0,'Gas Totals'!DJ53)","v":0},null,{"$f":"IF(K101=0,0,Oil!E90/K101*365)","v":0},null,{"$f":"IF(K139=0,0,Propane!E90/K139*365)","v":0},null,{"$f":"IF(K158=0,0,Steam!E51)","v":0},null,{"$f":"IF(K177=0,0,'Chilled Water'!E51)","v":0},null,{"$f":"IF(K196=0,0,'Hot Water'!E51)","v":0},null,{"$f":"IF(K234=0,0,Other!E90/K234*365)","v":0}]
[null,"Renewable Energy Generation (MMBtu)",null,{"$f":"'Electric Totals'!FB50*0.003412","v":0},null,null,{"$f":"'Gas Totals'!DC50*0.1","v":0},null,{"$f":"Oil!F87","v":0},null,{"$f":"Propane!F87","v":0},null,{"$f":"Steam!G48","v":0},null,{"$f":"'Chilled Water'!F48","v":0},null,{"$f":"'Hot Water'!F48","v":0},null,{"$f":"Other!F87","v":0}]
[null,{"$f":"IF(Y35-Y34>15,\"The post-retrofit start dates are more than 15 days out of synch. Please correct.\",\"\")","v":""}]
[null,"SAVINGS SUMMARY"]
[null,null,null,"Electricity",null,"Gas",null,"Fuel Oil",null,"Propane",null,"Steam",null,"Chilled Water",null,"Hot Water",null,{"$f":"S14","v":"<Other Fuel Type>"}]
[null,"MMBtu Savings",null,{"$f":"IF(D16=0,\"\",(E8+D11)-(E16+D19))","v":""},null,{"$f":"IF(G16=0,\"\",(H8+G11)-(H16+G19))","v":""},null,{"$f":"IF(I16=0,\"\",(J8+I11)-(J16+I19))","v":""},null,{"$f":"IF(K16=0,\"\",(L8+K11)-(L16+K19))","v":""},null,{"$f":"IF(M16=0,\"\",(N8+M11)-(N16+M19))","v":""},null,{"$f":"IF(O16=0,\"\",(P8+O11)-(P16+O19))","v":""},null,{"$f":"IF(Q16=0,\"\",(R8+Q11)-(R16+Q19))","v":""},null,{"$f":"IF(S16=0,\"\",(T8+S11)-(T16+S19))","v":""}]
[null,"Percent Savings",null,{"$f":"IF(D16=0,\"\",IF(E8=0,0,D23/E8))","v":""},null,{"$f":"IF(G16=0,\"\",IF(H8=0,0,F23/H8))","v":""},null,{"$f":"IF(I16=0,\"\",IF(J8=0,0,H23/J8))","v":""},null,{"$f":"IF(K16=0,\"\",IF(L8=0,0,J23/L8))","v":""},null,{"$f":"IF(M16=0,\"\",IF(N8=0,0,L23/N8))","v":""},null,{"$f":"IF(O16=0,\"\",IF(P8=0,0,N23/P8))","v":""},null,{"$f":"IF(Q16=0,\"\",IF(R8=0,0,P23/R8))","v":""},null,{"$f":"IF(S16=0,\"\",IF(T8=0,0,R23/T8))","v":""}]
[null,"Percent of Total Savings",null,{"$f":"IF(D16=0,\"\",IF(SUM($D$23:$S$23)=0,0,D23/SUM($D$23:$S$23)))","v":""},null,{"$f":"IF(G16=0,\"\",IF(SUM($D$23:$S$23)=0,0,F23/SUM($D$23:$S$23)))","v":""},null,{"$f":"IF(I16=0,\"\",IF(SUM($D$23:$S$23)=0,0,H23/SUM($D$23:$S$23)))","v":""},null,{"$f":"IF(K16=0,\"\",IF(SUM($D$23:$S$23)=0,0,J23/SUM($D$23:$S$23)))","v":""},null,{"$f":"IF(M16=0,\"\",IF(SUM($D$23:$S$23)=0,0,L23/SUM($D$23:$S$23)))","v":""},null,{"$f":"IF(O16=0,\"\",IF(SUM($D$23:$S$23)=0,0,N23/SUM($D$23:$S$23)))","v":""},null,{"$f":"IF(Q16=0,\"\",IF(SUM($D$23:$S$23)=0,0,P23/SUM($D$23:$S$23)))","v":""},null,{"$f":"IF(S16=0,\"\",IF(SUM($D$23:$S$23)=0,0,R23/SUM($D$23:$S$23)))","v":""}]
[]
[null,"PRE-CONSTRUCTION ELECTRIC",null,null,null,null,null,null,"POST-CONSTRUCTION ELECTRIC"]
[null,"Billing Period Start Date","Meter Read Date","Days in Billing Period","Total Consumption\nkWh","Total Consumption\nMMBtu","Common Area Peak kW",null,"Billing Period Start Date","Meter Read Date","Days in Billing Period","Total Consumption\nkWh","Total Consumption\nMMBtu","Common Area Peak kW",null,null,null,null,null,null,null,null,null,"Pre","Post"]
[null,{"$f":"IF('Electric Totals'!$EZ$25>'Electric Totals'!$FG$25,'Electric Totals'!B10,'Electric Totals'!FD10)","v":"1900-01-01"},{"$f":"IF('Electric Totals'!$EZ$25>'Electric Totals'!$FG$25,'Electric Totals'!C10,'Electric Totals'!FE10)","v":"00:00:00"},{"$f":"IF('Electric Totals'!$EZ$25>'Electric Totals'!$FG$25,'Electric Totals'!D10,'Electric Totals'!FF10)","v":0},{"$f":"'Electric Totals'!FI10","v":0},{"$f":"E29*0.003412","v":0},{"$f":"'Electric Totals'!FA10","v":0},null,{"$f":"IF('Electric Totals'!$EZ$50>'Electric Totals'!$FG$50,'Electric Totals'!B35,'Electric Totals'!FD35)","v":"1900-01-01"},{"$f":"IF('Electric Totals'!$EZ$50>'Electric Totals'!$FG$50,'Electric Totals'!C35,'Electric Totals'!FE35)","v":"00:00:00"},{"$f":"IF('Electric Totals'!$EZ$50>'Electric Totals'!$FG$50,'Electric Totals'!D35,'Electric Totals'!FF35)","v":0},{"$f":"'Electric Totals'!FI35","v":0},{"$f":"L29*0.003412","v":0},{"$f":"'Electric Totals'!FA35","v":0},null,null,null,null,null,null,null,null,"Electric",{"$f":"IF(B29>1000,B29,\"\")","v":""},{"$f":"IF(I29>1000,I29,\"\")","v":""}]
[null,{"$f":"IF('Electric Totals'!$EZ$25>'Electric Totals'!$FG$25,'Electric Totals'!B11,'Electric Totals'!FD11)","v":"1900-01-01"},{"$f":"IF('Electric Totals'!$EZ$25>'Electric Totals'!$FG$25,'Electric Totals'!C11,'Electric Totals'!FE11)","v":"00:00:00"},{"$f":"IF('Electric Totals'!$EZ$25>'Electric Totals'!$FG$25,'Electric Totals'!D11,'Electric Totals'!FF11)","v":0},{"$f":"'Electric Totals'!FI11","v":0},{"$f":"E30*0.003412","v":0},{"$f":"'Electric Totals'!FA11","v":0},null,{"$f":"IF('Electric Totals'!$EZ$50>'Electric Totals'!$FG$50,'Electric Totals'!B36,'Electric Totals'!FD36)","v":"1900-01-01"},{"$f":"IF('Electric Totals'!$EZ$50>'Electric Totals'!$FG$50,'Electric Totals'!C36,'Electric Totals'!FE36)","v":"00:00:00"},{"$f":"IF('Electric Totals'!$EZ$50>'Electric Totals'!$FG$50,'Electric Totals'!D36,'Electric Totals'!FF36)","v":0},{"$f":"'Electric Totals'!FI36","v":0},{"$f":"L30*0.003412","v":0},{"$f":"'Electric Totals'!FA36","v":0},null,null,null,null,null,null,null,null,"Gas",{"$f":"IF(B48>1000,B48,\"\")","v":""},{"$f":"IF(I48>1000,I48,\"\")","v":""}]
[null,{"$f":"IF('Electric Totals'!$EZ$25>'Electric Totals'!$FG$25,'Electric Totals'!B12,'Electric Totals'!FD12)","v":"1900-01-01"},{"$f":"IF('Electric Totals'!$EZ$25>'Electric Totals'!$FG$25,'Electric Totals'!C12,'Electric Totals'!FE12)","v":"00:00:00"},{"$f":"IF('Electric Totals'!$EZ$25>'Electric Totals'!$FG$25,'Electric Totals'!D12,'Electric Totals'!FF12)","v":0},{"$f":"'Electric Totals'!FI12","v":0},0,{"$f":"'Electric Totals'!FA12","v":0},null,{"$f":"IF('Electric Totals'!$EZ$50>'Electric Totals'!$FG$50,'Electric Totals'!B37,'Electric Totals'!FD37)","v":"1900-01-01"},{"$f":"IF('Electric Totals'!$EZ$50>'Electric Totals'!$FG$50,'Electric Totals'!C37,'Electric Totals'!FE37)","v":"00:00:00"},{"$f":"IF('Electric Totals'!$EZ$50>'Electric Totals'!$FG$50,'Electric Totals'!D37,'Electric Totals'!FF37)","v":0},{"$f":"'Electric Totals'!FI37","v":0},0,{"$f":"'Electric Totals'!FA37","v":0},null,null,null,null,null,null,null,null,"Oil",{"$f":"IF(B67>1000,B67,\"\")","v":""},{"$f":"IF(I67>1000,I67,\"\")","v":""}]
[null,{"$f":"IF('Electric Totals'!$EZ$25>'Electric Totals'!$FG$25,'Electric Totals'!B13,'Electric Totals'!FD13)","v":"1900-01-01"},{"$f":"IF('Electric Totals'!$EZ$25>'Electric Totals'!$FG$25,'Electric Totals'!C13,'Electric Totals'!FE13)","v":"00:00:00"},{"$f":"IF('Electric Totals'!$EZ$25>'Electric Totals'!$FG$25,'Electric Totals'!D13,'Electric Totals'!FF13)","v":0},{"$f":"'Electric Totals'!FI13","v":0},0,{"$f":"'Electric Totals'!FA13","v":0},null,{"$f":"IF('Electric Totals'!$EZ$50>'Electric Totals'!$FG$50,'Electric Totals'!B38,'Electric Totals'!FD38)","v":"1900-01-01"},{"$f":"IF('Electric Totals'!$EZ$50>'Electric Totals'!$FG$50,'Electric Totals'!C38,'Electric Totals'!FE38)","v":"00:00:00"},{"$f":"IF('Electric Totals'!$EZ$50>'Electric Totals'!$FG$50,'Electric Totals'!D38,'Electric Totals'!FF38)","v":0},{"$f":"'Electric Totals'!FI38","v":0},0,{"$f":"'Electric Totals'!FA38","v":0},null,null,null,null,null,null,null,null,"Steam",{"$f":"IF(B143>1000,B143,\"\")","v":""},{"$f":"IF(I143>1000,I143,\"\")","v":""}]
[null,{"$f":"IF('Electric Totals'!$EZ$25>'Electric Totals'!$FG$25,'Electric Totals'!B14,'Electric Totals'!FD14)","v":"1900-01-01"},{"$f":"IF('Electric Totals'!$EZ$25>'Electric Totals'!$FG$25,'Electric Totals'!C14,'Electric Totals'!FE14)","v":"00:00:00"},{"$f":"IF('Electric Totals'!$EZ$25>'Electric Totals'!$FG$25,'Electric Totals'!D14,'Electric Totals'!FF14)","v":0},{"$f":"'Electric Totals'!FI14","v":0},0,{"$f":"'Electric Totals'!FA14","v":0},null,{"$f":"IF('Electric Totals'!$EZ$50>'Electric Totals'!$FG$50,'Electric Totals'!B39,'Electric Totals'!FD39)","v":"1900-01-01"},{"$f":"IF('Electric Totals'!$EZ$50>'Electric Totals'!$FG$50,'Electric Totals'!C39,'Electric Totals'!FE39)","v":"00:00:00"},{"$f":"IF('Electric Totals'!$EZ$50>'Electric Totals'!$FG$50,'Electric Totals'!D39,'Electric Totals'!FF39)","v":0},{"$f":"'Electric Totals'!FI39","v":0},0,{"$f":"'Electric Totals'!FA39","v":0},null,null,null,null,null,null,null,null,"Propane",{"$f":"IF(B105>1000,B105,\"\")","v":""},{"$f":"IF(I105>1000,I105,\"\")","v":""}]
[null,{"$f":"IF('Electric Totals'!$EZ$25>'Electric Totals'!$FG$25,'Electric Totals'!B15,'Electric Totals'!FD15)","v":"1900-01-01"},{"$f":"IF('Electric Totals'!$EZ$25>'Electric Totals'!$FG$25,'Electric Totals'!C15,'Electric Totals'!FE15)","v":"00:00:00"},{"$f":"IF('Electric Totals'!$EZ$25>'Electric Totals'!$FG$25,'Electric Totals'!D15,'Electric Totals'!FF15)","v":0},{"$f":"'Electric Totals'!FI15","v":0},0,{"$f":"'Electric Totals'!FA15","v":0},null,{"$f":"IF('Electric Totals'!$EZ$50>'Electric Totals'!$FG$50,'Electric Totals'!B40,'Electric Totals'!FD40)","v":"1900-01-01"},{"$f":"IF('Electric Totals'!$EZ$50>'Electric Totals'!$FG$50,'Electric Totals'!C40,'Electric Totals'!FE40)","v":"00:00:00"},{"$f":"IF('Electric Totals'!$EZ$50>'Electric Totals'!$FG$50,'Electric Totals'!D40,'Electric Totals'!FF40)","v":0},{"$f":"'Electric Totals'!FI40","v":0},0,{"$f":"'Electric Totals'!FA40","v":0},null,null,null,null,null,null,null,null,"Earliest",{"$f":"MIN(X29:X33)","v":"00:00:00"},{"$f":"MIN(Y29:Y33)","v":"00:00:00"}]
[null,{"$f":"IF('Electric Totals'!$EZ$25>'Electric Totals'!$FG$25,'Electric Totals'!B16,'Electric Totals'!FD16)","v":"1900-01-01"},{"$f":"IF('Electric Totals'!$EZ$25>'Electric Totals'!$FG$25,'Electric Totals'!C16,'Electric Totals'!FE16)","v":"00:00:00"},{"$f":"IF('Electric Totals'!$EZ$25>'Electric Totals'!$FG$25,'Electric Totals'!D16,'Electric Totals'!FF16)","v":0},{"$f":"'Electric Totals'!FI16","v":0},0,{"$f":"'Electric Totals'!FA16","v":0},null,{"$f":"IF('Electric Totals'!$EZ$50>'Electric Totals'!$FG$50,'Electric Totals'!B41,'Electric Totals'!FD41)","v":"1900-01-01"},{"$f":"IF('Electric Totals'!$EZ$50>'Electric Totals'!$FG$50,'Electric Totals'!C41,'Electric Totals'!FE41)","v":"00:00:00"},{"$f":"IF('Electric Totals'!$EZ$50>'Electric Totals'!$FG$50,'Electric Totals'!D41,'Electric Totals'!FF41)","v":0},{"$f":"'Electric Totals'!FI41","v":0},0,{"$f":"'Electric Totals'!FA41","v":0},null,null,null,null,null,null,null,null,"Latest",{"$f":"MAX(X29:X33)","v":"00:00:00"},{"$f":"MAX(Y29:Y33)","v":"00:00:00"}]
[null,{"$f":"IF('Electric Totals'!$EZ$25>'Electric Totals'!$FG$25,'Electric Totals'!B17,'Electric Totals'!FD17)","v":"1900-01-01"},{"$f":"IF('Electric Totals'!$EZ$25>'Electric Totals'!$FG$25,'Electric Totals'!C17,'Electric Totals'!FE17)","v":"00:00:00"},{"$f":"IF('Electric Totals'!$EZ$25>'Electric Totals'!$FG$25,'Electric Totals'!D17,'Electric Totals'!FF17)","v":0},{"$f":"'Electric Totals'!FI17","v":0},0,{"$f":"'Electric Totals'!FA17","v":0},null,{"$f":"IF('Electric Totals'!$EZ$50>'Electric Totals'!$FG$50,'Electric Totals'!B42,'Electric Totals'!FD42)","v":"1900-01-01"},{"$f":"IF('Electric Totals'!$EZ$50>'Electric Totals'!$FG$50,'Electric Totals'!C42,'Electric Totals'!FE42)","v":"00:00:00"},{"$f":"IF('Electric Totals'!$EZ$50>'Electric Totals'!$FG$50,'Electric Totals'!D42,'Electric Totals'!FF42)","v":0},{"$f":"'Electric Totals'!FI42","v":0},0,{"$f":"'Electric Totals'!FA42","v":0}]
[null,{"$f":"IF('Electric Totals'!$EZ$25>'Electric Totals'!$FG$25,'Electric Totals'!B18,'Electric Totals'!FD18)","v":"1900-01-01"},{"$f":"IF('Electric Totals'!$EZ$25>'Electric Totals'!$FG$25,'Electric Totals'!C18,'Electric Totals'!FE18)","v":"00:00:00"},{"$f":"IF('Electric Totals'!$EZ$25>'Electric Totals'!$FG$25,'Electric Totals'!D18,'Electric Totals'!FF18)","v":0},{"$f":"'Electric Totals'!FI18","v":0},0,{"$f":"'Electric Totals'!FA18","v":0},null,{"$f":"IF('Electric Totals'!$EZ$50>'Electric Totals'!$FG$50,'Electric Totals'!B43,'Electric Totals'!FD43)","v":"1900-01-01"},{"$f":"IF('Electric Totals'!$EZ$50>'Electric Totals'!$FG$50,'Electric Totals'!C43,'Electric Totals'!FE43)","v":"00:00:00"},{"$f":"IF('Electric Totals'!$EZ$50>'Electric Totals'!$FG$50,'Electric Totals'!D43,'Electric Totals'!FF43)","v":0},{"$f":"'Electric Totals'!FI43","v":0},0,{"$f":"'Electric Totals'!FA43","v":0}]
[null,{"$f":"IF('Electric Totals'!$EZ$25>'Electric Totals'!$FG$25,'Electric Totals'!B19,'Electric Totals'!FD19)","v":"1900-01-01"},{"$f":"IF('Electric Totals'!$EZ$25>'Electric Totals'!$FG$25,'Electric Totals'!C19,'Electric Totals'!FE19)","v":"00:00:00"},{"$f":"IF('Electric Totals'!$EZ$25>'Electric Totals'!$FG$25,'Electric Totals'!D19,'Electric Totals'!FF19)","v":0},{"$f":"'Electric Totals'!FI19","v":0},0,{"$f":"'Electric Totals'!FA19","v":0},null,{"$f":"IF('Electric Totals'!$EZ$50>'Electric Totals'!$FG$50,'Electric Totals'!B44,'Electric Totals'!FD44)","v":"1900-01-01"},{"$f":"IF('Electric Totals'!$EZ$50>'Electric Totals'!$FG$50,'Electric Totals'!C44,'Electric Totals'!FE44)","v":"00:00:00"},{"$f":"IF('Electric Totals'!$EZ$50>'Electric Totals'!$FG$50,'Electric Totals'!D44,'Electric Totals'!FF44)","v":0},{"$f":"'Electric Totals'!FI44","v":0},0,{"$f":"'Electric Totals'!FA44","v":0}]
[null,{"$f":"IF('Electric Totals'!$EZ$25>'Electric Totals'!$FG$25,'Electric Totals'!B20,'Electric Totals'!FD20)","v":"1900-01-01"},{"$f":"IF('Electric Totals'!$EZ$25>'Electric Totals'!$FG$25,'Electric Totals'!C20,'Electric Totals'!FE20)","v":"00:00:00"},{"$f":"IF('Electric Totals'!$EZ$25>'Electric Totals'!$FG$25,'Electric Totals'!D20,'Electric Totals'!FF20)","v":0},{"$f":"'Electric Totals'!FI20","v":0},0,{"$f":"'Electric Totals'!FA20","v":0},null,{"$f":"IF('Electric Totals'!$EZ$50>'Electric Totals'!$FG$50,'Electric Totals'!B45,'Electric Totals'!FD45)","v":"1900-01-01"},{"$f":"IF('Electric Totals'!$EZ$50>'Electric Totals'!$FG$50,'Electric Totals'!C45,'Electric Totals'!FE45)","v":"00:00:00"},{"$f":"IF('Electric Totals'!$EZ$50>'Electric Totals'!$FG$50,'Electric Totals'!D45,'Electric Totals'!FF45)","v":0},{"$f":"'Electric Totals'!FI45","v":0},0,{"$f":"'Electric Totals'!FA45","v":0}]
[null,{"$f":"IF('Electric Totals'!$EZ$25>'Electric Totals'!$FG$25,'Electric Totals'!B21,'Electric Totals'!FD21)","v":"1900-01-01"},{"$f":"IF('Electric Totals'!$EZ$25>'Electric Totals'!$FG$25,'Electric Totals'!C21,'Electric Totals'!FE21)","v":"00:00:00"},{"$f":"IF('Electric Totals'!$EZ$25>'Electric Totals'!$FG$25,'Electric Totals'!D21,'Electric Totals'!FF21)","v":0},{"$f":"'Electric Totals'!FI21","v":0},0,{"$f":"'Electric Totals'!FA21","v":0},null,{"$f":"IF('Electric Totals'!$EZ$50>'Electric Totals'!$FG$50,'Electric Totals'!B46,'Electric Totals'!FD46)","v":"1900-01-01"},{"$f":"IF('Electric Totals'!$EZ$50>'Electric Totals'!$FG$50,'Electric Totals'!C46,'Electric Totals'!FE46)","v":"00:00:00"},{"$f":"IF('Electric Totals'!$EZ$50>'Electric Totals'!$FG$50,'Electric Totals'!D46,'Electric Totals'!FF46)","v":0},{"$f":"'Electric Totals'!FI46","v":0},0,{"$f":"'Electric Totals'!FA46","v":0}]
[null,{"$f":"IF('Electric Totals'!$EZ$25>'Electric Totals'!$FG$25,'Electric Totals'!B22,'Electric Totals'!FD22)","v":"1900-01-01"},{"$f":"IF('Electric Totals'!$EZ$25>'Electric Totals'!$FG$25,'Electric Totals'!C22,'Electric Totals'!FE22)","v":"00:00:00"},{"$f":"IF('Electric Totals'!$EZ$25>'Electric Totals'!$FG$25,'Electric Totals'!D22,'Electric Totals'!FF22)","v":0},{"$f":"'Electric Totals'!FI22","v":0},0,{"$f":"'Electric Totals'!FA22","v":0},null,{"$f":"IF('Electric Totals'!$EZ$50>'Electric Totals'!$FG$50,'Electric Totals'!B47,'Electric Totals'!FD47)","v":"1900-01-01"},{"$f":"IF('Electric Totals'!$EZ$50>'Electric Totals'!$FG$50,'Electric Totals'!C47,'Electric Totals'!FE47)","v":"00:00:00"},{"$f":"IF('Electric Totals'!$EZ$50>'Electric Totals'!$FG$50,'Electric Totals'!D47,'Electric Totals'!FF47)","v":0},{"$f":"'Electric Totals'!FI47","v":0},0,{"$f":"'Electric Totals'!FA47","v":0}]
[null,{"$f":"IF('Electric Totals'!$EZ$25>'Electric Totals'!$FG$25,'Electric Totals'!B23,'Electric Totals'!FD23)","v":"1900-01-01"},{"$f":"IF('Electric Totals'!$EZ$25>'Electric Totals'!$FG$25,'Electric Totals'!C23,'Electric Totals'!FE23)","v":"00:00:00"},{"$f":"IF('Electric Totals'!$EZ$25>'Electric Totals'!$FG$25,'Electric Totals'!D23,'Electric Totals'!FF23)","v":0},{"$f":"'Electric Totals'!FI23","v":0},0,{"$f":"'Electric Totals'!FA23","v":0},null,{"$f":"IF('Electric Totals'!$EZ$50>'Electric Totals'!$FG$50,'Electric Totals'!B48,'Electric Totals'!FD48)","v":"1900-01-01"},{"$f":"IF('Electric Totals'!$EZ$50>'Electric Totals'!$FG$50,'Electric Totals'!C48,'Electric Totals'!FE48)","v":"00:00:00"},{"$f":"IF('Electric Totals'!$EZ$50>'Electric Totals'!$FG$50,'Electric Totals'!D48,'Electric Totals'!FF48)","v":0},{"$f":"'Electric Totals'!FI48","v":0},0,{"$f":"'Electric Totals'!FA48","v":0}]
[null,{"$f":"IF('Electric Totals'!$EZ$25>'Electric Totals'!$FG$25,'Electric Totals'!B24,'Electric Totals'!FD24)","v":"1900-01-01"},{"$f":"IF('Electric Totals'!$EZ$25>'Electric Totals'!$FG$25,'Electric Totals'!C24,'Electric Totals'!FE24)","v":"00:00:00"},{"$f":"IF('Electric Totals'!$EZ$25>'Electric Totals'!$FG$25,'Electric Totals'!D24,'Electric Totals'!FF24)","v":0},{"$f":"'Electric Totals'!FI24","v":0},0,{"$f":"'Electric Totals'!FA24","v":0},null,{"$f":"IF('Electric Totals'!$EZ$50>'Electric Totals'!$FG$50,'Electric Totals'!B49,'Electric Totals'!FD49)","v":"1900-01-01"},{"$f":"IF('Electric Totals'!$EZ$50>'Electric Totals'!$FG$50,'Electric Totals'!C49,'Electric Totals'!FE49)","v":"00:00:00"},{"$f":"IF('Electric Totals'!$EZ$50>'Electric Totals'!$FG$50,'Electric Totals'!D49,'Electric Totals'!FF49)","v":0},{"$f":"'Electric Totals'!FI49","v":0},0,{"$f":"'Electric Totals'!FA49","v":0}]
[null,null,null,{"$f":"SUM(D29:D43)","v":0},{"$f":"SUM(E29:E43)","v":0},{"$f":"SUM(F29:F43)","v":0},{"$f":"'Electric Totals'!FA25","v":0},null,null,null,{"$f":"SUM(K29:K43)","v":0},{"$f":"SUM(L29:L43)","v":0},{"$f":"SUM(M29:M43)","v":0},{"$f":"'Electric Totals'!FA50","v":0}]
[]
[null,"PRE-CONSTRUCTION GAS",null,null,null,null,null,null,"POST-CONSTRUCTION GAS"]
[null,"Billing Period Start Date","Meter Read Date","Days in Billing Period",{"$f":"\"Total  Consumption\n\" & 'Utility Info'!D7","v":"Total  Consumption\n<Not Used>"},"Total Consumption \nMMBtu",null,null,"Billing Period Start Date","Meter Read Date","Days in Billing Period",{"$f":"\"Total Consumption\n\" & 'Utility Info'!D16","v":"Total Consumption\n<Not Used>"},"Total Consumption\nMMBtu"]
[null,{"$f":"IF('Gas Totals'!$DB$25>'Gas Totals'!$DH$25,'Gas Totals'!B10,'Gas Totals'!DE10)","v":"1900-01-01"},{"$f":"IF('Gas Totals'!$DB$25>'Gas Totals'!$DH$25,'Gas Totals'!C10,'Gas Totals'!DF10)","v":"00:00:00"},{"$f":"IF('Gas Totals'!$DB$25>'Gas Totals'!$DH$25,'Gas Totals'!D10,'Gas Totals'!DG10)","v":0},{"$f":"'Gas Totals'!DJ10","v":0},{"$f":"E48*0.1","v":0},null,null,{"$f":"IF('Gas Totals'!$DB$50>'Gas Totals'!$DH$50,'Gas Totals'!B35,'Gas Totals'!DE35)","v":"1900-01-01"},{"$f":"IF('Gas Totals'!$DB$50>'Gas Totals'!$DH$50,'Gas Totals'!C35,'Gas Totals'!DF35)","v":"00:00:00"},{"$f":"IF('Gas Totals'!$DB$50>'Gas Totals'!$DH$50,'Gas Totals'!D35,'Gas Totals'!DG35)","v":0},{"$f":"'Gas Totals'!DJ35","v":0},{"$f":"L48*0.1","v":0}]
[null,{"$f":"IF('Gas Totals'!$DB$25>'Gas Totals'!$DH$25,'Gas Totals'!B11,'Gas Totals'!DE11)","v":"1900-01-01"},{"$f":"IF('Gas Totals'!$DB$25>'Gas Totals'!$DH$25,'Gas Totals'!C11,'Gas Totals'!DF11)","v":"00:00:00"},{"$f":"IF('Gas Totals'!$DB$25>'Gas Totals'!$DH$25,'Gas Totals'!D11,'Gas Totals'!DG11)","v":0},{"$f":"'Gas Totals'!DJ11","v":0},{"$f":"E49*0.1","v":0},null,null,{"$f":"IF('Gas Totals'!$DB$50>'Gas Totals'!$DH$50,'Gas Totals'!B36,'Gas Totals'!DE36)","v":"1900-01-01"},{"$f":"IF('Gas Totals'!$DB$50>'Gas Totals'!$DH$50,'Gas Totals'!C36,'Gas Totals'!DF36)","v":"00:00:00"},{"$f":"IF('Gas Totals'!$DB$50>'Gas Totals'!$DH$50,'Gas Totals'!D36,'Gas Totals'!DG36)","v":0},{"$f":"'Gas Totals'!DJ36","v":0},{"$f":"L49*0.1","v":0}]
[null,{"$f":"IF('Gas Totals'!$DB$25>'Gas Totals'!$DH$25,'Gas Totals'!B12,'Gas Totals'!DE12)","v":"1900-01-01"},{"$f":"IF('Gas Totals'!$DB$25>'Gas Totals'!$DH$25,'Gas Totals'!C12,'Gas Totals'!DF12)","v":"00:00:00"},{"$f":"IF('Gas Totals'!$DB$25>'Gas Totals'!$DH$25,'Gas Totals'!D12,'Gas Totals'!DG12)","v":0},{"$f":"'Gas Totals'!DJ12","v":0},0,null,null,{"$f":"IF('Gas Totals'!$DB$50>'Gas Totals'!$DH$50,'Gas Totals'!B37,'Gas Totals'!DE37)","v":"1900-01-01"},{"$f":"IF('Gas Totals'!$DB$50>'Gas Totals'!$DH$50,'Gas Totals'!C37,'Gas Totals'!DF37)","v":"00:00:00"},{"$f":"IF('Gas Totals'!$DB$50>'Gas Totals'!$DH$50,'Gas Totals'!D37,'Gas Totals'!DG37)","v":0},{"$f":"'Gas Totals'!DJ37","v":0},{"$f":"L50*0.1","v":0}]
[null,{"$f":"IF('Gas Totals'!$DB$25>'Gas Totals'!$DH$25,'Gas Totals'!B13,'Gas Totals'!DE13)","v":"1900-01-01"},{"$f":"IF('Gas Totals'!$DB$25>'Gas Totals'!$DH$25,'Gas Totals'!C13,'Gas Totals'!DF13)","v":"00:00:00"},{"$f":"IF('Gas Totals'!$DB$25>'Gas Totals'!$DH$25,'Gas Totals'!D13,'Gas Totals'!DG13)","v":0},{"$f":"'Gas Totals'!DJ13","v":0},0,null,null,{"$f":"IF('Gas Totals'!$DB$50>'Gas Totals'!$DH$50,'Gas Totals'!B38,'Gas Totals'!DE38)","v":"1900-01-01"},{"$f":"IF('Gas Totals'!$DB$50>'Gas Totals'!$DH$50,'Gas Totals'!C38,'Gas Totals'!DF38)","v":"00:00:00"},{"$f":"IF('Gas Totals'!$DB$50>'Gas Totals'!$DH$50,'Gas Totals'!D38,'Gas Totals'!DG38)","v":0},{"$f":"'Gas Totals'!DJ38","v":0},0]
[null,{"$f":"IF('Gas Totals'!$DB$25>'Gas Totals'!$DH$25,'Gas Totals'!B14,'Gas Totals'!DE14)","v":"1900-01-01"},{"$f":"IF('Gas Totals'!$DB$25>'Gas Totals'!$DH$25,'Gas Totals'!C14,'Gas Totals'!DF14)","v":"00:00:00"},{"$f":"IF('Gas Totals'!$DB$25>'Gas Totals'!$DH$25,'Gas Totals'!D14,'Gas Totals'!DG14)","v":0},{"$f":"'Gas Totals'!DJ14","v":0},0,null,null,{"$f":"IF('Gas Totals'!$DB$50>'Gas Totals'!$DH$50,'Gas Totals'!B39,'Gas Totals'!DE39)","v":"1900-01-01"},{"$f":"IF('Gas Totals'!$DB$50>'Gas Totals'!$DH$50,'Gas Totals'!C39,'Gas Totals'!DF39)","v":"00:00:00"},{"$f":"IF('Gas Totals'!$DB$50>'Gas Totals'!$DH$50,'Gas Totals'!D39,'Gas Totals'!DG39)","v":0},{"$f":"'Gas Totals'!DJ39","v":0},0]
[null,{"$f":"IF('Gas Totals'!$DB$25>'Gas Totals'!$DH$25,'Gas Totals'!B15,'Gas Totals'!DE15)","v":"1900-01-01"},{"$f":"IF('Gas Totals'!$DB$25>'Gas Totals'!$DH$25,'Gas Totals'!C15,'Gas Totals'!DF15)","v":"00:00:00"},{"$f":"IF('Gas Totals'!$DB$25>'Gas Totals'!$DH$25,'Gas Totals'!D15,'Gas Totals'!DG15)","v":0},{"$f":"'Gas Totals'!DJ15","v":0},0,null,null,{"$f":"IF('Gas Totals'!$DB$50>'Gas Totals'!$DH$50,'Gas Totals'!B40,'Gas Totals'!DE40)","v":"1900-01-01"},{"$f":"IF('Gas Totals'!$DB$50>'Gas Totals'!$DH$50,'Gas Totals'!C40,'Gas Totals'!DF40)","v":"00:00:00"},{"$f":"IF('Gas Totals'!$DB$50>'Gas Totals'!$DH$50,'Gas Totals'!D40,'Gas Totals'!DG40)","v":0},{"$f":"'Gas Totals'!DJ40","v":0},0]
[null,{"$f":"IF('Gas Totals'!$DB$25>'Gas Totals'!$DH$25,'Gas Totals'!B16,'Gas Totals'!DE16)","v":"1900-01-01"},{"$f":"IF('Gas Totals'!$DB$25>'Gas Totals'!$DH$25,'Gas Totals'!C16,'Gas Totals'!DF16)","v":"00:00:00"},{"$f":"IF('Gas Totals'!$DB$25>'Gas Totals'!$DH$25,'Gas Totals'!D16,'Gas Totals'!DG16)","v":0},{"$f":"'Gas Totals'!DJ16","v":0},0,null,null,{"$f":"IF('Gas Totals'!$DB$50>'Gas Totals'!$DH$50,'Gas Totals'!B41,'Gas Totals'!DE41)","v":"1900-01-01"},{"$f":"IF('Gas Totals'!$DB$50>'Gas Totals'!$DH$50,'Gas Totals'!C41,'Gas Totals'!DF41)","v":"00:00:00"},{"$f":"IF('Gas Totals'!$DB$50>'Gas Totals'!$DH$50,'Gas Totals'!D41,'Gas Totals'!DG41)","v":0},{"$f":"'Gas Totals'!DJ41","v":0},0]
[null,{"$f":"IF('Gas Totals'!$DB$25>'Gas Totals'!$DH$25,'Gas Totals'!B17,'Gas Totals'!DE17)","v":"1900-01-01"},{"$f":"IF('Gas Totals'!$DB$25>'Gas Totals'!$DH$25,'Gas Totals'!C17,'Gas Totals'!DF17)","v":"00:00:00"},{"$f":"IF('Gas Totals'!$DB$25>'Gas Totals'!$DH$25,'Gas Totals'!D17,'Gas Totals'!DG17)","v":0},{"$f":"'Gas Totals'!DJ17","v":0},0,null,null,{"$f":"IF('Gas Totals'!$DB$50>'Gas Totals'!$DH$50,'Gas Totals'!B42,'Gas Totals'!DE42)","v":"1900-01-01"},{"$f":"IF('Gas Totals'!$DB$50>'Gas Totals'!$DH$50,'Gas Totals'!C42,'Gas Totals'!DF42)","v":"00:00:00"},{"$f":"IF('Gas Totals'!$DB$50>'Gas Totals'!$DH$50,'Gas Totals'!D42,'Gas Totals'!DG42)","v":0},{"$f":"'Gas Totals'!DJ42","v":0},0]
[null,{"$f":"IF('Gas Totals'!$DB$25>'Gas Totals'!$DH$25,'Gas Totals'!B18,'Gas Totals'!DE18)","v":"1900-01-01"},{"$f":"IF('Gas Totals'!$DB$25>'Gas Totals'!$DH$25,'Gas Totals'!C18,'Gas Totals'!DF18)","v":"00:00:00"},{"$f":"IF('Gas Totals'!$DB$25>'Gas Totals'!$DH$25,'Gas Totals'!D18,'Gas Totals'!DG18)","v":0},{"$f":"'Gas Totals'!DJ18","v":0},0,null,null,{"$f":"IF('Gas Totals'!$DB$50>'Gas Totals'!$DH$50,'Gas Totals'!B43,'Gas Totals'!DE43)","v":"1900-01-01"},{"$f":"IF('Gas Totals'!$DB$50>'Gas Totals'!$DH$50,'Gas Totals'!C43,'Gas Totals'!DF43)","v":"00:00:00"},{"$f":"IF('Gas Totals'!$DB$50>'Gas Totals'!$DH$50,'Gas Totals'!D43,'Gas Totals'!DG43)","v":0},{"$f":"'Gas Totals'!DJ43","v":0},0]
[null,{"$f":"IF('Gas Totals'!$DB$25>'Gas Totals'!$DH$25,'Gas Totals'!B19,'Gas Totals'!DE19)","v":"1900-01-01"},{"$f":"IF('Gas Totals'!$DB$25>'Gas Totals'!$DH$25,'Gas Totals'!C19,'Gas Totals'!DF19)","v":"00:00:00"},{"$f":"IF('Gas Totals'!$DB$25>'Gas Totals'!$DH$25,'Gas Totals'!D19,'Gas Totals'!DG19)","v":0},{"$f":"'Gas Totals'!DJ19","v":0},0,null,null,{"$f":"IF('Gas Totals'!$DB$50>'Gas Totals'!$DH$50,'Gas Totals'!B44,'Gas Totals'!DE44)","v":"1900-01-01"},{"$f":"IF('Gas Totals'!$DB$50>'Gas Totals'!$DH$50,'Gas Totals'!C44,'Gas Totals'!DF44)","v":"00:00:00"},{"$f":"IF('Gas Totals'!$DB$50>'Gas Totals'!$DH$50,'Gas Totals'!D44,'Gas Totals'!DG44)","v":0},{"$f":"'Gas Totals'!DJ44","v":0},0]
[null,{"$f":"IF('Gas Totals'!$DB$25>'Gas Totals'!$DH$25,'Gas Totals'!B20,'Gas Totals'!DE20)","v":"1900-01-01"},{"$f":"IF('Gas Totals'!$DB$25>'Gas Totals'!$DH$25,'Gas Totals'!C20,'Gas Totals'!DF20)","v":"00:00:00"},{"$f":"IF('Gas Totals'!$DB$25>'Gas Totals'!$DH$25,'Gas Totals'!D20,'Gas Totals'!DG20)","v":0},{"$f":"'Gas Totals'!DJ20","v":0},0,null,null,{"$f":"IF('Gas Totals'!$DB$50>'Gas Totals'!$DH$50,'Gas Totals'!B45,'Gas Totals'!DE45)","v":"1900-01-01"},{"$f":"IF('Gas Totals'!$DB$50>'Gas Totals'!$DH$50,'Gas Totals'!C45,'Gas Totals'!DF45)","v":"00:00:00"},{"$f":"IF('Gas Totals'!$DB$50>'Gas Totals'!$DH$50,'Gas Totals'!D45,'Gas Totals'!DG45)","v":0},{"$f":"'Gas Totals'!DJ45","v":0},0]
[null,{"$f":"IF('Gas Totals'!$DB$25>'Gas Totals'!$DH$25,'Gas Totals'!B21,'Gas Totals'!DE21)","v":"1900-01-01"},{"$f":"IF('Gas Totals'!$DB$25>'Gas Totals'!$DH$25,'Gas Totals'!C21,'Gas Totals'!DF21)","v":"00:00:00"},{"$f":"IF('Gas Totals'!$DB$25>'Gas Totals'!$DH$25,'Gas Totals'!D21,'Gas Totals'!DG21)","v":0},{"$f":"'Gas Totals'!DJ21","v":0},0,null,null,{"$f":"IF('Gas Totals'!$DB$50>'Gas Totals'!$DH$50,'Gas Totals'!B46,'Gas Totals'!DE46)","v":"1900-01-01"},{"$f":"IF('Gas Totals'!$DB$50>'Gas Totals'!$DH$50,'Gas Totals'!C46,'Gas Totals'!DF46)","v":"00:00:00"},{"$f":"IF('Gas Totals'!$DB$50>'Gas Totals'!$DH$50,'Gas Totals'!D46,'Gas Totals'!DG46)","v":0},{"$f":"'Gas Totals'!DJ46","v":0},0]
[null,{"$f":"IF('Gas Totals'!$DB$25>'Gas Totals'!$DH$25,'Gas Totals'!B22,'Gas Totals'!DE22)","v":"1900-01-01"},{"$f":"IF('Gas Totals'!$DB$25>'Gas Totals'!$DH$25,'Gas Totals'!C22,'Gas Totals'!DF22)","v":"00:00:00"},{"$f":"IF('Gas Totals'!$DB$25>'Gas Totals'!$DH$25,'Gas Totals'!D22,'Gas Totals'!DG22)","v":0},{"$f":"'Gas Totals'!DJ22","v":0},0,null,null,{"$f":"IF('Gas Totals'!$DB$50>'Gas Totals'!$DH$50,'Gas Totals'!B47,'Gas Totals'!DE47)","v":"1900-01-01"},{"$f":"IF('Gas Totals'!$DB$50>'Gas Totals'!$DH$50,'Gas Totals'!C47,'Gas Totals'!DF47)","v":"00:00:00"},{"$f":"IF('Gas Totals'!$DB$50>'Gas Totals'!$DH$50,'Gas Totals'!D47,'Gas Totals'!DG47)","v":0},{"$f":"'Gas Totals'!DJ47","v":0},0]
[null,{"$f":"IF('Gas Totals'!$DB$25>'Gas Totals'!$DH$25,'Gas Totals'!B23,'Gas Totals'!DE23)","v":"1900-01-01"},{"$f":"IF('Gas Totals'!$DB$25>'Gas Totals'!$DH$25,'Gas Totals'!C23,'Gas Totals'!DF23)","v":"00:00:00"},{"$f":"IF('Gas Totals'!$DB$25>'Gas Totals'!$DH$25,'Gas Totals'!D23,'Gas Totals'!DG23)","v":0},{"$f":"'Gas Totals'!DJ23","v":0},0,null,null,{"$f":"IF('Gas Totals'!$DB$50>'Gas Totals'!$DH$50,'Gas Totals'!B48,'Gas Totals'!DE48)","v":"1900-01-01"},{"$f":"IF('Gas Totals'!$DB$50>'Gas Totals'!$DH$50,'Gas Totals'!C48,'Gas Totals'!DF48)","v":"00:00:00"},{"$f":"IF('Gas Totals'!$DB$50>'Gas Totals'!$DH$50,'Gas Totals'!D48,'Gas Totals'!DG48)","v":0},{"$f":"'Gas Totals'!DJ48","v":0},0]
[null,{"$f":"IF('Gas Totals'!$DB$25>'Gas Totals'!$DH$25,'Gas Totals'!B24,'Gas Totals'!DE24)","v":"1900-01-01"},{"$f":"IF('Gas Totals'!$DB$25>'Gas Totals'!$DH$25,'Gas Totals'!C24,'Gas Totals'!DF24)","v":"00:00:00"},{"$f":"IF('Gas Totals'!$DB$25>'Gas Totals'!$DH$25,'Gas Totals'!D24,'Gas Totals'!DG24)","v":0},{"$f":"'Gas Totals'!DJ24","v":0},0,null,null,{"$f":"IF('Gas Totals'!$DB$50>'Gas Totals'!$DH$50,'Gas Totals'!B49,'Gas Totals'!DE49)","v":"1900-01-01"},{"$f":"IF('Gas Totals'!$DB$50>'Gas Totals'!$DH$50,'Gas Totals'!C49,'Gas Totals'!DF49)","v":"00:00:00"},{"$f":"IF('Gas Totals'!$DB$50>'Gas Totals'!$DH$50,'Gas Totals'!D49,'Gas Totals'!DG49)","v":0},{"$f":"'Gas Totals'!DJ49","v":0},0]
[null,null,null,{"$f":"SUM(D48:D62)","v":0},{"$f":"SUM(E48:E62)","v":0},{"$f":"SUM(F48:F62)","v":0},null,null,null,null,{"$f":"SUM(K48:K62)","v":0},{"$f":"SUM(L48:L62)","v":0},{"$f":"SUM(M48:M62)","v":0}]
[]
[null,"PRE-CONSTRUCTION OIL",null,null,null,null,null,null,"POST-CONSTRUCTION OIL"]
[null,"Billing Period Start Date","Read Date","Days in Billing Period",{"$f":"\"Total  Consumption\n\" & 'Utility Info'!E7","v":"Total  Consumption\n<Not Used>"},"Total Consumption\nMMBtu",null,null,"Billing Period Start Date","Read Date","Days in Billing Period",{"$f":"\"Total  Consumption\n\" & 'Utility Info'!E16","v":"Total  Consumption\n<Not Used>"},"Total Consumption\nMMBtu"]
[null,{"$f":"Oil!B9","v":"1900-01-01"},{"$f":"Oil!C9","v":"00:00:00"},{"$f":"Oil!D9","v":0},{"$f":"Oil!E9","v":0},{"$f":"Oil!G9","v":0},null,null,{"$f":"Oil!B53","v":"1900-01-01"},{"$f":"Oil!C53","v":"00:00:00"},{"$f":"Oil!D53","v":0},{"$f":"Oil!E53","v":0},{"$f":"Oil!G53","v":0}]
[null,{"$f":"Oil!B10","v":"1900-01-01"},{"$f":"Oil!C10","v":"00:00:00"},{"$f":"Oil!D10","v":0},{"$f":"Oil!E10","v":0},{"$f":"Oil!G10","v":0},null,null,{"$f":"Oil!B54","v":"1900-01-01"},{"$f":"Oil!C54","v":"00:00:00"},{"$f":"Oil!D54","v":0},{"$f":"Oil!E54","v":0},{"$f":"Oil!G54","v":0}]
[null,{"$f":"Oil!B11","v":"1900-01-01"},{"$f":"Oil!C11","v":"00:00:00"},{"$f":"Oil!D11","v":0},{"$f":"Oil!E11","v":0},{"$f":"Oil!G11","v":0},null,null,{"$f":"Oil!B55","v":"1900-01-01"},{"$f":"Oil!C55","v":"00:00:00"},{"$f":"Oil!D55","v":0},{"$f":"Oil!E55","v":0},{"$f":"Oil!G55","v":0}]
[null,{"$f":"Oil!B12","v":"1900-01-01"},{"$f":"Oil!C12","v":"00:00:00"},{"$f":"Oil!D12","v":0},{"$f":"Oil!E12","v":0},{"$f":"Oil!G12","v":0},null,null,{"$f":"Oil!B56","v":"1900-01-01"},{"$f":"Oil!C56","v":"00:00:00"},{"$f":"Oil!D56","v":0},{"$f":"Oil!E56","v":0},{"$f":"Oil!G56","v":0}]
[null,{"$f":"Oil!B13","v":"1900-01-01"},{"$f":"Oil!C13","v":"00:00:00"},{"$f":"Oil!D13","v":0},{"$f":"Oil!E13","v":0},{"$f":"Oil!G13","v":0},null,null,{"$f":"Oil!B57","v":"1900-01-01"},{"$f":"Oil!C57","v":"00:00:00"},{"$f":"Oil!D57","v":0},{"$f":"Oil!E57","v":0},{"$f":"Oil!G57","v":0}]
[null,{"$f":"Oil!B14","v":"1900-01-01"},{"$f":"Oil!C14","v":"00:00:00"},{"$f":"Oil!D14","v":0},{"$f":"Oil!E14","v":0},{"$f":"Oil!G14","v":0},null,null,{"$f":"Oil!B58","v":"1900-01-01"},{"$f":"Oil!C58","v":"00:00:00"},{"$f":"Oil!D58","v":0},{"$f":"Oil!E58","v":0},{"$f":"Oil!G58","v":0}]
[null,{"$f":"Oil!B15","v":"1900-01-01"},{"$f":"Oil!C15","v":"00:00:00"},{"$f":"Oil!D15","v":0},{"$f":"Oil!E15","v":0},{"$f":"Oil!G15","v":0},null,null,{"$f":"Oil!B59","v":"1900-01-01"},{"$f":"Oil!C59","v":"00:00:00"},{"$f":"Oil!D59","v":0},{"$f":"Oil!E59","v":0},{"$f":"Oil!G59","v":0}]
[null,{"$f":"Oil!B16","v":"1900-01-01"},{"$f":"Oil!C16","v":"00:00:00"},{"$f":"Oil!D16","v":0},{"$f":"Oil!E16","v":0},{"$f":"Oil!G16","v":0},null,null,{"$f":"Oil!B60","v":"1900-01-01"},{"$f":"Oil!C60","v":"00:00:00"},{"$f":"Oil!D60","v":0},{"$f":"Oil!E60","v":0},{"$f":"Oil!G60","v":0}]
[null,{"$f":"Oil!B17","v":"1900-01-01"},{"$f":"Oil!C17","v":"00:00:00"},{"$f":"Oil!D17","v":0},{"$f":"Oil!E17","v":0},{"$f":"Oil!G17","v":0},null,null,{"$f":"Oil!B61","v":"1900-01-01"},{"$f":"Oil!C61","v":"00:00:00"},{"$f":"Oil!D61","v":0},{"$f":"Oil!E61","v":0},{"$f":"Oil!G61","v":0}]
[null,{"$f":"Oil!B18","v":"1900-01-01"},{"$f":"Oil!C18","v":"00:00:00"},{"$f":"Oil!D18","v":0},{"$f":"Oil!E18","v":0},{"$f":"Oil!G18","v":0},null,null,{"$f":"Oil!B62","v":"1900-01-01"},{"$f":"Oil!C62","v":"00:00:00"},{"$f":"Oil!D62","v":0},{"$f":"Oil!E62","v":0},{"$f":"Oil!G62","v":0}]
[null,{"$f":"Oil!B19","v":"1900-01-01"},{"$f":"Oil!C19","v":"00:00:00"},{"$f":"Oil!D19","v":0},{"$f":"Oil!E19","v":0},{"$f":"Oil!G19","v":0},null,null,{"$f":"Oil!B63","v":"1900-01-01"},{"$f":"Oil!C63","v":"00:00:00"},{"$f":"Oil!D63","v":0},{"$f":"Oil!E63","v":0},{"$f":"Oil!G63","v":0}]
[null,{"$f":"Oil!B20","v":"1900-01-01"},{"$f":"Oil!C20","v":"00:00:00"},{"$f":"Oil!D20","v":0},{"$f":"Oil!E20","v":0},{"$f":"Oil!G20","v":0},null,null,{"$f":"Oil!B64","v":"1900-01-01"},{"$f":"Oil!C64","v":"00:00:00"},{"$f":"Oil!D64","v":0},{"$f":"Oil!E64","v":0},{"$f":"Oil!G64","v":0}]
[null,{"$f":"Oil!B21","v":"1900-01-01"},{"$f":"Oil!C21","v":"00:00:00"},{"$f":"Oil!D21","v":0},{"$f":"Oil!E21","v":0},{"$f":"Oil!G21","v":0},null,null,{"$f":"Oil!B65","v":"1900-01-01"},{"$f":"Oil!C65","v":"00:00:00"},{"$f":"Oil!D65","v":0},{"$f":"Oil!E65","v":0},{"$f":"Oil!G65","v":0}]
[null,{"$f":"Oil!B22","v":"1900-01-01"},{"$f":"Oil!C22","v":"00:00:00"},{"$f":"Oil!D22","v":0},{"$f":"Oil!E22","v":0},{"$f":"Oil!G22","v":0},null,null,{"$f":"Oil!B66","v":"1900-01-01"},{"$f":"Oil!C66","v":"00:00:00"},{"$f":"Oil!D66","v":0},{"$f":"Oil!E66","v":0},{"$f":"Oil!G66","v":0}]
[null,{"$f":"Oil!B23","v":"1900-01-01"},{"$f":"Oil!C23","v":"00:00:00"},{"$f":"Oil!D23","v":0},{"$f":"Oil!E23","v":0},{"$f":"Oil!G23","v":0},null,null,{"$f":"Oil!B67","v":"1900-01-01"},{"$f":"Oil!C67","v":"00:00:00"},{"$f":"Oil!D67","v":0},{"$f":"Oil!E67","v":0},{"$f":"Oil!G67","v":0}]
[null,{"$f":"Oil!B24","v":"1900-01-01"},{"$f":"Oil!C24","v":"00:00:00"},{"$f":"Oil!D24","v":0},{"$f":"Oil!E24","v":0},{"$f":"Oil!G24","v":0},null,null,{"$f":"Oil!B68","v":"1900-01-01"},{"$f":"Oil!C68","v":"00:00:00"},{"$f":"Oil!D68","v":0},{"$f":"Oil!E68","v":0},{"$f":"Oil!G68","v":0}]
[null,{"$f":"Oil!B25","v":"1900-01-01"},{"$f":"Oil!C25","v":"00:00:00"},{"$f":"Oil!D25","v":0},{"$f":"Oil!E25","v":0},{"$f":"Oil!G25","v":0},null,null,{"$f":"Oil!B69","v":"1900-01-01"},{"$f":"Oil!C69","v":"00:00:00"},{"$f":"Oil!D69","v":0},{"$f":"Oil!E69","v":0},{"$f":"Oil!G69","v":0}]
[null,{"$f":"Oil!B26","v":"1900-01-01"},{"$f":"Oil!C26","v":"00:00:00"},{"$f":"Oil!D26","v":0},{"$f":"Oil!E26","v":0},{"$f":"Oil!G26","v":0},null,null,{"$f":"Oil!B70","v":"1900-01-01"},{"$f":"Oil!C70","v":"00:00:00"},{"$f":"Oil!D70","v":0},{"$f":"Oil!E70","v":0},{"$f":"Oil!G70","v":0}]
[null,{"$f":"Oil!B27","v":"1900-01-01"},{"$f":"Oil!C27","v":"00:00:00"},{"$f":"Oil!D27","v":0},{"$f":"Oil!E27","v":0},{"$f":"Oil!G27","v":0},null,null,{"$f":"Oil!B71","v":"1900-01-01"},{"$f":"Oil!C71","v":"00:00:00"},{"$f":"Oil!D71","v":0},{"$f":"Oil!E71","v":0},{"$f":"Oil!G71","v":0}]
[null,{"$f":"Oil!B28","v":"1900-01-01"},{"$f":"Oil!C28","v":"00:00:00"},{"$f":"Oil!D28","v":0},{"$f":"Oil!E28","v":0},{"$f":"Oil!G28","v":0},null,null,{"$f":"Oil!B72","v":"1900-01-01"},{"$f":"Oil!C72","v":"00:00:00"},{"$f":"Oil!D72","v":0},{"$f":"Oil!E72","v":0},{"$f":"Oil!G72","v":0}]
[null,{"$f":"Oil!B29","v":"1900-01-01"},{"$f":"Oil!C29","v":"00:00:00"},{"$f":"Oil!D29","v":0},{"$f":"Oil!E29","v":0},{"$f":"Oil!G29","v":0},null,null,{"$f":"Oil!B73","v":"1900-01-01"},{"$f":"Oil!C73","v":"00:00:00"},{"$f":"Oil!D73","v":0},{"$f":"Oil!E73","v":0},{"$f":"Oil!G73","v":0}]
[null,{"$f":"Oil!B30","v":"1900-01-01"},{"$f":"Oil!C30","v":"00:00:00"},{"$f":"Oil!D30","v":0},{"$f":"Oil!E30","v":0},{"$f":"Oil!G30","v":0},null,null,{"$f":"Oil!B74","v":"1900-01-01"},{"$f":"Oil!C74","v":"00:00:00"},{"$f":"Oil!D74","v":0},{"$f":"Oil!E74","v":0},{"$f":"Oil!G74","v":0}]
[null,{"$f":"Oil!B31","v":"1900-01-01"},{"$f":"Oil!C31","v":"00:00:00"},{"$f":"Oil!D31","v":0},{"$f":"Oil!E31","v":0},{"$f":"Oil!G31","v":0},null,null,{"$f":"Oil!B75","v":"1900-01-01"},{"$f":"Oil!C75","v":"00:00:00"},{"$f":"Oil!D75","v":0},{"$f":"Oil!E75","v":0},{"$f":"Oil!G75","v":0}]
[null,{"$f":"Oil!B32","v":"1900-01-01"},{"$f":"Oil!C32","v":"00:00:00"},{"$f":"Oil!D32","v":0},{"$f":"Oil!E32","v":0},{"$f":"Oil!G32","v":0},null,null,{"$f":"Oil!B76","v":"1900-01-01"},{"$f":"Oil!C76","v":"00:00:00"},{"$f":"Oil!D76","v":0},{"$f":"Oil!E76","v":0},{"$f":"Oil!G76","v":0}]
[null,{"$f":"Oil!B33","v":"1900-01-01"},{"$f":"Oil!C33","v":"00:00:00"},{"$f":"Oil!D33","v":0},{"$f":"Oil!E33","v":0},{"$f":"Oil!G33","v":0},null,null,{"$f":"Oil!B77","v":"1900-01-01"},{"$f":"Oil!C77","v":"00:00:00"},{"$f":"Oil!D77","v":0},{"$f":"Oil!E77","v":0},{"$f":"Oil!G77","v":0}]
[null,{"$f":"Oil!B34","v":"1900-01-01"},{"$f":"Oil!C34","v":"00:00:00"},{"$f":"Oil!D34","v":0},{"$f":"Oil!E34","v":0},{"$f":"Oil!G34","v":0},null,null,{"$f":"Oil!B78","v":"1900-01-01"},{"$f":"Oil!C78","v":"00:00:00"},{"$f":"Oil!D78","v":0},{"$f":"Oil!E78","v":0},{"$f":"Oil!G78","v":0}]
[null,{"$f":"Oil!B35","v":"1900-01-01"},{"$f":"Oil!C35","v":"00:00:00"},{"$f":"Oil!D35","v":0},{"$f":"Oil!E35","v":0},{"$f":"Oil!G35","v":0},null,null,{"$f":"Oil!B79","v":"1900-01-01"},{"$f":"Oil!C79","v":"00:00:00"},{"$f":"Oil!D79","v":0},{"$f":"Oil!E79","v":0},{"$f":"Oil!G79","v":0}]
[null,{"$f":"Oil!B36","v":"1900-01-01"},{"$f":"Oil!C36","v":"00:00:00"},{"$f":"Oil!D36","v":0},{"$f":"Oil!E36","v":0},{"$f":"Oil!G36","v":0},null,null,{"$f":"Oil!B80","v":"1900-01-01"},{"$f":"Oil!C80","v":"00:00:00"},{"$f":"Oil!D80","v":0},{"$f":"Oil!E80","v":0},{"$f":"Oil!G80","v":0}]
[null,{"$f":"Oil!B37","v":"1900-01-01"},{"$f":"Oil!C37","v":"00:00:00"},{"$f":"Oil!D37","v":0},{"$f":"Oil!E37","v":0},{"$f":"Oil!G37","v":0},null,null,{"$f":"Oil!B81","v":"1900-01-01"},{"$f":"Oil!C81","v":"00:00:00"},{"$f":"Oil!D81","v":0},{"$f":"Oil!E81","v":0},{"$f":"Oil!G81","v":0}]
[null,{"$f":"Oil!B38","v":"1900-01-01"},{"$f":"Oil!C38","v":"00:00:00"},{"$f":"Oil!D38","v":0},{"$f":"Oil!E38","v":0},{"$f":"Oil!G38","v":0},null,null,{"$f":"Oil!B82","v":"1900-01-01"},{"$f":"Oil!C82","v":"00:00:00"},{"$f":"Oil!D82","v":0},{"$f":"Oil!E82","v":0},{"$f":"Oil!G82","v":0}]
[null,{"$f":"Oil!B39","v":"1900-01-01"},{"$f":"Oil!C39","v":"00:00:00"},{"$f":"Oil!D39","v":0},{"$f":"Oil!E39","v":0},{"$f":"Oil!G39","v":0},null,null,{"$f":"Oil!B83","v":"1900-01-01"},{"$f":"Oil!C83","v":"00:00:00"},{"$f":"Oil!D83","v":0},{"$f":"Oil!E83","v":0},{"$f":"Oil!G83","v":0}]
[null,{"$f":"Oil!B40","v":"1900-01-01"},{"$f":"Oil!C40","v":"00:00:00"},{"$f":"Oil!D40","v":0},{"$f":"Oil!E40","v":0},{"$f":"Oil!G40","v":0},null,null,{"$f":"Oil!B84","v":"1900-01-01"},{"$f":"Oil!C84","v":"00:00:00"},{"$f":"Oil!D84","v":0},{"$f":"Oil!E84","v":0},{"$f":"Oil!G84","v":0}]
[null,{"$f":"Oil!B41","v":"1900-01-01"},{"$f":"Oil!C41","v":"00:00:00"},{"$f":"Oil!D41","v":0},{"$f":"Oil!E41","v":0},{"$f":"Oil!G41","v":0},null,null,{"$f":"Oil!B85","v":"1900-01-01"},{"$f":"Oil!C85","v":"00:00:00"},{"$f":"Oil!D85","v":0},{"$f":"Oil!E85","v":0},{"$f":"Oil!G85","v":0}]
[null,{"$f":"Oil!B42","v":"1900-01-01"},{"$f":"Oil!C42","v":"00:00:00"},{"$f":"Oil!D42","v":0},{"$f":"Oil!E42","v":0},{"$f":"Oil!G42","v":0},null,null,{"$f":"Oil!B86","v":"1900-01-01"},{"$f":"Oil!C86","v":"00:00:00"},{"$f":"Oil!D86","v":0},{"$f":"Oil!E86","v":0},{"$f":"Oil!G86","v":0}]
[null,null,null,{"$f":"SUM(D67:D100)","v":0},{"$f":"SUM(E67:E100)","v":0},{"$f":"SUM(F67:F100)","v":0},null,null,null,null,{"$f":"SUM(K67:K100)","v":0},{"$f":"SUM(L67:L100)","v":0},{"$f":"SUM(M67:M100)","v":0}]
[]
[null,"PRE-CONSTRUCTION PROPANE",null,null,null,null,null,null,"POST-CONSTRUCTION PROPANE"]
[null,"Billing Period Start Date","Read Date","Days in Billing Period",{"$f":"\"Total  Consumption\n\" &'Utility Info'!F7","v":"Total  Consumption\n<Not Used>"},"Total Consumption\nMMBtu",null,null,"Billing Period Start Date","Read Date","Days in Billing Period",{"$f":"\"Total  Consumption\n\" &'Utility Info'!F16","v":"Total  Consumption\n<Not Used>"},"Total Consumption\nMMBtu"]
[null,{"$f":"Propane!B9","v":"1900-01-01"},{"$f":"Propane!C9","v":"00:00:00"},{"$f":"Propane!D9","v":0},{"$f":"Propane!E9","v":0},{"$f":"Propane!G9","v":0},null,null,{"$f":"Propane!B53","v":"1900-01-01"},{"$f":"Propane!C53","v":"00:00:00"},{"$f":"Propane!D53","v":0},{"$f":"Propane!E53","v":0},{"$f":"Propane!G53","v":0}]
[null,{"$f":"Propane!B10","v":"1900-01-01"},{"$f":"Propane!C10","v":"00:00:00"},{"$f":"Propane!D10","v":0},{"$f":"Propane!E10","v":0},{"$f":"Propane!G10","v":0},null,null,{"$f":"Propane!B54","v":"1900-01-01"},{"$f":"Propane!C54","v":"00:00:00"},{"$f":"Propane!D54","v":0},{"$f":"Propane!E54","v":0},{"$f":"Propane!G54","v":0}]
[null,{"$f":"Propane!B11","v":"1900-01-01"},{"$f":"Propane!C11","v":"00:00:00"},{"$f":"Propane!D11","v":0},{"$f":"Propane!E11","v":0},{"$f":"Propane!G11","v":0},null,null,{"$f":"Propane!B55","v":"1900-01-01"},{"$f":"Propane!C55","v":"00:00:00"},{"$f":"Propane!D55","v":0},{"$f":"Propane!E55","v":0},{"$f":"Propane!G55","v":0}]
[null,{"$f":"Propane!B12","v":"1900-01-01"},{"$f":"Propane!C12","v":"00:00:00"},{"$f":"Propane!D12","v":0},{"$f":"Propane!E12","v":0},{"$f":"Propane!G12","v":0},null,null,{"$f":"Propane!B56","v":"1900-01-01"},{"$f":"Propane!C56","v":"00:00:00"},{"$f":"Propane!D56","v":0},{"$f":"Propane!E56","v":0},{"$f":"Propane!G56","v":0}]
[null,{"$f":"Propane!B13","v":"1900-01-01"},{"$f":"Propane!C13","v":"00:00:00"},{"$f":"Propane!D13","v":0},{"$f":"Propane!E13","v":0},{"$f":"Propane!G13","v":0},null,null,{"$f":"Propane!B57","v":"1900-01-01"},{"$f":"Propane!C57","v":"00:00:00"},{"$f":"Propane!D57","v":0},{"$f":"Propane!E57","v":0},{"$f":"Propane!G57","v":0}]
[null,{"$f":"Propane!B14","v":"1900-01-01"},{"$f":"Propane!C14","v":"00:00:00"},{"$f":"Propane!D14","v":0},{"$f":"Propane!E14","v":0},{"$f":"Propane!G14","v":0},null,null,{"$f":"Propane!B58","v":"1900-01-01"},{"$f":"Propane!C58","v":"00:00:00"},{"$f":"Propane!D58","v":0},{"$f":"Propane!E58","v":0},{"$f":"Propane!G58","v":0}]
[null,{"$f":"Propane!B15","v":"1900-01-01"},{"$f":"Propane!C15","v":"00:00:00"},{"$f":"Propane!D15","v":0},{"$f":"Propane!E15","v":0},{"$f":"Propane!G15","v":0},null,null,{"$f":"Propane!B59","v":"1900-01-01"},{"$f":"Propane!C59","v":"00:00:00"},{"$f":"Propane!D59","v":0},{"$f":"Propane!E59","v":0},{"$f":"Propane!G59","v":0}]
[null,{"$f":"Propane!B16","v":"1900-01-01"},{"$f":"Propane!C16","v":"00:00:00"},{"$f":"Propane!D16","v":0},{"$f":"Propane!E16","v":0},{"$f":"Propane!G16","v":0},null,null,{"$f":"Propane!B60","v":"1900-01-01"},{"$f":"Propane!C60","v":"00:00:00"},{"$f":"Propane!D60","v":0},{"$f":"Propane!E60","v":0},{"$f":"Propane!G60","v":0}]
[null,{"$f":"Propane!B17","v":"1900-01-01"},{"$f":"Propane!C17","v":"00:00:00"},{"$f":"Propane!D17","v":0},{"$f":"Propane!E17","v":0},{"$f":"Propane!G17","v":0},null,null,{"$f":"Propane!B61","v":"1900-01-01"},{"$f":"Propane!C61","v":"00:00:00"},{"$f":"Propane!D61","v":0},{"$f":"Propane!E61","v":0},{"$f":"Propane!G61","v":0}]
[null,{"$f":"Propane!B18","v":"1900-01-01"},{"$f":"Propane!C18","v":"00:00:00"},{"$f":"Propane!D18","v":0},{"$f":"Propane!E18","v":0},{"$f":"Propane!G18","v":0},null,null,{"$f":"Propane!B62","v":"1900-01-01"},{"$f":"Propane!C62","v":"00:00:00"},{"$f":"Propane!D62","v":0},{"$f":"Propane!E62","v":0},{"$f":"Propane!G62","v":0}]
[null,{"$f":"Propane!B19","v":"1900-01-01"},{"$f":"Propane!C19","v":"00:00:00"},{"$f":"Propane!D19","v":0},{"$f":"Propane!E19","v":0},{"$f":"Propane!G19","v":0},null,null,{"$f":"Propane!B63","v":"1900-01-01"},{"$f":"Propane!C63","v":"00:00:00"},{"$f":"Propane!D63","v":0},{"$f":"Propane!E63","v":0},{"$f":"Propane!G63","v":0}]
[null,{"$f":"Propane!B20","v":"1900-01-01"},{"$f":"Propane!C20","v":"00:00:00"},{"$f":"Propane!D20","v":0},{"$f":"Propane!E20","v":0},{"$f":"Propane!G20","v":0},null,null,{"$f":"Propane!B64","v":"1900-01-01"},{"$f":"Propane!C64","v":"00:00:00"},{"$f":"Propane!D64","v":0},{"$f":"Propane!E64","v":0},{"$f":"Propane!G64","v":0}]
[null,{"$f":"Propane!B21","v":"1900-01-01"},{"$f":"Propane!C21","v":"00:00:00"},{"$f":"Propane!D21","v":0},{"$f":"Propane!E21","v":0},{"$f":"Propane!G21","v":0},null,null,{"$f":"Propane!B65","v":"1900-01-01"},{"$f":"Propane!C65","v":"00:00:00"},{"$f":"Propane!D65","v":0},{"$f":"Propane!E65","v":0},{"$f":"Propane!G65","v":0}]
[null,{"$f":"Propane!B22","v":"1900-01-01"},{"$f":"Propane!C22","v":"00:00:00"},{"$f":"Propane!D22","v":0},{"$f":"Propane!E22","v":0},{"$f":"Propane!G22","v":0},null,null,{"$f":"Propane!B66","v":"1900-01-01"},{"$f":"Propane!C66","v":"00:00:00"},{"$f":"Propane!D66","v":0},{"$f":"Propane!E66","v":0},{"$f":"Propane!G66","v":0}]
[null,{"$f":"Propane!B23","v":"1900-01-01"},{"$f":"Propane!C23","v":"00:00:00"},{"$f":"Propane!D23","v":0},{"$f":"Propane!E23","v":0},{"$f":"Propane!G23","v":0},null,null,{"$f":"Propane!B67","v":"1900-01-01"},{"$f":"Propane!C67","v":"00:00:00"},{"$f":"Propane!D67","v":0},{"$f":"Propane!E67","v":0},{"$f":"Propane!G67","v":0}]
[null,{"$f":"Propane!B24","v":"1900-01-01"},{"$f":"Propane!C24","v":"00:00:00"},{"$f":"Propane!D24","v":0},{"$f":"Propane!E24","v":0},{"$f":"Propane!G24","v":0},null,null,{"$f":"Propane!B68","v":"1900-01-01"},{"$f":"Propane!C68","v":"00:00:00"},{"$f":"Propane!D68","v":0},{"$f":"Propane!E68","v":0},{"$f":"Propane!G68","v":0}]
[null,{"$f":"Propane!B25","v":"1900-01-01"},{"$f":"Propane!C25","v":"00:00:00"},{"$f":"Propane!D25","v":0},{"$f":"Propane!E25","v":0},{"$f":"Propane!G25","v":0},null,null,{"$f":"Propane!B69","v":"1900-01-01"},{"$f":"Propane!C69","v":"00:00:00"},{"$f":"Propane!D69","v":0},{"$f":"Propane!E69","v":0},{"$f":"Propane!G69","v":0}]
[null,{"$f":"Propane!B26","v":"1900-01-01"},{"$f":"Propane!C26","v":"00:00:00"},{"$f":"Propane!D26","v":0},{"$f":"Propane!E26","v":0},{"$f":"Propane!G26","v":0},null,null,{"$f":"Propane!B70","v":"1900-01-01"},{"$f":"Propane!C70","v":"00:00:00"},{"$f":"Propane!D70","v":0},{"$f":"Propane!E70","v":0},{"$f":"Propane!G70","v":0}]
[null,{"$f":"Propane!B27","v":"1900-01-01"},{"$f":"Propane!C27","v":"00:00:00"},{"$f":"Propane!D27","v":0},{"$f":"Propane!E27","v":0},{"$f":"Propane!G27","v":0},null,null,{"$f":"Propane!B71","v":"1900-01-01"},{"$f":"Propane!C71","v":"00:00:00"},{"$f":"Propane!D71","v":0},{"$f":"Propane!E71","v":0},{"$f":"Propane!G71","v":0}]
[null,{"$f":"Propane!B28","v":"1900-01-01"},{"$f":"Propane!C28","v":"00:00:00"},{"$f":"Propane!D28","v":0},{"$f":"Propane!E28","v":0},{"$f":"Propane!G28","v":0},null,null,{"$f":"Propane!B72","v":"1900-01-01"},{"$f":"Propane!C72","v":"00:00:00"},{"$f":"Propane!D72","v":0},{"$f":"Propane!E72","v":0},{"$f":"Propane!G72","v":0}]
[null,{"$f":"Propane!B29","v":"1900-01-01"},{"$f":"Propane!C29","v":"00:00:00"},{"$f":"Propane!D29","v":0},{"$f":"Propane!E29","v":0},{"$f":"Propane!G29","v":0},null,null,{"$f":"Propane!B73","v":"1900-01-01"},{"$f":"Propane!C73","v":"00:00:00"},{"$f":"Propane!D73","v":0},{"$f":"Propane!E73","v":0},{"$f":"Propane!G73","v":0}]
[null,{"$f":"Propane!B30","v":"1900-01-01"},{"$f":"Propane!C30","v":"00:00:00"},{"$f":"Propane!D30","v":0},{"$f":"Propane!E30","v":0},{"$f":"Propane!G30","v":0},null,null,{"$f":"Propane!B74","v":"1900-01-01"},{"$f":"Propane!C74","v":"00:00:00"},{"$f":"Propane!D74","v":0},{"$f":"Propane!E74","v":0},{"$f":"Propane!G74","v":0}]
[null,{"$f":"Propane!B31","v":"1900-01-01"},{"$f":"Propane!C31","v":"00:00:00"},{"$f":"Propane!D31","v":0},{"$f":"Propane!E31","v":0},{"$f":"Propane!G31","v":0},null,null,{"$f":"Propane!B75","v":"1900-01-01"},{"$f":"Propane!C75","v":"00:00:00"},{"$f":"Propane!D75","v":0},{"$f":"Propane!E75","v":0},{"$f":"Propane!G75","v":0}]
[null,{"$f":"Propane!B32","v":"1900-01-01"},{"$f":"Propane!C32","v":"00:00:00"},{"$f":"Propane!D32","v":0},{"$f":"Propane!E32","v":0},{"$f":"Propane!G32","v":0},null,null,{"$f":"Propane!B76","v":"1900-01-01"},{"$f":"Propane!C76","v":"00:00:00"},{"$f":"Propane!D76","v":0},{"$f":"Propane!E76","v":0},{"$f":"Propane!G76","v":0}]
[null,{"$f":"Propane!B33","v":"1900-01-01"},{"$f":"Propane!C33","v":"00:00:00"},{"$f":"Propane!D33","v":0},{"$f":"Propane!E33","v":0},{"$f":"Propane!G33","v":0},null,null,{"$f":"Propane!B77","v":"1900-01-01"},{"$f":"Propane!C77","v":"00:00:00"},{"$f":"Propane!D77","v":0},{"$f":"Propane!E77","v":0},{"$f":"Propane!G77","v":0}]
[null,{"$f":"Propane!B34","v":"1900-01-01"},{"$f":"Propane!C34","v":"00:00:00"},{"$f":"Propane!D34","v":0},{"$f":"Propane!E34","v":0},{"$f":"Propane!G34","v":0},null,null,{"$f":"Propane!B78","v":"1900-01-01"},{"$f":"Propane!C78","v":"00:00:00"},{"$f":"Propane!D78","v":0},{"$f":"Propane!E78","v":0},{"$f":"Propane!G78","v":0}]
[null,{"$f":"Propane!B35","v":"1900-01-01"},{"$f":"Propane!C35","v":"00:00:00"},{"$f":"Propane!D35","v":0},{"$f":"Propane!E35","v":0},{"$f":"Propane!G35","v":0},null,null,{"$f":"Propane!B79","v":"1900-01-01"},{"$f":"Propane!C79","v":"00:00:00"},{"$f":"Propane!D79","v":0},{"$f":"Propane!E79","v":0},{"$f":"Propane!G79","v":0}]
[null,{"$f":"Propane!B36","v":"1900-01-01"},{"$f":"Propane!C36","v":"00:00:00"},{"$f":"Propane!D36","v":0},{"$f":"Propane!E36","v":0},{"$f":"Propane!G36","v":0},null,null,{"$f":"Propane!B80","v":"1900-01-01"},{"$f":"Propane!C80","v":"00:00:00"},{"$f":"Propane!D80","v":0},{"$f":"Propane!E80","v":0},{"$f":"Propane!G80","v":0}]
[null,{"$f":"Propane!B37","v":"1900-01-01"},{"$f":"Propane!C37","v":"00:00:00"},{"$f":"Propane!D37","v":0},{"$f":"Propane!E37","v":0},{"$f":"Propane!G37","v":0},null,null,{"$f":"Propane!B81","v":"1900-01-01"},{"$f":"Propane!C81","v":"00:00:00"},{"$f":"Propane!D81","v":0},{"$f":"Propane!E81","v":0},{"$f":"Propane!G81","v":0}]
[null,{"$f":"Propane!B38","v":"1900-01-01"},{"$f":"Propane!C38","v":"00:00:00"},{"$f":"Propane!D38","v":0},{"$f":"Propane!E38","v":0},{"$f":"Propane!G38","v":0},null,null,{"$f":"Propane!B82","v":"1900-01-01"},{"$f":"Propane!C82","v":"00:00:00"},{"$f":"Propane!D82","v":0},{"$f":"Propane!E82","v":0},{"$f":"Propane!G82","v":0}]
[null,{"$f":"Propane!B39","v":"1900-01-01"},{"$f":"Propane!C39","v":"00:00:00"},{"$f":"Propane!D39","v":0},{"$f":"Propane!E39","v":0},{"$f":"Propane!G39","v":0},null,null,{"$f":"Propane!B83","v":"1900-01-01"},{"$f":"Propane!C83","v":"00:00:00"},{"$f":"Propane!D83","v":0},{"$f":"Propane!E83","v":0},{"$f":"Propane!G83","v":0}]
[null,{"$f":"Propane!B40","v":"1900-01-01"},{"$f":"Propane!C40","v":"00:00:00"},{"$f":"Propane!D40","v":0},{"$f":"Propane!E40","v":0},{"$f":"Propane!G40","v":0},null,null,{"$f":"Propane!B84","v":"1900-01-01"},{"$f":"Propane!C84","v":"00:00:00"},{"$f":"Propane!D84","v":0},{"$f":"Propane!E84","v":0},{"$f":"Propane!G84","v":0}]
[null,{"$f":"Propane!B41","v":"1900-01-01"},{"$f":"Propane!C41","v":"00:00:00"},{"$f":"Propane!D41","v":0},{"$f":"Propane!E41","v":0},{"$f":"Propane!G41","v":0},null,null,{"$f":"Propane!B85","v":"1900-01-01"},{"$f":"Propane!C85","v":"00:00:00"},{"$f":"Propane!D85","v":0},{"$f":"Propane!E85","v":0},{"$f":"Propane!G85","v":0}]
[null,{"$f":"Propane!B42","v":"1900-01-01"},{"$f":"Propane!C42","v":"00:00:00"},{"$f":"Propane!D42","v":0},{"$f":"Propane!E42","v":0},{"$f":"Propane!G42","v":0},null,null,{"$f":"Propane!B86","v":"1900-01-01"},{"$f":"Propane!C86","v":"00:00:00"},{"$f":"Propane!D86","v":0},{"$f":"Propane!E86","v":0},{"$f":"Propane!G86","v":0}]
[null,null,null,{"$f":"SUM(D105:D138)","v":0},{"$f":"SUM(E105:E138)","v":0},{"$f":"SUM(F105:F138)","v":0},null,null,null,null,{"$f":"SUM(K105:K138)","v":0},{"$f":"SUM(L105:L138)","v":0},{"$f":"SUM(M105:M138)","v":0}]
[]
[null,"PRE-CONSTRUCTION STEAM",null,null,null,null,null,null,"POST-CONSTRUCTION STEAM"]
[null,"Billing Period Start Date","Meter Read Date","Days in Billing Period",{"$f":"Steam!E7","v":"Steam Consumption\n(<Not Used>)"},"Steam Consumption\nMMBtu",null,null,"Billing Period Start Date","Meter Read Date","Days in Billing Period",{"$f":"Steam!E31","v":"Steam Consumption\n(<Not Used>)"},"Steam Consumption\nMMBtu"]
[null,{"$f":"Steam!B9","v":"1900-01-01"},{"$f":"Steam!C9","v":"00:00:00"},{"$f":"Steam!D9","v":0},{"$f":"Steam!E9","v":0},{"$f":"Steam!H9","v":0},null,null,{"$f":"Steam!B33","v":"1900-01-01"},{"$f":"Steam!C33","v":"00:00:00"},{"$f":"Steam!D33","v":0},{"$f":"Steam!E33","v":0},{"$f":"Steam!H33","v":0}]
[null,{"$f":"Steam!B10","v":"1900-01-01"},{"$f":"Steam!C10","v":"00:00:00"},{"$f":"Steam!D10","v":0},{"$f":"Steam!E10","v":0},{"$f":"Steam!H10","v":0},null,null,{"$f":"Steam!B34","v":"1900-01-01"},{"$f":"Steam!C34","v":"00:00:00"},{"$f":"Steam!D34","v":0},{"$f":"Steam!E34","v":0},{"$f":"Steam!H34","v":0}]
[null,{"$f":"Steam!B11","v":"1900-01-01"},{"$f":"Steam!C11","v":"00:00:00"},{"$f":"Steam!D11","v":0},{"$f":"Steam!E11","v":0},{"$f":"Steam!H11","v":0},null,null,{"$f":"Steam!B35","v":"1900-01-01"},{"$f":"Steam!C35","v":"00:00:00"},{"$f":"Steam!D35","v":0},{"$f":"Steam!E35","v":0},{"$f":"Steam!H35","v":0}]
[null,{"$f":"Steam!B12","v":"1900-01-01"},{"$f":"Steam!C12","v":"00:00:00"},{"$f":"Steam!D12","v":0},{"$f":"Steam!E12","v":0},{"$f":"Steam!H12","v":0},null,null,{"$f":"Steam!B36","v":"1900-01-01"},{"$f":"Steam!C36","v":"00:00:00"},{"$f":"Steam!D36","v":0},{"$f":"Steam!E36","v":0},{"$f":"Steam!H36","v":0}]
[null,{"$f":"Steam!B13","v":"1900-01-01"},{"$f":"Steam!C13","v":"00:00:00"},{"$f":"Steam!D13","v":0},{"$f":"Steam!E13","v":0},{"$f":"Steam!H13","v":0},null,null,{"$f":"Steam!B37","v":"1900-01-01"},{"$f":"Steam!C37","v":"00:00:00"},{"$f":"Steam!D37","v":0},{"$f":"Steam!E37","v":0},{"$f":"Steam!H37","v":0}]
[null,{"$f":"Steam!B14","v":"1900-01-01"},{"$f":"Steam!C14","v":"00:00:00"},{"$f":"Steam!D14","v":0},{"$f":"Steam!E14","v":0},{"$f":"Steam!H14","v":0},null,null,{"$f":"Steam!B38","v":"1900-01-01"},{"$f":"Steam!C38","v":"00:00:00"},{"$f":"Steam!D38","v":0},{"$f":"Steam!E38","v":0},{"$f":"Steam!H38","v":0}]
[null,{"$f":"Steam!B15","v":"1900-01-01"},{"$f":"Steam!C15","v":"00:00:00"},{"$f":"Steam!D15","v":0},{"$f":"Steam!E15","v":0},{"$f":"Steam!H15","v":0},null,null,{"$f":"Steam!B39","v":"1900-01-01"},{"$f":"Steam!C39","v":"00:00:00"},{"$f":"Steam!D39","v":0},{"$f":"Steam!E39","v":0},{"$f":"Steam!H39","v":0}]
[null,{"$f":"Steam!B16","v":"1900-01-01"},{"$f":"Steam!C16","v":"00:00:00"},{"$f":"Steam!D16","v":0},{"$f":"Steam!E16","v":0},{"$f":"Steam!H16","v":0},null,null,{"$f":"Steam!B40","v":"1900-01-01"},{"$f":"Steam!C40","v":"00:00:00"},{"$f":"Steam!D40","v":0},{"$f":"Steam!E40","v":0},{"$f":"Steam!H40","v":0}]
[null,{"$f":"Steam!B17","v":"1900-01-01"},{"$f":"Steam!C17","v":"00:00:00"},{"$f":"Steam!D17","v":0},{"$f":"Steam!E17","v":0},{"$f":"Steam!H17","v":0},null,null,{"$f":"Steam!B41","v":"1900-01-01"},{"$f":"Steam!C41","v":"00:00:00"},{"$f":"Steam!D41","v":0},{"$f":"Steam!E41","v":0},{"$f":"Steam!H41","v":0}]
[null,{"$f":"Steam!B18","v":"1900-01-01"},{"$f":"Steam!C18","v":"00:00:00"},{"$f":"Steam!D18","v":0},{"$f":"Steam!E18","v":0},{"$f":"Steam!H18","v":0},null,null,{"$f":"Steam!B42","v":"1900-01-01"},{"$f":"Steam!C42","v":"00:00:00"},{"$f":"Steam!D42","v":0},{"$f":"Steam!E42","v":0},{"$f":"Steam!H42","v":0}]
[null,{"$f":"Steam!B19","v":"1900-01-01"},{"$f":"Steam!C19","v":"00:00:00"},{"$f":"Steam!D19","v":0},{"$f":"Steam!E19","v":0},{"$f":"Steam!H19","v":0},null,null,{"$f":"Steam!B43","v":"1900-01-01"},{"$f":"Steam!C43","v":"00:00:00"},{"$f":"Steam!D43","v":0},{"$f":"Steam!E43","v":0},{"$f":"Steam!H43","v":0}]
[null,{"$f":"Steam!B20","v":"1900-01-01"},{"$f":"Steam!C20","v":"00:00:00"},{"$f":"Steam!D20","v":0},{"$f":"Steam!E20","v":0},{"$f":"Steam!H20","v":0},null,null,{"$f":"Steam!B44","v":"1900-01-01"},{"$f":"Steam!C44","v":"00:00:00"},{"$f":"Steam!D44","v":0},{"$f":"Steam!E44","v":0},{"$f":"Steam!H44","v":0}]
[null,{"$f":"Steam!B21","v":"1900-01-01"},{"$f":"Steam!C21","v":"00:00:00"},{"$f":"Steam!D21","v":0},{"$f":"Steam!E21","v":0},{"$f":"Steam!H21","v":0},null,null,{"$f":"Steam!B45","v":"1900-01-01"},{"$f":"Steam!C45","v":"00:00:00"},{"$f":"Steam!D45","v":0},{"$f":"Steam!E45","v":0},{"$f":"Steam!H45","v":0}]
[null,{"$f":"Steam!B22","v":"1900-01-01"},{"$f":"Steam!C22","v":"00:00:00"},{"$f":"Steam!D22","v":0},{"$f":"Steam!E22","v":0},{"$f":"Steam!H22","v":0},null,null,{"$f":"Steam!B46","v":"1900-01-01"},{"$f":"Steam!C46","v":"00:00:00"},{"$f":"Steam!D46","v":0},{"$f":"Steam!E46","v":0},{"$f":"Steam!H46","v":0}]
[null,{"$f":"Steam!B23","v":"1900-01-01"},{"$f":"Steam!C23","v":"00:00:00"},{"$f":"Steam!D23","v":0},{"$f":"Steam!E23","v":0},{"$f":"Steam!H23","v":0},null,null,{"$f":"Steam!B47","v":"1900-01-01"},{"$f":"Steam!C47","v":"00:00:00"},{"$f":"Steam!D47","v":0},{"$f":"Steam!E47","v":0},{"$f":"Steam!H47","v":0}]
[null,null,null,{"$f":"SUM(D143:D157)","v":0},{"$f":"SUM(E143:E157)","v":0},{"$f":"SUM(F143:F157)","v":0},null,null,null,null,{"$f":"SUM(K143:K157)","v":0},{"$f":"SUM(L143:L157)","v":0},{"$f":"SUM(M143:M157)","v":0}]
[]
[null,"PRE-CONSTRUCTION CHILLED WATER",null,null,null,null,null,null,"POST-CONSTRUCTION CHILLED WATER"]
[null,"Billing Period Start Date","Meter Read Date","Days in Billing Period","Chilled Water Consumption MMBtu","Chilled Water Consumption\nMMBtu",null,null,"Billing Period Start Date","Meter Read Date","Days in Billing Period","Chilled Water Consumption MMBtu","Chilled Water Consumption\nMMBtu"]
[null,{"$f":"'Chilled Water'!B9","v":"1900-01-01"},{"$f":"'Chilled Water'!C9","v":"00:00:00"},{"$f":"'Chilled Water'!D9","v":0},{"$f":"'Chilled Water'!E9","v":0},{"$f":"'Chilled Water'!G9","v":0},null,null,{"$f":"'Chilled Water'!B33","v":"1900-01-01"},{"$f":"'Chilled Water'!C33","v":"00:00:00"},{"$f":"'Chilled Water'!D33","v":0},{"$f":"'Chilled Water'!E33","v":0},{"$f":"'Chilled Water'!G33","v":0}]
[null,{"$f":"'Chilled Water'!B10","v":"1900-01-01"},{"$f":"'Chilled Water'!C10","v":"00:00:00"},{"$f":"'Chilled Water'!D10","v":0},{"$f":"'Chilled Water'!E10","v":0},{"$f":"'Chilled Water'!G10","v":0},null,null,{"$f":"'Chilled Water'!B34","v":"1900-01-01"},{"$f":"'Chilled Water'!C34","v":"00:00:00"},{"$f":"'Chilled Water'!D34","v":0},{"$f":"'Chilled Water'!E34","v":0},{"$f":"'Chilled Water'!G34","v":0}]
[null,{"$f":"'Chilled Water'!B11","v":"1900-01-01"},{"$f":"'Chilled Water'!C11","v":"00:00:00"},{"$f":"'Chilled Water'!D11","v":0},{"$f":"'Chilled Water'!E11","v":0},{"$f":"'Chilled Water'!G11","v":0},null,null,{"$f":"'Chilled Water'!B35","v":"1900-01-01"},{"$f":"'Chilled Water'!C35","v":"00:00:00"},{"$f":"'Chilled Water'!D35","v":0},{"$f":"'Chilled Water'!E35","v":0},{"$f":"'Chilled Water'!G35","v":0}]
[null,{"$f":"'Chilled Water'!B12","v":"1900-01-01"},{"$f":"'Chilled Water'!C12","v":"00:00:00"},{"$f":"'Chilled Water'!D12","v":0},{"$f":"'Chilled Water'!E12","v":0},{"$f":"'Chilled Water'!G12","v":0},null,null,{"$f":"'Chilled Water'!B36","v":"1900-01-01"},{"$f":"'Chilled Water'!C36","v":"00:00:00"},{"$f":"'Chilled Water'!D36","v":0},{"$f":"'Chilled Water'!E36","v":0},{"$f":"'Chilled Water'!G36","v":0}]
[null,{"$f":"'Chilled Water'!B13","v":"1900-01-01"},{"$f":"'Chilled Water'!C13","v":"00:00:00"},{"$f":"'Chilled Water'!D13","v":0},{"$f":"'Chilled Water'!E13","v":0},{"$f":"'Chilled Water'!G13","v":0},null,null,{"$f":"'Chilled Water'!B37","v":"1900-01-01"},{"$f":"'Chilled Water'!C37","v":"00:00:00"},{"$f":"'Chilled Water'!D37","v":0},{"$f":"'Chilled Water'!E37","v":0},{"$f":"'Chilled Water'!G37","v":0}]
[null,{"$f":"'Chilled Water'!B14","v":"1900-01-01"},{"$f":"'Chilled Water'!C14","v":"00:00:00"},{"$f":"'Chilled Water'!D14","v":0},{"$f":"'Chilled Water'!E14","v":0},{"$f":"'Chilled Water'!G14","v":0},null,null,{"$f":"'Chilled Water'!B38","v":"1900-01-01"},{"$f":"'Chilled Water'!C38","v":"00:00:00"},{"$f":"'Chilled Water'!D38","v":0},{"$f":"'Chilled Water'!E38","v":0},{"$f":"'Chilled Water'!G38","v":0}]
[null,{"$f":"'Chilled Water'!B15","v":"1900-01-01"},{"$f":"'Chilled Water'!C15","v":"00:00:00"},{"$f":"'Chilled Water'!D15","v":0},{"$f":"'Chilled Water'!E15","v":0},{"$f":"'Chilled Water'!G15","v":0},null,null,{"$f":"'Chilled Water'!B39","v":"1900-01-01"},{"$f":"'Chilled Water'!C39","v":"00:00:00"},{"$f":"'Chilled Water'!D39","v":0},{"$f":"'Chilled Water'!E39","v":0},{"$f":"'Chilled Water'!G39","v":0}]
[null,{"$f":"'Chilled Water'!B16","v":"1900-01-01"},{"$f":"'Chilled Water'!C16","v":"00:00:00"},{"$f":"'Chilled Water'!D16","v":0},{"$f":"'Chilled Water'!E16","v":0},{"$f":"'Chilled Water'!G16","v":0},null,null,{"$f":"'Chilled Water'!B40","v":"1900-01-01"},{"$f":"'Chilled Water'!C40","v":"00:00:00"},{"$f":"'Chilled Water'!D40","v":0},{"$f":"'Chilled Water'!E40","v":0},{"$f":"'Chilled Water'!G40","v":0}]
[null,{"$f":"'Chilled Water'!B17","v":"1900-01-01"},{"$f":"'Chilled Water'!C17","v":"00:00:00"},{"$f":"'Chilled Water'!D17","v":0},{"$f":"'Chilled Water'!E17","v":0},{"$f":"'Chilled Water'!G17","v":0},null,null,{"$f":"'Chilled Water'!B41","v":"1900-01-01"},{"$f":"'Chilled Water'!C41","v":"00:00:00"},{"$f":"'Chilled Water'!D41","v":0},{"$f":"'Chilled Water'!E41","v":0},{"$f":"'Chilled Water'!G41","v":0}]
[null,{"$f":"'Chilled Water'!B18","v":"1900-01-01"},{"$f":"'Chilled Water'!C18","v":"00:00:00"},{"$f":"'Chilled Water'!D18","v":0},{"$f":"'Chilled Water'!E18","v":0},{"$f":"'Chilled Water'!G18","v":0},null,null,{"$f":"'Chilled Water'!B42","v":"1900-01-01"},{"$f":"'Chilled Water'!C42","v":"00:00:00"},{"$f":"'Chilled Water'!D42","v":0},{"$f":"'Chilled Water'!E42","v":0},{"$f":"'Chilled Water'!G42","v":0}]
[null,{"$f":"'Chilled Water'!B19","v":"1900-01-01"},{"$f":"'Chilled Water'!C19","v":"00:00:00"},{"$f":"'Chilled Water'!D19","v":0},{"$f":"'Chilled Water'!E19","v":0},{"$f":"'Chilled Water'!G19","v":0},null,null,{"$f":"'Chilled Water'!B43","v":"1900-01-01"},{"$f":"'Chilled Water'!C43","v":"00:00:00"},{"$f":"'Chilled Water'!D43","v":0},{"$f":"'Chilled Water'!E43","v":0},{"$f":"'Chilled Water'!G43","v":0}]
[null,{"$f":"'Chilled Water'!B20","v":"1900-01-01"},{"$f":"'Chilled Water'!C20","v":"00:00:00"},{"$f":"'Chilled Water'!D20","v":0},{"$f":"'Chilled Water'!E20","v":0},{"$f":"'Chilled Water'!G20","v":0},null,null,{"$f":"'Chilled Water'!B44","v":"1900-01-01"},{"$f":"'Chilled Water'!C44","v":"00:00:00"},{"$f":"'Chilled Water'!D44","v":0},{"$f":"'Chilled Water'!E44","v":0},{"$f":"'Chilled Water'!G44","v":0}]
[null,{"$f":"'Chilled Water'!B21","v":"1900-01-01"},{"$f":"'Chilled Water'!C21","v":"00:00:00"},{"$f":"'Chilled Water'!D21","v":0},{"$f":"'Chilled Water'!E21","v":0},{"$f":"'Chilled Water'!G21","v":0},null,null,{"$f":"'Chilled Water'!B45","v":"1900-01-01"},{"$f":"'Chilled Water'!C45","v":"00:00:00"},{"$f":"'Chilled Water'!D45","v":0},{"$f":"'Chilled Water'!E45","v":0},{"$f":"'Chilled Water'!G45","v":0}]
[null,{"$f":"'Chilled Water'!B22","v":"1900-01-01"},{"$f":"'Chilled Water'!C22","v":"00:00:00"},{"$f":"'Chilled Water'!D22","v":0},{"$f":"'Chilled Water'!E22","v":0},{"$f":"'Chilled Water'!G22","v":0},null,null,{"$f":"'Chilled Water'!B46","v":"1900-01-01"},{"$f":"'Chilled Water'!C46","v":"00:00:00"},{"$f":"'Chilled Water'!D46","v":0},{"$f":"'Chilled Water'!E46","v":0},{"$f":"'Chilled Water'!G46","v":0}]
[null,{"$f":"'Chilled Water'!B23","v":"1900-01-01"},{"$f":"'Chilled Water'!C23","v":"00:00:00"},{"$f":"'Chilled Water'!D23","v":0},{"$f":"'Chilled Water'!E23","v":0},{"$f":"'Chilled Water'!G23","v":0},null,null,{"$f":"'Chilled Water'!B47","v":"1900-01-01"},{"$f":"'Chilled Water'!C47","v":"00:00:00"},{"$f":"'Chilled Water'!D47","v":0},{"$f":"'Chilled Water'!E47","v":0},{"$f":"'Chilled Water'!G47","v":0}]
[null,null,null,{"$f":"SUM(D162:D176)","v":0},{"$f":"SUM(E162:E176)","v":0},{"$f":"SUM(F162:F176)","v":0},null,null,null,null,{"$f":"SUM(K162:K176)","v":0},{"$f":"SUM(L162:L176)","v":0},{"$f":"SUM(M162:M176)","v":0}]
[]
[null,"PRE-CONSTRUCTION HOT WATER",null,null,null,null,null,null,"POST-CONSTRUCTION HOT WATER"]
[null,"Billing Period Start Date","Meter Read Date","Days in Billing Period","Hot Water Consumption MMBtu","Hot Water Consumption\nMMBtu",null,null,"Billing Period Start Date","Meter Read Date","Days in Billing Period","Hot Water Consumption MMBtu","Hot Water Consumption\nMMBtu"]
[null,{"$f":"'Hot Water'!B9","v":"1900-01-01"},{"$f":"'Hot Water'!C9","v":"00:00:00"},{"$f":"'Hot Water'!D9","v":0},{"$f":"'Hot Water'!E9","v":0},{"$f":"'Hot Water'!G9","v":0},null,null,{"$f":"'Hot Water'!B33","v":"1900-01-01"},{"$f":"'Hot Water'!C33","v":"00:00:00"},{"$f":"'Hot Water'!D33","v":0},{"$f":"'Hot Water'!E33","v":0},{"$f":"'Hot Water'!G33","v":0}]
[null,{"$f":"'Hot Water'!B10","v":"1900-01-01"},{"$f":"'Hot Water'!C10","v":"00:00:00"},{"$f":"'Hot Water'!D10","v":0},{"$f":"'Hot Water'!E10","v":0},{"$f":"'Hot Water'!G10","v":0},null,null,{"$f":"'Hot Water'!B34","v":"1900-01-01"},{"$f":"'Hot Water'!C34","v":"00:00:00"},{"$f":"'Hot Water'!D34","v":0},{"$f":"'Hot Water'!E34","v":0},{"$f":"'Hot Water'!G34","v":0}]
[null,{"$f":"'Hot Water'!B11","v":"1900-01-01"},{"$f":"'Hot Water'!C11","v":"00:00:00"},{"$f":"'Hot Water'!D11","v":0},{"$f":"'Hot Water'!E11","v":0},{"$f":"'Hot Water'!G11","v":0},null,null,{"$f":"'Hot Water'!B35","v":"1900-01-01"},{"$f":"'Hot Water'!C35","v":"00:00:00"},{"$f":"'Hot Water'!D35","v":0},{"$f":"'Hot Water'!E35","v":0},{"$f":"'Hot Water'!G35","v":0}]
[null,{"$f":"'Hot Water'!B12","v":"1900-01-01"},{"$f":"'Hot Water'!C12","v":"00:00:00"},{"$f":"'Hot Water'!D12","v":0},{"$f":"'Hot Water'!E12","v":0},{"$f":"'Hot Water'!G12","v":0},null,null,{"$f":"'Hot Water'!B36","v":"1900-01-01"},{"$f":"'Hot Water'!C36","v":"00:00:00"},{"$f":"'Hot Water'!D36","v":0},{"$f":"'Hot Water'!E36","v":0},{"$f":"'Hot Water'!G36","v":0}]
[null,{"$f":"'Hot Water'!B13","v":"1900-01-01"},{"$f":"'Hot Water'!C13","v":"00:00:00"},{"$f":"'Hot Water'!D13","v":0},{"$f":"'Hot Water'!E13","v":0},{"$f":"'Hot Water'!G13","v":0},null,null,{"$f":"'Hot Water'!B37","v":"1900-01-01"},{"$f":"'Hot Water'!C37","v":"00:00:00"},{"$f":"'Hot Water'!D37","v":0},{"$f":"'Hot Water'!E37","v":0},{"$f":"'Hot Water'!G37","v":0}]
[null,{"$f":"'Hot Water'!B14","v":"1900-01-01"},{"$f":"'Hot Water'!C14","v":"00:00:00"},{"$f":"'Hot Water'!D14","v":0},{"$f":"'Hot Water'!E14","v":0},{"$f":"'Hot Water'!G14","v":0},null,null,{"$f":"'Hot Water'!B38","v":"1900-01-01"},{"$f":"'Hot Water'!C38","v":"00:00:00"},{"$f":"'Hot Water'!D38","v":0},{"$f":"'Hot Water'!E38","v":0},{"$f":"'Hot Water'!G38","v":0}]
[null,{"$f":"'Hot Water'!B15","v":"1900-01-01"},{"$f":"'Hot Water'!C15","v":"00:00:00"},{"$f":"'Hot Water'!D15","v":0},{"$f":"'Hot Water'!E15","v":0},{"$f":"'Hot Water'!G15","v":0},null,null,{"$f":"'Hot Water'!B39","v":"1900-01-01"},{"$f":"'Hot Water'!C39","v":"00:00:00"},{"$f":"'Hot Water'!D39","v":0},{"$f":"'Hot Water'!E39","v":0},{"$f":"'Hot Water'!G39","v":0}]
[null,{"$f":"'Hot Water'!B16","v":"1900-01-01"},{"$f":"'Hot Water'!C16","v":"00:00:00"},{"$f":"'Hot Water'!D16","v":0},{"$f":"'Hot Water'!E16","v":0},{"$f":"'Hot Water'!G16","v":0},null,null,{"$f":"'Hot Water'!B40","v":"1900-01-01"},{"$f":"'Hot Water'!C40","v":"00:00:00"},{"$f":"'Hot Water'!D40","v":0},{"$f":"'Hot Water'!E40","v":0},{"$f":"'Hot Water'!G40","v":0}]
[null,{"$f":"'Hot Water'!B17","v":"1900-01-01"},{"$f":"'Hot Water'!C17","v":"00:00:00"},{"$f":"'Hot Water'!D17","v":0},{"$f":"'Hot Water'!E17","v":0},{"$f":"'Hot Water'!G17","v":0},null,null,{"$f":"'Hot Water'!B41","v":"1900-01-01"},{"$f":"'Hot Water'!C41","v":"00:00:00"},{"$f":"'Hot Water'!D41","v":0},{"$f":"'Hot Water'!E41","v":0},{"$f":"'Hot Water'!G41","v":0}]
[null,{"$f":"'Hot Water'!B18","v":"1900-01-01"},{"$f":"'Hot Water'!C18","v":"00:00:00"},{"$f":"'Hot Water'!D18","v":0},{"$f":"'Hot Water'!E18","v":0},{"$f":"'Hot Water'!G18","v":0},null,null,{"$f":"'Hot Water'!B42","v":"1900-01-01"},{"$f":"'Hot Water'!C42","v":"00:00:00"},{"$f":"'Hot Water'!D42","v":0},{"$f":"'Hot Water'!E42","v":0},{"$f":"'Hot Water'!G42","v":0}]
[null,{"$f":"'Hot Water'!B19","v":"1900-01-01"},{"$f":"'Hot Water'!C19","v":"00:00:00"},{"$f":"'Hot Water'!D19","v":0},{"$f":"'Hot Water'!E19","v":0},{"$f":"'Hot Water'!G19","v":0},null,null,{"$f":"'Hot Water'!B43","v":"1900-01-01"},{"$f":"'Hot Water'!C43","v":"00:00:00"},{"$f":"'Hot Water'!D43","v":0},{"$f":"'Hot Water'!E43","v":0},{"$f":"'Hot Water'!G43","v":0}]
[null,{"$f":"'Hot Water'!B20","v":"1900-01-01"},{"$f":"'Hot Water'!C20","v":"00:00:00"},{"$f":"'Hot Water'!D20","v":0},{"$f":"'Hot Water'!E20","v":0},{"$f":"'Hot Water'!G20","v":0},null,null,{"$f":"'Hot Water'!B44","v":"1900-01-01"},{"$f":"'Hot Water'!C44","v":"00:00:00"},{"$f":"'Hot Water'!D44","v":0},{"$f":"'Hot Water'!E44","v":0},{"$f":"'Hot Water'!G44","v":0}]
[null,{"$f":"'Hot Water'!B21","v":"1900-01-01"},{"$f":"'Hot Water'!C21","v":"00:00:00"},{"$f":"'Hot Water'!D21","v":0},{"$f":"'Hot Water'!E21","v":0},{"$f":"'Hot Water'!G21","v":0},null,null,{"$f":"'Hot Water'!B45","v":"1900-01-01"},{"$f":"'Hot Water'!C45","v":"00:00:00"},{"$f":"'Hot Water'!D45","v":0},{"$f":"'Hot Water'!E45","v":0},{"$f":"'Hot Water'!G45","v":0}]
[null,{"$f":"'Hot Water'!B22","v":"1900-01-01"},{"$f":"'Hot Water'!C22","v":"00:00:00"},{"$f":"'Hot Water'!D22","v":0},{"$f":"'Hot Water'!E22","v":0},{"$f":"'Hot Water'!G22","v":0},null,null,{"$f":"'Hot Water'!B46","v":"1900-01-01"},{"$f":"'Hot Water'!C46","v":"00:00:00"},{"$f":"'Hot Water'!D46","v":0},{"$f":"'Hot Water'!E46","v":0},{"$f":"'Hot Water'!G46","v":0}]
[null,{"$f":"'Hot Water'!B23","v":"1900-01-01"},{"$f":"'Hot Water'!C23","v":"00:00:00"},{"$f":"'Hot Water'!D23","v":0},{"$f":"'Hot Water'!E23","v":0},{"$f":"'Hot Water'!G23","v":0},null,null,{"$f":"'Hot Water'!B47","v":"1900-01-01"},{"$f":"'Hot Water'!C47","v":"00:00:00"},{"$f":"'Hot Water'!D47","v":0},{"$f":"'Hot Water'!E47","v":0},{"$f":"'Hot Water'!G47","v":0}]
[null,null,null,{"$f":"SUM(D181:D195)","v":0},{"$f":"SUM(E181:E195)","v":0},{"$f":"SUM(F181:F195)","v":0},null,null,null,null,{"$f":"SUM(K181:K195)","v":0},{"$f":"SUM(L181:L195)","v":0},{"$f":"SUM(M181:M195)","v":0}]
[]
[null,"PRE-CONSTRUCTION OTHER",null,null,null,null,null,null,"POST-CONSTRUCTION OTHER"]
[null,"Billing Period Start Date","Read Date","Days in Billing Period","Total  Consumption\nMMBtu","Total Consumption\nMMBtu",null,null,"Billing Period Start Date","Read Date","Days in Billing Period","Total  Consumption\nMMBtu","Total Consumption\nMMBtu"]
[null,{"$f":"Other!B9","v":"1900-01-01"},{"$f":"Other!C9","v":"00:00:00"},{"$f":"Other!D9","v":0},{"$f":"Other!E9","v":0},{"$f":"Other!G9","v":0},null,null,{"$f":"Other!B53","v":"1900-01-01"},{"$f":"Other!C53","v":"00:00:00"},{"$f":"Other!D53","v":0},{"$f":"Other!E53","v":0},{"$f":"Other!G53","v":0}]
[null,{"$f":"Other!B10","v":"1900-01-01"},{"$f":"Other!C10","v":"00:00:00"},{"$f":"Other!D10","v":0},{"$f":"Other!E10","v":0},{"$f":"Other!G10","v":0},null,null,{"$f":"Other!B54","v":"1900-01-01"},{"$f":"Other!C54","v":"00:00:00"},{"$f":"Other!D54","v":0},{"$f":"Other!E54","v":0},{"$f":"Other!G54","v":0}]
[null,{"$f":"Other!B11","v":"1900-01-01"},{"$f":"Other!C11","v":"00:00:00"},{"$f":"Other!D11","v":0},{"$f":"Other!E11","v":0},{"$f":"Other!G11","v":0},null,null,{"$f":"Other!B55","v":"1900-01-01"},{"$f":"Other!C55","v":"00:00:00"},{"$f":"Other!D55","v":0},{"$f":"Other!E55","v":0},{"$f":"Other!G55","v":0}]
[null,{"$f":"Other!B12","v":"1900-01-01"},{"$f":"Other!C12","v":"00:00:00"},{"$f":"Other!D12","v":0},{"$f":"Other!E12","v":0},{"$f":"Other!G12","v":0},null,null,{"$f":"Other!B56","v":"1900-01-01"},{"$f":"Other!C56","v":"00:00:00"},{"$f":"Other!D56","v":0},{"$f":"Other!E56","v":0},{"$f":"Other!G56","v":0}]
[null,{"$f":"Other!B13","v":"1900-01-01"},{"$f":"Other!C13","v":"00:00:00"},{"$f":"Other!D13","v":0},{"$f":"Other!E13","v":0},{"$f":"Other!G13","v":0},null,null,{"$f":"Other!B57","v":"1900-01-01"},{"$f":"Other!C57","v":"00:00:00"},{"$f":"Other!D57","v":0},{"$f":"Other!E57","v":0},{"$f":"Other!G57","v":0}]
[null,{"$f":"Other!B14","v":"1900-01-01"},{"$f":"Other!C14","v":"00:00:00"},{"$f":"Other!D14","v":0},{"$f":"Other!E14","v":0},{"$f":"Other!G14","v":0},null,null,{"$f":"Other!B58","v":"1900-01-01"},{"$f":"Other!C58","v":"00:00:00"},{"$f":"Other!D58","v":0},{"$f":"Other!E58","v":0},{"$f":"Other!G58","v":0}]
[null,{"$f":"Other!B15","v":"1900-01-01"},{"$f":"Other!C15","v":"00:00:00"},{"$f":"Other!D15","v":0},{"$f":"Other!E15","v":0},{"$f":"Other!G15","v":0},null,null,{"$f":"Other!B59","v":"1900-01-01"},{"$f":"Other!C59","v":"00:00:00"},{"$f":"Other!D59","v":0},{"$f":"Other!E59","v":0},{"$f":"Other!G59","v":0}]
[null,{"$f":"Other!B16","v":"1900-01-01"},{"$f":"Other!C16","v":"00:00:00"},{"$f":"Other!D16","v":0},{"$f":"Other!E16","v":0},{"$f":"Other!G16","v":0},null,null,{"$f":"Other!B60","v":"1900-01-01"},{"$f":"Other!C60","v":"00:00:00"},{"$f":"Other!D60","v":0},{"$f":"Other!E60","v":0},{"$f":"Other!G60","v":0}]
[null,{"$f":"Other!B17","v":"1900-01-01"},{"$f":"Other!C17","v":"00:00:00"},{"$f":"Other!D17","v":0},{"$f":"Other!E17","v":0},{"$f":"Other!G17","v":0},null,null,{"$f":"Other!B61","v":"1900-01-01"},{"$f":"Other!C61","v":"00:00:00"},{"$f":"Other!D61","v":0},{"$f":"Other!E61","v":0},{"$f":"Other!G61","v":0}]
[null,{"$f":"Other!B18","v":"1900-01-01"},{"$f":"Other!C18","v":"00:00:00"},{"$f":"Other!D18","v":0},{"$f":"Other!E18","v":0},{"$f":"Other!G18","v":0},null,null,{"$f":"Other!B62","v":"1900-01-01"},{"$f":"Other!C62","v":"00:00:00"},{"$f":"Other!D62","v":0},{"$f":"Other!E62","v":0},{"$f":"Other!G62","v":0}]
[null,{"$f":"Other!B19","v":"1900-01-01"},{"$f":"Other!C19","v":"00:00:00"},{"$f":"Other!D19","v":0},{"$f":"Other!E19","v":0},{"$f":"Other!G19","v":0},null,null,{"$f":"Other!B63","v":"1900-01-01"},{"$f":"Other!C63","v":"00:00:00"},{"$f":"Other!D63","v":0},{"$f":"Other!E63","v":0},{"$f":"Other!G63","v":0}]
[null,{"$f":"Other!B20","v":"1900-01-01"},{"$f":"Other!C20","v":"00:00:00"},{"$f":"Other!D20","v":0},{"$f":"Other!E20","v":0},{"$f":"Other!G20","v":0},null,null,{"$f":"Other!B64","v":"1900-01-01"},{"$f":"Other!C64","v":"00:00:00"},{"$f":"Other!D64","v":0},{"$f":"Other!E64","v":0},{"$f":"Other!G64","v":0}]
[null,{"$f":"Other!B21","v":"1900-01-01"},{"$f":"Other!C21","v":"00:00:00"},{"$f":"Other!D21","v":0},{"$f":"Other!E21","v":0},{"$f":"Other!G21","v":0},null,null,{"$f":"Other!B65","v":"1900-01-01"},{"$f":"Other!C65","v":"00:00:00"},{"$f":"Other!D65","v":0},{"$f":"Other!E65","v":0},{"$f":"Other!G65","v":0}]
[null,{"$f":"Other!B22","v":"1900-01-01"},{"$f":"Other!C22","v":"00:00:00"},{"$f":"Other!D22","v":0},{"$f":"Other!E22","v":0},{"$f":"Other!G22","v":0},null,null,{"$f":"Other!B66","v":"1900-01-01"},{"$f":"Other!C66","v":"00:00:00"},{"$f":"Other!D66","v":0},{"$f":"Other!E66","v":0},{"$f":"Other!G66","v":0}]
[null,{"$f":"Other!B23","v":"1900-01-01"},{"$f":"Other!C23","v":"00:00:00"},{"$f":"Other!D23","v":0},{"$f":"Other!E23","v":0},{"$f":"Other!G23","v":0},null,null,{"$f":"Other!B67","v":"1900-01-01"},{"$f":"Other!C67","v":"00:00:00"},{"$f":"Other!D67","v":0},{"$f":"Other!E67","v":0},{"$f":"Other!G67","v":0}]
[null,{"$f":"Other!B24","v":"1900-01-01"},{"$f":"Other!C24","v":"00:00:00"},{"$f":"Other!D24","v":0},{"$f":"Other!E24","v":0},{"$f":"Other!G24","v":0},null,null,{"$f":"Other!B68","v":"1900-01-01"},{"$f":"Other!C68","v":"00:00:00"},{"$f":"Other!D68","v":0},{"$f":"Other!E68","v":0},{"$f":"Other!G68","v":0}]
[null,{"$f":"Other!B25","v":"1900-01-01"},{"$f":"Other!C25","v":"00:00:00"},{"$f":"Other!D25","v":0},{"$f":"Other!E25","v":0},{"$f":"Other!G25","v":0},null,null,{"$f":"Other!B69","v":"1900-01-01"},{"$f":"Other!C69","v":"00:00:00"},{"$f":"Other!D69","v":0},{"$f":"Other!E69","v":0},{"$f":"Other!G69","v":0}]
[null,{"$f":"Other!B26","v":"1900-01-01"},{"$f":"Other!C26","v":"00:00:00"},{"$f":"Other!D26","v":0},{"$f":"Other!E26","v":0},{"$f":"Other!G26","v":0},null,null,{"$f":"Other!B70","v":"1900-01-01"},{"$f":"Other!C70","v":"00:00:00"},{"$f":"Other!D70","v":0},{"$f":"Other!E70","v":0},{"$f":"Other!G70","v":0}]
[null,{"$f":"Other!B27","v":"1900-01-01"},{"$f":"Other!C27","v":"00:00:00"},{"$f":"Other!D27","v":0},{"$f":"Other!E27","v":0},{"$f":"Other!G27","v":0},null,null,{"$f":"Other!B71","v":"1900-01-01"},{"$f":"Other!C71","v":"00:00:00"},{"$f":"Other!D71","v":0},{"$f":"Other!E71","v":0},{"$f":"Other!G71","v":0}]
[null,{"$f":"Other!B28","v":"1900-01-01"},{"$f":"Other!C28","v":"00:00:00"},{"$f":"Other!D28","v":0},{"$f":"Other!E28","v":0},{"$f":"Other!G28","v":0},null,null,{"$f":"Other!B72","v":"1900-01-01"},{"$f":"Other!C72","v":"00:00:00"},{"$f":"Other!D72","v":0},{"$f":"Other!E72","v":0},{"$f":"Other!G72","v":0}]
[null,{"$f":"Other!B29","v":"1900-01-01"},{"$f":"Other!C29","v":"00:00:00"},{"$f":"Other!D29","v":0},{"$f":"Other!E29","v":0},{"$f":"Other!G29","v":0},null,null,{"$f":"Other!B73","v":"1900-01-01"},{"$f":"Other!C73","v":"00:00:00"},{"$f":"Other!D73","v":0},{"$f":"Other!E73","v":0},{"$f":"Other!G73","v":0}]
[null,{"$f":"Other!B30","v":"1900-01-01"},{"$f":"Other!C30","v":"00:00:00"},{"$f":"Other!D30","v":0},{"$f":"Other!E30","v":0},{"$f":"Other!G30","v":0},null,null,{"$f":"Other!B74","v":"1900-01-01"},{"$f":"Other!C74","v":"00:00:00"},{"$f":"Other!D74","v":0},{"$f":"Other!E74","v":0},{"$f":"Other!G74","v":0}]
[null,{"$f":"Other!B31","v":"1900-01-01"},{"$f":"Other!C31","v":"00:00:00"},{"$f":"Other!D31","v":0},{"$f":"Other!E31","v":0},{"$f":"Other!G31","v":0},null,null,{"$f":"Other!B75","v":"1900-01-01"},{"$f":"Other!C75","v":"00:00:00"},{"$f":"Other!D75","v":0},{"$f":"Other!E75","v":0},{"$f":"Other!G75","v":0}]
[null,{"$f":"Other!B32","v":"1900-01-01"},{"$f":"Other!C32","v":"00:00:00"},{"$f":"Other!D32","v":0},{"$f":"Other!E32","v":0},{"$f":"Other!G32","v":0},null,null,{"$f":"Other!B76","v":"1900-01-01"},{"$f":"Other!C76","v":"00:00:00"},{"$f":"Other!D76","v":0},{"$f":"Other!E76","v":0},{"$f":"Other!G76","v":0}]
[null,{"$f":"Other!B33","v":"1900-01-01"},{"$f":"Other!C33","v":"00:00:00"},{"$f":"Other!D33","v":0},{"$f":"Other!E33","v":0},{"$f":"Other!G33","v":0},null,null,{"$f":"Other!B77","v":"1900-01-01"},{"$f":"Other!C77","v":"00:00:00"},{"$f":"Other!D77","v":0},{"$f":"Other!E77","v":0},{"$f":"Other!G77","v":0}]
[null,{"$f":"Other!B34","v":"1900-01-01"},{"$f":"Other!C34","v":"00:00:00"},{"$f":"Other!D34","v":0},{"$f":"Other!E34","v":0},{"$f":"Other!G34","v":0},null,null,{"$f":"Other!B78","v":"1900-01-01"},{"$f":"Other!C78","v":"00:00:00"},{"$f":"Other!D78","v":0},{"$f":"Other!E78","v":0},{"$f":"Other!G78","v":0}]
[null,{"$f":"Other!B35","v":"1900-01-01"},{"$f":"Other!C35","v":"00:00:00"},{"$f":"Other!D35","v":0},{"$f":"Other!E35","v":0},{"$f":"Other!G35","v":0},null,null,{"$f":"Other!B79","v":"1900-01-01"},{"$f":"Other!C79","v":"00:00:00"},{"$f":"Other!D79","v":0},{"$f":"Other!E79","v":0},{"$f":"Other!G79","v":0}]
[null,{"$f":"Other!B36","v":"1900-01-01"},{"$f":"Other!C36","v":"00:00:00"},{"$f":"Other!D36","v":0},{"$f":"Other!E36","v":0},{"$f":"Other!G36","v":0},null,null,{"$f":"Other!B80","v":"1900-01-01"},{"$f":"Other!C80","v":"00:00:00"},{"$f":"Other!D80","v":0},{"$f":"Other!E80","v":0},{"$f":"Other!G80","v":0}]
[null,{"$f":"Other!B37","v":"1900-01-01"},{"$f":"Other!C37","v":"00:00:00"},{"$f":"Other!D37","v":0},{"$f":"Other!E37","v":0},{"$f":"Other!G37","v":0},null,null,{"$f":"Other!B81","v":"1900-01-01"},{"$f":"Other!C81","v":"00:00:00"},{"$f":"Other!D81","v":0},{"$f":"Other!E81","v":0},{"$f":"Other!G81","v":0}]
[null,{"$f":"Other!B38","v":"1900-01-01"},{"$f":"Other!C38","v":"00:00:00"},{"$f":"Other!D38","v":0},{"$f":"Other!E38","v":0},{"$f":"Other!G38","v":0},null,null,{"$f":"Other!B82","v":"1900-01-01"},{"$f":"Other!C82","v":"00:00:00"},{"$f":"Other!D82","v":0},{"$f":"Other!E82","v":0},{"$f":"Other!G82","v":0}]
[null,{"$f":"Other!B39","v":"1900-01-01"},{"$f":"Other!C39","v":"00:00:00"},{"$f":"Other!D39","v":0},{"$f":"Other!E39","v":0},{"$f":"Other!G39","v":0},null,null,{"$f":"Other!B83","v":"1900-01-01"},{"$f":"Other!C83","v":"00:00:00"},{"$f":"Other!D83","v":0},{"$f":"Other!E83","v":0},{"$f":"Other!G83","v":0}]
[null,{"$f":"Other!B40","v":"1900-01-01"},{"$f":"Other!C40","v":"00:00:00"},{"$f":"Other!D40","v":0},{"$f":"Other!E40","v":0},{"$f":"Other!G40","v":0},null,null,{"$f":"Other!B84","v":"1900-01-01"},{"$f":"Other!C84","v":"00:00:00"},{"$f":"Other!D84","v":0},{"$f":"Other!E84","v":0},{"$f":"Other!G84","v":0}]
[null,{"$f":"Other!B41","v":"1900-01-01"},{"$f":"Other!C41","v":"00:00:00"},{"$f":"Other!D41","v":0},{"$f":"Other!E41","v":0},{"$f":"Other!G41","v":0},null,null,{"$f":"Other!B85","v":"1900-01-01"},{"$f":"Other!C85","v":"00:00:00"},{"$f":"Other!D85","v":0},{"$f":"Other!E85","v":0},{"$f":"Other!G85","v":0}]
[null,{"$f":"Other!B42","v":"1900-01-01"},{"$f":"Other!C42","v":"00:00:00"},{"$f":"Other!D42","v":0},{"$f":"Other!E42","v":0},{"$f":"Other!G42","v":0},null,null,{"$f":"Other!B86","v":"1900-01-01"},{"$f":"Other!C86","v":"00:00:00"},{"$f":"Other!D86","v":0},{"$f":"Other!E86","v":0},{"$f":"Other!G86","v":0}]
[null,null,null,{"$f":"SUM(D200:D233)","v":0},{"$f":"SUM(E200:E233)","v":0},{"$f":"SUM(F200:F233)","v":0},null,null,null,null,{"$f":"SUM(K200:K233)","v":0},{"$f":"SUM(L200:L233)","v":0},{"$f":"SUM(M200:M233)","v":0}]

{"sheet":"UDAT Support","index":12,"n_rows":60,"n_cols":16,"rows_kept":60,"cut":false,"hidden":true,"merged":[[59,1,59,3],[54,1,54,3],[55,1,55,3],[56,1,56,3],[57,1,57,3],[58,1,58,3],[49,0,49,3],[50,1,50,3],[51,1,51,3],[52,1,52,3],[53,1,53,3],[30,0,30,2],[9,0,9,2],[21,0,21,2],[40,0,40,2],[0,0,0,15]]}
["Drop Down Lists"]
["GasUnits","OilUnits","PropaneUnits","SteamUnits","CWUnits","HWUnits","OtherFuels","OtherUnits","ElecUtil","GasUtil","MeterConf","UDAT_YesNo","UDAT_UnitTypes","MeterRead","EBillingStructure","FBillingStructure"]
["<Not Used>","<Not Used>","<Not Used>","<Not Used>","<Not Used>","<Not Used>","<Other Fuel Type>","<Not Used>","<Select One>","<Select One>","Direct Metered","<Select>","Studio","Actual","<Select>","<Select>"]
["Therms","MMBtu","MMBtu","MMBtu","MMBtu","MMBtu","Wood","MMBtu","Atlantic City Elec.","Elizabethtown","Submetered","Yes","1-Bedroom","Estimated","Fixed/Simple","Fixed/Simple"]
["MMBtu","#2 Oil Gallons","Gallons",null,null,null,"Biofuel",null,"JCP&L","NJNG","Master Metered","No","2-Bedroom",null,"Tiered/Stepped","Tiered/Stepped"]
[null,"#4 Oil Gallons",null,null,null,null,"Other",null,"PSE&G","PSE&G",null,null,"3-Bedroom",null,"Time of Use (TOU)","Other"]
[null,"#6 Oil Gallons",null,null,null,null,null,null,"Rockland Elec.","SJG",null,null,"4+ Bedroom",null,"Tiered TOU"]
[null,null,null,null,null,null,null,null,"Other","Other",null,null,null,null,"Other"]
[]
["Oil Conversion"]
[null,"Type","Conversion"]
["Pre-Retrofit",{"$f":"'Utility Info'!E7","v":"<Not Used>"},{"$f":"VLOOKUP(B12,$A$16:$B$20,2,FALSE)","v":0}]
["Post-Retrofit",{"$f":"'Utility Info'!E16","v":"<Not Used>"},{"$f":"VLOOKUP(B13,$A$16:$B$20,2,FALSE)","v":0}]
[]
["Type","MMBtu/Unit"]
["#2 Oil Gallons",0.1396]
["#4 Oil Gallons",0.14510000000000001]
["#6 Oil Gallons",0.15240000000000001]
["MMBtu",1]
["<Not Used>",0]
[]
["Steam Conversion"]
[null,"Type","Conversion"]
["Pre-retrofit",{"$f":"'Utility Info'!G7","v":"<Not Used>"},{"$f":"VLOOKUP(B24,$A$28:$B$29,2,FALSE)","v":0}]
["Post-retrofit",{"$f":"'Utility Info'!G16","v":"<Not Used>"},{"$f":"VLOOKUP(B25,$A$28:$B$29,2,FALSE)","v":0}]
[]
["Type","MMBtu/Unit"]
["MMBtu",1]
["<Not Used>",0]
[]
["Propane Conversion"]
[null,"Type","Conversion"]
["Pre-Retrofit",{"$f":"'Utility Info'!F7","v":"<Not Used>"},{"$f":"VLOOKUP(B33,$A$37:$B$39,2,FALSE)","v":0}]
["Post-Retrofit",{"$f":"'Utility Info'!F16","v":"<Not Used>"},{"$f":"VLOOKUP(B34,$A$37:$B$39,2,FALSE)","v":0}]
[]
["Type","MMBtu/Unit"]
["Gallons",9.1300000000000006E-2]
["MMBtu",1]
["<Not Used>",0]
[]
["Energy Unit Costs (for Detailed Measures)"]
["Type","Unit","$/Unit"]
[{"$f":"'Utility Use Summary'!$D$6","v":"Electricity"},"kWh",{"$f":"IF('Utility Use Summary'!$D$8=0,0,'Utility Use Summary'!$D$10/'Utility Use Summary'!$D$8)","v":0}]
[{"$f":"'Utility Use Summary'!$G$6","v":"Gas"},"MMBtu",{"$f":"IF('Utility Use Summary'!$H$8=0,12,'Utility Use Summary'!$G$10/'Utility Use Summary'!$H$8)","v":12}]
[{"$f":"'Utility Use Summary'!$I$6","v":"Fuel Oil"},"MMBtu",{"$f":"IF('Utility Use Summary'!$J$8=0,0,'Utility Use Summary'!$I$10/'Utility Use Summary'!$J$8)","v":0}]
[{"$f":"'Utility Use Summary'!$M$6","v":"Steam"},"MMBtu",{"$f":"IF('Utility Use Summary'!$N$8=0,0,'Utility Use Summary'!$M$10/'Utility Use Summary'!$N$8)","v":0}]
[{"$f":"'Utility Use Summary'!$K$6","v":"Propane"},"MMBtu",{"$f":"IF('Utility Use Summary'!$L$8=0,0,'Utility Use Summary'!$K$10/'Utility Use Summary'!$L$8)","v":0}]
[{"$f":"'Utility Use Summary'!$S$6","v":"Other"},"MMBtu",{"$f":"IF('Utility Use Summary'!$T$8=0,0,'Utility Use Summary'!$S$10/'Utility Use Summary'!$T$8)","v":0}]
[]
["CO2e Lookup"]
["Fuel Type","Lbs CO2 Equivalent per MMBtu or kWh"]
[null,0]
["N/A",0]
["No. 6 Fuel Oil",{"$f":"75.35*2.20462","v":166.11811699999998}]
["No. 4 Fuel Oil",{"$f":"75.3*2.20462","v":166.00788599999998}]
["No. 2 Fuel Oil",{"$f":"74.21*2.20462","v":163.60485019999996}]
["Steam",{"$f":"66.4*2.20462","v":146.38676799999999}]
["Propane",{"$f":"64.25*2.20462","v":141.64683499999998}]
["Natural Gas",{"$f":"53.11*2.20462","v":117.08736819999999}]
["Electric",{"$f":"133.87*2.20462*0.003412","v":1.0069920197127999}]